{"text_format":"1","workbook":"xlsx","n_sheets":10,"sheets":["PORTADA","INDICE","PRECIOS","TIPO CAMBIO","ITCER GLOBAL","ITCER RESTOM","ITCER REGION","ITCER BILATERAL","GRAFICOS","metodologia"],"not_rendered":{"charts":4,"images":3,"macros":1,"external_links":1,"defined_names":17,"comments":4,"pivot_tables":0},"unopened":[],"bounds":{"document_bytes":16777216,"sheet_cells":100000,"rows_first":2000,"rows_last":500,"rows_between":2000,"halvings":0,"cell_chars":16384,"cell_head_chars":4096},"cells_cut":0,"cells_raw":0,"read":"whole","date_system":"1900"}

{"sheet":"PORTADA","index":0,"n_rows":0,"n_cols":0,"rows_kept":0,"cut":false,"hidden":false,"merged":[]}

{"sheet":"INDICE","index":1,"n_rows":50,"n_cols":13,"rows_kept":50,"cut":false,"hidden":false,"merged":[[10,1,10,11],[3,1,3,11],[4,1,4,11],[9,0,9,11]]}
[null,null,null,null,null,null,null,null,null,null,null,null,2014]
[]
[]
[null,"Secretaría Ejecutiva"]
[null,"Consejo Monetario Centroamericano"]
[]
[]
[]
[]
["  ÍNDICE DEL TIPO DE CAMBIO EFECTIVO REAL (ITCER)"]
[null,"Año base 2000"]
[]
[]
[]
[null,"REPORTE CORRESPONDIENTE AL MES DE:",null,null,null,null,null,null,"Enero 2015"]
[]
[]
[]
[null,"CONTENIDO:"]
[]
[null,null,null,"Índices de Precios"]
[null,null,null,null,"Centroamérica y República Dominicana "]
[null,null,null,null,"Zona Euro"]
[null,null,null,null,"Japón"]
[null,null,null,null,"México"]
[null,null,null,null,"Estados Unidos"]
[null,null,null,null,"Panamá"]
[null,null,null,null,"Canadá"]
[]
[null,null,null,"Tipos de cambio "]
[null,null,null,null,"Centroamérica y República Dominicana "]
[null,null,null,null,"Zona Euro"]
[null,null,null,null,"Japón"]
[null,null,null,null,"México"]
[null,null,null,null,"Estados Unidos"]
[null,null,null,null,"Panamá"]
[null,null,null,null,"Canadá"]
[]
[null,null,null,"ITCER (incluye efecto tipo de cambio y efecto precio)"]
[null,null,null,null,"Global"]
[]
[null,null,null,null,"Resto del Mundo"]
[]
[null,null,null,null,"Centroamérica y República Dominicana (Región)"]
[]
[null,null,null,null,"Bilateral con USA"]
[]
[null,null,null,"GRÁFICOS"]
[]
[null,null,null,"Metodología"]

{"sheet":"PRECIOS","index":2,"n_rows":254,"n_cols":14,"rows_kept":254,"cut":false,"hidden":false,"merged":[[3,0,3,13],[250,0,250,13],[249,0,249,13],[253,0,253,1],[252,0,252,13],[251,0,251,13]]}
[]
["Secretaría Ejecutiva"]
["Consejo Monetario Centroamericano"]
["INDICE DE PRECIOS AL CONSUMIDOR (NIVEL)"]
[null,null,"COSTA RICA ","EL SALVADOR ","GUATEMALA ","HONDURAS","NICARAGUA ","REP.\nDominicana","ZONA \nEURO","JAPÓN","MÉXICO","ESTADOS UNIDOS","PANAMÁ 1/","CANADÁ"]
[null,null,"Julio de ","Diciembre","Diciembre","Diciembre",null,"Diciembre",null,null,"2º Q de diciembre",null,"Octubre"]
["Año","MES","2006=100","2009=100","2010=100","1999=100","2006=100","2010=100","2005=100","2005=100","2010=100","1982-84=100","2002=100","2002=100"]
[1995,"Enero",{"$f":"+[1]datos!P75","v":26.83023983},{"$f":"+[1]datos!Q75","v":56.55},{"$f":"+[1]datos!R75","v":34.050545768222676},{"$f":"+[1]datos!S75","v":44.74710931403844},{"$f":"+[1]datos!T75","v":35.130000000000003},{"$f":"+[1]datos!AA75","v":21.861608871493008},{"$f":"+[1]datos!U75","v":81.725888324873083},{"$f":"+[1]datos!V75","v":100.9},{"$f":"+[1]datos!W75","v":20.468620185776},{"$f":"+[1]datos!X75","v":150.30000000000001},{"$f":"+[1]datos!Y75","v":91.982758620689538},{"$f":"+[1]datos!Z75","v":86.6}]
[null,"Febrero",{"$f":"+[1]datos!P76","v":27.22750246},{"$f":"+[1]datos!Q76","v":57.17},{"$f":"+[1]datos!R76","v":33.938049357674089},{"$f":"+[1]datos!S76","v":46.960346172944597},{"$f":"+[1]datos!T76","v":35.42},{"$f":"+[1]datos!AA76","v":21.947226293050324},{"$f":"+[1]datos!U76","v":82.148900169204737},{"$f":"+[1]datos!V76","v":100.6},{"$f":"+[1]datos!W76","v":21.336132926013999},{"$f":"+[1]datos!X76","v":150.9},{"$f":"+[1]datos!Y76","v":91.982758620689538},{"$f":"+[1]datos!Z76","v":87}]
[null,"Marzo",{"$f":"+[1]datos!P77","v":27.452701399999999},{"$f":"+[1]datos!Q77","v":57.81},{"$f":"+[1]datos!R77","v":34.100917638324049},{"$f":"+[1]datos!S77","v":47.62006100588777},{"$f":"+[1]datos!T77","v":35.619999999999997},{"$f":"+[1]datos!AA77","v":22.126693580545474},{"$f":"+[1]datos!U77","v":82.402707275803706},{"$f":"+[1]datos!V77","v":100.5},{"$f":"+[1]datos!W77","v":22.593921331191002},{"$f":"+[1]datos!X77","v":151.4},{"$f":"+[1]datos!Y77","v":92.241379310344712},{"$f":"+[1]datos!Z77","v":87.2}]
[null,"Abril",{"$f":"+[1]datos!P78","v":27.60831679},{"$f":"+[1]datos!Q78","v":58.17},{"$f":"+[1]datos!R78","v":34.362748653518686},{"$f":"+[1]datos!S78","v":48.840178761438601},{"$f":"+[1]datos!T78","v":35.61},{"$f":"+[1]datos!AA78","v":22.095880717292701},{"$f":"+[1]datos!U78","v":82.571912013536391},{"$f":"+[1]datos!V78","v":100.8},{"$f":"+[1]datos!W78","v":24.39428249881},{"$f":"+[1]datos!X78","v":151.9},{"$f":"+[1]datos!Y78","v":92.413793103448157},{"$f":"+[1]datos!Z78","v":87.5}]
[null,"Mayo",{"$f":"+[1]datos!P79","v":27.84978894},{"$f":"+[1]datos!Q79","v":58.58},{"$f":"+[1]datos!R79","v":34.869639937849023},{"$f":"+[1]datos!S79","v":49.726892246577286},{"$f":"+[1]datos!T79","v":35.86},{"$f":"+[1]datos!AA79","v":22.189965795927115},{"$f":"+[1]datos!U79","v":82.656514382402719},{"$f":"+[1]datos!V79","v":101},{"$f":"+[1]datos!W79","v":25.413863095033001},{"$f":"+[1]datos!X79","v":152.19999999999999},{"$f":"+[1]datos!Y79","v":92.672413793103331},{"$f":"+[1]datos!Z79","v":87.7}]
[null,"Junio",{"$f":"+[1]datos!P80","v":28.265657659999999},{"$f":"+[1]datos!Q80","v":59.09},{"$f":"+[1]datos!R80","v":35.310052524258055},{"$f":"+[1]datos!S80","v":50.1879832588494},{"$f":"+[1]datos!T80","v":36.520000000000003},{"$f":"+[1]datos!AA80","v":22.330152563092401},{"$f":"+[1]datos!U80","v":82.910321489001703},{"$f":"+[1]datos!V80","v":100.9},{"$f":"+[1]datos!W80","v":26.220434064532},{"$f":"+[1]datos!X80","v":152.5},{"$f":"+[1]datos!Y80","v":92.844827586206776},{"$f":"+[1]datos!Z80","v":87.7}]
[null,"Julio",{"$f":"+[1]datos!P81","v":28.743235930000001},{"$f":"+[1]datos!Q81","v":60.63},{"$f":"+[1]datos!R81","v":35.384468703517065},{"$f":"+[1]datos!S81","v":50.861885507554796},{"$f":"+[1]datos!T81","v":36.96},{"$f":"+[1]datos!AA81","v":22.477630923851848},{"$f":"+[1]datos!U81","v":82.910321489001703},{"$f":"+[1]datos!V81","v":100.4},{"$f":"+[1]datos!W81","v":26.754964051499002},{"$f":"+[1]datos!X81","v":152.5},{"$f":"+[1]datos!Y81","v":92.931034482758491},{"$f":"+[1]datos!Z81","v":87.9}]
[null,"Agosto",{"$f":"+[1]datos!P82","v":29.062515789999999},{"$f":"+[1]datos!Q82","v":61.05},{"$f":"+[1]datos!R82","v":35.599627809580525},{"$f":"+[1]datos!S82","v":51.500319216854649},{"$f":"+[1]datos!T82","v":36.369999999999997},{"$f":"+[1]datos!AA82","v":22.730719785378426},{"$f":"+[1]datos!U82","v":82.994923857868002},{"$f":"+[1]datos!V82","v":100.5},{"$f":"+[1]datos!W82","v":27.198750022412},{"$f":"+[1]datos!X82","v":152.9},{"$f":"+[1]datos!Y82","v":93.103448275861936},{"$f":"+[1]datos!Z82","v":87.7}]
[null,"Septiembre",{"$f":"+[1]datos!P83","v":29.601803610000001},{"$f":"+[1]datos!Q83","v":61.86},{"$f":"+[1]datos!R83","v":35.800002603690245},{"$f":"+[1]datos!S83","v":52.592750230545505},{"$f":"+[1]datos!T83","v":36.75},{"$f":"+[1]datos!AA83","v":23.082597979471146},{"$f":"+[1]datos!U83","v":83.164128595600673},{"$f":"+[1]datos!V83","v":101.1},{"$f":"+[1]datos!W83","v":27.761362884707001},{"$f":"+[1]datos!X83","v":153.19999999999999},{"$f":"+[1]datos!Y83","v":93.017241379310221},{"$f":"+[1]datos!Z83","v":87.8}]
[null,"Octubre",{"$f":"+[1]datos!P84","v":30.4845185},{"$f":"+[1]datos!Q84","v":62.14},{"$f":"+[1]datos!R84","v":36.301435675146031},{"$f":"+[1]datos!S84","v":53.571681918138616},{"$f":"+[1]datos!T84","v":38.159999999999997},{"$f":"+[1]datos!AA84","v":23.24983420674382},{"$f":"+[1]datos!U84","v":83.248730964467015},{"$f":"+[1]datos!V84","v":100.8},{"$f":"+[1]datos!W84","v":28.332572548668001},{"$f":"+[1]datos!X84","v":153.69999999999999},{"$f":"+[1]datos!Y84","v":92.844827586206776},{"$f":"+[1]datos!Z84","v":87.7}]
[null,"Noviembre",{"$f":"+[1]datos!P85","v":31.206251949999999},{"$f":"+[1]datos!Q85","v":62.41},{"$f":"+[1]datos!R85","v":36.778196516696518},{"$f":"+[1]datos!S85","v":54.316521245655103},{"$f":"+[1]datos!T85","v":39.25},{"$f":"+[1]datos!AA85","v":23.463407335243943},{"$f":"+[1]datos!U85","v":83.333333333333329},{"$f":"+[1]datos!V85","v":100.5},{"$f":"+[1]datos!W85","v":29.031205912573},{"$f":"+[1]datos!X85","v":153.6},{"$f":"+[1]datos!Y85","v":92.844827586206776},{"$f":"+[1]datos!Z85","v":88}]
[null,"Diciembre",{"$f":"+[1]datos!P86","v":31.56577716},{"$f":"+[1]datos!Q86","v":62.48},{"$f":"+[1]datos!R86","v":36.960883290715785},{"$f":"+[1]datos!S86","v":55.153578775626023},{"$f":"+[1]datos!T86","v":38.880000000000003},{"$f":"+[1]datos!AA86","v":23.514448490403119},{"$f":"+[1]datos!U86","v":83.502538071065985},{"$f":"+[1]datos!V86","v":100.5},{"$f":"+[1]datos!W86","v":29.977045058028999},{"$f":"+[1]datos!X86","v":153.5},{"$f":"+[1]datos!Y86","v":93.189655172413666},{"$f":"+[1]datos!Z86","v":87.8}]
[1996,"Enero",{"$f":"+[1]datos!P87","v":31.965547730000001},{"$f":"+[1]datos!Q87","v":63.45},{"$f":"+[1]datos!R87","v":37.373812776918172},{"$f":"+[1]datos!S87","v":55.430233382989279},{"$f":"+[1]datos!T87","v":39.06},{"$f":"+[1]datos!AA87","v":23.496337112765993},{"$f":"+[1]datos!U87","v":83.671742808798641},{"$f":"+[1]datos!V87","v":100.4},{"$f":"+[1]datos!W87","v":31.054701826733002},{"$f":"+[1]datos!X87","v":154.4},{"$f":"+[1]datos!Y87","v":93.189655172413666},{"$f":"+[1]datos!Z87","v":88}]
[null,"Febrero",{"$f":"+[1]datos!P88","v":32.292876659999997},{"$f":"+[1]datos!Q88","v":63.6},{"$f":"+[1]datos!R88","v":37.613463488843799},{"$f":"+[1]datos!S88","v":57.005036532595589},{"$f":"+[1]datos!T88","v":39.46},{"$f":"+[1]datos!AA88","v":23.525973912535832},{"$f":"+[1]datos!U88","v":84.094754653130295},{"$f":"+[1]datos!V88","v":100.2},{"$f":"+[1]datos!W88","v":31.779507671726002},{"$f":"+[1]datos!X88","v":154.9},{"$f":"+[1]datos!Y88","v":93.189655172413666},{"$f":"+[1]datos!Z88","v":88.1}]
[null,"Marzo",{"$f":"+[1]datos!P89","v":32.472639270000002},{"$f":"+[1]datos!Q89","v":63.91},{"$f":"+[1]datos!R89","v":38.014137695180906},{"$f":"+[1]datos!S89","v":57.884656309853156},{"$f":"+[1]datos!T89","v":39.78},{"$f":"+[1]datos!AA89","v":23.559138902754466},{"$f":"+[1]datos!U89","v":84.348561759729265},{"$f":"+[1]datos!V89","v":100.4},{"$f":"+[1]datos!W89","v":32.479096225855997},{"$f":"+[1]datos!X89","v":155.69999999999999},{"$f":"+[1]datos!Y89","v":93.448275862068854},{"$f":"+[1]datos!Z89","v":88.5}]
[null,"Abril",{"$f":"+[1]datos!P90","v":32.719477470000001},{"$f":"+[1]datos!Q90","v":64.150000000000006},{"$f":"+[1]datos!R90","v":38.467849539665167},{"$f":"+[1]datos!S90","v":59.076399233879542},{"$f":"+[1]datos!T90","v":40.11},{"$f":"+[1]datos!AA90","v":23.58807006443455},{"$f":"+[1]datos!U90","v":84.517766497461935},{"$f":"+[1]datos!V90","v":101},{"$f":"+[1]datos!W90","v":33.402392654452001},{"$f":"+[1]datos!X90","v":156.30000000000001},{"$f":"+[1]datos!Y90","v":93.620689655172285},{"$f":"+[1]datos!Z90","v":88.7}]
[null,"Mayo",{"$f":"+[1]datos!P91","v":33.266814369999999},{"$f":"+[1]datos!Q91","v":64.63},{"$f":"+[1]datos!R91","v":38.710684004637017},{"$f":"+[1]datos!S91","v":60.310704405192595},{"$f":"+[1]datos!T91","v":40.799999999999997},{"$f":"+[1]datos!AA91","v":23.641698559256163},{"$f":"+[1]datos!U91","v":84.686971235194576},{"$f":"+[1]datos!V91","v":101.2},{"$f":"+[1]datos!W91","v":34.011237206319002},{"$f":"+[1]datos!X91","v":156.6},{"$f":"+[1]datos!Y91","v":93.448275862068854},{"$f":"+[1]datos!Z91","v":89}]
[null,"Junio",{"$f":"+[1]datos!P92","v":33.720245419999998},{"$f":"+[1]datos!Q92","v":65.69},{"$f":"+[1]datos!R92","v":38.959603474207029},{"$f":"+[1]datos!S92","v":61.828757891750016},{"$f":"+[1]datos!T92","v":40.950000000000003},{"$f":"+[1]datos!AA92","v":23.72284693957835},{"$f":"+[1]datos!U92","v":84.686971235194576},{"$f":"+[1]datos!V92","v":100.9},{"$f":"+[1]datos!W92","v":34.565062228903997},{"$f":"+[1]datos!X92","v":156.69999999999999},{"$f":"+[1]datos!Y92","v":93.362068965517125},{"$f":"+[1]datos!Z92","v":89}]
[null,"Julio",{"$f":"+[1]datos!P93","v":34.11464995},{"$f":"+[1]datos!Q93","v":65.69},{"$f":"+[1]datos!R93","v":39.48919130180392},{"$f":"+[1]datos!S93","v":63.240405760090802},{"$f":"+[1]datos!T93","v":41.06},{"$f":"+[1]datos!AA93","v":23.783767027994134},{"$f":"+[1]datos!U93","v":84.686971235194576},{"$f":"+[1]datos!V93","v":100.8},{"$f":"+[1]datos!W93","v":35.056417169494999},{"$f":"+[1]datos!X93","v":157},{"$f":"+[1]datos!Y93","v":93.620689655172299},{"$f":"+[1]datos!Z93","v":89}]
[null,"Agosto",{"$f":"+[1]datos!P94","v":34.44197887},{"$f":"+[1]datos!Q94","v":67.66},{"$f":"+[1]datos!R94","v":39.880694001019094},{"$f":"+[1]datos!S94","v":65.013832730368165},{"$f":"+[1]datos!T94","v":40.74},{"$f":"+[1]datos!AA94","v":23.822106697537656},{"$f":"+[1]datos!U94","v":84.686971235194576},{"$f":"+[1]datos!V94","v":100.7},{"$f":"+[1]datos!W94","v":35.522363781178001},{"$f":"+[1]datos!X94","v":157.30000000000001},{"$f":"+[1]datos!Y94","v":93.793103448275758},{"$f":"+[1]datos!Z94","v":89}]
[null,"Septiembre",{"$f":"+[1]datos!P95","v":34.755892680000002},{"$f":"+[1]datos!Q95","v":67.25},{"$f":"+[1]datos!R95","v":40.013594581626023},{"$f":"+[1]datos!S95","v":66.120451159821243},{"$f":"+[1]datos!T95","v":41.16},{"$f":"+[1]datos!AA95","v":23.952179318749739},{"$f":"+[1]datos!U95","v":84.856175972927232},{"$f":"+[1]datos!V95","v":101.1},{"$f":"+[1]datos!W95","v":36.090325763896999},{"$f":"+[1]datos!X95","v":157.80000000000001},{"$f":"+[1]datos!Y95","v":94.051724137930918},{"$f":"+[1]datos!Z95","v":89.1}]
[null,"Octubre",{"$f":"+[1]datos!P96","v":35.206640710000002},{"$f":"+[1]datos!Q96","v":67.28},{"$f":"+[1]datos!R96","v":40.162960131678034},{"$f":"+[1]datos!S96","v":67.092289139533221},{"$f":"+[1]datos!T96","v":42.22},{"$f":"+[1]datos!AA96","v":24.006748664357701},{"$f":"+[1]datos!U96","v":84.940778341793575},{"$f":"+[1]datos!V96","v":101.3},{"$f":"+[1]datos!W96","v":36.540798135339998},{"$f":"+[1]datos!X96","v":158.30000000000001},{"$f":"+[1]datos!Y96","v":94.482758620689538},{"$f":"+[1]datos!Z96","v":89.3}]
[null,"Noviembre",{"$f":"+[1]datos!P97","v":35.566165920000003},{"$f":"+[1]datos!Q97","v":66.89},{"$f":"+[1]datos!R97","v":40.619072212036251},{"$f":"+[1]datos!S97","v":68.418812513300693},{"$f":"+[1]datos!T97","v":42.82},{"$f":"+[1]datos!AA97","v":24.16410595837376},{"$f":"+[1]datos!U97","v":84.940778341793575},{"$f":"+[1]datos!V97","v":101},{"$f":"+[1]datos!W97","v":37.094432119879002},{"$f":"+[1]datos!X97","v":158.6},{"$f":"+[1]datos!Y97","v":94.568965517241267},{"$f":"+[1]datos!Z97","v":89.7}]
[null,"Diciembre",{"$f":"+[1]datos!P98","v":35.94983835},{"$f":"+[1]datos!Q98","v":67.08},{"$f":"+[1]datos!R98","v":40.97274387199095},{"$f":"+[1]datos!S98","v":69.177839256579404},{"$f":"+[1]datos!T98","v":43.59},{"$f":"+[1]datos!AA98","v":24.443068216524807},{"$f":"+[1]datos!U98","v":85.109983079526231},{"$f":"+[1]datos!V98","v":101.1},{"$f":"+[1]datos!W98","v":38.282127940254},{"$f":"+[1]datos!X98","v":158.6},{"$f":"+[1]datos!Y98","v":95.344827586206776},{"$f":"+[1]datos!Z98","v":89.7}]
[1997,"Enero",{"$f":"+[1]datos!P99","v":36.690352969999999},{"$f":"+[1]datos!Q99","v":67.61},{"$f":"+[1]datos!R99","v":41.411426899632318},{"$f":"+[1]datos!S99","v":70.589487124920197},{"$f":"+[1]datos!T99","v":43.49},{"$f":"+[1]datos!AA99","v":25.129183652466285},{"$f":"+[1]datos!U99","v":85.363790186125215},{"$f":"+[1]datos!V99","v":101},{"$f":"+[1]datos!W99","v":39.266557170736},{"$f":"+[1]datos!X99","v":159.1},{"$f":"+[1]datos!Y99","v":95.086206896551616},{"$f":"+[1]datos!Z99","v":89.9}]
[null,"Febrero",{"$f":"+[1]datos!P100","v":36.921093030000002},{"$f":"+[1]datos!Q100","v":68.540000000000006},{"$f":"+[1]datos!R100","v":42.375971940500321},{"$f":"+[1]datos!S100","v":72.29907072426758},{"$f":"+[1]datos!T100","v":43.48},{"$f":"+[1]datos!AA100","v":25.097900363820344},{"$f":"+[1]datos!U100","v":85.617597292724199},{"$f":"+[1]datos!V100","v":100.8},{"$f":"+[1]datos!W100","v":39.926409411569999},{"$f":"+[1]datos!X100","v":159.6},{"$f":"+[1]datos!Y100","v":95.086206896551616},{"$f":"+[1]datos!Z100","v":90.1}]
[null,"Marzo",{"$f":"+[1]datos!P101","v":37.323546630000003},{"$f":"+[1]datos!Q101","v":68.67},{"$f":"+[1]datos!R101","v":42.388041065609535},{"$f":"+[1]datos!S101","v":72.845286231113008},{"$f":"+[1]datos!T101","v":43.45},{"$f":"+[1]datos!AA101","v":25.132947055611666},{"$f":"+[1]datos!U101","v":85.702199661590512},{"$f":"+[1]datos!V101","v":100.9},{"$f":"+[1]datos!W101","v":40.423304503734002},{"$f":"+[1]datos!X101","v":160},{"$f":"+[1]datos!Y101","v":94.999999999999901},{"$f":"+[1]datos!Z101","v":90.2}]
[null,"Abril",{"$f":"+[1]datos!P102","v":37.822589090000001},{"$f":"+[1]datos!Q102","v":68.709999999999994},{"$f":"+[1]datos!R102","v":42.365883546308673},{"$f":"+[1]datos!S102","v":73.270908703979572},{"$f":"+[1]datos!T102","v":43.6},{"$f":"+[1]datos!AA102","v":25.350283587257167},{"$f":"+[1]datos!U102","v":85.617597292724199},{"$f":"+[1]datos!V102","v":103},{"$f":"+[1]datos!W102","v":40.860021998028003},{"$f":"+[1]datos!X102","v":160.19999999999999},{"$f":"+[1]datos!Y102","v":94.74137931034474},{"$f":"+[1]datos!Z102","v":90.2}]
[null,"Mayo",{"$f":"+[1]datos!P103","v":38.015766820000003},{"$f":"+[1]datos!Q103","v":68.56},{"$f":"+[1]datos!R103","v":42.432666058573098},{"$f":"+[1]datos!S103","v":74.193090728523799},{"$f":"+[1]datos!T103","v":43.93},{"$f":"+[1]datos!AA103","v":25.397561339270961},{"$f":"+[1]datos!U103","v":85.871404399323183},{"$f":"+[1]datos!V103","v":103.2},{"$f":"+[1]datos!W103","v":41.232932116431002},{"$f":"+[1]datos!X103","v":160.1},{"$f":"+[1]datos!Y103","v":94.999999999999915},{"$f":"+[1]datos!Z103","v":90.3}]
[null,"Junio",{"$f":"+[1]datos!P104","v":38.313582480000001},{"$f":"+[1]datos!Q104","v":68.819999999999993},{"$f":"+[1]datos!R104","v":42.45385438373264},{"$f":"+[1]datos!S104","v":75.150741292473583},{"$f":"+[1]datos!T104","v":44.83},{"$f":"+[1]datos!AA104","v":25.507876093969813},{"$f":"+[1]datos!U104","v":85.871404399323183},{"$f":"+[1]datos!V104","v":103.2},{"$f":"+[1]datos!W104","v":41.598773765110998},{"$f":"+[1]datos!X104","v":160.30000000000001},{"$f":"+[1]datos!Y104","v":95.08620689655163},{"$f":"+[1]datos!Z104","v":90.5}]
[null,"Julio",{"$f":"+[1]datos!P105","v":38.64359443},{"$f":"+[1]datos!Q105","v":69.36},{"$f":"+[1]datos!R105","v":42.641494028609358},{"$f":"+[1]datos!S105","v":76.200610058877771},{"$f":"+[1]datos!T105","v":45.59},{"$f":"+[1]datos!AA105","v":25.991943823543888},{"$f":"+[1]datos!U105","v":85.956006768189511},{"$f":"+[1]datos!V105","v":102.8},{"$f":"+[1]datos!W105","v":41.961176680710999},{"$f":"+[1]datos!X105","v":160.5},{"$f":"+[1]datos!Y105","v":95.258620689655089},{"$f":"+[1]datos!Z105","v":90.5}]
[null,"Agosto",{"$f":"+[1]datos!P106","v":39.072878269999997},{"$f":"+[1]datos!Q106","v":68.900000000000006},{"$f":"+[1]datos!R106","v":43.090199489159261},{"$f":"+[1]datos!S106","v":77.144073207065333},{"$f":"+[1]datos!T106","v":45.33},{"$f":"+[1]datos!AA106","v":26.151888457222395},{"$f":"+[1]datos!U106","v":86.125211505922181},{"$f":"+[1]datos!V106","v":102.9},{"$f":"+[1]datos!W106","v":42.334277844055002},{"$f":"+[1]datos!X106","v":160.80000000000001},{"$f":"+[1]datos!Y106","v":95.258620689655089},{"$f":"+[1]datos!Z106","v":90.6}]
[null,"Septiembre",{"$f":"+[1]datos!P107","v":38.917262880000003},{"$f":"+[1]datos!Q107","v":68.67},{"$f":"+[1]datos!R107","v":43.34719806294131},{"$f":"+[1]datos!S107","v":77.38525927502306},{"$f":"+[1]datos!T107","v":44.95},{"$f":"+[1]datos!AA107","v":26.317007770225793},{"$f":"+[1]datos!U107","v":86.209813874788495},{"$f":"+[1]datos!V107","v":103.6},{"$f":"+[1]datos!W107","v":42.861548309462002},{"$f":"+[1]datos!X107","v":161.19999999999999},{"$f":"+[1]datos!Y107","v":95.344827586206819},{"$f":"+[1]datos!Z107","v":90.6}]
[null,"Octubre",{"$f":"+[1]datos!P108","v":38.984338469999997},{"$f":"+[1]datos!Q108","v":68.45},{"$f":"+[1]datos!R108","v":43.568969638914048},{"$f":"+[1]datos!S108","v":77.179541746470875},{"$f":"+[1]datos!T108","v":45.18},{"$f":"+[1]datos!AA108","v":26.401919553693357},{"$f":"+[1]datos!U108","v":86.209813874788495},{"$f":"+[1]datos!V108","v":103.9},{"$f":"+[1]datos!W108","v":43.204083068415002},{"$f":"+[1]datos!X108","v":161.6},{"$f":"+[1]datos!Y108","v":94.913793103448199},{"$f":"+[1]datos!Z108","v":90.6}]
[null,"Noviembre",{"$f":"+[1]datos!P109","v":39.638996329999998},{"$f":"+[1]datos!Q109","v":68.37},{"$f":"+[1]datos!R109","v":43.730077997614664},{"$f":"+[1]datos!S109","v":77.775413208484082},{"$f":"+[1]datos!T109","v":46.49},{"$f":"+[1]datos!AA109","v":26.443787413685673},{"$f":"+[1]datos!U109","v":86.294416243654823},{"$f":"+[1]datos!V109","v":103.2},{"$f":"+[1]datos!W109","v":43.687414321475003},{"$f":"+[1]datos!X109","v":161.5},{"$f":"+[1]datos!Y109","v":94.827586206896484},{"$f":"+[1]datos!Z109","v":90.5}]
[null,"Diciembre",{"$f":"+[1]datos!P110","v":39.977057350000003},{"$f":"+[1]datos!Q110","v":68.38},{"$f":"+[1]datos!R110","v":43.892343056299588},{"$f":"+[1]datos!S110","v":77.945662197630696},{"$f":"+[1]datos!T110","v":46.75},{"$f":"+[1]datos!AA110","v":26.488007400643848},{"$f":"+[1]datos!U110","v":86.379018612521136},{"$f":"+[1]datos!V110","v":103},{"$f":"+[1]datos!W110","v":44.299506554585001},{"$f":"+[1]datos!X110","v":161.30000000000001},{"$f":"+[1]datos!Y110","v":94.913793103448199},{"$f":"+[1]datos!Z110","v":90.4}]
[1998,"Enero",{"$f":"+[1]datos!P111","v":40.612934029999998},{"$f":"+[1]datos!Q111","v":69.22},{"$f":"+[1]datos!R111","v":44.429284634943016},{"$f":"+[1]datos!S111","v":78.591189614811668},{"$f":"+[1]datos!T111","v":47.04},{"$f":"+[1]datos!AA111","v":26.512704733785384},{"$f":"+[1]datos!U111","v":86.294416243654823},{"$f":"+[1]datos!V111","v":102.9},{"$f":"+[1]datos!W111","v":45.263303462448},{"$f":"+[1]datos!X111","v":161.6},{"$f":"+[1]datos!Y111","v":95.258620689655103},{"$f":"+[1]datos!Z111","v":90.9}]
[null,"Febrero",{"$f":"+[1]datos!P112","v":41.023436699999998},{"$f":"+[1]datos!Q112","v":69.400000000000006},{"$f":"+[1]datos!R112","v":44.684753211629463},{"$f":"+[1]datos!S112","v":80.541959282116764},{"$f":"+[1]datos!T112","v":47.69},{"$f":"+[1]datos!AA112","v":26.49671027041753},{"$f":"+[1]datos!U112","v":86.548223350253807},{"$f":"+[1]datos!V112","v":102.8},{"$f":"+[1]datos!W112","v":46.055737478708998},{"$f":"+[1]datos!X112","v":161.9},{"$f":"+[1]datos!Y112","v":94.999999999999929},{"$f":"+[1]datos!Z112","v":91}]
[null,"Marzo",{"$f":"+[1]datos!P113","v":41.455403560000001},{"$f":"+[1]datos!Q113","v":69.7},{"$f":"+[1]datos!R113","v":44.976149568821739},{"$f":"+[1]datos!S113","v":81.903951195289764},{"$f":"+[1]datos!T113","v":48.2},{"$f":"+[1]datos!AA113","v":26.453195921549117},{"$f":"+[1]datos!U113","v":86.632825719120149},{"$f":"+[1]datos!V113","v":103.2},{"$f":"+[1]datos!W113","v":46.595234496217998},{"$f":"+[1]datos!X113","v":162.19999999999999},{"$f":"+[1]datos!Y113","v":95.172413793103388},{"$f":"+[1]datos!Z113","v":91.1}]
[null,"Abril",{"$f":"+[1]datos!P114","v":41.78809854},{"$f":"+[1]datos!Q114","v":70.56},{"$f":"+[1]datos!R114","v":45.306233235250915},{"$f":"+[1]datos!S114","v":83.322692771511669},{"$f":"+[1]datos!T114","v":49.2},{"$f":"+[1]datos!AA114","v":26.421912632903169},{"$f":"+[1]datos!U114","v":86.802030456852791},{"$f":"+[1]datos!V114","v":103.4},{"$f":"+[1]datos!W114","v":47.031187831436},{"$f":"+[1]datos!X114","v":162.5},{"$f":"+[1]datos!Y114","v":95.086206896551658},{"$f":"+[1]datos!Z114","v":91}]
[null,"Mayo",{"$f":"+[1]datos!P115","v":42.104695370000002},{"$f":"+[1]datos!Q115","v":70.930000000000007},{"$f":"+[1]datos!R115","v":45.538631611231864},{"$f":"+[1]datos!S115","v":84.315811874866981},{"$f":"+[1]datos!T115","v":50.19},{"$f":"+[1]datos!AA115","v":26.538578130409846},{"$f":"+[1]datos!U115","v":86.971235194585418},{"$f":"+[1]datos!V115","v":103.7},{"$f":"+[1]datos!W115","v":47.405817312930999},{"$f":"+[1]datos!X115","v":162.80000000000001},{"$f":"+[1]datos!Y115","v":95.258620689655118},{"$f":"+[1]datos!Z115","v":91.3}]
[null,"Junio",{"$f":"+[1]datos!P116","v":42.44275639},{"$f":"+[1]datos!Q116","v":71},{"$f":"+[1]datos!R116","v":45.606445204326853},{"$f":"+[1]datos!S116","v":85.798396822018859},{"$f":"+[1]datos!T116","v":51.15},{"$f":"+[1]datos!AA116","v":26.677824046788785},{"$f":"+[1]datos!U116","v":87.055837563451774},{"$f":"+[1]datos!V116","v":103.3},{"$f":"+[1]datos!W116","v":47.966137697999002},{"$f":"+[1]datos!X116","v":163},{"$f":"+[1]datos!Y116","v":95.517241379310292},{"$f":"+[1]datos!Z116","v":91.4}]
[null,"Julio",{"$f":"+[1]datos!P117","v":43.164489840000002},{"$f":"+[1]datos!Q117","v":71.31},{"$f":"+[1]datos!R117","v":45.742034805877751},{"$f":"+[1]datos!S117","v":87.493793005604033},{"$f":"+[1]datos!T117","v":50.69},{"$f":"+[1]datos!AA117","v":26.846706762937561},{"$f":"+[1]datos!U117","v":87.055837563451774},{"$f":"+[1]datos!V117","v":102.7},{"$f":"+[1]datos!W117","v":48.428645590395},{"$f":"+[1]datos!X117","v":163.19999999999999},{"$f":"+[1]datos!Y117","v":95.603448275862021},{"$f":"+[1]datos!Z117","v":91.4}]
[null,"Agosto",{"$f":"+[1]datos!P118","v":44.03647264},{"$f":"+[1]datos!Q118","v":70.44},{"$f":"+[1]datos!R118","v":45.807925910568272},{"$f":"+[1]datos!S118","v":87.621479747464008},{"$f":"+[1]datos!T118","v":50.43},{"$f":"+[1]datos!AA118","v":26.908332489443104},{"$f":"+[1]datos!U118","v":87.055837563451774},{"$f":"+[1]datos!V118","v":102.6},{"$f":"+[1]datos!W118","v":48.894210125988998},{"$f":"+[1]datos!X118","v":163.4},{"$f":"+[1]datos!Y118","v":95.603448275862021},{"$f":"+[1]datos!Z118","v":91.4}]
[null,"Septiembre",{"$f":"+[1]datos!P119","v":43.864759100000001},{"$f":"+[1]datos!Q119","v":69.709999999999994},{"$f":"+[1]datos!R119","v":45.728343406737949},{"$f":"+[1]datos!S119","v":87.883946939065055},{"$f":"+[1]datos!T119","v":50.57},{"$f":"+[1]datos!AA119","v":27.084036373792877},{"$f":"+[1]datos!U119","v":87.055837563451774},{"$f":"+[1]datos!V119","v":103.4},{"$f":"+[1]datos!W119","v":49.687217256384002},{"$f":"+[1]datos!X119","v":163.6},{"$f":"+[1]datos!Y119","v":96.120689655172356},{"$f":"+[1]datos!Z119","v":91.2}]
[null,"Octubre",{"$f":"+[1]datos!P120","v":44.001593319999998},{"$f":"+[1]datos!Q120","v":69.760000000000005},{"$f":"+[1]datos!R120","v":45.732665648070046},{"$f":"+[1]datos!S120","v":88.373412782861593},{"$f":"+[1]datos!T120","v":51.77},{"$f":"+[1]datos!AA120","v":27.67959492154873},{"$f":"+[1]datos!U120","v":86.971235194585418},{"$f":"+[1]datos!V120","v":104.1},{"$f":"+[1]datos!W120","v":50.399223414452003},{"$f":"+[1]datos!X120","v":164},{"$f":"+[1]datos!Y120","v":96.293103448275801},{"$f":"+[1]datos!Z120","v":91.6}]
[null,"Noviembre",{"$f":"+[1]datos!P121","v":44.581126500000003},{"$f":"+[1]datos!Q121","v":71.3},{"$f":"+[1]datos!R121","v":46.944611429967729},{"$f":"+[1]datos!S121","v":89.487124920195782},{"$f":"+[1]datos!T121","v":54.83},{"$f":"+[1]datos!AA121","v":28.18318530493945},{"$f":"+[1]datos!U121","v":86.971235194585418},{"$f":"+[1]datos!V121","v":104},{"$f":"+[1]datos!W121","v":51.291762400612001},{"$f":"+[1]datos!X121","v":164},{"$f":"+[1]datos!Y121","v":96.293103448275801},{"$f":"+[1]datos!Z121","v":91.6}]
[null,"Diciembre",{"$f":"+[1]datos!P122","v":44.916504500000002},{"$f":"+[1]datos!Q122","v":71.260000000000005},{"$f":"+[1]datos!R122","v":47.174303841497597},{"$f":"+[1]datos!S122","v":90.139746045257851},{"$f":"+[1]datos!T122","v":55.38},{"$f":"+[1]datos!AA122","v":28.55929040678053},{"$f":"+[1]datos!U122","v":87.055837563451774},{"$f":"+[1]datos!V122","v":103.6},{"$f":"+[1]datos!W122","v":52.543265583085997},{"$f":"+[1]datos!X122","v":163.9},{"$f":"+[1]datos!Y122","v":96.206896551724071},{"$f":"+[1]datos!Z122","v":91.3}]
[1999,"Enero",{"$f":"+[1]datos!P123","v":45.724094719999997},{"$f":"+[1]datos!Q123","v":71.39},{"$f":"+[1]datos!R123","v":47.224555950668204},{"$f":"+[1]datos!S123","v":91.686174363339717},{"$f":"+[1]datos!T123","v":55.2},{"$f":"+[1]datos!AA123","v":28.408283855572286},{"$f":"+[1]datos!U123","v":86.971235194585418},{"$f":"+[1]datos!V123","v":103.1},{"$f":"+[1]datos!W123","v":53.870120615833002},{"$f":"+[1]datos!X123","v":164.3},{"$f":"+[1]datos!Y123","v":96.293103448275815},{"$f":"+[1]datos!Z123","v":91.5}]
[null,"Febrero",{"$f":"+[1]datos!P124","v":46.056789690000002},{"$f":"+[1]datos!Q124","v":71.22},{"$f":"+[1]datos!R124","v":46.993534482758598},{"$f":"+[1]datos!S124","v":92.473575938142858},{"$f":"+[1]datos!T124","v":55},{"$f":"+[1]datos!AA124","v":28.331581489162243},{"$f":"+[1]datos!U124","v":87.22504230118443},{"$f":"+[1]datos!V124","v":102.7},{"$f":"+[1]datos!W124","v":54.594080220393998},{"$f":"+[1]datos!X124","v":164.5},{"$f":"+[1]datos!Y124","v":96.293103448275815},{"$f":"+[1]datos!Z124","v":91.6}]
[null,"Marzo",{"$f":"+[1]datos!P125","v":45.885076159999997},{"$f":"+[1]datos!Q125","v":71.069999999999993},{"$f":"+[1]datos!R125","v":46.772296870051008},{"$f":"+[1]datos!S125","v":92.750230545506128},{"$f":"+[1]datos!T125","v":53.95},{"$f":"+[1]datos!AA125","v":28.479304565211216},{"$f":"+[1]datos!U125","v":87.478849407783414},{"$f":"+[1]datos!V125","v":102.8},{"$f":"+[1]datos!W125","v":55.101291477316003},{"$f":"+[1]datos!X125","v":165},{"$f":"+[1]datos!Y125","v":96.465517241379274},{"$f":"+[1]datos!Z125","v":92}]
[null,"Abril",{"$f":"+[1]datos!P126","v":45.941419660000001},{"$f":"+[1]datos!Q126","v":70.67},{"$f":"+[1]datos!R126","v":46.879941519473526},{"$f":"+[1]datos!S126","v":93.069447400156065},{"$f":"+[1]datos!T126","v":54.15},{"$f":"+[1]datos!AA126","v":28.553166103235707},{"$f":"+[1]datos!U126","v":87.732656514382398},{"$f":"+[1]datos!V126","v":103.3},{"$f":"+[1]datos!W126","v":55.606974416086999},{"$f":"+[1]datos!X126","v":166.2},{"$f":"+[1]datos!Y126","v":96.551724137930989},{"$f":"+[1]datos!Z126","v":92.5}]
[null,"Mayo",{"$f":"+[1]datos!P127","v":46.314360000000001},{"$f":"+[1]datos!Q127","v":70.2},{"$f":"+[1]datos!R127","v":47.236559446685312},{"$f":"+[1]datos!S127","v":93.80009931191033},{"$f":"+[1]datos!T127","v":54.88},{"$f":"+[1]datos!AA127","v":28.538961961307916},{"$f":"+[1]datos!U127","v":87.817258883248741},{"$f":"+[1]datos!V127","v":103.3},{"$f":"+[1]datos!W127","v":55.941485494403999},{"$f":"+[1]datos!X127","v":166.2},{"$f":"+[1]datos!Y127","v":96.551724137930989},{"$f":"+[1]datos!Z127","v":92.7}]
[null,"Junio",{"$f":"+[1]datos!P128","v":46.958285750000002},{"$f":"+[1]datos!Q128","v":70.150000000000006},{"$f":"+[1]datos!R128","v":47.532165705576517},{"$f":"+[1]datos!S128","v":94.920905157125617},{"$f":"+[1]datos!T128","v":55.31},{"$f":"+[1]datos!AA128","v":28.382716400102272},{"$f":"+[1]datos!U128","v":87.817258883248741},{"$f":"+[1]datos!V128","v":103},{"$f":"+[1]datos!W128","v":56.309046499278999},{"$f":"+[1]datos!X128","v":166.2},{"$f":"+[1]datos!Y128","v":96.724137931034434},{"$f":"+[1]datos!Z128","v":92.9}]
[null,"Julio",{"$f":"+[1]datos!P129","v":47.076338810000003},{"$f":"+[1]datos!Q129","v":70.55},{"$f":"+[1]datos!R129","v":48.128260679535053},{"$f":"+[1]datos!S129","v":95.65155706887991},{"$f":"+[1]datos!T129","v":55.76},{"$f":"+[1]datos!AA129","v":28.311695690463338},{"$f":"+[1]datos!U129","v":87.986463620981382},{"$f":"+[1]datos!V129","v":102.6},{"$f":"+[1]datos!W129","v":56.681192465503003},{"$f":"+[1]datos!X129","v":166.7},{"$f":"+[1]datos!Y129","v":96.896551724137879},{"$f":"+[1]datos!Z129","v":93.1}]
[null,"Agosto",{"$f":"+[1]datos!P130","v":47.355373299999997},{"$f":"+[1]datos!Q130","v":70.540000000000006},{"$f":"+[1]datos!R130","v":48.572241927772865},{"$f":"+[1]datos!S130","v":96.438958643683051},{"$f":"+[1]datos!T130","v":56.66},{"$f":"+[1]datos!AA130","v":28.391238885258943},{"$f":"+[1]datos!U130","v":88.07106598984771},{"$f":"+[1]datos!V130","v":102.9},{"$f":"+[1]datos!W130","v":57.000229296683997},{"$f":"+[1]datos!X130","v":167.1},{"$f":"+[1]datos!Y130","v":96.982758620689594},{"$f":"+[1]datos!Z130","v":93.3}]
[null,"Septiembre",{"$f":"+[1]datos!P131","v":47.666604079999999},{"$f":"+[1]datos!Q131","v":70.72},{"$f":"+[1]datos!R131","v":48.834185159516167},{"$f":"+[1]datos!S131","v":97.141235723912885},{"$f":"+[1]datos!T131","v":57.41},{"$f":"+[1]datos!AA131","v":28.504872020681233},{"$f":"+[1]datos!U131","v":88.07106598984771},{"$f":"+[1]datos!V131","v":103.2},{"$f":"+[1]datos!W131","v":57.550997682965999},{"$f":"+[1]datos!X131","v":167.9},{"$f":"+[1]datos!Y131","v":96.982758620689594},{"$f":"+[1]datos!Z131","v":93.6}]
[null,"Octubre",{"$f":"+[1]datos!P132","v":48.366873339999998},{"$f":"+[1]datos!Q132","v":71.12},{"$f":"+[1]datos!R132","v":49.195614523968054},{"$f":"+[1]datos!S132","v":98.027949209051584},{"$f":"+[1]datos!T132","v":58.45},{"$f":"+[1]datos!AA132","v":29.504843612397377},{"$f":"+[1]datos!U132","v":88.155668358714053},{"$f":"+[1]datos!V132","v":103.4},{"$f":"+[1]datos!W132","v":57.915502044644001},{"$f":"+[1]datos!X132","v":168.2},{"$f":"+[1]datos!Y132","v":97.068965517241324},{"$f":"+[1]datos!Z132","v":93.7}]
[null,"Noviembre",{"$f":"+[1]datos!P133","v":48.820304399999998},{"$f":"+[1]datos!Q133","v":70.8},{"$f":"+[1]datos!R133","v":49.361981982155953},{"$f":"+[1]datos!S133","v":98.964318649358006},{"$f":"+[1]datos!T133","v":59.06},{"$f":"+[1]datos!AA133","v":29.928127041845404},{"$f":"+[1]datos!U133","v":88.240270727580366},{"$f":"+[1]datos!V133","v":102.8},{"$f":"+[1]datos!W133","v":58.430545944156997},{"$f":"+[1]datos!X133","v":168.3},{"$f":"+[1]datos!Y133","v":97.241379310344769},{"$f":"+[1]datos!Z133","v":93.6}]
[null,"Diciembre",{"$f":"+[1]datos!P134","v":49.4588641},{"$f":"+[1]datos!Q134","v":70.53},{"$f":"+[1]datos!R134","v":49.493418087189575},{"$f":"+[1]datos!S134","v":100},{"$f":"+[1]datos!T134","v":59.37},{"$f":"+[1]datos!AA134","v":30.016192721797676},{"$f":"+[1]datos!U134","v":88.578680203045693},{"$f":"+[1]datos!V134","v":102.5},{"$f":"+[1]datos!W134","v":59.015892575148001},{"$f":"+[1]datos!X134","v":168.3},{"$f":"+[1]datos!Y134","v":97.672413793103388},{"$f":"+[1]datos!Z134","v":93.7}]
[2000,"Enero",{"$f":"+[1]datos!P135","v":50.338895970000003},{"$f":"+[1]datos!Q135","v":71},{"$f":"+[1]datos!R135","v":49.714417993008603},{"$f":"+[1]datos!S135","v":100.49655955167766},{"$f":"+[1]datos!T135","v":59.89},{"$f":"+[1]datos!AA135","v":30.109940058521065},{"$f":"+[1]datos!U135","v":88.578680203045693},{"$f":"+[1]datos!V135","v":102.4},{"$f":"+[1]datos!W135","v":59.808326584512997},{"$f":"+[1]datos!X135","v":168.8},{"$f":"+[1]datos!Y135","v":97.67},{"$f":"+[1]datos!Z135","v":93.5}]
[null,"Febrero",{"$f":"+[1]datos!P136","v":51.068678490000003},{"$f":"+[1]datos!Q136","v":71.349999999999994},{"$f":"+[1]datos!R136","v":50.104694895199444},{"$f":"+[1]datos!S136","v":102.01461303823507},{"$f":"+[1]datos!T136","v":61.16},{"$f":"+[1]datos!AA136","v":30.124144200448853},{"$f":"+[1]datos!U136","v":88.91708967851099},{"$f":"+[1]datos!V136","v":102},{"$f":"+[1]datos!W136","v":60.338844724266004},{"$f":"+[1]datos!X136","v":169.8},{"$f":"+[1]datos!Y136","v":97.586206896551658},{"$f":"+[1]datos!Z136","v":94.1}]
[null,"Marzo",{"$f":"+[1]datos!P137","v":51.414788590000001},{"$f":"+[1]datos!Q137","v":71.41},{"$f":"+[1]datos!R137","v":50.644107190856467},{"$f":"+[1]datos!S137","v":102.97935731006598},{"$f":"+[1]datos!T137","v":61.76},{"$f":"+[1]datos!AA137","v":30.109940058521065},{"$f":"+[1]datos!U137","v":89.170896785109989},{"$f":"+[1]datos!V137","v":102.2},{"$f":"+[1]datos!W137","v":60.673355802583004},{"$f":"+[1]datos!X137","v":171.2},{"$f":"+[1]datos!Y137","v":98.189655172413737},{"$f":"+[1]datos!Z137","v":94.8}]
[null,"Abril",{"$f":"+[1]datos!P138","v":51.235025980000003},{"$f":"+[1]datos!Q138","v":71.47},{"$f":"+[1]datos!R138","v":51.129989221272098},{"$f":"+[1]datos!S138","v":104.3},{"$f":"+[1]datos!T138","v":62.13},{"$f":"+[1]datos!AA138","v":30.129825857219966},{"$f":"+[1]datos!U138","v":89.255499153976317},{"$f":"+[1]datos!V138","v":102.5},{"$f":"+[1]datos!W138","v":61.018565121747997},{"$f":"+[1]datos!X138","v":171.3},{"$f":"+[1]datos!Y138","v":98.103448275862007},{"$f":"+[1]datos!Z138","v":94.5}]
[null,"Mayo",{"$f":"+[1]datos!P139","v":51.194780620000003},{"$f":"+[1]datos!Q139","v":71.900000000000006},{"$f":"+[1]datos!R139","v":50.715240865663127},{"$f":"+[1]datos!S139","v":105.3},{"$f":"+[1]datos!T139","v":62.62},{"$f":"+[1]datos!AA139","v":30.152552484304426},{"$f":"+[1]datos!U139","v":89.34010152284263},{"$f":"+[1]datos!V139","v":102.6},{"$f":"+[1]datos!W139","v":61.246666912621997},{"$f":"+[1]datos!X139","v":171.5},{"$f":"+[1]datos!Y139","v":98.189655172413737},{"$f":"+[1]datos!Z139","v":94.9}]
[null,"Junio",{"$f":"+[1]datos!P140","v":51.887000810000004},{"$f":"+[1]datos!Q140","v":72.7},{"$f":"+[1]datos!R140","v":50.969473266946899},{"$f":"+[1]datos!S140","v":106.3},{"$f":"+[1]datos!T140","v":63.03},{"$f":"+[1]datos!AA140","v":30.447998636402378},{"$f":"+[1]datos!U140","v":89.678510998307942},{"$f":"+[1]datos!V140","v":102.4},{"$f":"+[1]datos!W140","v":61.609451911207998},{"$f":"+[1]datos!X140","v":172.4},{"$f":"+[1]datos!Y140","v":98.448275862068911},{"$f":"+[1]datos!Z140","v":95.5}]
[null,"Julio",{"$f":"+[1]datos!P141","v":52.571171929999998},{"$f":"+[1]datos!Q141","v":72.61},{"$f":"+[1]datos!R141","v":51.083867998099748},{"$f":"+[1]datos!S141","v":107},{"$f":"+[1]datos!T141","v":62.84},{"$f":"+[1]datos!AA141","v":30.587199227294683},{"$f":"+[1]datos!U141","v":89.76311336717427},{"$f":"+[1]datos!V141","v":102},{"$f":"+[1]datos!W141","v":61.849780261079999},{"$f":"+[1]datos!X141","v":172.8},{"$f":"+[1]datos!Y141","v":98.62068965517237},{"$f":"+[1]datos!Z141","v":95.8}]
[null,"Agosto",{"$f":"+[1]datos!P142","v":52.917282020000002},{"$f":"+[1]datos!Q142","v":72.92},{"$f":"+[1]datos!R142","v":50.860308743511503},{"$f":"+[1]datos!S142","v":107.5},{"$f":"+[1]datos!T142","v":62.92},{"$f":"+[1]datos!AA142","v":30.936621118718222},{"$f":"+[1]datos!U142","v":89.847715736040612},{"$f":"+[1]datos!V142","v":102.4},{"$f":"+[1]datos!W142","v":62.189640459821},{"$f":"+[1]datos!X142","v":172.8},{"$f":"+[1]datos!Y142","v":98.362068965517196},{"$f":"+[1]datos!Z142","v":95.7}]
[null,"Septiembre",{"$f":"+[1]datos!P143","v":53.118508820000002},{"$f":"+[1]datos!Q143","v":73.06},{"$f":"+[1]datos!R143","v":50.930628342641455},{"$f":"+[1]datos!S143","v":107.7},{"$f":"+[1]datos!T143","v":63.18},{"$f":"+[1]datos!AA143","v":32.126928212266698},{"$f":"+[1]datos!U143","v":90.270727580372238},{"$f":"+[1]datos!V143","v":102.2},{"$f":"+[1]datos!W143","v":62.643933633536001},{"$f":"+[1]datos!X143","v":173.7},{"$f":"+[1]datos!Y143","v":98.793103448275829},{"$f":"+[1]datos!Z143","v":96.1}]
[null,"Octubre",{"$f":"+[1]datos!P144","v":53.453886820000001},{"$f":"+[1]datos!Q144","v":73.05},{"$f":"+[1]datos!R144","v":51.084966302298056},{"$f":"+[1]datos!S144","v":108.3},{"$f":"+[1]datos!T144","v":63.87},{"$f":"+[1]datos!AA144","v":32.212153063833412},{"$f":"+[1]datos!U144","v":90.270727580372238},{"$f":"+[1]datos!V144","v":102.2},{"$f":"+[1]datos!W144","v":63.07530200051},{"$f":"+[1]datos!X144","v":174},{"$f":"+[1]datos!Y144","v":98.534482758620655},{"$f":"+[1]datos!Z144","v":96.3}]
[null,"Noviembre",{"$f":"+[1]datos!P145","v":53.896585770000002},{"$f":"+[1]datos!Q145","v":73.209999999999994},{"$f":"+[1]datos!R145","v":51.422182152971608},{"$f":"+[1]datos!S145","v":109.5},{"$f":"+[1]datos!T145","v":64.52},{"$f":"+[1]datos!AA145","v":32.365557796653505},{"$f":"+[1]datos!U145","v":90.439932318104908},{"$f":"+[1]datos!V145","v":101.9},{"$f":"+[1]datos!W145","v":63.614607979973997},{"$f":"+[1]datos!X145","v":174.1},{"$f":"+[1]datos!Y145","v":98.275862068965495},{"$f":"+[1]datos!Z145","v":96.6}]
[null,"Diciembre",{"$f":"+[1]datos!P146","v":54.527096409999999},{"$f":"+[1]datos!Q146","v":73.56},{"$f":"+[1]datos!R146","v":52.009242916221488},{"$f":"+[1]datos!S146","v":110.1},{"$f":"+[1]datos!T146","v":65.22},{"$f":"+[1]datos!AA146","v":32.723502173233719},{"$f":"+[1]datos!U146","v":90.77834179357022},{"$f":"+[1]datos!V146","v":102},{"$f":"+[1]datos!W146","v":64.303307262108007},{"$f":"+[1]datos!X146","v":174},{"$f":"+[1]datos!Y146","v":98.36206896551721},{"$f":"+[1]datos!Z146","v":96.7}]
[2001,"Enero",{"$f":"+[1]datos!P147","v":55.28474404},{"$f":"+[1]datos!Q147","v":74.89},{"$f":"+[1]datos!R147","v":52.720079545454531},{"$f":"+[1]datos!S147","v":111.1},{"$f":"+[1]datos!T147","v":65.69},{"$f":"+[1]datos!AA147","v":33.541660748274197},{"$f":"+[1]datos!U147","v":90.35532994923858},{"$f":"+[1]datos!V147","v":102},{"$f":"+[1]datos!W147","v":64.659787943149993},{"$f":"+[1]datos!X147","v":175.1},{"$f":"+[1]datos!Y147","v":98.36206896551721},{"$f":"+[1]datos!Z147","v":96.3}]
[null,"Febrero",{"$f":"+[1]datos!P148","v":55.922475079999998},{"$f":"+[1]datos!Q148","v":74.75},{"$f":"+[1]datos!R148","v":53.107102909482748},{"$f":"+[1]datos!S148","v":112.5},{"$f":"+[1]datos!T148","v":66.48},{"$f":"+[1]datos!AA148","v":33.587114002443116},{"$f":"+[1]datos!U148","v":90.60913705583755},{"$f":"+[1]datos!V148","v":101.7},{"$f":"+[1]datos!W148","v":64.616994979759994},{"$f":"+[1]datos!X148","v":175.8},{"$f":"+[1]datos!Y148","v":98.36206896551721},{"$f":"+[1]datos!Z148","v":96.8}]
[null,"Marzo",{"$f":"+[1]datos!P149","v":56.8781417},{"$f":"+[1]datos!Q149","v":74.900000000000006},{"$f":"+[1]datos!R149","v":53.388797293756411},{"$f":"+[1]datos!S149","v":113.5},{"$f":"+[1]datos!T149","v":66.489999999999995},{"$f":"+[1]datos!AA149","v":33.445072583165256},{"$f":"+[1]datos!U149","v":91.116751269035532},{"$f":"+[1]datos!V149","v":101.5},{"$f":"+[1]datos!W149","v":65.026393744008999},{"$f":"+[1]datos!X149","v":176.2},{"$f":"+[1]datos!Y149","v":98.534482758620669},{"$f":"+[1]datos!Z149","v":97.1}]
[null,"Abril",{"$f":"+[1]datos!P150","v":57.591765430000002},{"$f":"+[1]datos!Q150","v":75},{"$f":"+[1]datos!R150","v":53.622334186393687},{"$f":"+[1]datos!S150","v":114.2},{"$f":"+[1]datos!T150","v":66.95},{"$f":"+[1]datos!AA150","v":33.652453055310929},{"$f":"+[1]datos!U150","v":91.708967851099828},{"$f":"+[1]datos!V150","v":101.7},{"$f":"+[1]datos!W150","v":65.354409466736996},{"$f":"+[1]datos!X150","v":176.9},{"$f":"+[1]datos!Y150","v":98.706896551724128},{"$f":"+[1]datos!Z150","v":97.8}]
[null,"Mayo",{"$f":"+[1]datos!P151","v":57.98591296},{"$f":"+[1]datos!Q151","v":75.12},{"$f":"+[1]datos!R151","v":53.78291348668408},{"$f":"+[1]datos!S151","v":115.6},{"$f":"+[1]datos!T151","v":67.45},{"$f":"+[1]datos!AA151","v":33.740518735263201},{"$f":"+[1]datos!U151","v":92.131979695431482},{"$f":"+[1]datos!V151","v":101.8},{"$f":"+[1]datos!W151","v":65.504375883541002},{"$f":"+[1]datos!X151","v":177.7},{"$f":"+[1]datos!Y151","v":98.793103448275843},{"$f":"+[1]datos!Z151","v":98.6}]
[null,"Junio",{"$f":"+[1]datos!P152","v":58.147202239999999},{"$f":"+[1]datos!Q152","v":75.23},{"$f":"+[1]datos!R152","v":54.178799851308987},{"$f":"+[1]datos!S152","v":116.3},{"$f":"+[1]datos!T152","v":67.88},{"$f":"+[1]datos!AA152","v":33.550183233430872},{"$f":"+[1]datos!U152","v":92.216582064297796},{"$f":"+[1]datos!V152","v":101.5},{"$f":"+[1]datos!W152","v":65.659309337783995},{"$f":"+[1]datos!X152","v":178},{"$f":"+[1]datos!Y152","v":98.103448275862064},{"$f":"+[1]datos!Z152","v":98.7}]
[null,"Julio",{"$f":"+[1]datos!P153","v":58.50093201},{"$f":"+[1]datos!Q153","v":75.2},{"$f":"+[1]datos!R153","v":54.64709641941181},{"$f":"+[1]datos!S153","v":116.9},{"$f":"+[1]datos!T153","v":67.61},{"$f":"+[1]datos!AA153","v":33.470640038635267},{"$f":"+[1]datos!U153","v":92.04737732656514},{"$f":"+[1]datos!V153","v":101.2},{"$f":"+[1]datos!W153","v":65.488710598360001},{"$f":"+[1]datos!X153","v":177.5},{"$f":"+[1]datos!Y153","v":98.189655172413794},{"$f":"+[1]datos!Z153","v":98.4}]
[null,"Agosto",{"$f":"+[1]datos!P154","v":58.96611807},{"$f":"+[1]datos!Q154","v":75.459999999999994},{"$f":"+[1]datos!R154","v":55.332927022739284},{"$f":"+[1]datos!S154","v":117.7},{"$f":"+[1]datos!T154","v":67.760000000000005},{"$f":"+[1]datos!AA154","v":33.717792108178749},{"$f":"+[1]datos!U154","v":91.962774957698812},{"$f":"+[1]datos!V154","v":101.6},{"$f":"+[1]datos!W154","v":65.876712887810001},{"$f":"+[1]datos!X154","v":177.5},{"$f":"+[1]datos!Y154","v":98.275862068965509},{"$f":"+[1]datos!Z154","v":98.4}]
[null,"Septiembre",{"$f":"+[1]datos!P155","v":59.324519709999997},{"$f":"+[1]datos!Q155","v":75.459999999999994},{"$f":"+[1]datos!R155","v":55.507412796384493},{"$f":"+[1]datos!S155","v":118.6},{"$f":"+[1]datos!T155","v":67.790000000000006},{"$f":"+[1]datos!AA155","v":34.024601573818927},{"$f":"+[1]datos!U155","v":92.216582064297796},{"$f":"+[1]datos!V155","v":101.4},{"$f":"+[1]datos!W155","v":66.489951356085001},{"$f":"+[1]datos!X155","v":178.3},{"$f":"+[1]datos!Y155","v":99.137931034482747},{"$f":"+[1]datos!Z155","v":98.6}]
[null,"Octubre",{"$f":"+[1]datos!P156","v":59.319210499999997},{"$f":"+[1]datos!Q156","v":74.459999999999994},{"$f":"+[1]datos!R156","v":55.922426879021131},{"$f":"+[1]datos!S156","v":118.8},{"$f":"+[1]datos!T156","v":67.91},{"$f":"+[1]datos!AA156","v":34.109826425385641},{"$f":"+[1]datos!U156","v":92.301184433164124},{"$f":"+[1]datos!V156","v":101.4},{"$f":"+[1]datos!W156","v":66.790457310723994},{"$f":"+[1]datos!X156","v":177.7},{"$f":"+[1]datos!Y156","v":99.137931034482747},{"$f":"+[1]datos!Z156","v":98.1}]
[null,"Noviembre",{"$f":"+[1]datos!P157","v":59.846673979999998},{"$f":"+[1]datos!Q157","v":75.42},{"$f":"+[1]datos!R157","v":56.313302343228585},{"$f":"+[1]datos!S157","v":119.4},{"$f":"+[1]datos!T157","v":68.23},{"$f":"+[1]datos!AA157","v":34.075736484758956},{"$f":"+[1]datos!U157","v":92.216582064297796},{"$f":"+[1]datos!V157","v":100.9},{"$f":"+[1]datos!W157","v":67.042057015577996},{"$f":"+[1]datos!X157","v":177.4},{"$f":"+[1]datos!Y157","v":98.706896551724128},{"$f":"+[1]datos!Z157","v":97.2}]
[null,"Diciembre",{"$f":"+[1]datos!P158","v":60.501109460000002},{"$f":"+[1]datos!Q158","v":74.599999999999994},{"$f":"+[1]datos!R158","v":56.643266460056822},{"$f":"+[1]datos!S158","v":119.8},{"$f":"+[1]datos!T158","v":68.260000000000005},{"$f":"+[1]datos!AA158","v":34.158120507940119},{"$f":"+[1]datos!U158","v":92.639593908629436},{"$f":"+[1]datos!V158","v":100.8},{"$f":"+[1]datos!W158","v":67.134902470813003},{"$f":"+[1]datos!X158","v":176.7},{"$f":"+[1]datos!Y158","v":98.362068965517224},{"$f":"+[1]datos!Z158","v":97.4}]
[2002,"Enero",{"$f":"+[1]datos!P159","v":61.17836681},{"$f":"+[1]datos!Q159","v":75.52},{"$f":"+[1]datos!R159","v":57.385159090909077},{"$f":"+[1]datos!S159","v":120.2},{"$f":"+[1]datos!T159","v":68.430000000000007},{"$f":"+[1]datos!AA159","v":34.351296838158007},{"$f":"+[1]datos!U159","v":92.724196277495764},{"$f":"+[1]datos!V159","v":100.6},{"$f":"+[1]datos!W159","v":67.754636301573001},{"$f":"+[1]datos!X159","v":177.1},{"$f":"+[1]datos!Y159","v":99.137931034482747},{"$f":"+[1]datos!Z159","v":97.6}]
[null,"Febrero",{"$f":"+[1]datos!P160","v":61.452341400000002},{"$f":"+[1]datos!Q160","v":75.760000000000005},{"$f":"+[1]datos!R160","v":57.891995150862058},{"$f":"+[1]datos!S160","v":121.5},{"$f":"+[1]datos!T160","v":68.98},{"$f":"+[1]datos!AA160","v":34.365500980085791},{"$f":"+[1]datos!U160","v":92.89340101522842},{"$f":"+[1]datos!V160","v":100.1},{"$f":"+[1]datos!W160","v":67.711079179107998},{"$f":"+[1]datos!X160","v":177.8},{"$f":"+[1]datos!Y160","v":99.051724137931032},{"$f":"+[1]datos!Z160","v":98.2}]
[null,"Marzo",{"$f":"+[1]datos!P161","v":61.932602889999998},{"$f":"+[1]datos!Q161","v":76.2},{"$f":"+[1]datos!R161","v":58.261708170850675},{"$f":"+[1]datos!S161","v":122.2},{"$f":"+[1]datos!T161","v":69.180000000000007},{"$f":"+[1]datos!AA161","v":34.757535297292691},{"$f":"+[1]datos!U161","v":93.401015228426402},{"$f":"+[1]datos!V161","v":100.3},{"$f":"+[1]datos!W161","v":68.057434733438001},{"$f":"+[1]datos!X161","v":178.8},{"$f":"+[1]datos!Y161","v":99.396551724137922},{"$f":"+[1]datos!Z161","v":98.9}]
[null,"Abril",{"$f":"+[1]datos!P162","v":62.040560569999997},{"$f":"+[1]datos!Q162","v":76.48},{"$f":"+[1]datos!R162","v":58.58409042439753},{"$f":"+[1]datos!S162","v":123.1},{"$f":"+[1]datos!T162","v":69.569999999999993},{"$f":"+[1]datos!AA162","v":34.993324053293946},{"$f":"+[1]datos!U162","v":93.824027072758042},{"$f":"+[1]datos!V162","v":100.6},{"$f":"+[1]datos!W162","v":68.429198616676004},{"$f":"+[1]datos!X162","v":179.8},{"$f":"+[1]datos!Y162","v":99.396551724137922},{"$f":"+[1]datos!Z162","v":99.5}]
[null,"Mayo",{"$f":"+[1]datos!P163","v":62.429679110000002},{"$f":"+[1]datos!Q163","v":76.459999999999994},{"$f":"+[1]datos!R163","v":58.791418049847877},{"$f":"+[1]datos!S163","v":123.7},{"$f":"+[1]datos!T163","v":69.89},{"$f":"+[1]datos!AA163","v":34.868327604329423},{"$f":"+[1]datos!U163","v":93.993231810490684},{"$f":"+[1]datos!V163","v":100.9},{"$f":"+[1]datos!W163","v":68.567893678497995},{"$f":"+[1]datos!X163","v":179.8},{"$f":"+[1]datos!Y163","v":99.224137931034477},{"$f":"+[1]datos!Z163","v":99.7}]
[null,"Junio",{"$f":"+[1]datos!P164","v":62.827130179999997},{"$f":"+[1]datos!Q164","v":76.959999999999994},{"$f":"+[1]datos!R164","v":59.130150284105966},{"$f":"+[1]datos!S164","v":125.1},{"$f":"+[1]datos!T164","v":70.010000000000005},{"$f":"+[1]datos!AA164","v":34.908099201727225},{"$f":"+[1]datos!U164","v":93.993231810490684},{"$f":"+[1]datos!V164","v":100.8},{"$f":"+[1]datos!W164","v":68.902213711873998},{"$f":"+[1]datos!X164","v":179.9},{"$f":"+[1]datos!Y164","v":99.310344827586206},{"$f":"+[1]datos!Z164","v":99.9}]
[null,"Julio",{"$f":"+[1]datos!P165","v":63.748524740000001},{"$f":"+[1]datos!Q165","v":77.09},{"$f":"+[1]datos!R165","v":59.61879647431833},{"$f":"+[1]datos!S165","v":126.1},{"$f":"+[1]datos!T165","v":70.12},{"$f":"+[1]datos!AA165","v":35.047299792619533},{"$f":"+[1]datos!U165","v":93.908629441624356},{"$f":"+[1]datos!V165","v":100.4},{"$f":"+[1]datos!W165","v":69.100011723086993},{"$f":"+[1]datos!X165","v":180.1},{"$f":"+[1]datos!Y165","v":99.482758620689665},{"$f":"+[1]datos!Z165","v":100.5}]
[null,"Agosto",{"$f":"+[1]datos!P166","v":64.504007619999996},{"$f":"+[1]datos!Q166","v":76.8},{"$f":"+[1]datos!R166","v":59.608109465891054},{"$f":"+[1]datos!S166","v":126.9},{"$f":"+[1]datos!T166","v":70.2},{"$f":"+[1]datos!AA166","v":35.359790915030821},{"$f":"+[1]datos!U166","v":93.908629441624356},{"$f":"+[1]datos!V166","v":100.7},{"$f":"+[1]datos!W166","v":69.362746788218999},{"$f":"+[1]datos!X166","v":180.7},{"$f":"+[1]datos!Y166","v":99.827586206896555},{"$f":"+[1]datos!Z166","v":100.9}]
[null,"Septiembre",{"$f":"+[1]datos!P167","v":64.760254619999998},{"$f":"+[1]datos!Q167","v":76.53},{"$f":"+[1]datos!R167","v":59.449567663775056},{"$f":"+[1]datos!S167","v":127.1},{"$f":"+[1]datos!T167","v":70.53},{"$f":"+[1]datos!AA167","v":35.856935882503336},{"$f":"+[1]datos!U167","v":94.16243654822334},{"$f":"+[1]datos!V167","v":100.7},{"$f":"+[1]datos!W167","v":69.779950763035004},{"$f":"+[1]datos!X167","v":181},{"$f":"+[1]datos!Y167","v":99.74137931034484},{"$f":"+[1]datos!Z167","v":100.9}]
[null,"Octubre",{"$f":"+[1]datos!P168","v":65.186372050000003},{"$f":"+[1]datos!Q168","v":76.63},{"$f":"+[1]datos!R168","v":59.614877644770687},{"$f":"+[1]datos!S168","v":127.8},{"$f":"+[1]datos!T168","v":70.58},{"$f":"+[1]datos!AA168","v":36.899519900002836},{"$f":"+[1]datos!U168","v":94.416243654822324},{"$f":"+[1]datos!V168","v":100.5},{"$f":"+[1]datos!W168","v":70.087509395709006},{"$f":"+[1]datos!X168","v":181.3},{"$f":"+[1]datos!Y168","v":100},{"$f":"+[1]datos!Z168","v":101.2}]
[null,"Noviembre",{"$f":"+[1]datos!P169","v":65.859734059999994},{"$f":"+[1]datos!Q169","v":76.48},{"$f":"+[1]datos!R169","v":59.886191030871551},{"$f":"+[1]datos!S169","v":128.6},{"$f":"+[1]datos!T169","v":70.44},{"$f":"+[1]datos!AA169","v":37.075651259907389},{"$f":"+[1]datos!U169","v":94.331641285955996},{"$f":"+[1]datos!V169","v":100.5},{"$f":"+[1]datos!W169","v":70.654355126781994},{"$f":"+[1]datos!X169","v":181.3},{"$f":"+[1]datos!Y169","v":100.1},{"$f":"+[1]datos!Z169","v":101.5}]
[null,"Diciembre",{"$f":"+[1]datos!P170","v":66.359402040000006},{"$f":"+[1]datos!Q170","v":76.69},{"$f":"+[1]datos!R170","v":60.226703296984489},{"$f":"+[1]datos!S170","v":129.5},{"$f":"+[1]datos!T170","v":70.900000000000006},{"$f":"+[1]datos!AA170","v":37.748927587284456},{"$f":"+[1]datos!U170","v":94.75465313028765},{"$f":"+[1]datos!V170","v":100.5},{"$f":"+[1]datos!W170","v":70.961913759455996},{"$f":"+[1]datos!X170","v":180.9},{"$f":"+[1]datos!Y170","v":99.9},{"$f":"+[1]datos!Z170","v":101.1}]
[2003,"Enero",{"$f":"+[1]datos!P171","v":66.789296820000004},{"$f":"+[1]datos!Q171","v":77.599999999999994},{"$f":"+[1]datos!R171","v":60.94247727272726},{"$f":"+[1]datos!S171","v":130.6},{"$f":"+[1]datos!T171","v":71.569999999999993},{"$f":"+[1]datos!AA171","v":38.990369591772961},{"$f":"+[1]datos!U171","v":94.670050761421308},{"$f":"+[1]datos!V171","v":100.2},{"$f":"+[1]datos!W171","v":71.248784591725993},{"$f":"+[1]datos!X171","v":181.7},{"$f":"+[1]datos!Y171","v":100.1},{"$f":"+[1]datos!Z171","v":102}]
[null,"Febrero",{"$f":"+[1]datos!P172","v":67.332193649999994},{"$f":"+[1]datos!Q172","v":77.790000000000006},{"$f":"+[1]datos!R172","v":61.366242995689639},{"$f":"+[1]datos!S172","v":132.30000000000001},{"$f":"+[1]datos!T172","v":72.62},{"$f":"+[1]datos!AA172","v":40.541461890287209},{"$f":"+[1]datos!U172","v":95.093062605752962},{"$f":"+[1]datos!V172","v":99.9},{"$f":"+[1]datos!W172","v":71.446697882259002},{"$f":"+[1]datos!X172","v":183.1},{"$f":"+[1]datos!Y172","v":100.1},{"$f":"+[1]datos!Z172","v":102.8}]
[null,"Marzo",{"$f":"+[1]datos!P173","v":67.768090169999994},{"$f":"+[1]datos!Q173","v":78.02},{"$f":"+[1]datos!R173","v":61.626460932302109},{"$f":"+[1]datos!S173","v":132.80000000000001},{"$f":"+[1]datos!T173","v":72.77},{"$f":"+[1]datos!AA173","v":41.260191471833188},{"$f":"+[1]datos!U173","v":95.685279187817258},{"$f":"+[1]datos!V173","v":100.2},{"$f":"+[1]datos!W173","v":71.897691931067996},{"$f":"+[1]datos!X173","v":184.2},{"$f":"+[1]datos!Y173","v":100.2},{"$f":"+[1]datos!Z173","v":103.1}]
[null,"Abril",{"$f":"+[1]datos!P174","v":68.420508260000005},{"$f":"+[1]datos!Q174","v":77.989999999999995},{"$f":"+[1]datos!R174","v":61.907530923437832},{"$f":"+[1]datos!S174","v":133.5},{"$f":"+[1]datos!T174","v":72.62},{"$f":"+[1]datos!AA174","v":41.379506264026588},{"$f":"+[1]datos!U174","v":95.769881556683586},{"$f":"+[1]datos!V174","v":100.5},{"$f":"+[1]datos!W174","v":72.020439546798997},{"$f":"+[1]datos!X174","v":183.8},{"$f":"+[1]datos!Y174","v":100.2},{"$f":"+[1]datos!Z174","v":102.4}]
[null,"Mayo",{"$f":"+[1]datos!P175","v":68.779588889999999},{"$f":"+[1]datos!Q175","v":77.89},{"$f":"+[1]datos!R175","v":62.062808880824015},{"$f":"+[1]datos!S175","v":133.69999999999999},{"$f":"+[1]datos!T175","v":73.17},{"$f":"+[1]datos!AA175","v":41.873810403113552},{"$f":"+[1]datos!U175","v":95.685279187817258},{"$f":"+[1]datos!V175","v":100.7},{"$f":"+[1]datos!W175","v":71.788046588927003},{"$f":"+[1]datos!X175","v":183.5},{"$f":"+[1]datos!Y175","v":100},{"$f":"+[1]datos!Z175","v":102.5}]
[null,"Junio",{"$f":"+[1]datos!P176","v":69.240427220000001},{"$f":"+[1]datos!Q176","v":78.150000000000006},{"$f":"+[1]datos!R176","v":62.229945302957866},{"$f":"+[1]datos!S176","v":134.1},{"$f":"+[1]datos!T176","v":73.98},{"$f":"+[1]datos!AA176","v":44.024317490980373},{"$f":"+[1]datos!U176","v":95.769881556683586},{"$f":"+[1]datos!V176","v":100.4},{"$f":"+[1]datos!W176","v":71.847351616751993},{"$f":"+[1]datos!X176","v":183.7},{"$f":"+[1]datos!Y176","v":100.1},{"$f":"+[1]datos!Z176","v":102.5}]
[null,"Julio",{"$f":"+[1]datos!P177","v":69.795933399999996},{"$f":"+[1]datos!Q177","v":77.86},{"$f":"+[1]datos!R177","v":62.390675270620804},{"$f":"+[1]datos!S177","v":134.6},{"$f":"+[1]datos!T177","v":73.92},{"$f":"+[1]datos!AA177","v":45.635067185591318},{"$f":"+[1]datos!U177","v":95.685279187817258},{"$f":"+[1]datos!V177","v":100.2},{"$f":"+[1]datos!W177","v":71.951480212118994},{"$f":"+[1]datos!X177","v":183.9},{"$f":"+[1]datos!Y177","v":100.2},{"$f":"+[1]datos!Z177","v":102.6}]
[null,"Agosto",{"$f":"+[1]datos!P178","v":70.085527220000003},{"$f":"+[1]datos!Q178","v":78.11},{"$f":"+[1]datos!R178","v":62.567451084082485},{"$f":"+[1]datos!S178","v":135.80000000000001},{"$f":"+[1]datos!T178","v":73.87},{"$f":"+[1]datos!AA178","v":47.032754751285481},{"$f":"+[1]datos!U178","v":95.8544839255499},{"$f":"+[1]datos!V178","v":100.4},{"$f":"+[1]datos!W178","v":72.167322929668003},{"$f":"+[1]datos!X178","v":184.6},{"$f":"+[1]datos!Y178","v":100.3},{"$f":"+[1]datos!Z178","v":102.9}]
[null,"Septiembre",{"$f":"+[1]datos!P179","v":70.177110260000006},{"$f":"+[1]datos!Q179","v":78.16},{"$f":"+[1]datos!R179","v":62.824842741527654},{"$f":"+[1]datos!S179","v":136.4},{"$f":"+[1]datos!T179","v":74.03},{"$f":"+[1]datos!AA179","v":47.740121019289226},{"$f":"+[1]datos!U179","v":96.192893401015226},{"$f":"+[1]datos!V179","v":100.5},{"$f":"+[1]datos!W179","v":72.596939584726996},{"$f":"+[1]datos!X179","v":185.2},{"$f":"+[1]datos!Y179","v":100.1},{"$f":"+[1]datos!Z179","v":103.1}]
[null,"Octubre",{"$f":"+[1]datos!P180","v":70.995970299999996},{"$f":"+[1]datos!Q180","v":78.41},{"$f":"+[1]datos!R180","v":63.094102380385415},{"$f":"+[1]datos!S180","v":137},{"$f":"+[1]datos!T180","v":74.319999999999993},{"$f":"+[1]datos!AA180","v":48.97872219539218},{"$f":"+[1]datos!U180","v":96.277495769881554},{"$f":"+[1]datos!V180","v":100.5},{"$f":"+[1]datos!W180","v":72.863122616593003},{"$f":"+[1]datos!X180","v":185},{"$f":"+[1]datos!Y180","v":99.8},{"$f":"+[1]datos!Z180","v":102.8}]
[null,"Noviembre",{"$f":"+[1]datos!P181","v":72.004282720000006},{"$f":"+[1]datos!Q181","v":78.459999999999994},{"$f":"+[1]datos!R181","v":63.381069048478651},{"$f":"+[1]datos!S181","v":137.9},{"$f":"+[1]datos!T181","v":74.930000000000007},{"$f":"+[1]datos!AA181","v":51.924661231215026},{"$f":"+[1]datos!U181","v":96.362098138747868},{"$f":"+[1]datos!V181","v":100},{"$f":"+[1]datos!W181","v":73.46789598174},{"$f":"+[1]datos!X181","v":184.5},{"$f":"+[1]datos!Y181","v":99.9},{"$f":"+[1]datos!Z181","v":103.1}]
[null,"Diciembre",{"$f":"+[1]datos!P182","v":72.90767151},{"$f":"+[1]datos!Q182","v":78.62},{"$f":"+[1]datos!R182","v":63.752929966704301},{"$f":"+[1]datos!S182","v":138.30000000000001},{"$f":"+[1]datos!T182","v":75.5},{"$f":"+[1]datos!AA182","v":53.850742876622824},{"$f":"+[1]datos!U182","v":96.615905245346866},{"$f":"+[1]datos!V182","v":100.1},{"$f":"+[1]datos!W182","v":73.783729734575999},{"$f":"+[1]datos!X182","v":184.3},{"$f":"+[1]datos!Y182","v":99.7},{"$f":"+[1]datos!Z182","v":103.2}]
[2004,"Enero",{"$f":"+[1]datos!P183","v":74.148863610000006},{"$f":"+[1]datos!Q183","v":79.489999999999995},{"$f":"+[1]datos!R183","v":64.728628787878762},{"$f":"+[1]datos!S183","v":139.6},{"$f":"+[1]datos!T183","v":76.69},{"$f":"+[1]datos!AA183","v":58.822192551347975},{"$f":"+[1]datos!U183","v":96.44670050761421},{"$f":"+[1]datos!V183","v":99.9},{"$f":"+[1]datos!W183","v":74.2423093102},{"$f":"+[1]datos!X183","v":185.2},{"$f":"+[1]datos!Y183","v":100.1},{"$f":"+[1]datos!Z183","v":103.3}]
[null,"Febrero",{"$f":"+[1]datos!P184","v":75.107274459999999},{"$f":"+[1]datos!Q184","v":79.84},{"$f":"+[1]datos!R184","v":65.209759698275846},{"$f":"+[1]datos!S184","v":141.19999999999999},{"$f":"+[1]datos!T184","v":77.650000000000006},{"$f":"+[1]datos!AA184","v":65.441322689696321},{"$f":"+[1]datos!U184","v":96.615905245346866},{"$f":"+[1]datos!V184","v":99.9},{"$f":"+[1]datos!W184","v":74.686407425541006},{"$f":"+[1]datos!X184","v":186.2},{"$f":"+[1]datos!Y184","v":100.1},{"$f":"+[1]datos!Z184","v":103.5}]
[null,"Marzo",{"$f":"+[1]datos!P185","v":75.454015949999999},{"$f":"+[1]datos!Q185","v":80.349999999999994},{"$f":"+[1]datos!R185","v":65.672485118406001},{"$f":"+[1]datos!S185","v":141.69999999999999},{"$f":"+[1]datos!T185","v":78.02},{"$f":"+[1]datos!AA185","v":66.97537001789722},{"$f":"+[1]datos!U185","v":97.29272419627749},{"$f":"+[1]datos!V185","v":100.1},{"$f":"+[1]datos!W185","v":74.939488183818},{"$f":"+[1]datos!X185","v":187.4},{"$f":"+[1]datos!Y185","v":99.9},{"$f":"+[1]datos!Z185","v":103.9}]
[null,"Abril",{"$f":"+[1]datos!P186","v":76.143403359999994},{"$f":"+[1]datos!Q186","v":81.03},{"$f":"+[1]datos!R186","v":66.026724781403288},{"$f":"+[1]datos!S186","v":143.19999999999999},{"$f":"+[1]datos!T186","v":78.67},{"$f":"+[1]datos!AA186","v":67.441265873128614},{"$f":"+[1]datos!U186","v":97.71573604060913},{"$f":"+[1]datos!V186","v":100.1},{"$f":"+[1]datos!W186","v":75.052581492694003},{"$f":"+[1]datos!X186","v":188},{"$f":"+[1]datos!Y186","v":99.9},{"$f":"+[1]datos!Z186","v":104.1}]
[null,"Mayo",{"$f":"+[1]datos!P187","v":76.653984109999996},{"$f":"+[1]datos!Q187","v":81.599999999999994},{"$f":"+[1]datos!R187","v":66.572023269466811},{"$f":"+[1]datos!S187","v":144.30000000000001},{"$f":"+[1]datos!T187","v":79.37},{"$f":"+[1]datos!AA187","v":69.213942785716313},{"$f":"+[1]datos!U187","v":98.05414551607447},{"$f":"+[1]datos!V187","v":100.2},{"$f":"+[1]datos!W187","v":74.864322509016006},{"$f":"+[1]datos!X187","v":189.1},{"$f":"+[1]datos!Y187","v":100.2},{"$f":"+[1]datos!Z187","v":105}]
[null,"Junio",{"$f":"+[1]datos!P188","v":77.471266880000002},{"$f":"+[1]datos!Q188","v":81.73},{"$f":"+[1]datos!R188","v":66.838029844405469},{"$f":"+[1]datos!S188","v":145.19999999999999},{"$f":"+[1]datos!T188","v":79.62},{"$f":"+[1]datos!AA188","v":70.591744552711575},{"$f":"+[1]datos!U188","v":98.05414551607447},{"$f":"+[1]datos!V188","v":100.4},{"$f":"+[1]datos!W188","v":74.984311751359996},{"$f":"+[1]datos!X188","v":189.7},{"$f":"+[1]datos!Y188","v":100.6},{"$f":"+[1]datos!Z188","v":105.1}]
[null,"Julio",{"$f":"+[1]datos!P189","v":78.47583607},{"$f":"+[1]datos!Q189","v":81.99},{"$f":"+[1]datos!R189","v":67.15435440272789},{"$f":"+[1]datos!S189","v":147.1},{"$f":"+[1]datos!T189","v":80.11},{"$f":"+[1]datos!AA189","v":71.026391295701828},{"$f":"+[1]datos!U189","v":97.884940778341786},{"$f":"+[1]datos!V189","v":100.1},{"$f":"+[1]datos!W189","v":75.180845855198996},{"$f":"+[1]datos!X189","v":189.4},{"$f":"+[1]datos!Y189","v":100.7},{"$f":"+[1]datos!Z189","v":105}]
[null,"Agosto",{"$f":"+[1]datos!P190","v":79.234224859999998},{"$f":"+[1]datos!Q190","v":82.17},{"$f":"+[1]datos!R190","v":67.357527763088299},{"$f":"+[1]datos!S190","v":147.6},{"$f":"+[1]datos!T190","v":80.290000000000006},{"$f":"+[1]datos!AA190","v":71.412743956137618},{"$f":"+[1]datos!U190","v":98.05414551607447},{"$f":"+[1]datos!V190","v":100.2},{"$f":"+[1]datos!W190","v":75.644942177597997},{"$f":"+[1]datos!X190","v":189.5},{"$f":"+[1]datos!Y190","v":101},{"$f":"+[1]datos!Z190","v":104.8}]
[null,"Septiembre",{"$f":"+[1]datos!P191","v":79.849491560000004},{"$f":"+[1]datos!Q191","v":82.34},{"$f":"+[1]datos!R191","v":67.879954260134028},{"$f":"+[1]datos!S191","v":147.80000000000001},{"$f":"+[1]datos!T191","v":80.77},{"$f":"+[1]datos!AA191","v":70.603107866253808},{"$f":"+[1]datos!U191","v":98.223350253807098},{"$f":"+[1]datos!V191","v":100.5},{"$f":"+[1]datos!W191","v":76.270403343148999},{"$f":"+[1]datos!X191","v":189.9},{"$f":"+[1]datos!Y191","v":100.8},{"$f":"+[1]datos!Z191","v":105}]
[null,"Octubre",{"$f":"+[1]datos!P192","v":80.448833719999996},{"$f":"+[1]datos!Q192","v":82.69},{"$f":"+[1]datos!R192","v":68.544367736027027},{"$f":"+[1]datos!S192","v":149.1},{"$f":"+[1]datos!T192","v":81.87},{"$f":"+[1]datos!AA192","v":71.554785375415477},{"$f":"+[1]datos!U192","v":98.56175972927241},{"$f":"+[1]datos!V192","v":101},{"$f":"+[1]datos!W192","v":76.798631846800006},{"$f":"+[1]datos!X192","v":190.9},{"$f":"+[1]datos!Y192","v":100.9},{"$f":"+[1]datos!Z192","v":105.2}]
[null,"Noviembre",{"$f":"+[1]datos!P193","v":81.574435159999993},{"$f":"+[1]datos!Q193","v":82.71},{"$f":"+[1]datos!R193","v":69.22666858983338},{"$f":"+[1]datos!S193","v":150.4},{"$f":"+[1]datos!T193","v":82.57},{"$f":"+[1]datos!AA193","v":70.373000767023669},{"$f":"+[1]datos!U193","v":98.477157360406096},{"$f":"+[1]datos!V193","v":100.8},{"$f":"+[1]datos!W193","v":77.453745526263006},{"$f":"+[1]datos!X193","v":191},{"$f":"+[1]datos!Y193","v":100.9},{"$f":"+[1]datos!Z193","v":105.6}]
[null,"Diciembre",{"$f":"+[1]datos!P194","v":82.479687940000005},{"$f":"+[1]datos!Q194","v":82.84},{"$f":"+[1]datos!R194","v":69.635175340528946},{"$f":"+[1]datos!S194","v":151},{"$f":"+[1]datos!T194","v":82.48},{"$f":"+[1]datos!AA194","v":69.327575921138603},{"$f":"+[1]datos!U194","v":98.90016920473775},{"$f":"+[1]datos!V194","v":100.3},{"$f":"+[1]datos!W194","v":77.613731182722006},{"$f":"+[1]datos!X194","v":190.3},{"$f":"+[1]datos!Y194","v":101.3},{"$f":"+[1]datos!Z194","v":105.4}]
[2005,"Enero",{"$f":"+[1]datos!P195","v":84.09676168},{"$f":"+[1]datos!Q195","v":84.03},{"$f":"+[1]datos!R195","v":70.579481060606042},{"$f":"+[1]datos!S195","v":152.19999999999999},{"$f":"+[1]datos!T195","v":82.97},{"$f":"+[1]datos!AA195","v":69.873014971165603},{"$f":"+[1]datos!U195","v":98.30795262267344},{"$f":"+[1]datos!V195","v":100.1},{"$f":"+[1]datos!W195","v":77.616489556109002},{"$f":"+[1]datos!X195","v":190.7},{"$f":"+[1]datos!Y195","v":101.7},{"$f":"+[1]datos!Z195","v":105.3}]
[null,"Febrero",{"$f":"+[1]datos!P196","v":85.016378570000001},{"$f":"+[1]datos!Q196","v":84.11},{"$f":"+[1]datos!R196","v":71.102458512931022},{"$f":"+[1]datos!S196","v":154},{"$f":"+[1]datos!T196","v":83.99},{"$f":"+[1]datos!AA196","v":69.901423255021172},{"$f":"+[1]datos!U196","v":98.646362098138738},{"$f":"+[1]datos!V196","v":99.8},{"$f":"+[1]datos!W196","v":77.875087061160002},{"$f":"+[1]datos!X196","v":191.8},{"$f":"+[1]datos!Y196","v":102.2},{"$f":"+[1]datos!Z196","v":105.7}]
[null,"Marzo",{"$f":"+[1]datos!P197","v":85.725492310000007},{"$f":"+[1]datos!Q197","v":84.17},{"$f":"+[1]datos!R197","v":71.429488683980551},{"$f":"+[1]datos!S197","v":155.19999999999999},{"$f":"+[1]datos!T197","v":84.81},{"$f":"+[1]datos!AA197","v":69.850288344081136},{"$f":"+[1]datos!U197","v":99.323181049069376},{"$f":"+[1]datos!V197","v":100.1},{"$f":"+[1]datos!W197","v":78.226090074683},{"$f":"+[1]datos!X197","v":193.3},{"$f":"+[1]datos!Y197","v":102.9},{"$f":"+[1]datos!Z197","v":106.3}]
[null,"Abril",{"$f":"+[1]datos!P198","v":86.546918539999993},{"$f":"+[1]datos!Q198","v":84.59},{"$f":"+[1]datos!R198","v":71.88825442525058},{"$f":"+[1]datos!S198","v":156.6},{"$f":"+[1]datos!T198","v":86.24},{"$f":"+[1]datos!AA198","v":70.069032129769042},{"$f":"+[1]datos!U198","v":99.74619289340103},{"$f":"+[1]datos!V198","v":100.2},{"$f":"+[1]datos!W198","v":78.504685786791995},{"$f":"+[1]datos!X198","v":194.6},{"$f":"+[1]datos!Y198","v":103.2},{"$f":"+[1]datos!Z198","v":106.6}]
[null,"Mayo",{"$f":"+[1]datos!P199","v":87.733976749999997},{"$f":"+[1]datos!Q199","v":85.2},{"$f":"+[1]datos!R199","v":72.246248065325275},{"$f":"+[1]datos!S199","v":157.19999999999999},{"$f":"+[1]datos!T199","v":86.96},{"$f":"+[1]datos!AA199","v":69.858810829237811},{"$f":"+[1]datos!U199","v":100},{"$f":"+[1]datos!V199","v":100.3},{"$f":"+[1]datos!W199","v":78.307462089606005},{"$f":"+[1]datos!X199","v":194.4},{"$f":"+[1]datos!Y199","v":102.9},{"$f":"+[1]datos!Z199","v":106.7}]
[null,"Junio",{"$f":"+[1]datos!P200","v":88.134698020000002},{"$f":"+[1]datos!Q200","v":85.23},{"$f":"+[1]datos!R200","v":72.720358982528779},{"$f":"+[1]datos!S200","v":158.30000000000001},{"$f":"+[1]datos!T200","v":87.59},{"$f":"+[1]datos!AA200","v":69.898582426635613},{"$f":"+[1]datos!U200","v":100.0846023688663},{"$f":"+[1]datos!V200","v":99.9},{"$f":"+[1]datos!W200","v":78.232296414803997},{"$f":"+[1]datos!X200","v":194.5},{"$f":"+[1]datos!Y200","v":103},{"$f":"+[1]datos!Z200","v":106.9}]
[null,"Julio",{"$f":"+[1]datos!P201","v":89.264991609999996},{"$f":"+[1]datos!Q201","v":85.37},{"$f":"+[1]datos!R201","v":73.400182609780956},{"$f":"+[1]datos!S201","v":159.69999999999999},{"$f":"+[1]datos!T201","v":88.32},{"$f":"+[1]datos!AA201","v":70.316184199312531},{"$f":"+[1]datos!U201","v":100},{"$f":"+[1]datos!V201","v":99.8},{"$f":"+[1]datos!W201","v":78.538475860784999},{"$f":"+[1]datos!X201","v":195.4},{"$f":"+[1]datos!Y201","v":103.4},{"$f":"+[1]datos!Z201","v":107.1}]
[null,"Agosto",{"$f":"+[1]datos!P202","v":90.380354299999993},{"$f":"+[1]datos!Q202","v":85.6},{"$f":"+[1]datos!R202","v":73.671483342147013},{"$f":"+[1]datos!S202","v":161},{"$f":"+[1]datos!T202","v":88.9},{"$f":"+[1]datos!AA202","v":71.256498394931967},{"$f":"+[1]datos!U202","v":100.25380710659901},{"$f":"+[1]datos!V202","v":99.9},{"$f":"+[1]datos!W202","v":78.632260555949998},{"$f":"+[1]datos!X202","v":196.4},{"$f":"+[1]datos!Y202","v":103.4},{"$f":"+[1]datos!Z202","v":107.5}]
[null,"Septiembre",{"$f":"+[1]datos!P203","v":90.535428429999996},{"$f":"+[1]datos!Q203","v":85.95},{"$f":"+[1]datos!R203","v":74.29245683466246},{"$f":"+[1]datos!S203","v":161.6},{"$f":"+[1]datos!T203","v":89.5},{"$f":"+[1]datos!AA203","v":73.580296014317781},{"$f":"+[1]datos!U203","v":100.76142131979699},{"$f":"+[1]datos!V203","v":100.2},{"$f":"+[1]datos!W203","v":78.947404715439006},{"$f":"+[1]datos!X203","v":198.8},{"$f":"+[1]datos!Y203","v":104.3},{"$f":"+[1]datos!Z203","v":108.4}]
[null,"Octubre",{"$f":"+[1]datos!P204","v":91.659737800000002},{"$f":"+[1]datos!Q204","v":87.59},{"$f":"+[1]datos!R204","v":75.597583176064205},{"$f":"+[1]datos!S204","v":161.69999999999999},{"$f":"+[1]datos!T204","v":90.33},{"$f":"+[1]datos!AA204","v":74.398454589358252},{"$f":"+[1]datos!U204","v":101.01522842639591},{"$f":"+[1]datos!V204","v":100.2},{"$f":"+[1]datos!W204","v":79.141180445890996},{"$f":"+[1]datos!X204","v":199.2},{"$f":"+[1]datos!Y204","v":104.9},{"$f":"+[1]datos!Z204","v":107.9}]
[null,"Noviembre",{"$f":"+[1]datos!P205","v":93.148550850000007},{"$f":"+[1]datos!Q205","v":86.47},{"$f":"+[1]datos!R205","v":75.628744244110635},{"$f":"+[1]datos!S205","v":162},{"$f":"+[1]datos!T205","v":90.07},{"$f":"+[1]datos!AA205","v":73.773472344535662},{"$f":"+[1]datos!U205","v":100.76142131979699},{"$f":"+[1]datos!V205","v":99.8},{"$f":"+[1]datos!W205","v":79.710784550350994},{"$f":"+[1]datos!X205","v":197.6},{"$f":"+[1]datos!Y205","v":104.3},{"$f":"+[1]datos!Z205","v":107.7}]
[null,"Diciembre",{"$f":"+[1]datos!P206","v":94.088667749999999},{"$f":"+[1]datos!Q206","v":86.37},{"$f":"+[1]datos!R206","v":75.600635503019575},{"$f":"+[1]datos!S206","v":162.69999999999999},{"$f":"+[1]datos!T206","v":90.39},{"$f":"+[1]datos!AA206","v":74.483679440924973},{"$f":"+[1]datos!U206","v":101.09983079526231},{"$f":"+[1]datos!V206","v":99.9},{"$f":"+[1]datos!W206","v":80.200395826581001},{"$f":"+[1]datos!X206","v":196.8},{"$f":"+[1]datos!Y206","v":104.7},{"$f":"+[1]datos!Z206","v":107.6}]
[2006,"Enero",{"$f":"+[1]datos!P207","v":95.193656469999993},{"$f":"+[1]datos!Q207","v":86.83},{"$f":"+[1]datos!R207","v":76.284712121212095},{"$f":"+[1]datos!S207","v":163.30000000000001},{"$f":"+[1]datos!T207","v":91.49},{"$f":"+[1]datos!AA207","v":75.637055765461213},{"$f":"+[1]datos!U207","v":100.6569650066628},{"$f":"+[1]datos!V207","v":100},{"$f":"+[1]datos!W207","v":80.670698489100999},{"$f":"+[1]datos!X207","v":198.3},{"$f":"+[1]datos!Y207","v":104.8},{"$f":"+[1]datos!Z207","v":108.2}]
[null,"Febrero",{"$f":"+[1]datos!P208","v":96.036596419999995},{"$f":"+[1]datos!Q208","v":87.26},{"$f":"+[1]datos!R208","v":76.267021551724127},{"$f":"+[1]datos!S208","v":164.44309999999999},{"$f":"+[1]datos!T208","v":92.8},{"$f":"+[1]datos!AA208","v":75.546149257123389},{"$f":"+[1]datos!U208","v":100.94547069626019},{"$f":"+[1]datos!V208","v":99.7},{"$f":"+[1]datos!W208","v":80.794135698179005},{"$f":"+[1]datos!X208","v":198.7},{"$f":"+[1]datos!Y208","v":104.6},{"$f":"+[1]datos!Z208","v":108}]
[null,"Marzo",{"$f":"+[1]datos!P209","v":96.198241899999999},{"$f":"+[1]datos!Q209","v":87.57},{"$f":"+[1]datos!R209","v":76.630033910335158},{"$f":"+[1]datos!S209","v":164.8},{"$f":"+[1]datos!T209","v":93.41},{"$f":"+[1]datos!AA209","v":75.617169966762319},{"$f":"+[1]datos!U209","v":101.5300769966191},{"$f":"+[1]datos!V209","v":99.9},{"$f":"+[1]datos!W209","v":80.895505920158996},{"$f":"+[1]datos!X209","v":199.8},{"$f":"+[1]datos!Y209","v":105},{"$f":"+[1]datos!Z209","v":108.6}]
[null,"Abril",{"$f":"+[1]datos!P210","v":96.611490079999996},{"$f":"+[1]datos!Q210","v":88.16},{"$f":"+[1]datos!R210","v":77.266090850927711},{"$f":"+[1]datos!S210","v":165.7},{"$f":"+[1]datos!T210","v":94.73},{"$f":"+[1]datos!AA210","v":76.066020851680349},{"$f":"+[1]datos!U210","v":102.20239458719581},{"$f":"+[1]datos!V210","v":100.1},{"$f":"+[1]datos!W210","v":81.014115975809005},{"$f":"+[1]datos!X210","v":201.5},{"$f":"+[1]datos!Y210","v":106.2},{"$f":"+[1]datos!Z210","v":109.2}]
[null,"Mayo",{"$f":"+[1]datos!P211","v":98.14274245},{"$f":"+[1]datos!Q211","v":88.27},{"$f":"+[1]datos!R211","v":77.748841863692149},{"$f":"+[1]datos!S211","v":166.8},{"$f":"+[1]datos!T211","v":95.58},{"$f":"+[1]datos!AA211","v":76.500667594670617},{"$f":"+[1]datos!U211","v":102.4816513852697},{"$f":"+[1]datos!V211","v":100.4},{"$f":"+[1]datos!W211","v":80.653458655430995},{"$f":"+[1]datos!X211","v":202.5},{"$f":"+[1]datos!Y211","v":106.1},{"$f":"+[1]datos!Z211","v":109.7}]
[null,"Junio",{"$f":"+[1]datos!P212","v":99.080907519999997},{"$f":"+[1]datos!Q212","v":89},{"$f":"+[1]datos!R212","v":78.212613244118714},{"$f":"+[1]datos!S212","v":167.3},{"$f":"+[1]datos!T212","v":95.91},{"$f":"+[1]datos!AA212","v":77.080196585324273},{"$f":"+[1]datos!U212","v":102.55895301813089},{"$f":"+[1]datos!V212","v":100.4},{"$f":"+[1]datos!W212","v":80.723107583458003},{"$f":"+[1]datos!X212","v":202.9},{"$f":"+[1]datos!Y212","v":106.3},{"$f":"+[1]datos!Z212","v":109.5}]
[null,"Julio",{"$f":"+[1]datos!P213","v":100},{"$f":"+[1]datos!Q213","v":90.11},{"$f":"+[1]datos!R213","v":78.564302018276962},{"$f":"+[1]datos!S213","v":168.2},{"$f":"+[1]datos!T213","v":96.42},{"$f":"+[1]datos!AA213","v":77.770517883014691},{"$f":"+[1]datos!U213","v":102.4299138457985},{"$f":"+[1]datos!V213","v":100.1},{"$f":"+[1]datos!W213","v":80.944467047781998},{"$f":"+[1]datos!X213","v":203.5},{"$f":"+[1]datos!Y213","v":106.3},{"$f":"+[1]datos!Z213","v":109.6}]
[null,"Agosto",{"$f":"+[1]datos!P214","v":100.87717133},{"$f":"+[1]datos!Q214","v":89.63},{"$f":"+[1]datos!R214","v":78.825626652564779},{"$f":"+[1]datos!S214","v":168.8},{"$f":"+[1]datos!T214","v":96.59},{"$f":"+[1]datos!AA214","v":77.918240959063652},{"$f":"+[1]datos!U214","v":102.5222239377169},{"$f":"+[1]datos!V214","v":100.8},{"$f":"+[1]datos!W214","v":81.357533462516997},{"$f":"+[1]datos!X214","v":203.9},{"$f":"+[1]datos!Y214","v":106.4},{"$f":"+[1]datos!Z214","v":109.8}]
[null,"Septiembre",{"$f":"+[1]datos!P215","v":100.71},{"$f":"+[1]datos!Q215","v":89.59},{"$f":"+[1]datos!R215","v":78.525852694894553},{"$f":"+[1]datos!S215","v":168.8},{"$f":"+[1]datos!T215","v":96.2},{"$f":"+[1]datos!AA215","v":77.060310786625379},{"$f":"+[1]datos!U215","v":102.5245322582701},{"$f":"+[1]datos!V215","v":100.8},{"$f":"+[1]datos!W215","v":82.178839138559994},{"$f":"+[1]datos!X215","v":202.9},{"$f":"+[1]datos!Y215","v":106},{"$f":"+[1]datos!Z215","v":109.2}]
[null,"Octubre",{"$f":"+[1]datos!P216","v":100.9},{"$f":"+[1]datos!Q216","v":89.24},{"$f":"+[1]datos!R216","v":78.508784168669493},{"$f":"+[1]datos!S216","v":169},{"$f":"+[1]datos!T216","v":96.63},{"$f":"+[1]datos!AA216","v":77.139853981420998},{"$f":"+[1]datos!U216","v":102.6047843032501},{"$f":"+[1]datos!V216","v":100.6},{"$f":"+[1]datos!W216","v":82.538117272245003},{"$f":"+[1]datos!X216","v":201.8},{"$f":"+[1]datos!Y216","v":106.3},{"$f":"+[1]datos!Z216","v":109}]
[null,"Noviembre",{"$f":"+[1]datos!P217","v":101.93},{"$f":"+[1]datos!Q217","v":89.8},{"$f":"+[1]datos!R217","v":78.957199498974546},{"$f":"+[1]datos!S217","v":169.9},{"$f":"+[1]datos!T217","v":97.36},{"$f":"+[1]datos!AA217","v":77.634158120507934},{"$f":"+[1]datos!U217","v":102.64297018315021},{"$f":"+[1]datos!V217","v":100.1},{"$f":"+[1]datos!W217","v":82.971181894037002},{"$f":"+[1]datos!X217","v":201.5},{"$f":"+[1]datos!Y217","v":106.4},{"$f":"+[1]datos!Z217","v":109.2}]
[null,"Diciembre",{"$f":"+[1]datos!P218","v":102.96},{"$f":"+[1]datos!Q218","v":90.59},{"$f":"+[1]datos!R218","v":79.97981375656542},{"$f":"+[1]datos!S218","v":171.3},{"$f":"+[1]datos!T218","v":98.93},{"$f":"+[1]datos!AA218","v":78.208005454390502},{"$f":"+[1]datos!U218","v":103.04087855674641},{"$f":"+[1]datos!V218","v":100.2},{"$f":"+[1]datos!W218","v":83.451138863411998},{"$f":"+[1]datos!X218","v":201.8},{"$f":"+[1]datos!Y218","v":107},{"$f":"+[1]datos!Z218","v":109.4}]
[2007,"Enero",{"$f":"+[1]datos!P219","v":103.94515},{"$f":"+[1]datos!Q219","v":91.64},{"$f":"+[1]datos!R219","v":81.033003787878769},{"$f":"+[1]datos!S219","v":172.4},{"$f":"+[1]datos!T219","v":99.8},{"$f":"+[1]datos!AA219","v":78.938098349478707},{"$f":"+[1]datos!U219","v":102.51266645176599},{"$f":"+[1]datos!V219","v":100},{"$f":"+[1]datos!W219","v":83.882134705164006},{"$f":"+[1]datos!X219","v":202.416},{"$f":"+[1]datos!Y219","v":107.2},{"$f":"+[1]datos!Z219","v":109.4}]
[null,"Febrero",{"$f":"+[1]datos!P220","v":104.31242},{"$f":"+[1]datos!Q220","v":91.44},{"$f":"+[1]datos!R220","v":81.317163254310344},{"$f":"+[1]datos!S220","v":173.9807998},{"$f":"+[1]datos!T220","v":100.98},{"$f":"+[1]datos!AA220","v":79.17956876225108},{"$f":"+[1]datos!U220","v":102.8120417532367},{"$f":"+[1]datos!V220","v":99.5},{"$f":"+[1]datos!W220","v":84.116596443077995},{"$f":"+[1]datos!X220","v":203.499},{"$f":"+[1]datos!Y220","v":107.5},{"$f":"+[1]datos!Z220","v":110.2}]
[null,"Marzo",{"$f":"+[1]datos!P221","v":105.06628000000001},{"$f":"+[1]datos!Q221","v":92},{"$f":"+[1]datos!R221","v":82.012598219612187},{"$f":"+[1]datos!S221","v":175.2},{"$f":"+[1]datos!T221","v":102.11},{"$f":"+[1]datos!AA221","v":79.80455100707367},{"$f":"+[1]datos!U221","v":103.4969067071754},{"$f":"+[1]datos!V221","v":99.8},{"$f":"+[1]datos!W221","v":84.298649086634001},{"$f":"+[1]datos!X221","v":205.352},{"$f":"+[1]datos!Y221","v":108.4},{"$f":"+[1]datos!Z221","v":111.1}]
[null,"Abril",{"$f":"+[1]datos!P222","v":106.03765},{"$f":"+[1]datos!Q222","v":92.07},{"$f":"+[1]datos!R222","v":82.2122440818938},{"$f":"+[1]datos!S222","v":176.2},{"$f":"+[1]datos!T222","v":103.14},{"$f":"+[1]datos!AA222","v":80.452259878980712},{"$f":"+[1]datos!U222","v":104.15131928669459},{"$f":"+[1]datos!V222","v":100.1},{"$f":"+[1]datos!W222","v":84.248308772317003},{"$f":"+[1]datos!X222","v":206.68600000000001},{"$f":"+[1]datos!Y222","v":109.1},{"$f":"+[1]datos!Z222","v":111.6}]
[null,"Mayo",{"$f":"+[1]datos!P223","v":107.14167999999999},{"$f":"+[1]datos!Q223","v":91.69},{"$f":"+[1]datos!R223","v":81.998009286438588},{"$f":"+[1]datos!S223","v":176.9},{"$f":"+[1]datos!T223","v":103.93},{"$f":"+[1]datos!AA223","v":81.307349223033441},{"$f":"+[1]datos!U223","v":104.39635605343329},{"$f":"+[1]datos!V223","v":100.4},{"$f":"+[1]datos!W223","v":83.837311137621995},{"$f":"+[1]datos!X223","v":207.94900000000001},{"$f":"+[1]datos!Y223","v":109.7},{"$f":"+[1]datos!Z223","v":112.1}]
[null,"Junio",{"$f":"+[1]datos!P224","v":107.75123000000001},{"$f":"+[1]datos!Q224","v":92.3},{"$f":"+[1]datos!R224","v":82.368210928787619},{"$f":"+[1]datos!S224","v":177.6},{"$f":"+[1]datos!T224","v":104.98},{"$f":"+[1]datos!AA224","v":81.63404448737252},{"$f":"+[1]datos!U224","v":104.50132147640511},{"$f":"+[1]datos!V224","v":100.2},{"$f":"+[1]datos!W224","v":83.937991766254996},{"$f":"+[1]datos!X224","v":208.352},{"$f":"+[1]datos!Y224","v":110.2},{"$f":"+[1]datos!Z224","v":111.9}]
[null,"Julio",{"$f":"+[1]datos!P225","v":108.75239999999999},{"$f":"+[1]datos!Q225","v":92.96},{"$f":"+[1]datos!R225","v":82.953543489345066},{"$f":"+[1]datos!S225","v":178.8},{"$f":"+[1]datos!T225","v":105.83},{"$f":"+[1]datos!AA225","v":81.844265787903765},{"$f":"+[1]datos!U225","v":104.24539979681299},{"$f":"+[1]datos!V225","v":100.1},{"$f":"+[1]datos!W225","v":84.294511526552995},{"$f":"+[1]datos!X225","v":208.29900000000001},{"$f":"+[1]datos!Y225","v":110.7},{"$f":"+[1]datos!Z225","v":112}]
[null,"Agosto",{"$f":"+[1]datos!P226","v":109.515},{"$f":"+[1]datos!Q226","v":92.82},{"$f":"+[1]datos!R226","v":83.719722369116866},{"$f":"+[1]datos!S226","v":180.1},{"$f":"+[1]datos!T226","v":106.12},{"$f":"+[1]datos!AA226","v":81.318712536575674},{"$f":"+[1]datos!U226","v":104.313524143571},{"$f":"+[1]datos!V226","v":100.6},{"$f":"+[1]datos!W226","v":84.637929013261001},{"$f":"+[1]datos!X226","v":207.917},{"$f":"+[1]datos!Y226","v":110.9},{"$f":"+[1]datos!Z226","v":111.7}]
[null,"Septiembre",{"$f":"+[1]datos!P227","v":110.20844},{"$f":"+[1]datos!Q227","v":93.45},{"$f":"+[1]datos!R227","v":84.28306303552958},{"$f":"+[1]datos!S227","v":180.8},{"$f":"+[1]datos!T227","v":107.32},{"$f":"+[1]datos!AA227","v":82.310161643135146},{"$f":"+[1]datos!U227","v":104.7057035375456},{"$f":"+[1]datos!V227","v":100.6},{"$f":"+[1]datos!W227","v":85.295111472765001},{"$f":"+[1]datos!X227","v":208.49},{"$f":"+[1]datos!Y227","v":111.5},{"$f":"+[1]datos!Z227","v":111.9}]
[null,"Octubre",{"$f":"+[1]datos!P228","v":110.83695},{"$f":"+[1]datos!Q228","v":94.11},{"$f":"+[1]datos!R228","v":84.56752380542757},{"$f":"+[1]datos!S228","v":183},{"$f":"+[1]datos!T228","v":109.53},{"$f":"+[1]datos!AA228","v":82.702195960342038},{"$f":"+[1]datos!U228","v":105.2179805342183},{"$f":"+[1]datos!V228","v":100.9},{"$f":"+[1]datos!W228","v":85.627495465924},{"$f":"+[1]datos!X228","v":208.93600000000001},{"$f":"+[1]datos!Y228","v":112.1},{"$f":"+[1]datos!Z228","v":111.6}]
[null,"Noviembre",{"$f":"+[1]datos!P229","v":112.21276},{"$f":"+[1]datos!Q229","v":95.39},{"$f":"+[1]datos!R229","v":86.165385410289176},{"$f":"+[1]datos!S229","v":186.2},{"$f":"+[1]datos!T229","v":114.24},{"$f":"+[1]datos!AA229","v":84.190790034374032},{"$f":"+[1]datos!U229","v":105.78228195125079},{"$f":"+[1]datos!V229","v":100.7},{"$f":"+[1]datos!W229","v":86.231579237724006},{"$f":"+[1]datos!X229","v":210.17699999999999},{"$f":"+[1]datos!Y229","v":113.3},{"$f":"+[1]datos!Z229","v":111.9}]
[null,"Diciembre",{"$f":"+[1]datos!P230","v":114.09059000000001},{"$f":"+[1]datos!Q230","v":94.99},{"$f":"+[1]datos!R230","v":86.975056928797201},{"$f":"+[1]datos!S230","v":186.5},{"$f":"+[1]datos!T230","v":115.62},{"$f":"+[1]datos!AA230","v":85.150990028692377},{"$f":"+[1]datos!U230","v":106.20295577274649},{"$f":"+[1]datos!V230","v":100.9},{"$f":"+[1]datos!W230","v":86.588098998020996},{"$f":"+[1]datos!X230","v":210.036},{"$f":"+[1]datos!Y230","v":113.8},{"$f":"+[1]datos!Z230","v":112}]
[2008,"Enero",{"$f":"+[1]datos!P231","v":114.92455},{"$f":"+[1]datos!Q231","v":95.99},{"$f":"+[1]datos!R231","v":87.830393939393915},{"$f":"+[1]datos!S231","v":187.7},{"$f":"+[1]datos!T231","v":117.05},{"$f":"+[1]datos!AA231","v":86.079940910769579},{"$f":"+[1]datos!U231","v":105.7968223315052},{"$f":"+[1]datos!V231","v":100.7},{"$f":"+[1]datos!W231","v":86.989442325859997},{"$f":"+[1]datos!X231","v":211.08},{"$f":"+[1]datos!Y231","v":115.4},{"$f":"+[1]datos!Z231","v":111.8}]
[null,"Febrero",{"$f":"+[1]datos!P232","v":116.2032},{"$f":"+[1]datos!Q232","v":96.76},{"$f":"+[1]datos!R232","v":88.442491918103457},{"$f":"+[1]datos!S232","v":189.7},{"$f":"+[1]datos!T232","v":119.51},{"$f":"+[1]datos!AA232","v":86.051532626914025},{"$f":"+[1]datos!U232","v":106.16661539687},{"$f":"+[1]datos!V232","v":100.5},{"$f":"+[1]datos!W232","v":87.248039830912006},{"$f":"+[1]datos!X232","v":211.69300000000001},{"$f":"+[1]datos!Y232","v":116.5},{"$f":"+[1]datos!Z232","v":112.2}]
[null,"Marzo",{"$f":"+[1]datos!P233","v":116.6609},{"$f":"+[1]datos!Q233","v":97.51},{"$f":"+[1]datos!R233","v":89.475380619431064},{"$f":"+[1]datos!S233","v":191.4},{"$f":"+[1]datos!T233","v":121.42},{"$f":"+[1]datos!AA233","v":87.523081730632654},{"$f":"+[1]datos!U233","v":107.20854797667151},{"$f":"+[1]datos!V233","v":101},{"$f":"+[1]datos!W233","v":87.880396929930001},{"$f":"+[1]datos!X233","v":213.52799999999999},{"$f":"+[1]datos!Y233","v":117.9},{"$f":"+[1]datos!Z233","v":112.6}]
[null,"Abril",{"$f":"+[1]datos!P234","v":117.64476999999999},{"$f":"+[1]datos!Q234","v":98.32},{"$f":"+[1]datos!R234","v":90.736686926850098},{"$f":"+[1]datos!S234","v":193.3},{"$f":"+[1]datos!T234","v":123.1},{"$f":"+[1]datos!AA234","v":89.167921365870285},{"$f":"+[1]datos!U234","v":107.5544689727993},{"$f":"+[1]datos!V234","v":100.9},{"$f":"+[1]datos!W234","v":88.080379000503001},{"$f":"+[1]datos!X234","v":214.82300000000001},{"$f":"+[1]datos!Y234","v":118.4},{"$f":"+[1]datos!Z234","v":113.5}]
[null,"Mayo",{"$f":"+[1]datos!P235","v":119.88699},{"$f":"+[1]datos!Q235","v":99.39},{"$f":"+[1]datos!R235","v":92.035822170037889},{"$f":"+[1]datos!S235","v":196.8},{"$f":"+[1]datos!T235","v":126.53},{"$f":"+[1]datos!AA235","v":89.46620834635381},{"$f":"+[1]datos!U235","v":108.2275001217007},{"$f":"+[1]datos!V235","v":101.7},{"$f":"+[1]datos!W235","v":87.985215118645002},{"$f":"+[1]datos!X235","v":216.63200000000001},{"$f":"+[1]datos!Y235","v":119.4},{"$f":"+[1]datos!Z235","v":114.6}]
[null,"Junio",{"$f":"+[1]datos!P236","v":121.56274000000001},{"$f":"+[1]datos!Q236","v":100.63},{"$f":"+[1]datos!R236","v":93.534754394349733},{"$f":"+[1]datos!S236","v":199.2},{"$f":"+[1]datos!T236","v":129.22},{"$f":"+[1]datos!AA236","v":91.596829635521729},{"$f":"+[1]datos!U236","v":108.64006130767699},{"$f":"+[1]datos!V236","v":102.2},{"$f":"+[1]datos!W236","v":88.349320405756998},{"$f":"+[1]datos!X236","v":218.815},{"$f":"+[1]datos!Y236","v":120.8},{"$f":"+[1]datos!Z236","v":115.4}]
[null,"Julio",{"$f":"+[1]datos!P237","v":124.16240000000001},{"$f":"+[1]datos!Q237","v":101.92},{"$f":"+[1]datos!R237","v":94.696324581373233},{"$f":"+[1]datos!S237","v":203.4},{"$f":"+[1]datos!T237","v":130.84},{"$f":"+[1]datos!AA237","v":93.079742052782592},{"$f":"+[1]datos!U237","v":108.47414128081719},{"$f":"+[1]datos!V237","v":102.4},{"$f":"+[1]datos!W237","v":88.841690055374002},{"$f":"+[1]datos!X237","v":219.964},{"$f":"+[1]datos!Y237","v":121.3},{"$f":"+[1]datos!Z237","v":115.8}]
[null,"Agosto",{"$f":"+[1]datos!P238","v":126.3832},{"$f":"+[1]datos!Q238","v":102},{"$f":"+[1]datos!R238","v":95.177419354838705},{"$f":"+[1]datos!S238","v":205.3},{"$f":"+[1]datos!T238","v":131.5},{"$f":"+[1]datos!AA238","v":93.164966904349313},{"$f":"+[1]datos!U238","v":108.3186060235557},{"$f":"+[1]datos!V238","v":102.7},{"$f":"+[1]datos!W238","v":89.354747505396006},{"$f":"+[1]datos!X238","v":219.08600000000001},{"$f":"+[1]datos!Y238","v":121.8},{"$f":"+[1]datos!Z238","v":115.6}]
[null,"Septiembre",{"$f":"+[1]datos!P239","v":127.58481},{"$f":"+[1]datos!Q239","v":101.56},{"$f":"+[1]datos!R239","v":95.027775378575626},{"$f":"+[1]datos!S239","v":205.6},{"$f":"+[1]datos!T239","v":131.78},{"$f":"+[1]datos!AA239","v":94.309820743728878},{"$f":"+[1]datos!U239","v":108.5216068103184},{"$f":"+[1]datos!V239","v":102.7},{"$f":"+[1]datos!W239","v":89.963658430622999},{"$f":"+[1]datos!X239","v":218.78299999999999},{"$f":"+[1]datos!Y239","v":122.7},{"$f":"+[1]datos!Z239","v":115.7}]
[null,"Octubre",{"$f":"+[1]datos!P240","v":128.90762000000001},{"$f":"+[1]datos!Q240","v":101.08},{"$f":"+[1]datos!R240","v":95.499258325998781},{"$f":"+[1]datos!S240","v":206.9},{"$f":"+[1]datos!T240","v":131.75},{"$f":"+[1]datos!AA240","v":93.324053293940509},{"$f":"+[1]datos!U240","v":108.5468635011982},{"$f":"+[1]datos!V240","v":102.6},{"$f":"+[1]datos!W240","v":90.576706915931993},{"$f":"+[1]datos!X240","v":216.57300000000001},{"$f":"+[1]datos!Y240","v":122.7},{"$f":"+[1]datos!Z240","v":114.5}]
[null,"Noviembre",{"$f":"+[1]datos!P241","v":130.50059999999999},{"$f":"+[1]datos!Q241","v":100.44},{"$f":"+[1]datos!R241","v":95.511063680586716},{"$f":"+[1]datos!S241","v":206.5},{"$f":"+[1]datos!T241","v":131.86000000000001},{"$f":"+[1]datos!AA241","v":90.264481122695386},{"$f":"+[1]datos!U241","v":108.0224531878176},{"$f":"+[1]datos!V241","v":101.7},{"$f":"+[1]datos!W241","v":91.606269782709006},{"$f":"+[1]datos!X241","v":212.42500000000001},{"$f":"+[1]datos!Y241","v":122},{"$f":"+[1]datos!Z241","v":114.1}]
[null,"Diciembre",{"$f":"+[1]datos!P242","v":129.95185000000001},{"$f":"+[1]datos!Q242","v":100.19},{"$f":"+[1]datos!R242","v":95.150909915227217},{"$f":"+[1]datos!S242","v":206.7},{"$f":"+[1]datos!T242","v":131.55000000000001},{"$f":"+[1]datos!AA242","v":88.997471662736857},{"$f":"+[1]datos!U242","v":107.88163654359299},{"$f":"+[1]datos!V242","v":101.3},{"$f":"+[1]datos!W242","v":92.240695661768001},{"$f":"+[1]datos!X242","v":210.22800000000001},{"$f":"+[1]datos!Y242","v":121.5},{"$f":"+[1]datos!Z242","v":113.3}]
[2009,"Enero",{"$f":"+[1]datos!P243","v":130.44047},{"$f":"+[1]datos!Q243","v":99.65},{"$f":"+[1]datos!R243","v":94.752602272727259},{"$f":"+[1]datos!S243","v":206.6},{"$f":"+[1]datos!T243","v":131.63},{"$f":"+[1]datos!AA243","v":89.247464560665904},{"$f":"+[1]datos!U243","v":106.98170731182529},{"$f":"+[1]datos!V243","v":100.7},{"$f":"+[1]datos!W243","v":92.454469599277004},{"$f":"+[1]datos!X243","v":211.143},{"$f":"+[1]datos!Y243","v":121.1},{"$f":"+[1]datos!Z243","v":113}]
[null,"Febrero",{"$f":"+[1]datos!P244","v":131.01728},{"$f":"+[1]datos!Q244","v":99.53},{"$f":"+[1]datos!R244","v":94.189563577586213},{"$f":"+[1]datos!S244","v":208.2},{"$f":"+[1]datos!T244","v":132.38999999999999},{"$f":"+[1]datos!AA244","v":89.520184085679389},{"$f":"+[1]datos!U244","v":107.4183059987876},{"$f":"+[1]datos!V244","v":100.4},{"$f":"+[1]datos!W244","v":92.658589229930996},{"$f":"+[1]datos!X244","v":212.19300000000001},{"$f":"+[1]datos!Y244","v":121.5},{"$f":"+[1]datos!Z244","v":113.8}]
[null,"Marzo",{"$f":"+[1]datos!P245","v":131.03576373000001},{"$f":"+[1]datos!Q245","v":100},{"$f":"+[1]datos!R245","v":93.947849514096035},{"$f":"+[1]datos!S245","v":208.2},{"$f":"+[1]datos!T245","v":131.69},{"$f":"+[1]datos!AA245","v":89.65938467657169},{"$f":"+[1]datos!U245","v":107.82161392428129},{"$f":"+[1]datos!V245","v":100.7},{"$f":"+[1]datos!W245","v":93.19164488701},{"$f":"+[1]datos!X245","v":212.709},{"$f":"+[1]datos!Y245","v":122.3},{"$f":"+[1]datos!Z245","v":114}]
[null,"Abril",{"$f":"+[1]datos!P246","v":131.46889458999999},{"$f":"+[1]datos!Q246","v":100.08},{"$f":"+[1]datos!R246","v":94.023720409468979},{"$f":"+[1]datos!S246","v":208.9},{"$f":"+[1]datos!T246","v":131.57},{"$f":"+[1]datos!AA246","v":89.787221953921772},{"$f":"+[1]datos!U246","v":108.2111352961419},{"$f":"+[1]datos!V246","v":100.8},{"$f":"+[1]datos!W246","v":93.517822540048002},{"$f":"+[1]datos!X246","v":213.24},{"$f":"+[1]datos!Y246","v":122.8},{"$f":"+[1]datos!Z246","v":113.9}]
[null,"Mayo",{"$f":"+[1]datos!P247","v":131.30469880999999},{"$f":"+[1]datos!Q247","v":100.36},{"$f":"+[1]datos!R247","v":94.14740353311629},{"$f":"+[1]datos!S247","v":208.9},{"$f":"+[1]datos!T247","v":131.71},{"$f":"+[1]datos!AA247","v":89.889491775801829},{"$f":"+[1]datos!U247","v":108.2660359152878},{"$f":"+[1]datos!V247","v":100.6},{"$f":"+[1]datos!W247","v":93.245433168060998},{"$f":"+[1]datos!X247","v":213.85599999999999},{"$f":"+[1]datos!Y247","v":122.4},{"$f":"+[1]datos!Z247","v":114.7}]
[null,"Junio",{"$f":"+[1]datos!P248","v":131.52611295},{"$f":"+[1]datos!Q248","v":100.4},{"$f":"+[1]datos!R248","v":94.112065211619125},{"$f":"+[1]datos!S248","v":210},{"$f":"+[1]datos!T248","v":131.75},{"$f":"+[1]datos!AA248","v":91.832618391522971},{"$f":"+[1]datos!U248","v":108.4848352939317},{"$f":"+[1]datos!V248","v":100.4},{"$f":"+[1]datos!W248","v":93.417141911415001},{"$f":"+[1]datos!X248","v":215.69300000000001},{"$f":"+[1]datos!Y248","v":123},{"$f":"+[1]datos!Z248","v":115.1}]
[null,"Julio",{"$f":"+[1]datos!P249","v":132.73299417999999},{"$f":"+[1]datos!Q249","v":99.99},{"$f":"+[1]datos!R249","v":94.410295812524012},{"$f":"+[1]datos!S249","v":211.5},{"$f":"+[1]datos!T249","v":130.94},{"$f":"+[1]datos!AA249","v":91.943410698559703},{"$f":"+[1]datos!U249","v":107.76945201970861},{"$f":"+[1]datos!V249","v":100.1},{"$f":"+[1]datos!W249","v":93.671601856384996},{"$f":"+[1]datos!X249","v":215.351},{"$f":"+[1]datos!Y249","v":123.6},{"$f":"+[1]datos!Z249","v":114.7}]
[null,"Agosto",{"$f":"+[1]datos!P250","v":133.60177593},{"$f":"+[1]datos!Q250","v":99.8},{"$f":"+[1]datos!R250","v":94.480491803278682},{"$f":"+[1]datos!S250","v":211.7},{"$f":"+[1]datos!T250","v":131.34},{"$f":"+[1]datos!AA250","v":92.727479332973502},{"$f":"+[1]datos!U250","v":108.13887980809031},{"$f":"+[1]datos!V250","v":100.4},{"$f":"+[1]datos!W250","v":93.895719694096002},{"$f":"+[1]datos!X250","v":215.834},{"$f":"+[1]datos!Y250","v":124},{"$f":"+[1]datos!Z250","v":114.7}]
[null,"Septiembre",{"$f":"+[1]datos!P251","v":133.75203887000001},{"$f":"+[1]datos!Q251","v":99.73},{"$f":"+[1]datos!R251","v":95.058979770665786},{"$f":"+[1]datos!S251","v":211.9},{"$f":"+[1]datos!T251","v":131.79},{"$f":"+[1]datos!AA251","v":92.829749154853559},{"$f":"+[1]datos!U251","v":108.1637585826705},{"$f":"+[1]datos!V251","v":100.4},{"$f":"+[1]datos!W251","v":94.366711949963005},{"$f":"+[1]datos!X251","v":215.96899999999999},{"$f":"+[1]datos!Y251","v":123.3},{"$f":"+[1]datos!Z251","v":114.7}]
[null,"Octubre",{"$f":"+[1]datos!P252","v":134.06411009000001},{"$f":"+[1]datos!Q252","v":99.03},{"$f":"+[1]datos!R252","v":94.875182140238294},{"$f":"+[1]datos!S252","v":212.4},{"$f":"+[1]datos!T252","v":132.31},{"$f":"+[1]datos!AA252","v":93.042811283770348},{"$f":"+[1]datos!U252","v":108.4135088665475},{"$f":"+[1]datos!V252","v":100},{"$f":"+[1]datos!W252","v":94.652203595540001},{"$f":"+[1]datos!X252","v":216.17699999999999},{"$f":"+[1]datos!Y252","v":123.6},{"$f":"+[1]datos!Z252","v":114.6}]
[null,"Noviembre",{"$f":"+[1]datos!P253","v":133.84996161000001},{"$f":"+[1]datos!Q253","v":100.41},{"$f":"+[1]datos!R253","v":94.928584010985531},{"$f":"+[1]datos!S253","v":212.9},{"$f":"+[1]datos!T253","v":132.47},{"$f":"+[1]datos!AA253","v":94.037101218715378},{"$f":"+[1]datos!U253","v":108.5431619445292},{"$f":"+[1]datos!V253","v":99.8},{"$f":"+[1]datos!W253","v":95.143194058464005},{"$f":"+[1]datos!X253","v":216.33},{"$f":"+[1]datos!Y253","v":123.7},{"$f":"+[1]datos!Z253","v":115.2}]
[null,"Diciembre",{"$f":"+[1]datos!P254","v":135.21105046},{"$f":"+[1]datos!Q254","v":100},{"$f":"+[1]datos!R254","v":94.885662776354494},{"$f":"+[1]datos!S254","v":212.8},{"$f":"+[1]datos!T254","v":132.78},{"$f":"+[1]datos!AA254","v":94.128007727053202},{"$f":"+[1]datos!U254","v":108.88365465815329},{"$f":"+[1]datos!V254","v":99.6},{"$f":"+[1]datos!W254","v":95.536951859487999},{"$f":"+[1]datos!X254","v":215.94900000000001},{"$f":"+[1]datos!Y254","v":123.8},{"$f":"+[1]datos!Z254","v":114.8}]
[2010,"Enero",{"$f":"+[1]datos!P255","v":137.40997436999999},{"$f":"+[1]datos!Q255","v":100.44},{"$f":"+[1]datos!R255","v":96.11},{"$f":"+[1]datos!S255","v":214},{"$f":"+[1]datos!T255","v":134.07},{"$f":"+[1]datos!AA255","v":95.363768074770604},{"$f":"+[1]datos!U255","v":107.9924938933449},{"$f":"+[1]datos!V255","v":100.1},{"$f":"+[1]datos!W255","v":96.575479439774},{"$f":"+[1]datos!X255","v":216.68700000000001},{"$f":"+[1]datos!Y255","v":124.8},{"$f":"+[1]datos!Z255","v":115.1}]
[null,"Febrero",{"$f":"+[1]datos!P256","v":138.35352727},{"$f":"+[1]datos!Q256","v":100.57},{"$f":"+[1]datos!R256","v":96.53},{"$f":"+[1]datos!S256","v":215.5},{"$f":"+[1]datos!T256","v":136.02000000000001},{"$f":"+[1]datos!AA256","v":95.497287008891803},{"$f":"+[1]datos!U256","v":108.33082650817779},{"$f":"+[1]datos!V256","v":100},{"$f":"+[1]datos!W256","v":97.134050050685005},{"$f":"+[1]datos!X256","v":216.74100000000001},{"$f":"+[1]datos!Y256","v":125.1},{"$f":"+[1]datos!Z256","v":115.6}]
[null,"Marzo",{"$f":"+[1]datos!P257","v":138.69037961000001},{"$f":"+[1]datos!Q257","v":100.89},{"$f":"+[1]datos!R257","v":97.64},{"$f":"+[1]datos!S257","v":216.5},{"$f":"+[1]datos!T257","v":137.52000000000001},{"$f":"+[1]datos!AA257","v":96.318286412317846},{"$f":"+[1]datos!U257","v":109.5332499136632},{"$f":"+[1]datos!V257","v":100.3},{"$f":"+[1]datos!W257","v":97.823643397488993},{"$f":"+[1]datos!X257","v":217.631},{"$f":"+[1]datos!Y257","v":125.6},{"$f":"+[1]datos!Z257","v":115.596}]
[null,"Abril",{"$f":"+[1]datos!P258","v":138.77335060999999},{"$f":"+[1]datos!Q258","v":100.71},{"$f":"+[1]datos!R258","v":97.55},{"$f":"+[1]datos!S258","v":217.6},{"$f":"+[1]datos!T258","v":137.94},{"$f":"+[1]datos!AA258","v":96.662026646970261},{"$f":"+[1]datos!U258","v":109.97807511084551},{"$f":"+[1]datos!V258","v":100.4},{"$f":"+[1]datos!W258","v":97.511947204733005},{"$f":"+[1]datos!X258","v":218.00899999999999},{"$f":"+[1]datos!Y258","v":126},{"$f":"+[1]datos!Z258","v":116}]
[null,"Mayo",{"$f":"+[1]datos!P259","v":139.48890127000001},{"$f":"+[1]datos!Q259","v":100.5},{"$f":"+[1]datos!R259","v":97.45},{"$f":"+[1]datos!S259","v":218},{"$f":"+[1]datos!T259","v":137.86000000000001},{"$f":"+[1]datos!AA259","v":96.991562739694899},{"$f":"+[1]datos!U259","v":110.1019153274904},{"$f":"+[1]datos!V259","v":100.3},{"$f":"+[1]datos!W259","v":96.897519532732005},{"$f":"+[1]datos!X259","v":218.178},{"$f":"+[1]datos!Y259","v":126.3},{"$f":"+[1]datos!Z259","v":116.3}]
[null,"Junio",{"$f":"+[1]datos!P260","v":139.82791524999999},{"$f":"+[1]datos!Q260","v":100.96},{"$f":"+[1]datos!R260","v":97.94},{"$f":"+[1]datos!S260","v":218.9},{"$f":"+[1]datos!T260","v":137.85},{"$f":"+[1]datos!AA260","v":96.826794693332573},{"$f":"+[1]datos!U260","v":110.1026760660047},{"$f":"+[1]datos!V260","v":100.1},{"$f":"+[1]datos!W260","v":96.867177425471994},{"$f":"+[1]datos!X260","v":217.965},{"$f":"+[1]datos!Y260","v":126.4},{"$f":"+[1]datos!Z260","v":116.2}]
[null,"Julio",{"$f":"+[1]datos!P261","v":140.27498047},{"$f":"+[1]datos!Q261","v":100.98},{"$f":"+[1]datos!R261","v":98.3},{"$f":"+[1]datos!S261","v":220.3},{"$f":"+[1]datos!T261","v":139.06},{"$f":"+[1]datos!AA261","v":97.159171614442769},{"$f":"+[1]datos!U261","v":109.63109292289791},{"$f":"+[1]datos!V261","v":99.5},{"$f":"+[1]datos!W261","v":97.077503396246996},{"$f":"+[1]datos!X261","v":218.011},{"$f":"+[1]datos!Y261","v":127.8},{"$f":"+[1]datos!Z261","v":116.8}]
[null,"Agosto",{"$f":"+[1]datos!P262","v":140.55740897999999},{"$f":"+[1]datos!Q262","v":100.81},{"$f":"+[1]datos!R262","v":98.35},{"$f":"+[1]datos!S262","v":221.3},{"$f":"+[1]datos!T262","v":138.36000000000001},{"$f":"+[1]datos!AA262","v":97.372233743359558},{"$f":"+[1]datos!U262","v":109.8472043485632},{"$f":"+[1]datos!V262","v":99.7},{"$f":"+[1]datos!W262","v":97.347134394847004},{"$f":"+[1]datos!X262","v":218.31200000000001},{"$f":"+[1]datos!Y262","v":128.5},{"$f":"+[1]datos!Z262","v":116.7}]
[null,"Septiembre",{"$f":"+[1]datos!P263","v":140.44062037},{"$f":"+[1]datos!Q263","v":101.11},{"$f":"+[1]datos!R263","v":98.63},{"$f":"+[1]datos!S263","v":222.6},{"$f":"+[1]datos!T263","v":138.94},{"$f":"+[1]datos!AA263","v":98.122212437146672},{"$f":"+[1]datos!U263","v":110.1874219024635},{"$f":"+[1]datos!V263","v":99.9},{"$f":"+[1]datos!W263","v":97.857433471481997},{"$f":"+[1]datos!X263","v":218.43899999999999},{"$f":"+[1]datos!Y263","v":128.5},{"$f":"+[1]datos!Z263","v":116.9}]
[null,"Octubre",{"$f":"+[1]datos!P264","v":141.10637292000001},{"$f":"+[1]datos!Q264","v":101.78},{"$f":"+[1]datos!R264","v":99.15},{"$f":"+[1]datos!S264","v":224.7},{"$f":"+[1]datos!T264","v":141.91},{"$f":"+[1]datos!AA264","v":98.78412545098152},{"$f":"+[1]datos!U264","v":110.51768572326419},{"$f":"+[1]datos!V264","v":100.2},{"$f":"+[1]datos!W264","v":98.461517243282003},{"$f":"+[1]datos!X264","v":218.71100000000001},{"$f":"+[1]datos!Y264","v":128.69999999999999},{"$f":"+[1]datos!Z264","v":117.4}]
[null,"Noviembre",{"$f":"+[1]datos!P265","v":142.03202886},{"$f":"+[1]datos!Q265","v":102.24},{"$f":"+[1]datos!R265","v":99.92},{"$f":"+[1]datos!S265","v":226.6},{"$f":"+[1]datos!T265","v":144.12},{"$f":"+[1]datos!AA265","v":99.090934916621691},{"$f":"+[1]datos!U265","v":110.6211125735104},{"$f":"+[1]datos!V265","v":99.9},{"$f":"+[1]datos!W265","v":99.250412032024997},{"$f":"+[1]datos!X265","v":218.803},{"$f":"+[1]datos!Y265","v":129},{"$f":"+[1]datos!Z265","v":117.5}]
[null,"Diciembre",{"$f":"+[1]datos!P266","v":143.08616899},{"$f":"+[1]datos!Q266","v":102.13},{"$f":"+[1]datos!R266","v":100},{"$f":"+[1]datos!S266","v":226.6},{"$f":"+[1]datos!T266","v":145.03},{"$f":"+[1]datos!AA266","v":100},{"$f":"+[1]datos!U266","v":111.2893507023886},{"$f":"+[1]datos!V266","v":99.6},{"$f":"+[1]datos!W266","v":99.742092088296005},{"$f":"+[1]datos!X266","v":219.179},{"$f":"+[1]datos!Y266","v":129.9},{"$f":"+[1]datos!Z266","v":117.5}]
[2011,"Enero",{"$f":"+[1]datos!P267","v":144.05411948},{"$f":"+[1]datos!Q267","v":102.77},{"$f":"+[1]datos!R267","v":100.82},{"$f":"+[1]datos!S267","v":227.6},{"$f":"+[1]datos!T267","v":144.82},{"$f":"+[1]datos!AA267","v":101.244},{"$f":"+[1]datos!U267","v":110.4917421556237},{"$f":"+[1]datos!V267","v":99.5},{"$f":"+[1]datos!W267","v":100.22799999999999},{"$f":"+[1]datos!X267","v":220.22300000000001},{"$f":"+[1]datos!Y267","v":130.80000000000001},{"$f":"+[1]datos!Z267","v":117.8}]
[null,"Febrero",{"$f":"+[1]datos!P268","v":144.68228052000001},{"$f":"+[1]datos!Q268","v":102.96},{"$f":"+[1]datos!R268","v":101.58},{"$f":"+[1]datos!S268","v":229.2},{"$f":"+[1]datos!T268","v":145.85},{"$f":"+[1]datos!AA268","v":102.461},{"$f":"+[1]datos!U268","v":110.95656546433129},{"$f":"+[1]datos!V268","v":99.5},{"$f":"+[1]datos!W268","v":100.604},{"$f":"+[1]datos!X268","v":221.309},{"$f":"+[1]datos!Y268","v":131.30000000000001},{"$f":"+[1]datos!Z268","v":118.1}]
[null,"Marzo",{"$f":"+[1]datos!P269","v":145.04667538000001},{"$f":"+[1]datos!Q269","v":103.63},{"$f":"+[1]datos!R269","v":102.52},{"$f":"+[1]datos!S269","v":230.8},{"$f":"+[1]datos!T269","v":146.79},{"$f":"+[1]datos!AA269","v":103.645},{"$f":"+[1]datos!U269","v":112.45833754842819},{"$f":"+[1]datos!V269","v":99.8},{"$f":"+[1]datos!W269","v":100.797},{"$f":"+[1]datos!X269","v":223.46700000000001},{"$f":"+[1]datos!Y269","v":132.5},{"$f":"+[1]datos!Z269","v":119.410668}]
[null,"Abril",{"$f":"+[1]datos!P270","v":145.27058258},{"$f":"+[1]datos!Q270","v":106.71},{"$f":"+[1]datos!R270","v":103.17},{"$f":"+[1]datos!S270","v":233.4},{"$f":"+[1]datos!T270","v":147.76},{"$f":"+[1]datos!AA270","v":104.551},{"$f":"+[1]datos!U270","v":113.08552852559981},{"$f":"+[1]datos!V270","v":99.95},{"$f":"+[1]datos!W270","v":100.789},{"$f":"+[1]datos!X270","v":224.90600000000001},{"$f":"+[1]datos!Y270","v":133.9},{"$f":"+[1]datos!Z270","v":119.8}]
[null,"Mayo",{"$f":"+[1]datos!P271","v":146.24733273999999},{"$f":"+[1]datos!Q271","v":107.23},{"$f":"+[1]datos!R271","v":103.68},{"$f":"+[1]datos!S271","v":234.8},{"$f":"+[1]datos!T271","v":149.30000000000001},{"$f":"+[1]datos!AA271","v":104.779},{"$f":"+[1]datos!U271","v":113.09012098128339},{"$f":"+[1]datos!V271","v":99.9},{"$f":"+[1]datos!W271","v":100.04600000000001},{"$f":"+[1]datos!X271","v":225.964},{"$f":"+[1]datos!Y271","v":134.38320000000002},{"$f":"+[1]datos!Z271","v":120.6}]
[null,"Junio",{"$f":"+[1]datos!P272","v":147.06535718999999},{"$f":"+[1]datos!Q272","v":107.29},{"$f":"+[1]datos!R272","v":104.23},{"$f":"+[1]datos!S272","v":235.8},{"$f":"+[1]datos!T272","v":150.28},{"$f":"+[1]datos!AA272","v":105.84699999999999},{"$f":"+[1]datos!U272","v":113.08224392026111},{"$f":"+[1]datos!V272","v":99.7},{"$f":"+[1]datos!W272","v":100.041},{"$f":"+[1]datos!X272","v":225.72200000000001},{"$f":"+[1]datos!Y272","v":134.6},{"$f":"+[1]datos!Z272","v":119.8}]
[null,"Julio",{"$f":"+[1]datos!P273","v":147.56067632},{"$f":"+[1]datos!Q273","v":107.57},{"$f":"+[1]datos!R273","v":105.22},{"$f":"+[1]datos!S273","v":237.4},{"$f":"+[1]datos!T273","v":150.81},{"$f":"+[1]datos!AA273","v":106.7504},{"$f":"+[1]datos!U273","v":112.43560417053379},{"$f":"+[1]datos!V273","v":99.7},{"$f":"+[1]datos!W273","v":100.521},{"$f":"+[1]datos!X273","v":225.922},{"$f":"+[1]datos!Y273","v":134.69999999999999},{"$f":"+[1]datos!Z273","v":120}]
[null,"Agosto",{"$f":"+[1]datos!P274","v":147.93899999999999},{"$f":"+[1]datos!Q274","v":107.69},{"$f":"+[1]datos!R274","v":105.85},{"$f":"+[1]datos!S274","v":238.3},{"$f":"+[1]datos!T274","v":151.77000000000001},{"$f":"+[1]datos!AA274","v":107.28100000000001},{"$f":"+[1]datos!U274","v":112.6467888380719},{"$f":"+[1]datos!V274","v":99.9},{"$f":"+[1]datos!W274","v":100.68},{"$f":"+[1]datos!X274","v":226.54499999999999},{"$f":"+[1]datos!Y274","v":135.2388},{"$f":"+[1]datos!Z274","v":120.3}]
[null,"Septiembre",{"$f":"+[1]datos!P275","v":147.70801441},{"$f":"+[1]datos!Q275","v":107.4},{"$f":"+[1]datos!R275","v":105.78},{"$f":"+[1]datos!S275","v":237.8},{"$f":"+[1]datos!T275","v":152.13},{"$f":"+[1]datos!AA275","v":107.51},{"$f":"+[1]datos!U275","v":113.47245676233631},{"$f":"+[1]datos!V275","v":99.9},{"$f":"+[1]datos!W275","v":100.93015688248654},{"$f":"+[1]datos!X275","v":226.88900000000001},{"$f":"+[1]datos!Y275","v":136.33849999999998},{"$f":"+[1]datos!Z275","v":120.6}]
[null,"Octubre",{"$f":"+[1]datos!P276","v":148.05773052999999},{"$f":"+[1]datos!Q276","v":107.32},{"$f":"+[1]datos!R276","v":105.74},{"$f":"+[1]datos!S276","v":238},{"$f":"+[1]datos!T276","v":152.78},{"$f":"+[1]datos!AA276","v":107.542},{"$f":"+[1]datos!U276","v":113.8674155718967},{"$f":"+[1]datos!V276","v":100},{"$f":"+[1]datos!W276","v":101.608},{"$f":"+[1]datos!X276","v":226.42099999999999},{"$f":"+[1]datos!Y276","v":136.6},{"$f":"+[1]datos!Z276","v":120.8}]
[null,"Noviembre",{"$f":"+[1]datos!P277","v":148.50220372999999},{"$f":"+[1]datos!Q277","v":107.48},{"$f":"+[1]datos!R277","v":105.97},{"$f":"+[1]datos!S277","v":238.9},{"$f":"+[1]datos!T277","v":154.69999999999999},{"$f":"+[1]datos!AA277","v":107.639},{"$f":"+[1]datos!U277","v":113.96898476154929},{"$f":"+[1]datos!V277","v":99.4},{"$f":"+[1]datos!W277","v":102.70699999999999},{"$f":"+[1]datos!X277","v":226.23},{"$f":"+[1]datos!Y277","v":137.55619999999999},{"$f":"+[1]datos!Z277","v":120.9}]
[null,"Diciembre",{"$f":"+[1]datos!P278","v":149.86237030999999},{"$f":"+[1]datos!Q278","v":107.29},{"$f":"+[1]datos!R278","v":106.2},{"$f":"+[1]datos!S278","v":239.3},{"$f":"+[1]datos!T278","v":156.57},{"$f":"+[1]datos!AA278","v":107.76},{"$f":"+[1]datos!U278","v":114.3520346466551},{"$f":"+[1]datos!V278","v":99.4},{"$f":"+[1]datos!W278","v":103.551},{"$f":"+[1]datos!X278","v":225.672},{"$f":"+[1]datos!Y278","v":138.1},{"$f":"+[1]datos!Z278","v":120.2}]
[2012,"Enero",{"$f":"+[1]datos!P279","v":150.12434958},{"$f":"+[1]datos!Q279","v":107.65},{"$f":"+[1]datos!R279","v":106.3},{"$f":"+[1]datos!S279","v":239.8},{"$f":"+[1]datos!T279","v":156.77000000000001},{"$f":"+[1]datos!AA279","v":108.23},{"$f":"+[1]datos!U279","v":113.4205682983701},{"$f":"+[1]datos!V279","v":99.6},{"$f":"+[1]datos!W279","v":104.28400000000001},{"$f":"+[1]datos!X279","v":226.66499999999999},{"$f":"+[1]datos!Y279","v":138.79049999999998},{"$f":"+[1]datos!Z279","v":120.745}]
[null,"Febrero",{"$f":"+[1]datos!P280","v":150.54673027999999},{"$f":"+[1]datos!Q280","v":108},{"$f":"+[1]datos!R280","v":106.83},{"$f":"+[1]datos!S280","v":242.1},{"$f":"+[1]datos!T280","v":158.69},{"$f":"+[1]datos!AA280","v":108.61},{"$f":"+[1]datos!U280","v":113.98583809404249},{"$f":"+[1]datos!V280","v":99.8},{"$f":"+[1]datos!W280","v":104.496},{"$f":"+[1]datos!X280","v":227.66300000000001},{"$f":"+[1]datos!Y280","v":139.69999999999999},{"$f":"+[1]datos!Z280","v":121.2}]
[null,"Marzo",{"$f":"+[1]datos!P281","v":151.15032715000001},{"$f":"+[1]datos!Q281","v":108.16},{"$f":"+[1]datos!R281","v":107.18},{"$f":"+[1]datos!S281","v":243.9},{"$f":"+[1]datos!T281","v":159.33000000000001},{"$f":"+[1]datos!AA281","v":108.77},{"$f":"+[1]datos!U281","v":115.4647943821343},{"$f":"+[1]datos!V281","v":100.3},{"$f":"+[1]datos!W281","v":104.556},{"$f":"+[1]datos!X281","v":229.392},{"$f":"+[1]datos!Y281","v":140.9},{"$f":"+[1]datos!Z281","v":121.679470692}]
[null,"Abril",{"$f":"+[1]datos!P282","v":152.10904521},{"$f":"+[1]datos!Q282","v":108.83},{"$f":"+[1]datos!R282","v":107.58},{"$f":"+[1]datos!S282","v":246.6},{"$f":"+[1]datos!T282","v":161.03},{"$f":"+[1]datos!AA282","v":108.78},{"$f":"+[1]datos!U282","v":116.00063645114311},{"$f":"+[1]datos!V282","v":100.4},{"$f":"+[1]datos!W282","v":104.22799999999999},{"$f":"+[1]datos!X282","v":230.08500000000001},{"$f":"+[1]datos!Y282","v":141.9},{"$f":"+[1]datos!Z282","v":122.2}]
[null,"Mayo",{"$f":"+[1]datos!P283","v":153.61132003},{"$f":"+[1]datos!Q283","v":108.53},{"$f":"+[1]datos!R283","v":107.72},{"$f":"+[1]datos!S283","v":246.9},{"$f":"+[1]datos!T283","v":160.53},{"$f":"+[1]datos!AA283","v":108.49},{"$f":"+[1]datos!U283","v":115.84133126256521},{"$f":"+[1]datos!V283","v":100.1},{"$f":"+[1]datos!W283","v":103.899},{"$f":"+[1]datos!X283","v":229.815},{"$f":"+[1]datos!Y283","v":142.5},{"$f":"+[1]datos!Z283","v":122.1}]
[null,"Junio",{"$f":"+[1]datos!P284","v":153.85229114000001},{"$f":"+[1]datos!Q284","v":107.94},{"$f":"+[1]datos!R284","v":107.85},{"$f":"+[1]datos!S284","v":246.9},{"$f":"+[1]datos!T284","v":160},{"$f":"+[1]datos!AA284","v":108.72},{"$f":"+[1]datos!U284","v":115.7537179373133},{"$f":"+[1]datos!V284","v":99.6},{"$f":"+[1]datos!W284","v":104.378},{"$f":"+[1]datos!X284","v":229.47800000000001},{"$f":"+[1]datos!Y284","v":142.4},{"$f":"+[1]datos!Z284","v":121.6}]
[null,"Julio",{"$f":"+[1]datos!P285","v":153.38732457},{"$f":"+[1]datos!Q285","v":107.61},{"$f":"+[1]datos!R285","v":108.23},{"$f":"+[1]datos!S285","v":247.1},{"$f":"+[1]datos!T285","v":160.41999999999999},{"$f":"+[1]datos!AA285","v":108.5},{"$f":"+[1]datos!U285","v":115.14596054403809},{"$f":"+[1]datos!V285","v":99.3},{"$f":"+[1]datos!W285","v":104.964},{"$f":"+[1]datos!X285","v":229.10400000000001},{"$f":"+[1]datos!Y285","v":142.80000000000001},{"$f":"+[1]datos!Z285","v":121.5}]
[null,"Agosto",{"$f":"+[1]datos!P286","v":154.19833774},{"$f":"+[1]datos!Q286","v":107.8},{"$f":"+[1]datos!R286","v":108.72},{"$f":"+[1]datos!S286","v":248.6},{"$f":"+[1]datos!T286","v":160.82},{"$f":"+[1]datos!AA286","v":109.6},{"$f":"+[1]datos!U286","v":115.58949602405049},{"$f":"+[1]datos!V286","v":99.4},{"$f":"+[1]datos!W286","v":105.279},{"$f":"+[1]datos!X286","v":230.37899999999999},{"$f":"+[1]datos!Y286","v":143.5},{"$f":"+[1]datos!Z286","v":121.8}]
[null,"Septiembre",{"$f":"+[1]datos!P287","v":154.30510530000001},{"$f":"+[1]datos!Q287","v":108.24},{"$f":"+[1]datos!R287","v":109.25},{"$f":"+[1]datos!S287","v":250.4},{"$f":"+[1]datos!T287","v":161.88},{"$f":"+[1]datos!AA287","v":110.31},{"$f":"+[1]datos!U287","v":116.4301838646315},{"$f":"+[1]datos!V287","v":99.6},{"$f":"+[1]datos!W287","v":105.74299999999999},{"$f":"+[1]datos!X287","v":231.40700000000001},{"$f":"+[1]datos!Y287","v":143.6},{"$f":"+[1]datos!Z287","v":122}]
[null,"Octubre",{"$f":"+[1]datos!P288","v":154.99278885999999},{"$f":"+[1]datos!Q288","v":108.33},{"$f":"+[1]datos!R288","v":109.28},{"$f":"+[1]datos!S288","v":251.5},{"$f":"+[1]datos!T288","v":162.66999999999999},{"$f":"+[1]datos!AA288","v":110.57},{"$f":"+[1]datos!U288","v":116.70728892471671},{"$f":"+[1]datos!V288","v":99.6},{"$f":"+[1]datos!W288","v":106.27800000000001},{"$f":"+[1]datos!X288","v":231.31700000000001},{"$f":"+[1]datos!Y288","v":143.80000000000001},{"$f":"+[1]datos!Z288","v":122.20032840722497}]
[null,"Noviembre",{"$f":"+[1]datos!P289","v":156.24862267},{"$f":"+[1]datos!Q289","v":108.18},{"$f":"+[1]datos!R289","v":109.27},{"$f":"+[1]datos!S289","v":251.9},{"$f":"+[1]datos!T289","v":164.24},{"$f":"+[1]datos!AA289","v":111.2664343},{"$f":"+[1]datos!U289","v":116.4736297022622},{"$f":"+[1]datos!V289","v":99.2},{"$f":"+[1]datos!W289","v":107},{"$f":"+[1]datos!X289","v":230.30213999999998},{"$f":"+[1]datos!Y289","v":144},{"$f":"+[1]datos!Z289","v":121.9}]
[null,"Diciembre",{"$f":"+[1]datos!P290","v":156.68190315999999},{"$f":"+[1]datos!Q290","v":108.13},{"$f":"+[1]datos!R290","v":109.86},{"$f":"+[1]datos!S290","v":252.2},{"$f":"+[1]datos!T290","v":166.93},{"$f":"+[1]datos!AA290","v":111.97},{"$f":"+[1]datos!U290","v":116.89088136919101},{"$f":"+[1]datos!V290","v":99.3},{"$f":"+[1]datos!W290","v":107.2477707},{"$f":"+[1]datos!X290","v":229.50842399999996},{"$f":"+[1]datos!Y290","v":144.5},{"$f":"+[1]datos!Z290","v":121.2}]
[2013,"Enero",{"$f":"+[1]datos!P291","v":158.73653711},{"$f":"+[1]datos!Q291","v":108.59},{"$f":"+[1]datos!R291","v":110.4},{"$f":"+[1]datos!S291","v":253.4},{"$f":"+[1]datos!T291","v":168.90939899999998},{"$f":"+[1]datos!AA291","v":113.38},{"$f":"+[1]datos!U291","v":115.67247982346849},{"$f":"+[1]datos!V291","v":99.3},{"$f":"+[1]datos!W291","v":107.678},{"$f":"+[1]datos!X291","v":230.28},{"$f":"+[1]datos!Y291","v":145.30000000000001},{"$f":"+[1]datos!Z291","v":121.3}]
[null,"Febrero",{"$f":"+[1]datos!P292","v":160.356032},{"$f":"+[1]datos!Q292","v":109.05},{"$f":"+[1]datos!R292","v":111.3},{"$f":"+[1]datos!S292","v":256.10000000000002},{"$f":"+[1]datos!T292","v":169.93},{"$f":"+[1]datos!AA292","v":113.75},{"$f":"+[1]datos!U292","v":116.0946233417377},{"$f":"+[1]datos!V292","v":99.2},{"$f":"+[1]datos!W292","v":108.208},{"$f":"+[1]datos!X292","v":232.166},{"$f":"+[1]datos!Y292","v":146.1},{"$f":"+[1]datos!Z292","v":122.67692000000001}]
[null,"Marzo",{"$f":"+[1]datos!P293","v":160.53053131999999},{"$f":"+[1]datos!Q293","v":109.54},{"$f":"+[1]datos!R293","v":111.83},{"$f":"+[1]datos!S293","v":257.5},{"$f":"+[1]datos!T293","v":170.16},{"$f":"+[1]datos!AA293","v":114.18},{"$f":"+[1]datos!U293","v":117.46789436682019},{"$f":"+[1]datos!V293","v":99.4},{"$f":"+[1]datos!W293","v":109.002},{"$f":"+[1]datos!X293","v":232.83287999999996},{"$f":"+[1]datos!Y293","v":146.69999999999999},{"$f":"+[1]datos!Z293","v":122.9}]
[null,"Abril",{"$f":"+[1]datos!P294","v":161.70297221999999},{"$f":"+[1]datos!Q294","v":108.85},{"$f":"+[1]datos!R294","v":112.02},{"$f":"+[1]datos!S294","v":258.10000000000002},{"$f":"+[1]datos!T294","v":171.240678},{"$f":"+[1]datos!AA294","v":114.11},{"$f":"+[1]datos!U294","v":117.363528340684},{"$f":"+[1]datos!V294","v":99.7},{"$f":"+[1]datos!W294","v":109.074},{"$f":"+[1]datos!X294","v":232.53100000000001},{"$f":"+[1]datos!Y294","v":147.19999999999999},{"$f":"+[1]datos!Z294","v":122.7}]
[null,"Mayo",{"$f":"+[1]datos!P295","v":161.72819881999999},{"$f":"+[1]datos!Q295","v":108.69},{"$f":"+[1]datos!R295","v":112.32},{"$f":"+[1]datos!S295","v":258.8},{"$f":"+[1]datos!T295","v":172.94097400000001},{"$f":"+[1]datos!AA295","v":113.9},{"$f":"+[1]datos!U295","v":117.4873615086629},{"$f":"+[1]datos!V295","v":99.8},{"$f":"+[1]datos!W295","v":108.711},{"$f":"+[1]datos!X295","v":232.94499999999999},{"$f":"+[1]datos!Y295","v":147.80000000000001},{"$f":"+[1]datos!Z295","v":123}]
[null,"Junio",{"$f":"+[1]datos!P296","v":161.75707352000001},{"$f":"+[1]datos!Q296","v":108.91},{"$f":"+[1]datos!R296","v":113.02},{"$f":"+[1]datos!S296","v":259.89999999999998},{"$f":"+[1]datos!T296","v":173.251283},{"$f":"+[1]datos!AA296","v":113.94},{"$f":"+[1]datos!U296","v":117.6133152099404},{"$f":"+[1]datos!V296","v":99.8},{"$f":"+[1]datos!W296","v":108.645},{"$f":"+[1]datos!X296","v":233.50399999999999},{"$f":"+[1]datos!Y296","v":148.30000000000001},{"$f":"+[1]datos!Z296","v":123}]
[null,"Julio",{"$f":"+[1]datos!P297","v":162.30550335000001},{"$f":"+[1]datos!Q297","v":108.78},{"$f":"+[1]datos!R297","v":113.36},{"$f":"+[1]datos!S297","v":261},{"$f":"+[1]datos!T297","v":172.70246599999999},{"$f":"+[1]datos!AA297","v":114.65},{"$f":"+[1]datos!U297","v":116.98909094847231},{"$f":"+[1]datos!V297","v":100},{"$f":"+[1]datos!W297","v":108.608999999999},{"$f":"+[1]datos!X297","v":233.596},{"$f":"+[1]datos!Y297","v":148.69999999999999},{"$f":"+[1]datos!Z297","v":121.5}]
[null,"Agosto",{"$f":"+[1]datos!P298","v":162.38164436},{"$f":"+[1]datos!Q298","v":108.87},{"$f":"+[1]datos!R298","v":113.52},{"$f":"+[1]datos!S298","v":262},{"$f":"+[1]datos!T298","v":173.58552800000001},{"$f":"+[1]datos!AA298","v":115.40879999999999},{"$f":"+[1]datos!U298","v":117.1359718165877},{"$f":"+[1]datos!V298","v":100.3},{"$f":"+[1]datos!W298","v":108.9216534},{"$f":"+[1]datos!X298","v":233.87700000000001},{"$f":"+[1]datos!Y298","v":149.1},{"$f":"+[1]datos!Z298","v":123.1}]
[null,"Septiembre",{"$f":"+[1]datos!P299","v":162.59412642000001},{"$f":"+[1]datos!Q299","v":109.06},{"$f":"+[1]datos!R299","v":113.85},{"$f":"+[1]datos!S299","v":262.8},{"$f":"+[1]datos!T299","v":173.78078099999999},{"$f":"+[1]datos!AA299","v":115.97},{"$f":"+[1]datos!U299","v":117.7058738910504},{"$f":"+[1]datos!V299","v":100.6},{"$f":"+[1]datos!W299","v":109.328},{"$f":"+[1]datos!X299","v":234.149},{"$f":"+[1]datos!Y299","v":149.19999999999999},{"$f":"+[1]datos!Z299","v":123.3}]
[null,"Octubre",{"$f":"+[1]datos!P300","v":161.35704064000001},{"$f":"+[1]datos!Q300","v":108.91},{"$f":"+[1]datos!R300","v":113.82},{"$f":"+[1]datos!S300","v":263.10000000000002},{"$f":"+[1]datos!T300","v":173.778493},{"$f":"+[1]datos!AA300","v":115.81},{"$f":"+[1]datos!U300","v":117.5626104055934},{"$f":"+[1]datos!V300","v":100.7},{"$f":"+[1]datos!W300","v":109.84894080000001},{"$f":"+[1]datos!X300","v":233.54599999999999},{"$f":"+[1]datos!Y300","v":149.4},{"$f":"+[1]datos!Z300","v":123}]
[null,"Noviembre",{"$f":"+[1]datos!P301","v":161.62848316},{"$f":"+[1]datos!Q301","v":109},{"$f":"+[1]datos!R301","v":114.33},{"$f":"+[1]datos!S301","v":263.8},{"$f":"+[1]datos!T301","v":174.567453},{"$f":"+[1]datos!AA301","v":115.87286468002002},{"$f":"+[1]datos!U301","v":117.46525106672721},{"$f":"+[1]datos!V301","v":100.1045592705167},{"$f":"+[1]datos!W301","v":110.872},{"$f":"+[1]datos!X301","v":233.06576567999997},{"$f":"+[1]datos!Y301","v":149.69999999999999},{"$f":"+[1]datos!Z301","v":123}]
[null,"Diciembre",{"$f":"+[1]datos!P302","v":162.44707751000001},{"$f":"+[1]datos!Q302","v":108.98},{"$f":"+[1]datos!R302","v":114.68},{"$f":"+[1]datos!S302","v":264.60000000000002},{"$f":"+[1]datos!T302","v":176.400474},{"$f":"+[1]datos!AA302","v":116.31},{"$f":"+[1]datos!U302","v":117.883092332198},{"$f":"+[1]datos!V302","v":100.9},{"$f":"+[1]datos!W302","v":111.50550719679001},{"$f":"+[1]datos!X302","v":232.95105035999993},{"$f":"+[1]datos!Y302","v":150.1},{"$f":"+[1]datos!Z302","v":122.7}]
[2014,"Enero",{"$f":"+[1]datos!P303","v":163.66},{"$f":"+[1]datos!Q303","v":109.51},{"$f":"+[1]datos!R303","v":114.97},{"$f":"+[1]datos!S303","v":268.60000000000002},{"$f":"+[1]datos!T303","v":177.67956799999999},{"$f":"+[1]datos!AA303","v":116.58},{"$f":"+[1]datos!U303","v":116.5658475869851},{"$f":"+[1]datos!V303","v":100.7},{"$f":"+[1]datos!W303","v":112.505},{"$f":"+[1]datos!X303","v":233.96448000000001},{"$f":"+[1]datos!Y303","v":150.19999999999999},{"$f":"+[1]datos!Z303","v":123.1}]
[null,"Febrero",{"$f":"+[1]datos!P304","v":164.75},{"$f":"+[1]datos!Q304","v":109.72},{"$f":"+[1]datos!R304","v":115.2},{"$f":"+[1]datos!S304","v":270.8},{"$f":"+[1]datos!T304","v":178.85615200000001},{"$f":"+[1]datos!AA304","v":116.98},{"$f":"+[1]datos!U304","v":116.92409886923551},{"$f":"+[1]datos!V304","v":100.7},{"$f":"+[1]datos!W304","v":112.79},{"$f":"+[1]datos!X304","v":234.71982599999998},{"$f":"+[1]datos!Y304","v":151},{"$f":"+[1]datos!Z304","v":124.1}]
[null,"Marzo",{"$f":"+[1]datos!P305","v":165.76},{"$f":"+[1]datos!Q305","v":109.99},{"$f":"+[1]datos!R305","v":115.46},{"$f":"+[1]datos!S305","v":272.39999999999998},{"$f":"+[1]datos!T305","v":178.840341},{"$f":"+[1]datos!AA305","v":117.59398200000001},{"$f":"+[1]datos!U305","v":118.0225233227512},{"$f":"+[1]datos!V305","v":101},{"$f":"+[1]datos!W305","v":113.099},{"$f":"+[1]datos!X305","v":236.32537319999994},{"$f":"+[1]datos!Y305","v":151.6},{"$f":"+[1]datos!Z305","v":124.8}]
[null,"Abril",{"$f":"+[1]datos!P306","v":167.65},{"$f":"+[1]datos!Q306","v":109.47},{"$f":"+[1]datos!R306","v":115.68},{"$f":"+[1]datos!S306","v":273.5},{"$f":"+[1]datos!T306","v":179.632701},{"$f":"+[1]datos!AA306","v":118.09},{"$f":"+[1]datos!U306","v":118.20174291816259},{"$f":"+[1]datos!V306","v":103.1},{"$f":"+[1]datos!W306","v":112.88800000000001},{"$f":"+[1]datos!X306","v":237.18162000000001},{"$f":"+[1]datos!Y306","v":152.4},{"$f":"+[1]datos!Z306","v":125.2}]
[null,"Mayo",{"$f":"+[1]datos!P307","v":168.54},{"$f":"+[1]datos!Q307","v":109.72},{"$f":"+[1]datos!R307","v":115.94},{"$f":"+[1]datos!S307","v":274.89999999999998},{"$f":"+[1]datos!T307","v":181.32398000000001},{"$f":"+[1]datos!AA307","v":118.11},{"$f":"+[1]datos!U307","v":118.07147078700551},{"$f":"+[1]datos!V307","v":103.5},{"$f":"+[1]datos!W307","v":112.527},{"$f":"+[1]datos!X307","v":237.83684499999998},{"$f":"+[1]datos!Y307","v":152.6},{"$f":"+[1]datos!Z307","v":125.8}]
[null,"Junio",{"$f":"+[1]datos!P308","v":169.18},{"$f":"+[1]datos!Q308","v":110.15},{"$f":"+[1]datos!R308","v":116.56},{"$f":"+[1]datos!S308","v":276.10000000000002},{"$f":"+[1]datos!T308","v":183.73790399999999},{"$f":"+[1]datos!AA308","v":118.13},{"$f":"+[1]datos!U308","v":118.19960421860151},{"$f":"+[1]datos!V308","v":103.4},{"$f":"+[1]datos!W308","v":112.721999999999},{"$f":"+[1]datos!X308","v":238.34299999999999},{"$f":"+[1]datos!Y308","v":153.30000000000001},{"$f":"+[1]datos!Z308","v":125.9}]
[null,"Julio",{"$f":"+[1]datos!P309","v":170.72},{"$f":"+[1]datos!Q309","v":110.77},{"$f":"+[1]datos!R309","v":117.23},{"$f":"+[1]datos!S309","v":278.2},{"$f":"+[1]datos!T309","v":184.68213899999998},{"$f":"+[1]datos!AA309","v":118.56},{"$f":"+[1]datos!U309","v":117.4294071821989},{"$f":"+[1]datos!V309","v":103.4},{"$f":"+[1]datos!W309","v":113.032},{"$f":"+[1]datos!X309","v":238.25},{"$f":"+[1]datos!Y309","v":152},{"$f":"+[1]datos!Z309","v":125.7}]
[null,"Agosto",{"$f":"+[1]datos!P310","v":171.29},{"$f":"+[1]datos!Q310","v":111.04},{"$f":"+[1]datos!R310","v":117.72},{"$f":"+[1]datos!S310","v":278.60000000000002},{"$f":"+[1]datos!T310","v":185.266569},{"$f":"+[1]datos!AA310","v":119.02002300000001},{"$f":"+[1]datos!U310","v":117.56714688240289},{"$f":"+[1]datos!V310","v":103.6},{"$f":"+[1]datos!W310","v":113.438},{"$f":"+[1]datos!X310","v":237.852},{"$f":"+[1]datos!Y310","v":152.19999999999999},{"$f":"+[1]datos!Z310","v":125.7}]
[null,"Septiembre",{"$f":"+[1]datos!P311","v":171.05},{"$f":"+[1]datos!Q311","v":110.91},{"$f":"+[1]datos!R311","v":117.78},{"$f":"+[1]datos!S311","v":278.89999999999998},{"$f":"+[1]datos!T311","v":185.06719699999999},{"$f":"+[1]datos!AA311","v":119.25},{"$f":"+[1]datos!U311","v":118.08281438474339},{"$f":"+[1]datos!V311","v":103.9},{"$f":"+[1]datos!W311","v":113.938999999999},{"$f":"+[1]datos!X311","v":238.03100000000001},{"$f":"+[1]datos!Y311","v":152.69999999999999},{"$f":"+[1]datos!Z311","v":125.8}]
[null,"Octubre",{"$f":"+[1]datos!P312","v":170.56},{"$f":"+[1]datos!Q312","v":110.97},{"$f":"+[1]datos!R312","v":117.96},{"$f":"+[1]datos!S312","v":279.7},{"$f":"+[1]datos!T312","v":185.29809399999999},{"$f":"+[1]datos!AA312","v":119.15},{"$f":"+[1]datos!U312","v":118.01072676167711},{"$f":"+[1]datos!V312","v":103.6},{"$f":"+[1]datos!W312","v":114.569},{"$f":"+[1]datos!X312","v":237.43299999999999},{"$f":"+[1]datos!Y312","v":152.5},{"$f":"+[1]datos!Z312","v":125.90007955449481}]
[null,"Noviembre",{"$f":"+[1]datos!P313","v":171.14225324},{"$f":"+[1]datos!Q313","v":110.96},{"$f":"+[1]datos!R313","v":118.19},{"$f":"+[1]datos!S313","v":280.7},{"$f":"+[1]datos!T313","v":187.865804},{"$f":"+[1]datos!AA313","v":118.98319000000001},{"$f":"+[1]datos!U313","v":117.797735667227},{"$f":"+[1]datos!V313","v":103.2},{"$f":"+[1]datos!W313","v":115.492999999999},{"$f":"+[1]datos!X313","v":236.15100000000001},{"$f":"+[1]datos!Y313","v":151.97474104740786},{"$f":"+[1]datos!Z313","v":125.4}]
[null,"Diciembre",{"$f":"+[1]datos!P314","v":170.78},{"$f":"+[1]datos!Q314","v":109.5},{"$f":"+[1]datos!R314","v":118.06},{"$f":"+[1]datos!S314","v":280},{"$f":"+[1]datos!T314","v":187.73832477782631},{"$f":"+[1]datos!AA314","v":118.14769800000001},{"$f":"+[1]datos!U314","v":117.7},{"$f":"+[1]datos!V314","v":103.6},{"$f":"+[1]datos!W314","v":116.059},{"$f":"+[1]datos!X314","v":234.81200000000001},{"$f":"+[1]datos!Y314","v":151.36684208321824},{"$f":"+[1]datos!Z314","v":124.90190677912555}]
[2015,"Enero",{"$f":"+[1]datos!P315","v":170.84},{"$f":"+[1]datos!Q315","v":108.69},{"$f":"+[1]datos!R315","v":117.64},{"$f":"+[1]datos!S315","v":278.89999999999998},{"$f":"+[1]datos!T315","v":187.36179999999999},{"$f":"+[1]datos!AA315","v":117.93},{"$f":"+[1]datos!U315","v":115.86},{"$f":"+[1]datos!V315","v":103.00042999999999},{"$f":"+[1]datos!W315","v":115.953999999999},{"$f":"+[1]datos!X315","v":233.70699999999999},{"$f":"+[1]datos!Y315","v":102.3},{"$f":"+[1]datos!Z315","v":125.2}]
[]
["FUENTE: Bancos Centrales Centroamericanos y de República Dominicana, Banco Central Europeo, Statistics Bureau de Japón, Banco de México, Bureau of Labor Statistics (U.S.A.), Contraloría General de la República de Panamá y Statistics Canada."]
["NOTAS: Los índices de precios están expresados en su periodo base actual. Para obtener series largas, en algunos casos se ha aplicado la tasa de variación de los índices de bases anteriores a los niveles actuales. "]
["A partir de marzo de 2010 se realizaron cambios en algunas series de precios:  El Salvador y Nicaragua realizaron cambio de canasta y año base; en Canadá se utiliza el Indice de precios al consumidor (anteriormente se utilizaba el Indice de Precios al Productor); en Japón se utiliza el Indice de Precios al consumidor a nivel país (anteriormente se utilizaba el índice de Tokio)."]
["1/  La serie del IPC de Panamá con cobertura Nacional Urbano utilizando como base octubre de 2002, inicia en enero de 2003. El periodo 1995-2002 fue obtenido con los índices de la base 1987 correspondiente a la ciudad de Panamá, que tiene una cobertura menor."]
[{"$f":"TODAY()","v":"2015-02-27"}]

{"sheet":"TIPO CAMBIO","index":3,"n_rows":252,"n_cols":14,"rows_kept":252,"cut":false,"hidden":false,"merged":[[3,0,3,13],[249,0,249,13],[250,0,250,13]]}
[]
["Secretaría Ejecutiva"]
["Consejo Monetario Centroamericano"]
["TIPO DE CAMBIO PROMEDIO de COMPRA  (moneda nacional por US$)"]
[null,null,"COSTA\n RICA","EL\n SALVADOR","GUATEMALA","HONDURAS","NICARAGUA","REP.\nDominicana","ZONA \nEURO","JAPÓN","MÉXICO","ESTADOS\n UNIDOS","PANAMÁ","CANADÁ"]
["Año","MES","Colón","Colón","Quetzal","Lempira","Córdoba","Peso dominicano","Euro","Yen\n japonés","Peso \nmexicano","Dólar estadouni-dense","Balboa","Dólar   Canadiense"]
[1995,"Enero",165.65,8.7200000000000006,5.72614,9.2100000000000009,7.3144,13.05,0.80592191400000002,99.75,5.5133000000000001,1,1,1.41]
[null,"Febrero",167.79,8.7200000000000006,5.70749,9.08,7.4145000000000003,13.28,0.79447427299999995,98.24,5.6851000000000003,1,1,1.4]
[null,"Marzo",170.4,8.7200000000000006,5.6863099999999998,9.1300000000000008,7.41,13.4,0.75926512199999996,90.79,6.7019000000000002,1,1,1.41]
[null,"Abril",172.98,8.7200000000000006,5.7202200000000003,9.1199999999999992,7.4142999999999999,13.44,0.74547200300000005,83.67,6.2995999999999999,1,1,1.38]
[null,"Mayo",175.38,8.7200000000000006,5.7286700000000002,9.15,7.444,13.49,0.75663397799999998,85,5.9626999999999999,1,1,1.36]
[null,"Junio",177.96,8.7200000000000006,5.7468399999999997,9.2799999999999994,7.5209999999999999,13.55,0.75106594999999998,84.53,6.2232000000000003,1,1,1.38]
[null,"Julio",180.36,8.7200000000000006,5.75962,9.41,7.6181999999999999,13.62,0.74359670300000003,87.22,6.1394000000000002,1,1,1.36]
[null,"Agosto",182.76,8.7200000000000006,5.8017099999999999,9.5500000000000007,7.7108999999999996,13.66,0.76662953599999994,94.55,6.1909000000000001,1,1,1.35]
[null,"Septiembre",185.4,8.7200000000000006,5.87913,9.67,7.7576000000000001,13.58,0.77591437600000002,100.49,6.3025000000000002,1,1,1.35]
[null,"Octubre",188.01,8.7200000000000006,5.9458700000000002,9.81,7.8384999999999998,13.55,0.75633124900000004,100.65,6.6910999999999996,1,1,1.35]
[null,"Noviembre",190.72,8.7200000000000006,5.9872800000000002,10.039999999999999,7.8761000000000001,13.55,0.75539826499999996,101.92,7.6584000000000003,1,1,1.35]
[null,"Diciembre",193.45,8.7200000000000006,5.9245200000000002,10.25,7.9817999999999998,13.32,0.76669242800000004,101.81,7.6646999999999998,1,1,1.37]
[1996,"Enero",195.83500000000001,8.7200000000000006,6.0907,10.45,8.0344999999999995,13.37,0.77409086900000001,105.84,7.5048000000000004,1,1,1.37]
[null,"Febrero",198.13399999999999,8.7200000000000006,6.1587199999999998,10.67,8.0588999999999995,13.63,0.77603420099999998,105.73,7.5042,1,1,1.38]
[null,"Marzo",200.19,8.7200000000000006,6.1739800000000002,10.9,8.1285000000000007,13.58,0.78043481100000001,105.82,7.5735999999999999,1,1,1.37]
[null,"Abril",202.13,8.7200000000000006,6.1278199999999998,11.05,8.2128999999999994,13.64,0.79119870599999997,107.46,7.4713000000000003,1,1,1.36]
[null,"Mayo",204.17,8.7200000000000006,6.0805100000000003,11.18,8.3045000000000009,13.780952380952382,0.80213045800000005,106.45,7.4344999999999999,1,1,1.37]
[null,"Junio",206.34,8.7200000000000006,6.1228600000000002,11.46,8.4019999999999992,13.830555555555556,0.79813428099999995,108.86,7.5426000000000002,1,1,1.37]
[null,"Julio",208.38,8.7200000000000006,6.08948,12,8.4829000000000008,13.769565217391301,0.78700621299999995,109.32,7.6193999999999997,1,1,1.37]
[null,"Agosto",210.48249999999999,8.7200000000000006,6.0686799999999996,12.27,8.5374999999999996,13.729523809523807,0.77927198900000005,107.75,7.5114999999999998,1,1,1.37]
[null,"Septiembre",212.52380952380952,8.7200000000000006,6.0430900000000003,12.42,8.6586999999999996,13.708499999999997,0.78797983999999999,109.75,7.5439999999999996,1,1,1.37]
[null,"Octubre",214.66304347826087,8.7200000000000006,6.0505199999999997,12.56,8.7393000000000001,13.69,0.794652939,112.36,7.7263000000000002,1,1,1.35]
[null,"Noviembre",216.75095238095241,8.7200000000000006,6.0066199999999998,12.61,8.8278999999999996,13.504500000000002,0.78314668300000001,112.26,7.9059999999999997,1,1,1.34]
[null,"Diciembre",218.91049999999996,8.7200000000000006,5.9946999999999999,12.78,8.8862000000000005,13.467619047619047,0.79983875299999996,113.76,7.8727,1,1,1.36]
[1997,"Enero",220.93227272727273,8.7200000000000006,6.0530400000000002,12.93,8.9780999999999995,13.99,0.822229129,118.02,7.827,1,1,1.35]
[null,"Febrero",223.06650000000005,8.7200000000000006,6.0906799999999999,12.73,9.0314999999999994,14.077894736842103,0.857808762,123.01,7.8003,1,1,1.36]
[null,"Marzo",225.09,8.7200000000000006,5.9953900000000004,12.79,9.1065000000000005,14.17,0.86974975600000004,122.64,7.9646999999999997,1,1,1.37]
[null,"Abril",227.15,8.7200000000000006,5.9967699999999997,12.76,9.2012,14.24,0.87335100399999999,125.51,7.9036999999999997,1,1,1.39]
[null,"Mayo",229.31,8.7200000000000006,5.9756499999999999,13.05,9.2886000000000006,14.21,0.870063802,118.99,7.9057000000000004,1,1,1.38]
[null,"Junio",231.49,8.7200000000000006,5.93,13.07,9.4039000000000001,14.2,0.87979609800000003,117.2,7.9465000000000003,1,1,1.38]
[null,"Julio",233.65,8.7200000000000006,5.9535099999999996,13.08,9.4804999999999993,14.14,0.90504863300000005,115.16,7.8856999999999999,1,1,1.38]
[null,"Agosto",235.56,8.7200000000000006,6.0721699999999998,13.08,9.5847999999999995,14.05,0.93219841299999995,117.9,7.7843,1,1,1.39]
[null,"Septiembre",237.43,8.7200000000000006,6.1045800000000003,13.09,9.6891999999999996,14.14,0.90916116199999997,120.75,7.7792000000000003,1,1,1.39]
[null,"Octubre",239.4,8.7200000000000006,6.1467999999999998,13.09,9.7574000000000005,14.26,0.89260370700000002,121.06,7.8113999999999999,1,1,1.39]
[null,"Noviembre",241.32,8.7200000000000006,6.2105899999999998,13.09,9.8371999999999993,14.27,0.87767955600000003,125.27,8.2837999999999994,1,1,1.41]
[null,"Diciembre",243.15047619047618,8.7200000000000006,6.1818600000000004,13.1,9.9356000000000009,14.27,0.89961955100000002,129.38,8.0832999999999995,1,1,1.43]
[1998,"Enero",244.96700000000004,8.7200000000000006,6.2517399999999999,13.11,10.067299999999999,14.32,0.91935086499999996,129.44999999999999,8.1798000000000002,1,1,1.44]
[null,"Febrero",246.81649999999999,8.7200000000000006,6.2101300000000004,13.16,10.1281,14.41,0.91874103100000004,126,8.4931999999999999,1,1,1.43]
[null,"Marzo",248.84,8.7200000000000006,6.2676499999999997,13.21,10.2485,14.61,0.92222847299999999,128.69,8.5688999999999993,1,1,1.42]
[null,"Abril",250.95099999999996,8.7200000000000006,6.2801299999999998,13.21,10.367800000000001,14.87,0.916539039,131.66999999999999,8.4995999999999992,1,1,1.43]
[null,"Mayo",252.97315789473689,8.7200000000000006,6.2756400000000001,13.27,10.451499999999999,15.09,0.90167666800000001,135,8.5611999999999995,1,1,1.45]
[null,"Junio",255.2195454545454,8.7200000000000006,6.3063900000000004,13.32,10.538,15.16,0.90793040899999999,140.57,8.8994,1,1,1.47]
[null,"Julio",257.74,8.7200000000000006,6.34077,13.37,10.641315384615385,15.35,0.91116173099999997,140.72999999999999,8.9039999999999999,1,1,1.49]
[null,"Agosto",260.11,8.7200000000000006,6.3963999999999999,13.42,10.7332,15.34,0.90779853399999999,144.65,9.2596000000000007,1,1,1.54]
[null,"Septiembre",262.47000000000003,8.7200000000000006,6.4817799999999997,13.51,10.855116666666667,15.42,0.86645727299999997,134.59,10.215400000000001,1,1,1.52]
[null,"Octubre",264.93,8.7200000000000006,6.5621799999999997,13.57,10.940132,15.68,0.83769282599999995,121.3,10.1523,1,1,1.55]
[null,"Noviembre",267.44899999999996,8.7200000000000006,6.56,13.67,11.053488,15.782500000000001,0.85879444199999999,120.58,9.9873999999999992,1,1,1.54]
[null,"Diciembre",269.91800000000001,8.7200000000000006,6.7195299999999998,13.75,11.137216666666667,15.75,0.85315351100000003,117.62,9.9116999999999997,1,1,1.54]
[1999,"Enero",272.26749999999998,8.7200000000000006,6.97126,13.84,11.2874,15.755882352941175,0.86148968800000003,113.18349999999998,10.1104,1,1,1.52]
[null,"Febrero",274.68299999999999,8.7200000000000006,6.8733700000000004,13.9,11.386820833333333,16.072500000000002,0.89224770600000003,116.66349999999997,10.015000000000001,1,1,1.5]
[null,"Marzo",277.26739130434783,8.7200000000000006,6.9680299999999997,13.96,11.507300000000001,16.09,0.91886766099999995,119.78,9.7693999999999992,1,1,1.52]
[null,"Abril",279.80388888888888,8.7200000000000006,7.0647000000000002,14.03,11.5762,16.085714285714289,0.934194411,119.81,9.4460999999999995,1,1,1.49]
[null,"Mayo",282.31142857142851,8.7200000000000006,7.2618999999999998,14.09,11.6721,15.98190476190476,0.94090194900000002,122.11,9.3622999999999994,1,1,1.46]
[null,"Junio",284.83956521739123,8.7200000000000006,7.3519399999999999,14.17,11.804500000000001,15.87,0.96361858,120.9,9.5418000000000003,1,1,1.47]
[null,"Julio",287.31363636363631,8.7200000000000006,7.3805899999999998,14.22,11.937900000000001,15.819090909090908,0.96593345900000005,119.86,9.3671000000000006,1,1,1.49]
[null,"Agosto",289.35857142857151,8.7200000000000006,7.6613699999999998,14.27,12.0403,15.85,0.94308038299999997,113.4,9.3980999999999995,1,1,1.49]
[null,"Septiembre",291.22809523809525,8.7200000000000006,7.7744099999999996,14.35,12.118600000000001,15.89,0.95231111599999996,107.57,9.3402999999999992,1,1,1.48]
[null,"Octubre",293.08699999999999,8.7200000000000006,7.7969900000000001,14.39,12.173999999999999,16,0.93402687900000003,105.97,9.5403000000000002,1,1,1.48]
[null,"Noviembre",295.00636363636369,8.7200000000000006,7.7574300000000003,14.44,12.2721,16.079999999999998,0.96728356800000004,104.96,9.4205000000000005,1,1,1.47]
[null,"Diciembre",296.94714285714292,8.7200000000000006,7.66364,14.49,12.2689,15.93,0.98910598699999996,102.68,9.4135000000000009,1,1,1.47]
[2000,"Enero",298.75761904761902,8.7200000000000006,7.8733199999999997,14.54,12.436500000000001,15.99,0.986490019,105.16,9.4793000000000003,1,1,1.45]
[null,"Febrero",300.38285714285718,8.7200000000000006,7.7813499999999998,14.61,12.4793,16.190000000000001,1.0168553950000001,109.31,9.4456000000000007,1,1,1.45]
[null,"Marzo",302.14739130434788,8.7200000000000006,7.7170800000000002,14.65,12.5344,16.170000000000002,1.0369754330000001,106.71,9.2958999999999996,1,1,1.46]
[null,"Abril",303.72117647058826,8.7200000000000006,7.7060899999999997,14.7,12.592700000000001,16.18578947368421,1.056021965,105.48,9.3748000000000005,1,1,1.47]
[null,"Mayo",305.30409090909092,8.7200000000000006,7.6951599999999996,14.76,12.6478,16.2,1.1037917450000001,108.11,9.5077999999999996,1,1,1.4955000000000001]
[null,"Junio",307.03550000000001,8.7200000000000006,7.7240000000000002,14.8,12.6532,16.226190476190474,1.053544281,106.23,9.7978000000000005,1,1,1.4767999999999999]
[null,"Julio",308.70450000000005,8.7200000000000006,7.7418899999999997,14.8499,12.722200000000001,16.3,1.064218114,107.9,9.4687999999999999,1,1,1.47786]
[null,"Agosto",310.36714285714288,8.7200000000000006,7.7401600000000004,14.9107,12.829700000000001,16.329999999999998,1.106124946,108.08043478260868,9.2724782608695637,1,1,1.47902]
[null,"Septiembre",311.98,8.7200000000000006,7.7925399999999998,14.979100000000001,12.851900000000001,16.429523809523808,1.146639086,106.83750000000001,9.3615999999999993,1,1,1.48617]
[null,"Octubre",313.65090909090918,8.7200000000000006,7.8104399999999998,15.0326,12.914099999999999,16.466363636363642,1.1693731810000001,108.44285714285714,9.5379047619047608,1,1,1.5123]
[null,"Noviembre",315.43180000000001,8.7200000000000006,7.7614000000000001,15.09,12.9809,16.509523809523813,1.167697744,109.0095238095238,9.5081428571428575,1,1,1.5422199999999999]
[null,"Diciembre",317.12149999999991,8.7200000000000006,7.7229200000000002,15.130100000000001,12.9916,16.57,1.1144346030000001,112.20899999999999,9.4672500000000017,1,1,1.52244]
[2001,"Enero",318.72089999999997,8.75,7.7930599999999997,15.146100000000001,13.069599999999999,16.670000000000002,1.065777666,116.72136363636361,9.7737272727272728,1,1,1.5032000000000001]
[null,"Febrero",320.37,8.75,7.72851,15.199199999999999,13.1396,16.86,1.084945834,115.49697792693513,9.5345218025779719,1,1,1.5213000000000001]
[null,"Marzo",322.05772727272733,8.75,7.6924799999999998,15.2479,13.1798,16.824090909090909,1.099477418,121.44666666666663,9.6029761904761912,1,1,1.5579700000000001]
[null,"Abril",323.60428571428577,8.75,7.7382400000000002,15.31,13.218999999999999,16.79,1.1210762329999999,123.77095238095242,9.3275952380952365,1,1,1.55749]
[null,"Mayo",325.21695652173918,8.75,7.7602099999999998,15.37,13.3062,16.77,1.1439501050000001,121.72391304347826,9.1883043478260849,1,1,1.54745]
[null,"Junio",326.95999999999998,8.75,7.7891000000000004,15.43,13.4314,16.772500000000001,1.1721034690000001,122.35095238095242,9.0880952380952387,1,1,1.5245333333333331]
[null,"Julio",328.87954545454545,8.75,7.7904200000000001,15.49,13.509499999999999,16.768636363636361,1.161893608,124.45181818181817,9.1619545454545452,1,1,1.53037]
[null,"Agosto",330.91,8.75,7.8394000000000004,15.52,13.5641,16.772272727272728,1.110515135,121.355,9.1336700000000004,1,1,1.54016]
[null,"Septiembre",333.01100000000002,8.75,7.9433699999999998,15.59,13.6401,16.792105263157893,1.097580384,118.926,9.4173899999999993,1,1,1.5679388888888885]
[null,"Octubre",335.83739130434782,8.75,8.0989500000000003,15.68,13.7516,16.831739130434784,1.1039172500000001,121.417,9.3390799999999992,1,1,1.5716772727272728]
[null,"Noviembre",337.77,8.75,8.0732300000000006,15.8,13.761200000000001,16.848571428571429,1.1257344010000001,122.312,9.2249800000000004,1,1,1.5922449999999999]
[null,"Diciembre",340.31,8.75,7.9464499999999996,15.88,13.7784,16.95,1.1206088940000001,127.59399999999999,9.1573799999999999,1,1,1.5780315789473685]
[2002,"Enero",342.67,8.75,8.0050299999999996,15.97,13.8645,17.089047619047619,1.132136137,132.62799999999999,9.1636199999999999,1,1,1.59971]
[null,"Febrero",345.52,8.75,7.9290200000000004,16.07,13.914899999999999,17.374210526315789,1.1493790479999999,133.64699999999999,9.1058400000000006,1,1,1.59612]
[null,"Marzo",348.3542105263158,8.75,7.9018699999999997,16.149999999999999,13.983000000000001,17.489999999999998,1.141813199,131.06100000000001,9.0730000000000004,1,1,1.5877399999999999]
[null,"Abril",351.113,8.75,7.8154700000000004,16.23,14.0527,17.64,1.1288682080000001,130.816,9.1661999999999999,1,1,1.5813299999999999]
[null,"Mayo",354.25,8.75,7.8587199999999999,16.309999999999999,14.146599999999999,17.77,1.0905125410000001,126.375,9.5098900000000004,1,1,1.5501499999999999]
[null,"Junio",357.62,8.75,7.8892899999999999,16.39,14.243600000000001,17.8,1.0466381979999999,123.29,9.76708,1,1,1.5318400000000001]
[null,"Julio",360.94,8.75,7.8441799999999997,16.47,14.264799999999999,17.63,1.007878587,117.899,9.7791700000000006,1,1,1.54555]
[null,"Agosto",363.87,8.75,7.7598200000000004,16.55,14.329499999999999,17.91,1.0227469140000001,119,9.8387100000000007,1,1,1.5691999999999999]
[null,"Septiembre",366.93681818181813,8.75,7.7714499999999997,16.64,14.4255,18.34,1.0195810540000001,121.078,10.0708,1,1,1.5761400000000001]
[null,"Octubre",370.26,8.75,7.7172599999999996,16.73,14.489699999999999,19.100000000000001,1.0192399999999999,123.908,10.094099999999999,1,1,1.5780099999999999]
[null,"Noviembre",373.7342857142857,8.75,7.6006600000000004,16.8,14.551,20.23,0.99820399999999998,121.505,10.1952,1,1,1.57145]
[null,"Diciembre",376.89636363636362,8.75,7.6367000000000003,16.88,14.541,20.62,0.98119400000000001,121.893,10.225099999999999,1,1,1.5592200000000001]
[2003,"Enero",379.98318181818178,8.75,7.7846500000000001,16.96,14.6928,21.66,0.94159999999999999,118.813,10.622299999999999,1,1,1.5414479999999999]
[null,"Febrero",383.31400000000002,8.75,7.8144195035860555,17.04,14.7624,23.62,0.92726399999999998,119.33799999999999,10.944699999999999,1,1,1.5121500000000001]
[null,"Marzo",386.74,8.75,7.8924453582842657,17.11,14.8422,22.52,0.926369,118.687,10.9053,1,1,1.4760800000000001]
[null,"Abril",389.93090909090921,8.75,7.8945656603165117,17.18,14.919499999999999,23.51,0.92075600000000002,119.895,10.588699999999999,1,1,1.4581999999999999]
[null,"Mayo",393.13714285714292,8.75,7.8905415893591684,17.23,14.991199999999999,25.83,0.86563199999999996,117.36799999999999,10.252800000000001,1,1,1.3839600000000001]
[null,"Junio",396.46952380952382,8.75,7.9082667515819551,17.3,15.072100000000001,28.45,0.85668900000000003,118.32899999999999,10.502800000000001,1,1,1.3525100000000001]
[null,"Julio",399.78227272727275,8.75,7.9074443779329258,17.38,15.1853,33.18,0.87998399999999999,118.696,10.4581,1,1,1.38209]
[null,"Agosto",403,8.75,7.9105663751631816,17.45,15.165100000000001,33.01,0.89669299999999996,118.66200000000001,10.782999999999999,1,1,1.3962699999999999]
[null,"Septiembre",406.33619047619044,8.75,7.9707913572075713,17.53,15.3093,30.75,0.88789399999999996,114.8,10.9229,1,1,1.36337]
[null,"Octubre",409.81956521739124,8.75,8.0821973929643907,17.600000000000001,15.444699999999999,34.5,0.85415600000000003,109.509,11.179600000000001,1,1,1.3221000000000001]
[null,"Noviembre",413.0542857142857,8.75,8.066397368832364,17.670000000000002,15.4718,38.4,0.85499999999999998,109.158,11.1494,1,1,1.31304]
[null,"Diciembre",416.69,8.75,8.0174642486008079,17.73,15.5284,37.44,0.81334300000000004,107.742,11.2515,1,1,1.3127500000000001]
[2004,"Enero",420.61290322580663,8.75,8.0986893191686118,17.78,15.6318,46.96,0.79132800000000003,106.26900000000001,10.920299999999999,1,1,1.29575]
[null,"Febrero",423.82689655172402,8.75,8.0934811010188259,17.86,15.682600000000001,48.97,0.79119899999999999,106.708,11.0319,1,1,1.32989]
[null,"Marzo",425.75826086956516,8.75,8.0882595721606059,17.940000000000001,15.7525,46.37,0.81565200000000004,108.51600000000001,11.019,1,1,1.3285800000000001]
[null,"Abril",428.96749999999997,8.75,8.0346942243765724,18.0243,15.8154,44.56,0.83416100000000004,107.65600000000001,11.270099999999999,1,1,1.3419700000000001]
[null,"Mayo",432.05,8.75,7.9736667428730872,18.099299999999999,15.890650715057401,47.2,0.83343299999999998,112.196,11.5199,1,1,1.37886]
[null,"Junio",435.20590909090902,8.75,7.92679643756329,18.1691,15.9534,48.16,0.82335100000000006,109.434,11.3926,1,1,1.3578399999999999]
[null,"Julio",438.47772727272729,8.75,7.8822715597168571,18.241,15.987,44.89,0.81535599999999997,109.48699999999999,11.4678,1,1,1.3225]
[null,"Agosto",441.80772727272722,8.75,7.8972604530406718,18.329999999999998,16.03618051718901,41.1,0.82033100000000003,110.23399999999999,11.395300000000001,1,1,1.3126800000000001]
[null,"Septiembre",445.22136363636378,8.75,7.8872722338816059,18.411000000000001,16.051542371951133,37.020000000000003,0.81810000000000005,110.09099999999999,11.487,1,1,1.2881]
[null,"Octubre",448.94380952380953,8.75,7.8180544549330753,18.486699999999999,16.084469555548353,32.5,0.79969500000000004,108.78400000000001,11.403700000000001,1,1,1.2469300000000001]
[null,"Noviembre",452.50045454545455,8.75,7.7589499823664703,18.54,16.107368057139297,29.49,0.76967600000000003,104.77800000000001,11.37,1,1,1.1974]
[null,"Diciembre",456.00550000000004,8.75,7.7658533524718401,18.59,16.135477468171569,29.01,0.74597400000000003,103.81,11.2012,1,1,1.21888]
[2005,"Enero",{"$f":"+[1]datos!B195","v":459.51967741935471},{"$f":"+[1]datos!C195","v":8.75},{"$f":"+[1]datos!D195","v":7.7515900000000002},{"$f":"+[1]datos!E195","v":18.66},{"$f":"+[1]datos!F195","v":16.287199999999999},{"$f":"+[1]datos!M195","v":29.835599999999999},{"$f":"+[1]datos!G195","v":0.76211300000000004},{"$f":"+[1]datos!H195","v":103.34099999999999},{"$f":"+[1]datos!I195","v":11.262700000000001},{"$f":"+[1]datos!J195","v":1},{"$f":"+[1]datos!K195","v":1},{"$f":"+[1]datos!L195","v":1.2248399999999999}]
[null,"Febrero",{"$f":"+[1]datos!B196","v":462.80464285714282},{"$f":"+[1]datos!C196","v":8.75},{"$f":"+[1]datos!D196","v":7.7064199999999996},{"$f":"+[1]datos!E196","v":18.73},{"$f":"+[1]datos!F196","v":16.4573},{"$f":"+[1]datos!M196","v":28.8475},{"$f":"+[1]datos!G196","v":0.76856400000000002},{"$f":"+[1]datos!H196","v":104.994},{"$f":"+[1]datos!I196","v":11.1373},{"$f":"+[1]datos!J196","v":1},{"$f":"+[1]datos!K196","v":1},{"$f":"+[1]datos!L196","v":1.2400500000000001}]
[null,"Marzo",{"$f":"+[1]datos!B197","v":465.91419354838695},{"$f":"+[1]datos!C197","v":8.75},{"$f":"+[1]datos!D197","v":7.6037400000000002},{"$f":"+[1]datos!E197","v":18.77},{"$f":"+[1]datos!F197","v":16.524699999999999},{"$f":"+[1]datos!M197","v":28.298100000000002},{"$f":"+[1]datos!G197","v":0.75849999999999995},{"$f":"+[1]datos!H197","v":105.254},{"$f":"+[1]datos!I197","v":11.155200000000001},{"$f":"+[1]datos!J197","v":1},{"$f":"+[1]datos!K197","v":1},{"$f":"+[1]datos!L197","v":1.2160299999999999}]
[null,"Abril",{"$f":"+[1]datos!B198","v":468.81533333333334},{"$f":"+[1]datos!C198","v":8.75},{"$f":"+[1]datos!D198","v":7.5947899999999997},{"$f":"+[1]datos!E198","v":18.809999999999999},{"$f":"+[1]datos!F198","v":16.569400000000002},{"$f":"+[1]datos!M198","v":28.2471},{"$f":"+[1]datos!G198","v":0.77267799999999998},{"$f":"+[1]datos!H198","v":107.167},{"$f":"+[1]datos!I198","v":11.1097},{"$f":"+[1]datos!J198","v":1},{"$f":"+[1]datos!K198","v":1},{"$f":"+[1]datos!L198","v":1.2368600000000001}]
[null,"Mayo",{"$f":"+[1]datos!B199","v":471.98387096774195},{"$f":"+[1]datos!C199","v":8.75},{"$f":"+[1]datos!D199","v":7.5822500000000002},{"$f":"+[1]datos!E199","v":18.850000000000001},{"$f":"+[1]datos!F199","v":16.657399999999999},{"$f":"+[1]datos!M199","v":28.699000000000002},{"$f":"+[1]datos!G199","v":0.78807499999999997},{"$f":"+[1]datos!H199","v":106.654},{"$f":"+[1]datos!I199","v":10.972300000000001},{"$f":"+[1]datos!J199","v":1},{"$f":"+[1]datos!K199","v":1},{"$f":"+[1]datos!L199","v":1.25566}]
[null,"Junio",{"$f":"+[1]datos!B200","v":475.28000000000009},{"$f":"+[1]datos!C200","v":8.75},{"$f":"+[1]datos!D200","v":7.60466},{"$f":"+[1]datos!E200","v":18.86},{"$f":"+[1]datos!F200","v":16.6816},{"$f":"+[1]datos!M200","v":28.898599999999998},{"$f":"+[1]datos!G200","v":0.82272699999999999},{"$f":"+[1]datos!H200","v":108.747},{"$f":"+[1]datos!I200","v":10.819699999999999},{"$f":"+[1]datos!J200","v":1},{"$f":"+[1]datos!K200","v":1},{"$f":"+[1]datos!L200","v":1.24017}]
[null,"Julio",{"$f":"+[1]datos!B201","v":478.4996774193549},{"$f":"+[1]datos!C201","v":8.75},{"$f":"+[1]datos!D201","v":7.5801600000000002},{"$f":"+[1]datos!E201","v":18.87},{"$f":"+[1]datos!F201","v":16.808900000000001},{"$f":"+[1]datos!M201","v":28.927},{"$f":"+[1]datos!G201","v":0.83083499999999999},{"$f":"+[1]datos!H201","v":111.94},{"$f":"+[1]datos!I201","v":10.6755},{"$f":"+[1]datos!J201","v":1},{"$f":"+[1]datos!K201","v":1},{"$f":"+[1]datos!L201","v":1.22376}]
[null,"Agosto",{"$f":"+[1]datos!B202","v":481.45677419354826},{"$f":"+[1]datos!C202","v":8.75},{"$f":"+[1]datos!D202","v":7.5792999999999999},{"$f":"+[1]datos!E202","v":18.87},{"$f":"+[1]datos!F202","v":16.887499999999999},{"$f":"+[1]datos!M202","v":29.001000000000001},{"$f":"+[1]datos!G202","v":0.813361},{"$f":"+[1]datos!H202","v":110.607},{"$f":"+[1]datos!I202","v":10.686199999999999},{"$f":"+[1]datos!J202","v":1},{"$f":"+[1]datos!K202","v":1},{"$f":"+[1]datos!L202","v":1.20428}]
[null,"Septiembre",{"$f":"+[1]datos!B203","v":484.56200000000001},{"$f":"+[1]datos!C203","v":8.75},{"$f":"+[1]datos!D203","v":7.6124299999999998},{"$f":"+[1]datos!E203","v":18.88},{"$f":"+[1]datos!F203","v":16.952100000000002},{"$f":"+[1]datos!M203","v":30.422799999999999},{"$f":"+[1]datos!G203","v":0.81651200000000002},{"$f":"+[1]datos!H203","v":111.15600000000001},{"$f":"+[1]datos!I203","v":10.7791},{"$f":"+[1]datos!J203","v":1},{"$f":"+[1]datos!K203","v":1},{"$f":"+[1]datos!L203","v":1.1778900000000001}]
[null,"Octubre",{"$f":"+[1]datos!B204","v":487.71967741935481},{"$f":"+[1]datos!C204","v":8.75},{"$f":"+[1]datos!D204","v":7.6658400000000002},{"$f":"+[1]datos!E204","v":18.89},{"$f":"+[1]datos!F204","v":17.009399999999999},{"$f":"+[1]datos!M204","v":32.406500000000001},{"$f":"+[1]datos!G204","v":0.83150500000000005},{"$f":"+[1]datos!H204","v":114.82},{"$f":"+[1]datos!I204","v":10.8332},{"$f":"+[1]datos!J204","v":1},{"$f":"+[1]datos!K204","v":1},{"$f":"+[1]datos!L204","v":1.1772800000000001}]
[null,"Noviembre",{"$f":"+[1]datos!B205","v":490.91433333333333},{"$f":"+[1]datos!C205","v":8.75},{"$f":"+[1]datos!D205","v":7.6008100000000001},{"$f":"+[1]datos!E205","v":18.899999999999999},{"$f":"+[1]datos!F205","v":17.080500000000001},{"$f":"+[1]datos!M205","v":33.251600000000003},{"$f":"+[1]datos!G205","v":0.84845199999999998},{"$f":"+[1]datos!H205","v":118.45},{"$f":"+[1]datos!I205","v":10.6714},{"$f":"+[1]datos!J205","v":1},{"$f":"+[1]datos!K205","v":1},{"$f":"+[1]datos!L205","v":1.1813899999999999}]
[null,"Diciembre",{"$f":"+[1]datos!B206","v":494.14677419354837},{"$f":"+[1]datos!C206","v":8.75},{"$f":"+[1]datos!D206","v":7.6023399999999999},{"$f":"+[1]datos!E206","v":18.899999999999999},{"$f":"+[1]datos!F206","v":17.105799999999999},{"$f":"+[1]datos!M206","v":33.122700000000002},{"$f":"+[1]datos!G206","v":0.843167},{"$f":"+[1]datos!H206","v":118.36799999999999},{"$f":"+[1]datos!I206","v":10.629},{"$f":"+[1]datos!J206","v":1},{"$f":"+[1]datos!K206","v":1},{"$f":"+[1]datos!L206","v":1.1616599999999999}]
[2006,"Enero",{"$f":"+[1]datos!B207","v":497.28709677419357},{"$f":"+[1]datos!C207","v":8.75},{"$f":"+[1]datos!D207","v":7.6114600000000001},{"$f":"+[1]datos!E207","v":18.899999999999999},{"$f":"+[1]datos!F207","v":17.2182},{"$f":"+[1]datos!M207","v":34.564900000000002},{"$f":"+[1]datos!G207","v":0.82626999999999995},{"$f":"+[1]datos!H207","v":115.586},{"$f":"+[1]datos!I207","v":10.5496},{"$f":"+[1]datos!J207","v":1},{"$f":"+[1]datos!K207","v":1},{"$f":"+[1]datos!L207","v":1.15788}]
[null,"Febrero",{"$f":"+[1]datos!B208","v":500.23214285714295},{"$f":"+[1]datos!C208","v":8.75},{"$f":"+[1]datos!D208","v":7.5989500000000003},{"$f":"+[1]datos!E208","v":18.899999999999999},{"$f":"+[1]datos!F208","v":17.309000000000001},{"$f":"+[1]datos!M208","v":34.173699999999997},{"$f":"+[1]datos!G208","v":0.83759300000000003},{"$f":"+[1]datos!H208","v":117.839},{"$f":"+[1]datos!I208","v":10.481299999999999},{"$f":"+[1]datos!J208","v":1},{"$f":"+[1]datos!K208","v":1},{"$f":"+[1]datos!L208","v":1.14873}]
[null,"Marzo",{"$f":"+[1]datos!B209","v":502.98709677419367},{"$f":"+[1]datos!C209","v":8.75},{"$f":"+[1]datos!D209","v":7.6090799999999996},{"$f":"+[1]datos!E209","v":18.899999999999999},{"$f":"+[1]datos!F209","v":17.362098756424462},{"$f":"+[1]datos!M209","v":32.561100000000003},{"$f":"+[1]datos!G209","v":0.83140999999999998},{"$f":"+[1]datos!H209","v":117.27800000000001},{"$f":"+[1]datos!I209","v":10.7493},{"$f":"+[1]datos!J209","v":1},{"$f":"+[1]datos!K209","v":1},{"$f":"+[1]datos!L209","v":1.1573100000000001}]
[null,"Abril",{"$f":"+[1]datos!B210","v":505.56166666666661},{"$f":"+[1]datos!C210","v":8.75},{"$f":"+[1]datos!D210","v":7.5841099999999999},{"$f":"+[1]datos!E210","v":18.899999999999999},{"$f":"+[1]datos!F210","v":17.4192},{"$f":"+[1]datos!M210","v":32.106299999999997},{"$f":"+[1]datos!G210","v":0.81490200000000002},{"$f":"+[1]datos!H210","v":117.07},{"$f":"+[1]datos!I210","v":11.0489},{"$f":"+[1]datos!J210","v":1},{"$f":"+[1]datos!K210","v":1},{"$f":"+[1]datos!L210","v":1.1440999999999999}]
[null,"Mayo",{"$f":"+[1]datos!B211","v":507.63032258064516},{"$f":"+[1]datos!C211","v":8.75},{"$f":"+[1]datos!D211","v":7.5749000000000004},{"$f":"+[1]datos!E211","v":18.899999999999999},{"$f":"+[1]datos!F211","v":17.4924},{"$f":"+[1]datos!M211","v":32.4925},{"$f":"+[1]datos!G211","v":0.78334499999999996},{"$f":"+[1]datos!H211","v":111.767},{"$f":"+[1]datos!I211","v":11.093},{"$f":"+[1]datos!J211","v":1},{"$f":"+[1]datos!K211","v":1},{"$f":"+[1]datos!L211","v":1.1098699999999999}]
[null,"Junio",{"$f":"+[1]datos!B212","v":510.39433333333329},{"$f":"+[1]datos!C212","v":8.75},{"$f":"+[1]datos!D212","v":7.6012399999999998},{"$f":"+[1]datos!E212","v":18.899999999999999},{"$f":"+[1]datos!F212","v":17.590900035500571},{"$f":"+[1]datos!M212","v":32.7652},{"$f":"+[1]datos!G212","v":0.78992899999999999},{"$f":"+[1]datos!H212","v":114.625},{"$f":"+[1]datos!I212","v":11.3934},{"$f":"+[1]datos!J212","v":1},{"$f":"+[1]datos!K212","v":1},{"$f":"+[1]datos!L212","v":1.1137300000000001}]
[null,"Julio",{"$f":"+[1]datos!B213","v":513.26935483870955},{"$f":"+[1]datos!C213","v":8.75},{"$f":"+[1]datos!D213","v":7.5741199999999997},{"$f":"+[1]datos!E213","v":18.899999999999999},{"$f":"+[1]datos!F213","v":17.629068677734224},{"$f":"+[1]datos!M213","v":32.754399999999997},{"$f":"+[1]datos!G213","v":0.78864100000000004},{"$f":"+[1]datos!H213","v":115.767},{"$f":"+[1]datos!I213","v":10.983000000000001},{"$f":"+[1]datos!J213","v":1},{"$f":"+[1]datos!K213","v":1},{"$f":"+[1]datos!L213","v":1.1294500000000001}]
[null,"Agosto",{"$f":"+[1]datos!B214","v":515.88225806451624},{"$f":"+[1]datos!C214","v":8.75},{"$f":"+[1]datos!D214","v":7.5738300000000001},{"$f":"+[1]datos!E214","v":18.899999999999999},{"$f":"+[1]datos!F214","v":17.7196},{"$f":"+[1]datos!M214","v":32.634399999999999},{"$f":"+[1]datos!G214","v":0.78062200000000004},{"$f":"+[1]datos!H214","v":115.92400000000001},{"$f":"+[1]datos!I214","v":10.8735},{"$f":"+[1]datos!J214","v":1},{"$f":"+[1]datos!K214","v":1},{"$f":"+[1]datos!L214","v":1.1182099999999999}]
[null,"Septiembre",{"$f":"+[1]datos!B215","v":518.49866666666662},{"$f":"+[1]datos!C215","v":8.75},{"$f":"+[1]datos!D215","v":7.5976400000000002},{"$f":"+[1]datos!E215","v":18.899999999999999},{"$f":"+[1]datos!F215","v":17.748595450452004},{"$f":"+[1]datos!M215","v":32.9495},{"$f":"+[1]datos!G215","v":0.78572200000000003},{"$f":"+[1]datos!H215","v":117.214},{"$f":"+[1]datos!I215","v":10.9842},{"$f":"+[1]datos!J215","v":1},{"$f":"+[1]datos!K215","v":1},{"$f":"+[1]datos!L215","v":1.1156200000000001}]
[null,"Octubre",{"$f":"+[1]datos!B216","v":518.01870967741934},{"$f":"+[1]datos!C216","v":8.75},{"$f":"+[1]datos!D216","v":7.6049600000000002},{"$f":"+[1]datos!E216","v":18.899999999999999},{"$f":"+[1]datos!F216","v":17.8292},{"$f":"+[1]datos!M216","v":33.473700000000001},{"$f":"+[1]datos!G216","v":0.79265200000000002},{"$f":"+[1]datos!H216","v":118.622},{"$f":"+[1]datos!I216","v":10.8932},{"$f":"+[1]datos!J216","v":1},{"$f":"+[1]datos!K216","v":1},{"$f":"+[1]datos!L216","v":1.12843}]
[null,"Noviembre",{"$f":"+[1]datos!B217","v":514.76266666666663},{"$f":"+[1]datos!C217","v":8.75},{"$f":"+[1]datos!D217","v":7.5991299999999997},{"$f":"+[1]datos!E217","v":18.899999999999999},{"$f":"+[1]datos!F217","v":17.915461851624741},{"$f":"+[1]datos!M217","v":33.558999999999997},{"$f":"+[1]datos!G217","v":0.77593599999999996},{"$f":"+[1]datos!H217","v":117.288},{"$f":"+[1]datos!I217","v":10.915900000000001},{"$f":"+[1]datos!J217","v":1},{"$f":"+[1]datos!K217","v":1},{"$f":"+[1]datos!L217","v":1.1361300000000001}]
[null,"Diciembre",{"$f":"+[1]datos!B218","v":515.19096774193542},{"$f":"+[1]datos!C218","v":8.75},{"$f":"+[1]datos!D218","v":7.5950499999999996},{"$f":"+[1]datos!E218","v":18.899999999999999},{"$f":"+[1]datos!F218","v":17.9846},{"$f":"+[1]datos!M218","v":33.085599999999999},{"$f":"+[1]datos!G218","v":0.75752699999999995},{"$f":"+[1]datos!H218","v":117.39700000000001},{"$f":"+[1]datos!I218","v":10.854699999999999},{"$f":"+[1]datos!J218","v":1},{"$f":"+[1]datos!K218","v":1},{"$f":"+[1]datos!L218","v":1.15344}]
[2007,"Enero",{"$f":"+[1]datos!B219","v":516.15193548387094},{"$f":"+[1]datos!C219","v":8.75},{"$f":"+[1]datos!D219","v":7.66913},{"$f":"+[1]datos!E219","v":18.899999999999999},{"$f":"+[1]datos!F219","v":18.059999999999999},{"$f":"+[1]datos!M219","v":33.7012},{"$f":"+[1]datos!G219","v":0.76933399999999996},{"$f":"+[1]datos!H219","v":120.381},{"$f":"+[1]datos!I219","v":10.950100000000001},{"$f":"+[1]datos!J219","v":1},{"$f":"+[1]datos!K219","v":1},{"$f":"+[1]datos!L219","v":1.17553}]
[null,"Febrero",{"$f":"+[1]datos!B220","v":517.18750000000011},{"$f":"+[1]datos!C220","v":8.75},{"$f":"+[1]datos!D220","v":7.6863000000000001},{"$f":"+[1]datos!E220","v":18.899999999999999},{"$f":"+[1]datos!F220","v":18.1479},{"$f":"+[1]datos!M220","v":33.361800000000002},{"$f":"+[1]datos!G220","v":0.76438399999999995},{"$f":"+[1]datos!H220","v":120.441},{"$f":"+[1]datos!I220","v":10.994899999999999},{"$f":"+[1]datos!J220","v":1},{"$f":"+[1]datos!K220","v":1},{"$f":"+[1]datos!L220","v":1.1706300000000001}]
[null,"Marzo",{"$f":"+[1]datos!B221","v":516.91580645161309},{"$f":"+[1]datos!C221","v":8.75},{"$f":"+[1]datos!D221","v":7.6832700000000003},{"$f":"+[1]datos!E221","v":18.899999999999999},{"$f":"+[1]datos!F221","v":18.194253496415492},{"$f":"+[1]datos!M221","v":32.7913},{"$f":"+[1]datos!G221","v":0.75498500000000002},{"$f":"+[1]datos!H221","v":117.26},{"$f":"+[1]datos!I221","v":11.1144},{"$f":"+[1]datos!J221","v":1},{"$f":"+[1]datos!K221","v":1},{"$f":"+[1]datos!L221","v":1.1681600000000001}]
[null,"Abril",{"$f":"+[1]datos!B222","v":516.73399999999992},{"$f":"+[1]datos!C222","v":8.75},{"$f":"+[1]datos!D222","v":7.6525800000000004},{"$f":"+[1]datos!E222","v":18.899999999999999},{"$f":"+[1]datos!F222","v":18.219006574985084},{"$f":"+[1]datos!M222","v":32.228099999999998},{"$f":"+[1]datos!G222","v":0.74007599999999996},{"$f":"+[1]datos!H222","v":118.932},{"$f":"+[1]datos!I222","v":10.9802},{"$f":"+[1]datos!J222","v":1},{"$f":"+[1]datos!K222","v":1},{"$f":"+[1]datos!L222","v":1.1349899999999999}]
[null,"Mayo",{"$f":"+[1]datos!B223","v":516.76774193548397},{"$f":"+[1]datos!C223","v":8.75},{"$f":"+[1]datos!D223","v":7.63443},{"$f":"+[1]datos!E223","v":18.899999999999999},{"$f":"+[1]datos!F223","v":18.258881125759629},{"$f":"+[1]datos!M223","v":32.139800000000001},{"$f":"+[1]datos!G223","v":0.73993500000000001},{"$f":"+[1]datos!H223","v":120.81399999999999},{"$f":"+[1]datos!I223","v":10.82},{"$f":"+[1]datos!J223","v":1},{"$f":"+[1]datos!K223","v":1},{"$f":"+[1]datos!L223","v":1.0944}]
[null,"Junio",{"$f":"+[1]datos!B224","v":516.67633333333333},{"$f":"+[1]datos!C224","v":8.75},{"$f":"+[1]datos!D224","v":7.6696200000000001},{"$f":"+[1]datos!E224","v":18.899999999999999},{"$f":"+[1]datos!F224","v":18.2928},{"$f":"+[1]datos!M224","v":32.415399999999998},{"$f":"+[1]datos!G224","v":0.745139},{"$f":"+[1]datos!H224","v":122.68899999999999},{"$f":"+[1]datos!I224","v":10.833},{"$f":"+[1]datos!J224","v":1},{"$f":"+[1]datos!K224","v":1},{"$f":"+[1]datos!L224","v":1.0650999999999999}]
[null,"Julio",{"$f":"+[1]datos!B225","v":516.6},{"$f":"+[1]datos!C225","v":8.75},{"$f":"+[1]datos!D225","v":7.6701499999999996},{"$f":"+[1]datos!E225","v":18.899999999999999},{"$f":"+[1]datos!F225","v":18.364899999999999},{"$f":"+[1]datos!M225","v":32.992699999999999},{"$f":"+[1]datos!G225","v":0.72881200000000002},{"$f":"+[1]datos!H225","v":121.46},{"$f":"+[1]datos!I225","v":10.8124},{"$f":"+[1]datos!J225","v":1},{"$f":"+[1]datos!K225","v":1},{"$f":"+[1]datos!L225","v":1.0506}]
[null,"Agosto",{"$f":"+[1]datos!B226","v":516.5754838709679},{"$f":"+[1]datos!C226","v":8.75},{"$f":"+[1]datos!D226","v":7.65421},{"$f":"+[1]datos!E226","v":18.899999999999999},{"$f":"+[1]datos!F226","v":18.510100000000001},{"$f":"+[1]datos!M226","v":32.903500000000001},{"$f":"+[1]datos!G226","v":0.73394499999999996},{"$f":"+[1]datos!H226","v":116.733},{"$f":"+[1]datos!I226","v":11.043799999999999},{"$f":"+[1]datos!J226","v":1},{"$f":"+[1]datos!K226","v":1},{"$f":"+[1]datos!L226","v":1.05785}]
[null,"Septiembre",{"$f":"+[1]datos!B227","v":516.36666666666656},{"$f":"+[1]datos!C227","v":8.75},{"$f":"+[1]datos!D227","v":7.6902451506296448},{"$f":"+[1]datos!E227","v":18.899999999999999},{"$f":"+[1]datos!F227","v":18.594799999999999},{"$f":"+[1]datos!M227","v":33.306199999999997},{"$f":"+[1]datos!G227","v":0.71903600000000001},{"$f":"+[1]datos!H227","v":115.04300000000001},{"$f":"+[1]datos!I227","v":11.0319},{"$f":"+[1]datos!J227","v":1},{"$f":"+[1]datos!K227","v":1},{"$f":"+[1]datos!L227","v":1.0267500000000001}]
[null,"Octubre",{"$f":"+[1]datos!B228","v":516.58225806451605},{"$f":"+[1]datos!C228","v":8.75},{"$f":"+[1]datos!D228","v":7.7108800000000004},{"$f":"+[1]datos!E228","v":18.899999999999999},{"$f":"+[1]datos!F228","v":18.714300000000001},{"$f":"+[1]datos!M228","v":33.455100000000002},{"$f":"+[1]datos!G228","v":0.70262599999999997},{"$f":"+[1]datos!H228","v":115.866},{"$f":"+[1]datos!I228","v":10.821400000000001},{"$f":"+[1]datos!J228","v":1},{"$f":"+[1]datos!K228","v":1},{"$f":"+[1]datos!L228","v":0.97541299999999997}]
[null,"Noviembre",{"$f":"+[1]datos!B229","v":511.29133333333328},{"$f":"+[1]datos!C229","v":8.75},{"$f":"+[1]datos!D229","v":7.6298724282510353},{"$f":"+[1]datos!E229","v":18.899999999999999},{"$f":"+[1]datos!F229","v":18.792999999999999},{"$f":"+[1]datos!M229","v":33.407899999999998},{"$f":"+[1]datos!G229","v":0.68116399999999999},{"$f":"+[1]datos!H229","v":111.065},{"$f":"+[1]datos!I229","v":10.8811},{"$f":"+[1]datos!J229","v":1},{"$f":"+[1]datos!K229","v":1},{"$f":"+[1]datos!L229","v":0.96593200000000001}]
[null,"Diciembre",{"$f":"+[1]datos!B230","v":495.75483870967741},{"$f":"+[1]datos!C230","v":8.75},{"$f":"+[1]datos!D230","v":7.6145193141472056},{"$f":"+[1]datos!E230","v":18.899999999999999},{"$f":"+[1]datos!F230","v":18.840599999999998},{"$f":"+[1]datos!M230","v":33.518900000000002},{"$f":"+[1]datos!G230","v":0.68727300000000002},{"$f":"+[1]datos!H230","v":112.544},{"$f":"+[1]datos!I230","v":10.8447},{"$f":"+[1]datos!J230","v":1},{"$f":"+[1]datos!K230","v":1},{"$f":"+[1]datos!L230","v":1.00136}]
[2008,"Enero",{"$f":"+[1]datos!B231","v":494.60806451612893},{"$f":"+[1]datos!C231","v":8.75},{"$f":"+[1]datos!D231","v":7.6950003532170266},{"$f":"+[1]datos!E231","v":18.895099999999999},{"$f":"+[1]datos!F231","v":18.902887099781676},{"$f":"+[1]datos!M231","v":33.756999999999998},{"$f":"+[1]datos!G231","v":0.67947000000000002},{"$f":"+[1]datos!H231","v":107.944},{"$f":"+[1]datos!I231","v":10.9076},{"$f":"+[1]datos!J231","v":1},{"$f":"+[1]datos!K231","v":1},{"$f":"+[1]datos!L231","v":1.0098400000000001}]
[null,"Febrero",{"$f":"+[1]datos!B232","v":493.50827586206896},{"$f":"+[1]datos!C232","v":8.75},{"$f":"+[1]datos!D232","v":7.713841628737506},{"$f":"+[1]datos!E232","v":18.895100000000006},{"$f":"+[1]datos!F232","v":18.995517022688951},{"$f":"+[1]datos!M232","v":33.834400000000002},{"$f":"+[1]datos!G232","v":0.67784500000000003},{"$f":"+[1]datos!H232","v":107.06},{"$f":"+[1]datos!I232","v":10.767799999999999},{"$f":"+[1]datos!J232","v":1},{"$f":"+[1]datos!K232","v":1},{"$f":"+[1]datos!L232","v":0.99868599999999996}]
[null,"Marzo",{"$f":"+[1]datos!B233","v":492.35935483870969},{"$f":"+[1]datos!C233","v":8.75},{"$f":"+[1]datos!D233","v":7.6284180629053724},{"$f":"+[1]datos!E233","v":18.896999999999998},{"$f":"+[1]datos!F233","v":19.063788688146566},{"$f":"+[1]datos!M233","v":33.916899999999998},{"$f":"+[1]datos!G233","v":0.64442999999999995},{"$f":"+[1]datos!H233","v":100.756},{"$f":"+[1]datos!I233","v":10.732799999999999},{"$f":"+[1]datos!J233","v":1},{"$f":"+[1]datos!K233","v":1},{"$f":"+[1]datos!L233","v":1.0029399999999999}]
[null,"Abril",{"$f":"+[1]datos!B234","v":491.27700000000016},{"$f":"+[1]datos!C234","v":8.75},{"$f":"+[1]datos!D234","v":7.5304171142075269},{"$f":"+[1]datos!E234","v":18.903600000000001},{"$f":"+[1]datos!F234","v":19.124891060491503},{"$f":"+[1]datos!M234","v":34.025799999999997},{"$f":"+[1]datos!G234","v":0.63481299999999996},{"$f":"+[1]datos!H234","v":102.678},{"$f":"+[1]datos!I234","v":10.5146},{"$f":"+[1]datos!J234","v":1},{"$f":"+[1]datos!K234","v":1},{"$f":"+[1]datos!L234","v":1.01372}]
[null,"Mayo",{"$f":"+[1]datos!B235","v":507.55483870967743},{"$f":"+[1]datos!C235","v":8.75},{"$f":"+[1]datos!D235","v":7.424087050067028},{"$f":"+[1]datos!E235","v":18.911909523809499},{"$f":"+[1]datos!F235","v":19.213895973053184},{"$f":"+[1]datos!M235","v":34.011400000000002},{"$f":"+[1]datos!G235","v":0.64252399999999998},{"$f":"+[1]datos!H235","v":104.30800000000001},{"$f":"+[1]datos!I235","v":10.4361},{"$f":"+[1]datos!J235","v":1},{"$f":"+[1]datos!K235","v":1},{"$f":"+[1]datos!L235","v":0.99880500000000005}]
[null,"Junio",{"$f":"+[1]datos!B236","v":516.46166666666682},{"$f":"+[1]datos!C236","v":8.75},{"$f":"+[1]datos!D236","v":7.4820833829284314},{"$f":"+[1]datos!E236","v":18.898909523809525},{"$f":"+[1]datos!F236","v":19.301721574842208},{"$f":"+[1]datos!M236","v":34.157200000000003},{"$f":"+[1]datos!G236","v":0.64263700000000001},{"$f":"+[1]datos!H236","v":106.91500000000001},{"$f":"+[1]datos!I236","v":10.3269},{"$f":"+[1]datos!J236","v":1},{"$f":"+[1]datos!K236","v":1},{"$f":"+[1]datos!L236","v":1.0166200000000001}]
[null,"Julio",{"$f":"+[1]datos!B237","v":532.26032258064504},{"$f":"+[1]datos!C237","v":8.75},{"$f":"+[1]datos!D237","v":7.4317652507534779},{"$f":"+[1]datos!E237","v":18.895413043478253},{"$f":"+[1]datos!F237","v":19.375599999999999},{"$f":"+[1]datos!M237","v":34.273600000000002},{"$f":"+[1]datos!G237","v":0.63469200000000003},{"$f":"+[1]datos!H237","v":106.849},{"$f":"+[1]datos!I237","v":10.2163},{"$f":"+[1]datos!J237","v":1},{"$f":"+[1]datos!K237","v":1},{"$f":"+[1]datos!L237","v":1.01329}]
[null,"Agosto",{"$f":"+[1]datos!B238","v":547.15096774193546},{"$f":"+[1]datos!C238","v":8.75},{"$f":"+[1]datos!D238","v":7.3971985268438409},{"$f":"+[1]datos!E238","v":18.895199999999999},{"$f":"+[1]datos!F238","v":19.475583578006948},{"$f":"+[1]datos!M238","v":34.6753},{"$f":"+[1]datos!G238","v":0.66889799999999999},{"$f":"+[1]datos!H238","v":109.404},{"$f":"+[1]datos!I238","v":10.111000000000001},{"$f":"+[1]datos!J238","v":1},{"$f":"+[1]datos!K238","v":1},{"$f":"+[1]datos!L238","v":1.0529599999999999}]
[null,"Septiembre",{"$f":"+[1]datos!B239","v":548.97400000000005},{"$f":"+[1]datos!C239","v":8.75},{"$f":"+[1]datos!D239","v":7.4503711040300944},{"$f":"+[1]datos!E239","v":18.895123809523813},{"$f":"+[1]datos!F239","v":19.432961117318836},{"$f":"+[1]datos!M239","v":34.831699999999998},{"$f":"+[1]datos!G239","v":0.69673399999999996},{"$f":"+[1]datos!H239","v":106.67100000000001},{"$f":"+[1]datos!I239","v":10.646599999999999},{"$f":"+[1]datos!J239","v":1},{"$f":"+[1]datos!K239","v":1},{"$f":"+[1]datos!L239","v":1.05843}]
[null,"Octubre",{"$f":"+[1]datos!B240","v":550.25193548387085},{"$f":"+[1]datos!C240","v":8.75},{"$f":"+[1]datos!D240","v":7.5129466599303756},{"$f":"+[1]datos!E240","v":18.895119047619055},{"$f":"+[1]datos!F240","v":19.646979296253114},{"$f":"+[1]datos!M240","v":34.99},{"$f":"+[1]datos!G240","v":0.75371600000000005},{"$f":"+[1]datos!H240","v":99.975200000000001},{"$f":"+[1]datos!I240","v":12.6686},{"$f":"+[1]datos!J240","v":1},{"$f":"+[1]datos!K240","v":1},{"$f":"+[1]datos!L240","v":1.18523}]
[null,"Noviembre",{"$f":"+[1]datos!B241","v":548.65333333333331},{"$f":"+[1]datos!C241","v":8.75},{"$f":"+[1]datos!D241","v":7.6208658613064024},{"$f":"+[1]datos!E241","v":18.895115000000004},{"$f":"+[1]datos!F241","v":19.731587721498521},{"$f":"+[1]datos!M241","v":35.194099999999999},{"$f":"+[1]datos!G241","v":0.78447999999999996},{"$f":"+[1]datos!H241","v":96.94},{"$f":"+[1]datos!I241","v":13.108499999999999},{"$f":"+[1]datos!J241","v":1},{"$f":"+[1]datos!K241","v":1},{"$f":"+[1]datos!L241","v":1.2168099999999999}]
[null,"Diciembre",{"$f":"+[1]datos!B242","v":544.48258064516153},{"$f":"+[1]datos!C242","v":8.75},{"$f":"+[1]datos!D242","v":7.689267774777468},{"$f":"+[1]datos!E242","v":18.895099999999999},{"$f":"+[1]datos!F242","v":19.795882421365235},{"$f":"+[1]datos!M242","v":35.256900000000002},{"$f":"+[1]datos!G242","v":0.74045300000000003},{"$f":"+[1]datos!H242","v":91.249099999999999},{"$f":"+[1]datos!I242","v":13.4133},{"$f":"+[1]datos!J242","v":1},{"$f":"+[1]datos!K242","v":1},{"$f":"+[1]datos!L242","v":1.2327699999999999}]
[2009,"Enero",{"$f":"+[1]datos!B243","v":551.30838709677414},{"$f":"+[1]datos!C243","v":8.75},{"$f":"+[1]datos!D243","v":7.8455114061778559},{"$f":"+[1]datos!E243","v":18.895099999999999},{"$f":"+[1]datos!F243","v":19.916042247334367},{"$f":"+[1]datos!M243","v":35.369300000000003},{"$f":"+[1]datos!G243","v":0.75572399999999995},{"$f":"+[1]datos!H243","v":90.421199999999999},{"$f":"+[1]datos!I243","v":13.884499999999999},{"$f":"+[1]datos!J243","v":1},{"$f":"+[1]datos!K243","v":1},{"$f":"+[1]datos!L243","v":1.22664}]
[null,"Febrero",{"$f":"+[1]datos!B244","v":557.78392857142865},{"$f":"+[1]datos!C244","v":8.75},{"$f":"+[1]datos!D244","v":7.9324462749767868},{"$f":"+[1]datos!E244","v":18.895100000000006},{"$f":"+[1]datos!F244","v":19.997926553964621},{"$f":"+[1]datos!M244","v":35.558},{"$f":"+[1]datos!G244","v":0.78224300000000002},{"$f":"+[1]datos!H244","v":92.542199999999994},{"$f":"+[1]datos!I244","v":14.591799999999999},{"$f":"+[1]datos!J244","v":1},{"$f":"+[1]datos!K244","v":1},{"$f":"+[1]datos!L244","v":1.2468399999999999}]
[null,"Marzo",{"$f":"+[1]datos!B245","v":560.71161290322596},{"$f":"+[1]datos!C245","v":8.75},{"$f":"+[1]datos!D245","v":8.0635843305283821},{"$f":"+[1]datos!E245","v":18.89510000000001},{"$f":"+[1]datos!F245","v":20.028700000000001},{"$f":"+[1]datos!M245","v":35.666899999999998},{"$f":"+[1]datos!G245","v":0.76696299999999995},{"$f":"+[1]datos!H245","v":97.835700000000003},{"$f":"+[1]datos!I245","v":14.6716},{"$f":"+[1]datos!J245","v":1},{"$f":"+[1]datos!K245","v":1},{"$f":"+[1]datos!L245","v":1.26275}]
[null,"Abril",{"$f":"+[1]datos!B246","v":565.09633333333329},{"$f":"+[1]datos!C246","v":8.75},{"$f":"+[1]datos!D246","v":8.0795614352258323},{"$f":"+[1]datos!E246","v":18.895100000000006},{"$f":"+[1]datos!F246","v":20.006554991448645},{"$f":"+[1]datos!M246","v":35.825600000000001},{"$f":"+[1]datos!G246","v":0.75779300000000005},{"$f":"+[1]datos!H246","v":98.888099999999994},{"$f":"+[1]datos!I246","v":13.4491},{"$f":"+[1]datos!J246","v":1},{"$f":"+[1]datos!K246","v":1},{"$f":"+[1]datos!L246","v":1.2269699999999999}]
[null,"Mayo",{"$f":"+[1]datos!B247","v":569.73709677419345},{"$f":"+[1]datos!C247","v":8.75},{"$f":"+[1]datos!D247","v":8.0886278204663729},{"$f":"+[1]datos!E247","v":18.895099999999999},{"$f":"+[1]datos!F247","v":20.164880683483393},{"$f":"+[1]datos!M247","v":35.948300000000003},{"$f":"+[1]datos!G247","v":0.73380800000000002},{"$f":"+[1]datos!H247","v":96.735699999999994},{"$f":"+[1]datos!I247","v":13.215999999999999},{"$f":"+[1]datos!J247","v":1},{"$f":"+[1]datos!K247","v":1},{"$f":"+[1]datos!L247","v":1.1531100000000001}]
[null,"Junio",{"$f":"+[1]datos!B248","v":571.89400000000001},{"$f":"+[1]datos!C248","v":8.75},{"$f":"+[1]datos!D248","v":8.1190835347620904},{"$f":"+[1]datos!E248","v":18.89510000000001},{"$f":"+[1]datos!F248","v":20.273522255211812},{"$f":"+[1]datos!M248","v":35.923200000000001},{"$f":"+[1]datos!G248","v":0.713503},{"$f":"+[1]datos!H248","v":96.599199999999996},{"$f":"+[1]datos!I248","v":13.328900000000001},{"$f":"+[1]datos!J248","v":1},{"$f":"+[1]datos!K248","v":1},{"$f":"+[1]datos!L248","v":1.1245799999999999}]
[null,"Julio",{"$f":"+[1]datos!B249","v":577.19870967741929},{"$f":"+[1]datos!C249","v":8.75},{"$f":"+[1]datos!D249","v":8.1651316546808221},{"$f":"+[1]datos!E249","v":18.895099999999999},{"$f":"+[1]datos!F249","v":20.370698516606893},{"$f":"+[1]datos!M249","v":35.979900000000001},{"$f":"+[1]datos!G249","v":0.70988499999999999},{"$f":"+[1]datos!H249","v":94.473399999999998},{"$f":"+[1]datos!I249","v":13.356},{"$f":"+[1]datos!J249","v":1},{"$f":"+[1]datos!K249","v":1},{"$f":"+[1]datos!L249","v":1.1234999999999999}]
[null,"Agosto",{"$f":"+[1]datos!B250","v":582.20838709677423},{"$f":"+[1]datos!C250","v":8.75},{"$f":"+[1]datos!D250","v":8.2493711388796154},{"$f":"+[1]datos!E250","v":18.895100000000006},{"$f":"+[1]datos!F250","v":20.495326714118363},{"$f":"+[1]datos!M250","v":36.026899999999998},{"$f":"+[1]datos!G250","v":0.70089999999999997},{"$f":"+[1]datos!H250","v":94.838399999999993},{"$f":"+[1]datos!I250","v":13.0059},{"$f":"+[1]datos!J250","v":1},{"$f":"+[1]datos!K250","v":1},{"$f":"+[1]datos!L250","v":1.08796}]
[null,"Septiembre",{"$f":"+[1]datos!B251","v":582.15566666666689},{"$f":"+[1]datos!C251","v":8.75},{"$f":"+[1]datos!D251","v":8.3031278533496931},{"$f":"+[1]datos!E251","v":18.895110000000006},{"$f":"+[1]datos!F251","v":20.578071655346612},{"$f":"+[1]datos!M251","v":36.055900000000001},{"$f":"+[1]datos!G251","v":0.68682699999999997},{"$f":"+[1]datos!H251","v":91.443200000000004},{"$f":"+[1]datos!I251","v":13.409599999999999},{"$f":"+[1]datos!J251","v":1},{"$f":"+[1]datos!K251","v":1},{"$f":"+[1]datos!L251","v":1.08182}]
[null,"Octubre",{"$f":"+[1]datos!B252","v":577.49129032258054},{"$f":"+[1]datos!C252","v":8.75},{"$f":"+[1]datos!D252","v":8.3356649668472524},{"$f":"+[1]datos!E252","v":18.895110000000006},{"$f":"+[1]datos!F252","v":20.657870755391759},{"$f":"+[1]datos!M252","v":36.094900000000003},{"$f":"+[1]datos!G252","v":0.674987},{"$f":"+[1]datos!H252","v":90.3767},{"$f":"+[1]datos!I252","v":13.2209},{"$f":"+[1]datos!J252","v":1},{"$f":"+[1]datos!K252","v":1},{"$f":"+[1]datos!L252","v":1.05427}]
[null,"Noviembre",{"$f":"+[1]datos!B253","v":562.38366666666673},{"$f":"+[1]datos!C253","v":8.75},{"$f":"+[1]datos!D253","v":8.2926075535514752},{"$f":"+[1]datos!E253","v":18.895110000000006},{"$f":"+[1]datos!F253","v":20.725083123577612},{"$f":"+[1]datos!M253","v":36.0931},{"$f":"+[1]datos!G253","v":0.67052199999999995},{"$f":"+[1]datos!H253","v":89.157300000000006},{"$f":"+[1]datos!I253","v":13.1073},{"$f":"+[1]datos!J253","v":1},{"$f":"+[1]datos!K253","v":1},{"$f":"+[1]datos!L253","v":1.0597799999999999}]
[null,"Diciembre",{"$f":"+[1]datos!B254","v":562.63612903225794},{"$f":"+[1]datos!C254","v":8.75},{"$f":"+[1]datos!D254","v":8.3141321336488225},{"$f":"+[1]datos!E254","v":18.895110000000006},{"$f":"+[1]datos!F254","v":20.781463455802157},{"$f":"+[1]datos!M254","v":36.089500000000001},{"$f":"+[1]datos!G254","v":0.68454000000000004},{"$f":"+[1]datos!H254","v":89.814099999999996},{"$f":"+[1]datos!I254","v":12.8514},{"$f":"+[1]datos!J254","v":1},{"$f":"+[1]datos!K254","v":1},{"$f":"+[1]datos!L254","v":1.05366}]
[2010,"Enero",{"$f":"+[1]datos!B255","v":559.05064516129028},{"$f":"+[1]datos!C255","v":8.75},{"$f":"+[1]datos!D255","v":8.3563405085440845},{"$f":"+[1]datos!E255","v":18.895110000000006},{"$f":"+[1]datos!F255","v":20.918234696806792},{"$f":"+[1]datos!M255","v":36.11},{"$f":"+[1]datos!G255","v":0.70077999999999996},{"$f":"+[1]datos!H255","v":91.316599999999994},{"$f":"+[1]datos!I255","v":12.8104},{"$f":"+[1]datos!J255","v":1},{"$f":"+[1]datos!K255","v":1},{"$f":"+[1]datos!L255","v":1.0427}]
[null,"Febrero",{"$f":"+[1]datos!B256","v":548.63857142857148},{"$f":"+[1]datos!C256","v":8.75},{"$f":"+[1]datos!D256","v":8.1361262190342583},{"$f":"+[1]datos!E256","v":18.895100000126963},{"$f":"+[1]datos!F256","v":21.038769555912207},{"$f":"+[1]datos!M256","v":36.192},{"$f":"+[1]datos!G256","v":0.730765},{"$f":"+[1]datos!H256","v":90.207300000000004},{"$f":"+[1]datos!I256","v":12.944100000000001},{"$f":"+[1]datos!J256","v":1},{"$f":"+[1]datos!K256","v":1},{"$f":"+[1]datos!L256","v":1.0561100000000001}]
[null,"Marzo",{"$f":"+[1]datos!B257","v":532.64677419354837},{"$f":"+[1]datos!C257","v":8.75},{"$f":"+[1]datos!D257","v":8.0103276904942504},{"$f":"+[1]datos!E257","v":18.895103607623714},{"$f":"+[1]datos!F257","v":21.121796362445124},{"$f":"+[1]datos!M257","v":36.2973},{"$f":"+[1]datos!G257","v":0.73706000000000005},{"$f":"+[1]datos!H257","v":90.6785},{"$f":"+[1]datos!I257","v":12.572100000000001},{"$f":"+[1]datos!J257","v":1},{"$f":"+[1]datos!K257","v":1},{"$f":"+[1]datos!L257","v":1.02363}]
[null,"Abril",{"$f":"+[1]datos!B258","v":511.28833333333336},{"$f":"+[1]datos!C258","v":8.75},{"$f":"+[1]datos!D258","v":7.9928449678823039},{"$f":"+[1]datos!E258","v":18.895103607623714},{"$f":"+[1]datos!F258","v":21.184484763543033},{"$f":"+[1]datos!M258","v":36.421599999999998},{"$f":"+[1]datos!G258","v":0.74579099999999998},{"$f":"+[1]datos!H258","v":93.538200000000003},{"$f":"+[1]datos!I258","v":12.2326},{"$f":"+[1]datos!J258","v":1},{"$f":"+[1]datos!K258","v":1},{"$f":"+[1]datos!L258","v":1.00447}]
[null,"Mayo",{"$f":"+[1]datos!B259","v":522.39548387096761},{"$f":"+[1]datos!C259","v":8.75},{"$f":"+[1]datos!D259","v":7.9879061949656069},{"$f":"+[1]datos!E259","v":18.895099999999999},{"$f":"+[1]datos!F259","v":21.262304728708429},{"$f":"+[1]datos!M259","v":36.6982},{"$f":"+[1]datos!G259","v":0.79625299999999999},{"$f":"+[1]datos!H259","v":92.150999999999996},{"$f":"+[1]datos!I259","v":12.7263},{"$f":"+[1]datos!J259","v":1},{"$f":"+[1]datos!K259","v":1},{"$f":"+[1]datos!L259","v":1.0396700000000001}]
[null,"Junio",{"$f":"+[1]datos!B260","v":529.91333333333341},{"$f":"+[1]datos!C260","v":8.75},{"$f":"+[1]datos!D260","v":7.998232545050775},{"$f":"+[1]datos!E260","v":18.895099999999999},{"$f":"+[1]datos!F260","v":21.338955733031167},{"$f":"+[1]datos!M260","v":36.726900000000001},{"$f":"+[1]datos!G260","v":0.81919299999999995},{"$f":"+[1]datos!H260","v":90.919600000000003},{"$f":"+[1]datos!I260","v":12.7256},{"$f":"+[1]datos!J260","v":1},{"$f":"+[1]datos!K260","v":1},{"$f":"+[1]datos!L260","v":1.0381899999999999}]
[null,"Julio",{"$f":"+[1]datos!B261","v":518.70451612903219},{"$f":"+[1]datos!C261","v":8.75},{"$f":"+[1]datos!D261","v":7.9928699999999999},{"$f":"+[1]datos!E261","v":18.89510000000001},{"$f":"+[1]datos!F261","v":21.423151353151844},{"$f":"+[1]datos!M261","v":36.796199999999999},{"$f":"+[1]datos!G261","v":0.78328600000000004},{"$f":"+[1]datos!H261","v":87.499300000000005},{"$f":"+[1]datos!I261","v":12.820399999999999},{"$f":"+[1]datos!J261","v":1},{"$f":"+[1]datos!K261","v":1},{"$f":"+[1]datos!L261","v":1.0433399999999999}]
[null,"Agosto",{"$f":"+[1]datos!B262","v":506.84580645161299},{"$f":"+[1]datos!C262","v":8.75},{"$f":"+[1]datos!D262","v":8},{"$f":"+[1]datos!E262","v":18.895099705569017},{"$f":"+[1]datos!F262","v":21.530391152863562},{"$f":"+[1]datos!M262","v":36.893099999999997},{"$f":"+[1]datos!G262","v":0.77523600000000004},{"$f":"+[1]datos!H262","v":85.338999999999999},{"$f":"+[1]datos!I262","v":12.766},{"$f":"+[1]datos!J262","v":1},{"$f":"+[1]datos!K262","v":1},{"$f":"+[1]datos!L262","v":1.0399099999999999}]
[null,"Septiembre",{"$f":"+[1]datos!B263","v":505.0586666666668},{"$f":"+[1]datos!C263","v":8.75},{"$f":"+[1]datos!D263","v":8.0662800000000008},{"$f":"+[1]datos!E263","v":18.895099999999999},{"$f":"+[1]datos!F263","v":21.619256082981003},{"$f":"+[1]datos!M263","v":36.984699999999997},{"$f":"+[1]datos!G263","v":0.76570199999999999},{"$f":"+[1]datos!H263","v":84.376599999999996},{"$f":"+[1]datos!I263","v":12.8124},{"$f":"+[1]datos!J263","v":1},{"$f":"+[1]datos!K263","v":1},{"$f":"+[1]datos!L263","v":1.0344}]
[null,"Octubre",{"$f":"+[1]datos!B264","v":505.05806451612915},{"$f":"+[1]datos!C264","v":8.75},{"$f":"+[1]datos!D264","v":8.0445899999999995},{"$f":"+[1]datos!E264","v":18.895100000000006},{"$f":"+[1]datos!F264","v":21.720137161989317},{"$f":"+[1]datos!M264","v":37.188600000000001},{"$f":"+[1]datos!G264","v":0.71957800000000005},{"$f":"+[1]datos!H264","v":81.794799999999995},{"$f":"+[1]datos!I264","v":12.437200000000001},{"$f":"+[1]datos!J264","v":1},{"$f":"+[1]datos!K264","v":1},{"$f":"+[1]datos!L264","v":1.01833}]
[null,"Noviembre",{"$f":"+[1]datos!B265","v":507.39699999999999},{"$f":"+[1]datos!C265","v":8.75},{"$f":"+[1]datos!D265","v":7.9917899999999999},{"$f":"+[1]datos!E265","v":18.89510000000001},{"$f":"+[1]datos!F265","v":21.741055878191414},{"$f":"+[1]datos!M265","v":37.215699999999998},{"$f":"+[1]datos!G265","v":0.73240499999999997},{"$f":"+[1]datos!H265","v":82.513000000000005},{"$f":"+[1]datos!I265","v":12.327999999999999},{"$f":"+[1]datos!J265","v":1},{"$f":"+[1]datos!K265","v":1},{"$f":"+[1]datos!L265","v":1.0125599999999999}]
[null,"Diciembre",{"$f":"+[1]datos!B266","v":501.12129032258042},{"$f":"+[1]datos!C266","v":8.75},{"$f":"+[1]datos!D266","v":7.96},{"$f":"+[1]datos!E266","v":18.89510000000001},{"$f":"+[1]datos!F266","v":21.799978904160877},{"$f":"+[1]datos!M266","v":37.309699999999999},{"$f":"+[1]datos!G266","v":0.75646199999999997},{"$f":"+[1]datos!H266","v":83.290899999999993},{"$f":"+[1]datos!I266","v":12.389900000000001},{"$f":"+[1]datos!J266","v":1},{"$f":"+[1]datos!K266","v":1},{"$f":"+[1]datos!L266","v":1.0080800000000001}]
[2011,"Enero",{"$f":"+[1]datos!B267","v":501.73857142857145},{"$f":"+[1]datos!C267","v":8.75},{"$f":"+[1]datos!D267","v":7.94},{"$f":"+[1]datos!E267","v":18.895100000000006},{"$f":"+[1]datos!F267","v":21.959545617601595},{"$f":"+[1]datos!M267","v":37.4465},{"$f":"+[1]datos!G267","v":0.748475},{"$f":"+[1]datos!H267","v":82.688100000000006},{"$f":"+[1]datos!I267","v":12.117800000000001},{"$f":"+[1]datos!J267","v":1},{"$f":"+[1]datos!K267","v":1},{"$f":"+[1]datos!L267","v":0.99384499999999998}]
[null,"Febrero",{"$f":"+[1]datos!B268","v":497.16699999999992},{"$f":"+[1]datos!C268","v":8.75},{"$f":"+[1]datos!D268","v":7.7936800000000002},{"$f":"+[1]datos!E268","v":18.895100000000006},{"$f":"+[1]datos!F268","v":22.064175783052654},{"$f":"+[1]datos!M268","v":37.627600000000001},{"$f":"+[1]datos!G268","v":0.73290200000000005},{"$f":"+[1]datos!H268","v":82.630399999999995},{"$f":"+[1]datos!I268","v":12.0632},{"$f":"+[1]datos!J268","v":1},{"$f":"+[1]datos!K268","v":1},{"$f":"+[1]datos!L268","v":0.98797800000000002}]
[null,"Marzo",{"$f":"+[1]datos!B269","v":495.12},{"$f":"+[1]datos!C269","v":8.75},{"$f":"+[1]datos!D269","v":7.6911800000000001},{"$f":"+[1]datos!E269","v":18.895099999999999},{"$f":"+[1]datos!F269","v":22.129389726415965},{"$f":"+[1]datos!M269","v":37.762999999999998},{"$f":"+[1]datos!G269","v":0.71439399999999997},{"$f":"+[1]datos!H269","v":81.719800000000006},{"$f":"+[1]datos!I269","v":12.0055},{"$f":"+[1]datos!J269","v":1},{"$f":"+[1]datos!K269","v":1},{"$f":"+[1]datos!L269","v":0.97659799999999997}]
[null,"Abril",{"$f":"+[1]datos!B270","v":494.49866666666662},{"$f":"+[1]datos!C270","v":8.75},{"$f":"+[1]datos!D270","v":7.6033400000000002},{"$f":"+[1]datos!E270","v":18.895100000000006},{"$f":"+[1]datos!F270","v":22.164416689609169},{"$f":"+[1]datos!M270","v":37.835299999999997},{"$f":"+[1]datos!G270","v":0.69223599999999996},{"$f":"+[1]datos!H270","v":83.25},{"$f":"+[1]datos!I270","v":11.713100000000001},{"$f":"+[1]datos!J270","v":1},{"$f":"+[1]datos!K270","v":1},{"$f":"+[1]datos!L270","v":0.95779199999999998}]
[null,"Mayo",{"$f":"+[1]datos!B271","v":497.77870967741899},{"$f":"+[1]datos!C271","v":8.75},{"$f":"+[1]datos!D271","v":7.65},{"$f":"+[1]datos!E271","v":18.895099999999999},{"$f":"+[1]datos!F271","v":22.251683335038216},{"$f":"+[1]datos!M271","v":37.891100000000002},{"$f":"+[1]datos!G271","v":0.69714299999999996},{"$f":"+[1]datos!H271","v":81.174899999999994},{"$f":"+[1]datos!I271","v":11.6518},{"$f":"+[1]datos!J271","v":1},{"$f":"+[1]datos!K271","v":1},{"$f":"+[1]datos!L271","v":0.967781}]
[null,"Junio",{"$f":"+[1]datos!B272","v":500.2146666666668},{"$f":"+[1]datos!C272","v":8.75},{"$f":"+[1]datos!D272","v":7.76492},{"$f":"+[1]datos!E272","v":18.895099999999999},{"$f":"+[1]datos!F272","v":22.402375882596033},{"$f":"+[1]datos!M272","v":38.03},{"$f":"+[1]datos!G272","v":0.695079},{"$f":"+[1]datos!H272","v":80.448599999999999},{"$f":"+[1]datos!I272","v":11.8109},{"$f":"+[1]datos!J272","v":1},{"$f":"+[1]datos!K272","v":1},{"$f":"+[1]datos!L272","v":0.97743999999999998}]
[null,"Julio",{"$f":"+[1]datos!B273","v":499.40903225806443},{"$f":"+[1]datos!C273","v":8.75},{"$f":"+[1]datos!D273","v":7.7444499999999996},{"$f":"+[1]datos!E273","v":18.872410000000009},{"$f":"+[1]datos!F273","v":22.513748801950989},{"$f":"+[1]datos!M273","v":38.044400000000003},{"$f":"+[1]datos!G273","v":0.70113300000000001},{"$f":"+[1]datos!H273","v":79.402500000000003},{"$f":"+[1]datos!I273","v":11.6723},{"$f":"+[1]datos!J273","v":1},{"$f":"+[1]datos!K273","v":1},{"$f":"+[1]datos!L273","v":0.95614200000000005}]
[null,"Agosto",{"$f":"+[1]datos!B274","v":500.19096774193503},{"$f":"+[1]datos!C274","v":8.75},{"$f":"+[1]datos!D274","v":7.8148499999999999},{"$f":"+[1]datos!E274","v":18.848513043478263},{"$f":"+[1]datos!F274","v":22.604635227635427},{"$f":"+[1]datos!M274","v":38.061999999999998},{"$f":"+[1]datos!G274","v":0.69723100000000005},{"$f":"+[1]datos!H274","v":76.995599999999996},{"$f":"+[1]datos!I274","v":12.232200000000001},{"$f":"+[1]datos!J274","v":1},{"$f":"+[1]datos!K274","v":1},{"$f":"+[1]datos!L274","v":0.981016}]
[null,"Septiembre",{"$f":"+[1]datos!B275","v":505.49799999999988},{"$f":"+[1]datos!C275","v":8.75},{"$f":"+[1]datos!D275","v":7.8399099999999997},{"$f":"+[1]datos!E275","v":18.924095416770832},{"$f":"+[1]datos!F275","v":22.676129355315798},{"$f":"+[1]datos!M275","v":38.145600000000002},{"$f":"+[1]datos!G275","v":0.72645700000000002},{"$f":"+[1]datos!H275","v":76.793499999999995},{"$f":"+[1]datos!I275","v":13.0344},{"$f":"+[1]datos!J275","v":1},{"$f":"+[1]datos!K275","v":1},{"$f":"+[1]datos!L275","v":1.0020500000000001}]
[null,"Octubre",{"$f":"+[1]datos!B276","v":509.52096774193552},{"$f":"+[1]datos!C276","v":8.75},{"$f":"+[1]datos!D276","v":7.8299174515732988},{"$f":"+[1]datos!E276","v":18.99443888888889},{"$f":"+[1]datos!F276","v":22.724166452708364},{"$f":"+[1]datos!M276","v":38.3001},{"$f":"+[1]datos!G276","v":0.729854},{"$f":"+[1]datos!H276","v":76.653700000000001},{"$f":"+[1]datos!I276","v":13.450799999999999},{"$f":"+[1]datos!J276","v":1},{"$f":"+[1]datos!K276","v":1},{"$f":"+[1]datos!L276","v":1.0203599999999999}]
[null,"Noviembre",{"$f":"+[1]datos!B277","v":502.21600000000001},{"$f":"+[1]datos!C277","v":8.75},{"$f":"+[1]datos!D277","v":7.8008899999999999},{"$f":"+[1]datos!E277","v":18.983940909090908},{"$f":"+[1]datos!F277","v":22.759988452761522},{"$f":"+[1]datos!M277","v":38.441600000000001},{"$f":"+[1]datos!G277","v":0.73780199999999996},{"$f":"+[1]datos!H277","v":77.470699999999994},{"$f":"+[1]datos!I277","v":13.697800000000001},{"$f":"+[1]datos!J277","v":1},{"$f":"+[1]datos!K277","v":1},{"$f":"+[1]datos!L277","v":1.02525}]
[null,"Diciembre",{"$f":"+[1]datos!B278","v":499.80580645161302},{"$f":"+[1]datos!C278","v":8.75},{"$f":"+[1]datos!D278","v":7.7856076542219848},{"$f":"+[1]datos!E278","v":19.010026469856818},{"$f":"+[1]datos!F278","v":22.83322030305397},{"$f":"+[1]datos!M278","v":38.5473},{"$f":"+[1]datos!G278","v":0.75894200000000001},{"$f":"+[1]datos!H278","v":77.811300000000003},{"$f":"+[1]datos!I278","v":13.7494},{"$f":"+[1]datos!J278","v":1},{"$f":"+[1]datos!K278","v":1},{"$f":"+[1]datos!L278","v":1.0229600000000001}]
[2012,"Enero",{"$f":"+[1]datos!B279","v":504.09741935483879},{"$f":"+[1]datos!C279","v":8.75},{"$f":"+[1]datos!D279","v":7.7961200000000002},{"$f":"+[1]datos!E279","v":19.087711479177649},{"$f":"+[1]datos!F279","v":23.013784602379719},{"$f":"+[1]datos!M279","v":38.858400000000003},{"$f":"+[1]datos!G279","v":0.77500400000000003},{"$f":"+[1]datos!H279","v":76.967699999999994},{"$f":"+[1]datos!I279","v":13.4192},{"$f":"+[1]datos!J279","v":1},{"$f":"+[1]datos!K279","v":1},{"$f":"+[1]datos!L279","v":1.0130699999999999}]
[null,"Febrero",{"$f":"+[1]datos!B280","v":505.04931034482757},{"$f":"+[1]datos!C280","v":8.75},{"$f":"+[1]datos!D280","v":7.7717200000000002},{"$f":"+[1]datos!E280","v":19.162914048967881},{"$f":"+[1]datos!F280","v":23.128224881342625},{"$f":"+[1]datos!M280","v":38.942500000000003},{"$f":"+[1]datos!G280","v":0.75626400000000005},{"$f":"+[1]datos!H280","v":78.458500000000001},{"$f":"+[1]datos!I280","v":12.7918},{"$f":"+[1]datos!J280","v":1},{"$f":"+[1]datos!K280","v":1},{"$f":"+[1]datos!L280","v":0.99767499999999998}]
[null,"Marzo",{"$f":"+[1]datos!B281","v":503.25677419354849},{"$f":"+[1]datos!C281","v":8.75},{"$f":"+[1]datos!D281","v":7.7114099999999999},{"$f":"+[1]datos!E281","v":19.240354545454544},{"$f":"+[1]datos!F281","v":23.161915703074222},{"$f":"+[1]datos!M281","v":38.994399999999999},{"$f":"+[1]datos!G281","v":0.75755300000000003},{"$f":"+[1]datos!H281","v":82.477099999999993},{"$f":"+[1]datos!I281","v":12.744300000000001},{"$f":"+[1]datos!J281","v":1},{"$f":"+[1]datos!K281","v":1},{"$f":"+[1]datos!L281","v":0.99394400000000005}]
[null,"Abril",{"$f":"+[1]datos!B282","v":499.63499999999999},{"$f":"+[1]datos!C282","v":8.75},{"$f":"+[1]datos!D282","v":7.7361700000000004},{"$f":"+[1]datos!E282","v":19.30468947368421},{"$f":"+[1]datos!F282","v":23.2158340866951},{"$f":"+[1]datos!M282","v":39.017600000000002},{"$f":"+[1]datos!G282","v":0.76002199999999998},{"$f":"+[1]datos!H282","v":81.344099999999997},{"$f":"+[1]datos!I282","v":13.0572},{"$f":"+[1]datos!J282","v":1},{"$f":"+[1]datos!K282","v":1},{"$f":"+[1]datos!L282","v":0.993089}]
[null,"Mayo",{"$f":"+[1]datos!B283","v":499.32580645161295},{"$f":"+[1]datos!C283","v":8.75},{"$f":"+[1]datos!D283","v":7.7713799999999997},{"$f":"+[1]datos!E283","v":19.377786363636368},{"$f":"+[1]datos!F283","v":23.29195380026535},{"$f":"+[1]datos!M283","v":39.022199999999998},{"$f":"+[1]datos!G283","v":0.78103199999999995},{"$f":"+[1]datos!H283","v":79.651383999999993},{"$f":"+[1]datos!I283","v":13.634099000000001},{"$f":"+[1]datos!J283","v":1},{"$f":"+[1]datos!K283","v":1},{"$f":"+[1]datos!L283","v":1.00905}]
[null,"Junio",{"$f":"+[1]datos!B284","v":494.77800000000002},{"$f":"+[1]datos!C284","v":8.75},{"$f":"+[1]datos!D284","v":7.8366899999999999},{"$f":"+[1]datos!E284","v":19.456114285714285},{"$f":"+[1]datos!F284","v":23.424567576646083},{"$f":"+[1]datos!M284","v":39.065399999999997},{"$f":"+[1]datos!G284","v":0.79836200000000002},{"$f":"+[1]datos!H284","v":79.28895},{"$f":"+[1]datos!I284","v":13.92196},{"$f":"+[1]datos!J284","v":1},{"$f":"+[1]datos!K284","v":1},{"$f":"+[1]datos!L284","v":1.02783}]
[null,"Julio",{"$f":"+[1]datos!B285","v":495.24806451612903},{"$f":"+[1]datos!C285","v":8.75},{"$f":"+[1]datos!D285","v":7.8116199999999996},{"$f":"+[1]datos!E285","v":19.534649999999999},{"$f":"+[1]datos!F285","v":23.604695946842575},{"$f":"+[1]datos!M285","v":39.0807},{"$f":"+[1]datos!G285","v":0.813635},{"$f":"+[1]datos!H285","v":79.004897},{"$f":"+[1]datos!I285","v":13.352648},{"$f":"+[1]datos!J285","v":1},{"$f":"+[1]datos!K285","v":1},{"$f":"+[1]datos!L285","v":1.0137879999999999}]
[null,"Agosto",{"$f":"+[1]datos!B286","v":494.00354838709666},{"$f":"+[1]datos!C286","v":8.75},{"$f":"+[1]datos!D286","v":7.8730200000000004},{"$f":"+[1]datos!E286","v":19.617239130434779},{"$f":"+[1]datos!F286","v":23.733739868233521},{"$f":"+[1]datos!M286","v":39.110900000000001},{"$f":"+[1]datos!G286","v":0.80650699999999997},{"$f":"+[1]datos!H286","v":78.711049000000003},{"$f":"+[1]datos!I286","v":13.167642000000001},{"$f":"+[1]datos!J286","v":1},{"$f":"+[1]datos!K286","v":1},{"$f":"+[1]datos!L286","v":0.99263400000000002}]
[null,"Septiembre",{"$f":"+[1]datos!B287","v":492.61766666666665},{"$f":"+[1]datos!C287","v":8.75},{"$f":"+[1]datos!D287","v":7.9600799999999996},{"$f":"+[1]datos!E287","v":19.696496460991842},{"$f":"+[1]datos!F287","v":23.813753992857396},{"$f":"+[1]datos!M287","v":39.204599999999999},{"$f":"+[1]datos!G287","v":0.77708999999999995},{"$f":"+[1]datos!H287","v":78.177893999999995},{"$f":"+[1]datos!I287","v":12.932541000000001},{"$f":"+[1]datos!J287","v":1},{"$f":"+[1]datos!K287","v":1},{"$f":"+[1]datos!L287","v":0.97891600000000001}]
[null,"Octubre",{"$f":"+[1]datos!B288","v":492.40451612903229},{"$f":"+[1]datos!C288","v":8.75},{"$f":"+[1]datos!D288","v":7.8591300000000004},{"$f":"+[1]datos!E288","v":19.770308695652176},{"$f":"+[1]datos!F288","v":23.861465954030169},{"$f":"+[1]datos!M288","v":39.4283},{"$f":"+[1]datos!G288","v":0.77054400000000001},{"$f":"+[1]datos!H288","v":78.986170000000001},{"$f":"+[1]datos!I288","v":12.894469000000001},{"$f":"+[1]datos!J288","v":1},{"$f":"+[1]datos!K288","v":1},{"$f":"+[1]datos!L288","v":0.98690500000000003}]
[null,"Noviembre",{"$f":"+[1]datos!B289","v":494.43333333333345},{"$f":"+[1]datos!C289","v":8.75},{"$f":"+[1]datos!D289","v":7.8577599999999999},{"$f":"+[1]datos!E289","v":19.848518181818182},{"$f":"+[1]datos!F289","v":23.974316587035641},{"$f":"+[1]datos!M289","v":39.935499999999998},{"$f":"+[1]datos!G289","v":0.76965099999999997},{"$f":"+[1]datos!H289","v":81.005720999999994},{"$f":"+[1]datos!I289","v":13.073363000000001},{"$f":"+[1]datos!J289","v":1},{"$f":"+[1]datos!K289","v":1},{"$f":"+[1]datos!L289","v":0.98999599999999999}]
[null,"Diciembre",{"$f":"+[1]datos!B290","v":494.33129032258068},{"$f":"+[1]datos!C290","v":8.75},{"$f":"+[1]datos!D290","v":7.8761000000000001},{"$f":"+[1]datos!E290","v":19.926769525306661},{"$f":"+[1]datos!F290","v":24.070408755498978},{"$f":"+[1]datos!M290","v":40.170400000000001},{"$f":"+[1]datos!G290","v":0.76261800000000002},{"$f":"+[1]datos!H290","v":83.805363},{"$f":"+[1]datos!I290","v":12.881966},{"$f":"+[1]datos!J290","v":1},{"$f":"+[1]datos!K290","v":1},{"$f":"+[1]datos!L290","v":0.99059200000000003}]
[2013,"Enero",{"$f":"+[1]datos!B291","v":495.34322580645164},{"$f":"+[1]datos!C291","v":8.75},{"$f":"+[1]datos!D291","v":7.8676199999999996},{"$f":"+[1]datos!E291","v":20.001634609414715},{"$f":"+[1]datos!F291","v":24.226022614155656},{"$f":"+[1]datos!M291","v":40.575600000000001},{"$f":"+[1]datos!G291","v":0.75163500000000005},{"$f":"+[1]datos!H291","v":89.19162},{"$f":"+[1]datos!I291","v":12.698509},{"$f":"+[1]datos!J291","v":1},{"$f":"+[1]datos!K291","v":1},{"$f":"+[1]datos!L291","v":0.99248400000000003}]
[null,"Febrero",{"$f":"+[1]datos!B292","v":496.22},{"$f":"+[1]datos!C292","v":8.75},{"$f":"+[1]datos!D292","v":7.8144},{"$f":"+[1]datos!E292","v":20.080485000000003},{"$f":"+[1]datos!F292","v":24.356957650813889},{"$f":"+[1]datos!M292","v":40.757926315789469},{"$f":"+[1]datos!G292","v":0.74867300000000003},{"$f":"+[1]datos!H292","v":93.073352999999997},{"$f":"+[1]datos!I292","v":12.712196},{"$f":"+[1]datos!J292","v":1},{"$f":"+[1]datos!K292","v":1},{"$f":"+[1]datos!L292","v":1.0090699999999999}]
[null,"Marzo",{"$f":"+[1]datos!B293","v":493.5},{"$f":"+[1]datos!C293","v":8.75},{"$f":"+[1]datos!D293","v":7.7964500000000001},{"$f":"+[1]datos!E293","v":20.151966666666663},{"$f":"+[1]datos!F293","v":24.4090695256725},{"$f":"+[1]datos!M293","v":40.991199999999999},{"$f":"+[1]datos!G293","v":0.77146800000000004},{"$f":"+[1]datos!H293","v":94.760086000000001},{"$f":"+[1]datos!I293","v":12.499313000000001},{"$f":"+[1]datos!J293","v":1},{"$f":"+[1]datos!K293","v":1},{"$f":"+[1]datos!L293","v":1.024019}]
[null,"Abril",{"$f":"+[1]datos!B294","v":493.49333333333351},{"$f":"+[1]datos!C294","v":8.75},{"$f":"+[1]datos!D294","v":7.7833199999999998},{"$f":"+[1]datos!E294","v":20.218299999999999},{"$f":"+[1]datos!F294","v":24.411461072966144},{"$f":"+[1]datos!M294","v":41.052700000000002},{"$f":"+[1]datos!G294","v":0.76774600000000004},{"$f":"+[1]datos!H294","v":97.927200999999997},{"$f":"+[1]datos!I294","v":12.196878},{"$f":"+[1]datos!J294","v":1},{"$f":"+[1]datos!K294","v":1},{"$f":"+[1]datos!L294","v":1.018519}]
[null,"Mayo",{"$f":"+[1]datos!B295","v":493.59483870967745},{"$f":"+[1]datos!C295","v":8.75},{"$f":"+[1]datos!D295","v":7.7759099999999997},{"$f":"+[1]datos!E295","v":20.3003},{"$f":"+[1]datos!F295","v":24.537025632561676},{"$f":"+[1]datos!M295","v":41.094900000000003},{"$f":"+[1]datos!G295","v":0.77054699999999998},{"$f":"+[1]datos!H295","v":101.022645},{"$f":"+[1]datos!I295","v":12.294669000000001},{"$f":"+[1]datos!J295","v":1},{"$f":"+[1]datos!K295","v":1},{"$f":"+[1]datos!L295","v":1.0200800000000001}]
[null,"Junio",{"$f":"+[1]datos!B296","v":493.33000000000004},{"$f":"+[1]datos!C296","v":8.75},{"$f":"+[1]datos!D296","v":7.8050800000000002},{"$f":"+[1]datos!E296","v":20.380034999999999},{"$f":"+[1]datos!F296","v":24.682677784300466},{"$f":"+[1]datos!M296","v":41.462600000000002},{"$f":"+[1]datos!G296","v":0.75897300000000001},{"$f":"+[1]datos!H296","v":97.432698000000002},{"$f":"+[1]datos!I296","v":12.948024},{"$f":"+[1]datos!J296","v":1},{"$f":"+[1]datos!K296","v":1},{"$f":"+[1]datos!L296","v":1.0323599999999999}]
[null,"Julio",{"$f":"+[1]datos!B297","v":493.06677419354855},{"$f":"+[1]datos!C297","v":8.75},{"$f":"+[1]datos!D297","v":7.8101500000000001},{"$f":"+[1]datos!E297","v":20.45634347826087},{"$f":"+[1]datos!F297","v":24.825860099273971},{"$f":"+[1]datos!M297","v":41.907699999999998},{"$f":"+[1]datos!G297","v":0.76466800000000001},{"$f":"+[1]datos!H297","v":99.730260999999999},{"$f":"+[1]datos!I297","v":12.770222},{"$f":"+[1]datos!J297","v":1},{"$f":"+[1]datos!K297","v":1},{"$f":"+[1]datos!L297","v":1.0407249999999999}]
[null,"Agosto",{"$f":"+[1]datos!B298","v":493.14},{"$f":"+[1]datos!C298","v":8.75},{"$f":"+[1]datos!D298","v":7.8872658086161449},{"$f":"+[1]datos!E298","v":20.459227272727276},{"$f":"+[1]datos!F298","v":24.927736938926625},{"$f":"+[1]datos!M298","v":42.37},{"$f":"+[1]datos!G298","v":0.75103699999999995},{"$f":"+[1]datos!H298","v":97.833687999999995},{"$f":"+[1]datos!I298","v":12.897019},{"$f":"+[1]datos!J298","v":1},{"$f":"+[1]datos!K298","v":1},{"$f":"+[1]datos!L298","v":1.0404709999999999}]
[null,"Septiembre",{"$f":"+[1]datos!B299","v":495.12},{"$f":"+[1]datos!C299","v":8.75},{"$f":"+[1]datos!D299","v":7.9287700000000001},{"$f":"+[1]datos!E299","v":20.525571428571428},{"$f":"+[1]datos!F299","v":25.039504053469503},{"$f":"+[1]datos!M299","v":42.613700000000001},{"$f":"+[1]datos!G299","v":0.74876200000000004},{"$f":"+[1]datos!H299","v":99.120112000000006},{"$f":"+[1]datos!I299","v":13.074903000000001},{"$f":"+[1]datos!J299","v":1},{"$f":"+[1]datos!K299","v":1},{"$f":"+[1]datos!L299","v":1.035633}]
[null,"Octubre",{"$f":"+[1]datos!B300","v":493.96},{"$f":"+[1]datos!C300","v":8.75},{"$f":"+[1]datos!D300","v":7.9452600000000002},{"$f":"+[1]datos!E300","v":20.531204761904764},{"$f":"+[1]datos!F300","v":25.171504138764977},{"$f":"+[1]datos!M300","v":42.439},{"$f":"+[1]datos!G300","v":0.73296700000000004},{"$f":"+[1]datos!H300","v":97.793898999999996},{"$f":"+[1]datos!I300","v":12.983955},{"$f":"+[1]datos!J300","v":1},{"$f":"+[1]datos!K300","v":1},{"$f":"+[1]datos!L300","v":1.0359350000000001}]
[null,"Noviembre",{"$f":"+[1]datos!B301","v":493.59},{"$f":"+[1]datos!C301","v":8.75},{"$f":"+[1]datos!D301","v":7.8807799999999997},{"$f":"+[1]datos!E301","v":20.550342857142855},{"$f":"+[1]datos!F301","v":25.236673905645056},{"$f":"+[1]datos!M301","v":42.460999999999999},{"$f":"+[1]datos!G301","v":0.741259},{"$f":"+[1]datos!H301","v":100.145934},{"$f":"+[1]datos!I301","v":13.065780999999999},{"$f":"+[1]datos!J301","v":1},{"$f":"+[1]datos!K301","v":1},{"$f":"+[1]datos!L301","v":1.0488310000000001}]
[null,"Diciembre",{"$f":"+[1]datos!B302","v":493.51},{"$f":"+[1]datos!C302","v":8.75},{"$f":"+[1]datos!D302","v":7.8451700000000004},{"$f":"+[1]datos!E302","v":20.59389047619047},{"$f":"+[1]datos!F302","v":25.25307800585588},{"$f":"+[1]datos!M302","v":42.604766666666663},{"$f":"+[1]datos!G302","v":0.72962000000000005},{"$f":"+[1]datos!H302","v":103.555729},{"$f":"+[1]datos!I302","v":13.002203},{"$f":"+[1]datos!J302","v":1},{"$f":"+[1]datos!K302","v":1},{"$f":"+[1]datos!L302","v":1.0640559999999999}]
[2014,"Enero",{"$f":"+[1]datos!B303","v":496.42},{"$f":"+[1]datos!C303","v":8.75},{"$f":"+[1]datos!D303","v":7.8320800000000004},{"$f":"+[1]datos!E303","v":20.626459090909091},{"$f":"+[1]datos!F303","v":25.421351943528666},{"$f":"+[1]datos!M303","v":42.863799999999998},{"$f":"+[1]datos!G303","v":0.73419800000000002},{"$f":"+[1]datos!H303","v":103.853908},{"$f":"+[1]datos!I303","v":13.211736999999999},{"$f":"+[1]datos!J303","v":1},{"$f":"+[1]datos!K303","v":1},{"$f":"+[1]datos!L303","v":1.09202}]
[null,"Febrero",{"$f":"+[1]datos!B304","v":518.76},{"$f":"+[1]datos!C304","v":8.75},{"$f":"+[1]datos!D304","v":7.7452699999999997},{"$f":"+[1]datos!E304","v":20.673604999999995},{"$f":"+[1]datos!F304","v":25.577839605967768},{"$f":"+[1]datos!M304","v":43.086500000000001},{"$f":"+[1]datos!G304","v":0.73218000000000005},{"$f":"+[1]datos!H304","v":102.14137700000001},{"$f":"+[1]datos!I304","v":13.286837999999999},{"$f":"+[1]datos!J304","v":1},{"$f":"+[1]datos!K304","v":1},{"$f":"+[1]datos!L304","v":1.105469}]
[null,"Marzo",{"$f":"+[1]datos!B305","v":542},{"$f":"+[1]datos!C305","v":8.75},{"$f":"+[1]datos!D305","v":7.7161799999999996},{"$f":"+[1]datos!E305","v":20.730138095238093},{"$f":"+[1]datos!F305","v":25.65854239381266},{"$f":"+[1]datos!M305","v":43.115200000000002},{"$f":"+[1]datos!G305","v":0.723186},{"$f":"+[1]datos!H305","v":102.335055},{"$f":"+[1]datos!I305","v":13.193948000000001},{"$f":"+[1]datos!J305","v":1},{"$f":"+[1]datos!K305","v":1},{"$f":"+[1]datos!L305","v":1.110684}]
[null,"Abril",{"$f":"+[1]datos!B306","v":540.12},{"$f":"+[1]datos!C306","v":8.75},{"$f":"+[1]datos!D306","v":7.7358900000000004},{"$f":"+[1]datos!E306","v":20.774422222222221},{"$f":"+[1]datos!F306","v":25.65793088764207},{"$f":"+[1]datos!M306","v":43.11},{"$f":"+[1]datos!G306","v":0.724163},{"$f":"+[1]datos!H306","v":102.437209},{"$f":"+[1]datos!I306","v":13.065564999999999},{"$f":"+[1]datos!J306","v":1},{"$f":"+[1]datos!K306","v":1},{"$f":"+[1]datos!L306","v":1.0996159999999999}]
[null,"Mayo",{"$f":"+[1]datos!B307","v":545.73},{"$f":"+[1]datos!C307","v":8.75},{"$f":"+[1]datos!D307","v":7.72384},{"$f":"+[1]datos!E307","v":20.821080952380953},{"$f":"+[1]datos!F307","v":25.798448197519736},{"$f":"+[1]datos!M307","v":43.173499999999997},{"$f":"+[1]datos!G307","v":0.72824100000000003},{"$f":"+[1]datos!H307","v":101.80688600000001},{"$f":"+[1]datos!I307","v":12.928070999999999},{"$f":"+[1]datos!J307","v":1},{"$f":"+[1]datos!K307","v":1},{"$f":"+[1]datos!L307","v":1.0893550000000001}]
[null,"Junio",{"$f":"+[1]datos!B308","v":544.76},{"$f":"+[1]datos!C308","v":8.75},{"$f":"+[1]datos!D308","v":7.79406},{"$f":"+[1]datos!E308","v":20.919928571428564},{"$f":"+[1]datos!F308","v":25.977480477756416},{"$f":"+[1]datos!M308","v":43.362299999999998},{"$f":"+[1]datos!G308","v":0.73534100000000002},{"$f":"+[1]datos!H308","v":102.037257},{"$f":"+[1]datos!I308","v":12.984731},{"$f":"+[1]datos!J308","v":1},{"$f":"+[1]datos!K308","v":1},{"$f":"+[1]datos!L308","v":1.08236}]
[null,"Julio",{"$f":"+[1]datos!B309","v":533.02},{"$f":"+[1]datos!C309","v":8.75},{"$f":"+[1]datos!D309","v":7.7608600000000001},{"$f":"+[1]datos!E309","v":20.964939130434782},{"$f":"+[1]datos!F309","v":26.11124710506866},{"$f":"+[1]datos!M309","v":43.469700000000003},{"$f":"+[1]datos!G309","v":0.73876500000000001},{"$f":"+[1]datos!H309","v":101.726071},{"$f":"+[1]datos!I309","v":12.984885999999999},{"$f":"+[1]datos!J309","v":1},{"$f":"+[1]datos!K309","v":1},{"$f":"+[1]datos!L309","v":1.073526}]
[null,"Agosto",{"$f":"+[1]datos!B310","v":534.16999999999996},{"$f":"+[1]datos!C310","v":8.75},{"$f":"+[1]datos!D310","v":7.7919600000000004},{"$f":"+[1]datos!E310","v":21.048950000000005},{"$f":"+[1]datos!F310","v":26.185360498351528},{"$f":"+[1]datos!M310","v":43.492876190476196},{"$f":"+[1]datos!G310","v":0.75093500000000002},{"$f":"+[1]datos!H310","v":102.96404},{"$f":"+[1]datos!I310","v":13.144227000000001},{"$f":"+[1]datos!J310","v":1},{"$f":"+[1]datos!K310","v":1},{"$f":"+[1]datos!L310","v":1.092509}]
[null,"Septiembre",{"$f":"+[1]datos!B311","v":534.26},{"$f":"+[1]datos!C311","v":8.75},{"$f":"+[1]datos!D311","v":7.7074100000000003},{"$f":"+[1]datos!E311","v":21.165080632488042},{"$f":"+[1]datos!F311","v":26.241220743874365},{"$f":"+[1]datos!M311","v":43.650766666666655},{"$f":"+[1]datos!G311","v":0.77596600000000004},{"$f":"+[1]datos!H311","v":107.38982799999999},{"$f":"+[1]datos!I311","v":13.232673},{"$f":"+[1]datos!J311","v":1},{"$f":"+[1]datos!K311","v":1},{"$f":"+[1]datos!L311","v":1.10094}]
[null,"Octubre",{"$f":"+[1]datos!B312","v":533.84},{"$f":"+[1]datos!C312","v":8.75},{"$f":"+[1]datos!D312","v":7.6263300000000003},{"$f":"+[1]datos!E312","v":21.288829999999997},{"$f":"+[1]datos!F312","v":26.363768538015751},{"$f":"+[1]datos!M312","v":43.803800000000003},{"$f":"+[1]datos!G312","v":0.78941799999999995},{"$f":"+[1]datos!H312","v":108.03679700000001},{"$f":"+[1]datos!I312","v":13.487100999999999},{"$f":"+[1]datos!J312","v":1},{"$f":"+[1]datos!K312","v":1},{"$f":"+[1]datos!L312","v":1.1218939999999999}]
[null,"Noviembre",{"$f":"+[1]datos!B313","v":531.39},{"$f":"+[1]datos!C313","v":8.75},{"$f":"+[1]datos!D313","v":7.6028599999999997},{"$f":"+[1]datos!E313","v":21.354580000000006},{"$f":"+[1]datos!F313","v":26.438178876818817},{"$f":"+[1]datos!M313","v":44.023499999999999},{"$f":"+[1]datos!G313","v":0.801875},{"$f":"+[1]datos!H313","v":116.20255400000001},{"$f":"+[1]datos!I313","v":13.620996999999999},{"$f":"+[1]datos!J313","v":1},{"$f":"+[1]datos!K313","v":1},{"$f":"+[1]datos!L313","v":1.1320870000000001}]
[null,"Diciembre",{"$f":"+[1]datos!B314","v":529.30999999999995},{"$f":"+[1]datos!C314","v":8.75},{"$f":"+[1]datos!D314","v":7.6081700000000003},{"$f":"+[1]datos!E314","v":21.475268181818187},{"$f":"+[1]datos!F314","v":26.491787829600035},{"$f":"+[1]datos!M314","v":44.143500000000003},{"$f":"+[1]datos!G314","v":0.81232000000000004},{"$f":"+[1]datos!H314","v":119.575129},{"$f":"+[1]datos!I314","v":14.556247000000001},{"$f":"+[1]datos!J314","v":1},{"$f":"+[1]datos!K314","v":1},{"$f":"+[1]datos!L314","v":1.154609}]
[2015,"Enero",{"$f":"+[1]datos!B315","v":531.5},{"$f":"+[1]datos!C315","v":8.75},{"$f":"+[1]datos!D315","v":7.6262100000000004},{"$f":"+[1]datos!E315","v":21.606090476190474},{"$f":"+[1]datos!F315","v":26.662887813490308},{"$f":"+[1]datos!M315","v":44.462299999999999},{"$f":"+[1]datos!G315","v":0.860294},{"$f":"+[1]datos!H315","v":118.31454100000001},{"$f":"+[1]datos!I315","v":14.698938},{"$f":"+[1]datos!J315","v":1},{"$f":"+[1]datos!K315","v":1},{"$f":"+[1]datos!L315","v":1.209308}]
[]
[]
["FUENTE: Bancos Centrales de Centroamérica y República Dominicana y el sitio web x-rates.com que contiene datos de la zona Euro, Japón, México y Canadá.  Este sitio contiene datos oficiales del Federal Reserve Bank of New York, U.S.A."]
["NOTA: A partir del 17 de octubre de 2006 Costa Rica sustituye el sistema de minidevaluaciones por bandas cambiarias. El dato de octubre 2006 y sucesivos corresponden al tipo de cambio de referencia de compra."]
[null,{"$f":"TODAY()","v":"2015-02-27"}]

{"sheet":"ITCER GLOBAL","index":4,"n_rows":253,"n_cols":29,"rows_kept":253,"cut":false,"hidden":false,"merged":[[2,23,2,28],[252,1,252,2],[2,2,2,7],[2,9,2,14],[2,16,2,21],[249,1,249,28]]}
["Secretaría Ejecutiva"]
["Consejo Monetario Centroamericano"]
[null,null,"ITCER GLOBAL\n2000=100",null,null,null,null,null,null,"VARIACION MENSUAL",null,null,null,null,null,null,"EFECTO TIPO DE CAMBIO",null,null,null,null,null,null,"EFECTO PRECIO"]
["Año","MES","COSTA\n RICA","EL\nSALVADOR","GUATEMALA","HONDURAS","NICARAGUA","REP.\nDOMINICANA",null,"COSTA\n RICA","EL\nSALVADOR","GUATEMALA","HONDURAS","NICARAGUA","REP.\nDOMINICANA",null,"COSTA\n RICA","EL\nSALVADOR","GUATEMALA","HONDURAS","NICARAGUA","REP.\nDOMINICANA",null,"COSTA\n RICA","EL\nSALVADOR","GUATEMALA","HONDURAS","NICARAGUA","REP.\nDOMINICANA"]
[1995,"Enero",{"$f":"+'[1]itcer global'!J57","v":95.237513106408628},{"$f":"+'[1]itcer global'!K57","v":113.35882465831264},{"$f":"+'[1]itcer global'!L57","v":94.376465132163659},{"$f":"+'[1]itcer global'!M57","v":131.49505828750452},{"$f":"+'[1]itcer global'!N57","v":91.17802284398347},{"$f":"+'[1]itcer global'!O57","v":100.68384285316397}]
[null,"Febrero",{"$f":"+'[1]itcer global'!J58","v":95.929535664012391},{"$f":"+'[1]itcer global'!K58","v":113.22500537948245},{"$f":"+'[1]itcer global'!L58","v":95.313081376309626},{"$f":"+'[1]itcer global'!M58","v":124.31892893242023},{"$f":"+'[1]itcer global'!N58","v":92.439165171439541},{"$f":"+'[1]itcer global'!O58","v":100.99722478676921},null,{"$f":"+'[1]itcer global'!AS58","v":0.72662812691315537},{"$f":"+'[1]itcer global'!AT58","v":-0.11804928220942656},{"$f":"+'[1]itcer global'!AU58","v":0.99242564640913145},{"$f":"+'[1]itcer global'!AV58","v":-5.4573376737810122},{"$f":"+'[1]itcer global'!AW58","v":1.3831648111234358},{"$f":"+'[1]itcer global'!AX58","v":0.31125344913809272},null,{"$f":"+'[1]itcer global'!AZ58","v":0.64080385976452969},{"$f":"+'[1]itcer global'!BA58","v":1.250471299552268},{"$f":"+'[1]itcer global'!BB58","v":0.86011596896272247},{"$f":"+'[1]itcer global'!BC58","v":0.69129700503699898},{"$f":"+'[1]itcer global'!BD58","v":0.70386274138116567},{"$f":"+'[1]itcer global'!BE58","v":0.87405205545542952},null,{"$f":"+'[1]itcer global'!BG58","v":1.4970186930406872},{"$f":"+'[1]itcer global'!BH58","v":0.90545864923107577},{"$f":"+'[1]itcer global'!BI58","v":1.1081422135581869},{"$f":"+'[1]itcer global'!BJ58","v":1.7983432305737612},{"$f":"+'[1]itcer global'!BK58","v":1.3133123794853716},{"$f":"+'[1]itcer global'!BL58","v":1.1555058323630858}]
[null,"Marzo",{"$f":"+'[1]itcer global'!J59","v":97.256304524817338},{"$f":"+'[1]itcer global'!K59","v":112.44149058922936},{"$f":"+'[1]itcer global'!L59","v":94.358001248216752},{"$f":"+'[1]itcer global'!M59","v":124.21099608991071},{"$f":"+'[1]itcer global'!N59","v":92.275836423824785},{"$f":"+'[1]itcer global'!O59","v":100.55654591302722},null,{"$f":"+'[1]itcer global'!AS59","v":1.3830660720092141},{"$f":"+'[1]itcer global'!AT59","v":-0.69199801547995321},{"$f":"+'[1]itcer global'!AU59","v":-1.0020451697727424},{"$f":"+'[1]itcer global'!AV59","v":-8.6819314996034791E-2},{"$f":"+'[1]itcer global'!AW59","v":-0.17668782199822886},{"$f":"+'[1]itcer global'!AX59","v":-0.43632770570911816},null,{"$f":"+'[1]itcer global'!AZ59","v":0.64959071385620537},{"$f":"+'[1]itcer global'!BA59","v":1.2455901737621307},{"$f":"+'[1]itcer global'!BB59","v":0.8465694182009379},{"$f":"+'[1]itcer global'!BC59","v":0.69582050236894111},{"$f":"+'[1]itcer global'!BD59","v":0.70068411066078484},{"$f":"+'[1]itcer global'!BE59","v":0.87071772258684177},null,{"$f":"+'[1]itcer global'!BG59","v":1.4971935782066335},{"$f":"+'[1]itcer global'!BH59","v":0.90271658333346982},{"$f":"+'[1]itcer global'!BI59","v":1.1145926042159526},{"$f":"+'[1]itcer global'!BJ59","v":1.7851011240259631},{"$f":"+'[1]itcer global'!BK59","v":1.3169391887137762},{"$f":"+'[1]itcer global'!BL59","v":1.1548696357561292}]
[null,"Abril",{"$f":"+'[1]itcer global'!J60","v":100.38638355684996},{"$f":"+'[1]itcer global'!K60","v":113.67721968582629},{"$f":"+'[1]itcer global'!L60","v":96.459333667812118},{"$f":"+'[1]itcer global'!M60","v":122.71578471993402},{"$f":"+'[1]itcer global'!N60","v":94.025684267470595},{"$f":"+'[1]itcer global'!O60","v":102.85876195065931},null,{"$f":"+'[1]itcer global'!AS60","v":3.2183816229969011},{"$f":"+'[1]itcer global'!AT60","v":1.0989974342400615},{"$f":"+'[1]itcer global'!AU60","v":2.2269785198900394},{"$f":"+'[1]itcer global'!AV60","v":-1.2037673129151756},{"$f":"+'[1]itcer global'!AW60","v":1.8963229285819949},{"$f":"+'[1]itcer global'!AX60","v":2.2894740633029471},null,{"$f":"+'[1]itcer global'!AZ60","v":0.66765976437189711},{"$f":"+'[1]itcer global'!BA60","v":1.2540503418369193},{"$f":"+'[1]itcer global'!BB60","v":0.86122258915808902},{"$f":"+'[1]itcer global'!BC60","v":0.70014052683892414},{"$f":"+'[1]itcer global'!BD60","v":0.70699924256916824},{"$f":"+'[1]itcer global'!BE60","v":0.88121310006103981},null,{"$f":"+'[1]itcer global'!BG60","v":1.5035559863531505},{"$f":"+'[1]itcer global'!BH60","v":0.90648051273055852},{"$f":"+'[1]itcer global'!BI60","v":1.1200279101144861},{"$f":"+'[1]itcer global'!BJ60","v":1.7527307735489261},{"$f":"+'[1]itcer global'!BK60","v":1.3299262376263681},{"$f":"+'[1]itcer global'!BL60","v":1.1672404999827453}]
[null,"Mayo",{"$f":"+'[1]itcer global'!J61","v":101.66172512474387},{"$f":"+'[1]itcer global'!K61","v":113.88210744663996},{"$f":"+'[1]itcer global'!L61","v":96.293847971637703},{"$f":"+'[1]itcer global'!M61","v":121.53338730341989},{"$f":"+'[1]itcer global'!N61","v":94.416336725538628},{"$f":"+'[1]itcer global'!O61","v":103.15931546416516},null,{"$f":"+'[1]itcer global'!AS61","v":1.2704328243597445},{"$f":"+'[1]itcer global'!AT61","v":0.18023642852978128},{"$f":"+'[1]itcer global'!AU61","v":-0.17156006565866733},{"$f":"+'[1]itcer global'!AV61","v":-0.96352512369345789},{"$f":"+'[1]itcer global'!AW61","v":0.41547419847194078},{"$f":"+'[1]itcer global'!AX61","v":0.29220020521930223},null,{"$f":"+'[1]itcer global'!AZ61","v":0.67753396101138375},{"$f":"+'[1]itcer global'!BA61","v":1.254231643634929},{"$f":"+'[1]itcer global'!BB61","v":0.86554467926907408},{"$f":"+'[1]itcer global'!BC61","v":0.70204167357876524},{"$f":"+'[1]itcer global'!BD61","v":0.70959718863660814},{"$f":"+'[1]itcer global'!BE61","v":0.88288675732184074},null,{"$f":"+'[1]itcer global'!BG61","v":1.5004668544288038},{"$f":"+'[1]itcer global'!BH61","v":0.90798305101436094},{"$f":"+'[1]itcer global'!BI61","v":1.1125231345995323},{"$f":"+'[1]itcer global'!BJ61","v":1.7311420657392713},{"$f":"+'[1]itcer global'!BK61","v":1.3305624407411538},{"$f":"+'[1]itcer global'!BL61","v":1.1684320170017031}]
[null,"Junio",{"$f":"+'[1]itcer global'!J62","v":101.98140666620847},{"$f":"+'[1]itcer global'!K62","v":113.22822630227282},{"$f":"+'[1]itcer global'!L62","v":95.515046740532355},{"$f":"+'[1]itcer global'!M62","v":122.58068914084383},{"$f":"+'[1]itcer global'!N62","v":93.902449893928775},{"$f":"+'[1]itcer global'!O62","v":102.70983262534185},null,{"$f":"+'[1]itcer global'!AS62","v":0.31445614470180772},{"$f":"+'[1]itcer global'!AT62","v":-0.57417373020913942},{"$f":"+'[1]itcer global'!AU62","v":-0.80877568765839669},{"$f":"+'[1]itcer global'!AV62","v":0.86174002112625203},{"$f":"+'[1]itcer global'!AW62","v":-0.54427745179701503},{"$f":"+'[1]itcer global'!AX62","v":-0.43571715923168597},null,{"$f":"+'[1]itcer global'!AZ62","v":0.68553560723039531},{"$f":"+'[1]itcer global'!BA62","v":1.2480875609981203},{"$f":"+'[1]itcer global'!BB62","v":0.8632109082662226},{"$f":"+'[1]itcer global'!BC62","v":0.71060967912313389},{"$f":"+'[1]itcer global'!BD62","v":0.71356641681154553},{"$f":"+'[1]itcer global'!BE62","v":0.88059596094403736},null,{"$f":"+'[1]itcer global'!BG62","v":1.4876164795905999},{"$f":"+'[1]itcer global'!BH62","v":0.90721380326651091},{"$f":"+'[1]itcer global'!BI62","v":1.1065088013354278},{"$f":"+'[1]itcer global'!BJ62","v":1.7250073105126271},{"$f":"+'[1]itcer global'!BK62","v":1.3159594913885726},{"$f":"+'[1]itcer global'!BL62","v":1.1663672919329815}]
[null,"Julio",{"$f":"+'[1]itcer global'!J63","v":102.11369409662314},{"$f":"+'[1]itcer global'!K63","v":110.61406194545171},{"$f":"+'[1]itcer global'!L63","v":96.156456757973189},{"$f":"+'[1]itcer global'!M63","v":123.09951674503999},{"$f":"+'[1]itcer global'!N63","v":94.41163699862291},{"$f":"+'[1]itcer global'!O63","v":102.29133048681119},null,{"$f":"+'[1]itcer global'!AS63","v":0.12971720506627094},{"$f":"+'[1]itcer global'!AT63","v":-2.3087567845868762},{"$f":"+'[1]itcer global'!AU63","v":0.67152772189204768},{"$f":"+'[1]itcer global'!AV63","v":0.42325394630474023},{"$f":"+'[1]itcer global'!AW63","v":0.54225113963406102},{"$f":"+'[1]itcer global'!AX63","v":-0.40746063724709813},null,{"$f":"+'[1]itcer global'!AZ63","v":0.69555500133824144},{"$f":"+'[1]itcer global'!BA63","v":1.2459153224413466},{"$f":"+'[1]itcer global'!BB63","v":0.86517476526130799},{"$f":"+'[1]itcer global'!BC63","v":0.72005564224275276},{"$f":"+'[1]itcer global'!BD63","v":0.72139849728061223},{"$f":"+'[1]itcer global'!BE63","v":0.88133450606032282},null,{"$f":"+'[1]itcer global'!BG63","v":1.4680894235561146},{"$f":"+'[1]itcer global'!BH63","v":0.88781364152987241},{"$f":"+'[1]itcer global'!BI63","v":1.111410787957172},{"$f":"+'[1]itcer global'!BJ63","v":1.7095833922170611},{"$f":"+'[1]itcer global'!BK63","v":1.3087307133923556},{"$f":"+'[1]itcer global'!BL63","v":1.1606413885241649}]
[null,"Agosto",{"$f":"+'[1]itcer global'!J64","v":101.4976954063807},{"$f":"+'[1]itcer global'!K64","v":109.2374670196555},{"$f":"+'[1]itcer global'!L64","v":95.960814643944929},{"$f":"+'[1]itcer global'!M64","v":122.7730715391489},{"$f":"+'[1]itcer global'!N64","v":96.603438172607909},{"$f":"+'[1]itcer global'!O64","v":100.5985781205388},null,{"$f":"+'[1]itcer global'!AS64","v":-0.60324787550977987},{"$f":"+'[1]itcer global'!AT64","v":-1.2445026442253493},{"$f":"+'[1]itcer global'!AU64","v":-0.20346227453107701},{"$f":"+'[1]itcer global'!AV64","v":-0.26518804827415465},{"$f":"+'[1]itcer global'!AW64","v":2.3215370940098836},{"$f":"+'[1]itcer global'!AX64","v":-1.6548346357569699},null,{"$f":"+'[1]itcer global'!AZ64","v":0.69680148840601408},{"$f":"+'[1]itcer global'!BA64","v":1.2335421045911188},{"$f":"+'[1]itcer global'!BB64","v":0.86454658082050528},{"$f":"+'[1]itcer global'!BC64","v":0.72450858031900367},{"$f":"+'[1]itcer global'!BD64","v":0.72256206603874773},{"$f":"+'[1]itcer global'!BE64","v":0.87346811162107407},null,{"$f":"+'[1]itcer global'!BG64","v":1.4566228272354056},{"$f":"+'[1]itcer global'!BH64","v":0.88555928989440014},{"$f":"+'[1]itcer global'!BI64","v":1.1099554005855012},{"$f":"+'[1]itcer global'!BJ64","v":1.6945702904593827},{"$f":"+'[1]itcer global'!BK64","v":1.3369569579290299},{"$f":"+'[1]itcer global'!BL64","v":1.1517143760845188}]
[null,"Septiembre",{"$f":"+'[1]itcer global'!J65","v":100.7984372767777},{"$f":"+'[1]itcer global'!K65","v":107.57398459849753},{"$f":"+'[1]itcer global'!L65","v":96.741965924882351},{"$f":"+'[1]itcer global'!M65","v":121.55435077182064},{"$f":"+'[1]itcer global'!N65","v":96.024174739766082},{"$f":"+'[1]itcer global'!O65","v":98.802976696401146},null,{"$f":"+'[1]itcer global'!AS65","v":-0.68893990824449247},{"$f":"+'[1]itcer global'!AT65","v":-1.5228130663800954},{"$f":"+'[1]itcer global'!AU65","v":0.8140315230084525},{"$f":"+'[1]itcer global'!AV65","v":-0.99266129946065007},{"$f":"+'[1]itcer global'!AW65","v":-0.59963024484368077},{"$f":"+'[1]itcer global'!AX65","v":-1.7849172997118785},null,{"$f":"+'[1]itcer global'!AZ65","v":0.70124048466741462},{"$f":"+'[1]itcer global'!BA65","v":1.222676074323108},{"$f":"+'[1]itcer global'!BB65","v":0.87024839134405607},{"$f":"+'[1]itcer global'!BC65","v":0.7287054664114534},{"$f":"+'[1]itcer global'!BD65","v":0.72041798777481691},{"$f":"+'[1]itcer global'!BE65","v":0.86786996651614656},null,{"$f":"+'[1]itcer global'!BG65","v":1.4374303748960604},{"$f":"+'[1]itcer global'!BH65","v":0.87982407489287084},{"$f":"+'[1]itcer global'!BI65","v":1.1116592330089701},{"$f":"+'[1]itcer global'!BJ65","v":1.6680861661491457},{"$f":"+'[1]itcer global'!BK65","v":1.3328952964703127},{"$f":"+'[1]itcer global'!BL65","v":1.138453691317626}]
[null,"Octubre",{"$f":"+'[1]itcer global'!J66","v":99.731621615918172},{"$f":"+'[1]itcer global'!K66","v":107.52967514942931},{"$f":"+'[1]itcer global'!L66","v":96.629220413153007},{"$f":"+'[1]itcer global'!M66","v":121.60580921461036},{"$f":"+'[1]itcer global'!N66","v":93.761459677283966},{"$f":"+'[1]itcer global'!O66","v":98.305804118731899},null,{"$f":"+'[1]itcer global'!AS66","v":-1.0583652779558577},{"$f":"+'[1]itcer global'!AT66","v":-4.1189744187320798E-2},{"$f":"+'[1]itcer global'!AU66","v":-0.11654250629648288},{"$f":"+'[1]itcer global'!AV66","v":4.2333690619031472E-2},{"$f":"+'[1]itcer global'!AW66","v":-2.3564014672495404},{"$f":"+'[1]itcer global'!AX66","v":-0.50319595045900201},null,{"$f":"+'[1]itcer global'!AZ66","v":0.71011628154848039},{"$f":"+'[1]itcer global'!BA66","v":1.2157399800725817},{"$f":"+'[1]itcer global'!BB66","v":0.87497978397446752},{"$f":"+'[1]itcer global'!BC66","v":0.7379447705560026},{"$f":"+'[1]itcer global'!BD66","v":0.7244605828857279},{"$f":"+'[1]itcer global'!BE66","v":0.86621696855666419},null,{"$f":"+'[1]itcer global'!BG66","v":1.4044407121386273},{"$f":"+'[1]itcer global'!BH66","v":0.88447922180703187},{"$f":"+'[1]itcer global'!BI66","v":1.1043594627321436},{"$f":"+'[1]itcer global'!BJ66","v":1.6478985158060921},{"$f":"+'[1]itcer global'!BK66","v":1.2942244463295161},{"$f":"+'[1]itcer global'!BL66","v":1.1348866125600627}]
[null,"Noviembre",{"$f":"+'[1]itcer global'!J67","v":98.024501337741384},{"$f":"+'[1]itcer global'!K67","v":106.4597263429273},{"$f":"+'[1]itcer global'!L67","v":94.929654974805857},{"$f":"+'[1]itcer global'!M67","v":122.29699329916922},{"$f":"+'[1]itcer global'!N67","v":91.029486189266166},{"$f":"+'[1]itcer global'!O67","v":96.435233955811782},null,{"$f":"+'[1]itcer global'!AS67","v":-1.711714148949838},{"$f":"+'[1]itcer global'!AT67","v":-0.99502654036214722},{"$f":"+'[1]itcer global'!AU67","v":-1.7588524786605859},{"$f":"+'[1]itcer global'!AV67","v":0.5683808109356363},{"$f":"+'[1]itcer global'!AW67","v":-2.9137488872516855},{"$f":"+'[1]itcer global'!AX67","v":-1.9028074483383222},null,{"$f":"+'[1]itcer global'!AZ67","v":0.71139272259253683},{"$f":"+'[1]itcer global'!BA67","v":1.1999331142583731},{"$f":"+'[1]itcer global'!BB67","v":0.86622929377601399},{"$f":"+'[1]itcer global'!BC67","v":0.7495922580226404},{"$f":"+'[1]itcer global'!BD67","v":0.71887034918631432},{"$f":"+'[1]itcer global'!BE67","v":0.85596199850907118},null,{"$f":"+'[1]itcer global'!BG67","v":1.3779238699618621},{"$f":"+'[1]itcer global'!BH67","v":0.88721383782066432},{"$f":"+'[1]itcer global'!BI67","v":1.0958952283984105},{"$f":"+'[1]itcer global'!BJ67","v":1.6315135594086594},{"$f":"+'[1]itcer global'!BK67","v":1.2662851693953154},{"$f":"+'[1]itcer global'!BL67","v":1.1266298518366968}]
[null,"Diciembre",{"$f":"+'[1]itcer global'!J68","v":98.26050236574693},{"$f":"+'[1]itcer global'!K68","v":106.53216699217577},{"$f":"+'[1]itcer global'!L68","v":93.547660167276163},{"$f":"+'[1]itcer global'!M68","v":123.03108755778608},{"$f":"+'[1]itcer global'!N68","v":93.262037049795993},{"$f":"+'[1]itcer global'!O68","v":96.277740671045635},null,{"$f":"+'[1]itcer global'!AS68","v":0.24075718293367743},{"$f":"+'[1]itcer global'!AT68","v":6.804512066386792E-2},{"$f":"+'[1]itcer global'!AU68","v":-1.4558093652573376},{"$f":"+'[1]itcer global'!AV68","v":0.60025536099736598},{"$f":"+'[1]itcer global'!AW68","v":2.4525579062239018},{"$f":"+'[1]itcer global'!AX68","v":-0.16331508547831675},null,{"$f":"+'[1]itcer global'!AZ68","v":0.71898097383623238},{"$f":"+'[1]itcer global'!BA68","v":1.1966352248324683},{"$f":"+'[1]itcer global'!BB68","v":0.85384710566206456},{"$f":"+'[1]itcer global'!BC68","v":0.76415307151856793},{"$f":"+'[1]itcer global'!BD68","v":0.72611463144342991},{"$f":"+'[1]itcer global'!BE68","v":0.8541121073362794},null,{"$f":"+'[1]itcer global'!BG68","v":1.3666634576081069},{"$f":"+'[1]itcer global'!BH68","v":0.89026434105757291},{"$f":"+'[1]itcer global'!BI68","v":1.0956020058736422},{"$f":"+'[1]itcer global'!BJ68","v":1.6100319706010182},{"$f":"+'[1]itcer global'!BK68","v":1.2843982618061573},{"$f":"+'[1]itcer global'!BL68","v":1.1272260379414027}]
[1996,"Enero",{"$f":"+'[1]itcer global'!J69","v":98.531186748466638},{"$f":"+'[1]itcer global'!K69","v":104.84883194147646},{"$f":"+'[1]itcer global'!L69","v":95.844979037644734},{"$f":"+'[1]itcer global'!M69","v":125.18154931694036},{"$f":"+'[1]itcer global'!N69","v":93.679495566526498},{"$f":"+'[1]itcer global'!O69","v":96.885550927347609},null,{"$f":"+'[1]itcer global'!AS69","v":0.27547628620109776},{"$f":"+'[1]itcer global'!AT69","v":-1.5801190365562974},{"$f":"+'[1]itcer global'!AU69","v":2.4557737374303485},{"$f":"+'[1]itcer global'!AV69","v":1.7479011214496865},{"$f":"+'[1]itcer global'!AW69","v":0.44761891326436398},{"$f":"+'[1]itcer global'!AX69","v":0.63130922273995793},null,{"$f":"+'[1]itcer global'!AZ69","v":0.72458308005772987},{"$f":"+'[1]itcer global'!BA69","v":1.1864061103118759},{"$f":"+'[1]itcer global'!BB69","v":0.87632812417732397},{"$f":"+'[1]itcer global'!BC69","v":0.77513808034397846},{"$f":"+'[1]itcer global'!BD69","v":0.72635264698624502},{"$f":"+'[1]itcer global'!BE69","v":0.85259926946060427},null,{"$f":"+'[1]itcer global'!BG69","v":1.3598328398810575},{"$f":"+'[1]itcer global'!BH69","v":0.88375161784959433},{"$f":"+'[1]itcer global'!BI69","v":1.0937110928354805},{"$f":"+'[1]itcer global'!BJ69","v":1.6149580634896599},{"$f":"+'[1]itcer global'!BK69","v":1.2897247081733361},{"$f":"+'[1]itcer global'!BL69","v":1.1363550779094864}]
[null,"Febrero",{"$f":"+'[1]itcer global'!J70","v":99.082053157529359},{"$f":"+'[1]itcer global'!K70","v":104.89547175883456},{"$f":"+'[1]itcer global'!L70","v":96.754979899394414},{"$f":"+'[1]itcer global'!M70","v":124.63650953725289},{"$f":"+'[1]itcer global'!N70","v":93.249190881214716},{"$f":"+'[1]itcer global'!O70","v":97.181217690731543},null,{"$f":"+'[1]itcer global'!AS70","v":0.5590782241048089},{"$f":"+'[1]itcer global'!AT70","v":4.448291554083994E-2},{"$f":"+'[1]itcer global'!AU70","v":0.9494507389816107},{"$f":"+'[1]itcer global'!AV70","v":-0.43539945196516783},{"$f":"+'[1]itcer global'!AW70","v":-0.45933710755967638},{"$f":"+'[1]itcer global'!AX70","v":0.30517116386698717},null,{"$f":"+'[1]itcer global'!AZ70","v":0.73175845441393406},{"$f":"+'[1]itcer global'!BA70","v":1.180665085733136},{"$f":"+'[1]itcer global'!BB70","v":0.88426660151729453},{"$f":"+'[1]itcer global'!BC70","v":0.79002674656577021},{"$f":"+'[1]itcer global'!BD70","v":0.72601985373221167},{"$f":"+'[1]itcer global'!BE70","v":0.8521758135306674},null,{"$f":"+'[1]itcer global'!BG70","v":1.3540267633379683},{"$f":"+'[1]itcer global'!BH70","v":0.88844392051874321},{"$f":"+'[1]itcer global'!BI70","v":1.0941833575233371},{"$f":"+'[1]itcer global'!BJ70","v":1.5776239232284883},{"$f":"+'[1]itcer global'!BK70","v":1.284388992971109},{"$f":"+'[1]itcer global'!BL70","v":1.1403892969937508}]
[null,"Marzo",{"$f":"+'[1]itcer global'!J71","v":99.961230327776946},{"$f":"+'[1]itcer global'!K71","v":104.7521474278058},{"$f":"+'[1]itcer global'!L71","v":96.355259856658037},{"$f":"+'[1]itcer global'!M71","v":125.92266430361396},{"$f":"+'[1]itcer global'!N71","v":93.600124398955103},{"$f":"+'[1]itcer global'!O71","v":97.480485291985843},null,{"$f":"+'[1]itcer global'!AS71","v":0.8873223174430791},{"$f":"+'[1]itcer global'!AT71","v":-0.13663538437414502},{"$f":"+'[1]itcer global'!AU71","v":-0.41312606663967699},{"$f":"+'[1]itcer global'!AV71","v":1.0319245710075364},{"$f":"+'[1]itcer global'!AW71","v":0.37633947750541097},{"$f":"+'[1]itcer global'!AX71","v":0.30794798456497574},null,{"$f":"+'[1]itcer global'!AZ71","v":0.73751657025214989},{"$f":"+'[1]itcer global'!BA71","v":1.1756206337348507},{"$f":"+'[1]itcer global'!BB71","v":0.88370563485073517},{"$f":"+'[1]itcer global'!BC71","v":0.80561710898528471},{"$f":"+'[1]itcer global'!BD71","v":0.72988846857996892},{"$f":"+'[1]itcer global'!BE71","v":0.85084020399797811},null,{"$f":"+'[1]itcer global'!BG71","v":1.3553760601419591},{"$f":"+'[1]itcer global'!BH71","v":0.89103699290320204},{"$f":"+'[1]itcer global'!BI71","v":1.0903547070052708},{"$f":"+'[1]itcer global'!BJ71","v":1.5630584665986038},{"$f":"+'[1]itcer global'!BK71","v":1.2823894119201305},{"$f":"+'[1]itcer global'!BL71","v":1.1456967458041922}]
[null,"Abril",{"$f":"+'[1]itcer global'!J72","v":100.54294149005311},{"$f":"+'[1]itcer global'!K72","v":105.0719577367225},{"$f":"+'[1]itcer global'!L72","v":95.064062032689804},{"$f":"+'[1]itcer global'!M72","v":125.62912171700198},{"$f":"+'[1]itcer global'!N72","v":94.249546653395555},{"$f":"+'[1]itcer global'!O72","v":97.78318831894957},null,{"$f":"+'[1]itcer global'!AS72","v":0.58193677725724058},{"$f":"+'[1]itcer global'!AT72","v":0.30530191196042722},{"$f":"+'[1]itcer global'!AU72","v":-1.3400387543856596},{"$f":"+'[1]itcer global'!AV72","v":-0.23311338608927201},{"$f":"+'[1]itcer global'!AW72","v":0.69382627278613995},{"$f":"+'[1]itcer global'!AX72","v":0.31052679524216842},null,{"$f":"+'[1]itcer global'!AZ72","v":0.74257338994710043},{"$f":"+'[1]itcer global'!BA72","v":1.1737282299061405},{"$f":"+'[1]itcer global'!BB72","v":0.87581224616688114},{"$f":"+'[1]itcer global'!BC72","v":0.81559187769652186},{"$f":"+'[1]itcer global'!BD72","v":0.73595065858398911},{"$f":"+'[1]itcer global'!BE72","v":0.84964290924984132},null,{"$f":"+'[1]itcer global'!BG72","v":1.3539798604581779},{"$f":"+'[1]itcer global'!BH72","v":0.89519835222098043},{"$f":"+'[1]itcer global'!BI72","v":1.0854388306255298},{"$f":"+'[1]itcer global'!BJ72","v":1.540342972416751},{"$f":"+'[1]itcer global'!BK72","v":1.2806503473308528},{"$f":"+'[1]itcer global'!BL72","v":1.1508739407392146}]
[null,"Mayo",{"$f":"+'[1]itcer global'!J73","v":100.11863560015254},{"$f":"+'[1]itcer global'!K73","v":104.83653041111675},{"$f":"+'[1]itcer global'!L73","v":94.138189810644718},{"$f":"+'[1]itcer global'!M73","v":124.97404958161211},{"$f":"+'[1]itcer global'!N73","v":94.119521689845371},{"$f":"+'[1]itcer global'!O73","v":97.78828424013615},null,{"$f":"+'[1]itcer global'!AS73","v":-0.4220145975563554},{"$f":"+'[1]itcer global'!AT73","v":-0.22406294759981904},{"$f":"+'[1]itcer global'!AU73","v":-0.97394557127876169},{"$f":"+'[1]itcer global'!AV73","v":-0.5214333479665072},{"$f":"+'[1]itcer global'!AW73","v":-0.13795818459301756},{"$f":"+'[1]itcer global'!AX73","v":5.2114492012265146E-3},null,{"$f":"+'[1]itcer global'!AZ73","v":0.74826615836577759},{"$f":"+'[1]itcer global'!BA73","v":1.1720873682044211},{"$f":"+'[1]itcer global'!BB73","v":0.86740467168748714},{"$f":"+'[1]itcer global'!BC73","v":0.82459663042404707},{"$f":"+'[1]itcer global'!BD73","v":0.74297867703614617},{"$f":"+'[1]itcer global'!BE73","v":0.84880007990388961},null,{"$f":"+'[1]itcer global'!BG73","v":1.3380083340774473},{"$f":"+'[1]itcer global'!BH73","v":0.89444296777740262},{"$f":"+'[1]itcer global'!BI73","v":1.0852857136162772},{"$f":"+'[1]itcer global'!BJ73","v":1.515577980440503},{"$f":"+'[1]itcer global'!BK73","v":1.2667863102788133},{"$f":"+'[1]itcer global'!BL73","v":1.1520767558269882}]
[null,"Junio",{"$f":"+'[1]itcer global'!J74","v":99.908691794781092},{"$f":"+'[1]itcer global'!K74","v":103.12251658760613},{"$f":"+'[1]itcer global'!L74","v":94.34396814609218},{"$f":"+'[1]itcer global'!M74","v":125.12524823964618},{"$f":"+'[1]itcer global'!N74","v":94.996850739642312},{"$f":"+'[1]itcer global'!O74","v":97.4443385249632},null,{"$f":"+'[1]itcer global'!AS74","v":-0.2096950324112612},{"$f":"+'[1]itcer global'!AT74","v":-1.6349394784328553},{"$f":"+'[1]itcer global'!AU74","v":0.2185917701002893},{"$f":"+'[1]itcer global'!AV74","v":0.1209840431195488},{"$f":"+'[1]itcer global'!AW74","v":0.93214354901635943},{"$f":"+'[1]itcer global'!AX74","v":-0.3517248695440145},null,{"$f":"+'[1]itcer global'!AZ74","v":0.75438967090212361},{"$f":"+'[1]itcer global'!BA74","v":1.1656618536253514},{"$f":"+'[1]itcer global'!BB74","v":0.87001235774690977},{"$f":"+'[1]itcer global'!BC74","v":0.84320338876220258},{"$f":"+'[1]itcer global'!BD74","v":0.74832033317512381},{"$f":"+'[1]itcer global'!BE74","v":0.84721810122388597},null,{"$f":"+'[1]itcer global'!BG74","v":1.3243645247065359},{"$f":"+'[1]itcer global'!BH74","v":0.88466922261273684},{"$f":"+'[1]itcer global'!BI74","v":1.0843980238443602},{"$f":"+'[1]itcer global'!BJ74","v":1.4839272458727464},{"$f":"+'[1]itcer global'!BK74","v":1.2694677202819091},{"$f":"+'[1]itcer global'!BL74","v":1.1501682787961651}]
[null,"Julio",{"$f":"+'[1]itcer global'!J75","v":100.17931721789152},{"$f":"+'[1]itcer global'!K75","v":103.52174111655306},{"$f":"+'[1]itcer global'!L75","v":92.692410830376019},{"$f":"+'[1]itcer global'!M75","v":128.62579152613731},{"$f":"+'[1]itcer global'!N75","v":95.957615500897759},{"$f":"+'[1]itcer global'!O75","v":97.519941584444297},null,{"$f":"+'[1]itcer global'!AS75","v":0.27087275215885143},{"$f":"+'[1]itcer global'!AT75","v":0.38713613879639297},{"$f":"+'[1]itcer global'!AU75","v":-1.7505701192880849},{"$f":"+'[1]itcer global'!AV75","v":2.7976314418866934},{"$f":"+'[1]itcer global'!AW75","v":1.0113648544925127},{"$f":"+'[1]itcer global'!AX75","v":7.7585892239113718E-2},null,{"$f":"+'[1]itcer global'!AZ75","v":0.76253753931106849},{"$f":"+'[1]itcer global'!BA75","v":1.1621894928649459},{"$f":"+'[1]itcer global'!BB75","v":0.86270594532780898},{"$f":"+'[1]itcer global'!BC75","v":0.88360338943865768},{"$f":"+'[1]itcer global'!BD75","v":0.75405121356802018},{"$f":"+'[1]itcer global'!BE75","v":0.84778492782295689},null,{"$f":"+'[1]itcer global'!BG75","v":1.3137624320554862},{"$f":"+'[1]itcer global'!BH75","v":0.89074752225954745},{"$f":"+'[1]itcer global'!BI75","v":1.0744380670189422},{"$f":"+'[1]itcer global'!BJ75","v":1.4556959950985666},{"$f":"+'[1]itcer global'!BK75","v":1.2725609849077151},{"$f":"+'[1]itcer global'!BL75","v":1.1502910512323874}]
[null,"Agosto",{"$f":"+'[1]itcer global'!J76","v":100.91352514191026},{"$f":"+'[1]itcer global'!K76","v":101.14963705340733},{"$f":"+'[1]itcer global'!L76","v":92.234425672715631},{"$f":"+'[1]itcer global'!M76","v":128.93618166204581},{"$f":"+'[1]itcer global'!N76","v":98.169449785701005},{"$f":"+'[1]itcer global'!O76","v":97.926603454549806},null,{"$f":"+'[1]itcer global'!AS76","v":0.73289371939102921},{"$f":"+'[1]itcer global'!AT76","v":-2.2914066529030066},{"$f":"+'[1]itcer global'!AU76","v":-0.4940913215629763},{"$f":"+'[1]itcer global'!AV76","v":0.24131251767296646},{"$f":"+'[1]itcer global'!AW76","v":2.3050117213287251},{"$f":"+'[1]itcer global'!AX76","v":0.4170038081425389},null,{"$f":"+'[1]itcer global'!AZ76","v":0.77229541505837596},{"$f":"+'[1]itcer global'!BA76","v":1.1627066914166742},{"$f":"+'[1]itcer global'!BB76","v":0.86083104464802174},{"$f":"+'[1]itcer global'!BC76","v":0.90540052676931282},{"$f":"+'[1]itcer global'!BD76","v":0.75965783039232104},{"$f":"+'[1]itcer global'!BE76","v":0.85047742259723691},null,{"$f":"+'[1]itcer global'!BG76","v":1.3066700018448572},{"$f":"+'[1]itcer global'!BH76","v":0.8699497285094645},{"$f":"+'[1]itcer global'!BI76","v":1.0714579387692578},{"$f":"+'[1]itcer global'!BJ76","v":1.4240789335756319},{"$f":"+'[1]itcer global'!BK76","v":1.292285103347147},{"$f":"+'[1]itcer global'!BL76","v":1.1514309592780949}]
[null,"Septiembre",{"$f":"+'[1]itcer global'!J77","v":101.05455274108928},{"$f":"+'[1]itcer global'!K77","v":101.99726371939279},{"$f":"+'[1]itcer global'!L77","v":91.635405087290067},{"$f":"+'[1]itcer global'!M77","v":128.40500415194887},{"$f":"+'[1]itcer global'!N77","v":98.595553401576524},{"$f":"+'[1]itcer global'!O77","v":97.520170521154199},null,{"$f":"+'[1]itcer global'!AS77","v":0.13975093921325765},{"$f":"+'[1]itcer global'!AT77","v":0.8379927903625628},{"$f":"+'[1]itcer global'!AU77","v":-0.64945445375366262},{"$f":"+'[1]itcer global'!AV77","v":-0.41196931943370885},{"$f":"+'[1]itcer global'!AW77","v":0.43404910265432761},{"$f":"+'[1]itcer global'!AX77","v":-0.41503832366068139},null,{"$f":"+'[1]itcer global'!AZ77","v":0.77710059399066178},{"$f":"+'[1]itcer global'!BA77","v":1.1588144854835192},{"$f":"+'[1]itcer global'!BB77","v":0.85416421750256177},{"$f":"+'[1]itcer global'!BC77","v":0.91421460433691804},{"$f":"+'[1]itcer global'!BD77","v":0.76762799424008543},{"$f":"+'[1]itcer global'!BE77","v":0.84807436456908536},null,{"$f":"+'[1]itcer global'!BG77","v":1.3004050379390599},{"$f":"+'[1]itcer global'!BH77","v":0.88018630244196605},{"$f":"+'[1]itcer global'!BI77","v":1.072807818562304},{"$f":"+'[1]itcer global'!BJ77","v":1.4045389730465014},{"$f":"+'[1]itcer global'!BK77","v":1.2844184180539344},{"$f":"+'[1]itcer global'!BL77","v":1.149901171351938}]
[null,"Octubre",{"$f":"+'[1]itcer global'!J78","v":100.72643877192368},{"$f":"+'[1]itcer global'!K78","v":102.04791688540584},{"$f":"+'[1]itcer global'!L78","v":91.420379479803515},{"$f":"+'[1]itcer global'!M78","v":128.0102786671772},{"$f":"+'[1]itcer global'!N78","v":97.003688114568263},{"$f":"+'[1]itcer global'!O78","v":97.246007403921226},null,{"$f":"+'[1]itcer global'!AS78","v":-0.3246899424771641},{"$f":"+'[1]itcer global'!AT78","v":4.9661298907395235E-2},{"$f":"+'[1]itcer global'!AU78","v":-0.2346534151092925},{"$f":"+'[1]itcer global'!AV78","v":-0.30740662124395612},{"$f":"+'[1]itcer global'!AW78","v":-1.6145406482223876},{"$f":"+'[1]itcer global'!AX78","v":-0.28113478039243489},null,{"$f":"+'[1]itcer global'!AZ78","v":0.78103245986633041},{"$f":"+'[1]itcer global'!BA78","v":1.1529312079670373},{"$f":"+'[1]itcer global'!BB78","v":0.8509171931495344},{"$f":"+'[1]itcer global'!BC78","v":0.92122838645343441},{"$f":"+'[1]itcer global'!BD78","v":0.7708651188023169},{"$f":"+'[1]itcer global'!BE78","v":0.84448559459176087},null,{"$f":"+'[1]itcer global'!BG78","v":1.2896575231862},{"$f":"+'[1]itcer global'!BH78","v":0.88511713604618991},{"$f":"+'[1]itcer global'!BI78","v":1.0743745715305801},{"$f":"+'[1]itcer global'!BJ78","v":1.3895607272806041},{"$f":"+'[1]itcer global'!BK78","v":1.2583743348678382},{"$f":"+'[1]itcer global'!BL78","v":1.1515413409855932}]
[null,"Noviembre",{"$f":"+'[1]itcer global'!J79","v":101.19121897714612},{"$f":"+'[1]itcer global'!K79","v":103.3431000285134},{"$f":"+'[1]itcer global'!L79","v":89.913778764503604},{"$f":"+'[1]itcer global'!M79","v":126.46091501442481},{"$f":"+'[1]itcer global'!N79","v":96.937533309841982},{"$f":"+'[1]itcer global'!O79","v":96.871423430888385},null,{"$f":"+'[1]itcer global'!AS79","v":0.46142821178743532},{"$f":"+'[1]itcer global'!AT79","v":1.2691911629729731},{"$f":"+'[1]itcer global'!AU79","v":-1.6479921915361899},{"$f":"+'[1]itcer global'!AV79","v":-1.2103431606306287},{"$f":"+'[1]itcer global'!AW79","v":-6.8198236595023332E-2},{"$f":"+'[1]itcer global'!AX79","v":-0.38519213593723123},null,{"$f":"+'[1]itcer global'!AZ79","v":0.78978247775517041},{"$f":"+'[1]itcer global'!BA79","v":1.153207435269529},{"$f":"+'[1]itcer global'!BB79","v":0.84319340697390688},{"$f":"+'[1]itcer global'!BC79","v":0.92555461300074493},{"$f":"+'[1]itcer global'!BD79","v":0.7781761343732293},{"$f":"+'[1]itcer global'!BE79","v":0.84455741772080128},null,{"$f":"+'[1]itcer global'!BG79","v":1.2812542925080572},{"$f":"+'[1]itcer global'!BH79","v":0.8961362619411134},{"$f":"+'[1]itcer global'!BI79","v":1.0663482188172049},{"$f":"+'[1]itcer global'!BJ79","v":1.3663258033410399},{"$f":"+'[1]itcer global'!BK79","v":1.2457016994991617},{"$f":"+'[1]itcer global'!BL79","v":1.1470081417591991}]
[null,"Diciembre",{"$f":"+'[1]itcer global'!J80","v":101.09063859798626},{"$f":"+'[1]itcer global'!K80","v":103.29444097699161},{"$f":"+'[1]itcer global'!L80","v":89.133574591255297},{"$f":"+'[1]itcer global'!M80","v":126.81008162678732},{"$f":"+'[1]itcer global'!N80","v":95.971580892426147},{"$f":"+'[1]itcer global'!O80","v":98.149211807202747},null,{"$f":"+'[1]itcer global'!AS80","v":-9.9396350964582325E-2},{"$f":"+'[1]itcer global'!AT80","v":-4.7084954397888623E-2},{"$f":"+'[1]itcer global'!AU80","v":-0.86772481811911462},{"$f":"+'[1]itcer global'!AV80","v":0.27610634663103895},{"$f":"+'[1]itcer global'!AW80","v":-0.99646894699533561},{"$f":"+'[1]itcer global'!AX80","v":1.3190560549840313},null,{"$f":"+'[1]itcer global'!AZ80","v":0.79348541846160736},{"$f":"+'[1]itcer global'!BA80","v":1.1484690409076344},{"$f":"+'[1]itcer global'!BB80","v":0.83835792924345653},{"$f":"+'[1]itcer global'!BC80","v":0.9351457726264536},{"$f":"+'[1]itcer global'!BD80","v":0.77989690275874823},{"$f":"+'[1]itcer global'!BE80","v":0.86268591776093895},null,{"$f":"+'[1]itcer global'!BG80","v":1.2740075147691894},{"$f":"+'[1]itcer global'!BH80","v":0.89940988653345033},{"$f":"+'[1]itcer global'!BI80","v":1.0631923607103044},{"$f":"+'[1]itcer global'!BJ80","v":1.3560461410270626},{"$f":"+'[1]itcer global'!BK80","v":1.2305675346695639},{"$f":"+'[1]itcer global'!BL80","v":1.1377166334411073}]
[1997,"Enero",{"$f":"+'[1]itcer global'!J81","v":99.648838591130342},{"$f":"+'[1]itcer global'!K81","v":102.5179916963578},{"$f":"+'[1]itcer global'!L81","v":89.312094020453941},{"$f":"+'[1]itcer global'!M81","v":125.71909875606647},{"$f":"+'[1]itcer global'!N81","v":97.318083432146636},{"$f":"+'[1]itcer global'!O81","v":100.64486881646739},null,{"$f":"+'[1]itcer global'!AS81","v":-1.426244830235575},{"$f":"+'[1]itcer global'!AT81","v":-0.75168544724179753},{"$f":"+'[1]itcer global'!AU81","v":0.20028303590122221},{"$f":"+'[1]itcer global'!AV81","v":-0.86032818268479616},{"$f":"+'[1]itcer global'!AW81","v":1.4030221521825155},{"$f":"+'[1]itcer global'!AX81","v":2.5427173212220424},null,{"$f":"+'[1]itcer global'!AZ81","v":0.79386526184441664},{"$f":"+'[1]itcer global'!BA81","v":1.1399456368493037},{"$f":"+'[1]itcer global'!BB81","v":0.84280716601100547},{"$f":"+'[1]itcer global'!BC81","v":0.94068736842609479},{"$f":"+'[1]itcer global'!BD81","v":0.78285483279615176},{"$f":"+'[1]itcer global'!BE81","v":0.90517101296159952},null,{"$f":"+'[1]itcer global'!BG81","v":1.2552361638751204},{"$f":"+'[1]itcer global'!BH81","v":0.89932351493275875},{"$f":"+'[1]itcer global'!BI81","v":1.0596978481230395},{"$f":"+'[1]itcer global'!BJ81","v":1.3364599438218521},{"$f":"+'[1]itcer global'!BK81","v":1.2431178726271894},{"$f":"+'[1]itcer global'!BL81","v":1.1118878905232585}]
[null,"Febrero",{"$f":"+'[1]itcer global'!J82","v":99.546753491659601},{"$f":"+'[1]itcer global'!K82","v":101.41800045638898},{"$f":"+'[1]itcer global'!L82","v":87.946042540055345},{"$f":"+'[1]itcer global'!M82","v":120.74530435966881},{"$f":"+'[1]itcer global'!N82","v":97.913356993436068},{"$f":"+'[1]itcer global'!O82","v":100.77646919295204},null,{"$f":"+'[1]itcer global'!AS82","v":-0.10244484623609651},{"$f":"+'[1]itcer global'!AT82","v":-1.0729738475825883},{"$f":"+'[1]itcer global'!AU82","v":-1.5295257550290415},{"$f":"+'[1]itcer global'!AV82","v":-3.9562758925343076},{"$f":"+'[1]itcer global'!AW82","v":0.61167826193830876},{"$f":"+'[1]itcer global'!AX82","v":0.13075716430672912},null,{"$f":"+'[1]itcer global'!AZ82","v":0.79339382662342883},{"$f":"+'[1]itcer global'!BA82","v":1.1328153341491976},{"$f":"+'[1]itcer global'!BB82","v":0.84378183428607145},{"$f":"+'[1]itcer global'!BC82","v":0.9194222437648919},{"$f":"+'[1]itcer global'!BD82","v":0.78167616081923341},{"$f":"+'[1]itcer global'!BE82","v":0.90158511955552101},null,{"$f":"+'[1]itcer global'!BG82","v":1.2546953373120688},{"$f":"+'[1]itcer global'!BH82","v":0.89527390210125557},{"$f":"+'[1]itcer global'!BI82","v":1.042284142256594},{"$f":"+'[1]itcer global'!BJ82","v":1.3132736909348139},{"$f":"+'[1]itcer global'!BK82","v":1.2526076897473533},{"$f":"+'[1]itcer global'!BL82","v":1.1177698811470465}]
[null,"Marzo",{"$f":"+'[1]itcer global'!J83","v":99.289988987381321},{"$f":"+'[1]itcer global'!K83","v":101.4314622169745},{"$f":"+'[1]itcer global'!L83","v":86.478668317007319},{"$f":"+'[1]itcer global'!M83","v":120.56934413730868},{"$f":"+'[1]itcer global'!N83","v":98.889748773807625},{"$f":"+'[1]itcer global'!O83","v":101.01944756656059},null,{"$f":"+'[1]itcer global'!AS83","v":-0.2579335792199231},{"$f":"+'[1]itcer global'!AT83","v":1.3273541703568981E-2},{"$f":"+'[1]itcer global'!AU83","v":-1.6684937498804544},{"$f":"+'[1]itcer global'!AV83","v":-0.14572841842030471},{"$f":"+'[1]itcer global'!AW83","v":0.99719977983903618},{"$f":"+'[1]itcer global'!AX83","v":0.2411062577944989},null,{"$f":"+'[1]itcer global'!AZ83","v":0.79785455227261226},{"$f":"+'[1]itcer global'!BA83","v":1.1316192797561602},{"$f":"+'[1]itcer global'!BB83","v":0.82681691967914839},{"$f":"+'[1]itcer global'!BC83","v":0.92254652021594397},{"$f":"+'[1]itcer global'!BD83","v":0.78608183376688401},{"$f":"+'[1]itcer global'!BE83","v":0.90234922109826909},null,{"$f":"+'[1]itcer global'!BG83","v":1.2444622732873214},{"$f":"+'[1]itcer global'!BH83","v":0.89633911361806062},{"$f":"+'[1]itcer global'!BI83","v":1.0459228186883973},{"$f":"+'[1]itcer global'!BJ83","v":1.3069188544452646},{"$f":"+'[1]itcer global'!BK83","v":1.2580083208376722},{"$f":"+'[1]itcer global'!BL83","v":1.1195160942634557}]
[null,"Abril",{"$f":"+'[1]itcer global'!J84","v":98.912641435051839},{"$f":"+'[1]itcer global'!K84","v":101.50338820537782},{"$f":"+'[1]itcer global'!L84","v":86.725692378712452},{"$f":"+'[1]itcer global'!M84","v":119.6780069256221},{"$f":"+'[1]itcer global'!N84","v":99.706825103869562},{"$f":"+'[1]itcer global'!O84","v":100.28911375287574},null,{"$f":"+'[1]itcer global'!AS84","v":-0.38004592021601979},{"$f":"+'[1]itcer global'!AT84","v":7.0910925299941141E-2},{"$f":"+'[1]itcer global'!AU84","v":0.28564739318095178},{"$f":"+'[1]itcer global'!AV84","v":-0.73927350112437296},{"$f":"+'[1]itcer global'!AW84","v":0.82624977835756397},{"$f":"+'[1]itcer global'!AX84","v":-0.72296357907089259},null,{"$f":"+'[1]itcer global'!AZ84","v":0.80353922007344292},{"$f":"+'[1]itcer global'!BA84","v":1.1298410643998491},{"$f":"+'[1]itcer global'!BB84","v":0.82589774539968486},{"$f":"+'[1]itcer global'!BC84","v":0.91869776630104028},{"$f":"+'[1]itcer global'!BD84","v":0.79223155728652161},{"$f":"+'[1]itcer global'!BE84","v":0.9011509825180839},null,{"$f":"+'[1]itcer global'!BG84","v":1.2309622102330149},{"$f":"+'[1]itcer global'!BH84","v":0.89838643154021458},{"$f":"+'[1]itcer global'!BI84","v":1.0500778439193152},{"$f":"+'[1]itcer global'!BJ84","v":1.3026918244014301},{"$f":"+'[1]itcer global'!BK84","v":1.2585565948089239},{"$f":"+'[1]itcer global'!BL84","v":1.1129002320192574}]
[null,"Mayo",{"$f":"+'[1]itcer global'!J85","v":99.747801708071307},{"$f":"+'[1]itcer global'!K85","v":102.0110397101455},{"$f":"+'[1]itcer global'!L85","v":86.511491714854245},{"$f":"+'[1]itcer global'!M85","v":121.28651396602115},{"$f":"+'[1]itcer global'!N85","v":100.27751205088946},{"$f":"+'[1]itcer global'!O85","v":100.53110112386145},null,{"$f":"+'[1]itcer global'!AS85","v":0.84434129035757621},{"$f":"+'[1]itcer global'!AT85","v":0.50013257068867745},{"$f":"+'[1]itcer global'!AU85","v":-0.24698639812852718},{"$f":"+'[1]itcer global'!AV85","v":1.3440289337360838},{"$f":"+'[1]itcer global'!AW85","v":0.57236497744801795},{"$f":"+'[1]itcer global'!AX85","v":0.24128976907901745},null,{"$f":"+'[1]itcer global'!AZ85","v":0.81291949562548127},{"$f":"+'[1]itcer global'!BA85","v":1.129902044436258},{"$f":"+'[1]itcer global'!BB85","v":0.82353152605888513},{"$f":"+'[1]itcer global'!BC85","v":0.94207918905554877},{"$f":"+'[1]itcer global'!BD85","v":0.80123230631797304},{"$f":"+'[1]itcer global'!BE85","v":0.90412544742793766},null,{"$f":"+'[1]itcer global'!BG85","v":1.2270317324758311},{"$f":"+'[1]itcer global'!BH85","v":0.90283082690625505},{"$f":"+'[1]itcer global'!BI85","v":1.0504939881156219},{"$f":"+'[1]itcer global'!BJ85","v":1.2874343831712602},{"$f":"+'[1]itcer global'!BK85","v":1.2515410482099787},{"$f":"+'[1]itcer global'!BL85","v":1.1119154029991414}]
[null,"Junio",{"$f":"+'[1]itcer global'!J86","v":100.0157926645505},{"$f":"+'[1]itcer global'!K86","v":101.9321941577998},{"$f":"+'[1]itcer global'!L86","v":85.840967792334439},{"$f":"+'[1]itcer global'!M86","v":120.13403559578902},{"$f":"+'[1]itcer global'!N86","v":99.676620990465807},{"$f":"+'[1]itcer global'!O86","v":100.15859191050433},null,{"$f":"+'[1]itcer global'!AS86","v":0.2686685339327255},{"$f":"+'[1]itcer global'!AT86","v":-7.7291195707573479E-2},{"$f":"+'[1]itcer global'!AU86","v":-0.77506919511904471},{"$f":"+'[1]itcer global'!AV86","v":-0.95021147244366944},{"$f":"+'[1]itcer global'!AW86","v":-0.59922813015016629},{"$f":"+'[1]itcer global'!AX86","v":-0.37054126453679714},null,{"$f":"+'[1]itcer global'!AZ86","v":0.81926903725669842},{"$f":"+'[1]itcer global'!BA86","v":1.1293219104602812},{"$f":"+'[1]itcer global'!BB86","v":0.81470177886831308},{"$f":"+'[1]itcer global'!BC86","v":0.94307694806674036},{"$f":"+'[1]itcer global'!BD86","v":0.81034186975573663},{"$f":"+'[1]itcer global'!BE86","v":0.90313860834366722},null,{"$f":"+'[1]itcer global'!BG86","v":1.2207930254443748},{"$f":"+'[1]itcer global'!BH86","v":0.90259644494327551},{"$f":"+'[1]itcer global'!BI86","v":1.0536489549780352},{"$f":"+'[1]itcer global'!BJ86","v":1.2738518934436651},{"$f":"+'[1]itcer global'!BK86","v":1.2300564084207024},{"$f":"+'[1]itcer global'!BL86","v":1.1090057604135937}]
[null,"Julio",{"$f":"+'[1]itcer global'!J87","v":99.913935022344248},{"$f":"+'[1]itcer global'!K87","v":101.18493070235783},{"$f":"+'[1]itcer global'!L87","v":86.088470047979044},{"$f":"+'[1]itcer global'!M87","v":118.57642869891637},{"$f":"+'[1]itcer global'!N87","v":98.903451768135341},{"$f":"+'[1]itcer global'!O87","v":98.240475329427866},null,{"$f":"+'[1]itcer global'!AS87","v":-0.10184155871051814},{"$f":"+'[1]itcer global'!AT87","v":-0.7330985677450883},{"$f":"+'[1]itcer global'!AU87","v":0.28832649725403314},{"$f":"+'[1]itcer global'!AV87","v":-1.2965575402074023},{"$f":"+'[1]itcer global'!AW87","v":-0.77567760087335103},{"$f":"+'[1]itcer global'!AX87","v":-1.9150794200365482},null,{"$f":"+'[1]itcer global'!AZ87","v":0.82294763368579982},{"$f":"+'[1]itcer global'!BA87","v":1.1250146124653355},{"$f":"+'[1]itcer global'!BB87","v":0.81748414354875887},{"$f":"+'[1]itcer global'!BC87","v":0.94114486469217318},{"$f":"+'[1]itcer global'!BD87","v":0.81462786162099665},{"$f":"+'[1]itcer global'!BE87","v":0.90115468044775549},null,{"$f":"+'[1]itcer global'!BG87","v":1.2140983330233535},{"$f":"+'[1]itcer global'!BH87","v":0.89940992393532659},{"$f":"+'[1]itcer global'!BI87","v":1.0530903960321809},{"$f":"+'[1]itcer global'!BJ87","v":1.2599168645275454},{"$f":"+'[1]itcer global'!BK87","v":1.2140936546330636},{"$f":"+'[1]itcer global'!BL87","v":1.0901621825968353}]
[null,"Agosto",{"$f":"+'[1]itcer global'!J88","v":99.119866187568562},{"$f":"+'[1]itcer global'!K88","v":101.57419006721534},{"$f":"+'[1]itcer global'!L88","v":86.847875774242482},{"$f":"+'[1]itcer global'!M88","v":116.68870954860601},{"$f":"+'[1]itcer global'!N88","v":100.30477345939735},{"$f":"+'[1]itcer global'!O88","v":97.463214699839256},null,{"$f":"+'[1]itcer global'!AS88","v":-0.79475283862866775},{"$f":"+'[1]itcer global'!AT88","v":0.38470092547923684},{"$f":"+'[1]itcer global'!AU88","v":0.88212245593423688},{"$f":"+'[1]itcer global'!AV88","v":-1.5919851618263579},{"$f":"+'[1]itcer global'!AW88","v":1.4168582250771351},{"$f":"+'[1]itcer global'!AX88","v":-0.7911816661943476},null,{"$f":"+'[1]itcer global'!AZ88","v":0.82341107351517262},{"$f":"+'[1]itcer global'!BA88","v":1.1163904667733537},{"$f":"+'[1]itcer global'!BB88","v":0.83129866878231173},{"$f":"+'[1]itcer global'!BC88","v":0.93549963222704879},{"$f":"+'[1]itcer global'!BD88","v":0.81855053337826844},{"$f":"+'[1]itcer global'!BE88","v":0.89734354587791687},null,{"$f":"+'[1]itcer global'!BG88","v":1.2037713527997884},{"$f":"+'[1]itcer global'!BH88","v":0.90984465642016843},{"$f":"+'[1]itcer global'!BI88","v":1.0447253079504801},{"$f":"+'[1]itcer global'!BJ88","v":1.2473410520837627},{"$f":"+'[1]itcer global'!BK88","v":1.2253950045750508},{"$f":"+'[1]itcer global'!BL88","v":1.0861304474473714}]
[null,"Septiembre",{"$f":"+'[1]itcer global'!J89","v":100.90773456623717},{"$f":"+'[1]itcer global'!K89","v":102.20884573056679},{"$f":"+'[1]itcer global'!L89","v":87.069836836652456},{"$f":"+'[1]itcer global'!M89","v":116.72939592904358},{"$f":"+'[1]itcer global'!N89","v":102.41769730349135},{"$f":"+'[1]itcer global'!O89","v":97.356774708971912},null,{"$f":"+'[1]itcer global'!AS89","v":1.8037437371892082},{"$f":"+'[1]itcer global'!AT89","v":0.62481981193398894},{"$f":"+'[1]itcer global'!AU89","v":0.25557454391508827},{"$f":"+'[1]itcer global'!AV89","v":3.486745255385415E-2},{"$f":"+'[1]itcer global'!AW89","v":2.106503779652428},{"$f":"+'[1]itcer global'!AX89","v":-0.10921042487173338},null,{"$f":"+'[1]itcer global'!AZ89","v":0.83269144471583512},{"$f":"+'[1]itcer global'!BA89","v":1.1163564323854771},{"$f":"+'[1]itcer global'!BB89","v":0.8364304791267364},{"$f":"+'[1]itcer global'!BC89","v":0.93669154163348534},{"$f":"+'[1]itcer global'!BD89","v":0.82713005959742181},{"$f":"+'[1]itcer global'!BE89","v":0.89911845620340902},null,{"$f":"+'[1]itcer global'!BG89","v":1.2118262437615532},{"$f":"+'[1]itcer global'!BH89","v":0.91555745786462361},{"$f":"+'[1]itcer global'!BI89","v":1.040969201977868},{"$f":"+'[1]itcer global'!BJ89","v":1.2461882139501395},{"$f":"+'[1]itcer global'!BK89","v":1.2382296606816561},{"$f":"+'[1]itcer global'!BL89","v":1.0828025388341791}]
[null,"Octubre",{"$f":"+'[1]itcer global'!J90","v":102.00966217157782},{"$f":"+'[1]itcer global'!K90","v":102.74080273788589},{"$f":"+'[1]itcer global'!L90","v":87.428142540480636},{"$f":"+'[1]itcer global'!M90","v":117.35340015590648},{"$f":"+'[1]itcer global'!N90","v":102.73837274039801},{"$f":"+'[1]itcer global'!O90","v":97.451516527982747},null,{"$f":"+'[1]itcer global'!AS90","v":1.0920150076477313},{"$f":"+'[1]itcer global'!AT90","v":0.5204608304856464},{"$f":"+'[1]itcer global'!AU90","v":0.41151530408902204},{"$f":"+'[1]itcer global'!AV90","v":0.53457333681588182},{"$f":"+'[1]itcer global'!AW90","v":0.31310549382534703},{"$f":"+'[1]itcer global'!AX90","v":9.7314048553926114E-2},null,{"$f":"+'[1]itcer global'!AZ90","v":0.84148866994538996},{"$f":"+'[1]itcer global'!BA90","v":1.1158621574112206},{"$f":"+'[1]itcer global'!BB90","v":0.84270588270569124},{"$f":"+'[1]itcer global'!BC90","v":0.93718022848730431},{"$f":"+'[1]itcer global'!BD90","v":0.83272234116127586},{"$f":"+'[1]itcer global'!BE90","v":0.90076494596157652},null,{"$f":"+'[1]itcer global'!BG90","v":1.2122523548439212},{"$f":"+'[1]itcer global'!BH90","v":0.92073023585854574},{"$f":"+'[1]itcer global'!BI90","v":1.037469232560398},{"$f":"+'[1]itcer global'!BJ90","v":1.2521967129559033},{"$f":"+'[1]itcer global'!BK90","v":1.2337650578357708},{"$f":"+'[1]itcer global'!BL90","v":1.0818750992130604}]
[null,"Noviembre",{"$f":"+'[1]itcer global'!J91","v":100.91960206991919},{"$f":"+'[1]itcer global'!K91","v":102.63802280529892},{"$f":"+'[1]itcer global'!L91","v":87.600823698420598},{"$f":"+'[1]itcer global'!M91","v":116.16435055288123},{"$f":"+'[1]itcer global'!N91","v":100.29189550937585},{"$f":"+'[1]itcer global'!O91","v":96.870287704980342},null,{"$f":"+'[1]itcer global'!AS91","v":-1.0685851501254575},{"$f":"+'[1]itcer global'!AT91","v":-0.10003808598729336},{"$f":"+'[1]itcer global'!AU91","v":0.19751209727462538},{"$f":"+'[1]itcer global'!AV91","v":-1.0132212628228672},{"$f":"+'[1]itcer global'!AW91","v":-2.3812692042572792},{"$f":"+'[1]itcer global'!AX91","v":-0.59642871010171916},null,{"$f":"+'[1]itcer global'!AZ91","v":0.8447736174800865},{"$f":"+'[1]itcer global'!BA91","v":1.1092752261403442},{"$f":"+'[1]itcer global'!BB91","v":0.84545910078310438},{"$f":"+'[1]itcer global'!BC91","v":0.93357084073353813},{"$f":"+'[1]itcer global'!BD91","v":0.83422261769047534},{"$f":"+'[1]itcer global'!BE91","v":0.8964814309583039},null,{"$f":"+'[1]itcer global'!BG91","v":1.1946348700017033},{"$f":"+'[1]itcer global'!BH91","v":0.92527102730331146},{"$f":"+'[1]itcer global'!BI91","v":1.036133192218057},{"$f":"+'[1]itcer global'!BJ91","v":1.2443014015048606},{"$f":"+'[1]itcer global'!BK91","v":1.2022198077898136},{"$f":"+'[1]itcer global'!BL91","v":1.080561006170867}]
[null,"Diciembre",{"$f":"+'[1]itcer global'!J92","v":100.52342886330067},{"$f":"+'[1]itcer global'!K92","v":102.6084219295675},{"$f":"+'[1]itcer global'!L92","v":86.857252006665291},{"$f":"+'[1]itcer global'!M92","v":115.7162001981113},{"$f":"+'[1]itcer global'!N92","v":100.58067592259501},{"$f":"+'[1]itcer global'!O92","v":96.456181860689952},null,{"$f":"+'[1]itcer global'!AS92","v":-0.39256318742125984},{"$f":"+'[1]itcer global'!AT92","v":-2.8840068156384291E-2},{"$f":"+'[1]itcer global'!AU92","v":-0.84881815074612632},{"$f":"+'[1]itcer global'!AV92","v":-0.38578991974472387},{"$f":"+'[1]itcer global'!AW92","v":0.28793992949525204},{"$f":"+'[1]itcer global'!AX92","v":-0.42748489149899171},null,{"$f":"+'[1]itcer global'!AZ92","v":0.84757941450720886},{"$f":"+'[1]itcer global'!BA92","v":1.1068324867347588},{"$f":"+'[1]itcer global'!BB92","v":0.84003237452037904},{"$f":"+'[1]itcer global'!BC92","v":0.93132936757042306},{"$f":"+'[1]itcer global'!BD92","v":0.83965619140305214},{"$f":"+'[1]itcer global'!BE92","v":0.89374968479059869},null,{"$f":"+'[1]itcer global'!BG92","v":1.1860060207071685},{"$f":"+'[1]itcer global'!BH92","v":0.92704562939122126},{"$f":"+'[1]itcer global'!BI92","v":1.0339750543097448},{"$f":"+'[1]itcer global'!BJ92","v":1.2424841761404173},{"$f":"+'[1]itcer global'!BK92","v":1.1978792862174492},{"$f":"+'[1]itcer global'!BL92","v":1.0792303874578613}]
[1998,"Enero",{"$f":"+'[1]itcer global'!J93","v":99.383074284992688},{"$f":"+'[1]itcer global'!K93","v":101.36459014978719},{"$f":"+'[1]itcer global'!L93","v":86.936527324494051},{"$f":"+'[1]itcer global'!M93","v":114.9142858862905},{"$f":"+'[1]itcer global'!N93","v":101.4833456098673},{"$f":"+'[1]itcer global'!O93","v":96.291264590675439},null,{"$f":"+'[1]itcer global'!AS93","v":-1.1344167137978474},{"$f":"+'[1]itcer global'!AT93","v":-1.2122121716618039},{"$f":"+'[1]itcer global'!AU93","v":9.1270810435801764E-2},{"$f":"+'[1]itcer global'!AV93","v":-0.6930009025943491},{"$f":"+'[1]itcer global'!AW93","v":0.89745836264509649},{"$f":"+'[1]itcer global'!AX93","v":-0.17097636132093896},null,{"$f":"+'[1]itcer global'!AZ93","v":0.8476419979395049},{"$f":"+'[1]itcer global'!BA93","v":1.0999712555940997},{"$f":"+'[1]itcer global'!BB93","v":0.8460174965912004},{"$f":"+'[1]itcer global'!BC93","v":0.92794484529232457},{"$f":"+'[1]itcer global'!BD93","v":0.84667499679328251},{"$f":"+'[1]itcer global'!BE93","v":0.89016187136566649},null,{"$f":"+'[1]itcer global'!BG93","v":1.1724651978851754},{"$f":"+'[1]itcer global'!BH93","v":0.92152035459362691},{"$f":"+'[1]itcer global'!BI93","v":1.027597273989975},{"$f":"+'[1]itcer global'!BJ93","v":1.2383740959312057},{"$f":"+'[1]itcer global'!BK93","v":1.1986103994357666},{"$f":"+'[1]itcer global'!BL93","v":1.0817275788609946}]
[null,"Febrero",{"$f":"+'[1]itcer global'!J94","v":99.434529146939099},{"$f":"+'[1]itcer global'!K94","v":101.61227303569987},{"$f":"+'[1]itcer global'!L94","v":86.005175127446336},{"$f":"+'[1]itcer global'!M94","v":112.94535436755636},{"$f":"+'[1]itcer global'!N94","v":101.05284229427785},{"$f":"+'[1]itcer global'!O94","v":96.495596777707078},null,{"$f":"+'[1]itcer global'!AS94","v":5.1774270736345329E-2},{"$f":"+'[1]itcer global'!AT94","v":0.244348529941945},{"$f":"+'[1]itcer global'!AU94","v":-1.0713013571055114},{"$f":"+'[1]itcer global'!AV94","v":-1.7133914234844809},{"$f":"+'[1]itcer global'!AW94","v":-0.42421080326266747},{"$f":"+'[1]itcer global'!AX94","v":0.21220220536125112},null,{"$f":"+'[1]itcer global'!AZ94","v":0.85293897846935596},{"$f":"+'[1]itcer global'!BA94","v":1.0986996147622099},{"$f":"+'[1]itcer global'!BB94","v":0.83739219129980613},{"$f":"+'[1]itcer global'!BC94","v":0.93143432512143221},{"$f":"+'[1]itcer global'!BD94","v":0.85072790361809347},{"$f":"+'[1]itcer global'!BE94","v":0.88877086020148643},null,{"$f":"+'[1]itcer global'!BG94","v":1.1657871390211243},{"$f":"+'[1]itcer global'!BH94","v":0.92484125479275503},{"$f":"+'[1]itcer global'!BI94","v":1.027059674319968},{"$f":"+'[1]itcer global'!BJ94","v":1.2125960072690209},{"$f":"+'[1]itcer global'!BK94","v":1.1878397530456721},{"$f":"+'[1]itcer global'!BL94","v":1.0857196280696162}]
[null,"Marzo",{"$f":"+'[1]itcer global'!J95","v":99.238669888180866},{"$f":"+'[1]itcer global'!K95","v":101.25697516836037},{"$f":"+'[1]itcer global'!L95","v":86.392420225461748},{"$f":"+'[1]itcer global'!M95","v":111.52782949355282},{"$f":"+'[1]itcer global'!N95","v":101.25649783836198},{"$f":"+'[1]itcer global'!O95","v":96.691292642718253},null,{"$f":"+'[1]itcer global'!AS95","v":-0.19697308413741155},{"$f":"+'[1]itcer global'!AT95","v":-0.34966038720014581},{"$f":"+'[1]itcer global'!AU95","v":0.45025790301755819},{"$f":"+'[1]itcer global'!AV95","v":-1.2550537221659539},{"$f":"+'[1]itcer global'!AW95","v":0.2015337119277234},{"$f":"+'[1]itcer global'!AX95","v":0.20280289624197678},null,{"$f":"+'[1]itcer global'!AZ95","v":0.8570919408222476},{"$f":"+'[1]itcer global'!BA95","v":1.0937158914584002},{"$f":"+'[1]itcer global'!BB95","v":0.84286108317805797},{"$f":"+'[1]itcer global'!BC95","v":0.93207133600551739},{"$f":"+'[1]itcer global'!BD95","v":0.85749443902250133},{"$f":"+'[1]itcer global'!BE95","v":0.88666747049132211},null,{"$f":"+'[1]itcer global'!BG95","v":1.1578532612612908},{"$f":"+'[1]itcer global'!BH95","v":0.9258069299271191},{"$f":"+'[1]itcer global'!BI95","v":1.0249900244499837},{"$f":"+'[1]itcer global'!BJ95","v":1.1965589454935521},{"$f":"+'[1]itcer global'!BK95","v":1.1808414519141264},{"$f":"+'[1]itcer global'!BL95","v":1.0905023118660198}]
[null,"Abril",{"$f":"+'[1]itcer global'!J96","v":99.698455088935788},{"$f":"+'[1]itcer global'!K96","v":100.49072214746025},{"$f":"+'[1]itcer global'!L96","v":86.344347042142473},{"$f":"+'[1]itcer global'!M96","v":110.01267733307024},{"$f":"+'[1]itcer global'!N96","v":100.69386250518973},{"$f":"+'[1]itcer global'!O96","v":97.059363083671101},null,{"$f":"+'[1]itcer global'!AS96","v":0.46331253862328481},{"$f":"+'[1]itcer global'!AT96","v":-0.7567409747585998},{"$f":"+'[1]itcer global'!AU96","v":-5.5645140156755701E-2},{"$f":"+'[1]itcer global'!AV96","v":-1.3585417804353028},{"$f":"+'[1]itcer global'!AW96","v":-0.55565355822437823},{"$f":"+'[1]itcer global'!AX96","v":0.38066555001275049},null,{"$f":"+'[1]itcer global'!AZ96","v":0.86434565846945666},{"$f":"+'[1]itcer global'!BA96","v":1.0927110228648529},{"$f":"+'[1]itcer global'!BB96","v":0.84434195133632506},{"$f":"+'[1]itcer global'!BC96","v":0.9312861469904854},{"$f":"+'[1]itcer global'!BD96","v":0.86616264724564218},{"$f":"+'[1]itcer global'!BE96","v":0.88678974244168518},null,{"$f":"+'[1]itcer global'!BG96","v":1.1534558438747433},{"$f":"+'[1]itcer global'!BH96","v":0.9196459086135621},{"$f":"+'[1]itcer global'!BI96","v":1.0226229657958699},{"$f":"+'[1]itcer global'!BJ96","v":1.1812983333702933},{"$f":"+'[1]itcer global'!BK96","v":1.1625283406689451},{"$f":"+'[1]itcer global'!BL96","v":1.0945025459634663}]
[null,"Mayo",{"$f":"+'[1]itcer global'!J97","v":100.21033656559875},{"$f":"+'[1]itcer global'!K97","v":100.3805315448795},{"$f":"+'[1]itcer global'!L97","v":86.075712478006096},{"$f":"+'[1]itcer global'!M97","v":109.55589758537954},{"$f":"+'[1]itcer global'!N97","v":99.733949858349504},{"$f":"+'[1]itcer global'!O97","v":96.876306526158089},null,{"$f":"+'[1]itcer global'!AS97","v":0.51342969778853842},{"$f":"+'[1]itcer global'!AT97","v":-0.10965251341218618},{"$f":"+'[1]itcer global'!AU97","v":-0.31112003661949927},{"$f":"+'[1]itcer global'!AV97","v":-0.4152064641675679},{"$f":"+'[1]itcer global'!AW97","v":-0.95329806897689195},{"$f":"+'[1]itcer global'!AX97","v":-0.18860267747193404},null,{"$f":"+'[1]itcer global'!AZ97","v":0.87208605861253208},{"$f":"+'[1]itcer global'!BA97","v":1.0919840443259041},{"$f":"+'[1]itcer global'!BB97","v":0.84256618866137201},{"$f":"+'[1]itcer global'!BC97","v":0.93527960304463686},{"$f":"+'[1]itcer global'!BD97","v":0.87165363685393327},{"$f":"+'[1]itcer global'!BE97","v":0.88679335724770392},null,{"$f":"+'[1]itcer global'!BG97","v":1.1490877027094204},{"$f":"+'[1]itcer global'!BH97","v":0.91924906839500309},{"$f":"+'[1]itcer global'!BI97","v":1.0215899194193752},{"$f":"+'[1]itcer global'!BJ97","v":1.1713705423355727},{"$f":"+'[1]itcer global'!BK97","v":1.144192436554502},{"$f":"+'[1]itcer global'!BL97","v":1.0924338317872411}]
[null,"Junio",{"$f":"+'[1]itcer global'!J98","v":99.902899323079978},{"$f":"+'[1]itcer global'!K98","v":100.04067037788039},{"$f":"+'[1]itcer global'!L98","v":86.041486639804546},{"$f":"+'[1]itcer global'!M98","v":107.71717176791596},{"$f":"+'[1]itcer global'!N98","v":98.248249883100215},{"$f":"+'[1]itcer global'!O98","v":95.930340868929633},null,{"$f":"+'[1]itcer global'!AS98","v":-0.30679194687418487},{"$f":"+'[1]itcer global'!AT98","v":-0.33857279072802271},{"$f":"+'[1]itcer global'!AU98","v":-3.9762480281879675E-2},{"$f":"+'[1]itcer global'!AV98","v":-1.6783448978916198},{"$f":"+'[1]itcer global'!AW98","v":-1.4896632263731675},{"$f":"+'[1]itcer global'!AX98","v":-0.97646750908390345},null,{"$f":"+'[1]itcer global'!AZ98","v":0.87373894590723489},{"$f":"+'[1]itcer global'!BA98","v":1.0847234609708751},{"$f":"+'[1]itcer global'!BB98","v":0.84036052901738201},{"$f":"+'[1]itcer global'!BC98","v":0.93384706563459174},{"$f":"+'[1]itcer global'!BD98","v":0.8723779667084538},{"$f":"+'[1]itcer global'!BE98","v":0.88104928936113658},null,{"$f":"+'[1]itcer global'!BG98","v":1.1433952874716735},{"$f":"+'[1]itcer global'!BH98","v":0.92226889135724599},{"$f":"+'[1]itcer global'!BI98","v":1.0238639687231772},{"$f":"+'[1]itcer global'!BJ98","v":1.1534776488773051},{"$f":"+'[1]itcer global'!BK98","v":1.1262119589493771},{"$f":"+'[1]itcer global'!BL98","v":1.0888192298354875}]
[null,"Julio",{"$f":"+'[1]itcer global'!J99","v":99.09583163032174},{"$f":"+'[1]itcer global'!K99","v":99.660338778729695},{"$f":"+'[1]itcer global'!L99","v":86.39124071497271},{"$f":"+'[1]itcer global'!M99","v":106.05853112778124},{"$f":"+'[1]itcer global'!N99","v":100.26910310512099},{"$f":"+'[1]itcer global'!O99","v":103.55665653264604},null,{"$f":"+'[1]itcer global'!AS99","v":-0.80785212263782569},{"$f":"+'[1]itcer global'!AT99","v":-0.38017697973641873},{"$f":"+'[1]itcer global'!AU99","v":0.40649469090688228},{"$f":"+'[1]itcer global'!AV99","v":-1.5398107960988625},{"$f":"+'[1]itcer global'!AW99","v":2.0568847021959868},{"$f":"+'[1]itcer global'!AX99","v":7.9498473523995017},null,{"$f":"+'[1]itcer global'!AZ99","v":0.87996084734575397},{"$f":"+'[1]itcer global'!BA99","v":1.0813676313587912},{"$f":"+'[1]itcer global'!BB99","v":0.84327833736523927},{"$f":"+'[1]itcer global'!BC99","v":0.93575355576964736},{"$f":"+'[1]itcer global'!BD99","v":0.87855672053020317},{"$f":"+'[1]itcer global'!BE99","v":0.95568914764586577},null,{"$f":"+'[1]itcer global'!BG99","v":1.1261390995886551},{"$f":"+'[1]itcer global'!BH99","v":0.92161385165100229},{"$f":"+'[1]itcer global'!BI99","v":1.0244688721033168},{"$f":"+'[1]itcer global'!BJ99","v":1.1334023843548124},{"$f":"+'[1]itcer global'!BK99","v":1.1412934505197256},{"$f":"+'[1]itcer global'!BL99","v":1.0835809613171348}]
[null,"Agosto",{"$f":"+'[1]itcer global'!J100","v":97.610636139042327},{"$f":"+'[1]itcer global'!K100","v":100.50579385509813},{"$f":"+'[1]itcer global'!L100","v":86.554852486730454},{"$f":"+'[1]itcer global'!M100","v":105.92440340783595},{"$f":"+'[1]itcer global'!N100","v":101.23770783309772},{"$f":"+'[1]itcer global'!O100","v":103.74914221363746},null,{"$f":"+'[1]itcer global'!AS100","v":-1.498746684744475},{"$f":"+'[1]itcer global'!AT100","v":0.84833654664325309},{"$f":"+'[1]itcer global'!AU100","v":0.18938467650619373},{"$f":"+'[1]itcer global'!AV100","v":-0.12646575293757678},{"$f":"+'[1]itcer global'!AW100","v":0.96600517804697006},{"$f":"+'[1]itcer global'!AX100","v":0.18587475439662171},null,{"$f":"+'[1]itcer global'!AZ100","v":0.88361159277595003},{"$f":"+'[1]itcer global'!BA100","v":1.0747458520258713},{"$f":"+'[1]itcer global'!BB100","v":0.84496873494906011},{"$f":"+'[1]itcer global'!BC100","v":0.93538057681305442},{"$f":"+'[1]itcer global'!BD100","v":0.88035376365650819},{"$f":"+'[1]itcer global'!BE100","v":0.95807300909846915},null,{"$f":"+'[1]itcer global'!BG100","v":1.104678084093365},{"$f":"+'[1]itcer global'!BH100","v":0.93515870441041504},{"$f":"+'[1]itcer global'!BI100","v":1.0243556821300435},{"$f":"+'[1]itcer global'!BJ100","v":1.1324203862424873},{"$f":"+'[1]itcer global'!BK100","v":1.1499662069099545},{"$f":"+'[1]itcer global'!BL100","v":1.0828939050403235}]
[null,"Septiembre",{"$f":"+'[1]itcer global'!J101","v":99.379628260539874},{"$f":"+'[1]itcer global'!K101","v":101.43099851598308},{"$f":"+'[1]itcer global'!L101","v":87.616798393100566},{"$f":"+'[1]itcer global'!M101","v":106.59457703686485},{"$f":"+'[1]itcer global'!N101","v":102.14963291966714},{"$f":"+'[1]itcer global'!O101","v":103.72953330604953},null,{"$f":"+'[1]itcer global'!AS101","v":1.8122944296538464},{"$f":"+'[1]itcer global'!AT101","v":0.92054858272034323},{"$f":"+'[1]itcer global'!AU101","v":1.2269051079867808},{"$f":"+'[1]itcer global'!AV101","v":0.63269049196203753},{"$f":"+'[1]itcer global'!AW101","v":0.90077611009608916},{"$f":"+'[1]itcer global'!AX101","v":-1.8900308156318602E-2},null,{"$f":"+'[1]itcer global'!AZ101","v":0.89423172755376212},{"$f":"+'[1]itcer global'!BA101","v":1.0714968453478415},{"$f":"+'[1]itcer global'!BB101","v":0.85241006279283271},{"$f":"+'[1]itcer global'!BC101","v":0.9437527267951521},{"$f":"+'[1]itcer global'!BD101","v":0.89018417474955147},{"$f":"+'[1]itcer global'!BE101","v":0.96156386991248144},null,{"$f":"+'[1]itcer global'!BG101","v":1.1113408884786531},{"$f":"+'[1]itcer global'!BH101","v":0.94662899808216772},{"$f":"+'[1]itcer global'!BI101","v":1.0278714695839379},{"$f":"+'[1]itcer global'!BJ101","v":1.1294756985640153},{"$f":"+'[1]itcer global'!BK101","v":1.1475112209044425},{"$f":"+'[1]itcer global'!BL101","v":1.0787586404997795}]
[null,"Octubre",{"$f":"+'[1]itcer global'!J102","v":101.38762124559287},{"$f":"+'[1]itcer global'!K102","v":102.09339503034319},{"$f":"+'[1]itcer global'!L102","v":89.598901256648077},{"$f":"+'[1]itcer global'!M102","v":107.50350135814655},{"$f":"+'[1]itcer global'!N102","v":101.519960002532},{"$f":"+'[1]itcer global'!O102","v":103.38708879598573},null,{"$f":"+'[1]itcer global'!AS102","v":2.02052776831556},{"$f":"+'[1]itcer global'!AT102","v":0.65305135910274714},{"$f":"+'[1]itcer global'!AU102","v":2.2622406888855267},{"$f":"+'[1]itcer global'!AV102","v":0.85269283536568707},{"$f":"+'[1]itcer global'!AW102","v":-0.61642210464948732},{"$f":"+'[1]itcer global'!AX102","v":-0.33013212259756131},null,{"$f":"+'[1]itcer global'!AZ102","v":0.91170807176006996},{"$f":"+'[1]itcer global'!BA102","v":1.0752191628351564},{"$f":"+'[1]itcer global'!BB102","v":0.86820079512974691},{"$f":"+'[1]itcer global'!BC102","v":0.9543495272489193},{"$f":"+'[1]itcer global'!BD102","v":0.90299562874604666},{"$f":"+'[1]itcer global'!BE102","v":0.97632531189510452},null,{"$f":"+'[1]itcer global'!BG102","v":1.1120623408528361},{"$f":"+'[1]itcer global'!BH102","v":0.94951242090162891},{"$f":"+'[1]itcer global'!BI102","v":1.0320066712592462},{"$f":"+'[1]itcer global'!BJ102","v":1.1264583707401663},{"$f":"+'[1]itcer global'!BK102","v":1.1242574910745542},{"$f":"+'[1]itcer global'!BL102","v":1.0589409855133769}]
[null,"Noviembre",{"$f":"+'[1]itcer global'!J103","v":101.33477071260791},{"$f":"+'[1]itcer global'!K103","v":100.63260048522184},{"$f":"+'[1]itcer global'!L103","v":87.72164350236865},{"$f":"+'[1]itcer global'!M103","v":107.47670287505038},{"$f":"+'[1]itcer global'!N103","v":97.373012416760417},{"$f":"+'[1]itcer global'!O103","v":101.88547667138664},null,{"$f":"+'[1]itcer global'!AS103","v":-5.2127204816201811E-2},{"$f":"+'[1]itcer global'!AT103","v":-1.4308413827233295},{"$f":"+'[1]itcer global'!AU103","v":-2.0951794362993184},{"$f":"+'[1]itcer global'!AV103","v":-2.4928009560255759E-2},{"$f":"+'[1]itcer global'!AW103","v":-4.0848593573797274},{"$f":"+'[1]itcer global'!AX103","v":-1.4524174556866001},null,{"$f":"+'[1]itcer global'!AZ103","v":0.91721652216699245},{"$f":"+'[1]itcer global'!BA103","v":1.0722148196477808},{"$f":"+'[1]itcer global'!BB103","v":0.86677005176166921},{"$f":"+'[1]itcer global'!BC103","v":0.95935288440412669},{"$f":"+'[1]itcer global'!BD103","v":0.91031059944546489},{"$f":"+'[1]itcer global'!BE103","v":0.97797078856598363},null,{"$f":"+'[1]itcer global'!BG103","v":1.1048075156038071},{"$f":"+'[1]itcer global'!BH103","v":0.93854886764463219},{"$f":"+'[1]itcer global'!BI103","v":1.0120520814497287},{"$f":"+'[1]itcer global'!BJ103","v":1.1203041615057667},{"$f":"+'[1]itcer global'!BK103","v":1.069668006459304},{"$f":"+'[1]itcer global'!BL103","v":1.0418049072895437}]
[null,"Diciembre",{"$f":"+'[1]itcer global'!J104","v":101.91730313566252},{"$f":"+'[1]itcer global'!K104","v":100.6588587164081},{"$f":"+'[1]itcer global'!L104","v":89.831721777778995},{"$f":"+'[1]itcer global'!M104","v":107.41740151361485},{"$f":"+'[1]itcer global'!N104","v":97.298711338825342},{"$f":"+'[1]itcer global'!O104","v":100.89634807884161},null,{"$f":"+'[1]itcer global'!AS104","v":0.57485936856434705},{"$f":"+'[1]itcer global'!AT104","v":2.6093165693481524E-2},{"$f":"+'[1]itcer global'!AU104","v":2.4054249227026645},{"$f":"+'[1]itcer global'!AV104","v":-5.5176014754081848E-2},{"$f":"+'[1]itcer global'!AW104","v":-7.6305617019485794E-2},{"$f":"+'[1]itcer global'!AX104","v":-0.97082393375386289},null,{"$f":"+'[1]itcer global'!AZ104","v":0.92701185078123105},{"$f":"+'[1]itcer global'!BA104","v":1.0680350468452289},{"$f":"+'[1]itcer global'!BB104","v":0.88921092722409822},{"$f":"+'[1]itcer global'!BC104","v":0.9643658057151272},{"$f":"+'[1]itcer global'!BD104","v":0.91628929993886921},{"$f":"+'[1]itcer global'!BE104","v":0.97989557810098937},null,{"$f":"+'[1]itcer global'!BG104","v":1.0994174783178081},{"$f":"+'[1]itcer global'!BH104","v":0.94246774966547309},{"$f":"+'[1]itcer global'!BI104","v":1.0102408666772904},{"$f":"+'[1]itcer global'!BJ104","v":1.113865722706326},{"$f":"+'[1]itcer global'!BK104","v":1.061877633464853},{"$f":"+'[1]itcer global'!BL104","v":1.029664286008678}]
[1999,"Enero",{"$f":"+'[1]itcer global'!J105","v":100.7913812283487},{"$f":"+'[1]itcer global'!K105","v":100.00441604417786},{"$f":"+'[1]itcer global'!L105","v":93.401541384745272},{"$f":"+'[1]itcer global'!M105","v":106.18765460392285},{"$f":"+'[1]itcer global'!N105","v":99.039368321052152},{"$f":"+'[1]itcer global'!O105","v":101.75468627825451},null,{"$f":"+'[1]itcer global'!AS105","v":-1.1047406796224806},{"$f":"+'[1]itcer global'!AT105","v":-0.65015904270686065},{"$f":"+'[1]itcer global'!AU105","v":3.9738964547480435},{"$f":"+'[1]itcer global'!AV105","v":-1.1448302531653809},{"$f":"+'[1]itcer global'!AW105","v":1.7889825654168021},{"$f":"+'[1]itcer global'!AX105","v":0.85071285111546047},null,{"$f":"+'[1]itcer global'!AZ105","v":0.93021250150081303},{"$f":"+'[1]itcer global'!BA105","v":1.0580148155118214},{"$f":"+'[1]itcer global'!BB105","v":0.92040785887854137},{"$f":"+'[1]itcer global'!BC105","v":0.96678763426394621},{"$f":"+'[1]itcer global'!BD105","v":0.92475340616076107},{"$f":"+'[1]itcer global'!BE105","v":0.97954893789973452},null,{"$f":"+'[1]itcer global'!BG105","v":1.0835307100875446},{"$f":"+'[1]itcer global'!BH105","v":0.94520808761832031},{"$f":"+'[1]itcer global'!BI105","v":1.0147842663854383},{"$f":"+'[1]itcer global'!BJ105","v":1.0983555316651079},{"$f":"+'[1]itcer global'!BK105","v":1.0709813844560736},{"$f":"+'[1]itcer global'!BL105","v":1.0387912470859113}]
[null,"Febrero",{"$f":"+'[1]itcer global'!J106","v":100.47224876491332},{"$f":"+'[1]itcer global'!K106","v":100.14407306359449},{"$f":"+'[1]itcer global'!L106","v":92.437637860872272},{"$f":"+'[1]itcer global'!M106","v":105.43338228046738},{"$f":"+'[1]itcer global'!N106","v":100.04853527428773},{"$f":"+'[1]itcer global'!O106","v":103.42513577048862},null,{"$f":"+'[1]itcer global'!AS106","v":-0.3166267388601085},{"$f":"+'[1]itcer global'!AT106","v":0.13965085237327912},{"$f":"+'[1]itcer global'!AU106","v":-1.0319995897095851},{"$f":"+'[1]itcer global'!AV106","v":-0.71032016505955653},{"$f":"+'[1]itcer global'!AW106","v":1.0189553612298852},{"$f":"+'[1]itcer global'!AX106","v":1.641643793845688},null,{"$f":"+'[1]itcer global'!AZ106","v":0.93236514153891992},{"$f":"+'[1]itcer global'!BA106","v":1.0553676735252664},{"$f":"+'[1]itcer global'!BB106","v":0.90405196805806198},{"$f":"+'[1]itcer global'!BC106","v":0.96732256560775931},{"$f":"+'[1]itcer global'!BD106","v":0.92902755089256839},{"$f":"+'[1]itcer global'!BE106","v":0.99082087560620147},null,{"$f":"+'[1]itcer global'!BG106","v":1.0776062326727309},{"$f":"+'[1]itcer global'!BH106","v":0.94890222219031184},{"$f":"+'[1]itcer global'!BI106","v":1.0224814626467973},{"$f":"+'[1]itcer global'!BJ106","v":1.0899506124332436},{"$f":"+'[1]itcer global'!BK106","v":1.0769167736539733},{"$f":"+'[1]itcer global'!BL106","v":1.0438328290894288}]
[null,"Marzo",{"$f":"+'[1]itcer global'!J107","v":101.30754381931317},{"$f":"+'[1]itcer global'!K107","v":99.776329047868046},{"$f":"+'[1]itcer global'!L107","v":94.159507785526174},{"$f":"+'[1]itcer global'!M107","v":105.16226828405091},{"$f":"+'[1]itcer global'!N107","v":102.64325586488607},{"$f":"+'[1]itcer global'!O107","v":103.72525097001612},null,{"$f":"+'[1]itcer global'!AS107","v":0.83136892492004222},{"$f":"+'[1]itcer global'!AT107","v":-0.36721495788664527},{"$f":"+'[1]itcer global'!AU107","v":1.8627368293913804},{"$f":"+'[1]itcer global'!AV107","v":-0.25714246337584257},{"$f":"+'[1]itcer global'!AW107","v":2.5934618467774726},{"$f":"+'[1]itcer global'!AX107","v":0.29017626836234456},null,{"$f":"+'[1]itcer global'!AZ107","v":0.93485235637665987},{"$f":"+'[1]itcer global'!BA107","v":1.0486935725211459},{"$f":"+'[1]itcer global'!BB107","v":0.91445296799599873},{"$f":"+'[1]itcer global'!BC107","v":0.9665142725421858},{"$f":"+'[1]itcer global'!BD107","v":0.9337770422988716},{"$f":"+'[1]itcer global'!BE107","v":0.99558484841476336},null,{"$f":"+'[1]itcer global'!BG107","v":1.0836742628746769},{"$f":"+'[1]itcer global'!BH107","v":0.95143454353398493},{"$f":"+'[1]itcer global'!BI107","v":1.0296812529557906},{"$f":"+'[1]itcer global'!BJ107","v":1.0880570651838033},{"$f":"+'[1]itcer global'!BK107","v":1.0992265949502034},{"$f":"+'[1]itcer global'!BL107","v":1.0418524461794931}]
[null,"Abril",{"$f":"+'[1]itcer global'!J108","v":102.45927332997215},{"$f":"+'[1]itcer global'!K108","v":100.51225048888406},{"$f":"+'[1]itcer global'!L108","v":95.887373950254059},{"$f":"+'[1]itcer global'!M108","v":105.61938161164143},{"$f":"+'[1]itcer global'!N108","v":103.11996863836517},{"$f":"+'[1]itcer global'!O108","v":104.19651533044782},null,{"$f":"+'[1]itcer global'!AS108","v":1.1368645090370961},{"$f":"+'[1]itcer global'!AT108","v":0.73757117348239376},{"$f":"+'[1]itcer global'!AU108","v":1.8350416281524957},{"$f":"+'[1]itcer global'!AV108","v":0.43467427533592229},{"$f":"+'[1]itcer global'!AW108","v":0.46443652772141775},{"$f":"+'[1]itcer global'!AX108","v":0.45433908910756315},null,{"$f":"+'[1]itcer global'!AZ108","v":0.94181661713252041},{"$f":"+'[1]itcer global'!BA108","v":1.045420482589444},{"$f":"+'[1]itcer global'!BB108","v":0.92890824481775036},{"$f":"+'[1]itcer global'!BC108","v":0.96951665334337001},{"$f":"+'[1]itcer global'!BD108","v":0.93806561063404681},{"$f":"+'[1]itcer global'!BE108","v":0.99631997725748445},null,{"$f":"+'[1]itcer global'!BG108","v":1.087889844648551},{"$f":"+'[1]itcer global'!BH108","v":0.96145285234818845},{"$f":"+'[1]itcer global'!BI108","v":1.0322588316466814},{"$f":"+'[1]itcer global'!BJ108","v":1.0894024486058478},{"$f":"+'[1]itcer global'!BK108","v":1.0992831148416737},{"$f":"+'[1]itcer global'!BL108","v":1.0458137717690243}]
[null,"Mayo",{"$f":"+'[1]itcer global'!J109","v":102.40805409752043},{"$f":"+'[1]itcer global'!K109","v":100.84312998125068},{"$f":"+'[1]itcer global'!L109","v":97.876280088010418},{"$f":"+'[1]itcer global'!M109","v":104.90822879504351},{"$f":"+'[1]itcer global'!N109","v":102.32864640068968},{"$f":"+'[1]itcer global'!O109","v":104.20381213154272},null,{"$f":"+'[1]itcer global'!AS109","v":-4.9989845513309206E-2},{"$f":"+'[1]itcer global'!AT109","v":0.32919319859743723},{"$f":"+'[1]itcer global'!AU109","v":2.0742106659300106},{"$f":"+'[1]itcer global'!AV109","v":-0.6733165880603309},{"$f":"+'[1]itcer global'!AW109","v":-0.76738021561139647},{"$f":"+'[1]itcer global'!AX109","v":7.002922383492205E-3},null,{"$f":"+'[1]itcer global'!AZ109","v":0.94743402717342151},{"$f":"+'[1]itcer global'!BA109","v":1.0381735081157484},{"$f":"+'[1]itcer global'!BB109","v":0.95424897451543977},{"$f":"+'[1]itcer global'!BC109","v":0.96959827933340981},{"$f":"+'[1]itcer global'!BD109","v":0.94172349768742103},{"$f":"+'[1]itcer global'!BE109","v":0.99516278716541784},null,{"$f":"+'[1]itcer global'!BG109","v":1.0808990511249108},{"$f":"+'[1]itcer global'!BH109","v":0.97135140892082417},{"$f":"+'[1]itcer global'!BI109","v":1.0256891304254347},{"$f":"+'[1]itcer global'!BJ109","v":1.0819762269706894},{"$f":"+'[1]itcer global'!BK109","v":1.0866103123897504},{"$f":"+'[1]itcer global'!BL109","v":1.047103182267825}]
[null,"Junio",{"$f":"+'[1]itcer global'!J110","v":101.3386248040332},{"$f":"+'[1]itcer global'!K110","v":100.5522702467772},{"$f":"+'[1]itcer global'!L110","v":98.18222158399476},{"$f":"+'[1]itcer global'!M110","v":103.91958181888897},{"$f":"+'[1]itcer global'!N110","v":102.43135906083879},{"$f":"+'[1]itcer global'!O110","v":104.18636082648274},null,{"$f":"+'[1]itcer global'!AS110","v":-1.0442824081676605},{"$f":"+'[1]itcer global'!AT110","v":-0.28842791227083353},{"$f":"+'[1]itcer global'!AU110","v":0.3125798157727786},{"$f":"+'[1]itcer global'!AV110","v":-0.94239221032511011},{"$f":"+'[1]itcer global'!AW110","v":0.1003752749224418},{"$f":"+'[1]itcer global'!AX110","v":-1.6747280836469258E-2},null,{"$f":"+'[1]itcer global'!AZ110","v":0.94920440833806374},{"$f":"+'[1]itcer global'!BA110","v":1.0307019628111858},{"$f":"+'[1]itcer global'!BB110","v":0.96120908722947396},{"$f":"+'[1]itcer global'!BC110","v":0.97062276156982208},{"$f":"+'[1]itcer global'!BD110","v":0.9471909376158324},{"$f":"+'[1]itcer global'!BE110","v":0.98895388863690614},null,{"$f":"+'[1]itcer global'!BG110","v":1.0676164576760052},{"$f":"+'[1]itcer global'!BH110","v":0.97557076511745566},{"$f":"+'[1]itcer global'!BI110","v":1.0214449997241362},{"$f":"+'[1]itcer global'!BJ110","v":1.0706485148855998},{"$f":"+'[1]itcer global'!BK110","v":1.0814224988117818},{"$f":"+'[1]itcer global'!BL110","v":1.0535006942546612}]
[null,"Julio",{"$f":"+'[1]itcer global'!J111","v":102.36560978600744},{"$f":"+'[1]itcer global'!K111","v":100.41275188458975},{"$f":"+'[1]itcer global'!L111","v":97.774403136027502},{"$f":"+'[1]itcer global'!M111","v":103.89219822578613},{"$f":"+'[1]itcer global'!N111","v":103.10830244244524},{"$f":"+'[1]itcer global'!O111","v":104.89427636129679},null,{"$f":"+'[1]itcer global'!AS111","v":1.0134191024993697},{"$f":"+'[1]itcer global'!AT111","v":-0.13875207575625836},{"$f":"+'[1]itcer global'!AU111","v":-0.41536893481104187},{"$f":"+'[1]itcer global'!AV111","v":-2.6350753749724731E-2},{"$f":"+'[1]itcer global'!AW111","v":0.66087513415142496},{"$f":"+'[1]itcer global'!AX111","v":0.67947045006499707},null,{"$f":"+'[1]itcer global'!AZ111","v":0.9576949174521352},{"$f":"+'[1]itcer global'!BA111","v":1.0297936824437377},{"$f":"+'[1]itcer global'!BB111","v":0.965789660537687},{"$f":"+'[1]itcer global'!BC111","v":0.97397781076855972},{"$f":"+'[1]itcer global'!BD111","v":0.95752970610123778},{"$f":"+'[1]itcer global'!BE111","v":0.99039450409929453},null,{"$f":"+'[1]itcer global'!BG111","v":1.0688749404491182},{"$f":"+'[1]itcer global'!BH111","v":0.97507640216151492},{"$f":"+'[1]itcer global'!BI111","v":1.012377820255326},{"$f":"+'[1]itcer global'!BJ111","v":1.0666793131950867},{"$f":"+'[1]itcer global'!BK111","v":1.0768157038413992},{"$f":"+'[1]itcer global'!BL111","v":1.0591160989598984}]
[null,"Agosto",{"$f":"+'[1]itcer global'!J112","v":103.24742715868014},{"$f":"+'[1]itcer global'!K112","v":100.51672613165245},{"$f":"+'[1]itcer global'!L112","v":101.18811525724132},{"$f":"+'[1]itcer global'!M112","v":103.83671239425165},{"$f":"+'[1]itcer global'!N112","v":102.77505510506846},{"$f":"+'[1]itcer global'!O112","v":105.44381022891176},null,{"$f":"+'[1]itcer global'!AS112","v":0.86143908536872971},{"$f":"+'[1]itcer global'!AT112","v":0.10354685546532494},{"$f":"+'[1]itcer global'!AU112","v":3.4914169882116681},{"$f":"+'[1]itcer global'!AV112","v":-5.3407120536519415E-2},{"$f":"+'[1]itcer global'!AW112","v":-0.32320126457594256},{"$f":"+'[1]itcer global'!AX112","v":0.52389309186150967},null,{"$f":"+'[1]itcer global'!AZ112","v":0.96843684220858794},{"$f":"+'[1]itcer global'!BA112","v":1.0256550626849257},{"$f":"+'[1]itcer global'!BB112","v":1.0056448611556068},{"$f":"+'[1]itcer global'!BC112","v":0.97834376459368244},{"$f":"+'[1]itcer global'!BD112","v":0.96657800890496004},{"$f":"+'[1]itcer global'!BE112","v":0.99587206153448238},null,{"$f":"+'[1]itcer global'!BG112","v":1.0661245282987908},{"$f":"+'[1]itcer global'!BH112","v":0.98002466705056868},{"$f":"+'[1]itcer global'!BI112","v":1.0062012860182472},{"$f":"+'[1]itcer global'!BJ112","v":1.0613520129846818},{"$f":"+'[1]itcer global'!BK112","v":1.0632877445815547},{"$f":"+'[1]itcer global'!BL112","v":1.0588087998616953}]
[null,"Septiembre",{"$f":"+'[1]itcer global'!J113","v":103.66002036217934},{"$f":"+'[1]itcer global'!K113","v":100.49408699512401},{"$f":"+'[1]itcer global'!L113","v":102.73147056041012},{"$f":"+'[1]itcer global'!M113","v":104.12352041025876},{"$f":"+'[1]itcer global'!N113","v":102.56214220063961},{"$f":"+'[1]itcer global'!O113","v":105.68490737346848},null,{"$f":"+'[1]itcer global'!AS113","v":0.39961596608608829},{"$f":"+'[1]itcer global'!AT113","v":-2.2522755564864383E-2},{"$f":"+'[1]itcer global'!AU113","v":1.5252337680618666},{"$f":"+'[1]itcer global'!AV113","v":0.27621060932490593},{"$f":"+'[1]itcer global'!AW113","v":-0.2071639895606836},{"$f":"+'[1]itcer global'!AX113","v":0.22864987905246892},null,{"$f":"+'[1]itcer global'!AZ113","v":0.97450644838104816},{"$f":"+'[1]itcer global'!BA113","v":1.022830961158385},{"$f":"+'[1]itcer global'!BB113","v":1.0216283195327069},{"$f":"+'[1]itcer global'!BC113","v":0.98379677773934038},{"$f":"+'[1]itcer global'!BD113","v":0.97313088945936621},{"$f":"+'[1]itcer global'!BE113","v":0.99784594792230397},null,{"$f":"+'[1]itcer global'!BG113","v":1.0637181573748453},{"$f":"+'[1]itcer global'!BH113","v":0.98250923966274573},{"$f":"+'[1]itcer global'!BI113","v":1.005566002784648},{"$f":"+'[1]itcer global'!BJ113","v":1.0583844424610078},{"$f":"+'[1]itcer global'!BK113","v":1.0539398482933695},{"$f":"+'[1]itcer global'!BL113","v":1.059130495980102}]
[null,"Octubre",{"$f":"+'[1]itcer global'!J114","v":103.40999789364571},{"$f":"+'[1]itcer global'!K114","v":100.42033482853357},{"$f":"+'[1]itcer global'!L114","v":102.6257518232033},{"$f":"+'[1]itcer global'!M114","v":103.97245735901619},{"$f":"+'[1]itcer global'!N114","v":101.68981967655998},{"$f":"+'[1]itcer global'!O114","v":102.73385063204802},null,{"$f":"+'[1]itcer global'!AS114","v":-0.24119469363412804},{"$f":"+'[1]itcer global'!AT114","v":-7.3389558326965698E-2},{"$f":"+'[1]itcer global'!AU114","v":-0.1029078398567691},{"$f":"+'[1]itcer global'!AV114","v":-0.14508062217582562},{"$f":"+'[1]itcer global'!AW114","v":-0.85053071763373111},{"$f":"+'[1]itcer global'!AX114","v":-2.7923161544647428},null,{"$f":"+'[1]itcer global'!AZ114","v":0.98303533605120086},{"$f":"+'[1]itcer global'!BA114","v":1.022651960667639},{"$f":"+'[1]itcer global'!BB114","v":1.0240144558724846},{"$f":"+'[1]itcer global'!BC114","v":0.98770573938062922},{"$f":"+'[1]itcer global'!BD114","v":0.97770412385803962},{"$f":"+'[1]itcer global'!BE114","v":1.0018547180698902},null,{"$f":"+'[1]itcer global'!BG114","v":1.0519458874086665},{"$f":"+'[1]itcer global'!BH114","v":0.98196002834604734},{"$f":"+'[1]itcer global'!BI114","v":1.0021904596626396},{"$f":"+'[1]itcer global'!BJ114","v":1.0526663277689896},{"$f":"+'[1]itcer global'!BK114","v":1.0400878670255571},{"$f":"+'[1]itcer global'!BL114","v":1.0254366105094412}]
[null,"Noviembre",{"$f":"+'[1]itcer global'!J115","v":102.74356319829513},{"$f":"+'[1]itcer global'!K115","v":100.93960101706752},{"$f":"+'[1]itcer global'!L115","v":101.75520346188195},{"$f":"+'[1]itcer global'!M115","v":103.18325781895267},{"$f":"+'[1]itcer global'!N115","v":101.42154292763094},{"$f":"+'[1]itcer global'!O115","v":101.34765390665287},null,{"$f":"+'[1]itcer global'!AS115","v":-0.64445866833493426},{"$f":"+'[1]itcer global'!AT115","v":0.51709266795474207},{"$f":"+'[1]itcer global'!AU115","v":-0.84827477105461924},{"$f":"+'[1]itcer global'!AV115","v":-0.75904673228835406},{"$f":"+'[1]itcer global'!AW115","v":-0.26381868881499315},{"$f":"+'[1]itcer global'!AX115","v":-1.3493086425427236},null,{"$f":"+'[1]itcer global'!AZ115","v":0.98413168296798781},{"$f":"+'[1]itcer global'!BA115","v":1.0200735092716935},{"$f":"+'[1]itcer global'!BB115","v":1.0168264795538065},{"$f":"+'[1]itcer global'!BC115","v":0.98861048508084803},{"$f":"+'[1]itcer global'!BD115","v":0.98333026606716578},{"$f":"+'[1]itcer global'!BE115","v":1.0014337107807263},null,{"$f":"+'[1]itcer global'!BG115","v":1.0440021897114069},{"$f":"+'[1]itcer global'!BH115","v":0.98953261798883319},{"$f":"+'[1]itcer global'!BI115","v":1.0007135485548444},{"$f":"+'[1]itcer global'!BJ115","v":1.0437200431928899},{"$f":"+'[1]itcer global'!BK115","v":1.0314087385234962},{"$f":"+'[1]itcer global'!BL115","v":1.0120255870719728}]
[null,"Diciembre",{"$f":"+'[1]itcer global'!J116","v":102.03189492299879},{"$f":"+'[1]itcer global'!K116","v":101.67854331683098},{"$f":"+'[1]itcer global'!L116","v":100.3323984496196},{"$f":"+'[1]itcer global'!M116","v":102.54726380970681},{"$f":"+'[1]itcer global'!N116","v":101.09447417375252},{"$f":"+'[1]itcer global'!O116","v":100.96316677729128},null,{"$f":"+'[1]itcer global'!AS116","v":-0.69266458466388769},{"$f":"+'[1]itcer global'!AT116","v":0.73206382065897913},{"$f":"+'[1]itcer global'!AU116","v":-1.3982626576883916},{"$f":"+'[1]itcer global'!AV116","v":-0.61637325927603115},{"$f":"+'[1]itcer global'!AW116","v":-0.32248449830014181},{"$f":"+'[1]itcer global'!AX116","v":-0.37937447443600547},null,{"$f":"+'[1]itcer global'!AZ116","v":0.98798101591334164},{"$f":"+'[1]itcer global'!BA116","v":1.0201287251552791},{"$f":"+'[1]itcer global'!BB116","v":1.0028537244555591},{"$f":"+'[1]itcer global'!BC116","v":0.99164136624855692},{"$f":"+'[1]itcer global'!BD116","v":0.98236159649065558},{"$f":"+'[1]itcer global'!BE116","v":0.9991443430273127},null,{"$f":"+'[1]itcer global'!BG116","v":1.0327313306589716},{"$f":"+'[1]itcer global'!BH116","v":0.99672267635982859},{"$f":"+'[1]itcer global'!BI116","v":1.0004689218668379},{"$f":"+'[1]itcer global'!BJ116","v":1.0341164386642088},{"$f":"+'[1]itcer global'!BK116","v":1.0290963585597999},{"$f":"+'[1]itcer global'!BL116","v":1.0104963059830019}]
[2000,"Enero",{"$f":"+'[1]itcer global'!J117","v":100.85715425721833},{"$f":"+'[1]itcer global'!K117","v":100.74965422215138},{"$f":"+'[1]itcer global'!L117","v":102.93281368551622},{"$f":"+'[1]itcer global'!M117","v":102.39680005086105},{"$f":"+'[1]itcer global'!N117","v":101.66891409755769},{"$f":"+'[1]itcer global'!O117","v":101.19588249522195},null,{"$f":"+'[1]itcer global'!AS117","v":-1.1513465144080754},{"$f":"+'[1]itcer global'!AT117","v":-0.9135546835925652},{"$f":"+'[1]itcer global'!AU117","v":2.5918001324391611},{"$f":"+'[1]itcer global'!AV117","v":-0.14672625407634143},{"$f":"+'[1]itcer global'!AW117","v":0.56822089288270661},{"$f":"+'[1]itcer global'!AX117","v":0.23049566030748281},null,{"$f":"+'[1]itcer global'!AZ117","v":0.99061284152894469},{"$f":"+'[1]itcer global'!BA117","v":1.0129702984089832},{"$f":"+'[1]itcer global'!BB117","v":1.02851891163242},{"$f":"+'[1]itcer global'!BC117","v":0.99105096636470946},{"$f":"+'[1]itcer global'!BD117","v":0.99141269195200921},{"$f":"+'[1]itcer global'!BE117","v":1.00138482214206},null,{"$f":"+'[1]itcer global'!BG117","v":1.018128879709979},{"$f":"+'[1]itcer global'!BH117","v":0.99459633101181066},{"$f":"+'[1]itcer global'!BI117","v":1.0007867869162055},{"$f":"+'[1]itcer global'!BJ117","v":1.0332142697611653},{"$f":"+'[1]itcer global'!BK117","v":1.025495385754847},{"$f":"+'[1]itcer global'!BL117","v":1.0105593799470025}]
[null,"Febrero",{"$f":"+'[1]itcer global'!J118","v":99.87467959127035},{"$f":"+'[1]itcer global'!K118","v":100.7251631653485},{"$f":"+'[1]itcer global'!L118","v":101.1571675446275},{"$f":"+'[1]itcer global'!M118","v":101.57200716312062},{"$f":"+'[1]itcer global'!N118","v":100.07375140329377},{"$f":"+'[1]itcer global'!O118","v":101.54568447075634},null,{"$f":"+'[1]itcer global'!AS118","v":-0.97412491278740276},{"$f":"+'[1]itcer global'!AT118","v":-2.4308824672360174E-2},{"$f":"+'[1]itcer global'!AU118","v":-1.725053534739402},{"$f":"+'[1]itcer global'!AV118","v":-0.80548697550192117},{"$f":"+'[1]itcer global'!AW118","v":-1.5689778025299432},{"$f":"+'[1]itcer global'!AX118","v":0.34566819015675776},null,{"$f":"+'[1]itcer global'!AZ118","v":0.98928857111296975},{"$f":"+'[1]itcer global'!BA118","v":1.0101349780623741},{"$f":"+'[1]itcer global'!BB118","v":1.0120708106977121},{"$f":"+'[1]itcer global'!BC118","v":0.99188037396174245},{"$f":"+'[1]itcer global'!BD118","v":0.990245170907887},{"$f":"+'[1]itcer global'!BE118","v":1.0000925822768993},null,{"$f":"+'[1]itcer global'!BG118","v":1.0095606328384983},{"$f":"+'[1]itcer global'!BH118","v":0.99714558304433742},{"$f":"+'[1]itcer global'!BI118","v":0.99950681785685214},{"$f":"+'[1]itcer global'!BJ118","v":1.0240348516769657},{"$f":"+'[1]itcer global'!BK118","v":1.0105957023909857},{"$f":"+'[1]itcer global'!BL118","v":1.0153628401039478}]
[null,"Marzo",{"$f":"+'[1]itcer global'!J119","v":100.28302718739548},{"$f":"+'[1]itcer global'!K119","v":101.47036688843602},{"$f":"+'[1]itcer global'!L119","v":99.894064704027642},{"$f":"+'[1]itcer global'!M119","v":101.59065734333103},{"$f":"+'[1]itcer global'!N119","v":100.20094229989981},{"$f":"+'[1]itcer global'!O119","v":102.29232469171633},null,{"$f":"+'[1]itcer global'!AS119","v":0.40885998112460697},{"$f":"+'[1]itcer global'!AT119","v":0.73983868545757048},{"$f":"+'[1]itcer global'!AU119","v":-1.2486538238060234},{"$f":"+'[1]itcer global'!AV119","v":1.8361535556209674E-2},{"$f":"+'[1]itcer global'!AW119","v":0.12709716066649435},{"$f":"+'[1]itcer global'!AX119","v":0.73527518658364954},null,{"$f":"+'[1]itcer global'!AZ119","v":0.99361917194217131},{"$f":"+'[1]itcer global'!BA119","v":1.0106343820287733},{"$f":"+'[1]itcer global'!BB119","v":1.003800717669932},{"$f":"+'[1]itcer global'!BC119","v":0.99476187501492064},{"$f":"+'[1]itcer global'!BD119","v":0.99488926567600722},{"$f":"+'[1]itcer global'!BE119","v":1.0000726596432472},null,{"$f":"+'[1]itcer global'!BG119","v":1.0092702518146657},{"$f":"+'[1]itcer global'!BH119","v":1.0040264678581565},{"$f":"+'[1]itcer global'!BI119","v":0.99515833118655561},{"$f":"+'[1]itcer global'!BJ119","v":1.021256040213717},{"$f":"+'[1]itcer global'!BK119","v":1.0071567334864677},{"$f":"+'[1]itcer global'!BL119","v":1.022848927079026}]
[null,"Abril",{"$f":"+'[1]itcer global'!J120","v":100.96950345462849},{"$f":"+'[1]itcer global'!K120","v":101.48300402014209},{"$f":"+'[1]itcer global'!L120","v":98.678071001513899},{"$f":"+'[1]itcer global'!M120","v":100.62675038236468},{"$f":"+'[1]itcer global'!N120","v":99.98557543491593},{"$f":"+'[1]itcer global'!O120","v":102.07824116077776},null,{"$f":"+'[1]itcer global'!AS120","v":0.68453883621823763},{"$f":"+'[1]itcer global'!AT120","v":1.245401203679819E-2},{"$f":"+'[1]itcer global'!AU120","v":-1.2172832351116796},{"$f":"+'[1]itcer global'!AV120","v":-0.94881457229750765},{"$f":"+'[1]itcer global'!AW120","v":-0.21493496971244497},{"$f":"+'[1]itcer global'!AX120","v":-0.20928601591934637},null,{"$f":"+'[1]itcer global'!AZ120","v":0.99480909560394903},{"$f":"+'[1]itcer global'!BA120","v":1.0079625885249959},{"$f":"+'[1]itcer global'!BB120","v":0.99947041068375486},{"$f":"+'[1]itcer global'!BC120","v":0.9962311808858445},{"$f":"+'[1]itcer global'!BD120","v":0.99708792889935738},{"$f":"+'[1]itcer global'!BE120","v":0.99750821944735946},null,{"$f":"+'[1]itcer global'!BG120","v":1.0149636136301092},{"$f":"+'[1]itcer global'!BH120","v":1.0068132009606372},{"$f":"+'[1]itcer global'!BI120","v":0.987303575440583},{"$f":"+'[1]itcer global'!BJ120","v":1.0100742911187321},{"$f":"+'[1]itcer global'!BK120","v":1.0027759090944539},{"$f":"+'[1]itcer global'!BL120","v":1.0233323312095739}]
[null,"Mayo",{"$f":"+'[1]itcer global'!J121","v":100.54467390479989},{"$f":"+'[1]itcer global'!K121","v":100.21458798057407},{"$f":"+'[1]itcer global'!L121","v":98.843312340466227},{"$f":"+'[1]itcer global'!M121","v":99.514757399314547},{"$f":"+'[1]itcer global'!N121","v":99.001079018168753},{"$f":"+'[1]itcer global'!O121","v":101.27798463053971},null,{"$f":"+'[1]itcer global'!AS121","v":-0.42075036054772852},{"$f":"+'[1]itcer global'!AT121","v":-1.2498802649912477},{"$f":"+'[1]itcer global'!AU121","v":0.1674549748239258},{"$f":"+'[1]itcer global'!AV121","v":-1.1050669715803565},{"$f":"+'[1]itcer global'!AW121","v":-0.98463844656075139},{"$f":"+'[1]itcer global'!AX121","v":-0.78396387039782667},null,{"$f":"+'[1]itcer global'!AZ121","v":0.988377756371281},{"$f":"+'[1]itcer global'!BA121","v":1.0009316675845219},{"$f":"+'[1]itcer global'!BB121","v":0.9906011315377109},{"$f":"+'[1]itcer global'!BC121","v":0.99372746389838262},{"$f":"+'[1]itcer global'!BD121","v":0.9939890078285728},{"$f":"+'[1]itcer global'!BE121","v":0.98911514757670038},null,{"$f":"+'[1]itcer global'!BG121","v":1.0172696952826872},{"$f":"+'[1]itcer global'!BH121","v":1.0012130820320124},{"$f":"+'[1]itcer global'!BI121","v":0.99781142170746051},{"$f":"+'[1]itcer global'!BJ121","v":1.001429074013102},{"$f":"+'[1]itcer global'!BK121","v":0.99599772470766457},{"$f":"+'[1]itcer global'!BL121","v":1.0239251201305271}]
[null,"Junio",{"$f":"+'[1]itcer global'!J122","v":101.01207113674606},{"$f":"+'[1]itcer global'!K122","v":99.908620782601346},{"$f":"+'[1]itcer global'!L122","v":99.479341694421748},{"$f":"+'[1]itcer global'!M122","v":99.797052376442224},{"$f":"+'[1]itcer global'!N122","v":99.280454706853661},{"$f":"+'[1]itcer global'!O122","v":101.23017292519651},null,{"$f":"+'[1]itcer global'!AS122","v":0.46486523233315324},{"$f":"+'[1]itcer global'!AT122","v":-0.30531203504227733},{"$f":"+'[1]itcer global'!AU122","v":0.64347231886030443},{"$f":"+'[1]itcer global'!AV122","v":0.28367147195559994},{"$f":"+'[1]itcer global'!AW122","v":0.28219458965052979},{"$f":"+'[1]itcer global'!AX122","v":-4.7208389382561222E-2},null,{"$f":"+'[1]itcer global'!AZ122","v":1.001364162490008},{"$f":"+'[1]itcer global'!BA122","v":1.003323814756276},{"$f":"+'[1]itcer global'!BB122","v":0.99585307928058298},{"$f":"+'[1]itcer global'!BC122","v":1.0002831337637299},{"$f":"+'[1]itcer global'!BD122","v":0.99698281566425118},{"$f":"+'[1]itcer global'!BE122","v":0.99364412297783267},null,{"$f":"+'[1]itcer global'!BG122","v":1.0087446197951386},{"$f":"+'[1]itcer global'!BH122","v":0.99577643142927685},{"$f":"+'[1]itcer global'!BI122","v":0.99893592502909034},{"$f":"+'[1]itcer global'!BJ122","v":0.99768804459332805},{"$f":"+'[1]itcer global'!BK122","v":0.99580908664616175},{"$f":"+'[1]itcer global'!BL122","v":1.0187769502608415}]
[null,"Julio",{"$f":"+'[1]itcer global'!J123","v":100.40125069101981},{"$f":"+'[1]itcer global'!K123","v":100.13346720350815},{"$f":"+'[1]itcer global'!L123","v":99.906024938404641},{"$f":"+'[1]itcer global'!M123","v":99.59517403390511},{"$f":"+'[1]itcer global'!N123","v":100.37838117398678},{"$f":"+'[1]itcer global'!O123","v":101.03645151473769},null,{"$f":"+'[1]itcer global'!AS123","v":-0.60470044703799886},{"$f":"+'[1]itcer global'!AT123","v":0.22505207172869746},{"$f":"+'[1]itcer global'!AU123","v":0.42891643301537385},{"$f":"+'[1]itcer global'!AV123","v":-0.20228888301791415},{"$f":"+'[1]itcer global'!AW123","v":1.1058838019779103},{"$f":"+'[1]itcer global'!AX123","v":-0.19136726221140066},null,{"$f":"+'[1]itcer global'!AZ123","v":1.006755766393395},{"$f":"+'[1]itcer global'!BA123","v":1.0015636721214578},{"$f":"+'[1]itcer global'!BB123","v":0.99992427226831615},{"$f":"+'[1]itcer global'!BC123","v":1.0029199993024427},{"$f":"+'[1]itcer global'!BD123","v":1.0019026235373787},{"$f":"+'[1]itcer global'!BE123","v":0.99430158941163771},null,{"$f":"+'[1]itcer global'!BG123","v":0.9972751489737931},{"$f":"+'[1]itcer global'!BH123","v":0.99977135743562739},{"$f":"+'[1]itcer global'!BI123","v":0.99913591168028182},{"$f":"+'[1]itcer global'!BJ123","v":0.99305202910676993},{"$f":"+'[1]itcer global'!BK123","v":1.0018776158064617},{"$f":"+'[1]itcer global'!BL123","v":1.0161549834645685}]
[null,"Agosto",{"$f":"+'[1]itcer global'!J124","v":99.711861626195372},{"$f":"+'[1]itcer global'!K124","v":99.384868931954927},{"$f":"+'[1]itcer global'!L124","v":100.30253933966577},{"$f":"+'[1]itcer global'!M124","v":99.266706500041167},{"$f":"+'[1]itcer global'!N124","v":100.93073339142464},{"$f":"+'[1]itcer global'!O124","v":99.626313820013323},null,{"$f":"+'[1]itcer global'!AS124","v":-0.68663394138982881},{"$f":"+'[1]itcer global'!AT124","v":-0.74760047011235997},{"$f":"+'[1]itcer global'!AU124","v":0.39688737641758109},{"$f":"+'[1]itcer global'!AV124","v":-0.32980266067120567},{"$f":"+'[1]itcer global'!AW124","v":0.55027009897725065},{"$f":"+'[1]itcer global'!AX124","v":-1.3956722287685324},null,{"$f":"+'[1]itcer global'!AZ124","v":1.0055824749291957},{"$f":"+'[1]itcer global'!BA124","v":0.99786347568987566},{"$f":"+'[1]itcer global'!BB124","v":0.99773282694579146},{"$f":"+'[1]itcer global'!BC124","v":1.0034584839780329},{"$f":"+'[1]itcer global'!BD124","v":1.0071764386588451},{"$f":"+'[1]itcer global'!BE124","v":0.99091573769275054},null,{"$f":"+'[1]itcer global'!BG124","v":0.99158312830796114},{"$f":"+'[1]itcer global'!BH124","v":0.99597661757531442},{"$f":"+'[1]itcer global'!BI124","v":1.0053045928809095},{"$f":"+'[1]itcer global'!BJ124","v":0.98924577433952177},{"$f":"+'[1]itcer global'!BK124","v":1.0021157119781701},{"$f":"+'[1]itcer global'!BL124","v":1.0053964230297054}]
[null,"Septiembre",{"$f":"+'[1]itcer global'!J125","v":99.50435267272087},{"$f":"+'[1]itcer global'!K125","v":98.982553285526194},{"$f":"+'[1]itcer global'!L125","v":100.83510977490685},{"$f":"+'[1]itcer global'!M125","v":99.50045049878085},{"$f":"+'[1]itcer global'!N125","v":100.58887299390886},{"$f":"+'[1]itcer global'!O125","v":97.893344234787691},null,{"$f":"+'[1]itcer global'!AS125","v":-0.2081085941935612},{"$f":"+'[1]itcer global'!AT125","v":-0.40480573225303829},{"$f":"+'[1]itcer global'!AU125","v":0.53096406007986729},{"$f":"+'[1]itcer global'!AV125","v":0.23547069000377974},{"$f":"+'[1]itcer global'!AW125","v":-0.33870792971451635},{"$f":"+'[1]itcer global'!AX125","v":-1.7394697432612531},null,{"$f":"+'[1]itcer global'!AZ125","v":1.00266217478216},{"$f":"+'[1]itcer global'!BA125","v":0.99174915329829727},{"$f":"+'[1]itcer global'!BB125","v":0.99982383925297535},{"$f":"+'[1]itcer global'!BC125","v":1.0034941228481447},{"$f":"+'[1]itcer global'!BD125","v":1.0039592601127589},{"$f":"+'[1]itcer global'!BE125","v":1.0062513847670642},null,{"$f":"+'[1]itcer global'!BG125","v":0.99240158026644754},{"$f":"+'[1]itcer global'!BH125","v":0.99806037601682063},{"$f":"+'[1]itcer global'!BI125","v":1.0085287609289897},{"$f":"+'[1]itcer global'!BJ125","v":0.99153994261945388},{"$f":"+'[1]itcer global'!BK125","v":1.0019218606799971},{"$f":"+'[1]itcer global'!BL125","v":0.9728517716022711}]
[null,"Octubre",{"$f":"+'[1]itcer global'!J126","v":98.938758878008002},{"$f":"+'[1]itcer global'!K126","v":98.770614443798848},{"$f":"+'[1]itcer global'!L126","v":100.45214302142517},{"$f":"+'[1]itcer global'!M126","v":99.086457690497156},{"$f":"+'[1]itcer global'!N126","v":99.670682642259635},{"$f":"+'[1]itcer global'!O126","v":97.718133992395536},null,{"$f":"+'[1]itcer global'!AS126","v":-0.56841110918350068},{"$f":"+'[1]itcer global'!AT126","v":-0.21411737189278313},{"$f":"+'[1]itcer global'!AU126","v":-0.37979504791195495},{"$f":"+'[1]itcer global'!AV126","v":-0.41607129033930335},{"$f":"+'[1]itcer global'!AW126","v":-0.91281503045055956},{"$f":"+'[1]itcer global'!AX126","v":-0.1789807506953025},null,{"$f":"+'[1]itcer global'!AZ126","v":1.0012007216384384},{"$f":"+'[1]itcer global'!BA126","v":0.98668377951708908},{"$f":"+'[1]itcer global'!BB126","v":0.99669890192409472},{"$f":"+'[1]itcer global'!BC126","v":1.002896505854201},{"$f":"+'[1]itcer global'!BD126","v":1.0034976678235177},{"$f":"+'[1]itcer global'!BE126","v":1.0053698355157623},null,{"$f":"+'[1]itcer global'!BG126","v":0.98820103441493057},{"$f":"+'[1]itcer global'!BH126","v":1.001036162691759},{"$f":"+'[1]itcer global'!BI126","v":1.0078484367496101},{"$f":"+'[1]itcer global'!BJ126","v":0.98800282095012237},{"$f":"+'[1]itcer global'!BK126","v":0.99323282791912204},{"$f":"+'[1]itcer global'!BL126","v":0.97196206351531711}]
[null,"Noviembre",{"$f":"+'[1]itcer global'!J127","v":98.888949566027335},{"$f":"+'[1]itcer global'!K127","v":98.967464721039605},{"$f":"+'[1]itcer global'!L127","v":99.346866484286139},{"$f":"+'[1]itcer global'!M127","v":98.601925432714381},{"$f":"+'[1]itcer global'!N127","v":99.396643524133864},{"$f":"+'[1]itcer global'!O127","v":97.607115956831834},null,{"$f":"+'[1]itcer global'!AS127","v":-5.0343578740537964E-2},{"$f":"+'[1]itcer global'!AT127","v":0.19930044816392467},{"$f":"+'[1]itcer global'!AU127","v":-1.1003016002389359},{"$f":"+'[1]itcer global'!AV127","v":-0.48899947487903717},{"$f":"+'[1]itcer global'!AW127","v":-0.27494455828035314},{"$f":"+'[1]itcer global'!AX127","v":-0.11361047435917726},null,{"$f":"+'[1]itcer global'!AZ127","v":1.0066138514099217},{"$f":"+'[1]itcer global'!BA127","v":0.98703828513591951},{"$f":"+'[1]itcer global'!BB127","v":0.98958366389868746},{"$f":"+'[1]itcer global'!BC127","v":1.0069115468866621},{"$f":"+'[1]itcer global'!BD127","v":1.0080206698567638},{"$f":"+'[1]itcer global'!BE127","v":1.0077625325914608},null,{"$f":"+'[1]itcer global'!BG127","v":0.9823921002827225},{"$f":"+'[1]itcer global'!BH127","v":1.0026709825892046},{"$f":"+'[1]itcer global'!BI127","v":1.0039258943795293},{"$f":"+'[1]itcer global'!BJ127","v":0.9792511143365904},{"$f":"+'[1]itcer global'!BK127","v":0.98605759282949779},{"$f":"+'[1]itcer global'!BL127","v":0.96855273737787395}]
[null,"Diciembre",{"$f":"+'[1]itcer global'!J128","v":99.440820434818065},{"$f":"+'[1]itcer global'!K128","v":99.429088087482356},{"$f":"+'[1]itcer global'!L128","v":98.383406470521507},{"$f":"+'[1]itcer global'!M128","v":98.999642201303146},{"$f":"+'[1]itcer global'!N128","v":99.116390328562417},{"$f":"+'[1]itcer global'!O128","v":97.383677580574428},null,{"$f":"+'[1]itcer global'!AS128","v":0.55807132264283155},{"$f":"+'[1]itcer global'!AT128","v":0.46643951903175207},{"$f":"+'[1]itcer global'!AU128","v":-0.96979406382889977},{"$f":"+'[1]itcer global'!AV128","v":0.403355986045284},{"$f":"+'[1]itcer global'!AW128","v":-0.28195438561604647},{"$f":"+'[1]itcer global'!AX128","v":-0.22891607242675605},null,{"$f":"+'[1]itcer global'!AZ128","v":1.0210448672512897},{"$f":"+'[1]itcer global'!BA128","v":0.9917672930375877},{"$f":"+'[1]itcer global'!BB128","v":0.98826076769567583},{"$f":"+'[1]itcer global'!BC128","v":1.0136605902331515},{"$f":"+'[1]itcer global'!BD128","v":1.0119148938055971},{"$f":"+'[1]itcer global'!BE128","v":1.0153213637100897},null,{"$f":"+'[1]itcer global'!BG128","v":0.97391234826456108},{"$f":"+'[1]itcer global'!BH128","v":1.0025445362586081},{"$f":"+'[1]itcer global'!BI128","v":0.99552071362624006},{"$f":"+'[1]itcer global'!BJ128","v":0.97665474178622524},{"$f":"+'[1]itcer global'!BK128","v":0.97949334410729683},{"$f":"+'[1]itcer global'!BL128","v":0.95914142124149093}]
[2001,"Enero",{"$f":"+'[1]itcer global'!J129","v":99.362969480385459},{"$f":"+'[1]itcer global'!K129","v":98.68924133923781},{"$f":"+'[1]itcer global'!L129","v":98.421848170437713},{"$f":"+'[1]itcer global'!M129","v":98.89153431401779},{"$f":"+'[1]itcer global'!N129","v":99.537837883624562},{"$f":"+'[1]itcer global'!O129","v":96.041778459645784},null,{"$f":"+'[1]itcer global'!AS129","v":-7.828872900705619E-2},{"$f":"+'[1]itcer global'!AT129","v":-0.74409487452363976},{"$f":"+'[1]itcer global'!AU129","v":3.9073357281765198E-2},{"$f":"+'[1]itcer global'!AV129","v":-0.10920028081064004},{"$f":"+'[1]itcer global'!AW129","v":0.4252047049585741},{"$f":"+'[1]itcer global'!AX129","v":-1.3779507554727246},null,{"$f":"+'[1]itcer global'!AZ129","v":1.0297944808206596},{"$f":"+'[1]itcer global'!BA129","v":0.99554313277645279},{"$f":"+'[1]itcer global'!BB129","v":0.99590390235465076},{"$f":"+'[1]itcer global'!BC129","v":1.0146638541458048},{"$f":"+'[1]itcer global'!BD129","v":1.0163219974446638},{"$f":"+'[1]itcer global'!BE129","v":1.0220044669234665},null,{"$f":"+'[1]itcer global'!BG129","v":0.96488154996909226},{"$f":"+'[1]itcer global'!BH129","v":0.99131055290397219},{"$f":"+'[1]itcer global'!BI129","v":0.98826651786116582},{"$f":"+'[1]itcer global'!BJ129","v":0.97462360475302112},{"$f":"+'[1]itcer global'!BK129","v":0.97939273314847397},{"$f":"+'[1]itcer global'!BL129","v":0.93973932177380526}]
[null,"Febrero",{"$f":"+'[1]itcer global'!J130","v":98.979761939361552},{"$f":"+'[1]itcer global'!K130","v":99.464228569106794},{"$f":"+'[1]itcer global'!L130","v":97.276188857909361},{"$f":"+'[1]itcer global'!M130","v":98.355771562993226},{"$f":"+'[1]itcer global'!N130","v":99.284023905251033},{"$f":"+'[1]itcer global'!O130","v":96.450596545388237},null,{"$f":"+'[1]itcer global'!AS130","v":-0.38566434057665333},{"$f":"+'[1]itcer global'!AT130","v":0.78528036020159675},{"$f":"+'[1]itcer global'!AU130","v":-1.164029464824111},{"$f":"+'[1]itcer global'!AV130","v":-0.54176806411287259},{"$f":"+'[1]itcer global'!AW130","v":-0.25499245690897965},{"$f":"+'[1]itcer global'!AX130","v":0.42566692568509268},null,{"$f":"+'[1]itcer global'!AZ130","v":1.0341157308333644},{"$f":"+'[1]itcer global'!BA130","v":0.9962347392628883},{"$f":"+'[1]itcer global'!BB130","v":0.98818337724559302},{"$f":"+'[1]itcer global'!BC130","v":1.0182945307422016},{"$f":"+'[1]itcer global'!BD130","v":1.0219474931352235},{"$f":"+'[1]itcer global'!BE130","v":1.024644519957207},null,{"$f":"+'[1]itcer global'!BG130","v":0.9571439538937927},{"$f":"+'[1]itcer global'!BH130","v":0.99840152776342783},{"$f":"+'[1]itcer global'!BI130","v":0.98439410232796631},{"$f":"+'[1]itcer global'!BJ130","v":0.96588726143216075},{"$f":"+'[1]itcer global'!BK130","v":0.97151785754333109},{"$f":"+'[1]itcer global'!BL130","v":0.94130788450824254}]
[null,"Marzo",{"$f":"+'[1]itcer global'!J131","v":97.595098542117199},{"$f":"+'[1]itcer global'!K131","v":99.371738244920479},{"$f":"+'[1]itcer global'!L131","v":96.203673016447809},{"$f":"+'[1]itcer global'!M131","v":97.741895431099834},{"$f":"+'[1]itcer global'!N131","v":99.519004631086105},{"$f":"+'[1]itcer global'!O131","v":96.633796781908515},null,{"$f":"+'[1]itcer global'!AS131","v":-1.3989358734694122},{"$f":"+'[1]itcer global'!AT131","v":-9.2988530164944905E-2},{"$f":"+'[1]itcer global'!AU131","v":-1.1025471434002867},{"$f":"+'[1]itcer global'!AV131","v":-0.62413839283466643},{"$f":"+'[1]itcer global'!AW131","v":0.23667526414857321},{"$f":"+'[1]itcer global'!AX131","v":0.18994204606505605},null,{"$f":"+'[1]itcer global'!AZ131","v":1.0336676697339207},{"$f":"+'[1]itcer global'!BA131","v":0.99280441433230837},{"$f":"+'[1]itcer global'!BB131","v":0.97869609012504089},{"$f":"+'[1]itcer global'!BC131","v":1.0174983296960032},{"$f":"+'[1]itcer global'!BD131","v":1.0195423840110778},{"$f":"+'[1]itcer global'!BE131","v":1.0192777719049606},null,{"$f":"+'[1]itcer global'!BG131","v":0.94416321028246364},{"$f":"+'[1]itcer global'!BH131","v":1.0009195850700465},{"$f":"+'[1]itcer global'!BI131","v":0.98297800499189247},{"$f":"+'[1]itcer global'!BJ131","v":0.96060988581968554},{"$f":"+'[1]itcer global'!BK131","v":0.97611444302647843},{"$f":"+'[1]itcer global'!BL131","v":0.94806145533132291}]
[null,"Abril",{"$f":"+'[1]itcer global'!J132","v":97.026089257318844},{"$f":"+'[1]itcer global'!K132","v":99.479125869740599},{"$f":"+'[1]itcer global'!L132","v":96.818722096444247},{"$f":"+'[1]itcer global'!M132","v":97.725387376562082},{"$f":"+'[1]itcer global'!N132","v":99.401604360274447},{"$f":"+'[1]itcer global'!O132","v":96.338501625942357},null,{"$f":"+'[1]itcer global'!AS132","v":-0.58303059610396701},{"$f":"+'[1]itcer global'!AT132","v":0.10806656572258078},{"$f":"+'[1]itcer global'!AU132","v":0.63931974810490999},{"$f":"+'[1]itcer global'!AV132","v":-1.688943565596901E-2},{"$f":"+'[1]itcer global'!AW132","v":-0.11796768993707474},{"$f":"+'[1]itcer global'!AX132","v":-0.30558165548706029},null,{"$f":"+'[1]itcer global'!AZ132","v":1.0358207415621881},{"$f":"+'[1]itcer global'!BA132","v":0.9902184963749644},{"$f":"+'[1]itcer global'!BB132","v":0.98472161784574186},{"$f":"+'[1]itcer global'!BC132","v":1.0191454181436594},{"$f":"+'[1]itcer global'!BD132","v":1.0202720626510096},{"$f":"+'[1]itcer global'!BE132","v":1.0180928831224323},null,{"$f":"+'[1]itcer global'!BG132","v":0.93670734099210584},{"$f":"+'[1]itcer global'!BH132","v":1.0046179326473721},{"$f":"+'[1]itcer global'!BI132","v":0.98320906479389403},{"$f":"+'[1]itcer global'!BJ132","v":0.95889541999379957},{"$f":"+'[1]itcer global'!BK132","v":0.97426566892359767},{"$f":"+'[1]itcer global'!BL132","v":0.94626436568810623}]
[null,"Mayo",{"$f":"+'[1]itcer global'!J133","v":97.013993146443639},{"$f":"+'[1]itcer global'!K133","v":99.595669559814539},{"$f":"+'[1]itcer global'!L133","v":97.229420055167253},{"$f":"+'[1]itcer global'!M133","v":97.188390639138532},{"$f":"+'[1]itcer global'!N133","v":99.64406409530892},{"$f":"+'[1]itcer global'!O133","v":96.434575345579617},null,{"$f":"+'[1]itcer global'!AS133","v":-1.2466864291653224E-2},{"$f":"+'[1]itcer global'!AT133","v":0.11715391450719892},{"$f":"+'[1]itcer global'!AU133","v":0.42419270759832273},{"$f":"+'[1]itcer global'!AV133","v":-0.54949563449092409},{"$f":"+'[1]itcer global'!AW133","v":0.24391933771580909},{"$f":"+'[1]itcer global'!AX133","v":9.9725154549616946E-2},null,{"$f":"+'[1]itcer global'!AZ133","v":1.0383997485607639},{"$f":"+'[1]itcer global'!BA133","v":0.98826964717510424},{"$f":"+'[1]itcer global'!BB133","v":0.9875155653409371},{"$f":"+'[1]itcer global'!BC133","v":1.0218777660924578},{"$f":"+'[1]itcer global'!BD133","v":1.0261299575807115},{"$f":"+'[1]itcer global'!BE133","v":1.0176129457784096},null,{"$f":"+'[1]itcer global'!BG133","v":0.93426441291907436},{"$f":"+'[1]itcer global'!BH133","v":1.0077782905151584},{"$f":"+'[1]itcer global'!BI133","v":0.98458620266505958},{"$f":"+'[1]itcer global'!BJ133","v":0.95107647767673498},{"$f":"+'[1]itcer global'!BK133","v":0.97106670903788816},{"$f":"+'[1]itcer global'!BL133","v":0.94765476152441475}]
[null,"Junio",{"$f":"+'[1]itcer global'!J134","v":96.977256177486893},{"$f":"+'[1]itcer global'!K134","v":99.374038385550946},{"$f":"+'[1]itcer global'!L134","v":96.8879767364011},{"$f":"+'[1]itcer global'!M134","v":96.89502577135282},{"$f":"+'[1]itcer global'!N134","v":99.836614232989135},{"$f":"+'[1]itcer global'!O134","v":96.859163037193753},null,{"$f":"+'[1]itcer global'!AS134","v":-3.7867701107089147E-2},{"$f":"+'[1]itcer global'!AT134","v":-0.2225309345708979},{"$f":"+'[1]itcer global'!AU134","v":-0.35117284312960351},{"$f":"+'[1]itcer global'!AV134","v":-0.30185176012943771},{"$f":"+'[1]itcer global'!AW134","v":0.19323794089334001},{"$f":"+'[1]itcer global'!AX134","v":0.44028574823147437},null,{"$f":"+'[1]itcer global'!AZ134","v":1.0391937757192122},{"$f":"+'[1]itcer global'!BA134","v":0.98475302239665963},{"$f":"+'[1]itcer global'!BB134","v":0.98977687966978722},{"$f":"+'[1]itcer global'!BC134","v":1.0228644940422571},{"$f":"+'[1]itcer global'!BD134","v":1.0330598439272025},{"$f":"+'[1]itcer global'!BE134","v":1.0151649947885937},null,{"$f":"+'[1]itcer global'!BG134","v":0.93319704605014819},{"$f":"+'[1]itcer global'!BH134","v":1.0091265132012255},{"$f":"+'[1]itcer global'!BI134","v":0.97888704743967347},{"$f":"+'[1]itcer global'!BJ134","v":0.94729092989075669},{"$f":"+'[1]itcer global'!BK134","v":0.96641656163362011},{"$f":"+'[1]itcer global'!BL134","v":0.95412236960913466}]
[null,"Julio",{"$f":"+'[1]itcer global'!J135","v":96.801201429777777},{"$f":"+'[1]itcer global'!K135","v":99.373953945272888},{"$f":"+'[1]itcer global'!L135","v":95.792947911560262},{"$f":"+'[1]itcer global'!M135","v":96.609857744588652},{"$f":"+'[1]itcer global'!N135","v":100.66996210235467},{"$f":"+'[1]itcer global'!O135","v":96.803411942463896},null,{"$f":"+'[1]itcer global'!AS135","v":-0.18154230656610082},{"$f":"+'[1]itcer global'!AT135","v":-8.4972171237041039E-5},{"$f":"+'[1]itcer global'!AU135","v":-1.1302009410517826},{"$f":"+'[1]itcer global'!AV135","v":-0.29430615709530628},{"$f":"+'[1]itcer global'!AW135","v":0.83471166942896957},{"$f":"+'[1]itcer global'!AX135","v":-5.7558926777474539E-2},null,{"$f":"+'[1]itcer global'!AZ135","v":1.0452365927706688},{"$f":"+'[1]itcer global'!BA135","v":0.98369172156931217},{"$f":"+'[1]itcer global'!BB135","v":0.98854670858115468},{"$f":"+'[1]itcer global'!BC135","v":1.0262234670183159},{"$f":"+'[1]itcer global'!BD135","v":1.0373944487279991},{"$f":"+'[1]itcer global'!BE135","v":1.0146406446066829},null,{"$f":"+'[1]itcer global'!BG135","v":0.92611760915470109},{"$f":"+'[1]itcer global'!BH135","v":1.0102143971155793},{"$f":"+'[1]itcer global'!BI135","v":0.96902803964670892},{"$f":"+'[1]itcer global'!BJ135","v":0.94141150392212181},{"$f":"+'[1]itcer global'!BK135","v":0.97041161369034823},{"$f":"+'[1]itcer global'!BL135","v":0.95406597850206298}]
[null,"Agosto",{"$f":"+'[1]itcer global'!J136","v":97.715780443765595},{"$f":"+'[1]itcer global'!K136","v":99.799879470101018},{"$f":"+'[1]itcer global'!L136","v":95.829088177952713},{"$f":"+'[1]itcer global'!M136","v":96.8389255074906},{"$f":"+'[1]itcer global'!N136","v":101.62056343076831},{"$f":"+'[1]itcer global'!O136","v":96.871855814587377},null,{"$f":"+'[1]itcer global'!AS136","v":0.94480130461116119},{"$f":"+'[1]itcer global'!AT136","v":0.42860881339458956},{"$f":"+'[1]itcer global'!AU136","v":3.7727481177228128E-2},{"$f":"+'[1]itcer global'!AV136","v":0.23710599337340454},{"$f":"+'[1]itcer global'!AW136","v":0.94427504348033153},{"$f":"+'[1]itcer global'!AX136","v":7.0703987338944785E-2},null,{"$f":"+'[1]itcer global'!AZ136","v":1.0617073547467455},{"$f":"+'[1]itcer global'!BA136","v":0.98747116796297507},{"$f":"+'[1]itcer global'!BB136","v":0.99943533753816294},{"$f":"+'[1]itcer global'!BC136","v":1.0334081894429532},{"$f":"+'[1]itcer global'!BD136","v":1.0461167064347616},{"$f":"+'[1]itcer global'!BE136","v":1.0221032518890631},null,{"$f":"+'[1]itcer global'!BG136","v":0.92036454308140558},{"$f":"+'[1]itcer global'!BH136","v":1.0106611991110099},{"$f":"+'[1]itcer global'!BI136","v":0.95883229838562245},{"$f":"+'[1]itcer global'!BJ136","v":0.9370830084062961},{"$f":"+'[1]itcer global'!BK136","v":0.97140751892872701},{"$f":"+'[1]itcer global'!BL136","v":0.94776976431243798}]
[null,"Septiembre",{"$f":"+'[1]itcer global'!J137","v":98.069656037038939},{"$f":"+'[1]itcer global'!K137","v":99.87894203216419},{"$f":"+'[1]itcer global'!L137","v":96.958025316885312},{"$f":"+'[1]itcer global'!M137","v":96.802113414910323},{"$f":"+'[1]itcer global'!N137","v":102.34651660397279},{"$f":"+'[1]itcer global'!O137","v":96.398299474514829},null,{"$f":"+'[1]itcer global'!AS137","v":0.36214784517531484},{"$f":"+'[1]itcer global'!AT137","v":7.9221099747783796E-2},{"$f":"+'[1]itcer global'!AU137","v":1.178073547810655},{"$f":"+'[1]itcer global'!AV137","v":-3.8013735063003651E-2},{"$f":"+'[1]itcer global'!AW137","v":0.71437625289200923},{"$f":"+'[1]itcer global'!AX137","v":-0.48884821715292048},null,{"$f":"+'[1]itcer global'!AZ137","v":1.0676675111762604},{"$f":"+'[1]itcer global'!BA137","v":0.98382360985758199},{"$f":"+'[1]itcer global'!BB137","v":1.009940702582846},{"$f":"+'[1]itcer global'!BC137","v":1.0371650912950241},{"$f":"+'[1]itcer global'!BD137","v":1.0495878916814254},{"$f":"+'[1]itcer global'!BE137","v":1.0218208490242329},null,{"$f":"+'[1]itcer global'!BG137","v":0.91854116576980571},{"$f":"+'[1]itcer global'!BH137","v":1.0152118838317228},{"$f":"+'[1]itcer global'!BI137","v":0.96003681274477393},{"$f":"+'[1]itcer global'!BJ137","v":0.93333370190893494},{"$f":"+'[1]itcer global'!BK137","v":0.97511144531226523},{"$f":"+'[1]itcer global'!BL137","v":0.94339726544597724}]
[null,"Octubre",{"$f":"+'[1]itcer global'!J138","v":98.34684915087054},{"$f":"+'[1]itcer global'!K138","v":100.72543523324276},{"$f":"+'[1]itcer global'!L138","v":97.767036192553789},{"$f":"+'[1]itcer global'!M138","v":96.649063130989333},{"$f":"+'[1]itcer global'!N138","v":102.43781082002053},{"$f":"+'[1]itcer global'!O138","v":95.855522916497662},null,{"$f":"+'[1]itcer global'!AS138","v":0.28264921590721315},{"$f":"+'[1]itcer global'!AT138","v":0.84751919058771819},{"$f":"+'[1]itcer global'!AU138","v":0.83439289633263058},{"$f":"+'[1]itcer global'!AV138","v":-0.15810634553503178},{"$f":"+'[1]itcer global'!AW138","v":8.9201097484334468E-2},{"$f":"+'[1]itcer global'!AX138","v":-0.56305615449228696},null,{"$f":"+'[1]itcer global'!AZ138","v":1.0716737686685194},{"$f":"+'[1]itcer global'!BA138","v":0.97835655379084285},{"$f":"+'[1]itcer global'!BB138","v":1.0284617173481494},{"$f":"+'[1]itcer global'!BC138","v":1.0395695483665797},{"$f":"+'[1]itcer global'!BD138","v":1.0540161851778085},{"$f":"+'[1]itcer global'!BE138","v":1.0204726345774242},null,{"$f":"+'[1]itcer global'!BG138","v":0.91769391046176041},{"$f":"+'[1]itcer global'!BH138","v":1.0295370828044379},{"$f":"+'[1]itcer global'!BI138","v":0.95061424789483151},{"$f":"+'[1]itcer global'!BJ138","v":0.92970271477121336},{"$f":"+'[1]itcer global'!BK138","v":0.97188081417117578},{"$f":"+'[1]itcer global'!BL138","v":0.9393247762708623}]
[null,"Noviembre",{"$f":"+'[1]itcer global'!J139","v":97.895241111761351},{"$f":"+'[1]itcer global'!K139","v":99.380847007388709},{"$f":"+'[1]itcer global'!L139","v":96.696614496030293},{"$f":"+'[1]itcer global'!M139","v":96.830319012618915},{"$f":"+'[1]itcer global'!N139","v":101.95224137965467},{"$f":"+'[1]itcer global'!O139","v":96.197602445334113},null,{"$f":"+'[1]itcer global'!AS139","v":-0.45919929617306821},{"$f":"+'[1]itcer global'!AT139","v":-1.334904359301575},{"$f":"+'[1]itcer global'!AU139","v":-1.0948697415919213},{"$f":"+'[1]itcer global'!AV139","v":0.18754023656073571},{"$f":"+'[1]itcer global'!AW139","v":-0.47401387874150203},{"$f":"+'[1]itcer global'!AX139","v":0.35686992092718128},null,{"$f":"+'[1]itcer global'!AZ139","v":1.076167657074844},{"$f":"+'[1]itcer global'!BA139","v":0.97629544079854458},{"$f":"+'[1]itcer global'!BB139","v":1.0232545313290589},{"$f":"+'[1]itcer global'!BC139","v":1.0454816892220002},{"$f":"+'[1]itcer global'!BD139","v":1.0519015308943427},{"$f":"+'[1]itcer global'!BE139","v":1.0244553612060532},null,{"$f":"+'[1]itcer global'!BG139","v":0.90966533391137816},{"$f":"+'[1]itcer global'!BH139","v":1.0179382475257879},{"$f":"+'[1]itcer global'!BI139","v":0.94499082618706254},{"$f":"+'[1]itcer global'!BJ139","v":0.92617900448046686},{"$f":"+'[1]itcer global'!BK139","v":0.96921849037498142},{"$f":"+'[1]itcer global'!BL139","v":0.93901214331178118}]
[null,"Diciembre",{"$f":"+'[1]itcer global'!J140","v":97.544271919073225},{"$f":"+'[1]itcer global'!K140","v":100.74334754743394},{"$f":"+'[1]itcer global'!L140","v":94.385287883227036},{"$f":"+'[1]itcer global'!M140","v":96.827248629730065},{"$f":"+'[1]itcer global'!N140","v":101.9125992595136},{"$f":"+'[1]itcer global'!O140","v":96.885121015640493},null,{"$f":"+'[1]itcer global'!AS140","v":-0.35851507050014675},{"$f":"+'[1]itcer global'!AT140","v":1.3709890598375978},{"$f":"+'[1]itcer global'!AU140","v":-2.3902870073058722},{"$f":"+'[1]itcer global'!AV140","v":-3.1708899858529094E-3},{"$f":"+'[1]itcer global'!AW140","v":-3.8883029548557602E-2},{"$f":"+'[1]itcer global'!AX140","v":0.71469408054849737},null,{"$f":"+'[1]itcer global'!AZ140","v":1.084988493687491},{"$f":"+'[1]itcer global'!BA140","v":0.97803582728390936},{"$f":"+'[1]itcer global'!BB140","v":1.006438119253322},{"$f":"+'[1]itcer global'!BC140","v":1.0508294283727655},{"$f":"+'[1]itcer global'!BD140","v":1.0521715053676537},{"$f":"+'[1]itcer global'!BE140","v":1.0363764841323166},null,{"$f":"+'[1]itcer global'!BG140","v":0.8990350818150602},{"$f":"+'[1]itcer global'!BH140","v":1.030057843864544},{"$f":"+'[1]itcer global'!BI140","v":0.93781511329530765},{"$f":"+'[1]itcer global'!BJ140","v":0.92143640076457878},{"$f":"+'[1]itcer global'!BK140","v":0.96859303582739509},{"$f":"+'[1]itcer global'!BL140","v":0.93484484160942183}]
[2002,"Enero",{"$f":"+'[1]itcer global'!J141","v":97.023526623125619},{"$f":"+'[1]itcer global'!K141","v":99.547776414890279},{"$f":"+'[1]itcer global'!L141","v":93.936591851397154},{"$f":"+'[1]itcer global'!M141","v":97.105649459959594},{"$f":"+'[1]itcer global'!N141","v":102.34088257681033},{"$f":"+'[1]itcer global'!O141","v":96.706051152093266},null,{"$f":"+'[1]itcer global'!AS141","v":-0.53385533122809647},{"$f":"+'[1]itcer global'!AT141","v":-1.1867494595419714},{"$f":"+'[1]itcer global'!AU141","v":-0.47538768158975131},{"$f":"+'[1]itcer global'!AV141","v":0.28752322736562519},{"$f":"+'[1]itcer global'!AW141","v":0.42024570112879189},{"$f":"+'[1]itcer global'!AX141","v":-0.18482700095748328},null,{"$f":"+'[1]itcer global'!AZ141","v":1.0872625662002255},{"$f":"+'[1]itcer global'!BA141","v":0.97320774304087954},{"$f":"+'[1]itcer global'!BB141","v":1.0102510550535522},{"$f":"+'[1]itcer global'!BC141","v":1.0525260326980093},{"$f":"+'[1]itcer global'!BD141","v":1.0531019434314963},{"$f":"+'[1]itcer global'!BE141","v":1.0374518915832918},null,{"$f":"+'[1]itcer global'!BG141","v":0.89236518978303714},{"$f":"+'[1]itcer global'!BH141","v":1.0228831113061623},{"$f":"+'[1]itcer global'!BI141","v":0.92983413757897715},{"$f":"+'[1]itcer global'!BJ141","v":0.92259617760752499},{"$f":"+'[1]itcer global'!BK141","v":0.97180413743550875},{"$f":"+'[1]itcer global'!BL141","v":0.93214974050032107}]
[null,"Febrero",{"$f":"+'[1]itcer global'!J142","v":97.459472473333804},{"$f":"+'[1]itcer global'!K142","v":99.61980488121128},{"$f":"+'[1]itcer global'!L142","v":92.364832193126162},{"$f":"+'[1]itcer global'!M142","v":96.905830740442212},{"$f":"+'[1]itcer global'!N142","v":102.06601438570189},{"$f":"+'[1]itcer global'!O142","v":97.320225858043372},null,{"$f":"+'[1]itcer global'!AS142","v":0.44931973242073298},{"$f":"+'[1]itcer global'!AT142","v":7.2355675751921922E-2},{"$f":"+'[1]itcer global'!AU142","v":-1.6732134169370738},{"$f":"+'[1]itcer global'!AV142","v":-0.20577455650484922},{"$f":"+'[1]itcer global'!AW142","v":-0.26858102469668665},{"$f":"+'[1]itcer global'!AX142","v":0.63509439030259784},null,{"$f":"+'[1]itcer global'!AZ142","v":1.0935533478952235},{"$f":"+'[1]itcer global'!BA142","v":0.97248908561080039},{"$f":"+'[1]itcer global'!BB142","v":0.99892830202639515},{"$f":"+'[1]itcer global'!BC142","v":1.057899294161222},{"$f":"+'[1]itcer global'!BD142","v":1.0551975504997813},{"$f":"+'[1]itcer global'!BE142","v":1.0416378264235977},null,{"$f":"+'[1]itcer global'!BG142","v":0.89121827170951773},{"$f":"+'[1]itcer global'!BH142","v":1.0243796702216161},{"$f":"+'[1]itcer global'!BI142","v":0.92463925594817675},{"$f":"+'[1]itcer global'!BJ142","v":0.9160213195649789},{"$f":"+'[1]itcer global'!BK142","v":0.96726925055274782},{"$f":"+'[1]itcer global'!BL142","v":0.93430003585974464}]
[null,"Marzo",{"$f":"+'[1]itcer global'!J143","v":98.300534782934676},{"$f":"+'[1]itcer global'!K143","v":99.711129954457505},{"$f":"+'[1]itcer global'!L143","v":92.06479128961972},{"$f":"+'[1]itcer global'!M143","v":97.530117617577048},{"$f":"+'[1]itcer global'!N143","v":102.96050656662644},{"$f":"+'[1]itcer global'!O143","v":96.949629194865821},null,{"$f":"+'[1]itcer global'!AS143","v":0.86298672489839134},{"$f":"+'[1]itcer global'!AT143","v":9.1673611843674507E-2},{"$f":"+'[1]itcer global'!AU143","v":-0.32484322916225494},{"$f":"+'[1]itcer global'!AV143","v":0.64422013862814254},{"$f":"+'[1]itcer global'!AW143","v":0.87638592170779361},{"$f":"+'[1]itcer global'!AX143","v":-0.38080127733994118},null,{"$f":"+'[1]itcer global'!AZ143","v":1.1057285972502437},{"$f":"+'[1]itcer global'!BA143","v":0.97361176381632375},{"$f":"+'[1]itcer global'!BB143","v":0.99656300416424026},{"$f":"+'[1]itcer global'!BC143","v":1.0649311635935603},{"$f":"+'[1]itcer global'!BD143","v":1.0615401705534311},{"$f":"+'[1]itcer global'!BE143","v":1.0439443299651399},null,{"$f":"+'[1]itcer global'!BG143","v":0.88901141769681236},{"$f":"+'[1]itcer global'!BH143","v":1.0241364541818381},{"$f":"+'[1]itcer global'!BI143","v":0.92382308900608967},{"$f":"+'[1]itcer global'!BJ143","v":0.91583494738257287},{"$f":"+'[1]itcer global'!BK143","v":0.96991625397415016},{"$f":"+'[1]itcer global'!BL143","v":0.9286858160157182}]
[null,"Abril",{"$f":"+'[1]itcer global'!J144","v":99.591168382416811},{"$f":"+'[1]itcer global'!K144","v":100.01159372865173},{"$f":"+'[1]itcer global'!L144","v":90.935998625536058},{"$f":"+'[1]itcer global'!M144","v":97.925972607214788},{"$f":"+'[1]itcer global'!N144","v":103.3793311380405},{"$f":"+'[1]itcer global'!O144","v":99.178987850871337},null,{"$f":"+'[1]itcer global'!AS144","v":1.3129466714826066},{"$f":"+'[1]itcer global'!AT144","v":0.301334238546346},{"$f":"+'[1]itcer global'!AU144","v":-1.2260850736441427},{"$f":"+'[1]itcer global'!AV144","v":0.40587974187616283},{"$f":"+'[1]itcer global'!AW144","v":0.40678177038984131},{"$f":"+'[1]itcer global'!AX144","v":2.2995019934780601},null,{"$f":"+'[1]itcer global'!AZ144","v":1.1165805395931974},{"$f":"+'[1]itcer global'!BA144","v":0.975158548494926},{"$f":"+'[1]itcer global'!BB144","v":0.9849525123927011},{"$f":"+'[1]itcer global'!BC144","v":1.0717554734027204},{"$f":"+'[1]itcer global'!BD144","v":1.0672033457219485},{"$f":"+'[1]itcer global'!BE144","v":1.0697369869474445},null,{"$f":"+'[1]itcer global'!BG144","v":0.89193000281646284},{"$f":"+'[1]itcer global'!BH144","v":1.0255931600354742},{"$f":"+'[1]itcer global'!BI144","v":0.92325261859203034},{"$f":"+'[1]itcer global'!BJ144","v":0.91369696761435015},{"$f":"+'[1]itcer global'!BK144","v":0.96869384407810089},{"$f":"+'[1]itcer global'!BL144","v":0.92713432424061759}]
[null,"Mayo",{"$f":"+'[1]itcer global'!J145","v":100.42577840199588},{"$f":"+'[1]itcer global'!K145","v":100.26829721338473},{"$f":"+'[1]itcer global'!L145","v":91.231337898066371},{"$f":"+'[1]itcer global'!M145","v":98.305353602829385},{"$f":"+'[1]itcer global'!N145","v":103.91974305462628},{"$f":"+'[1]itcer global'!O145","v":99.930599574817123},null,{"$f":"+'[1]itcer global'!AS145","v":0.83803617643512496},{"$f":"+'[1]itcer global'!AT145","v":0.25667372667761867},{"$f":"+'[1]itcer global'!AU145","v":0.32477707068076711},{"$f":"+'[1]itcer global'!AV145","v":0.38741611189945502},{"$f":"+'[1]itcer global'!AW145","v":0.5227465786794312},{"$f":"+'[1]itcer global'!AX145","v":0.75783363011925076},null,{"$f":"+'[1]itcer global'!AZ145","v":1.1317491214353002},{"$f":"+'[1]itcer global'!BA145","v":0.97550802693151739},{"$f":"+'[1]itcer global'!BB145","v":0.99055260262463707},{"$f":"+'[1]itcer global'!BC145","v":1.0800108867369067},{"$f":"+'[1]itcer global'!BD145","v":1.0759742649375756},{"$f":"+'[1]itcer global'!BE145","v":1.0733656802357321},null,{"$f":"+'[1]itcer global'!BG145","v":0.88735017770223235},{"$f":"+'[1]itcer global'!BH145","v":1.0278572235718135},{"$f":"+'[1]itcer global'!BI145","v":0.92101456960825179},{"$f":"+'[1]itcer global'!BJ145","v":0.91022558022395927},{"$f":"+'[1]itcer global'!BK145","v":0.96581996838609652},{"$f":"+'[1]itcer global'!BL145","v":0.93100237332788982}]
[null,"Junio",{"$f":"+'[1]itcer global'!J146","v":101.53150209675199},{"$f":"+'[1]itcer global'!K146","v":100.07065549866783},{"$f":"+'[1]itcer global'!L146","v":91.395432525848534},{"$f":"+'[1]itcer global'!M146","v":98.215472982910839},{"$f":"+'[1]itcer global'!N146","v":104.980195330911},{"$f":"+'[1]itcer global'!O146","v":100.35208015743224},null,{"$f":"+'[1]itcer global'!AS146","v":1.1010357224516554},{"$f":"+'[1]itcer global'!AT146","v":-0.19711286638914771},{"$f":"+'[1]itcer global'!AU146","v":0.1798665146898486},{"$f":"+'[1]itcer global'!AV146","v":-9.1430035724897607E-2},{"$f":"+'[1]itcer global'!AW146","v":1.0204531353847699},{"$f":"+'[1]itcer global'!AX146","v":0.42177329507519801},null,{"$f":"+'[1]itcer global'!AZ146","v":1.1496128332977626},{"$f":"+'[1]itcer global'!BA146","v":0.97704940019665909},{"$f":"+'[1]itcer global'!BB146","v":0.99562822570341936},{"$f":"+'[1]itcer global'!BC146","v":1.0891000698178674},{"$f":"+'[1]itcer global'!BD146","v":1.0856747372508901},{"$f":"+'[1]itcer global'!BE146","v":1.0781787416503341},null,{"$f":"+'[1]itcer global'!BG146","v":0.88317996421021328},{"$f":"+'[1]itcer global'!BH146","v":1.0242128543196052},{"$f":"+'[1]itcer global'!BI146","v":0.91796747185704741},{"$f":"+'[1]itcer global'!BJ146","v":0.90180393615561538},{"$f":"+'[1]itcer global'!BK146","v":0.96695807435603032},{"$f":"+'[1]itcer global'!BL146","v":0.93075550723460276}]
[null,"Julio",{"$f":"+'[1]itcer global'!J147","v":102.04849829588144},{"$f":"+'[1]itcer global'!K147","v":100.79620268548648},{"$f":"+'[1]itcer global'!L147","v":90.681314147275458},{"$f":"+'[1]itcer global'!M147","v":98.703226362288063},{"$f":"+'[1]itcer global'!N147","v":105.86317050136155},{"$f":"+'[1]itcer global'!O147","v":100.75223681411278},null,{"$f":"+'[1]itcer global'!AS147","v":0.50919782378161926},{"$f":"+'[1]itcer global'!AT147","v":0.72503490978760965},{"$f":"+'[1]itcer global'!AU147","v":-0.78135018221081509},{"$f":"+'[1]itcer global'!AV147","v":0.49661561927425169},{"$f":"+'[1]itcer global'!AW147","v":0.84108737621157559},{"$f":"+'[1]itcer global'!AX147","v":0.39875272744995982},null,{"$f":"+'[1]itcer global'!AZ147","v":1.170775628018967},{"$f":"+'[1]itcer global'!BA147","v":0.98226871817503036},{"$f":"+'[1]itcer global'!BB147","v":0.99381826145473273},{"$f":"+'[1]itcer global'!BC147","v":1.1010177665014131},{"$f":"+'[1]itcer global'!BD147","v":1.0926919075134844},{"$f":"+'[1]itcer global'!BE147","v":1.0857912302101616},null,{"$f":"+'[1]itcer global'!BG147","v":0.87163155649690571},{"$f":"+'[1]itcer global'!BH147","v":1.0261571077286982},{"$f":"+'[1]itcer global'!BI147","v":0.91245369162906953},{"$f":"+'[1]itcer global'!BJ147","v":0.8964726034887408},{"$f":"+'[1]itcer global'!BK147","v":0.96882908872513229},{"$f":"+'[1]itcer global'!BL147","v":0.92791536725353319}]
[null,"Agosto",{"$f":"+'[1]itcer global'!J148","v":101.54506982960108},{"$f":"+'[1]itcer global'!K148","v":101.34041846331496},{"$f":"+'[1]itcer global'!L148","v":89.667102917260195},{"$f":"+'[1]itcer global'!M148","v":98.60848566020293},{"$f":"+'[1]itcer global'!N148","v":106.25378595323647},{"$f":"+'[1]itcer global'!O148","v":99.848890720664201},null,{"$f":"+'[1]itcer global'!AS148","v":-0.493322757989759},{"$f":"+'[1]itcer global'!AT148","v":0.53991694461605277},{"$f":"+'[1]itcer global'!AU148","v":-1.1184346406450203},{"$f":"+'[1]itcer global'!AV148","v":-9.5985415651341555E-2},{"$f":"+'[1]itcer global'!AW148","v":0.36898144087787443},{"$f":"+'[1]itcer global'!AX148","v":-0.89660152668892579},null,{"$f":"+'[1]itcer global'!AZ148","v":1.1761690097168473},{"$f":"+'[1]itcer global'!BA148","v":0.98093242066664588},{"$f":"+'[1]itcer global'!BB148","v":0.97966653817359972},{"$f":"+'[1]itcer global'!BC148","v":1.1044721222890181},{"$f":"+'[1]itcer global'!BD148","v":1.0944687572750975},{"$f":"+'[1]itcer global'!BE148","v":1.0824638523003862},null,{"$f":"+'[1]itcer global'!BG148","v":0.8633544073232059},{"$f":"+'[1]itcer global'!BH148","v":1.0331029572296488},{"$f":"+'[1]itcer global'!BI148","v":0.91528187830552332},{"$f":"+'[1]itcer global'!BJ148","v":0.89281099694790733},{"$f":"+'[1]itcer global'!BK148","v":0.9708252085493686},{"$f":"+'[1]itcer global'!BL148","v":0.92242240245225215}]
[null,"Septiembre",{"$f":"+'[1]itcer global'!J149","v":101.93766450581678},{"$f":"+'[1]itcer global'!K149","v":101.50723546343269},{"$f":"+'[1]itcer global'!L149","v":89.849709834462985},{"$f":"+'[1]itcer global'!M149","v":98.889197709562538},{"$f":"+'[1]itcer global'!N149","v":106.19694501588359},{"$f":"+'[1]itcer global'!O149","v":98.403232397554774},null,{"$f":"+'[1]itcer global'!AS149","v":0.38662111008885347},{"$f":"+'[1]itcer global'!AT149","v":0.16461053017866334},{"$f":"+'[1]itcer global'!AU149","v":0.20364984622207771},{"$f":"+'[1]itcer global'!AV149","v":0.2846733194209321},{"$f":"+'[1]itcer global'!AW149","v":-5.3495446626158127E-2},{"$f":"+'[1]itcer global'!AX149","v":-1.4478461529971156},null,{"$f":"+'[1]itcer global'!AZ149","v":1.1833191378769634},{"$f":"+'[1]itcer global'!BA149","v":0.9777730608908376},{"$f":"+'[1]itcer global'!BB149","v":0.97736667489071916},{"$f":"+'[1]itcer global'!BC149","v":1.1081414437393942},{"$f":"+'[1]itcer global'!BD149","v":1.09775621798172},{"$f":"+'[1]itcer global'!BE149","v":1.0796880792140366},null,{"$f":"+'[1]itcer global'!BG149","v":0.8614553863187483},{"$f":"+'[1]itcer global'!BH149","v":1.038147188990364},{"$f":"+'[1]itcer global'!BI149","v":0.91930400475859475},{"$f":"+'[1]itcer global'!BJ149","v":0.89238786499910661},{"$f":"+'[1]itcer global'!BK149","v":0.96740007732438082},{"$f":"+'[1]itcer global'!BL149","v":0.91140426843637845}]
[null,"Octubre",{"$f":"+'[1]itcer global'!J150","v":102.28476584829617},{"$f":"+'[1]itcer global'!K150","v":101.58697627380899},{"$f":"+'[1]itcer global'!L150","v":89.027642057165153},{"$f":"+'[1]itcer global'!M150","v":98.987486365699993},{"$f":"+'[1]itcer global'!N150","v":106.65786440147872},{"$f":"+'[1]itcer global'!O150","v":95.671752524112591},null,{"$f":"+'[1]itcer global'!AS150","v":0.34050352650525895},{"$f":"+'[1]itcer global'!AT150","v":7.8556774807452712E-2},{"$f":"+'[1]itcer global'!AU150","v":-0.91493648539588435},{"$f":"+'[1]itcer global'!AV150","v":9.9392712666286798E-2},{"$f":"+'[1]itcer global'!AW150","v":0.43402320615362555},{"$f":"+'[1]itcer global'!AX150","v":-2.7758029963963509},null,{"$f":"+'[1]itcer global'!AZ150","v":1.1924694185889253},{"$f":"+'[1]itcer global'!BA150","v":0.97716064937824787},{"$f":"+'[1]itcer global'!BB150","v":0.96872308170211352},{"$f":"+'[1]itcer global'!BC150","v":1.1131269317892101},{"$f":"+'[1]itcer global'!BD150","v":1.1003429620039866},{"$f":"+'[1]itcer global'!BE150","v":1.0781791748925507},null,{"$f":"+'[1]itcer global'!BG150","v":0.85775588248906143},{"$f":"+'[1]itcer global'!BH150","v":1.0396138683894733},{"$f":"+'[1]itcer global'!BI150","v":0.91902055126773119},{"$f":"+'[1]itcer global'!BJ150","v":0.88927402202541439},{"$f":"+'[1]itcer global'!BK150","v":0.96931473262871892},{"$f":"+'[1]itcer global'!BL150","v":0.88734557995564189}]
[null,"Noviembre",{"$f":"+'[1]itcer global'!J151","v":102.72532368954586},{"$f":"+'[1]itcer global'!K151","v":102.44180001088341},{"$f":"+'[1]itcer global'!L151","v":87.496661899933144},{"$f":"+'[1]itcer global'!M151","v":99.230619914733651},{"$f":"+'[1]itcer global'!N151","v":107.84430464751203},{"$f":"+'[1]itcer global'!O151","v":95.569164057308456},null,{"$f":"+'[1]itcer global'!AS151","v":0.43071696708297225},{"$f":"+'[1]itcer global'!AT151","v":0.84146981082535888},{"$f":"+'[1]itcer global'!AU151","v":-1.7196683208221515},{"$f":"+'[1]itcer global'!AV151","v":0.24562048998338071},{"$f":"+'[1]itcer global'!AW151","v":1.1123795255897306},{"$f":"+'[1]itcer global'!AX151","v":-0.10722963058326229},null,{"$f":"+'[1]itcer global'!AZ151","v":1.2089124452956703},{"$f":"+'[1]itcer global'!BA151","v":0.98115126746656123},{"$f":"+'[1]itcer global'!BB151","v":0.95494098544324935},{"$f":"+'[1]itcer global'!BC151","v":1.1218823347000655},{"$f":"+'[1]itcer global'!BD151","v":1.1078525321282728},{"$f":"+'[1]itcer global'!BE151","v":1.0814029233731643},null,{"$f":"+'[1]itcer global'!BG151","v":0.84973336232320595},{"$f":"+'[1]itcer global'!BH151","v":1.0440979225904605},{"$f":"+'[1]itcer global'!BI151","v":0.91625203267739475},{"$f":"+'[1]itcer global'!BJ151","v":0.88450113568516875},{"$f":"+'[1]itcer global'!BK151","v":0.97345360975376893},{"$f":"+'[1]itcer global'!BL151","v":0.88375167101642815}]
[null,"Diciembre",{"$f":"+'[1]itcer global'!J152","v":103.24616278712861},{"$f":"+'[1]itcer global'!K152","v":102.34992737197419},{"$f":"+'[1]itcer global'!L152","v":87.541660856959524},{"$f":"+'[1]itcer global'!M152","v":99.14673410749765},{"$f":"+'[1]itcer global'!N152","v":107.69741103160339},{"$f":"+'[1]itcer global'!O152","v":93.983366285642006},null,{"$f":"+'[1]itcer global'!AS152","v":0.5070211305995258},{"$f":"+'[1]itcer global'!AT152","v":-8.9682765140267406E-2},{"$f":"+'[1]itcer global'!AU152","v":5.1429341473436807E-2},{"$f":"+'[1]itcer global'!AV152","v":-8.4536212016089962E-2},{"$f":"+'[1]itcer global'!AW152","v":-0.13620896939227123},{"$f":"+'[1]itcer global'!AX152","v":-1.6593194963131879},null,{"$f":"+'[1]itcer global'!AZ152","v":1.2229308232624876},{"$f":"+'[1]itcer global'!BA152","v":0.98083299585218431},{"$f":"+'[1]itcer global'!BB152","v":0.96004204420346151},{"$f":"+'[1]itcer global'!BC152","v":1.1280215333950334},{"$f":"+'[1]itcer global'!BD152","v":1.1116771399740926},{"$f":"+'[1]itcer global'!BE152","v":1.0833858125557951},null,{"$f":"+'[1]itcer global'!BG152","v":0.8442518646450704},{"$f":"+'[1]itcer global'!BH152","v":1.0435000433794417},{"$f":"+'[1]itcer global'!BI152","v":0.91185236506586642},{"$f":"+'[1]itcer global'!BJ152","v":0.87894362981789331},{"$f":"+'[1]itcer global'!BK152","v":0.96878317596881858},{"$f":"+'[1]itcer global'!BL152","v":0.86749674212483574}]
[2003,"Enero",{"$f":"+'[1]itcer global'!J153","v":104.31409977370738},{"$f":"+'[1]itcer global'!K153","v":101.53547683405576},{"$f":"+'[1]itcer global'!L153","v":88.635407042666699},{"$f":"+'[1]itcer global'!M153","v":99.459894147766377},{"$f":"+'[1]itcer global'!N153","v":107.92935726713614},{"$f":"+'[1]itcer global'!O153","v":91.616534682943339},null,{"$f":"+'[1]itcer global'!AS153","v":1.0343599778914978},{"$f":"+'[1]itcer global'!AT153","v":-0.7957509681061623},{"$f":"+'[1]itcer global'!AU153","v":1.2494007710161128},{"$f":"+'[1]itcer global'!AV153","v":0.31585512431422558},{"$f":"+'[1]itcer global'!AW153","v":0.21536844136826971},{"$f":"+'[1]itcer global'!AX153","v":-2.5183515937332857},null,{"$f":"+'[1]itcer global'!AZ153","v":1.2383886730723992},{"$f":"+'[1]itcer global'!BA153","v":0.97899069185619481},{"$f":"+'[1]itcer global'!BB153","v":0.97875050977727385},{"$f":"+'[1]itcer global'!BC153","v":1.1352858232699861},{"$f":"+'[1]itcer global'!BD153","v":1.1186924275906276},{"$f":"+'[1]itcer global'!BE153","v":1.0871912244952686},null,{"$f":"+'[1]itcer global'!BG153","v":0.84233732140740369},{"$f":"+'[1]itcer global'!BH153","v":1.0371444558021439},{"$f":"+'[1]itcer global'!BI153","v":0.90559755685682075},{"$f":"+'[1]itcer global'!BJ153","v":0.87607800704575067},{"$f":"+'[1]itcer global'!BK153","v":0.96478133404002664},{"$f":"+'[1]itcer global'!BL153","v":0.84269015991622431}]
[null,"Febrero",{"$f":"+'[1]itcer global'!J154","v":105.02386027084886},{"$f":"+'[1]itcer global'!K154","v":101.7900227227717},{"$f":"+'[1]itcer global'!L154","v":88.70273074730288},{"$f":"+'[1]itcer global'!M154","v":99.204100525046385},{"$f":"+'[1]itcer global'!N154","v":107.27303692595899},{"$f":"+'[1]itcer global'!O154","v":91.669497129743434},null,{"$f":"+'[1]itcer global'!AS154","v":0.68040705780060762},{"$f":"+'[1]itcer global'!AT154","v":0.25069650200389049},{"$f":"+'[1]itcer global'!AU154","v":7.5955768560717729E-2},{"$f":"+'[1]itcer global'!AV154","v":-0.2571826814333491},{"$f":"+'[1]itcer global'!AW154","v":-0.60810177860383874},{"$f":"+'[1]itcer global'!AX154","v":5.780883001456516E-2},null,{"$f":"+'[1]itcer global'!AZ154","v":1.2491584668678009},{"$f":"+'[1]itcer global'!BA154","v":0.97689604876816638},{"$f":"+'[1]itcer global'!BB154","v":0.98019745708396644},{"$f":"+'[1]itcer global'!BC154","v":1.1399728117467633},{"$f":"+'[1]itcer global'!BD154","v":1.1218144925727596},{"$f":"+'[1]itcer global'!BE154","v":1.1242966384828257},null,{"$f":"+'[1]itcer global'!BG154","v":0.84075690199811592},{"$f":"+'[1]itcer global'!BH154","v":1.0419739423772421},{"$f":"+'[1]itcer global'!BI154","v":0.90494757057612263},{"$f":"+'[1]itcer global'!BJ154","v":0.87023216258146896},{"$f":"+'[1]itcer global'!BK154","v":0.95624577535934607},{"$f":"+'[1]itcer global'!BL154","v":0.81534973949087131}]
[null,"Marzo",{"$f":"+'[1]itcer global'!J155","v":105.7220845444548},{"$f":"+'[1]itcer global'!K155","v":101.71054115678206},{"$f":"+'[1]itcer global'!L155","v":89.663959724924965},{"$f":"+'[1]itcer global'!M155","v":99.669553969126952},{"$f":"+'[1]itcer global'!N155","v":108.02004395590318},{"$f":"+'[1]itcer global'!O155","v":113.36773082879762},null,{"$f":"+'[1]itcer global'!AS155","v":0.66482442352173621},{"$f":"+'[1]itcer global'!AT155","v":-7.8083847378735527E-2},{"$f":"+'[1]itcer global'!AU155","v":1.0836520696983314},{"$f":"+'[1]itcer global'!AV155","v":0.46918770657373443},{"$f":"+'[1]itcer global'!AW155","v":0.69636047542849155},{"$f":"+'[1]itcer global'!AX155","v":23.670069519792207},null,{"$f":"+'[1]itcer global'!AZ155","v":1.2588858214128995},{"$f":"+'[1]itcer global'!BA155","v":0.97404213330517309},{"$f":"+'[1]itcer global'!BB155","v":0.98981973769339593},{"$f":"+'[1]itcer global'!BC155","v":1.1435172341947},{"$f":"+'[1]itcer global'!BD155","v":1.126299562723269},{"$f":"+'[1]itcer global'!BE155","v":1.4070726607364705},null,{"$f":"+'[1]itcer global'!BG155","v":0.83980677791571723},{"$f":"+'[1]itcer global'!BH155","v":1.0442108988822925},{"$f":"+'[1]itcer global'!BI155","v":0.90586150498343632},{"$f":"+'[1]itcer global'!BJ155","v":0.87160517558196049},{"$f":"+'[1]itcer global'!BK155","v":0.95907028228549196},{"$f":"+'[1]itcer global'!BL155","v":0.80569919373929288}]
[null,"Abril",{"$f":"+'[1]itcer global'!J156","v":105.85748471809372},{"$f":"+'[1]itcer global'!K156","v":101.978693944848},{"$f":"+'[1]itcer global'!L156","v":89.519916241271389},{"$f":"+'[1]itcer global'!M156","v":99.630542357733276},{"$f":"+'[1]itcer global'!N156","v":109.03370243487217},{"$f":"+'[1]itcer global'!O156","v":118.52203077063696},null,{"$f":"+'[1]itcer global'!AS156","v":0.12807179712955019},{"$f":"+'[1]itcer global'!AT156","v":0.26364306493327661},{"$f":"+'[1]itcer global'!AU156","v":-0.16064814011726014},{"$f":"+'[1]itcer global'!AV156","v":-3.9140951113068922E-2},{"$f":"+'[1]itcer global'!AW156","v":0.9383985062835194},{"$f":"+'[1]itcer global'!AX156","v":4.5465318077355903},null,{"$f":"+'[1]itcer global'!AZ156","v":1.2730579607111334},{"$f":"+'[1]itcer global'!BA156","v":0.97513154692468806},{"$f":"+'[1]itcer global'!BB156","v":0.99291541636202341},{"$f":"+'[1]itcer global'!BC156","v":1.1493401538744699},{"$f":"+'[1]itcer global'!BD156","v":1.1331866481004},{"$f":"+'[1]itcer global'!BE156","v":1.4768471324086694},null,{"$f":"+'[1]itcer global'!BG156","v":0.8315213288400588},{"$f":"+'[1]itcer global'!BH156","v":1.0457942240353353},{"$f":"+'[1]itcer global'!BI156","v":0.901586527574186},{"$f":"+'[1]itcer global'!BJ156","v":0.8668499227306633},{"$f":"+'[1]itcer global'!BK156","v":0.96218661433797426},{"$f":"+'[1]itcer global'!BL156","v":0.80253418359781759}]
[null,"Mayo",{"$f":"+'[1]itcer global'!J157","v":107.7888504520789},{"$f":"+'[1]itcer global'!K157","v":103.03299675347547},{"$f":"+'[1]itcer global'!L157","v":90.124694487923932},{"$f":"+'[1]itcer global'!M157","v":100.58424734675154},{"$f":"+'[1]itcer global'!N157","v":109.72339033879787},{"$f":"+'[1]itcer global'!O157","v":127.48084097380978},null,{"$f":"+'[1]itcer global'!AS157","v":1.8244961507715374},{"$f":"+'[1]itcer global'!AT157","v":1.0338461573136613},{"$f":"+'[1]itcer global'!AU157","v":0.67557954927322328},{"$f":"+'[1]itcer global'!AV157","v":0.95724159123203378},{"$f":"+'[1]itcer global'!AW157","v":0.63254561527676856},{"$f":"+'[1]itcer global'!AX157","v":7.5587721075332013},null,{"$f":"+'[1]itcer global'!AZ157","v":1.3039431043657668},{"$f":"+'[1]itcer global'!BA157","v":0.98364951017918645},{"$f":"+'[1]itcer global'!BB157","v":1.0029004551146916},{"$f":"+'[1]itcer global'!BC157","v":1.162721259416573},{"$f":"+'[1]itcer global'!BD157","v":1.1490381196376673},{"$f":"+'[1]itcer global'!BE157","v":1.6096954527683682},null,{"$f":"+'[1]itcer global'!BG157","v":0.82663768143861627},{"$f":"+'[1]itcer global'!BH157","v":1.0474563926200346},{"$f":"+'[1]itcer global'!BI157","v":0.89864047850708462},{"$f":"+'[1]itcer global'!BJ157","v":0.86507618685171739},{"$f":"+'[1]itcer global'!BK157","v":0.95491514566459768},{"$f":"+'[1]itcer global'!BL157","v":0.79195627194303819}]
[null,"Junio",{"$f":"+'[1]itcer global'!J158","v":108.07921544404967},{"$f":"+'[1]itcer global'!K158","v":102.68097254829172},{"$f":"+'[1]itcer global'!L158","v":90.028493192574217},{"$f":"+'[1]itcer global'!M158","v":100.76634756233969},{"$f":"+'[1]itcer global'!N158","v":109.09160852208952},{"$f":"+'[1]itcer global'!O158","v":136.83217131826433},null,{"$f":"+'[1]itcer global'!AS158","v":0.26938314190469725},{"$f":"+'[1]itcer global'!AT158","v":-0.3416616193606643},{"$f":"+'[1]itcer global'!AU158","v":-0.10674243712705334},{"$f":"+'[1]itcer global'!AV158","v":0.18104247970399001},{"$f":"+'[1]itcer global'!AW158","v":-0.57579501941890499},{"$f":"+'[1]itcer global'!AX158","v":7.3354790202362636},null,{"$f":"+'[1]itcer global'!AZ158","v":1.3139374892691997},{"$f":"+'[1]itcer global'!BA158","v":0.98135040527340844},{"$f":"+'[1]itcer global'!BB158","v":1.002675474820353},{"$f":"+'[1]itcer global'!BC158","v":1.1663052527511744},{"$f":"+'[1]itcer global'!BD158","v":1.1527274110878301},{"$f":"+'[1]itcer global'!BE158","v":1.8149429515888369},null,{"$f":"+'[1]itcer global'!BG158","v":0.82255979699736215},{"$f":"+'[1]itcer global'!BH158","v":1.0463232296692675},{"$f":"+'[1]itcer global'!BI158","v":0.89788266945199169},{"$f":"+'[1]itcer global'!BJ158","v":0.86397919690959069},{"$f":"+'[1]itcer global'!BK158","v":0.94637819377557497},{"$f":"+'[1]itcer global'!BL158","v":0.75391995764097575}]
[null,"Julio",{"$f":"+'[1]itcer global'!J159","v":107.50073649283908},{"$f":"+'[1]itcer global'!K159","v":102.7669606333038},{"$f":"+'[1]itcer global'!L159","v":89.49386918004636},{"$f":"+'[1]itcer global'!M159","v":100.56210413274421},{"$f":"+'[1]itcer global'!N159","v":109.65542149622824},{"$f":"+'[1]itcer global'!O159","v":156.95619363901241},null,{"$f":"+'[1]itcer global'!AS159","v":-0.53523607553391628},{"$f":"+'[1]itcer global'!AT159","v":8.3742959263105377E-2},{"$f":"+'[1]itcer global'!AU159","v":-0.59383867658905842},{"$f":"+'[1]itcer global'!AV159","v":-0.20269011881086385},{"$f":"+'[1]itcer global'!AW159","v":0.5168252460266558},{"$f":"+'[1]itcer global'!AX159","v":14.707083960496888},null,{"$f":"+'[1]itcer global'!AZ159","v":1.3164994703980939},{"$f":"+'[1]itcer global'!BA159","v":0.97685445436726637},{"$f":"+'[1]itcer global'!BB159","v":0.9983896320568465},{"$f":"+'[1]itcer global'!BC159","v":1.1674855994075215},{"$f":"+'[1]itcer global'!BD159","v":1.1561013100332274},{"$f":"+'[1]itcer global'!BE159","v":2.1564614077575821},null,{"$f":"+'[1]itcer global'!BG159","v":0.81656498092120111},{"$f":"+'[1]itcer global'!BH159","v":1.0520191638975387},{"$f":"+'[1]itcer global'!BI159","v":0.89638219695525378},{"$f":"+'[1]itcer global'!BJ159","v":0.86135627012254135},{"$f":"+'[1]itcer global'!BK159","v":0.94849318606062882},{"$f":"+'[1]itcer global'!BL159","v":0.72784142148050235}]
[null,"Agosto",{"$f":"+'[1]itcer global'!J160","v":107.55715971445413},{"$f":"+'[1]itcer global'!K160","v":102.31350326214107},{"$f":"+'[1]itcer global'!L160","v":89.073325121920391},{"$f":"+'[1]itcer global'!M160","v":100.04176909587177},{"$f":"+'[1]itcer global'!N160","v":109.39759978925223},{"$f":"+'[1]itcer global'!O160","v":148.78489308431571},null,{"$f":"+'[1]itcer global'!AS160","v":5.2486358192354032E-2},{"$f":"+'[1]itcer global'!AT160","v":-0.44124820698041844},{"$f":"+'[1]itcer global'!AU160","v":-0.4699138186548879},{"$f":"+'[1]itcer global'!AV160","v":-0.51742656079032656},{"$f":"+'[1]itcer global'!AW160","v":-0.23511989052441606},{"$f":"+'[1]itcer global'!AX160","v":-5.2061026489276969},null,{"$f":"+'[1]itcer global'!AZ160","v":1.3184962073780817},{"$f":"+'[1]itcer global'!BA160","v":0.97224969940352146},{"$f":"+'[1]itcer global'!BB160","v":0.99298135614469951},{"$f":"+'[1]itcer global'!BC160","v":1.1679716416823742},{"$f":"+'[1]itcer global'!BD160","v":1.1487095430493459},{"$f":"+'[1]itcer global'!BE160","v":2.099926036903613},null,{"$f":"+'[1]itcer global'!BG160","v":0.81575630716707748},{"$f":"+'[1]itcer global'!BH160","v":1.0523377206998443},{"$f":"+'[1]itcer global'!BI160","v":0.89702917955833628},{"$f":"+'[1]itcer global'!BJ160","v":0.85654279201307681},{"$f":"+'[1]itcer global'!BK160","v":0.95235214551145009},{"$f":"+'[1]itcer global'!BL160","v":0.70852444547857663}]
[null,"Septiembre",{"$f":"+'[1]itcer global'!J161","v":108.85212282878892},{"$f":"+'[1]itcer global'!K161","v":102.48903782427985},{"$f":"+'[1]itcer global'!L161","v":89.719440174832414},{"$f":"+'[1]itcer global'!M161","v":100.46329333483324},{"$f":"+'[1]itcer global'!N161","v":110.57382239629379},{"$f":"+'[1]itcer global'!O161","v":138.53360084124139},null,{"$f":"+'[1]itcer global'!AS161","v":1.2039766741448972},{"$f":"+'[1]itcer global'!AT161","v":0.17156539121627645},{"$f":"+'[1]itcer global'!AU161","v":0.72537434975919268},{"$f":"+'[1]itcer global'!AV161","v":0.42134824560879736},{"$f":"+'[1]itcer global'!AW161","v":1.0751813653201623},{"$f":"+'[1]itcer global'!AX161","v":-6.8900088110860622},null,{"$f":"+'[1]itcer global'!AZ161","v":1.3318296897759359},{"$f":"+'[1]itcer global'!BA161","v":0.97133026632584141},{"$f":"+'[1]itcer global'!BB161","v":1.0013121638219911},{"$f":"+'[1]itcer global'!BC161","v":1.1745334711092235},{"$f":"+'[1]itcer global'!BD161","v":1.1605715297923678},{"$f":"+'[1]itcer global'!BE161","v":1.978332357944335},null,{"$f":"+'[1]itcer global'!BG161","v":0.81731263137032162},{"$f":"+'[1]itcer global'!BH161","v":1.0551409893975137},{"$f":"+'[1]itcer global'!BI161","v":0.89601867845462757},{"$f":"+'[1]itcer global'!BJ161","v":0.85534636352215865},{"$f":"+'[1]itcer global'!BK161","v":0.95275318718249125},{"$f":"+'[1]itcer global'!BL161","v":0.70025443543364085}]
[null,"Octubre",{"$f":"+'[1]itcer global'!J162","v":109.26315709624726},{"$f":"+'[1]itcer global'!K162","v":102.37474644113345},{"$f":"+'[1]itcer global'!L162","v":90.906433188056283},{"$f":"+'[1]itcer global'!M162","v":100.86636902197935},{"$f":"+'[1]itcer global'!N162","v":111.66262644241046},{"$f":"+'[1]itcer global'!O162","v":149.51867082877405},null,{"$f":"+'[1]itcer global'!AS162","v":0.37760794808276898},{"$f":"+'[1]itcer global'!AT162","v":-0.11151571482439238},{"$f":"+'[1]itcer global'!AU162","v":1.3230053719805142},{"$f":"+'[1]itcer global'!AV162","v":0.40121687610090362},{"$f":"+'[1]itcer global'!AW162","v":0.98468518363634416},{"$f":"+'[1]itcer global'!AX162","v":7.9295347271897327},null,{"$f":"+'[1]itcer global'!AZ162","v":1.3516199703378078},{"$f":"+'[1]itcer global'!BA162","v":0.971589998212258},{"$f":"+'[1]itcer global'!BB162","v":1.0178031360319075},{"$f":"+'[1]itcer global'!BC162","v":1.1833424310527909},{"$f":"+'[1]itcer global'!BD162","v":1.1742142145193206},{"$f":"+'[1]itcer global'!BE162","v":2.1913526739644982},null,{"$f":"+'[1]itcer global'!BG162","v":0.80838667298574551},{"$f":"+'[1]itcer global'!BH162","v":1.0536825886382601},{"$f":"+'[1]itcer global'!BI162","v":0.89316322547866878},{"$f":"+'[1]itcer global'!BJ162","v":0.85238529756970693},{"$f":"+'[1]itcer global'!BK162","v":0.95095618041143326},{"$f":"+'[1]itcer global'!BL162","v":0.68231222023368554}]
[null,"Noviembre",{"$f":"+'[1]itcer global'!J163","v":108.67166603241117},{"$f":"+'[1]itcer global'!K163","v":102.46355996768673},{"$f":"+'[1]itcer global'!L163","v":90.364162233371403},{"$f":"+'[1]itcer global'!M163","v":100.59518809798287},{"$f":"+'[1]itcer global'!N163","v":111.08194981852665},{"$f":"+'[1]itcer global'!O163","v":160.42008405075805},null,{"$f":"+'[1]itcer global'!AS163","v":-0.54134538993328363},{"$f":"+'[1]itcer global'!AT163","v":8.6753354358108936E-2},{"$f":"+'[1]itcer global'!AU163","v":-0.59651548924276199},{"$f":"+'[1]itcer global'!AV163","v":-0.26885167635745688},{"$f":"+'[1]itcer global'!AW163","v":-0.52002773209287056},{"$f":"+'[1]itcer global'!AX163","v":7.2910046361153888},null,{"$f":"+'[1]itcer global'!AZ163","v":1.3625399435055936},{"$f":"+'[1]itcer global'!BA163","v":0.97091754247600193},{"$f":"+'[1]itcer global'!BB163","v":1.0151983344928168},{"$f":"+'[1]itcer global'!BC163","v":1.1878775818926124},{"$f":"+'[1]itcer global'!BD163","v":1.1752229757383039},{"$f":"+'[1]itcer global'!BE163","v":2.4952932204166824},null,{"$f":"+'[1]itcer global'!BG163","v":0.79756682767638087},{"$f":"+'[1]itcer global'!BH163","v":1.0553271053933946},{"$f":"+'[1]itcer global'!BI163","v":0.89011338142626517},{"$f":"+'[1]itcer global'!BJ163","v":0.84684810650022835},{"$f":"+'[1]itcer global'!BK163","v":0.94519892915420789},{"$f":"+'[1]itcer global'!BL163","v":0.64289071415811372}]
[null,"Diciembre",{"$f":"+'[1]itcer global'!J164","v":109.47897518690291},{"$f":"+'[1]itcer global'!K164","v":103.08569419394931},{"$f":"+'[1]itcer global'!L164","v":89.743048799361148},{"$f":"+'[1]itcer global'!M164","v":101.35163693628255},{"$f":"+'[1]itcer global'!N164","v":111.41124995645363},{"$f":"+'[1]itcer global'!O164","v":146.67802255703188},null,{"$f":"+'[1]itcer global'!AS164","v":0.74288835716475887},{"$f":"+'[1]itcer global'!AT164","v":0.60717607943621488},{"$f":"+'[1]itcer global'!AU164","v":-0.68734487064261884},{"$f":"+'[1]itcer global'!AV164","v":0.75197318341197672},{"$f":"+'[1]itcer global'!AW164","v":0.29644792737700243},{"$f":"+'[1]itcer global'!AX164","v":-8.5662974028726211},null,{"$f":"+'[1]itcer global'!AZ164","v":1.3879675731451382},{"$f":"+'[1]itcer global'!BA164","v":0.97630809429595355},{"$f":"+'[1]itcer global'!BB164","v":1.0126565021508784},{"$f":"+'[1]itcer global'!BC164","v":1.1986617859157009},{"$f":"+'[1]itcer global'!BD164","v":1.1846619779014014},{"$f":"+'[1]itcer global'!BE164","v":2.3659927265131571},null,{"$f":"+'[1]itcer global'!BG164","v":0.78877185105141379},{"$f":"+'[1]itcer global'!BH164","v":1.0558725754321197},{"$f":"+'[1]itcer global'!BI164","v":0.88621411711421649},{"$f":"+'[1]itcer global'!BJ164","v":0.8455399023074418},{"$f":"+'[1]itcer global'!BK164","v":0.94044758787494676},{"$f":"+'[1]itcer global'!BL164","v":0.61994282955043656}]
[2004,"Enero",{"$f":"+'[1]itcer global'!J165","v":109.62272517500126},{"$f":"+'[1]itcer global'!K165","v":102.9367754298604},{"$f":"+'[1]itcer global'!L165","v":90.299116050914719},{"$f":"+'[1]itcer global'!M165","v":101.65475640002039},{"$f":"+'[1]itcer global'!N165","v":111.57863168955309},{"$f":"+'[1]itcer global'!O165","v":167.07830978695995},null,{"$f":"+'[1]itcer global'!AS165","v":0.13130373923664251},{"$f":"+'[1]itcer global'!AT165","v":-0.14446113522670601},{"$f":"+'[1]itcer global'!AU165","v":0.61962152945882565},{"$f":"+'[1]itcer global'!AV165","v":0.29907702815732762},{"$f":"+'[1]itcer global'!AW165","v":0.15023773017975373},{"$f":"+'[1]itcer global'!AX165","v":13.908209883314953},null,{"$f":"+'[1]itcer global'!AZ165","v":1.4061968851783255},{"$f":"+'[1]itcer global'!BA165","v":0.97815650499854945},{"$f":"+'[1]itcer global'!BB165","v":1.0283380999996812},{"$f":"+'[1]itcer global'!BC165","v":1.2059594162256995},{"$f":"+'[1]itcer global'!BD165","v":1.1965542894086338},{"$f":"+'[1]itcer global'!BE165","v":2.9326156498797835},null,{"$f":"+'[1]itcer global'!BG165","v":0.77956882375756031},{"$f":"+'[1]itcer global'!BH165","v":1.0523548624768697},{"$f":"+'[1]itcer global'!BI165","v":0.87810726891226443},{"$f":"+'[1]itcer global'!BJ165","v":0.84293679399403065},{"$f":"+'[1]itcer global'!BK165","v":0.93249953367931149},{"$f":"+'[1]itcer global'!BL165","v":0.56972453854909}]
[null,"Febrero",{"$f":"+'[1]itcer global'!J166","v":109.39444879084115},{"$f":"+'[1]itcer global'!K166","v":102.94917278934312},{"$f":"+'[1]itcer global'!L166","v":89.828058738213102},{"$f":"+'[1]itcer global'!M166","v":101.38495546576129},{"$f":"+'[1]itcer global'!N166","v":110.90408206439253},{"$f":"+'[1]itcer global'!O166","v":160.91425047667502},null,{"$f":"+'[1]itcer global'!AS166","v":-0.20823819495062423},{"$f":"+'[1]itcer global'!AT166","v":1.2043664114159469E-2},{"$f":"+'[1]itcer global'!AU166","v":-0.52166326017633935},{"$f":"+'[1]itcer global'!AV166","v":-0.26540906083863547},{"$f":"+'[1]itcer global'!AW166","v":-0.60455090275472401},{"$f":"+'[1]itcer global'!AX166","v":-3.689323478400425},null,{"$f":"+'[1]itcer global'!AZ166","v":1.4138808902930817},{"$f":"+'[1]itcer global'!BA166","v":0.9761797846812067},{"$f":"+'[1]itcer global'!BB166","v":1.0246999091241438},{"$f":"+'[1]itcer global'!BC166","v":1.2099790749058259},{"$f":"+'[1]itcer global'!BD166","v":1.1972645604347576},{"$f":"+'[1]itcer global'!BE166","v":3.1280824150297488},null,{"$f":"+'[1]itcer global'!BG166","v":0.77371757084972625},{"$f":"+'[1]itcer global'!BH166","v":1.0546128326449977},{"$f":"+'[1]itcer global'!BI166","v":0.87662795652039316},{"$f":"+'[1]itcer global'!BJ166","v":0.83790668424288406},{"$f":"+'[1]itcer global'!BK166","v":0.92631224316971683},{"$f":"+'[1]itcer global'!BL166","v":0.51441819340666162}]
[null,"Marzo",{"$f":"+'[1]itcer global'!J167","v":109.63008311807297},{"$f":"+'[1]itcer global'!K167","v":102.42651514415661},{"$f":"+'[1]itcer global'!L167","v":89.288240140191249},{"$f":"+'[1]itcer global'!M167","v":101.68092771569371},{"$f":"+'[1]itcer global'!N167","v":110.93315452251964},{"$f":"+'[1]itcer global'!O167","v":148.70833148674706},null,{"$f":"+'[1]itcer global'!AS167","v":0.2153987975042071},{"$f":"+'[1]itcer global'!AT167","v":-0.50768513337740728},{"$f":"+'[1]itcer global'!AU167","v":-0.60094652562297313},{"$f":"+'[1]itcer global'!AV167","v":0.29192916106015332},{"$f":"+'[1]itcer global'!AW167","v":2.6214055953531101E-2},{"$f":"+'[1]itcer global'!AX167","v":-7.5853561469978388},null,{"$f":"+'[1]itcer global'!AZ167","v":1.4153424444551646},{"$f":"+'[1]itcer global'!BA167","v":0.9720055675420497},{"$f":"+'[1]itcer global'!BB167","v":1.0202356110161983},{"$f":"+'[1]itcer global'!BC167","v":1.210397222941783},{"$f":"+'[1]itcer global'!BD167","v":1.197064580185474},{"$f":"+'[1]itcer global'!BE167","v":2.9417876448964559},null,{"$f":"+'[1]itcer global'!BG167","v":0.7745834483206997},{"$f":"+'[1]itcer global'!BH167","v":1.0537646960517597},{"$f":"+'[1]itcer global'!BI167","v":0.87517274613906426},{"$f":"+'[1]itcer global'!BJ167","v":0.84006246700207698},{"$f":"+'[1]itcer global'!BK167","v":0.92670985641669879},{"$f":"+'[1]itcer global'!BL167","v":0.50550328384420584}]
[null,"Abril",{"$f":"+'[1]itcer global'!J168","v":109.19513128269125},{"$f":"+'[1]itcer global'!K168","v":101.70473912140039},{"$f":"+'[1]itcer global'!L168","v":88.147012953903229},{"$f":"+'[1]itcer global'!M168","v":101.23925690223292},{"$f":"+'[1]itcer global'!N168","v":110.53963672242472},{"$f":"+'[1]itcer global'!O168","v":140.57799128269747},null,{"$f":"+'[1]itcer global'!AS168","v":-0.39674496544280657},{"$f":"+'[1]itcer global'!AT168","v":-0.70467693032450995},{"$f":"+'[1]itcer global'!AU168","v":-1.2781382906597543},{"$f":"+'[1]itcer global'!AV168","v":-0.43436937819423349},{"$f":"+'[1]itcer global'!AW168","v":-0.35473416562317084},{"$f":"+'[1]itcer global'!AX168","v":-5.4673064533537428},null,{"$f":"+'[1]itcer global'!AZ168","v":1.4172889138809643},{"$f":"+'[1]itcer global'!BA168","v":0.96893055376604376},{"$f":"+'[1]itcer global'!BB168","v":1.0084104423045612},{"$f":"+'[1]itcer global'!BC168","v":1.2128429506463954},{"$f":"+'[1]itcer global'!BD168","v":1.1973689664105622},{"$f":"+'[1]itcer global'!BE168","v":2.7919573813044272},null,{"$f":"+'[1]itcer global'!BG168","v":0.77045075434677657},{"$f":"+'[1]itcer global'!BH168","v":1.0496597380079919},{"$f":"+'[1]itcer global'!BI168","v":0.87411840710868982},{"$f":"+'[1]itcer global'!BJ168","v":0.83472684446305745},{"$f":"+'[1]itcer global'!BK168","v":0.92318775434607447},{"$f":"+'[1]itcer global'!BL168","v":0.50351051998157015}]
[null,"Mayo",{"$f":"+'[1]itcer global'!J169","v":109.35967676242043},{"$f":"+'[1]itcer global'!K169","v":101.30765833581421},{"$f":"+'[1]itcer global'!L169","v":86.71411752570765},{"$f":"+'[1]itcer global'!M169","v":101.1710033969312},{"$f":"+'[1]itcer global'!N169","v":110.13507875588729},{"$f":"+'[1]itcer global'!O169","v":144.96312064690693},null,{"$f":"+'[1]itcer global'!AS169","v":0.1506893922799577},{"$f":"+'[1]itcer global'!AT169","v":-0.39042505690143514},{"$f":"+'[1]itcer global'!AU169","v":-1.6255745715908887},{"$f":"+'[1]itcer global'!AV169","v":-6.741802280080833E-2},{"$f":"+'[1]itcer global'!AW169","v":-0.36598452693789341},{"$f":"+'[1]itcer global'!AX169","v":3.1193569663341663},null,{"$f":"+'[1]itcer global'!AZ169","v":1.4220077433893923},{"$f":"+'[1]itcer global'!BA169","v":0.96645783706557198},{"$f":"+'[1]itcer global'!BB169","v":0.99531213670129071},{"$f":"+'[1]itcer global'!BC169","v":1.2146482330695096},{"$f":"+'[1]itcer global'!BD169","v":1.1973345086733223},{"$f":"+'[1]itcer global'!BE169","v":2.9413556894117217},null,{"$f":"+'[1]itcer global'!BG169","v":0.76905120433281748},{"$f":"+'[1]itcer global'!BH169","v":1.0482367098746048},{"$f":"+'[1]itcer global'!BI169","v":0.87122536065017298},{"$f":"+'[1]itcer global'!BJ169","v":0.83292430386420835},{"$f":"+'[1]itcer global'!BK169","v":0.91983550092379618},{"$f":"+'[1]itcer global'!BL169","v":0.49284457901077561}]
[null,"Junio",{"$f":"+'[1]itcer global'!J170","v":109.78953766171864},{"$f":"+'[1]itcer global'!K170","v":101.81964960025421},{"$f":"+'[1]itcer global'!L170","v":86.37603547400515},{"$f":"+'[1]itcer global'!M170","v":101.54568880487767},{"$f":"+'[1]itcer global'!N170","v":110.96300148604904},{"$f":"+'[1]itcer global'!O170","v":146.73278174508602},null,{"$f":"+'[1]itcer global'!AS170","v":0.39307074785166662},{"$f":"+'[1]itcer global'!AT170","v":0.50538258691446458},{"$f":"+'[1]itcer global'!AU170","v":-0.38988121121370511},{"$f":"+'[1]itcer global'!AV170","v":0.37034861310650058},{"$f":"+'[1]itcer global'!AW170","v":0.75173390668454942},{"$f":"+'[1]itcer global'!AX170","v":1.2207664199569166},null,{"$f":"+'[1]itcer global'!AZ170","v":1.439205056531087},{"$f":"+'[1]itcer global'!BA170","v":0.96942179995819189},{"$f":"+'[1]itcer global'!BB170","v":0.99235432473410479},{"$f":"+'[1]itcer global'!BC170","v":1.223163907832153},{"$f":"+'[1]itcer global'!BD170","v":1.2056833998983536},{"$f":"+'[1]itcer global'!BE170","v":3.0286148481689574},null,{"$f":"+'[1]itcer global'!BG170","v":0.76284847085198648},{"$f":"+'[1]itcer global'!BH170","v":1.0503131826068421},{"$f":"+'[1]itcer global'!BI170","v":0.87041526721969043},{"$f":"+'[1]itcer global'!BJ170","v":0.83018872740326266},{"$f":"+'[1]itcer global'!BK170","v":0.92033282945924189},{"$f":"+'[1]itcer global'!BL170","v":0.48448808812318223}]
[null,"Julio",{"$f":"+'[1]itcer global'!J171","v":109.4596404729425},{"$f":"+'[1]itcer global'!K171","v":101.86055029741469},{"$f":"+'[1]itcer global'!L171","v":85.623731310187779},{"$f":"+'[1]itcer global'!M171","v":100.78113738106558},{"$f":"+'[1]itcer global'!N171","v":110.82561861025518},{"$f":"+'[1]itcer global'!O171","v":135.87919015763848},null,{"$f":"+'[1]itcer global'!AS171","v":-0.30048144459139792},{"$f":"+'[1]itcer global'!AT171","v":4.0169748492616009E-2},{"$f":"+'[1]itcer global'!AU171","v":-0.87096398866763991},{"$f":"+'[1]itcer global'!AV171","v":-0.75291372072052809},{"$f":"+'[1]itcer global'!AW171","v":-0.12380962478843571},{"$f":"+'[1]itcer global'!AX171","v":-7.3968416998344111},null,{"$f":"+'[1]itcer global'!AZ171","v":1.4533969365040267},{"$f":"+'[1]itcer global'!BA171","v":0.97071278844306552},{"$f":"+'[1]itcer global'!BB171","v":0.98733155283423446},{"$f":"+'[1]itcer global'!BC171","v":1.2294498995638217},{"$f":"+'[1]itcer global'!BD171","v":1.2090245352489069},{"$f":"+'[1]itcer global'!BE171","v":2.8249335186954521},null,{"$f":"+'[1]itcer global'!BG171","v":0.75312970410020685},{"$f":"+'[1]itcer global'!BH171","v":1.0493376775306493},{"$f":"+'[1]itcer global'!BI171","v":0.86722369060723581},{"$f":"+'[1]itcer global'!BJ171","v":0.8197254513325043},{"$f":"+'[1]itcer global'!BK171","v":0.91665318096658022},{"$f":"+'[1]itcer global'!BL171","v":0.48099960320619217}]
[null,"Agosto",{"$f":"+'[1]itcer global'!J172","v":109.34285164982451},{"$f":"+'[1]itcer global'!K172","v":101.73920706925176},{"$f":"+'[1]itcer global'!L172","v":85.683369354793925},{"$f":"+'[1]itcer global'!M172","v":100.9949535230059},{"$f":"+'[1]itcer global'!N172","v":111.06203939103555},{"$f":"+'[1]itcer global'!O172","v":124.41207002008899},null,{"$f":"+'[1]itcer global'!AS172","v":-0.10669578541768487},{"$f":"+'[1]itcer global'!AT172","v":-0.11912681387312318},{"$f":"+'[1]itcer global'!AU172","v":6.9651303083361427E-2},{"$f":"+'[1]itcer global'!AV172","v":0.21215888954682782},{"$f":"+'[1]itcer global'!AW172","v":0.21332683159820931},{"$f":"+'[1]itcer global'!AX172","v":-8.4392025918362208},null,{"$f":"+'[1]itcer global'!AZ172","v":1.4634047094814679},{"$f":"+'[1]itcer global'!BA172","v":0.96936816190287345},{"$f":"+'[1]itcer global'!BB172","v":0.98892411571289041},{"$f":"+'[1]itcer global'!BC172","v":1.2341569390678968},{"$f":"+'[1]itcer global'!BD172","v":1.2109803819660878},{"$f":"+'[1]itcer global'!BE172","v":2.5972171456488349},null,{"$f":"+'[1]itcer global'!BG172","v":0.74718122021466127},{"$f":"+'[1]itcer global'!BH172","v":1.0495414546062385},{"$f":"+'[1]itcer global'!BI172","v":0.86643017389688137},{"$f":"+'[1]itcer global'!BJ172","v":0.81833152920796959},{"$f":"+'[1]itcer global'!BK172","v":0.91712500916588513},{"$f":"+'[1]itcer global'!BL172","v":0.47902067113840985}]
[null,"Septiembre",{"$f":"+'[1]itcer global'!J173","v":109.75987319047756},{"$f":"+'[1]itcer global'!K173","v":101.8870506043109},{"$f":"+'[1]itcer global'!L173","v":85.139617503030209},{"$f":"+'[1]itcer global'!M173","v":101.63171429530826},{"$f":"+'[1]itcer global'!N173","v":110.82190641189534},{"$f":"+'[1]itcer global'!O173","v":112.99902750582548},null,{"$f":"+'[1]itcer global'!AS173","v":0.38138893796970308},{"$f":"+'[1]itcer global'!AT173","v":0.14531618568494764},{"$f":"+'[1]itcer global'!AU173","v":-0.63460605699593486},{"$f":"+'[1]itcer global'!AV173","v":0.63048771259377645},{"$f":"+'[1]itcer global'!AW173","v":-0.21621517167962168},{"$f":"+'[1]itcer global'!AX173","v":-9.1735813996347986},null,{"$f":"+'[1]itcer global'!AZ173","v":1.4762287051347351},{"$f":"+'[1]itcer global'!BA173","v":0.96915308999621341},{"$f":"+'[1]itcer global'!BB173","v":0.98739875229704854},{"$f":"+'[1]itcer global'!BC173","v":1.2396899248898421},{"$f":"+'[1]itcer global'!BD173","v":1.2114929507814667},{"$f":"+'[1]itcer global'!BE173","v":2.3263039679515898},null,{"$f":"+'[1]itcer global'!BG173","v":0.74351537000128864},{"$f":"+'[1]itcer global'!BH173","v":1.0512998581545976},{"$f":"+'[1]itcer global'!BI173","v":0.86226174891313678},{"$f":"+'[1]itcer global'!BJ173","v":0.81981560271484155},{"$f":"+'[1]itcer global'!BK173","v":0.91475485961689085},{"$f":"+'[1]itcer global'!BL173","v":0.48574489431544909}]
[null,"Octubre",{"$f":"+'[1]itcer global'!J174","v":111.24507025876697},{"$f":"+'[1]itcer global'!K174","v":102.61716942462583},{"$f":"+'[1]itcer global'!L174","v":84.368291511640621},{"$f":"+'[1]itcer global'!M174","v":102.15202960304953},{"$f":"+'[1]itcer global'!N174","v":110.59903766448443},{"$f":"+'[1]itcer global'!O174","v":98.309713466868004},null,{"$f":"+'[1]itcer global'!AS174","v":1.3531330030893969},{"$f":"+'[1]itcer global'!AT174","v":0.71659628577376111},{"$f":"+'[1]itcer global'!AU174","v":-0.90595425961613785},{"$f":"+'[1]itcer global'!AV174","v":0.51196155781589425},{"$f":"+'[1]itcer global'!AW174","v":-0.20110531809710608},{"$f":"+'[1]itcer global'!AX174","v":-12.999504830428904},null,{"$f":"+'[1]itcer global'!AZ174","v":1.4991784358574283},{"$f":"+'[1]itcer global'!BA174","v":0.97381579746195723},{"$f":"+'[1]itcer global'!BB174","v":0.9827138844360116},{"$f":"+'[1]itcer global'!BC174","v":1.2498809798765713},{"$f":"+'[1]itcer global'!BD174","v":1.2187766636478403},{"$f":"+'[1]itcer global'!BE174","v":2.0409451437232176},null,{"$f":"+'[1]itcer global'!BG174","v":0.74204022415211923},{"$f":"+'[1]itcer global'!BH174","v":1.0537636552218146},{"$f":"+'[1]itcer global'!BI174","v":0.85852345069959357},{"$f":"+'[1]itcer global'!BJ174","v":0.81729405637597019},{"$f":"+'[1]itcer global'!BK174","v":0.90745943012608832},{"$f":"+'[1]itcer global'!BL174","v":0.48168719168769708}]
[null,"Noviembre",{"$f":"+'[1]itcer global'!J175","v":112.00328118112451},{"$f":"+'[1]itcer global'!K175","v":103.73018989112455},{"$f":"+'[1]itcer global'!L175","v":83.611556502485286},{"$f":"+'[1]itcer global'!M175","v":102.44952921312817},{"$f":"+'[1]itcer global'!N175","v":110.93165285216249},{"$f":"+'[1]itcer global'!O175","v":92.364550537805059},null,{"$f":"+'[1]itcer global'!AS175","v":0.68156810957454184},{"$f":"+'[1]itcer global'!AT175","v":1.0846337632770826},{"$f":"+'[1]itcer global'!AU175","v":-0.89694243607021917},{"$f":"+'[1]itcer global'!AV175","v":0.29123220677521999},{"$f":"+'[1]itcer global'!AW175","v":0.30073967613270725},{"$f":"+'[1]itcer global'!AX175","v":-6.0473809956394149},null,{"$f":"+'[1]itcer global'!AZ175","v":1.5277407336668494},{"$f":"+'[1]itcer global'!BA175","v":0.98043412398782703},{"$f":"+'[1]itcer global'!BB175","v":0.98122295567370699},{"$f":"+'[1]itcer global'!BC175","v":1.2617615543059777},{"$f":"+'[1]itcer global'!BD175","v":1.2285750172336318},{"$f":"+'[1]itcer global'!BE175","v":1.8839089203886394},null,{"$f":"+'[1]itcer global'!BG175","v":0.73313016215975824},{"$f":"+'[1]itcer global'!BH175","v":1.0580026475334352},{"$f":"+'[1]itcer global'!BI175","v":0.852115780812299},{"$f":"+'[1]itcer global'!BJ175","v":0.8119563388462866},{"$f":"+'[1]itcer global'!BK175","v":0.90292942063844006},{"$f":"+'[1]itcer global'!BL175","v":0.49028140128319359}]
[null,"Diciembre",{"$f":"+'[1]itcer global'!J176","v":112.45398717328695},{"$f":"+'[1]itcer global'!K176","v":104.05034689711141},{"$f":"+'[1]itcer global'!L176","v":83.479792091298904},{"$f":"+'[1]itcer global'!M176","v":102.64350133164187},{"$f":"+'[1]itcer global'!N176","v":111.72073473375634},{"$f":"+'[1]itcer global'!O176","v":91.881419559811633},null,{"$f":"+'[1]itcer global'!AS176","v":0.40240427549045421},{"$f":"+'[1]itcer global'!AT176","v":0.30864399874606363},{"$f":"+'[1]itcer global'!AU176","v":-0.15759114732240675},{"$f":"+'[1]itcer global'!AV176","v":0.18933431905790599},{"$f":"+'[1]itcer global'!AW176","v":0.71132256782063052},{"$f":"+'[1]itcer global'!AX176","v":-0.523069700637663},null,{"$f":"+'[1]itcer global'!AZ176","v":1.5514637669200793},{"$f":"+'[1]itcer global'!BA176","v":0.9839187122111388},{"$f":"+'[1]itcer global'!BB176","v":0.98583275661203007},{"$f":"+'[1]itcer global'!BC176","v":1.269978595610965},{"$f":"+'[1]itcer global'!BD176","v":1.2343015485388489},{"$f":"+'[1]itcer global'!BE176","v":1.8495407361408465},null,{"$f":"+'[1]itcer global'!BG176","v":0.72482509466867762},{"$f":"+'[1]itcer global'!BH176","v":1.0575095849461116},{"$f":"+'[1]itcer global'!BI176","v":0.84679466706087547},{"$f":"+'[1]itcer global'!BJ176","v":0.80823016770815603},{"$f":"+'[1]itcer global'!BK176","v":0.90513322993080569},{"$f":"+'[1]itcer global'!BL176","v":0.49677964785748124}]
[2005,"Enero",{"$f":"+'[1]itcer global'!J177","v":110.74713975262615},{"$f":"+'[1]itcer global'!K177","v":102.71939366449487},{"$f":"+'[1]itcer global'!L177","v":82.217110498177419},{"$f":"+'[1]itcer global'!M177","v":102.35845653855648},{"$f":"+'[1]itcer global'!N177","v":112.37267169057105},{"$f":"+'[1]itcer global'!O177","v":94.03646055656472},null,{"$f":"+'[1]itcer global'!AS177","v":-1.5178184994282304},{"$f":"+'[1]itcer global'!AT177","v":-1.2791434841948472},{"$f":"+'[1]itcer global'!AU177","v":-1.512559580575541},{"$f":"+'[1]itcer global'!AV177","v":-0.2777036922818894},{"$f":"+'[1]itcer global'!AW177","v":0.58354159446618326},{"$f":"+'[1]itcer global'!AX177","v":2.3454589699174448},null,{"$f":"+'[1]itcer global'!AZ177","v":1.5553051622959027},{"$f":"+'[1]itcer global'!BA177","v":0.9805988979731618},{"$f":"+'[1]itcer global'!BB177","v":0.98067215290033971},{"$f":"+'[1]itcer global'!BC177","v":1.2714056644085887},{"$f":"+'[1]itcer global'!BD177","v":1.2419007323983819},{"$f":"+'[1]itcer global'!BE177","v":1.9061473782404452},null,{"$f":"+'[1]itcer global'!BG177","v":0.71206051672293058},{"$f":"+'[1]itcer global'!BH177","v":1.0475169192705558},{"$f":"+'[1]itcer global'!BI177","v":0.83837509054397186},{"$f":"+'[1]itcer global'!BJ177","v":0.80508101705028901},{"$f":"+'[1]itcer global'!BK177","v":0.90484423399569824},{"$f":"+'[1]itcer global'!BL177","v":0.4933325808383679}]
[null,"Febrero",{"$f":"+'[1]itcer global'!J178","v":110.70235213076316},{"$f":"+'[1]itcer global'!K178","v":103.20403905743321},{"$f":"+'[1]itcer global'!L178","v":81.456755180076499},{"$f":"+'[1]itcer global'!M178","v":101.93568475916928},{"$f":"+'[1]itcer global'!N178","v":112.57378412149525},{"$f":"+'[1]itcer global'!O178","v":91.214563341685221},null,{"$f":"+'[1]itcer global'!AS178","v":-4.0441335065651174E-2},{"$f":"+'[1]itcer global'!AT178","v":0.47181488874564081},{"$f":"+'[1]itcer global'!AU178","v":-0.9248139632902479},{"$f":"+'[1]itcer global'!AV178","v":-0.4130306314534522},{"$f":"+'[1]itcer global'!AW178","v":0.17896916385326733},{"$f":"+'[1]itcer global'!AX178","v":-3.0008543475347693},null,{"$f":"+'[1]itcer global'!AZ178","v":1.5639424075157944},{"$f":"+'[1]itcer global'!BA178","v":0.9799161654115881},{"$f":"+'[1]itcer global'!BB178","v":0.97386142079992977},{"$f":"+'[1]itcer global'!BC178","v":1.2747666995617761},{"$f":"+'[1]itcer global'!BD178","v":1.2527791939459267},{"$f":"+'[1]itcer global'!BE178","v":1.8408912096654084},null,{"$f":"+'[1]itcer global'!BG178","v":0.7078416161539195},{"$f":"+'[1]itcer global'!BH178","v":1.0531925352418803},{"$f":"+'[1]itcer global'!BI178","v":0.83643066087542439},{"$f":"+'[1]itcer global'!BJ178","v":0.79964188579927209},{"$f":"+'[1]itcer global'!BK178","v":0.89859238296349142},{"$f":"+'[1]itcer global'!BL178","v":0.49549132975795962}]
[null,"Marzo",{"$f":"+'[1]itcer global'!J179","v":111.63382117094952},{"$f":"+'[1]itcer global'!K179","v":104.16947518634052},{"$f":"+'[1]itcer global'!L179","v":80.600836809160825},{"$f":"+'[1]itcer global'!M179","v":102.23920392585057},{"$f":"+'[1]itcer global'!N179","v":112.83301203262519},{"$f":"+'[1]itcer global'!O179","v":90.330322886674452},null,{"$f":"+'[1]itcer global'!AS179","v":0.84141756905589205},{"$f":"+'[1]itcer global'!AT179","v":0.93546351259570315},{"$f":"+'[1]itcer global'!AU179","v":-1.050764137392278},{"$f":"+'[1]itcer global'!AV179","v":0.29775555773072426},{"$f":"+'[1]itcer global'!AW179","v":0.23027378279311961},{"$f":"+'[1]itcer global'!AX179","v":-0.96940710191030632},null,{"$f":"+'[1]itcer global'!AZ179","v":1.5797844301095156},{"$f":"+'[1]itcer global'!BA179","v":0.98313479486081701},{"$f":"+'[1]itcer global'!BB179","v":0.96189349449945472},{"$f":"+'[1]itcer global'!BC179","v":1.2803736589965242},{"$f":"+'[1]itcer global'!BD179","v":1.2601302319931089},{"$f":"+'[1]itcer global'!BE179","v":1.8089069664924402},null,{"$f":"+'[1]itcer global'!BG179","v":0.70663958349817846},{"$f":"+'[1]itcer global'!BH179","v":1.0595645249346286},{"$f":"+'[1]itcer global'!BI179","v":0.83793930689908103},{"$f":"+'[1]itcer global'!BJ179","v":0.7985106785622188},{"$f":"+'[1]itcer global'!BK179","v":0.89540754731485739},{"$f":"+'[1]itcer global'!BL179","v":0.49936411634164574}]
[null,"Abril",{"$f":"+'[1]itcer global'!J180","v":111.41797473632072},{"$f":"+'[1]itcer global'!K180","v":104.04284257601682},{"$f":"+'[1]itcer global'!L180","v":80.241139956956033},{"$f":"+'[1]itcer global'!M180","v":101.87227206586482},{"$f":"+'[1]itcer global'!N180","v":111.50996455632351},{"$f":"+'[1]itcer global'!O180","v":90.104513475181435},null,{"$f":"+'[1]itcer global'!AS180","v":-0.19335218696694767},{"$f":"+'[1]itcer global'!AT180","v":-0.12156402832708579},{"$f":"+'[1]itcer global'!AU180","v":-0.4462693769004602},{"$f":"+'[1]itcer global'!AV180","v":-0.35889545878298179},{"$f":"+'[1]itcer global'!AW180","v":-1.1725712647989326},{"$f":"+'[1]itcer global'!AX180","v":-0.24998184914750254},null,{"$f":"+'[1]itcer global'!AZ180","v":1.5825515280107847},{"$f":"+'[1]itcer global'!BA180","v":0.98037986977628988},{"$f":"+'[1]itcer global'!BB180","v":0.95801937765825684},{"$f":"+'[1]itcer global'!BC180","v":1.2794220246548875},{"$f":"+'[1]itcer global'!BD180","v":1.2589826066403869},{"$f":"+'[1]itcer global'!BE180","v":1.7998054738416591},null,{"$f":"+'[1]itcer global'!BG180","v":0.70404010715764442},{"$f":"+'[1]itcer global'!BH180","v":1.0612502947429763},{"$f":"+'[1]itcer global'!BI180","v":0.83757324568000058},{"$f":"+'[1]itcer global'!BJ180","v":0.79623666079489241},{"$f":"+'[1]itcer global'!BK180","v":0.88571489366234724},{"$f":"+'[1]itcer global'!BL180","v":0.50063473405742365}]
[null,"Mayo",{"$f":"+'[1]itcer global'!J181","v":110.38821984540549},{"$f":"+'[1]itcer global'!K181","v":103.31744018287918},{"$f":"+'[1]itcer global'!L181","v":79.702354830275056},{"$f":"+'[1]itcer global'!M181","v":101.6887265992241},{"$f":"+'[1]itcer global'!N181","v":111.24460818326484},{"$f":"+'[1]itcer global'!O181","v":91.641523801094564},null,{"$f":"+'[1]itcer global'!AS181","v":-0.9242268972777623},{"$f":"+'[1]itcer global'!AT181","v":-0.69721508484126105},{"$f":"+'[1]itcer global'!AU181","v":-0.67145746803946338},{"$f":"+'[1]itcer global'!AV181","v":-0.18017215373585316},{"$f":"+'[1]itcer global'!AW181","v":-0.23796651188480666},{"$f":"+'[1]itcer global'!AX181","v":1.7058083625705223},null,{"$f":"+'[1]itcer global'!AZ181","v":1.5882180819620828},{"$f":"+'[1]itcer global'!BA181","v":0.97864113778807116},{"$f":"+'[1]itcer global'!BB181","v":0.95516462556453663},{"$f":"+'[1]itcer global'!BC181","v":1.2800493138283959},{"$f":"+'[1]itcer global'!BD181","v":1.263212223819639},{"$f":"+'[1]itcer global'!BE181","v":1.8258949028572322},null,{"$f":"+'[1]itcer global'!BG181","v":0.69504447216110288},{"$f":"+'[1]itcer global'!BH181","v":1.0557234536083135},{"$f":"+'[1]itcer global'!BI181","v":0.83443578936110741},{"$f":"+'[1]itcer global'!BJ181","v":0.79441257067738658},{"$f":"+'[1]itcer global'!BK181","v":0.88064860429302094},{"$f":"+'[1]itcer global'!BL181","v":0.501899225731395}]
[null,"Junio",{"$f":"+'[1]itcer global'!J182","v":109.8642397865233},{"$f":"+'[1]itcer global'!K182","v":103.0066523553772},{"$f":"+'[1]itcer global'!L182","v":79.238681848998951},{"$f":"+'[1]itcer global'!M182","v":100.61868548120155},{"$f":"+'[1]itcer global'!N182","v":110.20866011104833},{"$f":"+'[1]itcer global'!O182","v":91.759410479130992},null,{"$f":"+'[1]itcer global'!AS182","v":-0.47467026791083811},{"$f":"+'[1]itcer global'!AT182","v":-0.30080867949483547},{"$f":"+'[1]itcer global'!AU182","v":-0.58175568621967955},{"$f":"+'[1]itcer global'!AV182","v":-1.0522711354620355},{"$f":"+'[1]itcer global'!AW182","v":-0.93123441138817498},{"$f":"+'[1]itcer global'!AX182","v":0.12863893260035297},null,{"$f":"+'[1]itcer global'!AZ182","v":1.5861846097829788},{"$f":"+'[1]itcer global'!BA182","v":0.97359563651022007},{"$f":"+'[1]itcer global'!BB182","v":0.95495541475679657},{"$f":"+'[1]itcer global'!BC182","v":1.2740087775219024},{"$f":"+'[1]itcer global'!BD182","v":1.2586280694210823},{"$f":"+'[1]itcer global'!BE182","v":1.8287502972683882},null,{"$f":"+'[1]itcer global'!BG182","v":0.6926321129893882},{"$f":"+'[1]itcer global'!BH182","v":1.0580024035912563},{"$f":"+'[1]itcer global'!BI182","v":0.82976315568804926},{"$f":"+'[1]itcer global'!BJ182","v":0.78978015894770204},{"$f":"+'[1]itcer global'!BK182","v":0.87562531607720961},{"$f":"+'[1]itcer global'!BL182","v":0.50176019446827913}]
[null,"Julio",{"$f":"+'[1]itcer global'!J183","v":109.38520653543056},{"$f":"+'[1]itcer global'!K183","v":103.30383212919659},{"$f":"+'[1]itcer global'!L183","v":78.527945348492537},{"$f":"+'[1]itcer global'!M183","v":100.03643355763963},{"$f":"+'[1]itcer global'!N183","v":110.46025440378594},{"$f":"+'[1]itcer global'!O183","v":91.487775398388465},null,{"$f":"+'[1]itcer global'!AS183","v":-0.43602290610989769},{"$f":"+'[1]itcer global'!AT183","v":0.28850541884818881},{"$f":"+'[1]itcer global'!AU183","v":-0.89695649135207134},{"$f":"+'[1]itcer global'!AV183","v":-0.57867176536579734},{"$f":"+'[1]itcer global'!AW183","v":0.22828904052012433},{"$f":"+'[1]itcer global'!AX183","v":-0.29602967077072151},null,{"$f":"+'[1]itcer global'!AZ183","v":1.5938060836902286},{"$f":"+'[1]itcer global'!BA183","v":0.97255579995778541},{"$f":"+'[1]itcer global'!BB183","v":0.95129652202407267},{"$f":"+'[1]itcer global'!BC183","v":1.2723971415644073},{"$f":"+'[1]itcer global'!BD183","v":1.2657957593168652},{"$f":"+'[1]itcer global'!BE183","v":1.8277052475261457},null,{"$f":"+'[1]itcer global'!BG183","v":0.68631439956713458},{"$f":"+'[1]itcer global'!BH183","v":1.0621892557083159},{"$f":"+'[1]itcer global'!BI183","v":0.82548336433952996},{"$f":"+'[1]itcer global'!BJ183","v":0.78620448199565451},{"$f":"+'[1]itcer global'!BK183","v":0.87265464108838542},{"$f":"+'[1]itcer global'!BL183","v":0.50056088377608976}]
[null,"Agosto",{"$f":"+'[1]itcer global'!J184","v":109.64045489524861},{"$f":"+'[1]itcer global'!K184","v":103.73783519793233},{"$f":"+'[1]itcer global'!L184","v":78.758029010908416},{"$f":"+'[1]itcer global'!M184","v":99.917434324325541},{"$f":"+'[1]itcer global'!N184","v":111.01549593487246},{"$f":"+'[1]itcer global'!O184","v":91.195821065490108},null,{"$f":"+'[1]itcer global'!AS184","v":0.2333481536512636},{"$f":"+'[1]itcer global'!AT184","v":0.42012291295539228},{"$f":"+'[1]itcer global'!AU184","v":0.29299590278952792},{"$f":"+'[1]itcer global'!AV184","v":-0.11895589345007807},{"$f":"+'[1]itcer global'!AW184","v":0.50266182536284987},{"$f":"+'[1]itcer global'!AX184","v":-0.31911840858194296},null,{"$f":"+'[1]itcer global'!AZ184","v":1.611225867766179},{"$f":"+'[1]itcer global'!BA184","v":0.97467917980555141},{"$f":"+'[1]itcer global'!BB184","v":0.953386856961707},{"$f":"+'[1]itcer global'!BC184","v":1.2755806044634799},{"$f":"+'[1]itcer global'!BD184","v":1.2745327680430112},{"$f":"+'[1]itcer global'!BE184","v":1.8387313649305415},null,{"$f":"+'[1]itcer global'!BG184","v":0.68047849211392886},{"$f":"+'[1]itcer global'!BH184","v":1.0643280101523049},{"$f":"+'[1]itcer global'!BI184","v":0.82608679190205958},{"$f":"+'[1]itcer global'!BJ184","v":0.78330945119968842},{"$f":"+'[1]itcer global'!BK184","v":0.87102896620956904},{"$f":"+'[1]itcer global'!BL184","v":0.4959714224972448}]
[null,"Septiembre",{"$f":"+'[1]itcer global'!J185","v":110.88780835105091},{"$f":"+'[1]itcer global'!K185","v":103.92309925970805},{"$f":"+'[1]itcer global'!L185","v":78.977968183230246},{"$f":"+'[1]itcer global'!M185","v":100.33087782001316},{"$f":"+'[1]itcer global'!N185","v":111.29954324033717},{"$f":"+'[1]itcer global'!O185","v":93.436241334310878},null,{"$f":"+'[1]itcer global'!AS185","v":1.1376762865440924},{"$f":"+'[1]itcer global'!AT185","v":0.17858871010972166},{"$f":"+'[1]itcer global'!AU185","v":0.27925936578651545},{"$f":"+'[1]itcer global'!AV185","v":0.41378514018444434},{"$f":"+'[1]itcer global'!AW185","v":0.25586275417923332},{"$f":"+'[1]itcer global'!AX185","v":2.4567137426306829},null,{"$f":"+'[1]itcer global'!AZ185","v":1.6183413740330053},{"$f":"+'[1]itcer global'!BA185","v":0.97230983576849861},{"$f":"+'[1]itcer global'!BB185","v":0.95619329422741595},{"$f":"+'[1]itcer global'!BC185","v":1.2741639545778374},{"$f":"+'[1]itcer global'!BD185","v":1.2768745408443791},{"$f":"+'[1]itcer global'!BE185","v":1.92637985898071},null,{"$f":"+'[1]itcer global'!BG185","v":0.68519417553239526},{"$f":"+'[1]itcer global'!BH185","v":1.0688269874136249},{"$f":"+'[1]itcer global'!BI185","v":0.82596237246196946},{"$f":"+'[1]itcer global'!BJ185","v":0.78742517758050457},{"$f":"+'[1]itcer global'!BK185","v":0.87165606079620284},{"$f":"+'[1]itcer global'!BL185","v":0.48503539371383397}]
[null,"Octubre",{"$f":"+'[1]itcer global'!J186","v":109.98319839354275},{"$f":"+'[1]itcer global'!K186","v":102.02731473900157},{"$f":"+'[1]itcer global'!L186","v":78.184945343093972},{"$f":"+'[1]itcer global'!M186","v":100.42376471312645},{"$f":"+'[1]itcer global'!N186","v":110.75633558696188},{"$f":"+'[1]itcer global'!O186","v":98.205265137739644},null,{"$f":"+'[1]itcer global'!AS186","v":-0.81578847211437733},{"$f":"+'[1]itcer global'!AT186","v":-1.8242186137740504},{"$f":"+'[1]itcer global'!AU186","v":-1.0041064088866563},{"$f":"+'[1]itcer global'!AV186","v":9.2580564559511913E-2},{"$f":"+'[1]itcer global'!AW186","v":-0.48805919374017037},{"$f":"+'[1]itcer global'!AX186","v":5.1040407183818672},null,{"$f":"+'[1]itcer global'!AZ186","v":1.6186315084997225},{"$f":"+'[1]itcer global'!BA186","v":0.96716428704884339},{"$f":"+'[1]itcer global'!BB186","v":0.95906102241862623},{"$f":"+'[1]itcer global'!BC186","v":1.2689380668344306},{"$f":"+'[1]itcer global'!BD186","v":1.2742990542306758},{"$f":"+'[1]itcer global'!BE186","v":2.0426507840840653},null,{"$f":"+'[1]itcer global'!BG186","v":0.67948262353723732},{"$f":"+'[1]itcer global'!BH186","v":1.0549119328043286},{"$f":"+'[1]itcer global'!BI186","v":0.81522388581616823},{"$f":"+'[1]itcer global'!BJ186","v":0.79140004810202913},{"$f":"+'[1]itcer global'!BK186","v":0.8691549697007982},{"$f":"+'[1]itcer global'!BL186","v":0.48077363934616657}]
[null,"Noviembre",{"$f":"+'[1]itcer global'!J187","v":108.0120584092095},{"$f":"+'[1]itcer global'!K187","v":102.98684611856979},{"$f":"+'[1]itcer global'!L187","v":77.017466090428655},{"$f":"+'[1]itcer global'!M187","v":99.516783466976619},{"$f":"+'[1]itcer global'!N187","v":110.95054788060503},{"$f":"+'[1]itcer global'!O187","v":100.75245830526787},null,{"$f":"+'[1]itcer global'!AS187","v":-1.792219187225399},{"$f":"+'[1]itcer global'!AT187","v":0.94046519015307695},{"$f":"+'[1]itcer global'!AU187","v":-1.493227689220916},{"$f":"+'[1]itcer global'!AV187","v":-0.90315399820026698},{"$f":"+'[1]itcer global'!AW187","v":0.17535095632578646},{"$f":"+'[1]itcer global'!AX187","v":2.5937439952487438},null,{"$f":"+'[1]itcer global'!AZ187","v":1.6228282250589812},{"$f":"+'[1]itcer global'!BA187","v":0.9659900774467024},{"$f":"+'[1]itcer global'!BB187","v":0.94906670841608698},{"$f":"+'[1]itcer global'!BC187","v":1.2664665128103285},{"$f":"+'[1]itcer global'!BD187","v":1.2759529697320922},{"$f":"+'[1]itcer global'!BE187","v":2.0895542984835607},null,{"$f":"+'[1]itcer global'!BG187","v":0.66557912132249131},{"$f":"+'[1]itcer global'!BH187","v":1.0661273704879439},{"$f":"+'[1]itcer global'!BI187","v":0.81150740414195299},{"$f":"+'[1]itcer global'!BJ187","v":0.78578298328745999},{"$f":"+'[1]itcer global'!BK187","v":0.869550449840647},{"$f":"+'[1]itcer global'!BL187","v":0.48217200375403663}]
[null,"Diciembre",{"$f":"+'[1]itcer global'!J188","v":107.80720952645856},{"$f":"+'[1]itcer global'!K188","v":103.2128422820979},{"$f":"+'[1]itcer global'!L188","v":77.143835584878602},{"$f":"+'[1]itcer global'!M188","v":99.031360851965687},{"$f":"+'[1]itcer global'!N188","v":110.86653308497534},{"$f":"+'[1]itcer global'!O188","v":99.382273541052442},null,{"$f":"+'[1]itcer global'!AS188","v":-0.18965371623124838},{"$f":"+'[1]itcer global'!AT188","v":0.21944177537771736},{"$f":"+'[1]itcer global'!AU188","v":0.16407900813248943},{"$f":"+'[1]itcer global'!AV188","v":-0.48777964690953013},{"$f":"+'[1]itcer global'!AW188","v":-7.5722740657482746E-2},{"$f":"+'[1]itcer global'!AX188","v":-1.3599516947407153},null,{"$f":"+'[1]itcer global'!AZ188","v":1.6365135261488282},{"$f":"+'[1]itcer global'!BA188","v":0.96662150904805688},{"$f":"+'[1]itcer global'!BB188","v":0.95036724892798974},{"$f":"+'[1]itcer global'!BC188","v":1.2673128520851717},{"$f":"+'[1]itcer global'!BD188","v":1.2784224560032489},{"$f":"+'[1]itcer global'!BE188","v":2.0842346474319147},null,{"$f":"+'[1]itcer global'!BG188","v":0.65876149389463923},{"$f":"+'[1]itcer global'!BH188","v":1.0677689386794571},{"$f":"+'[1]itcer global'!BI188","v":0.81172657908715318},{"$f":"+'[1]itcer global'!BJ188","v":0.78142789042993244},{"$f":"+'[1]itcer global'!BK188","v":0.86721359253637531},{"$f":"+'[1]itcer global'!BL188","v":0.47682862226432188}]
[2006,"Enero",{"$f":"+'[1]itcer global'!J189","v":108.28524341600553},{"$f":"+'[1]itcer global'!K189","v":103.54329512080319},{"$f":"+'[1]itcer global'!L189","v":77.2118940119759},{"$f":"+'[1]itcer global'!M189","v":99.570241506870886},{"$f":"+'[1]itcer global'!N189","v":111.20379043788506},{"$f":"+'[1]itcer global'!O189","v":103.13621348252052},null,{"$f":"+'[1]itcer global'!AS189","v":0.44341551149196334},{"$f":"+'[1]itcer global'!AT189","v":0.32016639731915575},{"$f":"+'[1]itcer global'!AU189","v":8.8222768003817009E-2},{"$f":"+'[1]itcer global'!AV189","v":0.54415151954816565},{"$f":"+'[1]itcer global'!AW189","v":0.30420122603744915},{"$f":"+'[1]itcer global'!AX189","v":3.7772731571867411},null,{"$f":"+'[1]itcer global'!AZ189","v":1.6553889327403259},{"$f":"+'[1]itcer global'!BA189","v":0.96893580489053588},{"$f":"+'[1]itcer global'!BB189","v":0.95436435005883036},{"$f":"+'[1]itcer global'!BC189","v":1.271109657126932},{"$f":"+'[1]itcer global'!BD189","v":1.2904273364570296},{"$f":"+'[1]itcer global'!BE189","v":2.1848057295166479},null,{"$f":"+'[1]itcer global'!BG189","v":0.65413777556643726},{"$f":"+'[1]itcer global'!BH189","v":1.0686290525975644},{"$f":"+'[1]itcer global'!BI189","v":0.80904000665171849},{"$f":"+'[1]itcer global'!BJ189","v":0.78333321557738644},{"$f":"+'[1]itcer global'!BK189","v":0.86175941330570283},{"$f":"+'[1]itcer global'!BL189","v":0.47206125509995672}]
[null,"Febrero",{"$f":"+'[1]itcer global'!J190","v":107.90588889814441},{"$f":"+'[1]itcer global'!K190","v":103.11972496348432},{"$f":"+'[1]itcer global'!L190","v":77.20947603825843},{"$f":"+'[1]itcer global'!M190","v":98.906189308484358},{"$f":"+'[1]itcer global'!N190","v":110.23812071130614},{"$f":"+'[1]itcer global'!O190","v":102.04142852029695},null,{"$f":"+'[1]itcer global'!AS190","v":-0.35032891453522552},{"$f":"+'[1]itcer global'!AT190","v":-0.40907540833494238},{"$f":"+'[1]itcer global'!AU190","v":-3.1316078285783533E-3},{"$f":"+'[1]itcer global'!AV190","v":-0.66691833658020983},{"$f":"+'[1]itcer global'!AW190","v":-0.86837842736872517},{"$f":"+'[1]itcer global'!AX190","v":-1.0614942368512743},null,{"$f":"+'[1]itcer global'!AZ190","v":1.6603928707497846},{"$f":"+'[1]itcer global'!BA190","v":0.96725968762241554},{"$f":"+'[1]itcer global'!BB190","v":0.95149807588346202},{"$f":"+'[1]itcer global'!BC190","v":1.2684012000644185},{"$f":"+'[1]itcer global'!BD190","v":1.2942398135229722},{"$f":"+'[1]itcer global'!BE190","v":2.1553710115596747},null,{"$f":"+'[1]itcer global'!BG190","v":0.64988166836332695},{"$f":"+'[1]itcer global'!BH190","v":1.0661017540900422},{"$f":"+'[1]itcer global'!BI190","v":0.811451730646641},{"$f":"+'[1]itcer global'!BJ190","v":0.77977054344840724},{"$f":"+'[1]itcer global'!BK190","v":0.85175961641323328},{"$f":"+'[1]itcer global'!BL190","v":0.47342860218973382}]
[null,"Marzo",{"$f":"+'[1]itcer global'!J191","v":108.78517374877765},{"$f":"+'[1]itcer global'!K191","v":103.08637970280473},{"$f":"+'[1]itcer global'!L191","v":77.104190642015624},{"$f":"+'[1]itcer global'!M191","v":99.11954235388653},{"$f":"+'[1]itcer global'!N191","v":110.13534477580097},{"$f":"+'[1]itcer global'!O191","v":97.515547224314957},null,{"$f":"+'[1]itcer global'!AS191","v":0.81486271010030009},{"$f":"+'[1]itcer global'!AT191","v":-3.2336452304733143E-2},{"$f":"+'[1]itcer global'!AU191","v":-0.13636330881281822},{"$f":"+'[1]itcer global'!AV191","v":0.21571253214167996},{"$f":"+'[1]itcer global'!AW191","v":-9.3230848677393396E-2},{"$f":"+'[1]itcer global'!AX191","v":-4.4353370602624835},null,{"$f":"+'[1]itcer global'!AZ191","v":1.6686995452825839},{"$f":"+'[1]itcer global'!BA191","v":0.96602754411881409},{"$f":"+'[1]itcer global'!BB191","v":0.95058992735484682},{"$f":"+'[1]itcer global'!BC191","v":1.2677990955342135},{"$f":"+'[1]itcer global'!BD191","v":1.2962153535799219},{"$f":"+'[1]itcer global'!BE191","v":2.051584394431095},null,{"$f":"+'[1]itcer global'!BG191","v":0.65191588297793635},{"$f":"+'[1]itcer global'!BH191","v":1.067116360505409},{"$f":"+'[1]itcer global'!BI191","v":0.811119373593292},{"$f":"+'[1]itcer global'!BJ191","v":0.78182373455725229},{"$f":"+'[1]itcer global'!BK191","v":0.84966857144244023},{"$f":"+'[1]itcer global'!BL191","v":0.4753182344777781}]
[null,"Abril",{"$f":"+'[1]itcer global'!J192","v":109.90434733772865},{"$f":"+'[1]itcer global'!K192","v":103.23866559522925},{"$f":"+'[1]itcer global'!L192","v":76.665399130957113},{"$f":"+'[1]itcer global'!M192","v":99.42686344294458},{"$f":"+'[1]itcer global'!N192","v":109.71676697515262},{"$f":"+'[1]itcer global'!O192","v":96.340930075429014},null,{"$f":"+'[1]itcer global'!AS192","v":1.0287923899772835},{"$f":"+'[1]itcer global'!AT192","v":0.14772649196098087},{"$f":"+'[1]itcer global'!AU192","v":-0.56908905651543762},{"$f":"+'[1]itcer global'!AV192","v":0.3100509564106062},{"$f":"+'[1]itcer global'!AW192","v":-0.38005764770649364},{"$f":"+'[1]itcer global'!AX192","v":-1.2045434623711486},null,{"$f":"+'[1]itcer global'!AZ192","v":1.6807195887012447},{"$f":"+'[1]itcer global'!BA192","v":0.96676879289362683},{"$f":"+'[1]itcer global'!BB192","v":0.9464896159815579},{"$f":"+'[1]itcer global'!BC192","v":1.2692341309125155},{"$f":"+'[1]itcer global'!BD192","v":1.3006872573157577},{"$f":"+'[1]itcer global'!BE192","v":2.0239973038889856},null,{"$f":"+'[1]itcer global'!BG192","v":0.6539124555730077},{"$f":"+'[1]itcer global'!BH192","v":1.0678733773173061},{"$f":"+'[1]itcer global'!BI192","v":0.80999725550555768},{"$f":"+'[1]itcer global'!BJ192","v":0.78336109171175261},{"$f":"+'[1]itcer global'!BK192","v":0.84352919088002976},{"$f":"+'[1]itcer global'!BL192","v":0.47599337158362753}]
[null,"Mayo",{"$f":"+'[1]itcer global'!J193","v":110.09275840198664},{"$f":"+'[1]itcer global'!K193","v":104.18506385155413},{"$f":"+'[1]itcer global'!L193","v":76.797375495307449},{"$f":"+'[1]itcer global'!M193","v":99.822272961807556},{"$f":"+'[1]itcer global'!N193","v":110.41419792280328},{"$f":"+'[1]itcer global'!O193","v":98.03831073159084},null,{"$f":"+'[1]itcer global'!AS193","v":0.17143185763073632},{"$f":"+'[1]itcer global'!AT193","v":0.91670911365268637},{"$f":"+'[1]itcer global'!AU193","v":0.17214593003669165},{"$f":"+'[1]itcer global'!AV193","v":0.39768881886723761},{"$f":"+'[1]itcer global'!AW193","v":0.63566487318078657},{"$f":"+'[1]itcer global'!AX193","v":1.7618479028932938},null,{"$f":"+'[1]itcer global'!AZ193","v":1.704234211216167},{"$f":"+'[1]itcer global'!BA193","v":0.97202922251090085},{"$f":"+'[1]itcer global'!BB193","v":0.95043907690587559},{"$f":"+'[1]itcer global'!BC193","v":1.2770251431802888},{"$f":"+'[1]itcer global'!BD193","v":1.3144193176928178},{"$f":"+'[1]itcer global'!BE193","v":2.0639153026758574},null,{"$f":"+'[1]itcer global'!BG193","v":0.64599547220345266},{"$f":"+'[1]itcer global'!BH193","v":1.071830572978332},{"$f":"+'[1]itcer global'!BI193","v":0.80801997057316777},{"$f":"+'[1]itcer global'!BJ193","v":0.7816782112309183},{"$f":"+'[1]itcer global'!BK193","v":0.84002263536883948},{"$f":"+'[1]itcer global'!BL193","v":0.47501130789855844}]
[null,"Junio",{"$f":"+'[1]itcer global'!J194","v":109.26895871076009},{"$f":"+'[1]itcer global'!K194","v":103.16236875260152},{"$f":"+'[1]itcer global'!L194","v":76.423108243312086},{"$f":"+'[1]itcer global'!M194","v":99.441472844550574},{"$f":"+'[1]itcer global'!N194","v":110.49380443317494},{"$f":"+'[1]itcer global'!O194","v":97.815433845068},null,{"$f":"+'[1]itcer global'!AS194","v":-0.74827781879946542},{"$f":"+'[1]itcer global'!AT194","v":-0.98161392923825019},{"$f":"+'[1]itcer global'!AU194","v":-0.48734380515156772},{"$f":"+'[1]itcer global'!AV194","v":-0.38147810699790341},{"$f":"+'[1]itcer global'!AW194","v":7.2098074223504227E-2},{"$f":"+'[1]itcer global'!AX194","v":-0.22733652269165816},null,{"$f":"+'[1]itcer global'!AZ194","v":1.7040933962235676},{"$f":"+'[1]itcer global'!BA194","v":0.96754648770671448},{"$f":"+'[1]itcer global'!BB194","v":0.9489002756391951},{"$f":"+'[1]itcer global'!BC194","v":1.2721212408567457},{"$f":"+'[1]itcer global'!BD194","v":1.3152412067836066},{"$f":"+'[1]itcer global'!BE194","v":2.0714024743560606},null,{"$f":"+'[1]itcer global'!BG194","v":0.64121461272551394},{"$f":"+'[1]itcer global'!BH194","v":1.0662264817592144},{"$f":"+'[1]itcer global'!BI194","v":0.80538608961655345},{"$f":"+'[1]itcer global'!BJ194","v":0.78169807759501719},{"$f":"+'[1]itcer global'!BK194","v":0.84010297018738567},{"$f":"+'[1]itcer global'!BL194","v":0.47221838853637554}]
[null,"Julio",{"$f":"+'[1]itcer global'!J195","v":109.44445788416854},{"$f":"+'[1]itcer global'!K195","v":102.45038961829479},{"$f":"+'[1]itcer global'!L195","v":76.318068560908173},{"$f":"+'[1]itcer global'!M195","v":99.393049963759054},{"$f":"+'[1]itcer global'!N195","v":110.72135360762259},{"$f":"+'[1]itcer global'!O195","v":97.362025290045281},null,{"$f":"+'[1]itcer global'!AS195","v":0.16061210382081015},{"$f":"+'[1]itcer global'!AT195","v":-0.69015392232235229},{"$f":"+'[1]itcer global'!AU195","v":-0.13744492316315871},{"$f":"+'[1]itcer global'!AV195","v":-4.8694854778759122E-2},{"$f":"+'[1]itcer global'!AW195","v":0.20593840135649089},{"$f":"+'[1]itcer global'!AX195","v":-0.46353477891932471},null,{"$f":"+'[1]itcer global'!AZ195","v":1.7186120345655929},{"$f":"+'[1]itcer global'!BA195","v":0.96982363679101846},{"$f":"+'[1]itcer global'!BB195","v":0.94839143373292145},{"$f":"+'[1]itcer global'!BC195","v":1.2737224105598204},{"$f":"+'[1]itcer global'!BD195","v":1.3197614628766092},{"$f":"+'[1]itcer global'!BE195","v":2.076068229665101},null,{"$f":"+'[1]itcer global'!BG195","v":0.63681887292167372},{"$f":"+'[1]itcer global'!BH195","v":1.0563816526197043},{"$f":"+'[1]itcer global'!BI195","v":0.80471064843464502},{"$f":"+'[1]itcer global'!BJ195","v":0.78033525311118834},{"$f":"+'[1]itcer global'!BK195","v":0.8389497399498963},{"$f":"+'[1]itcer global'!BL195","v":0.46897314788999567}]
[null,"Agosto",{"$f":"+'[1]itcer global'!J196","v":109.57016888316365},{"$f":"+'[1]itcer global'!K196","v":103.43347475146258},{"$f":"+'[1]itcer global'!L196","v":76.36198447008843},{"$f":"+'[1]itcer global'!M196","v":99.343375008955192},{"$f":"+'[1]itcer global'!N196","v":111.50637587698223},{"$f":"+'[1]itcer global'!O196","v":97.260075096197625},null,{"$f":"+'[1]itcer global'!AS196","v":0.11486282761632083},{"$f":"+'[1]itcer global'!AT196","v":0.95957188335790988},{"$f":"+'[1]itcer global'!AU196","v":5.7543265976661928E-2},{"$f":"+'[1]itcer global'!AV196","v":-4.9978298102303143E-2},{"$f":"+'[1]itcer global'!AW196","v":0.70900710999399053},{"$f":"+'[1]itcer global'!AX196","v":-0.10471248265835698},null,{"$f":"+'[1]itcer global'!AZ196","v":1.7321898672657448},{"$f":"+'[1]itcer global'!BA196","v":0.97108359610173034},{"$f":"+'[1]itcer global'!BB196","v":0.95017128544902074},{"$f":"+'[1]itcer global'!BC196","v":1.2752570731031108},{"$f":"+'[1]itcer global'!BD196","v":1.3280648141116462},{"$f":"+'[1]itcer global'!BE196","v":2.0729718640300199},null,{"$f":"+'[1]itcer global'!BG196","v":0.63255287976092223},{"$f":"+'[1]itcer global'!BH196","v":1.0651346101064911},{"$f":"+'[1]itcer global'!BI196","v":0.80366546158045815},{"$f":"+'[1]itcer global'!BJ196","v":0.77900665759273779},{"$f":"+'[1]itcer global'!BK196","v":0.83961546674640108},{"$f":"+'[1]itcer global'!BL196","v":0.46918183880757752}]
[null,"Septiembre",{"$f":"+'[1]itcer global'!J197","v":109.7636082777362},{"$f":"+'[1]itcer global'!K197","v":102.95665692202084},{"$f":"+'[1]itcer global'!L197","v":76.577711718847141},{"$f":"+'[1]itcer global'!M197","v":98.849449160047456},{"$f":"+'[1]itcer global'!N197","v":111.60544363941314},{"$f":"+'[1]itcer global'!O197","v":98.798427444622092},null,{"$f":"+'[1]itcer global'!AS197","v":0.17654384997692318},{"$f":"+'[1]itcer global'!AT197","v":-0.46098985902530387},{"$f":"+'[1]itcer global'!AU197","v":0.28250607976696074},{"$f":"+'[1]itcer global'!AV197","v":-0.49719052615557757},{"$f":"+'[1]itcer global'!AW197","v":8.8844930751051265E-2},{"$f":"+'[1]itcer global'!AX197","v":1.5816894516099467},null,{"$f":"+'[1]itcer global'!AZ197","v":1.7359729452192989},{"$f":"+'[1]itcer global'!BA197","v":0.9685412625171983},{"$f":"+'[1]itcer global'!BB197","v":0.95092336000553512},{"$f":"+'[1]itcer global'!BC197","v":1.2725391249219364},{"$f":"+'[1]itcer global'!BD197","v":1.3265850335607547},{"$f":"+'[1]itcer global'!BE197","v":2.0881934578737775},null,{"$f":"+'[1]itcer global'!BG197","v":0.63228870346173616},{"$f":"+'[1]itcer global'!BH197","v":1.0630074412569763},{"$f":"+'[1]itcer global'!BI197","v":0.80529845978756265},{"$f":"+'[1]itcer global'!BJ197","v":0.7767890764546147},{"$f":"+'[1]itcer global'!BK197","v":0.84129882982206772},{"$f":"+'[1]itcer global'!BL197","v":0.47312870879894325}]
[null,"Octubre",{"$f":"+'[1]itcer global'!J198","v":109.02149759337091},{"$f":"+'[1]itcer global'!K198","v":103.09460018007232},{"$f":"+'[1]itcer global'!L198","v":76.440517207135073},{"$f":"+'[1]itcer global'!M198","v":98.298428214696273},{"$f":"+'[1]itcer global'!N198","v":111.29491429253201},{"$f":"+'[1]itcer global'!O198","v":99.822820814528441},null,{"$f":"+'[1]itcer global'!AS198","v":-0.67609902408412381},{"$f":"+'[1]itcer global'!AT198","v":0.13398187370823678},{"$f":"+'[1]itcer global'!AU198","v":-0.17915723600592059},{"$f":"+'[1]itcer global'!AV198","v":-0.55743451282063461},{"$f":"+'[1]itcer global'!AW198","v":-0.27823853098458073},{"$f":"+'[1]itcer global'!AX198","v":1.0368518977496279},null,{"$f":"+'[1]itcer global'!AZ198","v":1.730781703750004},{"$f":"+'[1]itcer global'!BA198","v":0.96733283299621586},{"$f":"+'[1]itcer global'!BB198","v":0.95111686388490113},{"$f":"+'[1]itcer global'!BC198","v":1.2708254054381445},{"$f":"+'[1]itcer global'!BD198","v":1.3309845581014514},{"$f":"+'[1]itcer global'!BE198","v":2.1188522152640847},null,{"$f":"+'[1]itcer global'!BG198","v":0.62989744666909264},{"$f":"+'[1]itcer global'!BH198","v":1.0657614076919857},{"$f":"+'[1]itcer global'!BI198","v":0.80369216559686052},{"$f":"+'[1]itcer global'!BJ198","v":0.77350065393763323},{"$f":"+'[1]itcer global'!BK198","v":0.83618486491898747},{"$f":"+'[1]itcer global'!BL198","v":0.47111742902789916}]
[null,"Noviembre",{"$f":"+'[1]itcer global'!J199","v":107.77822334359904},{"$f":"+'[1]itcer global'!K199","v":102.94141433158408},{"$f":"+'[1]itcer global'!L199","v":76.217349677753219},{"$f":"+'[1]itcer global'!M199","v":98.146538648339074},{"$f":"+'[1]itcer global'!N199","v":111.60183643726924},{"$f":"+'[1]itcer global'!O199","v":99.692316320709793},null,{"$f":"+'[1]itcer global'!AS199","v":-1.1403936629168783},{"$f":"+'[1]itcer global'!AT199","v":-0.14858765465956481},{"$f":"+'[1]itcer global'!AU199","v":-0.29194926661358522},{"$f":"+'[1]itcer global'!AV199","v":-0.15451881491476627},{"$f":"+'[1]itcer global'!AW199","v":0.27577373745084799},{"$f":"+'[1]itcer global'!AX199","v":-0.13073613103073001},null,{"$f":"+'[1]itcer global'!AZ199","v":1.7272248182502075},{"$f":"+'[1]itcer global'!BA199","v":0.96991614408262283},{"$f":"+'[1]itcer global'!BB199","v":0.95242116423524159},{"$f":"+'[1]itcer global'!BC199","v":1.2744042106173246},{"$f":"+'[1]itcer global'!BD199","v":1.3416896325291361},{"$f":"+'[1]itcer global'!BE199","v":2.1309618200874039},null,{"$f":"+'[1]itcer global'!BG199","v":0.62399649544629321},{"$f":"+'[1]itcer global'!BH199","v":1.061343446643517},{"$f":"+'[1]itcer global'!BI199","v":0.80024838317146063},{"$f":"+'[1]itcer global'!BJ199","v":0.7701366476245135},{"$f":"+'[1]itcer global'!BK199","v":0.83180069169123361},{"$f":"+'[1]itcer global'!BL199","v":0.46782779203721636}]
[null,"Diciembre",{"$f":"+'[1]itcer global'!J200","v":107.76262759584633},{"$f":"+'[1]itcer global'!K200","v":102.92472144419662},{"$f":"+'[1]itcer global'!L200","v":75.684203400702373},{"$f":"+'[1]itcer global'!M200","v":98.015975179180359},{"$f":"+'[1]itcer global'!N200","v":111.08101695622049},{"$f":"+'[1]itcer global'!O200","v":98.130265420210833},null,{"$f":"+'[1]itcer global'!AS200","v":-1.4470221598472222E-2},{"$f":"+'[1]itcer global'!AT200","v":-1.6215910278532419E-2},{"$f":"+'[1]itcer global'!AU200","v":-0.69950776208433751},{"$f":"+'[1]itcer global'!AV200","v":-0.13302911234244164},{"$f":"+'[1]itcer global'!AW200","v":-0.4666764433948174},{"$f":"+'[1]itcer global'!AX200","v":-1.5668719096403123},null,{"$f":"+'[1]itcer global'!AZ200","v":1.7371237926230463},{"$f":"+'[1]itcer global'!BA200","v":0.97248644673941698},{"$f":"+'[1]itcer global'!BB200","v":0.95405663064859503},{"$f":"+'[1]itcer global'!BC200","v":1.2776544901868878},{"$f":"+'[1]itcer global'!BD200","v":1.3498258386556292},{"$f":"+'[1]itcer global'!BE200","v":2.1079934316154882},null,{"$f":"+'[1]itcer global'!BG200","v":0.62035088145978023},{"$f":"+'[1]itcer global'!BH200","v":1.0583666413993311},{"$f":"+'[1]itcer global'!BI200","v":0.79328837481324421},{"$f":"+'[1]itcer global'!BJ200","v":0.76715556460685352},{"$f":"+'[1]itcer global'!BK200","v":0.82292851251723409},{"$f":"+'[1]itcer global'!BL200","v":0.46551504358819296}]
[2007,"Enero",{"$f":"+'[1]itcer global'!J201","v":106.57064035798066},{"$f":"+'[1]itcer global'!K201","v":101.69908987926928},{"$f":"+'[1]itcer global'!L201","v":75.403671883379729},{"$f":"+'[1]itcer global'!M201","v":97.37704948116918},{"$f":"+'[1]itcer global'!N201","v":110.53798575154879},{"$f":"+'[1]itcer global'!O201","v":98.793356080505447},null,{"$f":"+'[1]itcer global'!AS201","v":-1.106123026561761},{"$f":"+'[1]itcer global'!AT201","v":-1.1908038688176958},{"$f":"+'[1]itcer global'!AU201","v":-0.37066059325140088},{"$f":"+'[1]itcer global'!AV201","v":-0.6518587371529776},{"$f":"+'[1]itcer global'!AW201","v":-0.488860490794508},{"$f":"+'[1]itcer global'!AX201","v":0.67572492284122632},null,{"$f":"+'[1]itcer global'!AZ201","v":1.7298974926056396},{"$f":"+'[1]itcer global'!BA201","v":0.96732627254612569},{"$f":"+'[1]itcer global'!BB201","v":0.95945934136052402},{"$f":"+'[1]itcer global'!BC201","v":1.2721156208375051},{"$f":"+'[1]itcer global'!BD201","v":1.3487606522215978},{"$f":"+'[1]itcer global'!BE201","v":2.1379139568432195},null,{"$f":"+'[1]itcer global'!BG201","v":0.61605176499481351},{"$f":"+'[1]itcer global'!BH201","v":1.0513421661916031},{"$f":"+'[1]itcer global'!BI201","v":0.78589752199875906},{"$f":"+'[1]itcer global'!BJ201","v":0.76547326269809046},{"$f":"+'[1]itcer global'!BK201","v":0.81955227244713302},{"$f":"+'[1]itcer global'!BL201","v":0.46210164709519364}]
[null,"Febrero",{"$f":"+'[1]itcer global'!J202","v":106.91876011209939},{"$f":"+'[1]itcer global'!K202","v":102.3691276389825},{"$f":"+'[1]itcer global'!L202","v":75.608272459142441},{"$f":"+'[1]itcer global'!M202","v":96.85642110599612},{"$f":"+'[1]itcer global'!N202","v":110.13309171462195},{"$f":"+'[1]itcer global'!O202","v":97.956403406259},null,{"$f":"+'[1]itcer global'!AS202","v":0.32665634076079186},{"$f":"+'[1]itcer global'!AT202","v":0.65884341787980816},{"$f":"+'[1]itcer global'!AU202","v":0.27134033483031317},{"$f":"+'[1]itcer global'!AV202","v":-0.53465203345859891},{"$f":"+'[1]itcer global'!AW202","v":-0.36629402478610018},{"$f":"+'[1]itcer global'!AX202","v":-0.84717506060268022},null,{"$f":"+'[1]itcer global'!AZ202","v":1.7346076792486291},{"$f":"+'[1]itcer global'!BA202","v":0.96707672064883543},{"$f":"+'[1]itcer global'!BB202","v":0.96168774515366295},{"$f":"+'[1]itcer global'!BC202","v":1.2722828380132383},{"$f":"+'[1]itcer global'!BD202","v":1.3553146329111725},{"$f":"+'[1]itcer global'!BE202","v":2.1174322231426532},null,{"$f":"+'[1]itcer global'!BG202","v":0.6163858340487276},{"$f":"+'[1]itcer global'!BH202","v":1.0585419486708414},{"$f":"+'[1]itcer global'!BI202","v":0.78620397150908272},{"$f":"+'[1]itcer global'!BJ202","v":0.76128057545163808},{"$f":"+'[1]itcer global'!BK202","v":0.81260165750634317},{"$f":"+'[1]itcer global'!BL202","v":0.4626188377395804}]
[null,"Marzo",{"$f":"+'[1]itcer global'!J203","v":107.19625034429045},{"$f":"+'[1]itcer global'!K203","v":102.70361348177282},{"$f":"+'[1]itcer global'!L203","v":75.567541214182114},{"$f":"+'[1]itcer global'!M203","v":97.143581531165935},{"$f":"+'[1]itcer global'!N203","v":110.23124131541564},{"$f":"+'[1]itcer global'!O203","v":96.481898497620051},null,{"$f":"+'[1]itcer global'!AS203","v":0.25953371690816596},{"$f":"+'[1]itcer global'!AT203","v":0.32674484046589214},{"$f":"+'[1]itcer global'!AU203","v":-5.3871413319669159E-2},{"$f":"+'[1]itcer global'!AV203","v":0.29648052435837258},{"$f":"+'[1]itcer global'!AW203","v":8.9119082435303199E-2},{"$f":"+'[1]itcer global'!AX203","v":-1.5052664832167011},null,{"$f":"+'[1]itcer global'!AZ203","v":1.7384546418966593},{"$f":"+'[1]itcer global'!BA203","v":0.96854595542166322},{"$f":"+'[1]itcer global'!BB203","v":0.96227846816733409},{"$f":"+'[1]itcer global'!BC203","v":1.2749491524081573},{"$f":"+'[1]itcer global'!BD203","v":1.3616787752760304},{"$f":"+'[1]itcer global'!BE203","v":2.0856926341319268},null,{"$f":"+'[1]itcer global'!BG203","v":0.61661804548054833},{"$f":"+'[1]itcer global'!BH203","v":1.060389679053072},{"$f":"+'[1]itcer global'!BI203","v":0.78529805782832296},{"$f":"+'[1]itcer global'!BJ203","v":0.76194082993567713},{"$f":"+'[1]itcer global'!BK203","v":0.80952456127599048},{"$f":"+'[1]itcer global'!BL203","v":0.46258924694230491}]
[null,"Abril",{"$f":"+'[1]itcer global'!J204","v":107.29261813967088},{"$f":"+'[1]itcer global'!K204","v":103.53635449718202},{"$f":"+'[1]itcer global'!L204","v":75.733693231876501},{"$f":"+'[1]itcer global'!M204","v":97.34108334936991},{"$f":"+'[1]itcer global'!N204","v":110.17163281199181},{"$f":"+'[1]itcer global'!O204","v":94.897303918490735},null,{"$f":"+'[1]itcer global'!AS204","v":8.9898475992328031E-2},{"$f":"+'[1]itcer global'!AT204","v":0.81081958772266205},{"$f":"+'[1]itcer global'!AU204","v":0.21987220309769384},{"$f":"+'[1]itcer global'!AV204","v":0.20330917914593272},{"$f":"+'[1]itcer global'!AW204","v":-5.4075870608471632E-2},{"$f":"+'[1]itcer global'!AX204","v":-1.6423749986308565},null,{"$f":"+'[1]itcer global'!AZ204","v":1.7467695812930339},{"$f":"+'[1]itcer global'!BA204","v":0.97192637581523855},{"$f":"+'[1]itcer global'!BB204","v":0.96182104619928799},{"$f":"+'[1]itcer global'!BC204","v":1.2781645498613607},{"$f":"+'[1]itcer global'!BD204","v":1.3676084902016794},{"$f":"+'[1]itcer global'!BE204","v":2.0564621603098128},null,{"$f":"+'[1]itcer global'!BG204","v":0.61423452348104379},{"$f":"+'[1]itcer global'!BH204","v":1.0652695211644725},{"$f":"+'[1]itcer global'!BI204","v":0.78739900245626948},{"$f":"+'[1]itcer global'!BJ204","v":0.76156926242343548},{"$f":"+'[1]itcer global'!BK204","v":0.80557874275659802},{"$f":"+'[1]itcer global'!BL204","v":0.46145903265340971}]
[null,"Mayo",{"$f":"+'[1]itcer global'!J205","v":106.68831048288436},{"$f":"+'[1]itcer global'!K205","v":104.43887983817881},{"$f":"+'[1]itcer global'!L205","v":76.174968054046985},{"$f":"+'[1]itcer global'!M205","v":97.323641179286199},{"$f":"+'[1]itcer global'!N205","v":110.08085438204553},{"$f":"+'[1]itcer global'!O205","v":94.13826985146973},null,{"$f":"+'[1]itcer global'!AS205","v":-0.5632332095763104},{"$f":"+'[1]itcer global'!AT205","v":0.87169897508931626},{"$f":"+'[1]itcer global'!AU205","v":0.58266645047855548},{"$f":"+'[1]itcer global'!AV205","v":-1.7918611015559804E-2},{"$f":"+'[1]itcer global'!AW205","v":-8.239728106889288E-2},{"$f":"+'[1]itcer global'!AX205","v":-0.79984787309970784},null,{"$f":"+'[1]itcer global'!AZ205","v":1.7491249632947206},{"$f":"+'[1]itcer global'!BA205","v":0.97307978149938124},{"$f":"+'[1]itcer global'!BB205","v":0.96153837413620902},{"$f":"+'[1]itcer global'!BC205","v":1.2786165310504309},{"$f":"+'[1]itcer global'!BD205","v":1.3721886808249075},{"$f":"+'[1]itcer global'!BE205","v":2.0525643491047805},null,{"$f":"+'[1]itcer global'!BG205","v":0.60995247750579284},{"$f":"+'[1]itcer global'!BH205","v":1.0732817783681925},{"$f":"+'[1]itcer global'!BI205","v":0.79221973977354987},{"$f":"+'[1]itcer global'!BJ205","v":0.76116363910398721},{"$f":"+'[1]itcer global'!BK205","v":0.80222826438029726},{"$f":"+'[1]itcer global'!BL205","v":0.45863736205165917}]
[null,"Junio",{"$f":"+'[1]itcer global'!J206","v":106.08687437117699},{"$f":"+'[1]itcer global'!K206","v":103.84639081370278},{"$f":"+'[1]itcer global'!L206","v":76.332332036657945},{"$f":"+'[1]itcer global'!M206","v":97.023294194061151},{"$f":"+'[1]itcer global'!N206","v":109.35159685961705},{"$f":"+'[1]itcer global'!O206","v":94.575175894540948},null,{"$f":"+'[1]itcer global'!AS206","v":-0.56373196743410858},{"$f":"+'[1]itcer global'!AT206","v":-0.5673069506241859},{"$f":"+'[1]itcer global'!AU206","v":0.20658227581967026},{"$f":"+'[1]itcer global'!AV206","v":-0.30860639982813609},{"$f":"+'[1]itcer global'!AW206","v":-0.66247443892243041},{"$f":"+'[1]itcer global'!AX206","v":0.4641109760786577},null,{"$f":"+'[1]itcer global'!AZ206","v":1.7451783186600727},{"$f":"+'[1]itcer global'!BA206","v":0.97114228301063554},{"$f":"+'[1]itcer global'!BB206","v":0.96540631004421296},{"$f":"+'[1]itcer global'!BC206","v":1.2763542971119026},{"$f":"+'[1]itcer global'!BD206","v":1.3728803282009434},{"$f":"+'[1]itcer global'!BE206","v":2.066978400820711},null,{"$f":"+'[1]itcer global'!BG206","v":0.60788558531158721},{"$f":"+'[1]itcer global'!BH206","v":1.0693221027486195},{"$f":"+'[1]itcer global'!BI206","v":0.79067571076018894},{"$f":"+'[1]itcer global'!BJ206","v":0.76015957648752108},{"$f":"+'[1]itcer global'!BK206","v":0.79651222771116614},{"$f":"+'[1]itcer global'!BL206","v":0.45755280198858922}]
[null,"Julio",{"$f":"+'[1]itcer global'!J207","v":105.73169245455267},{"$f":"+'[1]itcer global'!K207","v":103.67496957042739},{"$f":"+'[1]itcer global'!L207","v":76.165259310375163},{"$f":"+'[1]itcer global'!M207","v":96.805756600803775},{"$f":"+'[1]itcer global'!N207","v":109.55613392469867},{"$f":"+'[1]itcer global'!O207","v":96.378962773128208},null,{"$f":"+'[1]itcer global'!AS207","v":-0.33480288558752136},{"$f":"+'[1]itcer global'!AT207","v":-0.1650719316600231},{"$f":"+'[1]itcer global'!AU207","v":-0.21887543826454703},{"$f":"+'[1]itcer global'!AV207","v":-0.22421171643817672},{"$f":"+'[1]itcer global'!AW207","v":0.18704533903076026},{"$f":"+'[1]itcer global'!AX207","v":1.9072519416708502},null,{"$f":"+'[1]itcer global'!AZ207","v":1.7535660130502351},{"$f":"+'[1]itcer global'!BA207","v":0.97373483184890886},{"$f":"+'[1]itcer global'!BB207","v":0.96823179426353367},{"$f":"+'[1]itcer global'!BC207","v":1.2799772139475158},{"$f":"+'[1]itcer global'!BD207","v":1.3825164712318763},{"$f":"+'[1]itcer global'!BE207","v":2.1116414841320967},null,{"$f":"+'[1]itcer global'!BG207","v":0.60295245042208589},{"$f":"+'[1]itcer global'!BH207","v":1.0647146038061652},{"$f":"+'[1]itcer global'!BI207","v":0.78664282418352893},{"$f":"+'[1]itcer global'!BJ207","v":0.75630843694670025},{"$f":"+'[1]itcer global'!BK207","v":0.79243999044061919},{"$f":"+'[1]itcer global'!BL207","v":0.45641726352397743}]
[null,"Agosto",{"$f":"+'[1]itcer global'!J208","v":104.87048348783654},{"$f":"+'[1]itcer global'!K208","v":104.01656983106713},{"$f":"+'[1]itcer global'!L208","v":75.199572125330164},{"$f":"+'[1]itcer global'!M208","v":96.16972311558041},{"$f":"+'[1]itcer global'!N208","v":110.33779235812678},{"$f":"+'[1]itcer global'!O208","v":96.634363938240426},null,{"$f":"+'[1]itcer global'!AS208","v":-0.81452301265896665},{"$f":"+'[1]itcer global'!AT208","v":0.32949154656630242},{"$f":"+'[1]itcer global'!AU208","v":-1.2678840639270987},{"$f":"+'[1]itcer global'!AV208","v":-0.65702031320942922},{"$f":"+'[1]itcer global'!AW208","v":0.71347756207367752},{"$f":"+'[1]itcer global'!AX208","v":0.26499679781097996},null,{"$f":"+'[1]itcer global'!AZ208","v":1.7504079091272482},{"$f":"+'[1]itcer global'!BA208","v":0.97291276252613135},{"$f":"+'[1]itcer global'!BB208","v":0.96441316131791188},{"$f":"+'[1]itcer global'!BC208","v":1.2802102690340778},{"$f":"+'[1]itcer global'!BD208","v":1.393722670454776},{"$f":"+'[1]itcer global'!BE208","v":2.1045437856456237},null,{"$f":"+'[1]itcer global'!BG208","v":0.59912025614717923},{"$f":"+'[1]itcer global'!BH208","v":1.0691253505709188},{"$f":"+'[1]itcer global'!BI208","v":0.77974435793230723},{"$f":"+'[1]itcer global'!BJ208","v":0.7512025597805958},{"$f":"+'[1]itcer global'!BK208","v":0.79167681416937263},{"$f":"+'[1]itcer global'!BL208","v":0.45917012797429291}]
[null,"Septiembre",{"$f":"+'[1]itcer global'!J209","v":105.09893204931585},{"$f":"+'[1]itcer global'!K209","v":103.98674069822968},{"$f":"+'[1]itcer global'!L209","v":75.611326740757633},{"$f":"+'[1]itcer global'!M209","v":96.42709836613227},{"$f":"+'[1]itcer global'!N209","v":110.43264673294907},{"$f":"+'[1]itcer global'!O209","v":97.329874437556455},null,{"$f":"+'[1]itcer global'!AS209","v":0.21783876061351748},{"$f":"+'[1]itcer global'!AT209","v":-2.8677289479844603E-2},{"$f":"+'[1]itcer global'!AU209","v":0.54754914661113219},{"$f":"+'[1]itcer global'!AV209","v":0.26762607004964423},{"$f":"+'[1]itcer global'!AW209","v":8.5967258176069095E-2},{"$f":"+'[1]itcer global'!AX209","v":0.71973413077002135},null,{"$f":"+'[1]itcer global'!AZ209","v":1.7580285208458368},{"$f":"+'[1]itcer global'!BA209","v":0.97473740405462173},{"$f":"+'[1]itcer global'!BB209","v":0.97212558479104705},{"$f":"+'[1]itcer global'!BC209","v":1.283439480658974},{"$f":"+'[1]itcer global'!BD209","v":1.4044775157592015},{"$f":"+'[1]itcer global'!BE209","v":2.13849836735419},null,{"$f":"+'[1]itcer global'!BG209","v":0.59782267922905941},{"$f":"+'[1]itcer global'!BH209","v":1.0668179990392834},{"$f":"+'[1]itcer global'!BI209","v":0.77779381515825319},{"$f":"+'[1]itcer global'!BJ209","v":0.75131784411542624},{"$f":"+'[1]itcer global'!BK209","v":0.78628988712043435},{"$f":"+'[1]itcer global'!BL209","v":0.45513186226078672}]
[null,"Octubre",{"$f":"+'[1]itcer global'!J210","v":105.64584356872267},{"$f":"+'[1]itcer global'!K210","v":104.06363258795614},{"$f":"+'[1]itcer global'!L210","v":76.273572893329032},{"$f":"+'[1]itcer global'!M210","v":95.885641829612965},{"$f":"+'[1]itcer global'!N210","v":109.77193057872542},{"$f":"+'[1]itcer global'!O210","v":98.04307646286567},null,{"$f":"+'[1]itcer global'!AS210","v":0.52037780854918481},{"$f":"+'[1]itcer global'!AT210","v":7.3943936707848934E-2},{"$f":"+'[1]itcer global'!AU210","v":0.87585574955188861},{"$f":"+'[1]itcer global'!AV210","v":-0.56151906019550779},{"$f":"+'[1]itcer global'!AW210","v":-0.5982978528273577},{"$f":"+'[1]itcer global'!AX210","v":0.73276784690273189},null,{"$f":"+'[1]itcer global'!AZ210","v":1.7698836890795138},{"$f":"+'[1]itcer global'!BA210","v":0.97778469838718796},{"$f":"+'[1]itcer global'!BB210","v":0.97989139788338731},{"$f":"+'[1]itcer global'!BC210","v":1.2870916140384376},{"$f":"+'[1]itcer global'!BD210","v":1.4190707379221337},{"$f":"+'[1]itcer global'!BE210","v":2.1583848792084259},null,{"$f":"+'[1]itcer global'!BG210","v":0.59690839697871489},{"$f":"+'[1]itcer global'!BH210","v":1.0642796186072909},{"$f":"+'[1]itcer global'!BI210","v":0.77838802400024776},{"$f":"+'[1]itcer global'!BJ210","v":0.74497915131897874},{"$f":"+'[1]itcer global'!BK210","v":0.77354798210734965},{"$f":"+'[1]itcer global'!BL210","v":0.45424278777760135}]
[null,"Noviembre",{"$f":"+'[1]itcer global'!J211","v":105.01544319519199},{"$f":"+'[1]itcer global'!K211","v":104.51001267746187},{"$f":"+'[1]itcer global'!L211","v":75.019315253974497},{"$f":"+'[1]itcer global'!M211","v":95.640347193941736},{"$f":"+'[1]itcer global'!N211","v":107.41178942450634},{"$f":"+'[1]itcer global'!O211","v":97.317271309528863},null,{"$f":"+'[1]itcer global'!AS211","v":-0.59671100370418628},{"$f":"+'[1]itcer global'!AT211","v":0.42894917119910758},{"$f":"+'[1]itcer global'!AU211","v":-1.6444196748310844},{"$f":"+'[1]itcer global'!AV211","v":-0.25581998617386148},{"$f":"+'[1]itcer global'!AW211","v":-2.1500406723068863},{"$f":"+'[1]itcer global'!AX211","v":-0.74029210375880439},null,{"$f":"+'[1]itcer global'!AZ211","v":1.7660297171977832},{"$f":"+'[1]itcer global'!BA211","v":0.98435740539818994},{"$f":"+'[1]itcer global'!BB211","v":0.97394643812045667},{"$f":"+'[1]itcer global'!BC211","v":1.2952185416697299},{"$f":"+'[1]itcer global'!BD211","v":1.435534962238449},{"$f":"+'[1]itcer global'!BE211","v":2.16836435708389},null,{"$f":"+'[1]itcer global'!BG211","v":0.59464142744904336},{"$f":"+'[1]itcer global'!BH211","v":1.0617079945183703},{"$f":"+'[1]itcer global'!BI211","v":0.77026120038745072},{"$f":"+'[1]itcer global'!BJ211","v":0.73841088678862687},{"$f":"+'[1]itcer global'!BK211","v":0.74823527291190239},{"$f":"+'[1]itcer global'!BL211","v":0.44880497593312846}]
[null,"Diciembre",{"$f":"+'[1]itcer global'!J212","v":100.08843619655697},{"$f":"+'[1]itcer global'!K212","v":105.4188338490696},{"$f":"+'[1]itcer global'!L212","v":74.24989094348075},{"$f":"+'[1]itcer global'!M212","v":95.615590057234613},{"$f":"+'[1]itcer global'!N212","v":106.95018668852624},{"$f":"+'[1]itcer global'!O212","v":96.442506295260912},null,{"$f":"+'[1]itcer global'!AS212","v":-4.6916975720201464},{"$f":"+'[1]itcer global'!AT212","v":0.86960201068248466},{"$f":"+'[1]itcer global'!AU212","v":-1.0256349419997974},{"$f":"+'[1]itcer global'!AV212","v":-2.5885661683062722E-2},{"$f":"+'[1]itcer global'!AW212","v":-0.4297505315322212},{"$f":"+'[1]itcer global'!AX212","v":-0.89887951285200529},null,{"$f":"+'[1]itcer global'!AZ212","v":1.7078184351882335},{"$f":"+'[1]itcer global'!BA212","v":0.98479937672761109},{"$f":"+'[1]itcer global'!BB212","v":0.97153554010206467},{"$f":"+'[1]itcer global'!BC212","v":1.2948166682158007},{"$f":"+'[1]itcer global'!BD212","v":1.4417723608405673},{"$f":"+'[1]itcer global'!BE212","v":2.1716316350991525},null,{"$f":"+'[1]itcer global'!BG212","v":0.58606016971309582},{"$f":"+'[1]itcer global'!BH212","v":1.07045999764303},{"$f":"+'[1]itcer global'!BI212","v":0.76425295708359187},{"$f":"+'[1]itcer global'!BJ212","v":0.73844886619345584},{"$f":"+'[1]itcer global'!BK212","v":0.74179662194504303},{"$f":"+'[1]itcer global'!BL212","v":0.44410159041939695}]
[2008,"Enero",{"$f":"+'[1]itcer global'!J213","v":99.789998680298652},{"$f":"+'[1]itcer global'!K213","v":104.90914209444631},{"$f":"+'[1]itcer global'!L213","v":74.79603499675693},{"$f":"+'[1]itcer global'!M213","v":95.623022909990254},{"$f":"+'[1]itcer global'!N213","v":106.80807778377817},{"$f":"+'[1]itcer global'!O213","v":96.731341154259567},null,{"$f":"+'[1]itcer global'!AS213","v":-0.29817382267042092},{"$f":"+'[1]itcer global'!AT213","v":-0.48349211996882957},{"$f":"+'[1]itcer global'!AU213","v":0.73554862685509192},{"$f":"+'[1]itcer global'!AV213","v":7.7736828807815073E-3},{"$f":"+'[1]itcer global'!AW213","v":-0.13287391929659975},{"$f":"+'[1]itcer global'!AX213","v":0.29948916727069275},null,{"$f":"+'[1]itcer global'!AZ213","v":1.7083565365290836},{"$f":"+'[1]itcer global'!BA213","v":0.98485125744300173},{"$f":"+'[1]itcer global'!BB213","v":0.98347144978464462},{"$f":"+'[1]itcer global'!BC213","v":1.2968498550782972},{"$f":"+'[1]itcer global'!BD213","v":1.4496915902939349},{"$f":"+'[1]itcer global'!BE213","v":2.1937637944075057},null,{"$f":"+'[1]itcer global'!BG213","v":0.58412864379612961},{"$f":"+'[1]itcer global'!BH213","v":1.0652282900752443},{"$f":"+'[1]itcer global'!BI213","v":0.76053082184678944},{"$f":"+'[1]itcer global'!BJ213","v":0.73734844890133422},{"$f":"+'[1]itcer global'!BK213","v":0.73676414003424051},{"$f":"+'[1]itcer global'!BL213","v":0.44093781381958164}]
[null,"Febrero",{"$f":"+'[1]itcer global'!J214","v":99.07887085466281},{"$f":"+'[1]itcer global'!K214","v":104.75755750359217},{"$f":"+'[1]itcer global'!L214","v":74.979280634080027},{"$f":"+'[1]itcer global'!M214","v":95.11938755487634},{"$f":"+'[1]itcer global'!N214","v":105.8721196628676},{"$f":"+'[1]itcer global'!O214","v":97.470317901438094},null,{"$f":"+'[1]itcer global'!AS214","v":-0.71262434616730275},{"$f":"+'[1]itcer global'!AT214","v":-0.1444913072663212},{"$f":"+'[1]itcer global'!AU214","v":0.24499378520673076},{"$f":"+'[1]itcer global'!AV214","v":-0.52668838506390614},{"$f":"+'[1]itcer global'!AW214","v":-0.87629900315715759},{"$f":"+'[1]itcer global'!AX214","v":0.76394758757668058},null,{"$f":"+'[1]itcer global'!AZ214","v":1.7075324919768871},{"$f":"+'[1]itcer global'!BA214","v":0.98572664556721079},{"$f":"+'[1]itcer global'!BB214","v":0.98809462418214988},{"$f":"+'[1]itcer global'!BC214","v":1.2981583101832548},{"$f":"+'[1]itcer global'!BD214","v":1.4594683092380565},{"$f":"+'[1]itcer global'!BE214","v":2.2030695167763903},null,{"$f":"+'[1]itcer global'!BG214","v":0.58024588884955708},{"$f":"+'[1]itcer global'!BH214","v":1.0627445040132009},{"$f":"+'[1]itcer global'!BI214","v":0.75882692607644431},{"$f":"+'[1]itcer global'!BJ214","v":0.73272563761078424},{"$f":"+'[1]itcer global'!BK214","v":0.72541568044146265},{"$f":"+'[1]itcer global'!BL214","v":0.44242960632517914}]
[null,"Marzo",{"$f":"+'[1]itcer global'!J215","v":100.69032886921707},{"$f":"+'[1]itcer global'!K215","v":105.91587367498809},{"$f":"+'[1]itcer global'!L215","v":74.423953644177928},{"$f":"+'[1]itcer global'!M215","v":95.981300454301063},{"$f":"+'[1]itcer global'!N215","v":106.4419581576952},{"$f":"+'[1]itcer global'!O215","v":97.8667172185596},null,{"$f":"+'[1]itcer global'!AS215","v":1.6264396239619003},{"$f":"+'[1]itcer global'!AT215","v":1.105711319544838},{"$f":"+'[1]itcer global'!AU215","v":-0.74064059458271458},{"$f":"+'[1]itcer global'!AV215","v":0.90613798257213318},{"$f":"+'[1]itcer global'!AW215","v":0.53823281959608948},{"$f":"+'[1]itcer global'!AX215","v":0.40668721068742286},null,{"$f":"+'[1]itcer global'!AZ215","v":1.7263582443108254},{"$f":"+'[1]itcer global'!BA215","v":0.99506391549949391},{"$f":"+'[1]itcer global'!BB215","v":0.98405659463505313},{"$f":"+'[1]itcer global'!BC215","v":1.3102830191489934},{"$f":"+'[1]itcer global'!BD215","v":1.4786657207343825},{"$f":"+'[1]itcer global'!BE215","v":2.2307839473105782},null,{"$f":"+'[1]itcer global'!BG215","v":0.58325280515234745},{"$f":"+'[1]itcer global'!BH215","v":1.0644127681167226},{"$f":"+'[1]itcer global'!BI215","v":0.75629749396454959},{"$f":"+'[1]itcer global'!BJ215","v":0.73252342472269316},{"$f":"+'[1]itcer global'!BK215","v":0.7198513948428491},{"$f":"+'[1]itcer global'!BL215","v":0.43870997608955919}]
[null,"Abril",{"$f":"+'[1]itcer global'!J216","v":100.64837535638449},{"$f":"+'[1]itcer global'!K216","v":106.32414393952389},{"$f":"+'[1]itcer global'!L216","v":73.06448479627916},{"$f":"+'[1]itcer global'!M216","v":95.952987784611224},{"$f":"+'[1]itcer global'!N216","v":106.30696032947287},{"$f":"+'[1]itcer global'!O216","v":97.110330735853978},null,{"$f":"+'[1]itcer global'!AS216","v":-4.1665881225867452E-2},{"$f":"+'[1]itcer global'!AT216","v":0.38546655035732158},{"$f":"+'[1]itcer global'!AU216","v":-1.8266549697136583},{"$f":"+'[1]itcer global'!AV216","v":-2.9498110106686681E-2},{"$f":"+'[1]itcer global'!AW216","v":-0.1268276444353944},{"$f":"+'[1]itcer global'!AX216","v":-0.7728740722102998},null,{"$f":"+'[1]itcer global'!AZ216","v":1.7300155943931013},{"$f":"+'[1]itcer global'!BA216","v":0.9996327452910988},{"$f":"+'[1]itcer global'!BB216","v":0.97397437049330737},{"$f":"+'[1]itcer global'!BC216","v":1.3143128225981211},{"$f":"+'[1]itcer global'!BD216","v":1.4876095599159296},{"$f":"+'[1]itcer global'!BE216","v":2.2438433700667528},null,{"$f":"+'[1]itcer global'!BG216","v":0.58177727231234844},{"$f":"+'[1]itcer global'!BH216","v":1.0636320632790164},{"$f":"+'[1]itcer global'!BI216","v":0.75016845421992784},{"$f":"+'[1]itcer global'!BJ216","v":0.73006202279098409},{"$f":"+'[1]itcer global'!BK216","v":0.71461600673956871},{"$f":"+'[1]itcer global'!BL216","v":0.43278569275967327}]
[null,"Mayo",{"$f":"+'[1]itcer global'!J217","v":102.759609803766},{"$f":"+'[1]itcer global'!K217","v":106.27180919578939},{"$f":"+'[1]itcer global'!L217","v":71.487421844082803},{"$f":"+'[1]itcer global'!M217","v":95.020298883483264},{"$f":"+'[1]itcer global'!N217","v":104.52647175087067},{"$f":"+'[1]itcer global'!O217","v":97.299559140203087},null,{"$f":"+'[1]itcer global'!AS217","v":2.097633906067415},{"$f":"+'[1]itcer global'!AT217","v":-4.922188112257686E-2},{"$f":"+'[1]itcer global'!AU217","v":-2.1584535312793633},{"$f":"+'[1]itcer global'!AV217","v":-0.97202695055374022},{"$f":"+'[1]itcer global'!AW217","v":-1.674856070650506},{"$f":"+'[1]itcer global'!AX217","v":0.19485919048491951},null,{"$f":"+'[1]itcer global'!AZ217","v":1.7845959526010544},{"$f":"+'[1]itcer global'!BA217","v":0.9991810078347646},{"$f":"+'[1]itcer global'!BB217","v":0.95811376193717313},{"$f":"+'[1]itcer global'!BC217","v":1.3128126186479596},{"$f":"+'[1]itcer global'!BD217","v":1.4885603778265941},{"$f":"+'[1]itcer global'!BE217","v":2.2390606200483227},null,{"$f":"+'[1]itcer global'!BG217","v":0.57581442821269169},{"$f":"+'[1]itcer global'!BH217","v":1.0635891631495429},{"$f":"+'[1]itcer global'!BI217","v":0.74612665723061078},{"$f":"+'[1]itcer global'!BJ217","v":0.72379178516232456},{"$f":"+'[1]itcer global'!BK217","v":0.7021984012733623},{"$f":"+'[1]itcer global'!BL217","v":0.43455526960276403}]
[null,"Junio",{"$f":"+'[1]itcer global'!J218","v":103.94531689368279},{"$f":"+'[1]itcer global'!K218","v":105.81222266339145},{"$f":"+'[1]itcer global'!L218","v":71.473516288478351},{"$f":"+'[1]itcer global'!M218","v":94.541416639960033},{"$f":"+'[1]itcer global'!N218","v":103.46014405554415},{"$f":"+'[1]itcer global'!O218","v":96.187319166760858},null,{"$f":"+'[1]itcer global'!AS218","v":1.1538649204498483},{"$f":"+'[1]itcer global'!AT218","v":-0.4324632617773716},{"$f":"+'[1]itcer global'!AU218","v":-1.9451751435070719E-2},{"$f":"+'[1]itcer global'!AV218","v":-0.50397888572256022},{"$f":"+'[1]itcer global'!AW218","v":-1.02015085505613},{"$f":"+'[1]itcer global'!AX218","v":-1.143108954727694},null,{"$f":"+'[1]itcer global'!AZ218","v":1.8138139288725057},{"$f":"+'[1]itcer global'!BA218","v":0.9963386443315092},{"$f":"+'[1]itcer global'!BB218","v":0.96440406875166262},{"$f":"+'[1]itcer global'!BC218","v":1.3088742369006918},{"$f":"+'[1]itcer global'!BD218","v":1.4894807217456636},{"$f":"+'[1]itcer global'!BE218","v":2.246905106750221},null,{"$f":"+'[1]itcer global'!BG218","v":0.57307596572652175},{"$f":"+'[1]itcer global'!BH218","v":1.0620106252566954},{"$f":"+'[1]itcer global'!BI218","v":0.74111587253042821},{"$f":"+'[1]itcer global'!BJ218","v":0.72231092930537355},{"$f":"+'[1]itcer global'!BK218","v":0.69460545910449523},{"$f":"+'[1]itcer global'!BL218","v":0.42808803486089358}]
[null,"Julio",{"$f":"+'[1]itcer global'!J219","v":105.81397130357844},{"$f":"+'[1]itcer global'!K219","v":105.49408713241758},{"$f":"+'[1]itcer global'!L219","v":70.67030775268907},{"$f":"+'[1]itcer global'!M219","v":93.294269866225974},{"$f":"+'[1]itcer global'!N219","v":103.29707540470105},{"$f":"+'[1]itcer global'!O219","v":95.62327182234506},null,{"$f":"+'[1]itcer global'!AS219","v":1.7977283303748663},{"$f":"+'[1]itcer global'!AT219","v":-0.30066047472220703},{"$f":"+'[1]itcer global'!AU219","v":-1.1237848331785045},{"$f":"+'[1]itcer global'!AV219","v":-1.3191538883783949},{"$f":"+'[1]itcer global'!AW219","v":-0.15761494663641429},{"$f":"+'[1]itcer global'!AX219","v":-0.58640509923964146},null,{"$f":"+'[1]itcer global'!AZ219","v":1.8761857684588299},{"$f":"+'[1]itcer global'!BA219","v":0.99786139703123367},{"$f":"+'[1]itcer global'!BB219","v":0.95868554954764562},{"$f":"+'[1]itcer global'!BC219","v":1.3101846065327467},{"$f":"+'[1]itcer global'!BD219","v":1.4934179824096865},{"$f":"+'[1]itcer global'!BE219","v":2.2601129642394939},null,{"$f":"+'[1]itcer global'!BG219","v":0.56398451092877666},{"$f":"+'[1]itcer global'!BH219","v":1.0572018062455975},{"$f":"+'[1]itcer global'!BI219","v":0.73715837050047062},{"$f":"+'[1]itcer global'!BJ219","v":0.71206965339883332},{"$f":"+'[1]itcer global'!BK219","v":0.6916822793175913},{"$f":"+'[1]itcer global'!BL219","v":0.42309067438370873}]
[null,"Agosto",{"$f":"+'[1]itcer global'!J220","v":105.61377101988619},{"$f":"+'[1]itcer global'!K220","v":104.88463080775594},{"$f":"+'[1]itcer global'!L220","v":69.508600445077107},{"$f":"+'[1]itcer global'!M220","v":91.718176586258195},{"$f":"+'[1]itcer global'!N220","v":102.56341573057509},{"$f":"+'[1]itcer global'!O220","v":95.716322938123099},null,{"$f":"+'[1]itcer global'!AS220","v":-0.18920023625035753},{"$f":"+'[1]itcer global'!AT220","v":-0.57771609881474717},{"$f":"+'[1]itcer global'!AU220","v":-1.6438407367311214},{"$f":"+'[1]itcer global'!AV220","v":-1.6893784390270952},{"$f":"+'[1]itcer global'!AW220","v":-0.71024244515307089},{"$f":"+'[1]itcer global'!AX220","v":9.7310115001008057E-2},null,{"$f":"+'[1]itcer global'!AZ220","v":1.9072616319529712},{"$f":"+'[1]itcer global'!BA220","v":0.99106740622011846},{"$f":"+'[1]itcer global'!BB220","v":0.94739248458231828},{"$f":"+'[1]itcer global'!BC220","v":1.3008947740463594},{"$f":"+'[1]itcer global'!BD220","v":1.4868885817120265},{"$f":"+'[1]itcer global'!BE220","v":2.268904724291136},null,{"$f":"+'[1]itcer global'!BG220","v":0.55374558608270896},{"$f":"+'[1]itcer global'!BH220","v":1.0582996691191842},{"$f":"+'[1]itcer global'!BI220","v":0.73368325774424659},{"$f":"+'[1]itcer global'!BJ220","v":0.70503916547357648},{"$f":"+'[1]itcer global'!BK220","v":0.68978548219451619},{"$f":"+'[1]itcer global'!BL220","v":0.42186135853733275}]
[null,"Septiembre",{"$f":"+'[1]itcer global'!J221","v":103.79554534184614},{"$f":"+'[1]itcer global'!K221","v":104.55999877862556},{"$f":"+'[1]itcer global'!L221","v":69.560776644296865},{"$f":"+'[1]itcer global'!M221","v":90.99079722620877},{"$f":"+'[1]itcer global'!N221","v":101.54858726585034},{"$f":"+'[1]itcer global'!O221","v":94.202934351356603},null,{"$f":"+'[1]itcer global'!AS221","v":-1.7215801125950634},{"$f":"+'[1]itcer global'!AT221","v":-0.30951344027268135},{"$f":"+'[1]itcer global'!AU221","v":7.5064378919535102E-2},{"$f":"+'[1]itcer global'!AV221","v":-0.7930591155673028},{"$f":"+'[1]itcer global'!AW221","v":-0.9894643791803901},{"$f":"+'[1]itcer global'!AX221","v":-1.5811186016253913},null,{"$f":"+'[1]itcer global'!AZ221","v":1.8912475014440653},{"$f":"+'[1]itcer global'!BA221","v":0.98288020482580463},{"$f":"+'[1]itcer global'!BB221","v":0.94592541342687986},{"$f":"+'[1]itcer global'!BC221","v":1.2930162360688042},{"$f":"+'[1]itcer global'!BD221","v":1.4733632143416484},{"$f":"+'[1]itcer global'!BE221","v":2.2600933957417584},null,{"$f":"+'[1]itcer global'!BG221","v":0.54882052858017194},{"$f":"+'[1]itcer global'!BH221","v":1.0638122353594115},{"$f":"+'[1]itcer global'!BI221","v":0.73537274352629434},{"$f":"+'[1]itcer global'!BJ221","v":0.70370962628319966},{"$f":"+'[1]itcer global'!BK221","v":0.6892298265450173},{"$f":"+'[1]itcer global'!BL221","v":0.4168099182487075}]
[null,"Octubre",{"$f":"+'[1]itcer global'!J222","v":99.505148959222026},{"$f":"+'[1]itcer global'!K222","v":102.74946296686932},{"$f":"+'[1]itcer global'!L222","v":67.634584285256153},{"$f":"+'[1]itcer global'!M222","v":88.676516113252518},{"$f":"+'[1]itcer global'!N222","v":100.58900100514222},{"$f":"+'[1]itcer global'!O222","v":92.897074113683942},null,{"$f":"+'[1]itcer global'!AS222","v":-4.1335072410804088},{"$f":"+'[1]itcer global'!AT222","v":-1.7315759687311214},{"$f":"+'[1]itcer global'!AU222","v":-2.7690782822773912},{"$f":"+'[1]itcer global'!AV222","v":-2.5434232730182629},{"$f":"+'[1]itcer global'!AW222","v":-0.94495284133884638},{"$f":"+'[1]itcer global'!AX222","v":-1.3862203408676095},null,{"$f":"+'[1]itcer global'!AZ222","v":1.8392155135881323},{"$f":"+'[1]itcer global'!BA222","v":0.96281277317626035},{"$f":"+'[1]itcer global'!BB222","v":0.92807990618465064},{"$f":"+'[1]itcer global'!BC222","v":1.2744323590749982},{"$f":"+'[1]itcer global'!BD222","v":1.4619369681042549},{"$f":"+'[1]itcer global'!BE222","v":2.2194987292289281},null,{"$f":"+'[1]itcer global'!BG222","v":0.54101951741966914},{"$f":"+'[1]itcer global'!BH222","v":1.0671800980361439},{"$f":"+'[1]itcer global'!BI222","v":0.72875820104006839},{"$f":"+'[1]itcer global'!BJ222","v":0.69581186856880528},{"$f":"+'[1]itcer global'!BK222","v":0.6880529270395257},{"$f":"+'[1]itcer global'!BL222","v":0.41854979635855488}]
[null,"Noviembre",{"$f":"+'[1]itcer global'!J223","v":95.987567594294859},{"$f":"+'[1]itcer global'!K223","v":101.79986652399148},{"$f":"+'[1]itcer global'!L223","v":67.495086274527765},{"$f":"+'[1]itcer global'!M223","v":87.361124644800626},{"$f":"+'[1]itcer global'!N223","v":99.691931302190056},{"$f":"+'[1]itcer global'!O223","v":94.677714410980798},null,{"$f":"+'[1]itcer global'!AS223","v":-3.5350747189662428},{"$f":"+'[1]itcer global'!AT223","v":-0.92418628327432373},{"$f":"+'[1]itcer global'!AU223","v":-0.20625248488263992},{"$f":"+'[1]itcer global'!AV223","v":-1.4833594350639032},{"$f":"+'[1]itcer global'!AW223","v":-0.89181689249136298},{"$f":"+'[1]itcer global'!AX223","v":1.9167883534391876},null,{"$f":"+'[1]itcer global'!AZ223","v":1.8139106616786707},{"$f":"+'[1]itcer global'!BA223","v":0.9547528110121557},{"$f":"+'[1]itcer global'!BB223","v":0.93486014529719419},{"$f":"+'[1]itcer global'!BC223","v":1.2672032135593414},{"$f":"+'[1]itcer global'!BD223","v":1.4597718620247511},{"$f":"+'[1]itcer global'!BE223","v":2.2173434771809766},null,{"$f":"+'[1]itcer global'!BG223","v":0.52917472520649866},{"$f":"+'[1]itcer global'!BH223","v":1.0662431715290901},{"$f":"+'[1]itcer global'!BI223","v":0.72198057232476121},{"$f":"+'[1]itcer global'!BJ223","v":0.68940106614328467},{"$f":"+'[1]itcer global'!BK223","v":0.68292816086969976},{"$f":"+'[1]itcer global'!BL223","v":0.42698713747023737}]
[null,"Diciembre",{"$f":"+'[1]itcer global'!J224","v":96.226273160971758},{"$f":"+'[1]itcer global'!K224","v":102.04641070295848},{"$f":"+'[1]itcer global'!L224","v":68.328575290589953},{"$f":"+'[1]itcer global'!M224","v":87.321727368410706},{"$f":"+'[1]itcer global'!N224","v":100.4643922665929},{"$f":"+'[1]itcer global'!O224","v":96.3462572867859},null,{"$f":"+'[1]itcer global'!AS224","v":0.24868383756302137},{"$f":"+'[1]itcer global'!AT224","v":0.24218516918084276},{"$f":"+'[1]itcer global'!AU224","v":1.2348884371701843},{"$f":"+'[1]itcer global'!AV224","v":-4.5097034350348508E-2},{"$f":"+'[1]itcer global'!AW224","v":0.77484802863465063},{"$f":"+'[1]itcer global'!AX224","v":1.7623396236227507},null,{"$f":"+'[1]itcer global'!AZ224","v":1.8203870552276591},{"$f":"+'[1]itcer global'!BA224","v":0.95948403491876344},{"$f":"+'[1]itcer global'!BB224","v":0.94785504842190915},{"$f":"+'[1]itcer global'!BC224","v":1.2762273284693164},{"$f":"+'[1]itcer global'!BD224","v":1.4750525957394989},{"$f":"+'[1]itcer global'!BE224","v":2.2405510525997845},null,{"$f":"+'[1]itcer global'!BG224","v":0.52860336973192568},{"$f":"+'[1]itcer global'!BH224","v":1.0635550669855431},{"$f":"+'[1]itcer global'!BI224","v":0.7208757858530237},{"$f":"+'[1]itcer global'!BJ224","v":0.68421765793984979},{"$f":"+'[1]itcer global'!BK224","v":0.68109023743811903},{"$f":"+'[1]itcer global'!BL224","v":0.43001143479856085}]
[2009,"Enero",{"$f":"+'[1]itcer global'!J225","v":96.269097002425184},{"$f":"+'[1]itcer global'!K225","v":101.70426507454737},{"$f":"+'[1]itcer global'!L225","v":69.652091273063519},{"$f":"+'[1]itcer global'!M225","v":86.919979448170395},{"$f":"+'[1]itcer global'!N225","v":100.30512282501007},{"$f":"+'[1]itcer global'!O225","v":96.035367829949891},null,{"$f":"+'[1]itcer global'!AS225","v":4.4503273426983014E-2},{"$f":"+'[1]itcer global'!AT225","v":-0.33528433391650481},{"$f":"+'[1]itcer global'!AU225","v":1.9369875295143686},{"$f":"+'[1]itcer global'!AV225","v":-0.46007784356501702},{"$f":"+'[1]itcer global'!AW225","v":-0.15853322554342242},{"$f":"+'[1]itcer global'!AX225","v":-0.32267932931800658},null,{"$f":"+'[1]itcer global'!AZ225","v":1.8286913728184455},{"$f":"+'[1]itcer global'!BA225","v":0.95112523762314671},{"$f":"+'[1]itcer global'!BB225","v":0.96141491094454312},{"$f":"+'[1]itcer global'!BC225","v":1.2690689505521264},{"$f":"+'[1]itcer global'!BD225","v":1.4738844481374644},{"$f":"+'[1]itcer global'!BE225","v":2.2360922213601211},null,{"$f":"+'[1]itcer global'!BG225","v":0.52643709284881535},{"$f":"+'[1]itcer global'!BH225","v":1.0693046620096571},{"$f":"+'[1]itcer global'!BI225","v":0.72447483890835151},{"$f":"+'[1]itcer global'!BJ225","v":0.68491140225560332},{"$f":"+'[1]itcer global'!BK225","v":0.68054943487438813},{"$f":"+'[1]itcer global'!BL225","v":0.42947856493832615}]
[null,"Febrero",{"$f":"+'[1]itcer global'!J226","v":96.033473650869794},{"$f":"+'[1]itcer global'!K226","v":101.01331561437352},{"$f":"+'[1]itcer global'!L226","v":70.367644112241507},{"$f":"+'[1]itcer global'!M226","v":85.7620845678519},{"$f":"+'[1]itcer global'!N226","v":99.351556494910525},{"$f":"+'[1]itcer global'!O226","v":95.671591089831452},null,{"$f":"+'[1]itcer global'!AS226","v":-0.2447549202102266},{"$f":"+'[1]itcer global'!AT226","v":-0.67937117451994311},{"$f":"+'[1]itcer global'!AU226","v":1.027324271388693},{"$f":"+'[1]itcer global'!AV226","v":-1.3321389255607698},{"$f":"+'[1]itcer global'!AW226","v":-0.95066563226598078},{"$f":"+'[1]itcer global'!AX226","v":-0.37879455073527879},null,{"$f":"+'[1]itcer global'!AZ226","v":1.8260879510792223},{"$f":"+'[1]itcer global'!BA226","v":0.94111335797126083},{"$f":"+'[1]itcer global'!BB226","v":0.96186823512959085},{"$f":"+'[1]itcer global'!BC226","v":1.2583977494712737},{"$f":"+'[1]itcer global'!BD226","v":1.4644129315043881},{"$f":"+'[1]itcer global'!BE226","v":2.225298224476024},null,{"$f":"+'[1]itcer global'!BG226","v":0.52589730737839757},{"$f":"+'[1]itcer global'!BH226","v":1.0733384534263324},{"$f":"+'[1]itcer global'!BI226","v":0.73157259531250673},{"$f":"+'[1]itcer global'!BJ226","v":0.68151810191877349},{"$f":"+'[1]itcer global'!BK226","v":0.67843949174121876},{"$f":"+'[1]itcer global'!BL226","v":0.42992705443944984}]
[null,"Marzo",{"$f":"+'[1]itcer global'!J227","v":96.751394202093664},{"$f":"+'[1]itcer global'!K227","v":100.31511890256455},{"$f":"+'[1]itcer global'!L227","v":71.816863951969282},{"$f":"+'[1]itcer global'!M227","v":85.733108901134457},{"$f":"+'[1]itcer global'!N227","v":99.885481099336218},{"$f":"+'[1]itcer global'!O227","v":95.999787361666449},null,{"$f":"+'[1]itcer global'!AS227","v":0.74757324079921261},{"$f":"+'[1]itcer global'!AT227","v":-0.69119274777040118},{"$f":"+'[1]itcer global'!AU227","v":2.0594974551317478},{"$f":"+'[1]itcer global'!AV227","v":-3.3786103571813442E-2},{"$f":"+'[1]itcer global'!AW227","v":0.53740940078080257},{"$f":"+'[1]itcer global'!AX227","v":0.34304464689714109},null,{"$f":"+'[1]itcer global'!AZ227","v":1.8353022901963714},{"$f":"+'[1]itcer global'!BA227","v":0.93774260111181129},{"$f":"+'[1]itcer global'!BB227","v":0.97633997202128886},{"$f":"+'[1]itcer global'!BC227","v":1.2551468229127514},{"$f":"+'[1]itcer global'!BD227","v":1.4608765235675909},{"$f":"+'[1]itcer global'!BE227","v":2.2297150381391164},null,{"$f":"+'[1]itcer global'!BG227","v":0.52716871067458637},{"$f":"+'[1]itcer global'!BH227","v":1.0697511106313011},{"$f":"+'[1]itcer global'!BI227","v":0.73557230073545876},{"$f":"+'[1]itcer global'!BJ227","v":0.68305243128591342},{"$f":"+'[1]itcer global'!BK227","v":0.68373664363779996},{"$f":"+'[1]itcer global'!BL227","v":0.43054733775212056}]
[null,"Abril",{"$f":"+'[1]itcer global'!J228","v":98.365471329502526},{"$f":"+'[1]itcer global'!K228","v":101.0719888719544},{"$f":"+'[1]itcer global'!L228","v":72.84601377480017},{"$f":"+'[1]itcer global'!M228","v":85.993446486362288},{"$f":"+'[1]itcer global'!N228","v":100.67876320915242},{"$f":"+'[1]itcer global'!O228","v":97.37222093881104},null,{"$f":"+'[1]itcer global'!AS228","v":1.6682727321090596},{"$f":"+'[1]itcer global'!AT228","v":0.7544924211523778},{"$f":"+'[1]itcer global'!AU228","v":1.4330197201581711},{"$f":"+'[1]itcer global'!AV228","v":0.30366049775243198},{"$f":"+'[1]itcer global'!AW228","v":0.79419160931635702},{"$f":"+'[1]itcer global'!AX228","v":1.4296214761123593},null,{"$f":"+'[1]itcer global'!AZ228","v":1.8675095828196329},{"$f":"+'[1]itcer global'!BA228","v":0.94339410327887752},{"$f":"+'[1]itcer global'!BB228","v":0.98871334019448798},{"$f":"+'[1]itcer global'!BC228","v":1.2604252941101364},{"$f":"+'[1]itcer global'!BD228","v":1.4675866230282746},{"$f":"+'[1]itcer global'!BE228","v":2.2588259838321862},null,{"$f":"+'[1]itcer global'!BG228","v":0.52672003525136846},{"$f":"+'[1]itcer global'!BH228","v":1.0713654931768894},{"$f":"+'[1]itcer global'!BI228","v":0.73677587641803999},{"$f":"+'[1]itcer global'!BJ228","v":0.68225738477482623},{"$f":"+'[1]itcer global'!BK228","v":0.68601581419029301},{"$f":"+'[1]itcer global'!BL228","v":0.4310744680456316}]
[null,"Mayo",{"$f":"+'[1]itcer global'!J229","v":100.36817006143136},{"$f":"+'[1]itcer global'!K229","v":101.38224734822266},{"$f":"+'[1]itcer global'!L229","v":73.43274069239196},{"$f":"+'[1]itcer global'!M229","v":86.578024196507201},{"$f":"+'[1]itcer global'!N229","v":102.04422879745788},{"$f":"+'[1]itcer global'!O229","v":98.485856942726173},null,{"$f":"+'[1]itcer global'!AS229","v":2.0359773656959561},{"$f":"+'[1]itcer global'!AT229","v":0.30696781544618545},{"$f":"+'[1]itcer global'!AU229","v":0.80543448733602929},{"$f":"+'[1]itcer global'!AV229","v":0.67979332615495025},{"$f":"+'[1]itcer global'!AW229","v":1.3562597957911038},{"$f":"+'[1]itcer global'!AX229","v":1.1436896408216342},null,{"$f":"+'[1]itcer global'!AZ229","v":1.9006623068390436},{"$f":"+'[1]itcer global'!BA229","v":0.94792356054965432},{"$f":"+'[1]itcer global'!BB229","v":0.99662202164180791},{"$f":"+'[1]itcer global'!BC229","v":1.266659984471415},{"$f":"+'[1]itcer global'!BD229","v":1.4876677062902632},{"$f":"+'[1]itcer global'!BE229","v":2.2835113478628566},null,{"$f":"+'[1]itcer global'!BG229","v":0.52806945084501522},{"$f":"+'[1]itcer global'!BH229","v":1.0695192267342328},{"$f":"+'[1]itcer global'!BI229","v":0.73681635663057965},{"$f":"+'[1]itcer global'!BJ229","v":0.68351432316413407},{"$f":"+'[1]itcer global'!BK229","v":0.68593428738143036},{"$f":"+'[1]itcer global'!BL229","v":0.43129129634017055}]
[null,"Junio",{"$f":"+'[1]itcer global'!J230","v":101.56110634128245},{"$f":"+'[1]itcer global'!K230","v":101.93537199501993},{"$f":"+'[1]itcer global'!L230","v":74.271685442133929},{"$f":"+'[1]itcer global'!M230","v":86.744897767066419},{"$f":"+'[1]itcer global'!N230","v":103.17864712680129},{"$f":"+'[1]itcer global'!O230","v":97.259468545269698},null,{"$f":"+'[1]itcer global'!AS230","v":1.188560356456577},{"$f":"+'[1]itcer global'!AT230","v":0.54558333560848382},{"$f":"+'[1]itcer global'!AU230","v":1.1424668912417388},{"$f":"+'[1]itcer global'!AV230","v":0.1927435652498275},{"$f":"+'[1]itcer global'!AW230","v":1.1116927852873175},{"$f":"+'[1]itcer global'!AX230","v":-1.2452431603145584},null,{"$f":"+'[1]itcer global'!AZ230","v":1.9172022469737287},{"$f":"+'[1]itcer global'!BA230","v":0.94939747574137501},{"$f":"+'[1]itcer global'!BB230","v":1.0024962350504096},{"$f":"+'[1]itcer global'!BC230","v":1.2694283767965453},{"$f":"+'[1]itcer global'!BD230","v":1.4986188601541452},{"$f":"+'[1]itcer global'!BE230","v":2.2893602873312728},null,{"$f":"+'[1]itcer global'!BG230","v":0.52973600725533754},{"$f":"+'[1]itcer global'!BH230","v":1.0736848854102927},{"$f":"+'[1]itcer global'!BI230","v":0.74086747506238004},{"$f":"+'[1]itcer global'!BJ230","v":0.68333825958712802},{"$f":"+'[1]itcer global'!BK230","v":0.68849158295117507},{"$f":"+'[1]itcer global'!BL230","v":0.42483251362172408}]
[null,"Julio",{"$f":"+'[1]itcer global'!J231","v":101.51334977164511},{"$f":"+'[1]itcer global'!K231","v":102.32215639994109},{"$f":"+'[1]itcer global'!L231","v":74.432032242105009},{"$f":"+'[1]itcer global'!M231","v":86.043377206290813},{"$f":"+'[1]itcer global'!N231","v":104.34375280146267},{"$f":"+'[1]itcer global'!O231","v":97.287485216368239},null,{"$f":"+'[1]itcer global'!AS231","v":-4.7022498432482962E-2},{"$f":"+'[1]itcer global'!AT231","v":0.37944081367560045},{"$f":"+'[1]itcer global'!AU231","v":0.21589223270825642},{"$f":"+'[1]itcer global'!AV231","v":-0.80871679929738605},{"$f":"+'[1]itcer global'!AW231","v":1.1292120095638865},{"$f":"+'[1]itcer global'!AX231","v":2.8806111649174682E-2},null,{"$f":"+'[1]itcer global'!AZ231","v":1.9374456246406822},{"$f":"+'[1]itcer global'!BA231","v":0.9487668507607887},{"$f":"+'[1]itcer global'!BB231","v":1.0086773337073127},{"$f":"+'[1]itcer global'!BC231","v":1.2700449187149754},{"$f":"+'[1]itcer global'!BD231","v":1.5057363653394353},{"$f":"+'[1]itcer global'!BE231","v":2.2966299897263824},null,{"$f":"+'[1]itcer global'!BG231","v":0.52395457441791027},{"$f":"+'[1]itcer global'!BH231","v":1.078475247294864},{"$f":"+'[1]itcer global'!BI231","v":0.73791716889816528},{"$f":"+'[1]itcer global'!BJ231","v":0.67748294519652918},{"$f":"+'[1]itcer global'!BK231","v":0.69297491382524101},{"$f":"+'[1]itcer global'!BL231","v":0.42360974842081084}]
[null,"Agosto",{"$f":"+'[1]itcer global'!J232","v":102.39898436136241},{"$f":"+'[1]itcer global'!K232","v":102.81262175859139},{"$f":"+'[1]itcer global'!L232","v":75.627168719638277},{"$f":"+'[1]itcer global'!M232","v":86.229030534079854},{"$f":"+'[1]itcer global'!N232","v":105.06669897754571},{"$f":"+'[1]itcer global'!O232","v":97.209887109902468},null,{"$f":"+'[1]itcer global'!AS232","v":0.87243164737400036},{"$f":"+'[1]itcer global'!AT232","v":0.47933446274650748},{"$f":"+'[1]itcer global'!AU232","v":1.6056749245349806},{"$f":"+'[1]itcer global'!AV232","v":0.21576713259862856},{"$f":"+'[1]itcer global'!AW232","v":0.69285046461631339},{"$f":"+'[1]itcer global'!AX232","v":-7.9761653097719432E-2},null,{"$f":"+'[1]itcer global'!AZ232","v":1.9626197264841174},{"$f":"+'[1]itcer global'!BA232","v":0.94930320726755146},{"$f":"+'[1]itcer global'!BB232","v":1.023453774039603},{"$f":"+'[1]itcer global'!BC232","v":1.2714206098377276},{"$f":"+'[1]itcer global'!BD232","v":1.517198744899549},{"$f":"+'[1]itcer global'!BE232","v":2.3086855555507459},null,{"$f":"+'[1]itcer global'!BG232","v":0.52174643401145426},{"$f":"+'[1]itcer global'!BH232","v":1.0830324913209177},{"$f":"+'[1]itcer global'!BI232","v":0.73894073809641214},{"$f":"+'[1]itcer global'!BJ232","v":0.67821010503428392},{"$f":"+'[1]itcer global'!BK232","v":0.69250452078710356},{"$f":"+'[1]itcer global'!BL232","v":0.42106161610524168}]
[null,"Septiembre",{"$f":"+'[1]itcer global'!J233","v":102.64246361701899},{"$f":"+'[1]itcer global'!K233","v":103.06693399403473},{"$f":"+'[1]itcer global'!L233","v":75.709306431700327},{"$f":"+'[1]itcer global'!M233","v":86.408100753179298},{"$f":"+'[1]itcer global'!N233","v":105.37836249037778},{"$f":"+'[1]itcer global'!O233","v":97.449281199539143},null,{"$f":"+'[1]itcer global'!AS233","v":0.23777506893753753},{"$f":"+'[1]itcer global'!AT233","v":0.24735507284357539},{"$f":"+'[1]itcer global'!AU233","v":0.10860873605693655},{"$f":"+'[1]itcer global'!AV233","v":0.20766813449057508},{"$f":"+'[1]itcer global'!AW233","v":0.29663396286836985},{"$f":"+'[1]itcer global'!AX233","v":0.24626516577066582},null,{"$f":"+'[1]itcer global'!AZ233","v":1.9674597339005502},{"$f":"+'[1]itcer global'!BA233","v":0.94928130143173406},{"$f":"+'[1]itcer global'!BB233","v":1.0300387103642703},{"$f":"+'[1]itcer global'!BC233","v":1.2737476136165109},{"$f":"+'[1]itcer global'!BD233","v":1.5256499346202435},{"$f":"+'[1]itcer global'!BE233","v":2.3152566813243021},null,{"$f":"+'[1]itcer global'!BG233","v":0.5217004538818546},{"$f":"+'[1]itcer global'!BH233","v":1.085736481257833},{"$f":"+'[1]itcer global'!BI233","v":0.73501418606807445},{"$f":"+'[1]itcer global'!BJ233","v":0.67837693927326426},{"$f":"+'[1]itcer global'!BK233","v":0.69071128375598156},{"$f":"+'[1]itcer global'!BL233","v":0.42090055061972309}]
[null,"Octubre",{"$f":"+'[1]itcer global'!J234","v":102.20037501742739},{"$f":"+'[1]itcer global'!K234","v":104.18801074793124},{"$f":"+'[1]itcer global'!L234","v":76.545829058801971},{"$f":"+'[1]itcer global'!M234","v":86.461239225923507},{"$f":"+'[1]itcer global'!N234","v":105.8603685701309},{"$f":"+'[1]itcer global'!O234","v":97.86104318976308},null,{"$f":"+'[1]itcer global'!AS234","v":-0.43070731548408503},{"$f":"+'[1]itcer global'!AT234","v":1.0877171857672607},{"$f":"+'[1]itcer global'!AU234","v":1.104913869282754},{"$f":"+'[1]itcer global'!AV234","v":6.1497096083613201E-2},{"$f":"+'[1]itcer global'!AW234","v":0.45740517157601346},{"$f":"+'[1]itcer global'!AX234","v":0.42253979214153503},null,{"$f":"+'[1]itcer global'!AZ234","v":1.9618201113922926},{"$f":"+'[1]itcer global'!BA234","v":0.95202172950590613},{"$f":"+'[1]itcer global'!BB234","v":1.0388720222858372},{"$f":"+'[1]itcer global'!BC234","v":1.2775631593782864},{"$f":"+'[1]itcer global'!BD234","v":1.538417794267847},{"$f":"+'[1]itcer global'!BE234","v":2.3279223096957593},null,{"$f":"+'[1]itcer global'!BG234","v":0.52094671893691802},{"$f":"+'[1]itcer global'!BH234","v":1.0943868981016245},{"$f":"+'[1]itcer global'!BI234","v":0.73681673408027337},{"$f":"+'[1]itcer global'!BJ234","v":0.67676684781673757},{"$f":"+'[1]itcer global'!BK234","v":0.68811196129274654},{"$f":"+'[1]itcer global'!BL234","v":0.42037933474915978}]
[null,"Noviembre",{"$f":"+'[1]itcer global'!J235","v":100.13339899939217},{"$f":"+'[1]itcer global'!K235","v":103.26535244680294},{"$f":"+'[1]itcer global'!L235","v":76.549563973861183},{"$f":"+'[1]itcer global'!M235","v":86.707681192096032},{"$f":"+'[1]itcer global'!N235","v":106.89227377881242},{"$f":"+'[1]itcer global'!O235","v":97.15919594421149},null,{"$f":"+'[1]itcer global'!AS235","v":-2.0224740052888706},{"$f":"+'[1]itcer global'!AT235","v":-0.88557051286885269},{"$f":"+'[1]itcer global'!AU235","v":4.8793188409206323E-3},{"$f":"+'[1]itcer global'!AV235","v":0.28503173026304296},{"$f":"+'[1]itcer global'!AW235","v":0.97477953517410754},{"$f":"+'[1]itcer global'!AX235","v":-0.71718757809543376},null,{"$f":"+'[1]itcer global'!AZ235","v":1.915677098820334},{"$f":"+'[1]itcer global'!BA235","v":0.95574182797858154},{"$f":"+'[1]itcer global'!BB235","v":1.0367813209610557},{"$f":"+'[1]itcer global'!BC235","v":1.2815135307377603},{"$f":"+'[1]itcer global'!BD235","v":1.5520283801258199},{"$f":"+'[1]itcer global'!BE235","v":2.3334164089709932},null,{"$f":"+'[1]itcer global'!BG235","v":0.52270499585266161},{"$f":"+'[1]itcer global'!BH235","v":1.0804732975348772},{"$f":"+'[1]itcer global'!BI235","v":0.73833857175303585},{"$f":"+'[1]itcer global'!BJ235","v":0.67660371203555603},{"$f":"+'[1]itcer global'!BK235","v":0.68872628327934882},{"$f":"+'[1]itcer global'!BL235","v":0.41638172925619155}]
[null,"Diciembre",{"$f":"+'[1]itcer global'!J236","v":98.876602569642586},{"$f":"+'[1]itcer global'!K236","v":103.55129848545793},{"$f":"+'[1]itcer global'!L236","v":76.780068780393961},{"$f":"+'[1]itcer global'!M236","v":86.53064708715992},{"$f":"+'[1]itcer global'!N236","v":106.86630117117039},{"$f":"+'[1]itcer global'!O236","v":96.871629636746022},null,{"$f":"+'[1]itcer global'!AS236","v":-1.2551221094144722},{"$f":"+'[1]itcer global'!AT236","v":0.27690414246374928},{"$f":"+'[1]itcer global'!AU236","v":0.30111837947434594},{"$f":"+'[1]itcer global'!AV236","v":-0.20417349709063615},{"$f":"+'[1]itcer global'!AW236","v":-2.4297927926738794E-2},{"$f":"+'[1]itcer global'!AX236","v":-0.2959743590617876},null,{"$f":"+'[1]itcer global'!AZ236","v":1.9109605230254885},{"$f":"+'[1]itcer global'!BA236","v":0.95410845046610027},{"$f":"+'[1]itcer global'!BB236","v":1.039559365277505},{"$f":"+'[1]itcer global'!BC236","v":1.2790574866575484},{"$f":"+'[1]itcer global'!BD236","v":1.5543444903364894},{"$f":"+'[1]itcer global'!BE236","v":2.3299519286391552},null,{"$f":"+'[1]itcer global'!BG236","v":0.51741834212827298},{"$f":"+'[1]itcer global'!BH236","v":1.0853200014617954},{"$f":"+'[1]itcer global'!BI236","v":0.73858282023074195},{"$f":"+'[1]itcer global'!BJ236","v":0.67651882725993095},{"$f":"+'[1]itcer global'!BK236","v":0.6875329235929909},{"$f":"+'[1]itcer global'!BL236","v":0.4157666449939395}]
[2010,"Enero",{"$f":"+'[1]itcer global'!J237","v":96.427962670244156},{"$f":"+'[1]itcer global'!K237","v":103.332104302931},{"$f":"+'[1]itcer global'!L237","v":76.37592604538402},{"$f":"+'[1]itcer global'!M237","v":86.118443164788388},{"$f":"+'[1]itcer global'!N237","v":106.90220329421456},{"$f":"+'[1]itcer global'!O237","v":95.607057681436984},null,{"$f":"+'[1]itcer global'!AS237","v":-2.4764603918037693},{"$f":"+'[1]itcer global'!AT237","v":-0.21167690384656623},{"$f":"+'[1]itcer global'!AU237","v":-0.52636412213418282},{"$f":"+'[1]itcer global'!AV237","v":-0.47636754866321951},{"$f":"+'[1]itcer global'!AW237","v":3.3595364161300267E-2},{"$f":"+'[1]itcer global'!AX237","v":-1.3054100153481443},null,{"$f":"+'[1]itcer global'!AZ237","v":1.8884333498695793},{"$f":"+'[1]itcer global'!BA237","v":0.95071960914779108},{"$f":"+'[1]itcer global'!BB237","v":1.0428667664853393},{"$f":"+'[1]itcer global'!BC237","v":1.2747851432555406},{"$f":"+'[1]itcer global'!BD237","v":1.5609451963518082},{"$f":"+'[1]itcer global'!BE237","v":2.3230478582253267},null,{"$f":"+'[1]itcer global'!BG237","v":0.51062412489645848},{"$f":"+'[1]itcer global'!BH237","v":1.0868830652978345},{"$f":"+'[1]itcer global'!BI237","v":0.73236513522034574},{"$f":"+'[1]itcer global'!BJ237","v":0.67555261073140127},{"$f":"+'[1]itcer global'!BK237","v":0.68485558329698593},{"$f":"+'[1]itcer global'!BL237","v":0.4115587087150035}]
[null,"Febrero",{"$f":"+'[1]itcer global'!J238","v":93.507629830409115},{"$f":"+'[1]itcer global'!K238","v":103.64027770995028},{"$f":"+'[1]itcer global'!L238","v":73.912420933807255},{"$f":"+'[1]itcer global'!M238","v":85.567154898553298},{"$f":"+'[1]itcer global'!N238","v":106.2935490261074},{"$f":"+'[1]itcer global'!O238","v":95.272975261311544},null,{"$f":"+'[1]itcer global'!AS238","v":-3.0285124345328427},{"$f":"+'[1]itcer global'!AT238","v":0.29823587654406936},{"$f":"+'[1]itcer global'!AU238","v":-3.2254994985107004},{"$f":"+'[1]itcer global'!AV238","v":-0.64015122193998764},{"$f":"+'[1]itcer global'!AW238","v":-0.56935614921988531},{"$f":"+'[1]itcer global'!AX238","v":-0.34943280153919432},null,{"$f":"+'[1]itcer global'!AZ238","v":1.8393971326391381},{"$f":"+'[1]itcer global'!BA238","v":0.95167076489012969},{"$f":"+'[1]itcer global'!BB238","v":1.0112799998974391},{"$f":"+'[1]itcer global'!BC238","v":1.2732282422035577},{"$f":"+'[1]itcer global'!BD238","v":1.5705997871284518},{"$f":"+'[1]itcer global'!BE238","v":2.3153655453488802},null,{"$f":"+'[1]itcer global'!BG238","v":0.50836020221606992},{"$f":"+'[1]itcer global'!BH238","v":1.0890350059446827},{"$f":"+'[1]itcer global'!BI238","v":0.73087988431792605},{"$f":"+'[1]itcer global'!BJ238","v":0.67204882881378325},{"$f":"+'[1]itcer global'!BK238","v":0.67677042806968224},{"$f":"+'[1]itcer global'!BL238","v":0.4114813552991512}]
[null,"Marzo",{"$f":"+'[1]itcer global'!J239","v":91.299112500547153},{"$f":"+'[1]itcer global'!K239","v":104.5639091262714},{"$f":"+'[1]itcer global'!L239","v":72.62384043372505},{"$f":"+'[1]itcer global'!M239","v":85.888499645810597},{"$f":"+'[1]itcer global'!N239","v":106.79101187535466},{"$f":"+'[1]itcer global'!O239","v":95.382603362913414},null,{"$f":"+'[1]itcer global'!AS239","v":-2.3618578867494051},{"$f":"+'[1]itcer global'!AT239","v":0.8911896385553888},{"$f":"+'[1]itcer global'!AU239","v":-1.7433883017256306},{"$f":"+'[1]itcer global'!AV239","v":0.37554684111944425},{"$f":"+'[1]itcer global'!AW239","v":0.46800850456602916},{"$f":"+'[1]itcer global'!AX239","v":0.11506736438238363},null,{"$f":"+'[1]itcer global'!AZ239","v":1.7890054995086975},{"$f":"+'[1]itcer global'!BA239","v":0.95689318180279148},{"$f":"+'[1]itcer global'!BB239","v":1.0001693549767032},{"$f":"+'[1]itcer global'!BC239","v":1.2768509112020521},{"$f":"+'[1]itcer global'!BD239","v":1.587160991970511},{"$f":"+'[1]itcer global'!BE239","v":2.3258964991929418},null,{"$f":"+'[1]itcer global'!BG239","v":0.51033444293838115},{"$f":"+'[1]itcer global'!BH239","v":1.0927437995667653},{"$f":"+'[1]itcer global'!BI239","v":0.72611543307499837},{"$f":"+'[1]itcer global'!BJ239","v":0.67265879588834299},{"$f":"+'[1]itcer global'!BK239","v":0.672842971920386},{"$f":"+'[1]itcer global'!BL239","v":0.41008962950849293}]
[null,"Abril",{"$f":"+'[1]itcer global'!J240","v":87.640988520729479},{"$f":"+'[1]itcer global'!K240","v":105.14013043483031},{"$f":"+'[1]itcer global'!L240","v":72.868654959795151},{"$f":"+'[1]itcer global'!M240","v":85.582150086612387},{"$f":"+'[1]itcer global'!N240","v":107.40090248377898},{"$f":"+'[1]itcer global'!O240","v":95.482484144727522},null,{"$f":"+'[1]itcer global'!AS240","v":-4.0067464837577234},{"$f":"+'[1]itcer global'!AT240","v":0.55107093200108181},{"$f":"+'[1]itcer global'!AU240","v":0.33709939409429523},{"$f":"+'[1]itcer global'!AV240","v":-0.35668286262018967},{"$f":"+'[1]itcer global'!AW240","v":0.57110668558529198},{"$f":"+'[1]itcer global'!AX240","v":0.10471593172403004},null,{"$f":"+'[1]itcer global'!AZ240","v":1.7154660650437414},{"$f":"+'[1]itcer global'!BA240","v":0.9590240277417923},{"$f":"+'[1]itcer global'!BB240","v":1.0013476014984659},{"$f":"+'[1]itcer global'!BC240","v":1.2773257589973244},{"$f":"+'[1]itcer global'!BD240","v":1.5993025942032129},{"$f":"+'[1]itcer global'!BE240","v":2.3328312695429156},null,{"$f":"+'[1]itcer global'!BG240","v":0.51088733439034717},{"$f":"+'[1]itcer global'!BH240","v":1.0963242566758531},{"$f":"+'[1]itcer global'!BI240","v":0.72770589204738589},{"$f":"+'[1]itcer global'!BJ240","v":0.67001036723625385},{"$f":"+'[1]itcer global'!BK240","v":0.67154835409547431},{"$f":"+'[1]itcer global'!BL240","v":0.40929871521927902}]
[null,"Mayo",{"$f":"+'[1]itcer global'!J241","v":87.642792980633743},{"$f":"+'[1]itcer global'!K241","v":104.29264719392484},{"$f":"+'[1]itcer global'!L241","v":72.036172493215474},{"$f":"+'[1]itcer global'!M241","v":84.679389295749388},{"$f":"+'[1]itcer global'!N241","v":106.6995642499737},{"$f":"+'[1]itcer global'!O241","v":94.801688960608331},null,{"$f":"+'[1]itcer global'!AS241","v":2.0589223543936441E-3},{"$f":"+'[1]itcer global'!AT241","v":-0.80605115991441778},{"$f":"+'[1]itcer global'!AU241","v":-1.142442476863323},{"$f":"+'[1]itcer global'!AV241","v":-1.0548470562487324},{"$f":"+'[1]itcer global'!AW241","v":-0.65300962802542983},{"$f":"+'[1]itcer global'!AX241","v":-0.71300531214424723},null,{"$f":"+'[1]itcer global'!AZ241","v":1.7242937892255483},{"$f":"+'[1]itcer global'!BA241","v":0.94900622142396418},{"$f":"+'[1]itcer global'!BB241","v":0.98884853760245672},{"$f":"+'[1]itcer global'!BC241","v":1.2660158183605761},{"$f":"+'[1]itcer global'!BD241","v":1.5870795701602451},{"$f":"+'[1]itcer global'!BE241","v":2.3235893839027062},null,{"$f":"+'[1]itcer global'!BG241","v":0.50828225171533992},{"$f":"+'[1]itcer global'!BH241","v":1.0989669492096259},{"$f":"+'[1]itcer global'!BI241","v":0.7284854025053521},{"$f":"+'[1]itcer global'!BJ241","v":0.66886517583488614},{"$f":"+'[1]itcer global'!BK241","v":0.67230129009347905},{"$f":"+'[1]itcer global'!BL241","v":0.40799673822480292}]
[null,"Junio",{"$f":"+'[1]itcer global'!J242","v":88.228111688446916},{"$f":"+'[1]itcer global'!K242","v":103.53316735509316},{"$f":"+'[1]itcer global'!L242","v":71.578638268242727},{"$f":"+'[1]itcer global'!M242","v":84.104840976501791},{"$f":"+'[1]itcer global'!N242","v":106.78328726728347},{"$f":"+'[1]itcer global'!O242","v":94.679757813551106},null,{"$f":"+'[1]itcer global'!AS242","v":0.66784579530971655},{"$f":"+'[1]itcer global'!AT242","v":-0.72821992658742829},{"$f":"+'[1]itcer global'!AU242","v":-0.63514510715549477},{"$f":"+'[1]itcer global'!AV242","v":-0.67849842095688473},{"$f":"+'[1]itcer global'!AW242","v":7.8466128609136376E-2},{"$f":"+'[1]itcer global'!AX242","v":-0.12861706198914646},null,{"$f":"+'[1]itcer global'!AZ242","v":1.7399759151244025},{"$f":"+'[1]itcer global'!BA242","v":0.94548617554508585},{"$f":"+'[1]itcer global'!BB242","v":0.9872909602327431},{"$f":"+'[1]itcer global'!BC242","v":1.2621387152116861},{"$f":"+'[1]itcer global'!BD242","v":1.5867842975216382},{"$f":"+'[1]itcer global'!BE242","v":2.3183210390796192},null,{"$f":"+'[1]itcer global'!BG242","v":0.50706513188798308},{"$f":"+'[1]itcer global'!BH242","v":1.0950257130455121},{"$f":"+'[1]itcer global'!BI242","v":0.72500044213277137},{"$f":"+'[1]itcer global'!BJ242","v":0.66636765010726817},{"$f":"+'[1]itcer global'!BK242","v":0.67295402049330721},{"$f":"+'[1]itcer global'!BL242","v":0.40839795790810435}]
[null,"Julio",{"$f":"+'[1]itcer global'!J243","v":86.959648134353088},{"$f":"+'[1]itcer global'!K243","v":104.37823764003834},{"$f":"+'[1]itcer global'!L243","v":71.730229859216905},{"$f":"+'[1]itcer global'!M243","v":84.162205101530091},{"$f":"+'[1]itcer global'!N243","v":107.31248819660424},{"$f":"+'[1]itcer global'!O243","v":95.218447270447101},null,{"$f":"+'[1]itcer global'!AS243","v":-1.4377090587329491},{"$f":"+'[1]itcer global'!AT243","v":0.81623146140867675},{"$f":"+'[1]itcer global'!AU243","v":0.21178328428948134},{"$f":"+'[1]itcer global'!AV243","v":6.8205497284438366E-2},{"$f":"+'[1]itcer global'!AW243","v":0.49558404022171487},{"$f":"+'[1]itcer global'!AX243","v":0.56895947912838096},null,{"$f":"+'[1]itcer global'!AZ243","v":1.7197223508069421},{"$f":"+'[1]itcer global'!BA243","v":0.95164663066846356},{"$f":"+'[1]itcer global'!BB243","v":0.99208319354006025},{"$f":"+'[1]itcer global'!BC243","v":1.2708396701947209},{"$f":"+'[1]itcer global'!BD243","v":1.6065773424045109},{"$f":"+'[1]itcer global'!BE243","v":2.3396952331578929},null,{"$f":"+'[1]itcer global'!BG243","v":0.5056609754100666},{"$f":"+'[1]itcer global'!BH243","v":1.0968171827259043},{"$f":"+'[1]itcer global'!BI243","v":0.7230263583365546},{"$f":"+'[1]itcer global'!BJ243","v":0.66225667230418273},{"$f":"+'[1]itcer global'!BK243","v":0.66795718677317595},{"$f":"+'[1]itcer global'!BL243","v":0.40696944593903583}]
[null,"Agosto",{"$f":"+'[1]itcer global'!J244","v":85.197655194757303},{"$f":"+'[1]itcer global'!K244","v":105.03514131418383},{"$f":"+'[1]itcer global'!L244","v":72.109554513784872},{"$f":"+'[1]itcer global'!M244","v":84.130122007806563},{"$f":"+'[1]itcer global'!N244","v":109.16568941502945},{"$f":"+'[1]itcer global'!O244","v":95.726153571962826},null,{"$f":"+'[1]itcer global'!AS244","v":-2.0262190307779377},{"$f":"+'[1]itcer global'!AT244","v":0.62934926762312671},{"$f":"+'[1]itcer global'!AU244","v":0.52882118921473875},{"$f":"+'[1]itcer global'!AV244","v":-3.8120547916747682E-2},{"$f":"+'[1]itcer global'!AW244","v":1.7269203701902853},{"$f":"+'[1]itcer global'!AX244","v":0.5332016180369834},null,{"$f":"+'[1]itcer global'!AZ244","v":1.6858919987134773},{"$f":"+'[1]itcer global'!BA244","v":0.95454141845240681},{"$f":"+'[1]itcer global'!BB244","v":0.9964147151817031},{"$f":"+'[1]itcer global'!BC244","v":1.2748235580370457},{"$f":"+'[1]itcer global'!BD244","v":1.6235238622300567},{"$f":"+'[1]itcer global'!BE244","v":2.3533025507196039},null,{"$f":"+'[1]itcer global'!BG244","v":0.50535654276651509},{"$f":"+'[1]itcer global'!BH244","v":1.1003727997940287},{"$f":"+'[1]itcer global'!BI244","v":0.72369018055534418},{"$f":"+'[1]itcer global'!BJ244","v":0.65993541990507998},{"$f":"+'[1]itcer global'!BK244","v":0.67239966072984303},{"$f":"+'[1]itcer global'!BL244","v":0.40677367872945719}]
[null,"Septiembre",{"$f":"+'[1]itcer global'!J245","v":85.318721823286182},{"$f":"+'[1]itcer global'!K245","v":104.93917695999554},{"$f":"+'[1]itcer global'!L245","v":72.73980309140147},{"$f":"+'[1]itcer global'!M245","v":83.853332943133182},{"$f":"+'[1]itcer global'!N245","v":109.49122735600889},{"$f":"+'[1]itcer global'!O245","v":95.547133347378619},null,{"$f":"+'[1]itcer global'!AS245","v":0.14210089262682857},{"$f":"+'[1]itcer global'!AT245","v":-9.1364045392424487E-2},{"$f":"+'[1]itcer global'!AU245","v":0.87401535325824398},{"$f":"+'[1]itcer global'!AV245","v":-0.32900114497361699},{"$f":"+'[1]itcer global'!AW245","v":0.29820536353855687},{"$f":"+'[1]itcer global'!AX245","v":-0.18701286733477218},null,{"$f":"+'[1]itcer global'!AZ245","v":1.6833983193539317},{"$f":"+'[1]itcer global'!BA245","v":0.95447291647598465},{"$f":"+'[1]itcer global'!BB245","v":1.0060604408482443},{"$f":"+'[1]itcer global'!BC245","v":1.2760576534285049},{"$f":"+'[1]itcer global'!BD245","v":1.6325036492044445},{"$f":"+'[1]itcer global'!BE245","v":2.3637227780202212},null,{"$f":"+'[1]itcer global'!BG245","v":0.50682432578422965},{"$f":"+'[1]itcer global'!BH245","v":1.0994463556644656},{"$f":"+'[1]itcer global'!BI245","v":0.72301623379676905},{"$f":"+'[1]itcer global'!BJ245","v":0.65712809070841349},{"$f":"+'[1]itcer global'!BK245","v":0.67069514612948289},{"$f":"+'[1]itcer global'!BL245","v":0.40422309348563218}]
[null,"Octubre",{"$f":"+'[1]itcer global'!J246","v":86.625482648767857},{"$f":"+'[1]itcer global'!K246","v":105.73306135852677},{"$f":"+'[1]itcer global'!L246","v":73.181360516101506},{"$f":"+'[1]itcer global'!M246","v":84.122892290430642},{"$f":"+'[1]itcer global'!N246","v":109.17583927729542},{"$f":"+'[1]itcer global'!O246","v":96.821933307791497},null,{"$f":"+'[1]itcer global'!AS246","v":1.5316226000059601},{"$f":"+'[1]itcer global'!AT246","v":0.75651860585286101},{"$f":"+'[1]itcer global'!AU246","v":0.60703687105834092},{"$f":"+'[1]itcer global'!AV246","v":0.32146527494651878},{"$f":"+'[1]itcer global'!AW246","v":-0.28804871981934355},{"$f":"+'[1]itcer global'!AX246","v":1.3342105783311382},null,{"$f":"+'[1]itcer global'!AZ246","v":1.7110882473710438},{"$f":"+'[1]itcer global'!BA246","v":0.96391134698649461},{"$f":"+'[1]itcer global'!BB246","v":1.0137923345073625},{"$f":"+'[1]itcer global'!BC246","v":1.2881121845816068},{"$f":"+'[1]itcer global'!BD246","v":1.656739023821364},{"$f":"+'[1]itcer global'!BE246","v":2.4063813729311194},null,{"$f":"+'[1]itcer global'!BG246","v":0.50625958527773951},{"$f":"+'[1]itcer global'!BH246","v":1.0969168657375312},{"$f":"+'[1]itcer global'!BI246","v":0.72185750498560364},{"$f":"+'[1]itcer global'!BJ246","v":0.65307116334556436},{"$f":"+'[1]itcer global'!BK246","v":0.65898030834980315},{"$f":"+'[1]itcer global'!BL246","v":0.4023548985082796}]
[null,"Noviembre",{"$f":"+'[1]itcer global'!J247","v":86.443032134234798},{"$f":"+'[1]itcer global'!K247","v":105.61298845605563},{"$f":"+'[1]itcer global'!L247","v":72.25840310462101},{"$f":"+'[1]itcer global'!M247","v":83.490701565950033},{"$f":"+'[1]itcer global'!N247","v":107.77208970560537},{"$f":"+'[1]itcer global'!O247","v":96.510861385532692},null,{"$f":"+'[1]itcer global'!AS247","v":-0.21061991108646794},{"$f":"+'[1]itcer global'!AT247","v":-0.11356230579949056},{"$f":"+'[1]itcer global'!AU247","v":-1.2611919277961761},{"$f":"+'[1]itcer global'!AV247","v":-0.7515085457333015},{"$f":"+'[1]itcer global'!AW247","v":-1.2857694348698061},{"$f":"+'[1]itcer global'!AX247","v":-0.32128249419470478},null,{"$f":"+'[1]itcer global'!AZ247","v":1.7144029649200561},{"$f":"+'[1]itcer global'!BA247","v":0.96337108256792348},{"$f":"+'[1]itcer global'!BB247","v":1.0060734139556082},{"$f":"+'[1]itcer global'!BC247","v":1.2863029507083017},{"$f":"+'[1]itcer global'!BD247","v":1.6559380321545263},{"$f":"+'[1]itcer global'!BE247","v":2.4034430392537964},null,{"$f":"+'[1]itcer global'!BG247","v":0.50421653428641666},{"$f":"+'[1]itcer global'!BH247","v":1.096285640778607},{"$f":"+'[1]itcer global'!BI247","v":0.71822197170006241},{"$f":"+'[1]itcer global'!BJ247","v":0.64907494397004961},{"$f":"+'[1]itcer global'!BK247","v":0.65082199703683385},{"$f":"+'[1]itcer global'!BL247","v":0.40155252198319907}]
[null,"Diciembre",{"$f":"+'[1]itcer global'!J248","v":84.389359197688506},{"$f":"+'[1]itcer global'!K248","v":105.72390650152782},{"$f":"+'[1]itcer global'!L248","v":71.865413143432335},{"$f":"+'[1]itcer global'!M248","v":83.394739129142977},{"$f":"+'[1]itcer global'!N248","v":107.47021193320306},{"$f":"+'[1]itcer global'!O248","v":95.634788195335076},null,{"$f":"+'[1]itcer global'!AS248","v":-2.375753008475229},{"$f":"+'[1]itcer global'!AT248","v":0.10502311040876577},{"$f":"+'[1]itcer global'!AU248","v":-0.54386748710689403},{"$f":"+'[1]itcer global'!AV248","v":-0.11493787332864258},{"$f":"+'[1]itcer global'!AW248","v":-0.28010756145391724},{"$f":"+'[1]itcer global'!AX248","v":-0.90774569579060937},null,{"$f":"+'[1]itcer global'!AZ248","v":1.6813478756443312},{"$f":"+'[1]itcer global'!BA248","v":0.96081313099574939},{"$f":"+'[1]itcer global'!BB248","v":0.99894510770160827},{"$f":"+'[1]itcer global'!BC248","v":1.2822254691783999},{"$f":"+'[1]itcer global'!BD248","v":1.6572850678061877},{"$f":"+'[1]itcer global'!BE248","v":2.3975418869848775},null,{"$f":"+'[1]itcer global'!BG248","v":0.50191492444922248},{"$f":"+'[1]itcer global'!BH248","v":1.1003586763219988},{"$f":"+'[1]itcer global'!BI248","v":0.71941303470399531},{"$f":"+'[1]itcer global'!BJ248","v":0.65039059926472287},{"$f":"+'[1]itcer global'!BK248","v":0.64847149124118719},{"$f":"+'[1]itcer global'!BL248","v":0.39888682952523657}]
[2011,"Enero",{"$f":"+'[1]itcer global'!J249","v":84.480968990994228},{"$f":"+'[1]itcer global'!K249","v":105.78954864046904},{"$f":"+'[1]itcer global'!L249","v":71.633127469397138},{"$f":"+'[1]itcer global'!M249","v":83.543489000358562},{"$f":"+'[1]itcer global'!N249","v":109.2118199128234},{"$f":"+'[1]itcer global'!O249","v":95.448972574166106},null,{"$f":"+'[1]itcer global'!AS249","v":0.10855609543274625},{"$f":"+'[1]itcer global'!AT249","v":6.2088264720202346E-2},{"$f":"+'[1]itcer global'!AU249","v":-0.32322318049099863},{"$f":"+'[1]itcer global'!AV249","v":0.17836841120785607},{"$f":"+'[1]itcer global'!AW249","v":1.620549497662509},{"$f":"+'[1]itcer global'!AX249","v":-0.19429710116514798},null,{"$f":"+'[1]itcer global'!AZ249","v":1.6907598342454273},{"$f":"+'[1]itcer global'!BA249","v":0.9636895401316804},{"$f":"+'[1]itcer global'!BB249","v":1.0002597208406292},{"$f":"+'[1]itcer global'!BC249","v":1.2854549922485192},{"$f":"+'[1]itcer global'!BD249","v":1.6748139981025074},{"$f":"+'[1]itcer global'!BE249","v":2.4154448603605649},null,{"$f":"+'[1]itcer global'!BG249","v":0.49966273908261727},{"$f":"+'[1]itcer global'!BH249","v":1.0977554931852196},{"$f":"+'[1]itcer global'!BI249","v":0.71614527684065776},{"$f":"+'[1]itcer global'!BJ249","v":0.64991376208531582},{"$f":"+'[1]itcer global'!BK249","v":0.65208327633131624},{"$f":"+'[1]itcer global'!BL249","v":0.39516104938084978}]
[null,"Febrero",{"$f":"+'[1]itcer global'!J250","v":84.197651427920988},{"$f":"+'[1]itcer global'!K250","v":106.83193550606227},{"$f":"+'[1]itcer global'!L250","v":70.29355075199301},{"$f":"+'[1]itcer global'!M250","v":83.705979429979479},{"$f":"+'[1]itcer global'!N250","v":109.99816449598606},{"$f":"+'[1]itcer global'!O250","v":95.510866158820207},null,{"$f":"+'[1]itcer global'!AS250","v":-0.33536258693177956},{"$f":"+'[1]itcer global'!AT250","v":0.985340120067832},{"$f":"+'[1]itcer global'!AU250","v":-1.8700519783621274},{"$f":"+'[1]itcer global'!AV250","v":0.19449801721857796},{"$f":"+'[1]itcer global'!AW250","v":0.72001783670516772},{"$f":"+'[1]itcer global'!AX250","v":6.4844684007468345E-2},null,{"$f":"+'[1]itcer global'!AZ250","v":1.6846779357884487},{"$f":"+'[1]itcer global'!BA250","v":0.96984057866957674},{"$f":"+'[1]itcer global'!BB250","v":0.9847371067503512},{"$f":"+'[1]itcer global'!BC250","v":1.291169680317257},{"$f":"+'[1]itcer global'!BD250","v":1.691564082716758},{"$f":"+'[1]itcer global'!BE250","v":2.4352963549785751},null,{"$f":"+'[1]itcer global'!BG250","v":0.49978485287465646},{"$f":"+'[1]itcer global'!BH250","v":1.1015412002312162},{"$f":"+'[1]itcer global'!BI250","v":0.71383062819642185},{"$f":"+'[1]itcer global'!BJ250","v":0.64829573297765064},{"$f":"+'[1]itcer global'!BK250","v":0.65027488831119018},{"$f":"+'[1]itcer global'!BL250","v":0.39219401763388456}]
[null,"Marzo",{"$f":"+'[1]itcer global'!J251","v":84.983636335867047},{"$f":"+'[1]itcer global'!K251","v":107.69948568937724},{"$f":"+'[1]itcer global'!L251","v":69.549716809261156},{"$f":"+'[1]itcer global'!M251","v":84.257715925787679},{"$f":"+'[1]itcer global'!N251","v":111.06056629652792},{"$f":"+'[1]itcer global'!O251","v":96.063063569491106},null,{"$f":"+'[1]itcer global'!AS251","v":0.9334998003108268},{"$f":"+'[1]itcer global'!AT251","v":0.81207007923744357},{"$f":"+'[1]itcer global'!AU251","v":-1.0581823435783235},{"$f":"+'[1]itcer global'!AV251","v":0.65913630013699276},{"$f":"+'[1]itcer global'!AW251","v":0.96583593499927645},{"$f":"+'[1]itcer global'!AX251","v":0.57815140086017891},null,{"$f":"+'[1]itcer global'!AZ251","v":1.6891466384384903},{"$f":"+'[1]itcer global'!BA251","v":0.9757104027273974},{"$f":"+'[1]itcer global'!BB251","v":0.97541430361642911},{"$f":"+'[1]itcer global'!BC251","v":1.2973540532270733},{"$f":"+'[1]itcer global'!BD251","v":1.7055146013790914},{"$f":"+'[1]itcer global'!BE251","v":2.455162440541474},null,{"$f":"+'[1]itcer global'!BG251","v":0.5031158006176959},{"$f":"+'[1]itcer global'!BH251","v":1.1038058566181679},{"$f":"+'[1]itcer global'!BI251","v":0.71302744435261844},{"$f":"+'[1]itcer global'!BJ251","v":0.64945814688136028},{"$f":"+'[1]itcer global'!BK251","v":0.65118508048376467},{"$f":"+'[1]itcer global'!BL251","v":0.39126968539118279}]
[null,"Abril",{"$f":"+'[1]itcer global'!J252","v":86.03283247524098},{"$f":"+'[1]itcer global'!K252","v":105.9244074585915},{"$f":"+'[1]itcer global'!L252","v":69.238532278288531},{"$f":"+'[1]itcer global'!M252","v":84.378158360084214},{"$f":"+'[1]itcer global'!N252","v":111.93346648585546},{"$f":"+'[1]itcer global'!O252","v":96.478371847723153},null,{"$f":"+'[1]itcer global'!AS252","v":1.2345860739911814},{"$f":"+'[1]itcer global'!AT252","v":-1.6481770729206175},{"$f":"+'[1]itcer global'!AU252","v":-0.44742745944752471},{"$f":"+'[1]itcer global'!AV252","v":0.14294528753025304},{"$f":"+'[1]itcer global'!AW252","v":0.78596770972418994},{"$f":"+'[1]itcer global'!AX252","v":0.43232878777763517},null,{"$f":"+'[1]itcer global'!AZ252","v":1.7013219244982278},{"$f":"+'[1]itcer global'!BA252","v":0.98222557467103988},{"$f":"+'[1]itcer global'!BB252","v":0.96957543323685136},{"$f":"+'[1]itcer global'!BC252","v":1.3034553625677925},{"$f":"+'[1]itcer global'!BD252","v":1.717023531896702},{"$f":"+'[1]itcer global'!BE252","v":2.4733439985118331},null,{"$f":"+'[1]itcer global'!BG252","v":0.50568226528095028},{"$f":"+'[1]itcer global'!BH252","v":1.078412232282457},{"$f":"+'[1]itcer global'!BI252","v":0.71411186695542739},{"$f":"+'[1]itcer global'!BJ252","v":0.64734213984789002},{"$f":"+'[1]itcer global'!BK252","v":0.65190409104183145},{"$f":"+'[1]itcer global'!BL252","v":0.39007259768868563}]
[null,"Mayo",{"$f":"+'[1]itcer global'!J253","v":86.215938421424099},{"$f":"+'[1]itcer global'!K253","v":105.65691985485664},{"$f":"+'[1]itcer global'!L253","v":69.541690102242086},{"$f":"+'[1]itcer global'!M253","v":84.15790706111575},{"$f":"+'[1]itcer global'!N253","v":111.54421896084602},{"$f":"+'[1]itcer global'!O253","v":96.745485270582648},null,{"$f":"+'[1]itcer global'!AS253","v":0.21283263716304646},{"$f":"+'[1]itcer global'!AT253","v":-0.25252688228577824},{"$f":"+'[1]itcer global'!AU253","v":0.43784553770591117},{"$f":"+'[1]itcer global'!AV253","v":-0.26102880561641939},{"$f":"+'[1]itcer global'!AW253","v":-0.34774901307879702},{"$f":"+'[1]itcer global'!AX253","v":0.27686352676130355},null,{"$f":"+'[1]itcer global'!AZ253","v":1.7116194994282075},{"$f":"+'[1]itcer global'!BA253","v":0.98085128452733084},{"$f":"+'[1]itcer global'!BB253","v":0.97562370143365362},{"$f":"+'[1]itcer global'!BC253","v":1.3030250555285947},{"$f":"+'[1]itcer global'!BD253","v":1.7228687272055911},{"$f":"+'[1]itcer global'!BE253","v":2.4786299270594836},null,{"$f":"+'[1]itcer global'!BG253","v":0.50370972316116902},{"$f":"+'[1]itcer global'!BH253","v":1.077196120569617},{"$f":"+'[1]itcer global'!BI253","v":0.71279213491894877},{"$f":"+'[1]itcer global'!BJ253","v":0.645865608677614},{"$f":"+'[1]itcer global'!BK253","v":0.64743307020126428},{"$f":"+'[1]itcer global'!BL253","v":0.39031839410313429}]
[null,"Junio",{"$f":"+'[1]itcer global'!J254","v":86.036454264786315},{"$f":"+'[1]itcer global'!K254","v":105.35844730560142},{"$f":"+'[1]itcer global'!L254","v":70.102834337763554},{"$f":"+'[1]itcer global'!M254","v":83.678161080603218},{"$f":"+'[1]itcer global'!N254","v":111.40999041904827},{"$f":"+'[1]itcer global'!O254","v":95.99673425217631},null,{"$f":"+'[1]itcer global'!AS254","v":-0.20817978661958136},{"$f":"+'[1]itcer global'!AT254","v":-0.28249219233840961},{"$f":"+'[1]itcer global'!AU254","v":0.8069177419997402},{"$f":"+'[1]itcer global'!AV254","v":-0.57005455252605941},{"$f":"+'[1]itcer global'!AW254","v":-0.12033661900923676},{"$f":"+'[1]itcer global'!AX254","v":-0.77393897638964404},null,{"$f":"+'[1]itcer global'!AZ254","v":1.7174085697385157},{"$f":"+'[1]itcer global'!BA254","v":0.97718702003395685},{"$f":"+'[1]itcer global'!BB254","v":0.98872349317417352},{"$f":"+'[1]itcer global'!BC254","v":1.3008822357173675},{"$f":"+'[1]itcer global'!BD254","v":1.7306416873176285},{"$f":"+'[1]itcer global'!BE254","v":2.4864924711805054},null,{"$f":"+'[1]itcer global'!BG254","v":0.50096672265869624},{"$f":"+'[1]itcer global'!BH254","v":1.0781809944829215},{"$f":"+'[1]itcer global'!BI254","v":0.70902365344538498},{"$f":"+'[1]itcer global'!BJ254","v":0.64324163081878927},{"$f":"+'[1]itcer global'!BK254","v":0.64374960591482011},{"$f":"+'[1]itcer global'!BL254","v":0.38607289330178512}]
[null,"Julio",{"$f":"+'[1]itcer global'!J255","v":85.689849349149341},{"$f":"+'[1]itcer global'!K255","v":105.47590741757493},{"$f":"+'[1]itcer global'!L255","v":69.468931744016643},{"$f":"+'[1]itcer global'!M255","v":83.182509484516132},{"$f":"+'[1]itcer global'!N255","v":111.97049243631825},{"$f":"+'[1]itcer global'!O255","v":95.334148227193751},null,{"$f":"+'[1]itcer global'!AS255","v":-0.40285820539543238},{"$f":"+'[1]itcer global'!AT255","v":0.11148618357368889},{"$f":"+'[1]itcer global'!AU255","v":-0.90424673942952438},{"$f":"+'[1]itcer global'!AV255","v":-0.59233088978814408},{"$f":"+'[1]itcer global'!AW255","v":0.50309852389516152},{"$f":"+'[1]itcer global'!AX255","v":-0.6902172559766484},null,{"$f":"+'[1]itcer global'!AZ255","v":1.7149768485121524},{"$f":"+'[1]itcer global'!BA255","v":0.97810765031772595},{"$f":"+'[1]itcer global'!BB255","v":0.98773900520789748},{"$f":"+'[1]itcer global'!BC255","v":1.3000497189340621},{"$f":"+'[1]itcer global'!BD255","v":1.7421309106673999},{"$f":"+'[1]itcer global'!BE255","v":2.4894642814548442},null,{"$f":"+'[1]itcer global'!BG255","v":0.49965601240326085},{"$f":"+'[1]itcer global'!BH255","v":1.0783670630048996},{"$f":"+'[1]itcer global'!BI255","v":0.70331262993299482},{"$f":"+'[1]itcer global'!BJ255","v":0.63984098664102773},{"$f":"+'[1]itcer global'!BK255","v":0.64272146111811435},{"$f":"+'[1]itcer global'!BL255","v":0.38295045619807178}]
[null,"Agosto",{"$f":"+'[1]itcer global'!J256","v":85.620660370545309},{"$f":"+'[1]itcer global'!K256","v":105.3468473203198},{"$f":"+'[1]itcer global'!L256","v":69.556214786475877},{"$f":"+'[1]itcer global'!M256","v":82.896649772567159},{"$f":"+'[1]itcer global'!N256","v":111.75815955499429},{"$f":"+'[1]itcer global'!O256","v":94.96809447302536},null,{"$f":"+'[1]itcer global'!AS256","v":-8.0743494275637318E-2},{"$f":"+'[1]itcer global'!AT256","v":-0.12235978851946072},{"$f":"+'[1]itcer global'!AU256","v":0.1256432771715339},{"$f":"+'[1]itcer global'!AV256","v":-0.34365362829331048},{"$f":"+'[1]itcer global'!AW256","v":-0.18963289050883247},{"$f":"+'[1]itcer global'!AX256","v":-0.38396918730111906},null,{"$f":"+'[1]itcer global'!AZ256","v":1.7131856772019169},{"$f":"+'[1]itcer global'!BA256","v":0.97463445894782286},{"$f":"+'[1]itcer global'!BB256","v":0.99240858664054477},{"$f":"+'[1]itcer global'!BC256","v":1.296886797432282},{"$f":"+'[1]itcer global'!BD256","v":1.7450699424252192},{"$f":"+'[1]itcer global'!BE256","v":2.4858701966870287},null,{"$f":"+'[1]itcer global'!BG256","v":0.49977455164338286},{"$f":"+'[1]itcer global'!BH256","v":1.0808857244186516},{"$f":"+'[1]itcer global'!BI256","v":0.70088283921377936},{"$f":"+'[1]itcer global'!BJ256","v":0.6391972679241934},{"$f":"+'[1]itcer global'!BK256","v":0.64042223659916964},{"$f":"+'[1]itcer global'!BL256","v":0.38203159038469231}]
[null,"Septiembre",{"$f":"+'[1]itcer global'!J257","v":85.67089595355678},{"$f":"+'[1]itcer global'!K257","v":104.73060228322613},{"$f":"+'[1]itcer global'!L257","v":69.10427733021352},{"$f":"+'[1]itcer global'!M257","v":82.871358800383916},{"$f":"+'[1]itcer global'!N257","v":110.87924326798183},{"$f":"+'[1]itcer global'!O257","v":94.18294915951725},null,{"$f":"+'[1]itcer global'!AS257","v":5.8672267644354292E-2},{"$f":"+'[1]itcer global'!AT257","v":-0.58496770693089672},{"$f":"+'[1]itcer global'!AU257","v":-0.64974417835949794},{"$f":"+'[1]itcer global'!AV257","v":-3.0509040175488167E-2},{"$f":"+'[1]itcer global'!AW257","v":-0.78644484708067353},{"$f":"+'[1]itcer global'!AX257","v":-0.82674641190271814},null,{"$f":"+'[1]itcer global'!AZ257","v":1.7070858655639918},{"$f":"+'[1]itcer global'!BA257","v":0.96480194199702241},{"$f":"+'[1]itcer global'!BB257","v":0.98373422126501497},{"$f":"+'[1]itcer global'!BC257","v":1.2920077230842091},{"$f":"+'[1]itcer global'!BD257","v":1.7330655899023131},{"$f":"+'[1]itcer global'!BE257","v":2.4645128599886728},null,{"$f":"+'[1]itcer global'!BG257","v":0.50185463825659749},{"$f":"+'[1]itcer global'!BH257","v":1.0855140078433769},{"$f":"+'[1]itcer global'!BI257","v":0.70246897827088028},{"$f":"+'[1]itcer global'!BJ257","v":0.64141535162466368},{"$f":"+'[1]itcer global'!BK257","v":0.6397867681062881},{"$f":"+'[1]itcer global'!BL257","v":0.382156452451825}]
[null,"Octubre",{"$f":"+'[1]itcer global'!J258","v":85.863596032478299},{"$f":"+'[1]itcer global'!K258","v":104.51784488424113},{"$f":"+'[1]itcer global'!L258","v":68.727859260163484},{"$f":"+'[1]itcer global'!M258","v":82.905455435994043},{"$f":"+'[1]itcer global'!N258","v":110.27354272075816},{"$f":"+'[1]itcer global'!O258","v":94.195133901923739},null,{"$f":"+'[1]itcer global'!AS258","v":0.22493062174345368},{"$f":"+'[1]itcer global'!AT258","v":-0.20314730780373225},{"$f":"+'[1]itcer global'!AU258","v":-0.54471023298793853},{"$f":"+'[1]itcer global'!AV258","v":4.114405278698996E-2},{"$f":"+'[1]itcer global'!AW258","v":-0.54627045547178454},{"$f":"+'[1]itcer global'!AX258","v":1.293731244903995E-2},null,{"$f":"+'[1]itcer global'!AZ258","v":1.7139527329829931},{"$f":"+'[1]itcer global'!BA258","v":0.96170538510990666},{"$f":"+'[1]itcer global'!BB258","v":0.97762673194206762},{"$f":"+'[1]itcer global'!BC258","v":1.2940886801470763},{"$f":"+'[1]itcer global'!BD258","v":1.7301363832384833},{"$f":"+'[1]itcer global'!BE258","v":2.4661445378183853},null,{"$f":"+'[1]itcer global'!BG258","v":0.50096828448145014},{"$f":"+'[1]itcer global'!BH258","v":1.0867969182921495},{"$f":"+'[1]itcer global'!BI258","v":0.70300716024442933},{"$f":"+'[1]itcer global'!BJ258","v":0.64064740467841552},{"$f":"+'[1]itcer global'!BK258","v":0.63736907557742484},{"$f":"+'[1]itcer global'!BL258","v":0.38195301393506803}]
[null,"Noviembre",{"$f":"+'[1]itcer global'!J259","v":84.163805499210653},{"$f":"+'[1]itcer global'!K259","v":104.4391602973995},{"$f":"+'[1]itcer global'!L259","v":68.248135708115313},{"$f":"+'[1]itcer global'!M259","v":82.464216114728259},{"$f":"+'[1]itcer global'!N259","v":109.15410163702714},{"$f":"+'[1]itcer global'!O259","v":94.171999264287763},null,{"$f":"+'[1]itcer global'!AS259","v":-1.9796405133377988},{"$f":"+'[1]itcer global'!AT259","v":-7.5283399623089053E-2},{"$f":"+'[1]itcer global'!AU259","v":-0.69800450241322665},{"$f":"+'[1]itcer global'!AV259","v":-0.5322198870331647},{"$f":"+'[1]itcer global'!AW259","v":-1.0151492879536335},{"$f":"+'[1]itcer global'!AX259","v":-2.4560332023156661E-2},null,{"$f":"+'[1]itcer global'!AZ259","v":1.68254627634155},{"$f":"+'[1]itcer global'!BA259","v":0.96052449776344417},{"$f":"+'[1]itcer global'!BB259","v":0.97131529954055695},{"$f":"+'[1]itcer global'!BC259","v":1.2913683570415826},{"$f":"+'[1]itcer global'!BD259","v":1.7315389643565351},{"$f":"+'[1]itcer global'!BE259","v":2.466748758147892},null,{"$f":"+'[1]itcer global'!BG259","v":0.50021688367592776},{"$f":"+'[1]itcer global'!BH259","v":1.0873138638377606},{"$f":"+'[1]itcer global'!BI259","v":0.70263626795951262},{"$f":"+'[1]itcer global'!BJ259","v":0.63858012057571945},{"$f":"+'[1]itcer global'!BK259","v":0.6303877873033622},{"$f":"+'[1]itcer global'!BL259","v":0.38176567010819096}]
[null,"Diciembre",{"$f":"+'[1]itcer global'!J260","v":82.565346049744903},{"$f":"+'[1]itcer global'!K260","v":104.48159073054104},{"$f":"+'[1]itcer global'!L260","v":67.806081479605268},{"$f":"+'[1]itcer global'!M260","v":82.188265328372367},{"$f":"+'[1]itcer global'!N260","v":108.08238811662964},{"$f":"+'[1]itcer global'!O260","v":93.893972740956642},null,{"$f":"+'[1]itcer global'!AS260","v":-1.8992243043011428},{"$f":"+'[1]itcer global'!AT260","v":4.0626938229621601E-2},{"$f":"+'[1]itcer global'!AU260","v":-0.64771619608868036},{"$f":"+'[1]itcer global'!AV260","v":-0.33463094582985775},{"$f":"+'[1]itcer global'!AW260","v":-0.98183531752319197},{"$f":"+'[1]itcer global'!AX260","v":-0.29523268647069756},null,{"$f":"+'[1]itcer global'!AZ260","v":1.6642673266719927},{"$f":"+'[1]itcer global'!BA260","v":0.95769826867829588},{"$f":"+'[1]itcer global'!BB260","v":0.96653440820661318},{"$f":"+'[1]itcer global'!BC260","v":1.289295703287104},{"$f":"+'[1]itcer global'!BD260","v":1.7329836363470064},{"$f":"+'[1]itcer global'!BE260","v":2.4632564761888771},null,{"$f":"+'[1]itcer global'!BG260","v":0.49610627287173531},{"$f":"+'[1]itcer global'!BH260","v":1.0909656428087149},{"$f":"+'[1]itcer global'!BI260","v":0.70153820602639694},{"$f":"+'[1]itcer global'!BJ260","v":0.63746637112673643},{"$f":"+'[1]itcer global'!BK260","v":0.62367806509967316},{"$f":"+'[1]itcer global'!BL260","v":0.38117822341516117}]
[2012,"Enero",{"$f":"+'[1]itcer global'!J261","v":83.09696096479729},{"$f":"+'[1]itcer global'!K261","v":104.180456333066},{"$f":"+'[1]itcer global'!L261","v":68.080399893285275},{"$f":"+'[1]itcer global'!M261","v":82.459286120079028},{"$f":"+'[1]itcer global'!N261","v":108.96867797847986},{"$f":"+'[1]itcer global'!O261","v":94.501017797330604},null,{"$f":"+'[1]itcer global'!AS261","v":0.64387172159624129},{"$f":"+'[1]itcer global'!AT261","v":-0.28821766147460437},{"$f":"+'[1]itcer global'!AU261","v":0.40456314196907783},{"$f":"+'[1]itcer global'!AV261","v":0.32975606751624298},{"$f":"+'[1]itcer global'!AW261","v":0.82001321148996453},{"$f":"+'[1]itcer global'!AX261","v":0.64652185721094213},null,{"$f":"+'[1]itcer global'!AZ261","v":1.6751870226660288},{"$f":"+'[1]itcer global'!BA261","v":0.95615127263006527},{"$f":"+'[1]itcer global'!BB261","v":0.96839722339588463},{"$f":"+'[1]itcer global'!BC261","v":1.2930157303304031},{"$f":"+'[1]itcer global'!BD261","v":1.7450998882345379},{"$f":"+'[1]itcer global'!BE261","v":2.4829483505158807},null,{"$f":"+'[1]itcer global'!BG261","v":0.49604587332911665},{"$f":"+'[1]itcer global'!BH261","v":1.0895813174676745},{"$f":"+'[1]itcer global'!BI261","v":0.70302142807212198},{"$f":"+'[1]itcer global'!BJ261","v":0.63772840643638784},{"$f":"+'[1]itcer global'!BK261","v":0.62442659422046043},{"$f":"+'[1]itcer global'!BL261","v":0.3806000144050366}]
[null,"Febrero",{"$f":"+'[1]itcer global'!J262","v":84.095656632927302},{"$f":"+'[1]itcer global'!K262","v":104.90839016843489},{"$f":"+'[1]itcer global'!L262","v":68.288884416930628},{"$f":"+'[1]itcer global'!M262","v":82.672583267398707},{"$f":"+'[1]itcer global'!N262","v":109.14184237009795},{"$f":"+'[1]itcer global'!O262","v":95.375387264118544},null,{"$f":"+'[1]itcer global'!AS262","v":1.2018437937256152},{"$f":"+'[1]itcer global'!AT262","v":0.69872398431589033},{"$f":"+'[1]itcer global'!AU262","v":0.30623281292727711},{"$f":"+'[1]itcer global'!AV262","v":0.25866965063106306},{"$f":"+'[1]itcer global'!AW262","v":0.15891207898502557},{"$f":"+'[1]itcer global'!AX262","v":0.9252487297683416},null,{"$f":"+'[1]itcer global'!AZ262","v":1.6921226277161781},{"$f":"+'[1]itcer global'!BA262","v":0.96107353654144356},{"$f":"+'[1]itcer global'!BB262","v":0.9719484114971001},{"$f":"+'[1]itcer global'!BC262","v":1.3032174865150312},{"$f":"+'[1]itcer global'!BD262","v":1.7618574133505633},{"$f":"+'[1]itcer global'!BE262","v":2.5041494346155861},null,{"$f":"+'[1]itcer global'!BG262","v":0.49698322837529474},{"$f":"+'[1]itcer global'!BH262","v":1.091575058303679},{"$f":"+'[1]itcer global'!BI262","v":0.70259782936158821},{"$f":"+'[1]itcer global'!BJ262","v":0.63437288190841934},{"$f":"+'[1]itcer global'!BK262","v":0.61947034727708461},{"$f":"+'[1]itcer global'!BL262","v":0.38086939200080011}]
[null,"Marzo",{"$f":"+'[1]itcer global'!J263","v":83.915984456674991},{"$f":"+'[1]itcer global'!K263","v":105.4067437447513},{"$f":"+'[1]itcer global'!L263","v":67.858736479606677},{"$f":"+'[1]itcer global'!M263","v":82.806509490890505},{"$f":"+'[1]itcer global'!N263","v":109.34074951469367},{"$f":"+'[1]itcer global'!O263","v":95.842852888079548},null,{"$f":"+'[1]itcer global'!AS263","v":-0.21365214738327154},{"$f":"+'[1]itcer global'!AT263","v":0.47503691126730985},{"$f":"+'[1]itcer global'!AU263","v":-0.62989451503956673},{"$f":"+'[1]itcer global'!AV263","v":0.1619959340796413},{"$f":"+'[1]itcer global'!AW263","v":0.18224646045577231},{"$f":"+'[1]itcer global'!AX263","v":0.49013234689834917},null,{"$f":"+'[1]itcer global'!AZ263","v":1.6830749837694186},{"$f":"+'[1]itcer global'!BA263","v":0.96088385346755578},{"$f":"+'[1]itcer global'!BB263","v":0.9629800594478416},{"$f":"+'[1]itcer global'!BC263","v":1.3065888943941497},{"$f":"+'[1]itcer global'!BD263","v":1.7615738100069245},{"$f":"+'[1]itcer global'!BE263","v":2.5013625875528125},null,{"$f":"+'[1]itcer global'!BG263","v":0.49858731943562351},{"$f":"+'[1]itcer global'!BH263","v":1.0969769485080678},{"$f":"+'[1]itcer global'!BI263","v":0.70467436800836636},{"$f":"+'[1]itcer global'!BJ263","v":0.63376100811944336},{"$f":"+'[1]itcer global'!BK263","v":0.62069922301049574},{"$f":"+'[1]itcer global'!BL263","v":0.38316257453041469}]
[null,"Abril",{"$f":"+'[1]itcer global'!J264","v":82.879394387913806},{"$f":"+'[1]itcer global'!K264","v":104.98217193734298},{"$f":"+'[1]itcer global'!L264","v":67.91660270186361},{"$f":"+'[1]itcer global'!M264","v":82.395962347463822},{"$f":"+'[1]itcer global'!N264","v":108.81046635228472},{"$f":"+'[1]itcer global'!O264","v":95.997209063115065},null,{"$f":"+'[1]itcer global'!AS264","v":-1.2352712960143748},{"$f":"+'[1]itcer global'!AT264","v":-0.40279377990883347},{"$f":"+'[1]itcer global'!AU264","v":8.5274535393580209E-2},{"$f":"+'[1]itcer global'!AV264","v":-0.49579090575221585},{"$f":"+'[1]itcer global'!AW264","v":-0.48498219077754356},{"$f":"+'[1]itcer global'!AX264","v":0.16105131513120341},null,{"$f":"+'[1]itcer global'!AZ264","v":1.666890395560837},{"$f":"+'[1]itcer global'!BA264","v":0.95892886672801569},{"$f":"+'[1]itcer global'!BB264","v":0.96389405373986159},{"$f":"+'[1]itcer global'!BC264","v":1.3099094698307783},{"$f":"+'[1]itcer global'!BD264","v":1.7646364246811423},{"$f":"+'[1]itcer global'!BE264","v":2.4986190804347634},null,{"$f":"+'[1]itcer global'!BG264","v":0.49720962223211101},{"$f":"+'[1]itcer global'!BH264","v":1.0947858134207094},{"$f":"+'[1]itcer global'!BI264","v":0.70460651187078627},{"$f":"+'[1]itcer global'!BJ264","v":0.62902028151692202},{"$f":"+'[1]itcer global'!BK264","v":0.61661691230218163},{"$f":"+'[1]itcer global'!BL264","v":0.38420105655485282}]
[null,"Mayo",{"$f":"+'[1]itcer global'!J265","v":81.195911803550885},{"$f":"+'[1]itcer global'!K265","v":104.60255157093836},{"$f":"+'[1]itcer global'!L265","v":67.599054472815126},{"$f":"+'[1]itcer global'!M265","v":82.179585363793024},{"$f":"+'[1]itcer global'!N265","v":109.00694907109305},{"$f":"+'[1]itcer global'!O265","v":95.549519448991404},null,{"$f":"+'[1]itcer global'!AS265","v":-2.0312438294172921},{"$f":"+'[1]itcer global'!AT265","v":-0.36160460333320543},{"$f":"+'[1]itcer global'!AU265","v":-0.46755611502305783},{"$f":"+'[1]itcer global'!AV265","v":-0.26260629466081298},{"$f":"+'[1]itcer global'!AW265","v":0.18057336338601715},{"$f":"+'[1]itcer global'!AX265","v":-0.46635690609434732},null,{"$f":"+'[1]itcer global'!AZ265","v":1.6511299029604618},{"$f":"+'[1]itcer global'!BA265","v":0.95281666616142446},{"$f":"+'[1]itcer global'!BB265","v":0.96141112193316824},{"$f":"+'[1]itcer global'!BC265","v":1.3092453354935596},{"$f":"+'[1]itcer global'!BD265","v":1.7615501371088513},{"$f":"+'[1]itcer global'!BE265","v":2.48333351670049},null,{"$f":"+'[1]itcer global'!BG265","v":0.49175968322036528},{"$f":"+'[1]itcer global'!BH265","v":1.0978245373514153},{"$f":"+'[1]itcer global'!BI265","v":0.70312328337631003},{"$f":"+'[1]itcer global'!BJ265","v":0.6276866767129855},{"$f":"+'[1]itcer global'!BK265","v":0.61881263992860847},{"$f":"+'[1]itcer global'!BL265","v":0.3847631371558356}]
[null,"Junio",{"$f":"+'[1]itcer global'!J266","v":79.687359607178124},{"$f":"+'[1]itcer global'!K266","v":104.57478620444287},{"$f":"+'[1]itcer global'!L266","v":67.703055290535616},{"$f":"+'[1]itcer global'!M266","v":82.099019207558555},{"$f":"+'[1]itcer global'!N266","v":109.52129172048984},{"$f":"+'[1]itcer global'!O266","v":94.919230119273649},null,{"$f":"+'[1]itcer global'!AS266","v":-1.8579164429147852},{"$f":"+'[1]itcer global'!AT266","v":-2.6543679937546472E-2},{"$f":"+'[1]itcer global'!AU266","v":0.15384951539864744},{"$f":"+'[1]itcer global'!AV266","v":-9.8036703249121615E-2},{"$f":"+'[1]itcer global'!AW266","v":0.47184390883315075},{"$f":"+'[1]itcer global'!AX266","v":-0.65964678143068056},null,{"$f":"+'[1]itcer global'!AZ266","v":1.6246214449521408},{"$f":"+'[1]itcer global'!BA266","v":0.94775239602765105},{"$f":"+'[1]itcer global'!BB266","v":0.96513825287425981},{"$f":"+'[1]itcer global'!BC266","v":1.3097752536788188},{"$f":"+'[1]itcer global'!BD266","v":1.7656876266343491},{"$f":"+'[1]itcer global'!BE266","v":2.4747483268201607},null,{"$f":"+'[1]itcer global'!BG266","v":0.49049801635189921},{"$f":"+'[1]itcer global'!BH266","v":1.1033977507495729},{"$f":"+'[1]itcer global'!BI266","v":0.70148556529502859},{"$f":"+'[1]itcer global'!BJ266","v":0.62681760841765588},{"$f":"+'[1]itcer global'!BK266","v":0.62027558028060126},{"$f":"+'[1]itcer global'!BL266","v":0.38355104270839818}]
[null,"Julio",{"$f":"+'[1]itcer global'!J267","v":79.907092975389801},{"$f":"+'[1]itcer global'!K267","v":104.96797134518624},{"$f":"+'[1]itcer global'!L267","v":67.375232798572128},{"$f":"+'[1]itcer global'!M267","v":82.263837375607153},{"$f":"+'[1]itcer global'!N267","v":110.11860231187249},{"$f":"+'[1]itcer global'!O267","v":95.145962463795257},null,{"$f":"+'[1]itcer global'!AS267","v":0.27574432042278829},{"$f":"+'[1]itcer global'!AT267","v":0.37598464698238843},{"$f":"+'[1]itcer global'!AU267","v":-0.48420634867466106},{"$f":"+'[1]itcer global'!AV267","v":0.2007553435345244},{"$f":"+'[1]itcer global'!AW267","v":0.54538307757276527},{"$f":"+'[1]itcer global'!AX267","v":0.2388687142075554},null,{"$f":"+'[1]itcer global'!AZ267","v":1.626043106265348},{"$f":"+'[1]itcer global'!BA267","v":0.9485381069852773},{"$f":"+'[1]itcer global'!BB267","v":0.96487539426975211},{"$f":"+'[1]itcer global'!BC267","v":1.3152979395713915},{"$f":"+'[1]itcer global'!BD267","v":1.7818589817296295},{"$f":"+'[1]itcer global'!BE267","v":2.4790966043184541},null,{"$f":"+'[1]itcer global'!BG267","v":0.4914205082724914},{"$f":"+'[1]itcer global'!BH267","v":1.106628933220239},{"$f":"+'[1]itcer global'!BI267","v":0.69827910628360268},{"$f":"+'[1]itcer global'!BJ267","v":0.62543880668142759},{"$f":"+'[1]itcer global'!BK267","v":0.6179984131234767},{"$f":"+'[1]itcer global'!BL267","v":0.38379287962419878}]
[null,"Agosto",{"$f":"+'[1]itcer global'!J268","v":79.849600738483801},{"$f":"+'[1]itcer global'!K268","v":105.3030239205938},{"$f":"+'[1]itcer global'!L268","v":68.093588401952729},{"$f":"+'[1]itcer global'!M268","v":82.571587367591491},{"$f":"+'[1]itcer global'!N268","v":111.14250857000285},{"$f":"+'[1]itcer global'!O268","v":94.974380664298067},null,{"$f":"+'[1]itcer global'!AS268","v":-7.1948853055772588E-2},{"$f":"+'[1]itcer global'!AT268","v":0.31919505646702362},{"$f":"+'[1]itcer global'!AU268","v":1.066201293178807},{"$f":"+'[1]itcer global'!AV268","v":0.37410118686682381},{"$f":"+'[1]itcer global'!AW268","v":0.92982133502792408},{"$f":"+'[1]itcer global'!AX268","v":-0.1803353448260907},null,{"$f":"+'[1]itcer global'!AZ268","v":1.6262398944018166},{"$f":"+'[1]itcer global'!BA268","v":0.94875003411474179},{"$f":"+'[1]itcer global'!BB268","v":0.97525840868961433},{"$f":"+'[1]itcer global'!BC268","v":1.3222861035325355},{"$f":"+'[1]itcer global'!BD268","v":1.7950307605791029},{"$f":"+'[1]itcer global'!BE268","v":2.487738387119812},null,{"$f":"+'[1]itcer global'!BG268","v":0.49100751379522067},{"$f":"+'[1]itcer global'!BH268","v":1.1099132556959515},{"$f":"+'[1]itcer global'!BI268","v":0.69821072851292065},{"$f":"+'[1]itcer global'!BJ268","v":0.6244608269496178},{"$f":"+'[1]itcer global'!BK268","v":0.61916771016306527},{"$f":"+'[1]itcer global'!BL268","v":0.38176996888428849}]
[null,"Septiembre",{"$f":"+'[1]itcer global'!J269","v":80.641328914506062},{"$f":"+'[1]itcer global'!K269","v":105.68403843019516},{"$f":"+'[1]itcer global'!L269","v":69.216577311607836},{"$f":"+'[1]itcer global'!M269","v":83.016377034103996},{"$f":"+'[1]itcer global'!N269","v":111.73337040368956},{"$f":"+'[1]itcer global'!O269","v":95.665478825123287},null,{"$f":"+'[1]itcer global'!AS269","v":0.9915242765148804},{"$f":"+'[1]itcer global'!AT269","v":0.36182675047268731},{"$f":"+'[1]itcer global'!AU269","v":1.6491845062212889},{"$f":"+'[1]itcer global'!AV269","v":0.5386715705638494},{"$f":"+'[1]itcer global'!AW269","v":0.53162542513116762},{"$f":"+'[1]itcer global'!AX269","v":0.7276679837144826},null,{"$f":"+'[1]itcer global'!AZ269","v":1.6354983559469514},{"$f":"+'[1]itcer global'!BA269","v":0.9516026932034588},{"$f":"+'[1]itcer global'!BB269","v":0.99184032779447606},{"$f":"+'[1]itcer global'!BC269","v":1.3330109183506524},{"$f":"+'[1]itcer global'!BD269","v":1.809407170964167},{"$f":"+'[1]itcer global'!BE269","v":2.5107208462687169},null,{"$f":"+'[1]itcer global'!BG269","v":0.49306884731054851},{"$f":"+'[1]itcer global'!BH269","v":1.1105899466764035},{"$f":"+'[1]itcer global'!BI269","v":0.69786008263570554},{"$f":"+'[1]itcer global'!BJ269","v":0.62277342136717828},{"$f":"+'[1]itcer global'!BK269","v":0.61751369286411606},{"$f":"+'[1]itcer global'!BL269","v":0.38102793851931233}]
[null,"Octubre",{"$f":"+'[1]itcer global'!J270","v":80.494272671697473},{"$f":"+'[1]itcer global'!K270","v":106.02535488835539},{"$f":"+'[1]itcer global'!L270","v":68.427650456519629},{"$f":"+'[1]itcer global'!M270","v":83.15247175185624},{"$f":"+'[1]itcer global'!N270","v":111.70516382500722},{"$f":"+'[1]itcer global'!O270","v":96.114259934370978},null,{"$f":"+'[1]itcer global'!AS270","v":-0.18235840702041628},{"$f":"+'[1]itcer global'!AT270","v":0.32295932595883414},{"$f":"+'[1]itcer global'!AU270","v":-1.1397946644147368},{"$f":"+'[1]itcer global'!AV270","v":0.16393719241246174},{"$f":"+'[1]itcer global'!AW270","v":-2.5244542951156745E-2},{"$f":"+'[1]itcer global'!AX270","v":0.46911499817825586},null,{"$f":"+'[1]itcer global'!AZ270","v":1.6378870018398008},{"$f":"+'[1]itcer global'!BA270","v":0.95417310023331847},{"$f":"+'[1]itcer global'!BB270","v":0.97951820649081756},{"$f":"+'[1]itcer global'!BC270","v":1.3401987353327733},{"$f":"+'[1]itcer global'!BD270","v":1.8153043686548211},{"$f":"+'[1]itcer global'!BE270","v":2.5270085912409974},null,{"$f":"+'[1]itcer global'!BG270","v":0.4914519291091517},{"$f":"+'[1]itcer global'!BH270","v":1.1111752664420074},{"$f":"+'[1]itcer global'!BI270","v":0.69858477364770744},{"$f":"+'[1]itcer global'!BJ270","v":0.62044881523641593},{"$f":"+'[1]itcer global'!BK270","v":0.61535225581913366},{"$f":"+'[1]itcer global'!BL270","v":0.38034797454792146}]
[null,"Noviembre",{"$f":"+'[1]itcer global'!J271","v":79.85692614258798},{"$f":"+'[1]itcer global'!K271","v":105.86462205400809},{"$f":"+'[1]itcer global'!L271","v":68.14428399648753},{"$f":"+'[1]itcer global'!M271","v":83.011361207093529},{"$f":"+'[1]itcer global'!N271","v":110.77693473266108},{"$f":"+'[1]itcer global'!O271","v":96.239521236114996},null,{"$f":"+'[1]itcer global'!AS271","v":-0.79179115228355101},{"$f":"+'[1]itcer global'!AT271","v":-0.15159848747174465},{"$f":"+'[1]itcer global'!AU271","v":-0.41411104742249449},{"$f":"+'[1]itcer global'!AV271","v":-0.1697009623283634},{"$f":"+'[1]itcer global'!AW271","v":-0.83096345823391005},{"$f":"+'[1]itcer global'!AX271","v":0.13032540835204998},null,{"$f":"+'[1]itcer global'!AZ271","v":1.6406788074818988},{"$f":"+'[1]itcer global'!BA271","v":0.95195119519984928},{"$f":"+'[1]itcer global'!BB271","v":0.97648015890069106},{"$f":"+'[1]itcer global'!BC271","v":1.3429464916164349},{"$f":"+'[1]itcer global'!BD271","v":1.8185853777922658},{"$f":"+'[1]itcer global'!BE271","v":2.5534013837722749},null,{"$f":"+'[1]itcer global'!BG271","v":0.48673101510436267},{"$f":"+'[1]itcer global'!BH271","v":1.1120803523103224},{"$f":"+'[1]itcer global'!BI271","v":0.69785630947385047},{"$f":"+'[1]itcer global'!BJ271","v":0.61812858312155883},{"$f":"+'[1]itcer global'!BK271","v":0.60913793812167638},{"$f":"+'[1]itcer global'!BL271","v":0.37690713981651908}]
[null,"Diciembre",{"$f":"+'[1]itcer global'!J272","v":79.745967807002359},{"$f":"+'[1]itcer global'!K272","v":106.03978956851921},{"$f":"+'[1]itcer global'!L272","v":67.96037154406693},{"$f":"+'[1]itcer global'!M272","v":83.173963197512251},{"$f":"+'[1]itcer global'!N272","v":109.41266140472045},{"$f":"+'[1]itcer global'!O272","v":96.110311443288325},null,{"$f":"+'[1]itcer global'!AS272","v":-0.1389464144756829},{"$f":"+'[1]itcer global'!AT272","v":0.16546369420915141},{"$f":"+'[1]itcer global'!AU272","v":-0.26988683662753488},{"$f":"+'[1]itcer global'!AV272","v":0.19587920021342597},{"$f":"+'[1]itcer global'!AW272","v":-1.231549989384547},{"$f":"+'[1]itcer global'!AX272","v":-0.13425855736508652},null,{"$f":"+'[1]itcer global'!AZ272","v":1.6422428398043891},{"$f":"+'[1]itcer global'!BA272","v":0.95185927747219679},{"$f":"+'[1]itcer global'!BB272","v":0.97966003355142073},{"$f":"+'[1]itcer global'!BC272","v":1.347868306109421},{"$f":"+'[1]itcer global'!BD272","v":1.8251404647392246},{"$f":"+'[1]itcer global'!BE272","v":2.5699889047360713},null,{"$f":"+'[1]itcer global'!BG272","v":0.48559181306280524},{"$f":"+'[1]itcer global'!BH272","v":1.1140280089523691},{"$f":"+'[1]itcer global'!BI272","v":0.69371383149825949},{"$f":"+'[1]itcer global'!BJ272","v":0.61707781702792064},{"$f":"+'[1]itcer global'!BK272","v":0.5994752925515423},{"$f":"+'[1]itcer global'!BL272","v":0.37397169795625451}]
[2013,"Enero",{"$f":"+'[1]itcer global'!J273","v":79.044409379634146},{"$f":"+'[1]itcer global'!K273","v":105.92635039833513},{"$f":"+'[1]itcer global'!L273","v":67.761057612743343},{"$f":"+'[1]itcer global'!M273","v":83.232018578574227},{"$f":"+'[1]itcer global'!N273","v":109.04508777457436},{"$f":"+'[1]itcer global'!O273","v":95.998530422709393},null,{"$f":"+'[1]itcer global'!AS273","v":-0.87974156770671641},{"$f":"+'[1]itcer global'!AT273","v":-0.10697792842259446},{"$f":"+'[1]itcer global'!AU273","v":-0.29327963752280084},{"$f":"+'[1]itcer global'!AV273","v":6.9799945596088264E-2},{"$f":"+'[1]itcer global'!AW273","v":-0.33595163980741916},{"$f":"+'[1]itcer global'!AX273","v":-0.11630491973266999},null,{"$f":"+'[1]itcer global'!AZ273","v":1.6472989664516033},{"$f":"+'[1]itcer global'!BA273","v":0.95181993218605276},{"$f":"+'[1]itcer global'!BB273","v":0.9787428048955108},{"$f":"+'[1]itcer global'!BC273","v":1.3517545616005082},{"$f":"+'[1]itcer global'!BD273","v":1.8341702427745377},{"$f":"+'[1]itcer global'!BE273","v":2.5953130635393373},null,{"$f":"+'[1]itcer global'!BG273","v":0.47984252397062638},{"$f":"+'[1]itcer global'!BH273","v":1.1128822460678376},{"$f":"+'[1]itcer global'!BI273","v":0.69232751723755881},{"$f":"+'[1]itcer global'!BJ273","v":0.61573321772279155},{"$f":"+'[1]itcer global'!BK273","v":0.59451999182814419},{"$f":"+'[1]itcer global'!BL273","v":0.36989190927044518}]
[null,"Febrero",{"$f":"+'[1]itcer global'!J274","v":78.776950794529014},{"$f":"+'[1]itcer global'!K274","v":106.19738490484623},{"$f":"+'[1]itcer global'!L274","v":67.069632924597755},{"$f":"+'[1]itcer global'!M274","v":83.137230083104953},{"$f":"+'[1]itcer global'!N274","v":109.48069263186494},{"$f":"+'[1]itcer global'!O274","v":96.576571940401834},null,{"$f":"+'[1]itcer global'!AS274","v":-0.33836496117085346},{"$f":"+'[1]itcer global'!AT274","v":0.25587071157637808},{"$f":"+'[1]itcer global'!AU274","v":-1.0203865059148001},{"$f":"+'[1]itcer global'!AV274","v":-0.11388465291129535},{"$f":"+'[1]itcer global'!AW274","v":0.39947224233620204},{"$f":"+'[1]itcer global'!AX274","v":0.60213579848269205},null,{"$f":"+'[1]itcer global'!AZ274","v":1.6479880935053941},{"$f":"+'[1]itcer global'!BA274","v":0.9513206992608042},{"$f":"+'[1]itcer global'!BB274","v":0.97000852402357396},{"$f":"+'[1]itcer global'!BC274","v":1.3553870560159389},{"$f":"+'[1]itcer global'!BD274","v":1.8400003988480456},{"$f":"+'[1]itcer global'!BE274","v":2.6017970893022162},null,{"$f":"+'[1]itcer global'!BG274","v":0.47801893172034127},{"$f":"+'[1]itcer global'!BH274","v":1.1163152971165642},{"$f":"+'[1]itcer global'!BI274","v":0.69143343860932682},{"$f":"+'[1]itcer global'!BJ274","v":0.61338368043354907},{"$f":"+'[1]itcer global'!BK274","v":0.59500363532750677},{"$f":"+'[1]itcer global'!BL274","v":0.37119179023412241}]
[null,"Marzo",{"$f":"+'[1]itcer global'!J275","v":78.22669165978003},{"$f":"+'[1]itcer global'!K275","v":105.94105335518245},{"$f":"+'[1]itcer global'!L275","v":66.757354239248428},{"$f":"+'[1]itcer global'!M275","v":83.082128461713864},{"$f":"+'[1]itcer global'!N275","v":109.77237710765486},{"$f":"+'[1]itcer global'!O275","v":96.84256891580749},null,{"$f":"+'[1]itcer global'!AS275","v":-0.6985027082150026},{"$f":"+'[1]itcer global'!AT275","v":-0.24137275121553614},{"$f":"+'[1]itcer global'!AU275","v":-0.46560368937818453},{"$f":"+'[1]itcer global'!AV275","v":-6.6277913440231373E-2},{"$f":"+'[1]itcer global'!AW275","v":0.26642549364454737},{"$f":"+'[1]itcer global'!AX275","v":0.27542598589003831},null,{"$f":"+'[1]itcer global'!AZ275","v":1.6298017992891143},{"$f":"+'[1]itcer global'!BA275","v":0.94900259601630266},{"$f":"+'[1]itcer global'!BB275","v":0.96591201215602718},{"$f":"+'[1]itcer global'!BC275","v":1.356216976542957},{"$f":"+'[1]itcer global'!BD275","v":1.8396604994520158},{"$f":"+'[1]itcer global'!BE275","v":2.6073628794211912},null,{"$f":"+'[1]itcer global'!BG275","v":0.47997671676335663},{"$f":"+'[1]itcer global'!BH275","v":1.1163410279371091},{"$f":"+'[1]itcer global'!BI275","v":0.69113287130820855},{"$f":"+'[1]itcer global'!BJ275","v":0.61260203860220808},{"$f":"+'[1]itcer global'!BK275","v":0.59669910366805734},{"$f":"+'[1]itcer global'!BL275","v":0.3714196043832057}]
[null,"Abril",{"$f":"+'[1]itcer global'!J276","v":77.765492618575522},{"$f":"+'[1]itcer global'!K276","v":106.82371324255735},{"$f":"+'[1]itcer global'!L276","v":66.627328264126291},{"$f":"+'[1]itcer global'!M276","v":83.120992463902169},{"$f":"+'[1]itcer global'!N276","v":109.17065737234702},{"$f":"+'[1]itcer global'!O276","v":97.082695480859314},null,{"$f":"+'[1]itcer global'!AS276","v":-0.58956736047375102},{"$f":"+'[1]itcer global'!AT276","v":0.83316132832440815},{"$f":"+'[1]itcer global'!AU276","v":-0.19477400895210906},{"$f":"+'[1]itcer global'!AV276","v":4.6777812398261176E-2},{"$f":"+'[1]itcer global'!AW276","v":-0.54815223206628616},{"$f":"+'[1]itcer global'!AX276","v":0.24795559198824435},null,{"$f":"+'[1]itcer global'!AZ276","v":1.632552493713106},{"$f":"+'[1]itcer global'!BA276","v":0.95008630125380256},{"$f":"+'[1]itcer global'!BB276","v":0.96613313036660331},{"$f":"+'[1]itcer global'!BC276","v":1.360994935182287},{"$f":"+'[1]itcer global'!BD276","v":1.8405369278360046},{"$f":"+'[1]itcer global'!BE276","v":2.6139044646837788},null,{"$f":"+'[1]itcer global'!BG276","v":0.47634298387370283},{"$f":"+'[1]itcer global'!BH276","v":1.1243579988637353},{"$f":"+'[1]itcer global'!BI276","v":0.68962885310479194},{"$f":"+'[1]itcer global'!BJ276","v":0.61073697127880355},{"$f":"+'[1]itcer global'!BK276","v":0.59314570504544817},{"$f":"+'[1]itcer global'!BL276","v":0.37140873659513818}]
[null,"Mayo",{"$f":"+'[1]itcer global'!J277","v":77.654038446582931},{"$f":"+'[1]itcer global'!K277","v":106.94603287110077},{"$f":"+'[1]itcer global'!L277","v":66.275628213250442},{"$f":"+'[1]itcer global'!M277","v":83.159446047410668},{"$f":"+'[1]itcer global'!N277","v":108.47704076149104},{"$f":"+'[1]itcer global'!O277","v":97.215240145867043},null,{"$f":"+'[1]itcer global'!AS277","v":-0.14332085895635771},{"$f":"+'[1]itcer global'!AT277","v":0.11450606314879508},{"$f":"+'[1]itcer global'!AU277","v":-0.52786155476867691},{"$f":"+'[1]itcer global'!AV277","v":4.6262180429579303E-2},{"$f":"+'[1]itcer global'!AW277","v":-0.63535076874207164},{"$f":"+'[1]itcer global'!AX277","v":0.13652759057751496},null,{"$f":"+'[1]itcer global'!AZ277","v":1.6279921657805869},{"$f":"+'[1]itcer global'!BA277","v":0.94794151697760287},{"$f":"+'[1]itcer global'!BB277","v":0.96263361133299441},{"$f":"+'[1]itcer global'!BC277","v":1.363539915017898},{"$f":"+'[1]itcer global'!BD277","v":1.8450126873721564},{"$f":"+'[1]itcer global'!BE277","v":2.6092755005433506},null,{"$f":"+'[1]itcer global'!BG277","v":0.47699270352047118},{"$f":"+'[1]itcer global'!BH277","v":1.1281923088682231},{"$f":"+'[1]itcer global'!BI277","v":0.68848238242456672},{"$f":"+'[1]itcer global'!BJ277","v":0.60987907381001827},{"$f":"+'[1]itcer global'!BK277","v":0.58794739734822321},{"$f":"+'[1]itcer global'!BL277","v":0.37257560623867858}]
[null,"Junio",{"$f":"+'[1]itcer global'!J278","v":77.706324644376352},{"$f":"+'[1]itcer global'!K278","v":106.80901785132097},{"$f":"+'[1]itcer global'!L278","v":65.988553676206521},{"$f":"+'[1]itcer global'!M278","v":83.357795230121752},{"$f":"+'[1]itcer global'!N278","v":109.07979924869487},{"$f":"+'[1]itcer global'!O278","v":98.174113408651081},null,{"$f":"+'[1]itcer global'!AS278","v":6.7332232604229603E-2},{"$f":"+'[1]itcer global'!AT278","v":-0.12811603768878399},{"$f":"+'[1]itcer global'!AU278","v":-0.43315249479071838},{"$f":"+'[1]itcer global'!AV278","v":0.23851671955341658},{"$f":"+'[1]itcer global'!AW278","v":0.55565535616806017},{"$f":"+'[1]itcer global'!AX278","v":0.9863404763957675},null,{"$f":"+'[1]itcer global'!AZ278","v":1.6261282005421498},{"$f":"+'[1]itcer global'!BA278","v":0.94606309120736642},{"$f":"+'[1]itcer global'!BB278","v":0.96275390195666832},{"$f":"+'[1]itcer global'!BC278","v":1.3695548160323876},{"$f":"+'[1]itcer global'!BD278","v":1.8548203169839577},{"$f":"+'[1]itcer global'!BE278","v":2.6310320561412999},null,{"$f":"+'[1]itcer global'!BG278","v":0.47786099901882967},{"$f":"+'[1]itcer global'!BH278","v":1.1289840904269},{"$f":"+'[1]itcer global'!BI278","v":0.68541455445772426},{"$f":"+'[1]itcer global'!BJ278","v":0.60864884161124722},{"$f":"+'[1]itcer global'!BK278","v":0.58808822746811806},{"$f":"+'[1]itcer global'!BL278","v":0.37313917623882664}]
[null,"Julio",{"$f":"+'[1]itcer global'!J279","v":77.197394176469032},{"$f":"+'[1]itcer global'!K279","v":106.85317155056333},{"$f":"+'[1]itcer global'!L279","v":65.775634619199494},{"$f":"+'[1]itcer global'!M279","v":83.184970739681958},{"$f":"+'[1]itcer global'!N279","v":109.94095883999313},{"$f":"+'[1]itcer global'!O279","v":98.464836744475733},null,{"$f":"+'[1]itcer global'!AS279","v":-0.65494085614837161},{"$f":"+'[1]itcer global'!AT279","v":4.133892449399923E-2},{"$f":"+'[1]itcer global'!AU279","v":-0.32266059058026997},{"$f":"+'[1]itcer global'!AV279","v":-0.2073285287388984},{"$f":"+'[1]itcer global'!AW279","v":0.78947669250368335},{"$f":"+'[1]itcer global'!AX279","v":0.29613033999554261},null,{"$f":"+'[1]itcer global'!AZ279","v":1.6222175534365821},{"$f":"+'[1]itcer global'!BA279","v":0.944754990808367},{"$f":"+'[1]itcer global'!BB279","v":0.96283681002977417},{"$f":"+'[1]itcer global'!BC279","v":1.3726501253711556},{"$f":"+'[1]itcer global'!BD279","v":1.8629118214527525},{"$f":"+'[1]itcer global'!BE279","v":2.6562299725610576},null,{"$f":"+'[1]itcer global'!BG279","v":0.47587571724230471},{"$f":"+'[1]itcer global'!BH279","v":1.1310146290853236},{"$f":"+'[1]itcer global'!BI279","v":0.68314416247926257},{"$f":"+'[1]itcer global'!BJ279","v":0.60601728876241701},{"$f":"+'[1]itcer global'!BK279","v":0.59015653652494393},{"$f":"+'[1]itcer global'!BL279","v":0.37069394503345232}]
[null,"Agosto",{"$f":"+'[1]itcer global'!J280","v":77.534528935576418},{"$f":"+'[1]itcer global'!K280","v":106.9484787851523},{"$f":"+'[1]itcer global'!L280","v":66.539232435971442},{"$f":"+'[1]itcer global'!M280","v":83.110713932292512},{"$f":"+'[1]itcer global'!N280","v":110.16062449537864},{"$f":"+'[1]itcer global'!O280","v":99.303199012644569},null,{"$f":"+'[1]itcer global'!AS280","v":0.43671779689442758},{"$f":"+'[1]itcer global'!AT280","v":8.9194577199663172E-2},{"$f":"+'[1]itcer global'!AU280","v":1.1609128839162253},{"$f":"+'[1]itcer global'!AV280","v":-8.9267095641375249E-2},{"$f":"+'[1]itcer global'!AW280","v":0.19980329233366945},{"$f":"+'[1]itcer global'!AX280","v":0.851433157142651},null,{"$f":"+'[1]itcer global'!AZ280","v":1.6269172906999458},{"$f":"+'[1]itcer global'!BA280","v":0.94454536749341111},{"$f":"+'[1]itcer global'!BB280","v":0.97343690657300175},{"$f":"+'[1]itcer global'!BC280","v":1.3746430242935657},{"$f":"+'[1]itcer global'!BD280","v":1.8728376778678988},{"$f":"+'[1]itcer global'!BE280","v":2.6921884329673484},null,{"$f":"+'[1]itcer global'!BG280","v":0.47657326760734631},{"$f":"+'[1]itcer global'!BH280","v":1.132274663195554},{"$f":"+'[1]itcer global'!BI280","v":0.6835495139610408},{"$f":"+'[1]itcer global'!BJ280","v":0.6045985209505822},{"$f":"+'[1]itcer global'!BK280","v":0.58820166743328861},{"$f":"+'[1]itcer global'!BL280","v":0.36885679247641628}]
[null,"Septiembre",{"$f":"+'[1]itcer global'!J281","v":77.80128928282474},{"$f":"+'[1]itcer global'!K281","v":106.72569539714357},{"$f":"+'[1]itcer global'!L281","v":66.695034882756659},{"$f":"+'[1]itcer global'!M281","v":83.159218165114737},{"$f":"+'[1]itcer global'!N281","v":110.50395596694214},{"$f":"+'[1]itcer global'!O281","v":99.442388621488874},null,{"$f":"+'[1]itcer global'!AS281","v":0.34405361186881578},{"$f":"+'[1]itcer global'!AT281","v":-0.20830907605173365},{"$f":"+'[1]itcer global'!AU281","v":0.23415125345056254},{"$f":"+'[1]itcer global'!AV281","v":5.8360986841890394E-2},{"$f":"+'[1]itcer global'!AW281","v":0.31166442014669826},{"$f":"+'[1]itcer global'!AX281","v":0.14016628892949257},null,{"$f":"+'[1]itcer global'!AZ281","v":1.6307866422795823},{"$f":"+'[1]itcer global'!BA281","v":0.94209496727882691},{"$f":"+'[1]itcer global'!BB281","v":0.9765861263381278},{"$f":"+'[1]itcer global'!BC281","v":1.3769260431187462},{"$f":"+'[1]itcer global'!BD281","v":1.8769239035869234},{"$f":"+'[1]itcer global'!BE281","v":2.7037810131791726},null,{"$f":"+'[1]itcer global'!BG281","v":0.47707828397509328},{"$f":"+'[1]itcer global'!BH281","v":1.1328549573448312},{"$f":"+'[1]itcer global'!BI281","v":0.68294063456380227},{"$f":"+'[1]itcer global'!BJ281","v":0.60394832809435839},{"$f":"+'[1]itcer global'!BK281","v":0.58875032576313768},{"$f":"+'[1]itcer global'!BL281","v":0.36779009889030201}]
[null,"Octubre",{"$f":"+'[1]itcer global'!J282","v":78.53155462759814},{"$f":"+'[1]itcer global'!K282","v":107.03188299632401},{"$f":"+'[1]itcer global'!L282","v":66.978477321184585},{"$f":"+'[1]itcer global'!M282","v":83.183647312300081},{"$f":"+'[1]itcer global'!N282","v":111.26746275548489},{"$f":"+'[1]itcer global'!O282","v":99.428275612479112},null,{"$f":"+'[1]itcer global'!AS282","v":0.93862884729163909},{"$f":"+'[1]itcer global'!AT282","v":0.28689210975957735},{"$f":"+'[1]itcer global'!AU282","v":0.42498281757583811},{"$f":"+'[1]itcer global'!AV282","v":2.9376355050430902E-2},{"$f":"+'[1]itcer global'!AW282","v":0.69093163395086776},{"$f":"+'[1]itcer global'!AX282","v":-1.4192146030893582E-2},null,{"$f":"+'[1]itcer global'!AZ282","v":1.6352154725099941},{"$f":"+'[1]itcer global'!BA282","v":0.94455624825977236},{"$f":"+'[1]itcer global'!BB282","v":0.98174254326738863},{"$f":"+'[1]itcer global'!BC282","v":1.3813375464978617},{"$f":"+'[1]itcer global'!BD282","v":1.8930694677953894},{"$f":"+'[1]itcer global'!BE282","v":2.7036542976373679},null,{"$f":"+'[1]itcer global'!BG282","v":0.48025202762456221},{"$f":"+'[1]itcer global'!BH282","v":1.1331446188992658},{"$f":"+'[1]itcer global'!BI282","v":0.68224075426404585},{"$f":"+'[1]itcer global'!BJ282","v":0.6021963822180727},{"$f":"+'[1]itcer global'!BK282","v":0.58776217486125093},{"$f":"+'[1]itcer global'!BL282","v":0.36775513681377864}]
[null,"Noviembre",{"$f":"+'[1]itcer global'!J283","v":78.061354313561793},{"$f":"+'[1]itcer global'!K283","v":106.93329034278514},{"$f":"+'[1]itcer global'!L283","v":65.95520384973878},{"$f":"+'[1]itcer global'!M283","v":82.84929878235495},{"$f":"+'[1]itcer global'!N283","v":110.8387668288309},{"$f":"+'[1]itcer global'!O283","v":99.002888981809605},null,{"$f":"+'[1]itcer global'!AS283","v":-0.59874061613331264},{"$f":"+'[1]itcer global'!AT283","v":-9.211521910930287E-2},{"$f":"+'[1]itcer global'!AU283","v":-1.527764607933463},{"$f":"+'[1]itcer global'!AV283","v":-0.40194021390992418},{"$f":"+'[1]itcer global'!AW283","v":-0.3852841756588532},{"$f":"+'[1]itcer global'!AX283","v":-0.42783265429187622},null,{"$f":"+'[1]itcer global'!AZ283","v":1.6280777981958912},{"$f":"+'[1]itcer global'!BA283","v":0.94356027718824742},{"$f":"+'[1]itcer global'!BB283","v":0.97087499255735288},{"$f":"+'[1]itcer global'!BC283","v":1.380037125159536},{"$f":"+'[1]itcer global'!BD283","v":1.8936108152127147},{"$f":"+'[1]itcer global'!BE283","v":2.6960502050129569},null,{"$f":"+'[1]itcer global'!BG283","v":0.47946943567477729},{"$f":"+'[1]itcer global'!BH283","v":1.1332958044974069},{"$f":"+'[1]itcer global'!BI283","v":0.67933775568786814},{"$f":"+'[1]itcer global'!BJ283","v":0.60034108700356403},{"$f":"+'[1]itcer global'!BK283","v":0.58533023754609281},{"$f":"+'[1]itcer global'!BL283","v":0.36721456001719299}]
[null,"Diciembre",{"$f":"+'[1]itcer global'!J284","v":77.972218766450638},{"$f":"+'[1]itcer global'!K284","v":107.36718015031688},{"$f":"+'[1]itcer global'!L284","v":65.578605649436312},{"$f":"+'[1]itcer global'!M284","v":82.939190890268819},{"$f":"+'[1]itcer global'!N284","v":109.98107494450626},{"$f":"+'[1]itcer global'!O284","v":99.132824366546956},null,{"$f":"+'[1]itcer global'!AS284","v":-0.11418652404250906},{"$f":"+'[1]itcer global'!AT284","v":0.40575746443494154},{"$f":"+'[1]itcer global'!AU284","v":-0.57099088217579208},{"$f":"+'[1]itcer global'!AV284","v":0.10850074681985689},{"$f":"+'[1]itcer global'!AW284","v":-0.77381940350272771},{"$f":"+'[1]itcer global'!AX284","v":0.13124403345565838},null,{"$f":"+'[1]itcer global'!AZ284","v":1.631123949395914},{"$f":"+'[1]itcer global'!BA284","v":0.94491866120449319},{"$f":"+'[1]itcer global'!BB284","v":0.96671244476809104},{"$f":"+'[1]itcer global'!BC284","v":1.3838332103929096},{"$f":"+'[1]itcer global'!BD284","v":1.8947482172395309},{"$f":"+'[1]itcer global'!BE284","v":2.7066990106541886},null,{"$f":"+'[1]itcer global'!BG284","v":0.47802755146429926},{"$f":"+'[1]itcer global'!BH284","v":1.1362584374559324},{"$f":"+'[1]itcer global'!BI284","v":0.678367243582638},{"$f":"+'[1]itcer global'!BJ284","v":0.59934383903620891},{"$f":"+'[1]itcer global'!BK284","v":0.58045218854850444},{"$f":"+'[1]itcer global'!BL284","v":0.36624990062189178}]
[2014,"Enero",{"$f":"+'[1]itcer global'!J285","v":77.704645711384259},{"$f":"+'[1]itcer global'!K285","v":106.95441531509921},{"$f":"+'[1]itcer global'!L285","v":65.31193091187717},{"$f":"+'[1]itcer global'!M285","v":81.900904861120907},{"$f":"+'[1]itcer global'!N285","v":109.93385993050282},{"$f":"+'[1]itcer global'!O285","v":99.467967422358967},null,{"$f":"+'[1]itcer global'!AS285","v":-0.34316460311055152},{"$f":"+'[1]itcer global'!AT285","v":-0.38444227988459545},{"$f":"+'[1]itcer global'!AU285","v":-0.40664899004518418},{"$f":"+'[1]itcer global'!AV285","v":-1.2518641886940998},{"$f":"+'[1]itcer global'!AW285","v":-4.2930125957823861E-2},{"$f":"+'[1]itcer global'!AX285","v":0.33807475773393492},null,{"$f":"+'[1]itcer global'!AZ285","v":1.6352086989024261},{"$f":"+'[1]itcer global'!BA285","v":0.94260330897723377},{"$f":"+'[1]itcer global'!BB285","v":0.96153000906459207},{"$f":"+'[1]itcer global'!BC285","v":1.3834563474578885},{"$f":"+'[1]itcer global'!BD285","v":1.9015793704376429},{"$f":"+'[1]itcer global'!BE285","v":2.7160307009622966},null,{"$f":"+'[1]itcer global'!BG285","v":0.47519711559472899},{"$f":"+'[1]itcer global'!BH285","v":1.134670484354118},{"$f":"+'[1]itcer global'!BI285","v":0.67925005248057468},{"$f":"+'[1]itcer global'!BJ285","v":0.59200208963307321},{"$f":"+'[1]itcer global'!BK285","v":0.57811870300844626},{"$f":"+'[1]itcer global'!BL285","v":0.36622548996635867}]
[null,"Febrero",{"$f":"+'[1]itcer global'!J286","v":81.003268468732315},{"$f":"+'[1]itcer global'!K286","v":107.09945153931672},{"$f":"+'[1]itcer global'!L286","v":64.520388660538828},{"$f":"+'[1]itcer global'!M286","v":81.661528575072452},{"$f":"+'[1]itcer global'!N286","v":109.83119743080186},{"$f":"+'[1]itcer global'!O286","v":99.99791147016596},null,{"$f":"+'[1]itcer global'!AS286","v":4.2450779192791259},{"$f":"+'[1]itcer global'!AT286","v":0.13560564450772006},{"$f":"+'[1]itcer global'!AU286","v":-1.2119412797737255},{"$f":"+'[1]itcer global'!AV286","v":-0.29227550837730121},{"$f":"+'[1]itcer global'!AW286","v":-9.3385695513518385E-2},{"$f":"+'[1]itcer global'!AX286","v":0.53277860354454276},null,{"$f":"+'[1]itcer global'!AZ286","v":1.7103406890221766},{"$f":"+'[1]itcer global'!BA286","v":0.94220689290009629},{"$f":"+'[1]itcer global'!BB286","v":0.9483693311814837},{"$f":"+'[1]itcer global'!BC286","v":1.386523200117936},{"$f":"+'[1]itcer global'!BD286","v":1.9055214186004139},{"$f":"+'[1]itcer global'!BE286","v":2.7313424645019806},null,{"$f":"+'[1]itcer global'!BG286","v":0.47360896567948041},{"$f":"+'[1]itcer global'!BH286","v":1.136687200511413},{"$f":"+'[1]itcer global'!BI286","v":0.68032976751956942},{"$f":"+'[1]itcer global'!BJ286","v":0.58896618944512735},{"$f":"+'[1]itcer global'!BK286","v":0.57638395642632956},{"$f":"+'[1]itcer global'!BL286","v":0.36611268183976736}]
[null,"Marzo",{"$f":"+'[1]itcer global'!J287","v":84.862762530677728},{"$f":"+'[1]itcer global'!K287","v":107.363999714857},{"$f":"+'[1]itcer global'!L287","v":64.448537390877334},{"$f":"+'[1]itcer global'!M287","v":81.872655856436694},{"$f":"+'[1]itcer global'!N287","v":110.36298995261012},{"$f":"+'[1]itcer global'!O287","v":100.3690794044911},null,{"$f":"+'[1]itcer global'!AS287","v":4.7646152246747988},{"$f":"+'[1]itcer global'!AT287","v":0.2470116996287004},{"$f":"+'[1]itcer global'!AU287","v":-0.11136211537646545},{"$f":"+'[1]itcer global'!AV287","v":0.25853946778642012},{"$f":"+'[1]itcer global'!AW287","v":0.48419077115435982},{"$f":"+'[1]itcer global'!AX287","v":0.3711756864400968},null,{"$f":"+'[1]itcer global'!AZ287","v":1.792147722888515},{"$f":"+'[1]itcer global'!BA287","v":0.94184602627112157},{"$f":"+'[1]itcer global'!BB287","v":0.9440906385525123},{"$f":"+'[1]itcer global'!BC287","v":1.3903940247087327},{"$f":"+'[1]itcer global'!BD287","v":1.9042567099275176},{"$f":"+'[1]itcer global'!BE287","v":2.7381427860668865},null,{"$f":"+'[1]itcer global'!BG287","v":0.4735254881439081},{"$f":"+'[1]itcer global'!BH287","v":1.1399315463475872},{"$f":"+'[1]itcer global'!BI287","v":0.6826520119899756},{"$f":"+'[1]itcer global'!BJ287","v":0.5888449921495299},{"$f":"+'[1]itcer global'!BK287","v":0.57955941222237262},{"$f":"+'[1]itcer global'!BL287","v":0.36655896805390081}]
[null,"Abril",{"$f":"+'[1]itcer global'!J288","v":83.917705263887115},{"$f":"+'[1]itcer global'!K288","v":108.29413908193654},{"$f":"+'[1]itcer global'!L288","v":64.770068931053572},{"$f":"+'[1]itcer global'!M288","v":81.999321106971806},{"$f":"+'[1]itcer global'!N288","v":110.4143354836504},{"$f":"+'[1]itcer global'!O288","v":100.3908210626098},null,{"$f":"+'[1]itcer global'!AS288","v":-1.1136300994785273},{"$f":"+'[1]itcer global'!AT288","v":0.86634194846489265},{"$f":"+'[1]itcer global'!AU288","v":0.49889656645916602},{"$f":"+'[1]itcer global'!AV288","v":0.15471007897585309},{"$f":"+'[1]itcer global'!AW288","v":4.6524229782392013E-2},{"$f":"+'[1]itcer global'!AX288","v":2.1661709211343805E-2},null,{"$f":"+'[1]itcer global'!AZ288","v":1.7867845742355786},{"$f":"+'[1]itcer global'!BA288","v":0.94192612196380321},{"$f":"+'[1]itcer global'!BB288","v":0.94770453464522841},{"$f":"+'[1]itcer global'!BC288","v":1.393637800094119},{"$f":"+'[1]itcer global'!BD288","v":1.9057740367385965},{"$f":"+'[1]itcer global'!BE288","v":2.7397377164046319},null,{"$f":"+'[1]itcer global'!BG288","v":0.46965765472756427},{"$f":"+'[1]itcer global'!BH288","v":1.149709478872464},{"$f":"+'[1]itcer global'!BI288","v":0.68344158504317098},{"$f":"+'[1]itcer global'!BJ288","v":0.58838330232886915},{"$f":"+'[1]itcer global'!BK288","v":0.57936740324474933},{"$f":"+'[1]itcer global'!BL288","v":0.36642493353105732}]
[null,"Mayo",{"$f":"+'[1]itcer global'!J289","v":84.492782776156176},{"$f":"+'[1]itcer global'!K289","v":108.28071062342731},{"$f":"+'[1]itcer global'!L289","v":64.686209656959932},{"$f":"+'[1]itcer global'!M289","v":81.940800703107115},{"$f":"+'[1]itcer global'!N289","v":110.18253449365569},{"$f":"+'[1]itcer global'!O289","v":100.75699228730051},null,{"$f":"+'[1]itcer global'!AS289","v":0.685287461639561},{"$f":"+'[1]itcer global'!AT289","v":-1.2399986391756102E-2},{"$f":"+'[1]itcer global'!AU289","v":-0.12947226315739613},{"$f":"+'[1]itcer global'!AV289","v":-7.1366937036401623E-2},{"$f":"+'[1]itcer global'!AW289","v":-0.20993740439530484},{"$f":"+'[1]itcer global'!AX289","v":0.36474572158577701},null,{"$f":"+'[1]itcer global'!AZ289","v":1.8053628863463314},{"$f":"+'[1]itcer global'!BA289","v":0.94163211908089739},{"$f":"+'[1]itcer global'!BB289","v":0.94658408783893677},{"$f":"+'[1]itcer global'!BC289","v":1.396557472680561},{"$f":"+'[1]itcer global'!BD289","v":1.9152270430507703},{"$f":"+'[1]itcer global'!BE289","v":2.7452276907771451},null,{"$f":"+'[1]itcer global'!BG289","v":0.46800996860609845},{"$f":"+'[1]itcer global'!BH289","v":1.149925840774392},{"$f":"+'[1]itcer global'!BI289","v":0.68336464227535598},{"$f":"+'[1]itcer global'!BJ289","v":0.58673418248823972},{"$f":"+'[1]itcer global'!BK289","v":0.57529750790353107},{"$f":"+'[1]itcer global'!BL289","v":0.36702599433119243}]
[null,"Junio",{"$f":"+'[1]itcer global'!J290","v":83.968397972958869},{"$f":"+'[1]itcer global'!K290","v":107.82658778426264},{"$f":"+'[1]itcer global'!L290","v":64.989924805372269},{"$f":"+'[1]itcer global'!M290","v":82.008178233924838},{"$f":"+'[1]itcer global'!N290","v":109.57580719911969},{"$f":"+'[1]itcer global'!O290","v":101.19852964721261},null,{"$f":"+'[1]itcer global'!AS290","v":-0.62062673990338624},{"$f":"+'[1]itcer global'!AT290","v":-0.4193940329261352},{"$f":"+'[1]itcer global'!AU290","v":0.4695207062262341},{"$f":"+'[1]itcer global'!AV290","v":8.2227083747739016E-2},{"$f":"+'[1]itcer global'!AW290","v":-0.55065650588291248},{"$f":"+'[1]itcer global'!AX290","v":0.43822006779747369},null,{"$f":"+'[1]itcer global'!AZ290","v":1.7963497912916151},{"$f":"+'[1]itcer global'!BA290","v":0.93824243185187794},{"$f":"+'[1]itcer global'!BB290","v":0.95370830998423828},{"$f":"+'[1]itcer global'!BC290","v":1.4001406291689296},{"$f":"+'[1]itcer global'!BD290","v":1.9248338025952423},{"$f":"+'[1]itcer global'!BE290","v":2.7524914875549822},null,{"$f":"+'[1]itcer global'!BG290","v":0.46743901649902903},{"$f":"+'[1]itcer global'!BH290","v":1.1492401550358087},{"$f":"+'[1]itcer global'!BI290","v":0.68144446394145763},{"$f":"+'[1]itcer global'!BJ290","v":0.5857138670606381},{"$f":"+'[1]itcer global'!BK290","v":0.56927412149235568},{"$f":"+'[1]itcer global'!BL290","v":0.36766155355890506}]
[null,"Julio",{"$f":"+'[1]itcer global'!J291","v":81.313635479849879},{"$f":"+'[1]itcer global'!K291","v":107.5103933349461},{"$f":"+'[1]itcer global'!L291","v":64.441743410403717},{"$f":"+'[1]itcer global'!M291","v":81.696830710166907},{"$f":"+'[1]itcer global'!N291","v":110.03948077324473},{"$f":"+'[1]itcer global'!O291","v":100.94979704038219},null,{"$f":"+'[1]itcer global'!AS291","v":-3.1616209874147216},{"$f":"+'[1]itcer global'!AT291","v":-0.29324349013916162},{"$f":"+'[1]itcer global'!AU291","v":-0.84348673522890749},{"$f":"+'[1]itcer global'!AV291","v":-0.37965423749545835},{"$f":"+'[1]itcer global'!AW291","v":0.42315323608109168},{"$f":"+'[1]itcer global'!AX291","v":-0.24578677941025262},null,{"$f":"+'[1]itcer global'!AZ291","v":1.756460632522586},{"$f":"+'[1]itcer global'!BA291","v":0.93943857411860843},{"$f":"+'[1]itcer global'!BB291","v":0.95042287615117371},{"$f":"+'[1]itcer global'!BC291","v":1.4043418895814357},{"$f":"+'[1]itcer global'!BD291","v":1.9404097464103005},{"$f":"+'[1]itcer global'!BE291","v":2.7587060787266569},null,{"$f":"+'[1]itcer global'!BG291","v":0.46294026734359101},{"$f":"+'[1]itcer global'!BH291","v":1.144411101447623},{"$f":"+'[1]itcer global'!BI291","v":0.6780323267403513},{"$f":"+'[1]itcer global'!BJ291","v":0.58174459735383},{"$f":"+'[1]itcer global'!BK291","v":0.56709404277531816},{"$f":"+'[1]itcer global'!BL291","v":0.36593168739084325}]
[null,"Agosto",{"$f":"+'[1]itcer global'!J292","v":80.805941416230056},{"$f":"+'[1]itcer global'!K292","v":106.89534294646151},{"$f":"+'[1]itcer global'!L292","v":64.189918631257257},{"$f":"+'[1]itcer global'!M292","v":81.651239081310436},{"$f":"+'[1]itcer global'!N292","v":109.66003128002862},{"$f":"+'[1]itcer global'!O292","v":100.16155966318139},null,{"$f":"+'[1]itcer global'!AS292","v":-0.62436522561536378},{"$f":"+'[1]itcer global'!AT292","v":-0.57208458587665234},{"$f":"+'[1]itcer global'!AU292","v":-0.39077896689214242},{"$f":"+'[1]itcer global'!AV292","v":-5.5805872100734177E-2},{"$f":"+'[1]itcer global'!AW292","v":-0.34483031958141908},{"$f":"+'[1]itcer global'!AX292","v":-0.78082116092367926},null,{"$f":"+'[1]itcer global'!AZ292","v":1.7505611704646578},{"$f":"+'[1]itcer global'!BA292","v":0.93535039764844763},{"$f":"+'[1]itcer global'!BB292","v":0.9503000795776676},{"$f":"+'[1]itcer global'!BC292","v":1.4051765909274307},{"$f":"+'[1]itcer global'!BD292","v":1.9378330572139175},{"$f":"+'[1]itcer global'!BE292","v":2.7491101563214611},null,{"$f":"+'[1]itcer global'!BG292","v":0.46160021585981736},{"$f":"+'[1]itcer global'!BH292","v":1.142837413820593},{"$f":"+'[1]itcer global'!BI292","v":0.6754699911188532},{"$f":"+'[1]itcer global'!BJ292","v":0.58107457531312701},{"$f":"+'[1]itcer global'!BK292","v":0.56588998145015768},{"$f":"+'[1]itcer global'!BL292","v":0.36434174684802706}]
[null,"Septiembre",{"$f":"+'[1]itcer global'!J293","v":80.387577346431485},{"$f":"+'[1]itcer global'!K293","v":106.76010116864484},{"$f":"+'[1]itcer global'!L293","v":63.178232359385291},{"$f":"+'[1]itcer global'!M293","v":81.713529355436592},{"$f":"+'[1]itcer global'!N293","v":109.55666759455774},{"$f":"+'[1]itcer global'!O293","v":99.793723960868562},null,{"$f":"+'[1]itcer global'!AS293","v":-0.51773924350881373},{"$f":"+'[1]itcer global'!AT293","v":-0.12651793248318199},{"$f":"+'[1]itcer global'!AU293","v":-1.576082807774938},{"$f":"+'[1]itcer global'!AV293","v":7.628821659903906E-2},{"$f":"+'[1]itcer global'!AW293","v":-9.4258303836269874E-2},{"$f":"+'[1]itcer global'!AX293","v":-0.3672423867497514},null,{"$f":"+'[1]itcer global'!AZ293","v":1.7359066581993585},{"$f":"+'[1]itcer global'!BA293","v":0.93183718624951895},{"$f":"+'[1]itcer global'!BB293","v":0.93456583525894488},{"$f":"+'[1]itcer global'!BC293","v":1.4062906049332091},{"$f":"+'[1]itcer global'!BD293","v":1.9317056544149371},{"$f":"+'[1]itcer global'!BE293","v":2.7396223894791092},null,{"$f":"+'[1]itcer global'!BG293","v":0.4630869808968695},{"$f":"+'[1]itcer global'!BH293","v":1.1456947924383172},{"$f":"+'[1]itcer global'!BI293","v":0.67601692653230994},{"$f":"+'[1]itcer global'!BJ293","v":0.58105720872193067},{"$f":"+'[1]itcer global'!BK293","v":0.56714990373489149},{"$f":"+'[1]itcer global'!BL293","v":0.36426087165918719}]
[null,"Octubre",{"$f":"+'[1]itcer global'!J294","v":80.071345058880524},{"$f":"+'[1]itcer global'!K294","v":106.44357301658275},{"$f":"+'[1]itcer global'!L294","v":62.078294978898739},{"$f":"+'[1]itcer global'!M294","v":81.686169893449787},{"$f":"+'[1]itcer global'!N294","v":109.52628851986954},{"$f":"+'[1]itcer global'!O294","v":99.647067090651205},null,{"$f":"+'[1]itcer global'!AS294","v":-0.39338452282017045},{"$f":"+'[1]itcer global'!AT294","v":-0.29648543659777715},{"$f":"+'[1]itcer global'!AU294","v":-1.7410068933705389},{"$f":"+'[1]itcer global'!AV294","v":-3.3482168990389027E-2},{"$f":"+'[1]itcer global'!AW294","v":-2.7729097055612328E-2},{"$f":"+'[1]itcer global'!AX294","v":-0.14696001351232724},null,{"$f":"+'[1]itcer global'!AZ294","v":1.7253795186514715},{"$f":"+'[1]itcer global'!BA294","v":0.92993833178079421},{"$f":"+'[1]itcer global'!BB294","v":0.92034434295366219},{"$f":"+'[1]itcer global'!BC294","v":1.4115705425301066},{"$f":"+'[1]itcer global'!BD294","v":1.9352737493697032},{"$f":"+'[1]itcer global'!BE294","v":2.7374185732772665},null,{"$f":"+'[1]itcer global'!BG294","v":0.46407960795467768},{"$f":"+'[1]itcer global'!BH294","v":1.1446304489110326},{"$f":"+'[1]itcer global'!BI294","v":0.67451161572494489},{"$f":"+'[1]itcer global'!BJ294","v":0.57868995868272433},{"$f":"+'[1]itcer global'!BK294","v":0.56594726485356928},{"$f":"+'[1]itcer global'!BL294","v":0.36401837871419379}]
[null,"Noviembre",{"$f":"+'[1]itcer global'!J295","v":78.722031461225654},{"$f":"+'[1]itcer global'!K295","v":105.94193200546503},{"$f":"+'[1]itcer global'!L295","v":61.337298025886504},{"$f":"+'[1]itcer global'!M295","v":81.03864785834449},{"$f":"+'[1]itcer global'!N295","v":107.57888721109362},{"$f":"+'[1]itcer global'!O295","v":99.259036515427624},null,{"$f":"+'[1]itcer global'!AS295","v":-1.6851391676543557},{"$f":"+'[1]itcer global'!AT295","v":-0.47127411914250672},{"$f":"+'[1]itcer global'!AU295","v":-1.1936490093101213},{"$f":"+'[1]itcer global'!AV295","v":-0.79269481718866075},{"$f":"+'[1]itcer global'!AW295","v":-1.7780218202341729},{"$f":"+'[1]itcer global'!AX295","v":-0.38940491331328531},null,{"$f":"+'[1]itcer global'!AZ295","v":1.7050838549644398},{"$f":"+'[1]itcer global'!BA295","v":0.92604526266383813},{"$f":"+'[1]itcer global'!BB295","v":0.91260434556856862},{"$f":"+'[1]itcer global'!BC295","v":1.4088018867782852},{"$f":"+'[1]itcer global'!BD295","v":1.9298353302658326},{"$f":"+'[1]itcer global'!BE295","v":2.7325999778365047},null,{"$f":"+'[1]itcer global'!BG295","v":0.4616900877456695},{"$f":"+'[1]itcer global'!BH295","v":1.1440254194564439},{"$f":"+'[1]itcer global'!BI295","v":0.67211271043939957},{"$f":"+'[1]itcer global'!BJ295","v":0.57523097192656025},{"$f":"+'[1]itcer global'!BK295","v":0.55745112302547994},{"$f":"+'[1]itcer global'!BL295","v":0.36324027417293059}]
[null,"Diciembre",{"$f":"+'[1]itcer global'!J296","v":77.560508354122049},{"$f":"+'[1]itcer global'!K296","v":106.31196591738744},{"$f":"+'[1]itcer global'!L296","v":60.58722621905823},{"$f":"+'[1]itcer global'!M296","v":80.890245637149349},{"$f":"+'[1]itcer global'!N296","v":106.68964620414317},{"$f":"+'[1]itcer global'!O296","v":98.987842067414533},null,{"$f":"+'[1]itcer global'!AS296","v":-1.4754740007893616},{"$f":"+'[1]itcer global'!AT296","v":0.34927993563806581},{"$f":"+'[1]itcer global'!AU296","v":-1.222864115259398},{"$f":"+'[1]itcer global'!AV296","v":-0.18312524346968928},{"$f":"+'[1]itcer global'!AW296","v":-0.82659435322615593},{"$f":"+'[1]itcer global'!AX296","v":-0.27321890029725182},null,{"$f":"+'[1]itcer global'!AZ296","v":1.6815672237761778},{"$f":"+'[1]itcer global'!BA296","v":0.91943514689631511},{"$f":"+'[1]itcer global'!BB296","v":0.90404466019563456},{"$f":"+'[1]itcer global'!BC296","v":1.4088797847089156},{"$f":"+'[1]itcer global'!BD296","v":1.9196235184081394},{"$f":"+'[1]itcer global'!BE296","v":2.7156529626018182},null,{"$f":"+'[1]itcer global'!BG296","v":0.46123941557299042},{"$f":"+'[1]itcer global'!BH296","v":1.156274765830507},{"$f":"+'[1]itcer global'!BI296","v":0.670179570619301},{"$f":"+'[1]itcer global'!BJ296","v":0.57414583213614534},{"$f":"+'[1]itcer global'!BK296","v":0.55578422113006953},{"$f":"+'[1]itcer global'!BL296","v":0.36450843841466424}]
[2015,"Enero",{"$f":"+'[1]itcer global'!J297","v":75.257779122960116},{"$f":"+'[1]itcer global'!K297","v":104.08529903079493},{"$f":"+'[1]itcer global'!L297","v":59.379080673401845},{"$f":"+'[1]itcer global'!M297","v":80.701970883619282},{"$f":"+'[1]itcer global'!N297","v":103.60056260677547},{"$f":"+'[1]itcer global'!O297","v":97.228487681630597},null,{"$f":"+'[1]itcer global'!AS297","v":-2.9689455110947023},{"$f":"+'[1]itcer global'!AT297","v":-2.0944649714433865},{"$f":"+'[1]itcer global'!AU297","v":-1.9940598390958399},{"$f":"+'[1]itcer global'!AV297","v":-0.23275334627442135},{"$f":"+'[1]itcer global'!AW297","v":-2.8953921090496095},{"$f":"+'[1]itcer global'!AX297","v":-1.7773439131906201},null,{"$f":"+'[1]itcer global'!AZ297","v":1.6665845587014634},{"$f":"+'[1]itcer global'!BA297","v":0.91190191320015801},{"$f":"+'[1]itcer global'!BB297","v":0.89902374939599017},{"$f":"+'[1]itcer global'!BC297","v":1.4079636872421617},{"$f":"+'[1]itcer global'!BD297","v":1.9176282902435327},{"$f":"+'[1]itcer global'!BE297","v":2.7126824540069117},null,{"$f":"+'[1]itcer global'!BG297","v":0.45156892118092101},{"$f":"+'[1]itcer global'!BH297","v":1.1414089336157438},{"$f":"+'[1]itcer global'!BI297","v":0.66048400515888184},{"$f":"+'[1]itcer global'!BJ297","v":0.57318218939079069},{"$f":"+'[1]itcer global'!BK297","v":0.54025362023428691},{"$f":"+'[1]itcer global'!BL297","v":0.35842192858959249}]
[]
[]
[null,"Notas:"]
[null,"El ITCER GLOBAL incluye al resto de países centroamericanos, República Dominicana, Zona Euro, Japón, México, Estados Unidos, Panamá y Canadá."]
[null,"Valores sobre (bajo) 100 significan una depreciación (apreciación) real de la moneda. El índice se descompone en el efecto que tiene la variación en el tipo de cambio y la variación en los precios nominales (multiplicados).  El efecto será 1 cuando tanto el tipo de cambio como los precios, tienen la misma importancia en el índice.  Un valor mayor (o menor) a 1 indica mayor (o menor) peso de alguno de estos componentes."]
[]
[null,"Fuente: Cálculos de la Secretaría Ejecutiva del Consejo Monetario Centroamericano"]
[null,{"$f":"TODAY()","v":"2015-02-27"}]

{"sheet":"ITCER RESTOM","index":5,"n_rows":253,"n_cols":29,"rows_kept":253,"cut":false,"hidden":false,"merged":[[2,16,2,21],[2,23,2,28],[253,0,253,1],[252,1,252,2],[2,2,2,7],[2,9,2,14],[249,1,249,28]]}
["Secretaría Ejecutiva"]
["Consejo Monetario Centroamericano"]
[null,null,"ITCER RESTO DEL MUNDO\n2000=100",null,null,null,null,null,null,"VARIACION MENSUAL",null,null,null,null,null,null,"EFECTO TIPO DE CAMBIO",null,null,null,null,null,null,"EFECTO PRECIO"]
["Año","MES","COSTA\n RICA","EL\nSALVADOR","GUATEMALA","HONDURAS","NICARAGUA","REP.\nDOMINICANA",null,"COSTA\n RICA","EL\nSALVADOR","GUATEMALA","HONDURAS","NICARAGUA","REP.\nDOMINICANA",null,"COSTA\n RICA","EL\nSALVADOR","GUATEMALA","HONDURAS","NICARAGUA","REP.\nDOMINICANA",null,"COSTA\n RICA","EL\nSALVADOR","GUATEMALA","HONDURAS","NICARAGUA","REP.\nDOMINICANA"]
[1995,"Enero",{"$f":"+'[1]itcer resto del mundo'!AK68","v":96.472138323432191},{"$f":"+'[1]itcer resto del mundo'!AL68","v":115.00726186687044},{"$f":"+'[1]itcer resto del mundo'!AM68","v":95.881873616547864},{"$f":"+'[1]itcer resto del mundo'!AN68","v":132.99104089677846},{"$f":"+'[1]itcer resto del mundo'!AO68","v":92.762142110214782},{"$f":"+'[1]itcer resto del mundo'!AP68","v":100.70298956423514}]
[null,"Febrero",{"$f":"+'[1]itcer resto del mundo'!AK69","v":97.143094180821876},{"$f":"+'[1]itcer resto del mundo'!AL69","v":114.62039258992677},{"$f":"+'[1]itcer resto del mundo'!AM69","v":96.586340900671217},{"$f":"+'[1]itcer resto del mundo'!AN69","v":125.82656692578217},{"$f":"+'[1]itcer resto del mundo'!AO69","v":93.96216737980636},{"$f":"+'[1]itcer resto del mundo'!AP69","v":101.01529501738415},null,{"$f":"+'[1]itcer resto del mundo'!AS69","v":0.69549184775010531},{"$f":"+'[1]itcer resto del mundo'!AT69","v":-0.33638682520022201},{"$f":"+'[1]itcer resto del mundo'!AU69","v":0.7347241533271216},{"$f":"+'[1]itcer resto del mundo'!AV69","v":-5.3871854244354864},{"$f":"+'[1]itcer resto del mundo'!AW69","v":1.2936584282042389},{"$f":"+'[1]itcer resto del mundo'!AX69","v":0.31012530462146515},null,{"$f":"+'[1]itcer resto del mundo'!BA69","v":0.62134845256077442},{"$f":"+'[1]itcer resto del mundo'!BB69","v":1.1158982869575726},{"$f":"+'[1]itcer resto del mundo'!BC69","v":0.82546858153713898},{"$f":"+'[1]itcer resto del mundo'!BD69","v":0.66217370332646253},{"$f":"+'[1]itcer resto del mundo'!BE69","v":0.64787047735615011},{"$f":"+'[1]itcer resto del mundo'!BF69","v":0.87017625998447401},null,{"$f":"+'[1]itcer resto del mundo'!BG69","v":1.5634237726104303},{"$f":"+'[1]itcer resto del mundo'!BH69","v":1.0271580656551784},{"$f":"+'[1]itcer resto del mundo'!BI69","v":1.1700789474120725},{"$f":"+'[1]itcer resto del mundo'!BJ69","v":1.9002048298457968},{"$f":"+'[1]itcer resto del mundo'!BK69","v":1.4503233387520618},{"$f":"+'[1]itcer resto del mundo'!BL69","v":1.1608601574488653}]
[null,"Marzo",{"$f":"+'[1]itcer resto del mundo'!AK70","v":98.4527462218647},{"$f":"+'[1]itcer resto del mundo'!AL70","v":113.70777969807885},{"$f":"+'[1]itcer resto del mundo'!AM70","v":95.406465941109644},{"$f":"+'[1]itcer resto del mundo'!AN70","v":125.7408928786916},{"$f":"+'[1]itcer resto del mundo'!AO70","v":93.831045821413838},{"$f":"+'[1]itcer resto del mundo'!AP70","v":100.5753300801772},null,{"$f":"+'[1]itcer resto del mundo'!AS70","v":1.3481679290604518},{"$f":"+'[1]itcer resto del mundo'!AT70","v":-0.79620464668353463},{"$f":"+'[1]itcer resto del mundo'!AU70","v":-1.2215753786293106},{"$f":"+'[1]itcer resto del mundo'!AV70","v":-6.8088996770541144E-2},{"$f":"+'[1]itcer resto del mundo'!AW70","v":-0.1395471837750506},{"$f":"+'[1]itcer resto del mundo'!AX70","v":-0.43554289192665863},null,{"$f":"+'[1]itcer resto del mundo'!BA70","v":0.6295977144392485},{"$f":"+'[1]itcer resto del mundo'!BB70","v":1.1099477354900789},{"$f":"+'[1]itcer resto del mundo'!BC70","v":0.81065658588977829},{"$f":"+'[1]itcer resto del mundo'!BD70","v":0.66694275394830338},{"$f":"+'[1]itcer resto del mundo'!BE70","v":0.6453180812316206},{"$f":"+'[1]itcer resto del mundo'!BF70","v":0.86686728689718862},null,{"$f":"+'[1]itcer resto del mundo'!BG70","v":1.5637405277042924},{"$f":"+'[1]itcer resto del mundo'!BH70","v":1.0244426477240667},{"$f":"+'[1]itcer resto del mundo'!BI70","v":1.1769036063081055},{"$f":"+'[1]itcer resto del mundo'!BJ70","v":1.8853326186438801},{"$f":"+'[1]itcer resto del mundo'!BK70","v":1.454027843793448},{"$f":"+'[1]itcer resto del mundo'!BL70","v":1.1602160053838266}]
[null,"Abril",{"$f":"+'[1]itcer resto del mundo'!AK71","v":101.9637916250294},{"$f":"+'[1]itcer resto del mundo'!AL71","v":115.76509015020221},{"$f":"+'[1]itcer resto del mundo'!AM71","v":98.030128631375192},{"$f":"+'[1]itcer resto del mundo'!AN71","v":124.76800406782009},{"$f":"+'[1]itcer resto del mundo'!AO71","v":96.456888264968441},{"$f":"+'[1]itcer resto del mundo'!AP71","v":102.90984428714025},null,{"$f":"+'[1]itcer resto del mundo'!AS71","v":3.5662239377787444},{"$f":"+'[1]itcer resto del mundo'!AT71","v":1.8092961251956723},{"$f":"+'[1]itcer resto del mundo'!AU71","v":2.7499841487525885},{"$f":"+'[1]itcer resto del mundo'!AV71","v":-0.77372506954448284},{"$f":"+'[1]itcer resto del mundo'!AW71","v":2.7984793525080107},{"$f":"+'[1]itcer resto del mundo'!AX71","v":2.3211598759874903},null,{"$f":"+'[1]itcer resto del mundo'!BA71","v":0.64900691436748081},{"$f":"+'[1]itcer resto del mundo'!BB71","v":1.1252706610980203},{"$f":"+'[1]itcer resto del mundo'!BC71","v":0.82818622769895178},{"$f":"+'[1]itcer resto del mundo'!BD71","v":0.67379763998270648},{"$f":"+'[1]itcer resto del mundo'!BE71","v":0.65643785785627262},{"$f":"+'[1]itcer resto del mundo'!BF71","v":0.87757169082828257},null,{"$f":"+'[1]itcer resto del mundo'!BG71","v":1.5710740420139107},{"$f":"+'[1]itcer resto del mundo'!BH71","v":1.028775512881857},{"$f":"+'[1]itcer resto del mundo'!BI71","v":1.1836725286261272},{"$f":"+'[1]itcer resto del mundo'!BJ71","v":1.8517132839916499},{"$f":"+'[1]itcer resto del mundo'!BK71","v":1.4693986203045546},{"$f":"+'[1]itcer resto del mundo'!BL71","v":1.1726659526814311}]
[null,"Mayo",{"$f":"+'[1]itcer resto del mundo'!AK72","v":103.2235777621833},{"$f":"+'[1]itcer resto del mundo'!AL72","v":115.92117327546271},{"$f":"+'[1]itcer resto del mundo'!AM72","v":98.030823628006587},{"$f":"+'[1]itcer resto del mundo'!AN72","v":123.47781938779404},{"$f":"+'[1]itcer resto del mundo'!AO72","v":96.968963219655464},{"$f":"+'[1]itcer resto del mundo'!AP72","v":103.21330628947412},null,{"$f":"+'[1]itcer resto del mundo'!AS72","v":1.235523039185054},{"$f":"+'[1]itcer resto del mundo'!AT72","v":0.13482745537361041},{"$f":"+'[1]itcer resto del mundo'!AU72","v":7.0896227629191344E-4},{"$f":"+'[1]itcer resto del mundo'!AV72","v":-1.0340669386077082},{"$f":"+'[1]itcer resto del mundo'!AW72","v":0.53088479620070927},{"$f":"+'[1]itcer resto del mundo'!AX72","v":0.2948814124012813},null,{"$f":"+'[1]itcer resto del mundo'!BA72","v":0.65898793396460176},{"$f":"+'[1]itcer resto del mundo'!BB72","v":1.1281382778514193},{"$f":"+'[1]itcer resto del mundo'!BC72","v":0.83422678369636361},{"$f":"+'[1]itcer resto del mundo'!BD72","v":0.67617521901265432},{"$f":"+'[1]itcer resto del mundo'!BE72","v":0.66071263225739241},{"$f":"+'[1]itcer resto del mundo'!BF72","v":0.87934151221165857},null,{"$f":"+'[1]itcer resto del mundo'!BG72","v":1.5663955657149871},{"$f":"+'[1]itcer resto del mundo'!BH72","v":1.0275440125676689},{"$f":"+'[1]itcer resto del mundo'!BI72","v":1.1751100005881281},{"$f":"+'[1]itcer resto del mundo'!BJ72","v":1.8261216311371982},{"$f":"+'[1]itcer resto del mundo'!BK72","v":1.4676420350607051},{"$f":"+'[1]itcer resto del mundo'!BL72","v":1.1737567811381859}]
[null,"Junio",{"$f":"+'[1]itcer resto del mundo'!AK73","v":103.47364542462074},{"$f":"+'[1]itcer resto del mundo'!AL73","v":115.13677741562},{"$f":"+'[1]itcer resto del mundo'!AM73","v":97.169802978376282},{"$f":"+'[1]itcer resto del mundo'!AN73","v":124.37816558950088},{"$f":"+'[1]itcer resto del mundo'!AO73","v":96.342922484441132},{"$f":"+'[1]itcer resto del mundo'!AP73","v":102.75960454648248},null,{"$f":"+'[1]itcer resto del mundo'!AS73","v":0.2422582784463998},{"$f":"+'[1]itcer resto del mundo'!AT73","v":-0.67666314761906676},{"$f":"+'[1]itcer resto del mundo'!AU73","v":-0.87831624561025023},{"$f":"+'[1]itcer resto del mundo'!AV73","v":0.72915622106933142},{"$f":"+'[1]itcer resto del mundo'!AW73","v":-0.64560939338520029},{"$f":"+'[1]itcer resto del mundo'!AX73","v":-0.43957679421602336},null,{"$f":"+'[1]itcer resto del mundo'!BA73","v":0.66711239559043634},{"$f":"+'[1]itcer resto del mundo'!BB73","v":1.124692837706027},{"$f":"+'[1]itcer resto del mundo'!BC73","v":0.83233942732424038},{"$f":"+'[1]itcer resto del mundo'!BD73","v":0.68495211443685067},{"$f":"+'[1]itcer resto del mundo'!BE73","v":0.6653935720340548},{"$f":"+'[1]itcer resto del mundo'!BF73","v":0.87713229013035654},null,{"$f":"+'[1]itcer resto del mundo'!BG73","v":1.55106764779929},{"$f":"+'[1]itcer resto del mundo'!BH73","v":1.0237175302943873},{"$f":"+'[1]itcer resto del mundo'!BI73","v":1.1674300145885494},{"$f":"+'[1]itcer resto del mundo'!BJ73","v":1.8158665834875374},{"$f":"+'[1]itcer resto del mundo'!BK73","v":1.4479088246964658},{"$f":"+'[1]itcer resto del mundo'!BL73","v":1.1715405498435212}]
[null,"Julio",{"$f":"+'[1]itcer resto del mundo'!AK74","v":103.57949266357039},{"$f":"+'[1]itcer resto del mundo'!AL74","v":112.61792890367492},{"$f":"+'[1]itcer resto del mundo'!AM74","v":97.66032550541324},{"$f":"+'[1]itcer resto del mundo'!AN74","v":124.60463678393783},{"$f":"+'[1]itcer resto del mundo'!AO74","v":96.659177477889159},{"$f":"+'[1]itcer resto del mundo'!AP74","v":102.3369475219927},null,{"$f":"+'[1]itcer resto del mundo'!AS74","v":0.10229391118411968},{"$f":"+'[1]itcer resto del mundo'!AT74","v":-2.1877010703995552},{"$f":"+'[1]itcer resto del mundo'!AU74","v":0.50480963427096981},{"$f":"+'[1]itcer resto del mundo'!AV74","v":0.18208275814615149},{"$f":"+'[1]itcer resto del mundo'!AW74","v":0.3282597053240579},{"$f":"+'[1]itcer resto del mundo'!AX74","v":-0.41130658915547258},null,{"$f":"+'[1]itcer resto del mundo'!BA74","v":0.67780952071576783},{"$f":"+'[1]itcer resto del mundo'!BB74","v":1.1266212952218162},{"$f":"+'[1]itcer resto del mundo'!BC74","v":0.8360172450605281},{"$f":"+'[1]itcer resto del mundo'!BD74","v":0.69480806680528751},{"$f":"+'[1]itcer resto del mundo'!BE74","v":0.67443476398899183},{"$f":"+'[1]itcer resto del mundo'!BF74","v":0.87797540749206604},null,{"$f":"+'[1]itcer resto del mundo'!BG74","v":1.5281504537468031},{"$f":"+'[1]itcer resto del mundo'!BH74","v":0.99960767101869841},{"$f":"+'[1]itcer resto del mundo'!BI74","v":1.1681616148760492},{"$f":"+'[1]itcer resto del mundo'!BJ74","v":1.7933677332916882},{"$f":"+'[1]itcer resto del mundo'!BK74","v":1.4331879469882551},{"$f":"+'[1]itcer resto del mundo'!BL74","v":1.1656015265201773}]
[null,"Agosto",{"$f":"+'[1]itcer resto del mundo'!AK75","v":102.89744858889739},{"$f":"+'[1]itcer resto del mundo'!AL75","v":111.14534812906744},{"$f":"+'[1]itcer resto del mundo'!AM75","v":97.375217881263424},{"$f":"+'[1]itcer resto del mundo'!AN75","v":124.07119165652932},{"$f":"+'[1]itcer resto del mundo'!AO75","v":98.585189317414475},{"$f":"+'[1]itcer resto del mundo'!AP75","v":100.63708941749854},null,{"$f":"+'[1]itcer resto del mundo'!AS75","v":-0.6584740445565842},{"$f":"+'[1]itcer resto del mundo'!AT75","v":-1.3075899982737411},{"$f":"+'[1]itcer resto del mundo'!AU75","v":-0.29193802362865995},{"$f":"+'[1]itcer resto del mundo'!AV75","v":-0.42811017404874008},{"$f":"+'[1]itcer resto del mundo'!AW75","v":1.9925804147939061},{"$f":"+'[1]itcer resto del mundo'!AX75","v":-1.6610404606106215},null,{"$f":"+'[1]itcer resto del mundo'!BA75","v":0.67850281696007664},{"$f":"+'[1]itcer resto del mundo'!BB75","v":1.1156226975476311},{"$f":"+'[1]itcer resto del mundo'!BC75","v":0.83523093661018766},{"$f":"+'[1]itcer resto del mundo'!BD75","v":0.69838860594563945},{"$f":"+'[1]itcer resto del mundo'!BE75","v":0.6746153053618581},{"$f":"+'[1]itcer resto del mundo'!BF75","v":0.87014079516545939},null,{"$f":"+'[1]itcer resto del mundo'!BG75","v":1.516536792727154},{"$f":"+'[1]itcer resto del mundo'!BH75","v":0.99626287967596805},{"$f":"+'[1]itcer resto del mundo'!BI75","v":1.1658478345697296},{"$f":"+'[1]itcer resto del mundo'!BJ75","v":1.7765351639512093},{"$f":"+'[1]itcer resto del mundo'!BK75","v":1.4613541752441292},{"$f":"+'[1]itcer resto del mundo'!BL75","v":1.1565609838849371}]
[null,"Septiembre",{"$f":"+'[1]itcer resto del mundo'!AK76","v":102.06593830060517},{"$f":"+'[1]itcer resto del mundo'!AL76","v":109.36340027263888},{"$f":"+'[1]itcer resto del mundo'!AM76","v":97.911675555288454},{"$f":"+'[1]itcer resto del mundo'!AN76","v":122.62997380403171},{"$f":"+'[1]itcer resto del mundo'!AO76","v":97.680738464130229},{"$f":"+'[1]itcer resto del mundo'!AP76","v":98.834289437786197},null,{"$f":"+'[1]itcer resto del mundo'!AS76","v":-0.80809611870390086},{"$f":"+'[1]itcer resto del mundo'!AT76","v":-1.6032590535046722},{"$f":"+'[1]itcer resto del mundo'!AU76","v":0.55091807309655394},{"$f":"+'[1]itcer resto del mundo'!AV76","v":-1.1616055534369281},{"$f":"+'[1]itcer resto del mundo'!AW76","v":-0.91743076170619986},{"$f":"+'[1]itcer resto del mundo'!AX76","v":-1.7913872411724157},null,{"$f":"+'[1]itcer resto del mundo'!BA76","v":0.68283526098401437},{"$f":"+'[1]itcer resto del mundo'!BB76","v":1.1080230465852599},{"$f":"+'[1]itcer resto del mundo'!BC76","v":0.84068593549724036},{"$f":"+'[1]itcer resto del mundo'!BD76","v":0.70261767301203548},{"$f":"+'[1]itcer resto del mundo'!BE76","v":0.67282977164461533},{"$f":"+'[1]itcer resto del mundo'!BF76","v":0.86462561436425633},null,{"$f":"+'[1]itcer resto del mundo'!BG76","v":1.4947373712587848},{"$f":"+'[1]itcer resto del mundo'!BH76","v":0.98701376843810651},{"$f":"+'[1]itcer resto del mundo'!BI76","v":1.1646641322407356},{"$f":"+'[1]itcer resto del mundo'!BJ76","v":1.7453300495322313},{"$f":"+'[1]itcer resto del mundo'!BK76","v":1.4517897777526498},{"$f":"+'[1]itcer resto del mundo'!BL76","v":1.1430876878480782}]
[null,"Octubre",{"$f":"+'[1]itcer resto del mundo'!AK77","v":100.89254677122064},{"$f":"+'[1]itcer resto del mundo'!AL77","v":109.09169473353731},{"$f":"+'[1]itcer resto del mundo'!AM77","v":97.582745084360525},{"$f":"+'[1]itcer resto del mundo'!AN77","v":122.56539651940585},{"$f":"+'[1]itcer resto del mundo'!AO77","v":95.152394588703842},{"$f":"+'[1]itcer resto del mundo'!AP77","v":98.327693662313038},null,{"$f":"+'[1]itcer resto del mundo'!AS77","v":-1.149640662616207},{"$f":"+'[1]itcer resto del mundo'!AT77","v":-0.24844284141150297},{"$f":"+'[1]itcer resto del mundo'!AU77","v":-0.33594611578492106},{"$f":"+'[1]itcer resto del mundo'!AV77","v":-5.2660277599869687E-2},{"$f":"+'[1]itcer resto del mundo'!AW77","v":-2.5883750626586703},{"$f":"+'[1]itcer resto del mundo'!AX77","v":-0.51257086822286624},null,{"$f":"+'[1]itcer resto del mundo'!BA77","v":0.69246781142099512},{"$f":"+'[1]itcer resto del mundo'!BB77","v":1.105928885384019},{"$f":"+'[1]itcer resto del mundo'!BC77","v":0.84559748685360003},{"$f":"+'[1]itcer resto del mundo'!BD77","v":0.71281824036285502},{"$f":"+'[1]itcer resto del mundo'!BE77","v":0.67823075102119401},{"$f":"+'[1]itcer resto del mundo'!BF77","v":0.86309293482167759},null,{"$f":"+'[1]itcer resto del mundo'!BG77","v":1.4569998071705557},{"$f":"+'[1]itcer resto del mundo'!BH77","v":0.98642594632707048},{"$f":"+'[1]itcer resto del mundo'!BI77","v":1.1540094028360708},{"$f":"+'[1]itcer resto del mundo'!BJ77","v":1.7194480946084494},{"$f":"+'[1]itcer resto del mundo'!BK77","v":1.4029501677037706},{"$f":"+'[1]itcer resto del mundo'!BL77","v":1.1392480426528855}]
[null,"Noviembre",{"$f":"+'[1]itcer resto del mundo'!AK78","v":98.842548396256447},{"$f":"+'[1]itcer resto del mundo'!AL78","v":107.32831849988995},{"$f":"+'[1]itcer resto del mundo'!AM78","v":95.423696196033063},{"$f":"+'[1]itcer resto del mundo'!AN78","v":122.80385217044845},{"$f":"+'[1]itcer resto del mundo'!AO78","v":91.826151513226804},{"$f":"+'[1]itcer resto del mundo'!AP78","v":96.433599687000381},null,{"$f":"+'[1]itcer resto del mundo'!AS78","v":-2.031863046943073},{"$f":"+'[1]itcer resto del mundo'!AT78","v":-1.6164165731905769},{"$f":"+'[1]itcer resto del mundo'!AU78","v":-2.2125314126600557},{"$f":"+'[1]itcer resto del mundo'!AV78","v":0.1945538119356911},{"$f":"+'[1]itcer resto del mundo'!AW78","v":-3.4957008595051349},{"$f":"+'[1]itcer resto del mundo'!AX78","v":-1.9263077417614909},null,{"$f":"+'[1]itcer resto del mundo'!BA78","v":0.69288959267020889},{"$f":"+'[1]itcer resto del mundo'!BB78","v":1.0904305427906036},{"$f":"+'[1]itcer resto del mundo'!BC78","v":0.83512738677371579},{"$f":"+'[1]itcer resto del mundo'!BD78","v":0.72347837696133799},{"$f":"+'[1]itcer resto del mundo'!BE78","v":0.67181402460572881},{"$f":"+'[1]itcer resto del mundo'!BF78","v":0.85285098256567826},null,{"$f":"+'[1]itcer resto del mundo'!BG78","v":1.4265266709425386},{"$f":"+'[1]itcer resto del mundo'!BH78","v":0.98427469048342975},{"$f":"+'[1]itcer resto del mundo'!BI78","v":1.1426244391849749},{"$f":"+'[1]itcer resto del mundo'!BJ78","v":1.697408742003232},{"$f":"+'[1]itcer resto del mundo'!BK78","v":1.3668388594167455},{"$f":"+'[1]itcer resto del mundo'!BL78","v":1.1307203914673807}]
[null,"Diciembre",{"$f":"+'[1]itcer resto del mundo'!AK79","v":99.081059701967774},{"$f":"+'[1]itcer resto del mundo'!AL79","v":107.2797202685869},{"$f":"+'[1]itcer resto del mundo'!AM79","v":94.149136893715649},{"$f":"+'[1]itcer resto del mundo'!AN79","v":123.40018538382112},{"$f":"+'[1]itcer resto del mundo'!AO79","v":94.01516314524801},{"$f":"+'[1]itcer resto del mundo'!AP79","v":96.27192661572272},null,{"$f":"+'[1]itcer resto del mundo'!AS79","v":0.24130428603999121},{"$f":"+'[1]itcer resto del mundo'!AT79","v":-4.527997082436741E-2},{"$f":"+'[1]itcer resto del mundo'!AU79","v":-1.3356842724882796},{"$f":"+'[1]itcer resto del mundo'!AV79","v":0.48559813298443544},{"$f":"+'[1]itcer resto del mundo'!AW79","v":2.383865158179816},{"$f":"+'[1]itcer resto del mundo'!AX79","v":-0.16765222059781593},null,{"$f":"+'[1]itcer resto del mundo'!BA79","v":0.70011910522596565},{"$f":"+'[1]itcer resto del mundo'!BB79","v":1.0874595667215781},{"$f":"+'[1]itcer resto del mundo'!BC79","v":0.82441485160723038},{"$f":"+'[1]itcer resto del mundo'!BD79","v":0.73699975991975386},{"$f":"+'[1]itcer resto del mundo'!BE79","v":0.67901867012458439},{"$f":"+'[1]itcer resto del mundo'!BF79","v":0.85102752474348575},null,{"$f":"+'[1]itcer resto del mundo'!BG79","v":1.41520291279566},{"$f":"+'[1]itcer resto del mundo'!BH79","v":0.98651686510063774},{"$f":"+'[1]itcer resto del mundo'!BI79","v":1.1420116548139336},{"$f":"+'[1]itcer resto del mundo'!BJ79","v":1.6743585560632641},{"$f":"+'[1]itcer resto del mundo'!BK79","v":1.3845740519623471},{"$f":"+'[1]itcer resto del mundo'!BL79","v":1.1312433947978442}]
[1996,"Enero",{"$f":"+'[1]itcer resto del mundo'!AK80","v":99.519431673169308},{"$f":"+'[1]itcer resto del mundo'!AL80","v":106.28091151480486},{"$f":"+'[1]itcer resto del mundo'!AM80","v":96.572593573567815},{"$f":"+'[1]itcer resto del mundo'!AN80","v":125.68522042332278},{"$f":"+'[1]itcer resto del mundo'!AO80","v":94.608399422036811},{"$f":"+'[1]itcer resto del mundo'!AP80","v":96.894343028195792},null,{"$f":"+'[1]itcer resto del mundo'!AS80","v":0.44243770960881079},{"$f":"+'[1]itcer resto del mundo'!AT80","v":-0.93103221306078865},{"$f":"+'[1]itcer resto del mundo'!AU80","v":2.5740614941462354},{"$f":"+'[1]itcer resto del mundo'!AV80","v":1.8517273960280818},{"$f":"+'[1]itcer resto del mundo'!AW80","v":0.63100063536802509},{"$f":"+'[1]itcer resto del mundo'!AX80","v":0.64651911969882292},null,{"$f":"+'[1]itcer resto del mundo'!BA80","v":0.70699613251114657},{"$f":"+'[1]itcer resto del mundo'!BB80","v":1.0859560456254775},{"$f":"+'[1]itcer resto del mundo'!BC80","v":0.84756795923883388},{"$f":"+'[1]itcer resto del mundo'!BD80","v":0.74948907936924369},{"$f":"+'[1]itcer resto del mundo'!BE80","v":0.68173252717542432},{"$f":"+'[1]itcer resto del mundo'!BF80","v":0.84970252466731766},null,{"$f":"+'[1]itcer resto del mundo'!BG80","v":1.4076375682521896},{"$f":"+'[1]itcer resto del mundo'!BH80","v":0.97868520501297362},{"$f":"+'[1]itcer resto del mundo'!BI80","v":1.1394082624394593},{"$f":"+'[1]itcer resto del mundo'!BJ80","v":1.6769453202586639},{"$f":"+'[1]itcer resto del mundo'!BK80","v":1.3877641985783091},{"$f":"+'[1]itcer resto del mundo'!BL80","v":1.1403325306834018}]
[null,"Febrero",{"$f":"+'[1]itcer resto del mundo'!AK81","v":100.12389169020122},{"$f":"+'[1]itcer resto del mundo'!AL81","v":106.5170537951596},{"$f":"+'[1]itcer resto del mundo'!AM81","v":97.540513156040447},{"$f":"+'[1]itcer resto del mundo'!AN81","v":125.27775199886204},{"$f":"+'[1]itcer resto del mundo'!AO81","v":94.318864560789663},{"$f":"+'[1]itcer resto del mundo'!AP81","v":97.197714245928296},null,{"$f":"+'[1]itcer resto del mundo'!AS81","v":0.60737888758953318},{"$f":"+'[1]itcer resto del mundo'!AT81","v":0.22218691671820068},{"$f":"+'[1]itcer resto del mundo'!AU81","v":1.0022715002836406},{"$f":"+'[1]itcer resto del mundo'!AV81","v":-0.32419756522551779},{"$f":"+'[1]itcer resto del mundo'!AW81","v":-0.30603504870173026},{"$f":"+'[1]itcer resto del mundo'!AX81","v":0.31309487040356032},null,{"$f":"+'[1]itcer resto del mundo'!BA81","v":0.71484013096440624},{"$f":"+'[1]itcer resto del mundo'!BB81","v":1.0854454978623098},{"$f":"+'[1]itcer resto del mundo'!BC81","v":0.8565948715082855},{"$f":"+'[1]itcer resto del mundo'!BD81","v":0.76500200140355823},{"$f":"+'[1]itcer resto del mundo'!BE81","v":0.68344220195770244},{"$f":"+'[1]itcer resto del mundo'!BF81","v":0.84940334593663658},null,{"$f":"+'[1]itcer resto del mundo'!BG81","v":1.4006473245300584},{"$f":"+'[1]itcer resto del mundo'!BH81","v":0.98132107051837825},{"$f":"+'[1]itcer resto del mundo'!BI81","v":1.1387006436810889},{"$f":"+'[1]itcer resto del mundo'!BJ81","v":1.6376133888409898},{"$f":"+'[1]itcer resto del mundo'!BK81","v":1.3800561962754967},{"$f":"+'[1]itcer resto del mundo'!BL81","v":1.144305761342963}]
[null,"Marzo",{"$f":"+'[1]itcer resto del mundo'!AK82","v":101.02677738454314},{"$f":"+'[1]itcer resto del mundo'!AL82","v":106.46354014597783},{"$f":"+'[1]itcer resto del mundo'!AM82","v":97.259566829488165},{"$f":"+'[1]itcer resto del mundo'!AN82","v":126.57705808919084},{"$f":"+'[1]itcer resto del mundo'!AO82","v":94.786165207479399},{"$f":"+'[1]itcer resto del mundo'!AP82","v":97.501743318162539},null,{"$f":"+'[1]itcer resto del mundo'!AS82","v":0.90176847813265226},{"$f":"+'[1]itcer resto del mundo'!AT82","v":-5.0239513087433352E-2},{"$f":"+'[1]itcer resto del mundo'!AU82","v":-0.28803039625476856},{"$f":"+'[1]itcer resto del mundo'!AV82","v":1.0371403298652808},{"$f":"+'[1]itcer resto del mundo'!AW82","v":0.49544770165097418},{"$f":"+'[1]itcer resto del mundo'!AX82","v":0.31279446702315283},null,{"$f":"+'[1]itcer resto del mundo'!BA82","v":0.72093455320820587},{"$f":"+'[1]itcer resto del mundo'!BB82","v":1.083487802870474},{"$f":"+'[1]itcer resto del mundo'!BC82","v":0.85723841936987377},{"$f":"+'[1]itcer resto del mundo'!BD82","v":0.78047595403795667},{"$f":"+'[1]itcer resto del mundo'!BE82","v":0.68828227975751899},{"$f":"+'[1]itcer resto del mundo'!BF82","v":0.8481402542288734},null,{"$f":"+'[1]itcer resto del mundo'!BG82","v":1.40133077177349},{"$f":"+'[1]itcer resto del mundo'!BH82","v":0.9826002642939311},{"$f":"+'[1]itcer resto del mundo'!BI82","v":1.1345684541411512},{"$f":"+'[1]itcer resto del mundo'!BJ82","v":1.6217931818951983},{"$f":"+'[1]itcer resto del mundo'!BK82","v":1.3771408620438765},{"$f":"+'[1]itcer resto del mundo'!BL82","v":1.1495945727373926}]
[null,"Abril",{"$f":"+'[1]itcer resto del mundo'!AK83","v":101.53074429122351},{"$f":"+'[1]itcer resto del mundo'!AL83","v":106.53253427146998},{"$f":"+'[1]itcer resto del mundo'!AM83","v":96.048282948243568},{"$f":"+'[1]itcer resto del mundo'!AN83","v":126.11815932798645},{"$f":"+'[1]itcer resto del mundo'!AO83","v":95.384847040114224},{"$f":"+'[1]itcer resto del mundo'!AP83","v":97.79999525404115},null,{"$f":"+'[1]itcer resto del mundo'!AS83","v":0.49884488026586382},{"$f":"+'[1]itcer resto del mundo'!AT83","v":6.4805402297878345E-2},{"$f":"+'[1]itcer resto del mundo'!AU83","v":-1.2454136088927612},{"$f":"+'[1]itcer resto del mundo'!AV83","v":-0.36254497310329725},{"$f":"+'[1]itcer resto del mundo'!AW83","v":0.63161309598753235},{"$f":"+'[1]itcer resto del mundo'!AX83","v":0.30589395197311831},null,{"$f":"+'[1]itcer resto del mundo'!BA83","v":0.72578990818030076},{"$f":"+'[1]itcer resto del mundo'!BB83","v":1.0818096912459962},{"$f":"+'[1]itcer resto del mundo'!BC83","v":0.85071115188727953},{"$f":"+'[1]itcer resto del mundo'!BD83","v":0.78962763192361918},{"$f":"+'[1]itcer resto del mundo'!BE83","v":0.69426635157098104},{"$f":"+'[1]itcer resto del mundo'!BF83","v":0.84695741415648351},null,{"$f":"+'[1]itcer resto del mundo'!BG83","v":1.3988999178258241},{"$f":"+'[1]itcer resto del mundo'!BH83","v":0.98476224731143791},{"$f":"+'[1]itcer resto del mundo'!BI83","v":1.1290351929108142},{"$f":"+'[1]itcer resto del mundo'!BJ83","v":1.59718523300342},{"$f":"+'[1]itcer resto del mundo'!BK83","v":1.3738941376645732},{"$f":"+'[1]itcer resto del mundo'!BL83","v":1.1547215198705572}]
[null,"Mayo",{"$f":"+'[1]itcer resto del mundo'!AK84","v":100.95792560602804},{"$f":"+'[1]itcer resto del mundo'!AL84","v":105.94531459746986},{"$f":"+'[1]itcer resto del mundo'!AM84","v":95.025064002218414},{"$f":"+'[1]itcer resto del mundo'!AN84","v":125.20993242175336},{"$f":"+'[1]itcer resto del mundo'!AO84","v":95.031676102142171},{"$f":"+'[1]itcer resto del mundo'!AP84","v":97.794477793855023},null,{"$f":"+'[1]itcer resto del mundo'!AS84","v":-0.56418249387834862},{"$f":"+'[1]itcer resto del mundo'!AT84","v":-0.55121158809923543},{"$f":"+'[1]itcer resto del mundo'!AU84","v":-1.0653172702488831},{"$f":"+'[1]itcer resto del mundo'!AV84","v":-0.72013967780097232},{"$f":"+'[1]itcer resto del mundo'!AW84","v":-0.37025895509748352},{"$f":"+'[1]itcer resto del mundo'!AX84","v":-5.6415751062104391E-3},null,{"$f":"+'[1]itcer resto del mundo'!BA84","v":0.73125422647851412},{"$f":"+'[1]itcer resto del mundo'!BB84","v":1.0802644396097321},{"$f":"+'[1]itcer resto del mundo'!BC84","v":0.84350544901845859},{"$f":"+'[1]itcer resto del mundo'!BD84","v":0.79802629840381345},{"$f":"+'[1]itcer resto del mundo'!BE84","v":0.70133949632463999},{"$f":"+'[1]itcer resto del mundo'!BF84","v":0.84613332281127906},null,{"$f":"+'[1]itcer resto del mundo'!BG84","v":1.380613225200886},{"$f":"+'[1]itcer resto del mundo'!BH84","v":0.98073500073504982},{"$f":"+'[1]itcer resto del mundo'!BI84","v":1.1265494978460888},{"$f":"+'[1]itcer resto del mundo'!BJ84","v":1.5689950653530371},{"$f":"+'[1]itcer resto del mundo'!BK84","v":1.3550024859594298},{"$f":"+'[1]itcer resto del mundo'!BL84","v":1.1557809526864249}]
[null,"Junio",{"$f":"+'[1]itcer resto del mundo'!AK85","v":100.7203866054363},{"$f":"+'[1]itcer resto del mundo'!AL85","v":104.24373258063179},{"$f":"+'[1]itcer resto del mundo'!AM85","v":95.075487935287583},{"$f":"+'[1]itcer resto del mundo'!AN85","v":125.15727511622087},{"$f":"+'[1]itcer resto del mundo'!AO85","v":95.69825729984521},{"$f":"+'[1]itcer resto del mundo'!AP85","v":97.445881073268865},null,{"$f":"+'[1]itcer resto del mundo'!AS85","v":-0.23528514395066225},{"$f":"+'[1]itcer resto del mundo'!AT85","v":-1.6060946378828476},{"$f":"+'[1]itcer resto del mundo'!AU85","v":5.3063824369530721E-2},{"$f":"+'[1]itcer resto del mundo'!AV85","v":-4.2055214401941043E-2},{"$f":"+'[1]itcer resto del mundo'!AW85","v":0.70143053878854289},{"$f":"+'[1]itcer resto del mundo'!AX85","v":-0.35645849177801381},null,{"$f":"+'[1]itcer resto del mundo'!BA85","v":0.73815929558769589},{"$f":"+'[1]itcer resto del mundo'!BB85","v":1.0783844796635433},{"$f":"+'[1]itcer resto del mundo'!BC85","v":0.84727351639770576},{"$f":"+'[1]itcer resto del mundo'!BD85","v":0.81678017483363397},{"$f":"+'[1]itcer resto del mundo'!BE85","v":0.70772253930856788},{"$f":"+'[1]itcer resto del mundo'!BF85","v":0.84464636940126092},null,{"$f":"+'[1]itcer resto del mundo'!BG85","v":1.364480366331313},{"$f":"+'[1]itcer resto del mundo'!BH85","v":0.96666573514815324},{"$f":"+'[1]itcer resto del mundo'!BI85","v":1.1221345420958446},{"$f":"+'[1]itcer resto del mundo'!BJ85","v":1.5323250854088564},{"$f":"+'[1]itcer resto del mundo'!BK85","v":1.352200219500437},{"$f":"+'[1]itcer resto del mundo'!BL85","v":1.1536885092200739}]
[null,"Julio",{"$f":"+'[1]itcer resto del mundo'!AK86","v":101.04427643501103},{"$f":"+'[1]itcer resto del mundo'!AL86","v":104.64208329608402},{"$f":"+'[1]itcer resto del mundo'!AM86","v":93.594580420603634},{"$f":"+'[1]itcer resto del mundo'!AN86","v":128.54853389709879},{"$f":"+'[1]itcer resto del mundo'!AO86","v":96.677876064063327},{"$f":"+'[1]itcer resto del mundo'!AP86","v":97.519127104858029},null,{"$f":"+'[1]itcer resto del mundo'!AS86","v":0.3215732588910214},{"$f":"+'[1]itcer resto del mundo'!AT86","v":0.38213397159788087},{"$f":"+'[1]itcer resto del mundo'!AU86","v":-1.5576123213713231},{"$f":"+'[1]itcer resto del mundo'!AV86","v":2.7095978062232433},{"$f":"+'[1]itcer resto del mundo'!AW86","v":1.0236537130960954},{"$f":"+'[1]itcer resto del mundo'!AX86","v":7.516585696842526E-2},null,{"$f":"+'[1]itcer resto del mundo'!BA86","v":0.74729444300493519},{"$f":"+'[1]itcer resto del mundo'!BB86","v":1.0795728718224122},{"$f":"+'[1]itcer resto del mundo'!BC86","v":0.84268643290365708},{"$f":"+'[1]itcer resto del mundo'!BD86","v":0.85622367087358375},{"$f":"+'[1]itcer resto del mundo'!BE86","v":0.71501311067233397},{"$f":"+'[1]itcer resto del mundo'!BF86","v":0.84529806963088971},null,{"$f":"+'[1]itcer resto del mundo'!BG86","v":1.3521347225426072},{"$f":"+'[1]itcer resto del mundo'!BH86","v":0.96929152285421116},{"$f":"+'[1]itcer resto del mundo'!BI86","v":1.1106691263333077},{"$f":"+'[1]itcer resto del mundo'!BJ86","v":1.5013429115542194},{"$f":"+'[1]itcer resto del mundo'!BK86","v":1.3521133336024589},{"$f":"+'[1]itcer resto del mundo'!BL86","v":1.1536655602140558}]
[null,"Agosto",{"$f":"+'[1]itcer resto del mundo'!AK87","v":101.74818143120849},{"$f":"+'[1]itcer resto del mundo'!AL87","v":102.24425210645474},{"$f":"+'[1]itcer resto del mundo'!AM87","v":92.99848376659601},{"$f":"+'[1]itcer resto del mundo'!AN87","v":128.5190962505971},{"$f":"+'[1]itcer resto del mundo'!AO87","v":98.704352150597401},{"$f":"+'[1]itcer resto del mundo'!AP87","v":97.92053360148968},null,{"$f":"+'[1]itcer resto del mundo'!AS87","v":0.69663025065077022},{"$f":"+'[1]itcer resto del mundo'!AT87","v":-2.2914597206982705},{"$f":"+'[1]itcer resto del mundo'!AU87","v":-0.63689227659212122},{"$f":"+'[1]itcer resto del mundo'!AV87","v":-2.2900025079437114E-2},{"$f":"+'[1]itcer resto del mundo'!AW87","v":2.0961115086881392},{"$f":"+'[1]itcer resto del mundo'!AX87","v":0.4116182215208255},null,{"$f":"+'[1]itcer resto del mundo'!BA87","v":0.75789651321922857},{"$f":"+'[1]itcer resto del mundo'!BB87","v":1.0836916568411388},{"$f":"+'[1]itcer resto del mundo'!BC87","v":0.84303641441753052},{"$f":"+'[1]itcer resto del mundo'!BD87","v":0.87819230715150653},{"$f":"+'[1]itcer resto del mundo'!BE87","v":0.72255169782638506},{"$f":"+'[1]itcer resto del mundo'!BF87","v":0.84807917039318148},null,{"$f":"+'[1]itcer resto del mundo'!BG87","v":1.3425075806065474},{"$f":"+'[1]itcer resto del mundo'!BH87","v":0.94348103042970077},{"$f":"+'[1]itcer resto del mundo'!BI87","v":1.1031372094507967},{"$f":"+'[1]itcer resto del mundo'!BJ87","v":1.4634504903312127},{"$f":"+'[1]itcer resto del mundo'!BK87","v":1.3660524561429248},{"$f":"+'[1]itcer resto del mundo'!BL87","v":1.1546154771858428}]
[null,"Septiembre",{"$f":"+'[1]itcer resto del mundo'!AK88","v":101.87202710246098},{"$f":"+'[1]itcer resto del mundo'!AL88","v":102.97527440002624},{"$f":"+'[1]itcer resto del mundo'!AM88","v":92.482632582142045},{"$f":"+'[1]itcer resto del mundo'!AN88","v":128.02024029422572},{"$f":"+'[1]itcer resto del mundo'!AO88","v":99.145257879447499},{"$f":"+'[1]itcer resto del mundo'!AP88","v":97.513602597840645},null,{"$f":"+'[1]itcer resto del mundo'!AS88","v":0.12171782287451549},{"$f":"+'[1]itcer resto del mundo'!AT88","v":0.71497642020048602},{"$f":"+'[1]itcer resto del mundo'!AU88","v":-0.55468773635990942},{"$f":"+'[1]itcer resto del mundo'!AV88","v":-0.38815706842403586},{"$f":"+'[1]itcer resto del mundo'!AW88","v":0.44669330099789306},{"$f":"+'[1]itcer resto del mundo'!AX88","v":-0.41557269827096377},null,{"$f":"+'[1]itcer resto del mundo'!BA88","v":0.76256018122064573},{"$f":"+'[1]itcer resto del mundo'!BB88","v":1.0802300076811804},{"$f":"+'[1]itcer resto del mundo'!BC88","v":0.83716171679985585},{"$f":"+'[1]itcer resto del mundo'!BD88","v":0.88632935509667732},{"$f":"+'[1]itcer resto del mundo'!BE88","v":0.73017797817367902},{"$f":"+'[1]itcer resto del mundo'!BF88","v":0.84569445687107281},null,{"$f":"+'[1]itcer resto del mundo'!BG88","v":1.3359211457827804},{"$f":"+'[1]itcer resto del mundo'!BH88","v":0.95327174460810205},{"$f":"+'[1]itcer resto del mundo'!BI88","v":1.1047164571221346},{"$f":"+'[1]itcer resto del mundo'!BJ88","v":1.4443867796781},{"$f":"+'[1]itcer resto del mundo'!BK88","v":1.3578231724740533},{"$f":"+'[1]itcer resto del mundo'!BL88","v":1.1530594980913622}]
[null,"Octubre",{"$f":"+'[1]itcer resto del mundo'!AK89","v":101.41915086249537},{"$f":"+'[1]itcer resto del mundo'!AL89","v":102.82573495942471},{"$f":"+'[1]itcer resto del mundo'!AM89","v":92.1874092673945},{"$f":"+'[1]itcer resto del mundo'!AN89","v":127.51845732443358},{"$f":"+'[1]itcer resto del mundo'!AO89","v":97.430870461055719},{"$f":"+'[1]itcer resto del mundo'!AP89","v":97.234644839272619},null,{"$f":"+'[1]itcer resto del mundo'!AS89","v":-0.44455406733990799},{"$f":"+'[1]itcer resto del mundo'!AT89","v":-0.14521878331746052},{"$f":"+'[1]itcer resto del mundo'!AU89","v":-0.31922027574780998},{"$f":"+'[1]itcer resto del mundo'!AV89","v":-0.39195596621198092},{"$f":"+'[1]itcer resto del mundo'!AW89","v":-1.7291673399814442},{"$f":"+'[1]itcer resto del mundo'!AX89","v":-0.28607061080337814},null,{"$f":"+'[1]itcer resto del mundo'!BA89","v":0.76627968865958052},{"$f":"+'[1]itcer resto del mundo'!BB89","v":1.0750965407217945},{"$f":"+'[1]itcer resto del mundo'!BC89","v":0.83411236098961594},{"$f":"+'[1]itcer resto del mundo'!BD89","v":0.89287201105595637},{"$f":"+'[1]itcer resto del mundo'!BE89","v":0.73325727461320589},{"$f":"+'[1]itcer resto del mundo'!BF89","v":0.84213108973501249},null,{"$f":"+'[1]itcer resto del mundo'!BG89","v":1.3235265447255091},{"$f":"+'[1]itcer resto del mundo'!BH89","v":0.95643257200316101},{"$f":"+'[1]itcer resto del mundo'!BI89","v":1.1052157188753393},{"$f":"+'[1]itcer resto del mundo'!BJ89","v":1.4281829393848251},{"$f":"+'[1]itcer resto del mundo'!BK89","v":1.3287405912536034},{"$f":"+'[1]itcer resto del mundo'!BL89","v":1.1546259961720302}]
[null,"Noviembre",{"$f":"+'[1]itcer resto del mundo'!AK90","v":101.8058143594337},{"$f":"+'[1]itcer resto del mundo'!AL90","v":103.72601141128516},{"$f":"+'[1]itcer resto del mundo'!AM90","v":90.686527451136385},{"$f":"+'[1]itcer resto del mundo'!AN90","v":125.91428007848724},{"$f":"+'[1]itcer resto del mundo'!AO90","v":97.299447266329352},{"$f":"+'[1]itcer resto del mundo'!AP90","v":96.853453644011225},null,{"$f":"+'[1]itcer resto del mundo'!AS90","v":0.38125294251631203},{"$f":"+'[1]itcer resto del mundo'!AT90","v":0.8755361215902866},{"$f":"+'[1]itcer resto del mundo'!AU90","v":-1.6280767928999182},{"$f":"+'[1]itcer resto del mundo'!AV90","v":-1.2579961204086487},{"$f":"+'[1]itcer resto del mundo'!AW90","v":-0.13488865911230619},{"$f":"+'[1]itcer resto del mundo'!AX90","v":-0.39203228015229286},null,{"$f":"+'[1]itcer resto del mundo'!BA90","v":0.7750943131361181},{"$f":"+'[1]itcer resto del mundo'!BB90","v":1.0753710488022079},{"$f":"+'[1]itcer resto del mundo'!BC90","v":0.82707850314342168},{"$f":"+'[1]itcer resto del mundo'!BD90","v":0.89717919922065814},{"$f":"+'[1]itcer resto del mundo'!BE90","v":0.74081626089072905},{"$f":"+'[1]itcer resto del mundo'!BF90","v":0.84222594168400322},null,{"$f":"+'[1]itcer resto del mundo'!BG90","v":1.3134635699688726},{"$f":"+'[1]itcer resto del mundo'!BH90","v":0.96456020019154698},{"$f":"+'[1]itcer resto del mundo'!BI90","v":1.0964681962651694},{"$f":"+'[1]itcer resto del mundo'!BJ90","v":1.4034462701304675},{"$f":"+'[1]itcer resto del mundo'!BK90","v":1.3134086331925305},{"$f":"+'[1]itcer resto del mundo'!BL90","v":1.1499699647146453}]
[null,"Diciembre",{"$f":"+'[1]itcer resto del mundo'!AK91","v":101.57139255559053},{"$f":"+'[1]itcer resto del mundo'!AL91","v":103.44510465103055},{"$f":"+'[1]itcer resto del mundo'!AM91","v":89.904505757822477},{"$f":"+'[1]itcer resto del mundo'!AN91","v":126.02150267785727},{"$f":"+'[1]itcer resto del mundo'!AO91","v":96.215308298641787},{"$f":"+'[1]itcer resto del mundo'!AP91","v":98.124159218246447},null,{"$f":"+'[1]itcer resto del mundo'!AS91","v":-0.23026366943592791},{"$f":"+'[1]itcer resto del mundo'!AT91","v":-0.27081612069395078},{"$f":"+'[1]itcer resto del mundo'!AU91","v":-0.86233502957236396},{"$f":"+'[1]itcer resto del mundo'!AV91","v":8.5155233626551308E-2},{"$f":"+'[1]itcer resto del mundo'!AW91","v":-1.1142293179940026},{"$f":"+'[1]itcer resto del mundo'!AX91","v":1.3119878810989576},null,{"$f":"+'[1]itcer resto del mundo'!BA91","v":0.77847418597293838},{"$f":"+'[1]itcer resto del mundo'!BB91","v":1.0711102073348515},{"$f":"+'[1]itcer resto del mundo'!BC91","v":0.82290757676314652},{"$f":"+'[1]itcer resto del mundo'!BD91","v":0.90596141206729641},{"$f":"+'[1]itcer resto del mundo'!BE91","v":0.74251665040218462},{"$f":"+'[1]itcer resto del mundo'!BF91","v":0.86031723114137926},null,{"$f":"+'[1]itcer resto del mundo'!BG91","v":1.3047496549759892},{"$f":"+'[1]itcer resto del mundo'!BH91","v":0.96577461350521354},{"$f":"+'[1]itcer resto del mundo'!BI91","v":1.0925225176739288},{"$f":"+'[1]itcer resto del mundo'!BJ91","v":1.3910250591169346},{"$f":"+'[1]itcer resto del mundo'!BK91","v":1.295800009959732},{"$f":"+'[1]itcer resto del mundo'!BL91","v":1.1405578740770486}]
[1997,"Enero",{"$f":"+'[1]itcer resto del mundo'!AK92","v":100.08060856831224},{"$f":"+'[1]itcer resto del mundo'!AL92","v":102.53893211118287},{"$f":"+'[1]itcer resto del mundo'!AM92","v":89.989585781491741},{"$f":"+'[1]itcer resto del mundo'!AN92","v":124.75419663013409},{"$f":"+'[1]itcer resto del mundo'!AO92","v":97.247450933051709},{"$f":"+'[1]itcer resto del mundo'!AP92","v":100.60925556325401},null,{"$f":"+'[1]itcer resto del mundo'!AS92","v":-1.4677203391322848},{"$f":"+'[1]itcer resto del mundo'!AT92","v":-0.87599364213959063},{"$f":"+'[1]itcer resto del mundo'!AU92","v":9.4633770523628868E-2},{"$f":"+'[1]itcer resto del mundo'!AV92","v":-1.0056268341464971},{"$f":"+'[1]itcer resto del mundo'!AW92","v":1.0727426359288472},{"$f":"+'[1]itcer resto del mundo'!AX92","v":2.5326039629855615},null,{"$f":"+'[1]itcer resto del mundo'!BA92","v":0.77905465831932041},{"$f":"+'[1]itcer resto del mundo'!BB92","v":1.0650074484116319},{"$f":"+'[1]itcer resto del mundo'!BC92","v":0.82771618019219806},{"$f":"+'[1]itcer resto del mundo'!BD92","v":0.91137612016887248},{"$f":"+'[1]itcer resto del mundo'!BE92","v":0.74550632673691863},{"$f":"+'[1]itcer resto del mundo'!BF92","v":0.90272406614866219},null,{"$f":"+'[1]itcer resto del mundo'!BG92","v":1.2846416807803875},{"$f":"+'[1]itcer resto del mundo'!BH92","v":0.96280014063855579},{"$f":"+'[1]itcer resto del mundo'!BI92","v":1.0872034150715273},{"$f":"+'[1]itcer resto del mundo'!BJ92","v":1.3688552274884915},{"$f":"+'[1]itcer resto del mundo'!BK92","v":1.3044483654311003},{"$f":"+'[1]itcer resto del mundo'!BL92","v":1.1145072933802289}]
[null,"Febrero",{"$f":"+'[1]itcer resto del mundo'!AK93","v":99.61941735861717},{"$f":"+'[1]itcer resto del mundo'!AL93","v":100.65749604813577},{"$f":"+'[1]itcer resto del mundo'!AM93","v":88.302421051968935},{"$f":"+'[1]itcer resto del mundo'!AN93","v":119.35080196348841},{"$f":"+'[1]itcer resto del mundo'!AO93","v":97.273211961628576},{"$f":"+'[1]itcer resto del mundo'!AP93","v":100.72011421656289},null,{"$f":"+'[1]itcer resto del mundo'!AS93","v":-0.46081974949250082},{"$f":"+'[1]itcer resto del mundo'!AT93","v":-1.8348504556367544},{"$f":"+'[1]itcer resto del mundo'!AU93","v":-1.8748444221306784},{"$f":"+'[1]itcer resto del mundo'!AV93","v":-4.3312327862327891},{"$f":"+'[1]itcer resto del mundo'!AW93","v":2.6490183886252794E-2},{"$f":"+'[1]itcer resto del mundo'!AX93","v":0.11018733086558541},null,{"$f":"+'[1]itcer resto del mundo'!BA93","v":0.77719511420602871},{"$f":"+'[1]itcer resto del mundo'!BB93","v":1.0555996817946234},{"$f":"+'[1]itcer resto del mundo'!BC93","v":0.82729328838905303},{"$f":"+'[1]itcer resto del mundo'!BD93","v":0.88984036103541042},{"$f":"+'[1]itcer resto del mundo'!BE93","v":0.74279975913999863},{"$f":"+'[1]itcer resto del mundo'!BF93","v":0.89910713902257788},null,{"$f":"+'[1]itcer resto del mundo'!BG93","v":1.2817813125393478},{"$f":"+'[1]itcer resto del mundo'!BH93","v":0.95355746865145041},{"$f":"+'[1]itcer resto del mundo'!BI93","v":1.0673653744238132},{"$f":"+'[1]itcer resto del mundo'!BJ93","v":1.3412608282300531},{"$f":"+'[1]itcer resto del mundo'!BK93","v":1.3095482431799643},{"$f":"+'[1]itcer resto del mundo'!BL93","v":1.1202237180104702}]
[null,"Marzo",{"$f":"+'[1]itcer resto del mundo'!AK94","v":99.248668320236646},{"$f":"+'[1]itcer resto del mundo'!AL94","v":100.32212694524559},{"$f":"+'[1]itcer resto del mundo'!AM94","v":86.786757051579798},{"$f":"+'[1]itcer resto del mundo'!AN94","v":118.98422097148935},{"$f":"+'[1]itcer resto del mundo'!AO94","v":98.017688410007281},{"$f":"+'[1]itcer resto del mundo'!AP94","v":100.95255191756308},null,{"$f":"+'[1]itcer resto del mundo'!AS94","v":-0.37216543542497504},{"$f":"+'[1]itcer resto del mundo'!AT94","v":-0.33317846763226555},{"$f":"+'[1]itcer resto del mundo'!AU94","v":-1.7164467093117537},{"$f":"+'[1]itcer resto del mundo'!AV94","v":-0.30714581382636652},{"$f":"+'[1]itcer resto del mundo'!AW94","v":0.76534580627642868},{"$f":"+'[1]itcer resto del mundo'!AX94","v":0.23077585128667977},null,{"$f":"+'[1]itcer resto del mundo'!BA94","v":0.78049226529255378},{"$f":"+'[1]itcer resto del mundo'!BB94","v":1.0509844556539052},{"$f":"+'[1]itcer resto del mundo'!BC94","v":0.81053314192794534},{"$f":"+'[1]itcer resto del mundo'!BD94","v":0.89135380082281856},{"$f":"+'[1]itcer resto del mundo'!BE94","v":0.7459209862545042},{"$f":"+'[1]itcer resto del mundo'!BF94","v":0.89980375783421163},null,{"$f":"+'[1]itcer resto del mundo'!BG94","v":1.2716162956853267},{"$f":"+'[1]itcer resto del mundo'!BH94","v":0.95455386048337687},{"$f":"+'[1]itcer resto del mundo'!BI94","v":1.0707366862895649},{"$f":"+'[1]itcer resto del mundo'!BJ94","v":1.3348708544424639},{"$f":"+'[1]itcer resto del mundo'!BK94","v":1.3140492118633615},{"$f":"+'[1]itcer resto del mundo'!BL94","v":1.1219396567152762}]
[null,"Abril",{"$f":"+'[1]itcer resto del mundo'!AK95","v":98.888791236996028},{"$f":"+'[1]itcer resto del mundo'!AL95","v":100.38910808946379},{"$f":"+'[1]itcer resto del mundo'!AM95","v":87.023129818085096},{"$f":"+'[1]itcer resto del mundo'!AN95","v":118.1299855739322},{"$f":"+'[1]itcer resto del mundo'!AO95","v":98.769975168672303},{"$f":"+'[1]itcer resto del mundo'!AP95","v":100.22184209763411},null,{"$f":"+'[1]itcer resto del mundo'!AS95","v":-0.36260142259988015},{"$f":"+'[1]itcer resto del mundo'!AT95","v":6.6766072707721946E-2},{"$f":"+'[1]itcer resto del mundo'!AU95","v":0.27236040904814729},{"$f":"+'[1]itcer resto del mundo'!AV95","v":-0.71794006850861081},{"$f":"+'[1]itcer resto del mundo'!AW95","v":0.76750102034462486},{"$f":"+'[1]itcer resto del mundo'!AX95","v":-0.72381510526416548},null,{"$f":"+'[1]itcer resto del mundo'!BA95","v":0.78611645286307108},{"$f":"+'[1]itcer resto del mundo'!BB95","v":1.0496421805881524},{"$f":"+'[1]itcer resto del mundo'!BC95","v":0.80988838718910372},{"$f":"+'[1]itcer resto del mundo'!BD95","v":0.88776019458065203},{"$f":"+'[1]itcer resto del mundo'!BE95","v":0.7519319614961143},{"$f":"+'[1]itcer resto del mundo'!BF95","v":0.89863726672769673},null,{"$f":"+'[1]itcer resto del mundo'!BG95","v":1.2579407399099543},{"$f":"+'[1]itcer resto del mundo'!BH95","v":0.95641267039413491},{"$f":"+'[1]itcer resto del mundo'!BI95","v":1.0745076876595063},{"$f":"+'[1]itcer resto del mundo'!BJ95","v":1.3306519744302439},{"$f":"+'[1]itcer resto del mundo'!BK95","v":1.3135493665164906},{"$f":"+'[1]itcer resto del mundo'!BL95","v":1.1152646992104229}]
[null,"Mayo",{"$f":"+'[1]itcer resto del mundo'!AK96","v":99.822792091441471},{"$f":"+'[1]itcer resto del mundo'!AL96","v":101.08067832431169},{"$f":"+'[1]itcer resto del mundo'!AM96","v":86.98299191358808},{"$f":"+'[1]itcer resto del mundo'!AN96","v":119.84692049373776},{"$f":"+'[1]itcer resto del mundo'!AO96","v":99.632935379199665},{"$f":"+'[1]itcer resto del mundo'!AP96","v":100.47152183891004},null,{"$f":"+'[1]itcer resto del mundo'!AS96","v":0.94449617874994374},{"$f":"+'[1]itcer resto del mundo'!AT96","v":0.68888970926168724},{"$f":"+'[1]itcer resto del mundo'!AU96","v":-4.6123260081458284E-2},{"$f":"+'[1]itcer resto del mundo'!AV96","v":1.4534285359164727},{"$f":"+'[1]itcer resto del mundo'!AW96","v":0.87370702387406141},{"$f":"+'[1]itcer resto del mundo'!AX96","v":0.24912707255239752},null,{"$f":"+'[1]itcer resto del mundo'!BA96","v":0.79637765818379369},{"$f":"+'[1]itcer resto del mundo'!BB96","v":1.0531712347263265},{"$f":"+'[1]itcer resto del mundo'!BC96","v":0.80958150688430208},{"$f":"+'[1]itcer resto del mundo'!BD96","v":0.91144743216107849},{"$f":"+'[1]itcer resto del mundo'!BE96","v":0.7631155504887458},{"$f":"+'[1]itcer resto del mundo'!BF96","v":0.9017071064533051},null,{"$f":"+'[1]itcer resto del mundo'!BG96","v":1.2534604790282007},{"$f":"+'[1]itcer resto del mundo'!BH96","v":0.9597743936728218},{"$f":"+'[1]itcer resto del mundo'!BI96","v":1.0744192051563115},{"$f":"+'[1]itcer resto del mundo'!BJ96","v":1.3149076541866587},{"$f":"+'[1]itcer resto del mundo'!BK96","v":1.3056074576830292},{"$f":"+'[1]itcer resto del mundo'!BL96","v":1.1142367751108875}]
[null,"Junio",{"$f":"+'[1]itcer resto del mundo'!AK97","v":99.945864249588283},{"$f":"+'[1]itcer resto del mundo'!AL97","v":100.71067094357227},{"$f":"+'[1]itcer resto del mundo'!AM97","v":86.236115757520182},{"$f":"+'[1]itcer resto del mundo'!AN97","v":118.56362175439736},{"$f":"+'[1]itcer resto del mundo'!AO97","v":98.93196380580622},{"$f":"+'[1]itcer resto del mundo'!AP97","v":100.09342158566503},null,{"$f":"+'[1]itcer resto del mundo'!AS97","v":0.12329063890948078},{"$f":"+'[1]itcer resto del mundo'!AT97","v":-0.36605154107917315},{"$f":"+'[1]itcer resto del mundo'!AU97","v":-0.85864620155842886},{"$f":"+'[1]itcer resto del mundo'!AV97","v":-1.0707815720700609},{"$f":"+'[1]itcer resto del mundo'!AW97","v":-0.70355407147803817},{"$f":"+'[1]itcer resto del mundo'!AX97","v":-0.37632579493643448},null,{"$f":"+'[1]itcer resto del mundo'!BA97","v":0.80227542412857678},{"$f":"+'[1]itcer resto del mundo'!BB97","v":1.0514627522825466},{"$f":"+'[1]itcer resto del mundo'!BC97","v":0.80132185153315083},{"$f":"+'[1]itcer resto del mundo'!BD97","v":0.91201151206947095},{"$f":"+'[1]itcer resto del mundo'!BE97","v":0.77194554827868977},{"$f":"+'[1]itcer resto del mundo'!BF97","v":0.90072054594886264},null,{"$f":"+'[1]itcer resto del mundo'!BG97","v":1.2457799559066445},{"$f":"+'[1]itcer resto del mundo'!BH97","v":0.95781491759880755},{"$f":"+'[1]itcer resto del mundo'!BI97","v":1.076173270359801},{"$f":"+'[1]itcer resto del mundo'!BJ97","v":1.3000233021769791},{"$f":"+'[1]itcer resto del mundo'!BK97","v":1.2815925168090943},{"$f":"+'[1]itcer resto del mundo'!BL97","v":1.1112594470710311}]
[null,"Julio",{"$f":"+'[1]itcer resto del mundo'!AK98","v":99.683280032120805},{"$f":"+'[1]itcer resto del mundo'!AL98","v":99.792370666105484},{"$f":"+'[1]itcer resto del mundo'!AM98","v":86.352737342570379},{"$f":"+'[1]itcer resto del mundo'!AN98","v":116.88903691861374},{"$f":"+'[1]itcer resto del mundo'!AO98","v":98.044281999921253},{"$f":"+'[1]itcer resto del mundo'!AP98","v":98.172656624278389},null,{"$f":"+'[1]itcer resto del mundo'!AS98","v":-0.26272644640076237},{"$f":"+'[1]itcer resto del mundo'!AT98","v":-0.91182023599198203},{"$f":"+'[1]itcer resto del mundo'!AU98","v":0.13523520166205572},{"$f":"+'[1]itcer resto del mundo'!AV98","v":-1.4123934567826382},{"$f":"+'[1]itcer resto del mundo'!AW98","v":-0.89726491998824542},{"$f":"+'[1]itcer resto del mundo'!AX98","v":-1.9189722271036089},null,{"$f":"+'[1]itcer resto del mundo'!BA98","v":0.80571314708491415},{"$f":"+'[1]itcer resto del mundo'!BB98","v":1.0482469449917808},{"$f":"+'[1]itcer resto del mundo'!BC98","v":0.80434219135953344},{"$f":"+'[1]itcer resto del mundo'!BD98","v":0.91049910810580004},{"$f":"+'[1]itcer resto del mundo'!BE98","v":0.7768046176976916},{"$f":"+'[1]itcer resto del mundo'!BF98","v":0.89878741822151598},null,{"$f":"+'[1]itcer resto del mundo'!BG98","v":1.2372055785955194},{"$f":"+'[1]itcer resto del mundo'!BH98","v":0.95199295493189295},{"$f":"+'[1]itcer resto del mundo'!BI98","v":1.0735820931712323},{"$f":"+'[1]itcer resto del mundo'!BJ98","v":1.2837907898865424},{"$f":"+'[1]itcer resto del mundo'!BK98","v":1.2621485476039882},{"$f":"+'[1]itcer resto del mundo'!BL98","v":1.0922789375327311}]
[null,"Agosto",{"$f":"+'[1]itcer resto del mundo'!AK99","v":98.925703771856192},{"$f":"+'[1]itcer resto del mundo'!AL99","v":100.21108738299179},{"$f":"+'[1]itcer resto del mundo'!AM99","v":87.128799478934766},{"$f":"+'[1]itcer resto del mundo'!AN99","v":115.15132105779502},{"$f":"+'[1]itcer resto del mundo'!AO99","v":99.396671106206298},{"$f":"+'[1]itcer resto del mundo'!AP99","v":97.397240682695156},null,{"$f":"+'[1]itcer resto del mundo'!AS99","v":-0.75998327906194163},{"$f":"+'[1]itcer resto del mundo'!AT99","v":0.41958790445744398},{"$f":"+'[1]itcer resto del mundo'!AU99","v":0.89871167984595957},{"$f":"+'[1]itcer resto del mundo'!AV99","v":-1.4866371617285523},{"$f":"+'[1]itcer resto del mundo'!AW99","v":1.3793656077629493},{"$f":"+'[1]itcer resto del mundo'!AX99","v":-0.78984919859189517},null,{"$f":"+'[1]itcer resto del mundo'!BA99","v":0.80649334405844197},{"$f":"+'[1]itcer resto del mundo'!BB99","v":1.0431385262135788},{"$f":"+'[1]itcer resto del mundo'!BC99","v":0.81789277905939195},{"$f":"+'[1]itcer resto del mundo'!BD99","v":0.90605598142934862},{"$f":"+'[1]itcer resto del mundo'!BE99","v":0.78124247124085622},{"$f":"+'[1]itcer resto del mundo'!BF99","v":0.89506773609085633},null,{"$f":"+'[1]itcer resto del mundo'!BG99","v":1.2266152535623109},{"$f":"+'[1]itcer resto del mundo'!BH99","v":0.96066902779194185},{"$f":"+'[1]itcer resto del mundo'!BI99","v":1.0652838820650334},{"$f":"+'[1]itcer resto del mundo'!BJ99","v":1.2709073547104457},{"$f":"+'[1]itcer resto del mundo'!BK99","v":1.2722896509752399},{"$f":"+'[1]itcer resto del mundo'!BL99","v":1.0881549714669705}]
[null,"Septiembre",{"$f":"+'[1]itcer resto del mundo'!AK100","v":100.92393381331343},{"$f":"+'[1]itcer resto del mundo'!AL100","v":101.18847296118111},{"$f":"+'[1]itcer resto del mundo'!AM100","v":87.56972877636619},{"$f":"+'[1]itcer resto del mundo'!AN100","v":115.47209257728315},{"$f":"+'[1]itcer resto del mundo'!AO100","v":101.83871627429683},{"$f":"+'[1]itcer resto del mundo'!AP100","v":97.305804159446723},null,{"$f":"+'[1]itcer resto del mundo'!AS100","v":2.0199300740539456},{"$f":"+'[1]itcer resto del mundo'!AT100","v":0.97532678640028792},{"$f":"+'[1]itcer resto del mundo'!AU100","v":0.50606607696693118},{"$f":"+'[1]itcer resto del mundo'!AV100","v":0.27856521014390978},{"$f":"+'[1]itcer resto del mundo'!AW100","v":2.4568681636039713},{"$f":"+'[1]itcer resto del mundo'!AX100","v":-9.3879993527039574E-2},null,{"$f":"+'[1]itcer resto del mundo'!BA100","v":0.81686764979215398},{"$f":"+'[1]itcer resto del mundo'!BB100","v":1.0463249263077516},{"$f":"+'[1]itcer resto del mundo'!BC100","v":0.82385399856519437},{"$f":"+'[1]itcer resto del mundo'!BD100","v":0.90861490452609972},{"$f":"+'[1]itcer resto del mundo'!BE100","v":0.79105972746673692},{"$f":"+'[1]itcer resto del mundo'!BF100","v":0.89693462554806414},null,{"$f":"+'[1]itcer resto del mundo'!BG100","v":1.2354992126202182},{"$f":"+'[1]itcer resto del mundo'!BH100","v":0.96708460648311967},{"$f":"+'[1]itcer resto del mundo'!BI100","v":1.0629277630366021},{"$f":"+'[1]itcer resto del mundo'!BJ100","v":1.2708584462139014},{"$f":"+'[1]itcer resto del mundo'!BK100","v":1.2873707602385691},{"$f":"+'[1]itcer resto del mundo'!BL100","v":1.0848706403768151}]
[null,"Octubre",{"$f":"+'[1]itcer resto del mundo'!AK101","v":102.16464003075552},{"$f":"+'[1]itcer resto del mundo'!AL101","v":101.98934694883953},{"$f":"+'[1]itcer resto del mundo'!AM101","v":88.082001774589884},{"$f":"+'[1]itcer resto del mundo'!AN101","v":116.31569981475162},{"$f":"+'[1]itcer resto del mundo'!AO101","v":102.43549316605836},{"$f":"+'[1]itcer resto del mundo'!AP101","v":97.412010789316028},null,{"$f":"+'[1]itcer resto del mundo'!AS101","v":1.2293478569088734},{"$f":"+'[1]itcer resto del mundo'!AT101","v":0.79146760912742309},{"$f":"+'[1]itcer resto del mundo'!AU101","v":0.58498867745943528},{"$f":"+'[1]itcer resto del mundo'!AV101","v":0.73057239947726771},{"$f":"+'[1]itcer resto del mundo'!AW101","v":0.58600197802391563},{"$f":"+'[1]itcer resto del mundo'!AX101","v":0.10914727110755962},null,{"$f":"+'[1]itcer resto del mundo'!BA101","v":0.82659855939590032},{"$f":"+'[1]itcer resto del mundo'!BB101","v":1.0489591528406448},{"$f":"+'[1]itcer resto del mundo'!BC101","v":0.83077124499540067},{"$f":"+'[1]itcer resto del mundo'!BD101","v":0.91058670932095354},{"$f":"+'[1]itcer resto del mundo'!BE101","v":0.79824620454096329},{"$f":"+'[1]itcer resto del mundo'!BF101","v":0.89867683621165773},null,{"$f":"+'[1]itcer resto del mundo'!BG101","v":1.2359644094398146},{"$f":"+'[1]itcer resto del mundo'!BH101","v":0.97229092927638028},{"$f":"+'[1]itcer resto del mundo'!BI101","v":1.0602437470627371},{"$f":"+'[1]itcer resto del mundo'!BJ101","v":1.2773709370466331},{"$f":"+'[1]itcer resto del mundo'!BK101","v":1.2832568771807009},{"$f":"+'[1]itcer resto del mundo'!BL101","v":1.0839492781404394}]
[null,"Noviembre",{"$f":"+'[1]itcer resto del mundo'!AK102","v":100.95754402811993},{"$f":"+'[1]itcer resto del mundo'!AL102","v":101.64470023572446},{"$f":"+'[1]itcer resto del mundo'!AM102","v":88.007778149537472},{"$f":"+'[1]itcer resto del mundo'!AN102","v":115.03837512831036},{"$f":"+'[1]itcer resto del mundo'!AO102","v":99.703202445876627},{"$f":"+'[1]itcer resto del mundo'!AP102","v":96.821896782493411},null,{"$f":"+'[1]itcer resto del mundo'!AS102","v":-1.1815203403762808},{"$f":"+'[1]itcer resto del mundo'!AT102","v":-0.33792422779994524},{"$f":"+'[1]itcer resto del mundo'!AU102","v":-8.4266505707205397E-2},{"$f":"+'[1]itcer resto del mundo'!AV102","v":-1.0981532918389973},{"$f":"+'[1]itcer resto del mundo'!AW102","v":-2.6673281259576811},{"$f":"+'[1]itcer resto del mundo'!AX102","v":-0.60579183412907867},null,{"$f":"+'[1]itcer resto del mundo'!BA102","v":0.83004417993280821},{"$f":"+'[1]itcer resto del mundo'!BB102","v":1.0436616061219175},{"$f":"+'[1]itcer resto del mundo'!BC102","v":0.83238757288994714},{"$f":"+'[1]itcer resto del mundo'!BD102","v":0.90763618506615884},{"$f":"+'[1]itcer resto del mundo'!BE102","v":0.79931432207431308},{"$f":"+'[1]itcer resto del mundo'!BF102","v":0.89443191117806431},null,{"$f":"+'[1]itcer resto del mundo'!BG102","v":1.2162912103822279},{"$f":"+'[1]itcer resto del mundo'!BH102","v":0.97392391977913384},{"$f":"+'[1]itcer resto del mundo'!BI102","v":1.0572932731802485},{"$f":"+'[1]itcer resto del mundo'!BJ102","v":1.2674502958465133},{"$f":"+'[1]itcer resto del mundo'!BK102","v":1.2473591388571055},{"$f":"+'[1]itcer resto del mundo'!BL102","v":1.0824960019032464}]
[null,"Diciembre",{"$f":"+'[1]itcer resto del mundo'!AK103","v":100.44815327036616},{"$f":"+'[1]itcer resto del mundo'!AL103","v":101.35865874687347},{"$f":"+'[1]itcer resto del mundo'!AM103","v":87.252454544813375},{"$f":"+'[1]itcer resto del mundo'!AN103","v":114.38671581844285},{"$f":"+'[1]itcer resto del mundo'!AO103","v":99.776943934898554},{"$f":"+'[1]itcer resto del mundo'!AP103","v":96.399645564210019},null,{"$f":"+'[1]itcer resto del mundo'!AS103","v":-0.50455937954659191},{"$f":"+'[1]itcer resto del mundo'!AT103","v":-0.28141308714337754},{"$f":"+'[1]itcer resto del mundo'!AU103","v":-0.85824641935704449},{"$f":"+'[1]itcer resto del mundo'!AV103","v":-0.56647123982816083},{"$f":"+'[1]itcer resto del mundo'!AW103","v":7.3961003471239906E-2},{"$f":"+'[1]itcer resto del mundo'!AX103","v":-0.43611128506599073},null,{"$f":"+'[1]itcer resto del mundo'!BA103","v":0.83216531622405232},{"$f":"+'[1]itcer resto del mundo'!BB103","v":1.0400748393259491},{"$f":"+'[1]itcer resto del mundo'!BC103","v":0.82729801756130372},{"$f":"+'[1]itcer resto del mundo'!BD103","v":0.9045644085565836},{"$f":"+'[1]itcer resto del mundo'!BE103","v":0.80377760968140421},{"$f":"+'[1]itcer resto del mundo'!BF103","v":0.89168737896178529},null,{"$f":"+'[1]itcer resto del mundo'!BG103","v":1.2070696929084881},{"$f":"+'[1]itcer resto del mundo'!BH103","v":0.97453235973443919},{"$f":"+'[1]itcer resto del mundo'!BI103","v":1.0546677580832939},{"$f":"+'[1]itcer resto del mundo'!BJ103","v":1.2645502601740666},{"$f":"+'[1]itcer resto del mundo'!BK103","v":1.2413501288552622},{"$f":"+'[1]itcer resto del mundo'!BL103","v":1.0810924079294542}]
[1998,"Enero",{"$f":"+'[1]itcer resto del mundo'!AK104","v":99.20761375305355},{"$f":"+'[1]itcer resto del mundo'!AL104","v":99.974339868420472},{"$f":"+'[1]itcer resto del mundo'!AM104","v":87.159818848018006},{"$f":"+'[1]itcer resto del mundo'!AN104","v":113.38027609798417},{"$f":"+'[1]itcer resto del mundo'!AO104","v":100.36160902588918},{"$f":"+'[1]itcer resto del mundo'!AP104","v":96.225131859048716},null,{"$f":"+'[1]itcer resto del mundo'!AS104","v":-1.2350048028992404},{"$f":"+'[1]itcer resto del mundo'!AT104","v":-1.3657628224048466},{"$f":"+'[1]itcer resto del mundo'!AU104","v":-0.10616973158937526},{"$f":"+'[1]itcer resto del mundo'!AV104","v":-0.87985716982743156},{"$f":"+'[1]itcer resto del mundo'!AW104","v":0.58597213738286769},{"$f":"+'[1]itcer resto del mundo'!AX104","v":-0.18103148008469816},null,{"$f":"+'[1]itcer resto del mundo'!BA104","v":0.83231314094262987},{"$f":"+'[1]itcer resto del mundo'!BB104","v":1.0349381326190878},{"$f":"+'[1]itcer resto del mundo'!BC104","v":0.83288124363972937},{"$f":"+'[1]itcer resto del mundo'!BD104","v":0.90182080042291879},{"$f":"+'[1]itcer resto del mundo'!BE104","v":0.81068502911580842},{"$f":"+'[1]itcer resto del mundo'!BF104","v":0.88814675395452636},null,{"$f":"+'[1]itcer resto del mundo'!BG104","v":1.1919505877402912},{"$f":"+'[1]itcer resto del mundo'!BH104","v":0.96599339339655332},{"$f":"+'[1]itcer resto del mundo'!BI104","v":1.0464855525756056},{"$f":"+'[1]itcer resto del mundo'!BJ104","v":1.2572373141627833},{"$f":"+'[1]itcer resto del mundo'!BK104","v":1.2379852275716845},{"$f":"+'[1]itcer resto del mundo'!BL104","v":1.0834372971651431}]
[null,"Febrero",{"$f":"+'[1]itcer resto del mundo'!AK105","v":99.115114708526065},{"$f":"+'[1]itcer resto del mundo'!AL105","v":99.805667199572937},{"$f":"+'[1]itcer resto del mundo'!AM105","v":86.094234684123947},{"$f":"+'[1]itcer resto del mundo'!AN105","v":111.32046168307674},{"$f":"+'[1]itcer resto del mundo'!AO105","v":99.763918897130338},{"$f":"+'[1]itcer resto del mundo'!AP105","v":96.420395814893624},null,{"$f":"+'[1]itcer resto del mundo'!AS105","v":-9.3237848415270719E-2},{"$f":"+'[1]itcer resto del mundo'!AT105","v":-0.1687159615852778},{"$f":"+'[1]itcer resto del mundo'!AU105","v":-1.2225635367050671},{"$f":"+'[1]itcer resto del mundo'!AV105","v":-1.8167308157966602},{"$f":"+'[1]itcer resto del mundo'!AW105","v":-0.59553661460795126},{"$f":"+'[1]itcer resto del mundo'!AX105","v":0.20292407198874685},null,{"$f":"+'[1]itcer resto del mundo'!BA105","v":0.83716554517117936},{"$f":"+'[1]itcer resto del mundo'!BB105","v":1.0326041490503479},{"$f":"+'[1]itcer resto del mundo'!BC105","v":0.82429069475581329},{"$f":"+'[1]itcer resto del mundo'!BD105","v":0.90495740694400839},{"$f":"+'[1]itcer resto del mundo'!BE105","v":0.81469058831710084},{"$f":"+'[1]itcer resto del mundo'!BF105","v":0.88675195083063618},null,{"$f":"+'[1]itcer resto del mundo'!BG105","v":1.1839368602808362},{"$f":"+'[1]itcer resto del mundo'!BH105","v":0.96654334859453095},{"$f":"+'[1]itcer resto del mundo'!BI105","v":1.0444644739029645},{"$f":"+'[1]itcer resto del mundo'!BJ105","v":1.2301182445591541},{"$f":"+'[1]itcer resto del mundo'!BK105","v":1.2245620647614424},{"$f":"+'[1]itcer resto del mundo'!BL105","v":1.0873434868068228}]
[null,"Marzo",{"$f":"+'[1]itcer resto del mundo'!AK106","v":98.892173094570126},{"$f":"+'[1]itcer resto del mundo'!AL106","v":99.407579225295947},{"$f":"+'[1]itcer resto del mundo'!AM106","v":86.396380546936726},{"$f":"+'[1]itcer resto del mundo'!AN106","v":109.90021976464119},{"$f":"+'[1]itcer resto del mundo'!AO106","v":99.868610166172189},{"$f":"+'[1]itcer resto del mundo'!AP106","v":96.614132409887759},null,{"$f":"+'[1]itcer resto del mundo'!AS106","v":-0.22493200417670778},{"$f":"+'[1]itcer resto del mundo'!AT106","v":-0.39886309610150761},{"$f":"+'[1]itcer resto del mundo'!AU106","v":0.35094784676503821},{"$f":"+'[1]itcer resto del mundo'!AV106","v":-1.2758138952737283},{"$f":"+'[1]itcer resto del mundo'!AW106","v":0.10493901021450824},{"$f":"+'[1]itcer resto del mundo'!AX106","v":0.20092906003628741},null,{"$f":"+'[1]itcer resto del mundo'!BA106","v":0.84178505861770681},{"$f":"+'[1]itcer resto del mundo'!BB106","v":1.0300576952395584},{"$f":"+'[1]itcer resto del mundo'!BC106","v":0.8299279448139798},{"$f":"+'[1]itcer resto del mundo'!BD106","v":0.90633429102958185},{"$f":"+'[1]itcer resto del mundo'!BE106","v":0.82193027178434075},{"$f":"+'[1]itcer resto del mundo'!BF106","v":0.88471476178385944},null,{"$f":"+'[1]itcer resto del mundo'!BG106","v":1.1747912615241796},{"$f":"+'[1]itcer resto del mundo'!BH106","v":0.9650680703101483},{"$f":"+'[1]itcer resto del mundo'!BI106","v":1.0410106213052222},{"$f":"+'[1]itcer resto del mundo'!BJ106","v":1.2125792972016562},{"$f":"+'[1]itcer resto del mundo'!BK106","v":1.2150496653367682},{"$f":"+'[1]itcer resto del mundo'!BL106","v":1.0920370788782106}]
[null,"Abril",{"$f":"+'[1]itcer resto del mundo'!AK107","v":99.251131889733543},{"$f":"+'[1]itcer resto del mundo'!AL107","v":98.492837606052888},{"$f":"+'[1]itcer resto del mundo'!AM107","v":86.21545547503105},{"$f":"+'[1]itcer resto del mundo'!AN107","v":108.25854585402872},{"$f":"+'[1]itcer resto del mundo'!AO107","v":99.149286848410512},{"$f":"+'[1]itcer resto del mundo'!AP107","v":96.977628876968922},null,{"$f":"+'[1]itcer resto del mundo'!AS107","v":0.36297998509968465},{"$f":"+'[1]itcer resto del mundo'!AT107","v":-0.92019303394351937},{"$f":"+'[1]itcer resto del mundo'!AU107","v":-0.20941279109185018},{"$f":"+'[1]itcer resto del mundo'!AV107","v":-1.4937858305727048},{"$f":"+'[1]itcer resto del mundo'!AW107","v":-0.72026967889588889},{"$f":"+'[1]itcer resto del mundo'!AX107","v":0.37623529603207828},null,{"$f":"+'[1]itcer resto del mundo'!BA107","v":0.84953912467810688},{"$f":"+'[1]itcer resto del mundo'!BB107","v":1.0306879852768909},{"$f":"+'[1]itcer resto del mundo'!BC107","v":0.83203474490506668},{"$f":"+'[1]itcer resto del mundo'!BD107","v":0.90620283135374413},{"$f":"+'[1]itcer resto del mundo'!BE107","v":0.83108638175347049},{"$f":"+'[1]itcer resto del mundo'!BF107","v":0.88489240931061786},null,{"$f":"+'[1]itcer resto del mundo'!BG107","v":1.1682938314034694},{"$f":"+'[1]itcer resto del mundo'!BH107","v":0.9556028498730692},{"$f":"+'[1]itcer resto del mundo'!BI107","v":1.0362001827804443},{"$f":"+'[1]itcer resto del mundo'!BJ107","v":1.1946392364754055},{"$f":"+'[1]itcer resto del mundo'!BK107","v":1.1930082001731286},{"$f":"+'[1]itcer resto del mundo'!BL107","v":1.0959256499049423}]
[null,"Mayo",{"$f":"+'[1]itcer resto del mundo'!AK108","v":99.708001874386198},{"$f":"+'[1]itcer resto del mundo'!AL108","v":98.282246680423924},{"$f":"+'[1]itcer resto del mundo'!AM108","v":85.889767798007981},{"$f":"+'[1]itcer resto del mundo'!AN108","v":107.73697990139165},{"$f":"+'[1]itcer resto del mundo'!AO108","v":98.137918675226231},{"$f":"+'[1]itcer resto del mundo'!AP108","v":96.792890333113348},null,{"$f":"+'[1]itcer resto del mundo'!AS108","v":0.46031715301768372},{"$f":"+'[1]itcer resto del mundo'!AT108","v":-0.21381344141111924},{"$f":"+'[1]itcer resto del mundo'!AU108","v":-0.37776019998803179},{"$f":"+'[1]itcer resto del mundo'!AV108","v":-0.48177808830014612},{"$f":"+'[1]itcer resto del mundo'!AW108","v":-1.0200458372742105},{"$f":"+'[1]itcer resto del mundo'!AX108","v":-0.19049604119517483},null,{"$f":"+'[1]itcer resto del mundo'!BA108","v":0.8577119366116962},{"$f":"+'[1]itcer resto del mundo'!BB108","v":1.0312425165951622},{"$f":"+'[1]itcer resto del mundo'!BC108","v":0.83080230747366235},{"$f":"+'[1]itcer resto del mundo'!BD108","v":0.91050259375375431},{"$f":"+'[1]itcer resto del mundo'!BE108","v":0.83698078267957376},{"$f":"+'[1]itcer resto del mundo'!BF108","v":0.8849399246180033},null,{"$f":"+'[1]itcer resto del mundo'!BG108","v":1.162488215662155},{"$f":"+'[1]itcer resto del mundo'!BH108","v":0.95304688372353896},{"$f":"+'[1]itcer resto del mundo'!BI108","v":1.0338171551206339},{"$f":"+'[1]itcer resto del mundo'!BJ108","v":1.18326933542519},{"$f":"+'[1]itcer resto del mundo'!BK108","v":1.172522962367667},{"$f":"+'[1]itcer resto del mundo'!BL108","v":1.0937792232042798}]
[null,"Junio",{"$f":"+'[1]itcer resto del mundo'!AK109","v":99.240415775291893},{"$f":"+'[1]itcer resto del mundo'!AL109","v":97.675769535037219},{"$f":"+'[1]itcer resto del mundo'!AM109","v":85.654294349002797},{"$f":"+'[1]itcer resto del mundo'!AN109","v":105.81669371675149},{"$f":"+'[1]itcer resto del mundo'!AO109","v":96.432761354408456},{"$f":"+'[1]itcer resto del mundo'!AP109","v":95.841069523578923},null,{"$f":"+'[1]itcer resto del mundo'!AS109","v":-0.46895544018961743},{"$f":"+'[1]itcer resto del mundo'!AT109","v":-0.61707700614408623},{"$f":"+'[1]itcer resto del mundo'!AU109","v":-0.27415774316558839},{"$f":"+'[1]itcer resto del mundo'!AV109","v":-1.7823835292187908},{"$f":"+'[1]itcer resto del mundo'!AW109","v":-1.737511192244412},{"$f":"+'[1]itcer resto del mundo'!AX109","v":-0.9833581849438815},null,{"$f":"+'[1]itcer resto del mundo'!BA109","v":0.85879812296303182},{"$f":"+'[1]itcer resto del mundo'!BB109","v":1.0237462446983356},{"$f":"+'[1]itcer resto del mundo'!BC109","v":0.82768661512708608},{"$f":"+'[1]itcer resto del mundo'!BD109","v":0.90865271750427912},{"$f":"+'[1]itcer resto del mundo'!BE109","v":0.83653808932760487},{"$f":"+'[1]itcer resto del mundo'!BF109","v":0.87919738128999714},null,{"$f":"+'[1]itcer resto del mundo'!BG109","v":1.1555732729467534},{"$f":"+'[1]itcer resto del mundo'!BH109","v":0.95410137073390744},{"$f":"+'[1]itcer resto del mundo'!BI109","v":1.0348638335277551},{"$f":"+'[1]itcer resto del mundo'!BJ109","v":1.1645449540655026},{"$f":"+'[1]itcer resto del mundo'!BK109","v":1.1527599589866788},{"$f":"+'[1]itcer resto del mundo'!BL109","v":1.0900973042362421}]
[null,"Julio",{"$f":"+'[1]itcer resto del mundo'!AK110","v":98.515615546288288},{"$f":"+'[1]itcer resto del mundo'!AL110","v":97.306913021675356},{"$f":"+'[1]itcer resto del mundo'!AM110","v":85.935935767731195},{"$f":"+'[1]itcer resto del mundo'!AN110","v":104.19443532601791},{"$f":"+'[1]itcer resto del mundo'!AO110","v":98.267499224665258},{"$f":"+'[1]itcer resto del mundo'!AP110","v":103.45622843238782},null,{"$f":"+'[1]itcer resto del mundo'!AS110","v":-0.73034783595097963},{"$f":"+'[1]itcer resto del mundo'!AT110","v":-0.3776335882662778},{"$f":"+'[1]itcer resto del mundo'!AU110","v":0.32881179031238617},{"$f":"+'[1]itcer resto del mundo'!AV110","v":-1.5330836125687455},{"$f":"+'[1]itcer resto del mundo'!AW110","v":1.9026084543133663},{"$f":"+'[1]itcer resto del mundo'!AX110","v":7.9456113612498882},null,{"$f":"+'[1]itcer resto del mundo'!BA110","v":0.86583019246176274},{"$f":"+'[1]itcer resto del mundo'!BB110","v":1.0228159431343409},{"$f":"+'[1]itcer resto del mundo'!BC110","v":0.83132044282896644},{"$f":"+'[1]itcer resto del mundo'!BD110","v":0.91140872392662353},{"$f":"+'[1]itcer resto del mundo'!BE110","v":0.84377109023327301},{"$f":"+'[1]itcer resto del mundo'!BF110","v":0.9537544545687896},null,{"$f":"+'[1]itcer resto del mundo'!BG110","v":1.1378168190945706},{"$f":"+'[1]itcer resto del mundo'!BH110","v":0.95136288864921081},{"$f":"+'[1]itcer resto del mundo'!BI110","v":1.0337281671468701},{"$f":"+'[1]itcer resto del mundo'!BJ110","v":1.1432240288102233},{"$f":"+'[1]itcer resto del mundo'!BK110","v":1.1646227319485165},{"$f":"+'[1]itcer resto del mundo'!BL110","v":1.0847260312840408}]
[null,"Agosto",{"$f":"+'[1]itcer resto del mundo'!AK111","v":97.130700559146291},{"$f":"+'[1]itcer resto del mundo'!AL111","v":98.158086882816121},{"$f":"+'[1]itcer resto del mundo'!AM111","v":86.087431895244308},{"$f":"+'[1]itcer resto del mundo'!AN111","v":104.18828671646838},{"$f":"+'[1]itcer resto del mundo'!AO111","v":99.095375692775235},{"$f":"+'[1]itcer resto del mundo'!AP111","v":103.64586817648986},null,{"$f":"+'[1]itcer resto del mundo'!AS111","v":-1.4057821995653939},{"$f":"+'[1]itcer resto del mundo'!AT111","v":0.8747311313340731},{"$f":"+'[1]itcer resto del mundo'!AU111","v":0.17628961174354174},{"$f":"+'[1]itcer resto del mundo'!AV111","v":-5.9010920595596872E-3},{"$f":"+'[1]itcer resto del mundo'!AW111","v":0.842472307367089},{"$f":"+'[1]itcer resto del mundo'!AX111","v":0.18330432780659578},null,{"$f":"+'[1]itcer resto del mundo'!BA111","v":0.86952645629199532},{"$f":"+'[1]itcer resto del mundo'!BB111","v":1.0174828666165805},{"$f":"+'[1]itcer resto del mundo'!BC111","v":0.83227724632025735},{"$f":"+'[1]itcer resto del mundo'!BD111","v":0.91142156014231768},{"$f":"+'[1]itcer resto del mundo'!BE111","v":0.84522819088702106},{"$f":"+'[1]itcer resto del mundo'!BF111","v":0.95616853130726043},null,{"$f":"+'[1]itcer resto del mundo'!BG111","v":1.1170528493560736},{"$f":"+'[1]itcer resto del mundo'!BH111","v":0.96471488713337905},{"$f":"+'[1]itcer resto del mundo'!BI111","v":1.0343600317786192},{"$f":"+'[1]itcer resto del mundo'!BJ111","v":1.143140466198753},{"$f":"+'[1]itcer resto del mundo'!BK111","v":1.1724097322023777},{"$f":"+'[1]itcer resto del mundo'!BL111","v":1.0839707100042988}]
[null,"Septiembre",{"$f":"+'[1]itcer resto del mundo'!AK112","v":99.194362320942815},{"$f":"+'[1]itcer resto del mundo'!AL112","v":99.646476273768201},{"$f":"+'[1]itcer resto del mundo'!AM112","v":87.30532201862485},{"$f":"+'[1]itcer resto del mundo'!AN112","v":105.38234537807847},{"$f":"+'[1]itcer resto del mundo'!AO112","v":100.64090099775596},{"$f":"+'[1]itcer resto del mundo'!AP112","v":103.65206553412004},null,{"$f":"+'[1]itcer resto del mundo'!AS112","v":2.1246235741292594},{"$f":"+'[1]itcer resto del mundo'!AT112","v":1.5163186633099031},{"$f":"+'[1]itcer resto del mundo'!AU112","v":1.4147130383242512},{"$f":"+'[1]itcer resto del mundo'!AV112","v":1.1460584478747933},{"$f":"+'[1]itcer resto del mundo'!AW112","v":1.5596341344648721},{"$f":"+'[1]itcer resto del mundo'!AX112","v":5.9793581155105358E-3},null,{"$f":"+'[1]itcer resto del mundo'!BA112","v":0.88198683167938574},{"$f":"+'[1]itcer resto del mundo'!BB112","v":1.0190803250995721},{"$f":"+'[1]itcer resto del mundo'!BC112","v":0.83962235795019402},{"$f":"+'[1]itcer resto del mundo'!BD112","v":0.92252695856061329},{"$f":"+'[1]itcer resto del mundo'!BE112","v":0.85789240719068927},{"$f":"+'[1]itcer resto del mundo'!BF112","v":0.95980548570399948},null,{"$f":"+'[1]itcer resto del mundo'!BG112","v":1.1246694254161078},{"$f":"+'[1]itcer resto del mundo'!BH112","v":0.97780787068018371},{"$f":"+'[1]itcer resto del mundo'!BI112","v":1.0398165459977395},{"$f":"+'[1]itcer resto del mundo'!BJ112","v":1.1423226649387339},{"$f":"+'[1]itcer resto del mundo'!BK112","v":1.1731179825605551},{"$f":"+'[1]itcer resto del mundo'!BL112","v":1.0799278299403881}]
[null,"Octubre",{"$f":"+'[1]itcer resto del mundo'!AK113","v":101.47917206150089},{"$f":"+'[1]itcer resto del mundo'!AL113","v":101.01626082467445},{"$f":"+'[1]itcer resto del mundo'!AM113","v":89.523543952558626},{"$f":"+'[1]itcer resto del mundo'!AN113","v":106.76980718502138},{"$f":"+'[1]itcer resto del mundo'!AO113","v":100.78792751260615},{"$f":"+'[1]itcer resto del mundo'!AP113","v":103.33931179102109},null,{"$f":"+'[1]itcer resto del mundo'!AS113","v":2.3033665292041263},{"$f":"+'[1]itcer resto del mundo'!AT113","v":1.3746442444616918},{"$f":"+'[1]itcer resto del mundo'!AU113","v":2.5407637044859257},{"$f":"+'[1]itcer resto del mundo'!AV113","v":1.3165979576229176},{"$f":"+'[1]itcer resto del mundo'!AW113","v":0.14609022116512449},{"$f":"+'[1]itcer resto del mundo'!AX113","v":-0.30173421194004391},null,{"$f":"+'[1]itcer resto del mundo'!BA113","v":0.90235897650546404},{"$f":"+'[1]itcer resto del mundo'!BB113","v":1.030453803327837},{"$f":"+'[1]itcer resto del mundo'!BC113","v":0.85765185561993706},{"$f":"+'[1]itcer resto del mundo'!BD113","v":0.93713486756466591},{"$f":"+'[1]itcer resto del mundo'!BE113","v":0.87647033008094988},{"$f":"+'[1]itcer resto del mundo'!BF113","v":0.9748080996614753},null,{"$f":"+'[1]itcer resto del mundo'!BG113","v":1.1245986874812941},{"$f":"+'[1]itcer resto del mundo'!BH113","v":0.98030848640127077},{"$f":"+'[1]itcer resto del mundo'!BI113","v":1.0438214919718007},{"$f":"+'[1]itcer resto del mundo'!BJ113","v":1.139321680159914},{"$f":"+'[1]itcer resto del mundo'!BK113","v":1.1499297130034905},{"$f":"+'[1]itcer resto del mundo'!BL113","v":1.0600990269460018}]
[null,"Noviembre",{"$f":"+'[1]itcer resto del mundo'!AK114","v":100.93241982027986},{"$f":"+'[1]itcer resto del mundo'!AL114","v":98.799515880182568},{"$f":"+'[1]itcer resto del mundo'!AM114","v":87.37230356415462},{"$f":"+'[1]itcer resto del mundo'!AN114","v":106.09500120099842},{"$f":"+'[1]itcer resto del mundo'!AO114","v":96.190279977362394},{"$f":"+'[1]itcer resto del mundo'!AP114","v":101.81412810145012},null,{"$f":"+'[1]itcer resto del mundo'!AS114","v":-0.53878271778732767},{"$f":"+'[1]itcer resto del mundo'!AT114","v":-2.1944436731223931},{"$f":"+'[1]itcer resto del mundo'!AU114","v":-2.4029884133541657},{"$f":"+'[1]itcer resto del mundo'!AV114","v":-0.63201948361073335},{"$f":"+'[1]itcer resto del mundo'!AW114","v":-4.5617046095810423},{"$f":"+'[1]itcer resto del mundo'!AX114","v":-1.4758988260491606},null,{"$f":"+'[1]itcer resto del mundo'!BA114","v":0.90775256959103579},{"$f":"+'[1]itcer resto del mundo'!BB114","v":1.0283060914294277},{"$f":"+'[1]itcer resto del mundo'!BC114","v":0.85714689738994609},{"$f":"+'[1]itcer resto del mundo'!BD114","v":0.9420558493065827},{"$f":"+'[1]itcer resto del mundo'!BE114","v":0.88446070635282903},{"$f":"+'[1]itcer resto del mundo'!BF114","v":0.9764924217372587},null,{"$f":"+'[1]itcer resto del mundo'!BG114","v":1.1118935181395555},{"$f":"+'[1]itcer resto del mundo'!BH114","v":0.96079870287302616},{"$f":"+'[1]itcer resto del mundo'!BI114","v":1.0193387368047127},{"$f":"+'[1]itcer resto del mundo'!BJ114","v":1.1262071275189425},{"$f":"+'[1]itcer resto del mundo'!BK114","v":1.0875585459755874},{"$f":"+'[1]itcer resto del mundo'!BL114","v":1.0426514925770198}]
[null,"Diciembre",{"$f":"+'[1]itcer resto del mundo'!AK115","v":101.70629554809807},{"$f":"+'[1]itcer resto del mundo'!AL115","v":99.354586603365959},{"$f":"+'[1]itcer resto del mundo'!AM115","v":89.590388252659253},{"$f":"+'[1]itcer resto del mundo'!AN115","v":106.33442108980901},{"$f":"+'[1]itcer resto del mundo'!AO115","v":96.484733175401757},{"$f":"+'[1]itcer resto del mundo'!AP115","v":100.84319018079607},null,{"$f":"+'[1]itcer resto del mundo'!AS115","v":0.76672661687511834},{"$f":"+'[1]itcer resto del mundo'!AT115","v":0.56181522575124632},{"$f":"+'[1]itcer resto del mundo'!AU115","v":2.5386588175232845},{"$f":"+'[1]itcer resto del mundo'!AV115","v":0.22566556963133166},{"$f":"+'[1]itcer resto del mundo'!AW115","v":0.3061153352590793},{"$f":"+'[1]itcer resto del mundo'!AX115","v":-0.95363771095361471},null,{"$f":"+'[1]itcer resto del mundo'!BA115","v":0.91972679393080359},{"$f":"+'[1]itcer resto del mundo'!BB115","v":1.0314992256824371},{"$f":"+'[1]itcer resto del mundo'!BC115","v":0.88075122832245156},{"$f":"+'[1]itcer resto del mundo'!BD115","v":0.95030524946645645},{"$f":"+'[1]itcer resto del mundo'!BE115","v":0.89457002429115751},{"$f":"+'[1]itcer resto del mundo'!BF115","v":0.97863999725162321},null,{"$f":"+'[1]itcer resto del mundo'!BG115","v":1.1058316036811038},{"$f":"+'[1]itcer resto del mundo'!BH115","v":0.96320563437779838},{"$f":"+'[1]itcer resto del mundo'!BI115","v":1.017204238514662},{"$f":"+'[1]itcer resto del mundo'!BJ115","v":1.1189501599566021},{"$f":"+'[1]itcer resto del mundo'!BK115","v":1.0785598729608077},{"$f":"+'[1]itcer resto del mundo'!BL115","v":1.0304421489413922}]
[1999,"Enero",{"$f":"+'[1]itcer resto del mundo'!AK116","v":100.85543293362358},{"$f":"+'[1]itcer resto del mundo'!AL116","v":99.388561185148362},{"$f":"+'[1]itcer resto del mundo'!AM116","v":93.137978483303996},{"$f":"+'[1]itcer resto del mundo'!AN116","v":105.51959018080319},{"$f":"+'[1]itcer resto del mundo'!AO116","v":98.473707578978875},{"$f":"+'[1]itcer resto del mundo'!AP116","v":101.71782459634176},null,{"$f":"+'[1]itcer resto del mundo'!AS116","v":-0.83658795150208221},{"$f":"+'[1]itcer resto del mundo'!AT116","v":3.4195282718087583E-2},{"$f":"+'[1]itcer resto del mundo'!AU116","v":3.9597888789587188},{"$f":"+'[1]itcer resto del mundo'!AV116","v":-0.7662908215935289},{"$f":"+'[1]itcer resto del mundo'!AW116","v":2.0614395025183114},{"$f":"+'[1]itcer resto del mundo'!AX116","v":0.86732124794704646},null,{"$f":"+'[1]itcer resto del mundo'!BA116","v":0.92523402504925945},{"$f":"+'[1]itcer resto del mundo'!BB116","v":1.0299263879120917},{"$f":"+'[1]itcer resto del mundo'!BC116","v":0.91222910296002013},{"$f":"+'[1]itcer resto del mundo'!BD116","v":0.95651889632273979},{"$f":"+'[1]itcer resto del mundo'!BE116","v":0.90695815249138145},{"$f":"+'[1]itcer resto del mundo'!BF116","v":0.97852849256925245},null,{"$f":"+'[1]itcer resto del mundo'!BG116","v":1.0900532211648186},{"$f":"+'[1]itcer resto del mundo'!BH116","v":0.96500645436061561},{"$f":"+'[1]itcer resto del mundo'!BI116","v":1.0209932809761049},{"$f":"+'[1]itcer resto del mundo'!BJ116","v":1.1031626305184854},{"$f":"+'[1]itcer resto del mundo'!BK116","v":1.0857580066784245},{"$f":"+'[1]itcer resto del mundo'!BL116","v":1.0394978313740106}]
[null,"Febrero",{"$f":"+'[1]itcer resto del mundo'!AK117","v":100.43614595178283},{"$f":"+'[1]itcer resto del mundo'!AL117","v":99.250219604336067},{"$f":"+'[1]itcer resto del mundo'!AM117","v":92.200695330138856},{"$f":"+'[1]itcer resto del mundo'!AN117","v":104.62832774020457},{"$f":"+'[1]itcer resto del mundo'!AO117","v":99.292333260678177},{"$f":"+'[1]itcer resto del mundo'!AP117","v":103.37960074300672},null,{"$f":"+'[1]itcer resto del mundo'!AS117","v":-0.41573068464907692},{"$f":"+'[1]itcer resto del mundo'!AT117","v":-0.13919265875534848},{"$f":"+'[1]itcer resto del mundo'!AU117","v":-1.0063383041249381},{"$f":"+'[1]itcer resto del mundo'!AV117","v":-0.84464168129490247},{"$f":"+'[1]itcer resto del mundo'!AW117","v":0.83131396372249355},{"$f":"+'[1]itcer resto del mundo'!AX117","v":1.6337118427960604},null,{"$f":"+'[1]itcer resto del mundo'!BA117","v":0.92575092278310034},{"$f":"+'[1]itcer resto del mundo'!BB117","v":1.0235859143906281},{"$f":"+'[1]itcer resto del mundo'!BC117","v":0.89609440385710737},{"$f":"+'[1]itcer resto del mundo'!BD117","v":0.95483341212306105},{"$f":"+'[1]itcer resto del mundo'!BE117","v":0.90926759441394389},{"$f":"+'[1]itcer resto del mundo'!BF117","v":0.98969702963187522},null,{"$f":"+'[1]itcer resto del mundo'!BG117","v":1.0849154289778074},{"$f":"+'[1]itcer resto del mundo'!BH117","v":0.96963252628796404},{"$f":"+'[1]itcer resto del mundo'!BI117","v":1.0289172093171706},{"$f":"+'[1]itcer resto del mundo'!BJ117","v":1.0957757281195752},{"$f":"+'[1]itcer resto del mundo'!BK117","v":1.0920034307906432},{"$f":"+'[1]itcer resto del mundo'!BL117","v":1.0445580581509828}]
[null,"Marzo",{"$f":"+'[1]itcer resto del mundo'!AK118","v":101.47018639770863},{"$f":"+'[1]itcer resto del mundo'!AL118","v":99.419511877075948},{"$f":"+'[1]itcer resto del mundo'!AM118","v":94.109312479457103},{"$f":"+'[1]itcer resto del mundo'!AN118","v":104.64490629669919},{"$f":"+'[1]itcer resto del mundo'!AO118","v":102.1812778062536},{"$f":"+'[1]itcer resto del mundo'!AP118","v":103.69901180122159},null,{"$f":"+'[1]itcer resto del mundo'!AS118","v":1.0295501048220359},{"$f":"+'[1]itcer resto del mundo'!AT118","v":0.17057118202335175},{"$f":"+'[1]itcer resto del mundo'!AU118","v":2.0700680645456657},{"$f":"+'[1]itcer resto del mundo'!AV118","v":1.584518920705591E-2},{"$f":"+'[1]itcer resto del mundo'!AW118","v":2.9095343524569159},{"$f":"+'[1]itcer resto del mundo'!AX118","v":0.30896913503167411},null,{"$f":"+'[1]itcer resto del mundo'!BA118","v":0.92854299776759586},{"$f":"+'[1]itcer resto del mundo'!BB118","v":1.0196147993966136},{"$f":"+'[1]itcer resto del mundo'!BC118","v":0.90689216626885016},{"$f":"+'[1]itcer resto del mundo'!BD118","v":0.95472633788393446},{"$f":"+'[1]itcer resto del mundo'!BE118","v":0.91476236112831799},{"$f":"+'[1]itcer resto del mundo'!BF118","v":0.99453741915955785},null,{"$f":"+'[1]itcer resto del mundo'!BG118","v":1.0927893123060903},{"$f":"+'[1]itcer resto del mundo'!BH118","v":0.97506932947531089},{"$f":"+'[1]itcer resto del mundo'!BI118","v":1.0377122659096627},{"$f":"+'[1]itcer resto del mundo'!BJ118","v":1.0960722685061277},{"$f":"+'[1]itcer resto del mundo'!BK118","v":1.1170253843874558},{"$f":"+'[1]itcer resto del mundo'!BL118","v":1.0426858738895246}]
[null,"Abril",{"$f":"+'[1]itcer resto del mundo'!AK119","v":102.8290899559167},{"$f":"+'[1]itcer resto del mundo'!AL119","v":100.69662594504315},{"$f":"+'[1]itcer resto del mundo'!AM119","v":96.158410415644596},{"$f":"+'[1]itcer resto del mundo'!AN119","v":105.47887847273677},{"$f":"+'[1]itcer resto del mundo'!AO119","v":103.18849996553857},{"$f":"+'[1]itcer resto del mundo'!AP119","v":104.19353051030907},null,{"$f":"+'[1]itcer resto del mundo'!AS119","v":1.3392146072166469},{"$f":"+'[1]itcer resto del mundo'!AT119","v":1.2845708491772143},{"$f":"+'[1]itcer resto del mundo'!AU119","v":2.1773593730533207},{"$f":"+'[1]itcer resto del mundo'!AV119","v":0.79695439133273283},{"$f":"+'[1]itcer resto del mundo'!AW119","v":0.98572084917039149},{"$f":"+'[1]itcer resto del mundo'!AX119","v":0.47687890221695284},null,{"$f":"+'[1]itcer resto del mundo'!BA119","v":0.9365383031976432},{"$f":"+'[1]itcer resto del mundo'!BB119","v":1.0205888905438441},{"$f":"+'[1]itcer resto del mundo'!BC119","v":0.92271560730355817},{"$f":"+'[1]itcer resto del mundo'!BD119","v":0.95930989796470811},{"$f":"+'[1]itcer resto del mundo'!BE119","v":0.92175396089896389},{"$f":"+'[1]itcer resto del mundo'!BF119","v":0.99541243477131014},null,{"$f":"+'[1]itcer resto del mundo'!BG119","v":1.0979699346500311},{"$f":"+'[1]itcer resto del mundo'!BH119","v":0.98665218559634393},{"$f":"+'[1]itcer resto del mundo'!BI119","v":1.0421240266721754},{"$f":"+'[1]itcer resto del mundo'!BJ119","v":1.0995287205575901},{"$f":"+'[1]itcer resto del mundo'!BK119","v":1.1194798649403295},{"$f":"+'[1]itcer resto del mundo'!BL119","v":1.0467372806553987}]
[null,"Mayo",{"$f":"+'[1]itcer resto del mundo'!AK120","v":102.88784782814587},{"$f":"+'[1]itcer resto del mundo'!AL120","v":101.35937110448532},{"$f":"+'[1]itcer resto del mundo'!AM120","v":98.227552826665431},{"$f":"+'[1]itcer resto del mundo'!AN120","v":105.00253135962274},{"$f":"+'[1]itcer resto del mundo'!AO120","v":102.6366740395822},{"$f":"+'[1]itcer resto del mundo'!AP120","v":104.21269199519593},null,{"$f":"+'[1]itcer resto del mundo'!AS120","v":5.714129363039433E-2},{"$f":"+'[1]itcer resto del mundo'!AT120","v":0.65816024441957666},{"$f":"+'[1]itcer resto del mundo'!AU120","v":2.1518059648417278},{"$f":"+'[1]itcer resto del mundo'!AV120","v":-0.45160426429558242},{"$f":"+'[1]itcer resto del mundo'!AW120","v":-0.53477463684485826},{"$f":"+'[1]itcer resto del mundo'!AX120","v":1.8390282768038446E-2},null,{"$f":"+'[1]itcer resto del mundo'!BA120","v":0.94385056180964466},{"$f":"+'[1]itcer resto del mundo'!BB120","v":1.0196553891577425},{"$f":"+'[1]itcer resto del mundo'!BC120","v":0.94875560868941711},{"$f":"+'[1]itcer resto del mundo'!BD120","v":0.96199606311621522},{"$f":"+'[1]itcer resto del mundo'!BE120","v":0.92842987341647587},{"$f":"+'[1]itcer resto del mundo'!BF120","v":0.99444389830052937},null,{"$f":"+'[1]itcer resto del mundo'!BG120","v":1.0900862063468924},{"$f":"+'[1]itcer resto del mundo'!BH120","v":0.99405516983743281},{"$f":"+'[1]itcer resto del mundo'!BI120","v":1.0353304046587304},{"$f":"+'[1]itcer resto del mundo'!BJ120","v":1.0915068718627152},{"$f":"+'[1]itcer resto del mundo'!BK120","v":1.1054865529250517},{"$f":"+'[1]itcer resto del mundo'!BL120","v":1.047949433580837}]
[null,"Junio",{"$f":"+'[1]itcer resto del mundo'!AK121","v":101.74006768186491},{"$f":"+'[1]itcer resto del mundo'!AL121","v":100.94140554316492},{"$f":"+'[1]itcer resto del mundo'!AM121","v":98.399614144438971},{"$f":"+'[1]itcer resto del mundo'!AN121","v":103.97196915920226},{"$f":"+'[1]itcer resto del mundo'!AO121","v":102.57522797445274},{"$f":"+'[1]itcer resto del mundo'!AP121","v":104.18962893465833},null,{"$f":"+'[1]itcer resto del mundo'!AS121","v":-1.115564345556237},{"$f":"+'[1]itcer resto del mundo'!AT121","v":-0.41236005784757879},{"$f":"+'[1]itcer resto del mundo'!AU121","v":0.17516604335767738},{"$f":"+'[1]itcer resto del mundo'!AV121","v":-0.9814641486031519},{"$f":"+'[1]itcer resto del mundo'!AW121","v":-5.9867552903909882E-2},{"$f":"+'[1]itcer resto del mundo'!AX121","v":-2.2130759791380683E-2},null,{"$f":"+'[1]itcer resto del mundo'!BA121","v":0.94569671884949758},{"$f":"+'[1]itcer resto del mundo'!BB121","v":1.0140513929862398},{"$f":"+'[1]itcer resto del mundo'!BC121","v":0.95546186365406194},{"$f":"+'[1]itcer resto del mundo'!BD121","v":0.96372845780520622},{"$f":"+'[1]itcer resto del mundo'!BE121","v":0.93452661180082497},{"$f":"+'[1]itcer resto del mundo'!BF121","v":0.98830215327010784},null,{"$f":"+'[1]itcer resto del mundo'!BG121","v":1.0758213035320501},{"$f":"+'[1]itcer resto del mundo'!BH121","v":0.99542692058147642},{"$f":"+'[1]itcer resto del mundo'!BI121","v":1.0298643816941069},{"$f":"+'[1]itcer resto del mundo'!BJ121","v":1.0788512917423636},{"$f":"+'[1]itcer resto del mundo'!BK121","v":1.0976169825361222},{"$f":"+'[1]itcer resto del mundo'!BL121","v":1.0542284926721472}]
[null,"Julio",{"$f":"+'[1]itcer resto del mundo'!AK122","v":102.77158603360472},{"$f":"+'[1]itcer resto del mundo'!AL122","v":100.81670919863116},{"$f":"+'[1]itcer resto del mundo'!AM122","v":98.065809511154114},{"$f":"+'[1]itcer resto del mundo'!AN122","v":103.93170983497198},{"$f":"+'[1]itcer resto del mundo'!AO122","v":103.33029249692463},{"$f":"+'[1]itcer resto del mundo'!AP122","v":104.90102788242351},null,{"$f":"+'[1]itcer resto del mundo'!AS122","v":1.013876219313417},{"$f":"+'[1]itcer resto del mundo'!AT122","v":-0.12353339431204802},{"$f":"+'[1]itcer resto del mundo'!AU122","v":-0.33923368113504182},{"$f":"+'[1]itcer resto del mundo'!AV122","v":-3.8721325137771601E-2},{"$f":"+'[1]itcer resto del mundo'!AW122","v":0.73610806174366417},{"$f":"+'[1]itcer resto del mundo'!AX122","v":0.6827924766017901},null,{"$f":"+'[1]itcer resto del mundo'!BA122","v":0.95512199643375162},{"$f":"+'[1]itcer resto del mundo'!BB122","v":1.0157708457742547},{"$f":"+'[1]itcer resto del mundo'!BC122","v":0.96129778838920577},{"$f":"+'[1]itcer resto del mundo'!BD122","v":0.96822417355055268},{"$f":"+'[1]itcer resto del mundo'!BE122","v":0.9467292793318145},{"$f":"+'[1]itcer resto del mundo'!BF122","v":0.98983936665228811},null,{"$f":"+'[1]itcer resto del mundo'!BG122","v":1.0760048079442706},{"$f":"+'[1]itcer resto del mundo'!BH122","v":0.99251430200071622},{"$f":"+'[1]itcer resto del mundo'!BI122","v":1.0201397599746655},{"$f":"+'[1]itcer resto del mundo'!BJ122","v":1.0734260998033791},{"$f":"+'[1]itcer resto del mundo'!BK122","v":1.0914449859399447},{"$f":"+'[1]itcer resto del mundo'!BL122","v":1.059778297535354}]
[null,"Agosto",{"$f":"+'[1]itcer resto del mundo'!AK123","v":103.97087986640585},{"$f":"+'[1]itcer resto del mundo'!AL123","v":101.72292691199905},{"$f":"+'[1]itcer resto del mundo'!AM123","v":101.63037089686907},{"$f":"+'[1]itcer resto del mundo'!AN123","v":104.37744711797089},{"$f":"+'[1]itcer resto del mundo'!AO123","v":103.61584442069187},{"$f":"+'[1]itcer resto del mundo'!AP123","v":105.47861849728851},null,{"$f":"+'[1]itcer resto del mundo'!AS123","v":1.1669507877488456},{"$f":"+'[1]itcer resto del mundo'!AT123","v":0.89887650625695414},{"$f":"+'[1]itcer resto del mundo'!AU123","v":3.6348666303616284},{"$f":"+'[1]itcer resto del mundo'!AV123","v":0.42887515629894324},{"$f":"+'[1]itcer resto del mundo'!AW123","v":0.27634870362507513},{"$f":"+'[1]itcer resto del mundo'!AX123","v":0.55060529579593265},null,{"$f":"+'[1]itcer resto del mundo'!BA123","v":0.96972910646695232},{"$f":"+'[1]itcer resto del mundo'!BB123","v":1.0222889096857342},{"$f":"+'[1]itcer resto del mundo'!BC123","v":1.0027912666616292},{"$f":"+'[1]itcer resto del mundo'!BD123","v":0.97802079044782664},{"$f":"+'[1]itcer resto del mundo'!BE123","v":0.96236410174467768},{"$f":"+'[1]itcer resto del mundo'!BF123","v":0.99564006657774606},null,{"$f":"+'[1]itcer resto del mundo'!BG123","v":1.0721641659824623},{"$f":"+'[1]itcer resto del mundo'!BH123","v":0.99505067450325857},{"$f":"+'[1]itcer resto del mundo'!BI123","v":1.0134748304620218},{"$f":"+'[1]itcer resto del mundo'!BJ123","v":1.0672313731712944},{"$f":"+'[1]itcer resto del mundo'!BK123","v":1.0766802734312912},{"$f":"+'[1]itcer resto del mundo'!BL123","v":1.0594051207666224}]
[null,"Septiembre",{"$f":"+'[1]itcer resto del mundo'!AK124","v":104.48603537656842},{"$f":"+'[1]itcer resto del mundo'!AL124","v":102.05172085018373},{"$f":"+'[1]itcer resto del mundo'!AM124","v":103.29224724024577},{"$f":"+'[1]itcer resto del mundo'!AN124","v":104.88990811709078},{"$f":"+'[1]itcer resto del mundo'!AO124","v":103.73299220544813},{"$f":"+'[1]itcer resto del mundo'!AP124","v":105.73369417951443},null,{"$f":"+'[1]itcer resto del mundo'!AS124","v":0.49548057189139172},{"$f":"+'[1]itcer resto del mundo'!AT124","v":0.32322500754339956},{"$f":"+'[1]itcer resto del mundo'!AU124","v":1.6352162534791148},{"$f":"+'[1]itcer resto del mundo'!AV124","v":0.4909690869721004},{"$f":"+'[1]itcer resto del mundo'!AW124","v":0.11305972113746066},{"$f":"+'[1]itcer resto del mundo'!AX124","v":0.24182690848617483},null,{"$f":"+'[1]itcer resto del mundo'!BA124","v":0.97723181022829941},{"$f":"+'[1]itcer resto del mundo'!BB124","v":1.0240514267782777},{"$f":"+'[1]itcer resto del mundo'!BC124","v":1.0200455368844183},{"$f":"+'[1]itcer resto del mundo'!BD124","v":0.98577276698754368},{"$f":"+'[1]itcer resto del mundo'!BE124","v":0.97243498803085904},{"$f":"+'[1]itcer resto del mundo'!BF124","v":0.99776683372956843},null,{"$f":"+'[1]itcer resto del mundo'!BG124","v":1.0692041978469626},{"$f":"+'[1]itcer resto del mundo'!BH124","v":0.99654878828931526},{"$f":"+'[1]itcer resto del mundo'!BI124","v":1.0126238830056256},{"$f":"+'[1]itcer resto del mundo'!BJ124","v":1.0640373890387274},{"$f":"+'[1]itcer resto del mundo'!BK124","v":1.0667344705017574},{"$f":"+'[1]itcer resto del mundo'!BL124","v":1.0597034357645545}]
[null,"Octubre",{"$f":"+'[1]itcer resto del mundo'!AK125","v":104.18489393767753},{"$f":"+'[1]itcer resto del mundo'!AL125","v":101.87103879605284},{"$f":"+'[1]itcer resto del mundo'!AM125","v":103.06465532796571},{"$f":"+'[1]itcer resto del mundo'!AN125","v":104.68457301164592},{"$f":"+'[1]itcer resto del mundo'!AO125","v":102.76165421402345},{"$f":"+'[1]itcer resto del mundo'!AP125","v":102.77697050369592},null,{"$f":"+'[1]itcer resto del mundo'!AS125","v":-0.28821214031673037},{"$f":"+'[1]itcer resto del mundo'!AT125","v":-0.17704949277252524},{"$f":"+'[1]itcer resto del mundo'!AU125","v":-0.22033784563782888},{"$f":"+'[1]itcer resto del mundo'!AV125","v":-0.1957624991106286},{"$f":"+'[1]itcer resto del mundo'!AW125","v":-0.93638289108723427},{"$f":"+'[1]itcer resto del mundo'!AX125","v":-2.796387375625585},null,{"$f":"+'[1]itcer resto del mundo'!BA125","v":0.98675584562701135},{"$f":"+'[1]itcer resto del mundo'!BB125","v":1.0259182221960146},{"$f":"+'[1]itcer resto del mundo'!BC125","v":1.023011585251929},{"$f":"+'[1]itcer resto del mundo'!BD125","v":0.99090711585075519},{"$f":"+'[1]itcer resto del mundo'!BE125","v":0.97880889019421657},{"$f":"+'[1]itcer resto del mundo'!BF125","v":1.0018540709585837},null,{"$f":"+'[1]itcer resto del mundo'!BG125","v":1.0558325486430296},{"$f":"+'[1]itcer resto del mundo'!BH125","v":0.99297426044343229},{"$f":"+'[1]itcer resto del mundo'!BI125","v":1.0074632273356396},{"$f":"+'[1]itcer resto del mundo'!BJ125","v":1.0564519250804625},{"$f":"+'[1]itcer resto del mundo'!BK125","v":1.0498643324912318},{"$f":"+'[1]itcer resto del mundo'!BL125","v":1.0258676735760321}]
[null,"Noviembre",{"$f":"+'[1]itcer resto del mundo'!AK126","v":103.35696613574444},{"$f":"+'[1]itcer resto del mundo'!AL126","v":102.05142491852313},{"$f":"+'[1]itcer resto del mundo'!AM126","v":102.17957669089738},{"$f":"+'[1]itcer resto del mundo'!AN126","v":103.7640640289124},{"$f":"+'[1]itcer resto del mundo'!AO126","v":102.33899826073596},{"$f":"+'[1]itcer resto del mundo'!AP126","v":101.38142792453331},null,{"$f":"+'[1]itcer resto del mundo'!AS126","v":-0.79467163678100405},{"$f":"+'[1]itcer resto del mundo'!AT126","v":0.17707301761338101},{"$f":"+'[1]itcer resto del mundo'!AU126","v":-0.8587605850443083},{"$f":"+'[1]itcer resto del mundo'!AV126","v":-0.87931674768461221},{"$f":"+'[1]itcer resto del mundo'!AW126","v":-0.41129734288551845},{"$f":"+'[1]itcer resto del mundo'!AX126","v":-1.3578358773597188},null,{"$f":"+'[1]itcer resto del mundo'!BA126","v":0.98690284447784493},{"$f":"+'[1]itcer resto del mundo'!BB126","v":1.0218588353201277},{"$f":"+'[1]itcer resto del mundo'!BC126","v":1.0161414956548047},{"$f":"+'[1]itcer resto del mundo'!BD126","v":0.99087379509833684},{"$f":"+'[1]itcer resto del mundo'!BE126","v":0.98398966038466551},{"$f":"+'[1]itcer resto del mundo'!BF126","v":1.001406438307856},null,{"$f":"+'[1]itcer resto del mundo'!BG126","v":1.0472861306872512},{"$f":"+'[1]itcer resto del mundo'!BH126","v":0.99868417623998418},{"$f":"+'[1]itcer resto del mundo'!BI126","v":1.0055644526656453},{"$f":"+'[1]itcer resto del mundo'!BJ126","v":1.0471975799765159},{"$f":"+'[1]itcer resto del mundo'!BK126","v":1.040041398613164},{"$f":"+'[1]itcer resto del mundo'!BL126","v":1.0123904145837563}]
[null,"Diciembre",{"$f":"+'[1]itcer resto del mundo'!AK127","v":102.48780424084889},{"$f":"+'[1]itcer resto del mundo'!AL127","v":102.365158446759},{"$f":"+'[1]itcer resto del mundo'!AM127","v":100.72031622109871},{"$f":"+'[1]itcer resto del mundo'!AN127","v":102.96444335447653},{"$f":"+'[1]itcer resto del mundo'!AO127","v":101.82824875510086},{"$f":"+'[1]itcer resto del mundo'!AP127","v":100.98470574708273},null,{"$f":"+'[1]itcer resto del mundo'!AS127","v":-0.84093208942881859},{"$f":"+'[1]itcer resto del mundo'!AT127","v":0.3074268962793667},{"$f":"+'[1]itcer resto del mundo'!AU127","v":-1.4281332112121277},{"$f":"+'[1]itcer resto del mundo'!AV127","v":-0.77061426026362767},{"$f":"+'[1]itcer resto del mundo'!AW127","v":-0.49907612378014221},{"$f":"+'[1]itcer resto del mundo'!AX127","v":-0.39131642310847781},null,{"$f":"+'[1]itcer resto del mundo'!BA127","v":0.98943588304499297},{"$f":"+'[1]itcer resto del mundo'!BB127","v":1.0192548545119695},{"$f":"+'[1]itcer resto del mundo'!BC127","v":1.0023400512300351},{"$f":"+'[1]itcer resto del mundo'!BD127","v":0.99259999364829321},{"$f":"+'[1]itcer resto del mundo'!BE127","v":0.98246810386756001},{"$f":"+'[1]itcer resto del mundo'!BF127","v":0.999068319451757},null,{"$f":"+'[1]itcer resto del mundo'!BG127","v":1.0358205720763054},{"$f":"+'[1]itcer resto del mundo'!BH127","v":1.0043136708509723},{"$f":"+'[1]itcer resto del mundo'!BI127","v":1.0048517576195666},{"$f":"+'[1]itcer resto del mundo'!BJ127","v":1.0373206126672592},{"$f":"+'[1]itcer resto del mundo'!BK127","v":1.0364534823496687},{"$f":"+'[1]itcer resto del mundo'!BL127","v":1.0107887897245957}]
[2000,"Enero",{"$f":"+'[1]itcer resto del mundo'!AK128","v":101.46394337620156},{"$f":"+'[1]itcer resto del mundo'!AL128","v":101.87326804970141},{"$f":"+'[1]itcer resto del mundo'!AM128","v":103.25498547317704},{"$f":"+'[1]itcer resto del mundo'!AN128","v":102.96198025748193},{"$f":"+'[1]itcer resto del mundo'!AO128","v":102.41563438606042},{"$f":"+'[1]itcer resto del mundo'!AP128","v":101.22406414601721},null,{"$f":"+'[1]itcer resto del mundo'!AS128","v":-0.99900751336348037},{"$f":"+'[1]itcer resto del mundo'!AT128","v":-0.48052521436132167},{"$f":"+'[1]itcer resto del mundo'!AU128","v":2.5165421904695933},{"$f":"+'[1]itcer resto del mundo'!AV128","v":-2.3921821109951225E-3},{"$f":"+'[1]itcer resto del mundo'!AW128","v":0.57683956872540421},{"$f":"+'[1]itcer resto del mundo'!AX128","v":0.23702440598674457},null,{"$f":"+'[1]itcer resto del mundo'!BA128","v":0.99412667430770407},{"$f":"+'[1]itcer resto del mundo'!BB128","v":1.017995560701916},{"$f":"+'[1]itcer resto del mundo'!BC128","v":1.0284774765931619},{"$f":"+'[1]itcer resto del mundo'!BD128","v":0.99465855119532032},{"$f":"+'[1]itcer resto del mundo'!BE128","v":0.99405535724119898},{"$f":"+'[1]itcer resto del mundo'!BF128","v":1.0014724148005418},null,{"$f":"+'[1]itcer resto del mundo'!BG128","v":1.0206339493592167},{"$f":"+'[1]itcer resto del mundo'!BH128","v":1.0007240894003409},{"$f":"+'[1]itcer resto del mundo'!BI128","v":1.0039596182038895},{"$f":"+'[1]itcer resto del mundo'!BJ128","v":1.0351489979525987},{"$f":"+'[1]itcer resto del mundo'!BK128","v":1.0302809963249375},{"$f":"+'[1]itcer resto del mundo'!BL128","v":1.0107523946745702}]
[null,"Febrero",{"$f":"+'[1]itcer resto del mundo'!AK129","v":100.1798454753373},{"$f":"+'[1]itcer resto del mundo'!AL129","v":101.20573143577239},{"$f":"+'[1]itcer resto del mundo'!AM129","v":101.30203844400701},{"$f":"+'[1]itcer resto del mundo'!AN129","v":101.79377425552711},{"$f":"+'[1]itcer resto del mundo'!AO129","v":100.34057285519411},{"$f":"+'[1]itcer resto del mundo'!AP129","v":101.5544288095055},null,{"$f":"+'[1]itcer resto del mundo'!AS129","v":-1.2655706629725216},{"$f":"+'[1]itcer resto del mundo'!AT129","v":-0.65526180391438515},{"$f":"+'[1]itcer resto del mundo'!AU129","v":-1.8913827939836949},{"$f":"+'[1]itcer resto del mundo'!AV129","v":-1.1345993919633486},{"$f":"+'[1]itcer resto del mundo'!AW129","v":-2.0261179294601419},{"$f":"+'[1]itcer resto del mundo'!AX129","v":0.32636968914006559},null,{"$f":"+'[1]itcer resto del mundo'!BA129","v":0.99090376343834774},{"$f":"+'[1]itcer resto del mundo'!BB129","v":1.0112945315126469},{"$f":"+'[1]itcer resto del mundo'!BC129","v":1.0115308706593849},{"$f":"+'[1]itcer resto del mundo'!BD129","v":0.99306755498119015},{"$f":"+'[1]itcer resto del mundo'!BE129","v":0.99020502105029529},{"$f":"+'[1]itcer resto del mundo'!BF129","v":1.0000715867628527},null,{"$f":"+'[1]itcer resto del mundo'!BG129","v":1.0109947017228211},{"$f":"+'[1]itcer resto del mundo'!BH129","v":1.0007542637889442},{"$f":"+'[1]itcer resto del mundo'!BI129","v":1.0014725341795194},{"$f":"+'[1]itcer resto del mundo'!BJ129","v":1.0250438023569828},{"$f":"+'[1]itcer resto del mundo'!BK129","v":1.0133312871789362},{"$f":"+'[1]itcer resto del mundo'!BL129","v":1.015471593770888}]
[null,"Marzo",{"$f":"+'[1]itcer resto del mundo'!AK130","v":100.50811821915148},{"$f":"+'[1]itcer resto del mundo'!AL130","v":101.733229630772},{"$f":"+'[1]itcer resto del mundo'!AM130","v":100.15147328373988},{"$f":"+'[1]itcer resto del mundo'!AN130","v":101.77767499788922},{"$f":"+'[1]itcer resto del mundo'!AO130","v":100.50097118622746},{"$f":"+'[1]itcer resto del mundo'!AP130","v":102.29929267841061},null,{"$f":"+'[1]itcer resto del mundo'!AS130","v":0.32768342000986195},{"$f":"+'[1]itcer resto del mundo'!AT130","v":0.52121375688527394},{"$f":"+'[1]itcer resto del mundo'!AU130","v":-1.1357769082831339},{"$f":"+'[1]itcer resto del mundo'!AV130","v":-1.5815562155580665E-2},{"$f":"+'[1]itcer resto del mundo'!AW130","v":0.1598539120011111},{"$f":"+'[1]itcer resto del mundo'!AX130","v":0.73346271318439449},null,{"$f":"+'[1]itcer resto del mundo'!BA130","v":0.99466788415133056},{"$f":"+'[1]itcer resto del mundo'!BB130","v":1.0107328151140829},{"$f":"+'[1]itcer resto del mundo'!BC130","v":1.0039647938252296},{"$f":"+'[1]itcer resto del mundo'!BD130","v":0.99539007691302572},{"$f":"+'[1]itcer resto del mundo'!BE130","v":0.99512480641877477},{"$f":"+'[1]itcer resto del mundo'!BF130","v":1.0000441994681613},null,{"$f":"+'[1]itcer resto del mundo'!BG130","v":1.010469120604079},{"$f":"+'[1]itcer resto del mundo'!BH130","v":1.0065294023256701},{"$f":"+'[1]itcer resto del mundo'!BI130","v":0.9975596146369875},{"$f":"+'[1]itcer resto del mundo'!BJ130","v":1.0224903518581314},{"$f":"+'[1]itcer resto del mundo'!BK130","v":1.0099333323616699},{"$f":"+'[1]itcer resto del mundo'!BL130","v":1.0229477130392328}]
[null,"Abril",{"$f":"+'[1]itcer resto del mundo'!AK131","v":101.03710727754836},{"$f":"+'[1]itcer resto del mundo'!AL131","v":101.41505662145889},{"$f":"+'[1]itcer resto del mundo'!AM131","v":98.879147220246907},{"$f":"+'[1]itcer resto del mundo'!AN131","v":100.69753857606564},{"$f":"+'[1]itcer resto del mundo'!AO131","v":100.19940800712178},{"$f":"+'[1]itcer resto del mundo'!AP131","v":102.08038997646265},null,{"$f":"+'[1]itcer resto del mundo'!AS131","v":0.52631475722533594},{"$f":"+'[1]itcer resto del mundo'!AT131","v":-0.3127522938845857},{"$f":"+'[1]itcer resto del mundo'!AU131","v":-1.2704017442542579},{"$f":"+'[1]itcer resto del mundo'!AV131","v":-1.0612704818084921},{"$f":"+'[1]itcer resto del mundo'!AW131","v":-0.30005996513892796},{"$f":"+'[1]itcer resto del mundo'!AX131","v":-0.21398261534035612},null,{"$f":"+'[1]itcer resto del mundo'!BA131","v":0.99524820912531498},{"$f":"+'[1]itcer resto del mundo'!BB131","v":1.0072828181013496},{"$f":"+'[1]itcer resto del mundo'!BC131","v":0.9994758045212323},{"$f":"+'[1]itcer resto del mundo'!BD131","v":0.99642293598852749},{"$f":"+'[1]itcer resto del mundo'!BE131","v":0.99702644150817377},{"$f":"+'[1]itcer resto del mundo'!BF131","v":0.9974696474594188},null,{"$f":"+'[1]itcer resto del mundo'!BG131","v":1.0151950674329369},{"$f":"+'[1]itcer resto del mundo'!BH131","v":1.0068180931808057},{"$f":"+'[1]itcer resto del mundo'!BI131","v":0.98931006406515176},{"$f":"+'[1]itcer resto del mundo'!BJ131","v":1.0105903320678384},{"$f":"+'[1]itcer resto del mundo'!BK131","v":1.004982454181987},{"$f":"+'[1]itcer resto del mundo'!BL131","v":1.0233934459706524}]
[null,"Mayo",{"$f":"+'[1]itcer resto del mundo'!AK132","v":100.3936205690804},{"$f":"+'[1]itcer resto del mundo'!AL132","v":99.918136648134791},{"$f":"+'[1]itcer resto del mundo'!AM132","v":98.813354250281549},{"$f":"+'[1]itcer resto del mundo'!AN132","v":99.415264702610813},{"$f":"+'[1]itcer resto del mundo'!AO132","v":98.950749145609791},{"$f":"+'[1]itcer resto del mundo'!AP132","v":101.27383596370098},null,{"$f":"+'[1]itcer resto del mundo'!AS132","v":-0.63688156342432478},{"$f":"+'[1]itcer resto del mundo'!AT132","v":-1.4760332668466418},{"$f":"+'[1]itcer resto del mundo'!AU132","v":-6.6538771636857064E-2},{"$f":"+'[1]itcer resto del mundo'!AV132","v":-1.2733914766806578},{"$f":"+'[1]itcer resto del mundo'!AW132","v":-1.2461738909906899},{"$f":"+'[1]itcer resto del mundo'!AX132","v":-0.79011650812428513},null,{"$f":"+'[1]itcer resto del mundo'!BA132","v":0.9867377650905117},{"$f":"+'[1]itcer resto del mundo'!BB132","v":0.99697919836029425},{"$f":"+'[1]itcer resto del mundo'!BC132","v":0.98912934906183392},{"$f":"+'[1]itcer resto del mundo'!BD132","v":0.99187683599629561},{"$f":"+'[1]itcer resto del mundo'!BE132","v":0.99092497102354749},{"$f":"+'[1]itcer resto del mundo'!BF132","v":0.98897906898805366},null,{"$f":"+'[1]itcer resto del mundo'!BG132","v":1.0174295959967792},{"$f":"+'[1]itcer resto del mundo'!BH132","v":1.0022088405903304},{"$f":"+'[1]itcer resto del mundo'!BI132","v":0.99899324940670009},{"$f":"+'[1]itcer resto del mundo'!BJ132","v":1.0022944492171013},{"$f":"+'[1]itcer resto del mundo'!BK132","v":0.99856953895713663},{"$f":"+'[1]itcer resto del mundo'!BL132","v":1.0240240581363032}]
[null,"Junio",{"$f":"+'[1]itcer resto del mundo'!AK133","v":100.99532938705103},{"$f":"+'[1]itcer resto del mundo'!AL133","v":99.844678791467146},{"$f":"+'[1]itcer resto del mundo'!AM133","v":99.413402360457297},{"$f":"+'[1]itcer resto del mundo'!AN133","v":99.799820724077719},{"$f":"+'[1]itcer resto del mundo'!AO133","v":99.332654995728049},{"$f":"+'[1]itcer resto del mundo'!AP133","v":101.23128075810035},null,{"$f":"+'[1]itcer resto del mundo'!AS133","v":0.59934965445000898},{"$f":"+'[1]itcer resto del mundo'!AT133","v":-7.3518041000227186E-2},{"$f":"+'[1]itcer resto del mundo'!AU133","v":0.60725406472479904},{"$f":"+'[1]itcer resto del mundo'!AV133","v":0.38681788216049995},{"$f":"+'[1]itcer resto del mundo'!AW133","v":0.38595549140943319},{"$f":"+'[1]itcer resto del mundo'!AX133","v":-4.2019940486767382E-2},null,{"$f":"+'[1]itcer resto del mundo'!BA133","v":1.0015659365720455},{"$f":"+'[1]itcer resto del mundo'!BB133","v":1.0027520947679489},{"$f":"+'[1]itcer resto del mundo'!BC133","v":0.99538360784355884},{"$f":"+'[1]itcer resto del mundo'!BD133","v":1.0005187577517336},{"$f":"+'[1]itcer resto del mundo'!BE133","v":0.9970100468707912},{"$f":"+'[1]itcer resto del mundo'!BF133","v":0.99362945101814348},null,{"$f":"+'[1]itcer resto del mundo'!BG133","v":1.0083742437638918},{"$f":"+'[1]itcer resto del mundo'!BH133","v":0.99570650924017889},{"$f":"+'[1]itcer resto del mundo'!BI133","v":0.99874462043664447},{"$f":"+'[1]itcer resto del mundo'!BJ133","v":0.99748075636620714},{"$f":"+'[1]itcer resto del mundo'!BK133","v":0.99630545657481395},{"$f":"+'[1]itcer resto del mundo'!BL133","v":1.018803142905754}]
[null,"Julio",{"$f":"+'[1]itcer resto del mundo'!AK134","v":100.44340647723934},{"$f":"+'[1]itcer resto del mundo'!AL134","v":100.1456936377604},{"$f":"+'[1]itcer resto del mundo'!AM134","v":99.914384009671537},{"$f":"+'[1]itcer resto del mundo'!AN134","v":99.623013992821967},{"$f":"+'[1]itcer resto del mundo'!AO134","v":100.40710820768024},{"$f":"+'[1]itcer resto del mundo'!AP134","v":101.03746484762976},null,{"$f":"+'[1]itcer resto del mundo'!AS134","v":-0.54648359796573232},{"$f":"+'[1]itcer resto del mundo'!AT134","v":0.30148311350868084},{"$f":"+'[1]itcer resto del mundo'!AU134","v":0.50393773607883929},{"$f":"+'[1]itcer resto del mundo'!AV134","v":-0.17716137160664402},{"$f":"+'[1]itcer resto del mundo'!AW134","v":1.0816716939644948},{"$f":"+'[1]itcer resto del mundo'!AX134","v":-0.19145851857167884},null,{"$f":"+'[1]itcer resto del mundo'!BA134","v":1.0073921512089961},{"$f":"+'[1]itcer resto del mundo'!BB134","v":1.0026067846287343},{"$f":"+'[1]itcer resto del mundo'!BC134","v":1.0005468311106933},{"$f":"+'[1]itcer resto del mundo'!BD134","v":1.003474820941449},{"$f":"+'[1]itcer resto del mundo'!BE134","v":1.0030316148296046},{"$f":"+'[1]itcer resto del mundo'!BF134","v":0.99434350375920411},null,{"$f":"+'[1]itcer resto del mundo'!BG134","v":0.99706361973035751},{"$f":"+'[1]itcer resto del mundo'!BH134","v":0.99885314136233783},{"$f":"+'[1]itcer resto del mundo'!BI134","v":0.99859777576585751},{"$f":"+'[1]itcer resto del mundo'!BJ134","v":0.99278040578394133},{"$f":"+'[1]itcer resto del mundo'!BK134","v":1.0010363255074213},{"$f":"+'[1]itcer resto del mundo'!BL134","v":1.0161223406765234}]
[null,"Agosto",{"$f":"+'[1]itcer resto del mundo'!AK135","v":99.675170127253665},{"$f":"+'[1]itcer resto del mundo'!AL135","v":99.354012649887167},{"$f":"+'[1]itcer resto del mundo'!AM135","v":100.24973998434864},{"$f":"+'[1]itcer resto del mundo'!AN135","v":99.206085122688449},{"$f":"+'[1]itcer resto del mundo'!AO135","v":100.82749890841374},{"$f":"+'[1]itcer resto del mundo'!AP135","v":99.624077227267236},null,{"$f":"+'[1]itcer resto del mundo'!AS135","v":-0.76484497781321181},{"$f":"+'[1]itcer resto del mundo'!AT135","v":-0.79052923707018863},{"$f":"+'[1]itcer resto del mundo'!AU135","v":0.33564333904578803},{"$f":"+'[1]itcer resto del mundo'!AV135","v":-0.41850658138446306},{"$f":"+'[1]itcer resto del mundo'!AW135","v":0.41868619486977821},{"$f":"+'[1]itcer resto del mundo'!AX135","v":-1.3988747861934172},null,{"$f":"+'[1]itcer resto del mundo'!BA135","v":1.0054237207270411},{"$f":"+'[1]itcer resto del mundo'!BB135","v":0.99820428843551801},{"$f":"+'[1]itcer resto del mundo'!BC135","v":0.99860513034113918},{"$f":"+'[1]itcer resto del mundo'!BD135","v":1.0032659242728144},{"$f":"+'[1]itcer resto del mundo'!BE135","v":1.007797502578218},{"$f":"+'[1]itcer resto del mundo'!BF135","v":0.99094354235868887},null,{"$f":"+'[1]itcer resto del mundo'!BG135","v":0.99137476143069936},{"$f":"+'[1]itcer resto del mundo'!BH135","v":0.9953274475068058},{"$f":"+'[1]itcer resto del mundo'!BI135","v":1.0038977062945966},{"$f":"+'[1]itcer resto del mundo'!BJ135","v":0.98883140274693238},{"$f":"+'[1]itcer resto del mundo'!BK135","v":1.0004737921107145},{"$f":"+'[1]itcer resto del mundo'!BL135","v":1.0053456424988398}]
[null,"Septiembre",{"$f":"+'[1]itcer resto del mundo'!AK136","v":99.409173306273658},{"$f":"+'[1]itcer resto del mundo'!AL136","v":99.008999308768978},{"$f":"+'[1]itcer resto del mundo'!AM136","v":100.76761375656334},{"$f":"+'[1]itcer resto del mundo'!AN136","v":99.466256828230968},{"$f":"+'[1]itcer resto del mundo'!AO136","v":100.51204044826208},{"$f":"+'[1]itcer resto del mundo'!AP136","v":97.894323630688262},null,{"$f":"+'[1]itcer resto del mundo'!AS136","v":-0.26686367391238264},{"$f":"+'[1]itcer resto del mundo'!AT136","v":-0.3472565746629499},{"$f":"+'[1]itcer resto del mundo'!AU136","v":0.51658365627238823},{"$f":"+'[1]itcer resto del mundo'!AV136","v":0.26225377729677746},{"$f":"+'[1]itcer resto del mundo'!AW136","v":-0.31286946871330201},{"$f":"+'[1]itcer resto del mundo'!AX136","v":-1.7362806710198981},null,{"$f":"+'[1]itcer resto del mundo'!BA136","v":1.0016731641072103},{"$f":"+'[1]itcer resto del mundo'!BB136","v":0.9917749121606485},{"$f":"+'[1]itcer resto del mundo'!BC136","v":1.0001148722628954},{"$f":"+'[1]itcer resto del mundo'!BD136","v":1.0029473164048437},{"$f":"+'[1]itcer resto del mundo'!BE136","v":1.0041632280787693},{"$f":"+'[1]itcer resto del mundo'!BF136","v":1.0062767096818876},null,{"$f":"+'[1]itcer resto del mundo'!BG136","v":0.99243123274523304},{"$f":"+'[1]itcer resto del mundo'!BH136","v":0.99830110738606181},{"$f":"+'[1]itcer resto del mundo'!BI136","v":1.0075603968228466},{"$f":"+'[1]itcer resto del mundo'!BJ136","v":0.99173959789609745},{"$f":"+'[1]itcer resto del mundo'!BK136","v":1.0009532079816177},{"$f":"+'[1]itcer resto del mundo'!BL136","v":0.97283702075978074}]
[null,"Octubre",{"$f":"+'[1]itcer resto del mundo'!AK137","v":98.710525310593269},{"$f":"+'[1]itcer resto del mundo'!AL137","v":98.571471614270806},{"$f":"+'[1]itcer resto del mundo'!AM137","v":100.26203587629924},{"$f":"+'[1]itcer resto del mundo'!AN137","v":98.95078043588849},{"$f":"+'[1]itcer resto del mundo'!AO137","v":99.392208789531438},{"$f":"+'[1]itcer resto del mundo'!AP137","v":97.712752962180062},null,{"$f":"+'[1]itcer resto del mundo'!AS137","v":-0.70280032761955624},{"$f":"+'[1]itcer resto del mundo'!AT137","v":-0.4419069958819648},{"$f":"+'[1]itcer resto del mundo'!AU137","v":-0.50172655818315093},{"$f":"+'[1]itcer resto del mundo'!AV137","v":-0.51824247617226149},{"$f":"+'[1]itcer resto del mundo'!AW137","v":-1.1141268784679426},{"$f":"+'[1]itcer resto del mundo'!AX137","v":-0.18547619695824835},null,{"$f":"+'[1]itcer resto del mundo'!BA137","v":0.99935620554430982},{"$f":"+'[1]itcer resto del mundo'!BB137","v":0.98567454746618244},{"$f":"+'[1]itcer resto del mundo'!BC137","v":0.99613102419054989},{"$f":"+'[1]itcer resto del mundo'!BD137","v":1.0016277183757218},{"$f":"+'[1]itcer resto del mundo'!BE137","v":1.0024019305320477},{"$f":"+'[1]itcer resto del mundo'!BF137","v":1.0053668030251925},null,{"$f":"+'[1]itcer resto del mundo'!BG137","v":0.98774115538542695},{"$f":"+'[1]itcer resto del mundo'!BH137","v":1.0000407524741599},{"$f":"+'[1]itcer resto del mundo'!BI137","v":1.0065145391668886},{"$f":"+'[1]itcer resto del mundo'!BJ137","v":0.98789978173079018},{"$f":"+'[1]itcer resto del mundo'!BK137","v":0.99154047655092559},{"$f":"+'[1]itcer resto del mundo'!BL137","v":0.97191147219261809}]
[null,"Noviembre",{"$f":"+'[1]itcer resto del mundo'!AK138","v":98.562121880527101},{"$f":"+'[1]itcer resto del mundo'!AL138","v":98.47939729977476},{"$f":"+'[1]itcer resto del mundo'!AM138","v":99.104067370447325},{"$f":"+'[1]itcer resto del mundo'!AN138","v":98.328160241343923},{"$f":"+'[1]itcer resto del mundo'!AO138","v":98.938509013777718},{"$f":"+'[1]itcer resto del mundo'!AP138","v":97.593559284748551},null,{"$f":"+'[1]itcer resto del mundo'!AS138","v":-0.15034205278435309},{"$f":"+'[1]itcer resto del mundo'!AT138","v":-9.3408684062609382E-2},{"$f":"+'[1]itcer resto del mundo'!AU138","v":-1.1549421430865294},{"$f":"+'[1]itcer resto del mundo'!AV138","v":-0.62922211608828604},{"$f":"+'[1]itcer resto del mundo'!AW138","v":-0.45647418573265952},{"$f":"+'[1]itcer resto del mundo'!AX138","v":-0.12198374707305959},null,{"$f":"+'[1]itcer resto del mundo'!BA138","v":1.0046985355863733},{"$f":"+'[1]itcer resto del mundo'!BB138","v":0.98566952838174016},{"$f":"+'[1]itcer resto del mundo'!BC138","v":0.98950535859384925},{"$f":"+'[1]itcer resto del mundo'!BD138","v":1.0053308284523053},{"$f":"+'[1]itcer resto del mundo'!BE138","v":1.0069534099978643},{"$f":"+'[1]itcer resto del mundo'!BF138","v":1.0077618485788775},null,{"$f":"+'[1]itcer resto del mundo'!BG138","v":0.98101189948488554},{"$f":"+'[1]itcer resto del mundo'!BH138","v":0.9991117150740878},{"$f":"+'[1]itcer resto del mundo'!BI138","v":1.0015515985813412},{"$f":"+'[1]itcer resto del mundo'!BJ138","v":0.97806769133618376},{"$f":"+'[1]itcer resto del mundo'!BK138","v":0.98255299630980508},{"$f":"+'[1]itcer resto del mundo'!BL138","v":0.96841887220053768}]
[null,"Diciembre",{"$f":"+'[1]itcer resto del mundo'!AK139","v":99.149265813423483},{"$f":"+'[1]itcer resto del mundo'!AL139","v":98.844022390311395},{"$f":"+'[1]itcer resto del mundo'!AM139","v":98.183135439558896},{"$f":"+'[1]itcer resto del mundo'!AN139","v":98.630306764096943},{"$f":"+'[1]itcer resto del mundo'!AO139","v":98.615417029278689},{"$f":"+'[1]itcer resto del mundo'!AP139","v":97.365637671045619},null,{"$f":"+'[1]itcer resto del mundo'!AS139","v":0.59570950959040658},{"$f":"+'[1]itcer resto del mundo'!AT139","v":0.37025520112263166},{"$f":"+'[1]itcer resto del mundo'!AU139","v":-0.92925745160995632},{"$f":"+'[1]itcer resto del mundo'!AV139","v":0.30728381575674746},{"$f":"+'[1]itcer resto del mundo'!AW139","v":-0.32655837218452177},{"$f":"+'[1]itcer resto del mundo'!AX139","v":-0.23354165518026093},null,{"$f":"+'[1]itcer resto del mundo'!BA139","v":1.0206947838806448},{"$f":"+'[1]itcer resto del mundo'!BB139","v":0.99257124729355073},{"$f":"+'[1]itcer resto del mundo'!BC139","v":0.98979498943053656},{"$f":"+'[1]itcer resto del mundo'!BD139","v":1.0131489828716866},{"$f":"+'[1]itcer resto del mundo'!BE139","v":1.0130224992475061},{"$f":"+'[1]itcer resto del mundo'!BF139","v":1.0154044860770697},null,{"$f":"+'[1]itcer resto del mundo'!BG139","v":0.97138995299321051},{"$f":"+'[1]itcer resto del mundo'!BH139","v":0.99583805857594521},{"$f":"+'[1]itcer resto del mundo'!BI139","v":0.99195425808375803},{"$f":"+'[1]itcer resto del mundo'!BJ139","v":0.973502499943666},{"$f":"+'[1]itcer resto del mundo'!BK139","v":0.97347706593419436},{"$f":"+'[1]itcer resto del mundo'!BL139","v":0.9588852423452412}]
[2001,"Enero",{"$f":"+'[1]itcer resto del mundo'!AK140","v":99.098659593220759},{"$f":"+'[1]itcer resto del mundo'!AL140","v":98.118402719460548},{"$f":"+'[1]itcer resto del mundo'!AM140","v":98.070448961906351},{"$f":"+'[1]itcer resto del mundo'!AN140","v":98.467633698943942},{"$f":"+'[1]itcer resto del mundo'!AO140","v":98.842304824057607},{"$f":"+'[1]itcer resto del mundo'!AP140","v":96.020666030584621},null,{"$f":"+'[1]itcer resto del mundo'!AS140","v":-5.1040438663406462E-2},{"$f":"+'[1]itcer resto del mundo'!AT140","v":-0.73410576917393655},{"$f":"+'[1]itcer resto del mundo'!AU140","v":-0.11477172443929362},{"$f":"+'[1]itcer resto del mundo'!AV140","v":-0.16493212937285762},{"$f":"+'[1]itcer resto del mundo'!AW140","v":0.23007335122007078},{"$f":"+'[1]itcer resto del mundo'!AX140","v":-1.38136171305635},null,{"$f":"+'[1]itcer resto del mundo'!BA140","v":1.0314638344904912},{"$f":"+'[1]itcer resto del mundo'!BB140","v":0.9995705771980401},{"$f":"+'[1]itcer resto del mundo'!BC140","v":0.99823401786959309},{"$f":"+'[1]itcer resto del mundo'!BD140","v":1.0163414019705259},{"$f":"+'[1]itcer resto del mundo'!BE140","v":1.0195126341995211},{"$f":"+'[1]itcer resto del mundo'!BF140","v":1.0221969356865475},null,{"$f":"+'[1]itcer resto del mundo'!BG140","v":0.96075748154730212},{"$f":"+'[1]itcer resto del mundo'!BH140","v":0.98160555100073554},{"$f":"+'[1]itcer resto del mundo'!BI140","v":0.98243946014989458},{"$f":"+'[1]itcer resto del mundo'!BJ140","v":0.96884406664955991},{"$f":"+'[1]itcer resto del mundo'!BK140","v":0.96950544317348741},{"$f":"+'[1]itcer resto del mundo'!BL140","v":0.93935583915728904}]
[null,"Febrero",{"$f":"+'[1]itcer resto del mundo'!AK141","v":98.606559366920379},{"$f":"+'[1]itcer resto del mundo'!AL141","v":98.560629411928701},{"$f":"+'[1]itcer resto del mundo'!AM141","v":96.951735654773614},{"$f":"+'[1]itcer resto del mundo'!AN141","v":97.838778401898637},{"$f":"+'[1]itcer resto del mundo'!AO141","v":98.4618371465141},{"$f":"+'[1]itcer resto del mundo'!AP141","v":96.421631892255093},null,{"$f":"+'[1]itcer resto del mundo'!AS141","v":-0.49657606704303703},{"$f":"+'[1]itcer resto del mundo'!AT141","v":0.45070718663507137},{"$f":"+'[1]itcer resto del mundo'!AU141","v":-1.1407241620432274},{"$f":"+'[1]itcer resto del mundo'!AV141","v":-0.63864162610830988},{"$f":"+'[1]itcer resto del mundo'!AW141","v":-0.38492392323384195},{"$f":"+'[1]itcer resto del mundo'!AX141","v":0.41758287902602831},null,{"$f":"+'[1]itcer resto del mundo'!BA141","v":1.0353550349813663},{"$f":"+'[1]itcer resto del mundo'!BB141","v":0.99945357471980956},{"$f":"+'[1]itcer resto del mundo'!BC141","v":0.99136479289012036},{"$f":"+'[1]itcer resto del mundo'!BD141","v":1.0193677130380328},{"$f":"+'[1]itcer resto del mundo'!BE141","v":1.0253300760921975},{"$f":"+'[1]itcer resto del mundo'!BF141","v":1.0248312482473338},null,{"$f":"+'[1]itcer resto del mundo'!BG141","v":0.95239368173541605},{"$f":"+'[1]itcer resto del mundo'!BH141","v":0.98614514875850601},{"$f":"+'[1]itcer resto del mundo'!BI141","v":0.9779622632364291},{"$f":"+'[1]itcer resto del mundo'!BJ141","v":0.95979867863686452},{"$f":"+'[1]itcer resto del mundo'!BK141","v":0.96029405010509472},{"$f":"+'[1]itcer resto del mundo'!BL141","v":0.94085374599140459}]
[null,"Marzo",{"$f":"+'[1]itcer resto del mundo'!AK142","v":97.101038672885096},{"$f":"+'[1]itcer resto del mundo'!AL142","v":98.088870392688804},{"$f":"+'[1]itcer resto del mundo'!AM142","v":95.726506928004781},{"$f":"+'[1]itcer resto del mundo'!AN142","v":97.009668551694148},{"$f":"+'[1]itcer resto del mundo'!AO142","v":98.257152481567104},{"$f":"+'[1]itcer resto del mundo'!AP142","v":96.589123509554469},null,{"$f":"+'[1]itcer resto del mundo'!AS142","v":-1.5267956855011562},{"$f":"+'[1]itcer resto del mundo'!AT142","v":-0.47864854562587311},{"$f":"+'[1]itcer resto del mundo'!AU142","v":-1.2637512041369092},{"$f":"+'[1]itcer resto del mundo'!AV142","v":-0.84742457310606767},{"$f":"+'[1]itcer resto del mundo'!AW142","v":-0.20788223222203328},{"$f":"+'[1]itcer resto del mundo'!AX142","v":0.17370751149134378},null,{"$f":"+'[1]itcer resto del mundo'!BA142","v":1.0336118556792999},{"$f":"+'[1]itcer resto del mundo'!BB142","v":0.99367594463308651},{"$f":"+'[1]itcer resto del mundo'!BC142","v":0.98103791577455635},{"$f":"+'[1]itcer resto del mundo'!BD142","v":1.0169511588728068},{"$f":"+'[1]itcer resto del mundo'!BE142","v":1.0205217567122531},{"$f":"+'[1]itcer resto del mundo'!BF142","v":1.0193934275416792},null,{"$f":"+'[1]itcer resto del mundo'!BG142","v":0.93943425802782932},{"$f":"+'[1]itcer resto del mundo'!BH142","v":0.98713137741205959},{"$f":"+'[1]itcer resto del mundo'!BI142","v":0.97576765779155528},{"$f":"+'[1]itcer resto del mundo'!BJ142","v":0.95392652543137002},{"$f":"+'[1]itcer resto del mundo'!BK142","v":0.9628129124666156},{"$f":"+'[1]itcer resto del mundo'!BL142","v":0.94751565882158217}]
[null,"Abril",{"$f":"+'[1]itcer resto del mundo'!AK143","v":96.545851085639129},{"$f":"+'[1]itcer resto del mundo'!AL143","v":98.260259157196259},{"$f":"+'[1]itcer resto del mundo'!AM143","v":96.383313216130716},{"$f":"+'[1]itcer resto del mundo'!AN143","v":97.008641346596065},{"$f":"+'[1]itcer resto del mundo'!AO143","v":98.130396750114699},{"$f":"+'[1]itcer resto del mundo'!AP143","v":96.294519102071064},null,{"$f":"+'[1]itcer resto del mundo'!AS143","v":-0.57176276879621923},{"$f":"+'[1]itcer resto del mundo'!AT143","v":0.17472804388644647},{"$f":"+'[1]itcer resto del mundo'!AU143","v":0.68612791712949672},{"$f":"+'[1]itcer resto del mundo'!AV143","v":-1.0588687843409161E-3},{"$f":"+'[1]itcer resto del mundo'!AW143","v":-0.12900407578591455},{"$f":"+'[1]itcer resto del mundo'!AX143","v":-0.30500784848126727},null,{"$f":"+'[1]itcer resto del mundo'!BA143","v":1.0358891117038711},{"$f":"+'[1]itcer resto del mundo'!BB143","v":0.99246221886818198},{"$f":"+'[1]itcer resto del mundo'!BC143","v":0.98778967726175448},{"$f":"+'[1]itcer resto del mundo'!BD143","v":1.0188393056687359},{"$f":"+'[1]itcer resto del mundo'!BE143","v":1.0219994702774973},{"$f":"+'[1]itcer resto del mundo'!BF143","v":1.0182567920776759},null,{"$f":"+'[1]itcer resto del mundo'!BG143","v":0.93200951718506575},{"$f":"+'[1]itcer resto del mundo'!BH143","v":0.99006548853067333},{"$f":"+'[1]itcer resto del mundo'!BI143","v":0.97574732187234725},{"$f":"+'[1]itcer resto del mundo'!BJ143","v":0.95214859504190863},{"$f":"+'[1]itcer resto del mundo'!BK143","v":0.96018050501992869},{"$f":"+'[1]itcer resto del mundo'!BL143","v":0.94568010595430851}]
[null,"Mayo",{"$f":"+'[1]itcer resto del mundo'!AK144","v":96.530647884640189},{"$f":"+'[1]itcer resto del mundo'!AL144","v":98.402172483803113},{"$f":"+'[1]itcer resto del mundo'!AM144","v":96.829500627982966},{"$f":"+'[1]itcer resto del mundo'!AN144","v":96.531703112929961},{"$f":"+'[1]itcer resto del mundo'!AO144","v":98.437529151995093},{"$f":"+'[1]itcer resto del mundo'!AP144","v":96.393199474909821},null,{"$f":"+'[1]itcer resto del mundo'!AS144","v":-1.5747130330296955E-2},{"$f":"+'[1]itcer resto del mundo'!AT144","v":0.14442596409176645},{"$f":"+'[1]itcer resto del mundo'!AU144","v":0.46293014523345732},{"$f":"+'[1]itcer resto del mundo'!AV144","v":-0.49164510196784761},{"$f":"+'[1]itcer resto del mundo'!AW144","v":0.31298396017137975},{"$f":"+'[1]itcer resto del mundo'!AX144","v":0.10247766306838457},null,{"$f":"+'[1]itcer resto del mundo'!BA144","v":1.0386119696765888},{"$f":"+'[1]itcer resto del mundo'!BB144","v":0.99155859730990559},{"$f":"+'[1]itcer resto del mundo'!BC144","v":0.99133473053520926},{"$f":"+'[1]itcer resto del mundo'!BD144","v":1.0219438465640935},{"$f":"+'[1]itcer resto del mundo'!BE144","v":1.0289696794973027},{"$f":"+'[1]itcer resto del mundo'!BF144","v":1.0178207971577964},null,{"$f":"+'[1]itcer resto del mundo'!BG144","v":0.9294197515815138},{"$f":"+'[1]itcer resto del mundo'!BH144","v":0.99239896412342943},{"$f":"+'[1]itcer resto del mundo'!BI144","v":0.9767588852224105},{"$f":"+'[1]itcer resto del mundo'!BJ144","v":0.94458911257680089},{"$f":"+'[1]itcer resto del mundo'!BK144","v":0.95666112533156644},{"$f":"+'[1]itcer resto del mundo'!BL144","v":0.94705472460458717}]
[null,"Junio",{"$f":"+'[1]itcer resto del mundo'!AK145","v":96.416897669430924},{"$f":"+'[1]itcer resto del mundo'!AL145","v":98.049904068576438},{"$f":"+'[1]itcer resto del mundo'!AM145","v":96.486736380090349},{"$f":"+'[1]itcer resto del mundo'!AN145","v":96.169882215332592},{"$f":"+'[1]itcer resto del mundo'!AO145","v":98.539109013189091},{"$f":"+'[1]itcer resto del mundo'!AP145","v":96.814783375577449},null,{"$f":"+'[1]itcer resto del mundo'!AS145","v":-0.11783844582210179},{"$f":"+'[1]itcer resto del mundo'!AT145","v":-0.35798845323731143},{"$f":"+'[1]itcer resto del mundo'!AU145","v":-0.35398741671663458},{"$f":"+'[1]itcer resto del mundo'!AV145","v":-0.37482079558265013},{"$f":"+'[1]itcer resto del mundo'!AW145","v":0.10319220938302465},{"$f":"+'[1]itcer resto del mundo'!AX145","v":0.43735855118842437},null,{"$f":"+'[1]itcer resto del mundo'!BA145","v":1.0393073720162702},{"$f":"+'[1]itcer resto del mundo'!BB145","v":0.98862791703530806},{"$f":"+'[1]itcer resto del mundo'!BC145","v":0.99403140844741367},{"$f":"+'[1]itcer resto del mundo'!BD145","v":1.0229203376555653},{"$f":"+'[1]itcer resto del mundo'!BE145","v":1.0362376745762842},{"$f":"+'[1]itcer resto del mundo'!BF145","v":1.0153952165131619},null,{"$f":"+'[1]itcer resto del mundo'!BG145","v":0.92770339425554971},{"$f":"+'[1]itcer resto del mundo'!BH145","v":0.99177761804064712},{"$f":"+'[1]itcer resto del mundo'!BI145","v":0.97066084190230806},{"$f":"+'[1]itcer resto del mundo'!BJ145","v":0.94015026073041685},{"$f":"+'[1]itcer resto del mundo'!BK145","v":0.95093154235568178},{"$f":"+'[1]itcer resto del mundo'!BL145","v":0.95346897248577389}]
[null,"Julio",{"$f":"+'[1]itcer resto del mundo'!AK146","v":96.196980644279392},{"$f":"+'[1]itcer resto del mundo'!AL146","v":97.827192216507115},{"$f":"+'[1]itcer resto del mundo'!AM146","v":95.336169978497466},{"$f":"+'[1]itcer resto del mundo'!AN146","v":95.760395043043445},{"$f":"+'[1]itcer resto del mundo'!AO146","v":99.168062959862283},{"$f":"+'[1]itcer resto del mundo'!AP146","v":96.750754216017157},null,{"$f":"+'[1]itcer resto del mundo'!AS146","v":-0.22808971297284586},{"$f":"+'[1]itcer resto del mundo'!AT146","v":-0.22714132582277102},{"$f":"+'[1]itcer resto del mundo'!AU146","v":-1.1924606891671203},{"$f":"+'[1]itcer resto del mundo'!AV146","v":-0.42579564709485851},{"$f":"+'[1]itcer resto del mundo'!AW146","v":0.63827849974673256},{"$f":"+'[1]itcer resto del mundo'!AX146","v":-6.6135725689647984E-2},null,{"$f":"+'[1]itcer resto del mundo'!BA146","v":1.0457578454641558},{"$f":"+'[1]itcer resto del mundo'!BB146","v":0.98836426109253717},{"$f":"+'[1]itcer resto del mundo'!BC146","v":0.99316940433996537},{"$f":"+'[1]itcer resto del mundo'!BD146","v":1.02656294315259},{"$f":"+'[1]itcer resto del mundo'!BE146","v":1.0410946148448788},{"$f":"+'[1]itcer resto del mundo'!BF146","v":1.0149043990527855},null,{"$f":"+'[1]itcer resto del mundo'!BG146","v":0.91987816358750563},{"$f":"+'[1]itcer resto del mundo'!BH146","v":0.98978884675948331},{"$f":"+'[1]itcer resto del mundo'!BI146","v":0.95991851502770986},{"$f":"+'[1]itcer resto del mundo'!BJ146","v":0.93282536333292765},{"$f":"+'[1]itcer resto del mundo'!BK146","v":0.95253650864996686},{"$f":"+'[1]itcer resto del mundo'!BL146","v":0.95329919060667223}]
[null,"Agosto",{"$f":"+'[1]itcer resto del mundo'!AK147","v":97.259342576375587},{"$f":"+'[1]itcer resto del mundo'!AL147","v":98.43954569589846},{"$f":"+'[1]itcer resto del mundo'!AM147","v":95.472505704747022},{"$f":"+'[1]itcer resto del mundo'!AN147","v":96.100097850224401},{"$f":"+'[1]itcer resto del mundo'!AO147","v":100.31015637882722},{"$f":"+'[1]itcer resto del mundo'!AP147","v":96.825294140224059},null,{"$f":"+'[1]itcer resto del mundo'!AS147","v":1.1043609944730406},{"$f":"+'[1]itcer resto del mundo'!AT147","v":0.62595426232422824},{"$f":"+'[1]itcer resto del mundo'!AU147","v":0.14300524793506497},{"$f":"+'[1]itcer resto del mundo'!AV147","v":0.35474248725503799},{"$f":"+'[1]itcer resto del mundo'!AW147","v":1.1516746267668907},{"$f":"+'[1]itcer resto del mundo'!AX147","v":7.7043248717714619E-2},null,{"$f":"+'[1]itcer resto del mundo'!BA147","v":1.0650533132801463},{"$f":"+'[1]itcer resto del mundo'!BB147","v":0.99729411925556888},{"$f":"+'[1]itcer resto del mundo'!BC147","v":1.0061237263894847},{"$f":"+'[1]itcer resto del mundo'!BD147","v":1.0367852262660742},{"$f":"+'[1]itcer resto del mundo'!BE147","v":1.0544957726837099},{"$f":"+'[1]itcer resto del mundo'!BF147","v":1.0225529922324816},null,{"$f":"+'[1]itcer resto del mundo'!BG147","v":0.91318754999068263},{"$f":"+'[1]itcer resto del mundo'!BH147","v":0.98706634076393351},{"$f":"+'[1]itcer resto del mundo'!BI147","v":0.94891416632578529},{"$f":"+'[1]itcer resto del mundo'!BJ147","v":0.92690458366506323},{"$f":"+'[1]itcer resto del mundo'!BK147","v":0.95126181609563165},{"$f":"+'[1]itcer resto del mundo'!BL147","v":0.94689756790825019}]
[null,"Septiembre",{"$f":"+'[1]itcer resto del mundo'!AK148","v":97.755287678636151},{"$f":"+'[1]itcer resto del mundo'!AL148","v":98.851252547196182},{"$f":"+'[1]itcer resto del mundo'!AM148","v":96.637035610272818},{"$f":"+'[1]itcer resto del mundo'!AN148","v":96.287858394420397},{"$f":"+'[1]itcer resto del mundo'!AO148","v":101.25595651205478},{"$f":"+'[1]itcer resto del mundo'!AP148","v":96.363103584432125},null,{"$f":"+'[1]itcer resto del mundo'!AS148","v":0.50992026999475115},{"$f":"+'[1]itcer resto del mundo'!AT148","v":0.41823318909818852},{"$f":"+'[1]itcer resto del mundo'!AU148","v":1.2197542076953169},{"$f":"+'[1]itcer resto del mundo'!AV148","v":0.19538018003750324},{"$f":"+'[1]itcer resto del mundo'!AW148","v":0.94287574396325624},{"$f":"+'[1]itcer resto del mundo'!AX148","v":-0.47734485073969779},null,{"$f":"+'[1]itcer resto del mundo'!BA148","v":1.0722935562574851},{"$f":"+'[1]itcer resto del mundo'!BB148","v":0.99686847389850697},{"$f":"+'[1]itcer resto del mundo'!BC148","v":1.0167619636884795},{"$f":"+'[1]itcer resto del mundo'!BD148","v":1.0424641766273723},{"$f":"+'[1]itcer resto del mundo'!BE148","v":1.0601195116120912},{"$f":"+'[1]itcer resto del mundo'!BF148","v":1.0223824285074739},null,{"$f":"+'[1]itcer resto del mundo'!BG148","v":0.91164669514401708},{"$f":"+'[1]itcer resto del mundo'!BH148","v":0.99161780250320586},{"$f":"+'[1]itcer resto del mundo'!BI148","v":0.95043912991891732},{"$f":"+'[1]itcer resto del mundo'!BJ148","v":0.92365628050582271},{"$f":"+'[1]itcer resto del mundo'!BK148","v":0.9551371840904801},{"$f":"+'[1]itcer resto del mundo'!BL148","v":0.94253481767197345}]
[null,"Octubre",{"$f":"+'[1]itcer resto del mundo'!AK149","v":98.137881269870135},{"$f":"+'[1]itcer resto del mundo'!AL149","v":99.910830585328455},{"$f":"+'[1]itcer resto del mundo'!AM149","v":97.595878445280434},{"$f":"+'[1]itcer resto del mundo'!AN149","v":96.318646973394038},{"$f":"+'[1]itcer resto del mundo'!AO149","v":101.57232549568388},{"$f":"+'[1]itcer resto del mundo'!AP149","v":95.829471757007127},null,{"$f":"+'[1]itcer resto del mundo'!AS149","v":0.39137892212208669},{"$f":"+'[1]itcer resto del mundo'!AT149","v":1.0718913628599438},{"$f":"+'[1]itcer resto del mundo'!AU149","v":0.99221052151736444},{"$f":"+'[1]itcer resto del mundo'!AV149","v":3.1975556925914361E-2},{"$f":"+'[1]itcer resto del mundo'!AW149","v":0.31244481265795798},{"$f":"+'[1]itcer resto del mundo'!AX149","v":-0.55377193923339973},null,{"$f":"+'[1]itcer resto del mundo'!BA149","v":1.0777561512885176},{"$f":"+'[1]itcer resto del mundo'!BB149","v":0.99569760570014809},{"$f":"+'[1]itcer resto del mundo'!BC149","v":1.0361015322354019},{"$f":"+'[1]itcer resto del mundo'!BD149","v":1.0467834429239555},{"$f":"+'[1]itcer resto del mundo'!BE149","v":1.0668107552191162},{"$f":"+'[1]itcer resto del mundo'!BF149","v":1.021168045906427},null,{"$f":"+'[1]itcer resto del mundo'!BG149","v":0.91057593271484294},{"$f":"+'[1]itcer resto del mundo'!BH149","v":1.00342543773693},{"$f":"+'[1]itcer resto del mundo'!BI149","v":0.94195284350864827},{"$f":"+'[1]itcer resto del mundo'!BJ149","v":0.92013919043607939},{"$f":"+'[1]itcer resto del mundo'!BK149","v":0.95211193736813771},{"$f":"+'[1]itcer resto del mundo'!BL149","v":0.93842998849366954}]
[null,"Noviembre",{"$f":"+'[1]itcer resto del mundo'!AK150","v":97.48384426325137},{"$f":"+'[1]itcer resto del mundo'!AL150","v":98.242280824414337},{"$f":"+'[1]itcer resto del mundo'!AM150","v":96.34066004960394},{"$f":"+'[1]itcer resto del mundo'!AN150","v":96.16970140650443},{"$f":"+'[1]itcer resto del mundo'!AO150","v":100.70697975691249},{"$f":"+'[1]itcer resto del mundo'!AP150","v":96.157985943218378},null,{"$f":"+'[1]itcer resto del mundo'!AS150","v":-0.6664470418107129},{"$f":"+'[1]itcer resto del mundo'!AT150","v":-1.6700389248481997},{"$f":"+'[1]itcer resto del mundo'!AU150","v":-1.2861387342092172},{"$f":"+'[1]itcer resto del mundo'!AV150","v":-0.15463835048549868},{"$f":"+'[1]itcer resto del mundo'!AW150","v":-0.85195030688566931},{"$f":"+'[1]itcer resto del mundo'!AX150","v":0.34281122517742801},null,{"$f":"+'[1]itcer resto del mundo'!BA150","v":1.0816017185452289},{"$f":"+'[1]itcer resto del mundo'!BB150","v":0.99313550870796607},{"$f":"+'[1]itcer resto del mundo'!BC150","v":1.031352328218643},{"$f":"+'[1]itcer resto del mundo'!BD150","v":1.0520610600843454},{"$f":"+'[1]itcer resto del mundo'!BE150","v":1.0646770086560096},{"$f":"+'[1]itcer resto del mundo'!BF150","v":1.0251573807610368},null,{"$f":"+'[1]itcer resto del mundo'!BG150","v":0.90129150676987324},{"$f":"+'[1]itcer resto del mundo'!BH150","v":0.98921325401227511},{"$f":"+'[1]itcer resto del mundo'!BI150","v":0.93411977084498399},{"$f":"+'[1]itcer resto del mundo'!BJ150","v":0.91410760321073348},{"$f":"+'[1]itcer resto del mundo'!BK150","v":0.94589231229891513},{"$f":"+'[1]itcer resto del mundo'!BL150","v":0.93798267220038412}]
[null,"Diciembre",{"$f":"+'[1]itcer resto del mundo'!AK151","v":97.044056774940429},{"$f":"+'[1]itcer resto del mundo'!AL151","v":99.106527306497185},{"$f":"+'[1]itcer resto del mundo'!AM151","v":94.100412698078998},{"$f":"+'[1]itcer resto del mundo'!AN151","v":95.979670143345302},{"$f":"+'[1]itcer resto del mundo'!AO151","v":100.43084176640595},{"$f":"+'[1]itcer resto del mundo'!AP151","v":96.830849356314516},null,{"$f":"+'[1]itcer resto del mundo'!AS151","v":-0.45113884422049466},{"$f":"+'[1]itcer resto del mundo'!AT151","v":0.87970930115872648},{"$f":"+'[1]itcer resto del mundo'!AU151","v":-2.3253394261275417},{"$f":"+'[1]itcer resto del mundo'!AV151","v":-0.19759993051852121},{"$f":"+'[1]itcer resto del mundo'!AW151","v":-0.27419945586004246},{"$f":"+'[1]itcer resto del mundo'!AX151","v":0.6997478228105507},null,{"$f":"+'[1]itcer resto del mundo'!BA151","v":1.0896834795697603},{"$f":"+'[1]itcer resto del mundo'!BB151","v":0.99268880562862782},{"$f":"+'[1]itcer resto del mundo'!BC151","v":1.0151117664158982},{"$f":"+'[1]itcer resto del mundo'!BD151","v":1.0558430202578344},{"$f":"+'[1]itcer resto del mundo'!BE151","v":1.0640075458916696},{"$f":"+'[1]itcer resto del mundo'!BF151","v":1.0370361272908548},null,{"$f":"+'[1]itcer resto del mundo'!BG151","v":0.8905710565902708},{"$f":"+'[1]itcer resto del mundo'!BH151","v":0.99836451005143745},{"$f":"+'[1]itcer resto del mundo'!BI151","v":0.92699558621336486},{"$f":"+'[1]itcer resto del mundo'!BJ151","v":0.90903352394096715},{"$f":"+'[1]itcer resto del mundo'!BK151","v":0.94389219469531083},{"$f":"+'[1]itcer resto del mundo'!BL151","v":0.93372686648125458}]
[2002,"Enero",{"$f":"+'[1]itcer resto del mundo'!AK152","v":96.431206095130861},{"$f":"+'[1]itcer resto del mundo'!AL152","v":97.799291288768728},{"$f":"+'[1]itcer resto del mundo'!AM152","v":93.522458189199753},{"$f":"+'[1]itcer resto del mundo'!AN152","v":96.032834673945061},{"$f":"+'[1]itcer resto del mundo'!AO152","v":100.55100647440767},{"$f":"+'[1]itcer resto del mundo'!AP152","v":96.643140063557212},null,{"$f":"+'[1]itcer resto del mundo'!AS152","v":-0.63151799314290713},{"$f":"+'[1]itcer resto del mundo'!AT152","v":-1.3190211111783725},{"$f":"+'[1]itcer resto del mundo'!AU152","v":-0.61418913297821121},{"$f":"+'[1]itcer resto del mundo'!AV152","v":5.5391449585485475E-2},{"$f":"+'[1]itcer resto del mundo'!AW152","v":0.11964920923517752},{"$f":"+'[1]itcer resto del mundo'!AX152","v":-0.19385277936227396},null,{"$f":"+'[1]itcer resto del mundo'!BA152","v":1.0920058218377473},{"$f":"+'[1]itcer resto del mundo'!BB152","v":0.98882394876904367},{"$f":"+'[1]itcer resto del mundo'!BC152","v":1.0189116214964773},{"$f":"+'[1]itcer resto del mundo'!BD152","v":1.0576188212166413},{"$f":"+'[1]itcer resto del mundo'!BE152","v":1.0647875731310761},{"$f":"+'[1]itcer resto del mundo'!BF152","v":1.0381459149229511},null,{"$f":"+'[1]itcer resto del mundo'!BG152","v":0.88306494495465093},{"$f":"+'[1]itcer resto del mundo'!BH152","v":0.98904654777542589},{"$f":"+'[1]itcer resto del mundo'!BI152","v":0.91786624292147279},{"$f":"+'[1]itcer resto del mundo'!BJ152","v":0.90800988737580146},{"$f":"+'[1]itcer resto del mundo'!BK152","v":0.94432926352371849},{"$f":"+'[1]itcer resto del mundo'!BL152","v":0.93092058326627292}]
[null,"Febrero",{"$f":"+'[1]itcer resto del mundo'!AK153","v":96.707608831978604},{"$f":"+'[1]itcer resto del mundo'!AL153","v":97.508296666298634},{"$f":"+'[1]itcer resto del mundo'!AM153","v":91.947180874724296},{"$f":"+'[1]itcer resto del mundo'!AN153","v":95.663504420641161},{"$f":"+'[1]itcer resto del mundo'!AO153","v":100.11825703423555},{"$f":"+'[1]itcer resto del mundo'!AP153","v":97.249234236458236},null,{"$f":"+'[1]itcer resto del mundo'!AS153","v":0.28663204375465057},{"$f":"+'[1]itcer resto del mundo'!AT153","v":-0.29754266992681266},{"$f":"+'[1]itcer resto del mundo'!AU153","v":-1.6843839917986401},{"$f":"+'[1]itcer resto del mundo'!AV153","v":-0.38458747422990314},{"$f":"+'[1]itcer resto del mundo'!AW153","v":-0.43037802936588321},{"$f":"+'[1]itcer resto del mundo'!AX153","v":0.62714660606270911},null,{"$f":"+'[1]itcer resto del mundo'!BA153","v":1.0974637281149886},{"$f":"+'[1]itcer resto del mundo'!BB153","v":0.98663143589483882},{"$f":"+'[1]itcer resto del mundo'!BC153","v":1.0080637612372512},{"$f":"+'[1]itcer resto del mundo'!BD153","v":1.061907616451943},{"$f":"+'[1]itcer resto del mundo'!BE153","v":1.0665726378479308},{"$f":"+'[1]itcer resto del mundo'!BF153","v":1.0423109692886676},null,{"$f":"+'[1]itcer resto del mundo'!BG153","v":0.88119184583971877},{"$f":"+'[1]itcer resto del mundo'!BH153","v":0.988295052426159},{"$f":"+'[1]itcer resto del mundo'!BI153","v":0.91211671731828303},{"$f":"+'[1]itcer resto del mundo'!BJ153","v":0.9008646603390329},{"$f":"+'[1]itcer resto del mundo'!BK153","v":0.9386914072373771},{"$f":"+'[1]itcer resto del mundo'!BL153","v":0.93301555007932668}]
[null,"Marzo",{"$f":"+'[1]itcer resto del mundo'!AK154","v":97.600010259649949},{"$f":"+'[1]itcer resto del mundo'!AL154","v":97.700019754607467},{"$f":"+'[1]itcer resto del mundo'!AM154","v":91.755046170402267},{"$f":"+'[1]itcer resto del mundo'!AN154","v":96.330453260953547},{"$f":"+'[1]itcer resto del mundo'!AO154","v":101.14629206067002},{"$f":"+'[1]itcer resto del mundo'!AP154","v":96.883874434270368},null,{"$f":"+'[1]itcer resto del mundo'!AS154","v":0.92278305549029938},{"$f":"+'[1]itcer resto del mundo'!AT154","v":0.19662233354867453},{"$f":"+'[1]itcer resto del mundo'!AU154","v":-0.20896203939500424},{"$f":"+'[1]itcer resto del mundo'!AV154","v":0.69718211176935085},{"$f":"+'[1]itcer resto del mundo'!AW154","v":1.026820738681991},{"$f":"+'[1]itcer resto del mundo'!AX154","v":-0.3756942715862408},null,{"$f":"+'[1]itcer resto del mundo'!BA154","v":1.1103820158572659},{"$f":"+'[1]itcer resto del mundo'!BB154","v":0.98911643618426759},{"$f":"+'[1]itcer resto del mundo'!BC154","v":1.0070150434260889},{"$f":"+'[1]itcer resto del mundo'!BD154","v":1.0697345932623055},{"$f":"+'[1]itcer resto del mundo'!BE154","v":1.0751868113071166},{"$f":"+'[1]itcer resto del mundo'!BF154","v":1.0446928550496131},null,{"$f":"+'[1]itcer resto del mundo'!BG154","v":0.87897686441092315},{"$f":"+'[1]itcer resto del mundo'!BH154","v":0.98775044252127309},{"$f":"+'[1]itcer resto del mundo'!BI154","v":0.91115864424657678},{"$f":"+'[1]itcer resto del mundo'!BJ154","v":0.90050797522757819},{"$f":"+'[1]itcer resto del mundo'!BK154","v":0.94073226156583312},{"$f":"+'[1]itcer resto del mundo'!BL154","v":0.92739099311317952}]
[null,"Abril",{"$f":"+'[1]itcer resto del mundo'!AK155","v":98.88511774488137},{"$f":"+'[1]itcer resto del mundo'!AL155","v":97.92136677746592},{"$f":"+'[1]itcer resto del mundo'!AM155","v":90.726321678258685},{"$f":"+'[1]itcer resto del mundo'!AN155","v":96.719142045325754},{"$f":"+'[1]itcer resto del mundo'!AO155","v":101.64661510205764},{"$f":"+'[1]itcer resto del mundo'!AP155","v":99.11386868264816},null,{"$f":"+'[1]itcer resto del mundo'!AS155","v":1.3167083505550892},{"$f":"+'[1]itcer resto del mundo'!AT155","v":0.22655780767948386},{"$f":"+'[1]itcer resto del mundo'!AU155","v":-1.121163941472048},{"$f":"+'[1]itcer resto del mundo'!AV155","v":0.40349523044314139},{"$f":"+'[1]itcer resto del mundo'!AW155","v":0.49465287475641162},{"$f":"+'[1]itcer resto del mundo'!AX155","v":2.3017186930222238},null,{"$f":"+'[1]itcer resto del mundo'!BA155","v":1.1214122479988125},{"$f":"+'[1]itcer resto del mundo'!BB155","v":0.99012293538414786},{"$f":"+'[1]itcer resto del mundo'!BC155","v":0.99615259970644232},{"$f":"+'[1]itcer resto del mundo'!BD155","v":1.0762773665369767},{"$f":"+'[1]itcer resto del mundo'!BE155","v":1.0815603941515426},{"$f":"+'[1]itcer resto del mundo'!BF155","v":1.0705101514364277},null,{"$f":"+'[1]itcer resto del mundo'!BG155","v":0.88179095530073148},{"$f":"+'[1]itcer resto del mundo'!BH155","v":0.988981905963772},{"$f":"+'[1]itcer resto del mundo'!BI155","v":0.91076730317217414},{"$f":"+'[1]itcer resto del mundo'!BJ155","v":0.89864513602593599},{"$f":"+'[1]itcer resto del mundo'!BK155","v":0.93981450921931076},{"$f":"+'[1]itcer resto del mundo'!BL155","v":0.92585641107331473}]
[null,"Mayo",{"$f":"+'[1]itcer resto del mundo'!AK156","v":99.862437181536521},{"$f":"+'[1]itcer resto del mundo'!AL156","v":98.400019570089356},{"$f":"+'[1]itcer resto del mundo'!AM156","v":91.07887589216854},{"$f":"+'[1]itcer resto del mundo'!AN156","v":97.266312816595686},{"$f":"+'[1]itcer resto del mundo'!AO156","v":102.42965046830197},{"$f":"+'[1]itcer resto del mundo'!AP156","v":99.873424256620865},null,{"$f":"+'[1]itcer resto del mundo'!AS156","v":0.98833824436208317},{"$f":"+'[1]itcer resto del mundo'!AT156","v":0.48881343099634478},{"$f":"+'[1]itcer resto del mundo'!AU156","v":0.38859088232420902},{"$f":"+'[1]itcer resto del mundo'!AV156","v":0.56573162219895323},{"$f":"+'[1]itcer resto del mundo'!AW156","v":0.77035065600377095},{"$f":"+'[1]itcer resto del mundo'!AX156","v":0.76634640950675248},null,{"$f":"+'[1]itcer resto del mundo'!BA156","v":1.1387448033864089},{"$f":"+'[1]itcer resto del mundo'!BB156","v":0.99413173526731036},{"$f":"+'[1]itcer resto del mundo'!BC156","v":1.0029258138707915},{"$f":"+'[1]itcer resto del mundo'!BD156","v":1.0870234417703599},{"$f":"+'[1]itcer resto del mundo'!BE156","v":1.0942361588385718},{"$f":"+'[1]itcer resto del mundo'!BF156","v":1.0742882713628124},null,{"$f":"+'[1]itcer resto del mundo'!BG156","v":0.8769518586127879},{"$f":"+'[1]itcer resto del mundo'!BH156","v":0.98980865492268733},{"$f":"+'[1]itcer resto del mundo'!BI156","v":0.90813173449638984},{"$f":"+'[1]itcer resto del mundo'!BJ156","v":0.89479498858078699},{"$f":"+'[1]itcer resto del mundo'!BK156","v":0.93608358342884024},{"$f":"+'[1]itcer resto del mundo'!BL156","v":0.92967061932012163}]
[null,"Junio",{"$f":"+'[1]itcer resto del mundo'!AK157","v":101.0894150269895},{"$f":"+'[1]itcer resto del mundo'!AL157","v":98.388856188015154},{"$f":"+'[1]itcer resto del mundo'!AM157","v":91.253668303705879},{"$f":"+'[1]itcer resto del mundo'!AN157","v":97.276764971317888},{"$f":"+'[1]itcer resto del mundo'!AO157","v":103.64411382111494},{"$f":"+'[1]itcer resto del mundo'!AP157","v":100.30107182386926},null,{"$f":"+'[1]itcer resto del mundo'!AS157","v":1.2286680358326407},{"$f":"+'[1]itcer resto del mundo'!AT157","v":-1.1344898225601696E-2},{"$f":"+'[1]itcer resto del mundo'!AU157","v":0.19191322886359785},{"$f":"+'[1]itcer resto del mundo'!AV157","v":1.0745914407081614E-2},{"$f":"+'[1]itcer resto del mundo'!AW157","v":1.1856560549221058},{"$f":"+'[1]itcer resto del mundo'!AX157","v":0.42818955135611247},null,{"$f":"+'[1]itcer resto del mundo'!BA157","v":1.1591213406445251},{"$f":"+'[1]itcer resto del mundo'!BB157","v":0.99965321192488454},{"$f":"+'[1]itcer resto del mundo'!BC157","v":1.0095365999858978},{"$f":"+'[1]itcer resto del mundo'!BD157","v":1.0987372735491259},{"$f":"+'[1]itcer resto del mundo'!BE157","v":1.1081627266551124},{"$f":"+'[1]itcer resto del mundo'!BF157","v":1.0792640382150018},null,{"$f":"+'[1]itcer resto del mundo'!BG157","v":0.87212107552759843},{"$f":"+'[1]itcer resto del mundo'!BH157","v":0.98422988106607756},{"$f":"+'[1]itcer resto del mundo'!BI157","v":0.90391639396709922},{"$f":"+'[1]itcer resto del mundo'!BJ157","v":0.88535055024661025},{"$f":"+'[1]itcer resto del mundo'!BK157","v":0.93527882979745403},{"$f":"+'[1]itcer resto del mundo'!BL157","v":0.92934692783572714}]
[null,"Julio",{"$f":"+'[1]itcer resto del mundo'!AK158","v":101.70315148771905},{"$f":"+'[1]itcer resto del mundo'!AL158","v":99.116122466230053},{"$f":"+'[1]itcer resto del mundo'!AM158","v":90.629737092405549},{"$f":"+'[1]itcer resto del mundo'!AN158","v":97.806318616948616},{"$f":"+'[1]itcer resto del mundo'!AO158","v":104.63631918322672},{"$f":"+'[1]itcer resto del mundo'!AP158","v":100.70161427050353},null,{"$f":"+'[1]itcer resto del mundo'!AS158","v":0.60712237830804838},{"$f":"+'[1]itcer resto del mundo'!AT158","v":0.7391754578639933},{"$f":"+'[1]itcer resto del mundo'!AU158","v":-0.68373274510324222},{"$f":"+'[1]itcer resto del mundo'!AV158","v":0.544378347477803},{"$f":"+'[1]itcer resto del mundo'!AW158","v":0.95731954814557696},{"$f":"+'[1]itcer resto del mundo'!AX158","v":0.39934014597334055},null,{"$f":"+'[1]itcer resto del mundo'!BA158","v":1.182463035069782},{"$f":"+'[1]itcer resto del mundo'!BB158","v":1.0079196524092866},{"$f":"+'[1]itcer resto del mundo'!BC158","v":1.009811132539133},{"$f":"+'[1]itcer resto del mundo'!BD158","v":1.1128114799969036},{"$f":"+'[1]itcer resto del mundo'!BE158","v":1.1196323593076514},{"$f":"+'[1]itcer resto del mundo'!BF158","v":1.0870257727006338},null,{"$f":"+'[1]itcer resto del mundo'!BG158","v":0.86009582093800629},{"$f":"+'[1]itcer resto del mundo'!BH158","v":0.98337325033108791},{"$f":"+'[1]itcer resto del mundo'!BI158","v":0.89749195836770412},{"$f":"+'[1]itcer resto del mundo'!BJ158","v":0.87891184064007655},{"$f":"+'[1]itcer resto del mundo'!BK158","v":0.93455961962309519},{"$f":"+'[1]itcer resto del mundo'!BL158","v":0.92639582979084245}]
[null,"Agosto",{"$f":"+'[1]itcer resto del mundo'!AK159","v":101.11838977383778},{"$f":"+'[1]itcer resto del mundo'!AL159","v":99.398092960258509},{"$f":"+'[1]itcer resto del mundo'!AM159","v":89.619988932951259},{"$f":"+'[1]itcer resto del mundo'!AN159","v":97.639789560381075},{"$f":"+'[1]itcer resto del mundo'!AO159","v":104.86987207956147},{"$f":"+'[1]itcer resto del mundo'!AP159","v":99.791849276105509},null,{"$f":"+'[1]itcer resto del mundo'!AS159","v":-0.57496911878082813},{"$f":"+'[1]itcer resto del mundo'!AT159","v":0.28448499296824536},{"$f":"+'[1]itcer resto del mundo'!AU159","v":-1.1141466276402809},{"$f":"+'[1]itcer resto del mundo'!AV159","v":-0.17026410862037267},{"$f":"+'[1]itcer resto del mundo'!AW159","v":0.22320442668267049},{"$f":"+'[1]itcer resto del mundo'!AX159","v":-0.90342642567200926},null,{"$f":"+'[1]itcer resto del mundo'!BA159","v":1.1865276854981741},{"$f":"+'[1]itcer resto del mundo'!BB159","v":1.0041476789828208},{"$f":"+'[1]itcer resto del mundo'!BC159","v":0.99537665362474059},{"$f":"+'[1]itcer resto del mundo'!BD159","v":1.1147561663880072},{"$f":"+'[1]itcer resto del mundo'!BE159","v":1.1201592245594045},{"$f":"+'[1]itcer resto del mundo'!BF159","v":1.0836409984412572},null,{"$f":"+'[1]itcer resto del mundo'!BG159","v":0.85222107338677322},{"$f":"+'[1]itcer resto del mundo'!BH159","v":0.98987524485389011},{"$f":"+'[1]itcer resto del mundo'!BI159","v":0.90036257738809911},{"$f":"+'[1]itcer resto del mundo'!BJ159","v":0.8758847226362515},{"$f":"+'[1]itcer resto del mundo'!BK159","v":0.93620504817795203},{"$f":"+'[1]itcer resto del mundo'!BL159","v":0.92089399920867898}]
[null,"Septiembre",{"$f":"+'[1]itcer resto del mundo'!AK160","v":101.54983897496967},{"$f":"+'[1]itcer resto del mundo'!AL160","v":99.671982778221633},{"$f":"+'[1]itcer resto del mundo'!AM160","v":89.83759160820928},{"$f":"+'[1]itcer resto del mundo'!AN160","v":98.009100334275558},{"$f":"+'[1]itcer resto del mundo'!AO160","v":104.89892710820092},{"$f":"+'[1]itcer resto del mundo'!AP160","v":98.352223795860198},null,{"$f":"+'[1]itcer resto del mundo'!AS160","v":0.4266772859980108},{"$f":"+'[1]itcer resto del mundo'!AT160","v":0.27554836295766449},{"$f":"+'[1]itcer resto del mundo'!AU160","v":0.24280596086751416},{"$f":"+'[1]itcer resto del mundo'!AV160","v":0.37823798633456818},{"$f":"+'[1]itcer resto del mundo'!AW160","v":2.770579200992529E-2},{"$f":"+'[1]itcer resto del mundo'!AX160","v":-1.4426283215397007},null,{"$f":"+'[1]itcer resto del mundo'!BA160","v":1.1938001330177139},{"$f":"+'[1]itcer resto del mundo'!BB160","v":1.0013652953390886},{"$f":"+'[1]itcer resto del mundo'!BC160","v":0.99301129678611555},{"$f":"+'[1]itcer resto del mundo'!BD160","v":1.1185696200227309},{"$f":"+'[1]itcer resto del mundo'!BE160","v":1.1237292096160896},{"$f":"+'[1]itcer resto del mundo'!BF160","v":1.0808919388626892},null,{"$f":"+'[1]itcer resto del mundo'!BG160","v":0.85064355553613291},{"$f":"+'[1]itcer resto del mundo'!BH160","v":0.99536086623084019},{"$f":"+'[1]itcer resto del mundo'!BI160","v":0.90469858599765129},{"$f":"+'[1]itcer resto del mundo'!BJ160","v":0.87620027023694647},{"$f":"+'[1]itcer resto del mundo'!BK160","v":0.93348936924082049},{"$f":"+'[1]itcer resto del mundo'!BL160","v":0.90991726609920021}]
[null,"Octubre",{"$f":"+'[1]itcer resto del mundo'!AK161","v":101.84172915288116},{"$f":"+'[1]itcer resto del mundo'!AL161","v":99.608023223916661},{"$f":"+'[1]itcer resto del mundo'!AM161","v":89.02492717557908},{"$f":"+'[1]itcer resto del mundo'!AN161","v":98.021729476098912},{"$f":"+'[1]itcer resto del mundo'!AO161","v":105.26209902524721},{"$f":"+'[1]itcer resto del mundo'!AP161","v":95.618917172219398},null,{"$f":"+'[1]itcer resto del mundo'!AS161","v":0.2874353921756807},{"$f":"+'[1]itcer resto del mundo'!AT161","v":-6.4170043097561802E-2},{"$f":"+'[1]itcer resto del mundo'!AU161","v":-0.9045928525937228},{"$f":"+'[1]itcer resto del mundo'!AV161","v":1.2885682839950618E-2},{"$f":"+'[1]itcer resto del mundo'!AW161","v":0.34621127885480973},{"$f":"+'[1]itcer resto del mundo'!AX161","v":-2.7790999716631291},null,{"$f":"+'[1]itcer resto del mundo'!BA161","v":1.2026291565247225},{"$f":"+'[1]itcer resto del mundo'!BB161","v":1.0000227594106654},{"$f":"+'[1]itcer resto del mundo'!BC161","v":0.98470921472720951},{"$f":"+'[1]itcer resto del mundo'!BD161","v":1.1229136012391063},{"$f":"+'[1]itcer resto del mundo'!BE161","v":1.1262659497246825},{"$f":"+'[1]itcer resto del mundo'!BF161","v":1.0793799735905967},null,{"$f":"+'[1]itcer resto del mundo'!BG161","v":0.84682571181939914},{"$f":"+'[1]itcer resto del mundo'!BH161","v":0.99605756255605382},{"$f":"+'[1]itcer resto del mundo'!BI161","v":0.90407326187397719},{"$f":"+'[1]itcer resto del mundo'!BJ161","v":0.87292316495173305},{"$f":"+'[1]itcer resto del mundo'!BK161","v":0.93461139485730427},{"$f":"+'[1]itcer resto del mundo'!BL161","v":0.88586892022963504}]
[null,"Noviembre",{"$f":"+'[1]itcer resto del mundo'!AK162","v":102.28547994168176},{"$f":"+'[1]itcer resto del mundo'!AL162","v":100.2307623144812},{"$f":"+'[1]itcer resto del mundo'!AM162","v":87.571517083018236},{"$f":"+'[1]itcer resto del mundo'!AN162","v":98.205973710296149},{"$f":"+'[1]itcer resto del mundo'!AO162","v":106.41818409975946},{"$f":"+'[1]itcer resto del mundo'!AP162","v":95.51132611474354},null,{"$f":"+'[1]itcer resto del mundo'!AS162","v":0.43572589791209282},{"$f":"+'[1]itcer resto del mundo'!AT162","v":0.6251896889516928},{"$f":"+'[1]itcer resto del mundo'!AU162","v":-1.632587791612977},{"$f":"+'[1]itcer resto del mundo'!AV162","v":0.18796264377498062},{"$f":"+'[1]itcer resto del mundo'!AW162","v":1.0982918687902696},{"$f":"+'[1]itcer resto del mundo'!AX162","v":-0.11252068174133001},null,{"$f":"+'[1]itcer resto del mundo'!BA162","v":1.2194862961005284},{"$f":"+'[1]itcer resto del mundo'!BB162","v":1.0035251500030564},{"$f":"+'[1]itcer resto del mundo'!BC162","v":0.97189233931755215},{"$f":"+'[1]itcer resto del mundo'!BD162","v":1.1316554653697899},{"$f":"+'[1]itcer resto del mundo'!BE162","v":1.1353805756322883},{"$f":"+'[1]itcer resto del mundo'!BF162","v":1.0826281871222434},null,{"$f":"+'[1]itcer resto del mundo'!BG162","v":0.83875874840704101},{"$f":"+'[1]itcer resto del mundo'!BH162","v":0.99878675002989159},{"$f":"+'[1]itcer resto del mundo'!BI162","v":0.9010413349333487},{"$f":"+'[1]itcer resto del mundo'!BJ162","v":0.8678080627499597},{"$f":"+'[1]itcer resto del mundo'!BK162","v":0.9372908642592872},{"$f":"+'[1]itcer resto del mundo'!BL162","v":0.88221724919821443}]
[null,"Diciembre",{"$f":"+'[1]itcer resto del mundo'!AK163","v":102.82766484506382},{"$f":"+'[1]itcer resto del mundo'!AL163","v":100.1756642763724},{"$f":"+'[1]itcer resto del mundo'!AM163","v":87.603915287632361},{"$f":"+'[1]itcer resto del mundo'!AN163","v":98.117426373577956},{"$f":"+'[1]itcer resto del mundo'!AO163","v":106.30613647047949},{"$f":"+'[1]itcer resto del mundo'!AP163","v":93.927476821983163},null,{"$f":"+'[1]itcer resto del mundo'!AS163","v":0.53007025404896524},{"$f":"+'[1]itcer resto del mundo'!AT163","v":-5.4971185329236505E-2},{"$f":"+'[1]itcer resto del mundo'!AU163","v":3.6996281089216154E-2},{"$f":"+'[1]itcer resto del mundo'!AV163","v":-9.0164919070403471E-2},{"$f":"+'[1]itcer resto del mundo'!AW163","v":-0.10528992787072866},{"$f":"+'[1]itcer resto del mundo'!AX163","v":-1.6582842655305683},null,{"$f":"+'[1]itcer resto del mundo'!BA163","v":1.23508997021856},{"$f":"+'[1]itcer resto del mundo'!BB163","v":1.0060649339055512},{"$f":"+'[1]itcer resto del mundo'!BC163","v":0.97822503127217497},{"$f":"+'[1]itcer resto del mundo'!BD163","v":1.1394384557027548},{"$f":"+'[1]itcer resto del mundo'!BE163","v":1.1421009455761622},{"$f":"+'[1]itcer resto del mundo'!BF163","v":1.0847316859881289},null,{"$f":"+'[1]itcer resto del mundo'!BG163","v":0.83255201907977228},{"$f":"+'[1]itcer resto del mundo'!BH163","v":0.99571768084083567},{"$f":"+'[1]itcer resto del mundo'!BI163","v":0.89553949742733596},{"$f":"+'[1]itcer resto del mundo'!BJ163","v":0.86110334333997429},{"$f":"+'[1]itcer resto del mundo'!BK163","v":0.93079457540288313},{"$f":"+'[1]itcer resto del mundo'!BL163","v":0.86590516378638471}]
[2003,"Enero",{"$f":"+'[1]itcer resto del mundo'!AK164","v":104.02480471381466},{"$f":"+'[1]itcer resto del mundo'!AL164","v":99.743996897978093},{"$f":"+'[1]itcer resto del mundo'!AM164","v":88.657112798202562},{"$f":"+'[1]itcer resto del mundo'!AN164","v":98.584127761119603},{"$f":"+'[1]itcer resto del mundo'!AO164","v":106.75865379195587},{"$f":"+'[1]itcer resto del mundo'!AP164","v":91.572550856735319},null,{"$f":"+'[1]itcer resto del mundo'!AS164","v":1.1642196392912751},{"$f":"+'[1]itcer resto del mundo'!AT164","v":-0.43091042271842639},{"$f":"+'[1]itcer resto del mundo'!AU164","v":1.2022265296159418},{"$f":"+'[1]itcer resto del mundo'!AV164","v":0.47565596122008458},{"$f":"+'[1]itcer resto del mundo'!AW164","v":0.42567375365206317},{"$f":"+'[1]itcer resto del mundo'!AX164","v":-2.5071747319594664},null,{"$f":"+'[1]itcer resto del mundo'!BA164","v":1.2541568909975915},{"$f":"+'[1]itcer resto del mundo'!BB164","v":1.0105393837793881},{"$f":"+'[1]itcer resto del mundo'!BC164","v":0.99829645291133029},{"$f":"+'[1]itcer resto del mundo'!BD164","v":1.1508521241427945},{"$f":"+'[1]itcer resto del mundo'!BE164","v":1.1544533263930097},{"$f":"+'[1]itcer resto del mundo'!BF164","v":1.0887662397962965},null,{"$f":"+'[1]itcer resto del mundo'!BG164","v":0.82944012396304279},{"$f":"+'[1]itcer resto del mundo'!BH164","v":0.9870372050710029},{"$f":"+'[1]itcer resto del mundo'!BI164","v":0.88808402093037553},{"$f":"+'[1]itcer resto del mundo'!BJ164","v":0.85661854979456564},{"$f":"+'[1]itcer resto del mundo'!BK164","v":0.9247550451044575},{"$f":"+'[1]itcer resto del mundo'!BL164","v":0.84106714104092828}]
[null,"Febrero",{"$f":"+'[1]itcer resto del mundo'!AK165","v":104.74972674179533},{"$f":"+'[1]itcer resto del mundo'!AL165","v":100.02209398958236},{"$f":"+'[1]itcer resto del mundo'!AM165","v":88.728420895303344},{"$f":"+'[1]itcer resto del mundo'!AN165","v":98.425984286460775},{"$f":"+'[1]itcer resto del mundo'!AO165","v":106.20221041657102},{"$f":"+'[1]itcer resto del mundo'!AP165","v":91.629739541273935},null,{"$f":"+'[1]itcer resto del mundo'!AS165","v":0.69687420223955598},{"$f":"+'[1]itcer resto del mundo'!AT165","v":0.27881085604451528},{"$f":"+'[1]itcer resto del mundo'!AU165","v":8.0431332411066592E-2},{"$f":"+'[1]itcer resto del mundo'!AV165","v":-0.16041474246445375},{"$f":"+'[1]itcer resto del mundo'!AW165","v":-0.52121617838044187},{"$f":"+'[1]itcer resto del mundo'!AX165","v":6.2451776218480859E-2},null,{"$f":"+'[1]itcer resto del mundo'!BA165","v":1.2661495948948887},{"$f":"+'[1]itcer resto del mundo'!BB165","v":1.0101348915562092},{"$f":"+'[1]itcer resto del mundo'!BC165","v":1.0002447023881547},{"$f":"+'[1]itcer resto del mundo'!BD165","v":1.1566630692603714},{"$f":"+'[1]itcer resto del mundo'!BE165","v":1.159417440473671},{"$f":"+'[1]itcer resto del mundo'!BF165","v":1.1260014347234077},null,{"$f":"+'[1]itcer resto del mundo'!BG165","v":0.82730924658623228},{"$f":"+'[1]itcer resto del mundo'!BH165","v":0.99018551705989288},{"$f":"+'[1]itcer resto del mundo'!BI165","v":0.88706714150505372},{"$f":"+'[1]itcer resto del mundo'!BJ165","v":0.85094775567961467},{"$f":"+'[1]itcer resto del mundo'!BK165","v":0.9159963159876473},{"$f":"+'[1]itcer resto del mundo'!BL165","v":0.81376219173097197}]
[null,"Marzo",{"$f":"+'[1]itcer resto del mundo'!AK166","v":105.73209045324852},{"$f":"+'[1]itcer resto del mundo'!AL166","v":100.39923647500991},{"$f":"+'[1]itcer resto del mundo'!AM166","v":89.896373007189695},{"$f":"+'[1]itcer resto del mundo'!AN166","v":99.122434742183827},{"$f":"+'[1]itcer resto del mundo'!AO166","v":107.3061050980528},{"$f":"+'[1]itcer resto del mundo'!AP166","v":113.33396040327857},null,{"$f":"+'[1]itcer resto del mundo'!AS166","v":0.93781983209815678},{"$f":"+'[1]itcer resto del mundo'!AT166","v":0.37705917801204691},{"$f":"+'[1]itcer resto del mundo'!AU166","v":1.3163224366006716},{"$f":"+'[1]itcer resto del mundo'!AV166","v":0.70758800206263572},{"$f":"+'[1]itcer resto del mundo'!AW166","v":1.039427218277126},{"$f":"+'[1]itcer resto del mundo'!AX166","v":23.6868739021441},null,{"$f":"+'[1]itcer resto del mundo'!BA166","v":1.2790738706486102},{"$f":"+'[1]itcer resto del mundo'!BB166","v":1.0113180744664914},{"$f":"+'[1]itcer resto del mundo'!BC166","v":1.0120403320918152},{"$f":"+'[1]itcer resto del mundo'!BD166","v":1.1624582615167807},{"$f":"+'[1]itcer resto del mundo'!BE166","v":1.1678196225552095},{"$f":"+'[1]itcer resto del mundo'!BF166","v":1.4093779865968208},null,{"$f":"+'[1]itcer resto del mundo'!BG166","v":0.82663005538243417},{"$f":"+'[1]itcer resto del mundo'!BH166","v":0.99275627529918631},{"$f":"+'[1]itcer resto del mundo'!BI166","v":0.8882686801758215},{"$f":"+'[1]itcer resto del mundo'!BJ166","v":0.852696720593206},{"$f":"+'[1]itcer resto del mundo'!BK166","v":0.91885855508460434},{"$f":"+'[1]itcer resto del mundo'!BL166","v":0.80414169570607819}]
[null,"Abril",{"$f":"+'[1]itcer resto del mundo'!AK167","v":105.95552391664917},{"$f":"+'[1]itcer resto del mundo'!AL167","v":100.71321640622608},{"$f":"+'[1]itcer resto del mundo'!AM167","v":89.847489291140775},{"$f":"+'[1]itcer resto del mundo'!AN167","v":99.082566362479525},{"$f":"+'[1]itcer resto del mundo'!AO167","v":108.36114485156308},{"$f":"+'[1]itcer resto del mundo'!AP167","v":118.48665870869392},null,{"$f":"+'[1]itcer resto del mundo'!AS167","v":0.21132038763525429},{"$f":"+'[1]itcer resto del mundo'!AT167","v":0.31273139342479794},{"$f":"+'[1]itcer resto del mundo'!AU167","v":-5.4377851312210623E-2},{"$f":"+'[1]itcer resto del mundo'!AV167","v":-4.0221348283068892E-2},{"$f":"+'[1]itcer resto del mundo'!AW167","v":0.98320571093901776},{"$f":"+'[1]itcer resto del mundo'!AX167","v":4.5464733492771359},null,{"$f":"+'[1]itcer resto del mundo'!BA167","v":1.2951333048414615},{"$f":"+'[1]itcer resto del mundo'!BB167","v":1.0150540000571202},{"$f":"+'[1]itcer resto del mundo'!BC167","v":1.0172321234142381},{"$f":"+'[1]itcer resto del mundo'!BD167","v":1.1695769657535859},{"$f":"+'[1]itcer resto del mundo'!BE167","v":1.1778781039109127},{"$f":"+'[1]itcer resto del mundo'!BF167","v":1.4794093936218147},null,{"$f":"+'[1]itcer resto del mundo'!BG167","v":0.81810515968176167},{"$f":"+'[1]itcer resto del mundo'!BH167","v":0.99219565068024607},{"$f":"+'[1]itcer resto del mundo'!BI167","v":0.88325454164361883},{"$f":"+'[1]itcer resto del mundo'!BJ167","v":0.84716584939442852},{"$f":"+'[1]itcer resto del mundo'!BK167","v":0.91996909095916801},{"$f":"+'[1]itcer resto del mundo'!BL167","v":0.80090513970998178}]
[null,"Mayo",{"$f":"+'[1]itcer resto del mundo'!AK168","v":108.24637559939987},{"$f":"+'[1]itcer resto del mundo'!AL168","v":102.25794417551006},{"$f":"+'[1]itcer resto del mundo'!AM168","v":90.77206489605615},{"$f":"+'[1]itcer resto del mundo'!AN168","v":100.30626233732104},{"$f":"+'[1]itcer resto del mundo'!AO168","v":109.64107852396094},{"$f":"+'[1]itcer resto del mundo'!AP168","v":127.46394526766797},null,{"$f":"+'[1]itcer resto del mundo'!AS168","v":2.1620880139791723},{"$f":"+'[1]itcer resto del mundo'!AT168","v":1.5337885377956013},{"$f":"+'[1]itcer resto del mundo'!AU168","v":1.0290500182140789},{"$f":"+'[1]itcer resto del mundo'!AV168","v":1.2350265236013485},{"$f":"+'[1]itcer resto del mundo'!AW168","v":1.181174003053556},{"$f":"+'[1]itcer resto del mundo'!AX168","v":7.5766222601020559},null,{"$f":"+'[1]itcer resto del mundo'!BA168","v":1.3319336231777217},{"$f":"+'[1]itcer resto del mundo'!BB168","v":1.0308198033244433},{"$f":"+'[1]itcer resto del mundo'!BC168","v":1.0318441082378202},{"$f":"+'[1]itcer resto del mundo'!BD168","v":1.1874256306990454},{"$f":"+'[1]itcer resto del mundo'!BE168","v":1.2024023881101549},{"$f":"+'[1]itcer resto del mundo'!BF168","v":1.6128610769578196},null,{"$f":"+'[1]itcer resto del mundo'!BG168","v":0.8127009763530566},{"$f":"+'[1]itcer resto del mundo'!BH168","v":0.99200601158149349},{"$f":"+'[1]itcer resto del mundo'!BI168","v":0.87970715897265106},{"$f":"+'[1]itcer resto del mundo'!BJ168","v":0.84473721759121945},{"$f":"+'[1]itcer resto del mundo'!BK168","v":0.91185013942201576},{"$f":"+'[1]itcer resto del mundo'!BL168","v":0.79029711292984151}]
[null,"Junio",{"$f":"+'[1]itcer resto del mundo'!AK169","v":108.5586998419532},{"$f":"+'[1]itcer resto del mundo'!AL169","v":101.92187909999033},{"$f":"+'[1]itcer resto del mundo'!AM169","v":90.652716600250272},{"$f":"+'[1]itcer resto del mundo'!AN169","v":100.46975659651241},{"$f":"+'[1]itcer resto del mundo'!AO169","v":109.01302993428503},{"$f":"+'[1]itcer resto del mundo'!AP169","v":136.81389646431245},null,{"$f":"+'[1]itcer resto del mundo'!AS169","v":0.28853090075659793},{"$f":"+'[1]itcer resto del mundo'!AT169","v":-0.32864446692076399},{"$f":"+'[1]itcer resto del mundo'!AU169","v":-0.13148130533610924},{"$f":"+'[1]itcer resto del mundo'!AV169","v":0.16299506669039943},{"$f":"+'[1]itcer resto del mundo'!AW169","v":-0.57282233824309969},{"$f":"+'[1]itcer resto del mundo'!AX169","v":7.3353693681849137},null,{"$f":"+'[1]itcer resto del mundo'!BA169","v":1.343681239478449},{"$f":"+'[1]itcer resto del mundo'!BB169","v":1.0300331192358885},{"$f":"+'[1]itcer resto del mundo'!BC169","v":1.0324418810146783},{"$f":"+'[1]itcer resto del mundo'!BD169","v":1.1919832602383831},{"$f":"+'[1]itcer resto del mundo'!BE169","v":1.2079766556912832},{"$f":"+'[1]itcer resto del mundo'!BF169","v":1.8186102328210076},null,{"$f":"+'[1]itcer resto del mundo'!BG169","v":0.80792003826808156},{"$f":"+'[1]itcer resto del mundo'!BH169","v":0.98950098978952494},{"$f":"+'[1]itcer resto del mundo'!BI169","v":0.87804183719433471},{"$f":"+'[1]itcer resto del mundo'!BJ169","v":0.84287892244744778},{"$f":"+'[1]itcer resto del mundo'!BK169","v":0.90244318398604018},{"$f":"+'[1]itcer resto del mundo'!BL169","v":0.75229916776663175}]
[null,"Julio",{"$f":"+'[1]itcer resto del mundo'!AK170","v":107.98936156205855},{"$f":"+'[1]itcer resto del mundo'!AL170","v":101.90471099116127},{"$f":"+'[1]itcer resto del mundo'!AM170","v":90.159401797813544},{"$f":"+'[1]itcer resto del mundo'!AN170","v":100.23407490202548},{"$f":"+'[1]itcer resto del mundo'!AO170","v":109.48958017714649},{"$f":"+'[1]itcer resto del mundo'!AP170","v":156.92915286845917},null,{"$f":"+'[1]itcer resto del mundo'!AS170","v":-0.524452006816162},{"$f":"+'[1]itcer resto del mundo'!AT170","v":-1.6844380206364917E-2},{"$f":"+'[1]itcer resto del mundo'!AU170","v":-0.54418093680754964},{"$f":"+'[1]itcer resto del mundo'!AV170","v":-0.23457974068099929},{"$f":"+'[1]itcer resto del mundo'!AW170","v":0.43714980048599728},{"$f":"+'[1]itcer resto del mundo'!AX170","v":14.702641269626966},null,{"$f":"+'[1]itcer resto del mundo'!BA170","v":1.3466976649682314},{"$f":"+'[1]itcer resto del mundo'!BB170","v":1.0253854321300317},{"$f":"+'[1]itcer resto del mundo'!BC170","v":1.0286982112594147},{"$f":"+'[1]itcer resto del mundo'!BD170","v":1.1928535636099484},{"$f":"+'[1]itcer resto del mundo'!BE170","v":1.2115898658375841},{"$f":"+'[1]itcer resto del mundo'!BF170","v":2.1608260651961428},null,{"$f":"+'[1]itcer resto del mundo'!BG170","v":0.8018827415476808},{"$f":"+'[1]itcer resto del mundo'!BH170","v":0.99381859540831163},{"$f":"+'[1]itcer resto del mundo'!BI170","v":0.87644170866626858},{"$f":"+'[1]itcer resto del mundo'!BJ170","v":0.84028817920186094},{"$f":"+'[1]itcer resto del mundo'!BK170","v":0.90368517651354963},{"$f":"+'[1]itcer resto del mundo'!BL170","v":0.72624611205906719}]
[null,"Agosto",{"$f":"+'[1]itcer resto del mundo'!AK171","v":107.88262344596018},{"$f":"+'[1]itcer resto del mundo'!AL171","v":101.24588931197444},{"$f":"+'[1]itcer resto del mundo'!AM171","v":89.609742939902389},{"$f":"+'[1]itcer resto del mundo'!AN171","v":99.638967285995292},{"$f":"+'[1]itcer resto del mundo'!AO171","v":109.07476731916128},{"$f":"+'[1]itcer resto del mundo'!AP171","v":148.75408524662785},null,{"$f":"+'[1]itcer resto del mundo'!AS171","v":-9.8841325251314061E-2},{"$f":"+'[1]itcer resto del mundo'!AT171","v":-0.64650757828455596},{"$f":"+'[1]itcer resto del mundo'!AU171","v":-0.6096522902223569},{"$f":"+'[1]itcer resto del mundo'!AV171","v":-0.59371787150416822},{"$f":"+'[1]itcer resto del mundo'!AW171","v":-0.37886057953102181},{"$f":"+'[1]itcer resto del mundo'!AX171","v":-5.2094002117527509},null,{"$f":"+'[1]itcer resto del mundo'!BA171","v":1.3469048684696237},{"$f":"+'[1]itcer resto del mundo'!BB171","v":1.0188651296792175},{"$f":"+'[1]itcer resto del mundo'!BC171","v":1.022040332355588},{"$f":"+'[1]itcer resto del mundo'!BD171","v":1.1923409501101347},{"$f":"+'[1]itcer resto del mundo'!BE171","v":1.2026206118851672},{"$f":"+'[1]itcer resto del mundo'!BF171","v":2.1041194214339694},null,{"$f":"+'[1]itcer resto del mundo'!BG171","v":0.80096691289369448},{"$f":"+'[1]itcer resto del mundo'!BH171","v":0.99371238020336417},{"$f":"+'[1]itcer resto del mundo'!BI171","v":0.87677305976145548},{"$f":"+'[1]itcer resto del mundo'!BJ171","v":0.83565835155449275},{"$f":"+'[1]itcer resto del mundo'!BK171","v":0.90697570157375895},{"$f":"+'[1]itcer resto del mundo'!BL171","v":0.70696598173715397}]
[null,"Septiembre",{"$f":"+'[1]itcer resto del mundo'!AK172","v":109.30485943262062},{"$f":"+'[1]itcer resto del mundo'!AL172","v":101.73335020860763},{"$f":"+'[1]itcer resto del mundo'!AM172","v":90.378030736190425},{"$f":"+'[1]itcer resto del mundo'!AN172","v":100.27301846197911},{"$f":"+'[1]itcer resto del mundo'!AO172","v":110.6013344054457},{"$f":"+'[1]itcer resto del mundo'!AP172","v":138.52378547151545},null,{"$f":"+'[1]itcer resto del mundo'!AS172","v":1.3183179470722166},{"$f":"+'[1]itcer resto del mundo'!AT172","v":0.48146240795135498},{"$f":"+'[1]itcer resto del mundo'!AU172","v":0.85737082942341658},{"$f":"+'[1]itcer resto del mundo'!AV172","v":0.63634860261436188},{"$f":"+'[1]itcer resto del mundo'!AW172","v":1.3995602500966697},{"$f":"+'[1]itcer resto del mundo'!AX172","v":-6.8773235761229756},null,{"$f":"+'[1]itcer resto del mundo'!BA172","v":1.3620715263186716},{"$f":"+'[1]itcer resto del mundo'!BB172","v":1.021253990508161},{"$f":"+'[1]itcer resto del mundo'!BC172","v":1.031661018763439},{"$f":"+'[1]itcer resto del mundo'!BD172","v":1.2012741134794409},{"$f":"+'[1]itcer resto del mundo'!BE172","v":1.2186934799899505},{"$f":"+'[1]itcer resto del mundo'!BF172","v":1.9825329086648693},null,{"$f":"+'[1]itcer resto del mundo'!BG172","v":0.80248986430282043},{"$f":"+'[1]itcer resto del mundo'!BH172","v":0.99616110344877695},{"$f":"+'[1]itcer resto del mundo'!BI172","v":0.87604386608033902},{"$f":"+'[1]itcer resto del mundo'!BJ172","v":0.83472221149877657},{"$f":"+'[1]itcer resto del mundo'!BK172","v":0.9075402159889927},{"$f":"+'[1]itcer resto del mundo'!BL172","v":0.69872124122672885}]
[null,"Octubre",{"$f":"+'[1]itcer resto del mundo'!AK173","v":110.0109695540407},{"$f":"+'[1]itcer resto del mundo'!AL173","v":102.07404429567499},{"$f":"+'[1]itcer resto del mundo'!AM173","v":91.649338393905964},{"$f":"+'[1]itcer resto del mundo'!AN173","v":100.91316422819926},{"$f":"+'[1]itcer resto del mundo'!AO173","v":112.02695296428533},{"$f":"+'[1]itcer resto del mundo'!AP173","v":149.52440976206302},null,{"$f":"+'[1]itcer resto del mundo'!AS173","v":0.64600066738603346},{"$f":"+'[1]itcer resto del mundo'!AT173","v":0.33488928298217502},{"$f":"+'[1]itcer resto del mundo'!AU173","v":1.4066556300904978},{"$f":"+'[1]itcer resto del mundo'!AV173","v":0.63840280869062838},{"$f":"+'[1]itcer resto del mundo'!AW173","v":1.2889704871132466},{"$f":"+'[1]itcer resto del mundo'!AX173","v":7.9413252049840963},null,{"$f":"+'[1]itcer resto del mundo'!BA173","v":1.387148577561826},{"$f":"+'[1]itcer resto del mundo'!BB173","v":1.0283316633914348},{"$f":"+'[1]itcer resto del mundo'!BC173","v":1.0509583249591619},{"$f":"+'[1]itcer resto del mundo'!BD173","v":1.2148515048178625},{"$f":"+'[1]itcer resto del mundo'!BE173","v":1.2398505974782452},{"$f":"+'[1]itcer resto del mundo'!BF173","v":2.1964784129088155},null,{"$f":"+'[1]itcer resto del mundo'!BG173","v":0.79307272006439011},{"$f":"+'[1]itcer resto del mundo'!BH173","v":0.99261792600098597},{"$f":"+'[1]itcer resto del mundo'!BI173","v":0.8720549256552802},{"$f":"+'[1]itcer resto del mundo'!BJ173","v":0.8306625445825887},{"$f":"+'[1]itcer resto del mundo'!BK173","v":0.9035520343510659},{"$f":"+'[1]itcer resto del mundo'!BL173","v":0.68074609285163212}]
[null,"Noviembre",{"$f":"+'[1]itcer resto del mundo'!AK174","v":109.37533644021953},{"$f":"+'[1]itcer resto del mundo'!AL174","v":101.96691157250585},{"$f":"+'[1]itcer resto del mundo'!AM174","v":91.074189039927361},{"$f":"+'[1]itcer resto del mundo'!AN174","v":100.51349727521367},{"$f":"+'[1]itcer resto del mundo'!AO174","v":111.30201670521019},{"$f":"+'[1]itcer resto del mundo'!AP174","v":160.41263756062108},null,{"$f":"+'[1]itcer resto del mundo'!AS174","v":-0.57779066614709507},{"$f":"+'[1]itcer resto del mundo'!AT174","v":-0.10495589148874274},{"$f":"+'[1]itcer resto del mundo'!AU174","v":-0.62755428905185795},{"$f":"+'[1]itcer resto del mundo'!AV174","v":-0.39605036274733152},{"$f":"+'[1]itcer resto del mundo'!AW174","v":-0.64710878935201777},{"$f":"+'[1]itcer resto del mundo'!AX174","v":7.2819065568521069},null,{"$f":"+'[1]itcer resto del mundo'!BA174","v":1.3995358642263311},{"$f":"+'[1]itcer resto del mundo'!BB174","v":1.0287175945186238},{"$f":"+'[1]itcer resto del mundo'!BC174","v":1.0496092920383191},{"$f":"+'[1]itcer resto del mundo'!BD174","v":1.2200218716052926},{"$f":"+'[1]itcer resto del mundo'!BE174","v":1.2428280527738735},{"$f":"+'[1]itcer resto del mundo'!BF174","v":2.5012465858957622},null,{"$f":"+'[1]itcer resto del mundo'!BG174","v":0.78151149417441068},{"$f":"+'[1]itcer resto del mundo'!BH174","v":0.99120411778530992},{"$f":"+'[1]itcer resto del mundo'!BI174","v":0.86769610111838102},{"$f":"+'[1]itcer resto del mundo'!BJ174","v":0.82386635530524543},{"$f":"+'[1]itcer resto del mundo'!BK174","v":0.8955544289235724},{"$f":"+'[1]itcer resto del mundo'!BL174","v":0.64133076069016637}]
[null,"Diciembre",{"$f":"+'[1]itcer resto del mundo'!AK175","v":110.25066614868628},{"$f":"+'[1]itcer resto del mundo'!AL175","v":102.59711693923497},{"$f":"+'[1]itcer resto del mundo'!AM175","v":90.486759130083101},{"$f":"+'[1]itcer resto del mundo'!AN175","v":101.28308450767162},{"$f":"+'[1]itcer resto del mundo'!AO175","v":111.70908291902485},{"$f":"+'[1]itcer resto del mundo'!AP175","v":146.67191245921202},null,{"$f":"+'[1]itcer resto del mundo'!AS175","v":0.80029898600145088},{"$f":"+'[1]itcer resto del mundo'!AT175","v":0.61804889155732212},{"$f":"+'[1]itcer resto del mundo'!AU175","v":-0.64500152681758038},{"$f":"+'[1]itcer resto del mundo'!AV175","v":0.76565561175408448},{"$f":"+'[1]itcer resto del mundo'!AW175","v":0.36573121122576424},{"$f":"+'[1]itcer resto del mundo'!AX175","v":-8.5658619609794329},null,{"$f":"+'[1]itcer resto del mundo'!BA175","v":1.4277934571633717},{"$f":"+'[1]itcer resto del mundo'!BB175","v":1.037024589932783},{"$f":"+'[1]itcer resto del mundo'!BC175","v":1.0487034921648775},{"$f":"+'[1]itcer resto del mundo'!BD175","v":1.2330671213875191},{"$f":"+'[1]itcer resto del mundo'!BE175","v":1.2566812541883192},{"$f":"+'[1]itcer resto del mundo'!BF175","v":2.3719099570425906},null,{"$f":"+'[1]itcer resto del mundo'!BG175","v":0.77217517418607362},{"$f":"+'[1]itcer resto del mundo'!BH175","v":0.9893412165461285},{"$f":"+'[1]itcer resto del mundo'!BI175","v":0.86284407180992528},{"$f":"+'[1]itcer resto del mundo'!BJ175","v":0.82139149403077094},{"$f":"+'[1]itcer resto del mundo'!BK175","v":0.88892137562103524},{"$f":"+'[1]itcer resto del mundo'!BL175","v":0.61837049093587626}]
[2004,"Enero",{"$f":"+'[1]itcer resto del mundo'!AK176","v":110.58277110548279},{"$f":"+'[1]itcer resto del mundo'!AL176","v":102.69211747435283},{"$f":"+'[1]itcer resto del mundo'!AM176","v":91.143166140183354},{"$f":"+'[1]itcer resto del mundo'!AN176","v":101.64098882751288},{"$f":"+'[1]itcer resto del mundo'!AO176","v":112.02262873037309},{"$f":"+'[1]itcer resto del mundo'!AP176","v":167.07740678442329},null,{"$f":"+'[1]itcer resto del mundo'!AS176","v":0.30122716569225361},{"$f":"+'[1]itcer resto del mundo'!AT176","v":9.2595716090286828E-2},{"$f":"+'[1]itcer resto del mundo'!AU176","v":0.72541774775756096},{"$f":"+'[1]itcer resto del mundo'!AV176","v":0.35337028051722541},{"$f":"+'[1]itcer resto del mundo'!AW176","v":0.28068067802107066},{"$f":"+'[1]itcer resto del mundo'!AX176","v":13.912339440508646},null,{"$f":"+'[1]itcer resto del mundo'!BA176","v":1.4521745749995958},{"$f":"+'[1]itcer resto del mundo'!BB176","v":1.0458595838156266},{"$f":"+'[1]itcer resto del mundo'!BC176","v":1.0684385310685782},{"$f":"+'[1]itcer resto del mundo'!BD176","v":1.2446104988250188},{"$f":"+'[1]itcer resto del mundo'!BE176","v":1.2759384371715567},{"$f":"+'[1]itcer resto del mundo'!BF176","v":2.9405307223555521},null,{"$f":"+'[1]itcer resto del mundo'!BG176","v":0.76149777725941492},{"$f":"+'[1]itcer resto del mundo'!BH176","v":0.98189201555814487},{"$f":"+'[1]itcer resto del mundo'!BI176","v":0.85305016142602297},{"$f":"+'[1]itcer resto del mundo'!BJ176","v":0.81664897510882017},{"$f":"+'[1]itcer resto del mundo'!BK176","v":0.87796264668301582},{"$f":"+'[1]itcer resto del mundo'!BL176","v":0.56818793122686262}]
[null,"Febrero",{"$f":"+'[1]itcer resto del mundo'!AK177","v":110.23829190985235},{"$f":"+'[1]itcer resto del mundo'!AL177","v":102.50480197370206},{"$f":"+'[1]itcer resto del mundo'!AM177","v":90.578845693984249},{"$f":"+'[1]itcer resto del mundo'!AN177","v":101.29514349842887},{"$f":"+'[1]itcer resto del mundo'!AO177","v":111.16632528663233},{"$f":"+'[1]itcer resto del mundo'!AP177","v":160.9054481490314},null,{"$f":"+'[1]itcer resto del mundo'!AS177","v":-0.31151253688682345},{"$f":"+'[1]itcer resto del mundo'!AT177","v":-0.18240494524573592},{"$f":"+'[1]itcer resto del mundo'!AU177","v":-0.61915826506525207},{"$f":"+'[1]itcer resto del mundo'!AV177","v":-0.34026167304503474},{"$f":"+'[1]itcer resto del mundo'!AW177","v":-0.76440220466686526},{"$f":"+'[1]itcer resto del mundo'!AX177","v":-3.6940713613992386},null,{"$f":"+'[1]itcer resto del mundo'!BA177","v":1.4605234020813691},{"$f":"+'[1]itcer resto del mundo'!BB177","v":1.0441767731885292},{"$f":"+'[1]itcer resto del mundo'!BC177","v":1.0649949718771847},{"$f":"+'[1]itcer resto del mundo'!BD177","v":1.2488976986633986},{"$f":"+'[1]itcer resto del mundo'!BE177","v":1.2771818922438565},{"$f":"+'[1]itcer resto del mundo'!BF177","v":3.1366005524486766},null,{"$f":"+'[1]itcer resto del mundo'!BG177","v":0.75478620714158695},{"$f":"+'[1]itcer resto del mundo'!BH177","v":0.9816805411280155},{"$f":"+'[1]itcer resto del mundo'!BI177","v":0.85050960883249871},{"$f":"+'[1]itcer resto del mundo'!BJ177","v":0.8110763884570964},{"$f":"+'[1]itcer resto del mundo'!BK177","v":0.87040323670206687},{"$f":"+'[1]itcer resto del mundo'!BL177","v":0.51299311295286232}]
[null,"Marzo",{"$f":"+'[1]itcer resto del mundo'!AK178","v":110.30456220914621},{"$f":"+'[1]itcer resto del mundo'!AL178","v":101.81847184364335},{"$f":"+'[1]itcer resto del mundo'!AM178","v":89.993039591830012},{"$f":"+'[1]itcer resto del mundo'!AN178","v":101.47414594988172},{"$f":"+'[1]itcer resto del mundo'!AO178","v":111.04437844453018},{"$f":"+'[1]itcer resto del mundo'!AP178","v":148.6964630619955},null,{"$f":"+'[1]itcer resto del mundo'!AS178","v":6.0115499021023311E-2},{"$f":"+'[1]itcer resto del mundo'!AT178","v":-0.66955900293801562},{"$f":"+'[1]itcer resto del mundo'!AU178","v":-0.64673610892917566},{"$f":"+'[1]itcer resto del mundo'!AV178","v":0.17671375474741069},{"$f":"+'[1]itcer resto del mundo'!AW178","v":-0.10969764610615584},{"$f":"+'[1]itcer resto del mundo'!AX178","v":-7.5876766308918775},null,{"$f":"+'[1]itcer resto del mundo'!BA178","v":1.4599623180257526},{"$f":"+'[1]itcer resto del mundo'!BB178","v":1.0381725142857627},{"$f":"+'[1]itcer resto del mundo'!BC178","v":1.0598846489502145},{"$f":"+'[1]itcer resto del mundo'!BD178","v":1.2479845282669528},{"$f":"+'[1]itcer resto del mundo'!BE178","v":1.2756135930202082},{"$f":"+'[1]itcer resto del mundo'!BF178","v":2.9497235814144305},null,{"$f":"+'[1]itcer resto del mundo'!BG178","v":0.75553019997328807},{"$f":"+'[1]itcer resto del mundo'!BH178","v":0.98074713443643791},{"$f":"+'[1]itcer resto del mundo'!BI178","v":0.84908333827615612},{"$f":"+'[1]itcer resto del mundo'!BJ178","v":0.81310419842140602},{"$f":"+'[1]itcer resto del mundo'!BK178","v":0.87051736554183157},{"$f":"+'[1]itcer resto del mundo'!BL178","v":0.50410304205756684}]
[null,"Abril",{"$f":"+'[1]itcer resto del mundo'!AK179","v":109.60118589602216},{"$f":"+'[1]itcer resto del mundo'!AL179","v":100.66683150738561},{"$f":"+'[1]itcer resto del mundo'!AM179","v":88.645280697969355},{"$f":"+'[1]itcer resto del mundo'!AN179","v":100.78531550989615},{"$f":"+'[1]itcer resto del mundo'!AO179","v":110.27826410048847},{"$f":"+'[1]itcer resto del mundo'!AP179","v":140.54893732612649},null,{"$f":"+'[1]itcer resto del mundo'!AS179","v":-0.6376674718044768},{"$f":"+'[1]itcer resto del mundo'!AT179","v":-1.1310721084345658},{"$f":"+'[1]itcer resto del mundo'!AU179","v":-1.4976257052473301},{"$f":"+'[1]itcer resto del mundo'!AV179","v":-0.67882358953362143},{"$f":"+'[1]itcer resto del mundo'!AW179","v":-0.68991726980975443},{"$f":"+'[1]itcer resto del mundo'!AX179","v":-5.4793002927528249},null,{"$f":"+'[1]itcer resto del mundo'!BA179","v":1.4595744104002633},{"$f":"+'[1]itcer resto del mundo'!BB179","v":1.0321862292517039},{"$f":"+'[1]itcer resto del mundo'!BC179","v":1.0467517248530869},{"$f":"+'[1]itcer resto del mundo'!BD179","v":1.2488184228892636},{"$f":"+'[1]itcer resto del mundo'!BE179","v":1.2741083552814811},{"$f":"+'[1]itcer resto del mundo'!BF179","v":2.7993336209215776},null,{"$f":"+'[1]itcer resto del mundo'!BG179","v":0.75091194470836131},{"$f":"+'[1]itcer resto del mundo'!BH179","v":0.97527780021213095},{"$f":"+'[1]itcer resto del mundo'!BI179","v":0.84686061262913936},{"$f":"+'[1]itcer resto del mundo'!BJ179","v":0.80704539317028567},{"$f":"+'[1]itcer resto del mundo'!BK179","v":0.86553285396300039},{"$f":"+'[1]itcer resto del mundo'!BL179","v":0.50207998173456703}]
[null,"Mayo",{"$f":"+'[1]itcer resto del mundo'!AK180","v":109.61373242882615},{"$f":"+'[1]itcer resto del mundo'!AL180","v":99.930831467726478},{"$f":"+'[1]itcer resto del mundo'!AM180","v":87.096802659641682},{"$f":"+'[1]itcer resto del mundo'!AN180","v":100.51659012297704},{"$f":"+'[1]itcer resto del mundo'!AO180","v":109.55508234791715},{"$f":"+'[1]itcer resto del mundo'!AP180","v":144.9188560991831},null,{"$f":"+'[1]itcer resto del mundo'!AS180","v":1.1447442563166987E-2},{"$f":"+'[1]itcer resto del mundo'!AT180","v":-0.731124670001293},{"$f":"+'[1]itcer resto del mundo'!AU180","v":-1.7468251283490446},{"$f":"+'[1]itcer resto del mundo'!AV180","v":-0.26663148848577123},{"$f":"+'[1]itcer resto del mundo'!AW180","v":-0.6557790499062861},{"$f":"+'[1]itcer resto del mundo'!AX180","v":3.1091795186730877},null,{"$f":"+'[1]itcer resto del mundo'!BA180","v":1.4635086838214284},{"$f":"+'[1]itcer resto del mundo'!BB180","v":1.027506840287963},{"$f":"+'[1]itcer resto del mundo'!BC180","v":1.0326774466712085},{"$f":"+'[1]itcer resto del mundo'!BD180","v":1.2491052598570578},{"$f":"+'[1]itcer resto del mundo'!BE180","v":1.2718352794132552},{"$f":"+'[1]itcer resto del mundo'!BF180","v":2.9489634818939661},null,{"$f":"+'[1]itcer resto del mundo'!BG180","v":0.74897903675302535},{"$f":"+'[1]itcer resto del mundo'!BH180","v":0.97255636215249375},{"$f":"+'[1]itcer resto del mundo'!BI180","v":0.84340761910114803},{"$f":"+'[1]itcer resto del mundo'!BJ180","v":0.80470872514362579},{"$f":"+'[1]itcer resto del mundo'!BK180","v":0.86139364209537361},{"$f":"+'[1]itcer resto del mundo'!BL180","v":0.4914230270702073}]
[null,"Junio",{"$f":"+'[1]itcer resto del mundo'!AK181","v":110.11891140877442},{"$f":"+'[1]itcer resto del mundo'!AL181","v":100.47943974265421},{"$f":"+'[1]itcer resto del mundo'!AM181","v":86.863604169213801},{"$f":"+'[1]itcer resto del mundo'!AN181","v":100.93786537971108},{"$f":"+'[1]itcer resto del mundo'!AO181","v":110.52177524149066},{"$f":"+'[1]itcer resto del mundo'!AP181","v":146.69117414305524},null,{"$f":"+'[1]itcer resto del mundo'!AS181","v":0.46087198086817693},{"$f":"+'[1]itcer resto del mundo'!AT181","v":0.54898800187098118},{"$f":"+'[1]itcer resto del mundo'!AU181","v":-0.26774632742740323},{"$f":"+'[1]itcer resto del mundo'!AV181","v":0.4191101749657804},{"$f":"+'[1]itcer resto del mundo'!AW181","v":0.88238069184554035},{"$f":"+'[1]itcer resto del mundo'!AX181","v":1.2229726976723754},null,{"$f":"+'[1]itcer resto del mundo'!BA181","v":1.482683049767485},{"$f":"+'[1]itcer resto del mundo'!BB181","v":1.0322710644491748},{"$f":"+'[1]itcer resto del mundo'!BC181","v":1.031475094640107},{"$f":"+'[1]itcer resto del mundo'!BD181","v":1.258956661164168},{"$f":"+'[1]itcer resto del mundo'!BE181","v":1.2839400481364214},{"$f":"+'[1]itcer resto del mundo'!BF181","v":3.0366768182892159},null,{"$f":"+'[1]itcer resto del mundo'!BG181","v":0.742700278566234},{"$f":"+'[1]itcer resto del mundo'!BH181","v":0.9733823140365806},{"$f":"+'[1]itcer resto del mundo'!BI181","v":0.84212992267662501},{"$f":"+'[1]itcer resto del mundo'!BJ181","v":0.80175806279441708},{"$f":"+'[1]itcer resto del mundo'!BK181","v":0.86080168152639081},{"$f":"+'[1]itcer resto del mundo'!BL181","v":0.48306482026525699}]
[null,"Julio",{"$f":"+'[1]itcer resto del mundo'!AK182","v":109.63626416807779},{"$f":"+'[1]itcer resto del mundo'!AL182","v":100.18717118939389},{"$f":"+'[1]itcer resto del mundo'!AM182","v":85.991539875242466},{"$f":"+'[1]itcer resto del mundo'!AN182","v":100.00351478658604},{"$f":"+'[1]itcer resto del mundo'!AO182","v":110.14734112813206},{"$f":"+'[1]itcer resto del mundo'!AP182","v":135.82603053496345},null,{"$f":"+'[1]itcer resto del mundo'!AS182","v":-0.43829641477746861},{"$f":"+'[1]itcer resto del mundo'!AT182","v":-0.29087398776194107},{"$f":"+'[1]itcer resto del mundo'!AU182","v":-1.0039467073833492},{"$f":"+'[1]itcer resto del mundo'!AV182","v":-0.92566906344826805},{"$f":"+'[1]itcer resto del mundo'!AW182","v":-0.33878763939546275},{"$f":"+'[1]itcer resto del mundo'!AX182","v":-7.4068148077511182},null,{"$f":"+'[1]itcer resto del mundo'!BA182","v":1.497027609589219},{"$f":"+'[1]itcer resto del mundo'!BB182","v":1.0336561228174141},{"$f":"+'[1]itcer resto del mundo'!BC182","v":1.0269155413137889},{"$f":"+'[1]itcer resto del mundo'!BD182","v":1.2654494669497136},{"$f":"+'[1]itcer resto del mundo'!BE182","v":1.2887837913193321},{"$f":"+'[1]itcer resto del mundo'!BF182","v":2.8325421914071418},null,{"$f":"+'[1]itcer resto del mundo'!BG182","v":0.73235966702151678},{"$f":"+'[1]itcer resto del mundo'!BH182","v":0.969250498089402},{"$f":"+'[1]itcer resto del mundo'!BI182","v":0.83737694499421844},{"$f":"+'[1]itcer resto del mundo'!BJ182","v":0.79026083141540382},{"$f":"+'[1]itcer resto del mundo'!BK182","v":0.85466112989653498},{"$f":"+'[1]itcer resto del mundo'!BL182","v":0.47951988481233604}]
[null,"Agosto",{"$f":"+'[1]itcer resto del mundo'!AK183","v":109.46360838293131},{"$f":"+'[1]itcer resto del mundo'!AL183","v":100.05247364981408},{"$f":"+'[1]itcer resto del mundo'!AM183","v":86.035959005930096},{"$f":"+'[1]itcer resto del mundo'!AN183","v":100.16993368375071},{"$f":"+'[1]itcer resto del mundo'!AO183","v":110.33799838687959},{"$f":"+'[1]itcer resto del mundo'!AP183","v":124.36225244661358},null,{"$f":"+'[1]itcer resto del mundo'!AS183","v":-0.1574805439209257},{"$f":"+'[1]itcer resto del mundo'!AT183","v":-0.13444589559793485},{"$f":"+'[1]itcer resto del mundo'!AU183","v":5.1655233470725648E-2},{"$f":"+'[1]itcer resto del mundo'!AV183","v":0.16641304810119095},{"$f":"+'[1]itcer resto del mundo'!AW183","v":0.17309292879413363},{"$f":"+'[1]itcer resto del mundo'!AX183","v":-8.4400449922586347},null,{"$f":"+'[1]itcer resto del mundo'!BA183","v":1.5069039757049898},{"$f":"+'[1]itcer resto del mundo'!BB183","v":1.0330451531925564},{"$f":"+'[1]itcer resto del mundo'!BC183","v":1.0290139164166452},{"$f":"+'[1]itcer resto del mundo'!BD183","v":1.2705622465279829},{"$f":"+'[1]itcer resto del mundo'!BE183","v":1.2920287328386846},{"$f":"+'[1]itcer resto del mundo'!BF183","v":2.6043437941684493},null,{"$f":"+'[1]itcer resto del mundo'!BG183","v":0.72641395966667266},{"$f":"+'[1]itcer resto del mundo'!BH183","v":0.96851984969493976},{"$f":"+'[1]itcer resto del mundo'!BI183","v":0.83610102480960391},{"$f":"+'[1]itcer resto del mundo'!BJ183","v":0.78839060390375437},{"$f":"+'[1]itcer resto del mundo'!BK183","v":0.85399028351682782},{"$f":"+'[1]itcer resto del mundo'!BL183","v":0.47751857003319204}]
[null,"Septiembre",{"$f":"+'[1]itcer resto del mundo'!AK184","v":109.79053099237957},{"$f":"+'[1]itcer resto del mundo'!AL184","v":100.09026034884384},{"$f":"+'[1]itcer resto del mundo'!AM184","v":85.500553882983766},{"$f":"+'[1]itcer resto del mundo'!AN184","v":100.74117224610532},{"$f":"+'[1]itcer resto del mundo'!AO184","v":110.08456315659694},{"$f":"+'[1]itcer resto del mundo'!AP184","v":112.95228110138299},null,{"$f":"+'[1]itcer resto del mundo'!AS184","v":0.2986587179774034},{"$f":"+'[1]itcer resto del mundo'!AT184","v":3.7766881368696659E-2},{"$f":"+'[1]itcer resto del mundo'!AU184","v":-0.62230389378169093},{"$f":"+'[1]itcer resto del mundo'!AV184","v":0.57026948241582431},{"$f":"+'[1]itcer resto del mundo'!AW184","v":-0.22968989286357555},{"$f":"+'[1]itcer resto del mundo'!AX184","v":-9.1747866581370232},null,{"$f":"+'[1]itcer resto del mundo'!BA184","v":1.5193477732082921},{"$f":"+'[1]itcer resto del mundo'!BB184","v":1.0330418081655095},{"$f":"+'[1]itcer resto del mundo'!BC184","v":1.0276828995801763},{"$f":"+'[1]itcer resto del mundo'!BD184","v":1.2763979387266944},{"$f":"+'[1]itcer resto del mundo'!BE184","v":1.2937676670531104},{"$f":"+'[1]itcer resto del mundo'!BF184","v":2.3327842423170715},null,{"$f":"+'[1]itcer resto del mundo'!BG184","v":0.72261619708398406},{"$f":"+'[1]itcer resto del mundo'!BH184","v":0.96888876672460666},{"$f":"+'[1]itcer resto del mundo'!BI184","v":0.83197408381429716},{"$f":"+'[1]itcer resto del mundo'!BJ184","v":0.7892614770798082},{"$f":"+'[1]itcer resto del mundo'!BK184","v":0.85088355475247679},{"$f":"+'[1]itcer resto del mundo'!BL184","v":0.48419514780840389}]
[null,"Octubre",{"$f":"+'[1]itcer resto del mundo'!AK185","v":111.20629438115613},{"$f":"+'[1]itcer resto del mundo'!AL185","v":100.70881375046622},{"$f":"+'[1]itcer resto del mundo'!AM185","v":84.808816356383346},{"$f":"+'[1]itcer resto del mundo'!AN185","v":101.24731689908791},{"$f":"+'[1]itcer resto del mundo'!AO185","v":110.00698917168698},{"$f":"+'[1]itcer resto del mundo'!AP185","v":98.271565916474586},null,{"$f":"+'[1]itcer resto del mundo'!AS185","v":1.2895131993439577},{"$f":"+'[1]itcer resto del mundo'!AT185","v":0.61799559664102333},{"$f":"+'[1]itcer resto del mundo'!AU185","v":-0.80904449759135844},{"$f":"+'[1]itcer resto del mundo'!AV185","v":0.5024208490904698},{"$f":"+'[1]itcer resto del mundo'!AW185","v":-7.0467632050835505E-2},{"$f":"+'[1]itcer resto del mundo'!AX185","v":-12.997271982255398},null,{"$f":"+'[1]itcer resto del mundo'!BA185","v":1.5432004598227558},{"$f":"+'[1]itcer resto del mundo'!BB185","v":1.0388646117953304},{"$f":"+'[1]itcer resto del mundo'!BC185","v":1.0242700409490524},{"$f":"+'[1]itcer resto del mundo'!BD185","v":1.2875811098862653},{"$f":"+'[1]itcer resto del mundo'!BE185","v":1.3044763223068327},{"$f":"+'[1]itcer resto del mundo'!BF185","v":2.0467774914778141},null,{"$f":"+'[1]itcer resto del mundo'!BG185","v":0.72062118484547832},{"$f":"+'[1]itcer resto del mundo'!BH185","v":0.9694123046161397},{"$f":"+'[1]itcer resto del mundo'!BI185","v":0.82799274571969805},{"$f":"+'[1]itcer resto del mundo'!BJ185","v":0.78633738971233658},{"$f":"+'[1]itcer resto del mundo'!BK185","v":0.84330383994360958},{"$f":"+'[1]itcer resto del mundo'!BL185","v":0.48012823243195119}]
[null,"Noviembre",{"$f":"+'[1]itcer resto del mundo'!AK186","v":112.00198757613302},{"$f":"+'[1]itcer resto del mundo'!AL186","v":101.71175967800929},{"$f":"+'[1]itcer resto del mundo'!AM186","v":84.147383710189359},{"$f":"+'[1]itcer resto del mundo'!AN186","v":101.55583178202288},{"$f":"+'[1]itcer resto del mundo'!AO186","v":110.48591000643204},{"$f":"+'[1]itcer resto del mundo'!AP186","v":92.327995277975674},null,{"$f":"+'[1]itcer resto del mundo'!AS186","v":0.71551093344561423},{"$f":"+'[1]itcer resto del mundo'!AT186","v":0.99588694394527977},{"$f":"+'[1]itcer resto del mundo'!AU186","v":-0.77991024354651017},{"$f":"+'[1]itcer resto del mundo'!AV186","v":0.30471413207173725},{"$f":"+'[1]itcer resto del mundo'!AW186","v":0.43535491549324945},{"$f":"+'[1]itcer resto del mundo'!AX186","v":-6.0481082020720294},null,{"$f":"+'[1]itcer resto del mundo'!BA186","v":1.5745496691501555},{"$f":"+'[1]itcer resto del mundo'!BB186","v":1.0484202843517325},{"$f":"+'[1]itcer resto del mundo'!BC186","v":1.0248949438179396},{"$f":"+'[1]itcer resto del mundo'!BD186","v":1.3019016301849999},{"$f":"+'[1]itcer resto del mundo'!BE186","v":1.3200802596508598},{"$f":"+'[1]itcer resto del mundo'!BF186","v":1.8895218988747098},null,{"$f":"+'[1]itcer resto del mundo'!BG186","v":0.71132711638486934},{"$f":"+'[1]itcer resto del mundo'!BH186","v":0.97014299700334883},{"$f":"+'[1]itcer resto del mundo'!BI186","v":0.82103423592591318},{"$f":"+'[1]itcer resto del mundo'!BJ186","v":0.78005764358396112},{"$f":"+'[1]itcer resto del mundo'!BK186","v":0.83696358004515414},{"$f":"+'[1]itcer resto del mundo'!BL186","v":0.48863151749106959}]
[null,"Diciembre",{"$f":"+'[1]itcer resto del mundo'!AK187","v":112.57138014185431},{"$f":"+'[1]itcer resto del mundo'!AL187","v":102.1216049564114},{"$f":"+'[1]itcer resto del mundo'!AM187","v":84.060211497987794},{"$f":"+'[1]itcer resto del mundo'!AN187","v":101.76314093964679},{"$f":"+'[1]itcer resto del mundo'!AO187","v":111.34682944425602},{"$f":"+'[1]itcer resto del mundo'!AP187","v":91.845838810268674},null,{"$f":"+'[1]itcer resto del mundo'!AS187","v":0.50837719762270694},{"$f":"+'[1]itcer resto del mundo'!AT187","v":0.40294778076750504},{"$f":"+'[1]itcer resto del mundo'!AU187","v":-0.10359467919025178},{"$f":"+'[1]itcer resto del mundo'!AV187","v":0.20413318859804974},{"$f":"+'[1]itcer resto del mundo'!AW187","v":0.77921197171102108},{"$f":"+'[1]itcer resto del mundo'!AX187","v":-0.52222131137511951},null,{"$f":"+'[1]itcer resto del mundo'!BA187","v":1.601537530506751},{"$f":"+'[1]itcer resto del mundo'!BB187","v":1.055690819842634},{"$f":"+'[1]itcer resto del mundo'!BC187","v":1.0315106073465561},{"$f":"+'[1]itcer resto del mundo'!BD187","v":1.3127766316172065},{"$f":"+'[1]itcer resto del mundo'!BE187","v":1.3305503583514118},{"$f":"+'[1]itcer resto del mundo'!BF187","v":1.8553018141809003},null,{"$f":"+'[1]itcer resto del mundo'!BG187","v":0.70289567367325445},{"$f":"+'[1]itcer resto del mundo'!BH187","v":0.96734387603781669},{"$f":"+'[1]itcer resto del mundo'!BI187","v":0.81492338420273869},{"$f":"+'[1]itcer resto del mundo'!BJ187","v":0.77517483544999599},{"$f":"+'[1]itcer resto del mundo'!BK187","v":0.83684791594222552},{"$f":"+'[1]itcer resto del mundo'!BL187","v":0.49504527030723466}]
[2005,"Enero",{"$f":"+'[1]itcer resto del mundo'!AK188","v":110.61218978920355},{"$f":"+'[1]itcer resto del mundo'!AL188","v":100.31728620746284},{"$f":"+'[1]itcer resto del mundo'!AM188","v":82.565052831313679},{"$f":"+'[1]itcer resto del mundo'!AN188","v":101.08881042624253},{"$f":"+'[1]itcer resto del mundo'!AO188","v":111.39785842776162},{"$f":"+'[1]itcer resto del mundo'!AP188","v":93.979754029037565},null,{"$f":"+'[1]itcer resto del mundo'!AS188","v":-1.7403982701303988},{"$f":"+'[1]itcer resto del mundo'!AT188","v":-1.7668335213872695},{"$f":"+'[1]itcer resto del mundo'!AU188","v":-1.778675832513116},{"$f":"+'[1]itcer resto del mundo'!AV188","v":-0.66264711090647666},{"$f":"+'[1]itcer resto del mundo'!AW188","v":4.5828860830880558E-2},{"$f":"+'[1]itcer resto del mundo'!AX188","v":2.3233662476283286},null,{"$f":"+'[1]itcer resto del mundo'!BA188","v":1.6048826012927861},{"$f":"+'[1]itcer resto del mundo'!BB188","v":1.0515074160357318},{"$f":"+'[1]itcer resto del mundo'!BC188","v":1.0262564305088735},{"$f":"+'[1]itcer resto del mundo'!BD188","v":1.3136897209122151},{"$f":"+'[1]itcer resto del mundo'!BE188","v":1.3384641951056224},{"$f":"+'[1]itcer resto del mundo'!BF188","v":1.9120750286620929},null,{"$f":"+'[1]itcer resto del mundo'!BG188","v":0.68922293568452775},{"$f":"+'[1]itcer resto del mundo'!BH188","v":0.95403308314902002},{"$f":"+'[1]itcer resto del mundo'!BI188","v":0.80452653329902613},{"$f":"+'[1]itcer resto del mundo'!BJ188","v":0.76950294134940267},{"$f":"+'[1]itcer resto del mundo'!BK188","v":0.83228119836982928},{"$f":"+'[1]itcer resto del mundo'!BL188","v":0.4915066230157118}]
[null,"Febrero",{"$f":"+'[1]itcer resto del mundo'!AK189","v":110.47187689686503},{"$f":"+'[1]itcer resto del mundo'!AL189","v":100.55898193577274},{"$f":"+'[1]itcer resto del mundo'!AM189","v":81.806699966419899},{"$f":"+'[1]itcer resto del mundo'!AN189","v":100.5944591054168},{"$f":"+'[1]itcer resto del mundo'!AO189","v":111.45911112184393},{"$f":"+'[1]itcer resto del mundo'!AP189","v":91.154940313349854},null,{"$f":"+'[1]itcer resto del mundo'!AS189","v":-0.12685120202930023},{"$f":"+'[1]itcer resto del mundo'!AT189","v":0.24093128656814145},{"$f":"+'[1]itcer resto del mundo'!AU189","v":-0.91849134577937264},{"$f":"+'[1]itcer resto del mundo'!AV189","v":-0.48902674662140555},{"$f":"+'[1]itcer resto del mundo'!AW189","v":5.4985522115785557E-2},{"$f":"+'[1]itcer resto del mundo'!AX189","v":-3.0057683645510593},null,{"$f":"+'[1]itcer resto del mundo'!BA189","v":1.613216898928155},{"$f":"+'[1]itcer resto del mundo'!BB189","v":1.0501995804627962},{"$f":"+'[1]itcer resto del mundo'!BC189","v":1.0196411945532138},{"$f":"+'[1]itcer resto del mundo'!BD189","v":1.3164794366540093},{"$f":"+'[1]itcer resto del mundo'!BE189","v":1.3498781112582217},{"$f":"+'[1]itcer resto del mundo'!BF189","v":1.846616799395794},null,{"$f":"+'[1]itcer resto del mundo'!BG189","v":0.68479246014757322},{"$f":"+'[1]itcer resto del mundo'!BH189","v":0.95752258719679706},{"$f":"+'[1]itcer resto del mundo'!BI189","v":0.80230869842666508},{"$f":"+'[1]itcer resto del mundo'!BJ189","v":0.76411720764199476},{"$f":"+'[1]itcer resto del mundo'!BK189","v":0.82569759589592051},{"$f":"+'[1]itcer resto del mundo'!BL189","v":0.49363214037246606}]
[null,"Marzo",{"$f":"+'[1]itcer resto del mundo'!AK190","v":111.4184263119308},{"$f":"+'[1]itcer resto del mundo'!AL190","v":101.41381505044515},{"$f":"+'[1]itcer resto del mundo'!AM190","v":81.059495379546206},{"$f":"+'[1]itcer resto del mundo'!AN190","v":100.92677080282925},{"$f":"+'[1]itcer resto del mundo'!AO190","v":111.83374815093258},{"$f":"+'[1]itcer resto del mundo'!AP190","v":90.272543033906985},null,{"$f":"+'[1]itcer resto del mundo'!AS190","v":0.85682387378052738},{"$f":"+'[1]itcer resto del mundo'!AT190","v":0.85008131368951467},{"$f":"+'[1]itcer resto del mundo'!AU190","v":-0.91337822840965543},{"$f":"+'[1]itcer resto del mundo'!AV190","v":0.33034791415718701},{"$f":"+'[1]itcer resto del mundo'!AW190","v":0.33612059643925818},{"$f":"+'[1]itcer resto del mundo'!AX190","v":-0.96801915113935877},null,{"$f":"+'[1]itcer resto del mundo'!BA190","v":1.6293327935951085},{"$f":"+'[1]itcer resto del mundo'!BB190","v":1.0525247823254584},{"$f":"+'[1]itcer resto del mundo'!BC190","v":1.0080248429611722},{"$f":"+'[1]itcer resto del mundo'!BD190","v":1.321630675087738},{"$f":"+'[1]itcer resto del mundo'!BE190","v":1.3584447731811153},{"$f":"+'[1]itcer resto del mundo'!BF190","v":1.8145243450074713},null,{"$f":"+'[1]itcer resto del mundo'!BG190","v":0.68382853858901971},{"$f":"+'[1]itcer resto del mundo'!BH190","v":0.96352899953937887},{"$f":"+'[1]itcer resto del mundo'!BI190","v":0.80414184179653725},{"$f":"+'[1]itcer resto del mundo'!BJ190","v":0.76365336175425214},{"$f":"+'[1]itcer resto del mundo'!BK190","v":0.82324839668710104},{"$f":"+'[1]itcer resto del mundo'!BL190","v":0.49749976230567072}]
[null,"Abril",{"$f":"+'[1]itcer resto del mundo'!AK191","v":111.04715715543155},{"$f":"+'[1]itcer resto del mundo'!AL191","v":101.06869098597636},{"$f":"+'[1]itcer resto del mundo'!AM191","v":80.633335132920976},{"$f":"+'[1]itcer resto del mundo'!AN191","v":100.45673081060494},{"$f":"+'[1]itcer resto del mundo'!AO191","v":110.34497228716009},{"$f":"+'[1]itcer resto del mundo'!AP191","v":90.042384316416104},null,{"$f":"+'[1]itcer resto del mundo'!AS191","v":-0.3332206070294319},{"$f":"+'[1]itcer resto del mundo'!AT191","v":-0.34031267268382237},{"$f":"+'[1]itcer resto del mundo'!AU191","v":-0.52573760128879599},{"$f":"+'[1]itcer resto del mundo'!AV191","v":-0.46572380002386637},{"$f":"+'[1]itcer resto del mundo'!AW191","v":-1.3312402458005863},{"$f":"+'[1]itcer resto del mundo'!AX191","v":-0.25495982472149592},null,{"$f":"+'[1]itcer resto del mundo'!BA191","v":1.6308657359991439},{"$f":"+'[1]itcer resto del mundo'!BB191","v":1.0485077503863804},{"$f":"+'[1]itcer resto del mundo'!BC191","v":1.0037358636218852},{"$f":"+'[1]itcer resto del mundo'!BD191","v":1.3196733148536592},{"$f":"+'[1]itcer resto del mundo'!BE191","v":1.3561234366173449},{"$f":"+'[1]itcer resto del mundo'!BF191","v":1.8053644184739703},null,{"$f":"+'[1]itcer resto del mundo'!BG191","v":0.68090925392701884},{"$f":"+'[1]itcer resto del mundo'!BH191","v":0.96392888797180598},{"$f":"+'[1]itcer resto del mundo'!BI191","v":0.80333221174307012},{"$f":"+'[1]itcer resto del mundo'!BJ191","v":0.76122423390628879},{"$f":"+'[1]itcer resto del mundo'!BK191","v":0.81367941374422204},{"$f":"+'[1]itcer resto del mundo'!BL191","v":0.4987490802135488}]
[null,"Mayo",{"$f":"+'[1]itcer resto del mundo'!AK192","v":109.87043735537877},{"$f":"+'[1]itcer resto del mundo'!AL192","v":100.08535766134192},{"$f":"+'[1]itcer resto del mundo'!AM192","v":79.968533378528946},{"$f":"+'[1]itcer resto del mundo'!AN192","v":100.05035693423096},{"$f":"+'[1]itcer resto del mundo'!AO192","v":109.75333825029487},{"$f":"+'[1]itcer resto del mundo'!AP192","v":91.567128495246976},null,{"$f":"+'[1]itcer resto del mundo'!AS192","v":-1.0596577437869286},{"$f":"+'[1]itcer resto del mundo'!AT192","v":-0.97293564905365315},{"$f":"+'[1]itcer resto del mundo'!AU192","v":-0.82447508005979842},{"$f":"+'[1]itcer resto del mundo'!AV192","v":-0.40452628021523651},{"$f":"+'[1]itcer resto del mundo'!AW192","v":-0.53616764280438645},{"$f":"+'[1]itcer resto del mundo'!AX192","v":1.6933627317917228},null,{"$f":"+'[1]itcer resto del mundo'!BA192","v":1.6361562295918104},{"$f":"+'[1]itcer resto del mundo'!BB192","v":1.0463935660403598},{"$f":"+'[1]itcer resto del mundo'!BC192","v":1.0011484968661426},{"$f":"+'[1]itcer resto del mundo'!BD192","v":1.3199951883259284},{"$f":"+'[1]itcer resto del mundo'!BE192","v":1.3609396474222726},{"$f":"+'[1]itcer resto del mundo'!BF192","v":1.8315548671578463},null,{"$f":"+'[1]itcer resto del mundo'!BG192","v":0.6715155641511652},{"$f":"+'[1]itcer resto del mundo'!BH192","v":0.95647910030709771},{"$f":"+'[1]itcer resto del mundo'!BI192","v":0.79876795129645051},{"$f":"+'[1]itcer resto del mundo'!BJ192","v":0.75796001242337019},{"$f":"+'[1]itcer resto del mundo'!BK192","v":0.80645264805222183},{"$f":"+'[1]itcer resto del mundo'!BL192","v":0.49994204452820018}]
[null,"Junio",{"$f":"+'[1]itcer resto del mundo'!AK193","v":109.11367128125309},{"$f":"+'[1]itcer resto del mundo'!AL193","v":99.424857843086599},{"$f":"+'[1]itcer resto del mundo'!AM193","v":79.417333306472003},{"$f":"+'[1]itcer resto del mundo'!AN193","v":98.80646481697363},{"$f":"+'[1]itcer resto del mundo'!AO193","v":108.47948028345931},{"$f":"+'[1]itcer resto del mundo'!AP193","v":91.676298040886877},null,{"$f":"+'[1]itcer resto del mundo'!AS193","v":-0.68878043297297609},{"$f":"+'[1]itcer resto del mundo'!AT193","v":-0.65993651188243518},{"$f":"+'[1]itcer resto del mundo'!AU193","v":-0.68927120302163303},{"$f":"+'[1]itcer resto del mundo'!AV193","v":-1.243266046591927},{"$f":"+'[1]itcer resto del mundo'!AW193","v":-1.1606553268844522},{"$f":"+'[1]itcer resto del mundo'!AX193","v":0.11922351113757657},null,{"$f":"+'[1]itcer resto del mundo'!BA193","v":1.6318841761669638},{"$f":"+'[1]itcer resto del mundo'!BB193","v":1.039597914523209},{"$f":"+'[1]itcer resto del mundo'!BC193","v":1.0005632726208817},{"$f":"+'[1]itcer resto del mundo'!BD193","v":1.3124290463101833},{"$f":"+'[1]itcer resto del mundo'!BE193","v":1.3547159981115622},{"$f":"+'[1]itcer resto del mundo'!BF193","v":1.8343730109944349},null,{"$f":"+'[1]itcer resto del mundo'!BG193","v":0.66863612549723794},{"$f":"+'[1]itcer resto del mundo'!BH193","v":0.95637800397748829},{"$f":"+'[1]itcer resto del mundo'!BI193","v":0.79372624880029552},{"$f":"+'[1]itcer resto del mundo'!BJ193","v":0.75285185964728674},{"$f":"+'[1]itcer resto del mundo'!BK193","v":0.80075440486918892},{"$f":"+'[1]itcer resto del mundo'!BL193","v":0.49976911724834033}]
[null,"Julio",{"$f":"+'[1]itcer resto del mundo'!AK194","v":108.53423013084242},{"$f":"+'[1]itcer resto del mundo'!AL194","v":99.437421725274817},{"$f":"+'[1]itcer resto del mundo'!AM194","v":78.69311967874151},{"$f":"+'[1]itcer resto del mundo'!AN194","v":98.108506075353787},{"$f":"+'[1]itcer resto del mundo'!AO194","v":108.51675500868231},{"$f":"+'[1]itcer resto del mundo'!AP194","v":91.397186859903314},null,{"$f":"+'[1]itcer resto del mundo'!AS194","v":-0.53104358382103101},{"$f":"+'[1]itcer resto del mundo'!AT194","v":1.2636560374119199E-2},{"$f":"+'[1]itcer resto del mundo'!AU194","v":-0.91190877051454322},{"$f":"+'[1]itcer resto del mundo'!AV194","v":-0.70638975183730679},{"$f":"+'[1]itcer resto del mundo'!AW194","v":3.4361083889407951E-2},{"$f":"+'[1]itcer resto del mundo'!AX194","v":-0.30445293598033629},null,{"$f":"+'[1]itcer resto del mundo'!BA194","v":1.6393292684480616},{"$f":"+'[1]itcer resto del mundo'!BB194","v":1.0380400032634742},{"$f":"+'[1]itcer resto del mundo'!BC194","v":0.9972346564994744},{"$f":"+'[1]itcer resto del mundo'!BD194","v":1.3101636594592001},{"$f":"+'[1]itcer resto del mundo'!BE194","v":1.3622385710036422},{"$f":"+'[1]itcer resto del mundo'!BF194","v":1.8333261634626901},null,{"$f":"+'[1]itcer resto del mundo'!BG194","v":0.66206485920666069},{"$f":"+'[1]itcer resto del mundo'!BH194","v":0.95793438993348434},{"$f":"+'[1]itcer resto del mundo'!BI194","v":0.78911336630610751},{"$f":"+'[1]itcer resto del mundo'!BJ194","v":0.74882634216743815},{"$f":"+'[1]itcer resto del mundo'!BK194","v":0.79660609616075961},{"$f":"+'[1]itcer resto del mundo'!BL194","v":0.49853205982331655}]
[null,"Agosto",{"$f":"+'[1]itcer resto del mundo'!AK195","v":108.89003065482369},{"$f":"+'[1]itcer resto del mundo'!AL195","v":99.967938969955668},{"$f":"+'[1]itcer resto del mundo'!AM195","v":78.969993781376388},{"$f":"+'[1]itcer resto del mundo'!AN195","v":98.102566261110667},{"$f":"+'[1]itcer resto del mundo'!AO195","v":109.1828245161603},{"$f":"+'[1]itcer resto del mundo'!AP195","v":91.10917453110946},null,{"$f":"+'[1]itcer resto del mundo'!AS195","v":0.32782332684568871},{"$f":"+'[1]itcer resto del mundo'!AT195","v":0.53351870500681287},{"$f":"+'[1]itcer resto del mundo'!AU195","v":0.35184029272849671},{"$f":"+'[1]itcer resto del mundo'!AV195","v":-6.0543315566974343E-3},{"$f":"+'[1]itcer resto del mundo'!AW195","v":0.61379416240809803},{"$f":"+'[1]itcer resto del mundo'!AX195","v":-0.31512165602572395},null,{"$f":"+'[1]itcer resto del mundo'!BA195","v":1.6592203512648154},{"$f":"+'[1]itcer resto del mundo'!BB195","v":1.0424915128389796},{"$f":"+'[1]itcer resto del mundo'!BC195","v":1.0006453989127266},{"$f":"+'[1]itcer resto del mundo'!BD195","v":1.3151376956917482},{"$f":"+'[1]itcer resto del mundo'!BE195","v":1.3748741593407066},{"$f":"+'[1]itcer resto del mundo'!BF195","v":1.844546173030069},null,{"$f":"+'[1]itcer resto del mundo'!BG195","v":0.65627227011660849},{"$f":"+'[1]itcer resto del mundo'!BH195","v":0.95893288087992756},{"$f":"+'[1]itcer resto del mundo'!BI195","v":0.78919059506177691},{"$f":"+'[1]itcer resto del mundo'!BJ195","v":0.74594901037727279},{"$f":"+'[1]itcer resto del mundo'!BK195","v":0.79412958469243999},{"$f":"+'[1]itcer resto del mundo'!BL195","v":0.49393816139306923}]
[null,"Septiembre",{"$f":"+'[1]itcer resto del mundo'!AK196","v":110.20962721211133},{"$f":"+'[1]itcer resto del mundo'!AL196","v":100.35862422480912},{"$f":"+'[1]itcer resto del mundo'!AM196","v":79.314438588613967},{"$f":"+'[1]itcer resto del mundo'!AN196","v":98.669856513149284},{"$f":"+'[1]itcer resto del mundo'!AO196","v":109.74058699619096},{"$f":"+'[1]itcer resto del mundo'!AP196","v":93.358263215897693},null,{"$f":"+'[1]itcer resto del mundo'!AS196","v":1.2118616822422297},{"$f":"+'[1]itcer resto del mundo'!AT196","v":0.39081055274219523},{"$f":"+'[1]itcer resto del mundo'!AU196","v":0.43617175428829569},{"$f":"+'[1]itcer resto del mundo'!AV196","v":0.57826239787522127},{"$f":"+'[1]itcer resto del mundo'!AW196","v":0.51085185101445063},{"$f":"+'[1]itcer resto del mundo'!AX196","v":2.468564440807512},null,{"$f":"+'[1]itcer resto del mundo'!BA196","v":1.6672536132947589},{"$f":"+'[1]itcer resto del mundo'!BB196","v":1.0410071553075462},{"$f":"+'[1]itcer resto del mundo'!BC196","v":1.0039532085136607},{"$f":"+'[1]itcer resto del mundo'!BD196","v":1.3143395890657898},{"$f":"+'[1]itcer resto del mundo'!BE196","v":1.3786952561961414},{"$f":"+'[1]itcer resto del mundo'!BF196","v":1.9325518514348159},null,{"$f":"+'[1]itcer resto del mundo'!BG196","v":0.66102497144582317},{"$f":"+'[1]itcer resto del mundo'!BH196","v":0.96405316441038313},{"$f":"+'[1]itcer resto del mundo'!BI196","v":0.79002126708711795},{"$f":"+'[1]itcer resto del mundo'!BJ196","v":0.75071813505429097},{"$f":"+'[1]itcer resto del mundo'!BK196","v":0.79597421187165229},{"$f":"+'[1]itcer resto del mundo'!BL196","v":0.48308283757863568}]
[null,"Octubre",{"$f":"+'[1]itcer resto del mundo'!AK197","v":109.08699693628685},{"$f":"+'[1]itcer resto del mundo'!AL197","v":98.18813904048001},{"$f":"+'[1]itcer resto del mundo'!AM197","v":78.30554504180968},{"$f":"+'[1]itcer resto del mundo'!AN197","v":98.376130215300066},{"$f":"+'[1]itcer resto del mundo'!AO197","v":108.6893011803664},{"$f":"+'[1]itcer resto del mundo'!AP197","v":98.106727436400618},null,{"$f":"+'[1]itcer resto del mundo'!AS197","v":-1.0186317694949167},{"$f":"+'[1]itcer resto del mundo'!AT197","v":-2.1627291138099878},{"$f":"+'[1]itcer resto del mundo'!AU197","v":-1.2720175099986335},{"$f":"+'[1]itcer resto del mundo'!AV197","v":-0.2976859480991294},{"$f":"+'[1]itcer resto del mundo'!AW197","v":-0.95797356711882742},{"$f":"+'[1]itcer resto del mundo'!AX197","v":5.0862816604907835},null,{"$f":"+'[1]itcer resto del mundo'!BA197","v":1.6672529685059756},{"$f":"+'[1]itcer resto del mundo'!BB197","v":1.035673925716692},{"$f":"+'[1]itcer resto del mundo'!BC197","v":1.0066300694282446},{"$f":"+'[1]itcer resto del mundo'!BD197","v":1.3087207031765413},{"$f":"+'[1]itcer resto del mundo'!BE197","v":1.3752682619446015},{"$f":"+'[1]itcer resto del mundo'!BF197","v":2.0492093375516856},null,{"$f":"+'[1]itcer resto del mundo'!BG197","v":0.65429181412128268},{"$f":"+'[1]itcer resto del mundo'!BH197","v":0.94806035570059621},{"$f":"+'[1]itcer resto del mundo'!BI197","v":0.77789793311346656},{"$f":"+'[1]itcer resto del mundo'!BJ197","v":0.75169690505025599},{"$f":"+'[1]itcer resto del mundo'!BK197","v":0.79031345511225526},{"$f":"+'[1]itcer resto del mundo'!BL197","v":0.47875405230006746}]
[null,"Noviembre",{"$f":"+'[1]itcer resto del mundo'!AK198","v":107.00122467980177},{"$f":"+'[1]itcer resto del mundo'!AL198","v":98.610283906460026},{"$f":"+'[1]itcer resto del mundo'!AM198","v":77.100128331198206},{"$f":"+'[1]itcer resto del mundo'!AN198","v":97.267431989817439},{"$f":"+'[1]itcer resto del mundo'!AO198","v":108.46300963168085},{"$f":"+'[1]itcer resto del mundo'!AP198","v":100.63166925138837},null,{"$f":"+'[1]itcer resto del mundo'!AS198","v":-1.9120264697572509},{"$f":"+'[1]itcer resto del mundo'!AT198","v":0.42993468468321794},{"$f":"+'[1]itcer resto del mundo'!AU198","v":-1.5393759279344295},{"$f":"+'[1]itcer resto del mundo'!AV198","v":-1.1269992253773324},{"$f":"+'[1]itcer resto del mundo'!AW198","v":-0.2082003897605631},{"$f":"+'[1]itcer resto del mundo'!AX198","v":2.5736683721558222},null,{"$f":"+'[1]itcer resto del mundo'!BA198","v":1.6698771388871638},{"$f":"+'[1]itcer resto del mundo'!BB198","v":1.0321288426920372},{"$f":"+'[1]itcer resto del mundo'!BC198","v":0.99625905424528105},{"$f":"+'[1]itcer resto del mundo'!BD198","v":1.3043196686959957},{"$f":"+'[1]itcer resto del mundo'!BE198","v":1.3752405389918172},{"$f":"+'[1]itcer resto del mundo'!BF198","v":2.0961534169080602},null,{"$f":"+'[1]itcer resto del mundo'!BG198","v":0.64077303765658666},{"$f":"+'[1]itcer resto del mundo'!BH198","v":0.95540672663754833},{"$f":"+'[1]itcer resto del mundo'!BI198","v":0.7738963877182089},{"$f":"+'[1]itcer resto del mundo'!BJ198","v":0.74573307697691438},{"$f":"+'[1]itcer resto del mundo'!BK198","v":0.78868391787806513},{"$f":"+'[1]itcer resto del mundo'!BL198","v":0.48007778648103688}]
[null,"Diciembre",{"$f":"+'[1]itcer resto del mundo'!AK199","v":106.80874959085054},{"$f":"+'[1]itcer resto del mundo'!AL199","v":98.798187936256028},{"$f":"+'[1]itcer resto del mundo'!AM199","v":77.2145576282132},{"$f":"+'[1]itcer resto del mundo'!AN199","v":96.770938189202852},{"$f":"+'[1]itcer resto del mundo'!AO199","v":108.3826535831808},{"$f":"+'[1]itcer resto del mundo'!AP199","v":99.260812524036581},null,{"$f":"+'[1]itcer resto del mundo'!AS199","v":-0.17988120185277978},{"$f":"+'[1]itcer resto del mundo'!AT199","v":0.19055216388407814},{"$f":"+'[1]itcer resto del mundo'!AU199","v":0.14841648061003809},{"$f":"+'[1]itcer resto del mundo'!AV199","v":-0.5104419747265041},{"$f":"+'[1]itcer resto del mundo'!AW199","v":-7.4086132012112671E-2},{"$f":"+'[1]itcer resto del mundo'!AX199","v":-1.3622518015946383},null,{"$f":"+'[1]itcer resto del mundo'!BA199","v":1.6846865134201932},{"$f":"+'[1]itcer resto del mundo'!BB199","v":1.0339251047601024},{"$f":"+'[1]itcer resto del mundo'!BC199","v":0.99842065470135621},{"$f":"+'[1]itcer resto del mundo'!BD199","v":1.3060103883377123},{"$f":"+'[1]itcer resto del mundo'!BE199","v":1.3799833197190639},{"$f":"+'[1]itcer resto del mundo'!BF199","v":2.0909368447005727},null,{"$f":"+'[1]itcer resto del mundo'!BG199","v":0.63399777192975248},{"$f":"+'[1]itcer resto del mundo'!BH199","v":0.95556426168005459},{"$f":"+'[1]itcer resto del mundo'!BI199","v":0.77336698980160146},{"$f":"+'[1]itcer resto del mundo'!BJ199","v":0.74096606775366269},{"$f":"+'[1]itcer resto del mundo'!BK199","v":0.78539104085145939},{"$f":"+'[1]itcer resto del mundo'!BL199","v":0.47471932390311389}]
[2006,"Enero",{"$f":"+'[1]itcer resto del mundo'!AK200","v":107.38831152718758},{"$f":"+'[1]itcer resto del mundo'!AL200","v":99.262700565762998},{"$f":"+'[1]itcer resto del mundo'!AM200","v":77.378218834654902},{"$f":"+'[1]itcer resto del mundo'!AN200","v":97.398277700006801},{"$f":"+'[1]itcer resto del mundo'!AO200","v":108.88736185986347},{"$f":"+'[1]itcer resto del mundo'!AP200","v":103.01592086046045},null,{"$f":"+'[1]itcer resto del mundo'!AS200","v":0.54261653521565734},{"$f":"+'[1]itcer resto del mundo'!AT200","v":0.47016310643942916},{"$f":"+'[1]itcer resto del mundo'!AU200","v":0.2119564127139455},{"$f":"+'[1]itcer resto del mundo'!AV200","v":0.64827263488693632},{"$f":"+'[1]itcer resto del mundo'!AW200","v":0.46567255921199546},{"$f":"+'[1]itcer resto del mundo'!AX200","v":3.7830723333184011},null,{"$f":"+'[1]itcer resto del mundo'!BA200","v":1.7070727792025722},{"$f":"+'[1]itcer resto del mundo'!BB200","v":1.039481858431335},{"$f":"+'[1]itcer resto del mundo'!BC200","v":1.004291144924359},{"$f":"+'[1]itcer resto del mundo'!BD200","v":1.3122212209679454},{"$f":"+'[1]itcer resto del mundo'!BE200","v":1.3971421063307805},{"$f":"+'[1]itcer resto del mundo'!BF200","v":2.1920750556930142},null,{"$f":"+'[1]itcer resto del mundo'!BG200","v":0.62907869444999354},{"$f":"+'[1]itcer resto del mundo'!BH200","v":0.95492479989558188},{"$f":"+'[1]itcer resto del mundo'!BI200","v":0.77047596432290422},{"$f":"+'[1]itcer resto del mundo'!BJ200","v":0.74223976981687623},{"$f":"+'[1]itcer resto del mundo'!BK200","v":0.77935781454491382},{"$f":"+'[1]itcer resto del mundo'!BL200","v":0.46994705127873659}]
[null,"Febrero",{"$f":"+'[1]itcer resto del mundo'!AK201","v":106.88760557554164},{"$f":"+'[1]itcer resto del mundo'!AL201","v":98.685561933292391},{"$f":"+'[1]itcer resto del mundo'!AM201","v":77.285328585288227},{"$f":"+'[1]itcer resto del mundo'!AN201","v":96.636202577188442},{"$f":"+'[1]itcer resto del mundo'!AO201","v":107.74933146893794},{"$f":"+'[1]itcer resto del mundo'!AP201","v":101.91671411068711},null,{"$f":"+'[1]itcer resto del mundo'!AS201","v":-0.46625740224919809},{"$f":"+'[1]itcer resto del mundo'!AT201","v":-0.5814254792395559},{"$f":"+'[1]itcer resto del mundo'!AU201","v":-0.12004702455760707},{"$f":"+'[1]itcer resto del mundo'!AV201","v":-0.78243182612078499},{"$f":"+'[1]itcer resto del mundo'!AW201","v":-1.0451446076819906},{"$f":"+'[1]itcer resto del mundo'!AX201","v":-1.0670260874163944},null,{"$f":"+'[1]itcer resto del mundo'!BA201","v":1.7113259384519368},{"$f":"+'[1]itcer resto del mundo'!BB201","v":1.0369473414169377},{"$f":"+'[1]itcer resto del mundo'!BC201","v":1.001353115414493},{"$f":"+'[1]itcer resto del mundo'!BD201","v":1.3087606512192025},{"$f":"+'[1]itcer resto del mundo'!BE201","v":1.4007547428430496},{"$f":"+'[1]itcer resto del mundo'!BF201","v":2.162528062620225},null,{"$f":"+'[1]itcer resto del mundo'!BG201","v":0.62458940856253253},{"$f":"+'[1]itcer resto del mundo'!BH201","v":0.95169308981923251},{"$f":"+'[1]itcer resto del mundo'!BI201","v":0.77180893928009897},{"$f":"+'[1]itcer resto del mundo'!BJ201","v":0.73837949274502579},{"$f":"+'[1]itcer resto del mundo'!BK201","v":0.76922339202824264},{"$f":"+'[1]itcer resto del mundo'!BL201","v":0.47128504768257118}]
[null,"Marzo",{"$f":"+'[1]itcer resto del mundo'!AK202","v":107.7474115885464},{"$f":"+'[1]itcer resto del mundo'!AL202","v":98.695039218402187},{"$f":"+'[1]itcer resto del mundo'!AM202","v":77.174503599702732},{"$f":"+'[1]itcer resto del mundo'!AN202","v":96.901389758116196},{"$f":"+'[1]itcer resto del mundo'!AO202","v":107.7361557311179},{"$f":"+'[1]itcer resto del mundo'!AP202","v":97.401032268730759},null,{"$f":"+'[1]itcer resto del mundo'!AS202","v":0.80440197754928988},{"$f":"+'[1]itcer resto del mundo'!AT202","v":9.6035173982329525E-3},{"$f":"+'[1]itcer resto del mundo'!AU202","v":-0.14339718496920284},{"$f":"+'[1]itcer resto del mundo'!AV202","v":0.27441804815946114},{"$f":"+'[1]itcer resto del mundo'!AW202","v":-1.222813881108209E-2},{"$f":"+'[1]itcer resto del mundo'!AX202","v":-4.4307568992580286},null,{"$f":"+'[1]itcer resto del mundo'!BA202","v":1.7195611129597754},{"$f":"+'[1]itcer resto del mundo'!BB202","v":1.0356974873950786},{"$f":"+'[1]itcer resto del mundo'!BC202","v":0.99995065362327018},{"$f":"+'[1]itcer resto del mundo'!BD202","v":1.3085157086145931},{"$f":"+'[1]itcer resto del mundo'!BE202","v":1.4032299691690564},{"$f":"+'[1]itcer resto del mundo'!BF202","v":2.0584448265461432},null,{"$f":"+'[1]itcer resto del mundo'!BG202","v":0.6265983266107209},{"$f":"+'[1]itcer resto del mundo'!BH202","v":0.9529330757249761},{"$f":"+'[1]itcer resto del mundo'!BI202","v":0.77178312069765487},{"$f":"+'[1]itcer resto del mundo'!BJ202","v":0.74054433676391795},{"$f":"+'[1]itcer resto del mundo'!BK202","v":0.7677726252876107},{"$f":"+'[1]itcer resto del mundo'!BL202","v":0.47317776513912979}]
[null,"Abril",{"$f":"+'[1]itcer resto del mundo'!AK203","v":108.85152077579443},{"$f":"+'[1]itcer resto del mundo'!AL203","v":98.830114597781588},{"$f":"+'[1]itcer resto del mundo'!AM203","v":76.747380307897984},{"$f":"+'[1]itcer resto del mundo'!AN203","v":97.22891840019274},{"$f":"+'[1]itcer resto del mundo'!AO203","v":107.42701589129379},{"$f":"+'[1]itcer resto del mundo'!AP203","v":96.230873283725444},null,{"$f":"+'[1]itcer resto del mundo'!AS203","v":1.0247199176016295},{"$f":"+'[1]itcer resto del mundo'!AT203","v":0.13686136653787173},{"$f":"+'[1]itcer resto del mundo'!AU203","v":-0.55345129787967551},{"$f":"+'[1]itcer resto del mundo'!AV203","v":0.33800200687947779},{"$f":"+'[1]itcer resto del mundo'!AW203","v":-0.28694159145203457},{"$f":"+'[1]itcer resto del mundo'!AX203","v":-1.2013825292701625},null,{"$f":"+'[1]itcer resto del mundo'!BA203","v":1.7323785003855952},{"$f":"+'[1]itcer resto del mundo'!BB203","v":1.0365430544070784},{"$f":"+'[1]itcer resto del mundo'!BC203","v":0.9956938394644933},{"$f":"+'[1]itcer resto del mundo'!BD203","v":1.3103956422643128},{"$f":"+'[1]itcer resto del mundo'!BE203","v":1.408878214201982},{"$f":"+'[1]itcer resto del mundo'!BF203","v":2.0308055235498892},null,{"$f":"+'[1]itcer resto del mundo'!BG203","v":0.62833567116866273},{"$f":"+'[1]itcer resto del mundo'!BH203","v":0.95345884744087372},{"$f":"+'[1]itcer resto del mundo'!BI203","v":0.77079296131001951},{"$f":"+'[1]itcer resto del mundo'!BJ203","v":0.74198139297979449},{"$f":"+'[1]itcer resto del mundo'!BK203","v":0.76250036950243205},{"$f":"+'[1]itcer resto del mundo'!BL203","v":0.47385568025988006}]
[null,"Mayo",{"$f":"+'[1]itcer resto del mundo'!AK204","v":109.22853285206492},{"$f":"+'[1]itcer resto del mundo'!AL204","v":99.907354889713559},{"$f":"+'[1]itcer resto del mundo'!AM204","v":76.974305489950098},{"$f":"+'[1]itcer resto del mundo'!AN204","v":97.791382626697839},{"$f":"+'[1]itcer resto del mundo'!AO204","v":108.34659505978404},{"$f":"+'[1]itcer resto del mundo'!AP204","v":97.93122953160065},null,{"$f":"+'[1]itcer resto del mundo'!AS204","v":0.34635444097013135},{"$f":"+'[1]itcer resto del mundo'!AT204","v":1.0899919486242879},{"$f":"+'[1]itcer resto del mundo'!AU204","v":0.29567808196414092},{"$f":"+'[1]itcer resto del mundo'!AV204","v":0.57849478916345731},{"$f":"+'[1]itcer resto del mundo'!AW204","v":0.85600364197100021},{"$f":"+'[1]itcer resto del mundo'!AX204","v":1.7669550216612038},null,{"$f":"+'[1]itcer resto del mundo'!BA204","v":1.7604681984039146},{"$f":"+'[1]itcer resto del mundo'!BB204","v":1.0458492624297464},{"$f":"+'[1]itcer resto del mundo'!BC204","v":1.0018632816706174},{"$f":"+'[1]itcer resto del mundo'!BD204","v":1.3214584953693369},{"$f":"+'[1]itcer resto del mundo'!BE204","v":1.4295074196105202},{"$f":"+'[1]itcer resto del mundo'!BF204","v":2.0711284737654116},null,{"$f":"+'[1]itcer resto del mundo'!BG204","v":0.62045161026535034},{"$f":"+'[1]itcer resto del mundo'!BH204","v":0.95527489934453824},{"$f":"+'[1]itcer resto del mundo'!BI204","v":0.76831147421227597},{"$f":"+'[1]itcer resto del mundo'!BJ204","v":0.7400261375546715},{"$f":"+'[1]itcer resto del mundo'!BK204","v":0.75792957471535094},{"$f":"+'[1]itcer resto del mundo'!BL204","v":0.47283995547392066}]
[null,"Junio",{"$f":"+'[1]itcer resto del mundo'!AK205","v":108.27622915168698},{"$f":"+'[1]itcer resto del mundo'!AL205","v":98.700898844295381},{"$f":"+'[1]itcer resto del mundo'!AM205","v":76.431212805209313},{"$f":"+'[1]itcer resto del mundo'!AN205","v":97.236400963105126},{"$f":"+'[1]itcer resto del mundo'!AO205","v":108.06639353480944},{"$f":"+'[1]itcer resto del mundo'!AP205","v":97.698486029210287},null,{"$f":"+'[1]itcer resto del mundo'!AS205","v":-0.87184518139386569},{"$f":"+'[1]itcer resto del mundo'!AT205","v":-1.2075748044275372},{"$f":"+'[1]itcer resto del mundo'!AU205","v":-0.70555061365469385},{"$f":"+'[1]itcer resto del mundo'!AV205","v":-0.56751591877095109},{"$f":"+'[1]itcer resto del mundo'!AW205","v":-0.25861590280709379},{"$f":"+'[1]itcer resto del mundo'!AX205","v":-0.23766014529130075},null,{"$f":"+'[1]itcer resto del mundo'!BA205","v":1.7593574744078677},{"$f":"+'[1]itcer resto del mundo'!BB205","v":1.0402078075902641},{"$f":"+'[1]itcer resto del mundo'!BC205","v":0.99929398852993356},{"$f":"+'[1]itcer resto del mundo'!BD205","v":1.3158122160782364},{"$f":"+'[1]itcer resto del mundo'!BE205","v":1.4287691993248448},{"$f":"+'[1]itcer resto del mundo'!BF205","v":2.0786004662730191},null,{"$f":"+'[1]itcer resto del mundo'!BG205","v":0.61543052351045724},{"$f":"+'[1]itcer resto del mundo'!BH205","v":0.94885750831792937},{"$f":"+'[1]itcer resto del mundo'!BI205","v":0.76485212242342859},{"$f":"+'[1]itcer resto del mundo'!BJ205","v":0.73898387456013404},{"$f":"+'[1]itcer resto del mundo'!BK205","v":0.75636004461655171},{"$f":"+'[1]itcer resto del mundo'!BL205","v":0.4700205143530351}]
[null,"Julio",{"$f":"+'[1]itcer resto del mundo'!AK206","v":108.39855067629483},{"$f":"+'[1]itcer resto del mundo'!AL206","v":97.9739487480295},{"$f":"+'[1]itcer resto del mundo'!AM206","v":76.296810730257846},{"$f":"+'[1]itcer resto del mundo'!AN206","v":97.060933457535057},{"$f":"+'[1]itcer resto del mundo'!AO206","v":108.15753398811208},{"$f":"+'[1]itcer resto del mundo'!AP206","v":97.242552449577985},null,{"$f":"+'[1]itcer resto del mundo'!AS206","v":0.11297172571136116},{"$f":"+'[1]itcer resto del mundo'!AT206","v":-0.73651821288139274},{"$f":"+'[1]itcer resto del mundo'!AU206","v":-0.17584710489155952},{"$f":"+'[1]itcer resto del mundo'!AV206","v":-0.18045454565584862},{"$f":"+'[1]itcer resto del mundo'!AW206","v":8.4337461741327502E-2},{"$f":"+'[1]itcer resto del mundo'!AX206","v":-0.46667415040187166},null,{"$f":"+'[1]itcer resto del mundo'!BA206","v":1.7751102486770838},{"$f":"+'[1]itcer resto del mundo'!BB206","v":1.0436311131755085},{"$f":"+'[1]itcer resto del mundo'!BC206","v":1.0000754840875246},{"$f":"+'[1]itcer resto del mundo'!BD206","v":1.317906035680783},{"$f":"+'[1]itcer resto del mundo'!BE206","v":1.4355001439547779},{"$f":"+'[1]itcer resto del mundo'!BF206","v":2.0833886861766584},null,{"$f":"+'[1]itcer resto del mundo'!BG206","v":0.61065813099259481},{"$f":"+'[1]itcer resto del mundo'!BH206","v":0.93877949316707576},{"$f":"+'[1]itcer resto del mundo'!BI206","v":0.76291051969813617},{"$f":"+'[1]itcer resto del mundo'!BJ206","v":0.73647840460338188},{"$f":"+'[1]itcer resto del mundo'!BK206","v":0.75344843707322773},{"$f":"+'[1]itcer resto del mundo'!BL206","v":0.46675185045779033}]
[null,"Agosto",{"$f":"+'[1]itcer resto del mundo'!AK207","v":108.63258544172022},{"$f":"+'[1]itcer resto del mundo'!AL207","v":99.001318448036031},{"$f":"+'[1]itcer resto del mundo'!AM207","v":76.451750506378204},{"$f":"+'[1]itcer resto del mundo'!AN207","v":97.133435298574383},{"$f":"+'[1]itcer resto del mundo'!AO207","v":109.082367383806},{"$f":"+'[1]itcer resto del mundo'!AP207","v":97.144518596425243},null,{"$f":"+'[1]itcer resto del mundo'!AS207","v":0.2159021167398123},{"$f":"+'[1]itcer resto del mundo'!AT207","v":1.0486151810097368},{"$f":"+'[1]itcer resto del mundo'!AU207","v":0.20307503634475665},{"$f":"+'[1]itcer resto del mundo'!AV207","v":7.4697242707898681E-2},{"$f":"+'[1]itcer resto del mundo'!AW207","v":0.85507995753266641},{"$f":"+'[1]itcer resto del mundo'!AX207","v":-0.10081373913295977},null,{"$f":"+'[1]itcer resto del mundo'!BA207","v":1.7905396390051971},{"$f":"+'[1]itcer resto del mundo'!BB207","v":1.0465632942818432},{"$f":"+'[1]itcer resto del mundo'!BC207","v":1.0029705011648922},{"$f":"+'[1]itcer resto del mundo'!BD207","v":1.320552855270221},{"$f":"+'[1]itcer resto del mundo'!BE207","v":1.4467971057573137},{"$f":"+'[1]itcer resto del mundo'!BF207","v":2.0804111506159018},null,{"$f":"+'[1]itcer resto del mundo'!BG207","v":0.60670304680925813},{"$f":"+'[1]itcer resto del mundo'!BH207","v":0.94596589608057324},{"$f":"+'[1]itcer resto del mundo'!BI207","v":0.76225323095329256},{"$f":"+'[1]itcer resto del mundo'!BJ207","v":0.7355512875605289},{"$f":"+'[1]itcer resto del mundo'!BK207","v":0.75395760020343516},{"$f":"+'[1]itcer resto del mundo'!BL207","v":0.46694865372003891}]
[null,"Septiembre",{"$f":"+'[1]itcer resto del mundo'!AK208","v":108.81577299265746},{"$f":"+'[1]itcer resto del mundo'!AL208","v":98.562075739721365},{"$f":"+'[1]itcer resto del mundo'!AM208","v":76.632249010135908},{"$f":"+'[1]itcer resto del mundo'!AN208","v":96.627581875384223},{"$f":"+'[1]itcer resto del mundo'!AO208","v":109.15586205311955},{"$f":"+'[1]itcer resto del mundo'!AP208","v":98.681333109096258},null,{"$f":"+'[1]itcer resto del mundo'!AS208","v":0.16863038856375567},{"$f":"+'[1]itcer resto del mundo'!AT208","v":-0.44367359465542222},{"$f":"+'[1]itcer resto del mundo'!AU208","v":0.23609466436305127},{"$f":"+'[1]itcer resto del mundo'!AV208","v":-0.52078197547038485},{"$f":"+'[1]itcer resto del mundo'!AW208","v":6.7375388961778526E-2},{"$f":"+'[1]itcer resto del mundo'!AX208","v":1.5819878824615046},null,{"$f":"+'[1]itcer resto del mundo'!BA208","v":1.7940587740492175},{"$f":"+'[1]itcer resto del mundo'!BB208","v":1.0438204171865995},{"$f":"+'[1]itcer resto del mundo'!BC208","v":1.0034964521870642},{"$f":"+'[1]itcer resto del mundo'!BD208","v":1.3177200871602313},{"$f":"+'[1]itcer resto del mundo'!BE208","v":1.4451074437173355},{"$f":"+'[1]itcer resto del mundo'!BF208","v":2.095709977557231},null,{"$f":"+'[1]itcer resto del mundo'!BG208","v":0.60653404763913421},{"$f":"+'[1]itcer resto del mundo'!BH208","v":0.9442436085449919},{"$f":"+'[1]itcer resto del mundo'!BI208","v":0.7636524159414837},{"$f":"+'[1]itcer resto del mundo'!BJ208","v":0.73329368518334326},{"$f":"+'[1]itcer resto del mundo'!BK208","v":0.75534772537280315},{"$f":"+'[1]itcer resto del mundo'!BL208","v":0.47087304143161862}]
[null,"Octubre",{"$f":"+'[1]itcer resto del mundo'!AK209","v":108.02938664906046},{"$f":"+'[1]itcer resto del mundo'!AL209","v":98.549365871501607},{"$f":"+'[1]itcer resto del mundo'!AM209","v":76.453091962675629},{"$f":"+'[1]itcer resto del mundo'!AN209","v":95.998284306613812},{"$f":"+'[1]itcer resto del mundo'!AO209","v":108.70870772488439},{"$f":"+'[1]itcer resto del mundo'!AP209","v":99.697776078352476},null,{"$f":"+'[1]itcer resto del mundo'!AS209","v":-0.7226767976459314},{"$f":"+'[1]itcer resto del mundo'!AT209","v":-1.2895292762820532E-2},{"$f":"+'[1]itcer resto del mundo'!AU209","v":-0.23378805891053389},{"$f":"+'[1]itcer resto del mundo'!AV209","v":-0.65126080623852545},{"$f":"+'[1]itcer resto del mundo'!AW209","v":-0.40964756250797052},{"$f":"+'[1]itcer resto del mundo'!AX209","v":1.0300255754880112},null,{"$f":"+'[1]itcer resto del mundo'!BA209","v":1.7886438905716933},{"$f":"+'[1]itcer resto del mundo'!BB209","v":1.042374471532246},{"$f":"+'[1]itcer resto del mundo'!BC209","v":1.0036081730415598},{"$f":"+'[1]itcer resto del mundo'!BD209","v":1.3156309119632337},{"$f":"+'[1]itcer resto del mundo'!BE209","v":1.4489612525057252},{"$f":"+'[1]itcer resto del mundo'!BF209","v":2.1264457495199269},null,{"$f":"+'[1]itcer resto del mundo'!BG209","v":0.60397369883689767},{"$f":"+'[1]itcer resto del mundo'!BH209","v":0.94543149859223075},{"$f":"+'[1]itcer resto del mundo'!BI209","v":0.76178227735008353},{"$f":"+'[1]itcer resto del mundo'!BJ209","v":0.72967489159525434},{"$f":"+'[1]itcer resto del mundo'!BK209","v":0.75025268989692917},{"$f":"+'[1]itcer resto del mundo'!BL209","v":0.46884702372896453}]
[null,"Noviembre",{"$f":"+'[1]itcer resto del mundo'!AK210","v":106.79136112501406},{"$f":"+'[1]itcer resto del mundo'!AL210","v":98.261349219723371},{"$f":"+'[1]itcer resto del mundo'!AM210","v":76.130393504332503},{"$f":"+'[1]itcer resto del mundo'!AN210","v":95.724694470365947},{"$f":"+'[1]itcer resto del mundo'!AO210","v":108.75298888092638},{"$f":"+'[1]itcer resto del mundo'!AP210","v":99.556585981820916},null,{"$f":"+'[1]itcer resto del mundo'!AS210","v":-1.1460081024695512},{"$f":"+'[1]itcer resto del mundo'!AT210","v":-0.29225622025187192},{"$f":"+'[1]itcer resto del mundo'!AU210","v":-0.42208686406125651},{"$f":"+'[1]itcer resto del mundo'!AV210","v":-0.28499450612474675},{"$f":"+'[1]itcer resto del mundo'!AW210","v":4.0733770981859152E-2},{"$f":"+'[1]itcer resto del mundo'!AX210","v":-0.14161810030806521},null,{"$f":"+'[1]itcer resto del mundo'!BA210","v":1.7868569227842808},{"$f":"+'[1]itcer resto del mundo'!BB210","v":1.0463358649267991},{"$f":"+'[1]itcer resto del mundo'!BC210","v":1.0053355120424725},{"$f":"+'[1]itcer resto del mundo'!BD210","v":1.3202247460840109},{"$f":"+'[1]itcer resto del mundo'!BE210","v":1.461209415838348},{"$f":"+'[1]itcer resto del mundo'!BF210","v":2.1386225095823965},null,{"$f":"+'[1]itcer resto del mundo'!BG210","v":0.59764920046654735},{"$f":"+'[1]itcer resto del mundo'!BH210","v":0.9390995044081536},{"$f":"+'[1]itcer resto del mundo'!BI210","v":0.75726354627286063},{"$f":"+'[1]itcer resto del mundo'!BJ210","v":0.72506362840342198},{"$f":"+'[1]itcer resto del mundo'!BK210","v":0.7442669592881791},{"$f":"+'[1]itcer resto del mundo'!BL210","v":0.46551733901492082}]
[null,"Diciembre",{"$f":"+'[1]itcer resto del mundo'!AK211","v":106.72269197220686},{"$f":"+'[1]itcer resto del mundo'!AL211","v":98.073976123811079},{"$f":"+'[1]itcer resto del mundo'!AM211","v":75.534437763392972},{"$f":"+'[1]itcer resto del mundo'!AN211","v":95.467069061349846},{"$f":"+'[1]itcer resto del mundo'!AO211","v":108.09236897706978},{"$f":"+'[1]itcer resto del mundo'!AP211","v":97.989544575138311},null,{"$f":"+'[1]itcer resto del mundo'!AS211","v":-6.4302160852520274E-2},{"$f":"+'[1]itcer resto del mundo'!AT211","v":-0.19068850305862384},{"$f":"+'[1]itcer resto del mundo'!AU211","v":-0.78280922179341417},{"$f":"+'[1]itcer resto del mundo'!AV211","v":-0.26913160751415433},{"$f":"+'[1]itcer resto del mundo'!AW211","v":-0.60744988312910664},{"$f":"+'[1]itcer resto del mundo'!AX211","v":-1.5740208357172349},null,{"$f":"+'[1]itcer resto del mundo'!BA211","v":1.7989719484588098},{"$f":"+'[1]itcer resto del mundo'!BB211","v":1.0508330954471337},{"$f":"+'[1]itcer resto del mundo'!BC211","v":1.0078203295212671},{"$f":"+'[1]itcer resto del mundo'!BD211","v":1.3248187182234863},{"$f":"+'[1]itcer resto del mundo'!BE211","v":1.4718550891226791},{"$f":"+'[1]itcer resto del mundo'!BF211","v":2.1156853996622731},null,{"$f":"+'[1]itcer resto del mundo'!BG211","v":0.59324266875665743},{"$f":"+'[1]itcer resto del mundo'!BH211","v":0.93329736709596312},{"$f":"+'[1]itcer resto del mundo'!BI211","v":0.74948317225624128},{"$f":"+'[1]itcer resto del mundo'!BJ211","v":0.72060477217114094},{"$f":"+'[1]itcer resto del mundo'!BK211","v":0.73439545629114766},{"$f":"+'[1]itcer resto del mundo'!BL211","v":0.46315744576570961}]
[2007,"Enero",{"$f":"+'[1]itcer resto del mundo'!AK212","v":105.34802684028205},{"$f":"+'[1]itcer resto del mundo'!AL212","v":96.614098639608954},{"$f":"+'[1]itcer resto del mundo'!AM212","v":75.057775775097525},{"$f":"+'[1]itcer resto del mundo'!AN212","v":94.603508653849104},{"$f":"+'[1]itcer resto del mundo'!AO212","v":107.11596934599585},{"$f":"+'[1]itcer resto del mundo'!AP212","v":98.638553393899912},null,{"$f":"+'[1]itcer resto del mundo'!AS212","v":-1.2880720177886928},{"$f":"+'[1]itcer resto del mundo'!AT212","v":-1.4885472598349025},{"$f":"+'[1]itcer resto del mundo'!AU212","v":-0.63105254028442914},{"$f":"+'[1]itcer resto del mundo'!AV212","v":-0.90456365319624865},{"$f":"+'[1]itcer resto del mundo'!AW212","v":-0.90330116761624879},{"$f":"+'[1]itcer resto del mundo'!AX212","v":0.6623245587838511},null,{"$f":"+'[1]itcer resto del mundo'!BA212","v":1.7911116388428518},{"$f":"+'[1]itcer resto del mundo'!BB212","v":1.0455925394402033},{"$f":"+'[1]itcer resto del mundo'!BC212","v":1.0126434772502326},{"$f":"+'[1]itcer resto del mundo'!BD212","v":1.3190358444698596},{"$f":"+'[1]itcer resto del mundo'!BE212","v":1.4693046916101136},{"$f":"+'[1]itcer resto del mundo'!BF212","v":2.1457132324757739},null,{"$f":"+'[1]itcer resto del mundo'!BG212","v":0.58817119243523075},{"$f":"+'[1]itcer resto del mundo'!BH212","v":0.924012892166722},{"$f":"+'[1]itcer resto del mundo'!BI212","v":0.74120633235017752},{"$f":"+'[1]itcer resto del mundo'!BJ212","v":0.71721711771882668},{"$f":"+'[1]itcer resto del mundo'!BK212","v":0.72902489155339578},{"$f":"+'[1]itcer resto del mundo'!BL212","v":0.45970054106479291}]
[null,"Febrero",{"$f":"+'[1]itcer resto del mundo'!AK213","v":105.72325764977717},{"$f":"+'[1]itcer resto del mundo'!AL213","v":97.284686919706004},{"$f":"+'[1]itcer resto del mundo'!AM213","v":75.301078359191706},{"$f":"+'[1]itcer resto del mundo'!AN213","v":94.205127537100111},{"$f":"+'[1]itcer resto del mundo'!AO213","v":106.83837559351653},{"$f":"+'[1]itcer resto del mundo'!AP213","v":97.807225399000018},null,{"$f":"+'[1]itcer resto del mundo'!AS213","v":0.35618209543117985},{"$f":"+'[1]itcer resto del mundo'!AT213","v":0.69408946472550781},{"$f":"+'[1]itcer resto del mundo'!AU213","v":0.324153735681179},{"$f":"+'[1]itcer resto del mundo'!AV213","v":-0.42110606933898964},{"$f":"+'[1]itcer resto del mundo'!AW213","v":-0.2591525373613166},{"$f":"+'[1]itcer resto del mundo'!AX213","v":-0.84280229818466523},null,{"$f":"+'[1]itcer resto del mundo'!BA213","v":1.7968290862698499},{"$f":"+'[1]itcer resto del mundo'!BB213","v":1.0463252371594411},{"$f":"+'[1]itcer resto del mundo'!BC213","v":1.0152384593914017},{"$f":"+'[1]itcer resto del mundo'!BD213","v":1.3199245185123027},{"$f":"+'[1]itcer resto del mundo'!BE213","v":1.4773948138852289},{"$f":"+'[1]itcer resto del mundo'!BF213","v":2.1252260134305532},null,{"$f":"+'[1]itcer resto del mundo'!BG213","v":0.58838794662020255},{"$f":"+'[1]itcer resto del mundo'!BH213","v":0.92977482970604863},{"$f":"+'[1]itcer resto del mundo'!BI213","v":0.74170829190544973},{"$f":"+'[1]itcer resto del mundo'!BJ213","v":0.71371602099852993},{"$f":"+'[1]itcer resto del mundo'!BK213","v":0.7231538556207241},{"$f":"+'[1]itcer resto del mundo'!BL213","v":0.46022034729905731}]
[null,"Marzo",{"$f":"+'[1]itcer resto del mundo'!AK214","v":106.03827925800238},{"$f":"+'[1]itcer resto del mundo'!AL214","v":97.656707205523603},{"$f":"+'[1]itcer resto del mundo'!AM214","v":75.286791307021332},{"$f":"+'[1]itcer resto del mundo'!AN214","v":94.558005931479812},{"$f":"+'[1]itcer resto del mundo'!AO214","v":107.04101689738921},{"$f":"+'[1]itcer resto del mundo'!AP214","v":96.337962297171046},null,{"$f":"+'[1]itcer resto del mundo'!AS214","v":0.29796812473254874},{"$f":"+'[1]itcer resto del mundo'!AT214","v":0.38240374471745042},{"$f":"+'[1]itcer resto del mundo'!AU214","v":-1.8973237145729627E-2},{"$f":"+'[1]itcer resto del mundo'!AV214","v":0.37458512461621751},{"$f":"+'[1]itcer resto del mundo'!AW214","v":0.18967089563741979},{"$f":"+'[1]itcer resto del mundo'!AX214","v":-1.5022030282887329},null,{"$f":"+'[1]itcer resto del mundo'!BA214","v":1.8017758656058751},{"$f":"+'[1]itcer resto del mundo'!BB214","v":1.0487578225165468},{"$f":"+'[1]itcer resto del mundo'!BC214","v":1.0161160162644729},{"$f":"+'[1]itcer resto del mundo'!BD214","v":1.3235882624601967},{"$f":"+'[1]itcer resto del mundo'!BE214","v":1.4857143728184032},{"$f":"+'[1]itcer resto del mundo'!BF214","v":2.0934288378591757},null,{"$f":"+'[1]itcer resto del mundo'!BG214","v":0.58852092139854129},{"$f":"+'[1]itcer resto del mundo'!BH214","v":0.93116547127335336},{"$f":"+'[1]itcer resto del mundo'!BI214","v":0.74092711956058566},{"$f":"+'[1]itcer resto del mundo'!BJ214","v":0.71440650097426639},{"$f":"+'[1]itcer resto del mundo'!BK214","v":0.72046834072374355},{"$f":"+'[1]itcer resto del mundo'!BL214","v":0.46019220025501373}]
[null,"Abril",{"$f":"+'[1]itcer resto del mundo'!AK215","v":106.22633984451551},{"$f":"+'[1]itcer resto del mundo'!AL215","v":98.545539071942315},{"$f":"+'[1]itcer resto del mundo'!AM215","v":75.534538557878264},{"$f":"+'[1]itcer resto del mundo'!AN215","v":94.841216440788799},{"$f":"+'[1]itcer resto del mundo'!AO215","v":107.10776118764323},{"$f":"+'[1]itcer resto del mundo'!AP215","v":94.758777951720191},null,{"$f":"+'[1]itcer resto del mundo'!AS215","v":0.17735160154339269},{"$f":"+'[1]itcer resto del mundo'!AT215","v":0.91015957004174197},{"$f":"+'[1]itcer resto del mundo'!AU215","v":0.32907133715742987},{"$f":"+'[1]itcer resto del mundo'!AV215","v":0.29950981571482771},{"$f":"+'[1]itcer resto del mundo'!AW215","v":6.2353938881216209E-2},{"$f":"+'[1]itcer resto del mundo'!AX215","v":-1.6392129413943621},null,{"$f":"+'[1]itcer resto del mundo'!BA215","v":1.8116689963280963},{"$f":"+'[1]itcer resto del mundo'!BB215","v":1.053274168810205},{"$f":"+'[1]itcer resto del mundo'!BC215","v":1.0166167579801479},{"$f":"+'[1]itcer resto del mundo'!BD215","v":1.3273894934426895},{"$f":"+'[1]itcer resto del mundo'!BE215","v":1.4935826915520098},{"$f":"+'[1]itcer resto del mundo'!BF215","v":2.0641422272060019},null,{"$f":"+'[1]itcer resto del mundo'!BG215","v":0.58634518811005676},{"$f":"+'[1]itcer resto del mundo'!BH215","v":0.93561146746113499},{"$f":"+'[1]itcer resto del mundo'!BI215","v":0.74299914854790616},{"$f":"+'[1]itcer resto del mundo'!BJ215","v":0.71449425288737667},{"$f":"+'[1]itcer resto del mundo'!BK215","v":0.71711972690541526},{"$f":"+'[1]itcer resto del mundo'!BL215","v":0.45907097244933814}]
[null,"Mayo",{"$f":"+'[1]itcer resto del mundo'!AK216","v":105.70078791761975},{"$f":"+'[1]itcer resto del mundo'!AL216","v":99.49426307874765},{"$f":"+'[1]itcer resto del mundo'!AM216","v":76.053886705044974},{"$f":"+'[1]itcer resto del mundo'!AN216","v":94.936672051086063},{"$f":"+'[1]itcer resto del mundo'!AO216","v":107.11803413661599},{"$f":"+'[1]itcer resto del mundo'!AP216","v":94.00328030098207},null,{"$f":"+'[1]itcer resto del mundo'!AS216","v":-0.49474727987899314},{"$f":"+'[1]itcer resto del mundo'!AT216","v":0.96272648740875866},{"$f":"+'[1]itcer resto del mundo'!AU216","v":0.68756380469415035},{"$f":"+'[1]itcer resto del mundo'!AV216","v":0.10064781313391791},{"$f":"+'[1]itcer resto del mundo'!AW216","v":9.5912274319402968E-3},{"$f":"+'[1]itcer resto del mundo'!AX216","v":-0.79728513502259091},null,{"$f":"+'[1]itcer resto del mundo'!BA216","v":1.8144343132987557},{"$f":"+'[1]itcer resto del mundo'!BB216","v":1.0546522851844942},{"$f":"+'[1]itcer resto del mundo'!BC216","v":1.0169888323793848},{"$f":"+'[1]itcer resto del mundo'!BD216","v":1.3277011183208967},{"$f":"+'[1]itcer resto del mundo'!BE216","v":1.4990416175844943},{"$f":"+'[1]itcer resto del mundo'!BF216","v":2.0602327784107848},null,{"$f":"+'[1]itcer resto del mundo'!BG216","v":0.58255505389693085},{"$f":"+'[1]itcer resto del mundo'!BH216","v":0.94338451143016044},{"$f":"+'[1]itcer resto del mundo'!BI216","v":0.74783403989900743},{"$f":"+'[1]itcer resto del mundo'!BJ216","v":0.71504550791634192},{"$f":"+'[1]itcer resto del mundo'!BK216","v":0.71457678612834263},{"$f":"+'[1]itcer resto del mundo'!BL216","v":0.45627504467477686}]
[null,"Junio",{"$f":"+'[1]itcer resto del mundo'!AK217","v":105.02626067344336},{"$f":"+'[1]itcer resto del mundo'!AL217","v":98.835435540663013},{"$f":"+'[1]itcer resto del mundo'!AM217","v":76.124599933289161},{"$f":"+'[1]itcer resto del mundo'!AN217","v":94.538182891959579},{"$f":"+'[1]itcer resto del mundo'!AO217","v":106.2499442024895},{"$f":"+'[1]itcer resto del mundo'!AP217","v":94.434412201604161},null,{"$f":"+'[1]itcer resto del mundo'!AS217","v":-0.63814779195600124},{"$f":"+'[1]itcer resto del mundo'!AT217","v":-0.6621764086670936},{"$f":"+'[1]itcer resto del mundo'!AU217","v":9.2977796806664514E-2},{"$f":"+'[1]itcer resto del mundo'!AV217","v":-0.41974207702588728},{"$f":"+'[1]itcer resto del mundo'!AW217","v":-0.81040502761592847},{"$f":"+'[1]itcer resto del mundo'!AX217","v":0.45863495320767811},null,{"$f":"+'[1]itcer resto del mundo'!BA217","v":1.8104322389147562},{"$f":"+'[1]itcer resto del mundo'!BB217","v":1.0529320084222233},{"$f":"+'[1]itcer resto del mundo'!BC217","v":1.0209828195666864},{"$f":"+'[1]itcer resto del mundo'!BD217","v":1.3253857964577118},{"$f":"+'[1]itcer resto del mundo'!BE217","v":1.4996275509256307},{"$f":"+'[1]itcer resto del mundo'!BF217","v":2.0747037301442606},null,{"$f":"+'[1]itcer resto del mundo'!BG217","v":0.58011704838177314},{"$f":"+'[1]itcer resto del mundo'!BH217","v":0.93866873406920148},{"$f":"+'[1]itcer resto del mundo'!BI217","v":0.74560118421578403},{"$f":"+'[1]itcer resto del mundo'!BJ217","v":0.71328803390399054},{"$f":"+'[1]itcer resto del mundo'!BK217","v":0.70850888366853326},{"$f":"+'[1]itcer resto del mundo'!BL217","v":0.4551705905258957}]
[null,"Julio",{"$f":"+'[1]itcer resto del mundo'!AK218","v":104.6844768882538},{"$f":"+'[1]itcer resto del mundo'!AL218","v":98.597186992822046},{"$f":"+'[1]itcer resto del mundo'!AM218","v":75.910866420852372},{"$f":"+'[1]itcer resto del mundo'!AN218","v":94.242657824795273},{"$f":"+'[1]itcer resto del mundo'!AO218","v":106.35023707249476},{"$f":"+'[1]itcer resto del mundo'!AP218","v":96.229824904048584},null,{"$f":"+'[1]itcer resto del mundo'!AS218","v":-0.32542697702268697},{"$f":"+'[1]itcer resto del mundo'!AT218","v":-0.24105579799154953},{"$f":"+'[1]itcer resto del mundo'!AU218","v":-0.28076799434623467},{"$f":"+'[1]itcer resto del mundo'!AV218","v":-0.3125986327683421},{"$f":"+'[1]itcer resto del mundo'!AW218","v":9.4393338987657671E-2},{"$f":"+'[1]itcer resto del mundo'!AX218","v":1.9012271698281609},null,{"$f":"+'[1]itcer resto del mundo'!BA218","v":1.8215335077616763},{"$f":"+'[1]itcer resto del mundo'!BB218","v":1.0577789674163505},{"$f":"+'[1]itcer resto del mundo'!BC218","v":1.0250072619630224},{"$f":"+'[1]itcer resto del mundo'!BD218","v":1.3306207011571354},{"$f":"+'[1]itcer resto del mundo'!BE218","v":1.5126908589951846},{"$f":"+'[1]itcer resto del mundo'!BF218","v":2.1196546816928739},null,{"$f":"+'[1]itcer resto del mundo'!BG218","v":0.57470519450883661},{"$f":"+'[1]itcer resto del mundo'!BH218","v":0.93211521527647634},{"$f":"+'[1]itcer resto del mundo'!BI218","v":0.74058857178702497},{"$f":"+'[1]itcer resto del mundo'!BJ218","v":0.70826087210908328},{"$f":"+'[1]itcer resto del mundo'!BK218","v":0.70305334655845442},{"$f":"+'[1]itcer resto del mundo'!BL218","v":0.45398821673723799}]
[null,"Agosto",{"$f":"+'[1]itcer resto del mundo'!AK219","v":103.73753078452567},{"$f":"+'[1]itcer resto del mundo'!AL219","v":98.575818259629017},{"$f":"+'[1]itcer resto del mundo'!AM219","v":74.872569156607383},{"$f":"+'[1]itcer resto del mundo'!AN219","v":93.510933659295191},{"$f":"+'[1]itcer resto del mundo'!AO219","v":106.90167179022228},{"$f":"+'[1]itcer resto del mundo'!AP219","v":96.473441473736756},null,{"$f":"+'[1]itcer resto del mundo'!AS219","v":-0.90457165367406844},{"$f":"+'[1]itcer resto del mundo'!AT219","v":-2.167276151051567E-2},{"$f":"+'[1]itcer resto del mundo'!AU219","v":-1.3677847628409836},{"$f":"+'[1]itcer resto del mundo'!AV219","v":-0.77642564671765513},{"$f":"+'[1]itcer resto del mundo'!AW219","v":0.51850821672509539},{"$f":"+'[1]itcer resto del mundo'!AX219","v":0.25316118981935176},null,{"$f":"+'[1]itcer resto del mundo'!BA219","v":1.8179865366567645},{"$f":"+'[1]itcer resto del mundo'!BB219","v":1.056239394841519},{"$f":"+'[1]itcer resto del mundo'!BC219","v":1.0206015086300102},{"$f":"+'[1]itcer resto del mundo'!BD219","v":1.330871959480973},{"$f":"+'[1]itcer resto del mundo'!BE219","v":1.5246612601948},{"$f":"+'[1]itcer resto del mundo'!BF219","v":2.1124935721288929},null,{"$f":"+'[1]itcer resto del mundo'!BG219","v":0.57061770641765364},{"$f":"+'[1]itcer resto del mundo'!BH219","v":0.93327155511388227},{"$f":"+'[1]itcer resto del mundo'!BI219","v":0.73361217403167989},{"$f":"+'[1]itcer resto del mundo'!BJ219","v":0.70262907707337618},{"$f":"+'[1]itcer resto del mundo'!BK219","v":0.7011503117522897},{"$f":"+'[1]itcer resto del mundo'!BL219","v":0.45668040247106834}]
[null,"Septiembre",{"$f":"+'[1]itcer resto del mundo'!AK220","v":104.05793316773627},{"$f":"+'[1]itcer resto del mundo'!AL220","v":98.712541746219273},{"$f":"+'[1]itcer resto del mundo'!AM220","v":75.314766028609199},{"$f":"+'[1]itcer resto del mundo'!AN220","v":93.811763140359687},{"$f":"+'[1]itcer resto del mundo'!AO220","v":107.12593191106551},{"$f":"+'[1]itcer resto del mundo'!AP220","v":97.171180259205826},null,{"$f":"+'[1]itcer resto del mundo'!AS220","v":0.30885869442573721},{"$f":"+'[1]itcer resto del mundo'!AT220","v":0.1386988097122952},{"$f":"+'[1]itcer resto del mundo'!AU220","v":0.59059930356724522},{"$f":"+'[1]itcer resto del mundo'!AV220","v":0.32170514109137116},{"$f":"+'[1]itcer resto del mundo'!AW220","v":0.20978167795475144},{"$f":"+'[1]itcer resto del mundo'!AX220","v":0.72324442334630135},null,{"$f":"+'[1]itcer resto del mundo'!BA220","v":1.8288272385827893},{"$f":"+'[1]itcer resto del mundo'!BB220","v":1.0612261880494738},{"$f":"+'[1]itcer resto del mundo'!BC220","v":1.0299037746534767},{"$f":"+'[1]itcer resto del mundo'!BD220","v":1.3363295144551393},{"$f":"+'[1]itcer resto del mundo'!BE220","v":1.5399078353124962},{"$f":"+'[1]itcer resto del mundo'!BF220","v":2.1467531662113175},null,{"$f":"+'[1]itcer resto del mundo'!BG220","v":0.56898722291764281},{"$f":"+'[1]itcer resto del mundo'!BH220","v":0.93017438561002919},{"$f":"+'[1]itcer resto del mundo'!BI220","v":0.73127963875993895},{"$f":"+'[1]itcer resto del mundo'!BJ220","v":0.70201071012496119},{"$f":"+'[1]itcer resto del mundo'!BK220","v":0.69566456806375199},{"$f":"+'[1]itcer resto del mundo'!BL220","v":0.45264253845586583}]
[null,"Octubre",{"$f":"+'[1]itcer resto del mundo'!AK221","v":104.67374363483938},{"$f":"+'[1]itcer resto del mundo'!AL221","v":98.924341782619834},{"$f":"+'[1]itcer resto del mundo'!AM221","v":75.999947771971264},{"$f":"+'[1]itcer resto del mundo'!AN221","v":93.333037443574881},{"$f":"+'[1]itcer resto del mundo'!AO221","v":106.63880159400563},{"$f":"+'[1]itcer resto del mundo'!AP221","v":97.887278475557324},null,{"$f":"+'[1]itcer resto del mundo'!AS221","v":0.59179578947667721},{"$f":"+'[1]itcer resto del mundo'!AT221","v":0.21456243822095189},{"$f":"+'[1]itcer resto del mundo'!AU221","v":0.90975751435222207},{"$f":"+'[1]itcer resto del mundo'!AV221","v":-0.51030455111322226},{"$f":"+'[1]itcer resto del mundo'!AW221","v":-0.45472679524905857},{"$f":"+'[1]itcer resto del mundo'!AX221","v":0.73694506379493419},null,{"$f":"+'[1]itcer resto del mundo'!BA221","v":1.844494313978611},{"$f":"+'[1]itcer resto del mundo'!BB221","v":1.0678667657403067},{"$f":"+'[1]itcer resto del mundo'!BC221","v":1.0399651186446734},{"$f":"+'[1]itcer resto del mundo'!BD221","v":1.3421568204475756},{"$f":"+'[1]itcer resto del mundo'!BE221","v":1.5598923614156142},{"$f":"+'[1]itcer resto del mundo'!BF221","v":2.1669140791629702},null,{"$f":"+'[1]itcer resto del mundo'!BG221","v":0.56749290492013504},{"$f":"+'[1]itcer resto del mundo'!BH221","v":0.92637344804002586},{"$f":"+'[1]itcer resto del mundo'!BI221","v":0.7307932392099612},{"$f":"+'[1]itcer resto del mundo'!BJ221","v":0.69539591813459378},{"$f":"+'[1]itcer resto del mundo'!BK221","v":0.68362923129663944},{"$f":"+'[1]itcer resto del mundo'!BL221","v":0.45173585522767468}]
[null,"Noviembre",{"$f":"+'[1]itcer resto del mundo'!AK222","v":103.86149247728828},{"$f":"+'[1]itcer resto del mundo'!AL222","v":98.839479848698844},{"$f":"+'[1]itcer resto del mundo'!AM222","v":74.618914328196581},{"$f":"+'[1]itcer resto del mundo'!AN222","v":92.844938344229959},{"$f":"+'[1]itcer resto del mundo'!AO222","v":104.06989715333391},{"$f":"+'[1]itcer resto del mundo'!AP222","v":97.145543369759963},null,{"$f":"+'[1]itcer resto del mundo'!AS222","v":-0.77598367015961855},{"$f":"+'[1]itcer resto del mundo'!AT222","v":-8.5784683922867089E-2},{"$f":"+'[1]itcer resto del mundo'!AU222","v":-1.8171505168902371},{"$f":"+'[1]itcer resto del mundo'!AV222","v":-0.52296497865506808},{"$f":"+'[1]itcer resto del mundo'!AW222","v":-2.4089772224298116},{"$f":"+'[1]itcer resto del mundo'!AX222","v":-0.757744129113334},null,{"$f":"+'[1]itcer resto del mundo'!BA222","v":1.8424850070728809},{"$f":"+'[1]itcer resto del mundo'!BB222","v":1.0752119023963673},{"$f":"+'[1]itcer resto del mundo'!BC222","v":1.0344173285578084},{"$f":"+'[1]itcer resto del mundo'!BD222","v":1.3511825448771977},{"$f":"+'[1]itcer resto del mundo'!BE222","v":1.5788503048770526},{"$f":"+'[1]itcer resto del mundo'!BF222","v":2.176889037012983},null,{"$f":"+'[1]itcer resto del mundo'!BG222","v":0.56370332501261966},{"$f":"+'[1]itcer resto del mundo'!BH222","v":0.91925581951252011},{"$f":"+'[1]itcer resto del mundo'!BI222","v":0.72136179729539884},{"$f":"+'[1]itcer resto del mundo'!BJ222","v":0.68713837886847606},{"$f":"+'[1]itcer resto del mundo'!BK222","v":0.65914986893857552},{"$f":"+'[1]itcer resto del mundo'!BL222","v":0.44625859066780077}]
[null,"Diciembre",{"$f":"+'[1]itcer resto del mundo'!AK223","v":98.861328300337661},{"$f":"+'[1]itcer resto del mundo'!AL223","v":99.12737680392722},{"$f":"+'[1]itcer resto del mundo'!AM223","v":73.657222003845533},{"$f":"+'[1]itcer resto del mundo'!AN223","v":92.531880319468399},{"$f":"+'[1]itcer resto del mundo'!AO223","v":102.87129766380875},{"$f":"+'[1]itcer resto del mundo'!AP223","v":96.240542418047667},null,{"$f":"+'[1]itcer resto del mundo'!AS223","v":-4.814261818973975},{"$f":"+'[1]itcer resto del mundo'!AT223","v":0.29127728683829446},{"$f":"+'[1]itcer resto del mundo'!AU223","v":-1.2888050342319843},{"$f":"+'[1]itcer resto del mundo'!AV223","v":-0.33718372842348288},{"$f":"+'[1]itcer resto del mundo'!AW223","v":-1.1517254482909465},{"$f":"+'[1]itcer resto del mundo'!AX223","v":-0.93159286604392832},null,{"$f":"+'[1]itcer resto del mundo'!BA223","v":1.7807909025598938},{"$f":"+'[1]itcer resto del mundo'!BB223","v":1.0726788330711803},{"$f":"+'[1]itcer resto del mundo'!BC223","v":1.0296980336859418},{"$f":"+'[1]itcer resto del mundo'!BD223","v":1.3482190195759878},{"$f":"+'[1]itcer resto del mundo'!BE223","v":1.5775146996347751},{"$f":"+'[1]itcer resto del mundo'!BF223","v":2.1797244941455265},null,{"$f":"+'[1]itcer resto del mundo'!BG223","v":0.55515405069862001},{"$f":"+'[1]itcer resto del mundo'!BH223","v":0.92411049559089575},{"$f":"+'[1]itcer resto del mundo'!BI223","v":0.71532837389404003},{"$f":"+'[1]itcer resto del mundo'!BJ223","v":0.68632676869200016},{"$f":"+'[1]itcer resto del mundo'!BK223","v":0.65210991496703907},{"$f":"+'[1]itcer resto del mundo'!BL223","v":0.4415261776272093}]
[2008,"Enero",{"$f":"+'[1]itcer resto del mundo'!AK224","v":98.590421977516073},{"$f":"+'[1]itcer resto del mundo'!AL224","v":98.767393939346732},{"$f":"+'[1]itcer resto del mundo'!AM224","v":74.142285405384371},{"$f":"+'[1]itcer resto del mundo'!AN224","v":92.559952358812168},{"$f":"+'[1]itcer resto del mundo'!AO224","v":102.77429554277072},{"$f":"+'[1]itcer resto del mundo'!AP224","v":96.53020608735666},null,{"$f":"+'[1]itcer resto del mundo'!AS224","v":-0.27402658600598784},{"$f":"+'[1]itcer resto del mundo'!AT224","v":-0.36315181152481557},{"$f":"+'[1]itcer resto del mundo'!AU224","v":0.65854153651561376},{"$f":"+'[1]itcer resto del mundo'!AV224","v":3.0337694691652928E-2},{"$f":"+'[1]itcer resto del mundo'!AW224","v":-9.4294641207923746E-2},{"$f":"+'[1]itcer resto del mundo'!AX224","v":0.3009788411735741},null,{"$f":"+'[1]itcer resto del mundo'!BA224","v":1.7839931226179182},{"$f":"+'[1]itcer resto del mundo'!BB224","v":1.0761725644740912},{"$f":"+'[1]itcer resto del mundo'!BC224","v":1.0428150604066837},{"$f":"+'[1]itcer resto del mundo'!BD224","v":1.3529351025672929},{"$f":"+'[1]itcer resto del mundo'!BE224","v":1.589578275626794},{"$f":"+'[1]itcer resto del mundo'!BF224","v":2.2021380627692904},null,{"$f":"+'[1]itcer resto del mundo'!BG224","v":0.55263902493547568},{"$f":"+'[1]itcer resto del mundo'!BH224","v":0.91776539562326453},{"$f":"+'[1]itcer resto del mundo'!BI224","v":0.71098211198129313},{"$f":"+'[1]itcer resto del mundo'!BJ224","v":0.68414184969532488},{"$f":"+'[1]itcer resto del mundo'!BK224","v":0.64655070542056403},{"$f":"+'[1]itcer resto del mundo'!BL224","v":0.43834765730340031}]
[null,"Febrero",{"$f":"+'[1]itcer resto del mundo'!AK225","v":97.837655056801466},{"$f":"+'[1]itcer resto del mundo'!AL225","v":98.519476837521367},{"$f":"+'[1]itcer resto del mundo'!AM225","v":74.25077200711992},{"$f":"+'[1]itcer resto del mundo'!AN225","v":91.985299147842994},{"$f":"+'[1]itcer resto del mundo'!AO225","v":101.75973796055594},{"$f":"+'[1]itcer resto del mundo'!AP225","v":97.261584199980405},null,{"$f":"+'[1]itcer resto del mundo'!AS225","v":-0.76352946423769197},{"$f":"+'[1]itcer resto del mundo'!AT225","v":-0.25101107960549029},{"$f":"+'[1]itcer resto del mundo'!AU225","v":0.14632217113673107},{"$f":"+'[1]itcer resto del mundo'!AV225","v":-0.62084432448874338},{"$f":"+'[1]itcer resto del mundo'!AW225","v":-0.98717055354813965},{"$f":"+'[1]itcer resto del mundo'!AX225","v":0.75766761749360967},null,{"$f":"+'[1]itcer resto del mundo'!BA225","v":1.7845205730577438},{"$f":"+'[1]itcer resto del mundo'!BB225","v":1.0786357789649434},{"$f":"+'[1]itcer resto del mundo'!BC225","v":1.0483993096505881},{"$f":"+'[1]itcer resto del mundo'!BD225","v":1.355209649141301},{"$f":"+'[1]itcer resto del mundo'!BE225","v":1.6017252608147983},{"$f":"+'[1]itcer resto del mundo'!BF225","v":2.2115507928367313},null,{"$f":"+'[1]itcer resto del mundo'!BG225","v":0.54825736690251992},{"$f":"+'[1]itcer resto del mundo'!BH225","v":0.91337111895231626},{"$f":"+'[1]itcer resto del mundo'!BI225","v":0.70822988267577469},{"$f":"+'[1]itcer resto del mundo'!BJ225","v":0.67875327781297501},{"$f":"+'[1]itcer resto del mundo'!BK225","v":0.63531331152753834},{"$f":"+'[1]itcer resto del mundo'!BL225","v":0.43978905894910097}]
[null,"Marzo",{"$f":"+'[1]itcer resto del mundo'!AK226","v":99.589952023755387},{"$f":"+'[1]itcer resto del mundo'!AL226","v":99.768094467191972},{"$f":"+'[1]itcer resto del mundo'!AM226","v":73.855856573766616},{"$f":"+'[1]itcer resto del mundo'!AN226","v":92.960300156453513},{"$f":"+'[1]itcer resto del mundo'!AO226","v":102.66541697894827},{"$f":"+'[1]itcer resto del mundo'!AP226","v":97.665545084816657},null,{"$f":"+'[1]itcer resto del mundo'!AS226","v":1.7910251078039323},{"$f":"+'[1]itcer resto del mundo'!AT226","v":1.2673815064302687},{"$f":"+'[1]itcer resto del mundo'!AU226","v":-0.53186710747658594},{"$f":"+'[1]itcer resto del mundo'!AV226","v":1.0599530768970595},{"$f":"+'[1]itcer resto del mundo'!AW226","v":0.89001705049926727},{"$f":"+'[1]itcer resto del mundo'!AX226","v":0.41533446957400599},null,{"$f":"+'[1]itcer resto del mundo'!BA226","v":1.8079926840456892},{"$f":"+'[1]itcer resto del mundo'!BB226","v":1.0913176225888959},{"$f":"+'[1]itcer resto del mundo'!BC226","v":1.046229407277897},{"$f":"+'[1]itcer resto del mundo'!BD226","v":1.3702388830420973},{"$f":"+'[1]itcer resto del mundo'!BE226","v":1.6279180220831768},{"$f":"+'[1]itcer resto del mundo'!BF226","v":2.2395512345247179},null,{"$f":"+'[1]itcer resto del mundo'!BG226","v":0.55083160956661625},{"$f":"+'[1]itcer resto del mundo'!BH226","v":0.91419851015065157},{"$f":"+'[1]itcer resto del mundo'!BI226","v":0.70592411243654896},{"$f":"+'[1]itcer resto del mundo'!BJ226","v":0.67842404201864659},{"$f":"+'[1]itcer resto del mundo'!BK226","v":0.6306547110251397},{"$f":"+'[1]itcer resto del mundo'!BL226","v":0.43609426557969971}]
[null,"Abril",{"$f":"+'[1]itcer resto del mundo'!AK227","v":99.435640579099129},{"$f":"+'[1]itcer resto del mundo'!AL227","v":99.765387536777212},{"$f":"+'[1]itcer resto del mundo'!AM227","v":72.487758152872885},{"$f":"+'[1]itcer resto del mundo'!AN227","v":92.728567969329404},{"$f":"+'[1]itcer resto del mundo'!AO227","v":102.27953874604758},{"$f":"+'[1]itcer resto del mundo'!AP227","v":96.898701108913741},null,{"$f":"+'[1]itcer resto del mundo'!AS227","v":-0.15494680087751078},{"$f":"+'[1]itcer resto del mundo'!AT227","v":-2.7132225279160593E-3},{"$f":"+'[1]itcer resto del mundo'!AU227","v":-1.8523898907425007},{"$f":"+'[1]itcer resto del mundo'!AV227","v":-0.24928080775782746},{"$f":"+'[1]itcer resto del mundo'!AW227","v":-0.37585999673075321},{"$f":"+'[1]itcer resto del mundo'!AX227","v":-0.78517349720104335},null,{"$f":"+'[1]itcer resto del mundo'!BA227","v":1.8120824502514348},{"$f":"+'[1]itcer resto del mundo'!BB227","v":1.0951286122383286},{"$f":"+'[1]itcer resto del mundo'!BC227","v":1.0362849466746467},{"$f":"+'[1]itcer resto del mundo'!BD227","v":1.3734776589168121},{"$f":"+'[1]itcer resto del mundo'!BE227","v":1.636772165979915},{"$f":"+'[1]itcer resto del mundo'!BF227","v":2.2525730258501251},null,{"$f":"+'[1]itcer resto del mundo'!BG227","v":0.54873684453652749},{"$f":"+'[1]itcer resto del mundo'!BH227","v":0.91099242976463901},{"$f":"+'[1]itcer resto del mundo'!BI227","v":0.6994963922372911},{"$f":"+'[1]itcer resto del mundo'!BJ227","v":0.67513706806457596},{"$f":"+'[1]itcer resto del mundo'!BK227","v":0.62488561860907565},{"$f":"+'[1]itcer resto del mundo'!BL227","v":0.43016896676343719}]
[null,"Mayo",{"$f":"+'[1]itcer resto del mundo'!AK228","v":101.2427402993542},{"$f":"+'[1]itcer resto del mundo'!AL228","v":99.21213375637663},{"$f":"+'[1]itcer resto del mundo'!AM228","v":70.900093288692688},{"$f":"+'[1]itcer resto del mundo'!AN228","v":91.61633144831265},{"$f":"+'[1]itcer resto del mundo'!AO228","v":100.50479222612734},{"$f":"+'[1]itcer resto del mundo'!AP228","v":97.082499560658135},null,{"$f":"+'[1]itcer resto del mundo'!AS228","v":1.8173561408472665},{"$f":"+'[1]itcer resto del mundo'!AT228","v":-0.55455483515926574},{"$f":"+'[1]itcer resto del mundo'!AU228","v":-2.1902524021116676},{"$f":"+'[1]itcer resto del mundo'!AV228","v":-1.1994540036298531},{"$f":"+'[1]itcer resto del mundo'!AW228","v":-1.7351921427088257},{"$f":"+'[1]itcer resto del mundo'!AX228","v":0.18968102734196179},null,{"$f":"+'[1]itcer resto del mundo'!BA228","v":1.8672124362927582},{"$f":"+'[1]itcer resto del mundo'!BB228","v":1.093157525365561},{"$f":"+'[1]itcer resto del mundo'!BC228","v":1.0211029912338427},{"$f":"+'[1]itcer resto del mundo'!BD228","v":1.3712158234050422},{"$f":"+'[1]itcer resto del mundo'!BE228","v":1.6414215688187146},{"$f":"+'[1]itcer resto del mundo'!BF228","v":2.24794838474739},null,{"$f":"+'[1]itcer resto del mundo'!BG228","v":0.54221329256121364},{"$f":"+'[1]itcer resto del mundo'!BH228","v":0.90757399052070986},{"$f":"+'[1]itcer resto del mundo'!BI228","v":0.69434811079165526},{"$f":"+'[1]itcer resto del mundo'!BJ228","v":0.66813939778501352},{"$f":"+'[1]itcer resto del mundo'!BK228","v":0.6123033481182889},{"$f":"+'[1]itcer resto del mundo'!BL228","v":0.43187156884639777}]
[null,"Junio",{"$f":"+'[1]itcer resto del mundo'!AK229","v":102.32179489022512},{"$f":"+'[1]itcer resto del mundo'!AL229","v":98.750601358805866},{"$f":"+'[1]itcer resto del mundo'!AM229","v":70.861443080764175},{"$f":"+'[1]itcer resto del mundo'!AN229","v":91.119913577744711},{"$f":"+'[1]itcer resto del mundo'!AO229","v":99.501929416231462},{"$f":"+'[1]itcer resto del mundo'!AP229","v":95.976204723809516},null,{"$f":"+'[1]itcer resto del mundo'!AS229","v":1.0658093485818085},{"$f":"+'[1]itcer resto del mundo'!AT229","v":-0.46519753189070912},{"$f":"+'[1]itcer resto del mundo'!AU229","v":-5.4513620695999521E-2},{"$f":"+'[1]itcer resto del mundo'!AV229","v":-0.54184430081443224},{"$f":"+'[1]itcer resto del mundo'!AW229","v":-0.99782586251163252},{"$f":"+'[1]itcer resto del mundo'!AX229","v":-1.1395409490434361},null,{"$f":"+'[1]itcer resto del mundo'!BA229","v":1.8988181983820716},{"$f":"+'[1]itcer resto del mundo'!BB229","v":1.0926566660343542},{"$f":"+'[1]itcer resto del mundo'!BC229","v":1.0287151838375779},{"$f":"+'[1]itcer resto del mundo'!BD229","v":1.3687632112512558},{"$f":"+'[1]itcer resto del mundo'!BE229","v":1.6461026243837644},{"$f":"+'[1]itcer resto del mundo'!BF229","v":2.2561072686684813},null,{"$f":"+'[1]itcer resto del mundo'!BG229","v":0.53887094076415831},{"$f":"+'[1]itcer resto del mundo'!BH229","v":0.90376606328873144},{"$f":"+'[1]itcer resto del mundo'!BI229","v":0.6888344236975158},{"$f":"+'[1]itcer resto del mundo'!BJ229","v":0.66570983811325113},{"$f":"+'[1]itcer resto del mundo'!BK229","v":0.60446978178824695},{"$f":"+'[1]itcer resto del mundo'!BL229","v":0.42540621209226981}]
[null,"Julio",{"$f":"+'[1]itcer resto del mundo'!AK230","v":104.02642318316911},{"$f":"+'[1]itcer resto del mundo'!AL230","v":98.198196570724832},{"$f":"+'[1]itcer resto del mundo'!AM230","v":70.034343815363499},{"$f":"+'[1]itcer resto del mundo'!AN230","v":89.804862751798936},{"$f":"+'[1]itcer resto del mundo'!AO230","v":99.326561720246303},{"$f":"+'[1]itcer resto del mundo'!AP230","v":95.412066507007509},null,{"$f":"+'[1]itcer resto del mundo'!AS230","v":1.6659483883885997},{"$f":"+'[1]itcer resto del mundo'!AT230","v":-0.55939384720696239},{"$f":"+'[1]itcer resto del mundo'!AU230","v":-1.1672063529075842},{"$f":"+'[1]itcer resto del mundo'!AV230","v":-1.4432090355570324},{"$f":"+'[1]itcer resto del mundo'!AW230","v":-0.17624552309088415},{"$f":"+'[1]itcer resto del mundo'!AX230","v":-0.58778966976807112},null,{"$f":"+'[1]itcer resto del mundo'!BA230","v":1.9650327114361748},{"$f":"+'[1]itcer resto del mundo'!BB230","v":1.0962081613715275},{"$f":"+'[1]itcer resto del mundo'!BC230","v":1.0250025718174509},{"$f":"+'[1]itcer resto del mundo'!BD230","v":1.3718238592871186},{"$f":"+'[1]itcer resto del mundo'!BE230","v":1.6574306774340384},{"$f":"+'[1]itcer resto del mundo'!BF230","v":2.2697458448167946},null,{"$f":"+'[1]itcer resto del mundo'!BG230","v":0.52938774289991231},{"$f":"+'[1]itcer resto del mundo'!BH230","v":0.89579880930519218},{"$f":"+'[1]itcer resto del mundo'!BI230","v":0.68326017652018489},{"$f":"+'[1]itcer resto del mundo'!BJ230","v":0.65463843731706828},{"$f":"+'[1]itcer resto del mundo'!BK230","v":0.5992803383730011},{"$f":"+'[1]itcer resto del mundo'!BL230","v":0.42036453872089269}]
[null,"Agosto",{"$f":"+'[1]itcer resto del mundo'!AK231","v":103.48540456378728},{"$f":"+'[1]itcer resto del mundo'!AL231","v":97.033733431039764},{"$f":"+'[1]itcer resto del mundo'!AM231","v":68.745264762439291},{"$f":"+'[1]itcer resto del mundo'!AN231","v":87.984869654463935},{"$f":"+'[1]itcer resto del mundo'!AO231","v":98.239587710917888},{"$f":"+'[1]itcer resto del mundo'!AP231","v":95.489818981556539},null,{"$f":"+'[1]itcer resto del mundo'!AS231","v":-0.52007807519173355},{"$f":"+'[1]itcer resto del mundo'!AT231","v":-1.1858294554792508},{"$f":"+'[1]itcer resto del mundo'!AU231","v":-1.8406384392244775},{"$f":"+'[1]itcer resto del mundo'!AV231","v":-2.0266086284938325},{"$f":"+'[1]itcer resto del mundo'!AW231","v":-1.0943437389787931},{"$f":"+'[1]itcer resto del mundo'!AX231","v":8.1491238367959795E-2},null,{"$f":"+'[1]itcer resto del mundo'!BA231","v":1.9930370683819125},{"$f":"+'[1]itcer resto del mundo'!BB231","v":1.0858938736055326},{"$f":"+'[1]itcer resto del mundo'!BC231","v":1.0128320834921727},{"$f":"+'[1]itcer resto del mundo'!BD231","v":1.3601584846631842},{"$f":"+'[1]itcer resto del mundo'!BE231","v":1.6494935604079539},{"$f":"+'[1]itcer resto del mundo'!BF231","v":2.2786015835100937},null,{"$f":"+'[1]itcer resto del mundo'!BG231","v":0.51923472074608223},{"$f":"+'[1]itcer resto del mundo'!BH231","v":0.8935839476546189},{"$f":"+'[1]itcer resto del mundo'!BI231","v":0.67874296127558009},{"$f":"+'[1]itcer resto del mundo'!BJ231","v":0.64687218913501554},{"$f":"+'[1]itcer resto del mundo'!BK231","v":0.5955742421123561},{"$f":"+'[1]itcer resto del mundo'!BL231","v":0.41907202940874971}]
[null,"Septiembre",{"$f":"+'[1]itcer resto del mundo'!AK232","v":101.52509080363224},{"$f":"+'[1]itcer resto del mundo'!AL232","v":96.464407377374627},{"$f":"+'[1]itcer resto del mundo'!AM232","v":68.630609826088829},{"$f":"+'[1]itcer resto del mundo'!AN232","v":87.200902838868046},{"$f":"+'[1]itcer resto del mundo'!AO232","v":97.029343658091264},{"$f":"+'[1]itcer resto del mundo'!AP232","v":93.970289179631905},null,{"$f":"+'[1]itcer resto del mundo'!AS232","v":-1.8942900870110009},{"$f":"+'[1]itcer resto del mundo'!AT232","v":-0.58673003040715344},{"$f":"+'[1]itcer resto del mundo'!AU232","v":-0.16678230383820392},{"$f":"+'[1]itcer resto del mundo'!AV232","v":-0.89102458033374887},{"$f":"+'[1]itcer resto del mundo'!AW232","v":-1.2319311196499712},{"$f":"+'[1]itcer resto del mundo'!AX232","v":-1.5913003272297885},null,{"$f":"+'[1]itcer resto del mundo'!BA232","v":1.9724412619370757},{"$f":"+'[1]itcer resto del mundo'!BB232","v":1.074173323357992},{"$f":"+'[1]itcer resto del mundo'!BC232","v":1.0088669968669792},{"$f":"+'[1]itcer resto del mundo'!BD232","v":1.3504900365536325},{"$f":"+'[1]itcer resto del mundo'!BE232","v":1.6310440332838165},{"$f":"+'[1]itcer resto del mundo'!BF232","v":2.2695936569533357},null,{"$f":"+'[1]itcer resto del mundo'!BG232","v":0.51471794249491354},{"$f":"+'[1]itcer resto del mundo'!BH232","v":0.89803391389217846},{"$f":"+'[1]itcer resto del mundo'!BI232","v":0.68027410986007197},{"$f":"+'[1]itcer resto del mundo'!BJ232","v":0.64569823159450612},{"$f":"+'[1]itcer resto del mundo'!BK232","v":0.59489101261564326},{"$f":"+'[1]itcer resto del mundo'!BL232","v":0.41404014719434851}]
[null,"Octubre",{"$f":"+'[1]itcer resto del mundo'!AK233","v":96.742230427710069},{"$f":"+'[1]itcer resto del mundo'!AL233","v":93.600326648220729},{"$f":"+'[1]itcer resto del mundo'!AM233","v":66.120534611136179},{"$f":"+'[1]itcer resto del mundo'!AN233","v":84.502361726888438},{"$f":"+'[1]itcer resto del mundo'!AO233","v":94.995496796114878},{"$f":"+'[1]itcer resto del mundo'!AP233","v":92.626012388733002},null,{"$f":"+'[1]itcer resto del mundo'!AS233","v":-4.711013147649453},{"$f":"+'[1]itcer resto del mundo'!AT233","v":-2.9690543973897547},{"$f":"+'[1]itcer resto del mundo'!AU233","v":-3.6573698256699601},{"$f":"+'[1]itcer resto del mundo'!AV233","v":-3.0946251978216708},{"$f":"+'[1]itcer resto del mundo'!AW233","v":-2.096115242357186},{"$f":"+'[1]itcer resto del mundo'!AX233","v":-1.4305338449360505},null,{"$f":"+'[1]itcer resto del mundo'!BA233","v":1.9086161746321542},{"$f":"+'[1]itcer resto del mundo'!BB233","v":1.0431918125538082},{"$f":"+'[1]itcer resto del mundo'!BC233","v":0.98236542106120395},{"$f":"+'[1]itcer resto del mundo'!BD233","v":1.3264523473318326},{"$f":"+'[1]itcer resto del mundo'!BE233","v":1.6047753243293945},{"$f":"+'[1]itcer resto del mundo'!BF233","v":2.2282148448434094},null,{"$f":"+'[1]itcer resto del mundo'!BG233","v":0.5068710603710308},{"$f":"+'[1]itcer resto del mundo'!BH233","v":0.8972494369859022},{"$f":"+'[1]itcer resto del mundo'!BI233","v":0.67307473566923026},{"$f":"+'[1]itcer resto del mundo'!BJ233","v":0.63705538986655252},{"$f":"+'[1]itcer resto del mundo'!BK233","v":0.59195511892489827},{"$f":"+'[1]itcer resto del mundo'!BL233","v":0.41569605643320462}]
[null,"Noviembre",{"$f":"+'[1]itcer resto del mundo'!AK234","v":93.09572442569069},{"$f":"+'[1]itcer resto del mundo'!AL234","v":92.22157238832763},{"$f":"+'[1]itcer resto del mundo'!AM234","v":65.686373818251653},{"$f":"+'[1]itcer resto del mundo'!AN234","v":82.935980308870711},{"$f":"+'[1]itcer resto del mundo'!AO234","v":93.543700917442195},{"$f":"+'[1]itcer resto del mundo'!AP234","v":94.374201887996719},null,{"$f":"+'[1]itcer resto del mundo'!AS234","v":-3.7693011479037608},{"$f":"+'[1]itcer resto del mundo'!AT234","v":-1.4730229148396887},{"$f":"+'[1]itcer resto del mundo'!AU234","v":-0.65662020949753241},{"$f":"+'[1]itcer resto del mundo'!AV234","v":-1.8536540115651121},{"$f":"+'[1]itcer resto del mundo'!AW234","v":-1.5282786317635839},{"$f":"+'[1]itcer resto del mundo'!AX234","v":1.8873634459474715},null,{"$f":"+'[1]itcer resto del mundo'!BA234","v":1.8805397443655421},{"$f":"+'[1]itcer resto del mundo'!BB234","v":1.0338419138746449},{"$f":"+'[1]itcer resto del mundo'!BC234","v":0.98746637148473715},{"$f":"+'[1]itcer resto del mundo'!BD234","v":1.3186829071287538},{"$f":"+'[1]itcer resto del mundo'!BE234","v":1.5996444221818413},{"$f":"+'[1]itcer resto del mundo'!BF234","v":2.2259644263082063},null,{"$f":"+'[1]itcer resto del mundo'!BG234","v":0.49504789624693296},{"$f":"+'[1]itcer resto del mundo'!BH234","v":0.89202779603603544},{"$f":"+'[1]itcer resto del mundo'!BI234","v":0.6652011219327576},{"$f":"+'[1]itcer resto del mundo'!BJ234","v":0.62893042641655328},{"$f":"+'[1]itcer resto del mundo'!BK234","v":0.58477808955725863},{"$f":"+'[1]itcer resto del mundo'!BL234","v":0.42396994656611681}]
[null,"Diciembre",{"$f":"+'[1]itcer resto del mundo'!AK235","v":93.567499690708274},{"$f":"+'[1]itcer resto del mundo'!AL235","v":92.79660878052006},{"$f":"+'[1]itcer resto del mundo'!AM235","v":66.506381220249409},{"$f":"+'[1]itcer resto del mundo'!AN235","v":83.073694388743405},{"$f":"+'[1]itcer resto del mundo'!AO235","v":94.510666582609602},{"$f":"+'[1]itcer resto del mundo'!AP235","v":96.045035685010845},null,{"$f":"+'[1]itcer resto del mundo'!AS235","v":0.5067636219901317},{"$f":"+'[1]itcer resto del mundo'!AT235","v":0.6235378310088322},{"$f":"+'[1]itcer resto del mundo'!AU235","v":1.2483675903112612},{"$f":"+'[1]itcer resto del mundo'!AV235","v":0.16604865507083844},{"$f":"+'[1]itcer resto del mundo'!AW235","v":1.0337047344543464},{"$f":"+'[1]itcer resto del mundo'!AX235","v":1.7704348896079267},null,{"$f":"+'[1]itcer resto del mundo'!BA235","v":1.8930761805838161},{"$f":"+'[1]itcer resto del mundo'!BB235","v":1.0443174832805764},{"$f":"+'[1]itcer resto del mundo'!BC235","v":1.0022118314598403},{"$f":"+'[1]itcer resto del mundo'!BD235","v":1.3323858871484444},{"$f":"+'[1]itcer resto del mundo'!BE235","v":1.62218275267041},{"$f":"+'[1]itcer resto del mundo'!BF235","v":2.2495691122985968},null,{"$f":"+'[1]itcer resto del mundo'!BG235","v":0.49426167129656923},{"$f":"+'[1]itcer resto del mundo'!BH235","v":0.8885861844332299},{"$f":"+'[1]itcer resto del mundo'!BI235","v":0.66359604958339991},{"$f":"+'[1]itcer resto del mundo'!BJ235","v":0.62349575442094085},{"$f":"+'[1]itcer resto del mundo'!BK235","v":0.58261417480260913},{"$f":"+'[1]itcer resto del mundo'!BL235","v":0.42694858833153415}]
[2009,"Enero",{"$f":"+'[1]itcer resto del mundo'!AK236","v":93.663925013426436},{"$f":"+'[1]itcer resto del mundo'!AL236","v":92.791898301508141},{"$f":"+'[1]itcer resto del mundo'!AM236","v":67.792096322101486},{"$f":"+'[1]itcer resto del mundo'!AN236","v":82.909774081365498},{"$f":"+'[1]itcer resto del mundo'!AO236","v":94.550816698385546},{"$f":"+'[1]itcer resto del mundo'!AP236","v":95.748404758037012},null,{"$f":"+'[1]itcer resto del mundo'!AS236","v":0.10305429025771673},{"$f":"+'[1]itcer resto del mundo'!AT236","v":-5.0761327098314268E-3},{"$f":"+'[1]itcer resto del mundo'!AU236","v":1.9332206598253521},{"$f":"+'[1]itcer resto del mundo'!AV236","v":-0.19731914968274111},{"$f":"+'[1]itcer resto del mundo'!AW236","v":4.2482099881141266E-2},{"$f":"+'[1]itcer resto del mundo'!AX236","v":-0.30884566272291636},null,{"$f":"+'[1]itcer resto del mundo'!BA236","v":1.9019683183686791},{"$f":"+'[1]itcer resto del mundo'!BB236","v":1.0376830294662716},{"$f":"+'[1]itcer resto del mundo'!BC236","v":1.0158021681015297},{"$f":"+'[1]itcer resto del mundo'!BD236","v":1.3267801062636992},{"$f":"+'[1]itcer resto del mundo'!BE236","v":1.6231978214619478},{"$f":"+'[1]itcer resto del mundo'!BF236","v":2.245318082108279},null,{"$f":"+'[1]itcer resto del mundo'!BG236","v":0.4924578612001389},{"$f":"+'[1]itcer resto del mundo'!BH236","v":0.89422198943771225},{"$f":"+'[1]itcer resto del mundo'!BI236","v":0.66737499141984169},{"$f":"+'[1]itcer resto del mundo'!BJ236","v":0.6248946128295888},{"$f":"+'[1]itcer resto del mundo'!BK236","v":0.58249718825538765},{"$f":"+'[1]itcer resto del mundo'!BL236","v":0.42643581558000204}]
[null,"Febrero",{"$f":"+'[1]itcer resto del mundo'!AK237","v":93.340871428581394},{"$f":"+'[1]itcer resto del mundo'!AL237","v":92.152682186587043},{"$f":"+'[1]itcer resto del mundo'!AM237","v":68.360598323671283},{"$f":"+'[1]itcer resto del mundo'!AN237","v":81.860731850247319},{"$f":"+'[1]itcer resto del mundo'!AO237","v":93.578416608538987},{"$f":"+'[1]itcer resto del mundo'!AP237","v":95.388679801643704},null,{"$f":"+'[1]itcer resto del mundo'!AS237","v":-0.3449071612135981},{"$f":"+'[1]itcer resto del mundo'!AT237","v":-0.68887060898796904},{"$f":"+'[1]itcer resto del mundo'!AU237","v":0.83859628542634823},{"$f":"+'[1]itcer resto del mundo'!AV237","v":-1.2652817387835142},{"$f":"+'[1]itcer resto del mundo'!AW237","v":-1.0284417668738826},{"$f":"+'[1]itcer resto del mundo'!AX237","v":-0.37569811977793677},null,{"$f":"+'[1]itcer resto del mundo'!BA237","v":1.8961337148252959},{"$f":"+'[1]itcer resto del mundo'!BB237","v":1.0251163099863945},{"$f":"+'[1]itcer resto del mundo'!BC237","v":1.0140593606335568},{"$f":"+'[1]itcer resto del mundo'!BD237","v":1.3145924135257878},{"$f":"+'[1]itcer resto del mundo'!BE237","v":1.609665033969591},{"$f":"+'[1]itcer resto del mundo'!BF237","v":2.2344183053546853},null,{"$f":"+'[1]itcer resto del mundo'!BG237","v":0.49226945704713415},{"$f":"+'[1]itcer resto del mundo'!BH237","v":0.89894855138740404},{"$f":"+'[1]itcer resto del mundo'!BI237","v":0.67412817215119869},{"$f":"+'[1]itcer resto del mundo'!BJ237","v":0.62270808052736026},{"$f":"+'[1]itcer resto del mundo'!BK237","v":0.58135335385751319},{"$f":"+'[1]itcer resto del mundo'!BL237","v":0.42690609709493044}]
[null,"Marzo",{"$f":"+'[1]itcer resto del mundo'!AK238","v":94.221405193525143},{"$f":"+'[1]itcer resto del mundo'!AL238","v":91.999068719988287},{"$f":"+'[1]itcer resto del mundo'!AM238","v":69.790711113442683},{"$f":"+'[1]itcer resto del mundo'!AN238","v":82.002411233777707},{"$f":"+'[1]itcer resto del mundo'!AO238","v":94.26953290434794},{"$f":"+'[1]itcer resto del mundo'!AP238","v":95.730232211029957},null,{"$f":"+'[1]itcer resto del mundo'!AS238","v":0.94335284368700911},{"$f":"+'[1]itcer resto del mundo'!AT238","v":-0.16669451496564136},{"$f":"+'[1]itcer resto del mundo'!AU238","v":2.092013272031565},{"$f":"+'[1]itcer resto del mundo'!AV238","v":0.17307368298340009},{"$f":"+'[1]itcer resto del mundo'!AW238","v":0.73854241272329091},{"$f":"+'[1]itcer resto del mundo'!AX238","v":0.35806388147577195},null,{"$f":"+'[1]itcer resto del mundo'!BA238","v":1.9080281420290535},{"$f":"+'[1]itcer resto del mundo'!BB238","v":1.0248908743793013},{"$f":"+'[1]itcer resto del mundo'!BC238","v":1.0292871186882957},{"$f":"+'[1]itcer resto del mundo'!BD238","v":1.31314616383216},{"$f":"+'[1]itcer resto del mundo'!BE238","v":1.6075239987523444},{"$f":"+'[1]itcer resto del mundo'!BF238","v":2.2390780926745877},null,{"$f":"+'[1]itcer resto del mundo'!BG238","v":0.49381559484404314},{"$f":"+'[1]itcer resto del mundo'!BH238","v":0.89764745710810578},{"$f":"+'[1]itcer resto del mundo'!BI238","v":0.67804900932193424},{"$f":"+'[1]itcer resto del mundo'!BJ238","v":0.62447283853360014},{"$f":"+'[1]itcer resto del mundo'!BK238","v":0.58642690857190205},{"$f":"+'[1]itcer resto del mundo'!BL238","v":0.42754307017795801}]
[null,"Abril",{"$f":"+'[1]itcer resto del mundo'!AK239","v":96.024203406865681},{"$f":"+'[1]itcer resto del mundo'!AL239","v":93.174635525287968},{"$f":"+'[1]itcer resto del mundo'!AM239","v":71.061326131285668},{"$f":"+'[1]itcer resto del mundo'!AN239","v":82.453717385214134},{"$f":"+'[1]itcer resto del mundo'!AO239","v":95.500275475423237},{"$f":"+'[1]itcer resto del mundo'!AP239","v":97.117347749205464},null,{"$f":"+'[1]itcer resto del mundo'!AS239","v":1.9133637517267914},{"$f":"+'[1]itcer resto del mundo'!AT239","v":1.2778029404598499},{"$f":"+'[1]itcer resto del mundo'!AU239","v":1.8206076389988937},{"$f":"+'[1]itcer resto del mundo'!AV239","v":0.55035717199804424},{"$f":"+'[1]itcer resto del mundo'!AW239","v":1.305557090565074},{"$f":"+'[1]itcer resto del mundo'!AX239","v":1.4489837809206705},null,{"$f":"+'[1]itcer resto del mundo'!BA239","v":1.9455383684714185},{"$f":"+'[1]itcer resto del mundo'!BB239","v":1.0359602828766967},{"$f":"+'[1]itcer resto del mundo'!BC239","v":1.0461101784150266},{"$f":"+'[1]itcer resto del mundo'!BD239","v":1.3213954594422002},{"$f":"+'[1]itcer resto del mundo'!BE239","v":1.6226968995606088},{"$f":"+'[1]itcer resto del mundo'!BF239","v":2.2687184531181588},null,{"$f":"+'[1]itcer resto del mundo'!BG239","v":0.49356108809260085},{"$f":"+'[1]itcer resto del mundo'!BH239","v":0.89940354920322663},{"$f":"+'[1]itcer resto del mundo'!BI239","v":0.67929103069192476},{"$f":"+'[1]itcer resto del mundo'!BJ239","v":0.6239897132688822},{"$f":"+'[1]itcer resto del mundo'!BK239","v":0.5885281194613895},{"$f":"+'[1]itcer resto del mundo'!BL239","v":0.42807139694097335}]
[null,"Mayo",{"$f":"+'[1]itcer resto del mundo'!AK240","v":98.212347696669283},{"$f":"+'[1]itcer resto del mundo'!AL240","v":93.896551274722299},{"$f":"+'[1]itcer resto del mundo'!AM240","v":71.838436673149189},{"$f":"+'[1]itcer resto del mundo'!AN240","v":83.229480640822018},{"$f":"+'[1]itcer resto del mundo'!AO240","v":97.272147881361462},{"$f":"+'[1]itcer resto del mundo'!AP240","v":98.246004982290984},null,{"$f":"+'[1]itcer resto del mundo'!AS240","v":2.2787424546831971},{"$f":"+'[1]itcer resto del mundo'!AT240","v":0.77479857620521386},{"$f":"+'[1]itcer resto del mundo'!AU240","v":1.0935773143718279},{"$f":"+'[1]itcer resto del mundo'!AV240","v":0.94084691413441135},{"$f":"+'[1]itcer resto del mundo'!AW240","v":1.8553584239599559},{"$f":"+'[1]itcer resto del mundo'!AX240","v":1.162158212969473},null,{"$f":"+'[1]itcer resto del mundo'!BA240","v":1.98482521524325},{"$f":"+'[1]itcer resto del mundo'!BB240","v":1.0455127232344346},{"$f":"+'[1]itcer resto del mundo'!BC240","v":1.0574056028750498},{"$f":"+'[1]itcer resto del mundo'!BD240","v":1.331217465526557},{"$f":"+'[1]itcer resto del mundo'!BE240","v":1.6527782304658793},{"$f":"+'[1]itcer resto del mundo'!BF240","v":2.2938912046649964},null,{"$f":"+'[1]itcer resto del mundo'!BG240","v":0.49481610240745},{"$f":"+'[1]itcer resto del mundo'!BH240","v":0.8980909479919158},{"$f":"+'[1]itcer resto del mundo'!BI240","v":0.67938392304545137},{"$f":"+'[1]itcer resto del mundo'!BJ240","v":0.62521325625712831},{"$f":"+'[1]itcer resto del mundo'!BK240","v":0.58853720413502031},{"$f":"+'[1]itcer resto del mundo'!BL240","v":0.4282940916399694}]
[null,"Junio",{"$f":"+'[1]itcer resto del mundo'!AK241","v":99.59727957097796},{"$f":"+'[1]itcer resto del mundo'!AL241","v":94.823132166290165},{"$f":"+'[1]itcer resto del mundo'!AM241","v":72.797529579796731},{"$f":"+'[1]itcer resto del mundo'!AN241","v":83.650959214524462},{"$f":"+'[1]itcer resto del mundo'!AO241","v":98.722188130980925},{"$f":"+'[1]itcer resto del mundo'!AP241","v":97.039137987423075},null,{"$f":"+'[1]itcer resto del mundo'!AS241","v":1.4101402794952662},{"$f":"+'[1]itcer resto del mundo'!AT241","v":0.98681035564010244},{"$f":"+'[1]itcer resto del mundo'!AU241","v":1.3350692902898516},{"$f":"+'[1]itcer resto del mundo'!AV241","v":0.50640538719848394},{"$f":"+'[1]itcer resto del mundo'!AW241","v":1.4907044628931203},{"$f":"+'[1]itcer resto del mundo'!AX241","v":-1.2284133029993995},null,{"$f":"+'[1]itcer resto del mundo'!BA241","v":2.0051298063337231},{"$f":"+'[1]itcer resto del mundo'!BB241","v":1.0499830741590972},{"$f":"+'[1]itcer resto del mundo'!BC241","v":1.0647131032341883},{"$f":"+'[1]itcer resto del mundo'!BD241","v":1.3362058247924651},{"$f":"+'[1]itcer resto del mundo'!BE241","v":1.6687310922457359},{"$f":"+'[1]itcer resto del mundo'!BF241","v":2.2999777146075417},null,{"$f":"+'[1]itcer resto del mundo'!BG241","v":0.49671237870173846},{"$f":"+'[1]itcer resto del mundo'!BH241","v":0.90309200690907721},{"$f":"+'[1]itcer resto del mundo'!BI241","v":0.68372906615562334},{"$f":"+'[1]itcer resto del mundo'!BJ241","v":0.62603348722504526},{"$f":"+'[1]itcer resto del mundo'!BK241","v":0.59160033986136795},{"$f":"+'[1]itcer resto del mundo'!BL241","v":0.42191338364329084}]
[null,"Julio",{"$f":"+'[1]itcer resto del mundo'!AK242","v":99.607217267442508},{"$f":"+'[1]itcer resto del mundo'!AL242","v":95.219547133547124},{"$f":"+'[1]itcer resto del mundo'!AM242","v":72.975478490050847},{"$f":"+'[1]itcer resto del mundo'!AN242","v":83.043169803448421},{"$f":"+'[1]itcer resto del mundo'!AO242","v":99.912346789852393},{"$f":"+'[1]itcer resto del mundo'!AP242","v":97.068839279985127},null,{"$f":"+'[1]itcer resto del mundo'!AS242","v":9.9778794233600365E-3},{"$f":"+'[1]itcer resto del mundo'!AT242","v":0.41805723793406457},{"$f":"+'[1]itcer resto del mundo'!AU242","v":0.24444361131659775},{"$f":"+'[1]itcer resto del mundo'!AV242","v":-0.72657793381345925},{"$f":"+'[1]itcer resto del mundo'!AW242","v":1.2055634922641758},{"$f":"+'[1]itcer resto del mundo'!AX242","v":3.0607539574290854E-2},null,{"$f":"+'[1]itcer resto del mundo'!BA242","v":2.0281268368940766},{"$f":"+'[1]itcer resto del mundo'!BB242","v":1.0518302005041764},{"$f":"+'[1]itcer resto del mundo'!BC242","v":1.0722297980039384},{"$f":"+'[1]itcer resto del mundo'!BD242","v":1.3388410847239216},{"$f":"+'[1]itcer resto del mundo'!BE242","v":1.6808554305425401},{"$f":"+'[1]itcer resto del mundo'!BF242","v":2.3075265247730474},null,{"$f":"+'[1]itcer resto del mundo'!BG242","v":0.49112913184455198},{"$f":"+'[1]itcer resto del mundo'!BH242","v":0.9052748921632533},{"$f":"+'[1]itcer resto del mundo'!BI242","v":0.68059550877901276},{"$f":"+'[1]itcer resto del mundo'!BJ242","v":0.62026158855569113},{"$f":"+'[1]itcer resto del mundo'!BK242","v":0.59441368349925894},{"$f":"+'[1]itcer resto del mundo'!BL242","v":0.42066185691855551}]
[null,"Agosto",{"$f":"+'[1]itcer resto del mundo'!AK243","v":100.69475877278225},{"$f":"+'[1]itcer resto del mundo'!AL243","v":96.132370705585572},{"$f":"+'[1]itcer resto del mundo'!AM243","v":74.314849806436882},{"$f":"+'[1]itcer resto del mundo'!AN243","v":83.446667038227702},{"$f":"+'[1]itcer resto del mundo'!AO243","v":101.00379890718226},{"$f":"+'[1]itcer resto del mundo'!AP243","v":97.007140348735788},null,{"$f":"+'[1]itcer resto del mundo'!AS243","v":1.0918300251474164},{"$f":"+'[1]itcer resto del mundo'!AT243","v":0.95865145289779718},{"$f":"+'[1]itcer resto del mundo'!AU243","v":1.8353717496605952},{"$f":"+'[1]itcer resto del mundo'!AV243","v":0.48588852729767495},{"$f":"+'[1]itcer resto del mundo'!AW243","v":1.0924096494555897},{"$f":"+'[1]itcer resto del mundo'!AX243","v":-6.3562036701995339E-2},null,{"$f":"+'[1]itcer resto del mundo'!BA243","v":2.0583844913854108},{"$f":"+'[1]itcer resto del mundo'!BB243","v":1.0572306808845855},{"$f":"+'[1]itcer resto del mundo'!BC243","v":1.0901083184134075},{"$f":"+'[1]itcer resto del mundo'!BD243","v":1.3433375648956347},{"$f":"+'[1]itcer resto del mundo'!BE243","v":1.7001364925119145},{"$f":"+'[1]itcer resto del mundo'!BF243","v":2.3200178197300594},null,{"$f":"+'[1]itcer resto del mundo'!BG243","v":0.48919314731626706},{"$f":"+'[1]itcer resto del mundo'!BH243","v":0.90928472322758891},{"$f":"+'[1]itcer resto del mundo'!BI243","v":0.681719867201803},{"$f":"+'[1]itcer resto del mundo'!BJ243","v":0.62118911298896606},{"$f":"+'[1]itcer resto del mundo'!BK243","v":0.59409229407193864},{"$f":"+'[1]itcer resto del mundo'!BL243","v":0.41813101401101682}]
[null,"Septiembre",{"$f":"+'[1]itcer resto del mundo'!AK244","v":101.01396760125685},{"$f":"+'[1]itcer resto del mundo'!AL244","v":96.463312051394695},{"$f":"+'[1]itcer resto del mundo'!AM244","v":74.408238223465673},{"$f":"+'[1]itcer resto del mundo'!AN244","v":83.714527660677234},{"$f":"+'[1]itcer resto del mundo'!AO244","v":101.41863970502402},{"$f":"+'[1]itcer resto del mundo'!AP244","v":97.24966041175422},null,{"$f":"+'[1]itcer resto del mundo'!AS244","v":0.31700639870928171},{"$f":"+'[1]itcer resto del mundo'!AT244","v":0.34425588735626889},{"$f":"+'[1]itcer resto del mundo'!AU244","v":0.12566588948513413},{"$f":"+'[1]itcer resto del mundo'!AV244","v":0.32099619068885943},{"$f":"+'[1]itcer resto del mundo'!AW244","v":0.41071801489663073},{"$f":"+'[1]itcer resto del mundo'!AX244","v":0.25000228039561989},null,{"$f":"+'[1]itcer resto del mundo'!BA244","v":2.0658965699885776},{"$f":"+'[1]itcer resto del mundo'!BB244","v":1.0595272921525547},{"$f":"+'[1]itcer resto del mundo'!BC244","v":1.0972102651674795},{"$f":"+'[1]itcer resto del mundo'!BD244","v":1.3478755003527711},{"$f":"+'[1]itcer resto del mundo'!BE244","v":1.7124664047758522},{"$f":"+'[1]itcer resto del mundo'!BF244","v":2.326775843786828},null,{"$f":"+'[1]itcer resto del mundo'!BG244","v":0.48895946229203213},{"$f":"+'[1]itcer resto del mundo'!BH244","v":0.91043725599005665},{"$f":"+'[1]itcer resto del mundo'!BI244","v":0.6781584221881839},{"$f":"+'[1]itcer resto del mundo'!BJ244","v":0.62108501592889798},{"$f":"+'[1]itcer resto del mundo'!BK244","v":0.59223725161661711},{"$f":"+'[1]itcer resto del mundo'!BL244","v":0.4179588707328179}]
[null,"Octubre",{"$f":"+'[1]itcer resto del mundo'!AK245","v":100.77034923730689},{"$f":"+'[1]itcer resto del mundo'!AL245","v":97.781324559981471},{"$f":"+'[1]itcer resto del mundo'!AM245","v":75.350435794121339},{"$f":"+'[1]itcer resto del mundo'!AN245","v":83.947762987018322},{"$f":"+'[1]itcer resto del mundo'!AO245","v":102.1105678444688},{"$f":"+'[1]itcer resto del mundo'!AP245","v":97.667314603340316},null,{"$f":"+'[1]itcer resto del mundo'!AS245","v":-0.24117294839028602},{"$f":"+'[1]itcer resto del mundo'!AT245","v":1.3663355327096411},{"$f":"+'[1]itcer resto del mundo'!AU245","v":1.2662543733746645},{"$f":"+'[1]itcer resto del mundo'!AV245","v":0.27860794638472441},{"$f":"+'[1]itcer resto del mundo'!AW245","v":0.68224947747006581},{"$f":"+'[1]itcer resto del mundo'!AX245","v":0.42946596401236548},null,{"$f":"+'[1]itcer resto del mundo'!BA245","v":2.0631146069990232},{"$f":"+'[1]itcer resto del mundo'!BB245","v":1.0651714269537942},{"$f":"+'[1]itcer resto del mundo'!BC245","v":1.1076523178379685},{"$f":"+'[1]itcer resto del mundo'!BD245","v":1.353538809221144},{"$f":"+'[1]itcer resto del mundo'!BE245","v":1.729183439622787},{"$f":"+'[1]itcer resto del mundo'!BF245","v":2.3396081273330265},null,{"$f":"+'[1]itcer resto del mundo'!BG245","v":0.48843796120413291},{"$f":"+'[1]itcer resto del mundo'!BH245","v":0.91798673983979395},{"$f":"+'[1]itcer resto del mundo'!BI245","v":0.68027154893873354},{"$f":"+'[1]itcer resto del mundo'!BJ245","v":0.62020950130956132},{"$f":"+'[1]itcer resto del mundo'!BK245","v":0.5905132185787284},{"$f":"+'[1]itcer resto del mundo'!BL245","v":0.41745159568527207}]
[null,"Noviembre",{"$f":"+'[1]itcer resto del mundo'!AK246","v":98.712299019727595},{"$f":"+'[1]itcer resto del mundo'!AL246","v":96.800419736942487},{"$f":"+'[1]itcer resto del mundo'!AM246","v":75.209391270812318},{"$f":"+'[1]itcer resto del mundo'!AN246","v":84.011749739049804},{"$f":"+'[1]itcer resto del mundo'!AO246","v":102.72364414450018},{"$f":"+'[1]itcer resto del mundo'!AP246","v":96.95248499057783},null,{"$f":"+'[1]itcer resto del mundo'!AS246","v":-2.0423172422800064},{"$f":"+'[1]itcer resto del mundo'!AT246","v":-1.0031617258746337},{"$f":"+'[1]itcer resto del mundo'!AU246","v":-0.18718474793483608},{"$f":"+'[1]itcer resto del mundo'!AV246","v":7.6222104978995731E-2},{"$f":"+'[1]itcer resto del mundo'!AW246","v":0.60040435869987618},{"$f":"+'[1]itcer resto del mundo'!AX246","v":-0.73190259777864242},null,{"$f":"+'[1]itcer resto del mundo'!BA246","v":2.0152684790415223},{"$f":"+'[1]itcer resto del mundo'!BB246","v":1.0679156083822945},{"$f":"+'[1]itcer resto del mundo'!BC246","v":1.1046066774417789},{"$f":"+'[1]itcer resto del mundo'!BD246","v":1.3565300015535826},{"$f":"+'[1]itcer resto del mundo'!BE246","v":1.739643429251986},{"$f":"+'[1]itcer resto del mundo'!BF246","v":2.3448156701565241},null,{"$f":"+'[1]itcer resto del mundo'!BG246","v":0.48982207604753464},{"$f":"+'[1]itcer resto del mundo'!BH246","v":0.9064425969349601},{"$f":"+'[1]itcer resto del mundo'!BI246","v":0.68087032974482831},{"$f":"+'[1]itcer resto del mundo'!BJ246","v":0.61931361372645155},{"$f":"+'[1]itcer resto del mundo'!BK246","v":0.59048677687168005},{"$f":"+'[1]itcer resto del mundo'!BL246","v":0.41347593426866652}]
[null,"Diciembre",{"$f":"+'[1]itcer resto del mundo'!AK247","v":97.457174468305681},{"$f":"+'[1]itcer resto del mundo'!AL247","v":97.008432949937244},{"$f":"+'[1]itcer resto del mundo'!AM247","v":75.430239835451601},{"$f":"+'[1]itcer resto del mundo'!AN247","v":83.805518797150057},{"$f":"+'[1]itcer resto del mundo'!AO247","v":102.5837400211782},{"$f":"+'[1]itcer resto del mundo'!AP247","v":96.660288162975036},null,{"$f":"+'[1]itcer resto del mundo'!AS247","v":-1.2714976389832486},{"$f":"+'[1]itcer resto del mundo'!AT247","v":0.21488875106123828},{"$f":"+'[1]itcer resto del mundo'!AU247","v":0.29364493038383443},{"$f":"+'[1]itcer resto del mundo'!AV247","v":-0.24547868904090819},{"$f":"+'[1]itcer resto del mundo'!AW247","v":-0.13619466529554813},{"$f":"+'[1]itcer resto del mundo'!AX247","v":-0.30138147323525288},null,{"$f":"+'[1]itcer resto del mundo'!BA247","v":2.0097462985241026},{"$f":"+'[1]itcer resto del mundo'!BB247","v":1.0660811260981371},{"$f":"+'[1]itcer resto del mundo'!BC247","v":1.1077056420276958},{"$f":"+'[1]itcer resto del mundo'!BD247","v":1.3536112520567056},{"$f":"+'[1]itcer resto del mundo'!BE247","v":1.7418498528102122},{"$f":"+'[1]itcer resto del mundo'!BF247","v":2.3413270397276285},null,{"$f":"+'[1]itcer resto del mundo'!BG247","v":0.48492277129643335},{"$f":"+'[1]itcer resto del mundo'!BH247","v":0.9099535727171969},{"$f":"+'[1]itcer resto del mundo'!BI247","v":0.68095924561125987},{"$f":"+'[1]itcer resto del mundo'!BJ247","v":0.61912545917311312},{"$f":"+'[1]itcer resto del mundo'!BK247","v":0.58893560691051994},{"$f":"+'[1]itcer resto del mundo'!BL247","v":0.41284402615629356}]
[2010,"Enero",{"$f":"+'[1]itcer resto del mundo'!AK248","v":94.883976642353176},{"$f":"+'[1]itcer resto del mundo'!AL248","v":96.423783611685806},{"$f":"+'[1]itcer resto del mundo'!AM248","v":74.895177272453992},{"$f":"+'[1]itcer resto del mundo'!AN248","v":83.193562603418684},{"$f":"+'[1]itcer resto del mundo'!AO248","v":102.15630829083743},{"$f":"+'[1]itcer resto del mundo'!AP248","v":95.380089009904353},null,{"$f":"+'[1]itcer resto del mundo'!AS248","v":-2.6403369890323916},{"$f":"+'[1]itcer resto del mundo'!AT248","v":-0.60267888107537715},{"$f":"+'[1]itcer resto del mundo'!AU248","v":-0.70934755631803625},{"$f":"+'[1]itcer resto del mundo'!AV248","v":-0.73020989848247098},{"$f":"+'[1]itcer resto del mundo'!AW248","v":-0.4166661600098962},{"$f":"+'[1]itcer resto del mundo'!AX248","v":-1.3244313434201445},null,{"$f":"+'[1]itcer resto del mundo'!BA248","v":1.9851941229828063},{"$f":"+'[1]itcer resto del mundo'!BB248","v":1.061570052994713},{"$f":"+'[1]itcer resto del mundo'!BC248","v":1.1103412874709793},{"$f":"+'[1]itcer resto del mundo'!BD248","v":1.3481931791206549},{"$f":"+'[1]itcer resto del mundo'!BE248","v":1.7461295953547753},{"$f":"+'[1]itcer resto del mundo'!BF248","v":2.3342557106398045},null,{"$f":"+'[1]itcer resto del mundo'!BG248","v":0.47795817821477082},{"$f":"+'[1]itcer resto del mundo'!BH248","v":0.90831295908990795},{"$f":"+'[1]itcer resto del mundo'!BI248","v":0.67452393347492734},{"$f":"+'[1]itcer resto del mundo'!BJ248","v":0.61707449564224048},{"$f":"+'[1]itcer resto del mundo'!BK248","v":0.5850442519421446},{"$f":"+'[1]itcer resto del mundo'!BL248","v":0.40861028453374237}]
[null,"Febrero",{"$f":"+'[1]itcer resto del mundo'!AK249","v":91.64947053386814},{"$f":"+'[1]itcer resto del mundo'!AL249","v":95.704311996253708},{"$f":"+'[1]itcer resto del mundo'!AM249","v":72.259147089463156},{"$f":"+'[1]itcer resto del mundo'!AN249","v":82.212870897696718},{"$f":"+'[1]itcer resto del mundo'!AO249","v":100.76300652321829},{"$f":"+'[1]itcer resto del mundo'!AP249","v":95.010082755825806},null,{"$f":"+'[1]itcer resto del mundo'!AS249","v":-3.4089065645687242},{"$f":"+'[1]itcer resto del mundo'!AT249","v":-0.74615576000370254},{"$f":"+'[1]itcer resto del mundo'!AU249","v":-3.519626068046378},{"$f":"+'[1]itcer resto del mundo'!AV249","v":-1.1788071997792571},{"$f":"+'[1]itcer resto del mundo'!AW249","v":-1.3638920502612848},{"$f":"+'[1]itcer resto del mundo'!AX249","v":-0.38792819121832167},null,{"$f":"+'[1]itcer resto del mundo'!BA249","v":1.9275886047664441},{"$f":"+'[1]itcer resto del mundo'!BB249","v":1.0535096955968988},{"$f":"+'[1]itcer resto del mundo'!BC249","v":1.074271237118398},{"$f":"+'[1]itcer resto del mundo'!BD249","v":1.3403961357639522},{"$f":"+'[1]itcer resto del mundo'!BE249","v":1.7447961045906359},{"$f":"+'[1]itcer resto del mundo'!BF249","v":2.3257812854584596},null,{"$f":"+'[1]itcer resto del mundo'!BG249","v":0.47546177803314427},{"$f":"+'[1]itcer resto del mundo'!BH249","v":0.90843313921310842},{"$f":"+'[1]itcer resto del mundo'!BI249","v":0.67263410387203071},{"$f":"+'[1]itcer resto del mundo'!BJ249","v":0.61334756721631323},{"$f":"+'[1]itcer resto del mundo'!BK249","v":0.57750591176875254},{"$f":"+'[1]itcer resto del mundo'!BL249","v":0.4085082434442987}]
[null,"Marzo",{"$f":"+'[1]itcer resto del mundo'!AK250","v":89.400983051969064},{"$f":"+'[1]itcer resto del mundo'!AL250","v":96.08863528823106},{"$f":"+'[1]itcer resto del mundo'!AM250","v":70.979552356858989},{"$f":"+'[1]itcer resto del mundo'!AN250","v":82.290147592463114},{"$f":"+'[1]itcer resto del mundo'!AO250","v":100.80833805038732},{"$f":"+'[1]itcer resto del mundo'!AP250","v":95.097230978551195},null,{"$f":"+'[1]itcer resto del mundo'!AS250","v":-2.4533556700343127},{"$f":"+'[1]itcer resto del mundo'!AT250","v":0.40157364277631302},{"$f":"+'[1]itcer resto del mundo'!AU250","v":-1.7708411794840515},{"$f":"+'[1]itcer resto del mundo'!AV250","v":9.3995859678173588E-2},{"$f":"+'[1]itcer resto del mundo'!AW250","v":4.4988263781704063E-2},{"$f":"+'[1]itcer resto del mundo'!AX250","v":9.1725236098753271E-2},null,{"$f":"+'[1]itcer resto del mundo'!BA250","v":1.8737802967958646},{"$f":"+'[1]itcer resto del mundo'!BB250","v":1.0553595433121272},{"$f":"+'[1]itcer resto del mundo'!BC250","v":1.0619285592420991},{"$f":"+'[1]itcer resto del mundo'!BD250","v":1.3409846337651574},{"$f":"+'[1]itcer resto del mundo'!BE250","v":1.7557764729292693},{"$f":"+'[1]itcer resto del mundo'!BF250","v":2.3358521451936558},null,{"$f":"+'[1]itcer resto del mundo'!BG250","v":0.47711561064465985},{"$f":"+'[1]itcer resto del mundo'!BH250","v":0.91048245971858743},{"$f":"+'[1]itcer resto del mundo'!BI250","v":0.66840233026143747},{"$f":"+'[1]itcer resto del mundo'!BJ250","v":0.61365466479218689},{"$f":"+'[1]itcer resto del mundo'!BK250","v":0.5741524596362918},{"$f":"+'[1]itcer resto del mundo'!BL250","v":0.40712007895802443}]
[null,"Abril",{"$f":"+'[1]itcer resto del mundo'!AK251","v":85.816064869316378},{"$f":"+'[1]itcer resto del mundo'!AL251","v":96.383025227454226},{"$f":"+'[1]itcer resto del mundo'!AM251","v":71.113537877312538},{"$f":"+'[1]itcer resto del mundo'!AN251","v":81.868835240228364},{"$f":"+'[1]itcer resto del mundo'!AO251","v":100.87881263838014},{"$f":"+'[1]itcer resto del mundo'!AP251","v":95.176156345250078},null,{"$f":"+'[1]itcer resto del mundo'!AS251","v":-4.009931502172364},{"$f":"+'[1]itcer resto del mundo'!AT251","v":0.30637331703182724},{"$f":"+'[1]itcer resto del mundo'!AU251","v":0.18876636440296579},{"$f":"+'[1]itcer resto del mundo'!AV251","v":-0.51198395501886296},{"$f":"+'[1]itcer resto del mundo'!AW251","v":6.9909483040575537E-2},{"$f":"+'[1]itcer resto del mundo'!AX251","v":8.2994389938335189E-2},null,{"$f":"+'[1]itcer resto del mundo'!BA251","v":1.7963896096983791},{"$f":"+'[1]itcer resto del mundo'!BB251","v":1.0549057724141526},{"$f":"+'[1]itcer resto del mundo'!BC251","v":1.0614525316351939},{"$f":"+'[1]itcer resto del mundo'!BD251","v":1.3385570901234982},{"$f":"+'[1]itcer resto del mundo'!BE251","v":1.7593284879580497},{"$f":"+'[1]itcer resto del mundo'!BF251","v":2.3422569872075534},null,{"$f":"+'[1]itcer resto del mundo'!BG251","v":0.47771410169604156},{"$f":"+'[1]itcer resto del mundo'!BH251","v":0.91366478170729515},{"$f":"+'[1]itcer resto del mundo'!BI251","v":0.66996437200785952},{"$f":"+'[1]itcer resto del mundo'!BJ251","v":0.61162004851563678},{"$f":"+'[1]itcer resto del mundo'!BK251","v":0.57339384503154567},{"$f":"+'[1]itcer resto del mundo'!BL251","v":0.40634378236488644}]
[null,"Mayo",{"$f":"+'[1]itcer resto del mundo'!AK252","v":85.55945095281163},{"$f":"+'[1]itcer resto del mundo'!AL252","v":95.189047984330173},{"$f":"+'[1]itcer resto del mundo'!AM252","v":70.152318327704634},{"$f":"+'[1]itcer resto del mundo'!AN252","v":80.868100243180081},{"$f":"+'[1]itcer resto del mundo'!AO252","v":99.983124319669017},{"$f":"+'[1]itcer resto del mundo'!AP252","v":94.490615273867348},null,{"$f":"+'[1]itcer resto del mundo'!AS252","v":-0.29902782992382981},{"$f":"+'[1]itcer resto del mundo'!AT252","v":-1.2387837384294471},{"$f":"+'[1]itcer resto del mundo'!AU252","v":-1.3516688640441856},{"$f":"+'[1]itcer resto del mundo'!AV252","v":-1.2223637897275808},{"$f":"+'[1]itcer resto del mundo'!AW252","v":-0.88788546899525045},{"$f":"+'[1]itcer resto del mundo'!AX252","v":-0.72028656935455615},null,{"$f":"+'[1]itcer resto del mundo'!BA252","v":1.7999662727168848},{"$f":"+'[1]itcer resto del mundo'!BB252","v":1.0395041031060923},{"$f":"+'[1]itcer resto del mundo'!BC252","v":1.0461612872303565},{"$f":"+'[1]itcer resto del mundo'!BD252","v":1.324195143068283},{"$f":"+'[1]itcer resto del mundo'!BE252","v":1.7423524131952492},{"$f":"+'[1]itcer resto del mundo'!BF252","v":2.3328452074666672},null,{"$f":"+'[1]itcer resto del mundo'!BG252","v":0.47533918968196809},{"$f":"+'[1]itcer resto del mundo'!BH252","v":0.91571594282216251},{"$f":"+'[1]itcer resto del mundo'!BI252","v":0.67056886145565842},{"$f":"+'[1]itcer resto del mundo'!BJ252","v":0.61069624568929615},{"$f":"+'[1]itcer resto del mundo'!BK252","v":0.57383984756742101},{"$f":"+'[1]itcer resto del mundo'!BL252","v":0.40504451376128198}]
[null,"Junio",{"$f":"+'[1]itcer resto del mundo'!AK253","v":86.004195412052198},{"$f":"+'[1]itcer resto del mundo'!AL253","v":94.309353618239157},{"$f":"+'[1]itcer resto del mundo'!AM253","v":69.65442543147617},{"$f":"+'[1]itcer resto del mundo'!AN253","v":80.215831509109904},{"$f":"+'[1]itcer resto del mundo'!AO253","v":99.992231212876106},{"$f":"+'[1]itcer resto del mundo'!AP253","v":94.366634751300595},null,{"$f":"+'[1]itcer resto del mundo'!AS253","v":0.51980751896813615},{"$f":"+'[1]itcer resto del mundo'!AT253","v":-0.92415502068665489},{"$f":"+'[1]itcer resto del mundo'!AU253","v":-0.70973120788772803},{"$f":"+'[1]itcer resto del mundo'!AV253","v":-0.80658347618989978},{"$f":"+'[1]itcer resto del mundo'!AW253","v":9.1084303166724112E-3},{"$f":"+'[1]itcer resto del mundo'!AX253","v":-0.13120935048142712},null,{"$f":"+'[1]itcer resto del mundo'!BA253","v":1.8148929947164762},{"$f":"+'[1]itcer resto del mundo'!BB253","v":1.0353176998255331},{"$f":"+'[1]itcer resto del mundo'!BC253","v":1.0447248075156419},{"$f":"+'[1]itcer resto del mundo'!BD253","v":1.3200762766766485},{"$f":"+'[1]itcer resto del mundo'!BE253","v":1.7435570835144008},{"$f":"+'[1]itcer resto del mundo'!BF253","v":2.3276506485372859},null,{"$f":"+'[1]itcer resto del mundo'!BG253","v":0.47388025444160042},{"$f":"+'[1]itcer resto del mundo'!BH253","v":0.9109218709786544},{"$f":"+'[1]itcer resto del mundo'!BI253","v":0.66672510244218841},{"$f":"+'[1]itcer resto del mundo'!BJ253","v":0.60766057936482942},{"$f":"+'[1]itcer resto del mundo'!BK253","v":0.57349559792631954},{"$f":"+'[1]itcer resto del mundo'!BL253","v":0.40541579901864289}]
[null,"Julio",{"$f":"+'[1]itcer resto del mundo'!AK254","v":84.878207547916219},{"$f":"+'[1]itcer resto del mundo'!AL254","v":95.109385048603144},{"$f":"+'[1]itcer resto del mundo'!AM254","v":69.781019665234098},{"$f":"+'[1]itcer resto del mundo'!AN254","v":80.305678474534503},{"$f":"+'[1]itcer resto del mundo'!AO254","v":100.44459313258135},{"$f":"+'[1]itcer resto del mundo'!AP254","v":94.897825546476824},null,{"$f":"+'[1]itcer resto del mundo'!AS254","v":-1.3092243450930425},{"$f":"+'[1]itcer resto del mundo'!AT254","v":0.84830549640122399},{"$f":"+'[1]itcer resto del mundo'!AU254","v":0.18174614602553163},{"$f":"+'[1]itcer resto del mundo'!AV254","v":0.11200652506406072},{"$f":"+'[1]itcer resto del mundo'!AW254","v":0.45239706547019409},{"$f":"+'[1]itcer resto del mundo'!AX254","v":0.56290106834492804},null,{"$f":"+'[1]itcer resto del mundo'!BA254","v":1.7975745160481831},{"$f":"+'[1]itcer resto del mundo'!BB254","v":1.0441905849237711},{"$f":"+'[1]itcer resto del mundo'!BC254","v":1.0501276595821882},{"$f":"+'[1]itcer resto del mundo'!BD254","v":1.3308616707452741},{"$f":"+'[1]itcer resto del mundo'!BE254","v":1.7659470116650156},{"$f":"+'[1]itcer resto del mundo'!BF254","v":2.3490898743930715},null,{"$f":"+'[1]itcer resto del mundo'!BG254","v":0.47218185833271514},{"$f":"+'[1]itcer resto del mundo'!BH254","v":0.91084315853648889},{"$f":"+'[1]itcer resto del mundo'!BI254","v":0.6645003493479803},{"$f":"+'[1]itcer resto del mundo'!BJ254","v":0.60341116015133134},{"$f":"+'[1]itcer resto del mundo'!BK254","v":0.56878599679996966},{"$f":"+'[1]itcer resto del mundo'!BL254","v":0.4039769894755319}]
[null,"Agosto",{"$f":"+'[1]itcer resto del mundo'!AK255","v":83.275302170713445},{"$f":"+'[1]itcer resto del mundo'!AL255","v":95.777490954133469},{"$f":"+'[1]itcer resto del mundo'!AM255","v":70.148129179637635},{"$f":"+'[1]itcer resto del mundo'!AN255","v":80.328380848217947},{"$f":"+'[1]itcer resto del mundo'!AO255","v":102.08352035918222},{"$f":"+'[1]itcer resto del mundo'!AP255","v":95.398210304509377},null,{"$f":"+'[1]itcer resto del mundo'!AS255","v":-1.8884769406774922},{"$f":"+'[1]itcer resto del mundo'!AT255","v":0.70246054602172592},{"$f":"+'[1]itcer resto del mundo'!AU255","v":0.52608791927188747},{"$f":"+'[1]itcer resto del mundo'!AV255","v":2.8269948171399051E-2},{"$f":"+'[1]itcer resto del mundo'!AW255","v":1.6316729208485867},{"$f":"+'[1]itcer resto del mundo'!AX255","v":0.52728790691571703},null,{"$f":"+'[1]itcer resto del mundo'!BA255","v":1.763946008594178},{"$f":"+'[1]itcer resto del mundo'!BB255","v":1.0477896597736722},{"$f":"+'[1]itcer resto del mundo'!BC255","v":1.05432369796183},{"$f":"+'[1]itcer resto del mundo'!BD255","v":1.3351962860921331},{"$f":"+'[1]itcer resto del mundo'!BE255","v":1.7821800878174636},{"$f":"+'[1]itcer resto del mundo'!BF255","v":2.3625839249541434},null,{"$f":"+'[1]itcer resto del mundo'!BG255","v":0.47209666149068724},{"$f":"+'[1]itcer resto del mundo'!BH255","v":0.9140908202398359},{"$f":"+'[1]itcer resto del mundo'!BI255","v":0.66533768818100891},{"$f":"+'[1]itcer resto del mundo'!BJ255","v":0.60162226097350757},{"$f":"+'[1]itcer resto del mundo'!BK255","v":0.57280137432237954},{"$f":"+'[1]itcer resto del mundo'!BL255","v":0.40378760431276955}]
[null,"Septiembre",{"$f":"+'[1]itcer resto del mundo'!AK256","v":83.466032514333548},{"$f":"+'[1]itcer resto del mundo'!AL256","v":95.862492620881326},{"$f":"+'[1]itcer resto del mundo'!AM256","v":70.760858189745832},{"$f":"+'[1]itcer resto del mundo'!AN256","v":80.143986675974375},{"$f":"+'[1]itcer resto del mundo'!AO256","v":102.49547032496029},{"$f":"+'[1]itcer resto del mundo'!AP256","v":95.224457414060765},null,{"$f":"+'[1]itcer resto del mundo'!AS256","v":0.22903590698368248},{"$f":"+'[1]itcer resto del mundo'!AT256","v":8.8749105766993353E-2},{"$f":"+'[1]itcer resto del mundo'!AU256","v":0.87347876169170036},{"$f":"+'[1]itcer resto del mundo'!AV256","v":-0.22955046559694381},{"$f":"+'[1]itcer resto del mundo'!AW256","v":0.40354208429394589},{"$f":"+'[1]itcer resto del mundo'!AX256","v":-0.18213432924369499},null,{"$f":"+'[1]itcer resto del mundo'!BA256","v":1.7634841916581709},{"$f":"+'[1]itcer resto del mundo'!BB256","v":1.0502405827528285},{"$f":"+'[1]itcer resto del mundo'!BC256","v":1.0648412919951518},{"$f":"+'[1]itcer resto del mundo'!BD256","v":1.3382220175481125},{"$f":"+'[1]itcer resto del mundo'!BE256","v":1.7941640902164262},{"$f":"+'[1]itcer resto del mundo'!BF256","v":2.3731774153090357},null,{"$f":"+'[1]itcer resto del mundo'!BG256","v":0.47330184704322187},{"$f":"+'[1]itcer resto del mundo'!BH256","v":0.91276698115790011},{"$f":"+'[1]itcer resto del mundo'!BI256","v":0.66452023152824924},{"$f":"+'[1]itcer resto del mundo'!BJ256","v":0.59888408369497625},{"$f":"+'[1]itcer resto del mundo'!BK256","v":0.57127143990824436},{"$f":"+'[1]itcer resto del mundo'!BL256","v":0.40125300704355737}]
[null,"Octubre",{"$f":"+'[1]itcer resto del mundo'!AK257","v":84.922077799650282},{"$f":"+'[1]itcer resto del mundo'!AL257","v":96.896053279070713},{"$f":"+'[1]itcer resto del mundo'!AM257","v":71.324223968665038},{"$f":"+'[1]itcer resto del mundo'!AN257","v":80.540259256901962},{"$f":"+'[1]itcer resto del mundo'!AO257","v":102.58908243775143},{"$f":"+'[1]itcer resto del mundo'!AP257","v":96.505741365633284},null,{"$f":"+'[1]itcer resto del mundo'!AS257","v":1.7444764552174945},{"$f":"+'[1]itcer resto del mundo'!AT257","v":1.0781700224267325},{"$f":"+'[1]itcer resto del mundo'!AU257","v":0.79615453137739678},{"$f":"+'[1]itcer resto del mundo'!AV257","v":0.49445079707568595},{"$f":"+'[1]itcer resto del mundo'!AW257","v":9.133292670821902E-2},{"$f":"+'[1]itcer resto del mundo'!AX257","v":1.3455408267659266},null,{"$f":"+'[1]itcer resto del mundo'!BA257","v":1.7985723018132265},{"$f":"+'[1]itcer resto del mundo'!BB257","v":1.0662640008176292},{"$f":"+'[1]itcer resto del mundo'!BC257","v":1.0764458317288146},{"$f":"+'[1]itcer resto del mundo'!BD257","v":1.3549426674906384},{"$f":"+'[1]itcer resto del mundo'!BE257","v":1.8300246087309782},{"$f":"+'[1]itcer resto del mundo'!BF257","v":2.4164238873963924},null,{"$f":"+'[1]itcer resto del mundo'!BG257","v":0.47216382524092188},{"$f":"+'[1]itcer resto del mundo'!BH257","v":0.90874354948464153},{"$f":"+'[1]itcer resto del mundo'!BI257","v":0.66258999632257876},{"$f":"+'[1]itcer resto del mundo'!BJ257","v":0.59441820815978119},{"$f":"+'[1]itcer resto del mundo'!BK257","v":0.56058854043985429},{"$f":"+'[1]itcer resto del mundo'!BL257","v":0.39937422349194984}]
[null,"Noviembre",{"$f":"+'[1]itcer resto del mundo'!AK258","v":84.554117714760025},{"$f":"+'[1]itcer resto del mundo'!AL258","v":96.348117419016091},{"$f":"+'[1]itcer resto del mundo'!AM258","v":70.341764074862311},{"$f":"+'[1]itcer resto del mundo'!AN258","v":79.727276879271926},{"$f":"+'[1]itcer resto del mundo'!AO258","v":101.00669830299091},{"$f":"+'[1]itcer resto del mundo'!AP258","v":96.183356082419479},null,{"$f":"+'[1]itcer resto del mundo'!AS258","v":-0.43329142953656685},{"$f":"+'[1]itcer resto del mundo'!AT258","v":-0.56548831609943306},{"$f":"+'[1]itcer resto del mundo'!AU258","v":-1.3774561279970641},{"$f":"+'[1]itcer resto del mundo'!AV258","v":-1.0094111753934669},{"$f":"+'[1]itcer resto del mundo'!AW258","v":-1.5424488621590626},{"$f":"+'[1]itcer resto del mundo'!AX258","v":-0.33405813856440147},null,{"$f":"+'[1]itcer resto del mundo'!BA258","v":1.8003208743756272},{"$f":"+'[1]itcer resto del mundo'!BB258","v":1.063715726619116},{"$f":"+'[1]itcer resto del mundo'!BC258","v":1.0682755180490031},{"$f":"+'[1]itcer resto del mundo'!BD258","v":1.3516352614440068},{"$f":"+'[1]itcer resto del mundo'!BE258","v":1.8277301545350957},{"$f":"+'[1]itcer resto del mundo'!BF258","v":2.4133801829991879},null,{"$f":"+'[1]itcer resto del mundo'!BG258","v":0.46966137491509352},{"$f":"+'[1]itcer resto del mundo'!BH258","v":0.90576941759849916},{"$f":"+'[1]itcer resto del mundo'!BI258","v":0.65846088285658577},{"$f":"+'[1]itcer resto del mundo'!BJ258","v":0.58985792360948086},{"$f":"+'[1]itcer resto del mundo'!BK258","v":0.55263463292087089},{"$f":"+'[1]itcer resto del mundo'!BL258","v":0.39854208118544021}]
[null,"Diciembre",{"$f":"+'[1]itcer resto del mundo'!AK259","v":82.433057186719509},{"$f":"+'[1]itcer resto del mundo'!AL259","v":96.119312736404893},{"$f":"+'[1]itcer resto del mundo'!AM259","v":69.855014861233755},{"$f":"+'[1]itcer resto del mundo'!AN259","v":79.477860520330765},{"$f":"+'[1]itcer resto del mundo'!AO259","v":100.33520623464842},{"$f":"+'[1]itcer resto del mundo'!AP259","v":95.294067948572533},null,{"$f":"+'[1]itcer resto del mundo'!AS259","v":-2.5085242272834307},{"$f":"+'[1]itcer resto del mundo'!AT259","v":-0.2374770662265604},{"$f":"+'[1]itcer resto del mundo'!AU259","v":-0.6919775470949503},{"$f":"+'[1]itcer resto del mundo'!AV259","v":-0.31283692194685386},{"$f":"+'[1]itcer resto del mundo'!AW259","v":-0.66479954262855756},{"$f":"+'[1]itcer resto del mundo'!AX259","v":-0.92457590384444188},null,{"$f":"+'[1]itcer resto del mundo'!BA259","v":1.7628477350772216},{"$f":"+'[1]itcer resto del mundo'!BB259","v":1.0570502369436887},{"$f":"+'[1]itcer resto del mundo'!BC259","v":1.0589513375490029},{"$f":"+'[1]itcer resto del mundo'!BD259","v":1.3444519660926495},{"$f":"+'[1]itcer resto del mundo'!BE259","v":1.8220715125853792},{"$f":"+'[1]itcer resto del mundo'!BF259","v":2.407065369009171},null,{"$f":"+'[1]itcer resto del mundo'!BG259","v":0.46761303058944309},{"$f":"+'[1]itcer resto del mundo'!BH259","v":0.90931641067807989},{"$f":"+'[1]itcer resto del mundo'!BI259","v":0.65966218072793381},{"$f":"+'[1]itcer resto del mundo'!BJ259","v":0.59115433295334063},{"$f":"+'[1]itcer resto del mundo'!BK259","v":0.550665577841566},{"$f":"+'[1]itcer resto del mundo'!BL259","v":0.39589314513630658}]
[2011,"Enero",{"$f":"+'[1]itcer resto del mundo'!AK260","v":82.564721764858007},{"$f":"+'[1]itcer resto del mundo'!AL260","v":96.210061838749411},{"$f":"+'[1]itcer resto del mundo'!AM260","v":69.692166808342606},{"$f":"+'[1]itcer resto del mundo'!AN260","v":79.608575260203935},{"$f":"+'[1]itcer resto del mundo'!AO260","v":101.98345214361241},{"$f":"+'[1]itcer resto del mundo'!AP260","v":95.108714196429219},null,{"$f":"+'[1]itcer resto del mundo'!AS260","v":0.15972303179326275},{"$f":"+'[1]itcer resto del mundo'!AT260","v":9.4412974625996071E-2},{"$f":"+'[1]itcer resto del mundo'!AU260","v":-0.23312292355051056},{"$f":"+'[1]itcer resto del mundo'!AV260","v":0.16446685783613191},{"$f":"+'[1]itcer resto del mundo'!AW260","v":1.6427393442630063},{"$f":"+'[1]itcer resto del mundo'!AX260","v":-0.19450712529487646},null,{"$f":"+'[1]itcer resto del mundo'!BA260","v":1.7746310076686653},{"$f":"+'[1]itcer resto del mundo'!BB260","v":1.0619235395538658},{"$f":"+'[1]itcer resto del mundo'!BC260","v":1.0618458897405478},{"$f":"+'[1]itcer resto del mundo'!BD260","v":1.3489336308585134},{"$f":"+'[1]itcer resto del mundo'!BE260","v":1.8443631756863941},{"$f":"+'[1]itcer resto del mundo'!BF260","v":2.4251686139186002},null,{"$f":"+'[1]itcer resto del mundo'!BG260","v":0.4652500796395041},{"$f":"+'[1]itcer resto del mundo'!BH260","v":0.90599801450082829},{"$f":"+'[1]itcer resto del mundo'!BI260","v":0.65633033457775336},{"$f":"+'[1]itcer resto del mundo'!BJ260","v":0.59015931873192295},{"$f":"+'[1]itcer resto del mundo'!BK260","v":0.55294669449067957},{"$f":"+'[1]itcer resto del mundo'!BL260","v":0.39217361485951313}]
[null,"Febrero",{"$f":"+'[1]itcer resto del mundo'!AK261","v":82.267054512643298},{"$f":"+'[1]itcer resto del mundo'!AL261","v":96.844039109540915},{"$f":"+'[1]itcer resto del mundo'!AM261","v":68.419090311286539},{"$f":"+'[1]itcer resto del mundo'!AN261","v":79.66498166982521},{"$f":"+'[1]itcer resto del mundo'!AO261","v":102.54697058029122},{"$f":"+'[1]itcer resto del mundo'!AP261","v":95.159803311107467},null,{"$f":"+'[1]itcer resto del mundo'!AS261","v":-0.36052595570109247},{"$f":"+'[1]itcer resto del mundo'!AT261","v":0.65895111038810228},{"$f":"+'[1]itcer resto del mundo'!AU261","v":-1.8267138982162834},{"$f":"+'[1]itcer resto del mundo'!AV261","v":7.0854690511552576E-2},{"$f":"+'[1]itcer resto del mundo'!AW261","v":0.55255869931256996},{"$f":"+'[1]itcer resto del mundo'!AX261","v":5.3716544388066723E-2},null,{"$f":"+'[1]itcer resto del mundo'!BA261","v":1.7683628547439243},{"$f":"+'[1]itcer resto del mundo'!BB261","v":1.0662706627809482},{"$f":"+'[1]itcer resto del mundo'!BC261","v":1.045796905344802},{"$f":"+'[1]itcer resto del mundo'!BD261","v":1.3533742042349961},{"$f":"+'[1]itcer resto del mundo'!BE261","v":1.8601324311003409},{"$f":"+'[1]itcer resto del mundo'!BF261","v":2.4448647144018287},null,{"$f":"+'[1]itcer resto del mundo'!BG261","v":0.46521591590746442},{"$f":"+'[1]itcer resto del mundo'!BH261","v":0.90825005779453105},{"$f":"+'[1]itcer resto del mundo'!BI261","v":0.65422922903686154},{"$f":"+'[1]itcer resto del mundo'!BJ261","v":0.58863972300149159},{"$f":"+'[1]itcer resto del mundo'!BK261","v":0.55128854734085087},{"$f":"+'[1]itcer resto del mundo'!BL261","v":0.38922318584973198}]
[null,"Marzo",{"$f":"+'[1]itcer resto del mundo'!AK262","v":83.110249191039586},{"$f":"+'[1]itcer resto del mundo'!AL262","v":97.63892160366845},{"$f":"+'[1]itcer resto del mundo'!AM262","v":67.803138196781561},{"$f":"+'[1]itcer resto del mundo'!AN262","v":80.22865668693747},{"$f":"+'[1]itcer resto del mundo'!AO262","v":103.6758360233798},{"$f":"+'[1]itcer resto del mundo'!AP262","v":95.71208049016407},null,{"$f":"+'[1]itcer resto del mundo'!AS262","v":1.024948180521875},{"$f":"+'[1]itcer resto del mundo'!AT262","v":0.82078618512436208},{"$f":"+'[1]itcer resto del mundo'!AU262","v":-0.9002635254321234},{"$f":"+'[1]itcer resto del mundo'!AV262","v":0.70755682772694684},{"$f":"+'[1]itcer resto del mundo'!AW262","v":1.1008276857917565},{"$f":"+'[1]itcer resto del mundo'!AX262","v":0.580368138478633},null,{"$f":"+'[1]itcer resto del mundo'!BA262","v":1.7741200622502304},{"$f":"+'[1]itcer resto del mundo'!BB262","v":1.0721227223503011},{"$f":"+'[1]itcer resto del mundo'!BC262","v":1.0368438397591309},{"$f":"+'[1]itcer resto del mundo'!BD262","v":1.359651505566658},{"$f":"+'[1]itcer resto del mundo'!BE262","v":1.8759782602997199},{"$f":"+'[1]itcer resto del mundo'!BF262","v":2.4647501247265748},null,{"$f":"+'[1]itcer resto del mundo'!BG262","v":0.46845898966739324},{"$f":"+'[1]itcer resto del mundo'!BH262","v":0.91070657834417468},{"$f":"+'[1]itcer resto del mundo'!BI262","v":0.65393780236503984},{"$f":"+'[1]itcer resto del mundo'!BJ262","v":0.59006779574373946},{"$f":"+'[1]itcer resto del mundo'!BK262","v":0.55264945344737515},{"$f":"+'[1]itcer resto del mundo'!BL262","v":0.38832366628151327}]
[null,"Abril",{"$f":"+'[1]itcer resto del mundo'!AK263","v":84.11791139620837},{"$f":"+'[1]itcer resto del mundo'!AL263","v":96.033852175953811},{"$f":"+'[1]itcer resto del mundo'!AM263","v":67.430421515088199},{"$f":"+'[1]itcer resto del mundo'!AN263","v":80.167193065225661},{"$f":"+'[1]itcer resto del mundo'!AO263","v":104.36790273912267},{"$f":"+'[1]itcer resto del mundo'!AP263","v":96.122982864701243},null,{"$f":"+'[1]itcer resto del mundo'!AS263","v":1.212440360818249},{"$f":"+'[1]itcer resto del mundo'!AT263","v":-1.6438827891093126},{"$f":"+'[1]itcer resto del mundo'!AU263","v":-0.54970417536080163},{"$f":"+'[1]itcer resto del mundo'!AV263","v":-7.6610558184526667E-2},{"$f":"+'[1]itcer resto del mundo'!AW263","v":0.6675294285418687},{"$f":"+'[1]itcer resto del mundo'!AX263","v":0.4293108794969811},null,{"$f":"+'[1]itcer resto del mundo'!BA263","v":1.7886728069738287},{"$f":"+'[1]itcer resto del mundo'!BB263","v":1.0797933689662957},{"$f":"+'[1]itcer resto del mundo'!BC263","v":1.0322621742236056},{"$f":"+'[1]itcer resto del mundo'!BD263","v":1.3662481480391293},{"$f":"+'[1]itcer resto del mundo'!BE263","v":1.8904944107077082},{"$f":"+'[1]itcer resto del mundo'!BF263","v":2.4830382216815372},null,{"$f":"+'[1]itcer resto del mundo'!BG263","v":0.47028115521319702},{"$f":"+'[1]itcer resto del mundo'!BH263","v":0.88937249418274011},{"$f":"+'[1]itcer resto del mundo'!BI263","v":0.65322960773802041},{"$f":"+'[1]itcer resto del mundo'!BJ263","v":0.58676890563609152},{"$f":"+'[1]itcer resto del mundo'!BK263","v":0.55206670883545461},{"$f":"+'[1]itcer resto del mundo'!BL263","v":0.38711841817564063}]
[null,"Mayo",{"$f":"+'[1]itcer resto del mundo'!AK264","v":84.281078495969155},{"$f":"+'[1]itcer resto del mundo'!AL264","v":95.840137681747365},{"$f":"+'[1]itcer resto del mundo'!AM264","v":67.707280488754733},{"$f":"+'[1]itcer resto del mundo'!AN264","v":79.994569135746715},{"$f":"+'[1]itcer resto del mundo'!AO264","v":104.07305965997577},{"$f":"+'[1]itcer resto del mundo'!AP264","v":96.392492603789819},null,{"$f":"+'[1]itcer resto del mundo'!AS264","v":0.19397426428271558},{"$f":"+'[1]itcer resto del mundo'!AT264","v":-0.20171480141348752},{"$f":"+'[1]itcer resto del mundo'!AU264","v":0.41058467001364818},{"$f":"+'[1]itcer resto del mundo'!AV264","v":-0.21532989104220235},{"$f":"+'[1]itcer resto del mundo'!AW264","v":-0.28250359680399129},{"$f":"+'[1]itcer resto del mundo'!AX264","v":0.28038012456181605},null,{"$f":"+'[1]itcer resto del mundo'!BA264","v":1.8004281115890985},{"$f":"+'[1]itcer resto del mundo'!BB264","v":1.0802753469094006},{"$f":"+'[1]itcer resto del mundo'!BC264","v":1.0393013491084422},{"$f":"+'[1]itcer resto del mundo'!BD264","v":1.3673062168520249},{"$f":"+'[1]itcer resto del mundo'!BE264","v":1.9003504527164898},{"$f":"+'[1]itcer resto del mundo'!BF264","v":2.4885445908018888},null,{"$f":"+'[1]itcer resto del mundo'!BG264","v":0.46811687705531752},{"$f":"+'[1]itcer resto del mundo'!BH264","v":0.8871824943144353},{"$f":"+'[1]itcer resto del mundo'!BI264","v":0.6514691869382927},{"$f":"+'[1]itcer resto del mundo'!BJ264","v":0.58505233246082755},{"$f":"+'[1]itcer resto del mundo'!BK264","v":0.54765193183818628},{"$f":"+'[1]itcer resto del mundo'!BL264","v":0.38734484790858847}]
[null,"Junio",{"$f":"+'[1]itcer resto del mundo'!AK265","v":84.123651538261996},{"$f":"+'[1]itcer resto del mundo'!AL265","v":95.656938181494581},{"$f":"+'[1]itcer resto del mundo'!AM265","v":68.193571991176256},{"$f":"+'[1]itcer resto del mundo'!AN265","v":79.585039670919073},{"$f":"+'[1]itcer resto del mundo'!AO265","v":103.95459840320962},{"$f":"+'[1]itcer resto del mundo'!AP265","v":95.648516924385049},null,{"$f":"+'[1]itcer resto del mundo'!AS265","v":-0.18678801994053629},{"$f":"+'[1]itcer resto del mundo'!AT265","v":-0.1911511238236443},{"$f":"+'[1]itcer resto del mundo'!AU265","v":0.71822631024485872},{"$f":"+'[1]itcer resto del mundo'!AV265","v":-0.51194658493965051},{"$f":"+'[1]itcer resto del mundo'!AW265","v":-0.11382509282728392},{"$f":"+'[1]itcer resto del mundo'!AX265","v":-0.7718191109164394},null,{"$f":"+'[1]itcer resto del mundo'!BA265","v":1.8085108631142934},{"$f":"+'[1]itcer resto del mundo'!BB265","v":1.0796378858634419},{"$f":"+'[1]itcer resto del mundo'!BC265","v":1.053316025057115},{"$f":"+'[1]itcer resto del mundo'!BD265","v":1.367441662146569},{"$f":"+'[1]itcer resto del mundo'!BE265","v":1.91224185923687},{"$f":"+'[1]itcer resto del mundo'!BF265","v":2.4966929406673004},null,{"$f":"+'[1]itcer resto del mundo'!BG265","v":0.46515425068223981},{"$f":"+'[1]itcer resto del mundo'!BH265","v":0.88600946145005677},{"$f":"+'[1]itcer resto del mundo'!BI265","v":0.64741796734250312},{"$f":"+'[1]itcer resto del mundo'!BJ265","v":0.58199952417705958},{"$f":"+'[1]itcer resto del mundo'!BK265","v":0.5436268320404587},{"$f":"+'[1]itcer resto del mundo'!BL265","v":0.38310084258427363}]
[null,"Julio",{"$f":"+'[1]itcer resto del mundo'!AK266","v":83.69944897967892},{"$f":"+'[1]itcer resto del mundo'!AL266","v":95.491976890597158},{"$f":"+'[1]itcer resto del mundo'!AM266","v":67.556712615856256},{"$f":"+'[1]itcer resto del mundo'!AN266","v":79.002103542006637},{"$f":"+'[1]itcer resto del mundo'!AO266","v":104.32054622206989},{"$f":"+'[1]itcer resto del mundo'!AP266","v":94.979827250878756},null,{"$f":"+'[1]itcer resto del mundo'!AS266","v":-0.50426075286345906},{"$f":"+'[1]itcer resto del mundo'!AT266","v":-0.17245094191122234},{"$f":"+'[1]itcer resto del mundo'!AU266","v":-0.9338994229579356},{"$f":"+'[1]itcer resto del mundo'!AV266","v":-0.73246948336377216},{"$f":"+'[1]itcer resto del mundo'!AW266","v":0.35202658129742304},{"$f":"+'[1]itcer resto del mundo'!AX266","v":-0.69911138720000565},null,{"$f":"+'[1]itcer resto del mundo'!BA266","v":1.8060508267629822},{"$f":"+'[1]itcer resto del mundo'!BB266","v":1.0804394957260315},{"$f":"+'[1]itcer resto del mundo'!BC266","v":1.0527213633345844},{"$f":"+'[1]itcer resto del mundo'!BD266","v":1.3664465662153411},{"$f":"+'[1]itcer resto del mundo'!BE266","v":1.9252516646454412},{"$f":"+'[1]itcer resto del mundo'!BF266","v":2.4996524852772128},null,{"$f":"+'[1]itcer resto del mundo'!BG266","v":0.46343905575290462},{"$f":"+'[1]itcer resto del mundo'!BH266","v":0.88382530690835814},{"$f":"+'[1]itcer resto del mundo'!BI266","v":0.64173403303856824},{"$f":"+'[1]itcer resto del mundo'!BJ266","v":0.57815728397502908},{"$f":"+'[1]itcer resto del mundo'!BK266","v":0.54185407621128734},{"$f":"+'[1]itcer resto del mundo'!BL266","v":0.37997212736691854}]
[null,"Agosto",{"$f":"+'[1]itcer resto del mundo'!AK267","v":83.624494128392314},{"$f":"+'[1]itcer resto del mundo'!AL267","v":95.3693916663332},{"$f":"+'[1]itcer resto del mundo'!AM267","v":67.563636350819095},{"$f":"+'[1]itcer resto del mundo'!AN267","v":78.782741720771625},{"$f":"+'[1]itcer resto del mundo'!AO267","v":104.12172592899277},{"$f":"+'[1]itcer resto del mundo'!AP267","v":94.616096389958258},null,{"$f":"+'[1]itcer resto del mundo'!AS267","v":-8.955238320004355E-2},{"$f":"+'[1]itcer resto del mundo'!AT267","v":-0.12837227613835012},{"$f":"+'[1]itcer resto del mundo'!AU267","v":1.0248774244246306E-2},{"$f":"+'[1]itcer resto del mundo'!AV267","v":-0.27766579799785518},{"$f":"+'[1]itcer resto del mundo'!AW267","v":-0.19058593946957103},{"$f":"+'[1]itcer resto del mundo'!AX267","v":-0.38295590911083366},null,{"$f":"+'[1]itcer resto del mundo'!BA267","v":1.8046541057609953},{"$f":"+'[1]itcer resto del mundo'!BB267","v":1.0775310146793566},{"$f":"+'[1]itcer resto del mundo'!BC267","v":1.05649350388509},{"$f":"+'[1]itcer resto del mundo'!BD267","v":1.3643814279955426},{"$f":"+'[1]itcer resto del mundo'!BE267","v":1.9288654296355767},{"$f":"+'[1]itcer resto del mundo'!BF267","v":2.496114907506735},null,{"$f":"+'[1]itcer resto del mundo'!BG267","v":0.46338239478378657},{"$f":"+'[1]itcer resto del mundo'!BH267","v":0.88507328668133511},{"$f":"+'[1]itcer resto del mundo'!BI267","v":0.63950829893761174},{"$f":"+'[1]itcer resto del mundo'!BJ267","v":0.57742461238653708},{"$f":"+'[1]itcer resto del mundo'!BK267","v":0.5398081396931077},{"$f":"+'[1]itcer resto del mundo'!BL267","v":0.37905344864298063}]
[null,"Septiembre",{"$f":"+'[1]itcer resto del mundo'!AK268","v":83.529698136413074},{"$f":"+'[1]itcer resto del mundo'!AL268","v":94.623934425535992},{"$f":"+'[1]itcer resto del mundo'!AM268","v":67.025677618642149},{"$f":"+'[1]itcer resto del mundo'!AN268","v":78.704306264915388},{"$f":"+'[1]itcer resto del mundo'!AO268","v":103.19153704177188},{"$f":"+'[1]itcer resto del mundo'!AP268","v":93.831651053334426},null,{"$f":"+'[1]itcer resto del mundo'!AS268","v":-0.11335912159144357},{"$f":"+'[1]itcer resto del mundo'!AT268","v":-0.78165250692310906},{"$f":"+'[1]itcer resto del mundo'!AU268","v":-0.79622524960562657},{"$f":"+'[1]itcer resto del mundo'!AV268","v":-9.9559185353342627E-2},{"$f":"+'[1]itcer resto del mundo'!AW268","v":-0.89336675791875564},{"$f":"+'[1]itcer resto del mundo'!AX268","v":-0.82908233012568644},null,{"$f":"+'[1]itcer resto del mundo'!BA268","v":1.7939931607183801},{"$f":"+'[1]itcer resto del mundo'!BB268","v":1.0631046677689122},{"$f":"+'[1]itcer resto del mundo'!BC268","v":1.0446796551090076},{"$f":"+'[1]itcer resto del mundo'!BD268","v":1.3570457850688336},{"$f":"+'[1]itcer resto del mundo'!BE268","v":1.9103905683542415},{"$f":"+'[1]itcer resto del mundo'!BF268","v":2.4744712517346521},null,{"$f":"+'[1]itcer resto del mundo'!BG268","v":0.46560767323641716},{"$f":"+'[1]itcer resto del mundo'!BH268","v":0.89007166739394328},{"$f":"+'[1]itcer resto del mundo'!BI268","v":0.64159072392051431},{"$f":"+'[1]itcer resto del mundo'!BJ268","v":0.57996795046176919},{"$f":"+'[1]itcer resto del mundo'!BK268","v":0.54015937238775757},{"$f":"+'[1]itcer resto del mundo'!BL268","v":0.37919879241901328}]
[null,"Octubre",{"$f":"+'[1]itcer resto del mundo'!AK269","v":83.659501696198134},{"$f":"+'[1]itcer resto del mundo'!AL269","v":94.321262275027237},{"$f":"+'[1]itcer resto del mundo'!AM269","v":66.612029055116807},{"$f":"+'[1]itcer resto del mundo'!AN269","v":78.688318326827016},{"$f":"+'[1]itcer resto del mundo'!AO269","v":102.57029070521787},{"$f":"+'[1]itcer resto del mundo'!AP269","v":93.841539401275881},null,{"$f":"+'[1]itcer resto del mundo'!AS269","v":0.15539809514584135},{"$f":"+'[1]itcer resto del mundo'!AT269","v":-0.31986849029928521},{"$f":"+'[1]itcer resto del mundo'!AU269","v":-0.61714939441401384},{"$f":"+'[1]itcer resto del mundo'!AV269","v":-2.03139305167781E-2},{"$f":"+'[1]itcer resto del mundo'!AW269","v":-0.60203225415909856},{"$f":"+'[1]itcer resto del mundo'!AX269","v":1.053839278159785E-2},null,{"$f":"+'[1]itcer resto del mundo'!BA269","v":1.8000452068364154},{"$f":"+'[1]itcer resto del mundo'!BB269","v":1.0586951850883937},{"$f":"+'[1]itcer resto del mundo'!BC269","v":1.0375540665783229},{"$f":"+'[1]itcer resto del mundo'!BD269","v":1.3586834927524696},{"$f":"+'[1]itcer resto del mundo'!BE269","v":1.9062376337302194},{"$f":"+'[1]itcer resto del mundo'!BF269","v":2.4760893113883697},null,{"$f":"+'[1]itcer resto del mundo'!BG269","v":0.46476333693435379},{"$f":"+'[1]itcer resto del mundo'!BH269","v":0.89091991352687672},{"$f":"+'[1]itcer resto del mundo'!BI269","v":0.64201019687380689},{"$f":"+'[1]itcer resto del mundo'!BJ269","v":0.57915120590313063},{"$f":"+'[1]itcer resto del mundo'!BK269","v":0.53807714678522689},{"$f":"+'[1]itcer resto del mundo'!BL269","v":0.37899093126272543}]
[null,"Noviembre",{"$f":"+'[1]itcer resto del mundo'!AK270","v":81.86876601005234},{"$f":"+'[1]itcer resto del mundo'!AL270","v":93.864742055469449},{"$f":"+'[1]itcer resto del mundo'!AM270","v":65.999686642480185},{"$f":"+'[1]itcer resto del mundo'!AN270","v":78.07571253561288},{"$f":"+'[1]itcer resto del mundo'!AO270","v":101.10489219148856},{"$f":"+'[1]itcer resto del mundo'!AP270","v":93.80105672635527},null,{"$f":"+'[1]itcer resto del mundo'!AS270","v":-2.140504843847495},{"$f":"+'[1]itcer resto del mundo'!AT270","v":-0.48400562985113993},{"$f":"+'[1]itcer resto del mundo'!AU270","v":-0.91926701726792714},{"$f":"+'[1]itcer resto del mundo'!AV270","v":-0.77852190037880575},{"$f":"+'[1]itcer resto del mundo'!AW270","v":-1.4286773525296894},{"$f":"+'[1]itcer resto del mundo'!AX270","v":-4.313939773248876E-2},null,{"$f":"+'[1]itcer resto del mundo'!BA270","v":1.7652868390459551},{"$f":"+'[1]itcer resto del mundo'!BB270","v":1.0542068407648792},{"$f":"+'[1]itcer resto del mundo'!BC270","v":1.029061738438358},{"$f":"+'[1]itcer resto del mundo'!BD270","v":1.3535295944608237},{"$f":"+'[1]itcer resto del mundo'!BE270","v":1.9007756397491671},{"$f":"+'[1]itcer resto del mundo'!BF270","v":2.4763258542184139},null,{"$f":"+'[1]itcer resto del mundo'!BG270","v":0.46377033011982421},{"$f":"+'[1]itcer resto del mundo'!BH270","v":0.89038259311015211},{"$f":"+'[1]itcer resto del mundo'!BI270","v":0.64135789114691344},{"$f":"+'[1]itcer resto del mundo'!BJ270","v":0.57683047977029434},{"$f":"+'[1]itcer resto del mundo'!BK270","v":0.53191386756635151},{"$f":"+'[1]itcer resto del mundo'!BL270","v":0.37879125062061381}]
[null,"Diciembre",{"$f":"+'[1]itcer resto del mundo'!AK271","v":80.177825568977113},{"$f":"+'[1]itcer resto del mundo'!AL271","v":93.5423147829339},{"$f":"+'[1]itcer resto del mundo'!AM271","v":65.465615310007578},{"$f":"+'[1]itcer resto del mundo'!AN271","v":77.637489174041221},{"$f":"+'[1]itcer resto del mundo'!AO271","v":99.760564399563961},{"$f":"+'[1]itcer resto del mundo'!AP271","v":93.508554709721764},null,{"$f":"+'[1]itcer resto del mundo'!AS271","v":-2.0654280301080945},{"$f":"+'[1]itcer resto del mundo'!AT271","v":-0.343502006690656},{"$f":"+'[1]itcer resto del mundo'!AU271","v":-0.80920283056140363},{"$f":"+'[1]itcer resto del mundo'!AV271","v":-0.56128000288408941},{"$f":"+'[1]itcer resto del mundo'!AW271","v":-1.3296367394156334},{"$f":"+'[1]itcer resto del mundo'!AX271","v":-0.31183232560675833},null,{"$f":"+'[1]itcer resto del mundo'!BA271","v":1.7440687384310016},{"$f":"+'[1]itcer resto del mundo'!BB271","v":1.0486676613993606},{"$f":"+'[1]itcer resto del mundo'!BC271","v":1.022968446789664},{"$f":"+'[1]itcer resto del mundo'!BD271","v":1.349435231413205},{"$f":"+'[1]itcer resto del mundo'!BE271","v":1.8978556279090824},{"$f":"+'[1]itcer resto del mundo'!BF271","v":2.4725846223209431},null,{"$f":"+'[1]itcer resto del mundo'!BG271","v":0.459717118954306},{"$f":"+'[1]itcer resto del mundo'!BH271","v":0.89201105580112361},{"$f":"+'[1]itcer resto del mundo'!BI271","v":0.6399573272807717},{"$f":"+'[1]itcer resto del mundo'!BJ271","v":0.57533320137740018},{"$f":"+'[1]itcer resto del mundo'!BK271","v":0.52564885828261243},{"$f":"+'[1]itcer resto del mundo'!BL271","v":0.3781814133501647}]
[2012,"Enero",{"$f":"+'[1]itcer resto del mundo'!AK272","v":80.709527919056484},{"$f":"+'[1]itcer resto del mundo'!AL272","v":93.430936092579287},{"$f":"+'[1]itcer resto del mundo'!AM272","v":65.821927258384903},{"$f":"+'[1]itcer resto del mundo'!AN272","v":77.938416738736166},{"$f":"+'[1]itcer resto del mundo'!AO272","v":100.75924781284131},{"$f":"+'[1]itcer resto del mundo'!AP272","v":94.120482474691016},null,{"$f":"+'[1]itcer resto del mundo'!AS272","v":0.66315386617954175},{"$f":"+'[1]itcer resto del mundo'!AT272","v":-0.11906770814157142},{"$f":"+'[1]itcer resto del mundo'!AU272","v":0.54427342764600439},{"$f":"+'[1]itcer resto del mundo'!AV272","v":0.38760599794815676},{"$f":"+'[1]itcer resto del mundo'!AW272","v":1.0010803560386705},{"$f":"+'[1]itcer resto del mundo'!AX272","v":0.65440832324792098},null,{"$f":"+'[1]itcer resto del mundo'!BA272","v":1.7559348511004824},{"$f":"+'[1]itcer resto del mundo'!BB272","v":1.0483203723215133},{"$f":"+'[1]itcer resto del mundo'!BC272","v":1.0262121214869351},{"$f":"+'[1]itcer resto del mundo'!BD272","v":1.3539094932962485},{"$f":"+'[1]itcer resto del mundo'!BE272","v":1.9141271306343774},{"$f":"+'[1]itcer resto del mundo'!BF272","v":2.4925051223453223},null,{"$f":"+'[1]itcer resto del mundo'!BG272","v":0.45963851032670189},{"$f":"+'[1]itcer resto del mundo'!BH272","v":0.89124411353063571},{"$f":"+'[1]itcer resto del mundo'!BI272","v":0.64140664371623168},{"$f":"+'[1]itcer resto del mundo'!BJ272","v":0.57565455537937127},{"$f":"+'[1]itcer resto del mundo'!BK272","v":0.52639788758152017},{"$f":"+'[1]itcer resto del mundo'!BL272","v":0.37761399818560198}]
[null,"Febrero",{"$f":"+'[1]itcer resto del mundo'!AK273","v":81.790975500048944},{"$f":"+'[1]itcer resto del mundo'!AL273","v":94.297361110963379},{"$f":"+'[1]itcer resto del mundo'!AM273","v":66.170779977415492},{"$f":"+'[1]itcer resto del mundo'!AN273","v":78.226201802984434},{"$f":"+'[1]itcer resto del mundo'!AO273","v":101.18676012697077},{"$f":"+'[1]itcer resto del mundo'!AP273","v":94.999933153885266},null,{"$f":"+'[1]itcer resto del mundo'!AS273","v":1.3399255439544078},{"$f":"+'[1]itcer resto del mundo'!AT273","v":0.92734275671344335},{"$f":"+'[1]itcer resto del mundo'!AU273","v":0.52999468955255225},{"$f":"+'[1]itcer resto del mundo'!AV273","v":0.369246741581847},{"$f":"+'[1]itcer resto del mundo'!AW273","v":0.42429089479068693},{"$f":"+'[1]itcer resto del mundo'!AX273","v":0.93438819699073861},null,{"$f":"+'[1]itcer resto del mundo'!BA273","v":1.7768974754748716},{"$f":"+'[1]itcer resto del mundo'!BB273","v":1.0569724977768702},{"$f":"+'[1]itcer resto del mundo'!BC273","v":1.0325640846808311},{"$f":"+'[1]itcer resto del mundo'!BD273","v":1.3662115875926759},{"$f":"+'[1]itcer resto del mundo'!BE273","v":1.9375723874818145},{"$f":"+'[1]itcer resto del mundo'!BF273","v":2.5140286442306352},null,{"$f":"+'[1]itcer resto del mundo'!BG273","v":0.46030216503172466},{"$f":"+'[1]itcer resto del mundo'!BH273","v":0.89214583453494756},{"$f":"+'[1]itcer resto del mundo'!BI273","v":0.64083944966833795},{"$f":"+'[1]itcer resto del mundo'!BJ273","v":0.57257750200188529},{"$f":"+'[1]itcer resto del mundo'!BK273","v":0.52223473445799451},{"$f":"+'[1]itcer resto del mundo'!BL273","v":0.37787927902849311}]
[null,"Marzo",{"$f":"+'[1]itcer resto del mundo'!AK274","v":81.617809040454773},{"$f":"+'[1]itcer resto del mundo'!AL274","v":94.658224426074838},{"$f":"+'[1]itcer resto del mundo'!AM274","v":65.781000822734654},{"$f":"+'[1]itcer resto del mundo'!AN274","v":78.326306192258428},{"$f":"+'[1]itcer resto del mundo'!AO274","v":101.27177792906463},{"$f":"+'[1]itcer resto del mundo'!AP274","v":95.462299960558511},null,{"$f":"+'[1]itcer resto del mundo'!AS274","v":-0.21171829598006298},{"$f":"+'[1]itcer resto del mundo'!AT274","v":0.38268654696160809},{"$f":"+'[1]itcer resto del mundo'!AU274","v":-0.5890502648055076},{"$f":"+'[1]itcer resto del mundo'!AV274","v":0.12796785088211493},{"$f":"+'[1]itcer resto del mundo'!AW274","v":8.4020678186732312E-2},{"$f":"+'[1]itcer resto del mundo'!AX274","v":0.48670224422609465},null,{"$f":"+'[1]itcer resto del mundo'!BA274","v":1.7661204853442578},{"$f":"+'[1]itcer resto del mundo'!BB274","v":1.0545202116433547},{"$f":"+'[1]itcer resto del mundo'!BC274","v":1.0226617992479479},{"$f":"+'[1]itcer resto del mundo'!BD274","v":1.3675367452002947},{"$f":"+'[1]itcer resto del mundo'!BE274","v":1.9326795366315836},{"$f":"+'[1]itcer resto del mundo'!BF274","v":2.5110019649406872},null,{"$f":"+'[1]itcer resto del mundo'!BG274","v":0.46213047024674303},{"$f":"+'[1]itcer resto del mundo'!BH274","v":0.89764258077671488},{"$f":"+'[1]itcer resto del mundo'!BI274","v":0.64323318687672837},{"$f":"+'[1]itcer resto del mundo'!BJ274","v":0.57275467344598818},{"$f":"+'[1]itcer resto del mundo'!BK274","v":0.52399674136131513},{"$f":"+'[1]itcer resto del mundo'!BL274","v":0.38017612607807505}]
[null,"Abril",{"$f":"+'[1]itcer resto del mundo'!AK275","v":80.551042215154609},{"$f":"+'[1]itcer resto del mundo'!AL275","v":94.125585958945749},{"$f":"+'[1]itcer resto del mundo'!AM275","v":65.704420600165037},{"$f":"+'[1]itcer resto del mundo'!AN275","v":77.867205001315455},{"$f":"+'[1]itcer resto del mundo'!AO275","v":100.56133824524171},{"$f":"+'[1]itcer resto del mundo'!AP275","v":95.607579440738533},null,{"$f":"+'[1]itcer resto del mundo'!AS275","v":-1.3070270298133266},{"$f":"+'[1]itcer resto del mundo'!AT275","v":-0.5626964485743855},{"$f":"+'[1]itcer resto del mundo'!AU275","v":-0.11641693135071307},{"$f":"+'[1]itcer resto del mundo'!AV275","v":-0.5861392082196204},{"$f":"+'[1]itcer resto del mundo'!AW275","v":-0.70151793357527481},{"$f":"+'[1]itcer resto del mundo'!AX275","v":0.15218518749291832},null,{"$f":"+'[1]itcer resto del mundo'!BA275","v":1.7490447297680234},{"$f":"+'[1]itcer resto del mundo'!BB275","v":1.0520935527581907},{"$f":"+'[1]itcer resto del mundo'!BC275","v":1.0227509486025028},{"$f":"+'[1]itcer resto del mundo'!BD275","v":1.3707607058667215},{"$f":"+'[1]itcer resto del mundo'!BE275","v":1.9339405557165932},{"$f":"+'[1]itcer resto del mundo'!BF275","v":2.5081431330143764},null,{"$f":"+'[1]itcer resto del mundo'!BG275","v":0.46054306584736748},{"$f":"+'[1]itcer resto del mundo'!BH275","v":0.89465034465978899},{"$f":"+'[1]itcer resto del mundo'!BI275","v":0.64242835159375022},{"$f":"+'[1]itcer resto del mundo'!BJ275","v":0.56805833919845716},{"$f":"+'[1]itcer resto del mundo'!BK275","v":0.51998153690913307},{"$f":"+'[1]itcer resto del mundo'!BL275","v":0.38118868968149322}]
[null,"Mayo",{"$f":"+'[1]itcer resto del mundo'!AK276","v":78.813464078636201},{"$f":"+'[1]itcer resto del mundo'!AL276","v":93.513609053578719},{"$f":"+'[1]itcer resto del mundo'!AM276","v":65.246651217118142},{"$f":"+'[1]itcer resto del mundo'!AN276","v":77.55718379973284},{"$f":"+'[1]itcer resto del mundo'!AO276","v":100.39690551346717},{"$f":"+'[1]itcer resto del mundo'!AP276","v":95.148603456339913},null,{"$f":"+'[1]itcer resto del mundo'!AS276","v":-2.1571144068841193},{"$f":"+'[1]itcer resto del mundo'!AT276","v":-0.65017061953159327},{"$f":"+'[1]itcer resto del mundo'!AU276","v":-0.69671017393577017},{"$f":"+'[1]itcer resto del mundo'!AV276","v":-0.39814091385117933},{"$f":"+'[1]itcer resto del mundo'!AW276","v":-0.16351486032687035},{"$f":"+'[1]itcer resto del mundo'!AX276","v":-0.4800623413786127},null,{"$f":"+'[1]itcer resto del mundo'!BA276","v":1.7304081438842731},{"$f":"+'[1]itcer resto del mundo'!BB276","v":1.0435736035372483},{"$f":"+'[1]itcer resto del mundo'!BC276","v":1.0182818911203331},{"$f":"+'[1]itcer resto del mundo'!BD276","v":1.3689127060798956},{"$f":"+'[1]itcer resto del mundo'!BE276","v":1.9267048427168629},{"$f":"+'[1]itcer resto del mundo'!BF276","v":2.4926353432169792},null,{"$f":"+'[1]itcer resto del mundo'!BG276","v":0.45546170339745651},{"$f":"+'[1]itcer resto del mundo'!BH276","v":0.89609021095023267},{"$f":"+'[1]itcer resto del mundo'!BI276","v":0.64075234751874599},{"$f":"+'[1]itcer resto del mundo'!BJ276","v":0.56656047865776971},{"$f":"+'[1]itcer resto del mundo'!BK276","v":0.52108088009939613},{"$f":"+'[1]itcer resto del mundo'!BL276","v":0.38171890531545521}]
[null,"Junio",{"$f":"+'[1]itcer resto del mundo'!AK277","v":77.324324664620562},{"$f":"+'[1]itcer resto del mundo'!AL277","v":93.393710169683914},{"$f":"+'[1]itcer resto del mundo'!AM277","v":65.272143974369598},{"$f":"+'[1]itcer resto del mundo'!AN277","v":77.450832711901654},{"$f":"+'[1]itcer resto del mundo'!AO277","v":100.63627519027627},{"$f":"+'[1]itcer resto del mundo'!AP277","v":94.513291770399832},null,{"$f":"+'[1]itcer resto del mundo'!AS277","v":-1.88944799143691},{"$f":"+'[1]itcer resto del mundo'!AT277","v":-0.12821543848886563},{"$f":"+'[1]itcer resto del mundo'!AU277","v":3.9071365006336123E-2},{"$f":"+'[1]itcer resto del mundo'!AV277","v":-0.13712603091133246},{"$f":"+'[1]itcer resto del mundo'!AW277","v":0.23842336134252662},{"$f":"+'[1]itcer resto del mundo'!AX277","v":-0.66770468810044292},null,{"$f":"+'[1]itcer resto del mundo'!BA277","v":1.7018857681705397},{"$f":"+'[1]itcer resto del mundo'!BB277","v":1.037504349260572},{"$f":"+'[1]itcer resto del mundo'!BC277","v":1.0206861055613272},{"$f":"+'[1]itcer resto del mundo'!BD277","v":1.3687630669118653},{"$f":"+'[1]itcer resto del mundo'!BE277","v":1.9270032056836144},{"$f":"+'[1]itcer resto del mundo'!BF277","v":2.4838564088863953},null,{"$f":"+'[1]itcer resto del mundo'!BG277","v":0.4543449749141576},{"$f":"+'[1]itcer resto del mundo'!BH277","v":0.90017656539218827},{"$f":"+'[1]itcer resto del mundo'!BI277","v":0.63949282368719162},{"$f":"+'[1]itcer resto del mundo'!BJ277","v":0.56584543069709159},{"$f":"+'[1]itcer resto del mundo'!BK277","v":0.52224238596725636},{"$f":"+'[1]itcer resto del mundo'!BL277","v":0.38051028808373683}]
[null,"Julio",{"$f":"+'[1]itcer resto del mundo'!AK278","v":77.519923005186627},{"$f":"+'[1]itcer resto del mundo'!AL278","v":93.698140752339953},{"$f":"+'[1]itcer resto del mundo'!AM278","v":65.057861682347394},{"$f":"+'[1]itcer resto del mundo'!AN278","v":77.568094670470501},{"$f":"+'[1]itcer resto del mundo'!AO278","v":101.25846564651741},{"$f":"+'[1]itcer resto del mundo'!AP278","v":94.738984265672713},null,{"$f":"+'[1]itcer resto del mundo'!AS278","v":0.25295835613752615},{"$f":"+'[1]itcer resto del mundo'!AT278","v":0.32596475940715663},{"$f":"+'[1]itcer resto del mundo'!AU278","v":-0.32829056772878573},{"$f":"+'[1]itcer resto del mundo'!AV278","v":0.1514018048134318},{"$f":"+'[1]itcer resto del mundo'!AW278","v":0.61825664261196778},{"$f":"+'[1]itcer resto del mundo'!AX278","v":0.23879445001360011},null,{"$f":"+'[1]itcer resto del mundo'!BA278","v":1.7037948591084484},{"$f":"+'[1]itcer resto del mundo'!BB278","v":1.0390310660507551},{"$f":"+'[1]itcer resto del mundo'!BC278","v":1.0218223149201409},{"$f":"+'[1]itcer resto del mundo'!BD278","v":1.3744195845576934},{"$f":"+'[1]itcer resto del mundo'!BE278","v":1.9461067412076118},{"$f":"+'[1]itcer resto del mundo'!BF278","v":2.4882644990265201},null,{"$f":"+'[1]itcer resto del mundo'!BG278","v":0.45498390014952139},{"$f":"+'[1]itcer resto del mundo'!BH278","v":0.90178382354318298},{"$f":"+'[1]itcer resto del mundo'!BI278","v":0.63668468316266802},{"$f":"+'[1]itcer resto del mundo'!BJ278","v":0.56436982957742821},{"$f":"+'[1]itcer resto del mundo'!BK278","v":0.52031301008537589},{"$f":"+'[1]itcer resto del mundo'!BL278","v":0.38074322204386751}]
[null,"Agosto",{"$f":"+'[1]itcer resto del mundo'!AK279","v":77.589187623075674},{"$f":"+'[1]itcer resto del mundo'!AL279","v":94.292113387261963},{"$f":"+'[1]itcer resto del mundo'!AM279","v":65.837663955514685},{"$f":"+'[1]itcer resto del mundo'!AN279","v":77.993736874679527},{"$f":"+'[1]itcer resto del mundo'!AO279","v":102.39685649764465},{"$f":"+'[1]itcer resto del mundo'!AP279","v":94.575913843488578},null,{"$f":"+'[1]itcer resto del mundo'!AS279","v":8.9350731017120211E-2},{"$f":"+'[1]itcer resto del mundo'!AT279","v":0.63392147395109077},{"$f":"+'[1]itcer resto del mundo'!AU279","v":1.1986288098043758},{"$f":"+'[1]itcer resto del mundo'!AV279","v":0.54873360757056844},{"$f":"+'[1]itcer resto del mundo'!AW279","v":1.1242426436731279},{"$f":"+'[1]itcer resto del mundo'!AX279","v":-0.17212599802299167},null,{"$f":"+'[1]itcer resto del mundo'!BA279","v":1.706534595511187},{"$f":"+'[1]itcer resto del mundo'!BB279","v":1.0425603644515171},{"$f":"+'[1]itcer resto del mundo'!BC279","v":1.0339490538122245},{"$f":"+'[1]itcer resto del mundo'!BD279","v":1.3836124276095529},{"$f":"+'[1]itcer resto del mundo'!BE279","v":1.9640611470048042},{"$f":"+'[1]itcer resto del mundo'!BF279","v":2.497129820670585},null,{"$f":"+'[1]itcer resto del mundo'!BG279","v":0.45465933024249111},{"$f":"+'[1]itcer resto del mundo'!BH279","v":0.90442833434271497},{"$f":"+'[1]itcer resto del mundo'!BI279","v":0.63675926500215607},{"$f":"+'[1]itcer resto del mundo'!BJ279","v":0.56369641756852507},{"$f":"+'[1]itcer resto del mundo'!BK279","v":0.52135269135484918},{"$f":"+'[1]itcer resto del mundo'!BL279","v":0.37873847431004182}]
[null,"Septiembre",{"$f":"+'[1]itcer resto del mundo'!AK280","v":78.569165517279814},{"$f":"+'[1]itcer resto del mundo'!AL280","v":95.144853241993886},{"$f":"+'[1]itcer resto del mundo'!AM280","v":67.052156478037361},{"$f":"+'[1]itcer resto del mundo'!AN280","v":78.638793229793066},{"$f":"+'[1]itcer resto del mundo'!AO280","v":103.34299087365898},{"$f":"+'[1]itcer resto del mundo'!AP280","v":95.280026606089109},null,{"$f":"+'[1]itcer resto del mundo'!AS280","v":1.2630340956330457},{"$f":"+'[1]itcer resto del mundo'!AT280","v":0.90435967982780596},{"$f":"+'[1]itcer resto del mundo'!AU280","v":1.8446774225514559},{"$f":"+'[1]itcer resto del mundo'!AV280","v":0.82706173721361154},{"$f":"+'[1]itcer resto del mundo'!AW280","v":0.9239877163964394},{"$f":"+'[1]itcer resto del mundo'!AX280","v":0.74449480209702301},null,{"$f":"+'[1]itcer resto del mundo'!BA280","v":1.7210732228411838},{"$f":"+'[1]itcer resto del mundo'!BB280","v":1.0515296793587938},{"$f":"+'[1]itcer resto del mundo'!BC280","v":1.0535197259224995},{"$f":"+'[1]itcer resto del mundo'!BD280","v":1.3986200917447149},{"$f":"+'[1]itcer resto del mundo'!BE280","v":1.9869838667252864},{"$f":"+'[1]itcer resto del mundo'!BF280","v":2.5205815938330063},null,{"$f":"+'[1]itcer resto del mundo'!BG280","v":0.45651262523029779},{"$f":"+'[1]itcer resto del mundo'!BH280","v":0.90482327897783854},{"$f":"+'[1]itcer resto del mundo'!BI280","v":0.63645848130013982},{"$f":"+'[1]itcer resto del mundo'!BJ280","v":0.56225985665410239},{"$f":"+'[1]itcer resto del mundo'!BK280","v":0.52009979851510701},{"$f":"+'[1]itcer resto del mundo'!BL280","v":0.37800810272996699}]
[null,"Octubre",{"$f":"+'[1]itcer resto del mundo'!AK281","v":78.38825848773908},{"$f":"+'[1]itcer resto del mundo'!AL281","v":95.242693471469465},{"$f":"+'[1]itcer resto del mundo'!AM281","v":66.283088628246077},{"$f":"+'[1]itcer resto del mundo'!AN281","v":78.66618997414561},{"$f":"+'[1]itcer resto del mundo'!AO281","v":103.16948652952077},{"$f":"+'[1]itcer resto del mundo'!AP281","v":95.719336222826556},null,{"$f":"+'[1]itcer resto del mundo'!AS281","v":-0.23025194215782108},{"$f":"+'[1]itcer resto del mundo'!AT281","v":0.10283291858858945},{"$f":"+'[1]itcer resto del mundo'!AU281","v":-1.1469695982756178},{"$f":"+'[1]itcer resto del mundo'!AV281","v":3.4838714109568514E-2},{"$f":"+'[1]itcer resto del mundo'!AW281","v":-0.16789173863791973},{"$f":"+'[1]itcer resto del mundo'!AX281","v":0.4610720970447062},null,{"$f":"+'[1]itcer resto del mundo'!BA281","v":1.7231093801515187},{"$f":"+'[1]itcer resto del mundo'!BB281","v":1.0526581223783051},{"$f":"+'[1]itcer resto del mundo'!BC281","v":1.0408126850224375},{"$f":"+'[1]itcer resto del mundo'!BD281","v":1.4047614153017367},{"$f":"+'[1]itcer resto del mundo'!BE281","v":1.9916622556741468},{"$f":"+'[1]itcer resto del mundo'!BF281","v":2.5367995403935306},null,{"$f":"+'[1]itcer resto del mundo'!BG281","v":0.45492328804365373},{"$f":"+'[1]itcer resto del mundo'!BH281","v":0.90478277274187091},{"$f":"+'[1]itcer resto del mundo'!BI281","v":0.63683974630667728},{"$f":"+'[1]itcer resto del mundo'!BJ281","v":0.55999680171489097},{"$f":"+'[1]itcer resto del mundo'!BK281","v":0.51800693734892067},{"$f":"+'[1]itcer resto del mundo'!BL281","v":0.37732321651232131}]
[null,"Noviembre",{"$f":"+'[1]itcer resto del mundo'!AK282","v":77.699912965638518},{"$f":"+'[1]itcer resto del mundo'!AL282","v":94.903377395489343},{"$f":"+'[1]itcer resto del mundo'!AM282","v":65.928118172942334},{"$f":"+'[1]itcer resto del mundo'!AN282","v":78.412218411850162},{"$f":"+'[1]itcer resto del mundo'!AO282","v":102.08159077608855},{"$f":"+'[1]itcer resto del mundo'!AP282","v":95.834928686572027},null,{"$f":"+'[1]itcer resto del mundo'!AS282","v":-0.87812324878761672},{"$f":"+'[1]itcer resto del mundo'!AT282","v":-0.35626467880369717},{"$f":"+'[1]itcer resto del mundo'!AU282","v":-0.53553698635654712},{"$f":"+'[1]itcer resto del mundo'!AV282","v":-0.32284716264881297},{"$f":"+'[1]itcer resto del mundo'!AW282","v":-1.0544743315369089},{"$f":"+'[1]itcer resto del mundo'!AX282","v":0.1207618735219711},null,{"$f":"+'[1]itcer resto del mundo'!BA282","v":1.7259232093705876},{"$f":"+'[1]itcer resto del mundo'!BB282","v":1.050025929372377},{"$f":"+'[1]itcer resto del mundo'!BC282","v":1.0374266061172346},{"$f":"+'[1]itcer resto del mundo'!BD282","v":1.4072062247218131},{"$f":"+'[1]itcer resto del mundo'!BE282","v":1.9941766729756338},{"$f":"+'[1]itcer resto del mundo'!BF282","v":2.5632775108354449},null,{"$f":"+'[1]itcer resto del mundo'!BG282","v":0.45019333736159817},{"$f":"+'[1]itcer resto del mundo'!BH282","v":0.90381936998655954},{"$f":"+'[1]itcer resto del mundo'!BI282","v":0.6354966971561562},{"$f":"+'[1]itcer resto del mundo'!BJ282","v":0.55721909862466146},{"$f":"+'[1]itcer resto del mundo'!BK282","v":0.51189842986061163},{"$f":"+'[1]itcer resto del mundo'!BL282","v":0.37387652441633867}]
[null,"Diciembre",{"$f":"+'[1]itcer resto del mundo'!AK283","v":77.562488886949424},{"$f":"+'[1]itcer resto del mundo'!AL283","v":94.971786625212658},{"$f":"+'[1]itcer resto del mundo'!AM283","v":65.738144779366536},{"$f":"+'[1]itcer resto del mundo'!AN283","v":78.481509217596525},{"$f":"+'[1]itcer resto del mundo'!AO283","v":100.73982547827106},{"$f":"+'[1]itcer resto del mundo'!AP283","v":95.701742446686239},null,{"$f":"+'[1]itcer resto del mundo'!AS283","v":-0.17686516425040111},{"$f":"+'[1]itcer resto del mundo'!AT283","v":7.2083029709517632E-2},{"$f":"+'[1]itcer resto del mundo'!AU283","v":-0.28815230714982931},{"$f":"+'[1]itcer resto del mundo'!AV283","v":8.836735798294626E-2},{"$f":"+'[1]itcer resto del mundo'!AW283","v":-1.3144047693776599},{"$f":"+'[1]itcer resto del mundo'!AX283","v":-0.13897463243425534},null,{"$f":"+'[1]itcer resto del mundo'!BA283","v":1.7288657465563246},{"$f":"+'[1]itcer resto del mundo'!BB283","v":1.0514257386089958},{"$f":"+'[1]itcer resto del mundo'!BC283","v":1.0414718523559054},{"$f":"+'[1]itcer resto del mundo'!BD283","v":1.4127936531958911},{"$f":"+'[1]itcer resto del mundo'!BE283","v":2.0019382516729443},{"$f":"+'[1]itcer resto del mundo'!BF283","v":2.5800004660675659},null,{"$f":"+'[1]itcer resto del mundo'!BG283","v":0.44863222631048011},{"$f":"+'[1]itcer resto del mundo'!BH283","v":0.90326670860138392},{"$f":"+'[1]itcer resto del mundo'!BI283","v":0.63120423879590004},{"$f":"+'[1]itcer resto del mundo'!BJ283","v":0.55550581672038901},{"$f":"+'[1]itcer resto del mundo'!BK283","v":0.50321145217184682},{"$f":"+'[1]itcer resto del mundo'!BL283","v":0.37093691921906807}]
[2013,"Enero",{"$f":"+'[1]itcer resto del mundo'!AK284","v":76.84220028309791},{"$f":"+'[1]itcer resto del mundo'!AL284","v":94.740352917955505},{"$f":"+'[1]itcer resto del mundo'!AM284","v":65.505310674288765},{"$f":"+'[1]itcer resto del mundo'!AN284","v":78.421237666372647},{"$f":"+'[1]itcer resto del mundo'!AO284","v":100.14541721404096},{"$f":"+'[1]itcer resto del mundo'!AP284","v":95.58224202243224},null,{"$f":"+'[1]itcer resto del mundo'!AS284","v":-0.92865586727285176},{"$f":"+'[1]itcer resto del mundo'!AT284","v":-0.24368679950231353},{"$f":"+'[1]itcer resto del mundo'!AU284","v":-0.354184173981821},{"$f":"+'[1]itcer resto del mundo'!AV284","v":-7.679713581548242E-2},{"$f":"+'[1]itcer resto del mundo'!AW284","v":-0.5900429759611967},{"$f":"+'[1]itcer resto del mundo'!AX284","v":-0.12486755329514665},null,{"$f":"+'[1]itcer resto del mundo'!BA284","v":1.7352665722714891},{"$f":"+'[1]itcer resto del mundo'!BB284","v":1.0522202329373331},{"$f":"+'[1]itcer resto del mundo'!BC284","v":1.0411553008699554},{"$f":"+'[1]itcer resto del mundo'!BD284","v":1.416674776740376},{"$f":"+'[1]itcer resto del mundo'!BE284","v":2.011182935538764},{"$f":"+'[1]itcer resto del mundo'!BF284","v":2.6054496440574701},null,{"$f":"+'[1]itcer resto del mundo'!BG284","v":0.44282648851185075},{"$f":"+'[1]itcer resto del mundo'!BH284","v":0.90038520408871392},{"$f":"+'[1]itcer resto del mundo'!BI284","v":0.6291598440650944},{"$f":"+'[1]itcer resto del mundo'!BJ284","v":0.553558508656531},{"$f":"+'[1]itcer resto del mundo'!BK284","v":0.49794285464744953},{"$f":"+'[1]itcer resto del mundo'!BL284","v":0.36685507332846357}]
[null,"Febrero",{"$f":"+'[1]itcer resto del mundo'!AK285","v":76.546356891951291},{"$f":"+'[1]itcer resto del mundo'!AL285","v":94.783556492284305},{"$f":"+'[1]itcer resto del mundo'!AM285","v":64.824800918640989},{"$f":"+'[1]itcer resto del mundo'!AN285","v":78.253455636941894},{"$f":"+'[1]itcer resto del mundo'!AO285","v":100.33224366355768},{"$f":"+'[1]itcer resto del mundo'!AP285","v":96.150789615553947},null,{"$f":"+'[1]itcer resto del mundo'!AS285","v":-0.38500119733257065},{"$f":"+'[1]itcer resto del mundo'!AT285","v":4.5602082954260936E-2},{"$f":"+'[1]itcer resto del mundo'!AU285","v":-1.0388619619429988},{"$f":"+'[1]itcer resto del mundo'!AV285","v":-0.21394973405615758},{"$f":"+'[1]itcer resto del mundo'!AW285","v":0.18655516619139689},{"$f":"+'[1]itcer resto del mundo'!AX285","v":0.59482554613887828},null,{"$f":"+'[1]itcer resto del mundo'!BA285","v":1.7353824388170731},{"$f":"+'[1]itcer resto del mundo'!BB285","v":1.0503087717831041},{"$f":"+'[1]itcer resto del mundo'!BC285","v":1.0317541855378329},{"$f":"+'[1]itcer resto del mundo'!BD285","v":1.4190151139358333},{"$f":"+'[1]itcer resto del mundo'!BE285","v":2.0144857632098452},{"$f":"+'[1]itcer resto del mundo'!BF285","v":2.6118329523187387},null,{"$f":"+'[1]itcer resto del mundo'!BG285","v":0.44109214879533565},{"$f":"+'[1]itcer resto del mundo'!BH285","v":0.90243516038974636},{"$f":"+'[1]itcer resto del mundo'!BI285","v":0.62829695122437623},{"$f":"+'[1]itcer resto del mundo'!BJ285","v":0.55146315827387626},{"$f":"+'[1]itcer resto del mundo'!BK285","v":0.49805387308218102},{"$f":"+'[1]itcer resto del mundo'!BL285","v":0.36813529567498943}]
[null,"Marzo",{"$f":"+'[1]itcer resto del mundo'!AK286","v":75.950297083057606},{"$f":"+'[1]itcer resto del mundo'!AL286","v":94.399279059057747},{"$f":"+'[1]itcer resto del mundo'!AM286","v":64.495841401402146},{"$f":"+'[1]itcer resto del mundo'!AN286","v":78.093069554335472},{"$f":"+'[1]itcer resto del mundo'!AO286","v":100.4004828705438},{"$f":"+'[1]itcer resto del mundo'!AP286","v":96.40850982821901},null,{"$f":"+'[1]itcer resto del mundo'!AS286","v":-0.77869128342065608},{"$f":"+'[1]itcer resto del mundo'!AT286","v":-0.40542626532254644},{"$f":"+'[1]itcer resto del mundo'!AU286","v":-0.50745935595190872},{"$f":"+'[1]itcer resto del mundo'!AV286","v":-0.2049571885368664},{"$f":"+'[1]itcer resto del mundo'!AW286","v":6.8013237314758612E-2},{"$f":"+'[1]itcer resto del mundo'!AX286","v":0.26803754154856563},null,{"$f":"+'[1]itcer resto del mundo'!BA286","v":1.7144217818608001},{"$f":"+'[1]itcer resto del mundo'!BB286","v":1.0456996485290941},{"$f":"+'[1]itcer resto del mundo'!BC286","v":1.0267600040122455},{"$f":"+'[1]itcer resto del mundo'!BD286","v":1.4177387763413551},{"$f":"+'[1]itcer resto del mundo'!BE286","v":2.0093028530007131},{"$f":"+'[1]itcer resto del mundo'!BF286","v":2.6171859367863326},null,{"$f":"+'[1]itcer resto del mundo'!BG286","v":0.44300823686819119},{"$f":"+'[1]itcer resto del mundo'!BH286","v":0.90273798209497336},{"$f":"+'[1]itcer resto del mundo'!BI286","v":0.62814914049411041},{"$f":"+'[1]itcer resto del mundo'!BJ286","v":0.55082833916600626},{"$f":"+'[1]itcer resto del mundo'!BK286","v":0.49967819794116508},{"$f":"+'[1]itcer resto del mundo'!BL286","v":0.36836706354383036}]
[null,"Abril",{"$f":"+'[1]itcer resto del mundo'!AK287","v":75.508953484473011},{"$f":"+'[1]itcer resto del mundo'!AL287","v":95.113620316294345},{"$f":"+'[1]itcer resto del mundo'!AM287","v":64.413956547385496},{"$f":"+'[1]itcer resto del mundo'!AN287","v":78.108355224612637},{"$f":"+'[1]itcer resto del mundo'!AO287","v":99.808275344143539},{"$f":"+'[1]itcer resto del mundo'!AP287","v":96.643767231314982},null,{"$f":"+'[1]itcer resto del mundo'!AS287","v":-0.58109528933370314},{"$f":"+'[1]itcer resto del mundo'!AT287","v":0.75672321267379061},{"$f":"+'[1]itcer resto del mundo'!AU287","v":-0.12696144780409213},{"$f":"+'[1]itcer resto del mundo'!AV287","v":1.95736578987038E-2},{"$f":"+'[1]itcer resto del mundo'!AW287","v":-0.5898452970229755},{"$f":"+'[1]itcer resto del mundo'!AX287","v":0.24402140798062533},null,{"$f":"+'[1]itcer resto del mundo'!BA287","v":1.7178973947612941},{"$f":"+'[1]itcer resto del mundo'!BB287","v":1.0475255538551571},{"$f":"+'[1]itcer resto del mundo'!BC287","v":1.0277967121048415},{"$f":"+'[1]itcer resto del mundo'!BD287","v":1.4225519795802697},{"$f":"+'[1]itcer resto del mundo'!BE287","v":2.0105702403582431},{"$f":"+'[1]itcer resto del mundo'!BF287","v":2.6237794488862702},null,{"$f":"+'[1]itcer resto del mundo'!BG287","v":0.43954286044519653},{"$f":"+'[1]itcer resto del mundo'!BH287","v":0.90798377152950904},{"$f":"+'[1]itcer resto del mundo'!BI287","v":0.62671884224528329},{"$f":"+'[1]itcer resto del mundo'!BJ287","v":0.54907206447147794},{"$f":"+'[1]itcer resto del mundo'!BK287","v":0.4964177492568464},{"$f":"+'[1]itcer resto del mundo'!BL287","v":0.36833799911169313}]
[null,"Mayo",{"$f":"+'[1]itcer resto del mundo'!AK288","v":75.35117448706329},{"$f":"+'[1]itcer resto del mundo'!AL288","v":95.089412731156088},{"$f":"+'[1]itcer resto del mundo'!AM288","v":64.053581772974724},{"$f":"+'[1]itcer resto del mundo'!AN288","v":78.091865073792292},{"$f":"+'[1]itcer resto del mundo'!AO288","v":99.071279786581741},{"$f":"+'[1]itcer resto del mundo'!AP288","v":96.771975235979298},null,{"$f":"+'[1]itcer resto del mundo'!AS288","v":-0.20895402482589986},{"$f":"+'[1]itcer resto del mundo'!AT288","v":-2.545122881218731E-2},{"$f":"+'[1]itcer resto del mundo'!AU288","v":-0.55946691327005738},{"$f":"+'[1]itcer resto del mundo'!AV288","v":-2.1111891004395034E-2},{"$f":"+'[1]itcer resto del mundo'!AW288","v":-0.73841127403574092},{"$f":"+'[1]itcer resto del mundo'!AX288","v":0.13266039635794868},null,{"$f":"+'[1]itcer resto del mundo'!BA288","v":1.7125763540023384},{"$f":"+'[1]itcer resto del mundo'!BB288","v":1.0444066710500333},{"$f":"+'[1]itcer resto del mundo'!BC288","v":1.0236932472780269},{"$f":"+'[1]itcer resto del mundo'!BD288","v":1.4241943801957502},{"$f":"+'[1]itcer resto del mundo'!BE288","v":2.0128100352666407},{"$f":"+'[1]itcer resto del mundo'!BF288","v":2.6190341041124539},null,{"$f":"+'[1]itcer resto del mundo'!BG288","v":0.43998724092485275},{"$f":"+'[1]itcer resto del mundo'!BH288","v":0.91046347526250859},{"$f":"+'[1]itcer resto del mundo'!BI288","v":0.62571069940425494},{"$f":"+'[1]itcer resto del mundo'!BJ288","v":0.54832308117280204},{"$f":"+'[1]itcer resto del mundo'!BK288","v":0.4922038247561577},{"$f":"+'[1]itcer resto del mundo'!BL288","v":0.3694949030408814}]
[null,"Junio",{"$f":"+'[1]itcer resto del mundo'!AK289","v":75.421245057358192},{"$f":"+'[1]itcer resto del mundo'!AL289","v":94.959308837759878},{"$f":"+'[1]itcer resto del mundo'!AM289","v":63.729214993174971},{"$f":"+'[1]itcer resto del mundo'!AN289","v":78.31172090980661},{"$f":"+'[1]itcer resto del mundo'!AO289","v":99.620900287133765},{"$f":"+'[1]itcer resto del mundo'!AP289","v":97.726344028257159},null,{"$f":"+'[1]itcer resto del mundo'!AS289","v":9.2992008116524971E-2},{"$f":"+'[1]itcer resto del mundo'!AT289","v":-0.13682269104347711},{"$f":"+'[1]itcer resto del mundo'!AU289","v":-0.50639912838818191},{"$f":"+'[1]itcer resto del mundo'!AV289","v":0.28153487665656485},{"$f":"+'[1]itcer resto del mundo'!AW289","v":0.55477278756872295},{"$f":"+'[1]itcer resto del mundo'!AX289","v":0.98620369166862076},null,{"$f":"+'[1]itcer resto del mundo'!BA289","v":1.7116485118687867},{"$f":"+'[1]itcer resto del mundo'!BB289","v":1.0432325938638163},{"$f":"+'[1]itcer resto del mundo'!BC289","v":1.0231571562495005},{"$f":"+'[1]itcer resto del mundo'!BD289","v":1.4315937991884735},{"$f":"+'[1]itcer resto del mundo'!BE289","v":2.024131356466742},{"$f":"+'[1]itcer resto del mundo'!BF289","v":2.640914744963903},null,{"$f":"+'[1]itcer resto del mundo'!BG289","v":0.44063512183942999},{"$f":"+'[1]itcer resto del mundo'!BH289","v":0.91024100853731438},{"$f":"+'[1]itcer resto del mundo'!BI289","v":0.62286829158075452},{"$f":"+'[1]itcer resto del mundo'!BJ289","v":0.54702472834262861},{"$f":"+'[1]itcer resto del mundo'!BK289","v":0.4921661826386049},{"$f":"+'[1]itcer resto del mundo'!BL289","v":0.3700473262706287}]
[null,"Julio",{"$f":"+'[1]itcer resto del mundo'!AK290","v":74.911876295830581},{"$f":"+'[1]itcer resto del mundo'!AL290","v":94.909101677597988},{"$f":"+'[1]itcer resto del mundo'!AM290","v":63.51518468212398},{"$f":"+'[1]itcer resto del mundo'!AN290","v":78.100145814914711},{"$f":"+'[1]itcer resto del mundo'!AO290","v":100.25938568027202},{"$f":"+'[1]itcer resto del mundo'!AP290","v":98.010866925582306},null,{"$f":"+'[1]itcer resto del mundo'!AS290","v":-0.67536509260783362},{"$f":"+'[1]itcer resto del mundo'!AT290","v":-5.2872288958710101E-2},{"$f":"+'[1]itcer resto del mundo'!AU290","v":-0.33584331938484979},{"$f":"+'[1]itcer resto del mundo'!AV290","v":-0.2701704067205668},{"$f":"+'[1]itcer resto del mundo'!AW290","v":0.640915100443749},{"$f":"+'[1]itcer resto del mundo'!AX290","v":0.29114247560808337},null,{"$f":"+'[1]itcer resto del mundo'!BA290","v":1.7077478922206648},{"$f":"+'[1]itcer resto del mundo'!BB290","v":1.0420633490647044},{"$f":"+'[1]itcer resto del mundo'!BC290","v":1.0234913539228512},{"$f":"+'[1]itcer resto del mundo'!BD290","v":1.4344299629060551},{"$f":"+'[1]itcer resto del mundo'!BE290","v":2.0318515842206626},{"$f":"+'[1]itcer resto del mundo'!BF290","v":2.6661841777469895},null,{"$f":"+'[1]itcer resto del mundo'!BG290","v":0.43865887135377535},{"$f":"+'[1]itcer resto del mundo'!BH290","v":0.91078053712169127},{"$f":"+'[1]itcer resto del mundo'!BI290","v":0.62057372970159597},{"$f":"+'[1]itcer resto del mundo'!BJ290","v":0.54446817087318267},{"$f":"+'[1]itcer resto del mundo'!BK290","v":0.49343852896976004},{"$f":"+'[1]itcer resto del mundo'!BL290","v":0.36760726338269922}]
[null,"Agosto",{"$f":"+'[1]itcer resto del mundo'!AK291","v":75.343106114463623},{"$f":"+'[1]itcer resto del mundo'!AL291","v":95.276887337746061},{"$f":"+'[1]itcer resto del mundo'!AM291","v":64.287520180853122},{"$f":"+'[1]itcer resto del mundo'!AN291","v":78.175639726965613},{"$f":"+'[1]itcer resto del mundo'!AO291","v":100.69734504772356},{"$f":"+'[1]itcer resto del mundo'!AP291","v":98.854943438353231},null,{"$f":"+'[1]itcer resto del mundo'!AS291","v":0.57564946969168318},{"$f":"+'[1]itcer resto del mundo'!AT291","v":0.38751358262500446},{"$f":"+'[1]itcer resto del mundo'!AU291","v":1.2159855987107164},{"$f":"+'[1]itcer resto del mundo'!AV291","v":9.6662959157356454E-2},{"$f":"+'[1]itcer resto del mundo'!AW291","v":0.43682630257499966},{"$f":"+'[1]itcer resto del mundo'!AX291","v":0.86120706738755359},null,{"$f":"+'[1]itcer resto del mundo'!BA291","v":1.7153215106201947},{"$f":"+'[1]itcer resto del mundo'!BB291","v":1.0451395948475661},{"$f":"+'[1]itcer resto del mundo'!BC291","v":1.0352837042606011},{"$f":"+'[1]itcer resto del mundo'!BD291","v":1.4391226358029263},{"$f":"+'[1]itcer resto del mundo'!BE291","v":2.0468492115821504},{"$f":"+'[1]itcer resto del mundo'!BF291","v":2.7025266658555278},null,{"$f":"+'[1]itcer resto del mundo'!BG291","v":0.43923605952578787},{"$f":"+'[1]itcer resto del mundo'!BH291","v":0.9116187713818481},{"$f":"+'[1]itcer resto del mundo'!BI291","v":0.62096524765418981},{"$f":"+'[1]itcer resto del mundo'!BJ291","v":0.54321735884134192},{"$f":"+'[1]itcer resto del mundo'!BK291","v":0.49196269308909019},{"$f":"+'[1]itcer resto del mundo'!BL291","v":0.36578711576582773}]
[null,"Septiembre",{"$f":"+'[1]itcer resto del mundo'!AK292","v":75.63297465492964},{"$f":"+'[1]itcer resto del mundo'!AL292","v":95.172130122788417},{"$f":"+'[1]itcer resto del mundo'!AM292","v":64.441327422931764},{"$f":"+'[1]itcer resto del mundo'!AN292","v":78.254327937548851},{"$f":"+'[1]itcer resto del mundo'!AO292","v":101.0563013532487},{"$f":"+'[1]itcer resto del mundo'!AP292","v":98.996740775364799},null,{"$f":"+'[1]itcer resto del mundo'!AS292","v":0.38473133829344874},{"$f":"+'[1]itcer resto del mundo'!AT292","v":-0.10995029107772325},{"$f":"+'[1]itcer resto del mundo'!AU292","v":0.239248988988777},{"$f":"+'[1]itcer resto del mundo'!AV292","v":0.10065566570105489},{"$f":"+'[1]itcer resto del mundo'!AW292","v":0.35647047631198348},{"$f":"+'[1]itcer resto del mundo'!AX292","v":0.14343980389813282},null,{"$f":"+'[1]itcer resto del mundo'!BA292","v":1.7200745619072864},{"$f":"+'[1]itcer resto del mundo'!BB292","v":1.0436152378213968},{"$f":"+'[1]itcer resto del mundo'!BC292","v":1.0386587077803968},{"$f":"+'[1]itcer resto del mundo'!BD292","v":1.4421693997171852},{"$f":"+'[1]itcer resto del mundo'!BE292","v":2.0521993199994553},{"$f":"+'[1]itcer resto del mundo'!BF292","v":2.714258160872876},null,{"$f":"+'[1]itcer resto del mundo'!BG292","v":0.43970753553302266},{"$f":"+'[1]itcer resto del mundo'!BH292","v":0.91194653617232913},{"$f":"+'[1]itcer resto del mundo'!BI292","v":0.62042831721540403},{"$f":"+'[1]itcer resto del mundo'!BJ292","v":0.54261536788185083},{"$f":"+'[1]itcer resto del mundo'!BK292","v":0.49242927023908917},{"$f":"+'[1]itcer resto del mundo'!BL292","v":0.36472853688879958}]
[null,"Octubre",{"$f":"+'[1]itcer resto del mundo'!AK293","v":76.439418655003536},{"$f":"+'[1]itcer resto del mundo'!AL293","v":95.660312526596385},{"$f":"+'[1]itcer resto del mundo'!AM293","v":64.790335161227645},{"$f":"+'[1]itcer resto del mundo'!AN293","v":78.378325440696827},{"$f":"+'[1]itcer resto del mundo'!AO293","v":101.99334119824384},{"$f":"+'[1]itcer resto del mundo'!AP293","v":98.991045454381904},null,{"$f":"+'[1]itcer resto del mundo'!AS293","v":1.0662597944259602},{"$f":"+'[1]itcer resto del mundo'!AT293","v":0.51294680824955208},{"$f":"+'[1]itcer resto del mundo'!AU293","v":0.54158992722996402},{"$f":"+'[1]itcer resto del mundo'!AV293","v":0.15845449883222784},{"$f":"+'[1]itcer resto del mundo'!AW293","v":0.92724533992161184},{"$f":"+'[1]itcer resto del mundo'!AX293","v":-5.7530388761080076E-3},null,{"$f":"+'[1]itcer resto del mundo'!BA293","v":1.7271763938631399},{"$f":"+'[1]itcer resto del mundo'!BB293","v":1.0487635922951282},{"$f":"+'[1]itcer resto del mundo'!BC293","v":1.0451018629971984},{"$f":"+'[1]itcer resto del mundo'!BD293","v":1.4486335155637611},{"$f":"+'[1]itcer resto del mundo'!BE293","v":2.0731698856531326},{"$f":"+'[1]itcer resto del mundo'!BF293","v":2.7142988397268519},null,{"$f":"+'[1]itcer resto del mundo'!BG293","v":0.44256868566871199},{"$f":"+'[1]itcer resto del mundo'!BH293","v":0.91212465067796722},{"$f":"+'[1]itcer resto del mundo'!BI293","v":0.61994277739988413},{"$f":"+'[1]itcer resto del mundo'!BJ293","v":0.54105006268748745},{"$f":"+'[1]itcer resto del mundo'!BK293","v":0.49196808184444468},{"$f":"+'[1]itcer resto del mundo'!BL293","v":0.36470208808822124}]
[null,"Noviembre",{"$f":"+'[1]itcer resto del mundo'!AK294","v":75.844403318292123},{"$f":"+'[1]itcer resto del mundo'!AL294","v":95.153497748111121},{"$f":"+'[1]itcer resto del mundo'!AM294","v":63.721048930644237},{"$f":"+'[1]itcer resto del mundo'!AN294","v":77.856019085628034},{"$f":"+'[1]itcer resto del mundo'!AO294","v":101.25578505400193},{"$f":"+'[1]itcer resto del mundo'!AP294","v":98.552831456033914},null,{"$f":"+'[1]itcer resto del mundo'!AS294","v":-0.77841426214517639},{"$f":"+'[1]itcer resto del mundo'!AT294","v":-0.52980673499718023},{"$f":"+'[1]itcer resto del mundo'!AU294","v":-1.6503792238804493},{"$f":"+'[1]itcer resto del mundo'!AV294","v":-0.66639131690045872},{"$f":"+'[1]itcer resto del mundo'!AW294","v":-0.72314146744965058},{"$f":"+'[1]itcer resto del mundo'!AX294","v":-0.44268044279816365},null,{"$f":"+'[1]itcer resto del mundo'!BA294","v":1.7176403117546408},{"$f":"+'[1]itcer resto del mundo'!BB294","v":1.0447033309539673},{"$f":"+'[1]itcer resto del mundo'!BC294","v":1.0327128249794317},{"$f":"+'[1]itcer resto del mundo'!BD294","v":1.4449132558597562},{"$f":"+'[1]itcer resto del mundo'!BE294","v":2.0687644348501935},{"$f":"+'[1]itcer resto del mundo'!BF294","v":2.706408645273759},null,{"$f":"+'[1]itcer resto del mundo'!BG294","v":0.44156161682543377},{"$f":"+'[1]itcer resto del mundo'!BH294","v":0.91081836277119965},{"$f":"+'[1]itcer resto del mundo'!BI294","v":0.61702583127999155},{"$f":"+'[1]itcer resto del mundo'!BJ294","v":0.5388283259904203},{"$f":"+'[1]itcer resto del mundo'!BK294","v":0.48945053070449857},{"$f":"+'[1]itcer resto del mundo'!BL294","v":0.36414615962795621}]
[null,"Diciembre",{"$f":"+'[1]itcer resto del mundo'!AK295","v":75.74252341054104},{"$f":"+'[1]itcer resto del mundo'!AL295","v":95.422935086079306},{"$f":"+'[1]itcer resto del mundo'!AM295","v":63.351212852036262},{"$f":"+'[1]itcer resto del mundo'!AN295","v":77.879977286772842},{"$f":"+'[1]itcer resto del mundo'!AO295","v":100.37717461000095},{"$f":"+'[1]itcer resto del mundo'!AP295","v":98.677338711216422},null,{"$f":"+'[1]itcer resto del mundo'!AS295","v":-0.13432752226097477},{"$f":"+'[1]itcer resto del mundo'!AT295","v":0.28316072907948353},{"$f":"+'[1]itcer resto del mundo'!AU295","v":-0.58039860425165557},{"$f":"+'[1]itcer resto del mundo'!AV295","v":3.0772445632564427E-2},{"$f":"+'[1]itcer resto del mundo'!AW295","v":-0.8677138234940287},{"$f":"+'[1]itcer resto del mundo'!AX295","v":0.12633554342681919},null,{"$f":"+'[1]itcer resto del mundo'!BA295","v":1.7212124076404558},{"$f":"+'[1]itcer resto del mundo'!BB295","v":1.046008806236995},{"$f":"+'[1]itcer resto del mundo'!BC295","v":1.0285170103864651},{"$f":"+'[1]itcer resto del mundo'!BD295","v":1.4484004680777633},{"$f":"+'[1]itcer resto del mundo'!BE295","v":2.0688908253654508},{"$f":"+'[1]itcer resto del mundo'!BF295","v":2.717061783367702},null,{"$f":"+'[1]itcer resto del mundo'!BG295","v":0.44005331982456231},{"$f":"+'[1]itcer resto del mundo'!BH295","v":0.91225747352321296},{"$f":"+'[1]itcer resto del mundo'!BI295","v":0.61594715704538561},{"$f":"+'[1]itcer resto del mundo'!BJ295","v":0.53769643826566016},{"$f":"+'[1]itcer resto del mundo'!BK295","v":0.48517385924542561},{"$f":"+'[1]itcer resto del mundo'!BL295","v":0.36317664660871035}]
[2014,"Enero",{"$f":"+'[1]itcer resto del mundo'!AK296","v":75.383374187340522},{"$f":"+'[1]itcer resto del mundo'!AL296","v":94.813338081300998},{"$f":"+'[1]itcer resto del mundo'!AM296","v":62.994852836535749},{"$f":"+'[1]itcer resto del mundo'!AN296","v":76.828579397035483},{"$f":"+'[1]itcer resto del mundo'!AO296","v":100.11106866358007},{"$f":"+'[1]itcer resto del mundo'!AP296","v":99.004427848466378},null,{"$f":"+'[1]itcer resto del mundo'!AS296","v":-0.47417118816315451},{"$f":"+'[1]itcer resto del mundo'!AT296","v":-0.63883698843302739},{"$f":"+'[1]itcer resto del mundo'!AU296","v":-0.56251490612000055},{"$f":"+'[1]itcer resto del mundo'!AV296","v":-1.3500233646266508},{"$f":"+'[1]itcer resto del mundo'!AW296","v":-0.26510603377191444},{"$f":"+'[1]itcer resto del mundo'!AX296","v":0.33147340769616562},null,{"$f":"+'[1]itcer resto del mundo'!BA296","v":1.7248335532594261},{"$f":"+'[1]itcer resto del mundo'!BB296","v":1.0426601363153476},{"$f":"+'[1]itcer resto del mundo'!BC296","v":1.022600885469737},{"$f":"+'[1]itcer resto del mundo'!BD296","v":1.4475014128741357},{"$f":"+'[1]itcer resto del mundo'!BE296","v":2.0750520354478192},{"$f":"+'[1]itcer resto del mundo'!BF296","v":2.7264001869633083},null,{"$f":"+'[1]itcer resto del mundo'!BG296","v":0.43704723881842505},{"$f":"+'[1]itcer resto del mundo'!BH296","v":0.90934077921461021},{"$f":"+'[1]itcer resto del mundo'!BI296","v":0.616025799817284},{"$f":"+'[1]itcer resto del mundo'!BJ296","v":0.53076686981939369},{"$f":"+'[1]itcer resto del mundo'!BK296","v":0.48245088293400301},{"$f":"+'[1]itcer resto del mundo'!BL296","v":0.36313241292261828}]
[null,"Febrero",{"$f":"+'[1]itcer resto del mundo'!AK297","v":78.555197372833007},{"$f":"+'[1]itcer resto del mundo'!AL297","v":94.981972956530285},{"$f":"+'[1]itcer resto del mundo'!AM297","v":62.363273359559273},{"$f":"+'[1]itcer resto del mundo'!AN297","v":76.683076875796246},{"$f":"+'[1]itcer resto del mundo'!AO297","v":100.47092516141403},{"$f":"+'[1]itcer resto del mundo'!AP297","v":99.549166128105853},null,{"$f":"+'[1]itcer resto del mundo'!AS297","v":4.2075898295690166},{"$f":"+'[1]itcer resto del mundo'!AT297","v":0.17785986512221541},{"$f":"+'[1]itcer resto del mundo'!AU297","v":-1.0025890188446738},{"$f":"+'[1]itcer resto del mundo'!AV297","v":-0.18938593213771071},{"$f":"+'[1]itcer resto del mundo'!AW297","v":0.35945725346640245},{"$f":"+'[1]itcer resto del mundo'!AX297","v":0.55021607768213698},null,{"$f":"+'[1]itcer resto del mundo'!BA297","v":1.8037005716920633},{"$f":"+'[1]itcer resto del mundo'!BB297","v":1.0432002446606192},{"$f":"+'[1]itcer resto del mundo'!BC297","v":1.0110981166741599},{"$f":"+'[1]itcer resto del mundo'!BD297","v":1.4522184452250801},{"$f":"+'[1]itcer resto del mundo'!BE297","v":2.0895118145550846},{"$f":"+'[1]itcer resto del mundo'!BF297","v":2.7422975587702267},null,{"$f":"+'[1]itcer resto del mundo'!BG297","v":0.43552238440075369},{"$f":"+'[1]itcer resto del mundo'!BH297","v":0.91048649041901297},{"$f":"+'[1]itcer resto del mundo'!BI297","v":0.61678755336517621},{"$f":"+'[1]itcer resto del mundo'!BJ297","v":0.52804092337438313},{"$f":"+'[1]itcer resto del mundo'!BK297","v":0.48083444401489106},{"$f":"+'[1]itcer resto del mundo'!BL297","v":0.3630137284326953}]
[null,"Marzo",{"$f":"+'[1]itcer resto del mundo'!AK298","v":82.403490364362312},{"$f":"+'[1]itcer resto del mundo'!AL298","v":95.609116246453524},{"$f":"+'[1]itcer resto del mundo'!AM298","v":62.510310495989053},{"$f":"+'[1]itcer resto del mundo'!AN298","v":77.105535415293701},{"$f":"+'[1]itcer resto del mundo'!AO298","v":101.63437540870349},{"$f":"+'[1]itcer resto del mundo'!AP298","v":99.947419956869666},null,{"$f":"+'[1]itcer resto del mundo'!AS298","v":4.8988394405844531},{"$f":"+'[1]itcer resto del mundo'!AT298","v":0.66027612440757366},{"$f":"+'[1]itcer resto del mundo'!AU298","v":0.2357752063173848},{"$f":"+'[1]itcer resto del mundo'!AV298","v":0.5509149563491178},{"$f":"+'[1]itcer resto del mundo'!AW298","v":1.1579969482915544},{"$f":"+'[1]itcer resto del mundo'!AX298","v":0.40005742313434212},null,{"$f":"+'[1]itcer resto del mundo'!BA298","v":1.8910287520282882},{"$f":"+'[1]itcer resto del mundo'!BB298","v":1.0459194883575851},{"$f":"+'[1]itcer resto del mundo'!BC298","v":1.0094960700133573},{"$f":"+'[1]itcer resto del mundo'!BD298","v":1.4590539476808617},{"$f":"+'[1]itcer resto del mundo'!BE298","v":2.1006234478811128},{"$f":"+'[1]itcer resto del mundo'!BF298","v":2.7498130940521603},null,{"$f":"+'[1]itcer resto del mundo'!BG298","v":0.43576011351481359},{"$f":"+'[1]itcer resto del mundo'!BH298","v":0.91411544875781214},{"$f":"+'[1]itcer resto del mundo'!BI298","v":0.61922292075056762},{"$f":"+'[1]itcer resto del mundo'!BJ298","v":0.52846253929028109},{"$f":"+'[1]itcer resto del mundo'!BK298","v":0.48382957693451206},{"$f":"+'[1]itcer resto del mundo'!BL298","v":0.36346986699952705}]
[null,"Abril",{"$f":"+'[1]itcer resto del mundo'!AK299","v":81.543518217994517},{"$f":"+'[1]itcer resto del mundo'!AL299","v":96.498584411468869},{"$f":"+'[1]itcer resto del mundo'!AM299","v":62.863497980246336},{"$f":"+'[1]itcer resto del mundo'!AN299","v":77.302831477914879},{"$f":"+'[1]itcer resto del mundo'!AO299","v":101.73264034137634},{"$f":"+'[1]itcer resto del mundo'!AP299","v":99.968784385739042},null,{"$f":"+'[1]itcer resto del mundo'!AS299","v":-1.0436113113234171},{"$f":"+'[1]itcer resto del mundo'!AT299","v":0.93031731694135544},{"$f":"+'[1]itcer resto del mundo'!AU299","v":0.56500676681162076},{"$f":"+'[1]itcer resto del mundo'!AV299","v":0.25587794904546968},{"$f":"+'[1]itcer resto del mundo'!AW299","v":9.6684741041300981E-2},{"$f":"+'[1]itcer resto del mundo'!AX299","v":2.1375668204953513E-2},null,{"$f":"+'[1]itcer resto del mundo'!BA299","v":1.8860117938374135},{"$f":"+'[1]itcer resto del mundo'!BB299","v":1.0468323714424452},{"$f":"+'[1]itcer resto del mundo'!BC299","v":1.0136420484661082},{"$f":"+'[1]itcer resto del mundo'!BD299","v":1.4627583831125619},{"$f":"+'[1]itcer resto del mundo'!BE299","v":2.1027816402300679},{"$f":"+'[1]itcer resto del mundo'!BF299","v":2.7514369391867008},null,{"$f":"+'[1]itcer resto del mundo'!BG299","v":0.43235953499569735},{"$f":"+'[1]itcer resto del mundo'!BH299","v":0.92181505887616066},{"$f":"+'[1]itcer resto del mundo'!BI299","v":0.62017452882281665},{"$f":"+'[1]itcer resto del mundo'!BJ299","v":0.52847300258450336},{"$f":"+'[1]itcer resto del mundo'!BK299","v":0.48380030715051142},{"$f":"+'[1]itcer resto del mundo'!BL299","v":0.36333300233763982}]
[null,"Mayo",{"$f":"+'[1]itcer resto del mundo'!AK300","v":82.079429355835643},{"$f":"+'[1]itcer resto del mundo'!AL300","v":96.480576355239549},{"$f":"+'[1]itcer resto del mundo'!AM300","v":62.81266407224787},{"$f":"+'[1]itcer resto del mundo'!AN300","v":77.255856109529816},{"$f":"+'[1]itcer resto del mundo'!AO300","v":101.61263367746382},{"$f":"+'[1]itcer resto del mundo'!AP300","v":100.33651599793117},null,{"$f":"+'[1]itcer resto del mundo'!AS300","v":0.65720875129331091},{"$f":"+'[1]itcer resto del mundo'!AT300","v":-1.8661471916033179E-2},{"$f":"+'[1]itcer resto del mundo'!AU300","v":-8.086395067363128E-2},{"$f":"+'[1]itcer resto del mundo'!AV300","v":-6.0767978982084969E-2},{"$f":"+'[1]itcer resto del mundo'!AW300","v":-0.11796279297364265},{"$f":"+'[1]itcer resto del mundo'!AX300","v":0.36784643771721903},null,{"$f":"+'[1]itcer resto del mundo'!BA300","v":1.9060596754397552},{"$f":"+'[1]itcer resto del mundo'!BB300","v":1.0474488544321832},{"$f":"+'[1]itcer resto del mundo'!BC300","v":1.0135460625380537},{"$f":"+'[1]itcer resto del mundo'!BD300","v":1.4664665084748005},{"$f":"+'[1]itcer resto del mundo'!BE300","v":2.1166234543052265},{"$f":"+'[1]itcer resto del mundo'!BF300","v":2.7571196157339504},null,{"$f":"+'[1]itcer resto del mundo'!BG300","v":0.43062360750535666},{"$f":"+'[1]itcer resto del mundo'!BH300","v":0.92110059548006451},{"$f":"+'[1]itcer resto del mundo'!BI300","v":0.6197317161388467},{"$f":"+'[1]itcer resto del mundo'!BJ300","v":0.5268163688912324},{"$f":"+'[1]itcer resto del mundo'!BK300","v":0.48006948742244637},{"$f":"+'[1]itcer resto del mundo'!BL300","v":0.36391789251849854}]
[null,"Junio",{"$f":"+'[1]itcer resto del mundo'!AK301","v":81.544143085496813},{"$f":"+'[1]itcer resto del mundo'!AL301","v":96.086853875175095},{"$f":"+'[1]itcer resto del mundo'!AM301","v":63.061855487780271},{"$f":"+'[1]itcer resto del mundo'!AN301","v":77.290873699866438},{"$f":"+'[1]itcer resto del mundo'!AO301","v":100.98118888063068},{"$f":"+'[1]itcer resto del mundo'!AP301","v":100.77424473354014},null,{"$f":"+'[1]itcer resto del mundo'!AS301","v":-0.65215642279653707},{"$f":"+'[1]itcer resto del mundo'!AT301","v":-0.40808470983296274},{"$f":"+'[1]itcer resto del mundo'!AU301","v":0.3967216153191373},{"$f":"+'[1]itcer resto del mundo'!AV301","v":4.5326777929915352E-2},{"$f":"+'[1]itcer resto del mundo'!AW301","v":-0.6214235119989695},{"$f":"+'[1]itcer resto del mundo'!AX301","v":0.4362606487332954},null,{"$f":"+'[1]itcer resto del mundo'!BA301","v":1.8974738542270522},{"$f":"+'[1]itcer resto del mundo'!BB301","v":1.0452811604440146},{"$f":"+'[1]itcer resto del mundo'!BC301","v":1.0211060957047087},{"$f":"+'[1]itcer resto del mundo'!BD301","v":1.4709507139832763},{"$f":"+'[1]itcer resto del mundo'!BE301","v":2.1274847747483614},{"$f":"+'[1]itcer resto del mundo'!BF301","v":2.7644773773312115},null,{"$f":"+'[1]itcer resto del mundo'!BG301","v":0.42975107616813163},{"$f":"+'[1]itcer resto del mundo'!BH301","v":0.91924409920828687},{"$f":"+'[1]itcer resto del mundo'!BI301","v":0.61758377266623421},{"$f":"+'[1]itcer resto del mundo'!BJ301","v":0.52544842573661643},{"$f":"+'[1]itcer resto del mundo'!BK301","v":0.47465058306974123},{"$f":"+'[1]itcer resto del mundo'!BL301","v":0.36453271623740396}]
[null,"Julio",{"$f":"+'[1]itcer resto del mundo'!AK302","v":78.854855884886291},{"$f":"+'[1]itcer resto del mundo'!AL302","v":95.348018154223922},{"$f":"+'[1]itcer resto del mundo'!AM302","v":62.362276658257002},{"$f":"+'[1]itcer resto del mundo'!AN302","v":76.761868772491823},{"$f":"+'[1]itcer resto del mundo'!AO302","v":100.78888797626261},{"$f":"+'[1]itcer resto del mundo'!AP302","v":100.5003814068493},null,{"$f":"+'[1]itcer resto del mundo'!AS302","v":-3.2979526166470094},{"$f":"+'[1]itcer resto del mundo'!AT302","v":-0.76892487489598693},{"$f":"+'[1]itcer resto del mundo'!AU302","v":-1.1093533866266085},{"$f":"+'[1]itcer resto del mundo'!AV302","v":-0.68443388210208411},{"$f":"+'[1]itcer resto del mundo'!AW302","v":-0.19043240280660712},{"$f":"+'[1]itcer resto del mundo'!AX302","v":-0.27175924504815896},null,{"$f":"+'[1]itcer resto del mundo'!BA302","v":1.8551294307910042},{"$f":"+'[1]itcer resto del mundo'!BB302","v":1.0447619597872513},{"$f":"+'[1]itcer resto del mundo'!BC302","v":1.0166570268614055},{"$f":"+'[1]itcer resto del mundo'!BD302","v":1.4735474543205138},{"$f":"+'[1]itcer resto del mundo'!BE302","v":2.1381855070892608},{"$f":"+'[1]itcer resto del mundo'!BF302","v":2.7703344031302732},null,{"$f":"+'[1]itcer resto del mundo'!BG302","v":0.42506390430808672},{"$f":"+'[1]itcer resto del mundo'!BH302","v":0.91262911384752154},{"$f":"+'[1]itcer resto del mundo'!BI302","v":0.61340525871128881},{"$f":"+'[1]itcer resto del mundo'!BJ302","v":0.52093245146209732},{"$f":"+'[1]itcer resto del mundo'!BK302","v":0.47137578868667857},{"$f":"+'[1]itcer resto del mundo'!BL302","v":0.36277346624036177}]
[null,"Agosto",{"$f":"+'[1]itcer resto del mundo'!AK303","v":78.274483080609244},{"$f":"+'[1]itcer resto del mundo'!AL303","v":94.632357224257035},{"$f":"+'[1]itcer resto del mundo'!AM303","v":62.034327685830419},{"$f":"+'[1]itcer resto del mundo'!AN303","v":76.604262705833605},{"$f":"+'[1]itcer resto del mundo'!AO303","v":100.22337495726185},{"$f":"+'[1]itcer resto del mundo'!AP303","v":99.707994497566105},null,{"$f":"+'[1]itcer resto del mundo'!AS303","v":-0.73600135053735016},{"$f":"+'[1]itcer resto del mundo'!AT303","v":-0.75057766676316362},{"$f":"+'[1]itcer resto del mundo'!AU303","v":-0.52587716485035685},{"$f":"+'[1]itcer resto del mundo'!AV303","v":-0.20531817317440471},{"$f":"+'[1]itcer resto del mundo'!AW303","v":-0.56108667369556997},{"$f":"+'[1]itcer resto del mundo'!AX303","v":-0.78844169364434435},null,{"$f":"+'[1]itcer resto del mundo'!BA303","v":1.8478282959704955},{"$f":"+'[1]itcer resto del mundo'!BB303","v":1.0397299798846409},{"$f":"+'[1]itcer resto del mundo'!BC303","v":1.0157789842092444},{"$f":"+'[1]itcer resto del mundo'!BD303","v":1.4737226292504837},{"$f":"+'[1]itcer resto del mundo'!BE303","v":2.1330687934019825},{"$f":"+'[1]itcer resto del mundo'!BF303","v":2.7606423418551507},null,{"$f":"+'[1]itcer resto del mundo'!BG303","v":0.42360257850418298},{"$f":"+'[1]itcer resto del mundo'!BH303","v":0.91016282164679529},{"$f":"+'[1]itcer resto del mundo'!BI303","v":0.61070694166922934},{"$f":"+'[1]itcer resto del mundo'!BJ303","v":0.51980108865393171},{"$f":"+'[1]itcer resto del mundo'!BK303","v":0.46985533362671295},{"$f":"+'[1]itcer resto del mundo'!BL303","v":0.36117679203080821}]
[null,"Septiembre",{"$f":"+'[1]itcer resto del mundo'!AK304","v":77.726507324929571},{"$f":"+'[1]itcer resto del mundo'!AL304","v":94.143490716696206},{"$f":"+'[1]itcer resto del mundo'!AM304","v":61.015392879588617},{"$f":"+'[1]itcer resto del mundo'!AN304","v":76.48256966627558},{"$f":"+'[1]itcer resto del mundo'!AO304","v":99.826113029450141},{"$f":"+'[1]itcer resto del mundo'!AP304","v":99.329690503018668},null,{"$f":"+'[1]itcer resto del mundo'!AS304","v":-0.70006946595272268},{"$f":"+'[1]itcer resto del mundo'!AT304","v":-0.51659550908398444},{"$f":"+'[1]itcer resto del mundo'!AU304","v":-1.6425338103157117},{"$f":"+'[1]itcer resto del mundo'!AV304","v":-0.15885935750773683},{"$f":"+'[1]itcer resto del mundo'!AW304","v":-0.39637652192526218},{"$f":"+'[1]itcer resto del mundo'!AX304","v":-0.37941189816696408},null,{"$f":"+'[1]itcer resto del mundo'!BA304","v":1.8282796835879114},{"$f":"+'[1]itcer resto del mundo'!BB304","v":1.0310906592016083},{"$f":"+'[1]itcer resto del mundo'!BC304","v":0.99770223151136139},{"$f":"+'[1]itcer resto del mundo'!BD304","v":1.470612847581511},{"$f":"+'[1]itcer resto del mundo'!BE304","v":2.1179232936504251},{"$f":"+'[1]itcer resto del mundo'!BF304","v":2.750690179388279},null,{"$f":"+'[1]itcer resto del mundo'!BG304","v":0.42513466633504904},{"$f":"+'[1]itcer resto del mundo'!BH304","v":0.91304765373001417},{"$f":"+'[1]itcer resto del mundo'!BI304","v":0.61155915014001661},{"$f":"+'[1]itcer resto del mundo'!BJ304","v":0.52007276960795368},{"$f":"+'[1]itcer resto del mundo'!BK304","v":0.47133960577670958},{"$f":"+'[1]itcer resto del mundo'!BL304","v":0.36110824565894373}]
[null,"Octubre",{"$f":"+'[1]itcer resto del mundo'!AK305","v":77.279152379539255},{"$f":"+'[1]itcer resto del mundo'!AL305","v":93.468230232857692},{"$f":"+'[1]itcer resto del mundo'!AM305","v":59.879093753198767},{"$f":"+'[1]itcer resto del mundo'!AN305","v":76.265239552046324},{"$f":"+'[1]itcer resto del mundo'!AO305","v":99.488752228097411},{"$f":"+'[1]itcer resto del mundo'!AP305","v":99.170291172051861},null,{"$f":"+'[1]itcer resto del mundo'!AS305","v":-0.57555004178971103},{"$f":"+'[1]itcer resto del mundo'!AT305","v":-0.71726731046180703},{"$f":"+'[1]itcer resto del mundo'!AU305","v":-1.8623155121401851},{"$f":"+'[1]itcer resto del mundo'!AV305","v":-0.28415639691181127},{"$f":"+'[1]itcer resto del mundo'!AW305","v":-0.33794844967388826},{"$f":"+'[1]itcer resto del mundo'!AX305","v":-0.1604750102004715},null,{"$f":"+'[1]itcer resto del mundo'!BA305","v":1.8146345987273551},{"$f":"+'[1]itcer resto del mundo'!BB305","v":1.0255554799391433},{"$f":"+'[1]itcer resto del mundo'!BC305","v":0.98160160828080933},{"$f":"+'[1]itcer resto del mundo'!BD305","v":1.4732649451291369},{"$f":"+'[1]itcer resto del mundo'!BE305","v":2.1160094930565836},{"$f":"+'[1]itcer resto del mundo'!BF305","v":2.7481623357883485},null,{"$f":"+'[1]itcer resto del mundo'!BG305","v":0.425866190547325},{"$f":"+'[1]itcer resto del mundo'!BH305","v":0.91139126123536607},{"$f":"+'[1]itcer resto del mundo'!BI305","v":0.61001421807032119},{"$f":"+'[1]itcer resto del mundo'!BJ305","v":0.5176614009869176},{"$f":"+'[1]itcer resto del mundo'!BK305","v":0.47017157793742004},{"$f":"+'[1]itcer resto del mundo'!BL305","v":0.36086038252031954}]
[null,"Noviembre",{"$f":"+'[1]itcer resto del mundo'!AK306","v":75.773860797872914},{"$f":"+'[1]itcer resto del mundo'!AL306","v":92.492446882709288},{"$f":"+'[1]itcer resto del mundo'!AM306","v":58.995642970038361},{"$f":"+'[1]itcer resto del mundo'!AN306","v":75.368180983030541},{"$f":"+'[1]itcer resto del mundo'!AO306","v":97.141385423549735},{"$f":"+'[1]itcer resto del mundo'!AP306","v":98.761422166803627},null,{"$f":"+'[1]itcer resto del mundo'!AS306","v":-1.9478624380783032},{"$f":"+'[1]itcer resto del mundo'!AT306","v":-1.0439732813143365},{"$f":"+'[1]itcer resto del mundo'!AU306","v":-1.4753910384844602},{"$f":"+'[1]itcer resto del mundo'!AV306","v":-1.1762351685837018},{"$f":"+'[1]itcer resto del mundo'!AW306","v":-2.359429334449672},{"$f":"+'[1]itcer resto del mundo'!AX306","v":-0.41228981020019262},null,{"$f":"+'[1]itcer resto del mundo'!BA306","v":1.7907281243600972},{"$f":"+'[1]itcer resto del mundo'!BB306","v":1.018036630398885},{"$f":"+'[1]itcer resto del mundo'!BC306","v":0.97180763921282765},{"$f":"+'[1]itcer resto del mundo'!BD306","v":1.4670459813197345},{"$f":"+'[1]itcer resto del mundo'!BE306","v":2.1013784804036084},{"$f":"+'[1]itcer resto del mundo'!BF306","v":2.7429497473154103},null,{"$f":"+'[1]itcer resto del mundo'!BG306","v":0.42314553374734154},{"$f":"+'[1]itcer resto del mundo'!BH306","v":0.90853751349270295},{"$f":"+'[1]itcer resto del mundo'!BI306","v":0.6070711999941194},{"$f":"+'[1]itcer resto del mundo'!BJ306","v":0.51374109566238924},{"$f":"+'[1]itcer resto del mundo'!BK306","v":0.4622745798981055},{"$f":"+'[1]itcer resto del mundo'!BL306","v":0.36005552877322583}]
[null,"Diciembre",{"$f":"+'[1]itcer resto del mundo'!AK307","v":74.547058959184582},{"$f":"+'[1]itcer resto del mundo'!AL307","v":92.440023709368091},{"$f":"+'[1]itcer resto del mundo'!AM307","v":58.165424471460874},{"$f":"+'[1]itcer resto del mundo'!AN307","v":75.126310125965873},{"$f":"+'[1]itcer resto del mundo'!AO307","v":96.0028949471739},{"$f":"+'[1]itcer resto del mundo'!AP307","v":98.477442593436621},null,{"$f":"+'[1]itcer resto del mundo'!AS307","v":-1.6190303961953703},{"$f":"+'[1]itcer resto del mundo'!AT307","v":-5.6678328996611071E-2},{"$f":"+'[1]itcer resto del mundo'!AU307","v":-1.4072539204278485},{"$f":"+'[1]itcer resto del mundo'!AV307","v":-0.32091905882553817},{"$f":"+'[1]itcer resto del mundo'!AW307","v":-1.1719932461451492},{"$f":"+'[1]itcer resto del mundo'!AX307","v":-0.28754099235972319},null,{"$f":"+'[1]itcer resto del mundo'!BA307","v":1.7630428222337595},{"$f":"+'[1]itcer resto del mundo'!BB307","v":1.0072890934847258},{"$f":"+'[1]itcer resto del mundo'!BC307","v":0.96000000373007088},{"$f":"+'[1]itcer resto del mundo'!BD307","v":1.4642452844575162},{"$f":"+'[1]itcer resto del mundo'!BE307","v":2.0813523424510714},{"$f":"+'[1]itcer resto del mundo'!BF307","v":2.7255504090940437},null,{"$f":"+'[1]itcer resto del mundo'!BG307","v":0.42283181111128154},{"$f":"+'[1]itcer resto del mundo'!BH307","v":0.91771095614240161},{"$f":"+'[1]itcer resto del mundo'!BI307","v":0.60588983589020484},{"$f":"+'[1]itcer resto del mundo'!BJ307","v":0.51307189391973484},{"$f":"+'[1]itcer resto del mundo'!BK307","v":0.46125248949496767},{"$f":"+'[1]itcer resto del mundo'!BL307","v":0.36131213080799307}]
[2015,"Enero",{"$f":"+'[1]itcer resto del mundo'!AK308","v":71.947375075552088},{"$f":"+'[1]itcer resto del mundo'!AL308","v":89.356726565589256},{"$f":"+'[1]itcer resto del mundo'!AM308","v":56.692305573963765},{"$f":"+'[1]itcer resto del mundo'!AN308","v":74.799638986161796},{"$f":"+'[1]itcer resto del mundo'!AO308","v":91.649509088118236},{"$f":"+'[1]itcer resto del mundo'!AP308","v":96.696668838528595},null,{"$f":"+'[1]itcer resto del mundo'!AS308","v":-3.4873057635390552},{"$f":"+'[1]itcer resto del mundo'!AT308","v":-3.3354568941617089},{"$f":"+'[1]itcer resto del mundo'!AU308","v":-2.5326367182618981},{"$f":"+'[1]itcer resto del mundo'!AV308","v":-0.43482920864387609},{"$f":"+'[1]itcer resto del mundo'!AW308","v":-4.5346401912683376},{"$f":"+'[1]itcer resto del mundo'!AX308","v":-1.8083062557381169},null,{"$f":"+'[1]itcer resto del mundo'!BA308","v":1.7439257925612126},{"$f":"+'[1]itcer resto del mundo'!BB308","v":0.99653440647539215},{"$f":"+'[1]itcer resto del mundo'!BC308","v":0.95327274011029339},{"$f":"+'[1]itcer resto del mundo'!BD308","v":1.4609479183131135},{"$f":"+'[1]itcer resto del mundo'!BE308","v":2.0738940976328735},{"$f":"+'[1]itcer resto del mundo'!BF308","v":2.7223586255134244},null,{"$f":"+'[1]itcer resto del mundo'!BG308","v":0.41255984275504487},{"$f":"+'[1]itcer resto del mundo'!BH308","v":0.89667477595311496},{"$f":"+'[1]itcer resto del mundo'!BI308","v":0.59471233350703478},{"$f":"+'[1]itcer resto del mundo'!BJ308","v":0.51199387773199567},{"$f":"+'[1]itcer resto del mundo'!BK308","v":0.44191990899017597},{"$f":"+'[1]itcer resto del mundo'!BL308","v":0.35519445502993591}]
[]
[]
[null,"Notas:"]
[null,"El ITCER RESTO DEL MUNDO incluye la Zona Euro, Japón, México, Estados Unidos, Panamá y Canadá."]
[null,"Valores sobre (bajo) 100 significan una depreciación (apreciación) real de la moneda. El índice se descompone en el efecto que tiene la variación en el tipo de cambio y la variación en los precios nominales (multiplicados).  El efecto será 1 cuando tanto el tipo de cambio como los precios, tienen la misma importancia en el índice.  Un valor mayor (o menor) a 1 indica mayor (o menor) peso de alguno de estos componentes."]
[]
[null,"Fuente: Cálculos de la Secretaría Ejecutiva del Consejo Monetario Centroamericano"]
[null,{"$f":"TODAY()","v":"2015-02-27"}]

{"sheet":"ITCER REGION","index":6,"n_rows":253,"n_cols":29,"rows_kept":253,"cut":false,"hidden":false,"merged":[[2,16,2,21],[2,23,2,28],[253,1,253,2],[252,1,252,2],[2,2,2,7],[2,9,2,14],[249,1,249,28]]}
["Secretaría Ejecutiva"]
["Consejo Monetario Centroamericano"]
[null,null,"ITCER REGIONAL\n2000=100",null,null,null,null,null,null,"VARIACION MENSUAL",null,null,null,null,null,null,"EFECTO TIPO DE CAMBIO",null,null,null,null,null,null,"EFECTO PRECIO"]
["Año","MES","COSTA\n RICA","EL\nSALVADOR","GUATEMALA","HONDURAS","NICARAGUA","REP.\nDOMINICANA",null,"COSTA\n RICA","EL\nSALVADOR","GUATEMALA","HONDURAS","NICARAGUA","REP.\nDOMINICANA",null,"COSTA\n RICA","EL\nSALVADOR","GUATEMALA","HONDURAS","NICARAGUA","REP.\nDOMINICANA",null,"COSTA\n RICA","EL\nSALVADOR","GUATEMALA","HONDURAS","NICARAGUA","REP.\nDOMINICANA"]
[1995,"Enero",{"$f":"+'[1]itcer regional'!AK70","v":89.392494337826861},{"$f":"+'[1]itcer regional'!AL70","v":110.60088279788204},{"$f":"+'[1]itcer regional'!AM70","v":89.418618658235005},{"$f":"+'[1]itcer regional'!AN70","v":127.21867486290138},{"$f":"+'[1]itcer regional'!AO70","v":88.290521411477883},{"$f":"+'[1]itcer regional'!AP70","v":99.408041155721349}]
[null,"Febrero",{"$f":"+'[1]itcer regional'!AK71","v":90.179037806433897},{"$f":"+'[1]itcer regional'!AL71","v":110.88352075750647},{"$f":"+'[1]itcer regional'!AM71","v":91.096233023367503},{"$f":"+'[1]itcer regional'!AN71","v":120.01546933212957},{"$f":"+'[1]itcer regional'!AO71","v":89.659556528888658},{"$f":"+'[1]itcer regional'!AP71","v":99.792692142837709},null,{"$f":"+'[1]itcer regional'!BT71","v":0.87987640845391013},{"$f":"+'[1]itcer regional'!BU71","v":0.25554765249111711},{"$f":"+'[1]itcer regional'!BV71","v":1.876135407039186},{"$f":"+'[1]itcer regional'!BW71","v":-5.6620661538366335},{"$f":"+'[1]itcer regional'!BX71","v":1.5506025964331798},{"$f":"+'[1]itcer regional'!BY71","v":0.38694152167610696},null,{"$f":"+'[1]itcer regional'!CA71","v":0.74570663378267965},{"$f":"+'[1]itcer regional'!CB71","v":1.5185735335418169},{"$f":"+'[1]itcer regional'!CC71","v":0.98956929313270514},{"$f":"+'[1]itcer regional'!CD71","v":0.78396372670730929},{"$f":"+'[1]itcer regional'!CE71","v":0.82176339991107605},{"$f":"+'[1]itcer regional'!CF71","v":1.1775448307840863},null,{"$f":"+'[1]itcer regional'!CH71","v":1.2093098508322329},{"$f":"+'[1]itcer regional'!CI71","v":0.73018209726656658},{"$f":"+'[1]itcer regional'!CJ71","v":0.92056446835553873},{"$f":"+'[1]itcer regional'!CK71","v":1.5308803869816925},{"$f":"+'[1]itcer regional'!CL71","v":1.0910629086010744},{"$f":"+'[1]itcer regional'!CM71","v":0.84746405855638807}]
[null,"Marzo",{"$f":"+'[1]itcer regional'!AK72","v":91.581184371297184},{"$f":"+'[1]itcer regional'!AL72","v":110.31361853885527},{"$f":"+'[1]itcer regional'!AM72","v":90.8686849313316},{"$f":"+'[1]itcer regional'!AN72","v":119.84559908025899},{"$f":"+'[1]itcer regional'!AO72","v":89.438957171875174},{"$f":"+'[1]itcer regional'!AP72","v":99.304758577804193},null,{"$f":"+'[1]itcer regional'!BT72","v":1.5548475554517864},{"$f":"+'[1]itcer regional'!BU72","v":-0.51396475757434246},{"$f":"+'[1]itcer regional'!BV72","v":-0.24978869540910864},{"$f":"+'[1]itcer regional'!BW72","v":-0.14154029710992688},{"$f":"+'[1]itcer regional'!BX72","v":-0.24604109762957194},{"$f":"+'[1]itcer regional'!BY72","v":-0.4889471909777825},null,{"$f":"+'[1]itcer regional'!CA72","v":0.75753219703837138},{"$f":"+'[1]itcer regional'!CB72","v":1.5163555036051835},{"$f":"+'[1]itcer regional'!CC72","v":0.98142398337573933},{"$f":"+'[1]itcer regional'!CD72","v":0.78758648581814439},{"$f":"+'[1]itcer regional'!CE72","v":0.81716825073961019},{"$f":"+'[1]itcer regional'!CF72","v":1.1720934610904277},null,{"$f":"+'[1]itcer regional'!CH72","v":1.2089411477075251},{"$f":"+'[1]itcer regional'!CI72","v":0.72749179382131135},{"$f":"+'[1]itcer regional'!CJ72","v":0.92588612537036818},{"$f":"+'[1]itcer regional'!CK72","v":1.5216817611562172},{"$f":"+'[1]itcer regional'!CL72","v":1.0944986799343335},{"$f":"+'[1]itcer regional'!CM72","v":0.84724266344271315}]
[null,"Abril",{"$f":"+'[1]itcer regional'!AK73","v":92.977650992226245},{"$f":"+'[1]itcer regional'!AL73","v":110.20178337914636},{"$f":"+'[1]itcer regional'!AM73","v":91.28986385083752},{"$f":"+'[1]itcer regional'!AN73","v":116.90943918949773},{"$f":"+'[1]itcer regional'!AO73","v":89.646432066112283},{"$f":"+'[1]itcer regional'!AP73","v":99.490166144890907},null,{"$f":"+'[1]itcer regional'!BT73","v":1.5248400973581795},{"$f":"+'[1]itcer regional'!BU73","v":-0.10137928679179709},{"$f":"+'[1]itcer regional'!BV73","v":0.46350282258866571},{"$f":"+'[1]itcer regional'!BW73","v":-2.449952199575506},{"$f":"+'[1]itcer regional'!BX73","v":0.23197374030021933},{"$f":"+'[1]itcer regional'!BY73","v":0.18670562190779094},null,{"$f":"+'[1]itcer regional'!CA73","v":0.76748093639907},{"$f":"+'[1]itcer regional'!CB73","v":1.5086819279885084},{"$f":"+'[1]itcer regional'!CC73","v":0.98410446328189016},{"$f":"+'[1]itcer regional'!CD73","v":0.78318281015173696},{"$f":"+'[1]itcer regional'!CE73","v":0.81213065460910738},{"$f":"+'[1]itcer regional'!CF73","v":1.1632866479030848},null,{"$f":"+'[1]itcer regional'!CH73","v":1.211465283143923},{"$f":"+'[1]itcer regional'!CI73","v":0.7304507420333185},{"$f":"+'[1]itcer regional'!CJ73","v":0.92764403838180898},{"$f":"+'[1]itcer regional'!CK73","v":1.4927477681340737},{"$f":"+'[1]itcer regional'!CL73","v":1.1038424859022302},{"$f":"+'[1]itcer regional'!CM73","v":0.85525064973650067}]
[null,"Mayo",{"$f":"+'[1]itcer regional'!AK74","v":94.318641496342011},{"$f":"+'[1]itcer regional'!AL74","v":110.48583224744637},{"$f":"+'[1]itcer regional'!AM74","v":90.599022031379931},{"$f":"+'[1]itcer regional'!AN74","v":116.02435086610313},{"$f":"+'[1]itcer regional'!AO74","v":89.825909720408148},{"$f":"+'[1]itcer regional'!AP74","v":99.602140655281246},null,{"$f":"+'[1]itcer regional'!BT74","v":1.4422718683524209},{"$f":"+'[1]itcer regional'!BU74","v":0.25775342248567767},{"$f":"+'[1]itcer regional'!BV74","v":-0.75675632574760243},{"$f":"+'[1]itcer regional'!BW74","v":-0.75707173820238438},{"$f":"+'[1]itcer regional'!BX74","v":0.20020613220110306},{"$f":"+'[1]itcer regional'!BY74","v":0.11254831982819269},null,{"$f":"+'[1]itcer regional'!CA74","v":0.77660992184130517},{"$f":"+'[1]itcer regional'!CB74","v":1.502733018691363},{"$f":"+'[1]itcer regional'!CC74","v":0.9814463741309617},{"$f":"+'[1]itcer regional'!CD74","v":0.7834509463489836},{"$f":"+'[1]itcer regional'!CE74","v":0.8108269820006565},{"$f":"+'[1]itcer regional'!CF74","v":1.1563687030436938},null,{"$f":"+'[1]itcer regional'!CH74","v":1.2144918426063496},{"$f":"+'[1]itcer regional'!CI74","v":0.73523261200224121},{"$f":"+'[1]itcer regional'!CJ74","v":0.92311739509560409},{"$f":"+'[1]itcer regional'!CK74","v":1.4809395713515521},{"$f":"+'[1]itcer regional'!CL74","v":1.1078307914565109},{"$f":"+'[1]itcer regional'!CM74","v":0.86133549267735376}]
[null,"Junio",{"$f":"+'[1]itcer regional'!AK75","v":94.950798949189192},{"$f":"+'[1]itcer regional'!AL75","v":110.04490686711343},{"$f":"+'[1]itcer regional'!AM75","v":90.081447421217746},{"$f":"+'[1]itcer regional'!AN75","v":117.47492177150727},{"$f":"+'[1]itcer regional'!AO75","v":89.507314454029725},{"$f":"+'[1]itcer regional'!AP75","v":99.426314372881833},null,{"$f":"+'[1]itcer regional'!BT75","v":0.67023596058865564},{"$f":"+'[1]itcer regional'!BU75","v":-0.39907866136668702},{"$f":"+'[1]itcer regional'!BV75","v":-0.57128057075817651},{"$f":"+'[1]itcer regional'!BW75","v":1.2502297100357396},{"$f":"+'[1]itcer regional'!BX75","v":-0.35468081244050609},{"$f":"+'[1]itcer regional'!BY75","v":-0.17652861800223718},null,{"$f":"+'[1]itcer regional'!CA75","v":0.78380365441101885},{"$f":"+'[1]itcer regional'!CB75","v":1.4906544305475968},{"$f":"+'[1]itcer regional'!CC75","v":0.97734936946607431},{"$f":"+'[1]itcer regional'!CD75","v":0.7912388219651969},{"$f":"+'[1]itcer regional'!CE75","v":0.81310849242987315},{"$f":"+'[1]itcer regional'!CF75","v":1.147003169467351},null,{"$f":"+'[1]itcer regional'!CH75","v":1.2114105160754702},{"$f":"+'[1]itcer regional'!CI75","v":0.73823217918245521},{"$f":"+'[1]itcer regional'!CJ75","v":0.92169136478216795},{"$f":"+'[1]itcer regional'!CK75","v":1.4846961310585751},{"$f":"+'[1]itcer regional'!CL75","v":1.1008040782669519},{"$f":"+'[1]itcer regional'!CM75","v":0.86683556784811444}]
[null,"Julio",{"$f":"+'[1]itcer regional'!AK76","v":95.202111523372153},{"$f":"+'[1]itcer regional'!AL76","v":107.27734705365877},{"$f":"+'[1]itcer regional'!AM76","v":91.200354494365001},{"$f":"+'[1]itcer regional'!AN76","v":118.80407098524549},{"$f":"+'[1]itcer regional'!AO76","v":90.35161684496974},{"$f":"+'[1]itcer regional'!AP76","v":99.277977998221644},null,{"$f":"+'[1]itcer regional'!BT76","v":0.26467662933247027},{"$f":"+'[1]itcer regional'!BU76","v":-2.5149367583151019},{"$f":"+'[1]itcer regional'!BV76","v":1.2421060109250703},{"$f":"+'[1]itcer regional'!BW76","v":1.1314323037587997},{"$f":"+'[1]itcer regional'!BX76","v":0.94327753669074355},{"$f":"+'[1]itcer regional'!BY76","v":-0.1491922692657397},null,{"$f":"+'[1]itcer regional'!CA76","v":0.78981059566179612},{"$f":"+'[1]itcer regional'!CB76","v":1.4793142598185098},{"$f":"+'[1]itcer regional'!CC76","v":0.97246253836699437},{"$f":"+'[1]itcer regional'!CD76","v":0.79922632130052784},{"$f":"+'[1]itcer regional'!CE76","v":0.81808015036846904},{"$f":"+'[1]itcer regional'!CF76","v":1.138578638699431},null,{"$f":"+'[1]itcer regional'!CH76","v":1.2053790117059726},{"$f":"+'[1]itcer regional'!CI76","v":0.72518294433814312},{"$f":"+'[1]itcer regional'!CJ76","v":0.93782897434293977},{"$f":"+'[1]itcer regional'!CK76","v":1.4864884678963464},{"$f":"+'[1]itcer regional'!CL76","v":1.1044347770114549},{"$f":"+'[1]itcer regional'!CM76","v":0.87194660626712894}]
[null,"Agosto",{"$f":"+'[1]itcer regional'!AK77","v":94.886769594345907},{"$f":"+'[1]itcer regional'!AL77","v":106.05783953395024},{"$f":"+'[1]itcer regional'!AM77","v":91.290482429948696},{"$f":"+'[1]itcer regional'!AN77","v":119.05652573020826},{"$f":"+'[1]itcer regional'!AO77","v":93.007029335968426},{"$f":"+'[1]itcer regional'!AP77","v":98.049169414937481},null,{"$f":"+'[1]itcer regional'!BT77","v":-0.33123417535631461},{"$f":"+'[1]itcer regional'!BU77","v":-1.1367800875039791},{"$f":"+'[1]itcer regional'!BV77","v":9.882410664232566E-2},{"$f":"+'[1]itcer regional'!BW77","v":0.21249671233414347},{"$f":"+'[1]itcer regional'!BX77","v":2.9389761730052726},{"$f":"+'[1]itcer regional'!BY77","v":-1.237745377233793},null,{"$f":"+'[1]itcer regional'!CA77","v":0.79422030415259948},{"$f":"+'[1]itcer regional'!CB77","v":1.4641978320997471},{"$f":"+'[1]itcer regional'!CC77","v":0.97246795535064623},{"$f":"+'[1]itcer regional'!CD77","v":0.80658165422079209},{"$f":"+'[1]itcer regional'!CE77","v":0.82145973393967553},{"$f":"+'[1]itcer regional'!CF77","v":1.1282596341193245},null,{"$f":"+'[1]itcer regional'!CH77","v":1.194715988727916},{"$f":"+'[1]itcer regional'!CI77","v":0.72434091356259533},{"$f":"+'[1]itcer regional'!CJ77","v":0.9387505462535447},{"$f":"+'[1]itcer regional'!CK77","v":1.4760629020904805},{"$f":"+'[1]itcer regional'!CL77","v":1.1322165347035555},{"$f":"+'[1]itcer regional'!CM77","v":0.86903019881120558}]
[null,"Septiembre",{"$f":"+'[1]itcer regional'!AK78","v":94.791009212488163},{"$f":"+'[1]itcer regional'!AL78","v":104.58849590992513},{"$f":"+'[1]itcer regional'!AM78","v":92.85740703405699},{"$f":"+'[1]itcer regional'!AN78","v":118.46451852268012},{"$f":"+'[1]itcer regional'!AO78","v":93.004103242469199},{"$f":"+'[1]itcer regional'!AP78","v":96.725470450451738},null,{"$f":"+'[1]itcer regional'!BT78","v":-0.10092068922477893},{"$f":"+'[1]itcer regional'!BU78","v":-1.3854172689938338},{"$f":"+'[1]itcer regional'!BV78","v":1.7164161722013773},{"$f":"+'[1]itcer regional'!BW78","v":-0.49724885208701153},{"$f":"+'[1]itcer regional'!BX78","v":-3.1460993003662452E-3},{"$f":"+'[1]itcer regional'!BY78","v":-1.3500358772892156},null,{"$f":"+'[1]itcer regional'!CA78","v":0.79922223726157804},{"$f":"+'[1]itcer regional'!CB78","v":1.4463256563109783},{"$f":"+'[1]itcer regional'!CC78","v":0.9790938427523086},{"$f":"+'[1]itcer regional'!CD78","v":0.81063495088758331},{"$f":"+'[1]itcer regional'!CE78","v":0.81853040688763623},{"$f":"+'[1]itcer regional'!CF78","v":1.1156813877164968},null,{"$f":"+'[1]itcer regional'!CH78","v":1.1860406879727992},{"$f":"+'[1]itcer regional'!CI78","v":0.72313241111058102},{"$f":"+'[1]itcer regional'!CJ78","v":0.94840150125985467},{"$f":"+'[1]itcer regional'!CK78","v":1.461379359389458},{"$f":"+'[1]itcer regional'!CL78","v":1.1362327222040063},{"$f":"+'[1]itcer regional'!CM78","v":0.8669631985922347}]
[null,"Octubre",{"$f":"+'[1]itcer regional'!AK79","v":94.214391621606481},{"$f":"+'[1]itcer regional'!AL79","v":104.91626211443108},{"$f":"+'[1]itcer regional'!AM79","v":93.447279400666659},{"$f":"+'[1]itcer regional'!AN79","v":118.84417393064336},{"$f":"+'[1]itcer regional'!AO79","v":91.217009568199529},{"$f":"+'[1]itcer regional'!AP79","v":96.848847850302974},null,{"$f":"+'[1]itcer regional'!BT79","v":-0.60830409515855877},{"$f":"+'[1]itcer regional'!BU79","v":0.31338647874640913},{"$f":"+'[1]itcer regional'!BV79","v":0.63524535677947824},{"$f":"+'[1]itcer regional'!BW79","v":0.32048026928042361},{"$f":"+'[1]itcer regional'!BX79","v":-1.9215213221405634},{"$f":"+'[1]itcer regional'!BY79","v":0.12755419981589},null,{"$f":"+'[1]itcer regional'!CA79","v":0.80366596075993435},{"$f":"+'[1]itcer regional'!CB79","v":1.4288344354504974},{"$f":"+'[1]itcer regional'!CC79","v":0.98306444851628383},{"$f":"+'[1]itcer regional'!CD79","v":0.81657191158515208},{"$f":"+'[1]itcer regional'!CE79","v":0.81944183157840245},{"$f":"+'[1]itcer regional'!CF79","v":1.1037233161888775},null,{"$f":"+'[1]itcer regional'!CH79","v":1.1723078520399042},{"$f":"+'[1]itcer regional'!CI79","v":0.73427865056564123},{"$f":"+'[1]itcer regional'!CJ79","v":0.95057124221819278},{"$f":"+'[1]itcer regional'!CK79","v":1.4554036484054385},{"$f":"+'[1]itcer regional'!CL79","v":1.113160276337102},{"$f":"+'[1]itcer regional'!CM79","v":0.87747396860944304}]
[null,"Noviembre",{"$f":"+'[1]itcer regional'!AK80","v":94.099316350039544},{"$f":"+'[1]itcer regional'!AL80","v":104.99406971726665},{"$f":"+'[1]itcer regional'!AM80","v":93.264163241424995},{"$f":"+'[1]itcer regional'!AN80","v":120.82761076687649},{"$f":"+'[1]itcer regional'!AO80","v":89.559540201824518},{"$f":"+'[1]itcer regional'!AP80","v":96.544899568155287},null,{"$f":"+'[1]itcer regional'!BT80","v":-0.12214192501409116},{"$f":"+'[1]itcer regional'!BU80","v":7.416162305773355E-2},{"$f":"+'[1]itcer regional'!BV80","v":-0.19595665108293758},{"$f":"+'[1]itcer regional'!BW80","v":1.6689390574506717},{"$f":"+'[1]itcer regional'!BX80","v":-1.817061723708207},{"$f":"+'[1]itcer regional'!BY80","v":-0.3138377883622212},null,{"$f":"+'[1]itcer regional'!CA80","v":0.80982358280560429},{"$f":"+'[1]itcer regional'!CB80","v":1.4127273257115742},{"$f":"+'[1]itcer regional'!CC80","v":0.9812574226522166},{"$f":"+'[1]itcer regional'!CD80","v":0.83144145773868716},{"$f":"+'[1]itcer regional'!CE80","v":0.8157963224417224},{"$f":"+'[1]itcer regional'!CF80","v":1.0927140025696787},null,{"$f":"+'[1]itcer regional'!CH80","v":1.1619730315093555},{"$f":"+'[1]itcer regional'!CI80","v":0.74320123782119363},{"$f":"+'[1]itcer regional'!CJ80","v":0.9504556203951412},{"$f":"+'[1]itcer regional'!CK80","v":1.4532305268430727},{"$f":"+'[1]itcer regional'!CL80","v":1.0978174053759886},{"$f":"+'[1]itcer regional'!CM80","v":0.88353310510449823}]
[null,"Diciembre",{"$f":"+'[1]itcer regional'!AK81","v":94.323335699791556},{"$f":"+'[1]itcer regional'!AL81","v":105.26881688488321},{"$f":"+'[1]itcer regional'!AM81","v":91.525413001812737},{"$f":"+'[1]itcer regional'!AN81","v":121.95868077520839},{"$f":"+'[1]itcer regional'!AO81","v":91.871090632464899},{"$f":"+'[1]itcer regional'!AP81","v":96.668463247504661},null,{"$f":"+'[1]itcer regional'!BT81","v":0.23806692592609124},{"$f":"+'[1]itcer regional'!BU81","v":0.26167874848208328},{"$f":"+'[1]itcer regional'!BV81","v":-1.8643283541946403},{"$f":"+'[1]itcer regional'!BW81","v":0.93610227095706477},{"$f":"+'[1]itcer regional'!BX81","v":2.5810208777660648},{"$f":"+'[1]itcer regional'!BY81","v":0.12798571431744676},null,{"$f":"+'[1]itcer regional'!CA81","v":0.81938983573582913},{"$f":"+'[1]itcer regional'!CB81","v":1.4087872230067395},{"$f":"+'[1]itcer regional'!CC81","v":0.96233868492514663},{"$f":"+'[1]itcer regional'!CD81","v":0.84938213212261171},{"$f":"+'[1]itcer regional'!CE81","v":0.82303235500517724},{"$f":"+'[1]itcer regional'!CF81","v":1.0886601700354686},null,{"$f":"+'[1]itcer regional'!CH81","v":1.1511411490122674},{"$f":"+'[1]itcer regional'!CI81","v":0.74723006544743209},{"$f":"+'[1]itcer regional'!CJ81","v":0.95107278170919463},{"$f":"+'[1]itcer regional'!CK81","v":1.435851734606576},{"$f":"+'[1]itcer regional'!CL81","v":1.1162512636807214},{"$f":"+'[1]itcer regional'!CM81","v":0.88795811501356936}]
[1996,"Enero",{"$f":"+'[1]itcer regional'!AK82","v":93.812571686421592},{"$f":"+'[1]itcer regional'!AL82","v":102.45004988377535},{"$f":"+'[1]itcer regional'!AM82","v":93.404837960174291},{"$f":"+'[1]itcer regional'!AN82","v":123.7210635051743},{"$f":"+'[1]itcer regional'!AO82","v":91.968381809548816},{"$f":"+'[1]itcer regional'!AP82","v":96.297725176362988},null,{"$f":"+'[1]itcer regional'!BT82","v":-0.54150334016557622},{"$f":"+'[1]itcer regional'!BU82","v":-2.6776846976349304},{"$f":"+'[1]itcer regional'!BV82","v":2.0534460285083185},{"$f":"+'[1]itcer regional'!BW82","v":1.4450654260636782},{"$f":"+'[1]itcer regional'!BX82","v":0.1058996648609849},{"$f":"+'[1]itcer regional'!BY82","v":-0.38351501481145078},null,{"$f":"+'[1]itcer regional'!CA82","v":0.817639809317382},{"$f":"+'[1]itcer regional'!CB82","v":1.3796893029763306},{"$f":"+'[1]itcer regional'!CC82","v":0.98193814404685353},{"$f":"+'[1]itcer regional'!CD82","v":0.85524227811117914},{"$f":"+'[1]itcer regional'!CE82","v":0.81769001556529697},{"$f":"+'[1]itcer regional'!CF82","v":1.071199445249154},null,{"$f":"+'[1]itcer regional'!CH82","v":1.1473581718671737},{"$f":"+'[1]itcer regional'!CI82","v":0.74255884758086665},{"$f":"+'[1]itcer regional'!CJ82","v":0.95122934704650242},{"$f":"+'[1]itcer regional'!CK82","v":1.4466200592703966},{"$f":"+'[1]itcer regional'!CL82","v":1.1247340686429679},{"$f":"+'[1]itcer regional'!CM82","v":0.89897101425369741}]
[null,"Febrero",{"$f":"+'[1]itcer regional'!AK83","v":94.114557966862051},{"$f":"+'[1]itcer regional'!AL83","v":102.18576979772276},{"$f":"+'[1]itcer regional'!AM83","v":94.123628828283245},{"$f":"+'[1]itcer regional'!AN83","v":122.78117100826202},{"$f":"+'[1]itcer regional'!AO83","v":91.283105388558511},{"$f":"+'[1]itcer regional'!AP83","v":96.081241311943216},null,{"$f":"+'[1]itcer regional'!BT83","v":0.32190385042409275},{"$f":"+'[1]itcer regional'!BU83","v":-0.25795993887012969},{"$f":"+'[1]itcer regional'!BV83","v":0.76954350952938455},{"$f":"+'[1]itcer regional'!BW83","v":-0.7596867261595861},{"$f":"+'[1]itcer regional'!BX83","v":-0.74512175544134607},{"$f":"+'[1]itcer regional'!BY83","v":-0.22480683113053601},null,{"$f":"+'[1]itcer regional'!CA83","v":0.82096055881547636},{"$f":"+'[1]itcer regional'!CB83","v":1.3627902787020822},{"$f":"+'[1]itcer regional'!CC83","v":0.98552267763643808},{"$f":"+'[1]itcer regional'!CD83","v":0.86795533997255425},{"$f":"+'[1]itcer regional'!CE83","v":0.8128034136276937},{"$f":"+'[1]itcer regional'!CF83","v":1.0603327046489475},null,{"$f":"+'[1]itcer regional'!CH83","v":1.1463956088542833},{"$f":"+'[1]itcer regional'!CI83","v":0.74982755156607239},{"$f":"+'[1]itcer regional'!CJ83","v":0.95506304384611751},{"$f":"+'[1]itcer regional'!CK83","v":1.4146024035308602},{"$f":"+'[1]itcer regional'!CL83","v":1.1230649854328849},{"$f":"+'[1]itcer regional'!CM83","v":0.90614239182364531}]
[null,"Marzo",{"$f":"+'[1]itcer regional'!AK84","v":94.882829687065538},{"$f":"+'[1]itcer regional'!AL84","v":101.89570760358365},{"$f":"+'[1]itcer regional'!AM84","v":93.334388919675447},{"$f":"+'[1]itcer regional'!AN84","v":124.02946577598506},{"$f":"+'[1]itcer regional'!AO84","v":91.423851455954278},{"$f":"+'[1]itcer regional'!AP84","v":96.065341873647142},null,{"$f":"+'[1]itcer regional'!BT84","v":0.81631549549858562},{"$f":"+'[1]itcer regional'!BU84","v":-0.28385771787333169},{"$f":"+'[1]itcer regional'!BV84","v":-0.83851411004101806},{"$f":"+'[1]itcer regional'!BW84","v":1.0166825723131723},{"$f":"+'[1]itcer regional'!BX84","v":0.15418632702805724},{"$f":"+'[1]itcer regional'!BY84","v":-1.6547910995925008E-2},null,{"$f":"+'[1]itcer regional'!CA84","v":0.82477463489639946},{"$f":"+'[1]itcer regional'!CB84","v":1.3512466115701913},{"$f":"+'[1]itcer regional'!CC84","v":0.98025504324002788},{"$f":"+'[1]itcer regional'!CD84","v":0.88383321167457018},{"$f":"+'[1]itcer regional'!CE84","v":0.81447846022347647},{"$f":"+'[1]itcer regional'!CF84","v":1.0529790906224523},null,{"$f":"+'[1]itcer regional'!CH84","v":1.1504091623645025},{"$f":"+'[1]itcer regional'!CI84","v":0.75408668359343833},{"$f":"+'[1]itcer regional'!CJ84","v":0.95214392992234087},{"$f":"+'[1]itcer regional'!CK84","v":1.4033130248748003},{"$f":"+'[1]itcer regional'!CL84","v":1.122483354941878},{"$f":"+'[1]itcer regional'!CM84","v":0.91231955818666433}]
[null,"Abril",{"$f":"+'[1]itcer regional'!AK85","v":95.823621177871274},{"$f":"+'[1]itcer regional'!AL85","v":102.62623175601144},{"$f":"+'[1]itcer regional'!AM85","v":91.783150638778523},{"$f":"+'[1]itcer regional'!AN85","v":124.21070639986523},{"$f":"+'[1]itcer regional'!AO85","v":92.164533624518853},{"$f":"+'[1]itcer regional'!AP85","v":96.6625971055783},null,{"$f":"+'[1]itcer regional'!BT85","v":0.99152975718428138},{"$f":"+'[1]itcer regional'!BU85","v":0.71693319533127919},{"$f":"+'[1]itcer regional'!BV85","v":-1.6620222180186346},{"$f":"+'[1]itcer regional'!BW85","v":0.14612706968158307},{"$f":"+'[1]itcer regional'!BX85","v":0.81016294628695107},{"$f":"+'[1]itcer regional'!BY85","v":0.62171769785268793},null,{"$f":"+'[1]itcer regional'!CA85","v":0.83092367801269551},{"$f":"+'[1]itcer regional'!CB85","v":1.3489311194825846},{"$f":"+'[1]itcer regional'!CC85","v":0.96710710339501005},{"$f":"+'[1]itcer regional'!CD85","v":0.89647245332790371},{"$f":"+'[1]itcer regional'!CE85","v":0.82065225970028166},{"$f":"+'[1]itcer regional'!CF85","v":1.0506105399688817},null,{"$f":"+'[1]itcer regional'!CH85","v":1.1532180838443651},{"$f":"+'[1]itcer regional'!CI85","v":0.76079668022912994},{"$f":"+'[1]itcer regional'!CJ85","v":0.94904845923037495},{"$f":"+'[1]itcer regional'!CK85","v":1.3855496165974501},{"$f":"+'[1]itcer regional'!CL85","v":1.1230643982894677},{"$f":"+'[1]itcer regional'!CM85","v":0.92006117803121756}]
[null,"Mayo",{"$f":"+'[1]itcer regional'!AK86","v":96.091963990042515},{"$f":"+'[1]itcer regional'!AL86","v":102.97162170711184},{"$f":"+'[1]itcer regional'!AM86","v":91.17578484318436},{"$f":"+'[1]itcer regional'!AN86","v":124.28720410960955},{"$f":"+'[1]itcer regional'!AO86","v":92.438727089875044},{"$f":"+'[1]itcer regional'!AP86","v":97.373807066459619},null,{"$f":"+'[1]itcer regional'!BT86","v":0.28003827122451241},{"$f":"+'[1]itcer regional'!BU86","v":0.33655133311485486},{"$f":"+'[1]itcer regional'!BV86","v":-0.66173997227933512},{"$f":"+'[1]itcer regional'!BW86","v":6.1587049910215796E-2},{"$f":"+'[1]itcer regional'!BX86","v":0.29750431600214711},{"$f":"+'[1]itcer regional'!BY86","v":0.73576541721149624},null,{"$f":"+'[1]itcer regional'!CA86","v":0.83785573668232571},{"$f":"+'[1]itcer regional'!CB86","v":1.3471152979432812},{"$f":"+'[1]itcer regional'!CC86","v":0.95410753309378882},{"$f":"+'[1]itcer regional'!CD86","v":0.90743087715543469},{"$f":"+'[1]itcer regional'!CE86","v":0.82751126987196366},{"$f":"+'[1]itcer regional'!CF86","v":1.0482320022538629},null,{"$f":"+'[1]itcer regional'!CH86","v":1.1468795853870954},{"$f":"+'[1]itcer regional'!CI86","v":0.76438610610631896},{"$f":"+'[1]itcer regional'!CJ86","v":0.9556133001857533},{"$f":"+'[1]itcer regional'!CK86","v":1.3696602930155779},{"$f":"+'[1]itcer regional'!CL86","v":1.1170691017196368},{"$f":"+'[1]itcer regional'!CM86","v":0.9289337365878042}]
[null,"Junio",{"$f":"+'[1]itcer regional'!AK87","v":96.011473683531676},{"$f":"+'[1]itcer regional'!AL87","v":101.23744535442069},{"$f":"+'[1]itcer regional'!AM87","v":91.891598092103024},{"$f":"+'[1]itcer regional'!AN87","v":125.03169367334017},{"$f":"+'[1]itcer regional'!AO87","v":93.700150186440297},{"$f":"+'[1]itcer regional'!AP87","v":97.340943105711162},null,{"$f":"+'[1]itcer regional'!BT87","v":-8.3763827034673E-2},{"$f":"+'[1]itcer regional'!BU87","v":-1.6841303690678728},{"$f":"+'[1]itcer regional'!BV87","v":0.78509140354515239},{"$f":"+'[1]itcer regional'!BW87","v":0.59900741115235689},{"$f":"+'[1]itcer regional'!BX87","v":1.3646045724307925},{"$f":"+'[1]itcer regional'!BY87","v":-3.3750308977886334E-2},null,{"$f":"+'[1]itcer regional'!CA87","v":0.83954369445077781},{"$f":"+'[1]itcer regional'!CB87","v":1.3311742368577555},{"$f":"+'[1]itcer regional'!CC87","v":0.95223833718507478},{"$f":"+'[1]itcer regional'!CD87","v":0.92542983209348928},{"$f":"+'[1]itcer regional'!CE87","v":0.8305131148569127},{"$f":"+'[1]itcer regional'!CF87","v":1.0388233199091765},null,{"$f":"+'[1]itcer regional'!CH87","v":1.1436149698717177},{"$f":"+'[1]itcer regional'!CI87","v":0.76051235481684398},{"$f":"+'[1]itcer regional'!CJ87","v":0.96500628575557124},{"$f":"+'[1]itcer regional'!CK87","v":1.3510661677125311},{"$f":"+'[1]itcer regional'!CL87","v":1.1282199944859834},{"$f":"+'[1]itcer regional'!CM87","v":0.93703078512158933}]
[null,"Julio",{"$f":"+'[1]itcer regional'!AK88","v":96.032531763177715},{"$f":"+'[1]itcer regional'!AL88","v":101.63801216592154},{"$f":"+'[1]itcer regional'!AM88","v":89.680959630251564},{"$f":"+'[1]itcer regional'!AN88","v":128.85185040973542},{"$f":"+'[1]itcer regional'!AO88","v":94.626291318948773},{"$f":"+'[1]itcer regional'!AP88","v":97.574580255326936},null,{"$f":"+'[1]itcer regional'!BT88","v":2.1932878267705291E-2},{"$f":"+'[1]itcer regional'!BU88","v":0.39567060399292586},{"$f":"+'[1]itcer regional'!BV88","v":-2.4057024883120732},{"$f":"+'[1]itcer regional'!BW88","v":3.0553507068182597},{"$f":"+'[1]itcer regional'!BX88","v":0.9884094429578596},{"$f":"+'[1]itcer regional'!BY88","v":0.24001940207425321},null,{"$f":"+'[1]itcer regional'!CA88","v":0.84213915184218324},{"$f":"+'[1]itcer regional'!CB88","v":1.3179920687863265},{"$f":"+'[1]itcer regional'!CC88","v":0.93461571102355712},{"$f":"+'[1]itcer regional'!CD88","v":0.96874537485077272},{"$f":"+'[1]itcer regional'!CE88","v":0.83278759993395302},{"$f":"+'[1]itcer regional'!CF88","v":1.0324006519880768},null,{"$f":"+'[1]itcer regional'!CH88","v":1.1403404241817534},{"$f":"+'[1]itcer regional'!CI88","v":0.77115799535512342},{"$f":"+'[1]itcer regional'!CJ88","v":0.95954902718290758},{"$f":"+'[1]itcer regional'!CK88","v":1.3300899674445825},{"$f":"+'[1]itcer regional'!CL88","v":1.136259609610583},{"$f":"+'[1]itcer regional'!CM88","v":0.94512319483166918}]
[null,"Agosto",{"$f":"+'[1]itcer regional'!AK89","v":96.907776266776935},{"$f":"+'[1]itcer regional'!AL89","v":99.309164012028361},{"$f":"+'[1]itcer regional'!AM89","v":89.675932181482111},{"$f":"+'[1]itcer regional'!AN89","v":130.16292763866539},{"$f":"+'[1]itcer regional'!AO89","v":97.177840410522592},{"$f":"+'[1]itcer regional'!AP89","v":98.334538597275952},null,{"$f":"+'[1]itcer regional'!BT89","v":0.91140417474113633},{"$f":"+'[1]itcer regional'!BU89","v":-2.2913161171347838},{"$f":"+'[1]itcer regional'!BV89","v":-5.6059265982213446E-3},{"$f":"+'[1]itcer regional'!BW89","v":1.0175074900056842},{"$f":"+'[1]itcer regional'!BX89","v":2.6964483718098222},{"$f":"+'[1]itcer regional'!BY89","v":0.77884869190356198},null,{"$f":"+'[1]itcer regional'!CA89","v":0.84718000083812928},{"$f":"+'[1]itcer regional'!CB89","v":1.3110350019503336},{"$f":"+'[1]itcer regional'!CC89","v":0.92438172620885084},{"$f":"+'[1]itcer regional'!CD89","v":0.98984766126789936},{"$f":"+'[1]itcer regional'!CE89","v":0.83416526361679821},{"$f":"+'[1]itcer regional'!CF89","v":1.0278053971591725},null,{"$f":"+'[1]itcer regional'!CH89","v":1.1438864960327728},{"$f":"+'[1]itcer regional'!CI89","v":0.7574867479837929},{"$f":"+'[1]itcer regional'!CJ89","v":0.97011796792293048},{"$f":"+'[1]itcer regional'!CK89","v":1.3149793926061233},{"$f":"+'[1]itcer regional'!CL89","v":1.1649710752660216},{"$f":"+'[1]itcer regional'!CM89","v":0.95674277318517775}]
[null,"Septiembre",{"$f":"+'[1]itcer regional'!AK90","v":97.129184804556601},{"$f":"+'[1]itcer regional'!AL90","v":100.35013298713756},{"$f":"+'[1]itcer regional'!AM90","v":88.804350839488379},{"$f":"+'[1]itcer regional'!AN90","v":129.53615380511079},{"$f":"+'[1]itcer regional'!AO90","v":97.576687484180226},{"$f":"+'[1]itcer regional'!AP90","v":97.96166002533883},null,{"$f":"+'[1]itcer regional'!BT90","v":0.22847344796164748},{"$f":"+'[1]itcer regional'!BU90","v":1.0482103897109738},{"$f":"+'[1]itcer regional'!BV90","v":-0.97192336984004157},{"$f":"+'[1]itcer regional'!BW90","v":-0.48153022133502077},{"$f":"+'[1]itcer regional'!BX90","v":0.41043006509788427},{"$f":"+'[1]itcer regional'!BY90","v":-0.37919389998282327},null,{"$f":"+'[1]itcer regional'!CA90","v":0.85273656030828104},{"$f":"+'[1]itcer regional'!CB90","v":1.306303613221226},{"$f":"+'[1]itcer regional'!CC90","v":0.91478047759190528},{"$f":"+'[1]itcer regional'!CD90","v":1.0008427910210733},{"$f":"+'[1]itcer regional'!CE90","v":0.84281917216103264},{"$f":"+'[1]itcer regional'!CF90","v":1.0239614978547689},null,{"$f":"+'[1]itcer regional'!CH90","v":1.1390292069738686},{"$f":"+'[1]itcer regional'!CI90","v":0.76819915348533119},{"$f":"+'[1]itcer regional'!CJ90","v":0.97077225645719423},{"$f":"+'[1]itcer regional'!CK90","v":1.2942707382940359},{"$f":"+'[1]itcer regional'!CL90","v":1.1577416687613844},{"$f":"+'[1]itcer regional'!CM90","v":0.95669280759649244}]
[null,"Octubre",{"$f":"+'[1]itcer regional'!AK91","v":97.388352180678083},{"$f":"+'[1]itcer regional'!AL91","v":100.73448659311669},{"$f":"+'[1]itcer regional'!AM91","v":88.85252989750623},{"$f":"+'[1]itcer regional'!AN91","v":129.45857243711967},{"$f":"+'[1]itcer regional'!AO91","v":96.210590541624882},{"$f":"+'[1]itcer regional'!AP91","v":98.011077129234877},null,{"$f":"+'[1]itcer regional'!BT91","v":0.26682750055297788},{"$f":"+'[1]itcer regional'!BU91","v":0.38301255268729051},{"$f":"+'[1]itcer regional'!BV91","v":5.4253037787461267E-2},{"$f":"+'[1]itcer regional'!BW91","v":-5.9891671716485462E-2},{"$f":"+'[1]itcer regional'!BX91","v":-1.4000238968727245},{"$f":"+'[1]itcer regional'!BY91","v":5.0445351664379245E-2},null,{"$f":"+'[1]itcer regional'!CA91","v":0.85781470767804135},{"$f":"+'[1]itcer regional'!CB91","v":1.2989480464504872},{"$f":"+'[1]itcer regional'!CC91","v":0.91080750076108707},{"$f":"+'[1]itcer regional'!CD91","v":1.0093704425673991},{"$f":"+'[1]itcer regional'!CE91","v":0.84637316502690974},{"$f":"+'[1]itcer regional'!CF91","v":1.0183842254706339},null,{"$f":"+'[1]itcer regional'!CH91","v":1.1353075589516506},{"$f":"+'[1]itcer regional'!CI91","v":0.77550820349115823},{"$f":"+'[1]itcer regional'!CJ91","v":0.97553577263317948},{"$f":"+'[1]itcer regional'!CK91","v":1.2825674992803775},{"$f":"+'[1]itcer regional'!CL91","v":1.136739614595011},{"$f":"+'[1]itcer regional'!CM91","v":0.96241747149942569}]
[null,"Noviembre",{"$f":"+'[1]itcer regional'!AK92","v":98.222591657203893},{"$f":"+'[1]itcer regional'!AL92","v":102.6930985170798},{"$f":"+'[1]itcer regional'!AM92","v":87.327934306165574},{"$f":"+'[1]itcer regional'!AN92","v":128.07214740922231},{"$f":"+'[1]itcer regional'!AO92","v":96.264968389690196},{"$f":"+'[1]itcer regional'!AP92","v":98.084209480812916},null,{"$f":"+'[1]itcer regional'!BT92","v":0.85661114275565353},{"$f":"+'[1]itcer regional'!BU92","v":1.944331072906806},{"$f":"+'[1]itcer regional'!BV92","v":-1.715871898188297},{"$f":"+'[1]itcer regional'!BW92","v":-1.0709410754322732},{"$f":"+'[1]itcer regional'!BX92","v":5.6519607414500683E-2},{"$f":"+'[1]itcer regional'!BY92","v":7.4616414511609719E-2},null,{"$f":"+'[1]itcer regional'!CA92","v":0.8661605836606715},{"$f":"+'[1]itcer regional'!CB92","v":1.2992243632309681},{"$f":"+'[1]itcer regional'!CC92","v":0.90054200126646067},{"$f":"+'[1]itcer regional'!CD92","v":1.0137336234612382},{"$f":"+'[1]itcer regional'!CE92","v":0.8530978941646975},{"$f":"+'[1]itcer regional'!CF92","v":1.016588695405432},null,{"$f":"+'[1]itcer regional'!CH92","v":1.1339997860683504},{"$f":"+'[1]itcer regional'!CI92","v":0.79041850986921247},{"$f":"+'[1]itcer regional'!CJ92","v":0.96972638903408748},{"$f":"+'[1]itcer regional'!CK92","v":1.2633708150267284},{"$f":"+'[1]itcer regional'!CL92","v":1.1284164343641605},{"$f":"+'[1]itcer regional'!CM92","v":0.9648367124690026}]
[null,"Diciembre",{"$f":"+'[1]itcer regional'!AK93","v":98.759502354320276},{"$f":"+'[1]itcer regional'!AL93","v":103.03790929916691},{"$f":"+'[1]itcer regional'!AM93","v":86.554120266480595},{"$f":"+'[1]itcer regional'!AN93","v":129.14317586612603},{"$f":"+'[1]itcer regional'!AO93","v":95.517875229344085},{"$f":"+'[1]itcer regional'!AP93","v":99.844047116961505},null,{"$f":"+'[1]itcer regional'!BT93","v":0.54662648180796225},{"$f":"+'[1]itcer regional'!BU93","v":0.33576821331354267},{"$f":"+'[1]itcer regional'!BV93","v":-0.88610138993101373},{"$f":"+'[1]itcer regional'!BW93","v":0.836269617219358},{"$f":"+'[1]itcer regional'!BX93","v":-0.77607999342170331},{"$f":"+'[1]itcer regional'!BY93","v":1.7942109596069429},null,{"$f":"+'[1]itcer regional'!CA93","v":0.87161984022336825},{"$f":"+'[1]itcer regional'!CB93","v":1.2935609534864481},{"$f":"+'[1]itcer regional'!CC93","v":0.89325666772862666},{"$f":"+'[1]itcer regional'!CD93","v":1.0259407958456843},{"$f":"+'[1]itcer regional'!CE93","v":0.85485045572213147},{"$f":"+'[1]itcer regional'!CF93","v":1.0373714247068839},null,{"$f":"+'[1]itcer regional'!CH93","v":1.1330570714063988},{"$f":"+'[1]itcer regional'!CI93","v":0.79654467786350358},{"$f":"+'[1]itcer regional'!CJ93","v":0.96897256290927491},{"$f":"+'[1]itcer regional'!CK93","v":1.2587780541436915},{"$f":"+'[1]itcer regional'!CL93","v":1.1173635644687787},{"$f":"+'[1]itcer regional'!CM93","v":0.9624715385347451}]
[1997,"Enero",{"$f":"+'[1]itcer regional'!AK94","v":97.552620872620523},{"$f":"+'[1]itcer regional'!AL94","v":102.48227641333946},{"$f":"+'[1]itcer regional'!AM94","v":87.040016276227334},{"$f":"+'[1]itcer regional'!AN94","v":128.58210593440475},{"$f":"+'[1]itcer regional'!AO94","v":97.450184436849355},{"$f":"+'[1]itcer regional'!AP94","v":103.06227263011611},null,{"$f":"+'[1]itcer regional'!BT94","v":-1.2220408699203631},{"$f":"+'[1]itcer regional'!BU94","v":-0.53925093162962412},{"$f":"+'[1]itcer regional'!BV94","v":0.56137825472752922},{"$f":"+'[1]itcer regional'!BW94","v":-0.43445573330401999},{"$f":"+'[1]itcer regional'!BX94","v":2.0229817747365928},{"$f":"+'[1]itcer regional'!BY94","v":3.2232522679941411},null,{"$f":"+'[1]itcer regional'!CA94","v":0.87089381793956722},{"$f":"+'[1]itcer regional'!CB94","v":1.2801651756258334},{"$f":"+'[1]itcer regional'!CC94","v":0.89636550064316145},{"$f":"+'[1]itcer regional'!CD94","v":1.0318680203416069},{"$f":"+'[1]itcer regional'!CE94","v":0.85771955468589134},{"$f":"+'[1]itcer regional'!CF94","v":1.0853592068742122},null,{"$f":"+'[1]itcer regional'!CH94","v":1.1201436829970686},{"$f":"+'[1]itcer regional'!CI94","v":0.80053948009669174},{"$f":"+'[1]itcer regional'!CJ94","v":0.97103264476125239},{"$f":"+'[1]itcer regional'!CK94","v":1.2461100005002266},{"$f":"+'[1]itcer regional'!CL94","v":1.136154398071721},{"$f":"+'[1]itcer regional'!CM94","v":0.94956832703277128}]
[null,"Febrero",{"$f":"+'[1]itcer regional'!AK95","v":99.190209814764984},{"$f":"+'[1]itcer regional'!AL95","v":102.72873708117031},{"$f":"+'[1]itcer regional'!AM95","v":86.741597770834815},{"$f":"+'[1]itcer regional'!AN95","v":124.91496423281528},{"$f":"+'[1]itcer regional'!AO95","v":99.120656658479177},{"$f":"+'[1]itcer regional'!AP95","v":104.62878327429777},null,{"$f":"+'[1]itcer regional'!BT95","v":1.6786724205828847},{"$f":"+'[1]itcer regional'!BU95","v":0.24049101606291856},{"$f":"+'[1]itcer regional'!BV95","v":-0.34285207903162984},{"$f":"+'[1]itcer regional'!BW95","v":-2.8519844771093119},{"$f":"+'[1]itcer regional'!BX95","v":1.7141806670590114},{"$f":"+'[1]itcer regional'!BY95","v":1.5199651668887242},null,{"$f":"+'[1]itcer regional'!CA95","v":0.87809640783370568},{"$f":"+'[1]itcer regional'!CB95","v":1.2778092720298659},{"$f":"+'[1]itcer regional'!CC95","v":0.9025172558529041},{"$f":"+'[1]itcer regional'!CD95","v":1.0116361147798505},{"$f":"+'[1]itcer regional'!CE95","v":0.85984371545219196},{"$f":"+'[1]itcer regional'!CF95","v":1.0843485471498175},null,{"$f":"+'[1]itcer regional'!CH95","v":1.1296050061230827},{"$f":"+'[1]itcer regional'!CI95","v":0.80394421397475391},{"$f":"+'[1]itcer regional'!CJ95","v":0.96110736064388691},{"$f":"+'[1]itcer regional'!CK95","v":1.2347815821106676},{"$f":"+'[1]itcer regional'!CL95","v":1.1527752645880722},{"$f":"+'[1]itcer regional'!CM95","v":0.96489992585236428}]
[null,"Marzo",{"$f":"+'[1]itcer regional'!AK96","v":99.493427819482022},{"$f":"+'[1]itcer regional'!AL96","v":103.35241986103597},{"$f":"+'[1]itcer regional'!AM96","v":85.436308670674094},{"$f":"+'[1]itcer regional'!AN96","v":125.32409654654776},{"$f":"+'[1]itcer regional'!AO96","v":100.53987179771308},{"$f":"+'[1]itcer regional'!AP96","v":105.60847642088231},null,{"$f":"+'[1]itcer regional'!BT96","v":0.30569348051918155},{"$f":"+'[1]itcer regional'!BU96","v":0.60711617565478093},{"$f":"+'[1]itcer regional'!BV96","v":-1.5048017718202544},{"$f":"+'[1]itcer regional'!BW96","v":0.32752866419588145},{"$f":"+'[1]itcer regional'!BX96","v":1.4318056266755974},{"$f":"+'[1]itcer regional'!BY96","v":0.93635146651389789},null,{"$f":"+'[1]itcer regional'!CA96","v":0.88901618459169174},{"$f":"+'[1]itcer regional'!CB96","v":1.283722269705337},{"$f":"+'[1]itcer regional'!CC96","v":0.88484307875217683},{"$f":"+'[1]itcer regional'!CD96","v":1.0201086383611466},{"$f":"+'[1]itcer regional'!CE96","v":0.86699867242932016},{"$f":"+'[1]itcer regional'!CF96","v":1.0905689428372012},null,{"$f":"+'[1]itcer regional'!CH96","v":1.1191407934286088},{"$f":"+'[1]itcer regional'!CI96","v":0.80509953204098628},{"$f":"+'[1]itcer regional'!CJ96","v":0.96555322319024139},{"$f":"+'[1]itcer regional'!CK96","v":1.2285367639655216},{"$f":"+'[1]itcer regional'!CL96","v":1.1596312081540048},{"$f":"+'[1]itcer regional'!CM96","v":0.96837964362100337}]
[null,"Abril",{"$f":"+'[1]itcer regional'!AK97","v":99.030005051769507},{"$f":"+'[1]itcer regional'!AL97","v":103.4330167648868},{"$f":"+'[1]itcer regional'!AM97","v":85.719075728295891},{"$f":"+'[1]itcer regional'!AN97","v":124.31950338075571},{"$f":"+'[1]itcer regional'!AO97","v":101.48102810454692},{"$f":"+'[1]itcer regional'!AP97","v":104.90529375476417},null,{"$f":"+'[1]itcer regional'!BT97","v":-0.46578229122162895},{"$f":"+'[1]itcer regional'!BU97","v":7.7982599690656684E-2},{"$f":"+'[1]itcer regional'!BV97","v":0.33096825228224702},{"$f":"+'[1]itcer regional'!BW97","v":-0.80159617621414725},{"$f":"+'[1]itcer regional'!BX97","v":0.93610255315171287},{"$f":"+'[1]itcer regional'!BY97","v":-0.66583922990777467},null,{"$f":"+'[1]itcer regional'!CA97","v":0.89499632865967116},{"$f":"+'[1]itcer regional'!CB97","v":1.2810609101622898},{"$f":"+'[1]itcer regional'!CC97","v":0.88290591062403645},{"$f":"+'[1]itcer regional'!CD97","v":1.0154348362601877},{"$f":"+'[1]itcer regional'!CE97","v":0.8734005746675545},{"$f":"+'[1]itcer regional'!CF97","v":1.0868174483259285},null,{"$f":"+'[1]itcer regional'!CH97","v":1.106485042235591},{"$f":"+'[1]itcer regional'!CI97","v":0.80740124020944104},{"$f":"+'[1]itcer regional'!CJ97","v":0.97087441251480344},{"$f":"+'[1]itcer regional'!CK97","v":1.2242981916852509},{"$f":"+'[1]itcer regional'!CL97","v":1.1619070452658451},{"$f":"+'[1]itcer regional'!CM97","v":0.96525220418897661}]
[null,"Mayo",{"$f":"+'[1]itcer regional'!AK98","v":99.379866149442535},{"$f":"+'[1]itcer regional'!AL98","v":103.61808125899022},{"$f":"+'[1]itcer regional'!AM98","v":84.922844417870976},{"$f":"+'[1]itcer regional'!AN98","v":125.59374611895838},{"$f":"+'[1]itcer regional'!AO98","v":101.49297659482869},{"$f":"+'[1]itcer regional'!AP98","v":104.60849190755913},null,{"$f":"+'[1]itcer regional'!BT98","v":0.35328797316542193},{"$f":"+'[1]itcer regional'!BU98","v":0.1789220694626863},{"$f":"+'[1]itcer regional'!BV98","v":-0.92888461950842327},{"$f":"+'[1]itcer regional'!BW98","v":1.0249741219605824},{"$f":"+'[1]itcer regional'!BX98","v":1.1774112368527767E-2},{"$f":"+'[1]itcer regional'!BY98","v":-0.28292361289113899},null,{"$f":"+'[1]itcer regional'!CA98","v":0.89939818398913007},{"$f":"+'[1]itcer regional'!CB98","v":1.2739321291099959},{"$f":"+'[1]itcer regional'!CC98","v":0.87293253470635923},{"$f":"+'[1]itcer regional'!CD98","v":1.0376324135757147},{"$f":"+'[1]itcer regional'!CE98","v":0.87762128775399306},{"$f":"+'[1]itcer regional'!CF98","v":1.0820288490948538},null,{"$f":"+'[1]itcer regional'!CH98","v":1.1049596043062904},{"$f":"+'[1]itcer regional'!CI98","v":0.81337206976152387},{"$f":"+'[1]itcer regional'!CJ98","v":0.9728454495791895},{"$f":"+'[1]itcer regional'!CK98","v":1.2103876524650794},{"$f":"+'[1]itcer regional'!CL98","v":1.1564552730320541},{"$f":"+'[1]itcer regional'!CM98","v":0.96678098735599294}]
[null,"Junio",{"$f":"+'[1]itcer regional'!AK99","v":100.36036801142946},{"$f":"+'[1]itcer regional'!AL99","v":104.05045690299519},{"$f":"+'[1]itcer regional'!AM99","v":84.5071065292274},{"$f":"+'[1]itcer regional'!AN99","v":124.84396257283056},{"$f":"+'[1]itcer regional'!AO99","v":101.08292367420553},{"$f":"+'[1]itcer regional'!AP99","v":104.62749542809435},null,{"$f":"+'[1]itcer regional'!BT99","v":0.98662022799717874},{"$f":"+'[1]itcer regional'!BU99","v":0.41727818036338249},{"$f":"+'[1]itcer regional'!BV99","v":-0.48954776714484183},{"$f":"+'[1]itcer regional'!BW99","v":-0.59699114748727311},{"$f":"+'[1]itcer regional'!BX99","v":-0.40402098192483038},{"$f":"+'[1]itcer regional'!BY99","v":1.8166326833195967E-2},null,{"$f":"+'[1]itcer regional'!CA99","v":0.90821671275475768},{"$f":"+'[1]itcer regional'!CB99","v":1.275691484082619},{"$f":"+'[1]itcer regional'!CC99","v":0.86202874900501247},{"$f":"+'[1]itcer regional'!CD99","v":1.0400675252701845},{"$f":"+'[1]itcer regional'!CE99","v":0.8872689816997632},{"$f":"+'[1]itcer regional'!CF99","v":1.0810378536497334},null,{"$f":"+'[1]itcer regional'!CH99","v":1.1050266594084288},{"$f":"+'[1]itcer regional'!CI99","v":0.8156396605392443},{"$f":"+'[1]itcer regional'!CJ99","v":0.98032816917961074},{"$f":"+'[1]itcer regional'!CK99","v":1.2003447808871748},{"$f":"+'[1]itcer regional'!CL99","v":1.1392590720410225},{"$f":"+'[1]itcer regional'!CM99","v":0.9678430322754884}]
[null,"Julio",{"$f":"+'[1]itcer regional'!AK100","v":101.05593594248981},{"$f":"+'[1]itcer regional'!AL100","v":103.60569518558658},{"$f":"+'[1]itcer regional'!AM100","v":85.193404196206444},{"$f":"+'[1]itcer regional'!AN100","v":123.64891180517428},{"$f":"+'[1]itcer regional'!AO100","v":100.52887324883697},{"$f":"+'[1]itcer regional'!AP100","v":102.89731757860746},null,{"$f":"+'[1]itcer regional'!BT100","v":0.69307032730404217},{"$f":"+'[1]itcer regional'!BU100","v":-0.42744811569953356},{"$f":"+'[1]itcer regional'!BV100","v":0.81211828823140308},{"$f":"+'[1]itcer regional'!BW100","v":-0.95723553068025069},{"$f":"+'[1]itcer regional'!BX100","v":-0.54811476086136679},{"$f":"+'[1]itcer regional'!BY100","v":-1.6536550381978259},null,{"$f":"+'[1]itcer regional'!CA100","v":0.91321136082041388},{"$f":"+'[1]itcer regional'!CB100","v":1.2691830430561295},{"$f":"+'[1]itcer regional'!CC100","v":0.86393297863367657},{"$f":"+'[1]itcer regional'!CD100","v":1.0367509959388763},{"$f":"+'[1]itcer regional'!CE100","v":0.89029749223024801},{"$f":"+'[1]itcer regional'!CF100","v":1.0750080264497865},null,{"$f":"+'[1]itcer regional'!CH100","v":1.1065996359452082},{"$f":"+'[1]itcer regional'!CI100","v":0.81631799095037727},{"$f":"+'[1]itcer regional'!CJ100","v":0.98611126445179953},{"$f":"+'[1]itcer regional'!CK100","v":1.1926577576440953},{"$f":"+'[1]itcer regional'!CL100","v":1.1291604674411269},{"$f":"+'[1]itcer regional'!CM100","v":0.95717720283843677}]
[null,"Agosto",{"$f":"+'[1]itcer regional'!AK101","v":100.08019038126847},{"$f":"+'[1]itcer regional'!AL101","v":103.94263165126033},{"$f":"+'[1]itcer regional'!AM101","v":85.896739600973234},{"$f":"+'[1]itcer regional'!AN101","v":121.30053555598357},{"$f":"+'[1]itcer regional'!AO101","v":102.02368056650772},{"$f":"+'[1]itcer regional'!AP101","v":101.99130372951795},null,{"$f":"+'[1]itcer regional'!BT101","v":-0.9655499720240357},{"$f":"+'[1]itcer regional'!BU101","v":0.32521037098413785},{"$f":"+'[1]itcer regional'!BV101","v":0.82557495078721388},{"$f":"+'[1]itcer regional'!BW101","v":-1.8992292086572462},{"$f":"+'[1]itcer regional'!BX101","v":1.4869432724772196},{"$f":"+'[1]itcer regional'!BY101","v":-0.88050288424415157},null,{"$f":"+'[1]itcer regional'!CA101","v":0.91190829381052485},{"$f":"+'[1]itcer regional'!CB101","v":1.2534301186084191},{"$f":"+'[1]itcer regional'!CC101","v":0.87868574436610836},{"$f":"+'[1]itcer regional'!CD101","v":1.0271510620918307},{"$f":"+'[1]itcer regional'!CE101","v":0.89309330925405228},{"$f":"+'[1]itcer regional'!CF101","v":1.063949110519137},null,{"$f":"+'[1]itcer regional'!CH101","v":1.0974808657904698},{"$f":"+'[1]itcer regional'!CI101","v":0.82926547007390661},{"$f":"+'[1]itcer regional'!CJ101","v":0.97755927135178344},{"$f":"+'[1]itcer regional'!CK101","v":1.1809415385206399},{"$f":"+'[1]itcer regional'!CL101","v":1.1423630600448906},{"$f":"+'[1]itcer regional'!CM101","v":0.95861073355052573}]
[null,"Septiembre",{"$f":"+'[1]itcer regional'!AK102","v":100.82811493114066},{"$f":"+'[1]itcer regional'!AL102","v":103.97344814879241},{"$f":"+'[1]itcer regional'!AM102","v":85.386600384879969},{"$f":"+'[1]itcer regional'!AN102","v":120.4830032685973},{"$f":"+'[1]itcer regional'!AO102","v":103.50824862735355},{"$f":"+'[1]itcer regional'!AP102","v":100.83676623437452},null,{"$f":"+'[1]itcer regional'!BT102","v":0.74732526689136591},{"$f":"+'[1]itcer regional'!BU102","v":2.9647601799680956E-2},{"$f":"+'[1]itcer regional'!BV102","v":-0.59389822997133024},{"$f":"+'[1]itcer regional'!BW102","v":-0.67397252917234596},{"$f":"+'[1]itcer regional'!BX102","v":1.4551210587605397},{"$f":"+'[1]itcer regional'!BY102","v":-1.1319960162537797},null,{"$f":"+'[1]itcer regional'!CA102","v":0.91507671044549033},{"$f":"+'[1]itcer regional'!CB102","v":1.24682213288226},{"$f":"+'[1]itcer regional'!CC102","v":0.88077662256895761},{"$f":"+'[1]itcer regional'!CD102","v":1.0238203569818132},{"$f":"+'[1]itcer regional'!CE102","v":0.8989856882322611},{"$f":"+'[1]itcer regional'!CF102","v":1.0583903206651151},null,{"$f":"+'[1]itcer regional'!CH102","v":1.1018542356088827},{"$f":"+'[1]itcer regional'!CI102","v":0.8339076232825493},{"$f":"+'[1]itcer regional'!CJ102","v":0.96944671551151307},{"$f":"+'[1]itcer regional'!CK102","v":1.1767982776175403},{"$f":"+'[1]itcer regional'!CL102","v":1.151389282190789},{"$f":"+'[1]itcer regional'!CM102","v":0.95273704100965839}]
[null,"Octubre",{"$f":"+'[1]itcer regional'!AK103","v":101.2509945108103},{"$f":"+'[1]itcer regional'!AL103","v":104.03561780507481},{"$f":"+'[1]itcer regional'!AM103","v":85.234809011324927},{"$f":"+'[1]itcer regional'!AN103","v":120.43954637714828},{"$f":"+'[1]itcer regional'!AO103","v":103.30664778830906},{"$f":"+'[1]itcer regional'!AP103","v":100.13786875713645},null,{"$f":"+'[1]itcer regional'!BT103","v":0.41940641254518596},{"$f":"+'[1]itcer regional'!BU103","v":5.9793781382950328E-2},{"$f":"+'[1]itcer regional'!BV103","v":-0.1777695479979684},{"$f":"+'[1]itcer regional'!BW103","v":-3.6068897910979558E-2},{"$f":"+'[1]itcer regional'!BX103","v":-0.19476789697242225},{"$f":"+'[1]itcer regional'!BY103","v":-0.69309786830493181},null,{"$f":"+'[1]itcer regional'!CA103","v":0.91870403108911092},{"$f":"+'[1]itcer regional'!CB103","v":1.2399981823465891},{"$f":"+'[1]itcer regional'!CC103","v":0.88470614376201062},{"$f":"+'[1]itcer regional'!CD103","v":1.0194380186205654},{"$f":"+'[1]itcer regional'!CE103","v":0.90117406351654128},{"$f":"+'[1]itcer regional'!CF103","v":1.052466625213802},null,{"$f":"+'[1]itcer regional'!CH103","v":1.1021067839528107},{"$f":"+'[1]itcer regional'!CI103","v":0.83899814762789737},{"$f":"+'[1]itcer regional'!CJ103","v":0.96342508314549913},{"$f":"+'[1]itcer regional'!CK103","v":1.1814307900750938},{"$f":"+'[1]itcer regional'!CL103","v":1.1463562032088246},{"$f":"+'[1]itcer regional'!CM103","v":0.95145885254835583}]
[null,"Noviembre",{"$f":"+'[1]itcer regional'!AK104","v":100.73323533047784},{"$f":"+'[1]itcer regional'!AL104","v":104.35512810324254},{"$f":"+'[1]itcer regional'!AM104","v":86.227235758592826},{"$f":"+'[1]itcer regional'!AN104","v":119.51868827131266},{"$f":"+'[1]itcer regional'!AO104","v":101.40108701937216},{"$f":"+'[1]itcer regional'!AP104","v":100.17144228153043},null,{"$f":"+'[1]itcer regional'!BT104","v":-0.5113620689199081},{"$f":"+'[1]itcer regional'!BU104","v":0.30711625970864986},{"$f":"+'[1]itcer regional'!BV104","v":1.1643444254518585},{"$f":"+'[1]itcer regional'!BW104","v":-0.76458118079590065},{"$f":"+'[1]itcer regional'!BX104","v":-1.8445674211031218},{"$f":"+'[1]itcer regional'!BY104","v":3.3527300721175379E-2},null,{"$f":"+'[1]itcer regional'!CA104","v":0.92109553525508314},{"$f":"+'[1]itcer regional'!CB104","v":1.2308766762514987},{"$f":"+'[1]itcer regional'!CC104","v":0.89159498951197191},{"$f":"+'[1]itcer regional'!CD104","v":1.0136933581073686},{"$f":"+'[1]itcer regional'!CE104","v":0.90357868945748931},{"$f":"+'[1]itcer regional'!CF104","v":1.045213137626583},null,{"$f":"+'[1]itcer regional'!CH104","v":1.09362418419042},{"$f":"+'[1]itcer regional'!CI104","v":0.84781140236603347},{"$f":"+'[1]itcer regional'!CJ104","v":0.96711216160816071},{"$f":"+'[1]itcer regional'!CK104","v":1.1790418405666763},{"$f":"+'[1]itcer regional'!CL104","v":1.1222164511234058},{"$f":"+'[1]itcer regional'!CM104","v":0.95838292378332202}]
[null,"Diciembre",{"$f":"+'[1]itcer regional'!AK105","v":100.89440723650426},{"$f":"+'[1]itcer regional'!AL105","v":104.77623944792821},{"$f":"+'[1]itcer regional'!AM105","v":85.523050932278039},{"$f":"+'[1]itcer regional'!AN105","v":119.69097712571016},{"$f":"+'[1]itcer regional'!AO105","v":102.09968567655014},{"$f":"+'[1]itcer regional'!AP105","v":100.32445822098207},null,{"$f":"+'[1]itcer regional'!BT105","v":0.15999873874561388},{"$f":"+'[1]itcer regional'!BU105","v":0.40353680009768311},{"$f":"+'[1]itcer regional'!BV105","v":-0.81666171960593203},{"$f":"+'[1]itcer regional'!BW105","v":0.14415222998967181},{"$f":"+'[1]itcer regional'!BX105","v":0.68894592524881659},{"$f":"+'[1]itcer regional'!BY105","v":0.15275405441560963},null,{"$f":"+'[1]itcer regional'!CA105","v":0.92763175058276315},{"$f":"+'[1]itcer regional'!CB105","v":1.2307630914321492},{"$f":"+'[1]itcer regional'!CC105","v":0.8849476982324157},{"$f":"+'[1]itcer regional'!CD105","v":1.0141785965082004},{"$f":"+'[1]itcer regional'!CE105","v":0.91103513659770685},{"$f":"+'[1]itcer regional'!CF105","v":1.0435207608694106},null,{"$f":"+'[1]itcer regional'!CH105","v":1.0876558200290114},{"$f":"+'[1]itcer regional'!CI105","v":0.8513111920345916},{"$f":"+'[1]itcer regional'!CJ105","v":0.96641927091398494},{"$f":"+'[1]itcer regional'!CK105","v":1.1801765245076574},{"$f":"+'[1]itcer regional'!CL105","v":1.1206997576168691},{"$f":"+'[1]itcer regional'!CM105","v":0.96140356745175448}]
[1998,"Enero",{"$f":"+'[1]itcer regional'!AK106","v":100.25040137918812},{"$f":"+'[1]itcer regional'!AL106","v":103.78118278677205},{"$f":"+'[1]itcer regional'!AM106","v":86.179412171958887},{"$f":"+'[1]itcer regional'!AN106","v":119.5175754809863},{"$f":"+'[1]itcer regional'!AO106","v":103.61280154326502},{"$f":"+'[1]itcer regional'!AP106","v":100.83178693856998},null,{"$f":"+'[1]itcer regional'!BT106","v":-0.63829688379708216},{"$f":"+'[1]itcer regional'!BU106","v":-0.94969686486092542},{"$f":"+'[1]itcer regional'!BV106","v":0.76746705423383332},{"$f":"+'[1]itcer regional'!BW106","v":-0.14487444992762732},{"$f":"+'[1]itcer regional'!BX106","v":1.4819985553220931},{"$f":"+'[1]itcer regional'!BY106","v":0.50568797139220578},null,{"$f":"+'[1]itcer regional'!CA106","v":0.92722690341440772},{"$f":"+'[1]itcer regional'!CB106","v":1.2204920854714223},{"$f":"+'[1]itcer regional'!CC106","v":0.89238876049525073},{"$f":"+'[1]itcer regional'!CD106","v":1.0087136997377963},{"$f":"+'[1]itcer regional'!CE106","v":0.91825151031676644},{"$f":"+'[1]itcer regional'!CF106","v":1.0362824545887914},null,{"$f":"+'[1]itcer regional'!CH106","v":1.0811852094673635},{"$f":"+'[1]itcer regional'!CI106","v":0.85032245618115554},{"$f":"+'[1]itcer regional'!CJ106","v":0.96571601959813724},{"$f":"+'[1]itcer regional'!CK106","v":1.1848513162065066},{"$f":"+'[1]itcer regional'!CL106","v":1.1283706084787382},{"$f":"+'[1]itcer regional'!CM106","v":0.97301451445090004}]
[null,"Febrero",{"$f":"+'[1]itcer regional'!AK107","v":101.02024274177053},{"$f":"+'[1]itcer regional'!AL107","v":104.77021894283868},{"$f":"+'[1]itcer regional'!AM107","v":85.702180820727378},{"$f":"+'[1]itcer regional'!AN107","v":117.8314830431186},{"$f":"+'[1]itcer regional'!AO107","v":103.50573925023922},{"$f":"+'[1]itcer regional'!AP107","v":101.67514985009437},null,{"$f":"+'[1]itcer regional'!BT107","v":0.76791848410718444},{"$f":"+'[1]itcer regional'!BU107","v":0.95300143003640869},{"$f":"+'[1]itcer regional'!BV107","v":-0.55376491809813899},{"$f":"+'[1]itcer regional'!BW107","v":-1.4107485288939188},{"$f":"+'[1]itcer regional'!BX107","v":-0.10332921360213732},{"$f":"+'[1]itcer regional'!BY107","v":0.8364057973486041},null,{"$f":"+'[1]itcer regional'!CA107","v":0.9349342563256885},{"$f":"+'[1]itcer regional'!CB107","v":1.2213731297384003},{"$f":"+'[1]itcer regional'!CC107","v":0.88365311136979741},{"$f":"+'[1]itcer regional'!CD107","v":1.013339770781863},{"$f":"+'[1]itcer regional'!CE107","v":0.92238272115565401},{"$f":"+'[1]itcer regional'!CF107","v":1.0352063838148506},null,{"$f":"+'[1]itcer regional'!CH107","v":1.0805063784782285},{"$f":"+'[1]itcer regional'!CI107","v":0.85780681097249045},{"$f":"+'[1]itcer regional'!CJ107","v":0.96986226515828033},{"$f":"+'[1]itcer regional'!CK107","v":1.1628033009323546},{"$f":"+'[1]itcer regional'!CL107","v":1.1221560950378255},{"$f":"+'[1]itcer regional'!CM107","v":0.98217274777045083}]
[null,"Marzo",{"$f":"+'[1]itcer regional'!AK108","v":100.96026186247768},{"$f":"+'[1]itcer regional'!AL108","v":104.49188369764337},{"$f":"+'[1]itcer regional'!AM108","v":86.378917190999729},{"$f":"+'[1]itcer regional'!AN108","v":116.42415665480176},{"$f":"+'[1]itcer regional'!AO108","v":103.90139255316447},{"$f":"+'[1]itcer regional'!AP108","v":102.00920547873605},null,{"$f":"+'[1]itcer regional'!BT108","v":-5.937510905232557E-2},{"$f":"+'[1]itcer regional'!BU108","v":-0.26566255945992623},{"$f":"+'[1]itcer regional'!BV108","v":0.78963728086213791},{"$f":"+'[1]itcer regional'!BW108","v":-1.1943551519264588},{"$f":"+'[1]itcer regional'!BX108","v":0.38225252608332028},{"$f":"+'[1]itcer regional'!BY108","v":0.32855189211345248},null,{"$f":"+'[1]itcer regional'!CA108","v":0.93650825912886104},{"$f":"+'[1]itcer regional'!CB108","v":1.2115318455583242},{"$f":"+'[1]itcer regional'!CC108","v":0.88849654136546641},{"$f":"+'[1]itcer regional'!CD108","v":1.0115562817878496},{"$f":"+'[1]itcer regional'!CE108","v":0.92811416403296187},{"$f":"+'[1]itcer regional'!CF108","v":1.027958835237311},null,{"$f":"+'[1]itcer regional'!CH108","v":1.0780498824045697},{"$f":"+'[1]itcer regional'!CI108","v":0.86247740066204515},{"$f":"+'[1]itcer regional'!CJ108","v":0.97219193513404323},{"$f":"+'[1]itcer regional'!CK108","v":1.1509409683960521},{"$f":"+'[1]itcer regional'!CL108","v":1.1194893535691632},{"$f":"+'[1]itcer regional'!CM108","v":0.99234718338878392}]
[null,"Abril",{"$f":"+'[1]itcer regional'!AK109","v":101.92760711746882},{"$f":"+'[1]itcer regional'!AL109","v":103.9931828071},{"$f":"+'[1]itcer regional'!AM109","v":86.785308169465281},{"$f":"+'[1]itcer regional'!AN109","v":115.30390812563203},{"$f":"+'[1]itcer regional'!AO109","v":103.64437412452516},{"$f":"+'[1]itcer regional'!AP109","v":102.70106009544651},null,{"$f":"+'[1]itcer regional'!BT109","v":0.95814455821124511},{"$f":"+'[1]itcer regional'!BU109","v":-0.47726280060794579},{"$f":"+'[1]itcer regional'!BV109","v":0.47047473119737049},{"$f":"+'[1]itcer regional'!BW109","v":-0.96221313630921657},{"$f":"+'[1]itcer regional'!BX109","v":-0.24736764572986658},{"$f":"+'[1]itcer regional'!BY109","v":0.67822763000999942},null,{"$f":"+'[1]itcer regional'!CA109","v":0.94099569330921129},{"$f":"+'[1]itcer regional'!CB109","v":1.2072615186929307},{"$f":"+'[1]itcer regional'!CC109","v":0.88769369959430999},{"$f":"+'[1]itcer regional'!CD109","v":1.0086452777818651},{"$f":"+'[1]itcer regional'!CE109","v":0.93571110030736038},{"$f":"+'[1]itcer regional'!CF109","v":1.0237738113170101},null,{"$f":"+'[1]itcer regional'!CH109","v":1.0831888800576626},{"$f":"+'[1]itcer regional'!CI109","v":0.86139731281827481},{"$f":"+'[1]itcer regional'!CJ109","v":0.97764925231673416},{"$f":"+'[1]itcer regional'!CK109","v":1.1431561785447457},{"$f":"+'[1]itcer regional'!CL109","v":1.1076535705356096},{"$f":"+'[1]itcer regional'!CM109","v":1.0031616257435723}]
[null,"Mayo",{"$f":"+'[1]itcer regional'!AK110","v":102.71755807662356},{"$f":"+'[1]itcer regional'!AL110","v":104.06421127125542},{"$f":"+'[1]itcer regional'!AM110","v":86.712801884456979},{"$f":"+'[1]itcer regional'!AN110","v":115.04979064041235},{"$f":"+'[1]itcer regional'!AO110","v":102.78570970184413},{"$f":"+'[1]itcer regional'!AP110","v":102.63785573736234},null,{"$f":"+'[1]itcer regional'!BT110","v":0.77501177698044899},{"$f":"+'[1]itcer regional'!BU110","v":6.8301077280395361E-2},{"$f":"+'[1]itcer regional'!BV110","v":-8.354672759439552E-2},{"$f":"+'[1]itcer regional'!BW110","v":-0.22038930800403023},{"$f":"+'[1]itcer regional'!BX110","v":-0.82847181039404916},{"$f":"+'[1]itcer regional'!BY110","v":-6.154206979502419E-2},null,{"$f":"+'[1]itcer regional'!CA110","v":0.94635106049258033},{"$f":"+'[1]itcer regional'!CB110","v":1.2039839650196813},{"$f":"+'[1]itcer regional'!CC110","v":0.88394687743652456},{"$f":"+'[1]itcer regional'!CD110","v":1.0116253590621318},{"$f":"+'[1]itcer regional'!CE110","v":0.94032807386318884},{"$f":"+'[1]itcer regional'!CF110","v":1.0203768576046854},null,{"$f":"+'[1]itcer regional'!CH110","v":1.0854064877695446},{"$f":"+'[1]itcer regional'!CI110","v":0.86433220287576085},{"$f":"+'[1]itcer regional'!CJ110","v":0.98097299846713626},{"$f":"+'[1]itcer regional'!CK110","v":1.1372766569145114},{"$f":"+'[1]itcer regional'!CL110","v":1.0930834945676497},{"$f":"+'[1]itcer regional'!CM110","v":1.0058818462259396}]
[null,"Junio",{"$f":"+'[1]itcer regional'!AK111","v":103.22547146518892},{"$f":"+'[1]itcer regional'!AL111","v":104.20820372702107},{"$f":"+'[1]itcer regional'!AM111","v":87.374991019623181},{"$f":"+'[1]itcer regional'!AN111","v":113.4694090083253},{"$f":"+'[1]itcer regional'!AO111","v":101.73222840842034},{"$f":"+'[1]itcer regional'!AP111","v":102.11106940859663},null,{"$f":"+'[1]itcer regional'!BT111","v":0.49447572360168124},{"$f":"+'[1]itcer regional'!BU111","v":0.13836885323649994},{"$f":"+'[1]itcer regional'!BV111","v":0.7636578691674174},{"$f":"+'[1]itcer regional'!BW111","v":-1.3736501590224748},{"$f":"+'[1]itcer regional'!BX111","v":-1.0249297265930011},{"$f":"+'[1]itcer regional'!BY111","v":-0.51324759756641924},null,{"$f":"+'[1]itcer regional'!CA111","v":0.95107699164558623},{"$f":"+'[1]itcer regional'!CB111","v":1.1972536532723255},{"$f":"+'[1]itcer regional'!CC111","v":0.88505482643325439},{"$f":"+'[1]itcer regional'!CD111","v":1.0115557457951576},{"$f":"+'[1]itcer regional'!CE111","v":0.94350324327171398},{"$f":"+'[1]itcer regional'!CF111","v":1.0145783208684045},null,{"$f":"+'[1]itcer regional'!CH111","v":1.0853534716110065},{"$f":"+'[1]itcer regional'!CI111","v":0.87039370013363426},{"$f":"+'[1]itcer regional'!CJ111","v":0.98722687465297376},{"$f":"+'[1]itcer regional'!CK111","v":1.1217316443507517},{"$f":"+'[1]itcer regional'!CL111","v":1.0782393079609487},{"$f":"+'[1]itcer regional'!CM111","v":1.0064385105449232}]
[null,"Julio",{"$f":"+'[1]itcer regional'!AK112","v":101.99906122110852},{"$f":"+'[1]itcer regional'!AL112","v":103.80750655871647},{"$f":"+'[1]itcer regional'!AM112","v":87.962011231092106},{"$f":"+'[1]itcer regional'!AN112","v":111.69988876916392},{"$f":"+'[1]itcer regional'!AO112","v":104.11860901211064},{"$f":"+'[1]itcer regional'!AP112","v":110.51921567832999},null,{"$f":"+'[1]itcer regional'!BT112","v":-1.1880887795159936},{"$f":"+'[1]itcer regional'!BU112","v":-0.38451595361364355},{"$f":"+'[1]itcer regional'!BV112","v":0.67184008217762425},{"$f":"+'[1]itcer regional'!BW112","v":-1.5594689834257878},{"$f":"+'[1]itcer regional'!BX112","v":2.3457469093371088},{"$f":"+'[1]itcer regional'!BY112","v":8.2343141820287968},null,{"$f":"+'[1]itcer regional'!CA112","v":0.95287388043175536},{"$f":"+'[1]itcer regional'!CB112","v":1.1890998985058505},{"$f":"+'[1]itcer regional'!CC112","v":0.88536214427783089},{"$f":"+'[1]itcer regional'!CD112","v":1.0106952511039153},{"$f":"+'[1]itcer regional'!CE112","v":0.94743546660647038},{"$f":"+'[1]itcer regional'!CF112","v":1.0948105155593248},null,{"$f":"+'[1]itcer regional'!CH112","v":1.0704361124359065},{"$f":"+'[1]itcer regional'!CI112","v":0.87299230862902732},{"$f":"+'[1]itcer regional'!CJ112","v":0.99351448217656357},{"$f":"+'[1]itcer regional'!CK112","v":1.1051787237266777},{"$f":"+'[1]itcer regional'!CL112","v":1.0989519886250749},{"$f":"+'[1]itcer regional'!CM112","v":1.0094825918060089}]
[null,"Agosto",{"$f":"+'[1]itcer regional'!AK113","v":100.00537494872324},{"$f":"+'[1]itcer regional'!AL113","v":104.64141541830406},{"$f":"+'[1]itcer regional'!AM113","v":88.167886967149698},{"$f":"+'[1]itcer regional'!AN113","v":111.16596931561965},{"$f":"+'[1]itcer regional'!AO113","v":105.36512604930694},{"$f":"+'[1]itcer regional'!AP113","v":110.91532896858254},null,{"$f":"+'[1]itcer regional'!BT113","v":-1.9546123743859312},{"$f":"+'[1]itcer regional'!BU113","v":0.80332230994866904},{"$f":"+'[1]itcer regional'!BV113","v":0.23405073755841954},{"$f":"+'[1]itcer regional'!BW113","v":-0.47799461523874243},{"$f":"+'[1]itcer regional'!BX113","v":1.1972086921093137},{"$f":"+'[1]itcer regional'!BY113","v":0.3584112390061307},null,{"$f":"+'[1]itcer regional'!CA113","v":0.95626373227120431},{"$f":"+'[1]itcer regional'!CB113","v":1.1799758225124175},{"$f":"+'[1]itcer regional'!CC113","v":0.88971881525074381},{"$f":"+'[1]itcer regional'!CD113","v":1.0090744199641331},{"$f":"+'[1]itcer regional'!CE113","v":0.94993753632534728},{"$f":"+'[1]itcer regional'!CF113","v":1.0948471627227385},null,{"$f":"+'[1]itcer regional'!CH113","v":1.0457928244460586},{"$f":"+'[1]itcer regional'!CI113","v":0.88680982628525729},{"$f":"+'[1]itcer regional'!CJ113","v":0.99096349830819197},{"$f":"+'[1]itcer regional'!CK113","v":1.1016627427694676},{"$f":"+'[1]itcer regional'!CL113","v":1.1091795199176135},{"$f":"+'[1]itcer regional'!CM113","v":1.0130667799581354}]
[null,"Septiembre",{"$f":"+'[1]itcer regional'!AK114","v":100.2956932701984},{"$f":"+'[1]itcer regional'!AL114","v":104.54954182037751},{"$f":"+'[1]itcer regional'!AM114","v":88.687288630732951},{"$f":"+'[1]itcer regional'!AN114","v":110.21795896341297},{"$f":"+'[1]itcer regional'!AO114","v":105.02928022541099},{"$f":"+'[1]itcer regional'!AP114","v":109.05926389855603},null,{"$f":"+'[1]itcer regional'!BT114","v":0.29030271785292427},{"$f":"+'[1]itcer regional'!BU114","v":-8.7798504597131455E-2},{"$f":"+'[1]itcer regional'!BV114","v":0.58910526434274857},{"$f":"+'[1]itcer regional'!BW114","v":-0.85278827508363975},{"$f":"+'[1]itcer regional'!BX114","v":-0.31874476545380048},{"$f":"+'[1]itcer regional'!BY114","v":-1.6734071721973294},null,{"$f":"+'[1]itcer regional'!CA114","v":0.95696283041443975},{"$f":"+'[1]itcer regional'!CB114","v":1.1672197994756146},{"$f":"+'[1]itcer regional'!CC114","v":0.89749754782748625},{"$f":"+'[1]itcer regional'!CD114","v":1.0086278758690843},{"$f":"+'[1]itcer regional'!CE114","v":0.95380753661504369},{"$f":"+'[1]itcer regional'!CF114","v":1.0871482394976022},null,{"$f":"+'[1]itcer regional'!CH114","v":1.0480625796799499},{"$f":"+'[1]itcer regional'!CI114","v":0.8957142593652665},{"$f":"+'[1]itcer regional'!CJ114","v":0.98816190468054732},{"$f":"+'[1]itcer regional'!CK114","v":1.0927514656328892},{"$f":"+'[1]itcer regional'!CL114","v":1.1011580029881936},{"$f":"+'[1]itcer regional'!CM114","v":1.0031682887050895}]
[null,"Octubre",{"$f":"+'[1]itcer regional'!AK115","v":100.93863357257823},{"$f":"+'[1]itcer regional'!AL115","v":103.95760584986208},{"$f":"+'[1]itcer regional'!AM115","v":89.856341272359344},{"$f":"+'[1]itcer regional'!AN115","v":109.6768182208867},{"$f":"+'[1]itcer regional'!AO115","v":102.90190087965925},{"$f":"+'[1]itcer regional'!AP115","v":106.64219022214611},null,{"$f":"+'[1]itcer regional'!BT115","v":0.64104477611788013},{"$f":"+'[1]itcer regional'!BU115","v":-0.56617748888122321},{"$f":"+'[1]itcer regional'!BV115","v":1.3181738439360373},{"$f":"+'[1]itcer regional'!BW115","v":-0.49097329293304881},{"$f":"+'[1]itcer regional'!BX115","v":-2.0255107348979351},{"$f":"+'[1]itcer regional'!BY115","v":-2.2162937746014961},null,{"$f":"+'[1]itcer regional'!CA115","v":0.95910936008962111},{"$f":"+'[1]itcer regional'!CB115","v":1.1561253278461996},{"$f":"+'[1]itcer regional'!CC115","v":0.90515712582824137},{"$f":"+'[1]itcer regional'!CD115","v":1.0064950245134507},{"$f":"+'[1]itcer regional'!CE115","v":0.95472291716577296},{"$f":"+'[1]itcer regional'!CF115","v":1.0836564794528905},null,{"$f":"+'[1]itcer regional'!CH115","v":1.0524204827189501},{"$f":"+'[1]itcer regional'!CI115","v":0.8991897620955126},{"$f":"+'[1]itcer regional'!CJ115","v":0.99271539391725538},{"$f":"+'[1]itcer regional'!CK115","v":1.0896906149526722},{"$f":"+'[1]itcer regional'!CL115","v":1.0778195330760239},{"$f":"+'[1]itcer regional'!CM115","v":0.98409590349136233}]
[null,"Noviembre",{"$f":"+'[1]itcer regional'!AK116","v":103.33672993034648},{"$f":"+'[1]itcer regional'!AL116","v":103.8387617515498},{"$f":"+'[1]itcer regional'!AM116","v":88.923402202443114},{"$f":"+'[1]itcer regional'!AN116","v":111.61886272128471},{"$f":"+'[1]itcer regional'!AO116","v":99.621829890789613},{"$f":"+'[1]itcer regional'!AP116","v":106.78637365340145},null,{"$f":"+'[1]itcer regional'!BT116","v":2.3757963357448659},{"$f":"+'[1]itcer regional'!BU116","v":-0.114319772315568},{"$f":"+'[1]itcer regional'!BV116","v":-1.0382562395773931},{"$f":"+'[1]itcer regional'!BW116","v":1.7706973377790547},{"$f":"+'[1]itcer regional'!BX116","v":-3.1875708425499312},{"$f":"+'[1]itcer regional'!BY116","v":0.13520299138174607},null,{"$f":"+'[1]itcer regional'!CA116","v":0.96520934516386492},{"$f":"+'[1]itcer regional'!CB116","v":1.151496006313613},{"$f":"+'[1]itcer regional'!CC116","v":0.90040395912167093},{"$f":"+'[1]itcer regional'!CD116","v":1.0117470436600355},{"$f":"+'[1]itcer regional'!CE116","v":0.96064770744387573},{"$f":"+'[1]itcer regional'!CF116","v":1.0824005929794482},null,{"$f":"+'[1]itcer regional'!CH116","v":1.0706146852815939},{"$f":"+'[1]itcer regional'!CI116","v":0.90177266080130036},{"$f":"+'[1]itcer regional'!CJ116","v":0.98759452689642113},{"$f":"+'[1]itcer regional'!CK116","v":1.103228948586783},{"$f":"+'[1]itcer regional'!CL116","v":1.0370277170167488},{"$f":"+'[1]itcer regional'!CM116","v":0.98656979999852057}]
[null,"Diciembre",{"$f":"+'[1]itcer regional'!AK117","v":102.96128882308727},{"$f":"+'[1]itcer regional'!AL117","v":102.92364135601352},{"$f":"+'[1]itcer regional'!AM117","v":90.659549467130532},{"$f":"+'[1]itcer regional'!AN117","v":110.64615006533332},{"$f":"+'[1]itcer regional'!AO117","v":98.837920856855177},{"$f":"+'[1]itcer regional'!AP117","v":104.52609160822631},null,{"$f":"+'[1]itcer regional'!BT117","v":-0.36331816142455864},{"$f":"+'[1]itcer regional'!BU117","v":-0.88128978052131401},{"$f":"+'[1]itcer regional'!BV117","v":1.952407602146053},{"$f":"+'[1]itcer regional'!BW117","v":-0.87145902783501583},{"$f":"+'[1]itcer regional'!BX117","v":-0.78688479703072289},{"$f":"+'[1]itcer regional'!BY117","v":-2.1166390128682337},null,{"$f":"+'[1]itcer regional'!CA117","v":0.96368332866027073},{"$f":"+'[1]itcer regional'!CB117","v":1.1333785828826186},{"$f":"+'[1]itcer regional'!CC117","v":0.9186735419161064},{"$f":"+'[1]itcer regional'!CD117","v":1.0066629260921638},{"$f":"+'[1]itcer regional'!CE117","v":0.95829052951171867},{"$f":"+'[1]itcer regional'!CF117","v":1.0678839890210703},null,{"$f":"+'[1]itcer regional'!CH117","v":1.0684141331595498},{"$f":"+'[1]itcer regional'!CI117","v":0.90811351926413697},{"$f":"+'[1]itcer regional'!CJ117","v":0.98685273201663171},{"$f":"+'[1]itcer regional'!CK117","v":1.0991380252261642},{"$f":"+'[1]itcer regional'!CL117","v":1.0313982848940024},{"$f":"+'[1]itcer regional'!CM117","v":0.97881504623030646}]
[1999,"Enero",{"$f":"+'[1]itcer regional'!AK118","v":100.47700755708134},{"$f":"+'[1]itcer regional'!AL118","v":101.06390970950984},{"$f":"+'[1]itcer regional'!AM118","v":94.30589162004307},{"$f":"+'[1]itcer regional'!AN118","v":108.16447835270957},{"$f":"+'[1]itcer regional'!AO118","v":100.10491968250375},{"$f":"+'[1]itcer regional'!AP118","v":104.25755189867014},null,{"$f":"+'[1]itcer regional'!BT118","v":-2.4128303893655954},{"$f":"+'[1]itcer regional'!BU118","v":-1.8069042466840557},{"$f":"+'[1]itcer regional'!BV118","v":4.0220166263175088},{"$f":"+'[1]itcer regional'!BW118","v":-2.2428902507302837},{"$f":"+'[1]itcer regional'!BX118","v":1.2818954654899528},{"$f":"+'[1]itcer regional'!BY118","v":-0.25691165279830841},null,{"$f":"+'[1]itcer regional'!CA118","v":0.95508592505694445},{"$f":"+'[1]itcer regional'!CB118","v":1.107714322134804},{"$f":"+'[1]itcer regional'!CC118","v":0.94885212317247081},{"$f":"+'[1]itcer regional'!CD118","v":0.9974352431516349},{"$f":"+'[1]itcer regional'!CE118","v":0.95894134361959682},{"$f":"+'[1]itcer regional'!CF118","v":1.0504707555187889},null,{"$f":"+'[1]itcer regional'!CH118","v":1.0520206080001719},{"$f":"+'[1]itcer regional'!CI118","v":0.91236438574467393},{"$f":"+'[1]itcer regional'!CJ118","v":0.9938945101870349},{"$f":"+'[1]itcer regional'!CK118","v":1.0844260727236592},{"$f":"+'[1]itcer regional'!CL118","v":1.0439107704403501},{"$f":"+'[1]itcer regional'!CM118","v":0.9924840967817441}]
[null,"Febrero",{"$f":"+'[1]itcer regional'!AK119","v":100.64996802745453},{"$f":"+'[1]itcer regional'!AL119","v":101.68764290088754},{"$f":"+'[1]itcer regional'!AM119","v":93.250181821132571},{"$f":"+'[1]itcer regional'!AN119","v":107.82191162028553},{"$f":"+'[1]itcer regional'!AO119","v":101.47682166673883},{"$f":"+'[1]itcer regional'!AP119","v":106.52517043283252},null,{"$f":"+'[1]itcer regional'!BT119","v":0.17213935265235136},{"$f":"+'[1]itcer regional'!BU119","v":0.61716709077504106},{"$f":"+'[1]itcer regional'!BV119","v":-1.1194526458261294},{"$f":"+'[1]itcer regional'!BW119","v":-0.31670908753146421},{"$f":"+'[1]itcer regional'!BX119","v":1.3704640976550024},{"$f":"+'[1]itcer regional'!BY119","v":2.1750160951087025},null,{"$f":"+'[1]itcer regional'!CA119","v":0.96558358499637253},{"$f":"+'[1]itcer regional'!CB119","v":1.1118830315359303},{"$f":"+'[1]itcer regional'!CC119","v":0.93172178312588405},{"$f":"+'[1]itcer regional'!CD119","v":1.0047675305341264},{"$f":"+'[1]itcer regional'!CE119","v":0.96710314247086426},{"$f":"+'[1]itcer regional'!CF119","v":1.0691786466366546},null,{"$f":"+'[1]itcer regional'!CH119","v":1.0423744727167523},{"$f":"+'[1]itcer regional'!CI119","v":0.91455341989002659},{"$f":"+'[1]itcer regional'!CJ119","v":1.0008371974333634},{"$f":"+'[1]itcer regional'!CK119","v":1.0731030645762236},{"$f":"+'[1]itcer regional'!CL119","v":1.0492864432998781},{"$f":"+'[1]itcer regional'!CM119","v":0.9963271410996819}]
[null,"Marzo",{"$f":"+'[1]itcer regional'!AK120","v":100.51155731286003},{"$f":"+'[1]itcer regional'!AL120","v":100.3880314301357},{"$f":"+'[1]itcer regional'!AM120","v":94.330871400695315},{"$f":"+'[1]itcer regional'!AN120","v":106.68901512176252},{"$f":"+'[1]itcer regional'!AO120","v":103.51197864878567},{"$f":"+'[1]itcer regional'!AP120","v":105.50022143983092},null,{"$f":"+'[1]itcer regional'!BT120","v":-0.13751689872046313},{"$f":"+'[1]itcer regional'!BU120","v":-1.2780426742888977},{"$f":"+'[1]itcer regional'!BV120","v":1.1589141795301288},{"$f":"+'[1]itcer regional'!BW120","v":-1.0507108263046945},{"$f":"+'[1]itcer regional'!BX120","v":2.0055387512337717},{"$f":"+'[1]itcer regional'!BY120","v":-0.96216602032836818},null,{"$f":"+'[1]itcer regional'!CA120","v":0.96650700858312},{"$f":"+'[1]itcer regional'!CB120","v":1.1002301956519549},{"$f":"+'[1]itcer regional'!CC120","v":0.9407118615008051},{"$f":"+'[1]itcer regional'!CD120","v":1.0018065048318836},{"$f":"+'[1]itcer regional'!CE120","v":0.9703678060541483},{"$f":"+'[1]itcer regional'!CF120","v":1.0684079761087095},null,{"$f":"+'[1]itcer regional'!CH120","v":1.0399464920612214},{"$f":"+'[1]itcer regional'!CI120","v":0.91242752495671642},{"$f":"+'[1]itcer regional'!CJ120","v":1.0027605185098925},{"$f":"+'[1]itcer regional'!CK120","v":1.0649662844789209},{"$f":"+'[1]itcer regional'!CL120","v":1.0667293164815643},{"$f":"+'[1]itcer regional'!CM120","v":0.9874525817757126}]
[null,"Abril",{"$f":"+'[1]itcer regional'!AK121","v":100.66001311959178},{"$f":"+'[1]itcer regional'!AL121","v":100.19847778988219},{"$f":"+'[1]itcer regional'!AM121","v":94.968890925763148},{"$f":"+'[1]itcer regional'!AN121","v":106.03108886163587},{"$f":"+'[1]itcer regional'!AO121","v":102.9920526960461},{"$f":"+'[1]itcer regional'!AP121","v":104.39688782532451},null,{"$f":"+'[1]itcer regional'!BT121","v":0.1477002353765613},{"$f":"+'[1]itcer regional'!BU121","v":-0.18882095559909828},{"$f":"+'[1]itcer regional'!BV121","v":0.67636343817673605},{"$f":"+'[1]itcer regional'!BW121","v":-0.61667666476795091},{"$f":"+'[1]itcer regional'!BX121","v":-0.50228578327505602},{"$f":"+'[1]itcer regional'!BY121","v":-1.0458116575003231},null,{"$f":"+'[1]itcer regional'!CA121","v":0.968207968206382},{"$f":"+'[1]itcer regional'!CB121","v":1.0891867106741031},{"$f":"+'[1]itcer regional'!CC121","v":0.95033884841713689},{"$f":"+'[1]itcer regional'!CD121","v":0.99997358727264762},{"$f":"+'[1]itcer regional'!CE121","v":0.96931825349031231},{"$f":"+'[1]itcer regional'!CF121","v":1.0591113972243562},null,{"$f":"+'[1]itcer regional'!CH121","v":1.0396528062670853},{"$f":"+'[1]itcer regional'!CI121","v":0.91993848995705108},{"$f":"+'[1]itcer regional'!CJ121","v":0.9993160974524109},{"$f":"+'[1]itcer regional'!CK121","v":1.0603388950584949},{"$f":"+'[1]itcer regional'!CL121","v":1.0625205119700705},{"$f":"+'[1]itcer regional'!CM121","v":0.98570261918548352}]
[null,"Mayo",{"$f":"+'[1]itcer regional'!AK122","v":100.08109198001644},{"$f":"+'[1]itcer regional'!AL122","v":99.968464710144332},{"$f":"+'[1]itcer regional'!AM122","v":96.687884276031255},{"$f":"+'[1]itcer regional'!AN122","v":104.63310593647317},{"$f":"+'[1]itcer regional'!AO122","v":101.75562962488003},{"$f":"+'[1]itcer regional'!AP122","v":103.61000705491325},null,{"$f":"+'[1]itcer regional'!BT122","v":-0.57512523755340794},{"$f":"+'[1]itcer regional'!BU122","v":-0.22955745916640069},{"$f":"+'[1]itcer regional'!BV122","v":1.810059413678772},{"$f":"+'[1]itcer regional'!BW122","v":-1.3184651220426247},{"$f":"+'[1]itcer regional'!BX122","v":-1.2005033774936464},{"$f":"+'[1]itcer regional'!BY122","v":-0.75373968209460429},null,{"$f":"+'[1]itcer regional'!CA122","v":0.96525412368631569},{"$f":"+'[1]itcer regional'!CB122","v":1.0705457519319994},{"$f":"+'[1]itcer regional'!CC122","v":0.97322120386631006},{"$f":"+'[1]itcer regional'!CD122","v":0.99216257771933081},{"$f":"+'[1]itcer regional'!CE122","v":0.96707225790358853},{"$f":"+'[1]itcer regional'!CF122","v":1.0445803711811421},null,{"$f":"+'[1]itcer regional'!CH122","v":1.0368367202390774},{"$f":"+'[1]itcer regional'!CI122","v":0.9338084292962967},{"$f":"+'[1]itcer regional'!CJ122","v":0.99348312482218726},{"$f":"+'[1]itcer regional'!CK122","v":1.0545963765030495},{"$f":"+'[1]itcer regional'!CL122","v":1.052202964083212},{"$f":"+'[1]itcer regional'!CM122","v":0.99188161977194667}]
[null,"Junio",{"$f":"+'[1]itcer regional'!AK123","v":99.387514504938892},{"$f":"+'[1]itcer regional'!AL123","v":99.891850086193855},{"$f":"+'[1]itcer regional'!AM123","v":97.444533966562005},{"$f":"+'[1]itcer regional'!AN123","v":103.76662618237116},{"$f":"+'[1]itcer regional'!AO123","v":102.16310756050544},{"$f":"+'[1]itcer regional'!AP123","v":103.96741868475138},null,{"$f":"+'[1]itcer regional'!BT123","v":-0.69301549509074789},{"$f":"+'[1]itcer regional'!BU123","v":-7.6638792215746321E-2},{"$f":"+'[1]itcer regional'!BV123","v":0.78256929107128315},{"$f":"+'[1]itcer regional'!BW123","v":-0.82811242803792595},{"$f":"+'[1]itcer regional'!BX123","v":0.40044755963633349},{"$f":"+'[1]itcer regional'!BY123","v":0.3449586000401581},null,{"$f":"+'[1]itcer regional'!CA123","v":0.96664317018421619},{"$f":"+'[1]itcer regional'!CB123","v":1.0597420013815138},{"$f":"+'[1]itcer regional'!CC123","v":0.9810678728955291},{"$f":"+'[1]itcer regional'!CD123","v":0.99105601376209984},{"$f":"+'[1]itcer regional'!CE123","v":0.97131349907100772},{"$f":"+'[1]itcer regional'!CF123","v":1.0336579182177217},null,{"$f":"+'[1]itcer regional'!CH123","v":1.0281716932422778},{"$f":"+'[1]itcer regional'!CI123","v":0.94260536957081653},{"$f":"+'[1]itcer regional'!CJ123","v":0.99324966863876274},{"$f":"+'[1]itcer regional'!CK123","v":1.0470308917098208},{"$f":"+'[1]itcer regional'!CL123","v":1.0518036417512697},{"$f":"+'[1]itcer regional'!CM123","v":1.0058203671870145}]
[null,"Julio",{"$f":"+'[1]itcer regional'!AK124","v":100.39249255396281},{"$f":"+'[1]itcer regional'!AL124","v":99.727317840784309},{"$f":"+'[1]itcer regional'!AM124","v":96.787224399519886},{"$f":"+'[1]itcer regional'!AN124","v":103.77680794169225},{"$f":"+'[1]itcer regional'!AO124","v":102.69483292424377},{"$f":"+'[1]itcer regional'!AP124","v":104.44247540263352},null,{"$f":"+'[1]itcer regional'!BT124","v":1.0111713267303628},{"$f":"+'[1]itcer regional'!BU124","v":-0.16471037954305245},{"$f":"+'[1]itcer regional'!BV124","v":-0.67454739664276531},{"$f":"+'[1]itcer regional'!BW124","v":9.8121715003145482E-3},{"$f":"+'[1]itcer regional'!BX124","v":0.52046710053667766},{"$f":"+'[1]itcer regional'!BY124","v":0.45692845305951835},null,{"$f":"+'[1]itcer regional'!CA124","v":0.97044807787739251},{"$f":"+'[1]itcer regional'!CB124","v":1.0541654892631065},{"$f":"+'[1]itcer regional'!CC124","v":0.98126501421494083},{"$f":"+'[1]itcer regional'!CD124","v":0.99099008390003229},{"$f":"+'[1]itcer regional'!CE124","v":0.9780395008396966},{"$f":"+'[1]itcer regional'!CF124","v":1.0283443039147957},null,{"$f":"+'[1]itcer regional'!CH124","v":1.0344962790131518},{"$f":"+'[1]itcer regional'!CI124","v":0.94603094918708364},{"$f":"+'[1]itcer regional'!CJ124","v":0.9863515258103267},{"$f":"+'[1]itcer regional'!CK124","v":1.0472032932285211},{"$f":"+'[1]itcer regional'!CL124","v":1.0500070072433172},{"$f":"+'[1]itcer regional'!CM124","v":1.0156372238853495}]
[null,"Agosto",{"$f":"+'[1]itcer regional'!AK125","v":99.762529191328838},{"$f":"+'[1]itcer regional'!AL125","v":98.491824091301041},{"$f":"+'[1]itcer regional'!AM125","v":99.694476199986127},{"$f":"+'[1]itcer regional'!AN125","v":102.27236879239493},{"$f":"+'[1]itcer regional'!AO125","v":101.22243648956},{"$f":"+'[1]itcer regional'!AP125","v":103.13541877180978},null,{"$f":"+'[1]itcer regional'!BT125","v":-0.62750047001308928},{"$f":"+'[1]itcer regional'!BU125","v":-1.2388719322179611},{"$f":"+'[1]itcer regional'!BV125","v":3.0037557317127153},{"$f":"+'[1]itcer regional'!BW125","v":-1.4496872462512016},{"$f":"+'[1]itcer regional'!BX125","v":-1.4337590244388707},{"$f":"+'[1]itcer regional'!BY125","v":-1.2514607929244619},null,{"$f":"+'[1]itcer regional'!CA125","v":0.96210733019493277},{"$f":"+'[1]itcer regional'!CB125","v":1.0314234541972409},{"$f":"+'[1]itcer regional'!CC125","v":1.0154365989969196},{"$f":"+'[1]itcer regional'!CD125","v":0.97928829816729979},{"$f":"+'[1]itcer regional'!CE125","v":0.97450040282025419},{"$f":"+'[1]itcer regional'!CF125","v":1.0115548385617879},null,{"$f":"+'[1]itcer regional'!CH125","v":1.0369168393209929},{"$f":"+'[1]itcer regional'!CI125","v":0.95491161937904012},{"$f":"+'[1]itcer regional'!CJ125","v":0.98178927466734478},{"$f":"+'[1]itcer regional'!CK125","v":1.0443540373533893},{"$f":"+'[1]itcer regional'!CL125","v":1.0387110789961407},{"$f":"+'[1]itcer regional'!CM125","v":1.0195731841730504}]
[null,"Septiembre",{"$f":"+'[1]itcer regional'!AK126","v":99.69224092172513},{"$f":"+'[1]itcer regional'!AL126","v":97.891384945428399},{"$f":"+'[1]itcer regional'!AM126","v":100.8420551355667},{"$f":"+'[1]itcer regional'!AN126","v":101.91562855447751},{"$f":"+'[1]itcer regional'!AO126","v":100.40992429039177},{"$f":"+'[1]itcer regional'!AP126","v":102.46387655169052},null,{"$f":"+'[1]itcer regional'!BT126","v":-7.0455581041755977E-2},{"$f":"+'[1]itcer regional'!BU126","v":-0.60963349132009625},{"$f":"+'[1]itcer regional'!BV126","v":1.1510958072326218},{"$f":"+'[1]itcer regional'!BW126","v":-0.34881389971673116},{"$f":"+'[1]itcer regional'!BX126","v":-0.80269970507184496},{"$f":"+'[1]itcer regional'!BY126","v":-0.65112667221050913},null,{"$f":"+'[1]itcer regional'!CA126","v":0.96121505439852073},{"$f":"+'[1]itcer regional'!CB126","v":1.0207521564311934},{"$f":"+'[1]itcer regional'!CC126","v":1.0270439785791441},{"$f":"+'[1]itcer regional'!CD126","v":0.97804443969463351},{"$f":"+'[1]itcer regional'!CE126","v":0.97443238481379812},{"$f":"+'[1]itcer regional'!CF126","v":1.003166090557682},null,{"$f":"+'[1]itcer regional'!CH126","v":1.0371481435453322},{"$f":"+'[1]itcer regional'!CI126","v":0.95901227666940536},{"$f":"+'[1]itcer regional'!CJ126","v":0.98186696226071901},{"$f":"+'[1]itcer regional'!CK126","v":1.0420347421667029},{"$f":"+'[1]itcer regional'!CL126","v":1.0304452710649479},{"$f":"+'[1]itcer regional'!CM126","v":1.0214049050913254}]
[null,"Octubre",{"$f":"+'[1]itcer regional'!AK127","v":99.68260023970565},{"$f":"+'[1]itcer regional'!AL127","v":97.99290498498776},{"$f":"+'[1]itcer regional'!AM127","v":101.14312894454623},{"$f":"+'[1]itcer regional'!AN127","v":101.91887911947151},{"$f":"+'[1]itcer regional'!AO127","v":99.717163388743884},{"$f":"+'[1]itcer regional'!AP127","v":99.882924396983498},null,{"$f":"+'[1]itcer regional'!BT127","v":-9.6704436878383149E-3},{"$f":"+'[1]itcer regional'!BU127","v":0.10370681711773955},{"$f":"+'[1]itcer regional'!BV127","v":0.29855977109430398},{"$f":"+'[1]itcer regional'!BW127","v":3.1894666599328048E-3},{"$f":"+'[1]itcer regional'!BX127","v":-0.68993269992354556},{"$f":"+'[1]itcer regional'!BY127","v":-2.5188898190915125},null,{"$f":"+'[1]itcer regional'!CA127","v":0.96494335715178781},{"$f":"+'[1]itcer regional'!CB127","v":1.0171035786757199},{"$f":"+'[1]itcer regional'!CC127","v":1.0274415672184494},{"$f":"+'[1]itcer regional'!CD127","v":0.97840858124519303},{"$f":"+'[1]itcer regional'!CE127","v":0.97564341612450556},{"$f":"+'[1]itcer regional'!CF127","v":1.0018981175980863},null,{"$f":"+'[1]itcer regional'!CH127","v":1.0330409500298301},{"$f":"+'[1]itcer regional'!CI127","v":0.9634505967678888},{"$f":"+'[1]itcer regional'!CJ127","v":0.98441733497669259},{"$f":"+'[1]itcer regional'!CK127","v":1.041680143378978},{"$f":"+'[1]itcer regional'!CL127","v":1.0220656619079627},{"$f":"+'[1]itcer regional'!CM127","v":0.99693694041904335}]
[null,"Noviembre",{"$f":"+'[1]itcer regional'!AK128","v":99.7797982882052},{"$f":"+'[1]itcer regional'!AL128","v":99.070675441143806},{"$f":"+'[1]itcer regional'!AM128","v":100.32133030873743},{"$f":"+'[1]itcer regional'!AN128","v":101.5043656152977},{"$f":"+'[1]itcer regional'!AO128","v":99.729431416489334},{"$f":"+'[1]itcer regional'!AP128","v":99.108089348056239},null,{"$f":"+'[1]itcer regional'!BT128","v":9.7507537188846527E-2},{"$f":"+'[1]itcer regional'!BU128","v":1.0998453983185357},{"$f":"+'[1]itcer regional'!BV128","v":-0.81251059205354181},{"$f":"+'[1]itcer regional'!BW128","v":-0.40670924538711972},{"$f":"+'[1]itcer regional'!BX128","v":1.2302824637728804E-2},{"$f":"+'[1]itcer regional'!BY128","v":-0.77574325502092734},null,{"$f":"+'[1]itcer regional'!CA128","v":0.97061769090454186},{"$f":"+'[1]itcer regional'!CB128","v":1.0170348714155835},{"$f":"+'[1]itcer regional'!CC128","v":1.0191656969632528},{"$f":"+'[1]itcer regional'!CD128","v":0.98202534038256439},{"$f":"+'[1]itcer regional'!CE128","v":0.98209949578372491},{"$f":"+'[1]itcer regional'!CF128","v":1.0032644377183635},null,{"$f":"+'[1]itcer regional'!CH128","v":1.0280030873455235},{"$f":"+'[1]itcer regional'!CI128","v":0.97411286697819888},{"$f":"+'[1]itcer regional'!CJ128","v":0.98434759536804373},{"$f":"+'[1]itcer regional'!CK128","v":1.0336226718523882},{"$f":"+'[1]itcer regional'!CL128","v":1.0154717708810579},{"$f":"+'[1]itcer regional'!CM128","v":0.98785609877141733}]
[null,"Diciembre",{"$f":"+'[1]itcer regional'!AK129","v":99.819362159109346},{"$f":"+'[1]itcer regional'!AL129","v":100.51776551710375},{"$f":"+'[1]itcer regional'!AM129","v":99.020826546307191},{"$f":"+'[1]itcer regional'!AN129","v":101.33768133394273},{"$f":"+'[1]itcer regional'!AO129","v":99.737692881027328},{"$f":"+'[1]itcer regional'!AP129","v":99.529090279729687},null,{"$f":"+'[1]itcer regional'!BT129","v":3.9651183488942365E-2},{"$f":"+'[1]itcer regional'!BU129","v":1.4606643888479738},{"$f":"+'[1]itcer regional'!BV129","v":-1.2963382347781476},{"$f":"+'[1]itcer regional'!BW129","v":-0.16421390384991241},{"$f":"+'[1]itcer regional'!BX129","v":8.2838781096512548E-3},{"$f":"+'[1]itcer regional'!BY129","v":0.42478967604242257},null,{"$f":"+'[1]itcer regional'!CA129","v":0.98085798086587883},{"$f":"+'[1]itcer regional'!CB129","v":1.0216213118989721},{"$f":"+'[1]itcer regional'!CC129","v":1.0046072917311146},{"$f":"+'[1]itcer regional'!CD129","v":0.98884499178297158},{"$f":"+'[1]itcer regional'!CE129","v":0.98216263846202367},{"$f":"+'[1]itcer regional'!CF129","v":1.0042560962665077},null,{"$f":"+'[1]itcer regional'!CH129","v":1.0176739559277594},{"$f":"+'[1]itcer regional'!CI129","v":0.98390435229138917},{"$f":"+'[1]itcer regional'!CJ129","v":0.98566700999827428},{"$f":"+'[1]itcer regional'!CK129","v":1.0248085612611768},{"$f":"+'[1]itcer regional'!CL129","v":1.015490601813233},{"$f":"+'[1]itcer regional'!CM129","v":0.99107280154679633}]
[2000,"Enero",{"$f":"+'[1]itcer regional'!AK130","v":97.925741018569326},{"$f":"+'[1]itcer regional'!AL130","v":98.861258090620595},{"$f":"+'[1]itcer regional'!AM130","v":101.84177117272479},{"$f":"+'[1]itcer regional'!AN130","v":100.76272882457701},{"$f":"+'[1]itcer regional'!AO130","v":100.28836512955542},{"$f":"+'[1]itcer regional'!AP130","v":99.323676122815826},null,{"$f":"+'[1]itcer regional'!BT130","v":-1.8970479269559348},{"$f":"+'[1]itcer regional'!BU130","v":-1.6479747813348382},{"$f":"+'[1]itcer regional'!BV130","v":2.8488397085822896},{"$f":"+'[1]itcer regional'!BW130","v":-0.56736300041349352},{"$f":"+'[1]itcer regional'!BX130","v":0.55212049990464607},{"$f":"+'[1]itcer regional'!BY130","v":-0.20638604887930967},null,{"$f":"+'[1]itcer regional'!CA130","v":0.97351394135526048},{"$f":"+'[1]itcer regional'!CB130","v":1.0044542026469991},{"$f":"+'[1]itcer regional'!CC130","v":1.02866021456177},{"$f":"+'[1]itcer regional'!CD130","v":0.98058229048945367},{"$f":"+'[1]itcer regional'!CE130","v":0.98649417963732655},{"$f":"+'[1]itcer regional'!CF130","v":0.9955278653733266},null,{"$f":"+'[1]itcer regional'!CH130","v":1.0058997294095628},{"$f":"+'[1]itcer regional'!CI130","v":0.98422862714990222},{"$f":"+'[1]itcer regional'!CJ130","v":0.99004287062965102},{"$f":"+'[1]itcer regional'!CK130","v":1.0275805488418694},{"$f":"+'[1]itcer regional'!CL130","v":1.0166138554048569},{"$f":"+'[1]itcer regional'!CM130","v":0.99769860370075192}]
[null,"Febrero",{"$f":"+'[1]itcer regional'!AK131","v":98.387541275888381},{"$f":"+'[1]itcer regional'!AL131","v":99.910556725889847},{"$f":"+'[1]itcer regional'!AM131","v":100.66472457212912},{"$f":"+'[1]itcer regional'!AN131","v":100.92663766904089},{"$f":"+'[1]itcer regional'!AO131","v":99.577145456934545},{"$f":"+'[1]itcer regional'!AP131","v":100.96095988882313},null,{"$f":"+'[1]itcer regional'!BT131","v":0.47158209120058814},{"$f":"+'[1]itcer regional'!BU131","v":1.0613850719029045},{"$f":"+'[1]itcer regional'!BV131","v":-1.1557601434478073},{"$f":"+'[1]itcer regional'!BW131","v":0.16266812776501638},{"$f":"+'[1]itcer regional'!BX131","v":-0.70917466019324138},{"$f":"+'[1]itcer regional'!BY131","v":1.6484325086626512},null,{"$f":"+'[1]itcer regional'!CA131","v":0.98138431906004109},{"$f":"+'[1]itcer regional'!CB131","v":1.0081598034064432},{"$f":"+'[1]itcer regional'!CC131","v":1.013914133676562},{"$f":"+'[1]itcer regional'!CD131","v":0.98841885558609588},{"$f":"+'[1]itcer regional'!CE131","v":0.99032018771370167},{"$f":"+'[1]itcer regional'!CF131","v":1.0015016546920203},null,{"$f":"+'[1]itcer regional'!CH131","v":1.0025383467520947},{"$f":"+'[1]itcer regional'!CI131","v":0.99101904666606278},{"$f":"+'[1]itcer regional'!CJ131","v":0.99283283691004431},{"$f":"+'[1]itcer regional'!CK131","v":1.0210917881488117},{"$f":"+'[1]itcer regional'!CL131","v":1.0055045498650583},{"$f":"+'[1]itcer regional'!CM131","v":1.0080957871194973}]
[null,"Marzo",{"$f":"+'[1]itcer regional'!AK132","v":99.183487220502428},{"$f":"+'[1]itcer regional'!AL132","v":101.02347976739271},{"$f":"+'[1]itcer regional'!AM132","v":99.021284814454006},{"$f":"+'[1]itcer regional'!AN132","v":101.04604828680837},{"$f":"+'[1]itcer regional'!AO132","v":99.64279273061851},{"$f":"+'[1]itcer regional'!AP132","v":101.82609771527817},null,{"$f":"+'[1]itcer regional'!BT132","v":0.80899058386074785},{"$f":"+'[1]itcer regional'!BU132","v":1.113919367456063},{"$f":"+'[1]itcer regional'!BV132","v":-1.6325875470880931},{"$f":"+'[1]itcer regional'!BW132","v":0.11831427314467646},{"$f":"+'[1]itcer regional'!BX132","v":6.592604496013621E-2},{"$f":"+'[1]itcer regional'!BY132","v":0.85690332917567957},null,{"$f":"+'[1]itcer regional'!CA132","v":0.98847834568159065},{"$f":"+'[1]itcer regional'!CB132","v":1.0104664735231026},{"$f":"+'[1]itcer regional'!CC132","v":1.0032414318668237},{"$f":"+'[1]itcer regional'!CD132","v":0.9929281679925841},{"$f":"+'[1]itcer regional'!CE132","v":0.99444935155196701},{"$f":"+'[1]itcer regional'!CF132","v":1.001983193454735},null,{"$f":"+'[1]itcer regional'!CH132","v":1.0033956500292571},{"$f":"+'[1]itcer regional'!CI132","v":0.99977072386343746},{"$f":"+'[1]itcer regional'!CJ132","v":0.98701351109668589},{"$f":"+'[1]itcer regional'!CK132","v":1.0176571835110135},{"$f":"+'[1]itcer regional'!CL132","v":1.0019896194322317},{"$f":"+'[1]itcer regional'!CM132","v":1.0162455655986831}]
[null,"Abril",{"$f":"+'[1]itcer regional'!AK133","v":100.63772895021373},{"$f":"+'[1]itcer regional'!AL133","v":101.59902999854575},{"$f":"+'[1]itcer regional'!AM133","v":97.995485567430421},{"$f":"+'[1]itcer regional'!AN133","v":100.42015039448081},{"$f":"+'[1]itcer regional'!AO133","v":99.587291532852348},{"$f":"+'[1]itcer regional'!AP133","v":101.9342338480198},null,{"$f":"+'[1]itcer regional'!BT133","v":1.4662135507277156},{"$f":"+'[1]itcer regional'!BU133","v":0.5697192696967619},{"$f":"+'[1]itcer regional'!BV133","v":-1.0359381308228137},{"$f":"+'[1]itcer regional'!BW133","v":-0.61941847597147159},{"$f":"+'[1]itcer regional'!BX133","v":-5.5700162796739505E-2},{"$f":"+'[1]itcer regional'!BY133","v":0.10619687405089451},null,{"$f":"+'[1]itcer regional'!CA133","v":0.9926526354229952},{"$f":"+'[1]itcer regional'!CB133","v":1.0091233621322127},{"$f":"+'[1]itcer regional'!CC133","v":0.99945201832116592},{"$f":"+'[1]itcer regional'!CD133","v":0.99567097020259276},{"$f":"+'[1]itcer regional'!CE133","v":0.99720281666470467},{"$f":"+'[1]itcer regional'!CF133","v":1.0000984603218368},null,{"$f":"+'[1]itcer regional'!CH133","v":1.0138262405088905},{"$f":"+'[1]itcer regional'!CI133","v":1.0068048546995634},{"$f":"+'[1]itcer regional'!CJ133","v":0.98049214740732393},{"$f":"+'[1]itcer regional'!CK133","v":1.0085676232385079},{"$f":"+'[1]itcer regional'!CL133","v":0.99866636825131594},{"$f":"+'[1]itcer regional'!CM133","v":1.0192419835864646}]
[null,"Mayo",{"$f":"+'[1]itcer regional'!AK134","v":101.29076997074534},{"$f":"+'[1]itcer regional'!AL134","v":100.72237706072694},{"$f":"+'[1]itcer regional'!AM134","v":98.945535489068391},{"$f":"+'[1]itcer regional'!AN134","v":99.806105199795823},{"$f":"+'[1]itcer regional'!AO134","v":99.095179504563205},{"$f":"+'[1]itcer regional'!AP134","v":101.55660356310125},null,{"$f":"+'[1]itcer regional'!BT134","v":0.64890277964705945},{"$f":"+'[1]itcer regional'!BU134","v":-0.86285561764847785},{"$f":"+'[1]itcer regional'!BV134","v":0.96948335541868857},{"$f":"+'[1]itcer regional'!BW134","v":-0.61147607554144656},{"$f":"+'[1]itcer regional'!BX134","v":-0.49415143309404641},{"$f":"+'[1]itcer regional'!BY134","v":-0.3704646325998624},null,{"$f":"+'[1]itcer regional'!CA134","v":0.9964819187831212},{"$f":"+'[1]itcer regional'!CB134","v":1.0077109355784122},{"$f":"+'[1]itcer regional'!CC134","v":0.9956362848405631},{"$f":"+'[1]itcer regional'!CD134","v":0.99915591243115709},{"$f":"+'[1]itcer regional'!CE134","v":0.99973899189436366},{"$f":"+'[1]itcer regional'!CF134","v":0.99828413431600849},null,{"$f":"+'[1]itcer regional'!CH134","v":1.0164837721735995},{"$f":"+'[1]itcer regional'!CI134","v":0.99951656278210066},{"$f":"+'[1]itcer regional'!CJ134","v":0.99379198001922053},{"$f":"+'[1]itcer regional'!CK134","v":0.99890421462799039},{"$f":"+'[1]itcer regional'!CL134","v":0.99121050902287899},{"$f":"+'[1]itcer regional'!CM134","v":1.0173116057051685}]
[null,"Junio",{"$f":"+'[1]itcer regional'!AK135","v":101.09443665645701},{"$f":"+'[1]itcer regional'!AL135","v":100.01780281892648},{"$f":"+'[1]itcer regional'!AM135","v":99.704518899590369},{"$f":"+'[1]itcer regional'!AN135","v":99.78896206229949},{"$f":"+'[1]itcer regional'!AO135","v":99.183001793713245},{"$f":"+'[1]itcer regional'!AP135","v":101.15590368263672},null,{"$f":"+'[1]itcer regional'!BT135","v":-0.1938313968242511},{"$f":"+'[1]itcer regional'!BU135","v":-0.69952106211280807},{"$f":"+'[1]itcer regional'!BV135","v":0.76707191160316768},{"$f":"+'[1]itcer regional'!BW135","v":-1.7176441723705693E-2},{"$f":"+'[1]itcer regional'!BX135","v":8.8624178884487037E-2},{"$f":"+'[1]itcer regional'!BY135","v":-0.39455817387154468},null,{"$f":"+'[1]itcer regional'!CA135","v":1.0003725588480594},{"$f":"+'[1]itcer regional'!CB135","v":1.0042999435969948},{"$f":"+'[1]itcer regional'!CC135","v":0.99745560716326576},{"$f":"+'[1]itcer regional'!CD135","v":0.99959481869430489},{"$f":"+'[1]itcer regional'!CE135","v":0.99693194127868767},{"$f":"+'[1]itcer regional'!CF135","v":0.99462859382240076},null,{"$f":"+'[1]itcer regional'!CH135","v":1.0105678705628272},{"$f":"+'[1]itcer regional'!CI135","v":0.99589573271012366},{"$f":"+'[1]itcer regional'!CJ135","v":0.99958853490379451},{"$f":"+'[1]itcer regional'!CK135","v":0.99829411073425001},{"$f":"+'[1]itcer regional'!CL135","v":0.99488237548592184},{"$f":"+'[1]itcer regional'!CM135","v":1.0170218744053015}]
[null,"Julio",{"$f":"+'[1]itcer regional'!AK136","v":100.1942129723009},{"$f":"+'[1]itcer regional'!AL136","v":100.11261188144815},{"$f":"+'[1]itcer regional'!AM136","v":99.877526389830848},{"$f":"+'[1]itcer regional'!AN136","v":99.513853743262146},{"$f":"+'[1]itcer regional'!AO136","v":100.32473214485769},{"$f":"+'[1]itcer regional'!AP136","v":100.96851544995258},null,{"$f":"+'[1]itcer regional'!BT136","v":-0.89047796686901393},{"$f":"+'[1]itcer regional'!BU136","v":9.4792186840280124E-2},{"$f":"+'[1]itcer regional'!BV136","v":0.17352020966544046},{"$f":"+'[1]itcer regional'!BW136","v":-0.27569012980171692},{"$f":"+'[1]itcer regional'!BX136","v":1.1511351042984899},{"$f":"+'[1]itcer regional'!BY136","v":-0.18524695629436394},null,{"$f":"+'[1]itcer regional'!CA136","v":1.0036322800671766},{"$f":"+'[1]itcer regional'!CB136","v":0.99978658650975161},{"$f":"+'[1]itcer regional'!CC136","v":0.99780430435383083},{"$f":"+'[1]itcer regional'!CD136","v":1.0013002390403218},{"$f":"+'[1]itcer regional'!CE136","v":0.99979671988842167},{"$f":"+'[1]itcer regional'!CF136","v":0.99149462897660456},null,{"$f":"+'[1]itcer regional'!CH136","v":0.99831596653701249},{"$f":"+'[1]itcer regional'!CI136","v":1.0013398182400168},{"$f":"+'[1]itcer regional'!CJ136","v":1.0009730961674961},{"$f":"+'[1]itcer regional'!CK136","v":0.9938462996737063},{"$f":"+'[1]itcer regional'!CL136","v":1.0034513031414429},{"$f":"+'[1]itcer regional'!CM136","v":1.0183465699069869}]
[null,"Agosto",{"$f":"+'[1]itcer regional'!AK137","v":99.892483368373348},{"$f":"+'[1]itcer regional'!AL137","v":99.437533059156351},{"$f":"+'[1]itcer regional'!AM137","v":100.48279035530794},{"$f":"+'[1]itcer regional'!AN137","v":99.444090552371605},{"$f":"+'[1]itcer regional'!AO137","v":101.1238908700344},{"$f":"+'[1]itcer regional'!AP137","v":99.776425761493769},null,{"$f":"+'[1]itcer regional'!BT137","v":-0.30114474177362638},{"$f":"+'[1]itcer regional'!BU137","v":-0.67431945846264796},{"$f":"+'[1]itcer regional'!BV137","v":0.60600616310289013},{"$f":"+'[1]itcer regional'!BW137","v":-7.0103998856808403E-2},{"$f":"+'[1]itcer regional'!BX137","v":0.79657199983631699},{"$f":"+'[1]itcer regional'!BY137","v":-1.1806548636933201},null,{"$f":"+'[1]itcer regional'!CA137","v":1.0063634905438166},{"$f":"+'[1]itcer regional'!CB137","v":0.99728230460311951},{"$f":"+'[1]itcer regional'!CC137","v":0.9947640628536274},{"$f":"+'[1]itcer regional'!CD137","v":1.0040214695613205},{"$f":"+'[1]itcer regional'!CE137","v":1.006017123087531},{"$f":"+'[1]itcer regional'!CF137","v":0.98905279497800036},null,{"$f":"+'[1]itcer regional'!CH137","v":0.99260837964614257},{"$f":"+'[1]itcer regional'!CI137","v":0.99708510418951757},{"$f":"+'[1]itcer regional'!CJ137","v":1.0101168116895805},{"$f":"+'[1]itcer regional'!CK137","v":0.99045780959067464},{"$f":"+'[1]itcer regional'!CL137","v":1.0051905534140282},{"$f":"+'[1]itcer regional'!CM137","v":1.0088078843527573}]
[null,"Septiembre",{"$f":"+'[1]itcer regional'!AK138","v":99.973710941117886},{"$f":"+'[1]itcer regional'!AL138","v":98.93745165641721},{"$f":"+'[1]itcer regional'!AM138","v":101.06560624422416},{"$f":"+'[1]itcer regional'!AN138","v":99.600452086202196},{"$f":"+'[1]itcer regional'!AO138","v":100.73257753177907},{"$f":"+'[1]itcer regional'!AP138","v":97.827683325433696},null,{"$f":"+'[1]itcer regional'!BT138","v":8.1314999893436379E-2},{"$f":"+'[1]itcer regional'!BU138","v":-0.50291010582658657},{"$f":"+'[1]itcer regional'!BV138","v":0.58001562939820417},{"$f":"+'[1]itcer regional'!BW138","v":0.15723562150557768},{"$f":"+'[1]itcer regional'!BX138","v":-0.38696428201942012},{"$f":"+'[1]itcer regional'!BY138","v":-1.9531090848236659},null,{"$f":"+'[1]itcer regional'!CA138","v":1.0075397172526972},{"$f":"+'[1]itcer regional'!CB138","v":0.99170520923176475},{"$f":"+'[1]itcer regional'!CC138","v":0.99883207512470895},{"$f":"+'[1]itcer regional'!CD138","v":1.0050939251415829},{"$f":"+'[1]itcer regional'!CE138","v":1.0035782954048988},{"$f":"+'[1]itcer regional'!CF138","v":1.0045544211049704},null,{"$f":"+'[1]itcer regional'!CH138","v":0.99225578137724024},{"$f":"+'[1]itcer regional'!CI138","v":0.99764981302316835},{"$f":"+'[1]itcer regional'!CJ138","v":1.011837812993797},{"$f":"+'[1]itcer regional'!CK138","v":0.99095666180821806},{"$f":"+'[1]itcer regional'!CL138","v":1.0037341181351276},{"$f":"+'[1]itcer regional'!CM138","v":0.97384154875180473}]
[null,"Octubre",{"$f":"+'[1]itcer regional'!AK139","v":100.06876526607022},{"$f":"+'[1]itcer regional'!AL139","v":99.111288909305443},{"$f":"+'[1]itcer regional'!AM139","v":101.10310849741542},{"$f":"+'[1]itcer regional'!AN139","v":99.484054432496904},{"$f":"+'[1]itcer regional'!AO139","v":100.19305081783274},{"$f":"+'[1]itcer regional'!AP139","v":98.079690405785868},null,{"$f":"+'[1]itcer regional'!BT139","v":9.5079320410860646E-2},{"$f":"+'[1]itcer regional'!BU139","v":0.17570419490076006},{"$f":"+'[1]itcer regional'!BV139","v":3.7106840383117401E-2},{"$f":"+'[1]itcer regional'!BW139","v":-0.11686458371148944},{"$f":"+'[1]itcer regional'!BX139","v":-0.53560300665999705},{"$f":"+'[1]itcer regional'!BY139","v":0.25760303401425233},null,{"$f":"+'[1]itcer regional'!CA139","v":1.0103205131006701},{"$f":"+'[1]itcer regional'!CB139","v":0.98840795411454485},{"$f":"+'[1]itcer regional'!CC139","v":0.99863775764427398},{"$f":"+'[1]itcer regional'!CD139","v":1.0066138757635654},{"$f":"+'[1]itcer regional'!CE139","v":1.0055480568519901},{"$f":"+'[1]itcer regional'!CF139","v":1.00557323062915},null,{"$f":"+'[1]itcer regional'!CH139","v":0.99046554007855914},{"$f":"+'[1]itcer regional'!CI139","v":1.0027366584488213},{"$f":"+'[1]itcer regional'!CJ139","v":1.0124102330750193},{"$f":"+'[1]itcer regional'!CK139","v":0.98830402429167219},{"$f":"+'[1]itcer regional'!CL139","v":0.99640241095488946},{"$f":"+'[1]itcer regional'!CM139","v":0.97536099230108808}]
[null,"Noviembre",{"$f":"+'[1]itcer regional'!AK140","v":100.51191319267571},{"$f":"+'[1]itcer regional'!AL140","v":99.80571654824432},{"$f":"+'[1]itcer regional'!AM140","v":100.1792745544133},{"$f":"+'[1]itcer regional'!AN140","v":99.406406635287155},{"$f":"+'[1]itcer regional'!AO140","v":100.25827331033679},{"$f":"+'[1]itcer regional'!AP140","v":98.520606581903863},null,{"$f":"+'[1]itcer regional'!BT140","v":0.4428434041603424},{"$f":"+'[1]itcer regional'!BU140","v":0.70065443258873472},{"$f":"+'[1]itcer regional'!BV140","v":-0.91375424230970737},{"$f":"+'[1]itcer regional'!BW140","v":-7.8050495280564292E-2},{"$f":"+'[1]itcer regional'!BX140","v":6.5096822555730682E-2},{"$f":"+'[1]itcer regional'!BY140","v":0.44954890690802074},null,{"$f":"+'[1]itcer regional'!CA140","v":1.0160853945492583},{"$f":"+'[1]itcer regional'!CB140","v":0.98937782575485822},{"$f":"+'[1]itcer regional'!CC140","v":0.98985072571288757},{"$f":"+'[1]itcer regional'!CD140","v":1.0115456050007403},{"$f":"+'[1]itcer regional'!CE140","v":1.010017675670986},{"$f":"+'[1]itcer regional'!CF140","v":1.0078084070125544},null,{"$f":"+'[1]itcer regional'!CH140","v":0.98920734154695145},{"$f":"+'[1]itcer regional'!CI140","v":1.0087725229954116},{"$f":"+'[1]itcer regional'!CJ140","v":1.0120644653997144},{"$f":"+'[1]itcer regional'!CK140","v":0.98271799258338322},{"$f":"+'[1]itcer regional'!CL140","v":0.99263879955102885},{"$f":"+'[1]itcer regional'!CM140","v":0.97757277967097345}]
[null,"Diciembre",{"$f":"+'[1]itcer regional'!AK141","v":100.88701939286128},{"$f":"+'[1]itcer regional'!AL141","v":100.43523759155315},{"$f":"+'[1]itcer regional'!AM141","v":99.069392173115503},{"$f":"+'[1]itcer regional'!AN141","v":100.08700615202574},{"$f":"+'[1]itcer regional'!AO141","v":100.05919371391678},{"$f":"+'[1]itcer regional'!AP141","v":98.601185609653314},null,{"$f":"+'[1]itcer regional'!BT141","v":0.37319576184617631},{"$f":"+'[1]itcer regional'!BU141","v":0.63074647934071493},{"$f":"+'[1]itcer regional'!BV141","v":-1.1078962053123576},{"$f":"+'[1]itcer regional'!BW141","v":0.68466363464443702},{"$f":"+'[1]itcer regional'!BX141","v":-0.19856675149767966},{"$f":"+'[1]itcer regional'!BY141","v":8.1789008964804566E-2},null,{"$f":"+'[1]itcer regional'!CA141","v":1.0227680993435084},{"$f":"+'[1]itcer regional'!CB141","v":0.99039721896046384},{"$f":"+'[1]itcer regional'!CC141","v":0.98304704473339666},{"$f":"+'[1]itcer regional'!CD141","v":1.0151572918225795},{"$f":"+'[1]itcer regional'!CE141","v":1.0098487855748792},{"$f":"+'[1]itcer regional'!CF141","v":1.0097622577937562},null,{"$f":"+'[1]itcer regional'!CH141","v":0.9864114793726787},{"$f":"+'[1]itcer regional'!CI141","v":1.01409046460138},{"$f":"+'[1]itcer regional'!CJ141","v":1.0077787497950641},{"$f":"+'[1]itcer regional'!CK141","v":0.98592609202789527},{"$f":"+'[1]itcer regional'!CL141","v":0.99083343113549249},{"$f":"+'[1]itcer regional'!CM141","v":0.97647921427652107}]
[2001,"Enero",{"$f":"+'[1]itcer regional'!AK142","v":100.67296718097654},{"$f":"+'[1]itcer regional'!AL142","v":99.670790496175655},{"$f":"+'[1]itcer regional'!AM142","v":99.629587348528304},{"$f":"+'[1]itcer regional'!AN142","v":100.14091265909684},{"$f":"+'[1]itcer regional'!AO142","v":100.85045114912025},{"$f":"+'[1]itcer regional'!AP142","v":97.468331814473274},null,{"$f":"+'[1]itcer regional'!BT142","v":-0.21217022087965631},{"$f":"+'[1]itcer regional'!BU142","v":-0.76113435255295769},{"$f":"+'[1]itcer regional'!BV142","v":0.56545736591773732},{"$f":"+'[1]itcer regional'!BW142","v":5.3859645865756534E-2},{"$f":"+'[1]itcer regional'!BX142","v":0.79078933762527015},{"$f":"+'[1]itcer regional'!BY142","v":-1.1489251251651638},null,{"$f":"+'[1]itcer regional'!CA142","v":1.0216248996442201},{"$f":"+'[1]itcer regional'!CB142","v":0.98870957948718963},{"$f":"+'[1]itcer regional'!CC142","v":0.98799920135230601},{"$f":"+'[1]itcer regional'!CD142","v":1.0097769189390802},{"$f":"+'[1]itcer regional'!CE142","v":1.0103876247935371},{"$f":"+'[1]itcer regional'!CF142","v":1.0091789047950195},null,{"$f":"+'[1]itcer regional'!CH142","v":0.98542006186454356},{"$f":"+'[1]itcer regional'!CI142","v":1.008089661150765},{"$f":"+'[1]itcer regional'!CJ142","v":1.0083974482181981},{"$f":"+'[1]itcer regional'!CK142","v":0.99171322676210183},{"$f":"+'[1]itcer regional'!CL142","v":0.99813624666798617},{"$f":"+'[1]itcer regional'!CM142","v":0.96581816515745211}]
[null,"Febrero",{"$f":"+'[1]itcer regional'!AK143","v":100.83558353209739},{"$f":"+'[1]itcer regional'!AL143","v":101.02496708618339},{"$f":"+'[1]itcer regional'!AM143","v":98.390735772747007},{"$f":"+'[1]itcer regional'!AN143","v":99.882444639963467},{"$f":"+'[1]itcer regional'!AO143","v":100.83856519213001},{"$f":"+'[1]itcer regional'!AP143","v":98.413104261073997},null,{"$f":"+'[1]itcer regional'!BT143","v":0.16152931186435637},{"$f":"+'[1]itcer regional'!BU143","v":1.3586493929329322},{"$f":"+'[1]itcer regional'!BV143","v":-1.2434574996757704},{"$f":"+'[1]itcer regional'!BW143","v":-0.25810431747636642},{"$f":"+'[1]itcer regional'!BX143","v":-1.1785725155220916E-2},{"$f":"+'[1]itcer regional'!BY143","v":0.96931221558101299},null,{"$f":"+'[1]itcer regional'!CA143","v":1.0280431803062158},{"$f":"+'[1]itcer regional'!CB143","v":0.99076719308937822},{"$f":"+'[1]itcer regional'!CC143","v":0.9774115539803182},{"$f":"+'[1]itcer regional'!CD143","v":1.0151645272770951},{"$f":"+'[1]itcer regional'!CE143","v":1.0156576462117988},{"$f":"+'[1]itcer regional'!CF143","v":1.0121989139072314},null,{"$f":"+'[1]itcer regional'!CH143","v":0.98084969059434057},{"$f":"+'[1]itcer regional'!CI143","v":1.0196640319828374},{"$f":"+'[1]itcer regional'!CJ143","v":1.0066459248621513},{"$f":"+'[1]itcer regional'!CK143","v":0.98390400724374383},{"$f":"+'[1]itcer regional'!CL143","v":0.99284011269188832},{"$f":"+'[1]itcer regional'!CM143","v":0.97227039971012674}]
[null,"Marzo",{"$f":"+'[1]itcer regional'!AK144","v":100.06138377002917},{"$f":"+'[1]itcer regional'!AL144","v":101.59920833847085},{"$f":"+'[1]itcer regional'!AM144","v":97.848728861787279},{"$f":"+'[1]itcer regional'!AN144","v":99.913730534483193},{"$f":"+'[1]itcer regional'!AO144","v":101.92011979781796},{"$f":"+'[1]itcer regional'!AP144","v":99.677455805752047},null,{"$f":"+'[1]itcer regional'!BT144","v":-0.76778428303713042},{"$f":"+'[1]itcer regional'!BU144","v":0.56841518374125144},{"$f":"+'[1]itcer regional'!BV144","v":-0.55087189530892999},{"$f":"+'[1]itcer regional'!BW144","v":3.1322716051349175E-2},{"$f":"+'[1]itcer regional'!BX144","v":1.0725604867812564},{"$f":"+'[1]itcer regional'!BY144","v":1.2847390133370169},null,{"$f":"+'[1]itcer regional'!CA144","v":1.0339421711325187},{"$f":"+'[1]itcer regional'!CB144","v":0.99131931418788488},{"$f":"+'[1]itcer regional'!CC144","v":0.970752590650791},{"$f":"+'[1]itcer regional'!CD144","v":1.0190991756239602},{"$f":"+'[1]itcer regional'!CE144","v":1.01771512832514},{"$f":"+'[1]itcer regional'!CF144","v":1.0115511912330637},null,{"$f":"+'[1]itcer regional'!CH144","v":0.96776576643960532},{"$f":"+'[1]itcer regional'!CI144","v":1.0248888212341916},{"$f":"+'[1]itcer regional'!CJ144","v":1.0079677335312558},{"$f":"+'[1]itcer regional'!CK144","v":0.98041223979314251},{"$f":"+'[1]itcer regional'!CL144","v":1.0014602019874514},{"$f":"+'[1]itcer regional'!CM144","v":0.98539210540839695}]
[null,"Abril",{"$f":"+'[1]itcer regional'!AK145","v":99.42257195078804},{"$f":"+'[1]itcer regional'!AL145","v":101.59356135082335},{"$f":"+'[1]itcer regional'!AM145","v":98.318276489789298},{"$f":"+'[1]itcer regional'!AN145","v":99.850643625225658},{"$f":"+'[1]itcer regional'!AO145","v":101.82090564236749},{"$f":"+'[1]itcer regional'!AP145","v":99.334509006455221},null,{"$f":"+'[1]itcer regional'!BT145","v":-0.6384199330176159},{"$f":"+'[1]itcer regional'!BU145","v":-5.558102016593125E-3},{"$f":"+'[1]itcer regional'!BV145","v":0.47987095332149465},{"$f":"+'[1]itcer regional'!BW145","v":-6.3141380989435447E-2},{"$f":"+'[1]itcer regional'!BX145","v":-9.7345014553823717E-2},{"$f":"+'[1]itcer regional'!BY145","v":-0.34405653367110745},null,{"$f":"+'[1]itcer regional'!CA145","v":1.0354846069187473},{"$f":"+'[1]itcer regional'!CB145","v":0.98640232211963186},{"$f":"+'[1]itcer regional'!CC145","v":0.97433123548901224},{"$f":"+'[1]itcer regional'!CD145","v":1.0200405877106953},{"$f":"+'[1]itcer regional'!CE145","v":1.0170525463611619},{"$f":"+'[1]itcer regional'!CF145","v":1.0071603220859251},null,{"$f":"+'[1]itcer regional'!CH145","v":0.96015499686312156},{"$f":"+'[1]itcer regional'!CI145","v":1.0299404114592299},{"$f":"+'[1]itcer regional'!CJ145","v":1.0090847230248532},{"$f":"+'[1]itcer regional'!CK145","v":0.9788889268545985},{"$f":"+'[1]itcer regional'!CL145","v":1.0011371192832177},{"$f":"+'[1]itcer regional'!CM145","v":0.98628298621538202}]
[null,"Mayo",{"$f":"+'[1]itcer regional'!AK146","v":99.426215724059162},{"$f":"+'[1]itcer regional'!AL146","v":101.66533099504774},{"$f":"+'[1]itcer regional'!AM146","v":98.605575491538829},{"$f":"+'[1]itcer regional'!AN146","v":99.133340062262604},{"$f":"+'[1]itcer regional'!AO146","v":101.93801239880727},{"$f":"+'[1]itcer regional'!AP146","v":99.250373252298488},null,{"$f":"+'[1]itcer regional'!BT146","v":3.6649356374880426E-3},{"$f":"+'[1]itcer regional'!BU146","v":7.0643890488824468E-2},{"$f":"+'[1]itcer regional'!BV146","v":0.29221322017312445},{"$f":"+'[1]itcer regional'!BW146","v":-0.7183765040667538},{"$f":"+'[1]itcer regional'!BX146","v":0.11501248756428595},{"$f":"+'[1]itcer regional'!BY146","v":-8.4699421176253509E-2},null,{"$f":"+'[1]itcer regional'!CA146","v":1.037356812617759},{"$f":"+'[1]itcer regional'!CB146","v":0.98268373389462393},{"$f":"+'[1]itcer regional'!CC146","v":0.97460278380368059},{"$f":"+'[1]itcer regional'!CD146","v":1.0216846642388175},{"$f":"+'[1]itcer regional'!CE146","v":1.020845454284834},{"$f":"+'[1]itcer regional'!CF146","v":1.0037698193550597},null,{"$f":"+'[1]itcer regional'!CH146","v":0.95845724937360899},{"$f":"+'[1]itcer regional'!CI146","v":1.0345681676455796},{"$f":"+'[1]itcer regional'!CJ146","v":1.0117514245824428},{"$f":"+'[1]itcer regional'!CK146","v":0.97029292434490644},{"$f":"+'[1]itcer regional'!CL146","v":0.99856459144661802},{"$f":"+'[1]itcer regional'!CM146","v":0.98877622477301275}]
[null,"Junio",{"$f":"+'[1]itcer regional'!AK147","v":99.780480673323865},{"$f":"+'[1]itcer regional'!AL147","v":101.67447071768939},{"$f":"+'[1]itcer regional'!AM147","v":98.268763733273445},{"$f":"+'[1]itcer regional'!AN147","v":99.045818756174185},{"$f":"+'[1]itcer regional'!AO147","v":102.30671047911034},{"$f":"+'[1]itcer regional'!AP147","v":99.882392983573013},null,{"$f":"+'[1]itcer regional'!BT147","v":0.3563093965558437},{"$f":"+'[1]itcer regional'!BU147","v":8.9900092314678659E-3},{"$f":"+'[1]itcer regional'!BV147","v":-0.34157476043966994},{"$f":"+'[1]itcer regional'!BW147","v":-8.8286449375601705E-2},{"$f":"+'[1]itcer regional'!BX147","v":0.36168851209362174},{"$f":"+'[1]itcer regional'!BY147","v":0.63679330421044256},null,{"$f":"+'[1]itcer regional'!CA147","v":1.0386353629610177},{"$f":"+'[1]itcer regional'!CB147","v":0.97817732802329294},{"$f":"+'[1]itcer regional'!CC147","v":0.9754056997642514},{"$f":"+'[1]itcer regional'!CD147","v":1.0227013033454013},{"$f":"+'[1]itcer regional'!CE147","v":1.0271487554151302},{"$f":"+'[1]itcer regional'!CF147","v":0.99984370026485614},null,{"$f":"+'[1]itcer regional'!CH147","v":0.96068826685105702},{"$f":"+'[1]itcer regional'!CI147","v":1.0394277990796801},{"$f":"+'[1]itcer regional'!CJ147","v":1.0074655474847471},{"$f":"+'[1]itcer regional'!CK147","v":0.9684725973476439},{"$f":"+'[1]itcer regional'!CL147","v":0.99602623222536324},{"$f":"+'[1]itcer regional'!CM147","v":0.9989800701561099}]
[null,"Julio",{"$f":"+'[1]itcer regional'!AK148","v":99.82804001633454},{"$f":"+'[1]itcer regional'!AL148","v":102.06945091498967},{"$f":"+'[1]itcer regional'!AM148","v":97.367044886736807},{"$f":"+'[1]itcer regional'!AN148","v":99.135930913806789},{"$f":"+'[1]itcer regional'!AO148","v":103.53719211114516},{"$f":"+'[1]itcer regional'!AP148","v":100.40111028567594},null,{"$f":"+'[1]itcer regional'!BT148","v":4.7663974646880547E-2},{"$f":"+'[1]itcer regional'!BU148","v":0.38847529228549149},{"$f":"+'[1]itcer regional'!BV148","v":-0.91760475280236165},{"$f":"+'[1]itcer regional'!BW148","v":9.0980274345994872E-2},{"$f":"+'[1]itcer regional'!BX148","v":1.2027379497125708},{"$f":"+'[1]itcer regional'!BY148","v":0.51932806834958001},null,{"$f":"+'[1]itcer regional'!CA148","v":1.0426771855554344},{"$f":"+'[1]itcer regional'!CB148","v":0.97577112212486872},{"$f":"+'[1]itcer regional'!CC148","v":0.97294483441443069},{"$f":"+'[1]itcer regional'!CD148","v":1.0252319596936714},{"$f":"+'[1]itcer regional'!CE148","v":1.0305165861995527},{"$f":"+'[1]itcer regional'!CF148","v":0.99710748522436288},null,{"$f":"+'[1]itcer regional'!CH148","v":0.95742039242141952},{"$f":"+'[1]itcer regional'!CI148","v":1.0460388568655334},{"$f":"+'[1]itcer regional'!CJ148","v":1.0007457919784053},{"$f":"+'[1]itcer regional'!CK148","v":0.96696098845209211},{"$f":"+'[1]itcer regional'!CL148","v":1.0047115543572231},{"$f":"+'[1]itcer regional'!CM148","v":1.0069236443760556}]
[null,"Agosto",{"$f":"+'[1]itcer regional'!AK149","v":99.991603898411057},{"$f":"+'[1]itcer regional'!AL149","v":102.16419468770603},{"$f":"+'[1]itcer regional'!AM149","v":97.055051305213354},{"$f":"+'[1]itcer regional'!AN149","v":99.030938218979017},{"$f":"+'[1]itcer regional'!AO149","v":104.1148538089227},{"$f":"+'[1]itcer regional'!AP149","v":100.04616838025622},null,{"$f":"+'[1]itcer regional'!BT149","v":0.16384563099680349},{"$f":"+'[1]itcer regional'!BU149","v":9.2822849409927244E-2},{"$f":"+'[1]itcer regional'!BV149","v":-0.32043036931682423},{"$f":"+'[1]itcer regional'!BW149","v":-0.10590781148668782},{"$f":"+'[1]itcer regional'!BX149","v":0.55792675655858659},{"$f":"+'[1]itcer regional'!BY149","v":-0.35352388475564567},null,{"$f":"+'[1]itcer regional'!CA149","v":1.0454063935662752},{"$f":"+'[1]itcer regional'!CB149","v":0.97093565014146832},{"$f":"+'[1]itcer regional'!CC149","v":0.97696095292039675},{"$f":"+'[1]itcer regional'!CD149","v":1.0236014040261394},{"$f":"+'[1]itcer regional'!CE149","v":1.030639988403683},{"$f":"+'[1]itcer regional'!CF149","v":0.99238850610934293},null,{"$f":"+'[1]itcer regional'!CH149","v":0.95648548271550171},{"$f":"+'[1]itcer regional'!CI149","v":1.0522241579328186},{"$f":"+'[1]itcer regional'!CJ149","v":0.99343838681668839},{"$f":"+'[1]itcer regional'!CK149","v":0.96747559967639607},{"$f":"+'[1]itcer regional'!CL149","v":1.0101961400719763},{"$f":"+'[1]itcer regional'!CM149","v":1.0081350979415011}]
[null,"Septiembre",{"$f":"+'[1]itcer regional'!AK150","v":99.630287353610157},{"$f":"+'[1]itcer regional'!AL150","v":101.65694250312148},{"$f":"+'[1]itcer regional'!AM150","v":98.06061406611218},{"$f":"+'[1]itcer regional'!AN150","v":98.320869007229518},{"$f":"+'[1]itcer regional'!AO150","v":104.41559271637526},{"$f":"+'[1]itcer regional'!AP150","v":98.788292465372152},null,{"$f":"+'[1]itcer regional'!BT150","v":-0.36134688385234881},{"$f":"+'[1]itcer regional'!BU150","v":-0.49650681056617429},{"$f":"+'[1]itcer regional'!BV150","v":1.0360746271068138},{"$f":"+'[1]itcer regional'!BW150","v":-0.71701755483663021},{"$f":"+'[1]itcer regional'!BX150","v":0.28885302764243193},{"$f":"+'[1]itcer regional'!BY150","v":-1.2572954419434836},null,{"$f":"+'[1]itcer regional'!CA150","v":1.045208331549049},{"$f":"+'[1]itcer regional'!CB150","v":0.96196138925134067},{"$f":"+'[1]itcer regional'!CC150","v":0.98702294099514887},{"$f":"+'[1]itcer regional'!CD150","v":1.0218319193016017},{"$f":"+'[1]itcer regional'!CE150","v":1.0301910753837065},{"$f":"+'[1]itcer regional'!CF150","v":0.98485407729528485},null,{"$f":"+'[1]itcer regional'!CH150","v":0.95320984674847808},{"$f":"+'[1]itcer regional'!CI150","v":1.0567673883692708},{"$f":"+'[1]itcer regional'!CJ150","v":0.99349883364660463},{"$f":"+'[1]itcer regional'!CK150","v":0.96220197421929765},{"$f":"+'[1]itcer regional'!CL150","v":1.0135555938250047},{"$f":"+'[1]itcer regional'!CM150","v":1.0030754275463374}]
[null,"Octubre",{"$f":"+'[1]itcer regional'!AK151","v":99.38091021704146},{"$f":"+'[1]itcer regional'!AL151","v":102.13054264767877},{"$f":"+'[1]itcer regional'!AM151","v":98.352931337336585},{"$f":"+'[1]itcer regional'!AN151","v":97.621246645481165},{"$f":"+'[1]itcer regional'!AO151","v":104.07461591426816},{"$f":"+'[1]itcer regional'!AP151","v":97.618907204694253},null,{"$f":"+'[1]itcer regional'!BT151","v":-0.25030253670111335},{"$f":"+'[1]itcer regional'!BU151","v":0.46588076809680956},{"$f":"+'[1]itcer regional'!BV151","v":0.29809855262310236},{"$f":"+'[1]itcer regional'!BW151","v":-0.71157056361748516},{"$f":"+'[1]itcer regional'!BX151","v":-0.32655735914202921},{"$f":"+'[1]itcer regional'!BY151","v":-1.1837285891825644},null,{"$f":"+'[1]itcer regional'!CA151","v":1.0422602749219434},{"$f":"+'[1]itcer regional'!CB151","v":0.94946632449008084},{"$f":"+'[1]itcer regional'!CC151","v":1.0028315735766238},{"$f":"+'[1]itcer regional'!CD151","v":1.0187699786579905},{"$f":"+'[1]itcer regional'!CE151","v":1.0305216728794635},{"$f":"+'[1]itcer regional'!CF151","v":0.97489966292795971},null,{"$f":"+'[1]itcer regional'!CH151","v":0.95351336521469432},{"$f":"+'[1]itcer regional'!CI151","v":1.0756626118628152},{"$f":"+'[1]itcer regional'!CJ151","v":0.9807522412418509},{"$f":"+'[1]itcer regional'!CK151","v":0.9582265741092616},{"$f":"+'[1]itcer regional'!CL151","v":1.009921660584439},{"$f":"+'[1]itcer regional'!CM151","v":1.0013226070005097}]
[null,"Noviembre",{"$f":"+'[1]itcer regional'!AK152","v":99.943624414960993},{"$f":"+'[1]itcer regional'!AL152","v":101.353826422962},{"$f":"+'[1]itcer regional'!AM152","v":97.920310244240014},{"$f":"+'[1]itcer regional'!AN152","v":98.787162306150606},{"$f":"+'[1]itcer regional'!AO152","v":104.3201835996902},{"$f":"+'[1]itcer regional'!AP152","v":98.892079455892571},null,{"$f":"+'[1]itcer regional'!BT152","v":0.56621960564720553},{"$f":"+'[1]itcer regional'!BU152","v":-0.76051316734525187},{"$f":"+'[1]itcer regional'!BV152","v":-0.43986598794167264},{"$f":"+'[1]itcer regional'!BW152","v":1.1943257238903584},{"$f":"+'[1]itcer regional'!BX152","v":0.23595348708691688},{"$f":"+'[1]itcer regional'!BY152","v":1.3042271089232997},null,{"$f":"+'[1]itcer regional'!CA152","v":1.0498410505391236},{"$f":"+'[1]itcer regional'!CB152","v":0.94822213434530922},{"$f":"+'[1]itcer regional'!CC152","v":0.99611669350159426},{"$f":"+'[1]itcer regional'!CD152","v":1.0264877719428631},{"$f":"+'[1]itcer regional'!CE152","v":1.0284422849973365},{"$f":"+'[1]itcer regional'!CF152","v":0.97845522952817732},null,{"$f":"+'[1]itcer regional'!CH152","v":0.95198815443192175},{"$f":"+'[1]itcer regional'!CI152","v":1.0688827306582624},{"$f":"+'[1]itcer regional'!CJ152","v":0.98302047223027766},{"$f":"+'[1]itcer regional'!CK152","v":0.9623803128134033},{"$f":"+'[1]itcer regional'!CL152","v":1.0143513653754557},{"$f":"+'[1]itcer regional'!CM152","v":1.0106960080695722}]
[null,"Diciembre",{"$f":"+'[1]itcer regional'!AK153","v":100.04177335344406},{"$f":"+'[1]itcer regional'!AL153","v":103.5984692865418},{"$f":"+'[1]itcer regional'!AM153","v":95.363191004771622},{"$f":"+'[1]itcer regional'!AN153","v":99.347522608259595},{"$f":"+'[1]itcer regional'!AO153","v":104.73981172932208},{"$f":"+'[1]itcer regional'!AP153","v":100.59514537686977},null,{"$f":"+'[1]itcer regional'!BT153","v":9.8204301732707222E-2},{"$f":"+'[1]itcer regional'!BU153","v":2.2146602084983158},{"$f":"+'[1]itcer regional'!BV153","v":-2.6114288579052101},{"$f":"+'[1]itcer regional'!BW153","v":0.56724000267603003},{"$f":"+'[1]itcer regional'!BX153","v":0.40225018318807315},{"$f":"+'[1]itcer regional'!BY153","v":1.7221459295299724},null,{"$f":"+'[1]itcer regional'!CA153","v":1.0621942335003705},{"$f":"+'[1]itcer regional'!CB153","v":0.95353481125206763},{"$f":"+'[1]itcer regional'!CC153","v":0.97741505091575831},{"$f":"+'[1]itcer regional'!CD153","v":1.0363127849520333},{"$f":"+'[1]itcer regional'!CE153","v":1.0304097455537058},{"$f":"+'[1]itcer regional'!CF153","v":0.993081851472568},null,{"$f":"+'[1]itcer regional'!CH153","v":0.94184067469247079},{"$f":"+'[1]itcer regional'!CI153","v":1.0864676156973097},{"$f":"+'[1]itcer regional'!CJ153","v":0.97566730648790501},{"$f":"+'[1]itcer regional'!CK153","v":0.95866348510655497},{"$f":"+'[1]itcer regional'!CL153","v":1.0164870060796896},{"$f":"+'[1]itcer regional'!CM153","v":1.0129592563564085}]
[2002,"Enero",{"$f":"+'[1]itcer regional'!AK154","v":99.989536517828057},{"$f":"+'[1]itcer regional'!AL154","v":102.60321998147974},{"$f":"+'[1]itcer regional'!AM154","v":95.362594033208453},{"$f":"+'[1]itcer regional'!AN154","v":100.31024146018792},{"$f":"+'[1]itcer regional'!AO154","v":105.77073837863978},{"$f":"+'[1]itcer regional'!AP154","v":101.02001325850964},null,{"$f":"+'[1]itcer regional'!BT154","v":-5.2215023649608838E-2},{"$f":"+'[1]itcer regional'!BU154","v":-0.96067954663433852},{"$f":"+'[1]itcer regional'!BV154","v":-6.2599788962813818E-4},{"$f":"+'[1]itcer regional'!BW154","v":0.96904162947721773},{"$f":"+'[1]itcer regional'!BX154","v":0.98427391867181768},{"$f":"+'[1]itcer regional'!BY154","v":0.42235425978871888},null,{"$f":"+'[1]itcer regional'!CA154","v":1.0642363461628961},{"$f":"+'[1]itcer regional'!CB154","v":0.9471330551618643},{"$f":"+'[1]itcer regional'!CC154","v":0.98126888512777255},{"$f":"+'[1]itcer regional'!CD154","v":1.0377820200475729},{"$f":"+'[1]itcer regional'!CE154","v":1.0316120809723353},{"$f":"+'[1]itcer regional'!CF154","v":0.9919506985741996},null,{"$f":"+'[1]itcer regional'!CH154","v":0.93954258260714663},{"$f":"+'[1]itcer regional'!CI154","v":1.0833031264434638},{"$f":"+'[1]itcer regional'!CJ154","v":0.97182938823940324},{"$f":"+'[1]itcer regional'!CK154","v":0.96658295790853654},{"$f":"+'[1]itcer regional'!CL154","v":1.0252956545346645},{"$f":"+'[1]itcer regional'!CM154","v":1.0183975212045597}]
[null,"Febrero",{"$f":"+'[1]itcer regional'!AK155","v":101.24256614932106},{"$f":"+'[1]itcer regional'!AL155","v":103.32820101065151},{"$f":"+'[1]itcer regional'!AM155","v":93.803307812956817},{"$f":"+'[1]itcer regional'!AN155","v":100.62989494260046},{"$f":"+'[1]itcer regional'!AO155","v":105.80713513577585},{"$f":"+'[1]itcer regional'!AP155","v":102.20149125329885},null,{"$f":"+'[1]itcer regional'!BT155","v":1.2531607557452702},{"$f":"+'[1]itcer regional'!BU155","v":0.70658701481556818},{"$f":"+'[1]itcer regional'!BV155","v":-1.6351130504153844},{"$f":"+'[1]itcer regional'!BW155","v":0.31866485192281857},{"$f":"+'[1]itcer regional'!BX155","v":3.4410988988071267E-2},{"$f":"+'[1]itcer regional'!BY155","v":1.1695484455796219},null,{"$f":"+'[1]itcer regional'!CA155","v":1.0745263885343561},{"$f":"+'[1]itcer regional'!CB155","v":0.94882804152697509},{"$f":"+'[1]itcer regional'!CC155","v":0.96839502444945735},{"$f":"+'[1]itcer regional'!CD155","v":1.0462711147761599},{"$f":"+'[1]itcer regional'!CE155","v":1.0342694002067392},{"$f":"+'[1]itcer regional'!CF155","v":0.99747169938964275},null,{"$f":"+'[1]itcer regional'!CH155","v":0.94220641977359898},{"$f":"+'[1]itcer regional'!CI155","v":1.0890087190547466},{"$f":"+'[1]itcer regional'!CJ155","v":0.96864714754482517},{"$f":"+'[1]itcer regional'!CK155","v":0.96179559505596501},{"$f":"+'[1]itcer regional'!CL155","v":1.0230132991909666},{"$f":"+'[1]itcer regional'!CM155","v":1.0246054230494597}]
[null,"Marzo",{"$f":"+'[1]itcer regional'!AK156","v":101.81910405718213},{"$f":"+'[1]itcer regional'!AL156","v":103.23818223907151},{"$f":"+'[1]itcer regional'!AM156","v":93.128882126248556},{"$f":"+'[1]itcer regional'!AN156","v":101.12257231260038},{"$f":"+'[1]itcer regional'!AO156","v":106.43766817473031},{"$f":"+'[1]itcer regional'!AP156","v":101.46287474588422},null,{"$f":"+'[1]itcer regional'!BT156","v":0.56946196623538015},{"$f":"+'[1]itcer regional'!BU156","v":-8.7119267247018684E-2},{"$f":"+'[1]itcer regional'!BV156","v":-0.71897857595071457},{"$f":"+'[1]itcer regional'!BW156","v":0.48959344564649143},{"$f":"+'[1]itcer regional'!BX156","v":0.59592676632375685},{"$f":"+'[1]itcer regional'!BY156","v":-0.72270619377169965},null,{"$f":"+'[1]itcer regional'!CA156","v":1.0831282631963177},{"$f":"+'[1]itcer regional'!CB156","v":0.94771913379669059},{"$f":"+'[1]itcer regional'!CC156","v":0.96173122348844042},{"$f":"+'[1]itcer regional'!CD156","v":1.0510159708864724},{"$f":"+'[1]itcer regional'!CE156","v":1.036506389766422},{"$f":"+'[1]itcer regional'!CF156","v":0.9949494353015258},null,{"$f":"+'[1]itcer regional'!CH156","v":0.94004659943701763},{"$f":"+'[1]itcer regional'!CI156","v":1.0893331004670701},{"$f":"+'[1]itcer regional'!CJ156","v":0.96834624738964736},{"$f":"+'[1]itcer regional'!CK156","v":0.96214115782949727},{"$f":"+'[1]itcer regional'!CL156","v":1.0268886832305604},{"$f":"+'[1]itcer regional'!CM156","v":1.019779208328665}]
[null,"Abril",{"$f":"+'[1]itcer regional'!AK157","v":103.13710266147937},{"$f":"+'[1]itcer regional'!AL157","v":103.68110966659279},{"$f":"+'[1]itcer regional'!AM157","v":91.654631527893457},{"$f":"+'[1]itcer regional'!AN157","v":101.54005586511016},{"$f":"+'[1]itcer regional'!AO157","v":106.69611691426627},{"$f":"+'[1]itcer regional'!AP157","v":103.64528885505976},null,{"$f":"+'[1]itcer regional'!BT157","v":1.2944511901784637},{"$f":"+'[1]itcer regional'!BU157","v":0.42903450827485301},{"$f":"+'[1]itcer regional'!BV157","v":-1.5830218990028868},{"$f":"+'[1]itcer regional'!BW157","v":0.41284902367712561},{"$f":"+'[1]itcer regional'!BX157","v":0.24281698760223946},{"$f":"+'[1]itcer regional'!BY157","v":2.1509484278278563},null,{"$f":"+'[1]itcer regional'!CA157","v":1.0931224895672502},{"$f":"+'[1]itcer regional'!CB157","v":0.95014893069883666},{"$f":"+'[1]itcer regional'!CC157","v":0.94769934698173386},{"$f":"+'[1]itcer regional'!CD157","v":1.0586484258446953},{"$f":"+'[1]itcer regional'!CE157","v":1.0408885952790121},{"$f":"+'[1]itcer regional'!CF157","v":1.0191391222264228},null,{"$f":"+'[1]itcer regional'!CH157","v":0.94350910941654598},{"$f":"+'[1]itcer regional'!CI157","v":1.0912090338336231},{"$f":"+'[1]itcer regional'!CJ157","v":0.96712772695051807},{"$f":"+'[1]itcer regional'!CK157","v":0.95914803617727351},{"$f":"+'[1]itcer regional'!CL157","v":1.0250483807603463},{"$f":"+'[1]itcer regional'!CM157","v":1.016988619067386}]
[null,"Mayo",{"$f":"+'[1]itcer regional'!AK158","v":103.24250433585495},{"$f":"+'[1]itcer regional'!AL158","v":103.53789665850009},{"$f":"+'[1]itcer regional'!AM158","v":91.75314338765277},{"$f":"+'[1]itcer regional'!AN158","v":101.40610693956972},{"$f":"+'[1]itcer regional'!AO158","v":106.76202738259593},{"$f":"+'[1]itcer regional'!AP158","v":103.84072420362479},null,{"$f":"+'[1]itcer regional'!BT158","v":0.10219569064445011},{"$f":"+'[1]itcer regional'!BU158","v":-0.13812835197582274},{"$f":"+'[1]itcer regional'!BV158","v":0.10748159489281761},{"$f":"+'[1]itcer regional'!BW158","v":-0.13191732503908327},{"$f":"+'[1]itcer regional'!BX158","v":6.1774008498005628E-2},{"$f":"+'[1]itcer regional'!BY158","v":0.18856172887736022},null,{"$f":"+'[1]itcer regional'!CA158","v":1.0979691365437141},{"$f":"+'[1]itcer regional'!CB158","v":0.94453705151213019},{"$f":"+'[1]itcer regional'!CC158","v":0.94949729081904111},{"$f":"+'[1]itcer regional'!CD158","v":1.0597742833716517},{"$f":"+'[1]itcer regional'!CE158","v":1.0426680419074636},{"$f":"+'[1]itcer regional'!CF158","v":1.0132666764512357},null,{"$f":"+'[1]itcer regional'!CH158","v":0.94030424808525126},{"$f":"+'[1]itcer regional'!CI158","v":1.0961761266299084},{"$f":"+'[1]itcer regional'!CJ158","v":0.96633391453393236},{"$f":"+'[1]itcer regional'!CK158","v":0.95686514129167344},{"$f":"+'[1]itcer regional'!CL158","v":1.0239311371554536},{"$f":"+'[1]itcer regional'!CM158","v":1.0248114007588427}]
[null,"Junio",{"$f":"+'[1]itcer regional'!AK159","v":103.73369052700335},{"$f":"+'[1]itcer regional'!AL159","v":103.00649478138865},{"$f":"+'[1]itcer regional'!AM159","v":91.88049584411219},{"$f":"+'[1]itcer regional'!AN159","v":101.01118002761974},{"$f":"+'[1]itcer regional'!AO159","v":107.52273348997849},{"$f":"+'[1]itcer regional'!AP159","v":103.83283317156098},null,{"$f":"+'[1]itcer regional'!BT159","v":0.47575966343332254},{"$f":"+'[1]itcer regional'!BU159","v":-0.51324384043087434},{"$f":"+'[1]itcer regional'!BV159","v":0.13879901195468847},{"$f":"+'[1]itcer regional'!BW159","v":-0.38945081698612682},{"$f":"+'[1]itcer regional'!BX159","v":0.71252497356243794},{"$f":"+'[1]itcer regional'!BY159","v":-7.5991689429457665E-3},null,{"$f":"+'[1]itcer regional'!CA159","v":1.1039788544859965},{"$f":"+'[1]itcer regional'!CB159","v":0.93965993401222503},{"$f":"+'[1]itcer regional'!CC159","v":0.9496265552638532},{"$f":"+'[1]itcer regional'!CD159","v":1.0614162536155827},{"$f":"+'[1]itcer regional'!CE159","v":1.0448757454984514},{"$f":"+'[1]itcer regional'!CF159","v":1.0078298874542686},null,{"$f":"+'[1]itcer regional'!CH159","v":0.93963475935687979},{"$f":"+'[1]itcer regional'!CI159","v":1.0962103528407814},{"$f":"+'[1]itcer regional'!CJ159","v":0.96754345521206775},{"$f":"+'[1]itcer regional'!CK159","v":0.95166415328140797},{"$f":"+'[1]itcer regional'!CL159","v":1.0290480370820114},{"$f":"+'[1]itcer regional'!CM159","v":1.030261500121195}]
[null,"Julio",{"$f":"+'[1]itcer regional'!AK160","v":103.76382819627149},{"$f":"+'[1]itcer regional'!AL160","v":103.72848293139735},{"$f":"+'[1]itcer regional'!AM160","v":90.857408831750107},{"$f":"+'[1]itcer regional'!AN160","v":101.37194610946342},{"$f":"+'[1]itcer regional'!AO160","v":108.19398490840462},{"$f":"+'[1]itcer regional'!AP160","v":104.20597234199312},null,{"$f":"+'[1]itcer regional'!BT160","v":2.9052923033034972E-2},{"$f":"+'[1]itcer regional'!BU160","v":0.70091517194228459},{"$f":"+'[1]itcer regional'!BV160","v":-1.1134974871031318},{"$f":"+'[1]itcer regional'!BW160","v":0.35715460580208003},{"$f":"+'[1]itcer regional'!BX160","v":0.62428790325415662},{"$f":"+'[1]itcer regional'!BY160","v":0.35936529808024886},null,{"$f":"+'[1]itcer regional'!CA160","v":1.114963610723432},{"$f":"+'[1]itcer regional'!CB160","v":0.94000505590590133},{"$f":"+'[1]itcer regional'!CC160","v":0.94116407907441535},{"$f":"+'[1]itcer regional'!CD160","v":1.0672611427624741},{"$f":"+'[1]itcer regional'!CE160","v":1.0440835638086063},{"$f":"+'[1]itcer regional'!CF160","v":1.0061180532453349},null,{"$f":"+'[1]itcer regional'!CH160","v":0.93064766597131787},{"$f":"+'[1]itcer regional'!CI160","v":1.1034885640208836},{"$f":"+'[1]itcer regional'!CJ160","v":0.9653726789180429},{"$f":"+'[1]itcer regional'!CK160","v":0.94983263278071406},{"$f":"+'[1]itcer regional'!CL160","v":1.0362579074967406},{"$f":"+'[1]itcer regional'!CM160","v":1.0357231142594678}]
[null,"Agosto",{"$f":"+'[1]itcer regional'!AK161","v":103.66954622580934},{"$f":"+'[1]itcer regional'!AL161","v":104.74211391031909},{"$f":"+'[1]itcer regional'!AM161","v":89.827944376739225},{"$f":"+'[1]itcer regional'!AN161","v":101.49502984197767},{"$f":"+'[1]itcer regional'!AO161","v":108.8884893501792},{"$f":"+'[1]itcer regional'!AP161","v":103.74974331973701},null,{"$f":"+'[1]itcer regional'!BT161","v":-9.086207795246537E-2},{"$f":"+'[1]itcer regional'!BU161","v":0.97719637873439069},{"$f":"+'[1]itcer regional'!BV161","v":-1.1330550455354143},{"$f":"+'[1]itcer regional'!BW161","v":0.121417943758658},{"$f":"+'[1]itcer regional'!BX161","v":0.64190670337407596},{"$f":"+'[1]itcer regional'!BY161","v":-0.43781465879787618},null,{"$f":"+'[1]itcer regional'!CA161","v":1.1265325241514432},{"$f":"+'[1]itcer regional'!CB161","v":0.94255846082790395},{"$f":"+'[1]itcer regional'!CC161","v":0.92793702319956206},{"$f":"+'[1]itcer regional'!CD161","v":1.0749566609357832},{"$f":"+'[1]itcer regional'!CE161","v":1.0480392093495796},{"$f":"+'[1]itcer regional'!CF161","v":1.0063683906282326},null,{"$f":"+'[1]itcer regional'!CH161","v":0.92025346808249597},{"$f":"+'[1]itcer regional'!CI161","v":1.1112532353517679},{"$f":"+'[1]itcer regional'!CJ161","v":0.96803923252258095},{"$f":"+'[1]itcer regional'!CK161","v":0.94417787740040682},{"$f":"+'[1]itcer regional'!CL161","v":1.0389734313256864},{"$f":"+'[1]itcer regional'!CM161","v":1.0309320551589514}]
[null,"Septiembre",{"$f":"+'[1]itcer regional'!AK162","v":103.86639704738657},{"$f":"+'[1]itcer regional'!AL162","v":104.71658778551739},{"$f":"+'[1]itcer regional'!AM162","v":89.891044369280351},{"$f":"+'[1]itcer regional'!AN162","v":101.50692654634489},{"$f":"+'[1]itcer regional'!AO162","v":108.66523737338177},{"$f":"+'[1]itcer regional'!AP162","v":101.8852040837704},null,{"$f":"+'[1]itcer regional'!BT162","v":0.1898829779272404},{"$f":"+'[1]itcer regional'!BU162","v":-2.4370450288557777E-2},{"$f":"+'[1]itcer regional'!BV162","v":7.024539298872412E-2},{"$f":"+'[1]itcer regional'!BW162","v":1.1721464968019291E-2},{"$f":"+'[1]itcer regional'!BX162","v":-0.20502807792610156},{"$f":"+'[1]itcer regional'!BY162","v":-1.7971506977327607},null,{"$f":"+'[1]itcer regional'!CA162","v":1.1331038691668045},{"$f":"+'[1]itcer regional'!CB162","v":0.93879970889192732},{"$f":"+'[1]itcer regional'!CC162","v":0.92584956193611057},{"$f":"+'[1]itcer regional'!CD162","v":1.0782180727094612},{"$f":"+'[1]itcer regional'!CE162","v":1.05082833342686},{"$f":"+'[1]itcer regional'!CF162","v":1.0019376858736273},null,{"$f":"+'[1]itcer regional'!CH162","v":0.91665380265413599},{"$f":"+'[1]itcer regional'!CI162","v":1.115430552371125},{"$f":"+'[1]itcer regional'!CJ162","v":0.97090335260625638},{"$f":"+'[1]itcer regional'!CK162","v":0.9414322493340096},{"$f":"+'[1]itcer regional'!CL162","v":1.0340912394226487},{"$f":"+'[1]itcer regional'!CM162","v":1.0168816436416688}]
[null,"Octubre",{"$f":"+'[1]itcer regional'!AK163","v":104.49153486894821},{"$f":"+'[1]itcer regional'!AL163","v":105.05432485972928},{"$f":"+'[1]itcer regional'!AM163","v":89.036900222363798},{"$f":"+'[1]itcer regional'!AN163","v":101.86488739382018},{"$f":"+'[1]itcer regional'!AO163","v":109.31536974884757},{"$f":"+'[1]itcer regional'!AP163","v":99.282612065028388},null,{"$f":"+'[1]itcer regional'!BT163","v":0.60186724420259452},{"$f":"+'[1]itcer regional'!BU163","v":0.32252490398528266},{"$f":"+'[1]itcer regional'!BV163","v":-0.95019938071656895},{"$f":"+'[1]itcer regional'!BW163","v":0.35264672043031453},{"$f":"+'[1]itcer regional'!BX163","v":0.59828919641698519},{"$f":"+'[1]itcer regional'!BY163","v":-2.5544356927450877},null,{"$f":"+'[1]itcer regional'!CA163","v":1.143745398280658},{"$f":"+'[1]itcer regional'!CB163","v":0.93935697454776279},{"$f":"+'[1]itcer regional'!CC163","v":0.9161375683359062},{"$f":"+'[1]itcer regional'!CD163","v":1.0850106687577612},{"$f":"+'[1]itcer regional'!CE163","v":1.053498814019163},{"$f":"+'[1]itcer regional'!CF163","v":1.0006231413103384},null,{"$f":"+'[1]itcer regional'!CH163","v":0.91359086581704019},{"$f":"+'[1]itcer regional'!CI163","v":1.1183642396470828},{"$f":"+'[1]itcer regional'!CJ163","v":0.97187260188546243},{"$f":"+'[1]itcer regional'!CK163","v":0.93883765687250109},{"$f":"+'[1]itcer regional'!CL163","v":1.0376411277750062},{"$f":"+'[1]itcer regional'!CM163","v":0.99220783495987896}]
[null,"Noviembre",{"$f":"+'[1]itcer regional'!AK164","v":104.91586444659816},{"$f":"+'[1]itcer regional'!AL164","v":106.32708491623616},{"$f":"+'[1]itcer regional'!AM164","v":87.241892097529458},{"$f":"+'[1]itcer regional'!AN164","v":102.28693521500269},{"$f":"+'[1]itcer regional'!AO164","v":110.56014924031749},{"$f":"+'[1]itcer regional'!AP164","v":99.529086698000697},null,{"$f":"+'[1]itcer regional'!BT164","v":0.40608990784004106},{"$f":"+'[1]itcer regional'!BU164","v":1.2115256161098387},{"$f":"+'[1]itcer regional'!BV164","v":-2.0160271981071105},{"$f":"+'[1]itcer regional'!BW164","v":0.41432119740223072},{"$f":"+'[1]itcer regional'!BX164","v":1.1387049180090543},{"$f":"+'[1]itcer regional'!BY164","v":0.24825558861290631},null,{"$f":"+'[1]itcer regional'!CA164","v":1.158235940959141},{"$f":"+'[1]itcer regional'!CB164","v":0.94412596648248415},{"$f":"+'[1]itcer regional'!CC164","v":0.89933017016262629},{"$f":"+'[1]itcer regional'!CD164","v":1.0938005748751238},{"$f":"+'[1]itcer regional'!CE164","v":1.0581973693836533},{"$f":"+'[1]itcer regional'!CF164","v":1.0023180354966945},null,{"$f":"+'[1]itcer regional'!CH164","v":0.90582463154887793},{"$f":"+'[1]itcer regional'!CI164","v":1.1261959599774316},{"$f":"+'[1]itcer regional'!CJ164","v":0.9700763411701564},{"$f":"+'[1]itcer regional'!CK164","v":0.93515159494847144},{"$f":"+'[1]itcer regional'!CL164","v":1.0447970524129464},{"$f":"+'[1]itcer regional'!CM164","v":0.99298908303769551}]
[null,"Diciembre",{"$f":"+'[1]itcer regional'!AK165","v":105.32897827920881},{"$f":"+'[1]itcer regional'!AL165","v":106.16879128623071},{"$f":"+'[1]itcer regional'!AM165","v":87.329710356676543},{"$f":"+'[1]itcer regional'!AN165","v":102.21729420603903},{"$f":"+'[1]itcer regional'!AO165","v":110.34571812638768},{"$f":"+'[1]itcer regional'!AP165","v":97.808505013427805},null,{"$f":"+'[1]itcer regional'!BT165","v":0.39375725948569595},{"$f":"+'[1]itcer regional'!BU165","v":-0.14887423099217756},{"$f":"+'[1]itcer regional'!BV165","v":0.10066065399969659},{"$f":"+'[1]itcer regional'!BW165","v":-6.8083972618083521E-2},{"$f":"+'[1]itcer regional'!BX165","v":-0.19394973270496507},{"$f":"+'[1]itcer regional'!BY165","v":-1.7287224686323412},null,{"$f":"+'[1]itcer regional'!CA165","v":1.1648593015340414},{"$f":"+'[1]itcer regional'!CB165","v":0.93923842380918632},{"$f":"+'[1]itcer regional'!CC165","v":0.9005429187862436},{"$f":"+'[1]itcer regional'!CD165","v":1.095306032361933},{"$f":"+'[1]itcer regional'!CE165","v":1.0569907759828843},{"$f":"+'[1]itcer regional'!CF165","v":0.99683396200387608},null,{"$f":"+'[1]itcer regional'!CH165","v":0.90422060535978577},{"$f":"+'[1]itcer regional'!CI165","v":1.1303710388641397},{"$f":"+'[1]itcer regional'!CJ165","v":0.96974512302400839},{"$f":"+'[1]itcer regional'!CK165","v":0.93323045054007658},{"$f":"+'[1]itcer regional'!CL165","v":1.0439610319567678},{"$f":"+'[1]itcer regional'!CM165","v":0.98119153983085794}]
[2003,"Enero",{"$f":"+'[1]itcer regional'!AK166","v":105.74841409031556},{"$f":"+'[1]itcer regional'!AL166","v":104.66639693480631},{"$f":"+'[1]itcer regional'!AM166","v":88.561431991624545},{"$f":"+'[1]itcer regional'!AN166","v":102.06425203182293},{"$f":"+'[1]itcer regional'!AO166","v":110.15110351202914},{"$f":"+'[1]itcer regional'!AP166","v":94.615045983212042},null,{"$f":"+'[1]itcer regional'!BT166","v":0.39821501922756397},{"$f":"+'[1]itcer regional'!BU166","v":-1.415099798371017},{"$f":"+'[1]itcer regional'!BV166","v":1.4104267950933718},{"$f":"+'[1]itcer regional'!BW166","v":-0.14972238837354723},{"$f":"+'[1]itcer regional'!BX166","v":-0.17636807088031503},{"$f":"+'[1]itcer regional'!BY166","v":-3.2650115956453334},null,{"$f":"+'[1]itcer regional'!CA166","v":1.1636881344323482},{"$f":"+'[1]itcer regional'!CB166","v":0.9274242038778715},{"$f":"+'[1]itcer regional'!CC166","v":0.91493276139708235},{"$f":"+'[1]itcer regional'!CD166","v":1.0909883043871602},{"$f":"+'[1]itcer regional'!CE166","v":1.0548214391374646},{"$f":"+'[1]itcer regional'!CF166","v":0.98660112301509206},null,{"$f":"+'[1]itcer regional'!CH166","v":0.90873500348871461},{"$f":"+'[1]itcer regional'!CI166","v":1.1285709009659339},{"$f":"+'[1]itcer regional'!CJ166","v":0.96795563267833107},{"$f":"+'[1]itcer regional'!CK166","v":0.93552104657212976},{"$f":"+'[1]itcer regional'!CL166","v":1.0442630328228872},{"$f":"+'[1]itcer regional'!CM166","v":0.95899998262788022}]
[null,"Febrero",{"$f":"+'[1]itcer regional'!AK167","v":106.38234561560181},{"$f":"+'[1]itcer regional'!AL167","v":104.87860860404932},{"$f":"+'[1]itcer regional'!AM167","v":88.615185181825396},{"$f":"+'[1]itcer regional'!AN167","v":101.51365751228688},{"$f":"+'[1]itcer regional'!AO167","v":109.30268901545573},{"$f":"+'[1]itcer regional'!AP167","v":94.375594658154867},null,{"$f":"+'[1]itcer regional'!BT167","v":0.59947142540106313},{"$f":"+'[1]itcer regional'!BU167","v":0.20275052496091917},{"$f":"+'[1]itcer regional'!BV167","v":6.0695936133853934E-2},{"$f":"+'[1]itcer regional'!BW167","v":-0.53945873170596315},{"$f":"+'[1]itcer regional'!BX167","v":-0.77022786837605395},{"$f":"+'[1]itcer regional'!BY167","v":-0.25307954202089888},null,{"$f":"+'[1]itcer regional'!CA167","v":1.1688668169284142},{"$f":"+'[1]itcer regional'!CB167","v":0.92269437771403962},{"$f":"+'[1]itcer regional'!CC167","v":0.91481054734060419},{"$f":"+'[1]itcer regional'!CD167","v":1.0925617355928865},{"$f":"+'[1]itcer regional'!CE167","v":1.054797517383856},{"$f":"+'[1]itcer regional'!CF167","v":1.0156637687528793},null,{"$f":"+'[1]itcer regional'!CH167","v":0.9101323099851254},{"$f":"+'[1]itcer regional'!CI167","v":1.1366559842261568},{"$f":"+'[1]itcer regional'!CJ167","v":0.96867253487002059},{"$f":"+'[1]itcer regional'!CK167","v":0.92913429241780776},{"$f":"+'[1]itcer regional'!CL167","v":1.0362433283551131},{"$f":"+'[1]itcer regional'!CM167","v":0.92920115457143337}]
[null,"Marzo",{"$f":"+'[1]itcer regional'!AK168","v":105.67289570884418},{"$f":"+'[1]itcer regional'!AL168","v":103.98733272645622},{"$f":"+'[1]itcer regional'!AM168","v":88.875956268190691},{"$f":"+'[1]itcer regional'!AN168","v":101.28593254042779},{"$f":"+'[1]itcer regional'!AO168","v":109.36665619712579},{"$f":"+'[1]itcer regional'!AP168","v":115.65566567469598},null,{"$f":"+'[1]itcer regional'!BT168","v":-0.666886881138268},{"$f":"+'[1]itcer regional'!BU168","v":-0.84981664941604151},{"$f":"+'[1]itcer regional'!BV168","v":0.29427358960005279},{"$f":"+'[1]itcer regional'!BW168","v":-0.2243293931474426},{"$f":"+'[1]itcer regional'!BX168","v":5.8522971617861685E-2},{"$f":"+'[1]itcer regional'!BY168","v":22.548277543173441},null,{"$f":"+'[1]itcer regional'!CA168","v":1.1641553336772008},{"$f":"+'[1]itcer regional'!CB168","v":0.91359183828570556},{"$f":"+'[1]itcer regional'!CC168","v":0.91765323246287378},{"$f":"+'[1]itcer regional'!CD168","v":1.0899109660013633},{"$f":"+'[1]itcer regional'!CE168","v":1.0526417617255674},{"$f":"+'[1]itcer regional'!CF168","v":1.2607703796993011},null,{"$f":"+'[1]itcer regional'!CH168","v":0.90772161284574215},{"$f":"+'[1]itcer regional'!CI168","v":1.1382252814515239},{"$f":"+'[1]itcer regional'!CJ168","v":0.96851352040310512},{"$f":"+'[1]itcer regional'!CK168","v":0.92930464689260783},{"$f":"+'[1]itcer regional'!CL168","v":1.0389731832208895},{"$f":"+'[1]itcer regional'!CM168","v":0.91734123466860262}]
[null,"Abril",{"$f":"+'[1]itcer regional'!AK169","v":105.37670932665918},{"$f":"+'[1]itcer regional'!AL169","v":104.17445993791685},{"$f":"+'[1]itcer regional'!AM169","v":88.411870020656394},{"$f":"+'[1]itcer regional'!AN169","v":101.24948649654763},{"$f":"+'[1]itcer regional'!AO169","v":110.30145451385881},{"$f":"+'[1]itcer regional'!AP169","v":120.91852169349532},null,{"$f":"+'[1]itcer regional'!BT169","v":-0.28028604704944371},{"$f":"+'[1]itcer regional'!BU169","v":0.17995192929207349},{"$f":"+'[1]itcer regional'!BV169","v":-0.52217300046130788},{"$f":"+'[1]itcer regional'!BW169","v":-3.5983322625398273E-2},{"$f":"+'[1]itcer regional'!BX169","v":0.85473795143569475},{"$f":"+'[1]itcer regional'!BY169","v":4.5504524037777401},null,{"$f":"+'[1]itcer regional'!CA169","v":1.1698596247870354},{"$f":"+'[1]itcer regional'!CB169","v":0.91061307493862786},{"$f":"+'[1]itcer regional'!CC169","v":0.91428459089177372},{"$f":"+'[1]itcer regional'!CD169","v":1.0921811065053459},{"$f":"+'[1]itcer regional'!CE169","v":1.0541826634696312},{"$f":"+'[1]itcer regional'!CF169","v":1.3147618025809404},null,{"$f":"+'[1]itcer regional'!CH169","v":0.90076370783240112},{"$f":"+'[1]itcer regional'!CI169","v":1.1440035598537595},{"$f":"+'[1]itcer regional'!CJ169","v":0.96700601652294427},{"$f":"+'[1]itcer regional'!CK169","v":0.92703935174740226},{"$f":"+'[1]itcer regional'!CL169","v":1.0463220306699379},{"$f":"+'[1]itcer regional'!CM169","v":0.91969907747644086}]
[null,"Mayo",{"$f":"+'[1]itcer regional'!AK170","v":105.56701679476767},{"$f":"+'[1]itcer regional'!AL170","v":104.36885041332279},{"$f":"+'[1]itcer regional'!AM170","v":87.951725138630735},{"$f":"+'[1]itcer regional'!AN170","v":101.40110829924025},{"$f":"+'[1]itcer regional'!AO170","v":109.87734006705493},{"$f":"+'[1]itcer regional'!AP170","v":128.61907947274344},null,{"$f":"+'[1]itcer regional'!BT170","v":0.18059727744824272},{"$f":"+'[1]itcer regional'!BU170","v":0.18660089576829364},{"$f":"+'[1]itcer regional'!BV170","v":-0.5204559997635414},{"$f":"+'[1]itcer regional'!BW170","v":0.14975068806673164},{"$f":"+'[1]itcer regional'!BX170","v":-0.38450485415003754},{"$f":"+'[1]itcer regional'!BY170","v":6.3683856463011494},null,{"$f":"+'[1]itcer regional'!CA170","v":1.1746304330488038},{"$f":"+'[1]itcer regional'!CB170","v":0.90810383156216867},{"$f":"+'[1]itcer regional'!CC170","v":0.91017291369916453},{"$f":"+'[1]itcer regional'!CD170","v":1.0934274726581561},{"$f":"+'[1]itcer regional'!CE170","v":1.0556013551255161},{"$f":"+'[1]itcer regional'!CF170","v":1.4109799244082053},null,{"$f":"+'[1]itcer regional'!CH170","v":0.89872536778026368},{"$f":"+'[1]itcer regional'!CI170","v":1.1493052532746384},{"$f":"+'[1]itcer regional'!CJ170","v":0.96631885892070202},{"$f":"+'[1]itcer regional'!CK170","v":0.92736931195565275},{"$f":"+'[1]itcer regional'!CL170","v":1.0408980580930571},{"$f":"+'[1]itcer regional'!CM170","v":0.91155853636038797}]
[null,"Junio",{"$f":"+'[1]itcer regional'!AK171","v":105.75205464071142},{"$f":"+'[1]itcer regional'!AL171","v":103.98908821729333},{"$f":"+'[1]itcer regional'!AM171","v":87.932077896806859},{"$f":"+'[1]itcer regional'!AN171","v":101.63819054977427},{"$f":"+'[1]itcer regional'!AO171","v":109.23856960542538},{"$f":"+'[1]itcer regional'!AP171","v":138.06336381313153},null,{"$f":"+'[1]itcer regional'!BT171","v":0.17527998001827427},{"$f":"+'[1]itcer regional'!BU171","v":-0.36386545844428042},{"$f":"+'[1]itcer regional'!BV171","v":-2.2338665663355073E-2},{"$f":"+'[1]itcer regional'!BW171","v":0.23380637007868188},{"$f":"+'[1]itcer regional'!BX171","v":-0.58134867593237516},{"$f":"+'[1]itcer regional'!BY171","v":7.3428330999597051},null,{"$f":"+'[1]itcer regional'!CA171","v":1.1769835409851197},{"$f":"+'[1]itcer regional'!CB171","v":0.90354771775639486},{"$f":"+'[1]itcer regional'!CC171","v":0.90747891059696495},{"$f":"+'[1]itcer regional'!CD171","v":1.0943860884126475},{"$f":"+'[1]itcer regional'!CE171","v":1.0561856364885602},{"$f":"+'[1]itcer regional'!CF171","v":1.585149577019624},null,{"$f":"+'[1]itcer regional'!CH171","v":0.89850070929792558},{"$f":"+'[1]itcer regional'!CI171","v":1.1508975804344821},{"$f":"+'[1]itcer regional'!CJ171","v":0.96897103469834545},{"$f":"+'[1]itcer regional'!CK171","v":0.92872334202635376},{"$f":"+'[1]itcer regional'!CL171","v":1.0342743342790059},{"$f":"+'[1]itcer regional'!CM171","v":0.87098003756034392}]
[null,"Julio",{"$f":"+'[1]itcer regional'!AK172","v":105.12997011643111},{"$f":"+'[1]itcer regional'!AL172","v":104.25486610497325},{"$f":"+'[1]itcer regional'!AM172","v":87.261172407599261},{"$f":"+'[1]itcer regional'!AN172","v":101.52696657513938},{"$f":"+'[1]itcer regional'!AO172","v":109.9659381146479},{"$f":"+'[1]itcer regional'!AP172","v":158.78036036129294},null,{"$f":"+'[1]itcer regional'!BT172","v":-0.58824816822124149},{"$f":"+'[1]itcer regional'!BU172","v":0.25558247719659732},{"$f":"+'[1]itcer regional'!BV172","v":-0.76298150260356579},{"$f":"+'[1]itcer regional'!BW172","v":-0.1094312817192673},{"$f":"+'[1]itcer regional'!BX172","v":0.66585319805065524},{"$f":"+'[1]itcer regional'!BY172","v":15.005426476644317},null,{"$f":"+'[1]itcer regional'!CA172","v":1.1775723441158075},{"$f":"+'[1]itcer regional'!CB172","v":0.89930152049756162},{"$f":"+'[1]itcer regional'!CC172","v":0.90159650791883417},{"$f":"+'[1]itcer regional'!CD172","v":1.0963958178816415},{"$f":"+'[1]itcer regional'!CE172","v":1.0591502124213046},{"$f":"+'[1]itcer regional'!CF172","v":1.8830009029126844},null,{"$f":"+'[1]itcer regional'!CH172","v":0.89276867482285382},{"$f":"+'[1]itcer regional'!CI172","v":1.1592871103708529},{"$f":"+'[1]itcer regional'!CJ172","v":0.96785171239211265},{"$f":"+'[1]itcer regional'!CK172","v":0.92600651078093987},{"$f":"+'[1]itcer regional'!CL172","v":1.0382468588969711},{"$f":"+'[1]itcer regional'!CM172","v":0.84323039949522327}]
[null,"Agosto",{"$f":"+'[1]itcer regional'!AK173","v":105.97096779473877},{"$f":"+'[1]itcer regional'!AL173","v":104.16094446745159},{"$f":"+'[1]itcer regional'!AM173","v":87.268208052918609},{"$f":"+'[1]itcer regional'!AN173","v":101.22835312544423},{"$f":"+'[1]itcer regional'!AO173","v":110.00331383440536},{"$f":"+'[1]itcer regional'!AP173","v":150.865652736405},null,{"$f":"+'[1]itcer regional'!BT173","v":0.79995997085917736},{"$f":"+'[1]itcer regional'!BU173","v":-9.0088492777979923E-2},{"$f":"+'[1]itcer regional'!BV173","v":8.0627444317258323E-3},{"$f":"+'[1]itcer regional'!BW173","v":-0.29412230047684318},{"$f":"+'[1]itcer regional'!BX173","v":3.3988451695378785E-2},{"$f":"+'[1]itcer regional'!BY173","v":-4.9846892946196988},null,{"$f":"+'[1]itcer regional'!CA173","v":1.1872818316280465},{"$f":"+'[1]itcer regional'!CB173","v":0.89759185483089532},{"$f":"+'[1]itcer regional'!CC173","v":0.89996406306285803},{"$f":"+'[1]itcer regional'!CD173","v":1.0995677897972522},{"$f":"+'[1]itcer regional'!CE173","v":1.0543782185236594},{"$f":"+'[1]itcer regional'!CF173","v":1.8369600308305365},null,{"$f":"+'[1]itcer regional'!CH173","v":0.89255107735816419},{"$f":"+'[1]itcer regional'!CI173","v":1.1604488599896587},{"$f":"+'[1]itcer regional'!CJ173","v":0.96968547561685647},{"$f":"+'[1]itcer regional'!CK173","v":0.92061948398933724},{"$f":"+'[1]itcer regional'!CL173","v":1.0433003252706796},{"$f":"+'[1]itcer regional'!CM173","v":0.82127890756662147}]
[null,"Septiembre",{"$f":"+'[1]itcer regional'!AK174","v":106.65299120567306},{"$f":"+'[1]itcer regional'!AL174","v":103.79124991477872},{"$f":"+'[1]itcer regional'!AM174","v":87.509569005484323},{"$f":"+'[1]itcer regional'!AN174","v":101.0214615444909},{"$f":"+'[1]itcer regional'!AO174","v":110.5224397268489},{"$f":"+'[1]itcer regional'!AP174","v":139.19345929339468},null,{"$f":"+'[1]itcer regional'!BT174","v":0.64359458550509885},{"$f":"+'[1]itcer regional'!BU174","v":-0.35492626777053715},{"$f":"+'[1]itcer regional'!BV174","v":0.27657374655770184},{"$f":"+'[1]itcer regional'!BW174","v":-0.2043810598172513},{"$f":"+'[1]itcer regional'!BX174","v":0.47191841258984368},{"$f":"+'[1]itcer regional'!BY174","v":-7.736813006340256},null,{"$f":"+'[1]itcer regional'!CA174","v":1.1926100560807953},{"$f":"+'[1]itcer regional'!CB174","v":0.89172685448130251},{"$f":"+'[1]itcer regional'!CC174","v":0.90438050033000117},{"$f":"+'[1]itcer regional'!CD174","v":1.0997450560345463},{"$f":"+'[1]itcer regional'!CE174","v":1.0593062384145508},{"$f":"+'[1]itcer regional'!CF174","v":1.7160194770736157},null,{"$f":"+'[1]itcer regional'!CH174","v":0.89428217263369847},{"$f":"+'[1]itcer regional'!CI174","v":1.1639354516821381},{"$f":"+'[1]itcer regional'!CJ174","v":0.96761892780254322},{"$f":"+'[1]itcer regional'!CK174","v":0.91858982216072382},{"$f":"+'[1]itcer regional'!CL174","v":1.0433473883082791},{"$f":"+'[1]itcer regional'!CM174","v":0.81114148850318324}]
[null,"Octubre",{"$f":"+'[1]itcer regional'!AK175","v":105.65920110150783},{"$f":"+'[1]itcer regional'!AL175","v":102.88980209356816},{"$f":"+'[1]itcer regional'!AM175","v":88.418165752733074},{"$f":"+'[1]itcer regional'!AN175","v":100.72973001249248},{"$f":"+'[1]itcer regional'!AO175","v":110.98512270989363},{"$f":"+'[1]itcer regional'!AP175","v":149.13429109768742},null,{"$f":"+'[1]itcer regional'!BT175","v":-0.93179768605718039},{"$f":"+'[1]itcer regional'!BU175","v":-0.86852005535217813},{"$f":"+'[1]itcer regional'!BV175","v":1.0382827359049145},{"$f":"+'[1]itcer regional'!BW175","v":-0.28878173760131176},{"$f":"+'[1]itcer regional'!BX175","v":0.41863261812554242},{"$f":"+'[1]itcer regional'!BY175","v":7.1417377330491405},null,{"$f":"+'[1]itcer regional'!CA175","v":1.1897178158715109},{"$f":"+'[1]itcer regional'!CB175","v":0.88191939041648537},{"$f":"+'[1]itcer regional'!CC175","v":0.91241369884092616},{"$f":"+'[1]itcer regional'!CD175","v":1.09586128659545},{"$f":"+'[1]itcer regional'!CE175","v":1.0607524314391303},{"$f":"+'[1]itcer regional'!CF175","v":1.8735441601677669},null,{"$f":"+'[1]itcer regional'!CH175","v":0.88810304167891008},{"$f":"+'[1]itcer regional'!CI175","v":1.1666576697557196},{"$f":"+'[1]itcer regional'!CJ175","v":0.96905785023892155},{"$f":"+'[1]itcer regional'!CK175","v":0.91918321456023877},{"$f":"+'[1]itcer regional'!CL175","v":1.0462867623062557},{"$f":"+'[1]itcer regional'!CM175","v":0.79600093912028835}]
[null,"Noviembre",{"$f":"+'[1]itcer regional'!AK176","v":105.27678183527864},{"$f":"+'[1]itcer regional'!AL176","v":103.31645147067249},{"$f":"+'[1]itcer regional'!AM176","v":87.984383935564622},{"$f":"+'[1]itcer regional'!AN176","v":100.83431791856145},{"$f":"+'[1]itcer regional'!AO176","v":110.67196151430649},{"$f":"+'[1]itcer regional'!AP176","v":160.92027330624637},null,{"$f":"+'[1]itcer regional'!BT176","v":-0.36193654905814299},{"$f":"+'[1]itcer regional'!BU176","v":0.41466634051481321},{"$f":"+'[1]itcer regional'!BV176","v":-0.49060259673510132},{"$f":"+'[1]itcer regional'!BW176","v":0.10383022574964684},{"$f":"+'[1]itcer regional'!BX176","v":-0.28216502170809576},{"$f":"+'[1]itcer regional'!BY176","v":7.9029323985848379},null,{"$f":"+'[1]itcer regional'!CA176","v":1.1943643927470307},{"$f":"+'[1]itcer regional'!CB176","v":0.87970529194684444},{"$f":"+'[1]itcer regional'!CC176","v":0.90612099970611271},{"$f":"+'[1]itcer regional'!CD176","v":1.0987060047034729},{"$f":"+'[1]itcer regional'!CE176","v":1.0586137702590703},{"$f":"+'[1]itcer regional'!CF176","v":2.1267402077314181},null,{"$f":"+'[1]itcer regional'!CH176","v":0.88144608525328416},{"$f":"+'[1]itcer regional'!CI176","v":1.1744439008889731},{"$f":"+'[1]itcer regional'!CJ176","v":0.97100038476209138},{"$f":"+'[1]itcer regional'!CK176","v":0.91775522739384119},{"$f":"+'[1]itcer regional'!CL176","v":1.0454423003322748},{"$f":"+'[1]itcer regional'!CM176","v":0.75665223576084606}]
[null,"Diciembre",{"$f":"+'[1]itcer regional'!AK177","v":105.76216596989782},{"$f":"+'[1]itcer regional'!AL177","v":103.92460243296499},{"$f":"+'[1]itcer regional'!AM177","v":87.252708559794769},{"$f":"+'[1]itcer regional'!AN177","v":101.5522538841344},{"$f":"+'[1]itcer regional'!AO177","v":110.85693120475312},{"$f":"+'[1]itcer regional'!AP177","v":147.08837826655261},null,{"$f":"+'[1]itcer regional'!BT177","v":0.46105525468915687},{"$f":"+'[1]itcer regional'!BU177","v":0.58862935537922567},{"$f":"+'[1]itcer regional'!BV177","v":-0.83159686189959814},{"$f":"+'[1]itcer regional'!BW177","v":0.71199565821706301},{"$f":"+'[1]itcer regional'!BX177","v":0.1671332900544229},{"$f":"+'[1]itcer regional'!BY177","v":-8.5954956174915083},null,{"$f":"+'[1]itcer regional'!CA177","v":1.2077147161138024},{"$f":"+'[1]itcer regional'!CB177","v":0.88081558115739056},{"$f":"+'[1]itcer regional'!CC177","v":0.89880088126414937},{"$f":"+'[1]itcer regional'!CD177","v":1.1035139278837567},{"$f":"+'[1]itcer regional'!CE177","v":1.0609827934259088},{"$f":"+'[1]itcer regional'!CF177","v":2.0010671816679744},null,{"$f":"+'[1]itcer regional'!CH177","v":0.87572143121862811},{"$f":"+'[1]itcer regional'!CI177","v":1.1798678935312223},{"$f":"+'[1]itcer regional'!CJ177","v":0.97076794625607388},{"$f":"+'[1]itcer regional'!CK177","v":0.92026254783103967},{"$f":"+'[1]itcer regional'!CL177","v":1.0448513575493206},{"$f":"+'[1]itcer regional'!CM177","v":0.7350496755633571}]
[2004,"Enero",{"$f":"+'[1]itcer regional'!AK178","v":105.02173437009631},{"$f":"+'[1]itcer regional'!AL178","v":103.35551754610343},{"$f":"+'[1]itcer regional'!AM178","v":87.479303104805993},{"$f":"+'[1]itcer regional'!AN178","v":101.69500410589828},{"$f":"+'[1]itcer regional'!AO178","v":110.75381666739199},{"$f":"+'[1]itcer regional'!AP178","v":167.13888086848451},null,{"$f":"+'[1]itcer regional'!BT178","v":-0.70009118384759006},{"$f":"+'[1]itcer regional'!BU178","v":-0.54759399943688436},{"$f":"+'[1]itcer regional'!BV178","v":0.25969915289900314},{"$f":"+'[1]itcer regional'!BW178","v":0.14056824570998572},{"$f":"+'[1]itcer regional'!BX178","v":-9.3015868507748678E-2},{"$f":"+'[1]itcer regional'!BY178","v":13.631602196059632},null,{"$f":"+'[1]itcer regional'!CA178","v":1.2004315825056679},{"$f":"+'[1]itcer regional'!CB178","v":0.87261421254605853},{"$f":"+'[1]itcer regional'!CC178","v":0.90257800423341517},{"$f":"+'[1]itcer regional'!CD178","v":1.0997422800939731},{"$f":"+'[1]itcer regional'!CE178","v":1.0612349293134298},{"$f":"+'[1]itcer regional'!CF178","v":2.44765693116114},null,{"$f":"+'[1]itcer regional'!CH178","v":0.87486647219730618},{"$f":"+'[1]itcer regional'!CI178","v":1.1844354132685877},{"$f":"+'[1]itcer regional'!CJ178","v":0.96921598681218279},{"$f":"+'[1]itcer regional'!CK178","v":0.92471668996129186},{"$f":"+'[1]itcer regional'!CL178","v":1.0436314675304235},{"$f":"+'[1]itcer regional'!CM178","v":0.68285256295781538}]
[null,"Febrero",{"$f":"+'[1]itcer regional'!AK179","v":105.33801481524961},{"$f":"+'[1]itcer regional'!AL179","v":103.71173776202667},{"$f":"+'[1]itcer regional'!AM179","v":87.314410825871462},{"$f":"+'[1]itcer regional'!AN179","v":101.64789602914885},{"$f":"+'[1]itcer regional'!AO179","v":110.41578648908559},{"$f":"+'[1]itcer regional'!AP179","v":161.50567968991385},null,{"$f":"+'[1]itcer regional'!BT179","v":0.30115713385453091},{"$f":"+'[1]itcer regional'!BU179","v":0.34465524858346441},{"$f":"+'[1]itcer regional'!BV179","v":-0.18849290412953223},{"$f":"+'[1]itcer regional'!BW179","v":-4.6322901664240135E-2},{"$f":"+'[1]itcer regional'!BX179","v":-0.30520860452290322},{"$f":"+'[1]itcer regional'!BY179","v":-3.370371483463046},null,{"$f":"+'[1]itcer regional'!CA179","v":1.2053114433299599},{"$f":"+'[1]itcer regional'!CB179","v":0.87023800698953735},{"$f":"+'[1]itcer regional'!CC179","v":0.89841609147132628},{"$f":"+'[1]itcer regional'!CD179","v":1.1030497690776104},{"$f":"+'[1]itcer regional'!CE179","v":1.0611099818541085},{"$f":"+'[1]itcer regional'!CF179","v":2.6065884010699176},null,{"$f":"+'[1]itcer regional'!CH179","v":0.87394851677694407},{"$f":"+'[1]itcer regional'!CI179","v":1.19176290772225},{"$f":"+'[1]itcer regional'!CJ179","v":0.97187051361555221},{"$f":"+'[1]itcer regional'!CK179","v":0.92151686060501692},{"$f":"+'[1]itcer regional'!CL179","v":1.0405687287584728},{"$f":"+'[1]itcer regional'!CM179","v":0.61960561024372385}]
[null,"Marzo",{"$f":"+'[1]itcer regional'!AK180","v":106.37295568529255},{"$f":"+'[1]itcer regional'!AL180","v":103.47225395848321},{"$f":"+'[1]itcer regional'!AM180","v":86.926168389999035},{"$f":"+'[1]itcer regional'!AN180","v":102.28768523276621},{"$f":"+'[1]itcer regional'!AO180","v":110.72565199567862},{"$f":"+'[1]itcer regional'!AP180","v":149.50645429928207},null,{"$f":"+'[1]itcer regional'!BT180","v":0.98249513421922074},{"$f":"+'[1]itcer regional'!BU180","v":-0.23091292144094666},{"$f":"+'[1]itcer regional'!BV180","v":-0.44464874950217848},{"$f":"+'[1]itcer regional'!BW180","v":0.62941706479972481},{"$f":"+'[1]itcer regional'!BX180","v":0.2806351486919425},{"$f":"+'[1]itcer regional'!BY180","v":-7.4295996361675662},null,{"$f":"+'[1]itcer regional'!CA180","v":1.2149964514786156},{"$f":"+'[1]itcer regional'!CB180","v":0.86870981969460959},{"$f":"+'[1]itcer regional'!CC180","v":0.89585664223477013},{"$f":"+'[1]itcer regional'!CD180","v":1.1069095402980373},{"$f":"+'[1]itcer regional'!CE180","v":1.063039178445222},{"$f":"+'[1]itcer regional'!CF180","v":2.4555293989169242},null,{"$f":"+'[1]itcer regional'!CH180","v":0.87550013463693455},{"$f":"+'[1]itcer regional'!CI180","v":1.1911026169228562},{"$f":"+'[1]itcer regional'!CJ180","v":0.97031337707287957},{"$f":"+'[1]itcer regional'!CK180","v":0.9240835091657541},{"$f":"+'[1]itcer regional'!CL180","v":1.0415952134297022},{"$f":"+'[1]itcer regional'!CM180","v":0.60885629944086916}]
[null,"Abril",{"$f":"+'[1]itcer regional'!AK181","v":107.22019764588795},{"$f":"+'[1]itcer regional'!AL181","v":103.50021088763113},{"$f":"+'[1]itcer regional'!AM181","v":86.468920348115105},{"$f":"+'[1]itcer regional'!AN181","v":102.57769647922254},{"$f":"+'[1]itcer regional'!AO181","v":111.02962323334687},{"$f":"+'[1]itcer regional'!AP181","v":142.54026792952428},null,{"$f":"+'[1]itcer regional'!BT181","v":0.7964824847980907},{"$f":"+'[1]itcer regional'!BU181","v":2.7018768876075683E-2},{"$f":"+'[1]itcer regional'!BV181","v":-0.52601886215950344},{"$f":"+'[1]itcer regional'!BW181","v":0.28352508495659379},{"$f":"+'[1]itcer regional'!BX181","v":0.27452648251744449},{"$f":"+'[1]itcer regional'!BY181","v":-4.6594552739595372},null,{"$f":"+'[1]itcer regional'!CA181","v":1.2265191415831023},{"$f":"+'[1]itcer regional'!CB181","v":0.86983244821150185},{"$f":"+'[1]itcer regional'!CC181","v":0.88792215487697801},{"$f":"+'[1]itcer regional'!CD181","v":1.1135328646957781},{"$f":"+'[1]itcer regional'!CE181","v":1.0661639766580231},{"$f":"+'[1]itcer regional'!CF181","v":2.3391632904702342},null,{"$f":"+'[1]itcer regional'!CH181","v":0.8741828318104834},{"$f":"+'[1]itcer regional'!CI181","v":1.1898867546323681},{"$f":"+'[1]itcer regional'!CJ181","v":0.97383447268635193},{"$f":"+'[1]itcer regional'!CK181","v":0.92119145946578962},{"$f":"+'[1]itcer regional'!CL181","v":1.041393497287145},{"$f":"+'[1]itcer regional'!CM181","v":0.6093643334359522}]
[null,"Mayo",{"$f":"+'[1]itcer regional'!AK182","v":108.11893572689672},{"$f":"+'[1]itcer regional'!AL182","v":103.70050750107811},{"$f":"+'[1]itcer regional'!AM182","v":85.421787680866231},{"$f":"+'[1]itcer regional'!AN182","v":103.10811113518133},{"$f":"+'[1]itcer regional'!AO182","v":111.22693278487461},{"$f":"+'[1]itcer regional'!AP182","v":147.96279359486954},null,{"$f":"+'[1]itcer regional'!BT182","v":0.83821714634122202},{"$f":"+'[1]itcer regional'!BU182","v":0.19352290370156311},{"$f":"+'[1]itcer regional'!BV182","v":-1.2109931094701096},{"$f":"+'[1]itcer regional'!BW182","v":0.51708575466619777},{"$f":"+'[1]itcer regional'!BX182","v":0.17770892648447045},{"$f":"+'[1]itcer regional'!BY182","v":3.8042061686219881},null,{"$f":"+'[1]itcer regional'!CA182","v":1.2344336612894833},{"$f":"+'[1]itcer regional'!CB182","v":0.87056098683661687},{"$f":"+'[1]itcer regional'!CC182","v":0.87777278465983921},{"$f":"+'[1]itcer regional'!CD182","v":1.1192970412356773},{"$f":"+'[1]itcer regional'!CE182","v":1.0696384940223604},{"$f":"+'[1]itcer regional'!CF182","v":2.4734928125320383},null,{"$f":"+'[1]itcer regional'!CH182","v":0.87585861530992482},{"$f":"+'[1]itcer regional'!CI182","v":1.1911917610493632},{"$f":"+'[1]itcer regional'!CJ182","v":0.97316514220669847},{"$f":"+'[1]itcer regional'!CK182","v":0.92118631012686691},{"$f":"+'[1]itcer regional'!CL182","v":1.0398553661490555},{"$f":"+'[1]itcer regional'!CM182","v":0.5981937479066477}]
[null,"Junio",{"$f":"+'[1]itcer regional'!AK183","v":108.18416727793976},{"$f":"+'[1]itcer regional'!AL183","v":104.14749165312003},{"$f":"+'[1]itcer regional'!AM183","v":84.733947070303145},{"$f":"+'[1]itcer regional'!AN183","v":103.34317090087123},{"$f":"+'[1]itcer regional'!AO183","v":111.7920748054535},{"$f":"+'[1]itcer regional'!AP183","v":149.55030404999724},null,{"$f":"+'[1]itcer regional'!BT183","v":6.0333142020382979E-2},{"$f":"+'[1]itcer regional'!BU183","v":0.43103371701171511},{"$f":"+'[1]itcer regional'!BV183","v":-0.80522853622876767},{"$f":"+'[1]itcer regional'!BW183","v":0.2279740779866728},{"$f":"+'[1]itcer regional'!BX183","v":0.50809817948673697},{"$f":"+'[1]itcer regional'!BY183","v":1.0729119237058882},null,{"$f":"+'[1]itcer regional'!CA183","v":1.2432620518124082},{"$f":"+'[1]itcer regional'!CB183","v":0.87090421629034864},{"$f":"+'[1]itcer regional'!CC183","v":0.86977591086481354},{"$f":"+'[1]itcer regional'!CD183","v":1.1242836540563199},{"$f":"+'[1]itcer regional'!CE183","v":1.072030045292891},{"$f":"+'[1]itcer regional'!CF183","v":2.5340524716792006},null,{"$f":"+'[1]itcer regional'!CH183","v":0.87016383328221558},{"$f":"+'[1]itcer regional'!CI183","v":1.1958547186364585},{"$f":"+'[1]itcer regional'!CJ183","v":0.97420434403676048},{"$f":"+'[1]itcer regional'!CK183","v":0.91919126039071941},{"$f":"+'[1]itcer regional'!CL183","v":1.0428072916082367},{"$f":"+'[1]itcer regional'!CM183","v":0.59016261786756552}]
[null,"Julio",{"$f":"+'[1]itcer regional'!AK184","v":108.59525002110176},{"$f":"+'[1]itcer regional'!AL184","v":104.78016906063998},{"$f":"+'[1]itcer regional'!AM184","v":84.381319712256015},{"$f":"+'[1]itcer regional'!AN184","v":103.08864546214681},{"$f":"+'[1]itcer regional'!AO184","v":112.10406367647049},{"$f":"+'[1]itcer regional'!AP184","v":139.49224328419947},null,{"$f":"+'[1]itcer regional'!BT184","v":0.37998420055853899},{"$f":"+'[1]itcer regional'!BU184","v":0.60748213660986039},{"$f":"+'[1]itcer regional'!BV184","v":-0.4161583051885458},{"$f":"+'[1]itcer regional'!BW184","v":-0.24629149319267185},{"$f":"+'[1]itcer regional'!BX184","v":0.27907959625932222},{"$f":"+'[1]itcer regional'!BY184","v":-6.7255368216671627},null,{"$f":"+'[1]itcer regional'!CA184","v":1.2566606274183132},{"$f":"+'[1]itcer regional'!CB184","v":0.8720490779426544},{"$f":"+'[1]itcer regional'!CC184","v":0.86347499232326042},{"$f":"+'[1]itcer regional'!CD184","v":1.13000179856515},{"$f":"+'[1]itcer regional'!CE184","v":1.0729979711971183},{"$f":"+'[1]itcer regional'!CF184","v":2.3586622914247415},null,{"$f":"+'[1]itcer regional'!CH184","v":0.86415733613139556},{"$f":"+'[1]itcer regional'!CI184","v":1.2015398182386505},{"$f":"+'[1]itcer regional'!CJ184","v":0.97722945612148171},{"$f":"+'[1]itcer regional'!CK184","v":0.91228744585226673},{"$f":"+'[1]itcer regional'!CL184","v":1.0447742370975655},{"$f":"+'[1]itcer regional'!CM184","v":0.59140405047108147}]
[null,"Agosto",{"$f":"+'[1]itcer regional'!AK185","v":108.75098320550414},{"$f":"+'[1]itcer regional'!AL185","v":104.68273770508715},{"$f":"+'[1]itcer regional'!AM185","v":84.491893746685321},{"$f":"+'[1]itcer regional'!AN185","v":103.44530657853608},{"$f":"+'[1]itcer regional'!AO185","v":112.42752829575207},{"$f":"+'[1]itcer regional'!AP185","v":127.79904201119895},null,{"$f":"+'[1]itcer regional'!BT185","v":0.14340699466330875},{"$f":"+'[1]itcer regional'!BU185","v":-9.2986446220038488E-2},{"$f":"+'[1]itcer regional'!BV185","v":0.13104089247046602},{"$f":"+'[1]itcer regional'!BW185","v":0.34597517000088374},{"$f":"+'[1]itcer regional'!BX185","v":0.28853960211030483},{"$f":"+'[1]itcer regional'!BY185","v":-8.3826892432842754},null,{"$f":"+'[1]itcer regional'!CA185","v":1.2670977753428216},{"$f":"+'[1]itcer regional'!CB185","v":0.86966094020005236},{"$f":"+'[1]itcer regional'!CC185","v":0.86360177175095154},{"$f":"+'[1]itcer regional'!CD185","v":1.1336291905210405},{"$f":"+'[1]itcer regional'!CE185","v":1.0729316122718366},{"$f":"+'[1]itcer regional'!CF185","v":2.1612115037110402},null,{"$f":"+'[1]itcer regional'!CH185","v":0.85826828301455138},{"$f":"+'[1]itcer regional'!CI185","v":1.2037189767428953},{"$f":"+'[1]itcer regional'!CJ185","v":0.97836637800520165},{"$f":"+'[1]itcer regional'!CK185","v":0.91251449277687002},{"$f":"+'[1]itcer regional'!CL185","v":1.0478536284125031},{"$f":"+'[1]itcer regional'!CM185","v":0.59133056524895322}]
[null,"Septiembre",{"$f":"+'[1]itcer regional'!AK186","v":109.609242386074},{"$f":"+'[1]itcer regional'!AL186","v":105.02721342563667},{"$f":"+'[1]itcer regional'!AM186","v":83.920268856602675},{"$f":"+'[1]itcer regional'!AN186","v":104.27978731774502},{"$f":"+'[1]itcer regional'!AO186","v":112.21275200990833},{"$f":"+'[1]itcer regional'!AP186","v":116.17864047076232},null,{"$f":"+'[1]itcer regional'!BT186","v":0.78919670909827744},{"$f":"+'[1]itcer regional'!BU186","v":0.32906640397578713},{"$f":"+'[1]itcer regional'!BV186","v":-0.6765440620805947},{"$f":"+'[1]itcer regional'!BW186","v":0.80668786899036604},{"$f":"+'[1]itcer regional'!BX186","v":-0.1910353176837134},{"$f":"+'[1]itcer regional'!BY186","v":-9.0927141217680969},null,{"$f":"+'[1]itcer regional'!CA186","v":1.2813543772530025},{"$f":"+'[1]itcer regional'!CB186","v":0.86914371006076929},{"$f":"+'[1]itcer regional'!CC186","v":0.86153697354437198},{"$f":"+'[1]itcer regional'!CD186","v":1.1383478213354019},{"$f":"+'[1]itcer regional'!CE186","v":1.0715387223817789},{"$f":"+'[1]itcer regional'!CF186","v":1.9303868774592041},null,{"$f":"+'[1]itcer regional'!CH186","v":0.8554170831417991},{"$f":"+'[1]itcer regional'!CI186","v":1.2083987056443557},{"$f":"+'[1]itcer regional'!CJ186","v":0.97407623159054724},{"$f":"+'[1]itcer regional'!CK186","v":0.91606260725666289},{"$f":"+'[1]itcer regional'!CL186","v":1.0472113575185198},{"$f":"+'[1]itcer regional'!CM186","v":0.60184122585664213}]
[null,"Octubre",{"$f":"+'[1]itcer regional'!AK187","v":111.43594183060019},{"$f":"+'[1]itcer regional'!AL187","v":105.95674201735878},{"$f":"+'[1]itcer regional'!AM187","v":82.883267807860292},{"$f":"+'[1]itcer regional'!AN187","v":104.84274212630697},{"$f":"+'[1]itcer regional'!AO187","v":111.71371969531538},{"$f":"+'[1]itcer regional'!AP187","v":100.90217131379792},null,{"$f":"+'[1]itcer regional'!BT187","v":1.6665560355686466},{"$f":"+'[1]itcer regional'!BU187","v":0.88503594583156087},{"$f":"+'[1]itcer regional'!BV187","v":-1.2356979581587666},{"$f":"+'[1]itcer regional'!BW187","v":0.53985036126572084},{"$f":"+'[1]itcer regional'!BX187","v":-0.44471978955554903},{"$f":"+'[1]itcer regional'!BY187","v":-13.14912026433025},null,{"$f":"+'[1]itcer regional'!CA187","v":1.3003102938086302},{"$f":"+'[1]itcer regional'!CB187","v":0.87210265475319604},{"$f":"+'[1]itcer regional'!CC187","v":0.8532798330399548},{"$f":"+'[1]itcer regional'!CD187","v":1.1459082681755797},{"$f":"+'[1]itcer regional'!CE187","v":1.0734612875293814},{"$f":"+'[1]itcer regional'!CF187","v":1.6854564905343097},null,{"$f":"+'[1]itcer regional'!CH187","v":0.8569949985107207},{"$f":"+'[1]itcer regional'!CI187","v":1.2149572236693216},{"$f":"+'[1]itcer regional'!CJ187","v":0.97134919399857989},{"$f":"+'[1]itcer regional'!CK187","v":0.91493136962201105},{"$f":"+'[1]itcer regional'!CL187","v":1.0406869907011684},{"$f":"+'[1]itcer regional'!CM187","v":0.59866375596447907}]
[null,"Noviembre",{"$f":"+'[1]itcer regional'!AK188","v":112.00964251407757},{"$f":"+'[1]itcer regional'!AL188","v":107.26659971186085},{"$f":"+'[1]itcer regional'!AM188","v":81.809948951994741},{"$f":"+'[1]itcer regional'!AN188","v":105.10677851600562},{"$f":"+'[1]itcer regional'!AO188","v":111.76926344835863},{"$f":"+'[1]itcer regional'!AP188","v":94.849455697629466},null,{"$f":"+'[1]itcer regional'!BT188","v":0.51482553478973614},{"$f":"+'[1]itcer regional'!BU188","v":1.2362193000304558},{"$f":"+'[1]itcer regional'!BV188","v":-1.2949765184858677},{"$f":"+'[1]itcer regional'!BW188","v":0.25184040816155573},{"$f":"+'[1]itcer regional'!BX188","v":4.9719723946822114E-2},{"$f":"+'[1]itcer regional'!BY188","v":-5.9985979859095124},null,{"$f":"+'[1]itcer regional'!CA188","v":1.3170410823377559},{"$f":"+'[1]itcer regional'!CB188","v":0.87446755688012212},{"$f":"+'[1]itcer regional'!CC188","v":0.84582474981579792},{"$f":"+'[1]itcer regional'!CD188","v":1.1514032423750784},{"$f":"+'[1]itcer regional'!CE188","v":1.0742685656006812},{"$f":"+'[1]itcer regional'!CF188","v":1.5431565922171351},null,{"$f":"+'[1]itcer regional'!CH188","v":0.85046430226200498},{"$f":"+'[1]itcer regional'!CI188","v":1.2266504213668117},{"$f":"+'[1]itcer regional'!CJ188","v":0.96722103449693519},{"$f":"+'[1]itcer regional'!CK188","v":0.91285810780934273},{"$f":"+'[1]itcer regional'!CL188","v":1.0404219859664463},{"$f":"+'[1]itcer regional'!CM188","v":0.61464569555675619}]
[null,"Diciembre",{"$f":"+'[1]itcer regional'!AK189","v":111.87850288239572},{"$f":"+'[1]itcer regional'!AL189","v":107.42531408573262},{"$f":"+'[1]itcer regional'!AM189","v":81.530571489669583},{"$f":"+'[1]itcer regional'!AN189","v":105.26033507197849},{"$f":"+'[1]itcer regional'!AO189","v":112.42267385535352},{"$f":"+'[1]itcer regional'!AP189","v":94.299375817504981},null,{"$f":"+'[1]itcer regional'!BT189","v":-0.11707887708449505},{"$f":"+'[1]itcer regional'!BU189","v":0.14796252915456876},{"$f":"+'[1]itcer regional'!BV189","v":-0.34149570547843666},{"$f":"+'[1]itcer regional'!BW189","v":0.14609576864681628},{"$f":"+'[1]itcer regional'!BX189","v":0.58460652493856458},{"$f":"+'[1]itcer regional'!BY189","v":-0.57995048688322015},null,{"$f":"+'[1]itcer regional'!CA189","v":1.3271021235159552},{"$f":"+'[1]itcer regional'!CB189","v":0.87255494757885821},{"$f":"+'[1]itcer regional'!CC189","v":0.84475052748792645},{"$f":"+'[1]itcer regional'!CD189","v":1.1527292647104996},{"$f":"+'[1]itcer regional'!CE189","v":1.0727426660187138},{"$f":"+'[1]itcer regional'!CF189","v":1.5013475096199689},null,{"$f":"+'[1]itcer regional'!CH189","v":0.84302858762663013},{"$f":"+'[1]itcer regional'!CI189","v":1.2311581566732668},{"$f":"+'[1]itcer regional'!CJ189","v":0.96514377720628108},{"$f":"+'[1]itcer regional'!CK189","v":0.91314013007567674},{"$f":"+'[1]itcer regional'!CL189","v":1.0479929382560078},{"$f":"+'[1]itcer regional'!CM189","v":0.62809825981843914}]
[2005,"Enero",{"$f":"+'[1]itcer regional'!AK190","v":111.41313587803374},{"$f":"+'[1]itcer regional'!AL190","v":106.95099895839458},{"$f":"+'[1]itcer regional'!AM190","v":81.041640597257441},{"$f":"+'[1]itcer regional'!AN190","v":106.16125949284523},{"$f":"+'[1]itcer regional'!AO190","v":114.21684106997446},{"$f":"+'[1]itcer regional'!AP190","v":97.918631458774001},null,{"$f":"+'[1]itcer regional'!BT190","v":-0.41595748278037092},{"$f":"+'[1]itcer regional'!BU190","v":-0.44153012851282369},{"$f":"+'[1]itcer regional'!BV190","v":-0.59969025542044108},{"$f":"+'[1]itcer regional'!BW190","v":0.85590115236729503},{"$f":"+'[1]itcer regional'!BX190","v":1.5959122418039726},{"$f":"+'[1]itcer regional'!BY190","v":3.8380483538653181},null,{"$f":"+'[1]itcer regional'!CA190","v":1.3329184761701396},{"$f":"+'[1]itcer regional'!CB190","v":0.87048784513704025},{"$f":"+'[1]itcer regional'!CC190","v":0.83992215758793853},{"$f":"+'[1]itcer regional'!CD190","v":1.1554682272329515},{"$f":"+'[1]itcer regional'!CE190","v":1.0797659416516956},{"$f":"+'[1]itcer regional'!CF190","v":1.547826649567865},null,{"$f":"+'[1]itcer regional'!CH190","v":0.83585859052802614},{"$f":"+'[1]itcer regional'!CI190","v":1.2286328816177479},{"$f":"+'[1]itcer regional'!CJ190","v":0.96487084981768112},{"$f":"+'[1]itcer regional'!CK190","v":0.91877264117486013},{"$f":"+'[1]itcer regional'!CL190","v":1.0577925887832629},{"$f":"+'[1]itcer regional'!CM190","v":0.6326201418363725}]
[null,"Febrero",{"$f":"+'[1]itcer regional'!AK191","v":111.84269548634522},{"$f":"+'[1]itcer regional'!AL191","v":107.87819931011035},{"$f":"+'[1]itcer regional'!AM191","v":80.274686351749395},{"$f":"+'[1]itcer regional'!AN191","v":105.95892456941147},{"$f":"+'[1]itcer regional'!AO191","v":114.68629632006805},{"$f":"+'[1]itcer regional'!AP191","v":95.303492594277472},null,{"$f":"+'[1]itcer regional'!BT191","v":0.3855556213602398},{"$f":"+'[1]itcer regional'!BU191","v":0.866939402853518},{"$f":"+'[1]itcer regional'!BV191","v":-0.94637058166119914},{"$f":"+'[1]itcer regional'!BW191","v":-0.1905920525061191},{"$f":"+'[1]itcer regional'!BX191","v":0.41102104181464938},{"$f":"+'[1]itcer regional'!BY191","v":-2.6707265262357822},null,{"$f":"+'[1]itcer regional'!CA191","v":1.3426849170459978},{"$f":"+'[1]itcer regional'!CB191","v":0.87069551108159204},{"$f":"+'[1]itcer regional'!CC191","v":0.83266140808348521},{"$f":"+'[1]itcer regional'!CD191","v":1.1602805352481078},{"$f":"+'[1]itcer regional'!CE191","v":1.0896921631446925},{"$f":"+'[1]itcer regional'!CF191","v":1.4947902137424911},null,{"$f":"+'[1]itcer regional'!CH191","v":0.83297796874345698},{"$f":"+'[1]itcer regional'!CI191","v":1.2389888076499016},{"$f":"+'[1]itcer regional'!CJ191","v":0.9640735786772624},{"$f":"+'[1]itcer regional'!CK191","v":0.91321815156326669},{"$f":"+'[1]itcer regional'!CL191","v":1.0524650924266552},{"$f":"+'[1]itcer regional'!CM191","v":0.63757102313151415}]
[null,"Marzo",{"$f":"+'[1]itcer regional'!AK192","v":112.69906776327115},{"$f":"+'[1]itcer regional'!AL192","v":109.04468166616226},{"$f":"+'[1]itcer regional'!AM192","v":79.056269822248055},{"$f":"+'[1]itcer regional'!AN192","v":106.17355711908722},{"$f":"+'[1]itcer regional'!AO192","v":114.72393412841087},{"$f":"+'[1]itcer regional'!AP192","v":94.29094468494371},null,{"$f":"+'[1]itcer regional'!BT192","v":0.76569352446489347},{"$f":"+'[1]itcer regional'!BU192","v":1.0812957237993146},{"$f":"+'[1]itcer regional'!BV192","v":-1.5178091436725936},{"$f":"+'[1]itcer regional'!BW192","v":0.20256203103983239},{"$f":"+'[1]itcer regional'!BX192","v":3.2818051982232532E-2},{"$f":"+'[1]itcer regional'!BY192","v":-1.0624457527955968},null,{"$f":"+'[1]itcer regional'!CA192","v":1.3572079912424706},{"$f":"+'[1]itcer regional'!CB192","v":0.87514791603252695},{"$f":"+'[1]itcer regional'!CC192","v":0.81988818291113319},{"$f":"+'[1]itcer regional'!CD192","v":1.1670319468366621},{"$f":"+'[1]itcer regional'!CE192","v":1.0951128079107102},{"$f":"+'[1]itcer regional'!CF192","v":1.4692934100268771},null,{"$f":"+'[1]itcer regional'!CH192","v":0.83037433090929258},{"$f":"+'[1]itcer regional'!CI192","v":1.2460142984801368},{"$f":"+'[1]itcer regional'!CJ192","v":0.96423233643333128},{"$f":"+'[1]itcer regional'!CK192","v":0.90977421318139184},{"$f":"+'[1]itcer regional'!CL192","v":1.0475992363497668},{"$f":"+'[1]itcer regional'!CM192","v":0.64174346690372008}]
[null,"Abril",{"$f":"+'[1]itcer regional'!AK193","v":113.25951067968602},{"$f":"+'[1]itcer regional'!AL193","v":109.32027952596802},{"$f":"+'[1]itcer regional'!AM193","v":78.918070727923407},{"$f":"+'[1]itcer regional'!AN193","v":106.12469393709677},{"$f":"+'[1]itcer regional'!AO193","v":113.71959012741276},{"$f":"+'[1]itcer regional'!AP193","v":94.37055844626363},null,{"$f":"+'[1]itcer regional'!BT193","v":0.49729152826010647},{"$f":"+'[1]itcer regional'!BU193","v":0.25273846976736536},{"$f":"+'[1]itcer regional'!BV193","v":-0.1748110486813772},{"$f":"+'[1]itcer regional'!BW193","v":-4.6021988258004853E-2},{"$f":"+'[1]itcer regional'!BX193","v":-0.87544417703978183},{"$f":"+'[1]itcer regional'!BY193","v":8.4434153869111128E-2},null,{"$f":"+'[1]itcer regional'!CA193","v":1.3650088961938835},{"$f":"+'[1]itcer regional'!CB193","v":0.87421218766441688},{"$f":"+'[1]itcer regional'!CC193","v":0.81722163507454482},{"$f":"+'[1]itcer regional'!CD193","v":1.1686845637718954},{"$f":"+'[1]itcer regional'!CE193","v":1.0957502611442382},{"$f":"+'[1]itcer regional'!CF193","v":1.4635400078746885},null,{"$f":"+'[1]itcer regional'!CH193","v":0.82973459730183929},{"$f":"+'[1]itcer regional'!CI193","v":1.2505005199942685},{"$f":"+'[1]itcer regional'!CJ193","v":0.9656874872227863},{"$f":"+'[1]itcer regional'!CK193","v":0.90806961285244003},{"$f":"+'[1]itcer regional'!CL193","v":1.0378239838032159},{"$f":"+'[1]itcer regional'!CM193","v":0.6448102405024505}]
[null,"Mayo",{"$f":"+'[1]itcer regional'!AK194","v":112.97006082823428},{"$f":"+'[1]itcer regional'!AL194","v":109.07425208144983},{"$f":"+'[1]itcer regional'!AM194","v":78.801349658874315},{"$f":"+'[1]itcer regional'!AN194","v":106.63242084134269},{"$f":"+'[1]itcer regional'!AO194","v":114.08527105741256},{"$f":"+'[1]itcer regional'!AP194","v":96.771309067893881},null,{"$f":"+'[1]itcer regional'!BT194","v":-0.25556339570488262},{"$f":"+'[1]itcer regional'!BU194","v":-0.22505197167900803},{"$f":"+'[1]itcer regional'!BV194","v":-0.14790157434472917},{"$f":"+'[1]itcer regional'!BW194","v":0.4784248466684744},{"$f":"+'[1]itcer regional'!BX194","v":0.32156370735252437},{"$f":"+'[1]itcer regional'!BY194","v":2.5439614442859266},null,{"$f":"+'[1]itcer regional'!CA194","v":1.3721585301084984},{"$f":"+'[1]itcer regional'!CB194","v":0.87302405607866296},{"$f":"+'[1]itcer regional'!CC194","v":0.81366688537503762},{"$f":"+'[1]itcer regional'!CD194","v":1.170099523412971},{"$f":"+'[1]itcer regional'!CE194","v":1.0990387344342329},{"$f":"+'[1]itcer regional'!CF194","v":1.4836442532911398},null,{"$f":"+'[1]itcer regional'!CH194","v":0.82330181498271626},{"$f":"+'[1]itcer regional'!CI194","v":1.2493842675008922},{"$f":"+'[1]itcer regional'!CJ194","v":0.96847187805305579},{"$f":"+'[1]itcer regional'!CK194","v":0.9113106937289831},{"$f":"+'[1]itcer regional'!CL194","v":1.0380459530950177},{"$f":"+'[1]itcer regional'!CM194","v":0.65225412933880822}]
[null,"Junio",{"$f":"+'[1]itcer regional'!AK195","v":113.63084573649328},{"$f":"+'[1]itcer regional'!AL195","v":109.41770141879915},{"$f":"+'[1]itcer regional'!AM195","v":78.632509963599418},{"$f":"+'[1]itcer regional'!AN195","v":106.10784187013969},{"$f":"+'[1]itcer regional'!AO195","v":113.51350210202513},{"$f":"+'[1]itcer regional'!AP195","v":97.508812982722532},null,{"$f":"+'[1]itcer regional'!BT195","v":0.58492037927084084},{"$f":"+'[1]itcer regional'!BU195","v":0.31487663751556738},{"$f":"+'[1]itcer regional'!BV195","v":-0.21425990291510288},{"$f":"+'[1]itcer regional'!BW195","v":-0.49195072855329158},{"$f":"+'[1]itcer regional'!BX195","v":-0.50117683912034749},{"$f":"+'[1]itcer regional'!BY195","v":0.76211009433717436},null,{"$f":"+'[1]itcer regional'!CA195","v":1.3794158255560023},{"$f":"+'[1]itcer regional'!CB195","v":0.87052064271699048},{"$f":"+'[1]itcer regional'!CC195","v":0.81450364087549143},{"$f":"+'[1]itcer regional'!CD195","v":1.1680488079256286},{"$f":"+'[1]itcer regional'!CE195","v":1.0969915355390978},{"$f":"+'[1]itcer regional'!CF195","v":1.4884710871690507},null,{"$f":"+'[1]itcer regional'!CH195","v":0.82376063570745262},{"$f":"+'[1]itcer regional'!CI195","v":1.2569225363489887},{"$f":"+'[1]itcer regional'!CJ195","v":0.9654040328055391},{"$f":"+'[1]itcer regional'!CK195","v":0.90841958957673763},{"$f":"+'[1]itcer regional'!CL195","v":1.0347709934356135},{"$f":"+'[1]itcer regional'!CM195","v":0.65509376583307533}]
[null,"Julio",{"$f":"+'[1]itcer regional'!AK196","v":113.66783236266338},{"$f":"+'[1]itcer regional'!AL196","v":110.25026719957721},{"$f":"+'[1]itcer regional'!AM196","v":77.967315592648944},{"$f":"+'[1]itcer regional'!AN196","v":105.89089208534737},{"$f":"+'[1]itcer regional'!AO196","v":114.18506477463625},{"$f":"+'[1]itcer regional'!AP196","v":97.77257888731161},null,{"$f":"+'[1]itcer regional'!BT196","v":3.2549811567776032E-2},{"$f":"+'[1]itcer regional'!BU196","v":0.76090593202226842},{"$f":"+'[1]itcer regional'!BV196","v":-0.84595337381244917},{"$f":"+'[1]itcer regional'!BW196","v":-0.20446159394876418},{"$f":"+'[1]itcer regional'!BX196","v":0.59161479487042357},{"$f":"+'[1]itcer regional'!BY196","v":0.27050468211096756},null,{"$f":"+'[1]itcer regional'!CA196","v":1.3876908314394909},{"$f":"+'[1]itcer regional'!CB196","v":0.87023067055221293},{"$f":"+'[1]itcer regional'!CC196","v":0.80998259383641102},{"$f":"+'[1]itcer regional'!CD196","v":1.1681466787644366},{"$f":"+'[1]itcer regional'!CE196","v":1.1035297506747479},{"$f":"+'[1]itcer regional'!CF196","v":1.4875434726671997},null,{"$f":"+'[1]itcer regional'!CH196","v":0.81911496269491479},{"$f":"+'[1]itcer regional'!CI196","v":1.2669085442554773},{"$f":"+'[1]itcer regional'!CJ196","v":0.96258013673310749},{"$f":"+'[1]itcer regional'!CK196","v":0.90648626589727166},{"$f":"+'[1]itcer regional'!CL196","v":1.0347257489416879},{"$f":"+'[1]itcer regional'!CM196","v":0.65727543889526219}]
[null,"Agosto",{"$f":"+'[1]itcer regional'!AK197","v":113.40647918785375},{"$f":"+'[1]itcer regional'!AL197","v":110.5004917443309},{"$f":"+'[1]itcer regional'!AM197","v":78.039513528455728},{"$f":"+'[1]itcer regional'!AN197","v":105.41629855804511},{"$f":"+'[1]itcer regional'!AO197","v":114.52232268660397},{"$f":"+'[1]itcer regional'!AP197","v":97.198853760350431},null,{"$f":"+'[1]itcer regional'!BT197","v":-0.22992712131235749},{"$f":"+'[1]itcer regional'!BU197","v":0.22696048826868775},{"$f":"+'[1]itcer regional'!BV197","v":9.2600258528847235E-2},{"$f":"+'[1]itcer regional'!BW197","v":-0.44819107475242959},{"$f":"+'[1]itcer regional'!BX197","v":0.29536079226592449},{"$f":"+'[1]itcer regional'!BY197","v":-0.5867955345868836},null,{"$f":"+'[1]itcer regional'!CA197","v":1.3946709260612729},{"$f":"+'[1]itcer regional'!CB197","v":0.86901420117556971},{"$f":"+'[1]itcer regional'!CC197","v":0.80839400082966018},{"$f":"+'[1]itcer regional'!CD197","v":1.1666608368060711},{"$f":"+'[1]itcer regional'!CE197","v":1.1062702661543258},{"$f":"+'[1]itcer regional'!CF197","v":1.4878375182290198},null,{"$f":"+'[1]itcer regional'!CH197","v":0.81314148784995477},{"$f":"+'[1]itcer regional'!CI197","v":1.2715614036554292},{"$f":"+'[1]itcer regional'!CJ197","v":0.96536482765041853},{"$f":"+'[1]itcer regional'!CK197","v":0.90357278852901102},{"$f":"+'[1]itcer regional'!CL197","v":1.0352110708417792},{"$f":"+'[1]itcer regional'!CM197","v":0.65328943899765823}]
[null,"Septiembre",{"$f":"+'[1]itcer regional'!AK198","v":114.28387186059099},{"$f":"+'[1]itcer regional'!AL198","v":110.29890031603657},{"$f":"+'[1]itcer regional'!AM198","v":77.841324975352705},{"$f":"+'[1]itcer regional'!AN198","v":105.34738282064897},{"$f":"+'[1]itcer regional'!AO198","v":114.27174292980746},{"$f":"+'[1]itcer regional'!AP198","v":98.817278704564657},null,{"$f":"+'[1]itcer regional'!BT198","v":0.77367067474503415},{"$f":"+'[1]itcer regional'!BU198","v":-0.182434869847242},{"$f":"+'[1]itcer regional'!BV198","v":-0.25395923698417278},{"$f":"+'[1]itcer regional'!BW198","v":-6.5374840834692804E-2},{"$f":"+'[1]itcer regional'!BX198","v":-0.21880429152859904},{"$f":"+'[1]itcer regional'!BY198","v":1.6650658743410105},null,{"$f":"+'[1]itcer regional'!CA198","v":1.397916424783616},{"$f":"+'[1]itcer regional'!CB198","v":0.86541074461199952},{"$f":"+'[1]itcer regional'!CC198","v":0.80977647596684843},{"$f":"+'[1]itcer regional'!CD198","v":1.1636492921290911},{"$f":"+'[1]itcer regional'!CE198","v":1.1063587785807534},{"$f":"+'[1]itcer regional'!CF198","v":1.5544378255346403},null,{"$f":"+'[1]itcer regional'!CH198","v":0.81753007429096503},{"$f":"+'[1]itcer regional'!CI198","v":1.2745265875510736},{"$f":"+'[1]itcer regional'!CJ198","v":0.96126927967884657},{"$f":"+'[1]itcer regional'!CK198","v":0.90531901263737558},{"$f":"+'[1]itcer regional'!CL198","v":1.0328633454366063},{"$f":"+'[1]itcer regional'!CM198","v":0.63571071857169315}]
[null,"Octubre",{"$f":"+'[1]itcer regional'!AK199","v":114.49841483493145},{"$f":"+'[1]itcer regional'!AL199","v":108.92678097231212},{"$f":"+'[1]itcer regional'!AM199","v":77.775104200570397},{"$f":"+'[1]itcer regional'!AN199","v":106.65574392773998},{"$f":"+'[1]itcer regional'!AO199","v":114.72410985002956},{"$f":"+'[1]itcer regional'!AP199","v":105.04467334873746},null,{"$f":"+'[1]itcer regional'!BT199","v":0.18772812895433333},{"$f":"+'[1]itcer regional'!BU199","v":-1.2440009281987017},{"$f":"+'[1]itcer regional'!BV199","v":-8.5071489730253802E-2},{"$f":"+'[1]itcer regional'!BW199","v":1.2419493223846416},{"$f":"+'[1]itcer regional'!BX199","v":0.39586944998291074},{"$f":"+'[1]itcer regional'!BY199","v":6.3019288992878728},null,{"$f":"+'[1]itcer regional'!CA199","v":1.3994027293199518},{"$f":"+'[1]itcer regional'!CB199","v":0.86058154035109957},{"$f":"+'[1]itcer regional'!CC199","v":0.81312467914640796},{"$f":"+'[1]itcer regional'!CD199","v":1.1594673987492041},{"$f":"+'[1]itcer regional'!CE199","v":1.1050966003672038},{"$f":"+'[1]itcer regional'!CF199","v":1.647502351812641},null,{"$f":"+'[1]itcer regional'!CH199","v":0.81819488011555208},{"$f":"+'[1]itcer regional'!CI199","v":1.2657345744119983},{"$f":"+'[1]itcer regional'!CJ199","v":0.95649666275307466},{"$f":"+'[1]itcer regional'!CK199","v":0.91986841581571632},{"$f":"+'[1]itcer regional'!CL199","v":1.0381364833799036},{"$f":"+'[1]itcer regional'!CM199","v":0.63759953503655742}]
[null,"Noviembre",{"$f":"+'[1]itcer regional'!AK200","v":113.12334409311725},{"$f":"+'[1]itcer regional'!AL200","v":110.90646823496672},{"$f":"+'[1]itcer regional'!AM200","v":76.736259826906377},{"$f":"+'[1]itcer regional'!AN200","v":106.39333205396976},{"$f":"+'[1]itcer regional'!AO200","v":115.75192174652547},{"$f":"+'[1]itcer regional'!AP200","v":109.19301782778076},null,{"$f":"+'[1]itcer regional'!BT200","v":-1.2009517719495051},{"$f":"+'[1]itcer regional'!BU200","v":1.8174476882391559},{"$f":"+'[1]itcer regional'!BV200","v":-1.3357029660609641},{"$f":"+'[1]itcer regional'!BW200","v":-0.24603632594603653},{"$f":"+'[1]itcer regional'!BX200","v":0.89589877649910932},{"$f":"+'[1]itcer regional'!BY200","v":3.9491240695958254},null,{"$f":"+'[1]itcer regional'!CA200","v":1.410062948311533},{"$f":"+'[1]itcer regional'!CB200","v":0.8627895318165123},{"$f":"+'[1]itcer regional'!CC200","v":0.80432343206528012},{"$f":"+'[1]itcer regional'!CD200","v":1.1620177734446961},{"$f":"+'[1]itcer regional'!CE200","v":1.1092574067203598},{"$f":"+'[1]itcer regional'!CF200","v":1.69127584343551},null,{"$f":"+'[1]itcer regional'!CH200","v":0.80225740438450477},{"$f":"+'[1]itcer regional'!CI200","v":1.2854405871321231},{"$f":"+'[1]itcer regional'!CJ200","v":0.95404729947838129},{"$f":"+'[1]itcer regional'!CK200","v":0.91559126276163916},{"$f":"+'[1]itcer regional'!CL200","v":1.0435082159041751},{"$f":"+'[1]itcer regional'!CM200","v":0.6456251252662345}]
[null,"Diciembre",{"$f":"+'[1]itcer regional'!AK201","v":112.85445587089569},{"$f":"+'[1]itcer regional'!AL201","v":111.20452692258557},{"$f":"+'[1]itcer regional'!AM201","v":76.903165391380398},{"$f":"+'[1]itcer regional'!AN201","v":105.94486576947639},{"$f":"+'[1]itcer regional'!AO201","v":115.66073196156745},{"$f":"+'[1]itcer regional'!AP201","v":107.87661699162607},null,{"$f":"+'[1]itcer regional'!BT201","v":-0.23769472550266357},{"$f":"+'[1]itcer regional'!BU201","v":0.2687477947520307},{"$f":"+'[1]itcer regional'!BV201","v":0.21750547244614893},{"$f":"+'[1]itcer regional'!BW201","v":-0.42151728481054818},{"$f":"+'[1]itcer regional'!BX201","v":-7.8780363714130885E-2},{"$f":"+'[1]itcer regional'!BY201","v":-1.2055723546636727},null,{"$f":"+'[1]itcer regional'!CA201","v":1.4189378679298064},{"$f":"+'[1]itcer regional'!CB201","v":0.86175630517365531},{"$f":"+'[1]itcer regional'!CC201","v":0.80323703082941966},{"$f":"+'[1]itcer regional'!CD201","v":1.160664255096693},{"$f":"+'[1]itcer regional'!CE201","v":1.1082748567296132},{"$f":"+'[1]itcer regional'!CF201","v":1.6804959715557235},null,{"$f":"+'[1]itcer regional'!CH201","v":0.79534459134244839},{"$f":"+'[1]itcer regional'!CI201","v":1.2904405370167427},{"$f":"+'[1]itcer regional'!CJ201","v":0.95741558767491675},{"$f":"+'[1]itcer regional'!CK201","v":0.91279511111204437},{"$f":"+'[1]itcer regional'!CL201","v":1.0436105381192935},{"$f":"+'[1]itcer regional'!CM201","v":0.6419332079193204}]
[2006,"Enero",{"$f":"+'[1]itcer regional'!AK202","v":112.8059634245308},{"$f":"+'[1]itcer regional'!AL202","v":111.27656851836505},{"$f":"+'[1]itcer regional'!AM202","v":76.647422272563347},{"$f":"+'[1]itcer regional'!AN202","v":106.19962593983489},{"$f":"+'[1]itcer regional'!AO202","v":115.66445336418676},{"$f":"+'[1]itcer regional'!AP202","v":111.53265221286971},null,{"$f":"+'[1]itcer regional'!BT202","v":-4.2969013487919483E-2},{"$f":"+'[1]itcer regional'!BU202","v":6.4782970417766705E-2},{"$f":"+'[1]itcer regional'!BV202","v":-0.33255213555321461},{"$f":"+'[1]itcer regional'!BW202","v":0.24046485736535317},{"$f":"+'[1]itcer regional'!BX202","v":3.2175160542351477E-3},{"$f":"+'[1]itcer regional'!BY202","v":3.3890896129301353},null,{"$f":"+'[1]itcer regional'!CA202","v":1.4231267014235416},{"$f":"+'[1]itcer regional'!CB202","v":0.85945561208305776},{"$f":"+'[1]itcer regional'!CC202","v":0.80204727501187056},{"$f":"+'[1]itcer regional'!CD202","v":1.1581931059382193},{"$f":"+'[1]itcer regional'!CE202","v":1.1124069074750247},{"$f":"+'[1]itcer regional'!CF202","v":1.7484979719917473},null,{"$f":"+'[1]itcer regional'!CH202","v":0.79266282694079127},{"$f":"+'[1]itcer regional'!CI202","v":1.2947331654355561},{"$f":"+'[1]itcer regional'!CJ202","v":0.95564718764774748},{"$f":"+'[1]itcer regional'!CK202","v":0.91694230776659291},{"$f":"+'[1]itcer regional'!CL202","v":1.0397674860427242},{"$f":"+'[1]itcer regional'!CM202","v":0.63787693208371721}]
[null,"Febrero",{"$f":"+'[1]itcer regional'!AK203","v":113.05605435903915},{"$f":"+'[1]itcer regional'!AL203","v":111.14932421845492},{"$f":"+'[1]itcer regional'!AM203","v":76.951383841839217},{"$f":"+'[1]itcer regional'!AN203","v":105.85070927217691},{"$f":"+'[1]itcer regional'!AO203","v":115.04301414452078},{"$f":"+'[1]itcer regional'!AP203","v":110.7633073768618},null,{"$f":"+'[1]itcer regional'!BT203","v":0.22170010070050239},{"$f":"+'[1]itcer regional'!BU203","v":-0.11434959003892686},{"$f":"+'[1]itcer regional'!BV203","v":0.39657115694635081},{"$f":"+'[1]itcer regional'!BW203","v":-0.3285479252588317},{"$f":"+'[1]itcer regional'!BX203","v":-0.53727761779089178},{"$f":"+'[1]itcer regional'!BY203","v":-0.68979336610730968},null,{"$f":"+'[1]itcer regional'!CA203","v":1.431152607145725},{"$f":"+'[1]itcer regional'!CB203","v":0.8590085743568493},{"$f":"+'[1]itcer regional'!CC203","v":0.79942556266595033},{"$f":"+'[1]itcer regional'!CD203","v":1.1574410947549563},{"$f":"+'[1]itcer regional'!CE203","v":1.1164601108262464},{"$f":"+'[1]itcer regional'!CF203","v":1.7257086405397182},null,{"$f":"+'[1]itcer regional'!CH203","v":0.78996505190677679},{"$f":"+'[1]itcer regional'!CI203","v":1.2939256665938852},{"$f":"+'[1]itcer regional'!CJ203","v":0.9625834778815332},{"$f":"+'[1]itcer regional'!CK203","v":0.91452351011078226},{"$f":"+'[1]itcer regional'!CL203","v":1.0304265511051904},{"$f":"+'[1]itcer regional'!CM203","v":0.64184245691799047}]
[null,"Marzo",{"$f":"+'[1]itcer regional'!AK204","v":114.03547890778945},{"$f":"+'[1]itcer regional'!AL204","v":111.03389891197084},{"$f":"+'[1]itcer regional'!AM204","v":76.864910037497708},{"$f":"+'[1]itcer regional'!AN204","v":105.89764042310074},{"$f":"+'[1]itcer regional'!AO204","v":114.76185665851953},{"$f":"+'[1]itcer regional'!AP204","v":105.51090527601929},null,{"$f":"+'[1]itcer regional'!BT204","v":0.86631764597045446},{"$f":"+'[1]itcer regional'!BU204","v":-0.10384706096567697},{"$f":"+'[1]itcer regional'!BV204","v":-0.11237459292381402},{"$f":"+'[1]itcer regional'!BW204","v":4.4337115213039624E-2},{"$f":"+'[1]itcer regional'!BX204","v":-0.24439335851201349},{"$f":"+'[1]itcer regional'!BY204","v":-4.7420054756686767},null,{"$f":"+'[1]itcer regional'!CA204","v":1.4396550677195634},{"$f":"+'[1]itcer regional'!CB204","v":0.85781390629752519},{"$f":"+'[1]itcer regional'!CC204","v":0.79987988763797357},{"$f":"+'[1]itcer regional'!CD204","v":1.1559195426654998},{"$f":"+'[1]itcer regional'!CE204","v":1.1176624747155617},{"$f":"+'[1]itcer regional'!CF204","v":1.6400439177079089},null,{"$f":"+'[1]itcer regional'!CH204","v":0.79210278534582224},{"$f":"+'[1]itcer regional'!CI204","v":1.2943821276016911},{"$f":"+'[1]itcer regional'!CJ204","v":0.9609556537854449},{"$f":"+'[1]itcer regional'!CK204","v":0.91613331650147045},{"$f":"+'[1]itcer regional'!CL204","v":1.0268024493506032},{"$f":"+'[1]itcer regional'!CM204","v":0.64334195040020115}]
[null,"Abril",{"$f":"+'[1]itcer regional'!AK205","v":115.23150647093409},{"$f":"+'[1]itcer regional'!AL205","v":111.21851001862063},{"$f":"+'[1]itcer regional'!AM205","v":76.3865073302849},{"$f":"+'[1]itcer regional'!AN205","v":106.13951701591084},{"$f":"+'[1]itcer regional'!AO205","v":114.12631178114776},{"$f":"+'[1]itcer regional'!AP205","v":104.01655321598184},null,{"$f":"+'[1]itcer regional'!BT205","v":1.0488205728602935},{"$f":"+'[1]itcer regional'!BU205","v":0.16626553553358292},{"$f":"+'[1]itcer regional'!BV205","v":-0.62239415486133964},{"$f":"+'[1]itcer regional'!BW205","v":0.22840602665338849},{"$f":"+'[1]itcer regional'!BX205","v":-0.55379452361324866},{"$f":"+'[1]itcer regional'!BY205","v":-1.4163010507095635},null,{"$f":"+'[1]itcer regional'!CA205","v":1.448252260876481},{"$f":"+'[1]itcer regional'!CB205","v":0.85840026035743133},{"$f":"+'[1]itcer regional'!CC205","v":0.79627580183157121},{"$f":"+'[1]itcer regional'!CD205","v":1.1561989185333548},{"$f":"+'[1]itcer regional'!CE205","v":1.1203182547155475},{"$f":"+'[1]itcer regional'!CF205","v":1.6158527734251149},null,{"$f":"+'[1]itcer regional'!CH205","v":0.79565908221814974},{"$f":"+'[1]itcer regional'!CI205","v":1.2956486053756564},{"$f":"+'[1]itcer regional'!CJ205","v":0.95929710729100148},{"$f":"+'[1]itcer regional'!CK205","v":0.91800394650558459},{"$f":"+'[1]itcer regional'!CL205","v":1.0186954581948218},{"$f":"+'[1]itcer regional'!CM205","v":0.64372543666523852}]
[null,"Mayo",{"$f":"+'[1]itcer regional'!AK206","v":114.44297904216006},{"$f":"+'[1]itcer regional'!AL206","v":111.91003033313214},{"$f":"+'[1]itcer regional'!AM206","v":76.197109594241795},{"$f":"+'[1]itcer regional'!AN206","v":106.00273229764011},{"$f":"+'[1]itcer regional'!AO206","v":114.38342968225894},{"$f":"+'[1]itcer regional'!AP206","v":105.4935080545369},null,{"$f":"+'[1]itcer regional'!BT206","v":-0.68429846395605409},{"$f":"+'[1]itcer regional'!BU206","v":0.62176728891236621},{"$f":"+'[1]itcer regional'!BV206","v":-0.2479465846293607},{"$f":"+'[1]itcer regional'!BW206","v":-0.12887256520134827},{"$f":"+'[1]itcer regional'!BX206","v":0.22529239497744413},{"$f":"+'[1]itcer regional'!BY206","v":1.4199228804364168},null,{"$f":"+'[1]itcer regional'!CA206","v":1.4527803307742448},{"$f":"+'[1]itcer regional'!CB206","v":0.85791595565859868},{"$f":"+'[1]itcer regional'!CC206","v":0.79412882228997383},{"$f":"+'[1]itcer regional'!CD206","v":1.1555454067072095},{"$f":"+'[1]itcer regional'!CE206","v":1.1236455640694534},{"$f":"+'[1]itcer regional'!CF206","v":1.6333414485365318},null,{"$f":"+'[1]itcer regional'!CH206","v":0.78775143507875589},{"$f":"+'[1]itcer regional'!CI206","v":1.3044404827186349},{"$f":"+'[1]itcer regional'!CJ206","v":0.95950565519732067},{"$f":"+'[1]itcer regional'!CK206","v":0.91733939386856933},{"$f":"+'[1]itcer regional'!CL206","v":1.0179671716764667},{"$f":"+'[1]itcer regional'!CM206","v":0.6458754117154053}]
[null,"Junio",{"$f":"+'[1]itcer regional'!AK207","v":114.28458019431802},{"$f":"+'[1]itcer regional'!AL207","v":111.24425255269801},{"$f":"+'[1]itcer regional'!AM207","v":76.395478755764501},{"$f":"+'[1]itcer regional'!AN207","v":106.17682307554239},{"$f":"+'[1]itcer regional'!AO207","v":115.17601054458513},{"$f":"+'[1]itcer regional'!AP207","v":105.98665008415682},null,{"$f":"+'[1]itcer regional'!BT207","v":-0.13840853250043494},{"$f":"+'[1]itcer regional'!BU207","v":-0.594922348293764},{"$f":"+'[1]itcer regional'!BV207","v":0.26033685868011958},{"$f":"+'[1]itcer regional'!BW207","v":0.16423234960912225},{"$f":"+'[1]itcer regional'!BX207","v":0.69291580478734716},{"$f":"+'[1]itcer regional'!BY207","v":0.46746196871656309},null,{"$f":"+'[1]itcer regional'!CA207","v":1.4565836127077112},{"$f":"+'[1]itcer regional'!CB207","v":0.85510586286333734},{"$f":"+'[1]itcer regional'!CC207","v":0.7954087121265393},{"$f":"+'[1]itcer regional'!CD207","v":1.1525704349292838},{"$f":"+'[1]itcer regional'!CE207","v":1.1267488919263251},{"$f":"+'[1]itcer regional'!CF207","v":1.6414548853993389},null,{"$f":"+'[1]itcer regional'!CH207","v":0.78460707093820103},{"$f":"+'[1]itcer regional'!CI207","v":1.3009412914115062},{"$f":"+'[1]itcer regional'!CJ207","v":0.96045564489128898},{"$f":"+'[1]itcer regional'!CK207","v":0.92121765280277124},{"$f":"+'[1]itcer regional'!CL207","v":1.0221976819313896},{"$f":"+'[1]itcer regional'!CM207","v":0.64568725602453603}]
[null,"Julio",{"$f":"+'[1]itcer regional'!AK208","v":114.73624064021216},{"$f":"+'[1]itcer regional'!AL208","v":110.56454498154},{"$f":"+'[1]itcer regional'!AM208","v":76.390600712352608},{"$f":"+'[1]itcer regional'!AN208","v":106.53504552390183},{"$f":"+'[1]itcer regional'!AO208","v":115.6753248731751},{"$f":"+'[1]itcer regional'!AP208","v":105.71875143400301},null,{"$f":"+'[1]itcer regional'!BT208","v":0.39520681191301321},{"$f":"+'[1]itcer regional'!BU208","v":-0.61100466366657713},{"$f":"+'[1]itcer regional'!BV208","v":-6.38525144594837E-3},{"$f":"+'[1]itcer regional'!BW208","v":0.33738290333340615},{"$f":"+'[1]itcer regional'!BX208","v":0.43352285448079897},{"$f":"+'[1]itcer regional'!BY208","v":-0.25276640967621233},null,{"$f":"+'[1]itcer regional'!CA208","v":1.4658900001163089},{"$f":"+'[1]itcer regional'!CB208","v":0.8557525109489007},{"$f":"+'[1]itcer regional'!CC208","v":0.79141697238007047},{"$f":"+'[1]itcer regional'!CD208","v":1.1529014512668514},{"$f":"+'[1]itcer regional'!CE208","v":1.1279439051974764},{"$f":"+'[1]itcer regional'!CF208","v":1.6395347988738838},null,{"$f":"+'[1]itcer regional'!CH208","v":0.78270702870685083},{"$f":"+'[1]itcer regional'!CI208","v":1.2920154316455414},{"$f":"+'[1]itcer regional'!CJ208","v":0.96523834310273993},{"$f":"+'[1]itcer regional'!CK208","v":0.92406029506543796},{"$f":"+'[1]itcer regional'!CL208","v":1.0255414683314688},{"$f":"+'[1]itcer regional'!CM208","v":0.64480943927884926}]
[null,"Agosto",{"$f":"+'[1]itcer regional'!AK209","v":114.29966564467688},{"$f":"+'[1]itcer regional'!AL209","v":111.45773144970903},{"$f":"+'[1]itcer regional'!AM209","v":76.05668073825521},{"$f":"+'[1]itcer regional'!AN209","v":106.09456084137577},{"$f":"+'[1]itcer regional'!AO209","v":116.18043755270233},{"$f":"+'[1]itcer regional'!AP209","v":105.33199517138226},null,{"$f":"+'[1]itcer regional'!BT209","v":-0.38050313754334297},{"$f":"+'[1]itcer regional'!BU209","v":0.80784167141298724},{"$f":"+'[1]itcer regional'!BV209","v":-0.43712180684998714},{"$f":"+'[1]itcer regional'!BW209","v":-0.41346458375261363},{"$f":"+'[1]itcer regional'!BX209","v":0.43666415467691877},{"$f":"+'[1]itcer regional'!BY209","v":-0.36583506461688842},null,{"$f":"+'[1]itcer regional'!CA209","v":1.4717782811404574},{"$f":"+'[1]itcer regional'!CB209","v":0.85466361530221047},{"$f":"+'[1]itcer regional'!CC209","v":0.79016087517122291},{"$f":"+'[1]itcer regional'!CD209","v":1.1515874740476679},{"$f":"+'[1]itcer regional'!CE209","v":1.1317221756507581},{"$f":"+'[1]itcer regional'!CF209","v":1.630256263324227},null,{"$f":"+'[1]itcer regional'!CH209","v":0.77660926995136725},{"$f":"+'[1]itcer regional'!CI209","v":1.3041122782592935},{"$f":"+'[1]itcer regional'!CJ209","v":0.96254678165094154},{"$f":"+'[1]itcer regional'!CK209","v":0.92128963914888995},{"$f":"+'[1]itcer regional'!CL209","v":1.0265809052110932},{"$f":"+'[1]itcer regional'!CM209","v":0.64610698048539705}]
[null,"Septiembre",{"$f":"+'[1]itcer regional'!AK210","v":114.54594284712907},{"$f":"+'[1]itcer regional'!AL210","v":110.91100327809815},{"$f":"+'[1]itcer regional'!AM210","v":76.39203530153631},{"$f":"+'[1]itcer regional'!AN210","v":105.64025306791044},{"$f":"+'[1]itcer regional'!AO210","v":116.33027437946711},{"$f":"+'[1]itcer regional'!AP210","v":106.97694088465741},null,{"$f":"+'[1]itcer regional'!BT210","v":0.21546624923452384},{"$f":"+'[1]itcer regional'!BU210","v":-0.49052512059925846},{"$f":"+'[1]itcer regional'!BV210","v":0.44092716119862985},{"$f":"+'[1]itcer regional'!BW210","v":-0.42821023986759599},{"$f":"+'[1]itcer regional'!BX210","v":0.12896906735852554},{"$f":"+'[1]itcer regional'!BY210","v":1.5616771623842425},null,{"$f":"+'[1]itcer regional'!CA210","v":1.4765755722419303},{"$f":"+'[1]itcer regional'!CB210","v":0.85243016246586445},{"$f":"+'[1]itcer regional'!CC210","v":0.79150645198896374},{"$f":"+'[1]itcer regional'!CD210","v":1.1491796959752696},{"$f":"+'[1]itcer regional'!CE210","v":1.1305745628884838},{"$f":"+'[1]itcer regional'!CF210","v":1.6410393880541507},null,{"$f":"+'[1]itcer regional'!CH210","v":0.77575401490091311},{"$f":"+'[1]itcer regional'!CI210","v":1.3011154246027701},{"$f":"+'[1]itcer regional'!CJ210","v":0.96514734794103063},{"$f":"+'[1]itcer regional'!CK210","v":0.91926661633415985},{"$f":"+'[1]itcer regional'!CL210","v":1.0289482728344523},{"$f":"+'[1]itcer regional'!CM210","v":0.65188527261069851}]
[null,"Octubre",{"$f":"+'[1]itcer regional'!AK211","v":114.03421866858115},{"$f":"+'[1]itcer regional'!AL211","v":111.33807516701906},{"$f":"+'[1]itcer regional'!AM211","v":76.397653782056736},{"$f":"+'[1]itcer regional'!AN211","v":105.34159731484426},{"$f":"+'[1]itcer regional'!AO211","v":116.29274537310864},{"$f":"+'[1]itcer regional'!AP211","v":108.57701003597451},null,{"$f":"+'[1]itcer regional'!BT211","v":-0.44674142604146994},{"$f":"+'[1]itcer regional'!BU211","v":0.38505817844787771},{"$f":"+'[1]itcer regional'!BV211","v":7.3547988324236258E-3},{"$f":"+'[1]itcer regional'!BW211","v":-0.28271018328040043},{"$f":"+'[1]itcer regional'!BX211","v":-3.2260739140056671E-2},{"$f":"+'[1]itcer regional'!BY211","v":1.4957140651856093},null,{"$f":"+'[1]itcer regional'!CA211","v":1.4723621731742211},{"$f":"+'[1]itcer regional'!CB211","v":0.8515666957397352},{"$f":"+'[1]itcer regional'!CC211","v":0.79191630145257008},{"$f":"+'[1]itcer regional'!CD211","v":1.1484343552057226},{"$f":"+'[1]itcer regional'!CE211","v":1.1356975015433004},{"$f":"+'[1]itcer regional'!CF211","v":1.6668849763682154},null,{"$f":"+'[1]itcer regional'!CH211","v":0.77449842672022884},{"$f":"+'[1]itcer regional'!CI211","v":1.3074498535937034},{"$f":"+'[1]itcer regional'!CJ211","v":0.96471879214917744},{"$f":"+'[1]itcer regional'!CK211","v":0.91726267885789703},{"$f":"+'[1]itcer regional'!CL211","v":1.0239764128659112},{"$f":"+'[1]itcer regional'!CM211","v":0.65137673909894189}]
[null,"Noviembre",{"$f":"+'[1]itcer regional'!AK212","v":112.76526774553831},{"$f":"+'[1]itcer regional'!AL212","v":111.44606692800335},{"$f":"+'[1]itcer regional'!AM212","v":76.514611169279291},{"$f":"+'[1]itcer regional'!AN212","v":105.5815528337678},{"$f":"+'[1]itcer regional'!AO212","v":117.12584597141954},{"$f":"+'[1]itcer regional'!AP212","v":109.23040166547636},null,{"$f":"+'[1]itcer regional'!BT212","v":-1.1127808282975167},{"$f":"+'[1]itcer regional'!BU212","v":9.699445658846173E-2},{"$f":"+'[1]itcer regional'!BV212","v":0.15309028672032809},{"$f":"+'[1]itcer regional'!BW212","v":0.22778800116954301},{"$f":"+'[1]itcer regional'!BX212","v":0.71638226068016309},{"$f":"+'[1]itcer regional'!BY212","v":0.60177714350888323},null,{"$f":"+'[1]itcer regional'!CA212","v":1.4617145782281935},{"$f":"+'[1]itcer regional'!CB212","v":0.85220195955303957},{"$f":"+'[1]itcer regional'!CC212","v":0.79205843822718136},{"$f":"+'[1]itcer regional'!CD212","v":1.1494038690633797},{"$f":"+'[1]itcer regional'!CE212","v":1.1439622492952817},{"$f":"+'[1]itcer regional'!CF212","v":1.675163055048202},null,{"$f":"+'[1]itcer regional'!CH212","v":0.7714588704603732},{"$f":"+'[1]itcer regional'!CI212","v":1.3077424392036632},{"$f":"+'[1]itcer regional'!CJ212","v":0.96602229679589702},{"$f":"+'[1]itcer regional'!CK212","v":0.91857662633242687},{"$f":"+'[1]itcer regional'!CL212","v":1.0238611111824092},{"$f":"+'[1]itcer regional'!CM212","v":0.65205832552421794}]
[null,"Diciembre",{"$f":"+'[1]itcer regional'!AK213","v":113.02567983273576},{"$f":"+'[1]itcer regional'!AL213","v":111.76050681811488},{"$f":"+'[1]itcer regional'!AM213","v":76.197129229802499},{"$f":"+'[1]itcer regional'!AN213","v":105.86219781896683},{"$f":"+'[1]itcer regional'!AO213","v":116.88792432713886},{"$f":"+'[1]itcer regional'!AP213","v":108.04389564420337},null,{"$f":"+'[1]itcer regional'!BT213","v":0.23093288598852268},{"$f":"+'[1]itcer regional'!BU213","v":0.28214534507948485},{"$f":"+'[1]itcer regional'!BV213","v":-0.41492982140940171},{"$f":"+'[1]itcer regional'!BW213","v":0.26580873047102216},{"$f":"+'[1]itcer regional'!BX213","v":-0.20313334115743942},{"$f":"+'[1]itcer regional'!BY213","v":-1.0862415620394046},null,{"$f":"+'[1]itcer regional'!CA213","v":1.4625756034153972},{"$f":"+'[1]itcer regional'!CB213","v":0.85206955247224547},{"$f":"+'[1]itcer regional'!CC213","v":0.7913842160413993},{"$f":"+'[1]itcer regional'!CD213","v":1.1492194067052364},{"$f":"+'[1]itcer regional'!CE213","v":1.1482935319058087},{"$f":"+'[1]itcer regional'!CF213","v":1.6511377596411376},null,{"$f":"+'[1]itcer regional'!CH213","v":0.77278521239380005},{"$f":"+'[1]itcer regional'!CI213","v":1.311635963212701},{"$f":"+'[1]itcer regional'!CJ213","v":0.96283357293818506},{"$f":"+'[1]itcer regional'!CK213","v":0.92116611676850535},{"$f":"+'[1]itcer regional'!CL213","v":1.0179272205177485},{"$f":"+'[1]itcer regional'!CM213","v":0.65436027377682848}]
[2007,"Enero",{"$f":"+'[1]itcer regional'!AK214","v":112.79225458230783},{"$f":"+'[1]itcer regional'!AL214","v":110.99968214003147},{"$f":"+'[1]itcer regional'!AM214","v":76.595181224249956},{"$f":"+'[1]itcer regional'!AN214","v":105.95789185229663},{"$f":"+'[1]itcer regional'!AO214","v":117.22700877025208},{"$f":"+'[1]itcer regional'!AP214","v":109.74937388761742},null,{"$f":"+'[1]itcer regional'!BT214","v":-0.20652408441459613},{"$f":"+'[1]itcer regional'!BU214","v":-0.68076344653806586},{"$f":"+'[1]itcer regional'!BV214","v":0.52239762635541354},{"$f":"+'[1]itcer regional'!BW214","v":9.0394905170441575E-2},{"$f":"+'[1]itcer regional'!BX214","v":0.29009364745344612},{"$f":"+'[1]itcer regional'!BY214","v":1.5785049523115333},null,{"$f":"+'[1]itcer regional'!CA214","v":1.4579984310526752},{"$f":"+'[1]itcer regional'!CB214","v":0.84708464313503051},{"$f":"+'[1]itcer regional'!CC214","v":0.79823736335203732},{"$f":"+'[1]itcer regional'!CD214","v":1.1443375723548614},{"$f":"+'[1]itcer regional'!CE214","v":1.1494146016391091},{"$f":"+'[1]itcer regional'!CF214","v":1.6746716772217298},null,{"$f":"+'[1]itcer regional'!CH214","v":0.77361026034075919},{"$f":"+'[1]itcer regional'!CI214","v":1.3103729720471091},{"$f":"+'[1]itcer regional'!CJ214","v":0.95955394649285641},{"$f":"+'[1]itcer regional'!CK214","v":0.92593212363247335},{"$f":"+'[1]itcer regional'!CL214","v":1.0198844577325006},{"$f":"+'[1]itcer regional'!CM214","v":0.65534859985027616}]
[null,"Febrero",{"$f":"+'[1]itcer regional'!AK215","v":112.99707859833363},{"$f":"+'[1]itcer regional'!AL215","v":111.66428250348986},{"$f":"+'[1]itcer regional'!AM215","v":76.665234831100292},{"$f":"+'[1]itcer regional'!AN215","v":105.04055175230971},{"$f":"+'[1]itcer regional'!AO215","v":116.56331701645844},{"$f":"+'[1]itcer regional'!AP215","v":108.49823646918253},null,{"$f":"+'[1]itcer regional'!BT215","v":0.18159404365512444},{"$f":"+'[1]itcer regional'!BU215","v":0.59874078073480064},{"$f":"+'[1]itcer regional'!BV215","v":9.1459548408451496E-2},{"$f":"+'[1]itcer regional'!BW215","v":-0.86575910859539817},{"$f":"+'[1]itcer regional'!BX215","v":-0.56615942073075587},{"$f":"+'[1]itcer regional'!BY215","v":-1.1399950397129857},null,{"$f":"+'[1]itcer regional'!CA215","v":1.4586082272685026},{"$f":"+'[1]itcer regional'!CB215","v":0.84548238974750789},{"$f":"+'[1]itcer regional'!CC215","v":0.79943834582157902},{"$f":"+'[1]itcer regional'!CD215","v":1.1426762945679896},{"$f":"+'[1]itcer regional'!CE215","v":1.1536121499795458},{"$f":"+'[1]itcer regional'!CF215","v":1.655008071553318},null,{"$f":"+'[1]itcer regional'!CH215","v":0.77469108212792903},{"$f":"+'[1]itcer regional'!CI215","v":1.3207168340530062},{"$f":"+'[1]itcer regional'!CJ215","v":0.9589887104090784},{"$f":"+'[1]itcer regional'!CK215","v":0.91925029207000619},{"$f":"+'[1]itcer regional'!CL215","v":1.0104203307716995},{"$f":"+'[1]itcer regional'!CM215","v":0.6555752708042738}]
[null,"Marzo",{"$f":"+'[1]itcer regional'!AK216","v":113.07702656515147},{"$f":"+'[1]itcer regional'!AL216","v":111.92318712420581},{"$f":"+'[1]itcer regional'!AM216","v":76.532772625633967},{"$f":"+'[1]itcer regional'!AN216","v":105.11256832977668},{"$f":"+'[1]itcer regional'!AO216","v":116.44853395306875},{"$f":"+'[1]itcer regional'!AP216","v":106.64237410125997},null,{"$f":"+'[1]itcer regional'!BT216","v":7.0752242278786071E-2},{"$f":"+'[1]itcer regional'!BU216","v":0.23185983459650572},{"$f":"+'[1]itcer regional'!BV216","v":-0.17278001659832398},{"$f":"+'[1]itcer regional'!BW216","v":6.8560737986985032E-2},{"$f":"+'[1]itcer regional'!BX216","v":-9.8472715368487229E-2},{"$f":"+'[1]itcer regional'!BY216","v":-1.7105000305232494},null,{"$f":"+'[1]itcer regional'!CA216","v":1.458009784215321},{"$f":"+'[1]itcer regional'!CB216","v":0.84560609278197452},{"$f":"+'[1]itcer regional'!CC216","v":0.79924792547999146},{"$f":"+'[1]itcer regional'!CD216","v":1.1428030020413389},{"$f":"+'[1]itcer regional'!CE216","v":1.1570154678606821},{"$f":"+'[1]itcer regional'!CF216","v":1.6271091546842007},null,{"$f":"+'[1]itcer regional'!CH216","v":0.77555739192798223},{"$f":"+'[1]itcer regional'!CI216","v":1.3235853913491531},{"$f":"+'[1]itcer regional'!CJ216","v":0.95755985327921733},{"$f":"+'[1]itcer regional'!CK216","v":0.91977854575126883},{"$f":"+'[1]itcer regional'!CL216","v":1.006456155408032},{"$f":"+'[1]itcer regional'!CM216","v":0.65541007986005573}]
[null,"Abril",{"$f":"+'[1]itcer regional'!AK217","v":112.69366134163569},{"$f":"+'[1]itcer regional'!AL217","v":112.64124985054653},{"$f":"+'[1]itcer regional'!AM217","v":76.416752149678985},{"$f":"+'[1]itcer regional'!AN217","v":105.03129782560248},{"$f":"+'[1]itcer regional'!AO217","v":116.13267876724923},{"$f":"+'[1]itcer regional'!AP217","v":104.66500396342759},null,{"$f":"+'[1]itcer regional'!BT217","v":-0.33903015949478288},{"$f":"+'[1]itcer regional'!BU217","v":0.64156743994776377},{"$f":"+'[1]itcer regional'!BV217","v":-0.15159580918687254},{"$f":"+'[1]itcer regional'!BW217","v":-7.7317589576182399E-2},{"$f":"+'[1]itcer regional'!BX217","v":-0.27124015657149414},{"$f":"+'[1]itcer regional'!BY217","v":-1.8542067864644594},null,{"$f":"+'[1]itcer regional'!CA217","v":1.4599191927194346},{"$f":"+'[1]itcer regional'!CB217","v":0.84738127827226273},{"$f":"+'[1]itcer regional'!CC217","v":0.79623504628641806},{"$f":"+'[1]itcer regional'!CD217","v":1.1445171724089991},{"$f":"+'[1]itcer regional'!CE217","v":1.1600219449130909},{"$f":"+'[1]itcer regional'!CF217","v":1.6015825959975221},null,{"$f":"+'[1]itcer regional'!CH217","v":0.77191711639681826},{"$f":"+'[1]itcer regional'!CI217","v":1.3292865058361012},{"$f":"+'[1]itcer regional'!CJ217","v":0.95972605709935932},{"$f":"+'[1]itcer regional'!CK217","v":0.91769088623223416},{"$f":"+'[1]itcer regional'!CL217","v":1.0011248431679447},{"$f":"+'[1]itcer regional'!CM217","v":0.65350987345263034}]
[null,"Mayo",{"$f":"+'[1]itcer regional'!AK218","v":111.68018729330781},{"$f":"+'[1]itcer regional'!AL218","v":113.44842796457418},{"$f":"+'[1]itcer regional'!AM218","v":76.589297601492319},{"$f":"+'[1]itcer regional'!AN218","v":104.6493665759297},{"$f":"+'[1]itcer regional'!AO218","v":115.83766247952968},{"$f":"+'[1]itcer regional'!AP218","v":103.64811321991762},null,{"$f":"+'[1]itcer regional'!BT218","v":-0.89931770452953685},{"$f":"+'[1]itcer regional'!BU218","v":0.71659193687803224},{"$f":"+'[1]itcer regional'!BV218","v":0.22579532230754751},{"$f":"+'[1]itcer regional'!BW218","v":-0.36363565678007603},{"$f":"+'[1]itcer regional'!BX218","v":-0.25403382652596918},{"$f":"+'[1]itcer regional'!BY218","v":-0.97156709979708467},null,{"$f":"+'[1]itcer regional'!CA218","v":1.4606108129442228},{"$f":"+'[1]itcer regional'!CB218","v":0.84821098875952872},{"$f":"+'[1]itcer regional'!CC218","v":0.79421198734427967},{"$f":"+'[1]itcer regional'!CD218","v":1.1453195417271185},{"$f":"+'[1]itcer regional'!CE218","v":1.1632443017341876},{"$f":"+'[1]itcer regional'!CF218","v":1.5983950659102248},null,{"$f":"+'[1]itcer regional'!CH218","v":0.76461290238012636},{"$f":"+'[1]itcer regional'!CI218","v":1.3375024547900225},{"$f":"+'[1]itcer regional'!CJ218","v":0.9643432587512929},{"$f":"+'[1]itcer regional'!CK218","v":0.91371327182735929},{"$f":"+'[1]itcer regional'!CL218","v":0.99581543023109242},{"$f":"+'[1]itcer regional'!CM218","v":0.64845115848060986}]
[null,"Junio",{"$f":"+'[1]itcer regional'!AK219","v":111.46018708164881},{"$f":"+'[1]itcer regional'!AL219","v":112.98868181917193},{"$f":"+'[1]itcer regional'!AM219","v":77.044954433948661},{"$f":"+'[1]itcer regional'!AN219","v":104.66706221562569},{"$f":"+'[1]itcer regional'!AO219","v":115.39110527265984},{"$f":"+'[1]itcer regional'!AP219","v":104.51051011375665},null,{"$f":"+'[1]itcer regional'!BT219","v":-0.19699126316936599},{"$f":"+'[1]itcer regional'!BU219","v":-0.40524681888568637},{"$f":"+'[1]itcer regional'!BV219","v":0.594935384872187},{"$f":"+'[1]itcer regional'!BW219","v":1.6909457051667687E-2},{"$f":"+'[1]itcer regional'!BX219","v":-0.38550260537996905},{"$f":"+'[1]itcer regional'!BY219","v":0.83204302234545935},null,{"$f":"+'[1]itcer regional'!CA219","v":1.4569513079665972},{"$f":"+'[1]itcer regional'!CB219","v":0.84600146836012691},{"$f":"+'[1]itcer regional'!CC219","v":0.79766520652259176},{"$f":"+'[1]itcer regional'!CD219","v":1.143208047451473},{"$f":"+'[1]itcer regional'!CE219","v":1.1640766345496043},{"$f":"+'[1]itcer regional'!CF219","v":1.6094611080902625},null,{"$f":"+'[1]itcer regional'!CH219","v":0.76502341891719694},{"$f":"+'[1]itcer regional'!CI219","v":1.3355612968165058},{"$f":"+'[1]itcer regional'!CJ219","v":0.9658808457977609},{"$f":"+'[1]itcer regional'!CK219","v":0.91555568077881821},{"$f":"+'[1]itcer regional'!CL219","v":0.99126725722234021},{"$f":"+'[1]itcer regional'!CM219","v":0.64935095100101958}]
[null,"Julio",{"$f":"+'[1]itcer regional'!AK220","v":111.03564110181665},{"$f":"+'[1]itcer regional'!AL220","v":112.94878900297213},{"$f":"+'[1]itcer regional'!AM220","v":77.039147180793663},{"$f":"+'[1]itcer regional'!AN220","v":104.70323175902537},{"$f":"+'[1]itcer regional'!AO220","v":115.8069494328586},{"$f":"+'[1]itcer regional'!AP220","v":106.9269162581387},null,{"$f":"+'[1]itcer regional'!BT220","v":-0.38089473106765581},{"$f":"+'[1]itcer regional'!BU220","v":-3.5306913539926654E-2},{"$f":"+'[1]itcer regional'!BV220","v":-7.5374866500510507E-3},{"$f":"+'[1]itcer regional'!BW220","v":3.4556758003930099E-2},{"$f":"+'[1]itcer regional'!BX220","v":0.36037800246053564},{"$f":"+'[1]itcer regional'!BY220","v":2.3121178355668377},null,{"$f":"+'[1]itcer regional'!CA220","v":1.4544934581329496},{"$f":"+'[1]itcer regional'!CB220","v":0.84547626288444133},{"$f":"+'[1]itcer regional'!CC220","v":0.79724512061397423},{"$f":"+'[1]itcer regional'!CD220","v":1.1427483079104075},{"$f":"+'[1]itcer regional'!CE220","v":1.168575949206343},{"$f":"+'[1]itcer regional'!CF220","v":1.6379583696868611},null,{"$f":"+'[1]itcer regional'!CH220","v":0.76339732214641087},{"$f":"+'[1]itcer regional'!CI220","v":1.3359191021831187},{"$f":"+'[1]itcer regional'!CJ220","v":0.96631694806064528},{"$f":"+'[1]itcer regional'!CK220","v":0.91624053200728273},{"$f":"+'[1]itcer regional'!CL220","v":0.99100918097373769},{"$f":"+'[1]itcer regional'!CM220","v":0.65280606782808903}]
[null,"Agosto",{"$f":"+'[1]itcer regional'!AK221","v":110.62422082922066},{"$f":"+'[1]itcer regional'!AL221","v":114.00084017522637},{"$f":"+'[1]itcer regional'!AM221","v":76.325403548197826},{"$f":"+'[1]itcer regional'!AN221","v":104.381559564217},{"$f":"+'[1]itcer regional'!AO221","v":117.05622257719396},{"$f":"+'[1]itcer regional'!AP221","v":108.06242695862295},null,{"$f":"+'[1]itcer regional'!BT221","v":-0.37052992040523236},{"$f":"+'[1]itcer regional'!BU221","v":0.93144086053595743},{"$f":"+'[1]itcer regional'!BV221","v":-0.92646876129201416},{"$f":"+'[1]itcer regional'!BW221","v":-0.30722279475450875},{"$f":"+'[1]itcer regional'!BX221","v":1.07875490240734},{"$f":"+'[1]itcer regional'!BY221","v":1.0619502929860403},null,{"$f":"+'[1]itcer regional'!CA221","v":1.4529206841427986},{"$f":"+'[1]itcer regional'!CB221","v":0.84564485717930327},{"$f":"+'[1]itcer regional'!CC221","v":0.79506489498080313},{"$f":"+'[1]itcer regional'!CD221","v":1.1429338321510631},{"$f":"+'[1]itcer regional'!CE221","v":1.1784680581849387},{"$f":"+'[1]itcer regional'!CF221","v":1.6343443320203928},null,{"$f":"+'[1]itcer regional'!CH221","v":0.76139201565904657},{"$f":"+'[1]itcer regional'!CI221","v":1.3480935786150547},{"$f":"+'[1]itcer regional'!CJ221","v":0.95998960625774687},{"$f":"+'[1]itcer regional'!CK221","v":0.91327736241533131},{"$f":"+'[1]itcer regional'!CL221","v":0.99329143258649222},{"$f":"+'[1]itcer regional'!CM221","v":0.66119742848213092}]
[null,"Septiembre",{"$f":"+'[1]itcer regional'!AK222","v":110.37140197980042},{"$f":"+'[1]itcer regional'!AL222","v":113.64335424010304},{"$f":"+'[1]itcer regional'!AM222","v":76.631384320484955},{"$f":"+'[1]itcer regional'!AN222","v":104.49610995450502},{"$f":"+'[1]itcer regional'!AO222","v":116.88655320876046},{"$f":"+'[1]itcer regional'!AP222","v":108.58609215275139},null,{"$f":"+'[1]itcer regional'!BT222","v":-0.22853842271172198},{"$f":"+'[1]itcer regional'!BU222","v":-0.31358184253191723},{"$f":"+'[1]itcer regional'!BV222","v":0.4008898191988095},{"$f":"+'[1]itcer regional'!BW222","v":0.10974198006454117},{"$f":"+'[1]itcer regional'!BX222","v":-0.14494690217908612},{"$f":"+'[1]itcer regional'!BY222","v":0.48459507052247375},null,{"$f":"+'[1]itcer regional'!CA222","v":1.4478020179162003},{"$f":"+'[1]itcer regional'!CB222","v":0.84314085304020003},{"$f":"+'[1]itcer regional'!CC222","v":0.79840081122326445},{"$f":"+'[1]itcer regional'!CD222","v":1.1405608727092429},{"$f":"+'[1]itcer regional'!CE222","v":1.1825508114454832},{"$f":"+'[1]itcer regional'!CF222","v":1.6515676094523524},null,{"$f":"+'[1]itcer regional'!CH222","v":0.76233767196053737},{"$f":"+'[1]itcer regional'!CI222","v":1.3478572866007792},{"$f":"+'[1]itcer regional'!CJ222","v":0.9598109526351144},{"$f":"+'[1]itcer regional'!CK222","v":0.91618178788028326},{"$f":"+'[1]itcer regional'!CL222","v":0.98842732233962072},{"$f":"+'[1]itcer regional'!CM222","v":0.65747288534411119}]
[null,"Octubre",{"$f":"+'[1]itcer regional'!AK223","v":110.55895304544144},{"$f":"+'[1]itcer regional'!AL223","v":113.45527297250713},{"$f":"+'[1]itcer regional'!AM223","v":77.214042534456695},{"$f":"+'[1]itcer regional'!AN223","v":103.75309331877689},{"$f":"+'[1]itcer regional'!AO223","v":115.87434052577373},{"$f":"+'[1]itcer regional'!AP223","v":109.07800607545124},null,{"$f":"+'[1]itcer regional'!BT223","v":0.16992722958737261},{"$f":"+'[1]itcer regional'!BU223","v":-0.16550133428702907},{"$f":"+'[1]itcer regional'!BV223","v":0.76033888613437739},{"$f":"+'[1]itcer regional'!BW223","v":-0.71104717300157461},{"$f":"+'[1]itcer regional'!BX223","v":-0.86597872484006189},{"$f":"+'[1]itcer regional'!BY223","v":0.45301742879544804},null,{"$f":"+'[1]itcer regional'!CA223","v":1.4446538137702016},{"$f":"+'[1]itcer regional'!CB223","v":0.84129169631437128},{"$f":"+'[1]itcer regional'!CC223","v":0.79994966283215352},{"$f":"+'[1]itcer regional'!CD223","v":1.1387709415221294},{"$f":"+'[1]itcer regional'!CE223","v":1.1891428419817465},{"$f":"+'[1]itcer regional'!CF223","v":1.6567604288397404},null,{"$f":"+'[1]itcer regional'!CH223","v":0.76529720817272462},{"$f":"+'[1]itcer regional'!CI223","v":1.3485842481216113},{"$f":"+'[1]itcer regional'!CJ223","v":0.96523626575560961},{"$f":"+'[1]itcer regional'!CK223","v":0.9110971270490632},{"$f":"+'[1]itcer regional'!CL223","v":0.97443584096814839},{"$f":"+'[1]itcer regional'!CM223","v":0.65838128540914376}]
[null,"Noviembre",{"$f":"+'[1]itcer regional'!AK224","v":110.87908748166824},{"$f":"+'[1]itcer regional'!AL224","v":114.94520560671111},{"$f":"+'[1]itcer regional'!AM224","v":76.400876426971962},{"$f":"+'[1]itcer regional'!AN224","v":104.30200481567317},{"$f":"+'[1]itcer regional'!AO224","v":113.94569991730789},{"$f":"+'[1]itcer regional'!AP224","v":109.55485289363945},null,{"$f":"+'[1]itcer regional'!BT224","v":0.28955993830297189},{"$f":"+'[1]itcer regional'!BU224","v":1.3132334841457975},{"$f":"+'[1]itcer regional'!BV224","v":-1.0531324106257642},{"$f":"+'[1]itcer regional'!BW224","v":0.52905554845462177},{"$f":"+'[1]itcer regional'!BX224","v":-1.6644242372510973},{"$f":"+'[1]itcer regional'!BY224","v":0.43716128974557478},null,{"$f":"+'[1]itcer regional'!CA224","v":1.4338026616394504},{"$f":"+'[1]itcer regional'!CB224","v":0.84672262311374735},{"$f":"+'[1]itcer regional'!CC224","v":0.79310192035438076},{"$f":"+'[1]itcer regional'!CD224","v":1.1445958557267573},{"$f":"+'[1]itcer regional'!CE224","v":1.2017156668283853},{"$f":"+'[1]itcer regional'!CF224","v":1.6666760172738115},null,{"$f":"+'[1]itcer regional'!CH224","v":0.77332181372076658},{"$f":"+'[1]itcer regional'!CI224","v":1.3575308190539461},{"$f":"+'[1]itcer regional'!CJ224","v":0.96331725426706649},{"$f":"+'[1]itcer regional'!CK224","v":0.91125618089405847},{"$f":"+'[1]itcer regional'!CL224","v":0.94819184822677582},{"$f":"+'[1]itcer regional'!CM224","v":0.65732542952672202}]
[null,"Diciembre",{"$f":"+'[1]itcer regional'!AK225","v":106.34778552798933},{"$f":"+'[1]itcer regional'!AL225","v":117.08773206796218},{"$f":"+'[1]itcer regional'!AM225","v":76.306935452594956},{"$f":"+'[1]itcer regional'!AN225","v":105.22976770319966},{"$f":"+'[1]itcer regional'!AO225","v":115.00913545561286},{"$f":"+'[1]itcer regional'!AP225","v":111.00084501401538},null,{"$f":"+'[1]itcer regional'!BT225","v":-4.0867056688467756},{"$f":"+'[1]itcer regional'!BU225","v":1.8639546120625425},{"$f":"+'[1]itcer regional'!BV225","v":-0.12295798002631386},{"$f":"+'[1]itcer regional'!BW225","v":0.88949669679510635},{"$f":"+'[1]itcer regional'!BX225","v":0.93328272947266555},{"$f":"+'[1]itcer regional'!BY225","v":1.3198795691686627},null,{"$f":"+'[1]itcer regional'!CA225","v":1.3902320451656689},{"$f":"+'[1]itcer regional'!CB225","v":0.85116997677531747},{"$f":"+'[1]itcer regional'!CC225","v":0.79680861983788509},{"$f":"+'[1]itcer regional'!CD225","v":1.1505630755303984},{"$f":"+'[1]itcer regional'!CE225","v":1.2186786677540815},{"$f":"+'[1]itcer regional'!CF225","v":1.6921786452114209},null,{"$f":"+'[1]itcer regional'!CH225","v":0.76496427986823046},{"$f":"+'[1]itcer regional'!CI225","v":1.3756092820796206},{"$f":"+'[1]itcer regional'!CJ225","v":0.95765700260772779},{"$f":"+'[1]itcer regional'!CK225","v":0.91459364498282514},{"$f":"+'[1]itcer regional'!CL225","v":0.94371993617944161},{"$f":"+'[1]itcer regional'!CM225","v":0.65596410478367029}]
[2008,"Enero",{"$f":"+'[1]itcer regional'!AK226","v":105.90449676631791},{"$f":"+'[1]itcer regional'!AL226","v":116.28162762856809},{"$f":"+'[1]itcer regional'!AM226","v":77.068921444408574},{"$f":"+'[1]itcer regional'!AN226","v":105.16858440509877},{"$f":"+'[1]itcer regional'!AO226","v":114.7734678001345},{"$f":"+'[1]itcer regional'!AP226","v":111.22244104308223},null,{"$f":"+'[1]itcer regional'!BT226","v":-0.41682932979809095},{"$f":"+'[1]itcer regional'!BU226","v":-0.68846191241128452},{"$f":"+'[1]itcer regional'!BV226","v":0.99858025655741756},{"$f":"+'[1]itcer regional'!BW226","v":-5.8142576417580472E-2},{"$f":"+'[1]itcer regional'!BX226","v":-0.20491211810676191},{"$f":"+'[1]itcer regional'!BY226","v":0.19963454245674939},null,{"$f":"+'[1]itcer regional'!CA226","v":1.3805754050430554},{"$f":"+'[1]itcer regional'!CB226","v":0.84658180547422968},{"$f":"+'[1]itcer regional'!CC226","v":0.80536802012319197},{"$f":"+'[1]itcer regional'!CD226","v":1.1459118061405666},{"$f":"+'[1]itcer regional'!CE226","v":1.2204820251376214},{"$f":"+'[1]itcer regional'!CF226","v":1.6990990132609514},null,{"$f":"+'[1]itcer regional'!CH226","v":0.76710403777630032},{"$f":"+'[1]itcer regional'!CI226","v":1.3735427205812749},{"$f":"+'[1]itcer regional'!CJ226","v":0.95694042374093569},{"$f":"+'[1]itcer regional'!CK226","v":0.9177720644951447},{"$f":"+'[1]itcer regional'!CL226","v":0.94039457719332364},{"$f":"+'[1]itcer regional'!CM226","v":0.65459658427804923}]
[null,"Febrero",{"$f":"+'[1]itcer regional'!AK227","v":105.41529676208928},{"$f":"+'[1]itcer regional'!AL227","v":116.32523110037462},{"$f":"+'[1]itcer regional'!AM227","v":77.517607560223027},{"$f":"+'[1]itcer regional'!AN227","v":104.90461418983374},{"$f":"+'[1]itcer regional'!AO227","v":114.00583571621506},{"$f":"+'[1]itcer regional'!AP227","v":112.5415490923673},null,{"$f":"+'[1]itcer regional'!BT227","v":-0.46192562088090483},{"$f":"+'[1]itcer regional'!BU227","v":3.7498160883856713E-2},{"$f":"+'[1]itcer regional'!BV227","v":0.5821881342119184},{"$f":"+'[1]itcer regional'!BW227","v":-0.25099721248338369},{"$f":"+'[1]itcer regional'!BX227","v":-0.66882363897568098},{"$f":"+'[1]itcer regional'!BY227","v":1.1860088997454312},null,{"$f":"+'[1]itcer regional'!CA227","v":1.3746398171260477},{"$f":"+'[1]itcer regional'!CB227","v":0.84531607280371956},{"$f":"+'[1]itcer regional'!CC227","v":0.80736020277253151},{"$f":"+'[1]itcer regional'!CD227","v":1.1448195619514734},{"$f":"+'[1]itcer regional'!CE227","v":1.2266687318903513},{"$f":"+'[1]itcer regional'!CF227","v":1.7026114788290163},null,{"$f":"+'[1]itcer regional'!CH227","v":0.76685758297384776},{"$f":"+'[1]itcer regional'!CI227","v":1.3761152170518953},{"$f":"+'[1]itcer regional'!CJ227","v":0.96013659447198563},{"$f":"+'[1]itcer regional'!CK227","v":0.91634190816072403},{"$f":"+'[1]itcer regional'!CL227","v":0.92939383512716578},{"$f":"+'[1]itcer regional'!CM227","v":0.660993717543644}]
[null,"Marzo",{"$f":"+'[1]itcer regional'!AK228","v":106.28073298920019},{"$f":"+'[1]itcer regional'!AL228","v":117.29130203489912},{"$f":"+'[1]itcer regional'!AM228","v":76.394180989729705},{"$f":"+'[1]itcer regional'!AN228","v":105.38501400117613},{"$f":"+'[1]itcer regional'!AO228","v":113.87390083988193},{"$f":"+'[1]itcer regional'!AP228","v":112.34848907470058},null,{"$f":"+'[1]itcer regional'!BT228","v":0.82097784068673718},{"$f":"+'[1]itcer regional'!BU228","v":0.83049130905305901},{"$f":"+'[1]itcer regional'!BV228","v":-1.4492534094535046},{"$f":"+'[1]itcer regional'!BW228","v":0.4579396388351995},{"$f":"+'[1]itcer regional'!BX228","v":-0.11572642356794915},{"$f":"+'[1]itcer regional'!BY228","v":-0.17154554848740133},null,{"$f":"+'[1]itcer regional'!CA228","v":1.3754997600143248},{"$f":"+'[1]itcer regional'!CB228","v":0.85003832783035349},{"$f":"+'[1]itcer regional'!CC228","v":0.7985327325080428},{"$f":"+'[1]itcer regional'!CD228","v":1.1496765996317},{"$f":"+'[1]itcer regional'!CE228","v":1.2355052460914839},{"$f":"+'[1]itcer regional'!CF228","v":1.7147969385258728},null,{"$f":"+'[1]itcer regional'!CH228","v":0.77266994934330879},{"$f":"+'[1]itcer regional'!CI228","v":1.3798354520586695},{"$f":"+'[1]itcer regional'!CJ228","v":0.95668189768238754},{"$f":"+'[1]itcer regional'!CK228","v":0.91664920408866568},{"$f":"+'[1]itcer regional'!CL228","v":0.92167881277818609},{"$f":"+'[1]itcer regional'!CM228","v":0.65517080507083891}]
[null,"Abril",{"$f":"+'[1]itcer regional'!AK229","v":106.83046937019654},{"$f":"+'[1]itcer regional'!AL229","v":118.5242654932001},{"$f":"+'[1]itcer regional'!AM229","v":75.065800718566265},{"$f":"+'[1]itcer regional'!AN229","v":106.03378208394884},{"$f":"+'[1]itcer regional'!AO229","v":114.26119915837042},{"$f":"+'[1]itcer regional'!AP229","v":112.41081715859447},null,{"$f":"+'[1]itcer regional'!BT229","v":0.51724933159071895},{"$f":"+'[1]itcer regional'!BU229","v":1.0511976906302181},{"$f":"+'[1]itcer regional'!BV229","v":-1.7388500720258122},{"$f":"+'[1]itcer regional'!BW229","v":0.6156170200494131},{"$f":"+'[1]itcer regional'!BX229","v":0.34011157572714978},{"$f":"+'[1]itcer regional'!BY229","v":5.5477456267752245E-2},null,{"$f":"+'[1]itcer regional'!CA229","v":1.3774435180624405},{"$f":"+'[1]itcer regional'!CB229","v":0.85553797710271129},{"$f":"+'[1]itcer regional'!CC229","v":0.78833822440192047},{"$f":"+'[1]itcer regional'!CD229","v":1.1556076757153386},{"$f":"+'[1]itcer regional'!CE229","v":1.2443867932141273},{"$f":"+'[1]itcer regional'!CF229","v":1.729409832979788},null,{"$f":"+'[1]itcer regional'!CH229","v":0.77557059849878984},{"$f":"+'[1]itcer regional'!CI229","v":1.3853770220064789},{"$f":"+'[1]itcer regional'!CJ229","v":0.95220298084005217},{"$f":"+'[1]itcer regional'!CK229","v":0.91755865171380346},{"$f":"+'[1]itcer regional'!CL229","v":0.91821288831943582},{"$f":"+'[1]itcer regional'!CM229","v":0.6499952470196706}]
[null,"Mayo",{"$f":"+'[1]itcer regional'!AK230","v":110.55578104900016},{"$f":"+'[1]itcer regional'!AL230","v":119.49477781189685},{"$f":"+'[1]itcer regional'!AM230","v":73.526993829064224},{"$f":"+'[1]itcer regional'!AN230","v":105.71107363502726},{"$f":"+'[1]itcer regional'!AO230","v":112.47640471511252},{"$f":"+'[1]itcer regional'!AP230","v":113.02092086775299},null,{"$f":"+'[1]itcer regional'!BT230","v":3.487124694635952},{"$f":"+'[1]itcer regional'!BU230","v":0.81883006374962974},{"$f":"+'[1]itcer regional'!BV230","v":-2.0499440154795252},{"$f":"+'[1]itcer regional'!BW230","v":-0.30434493854617983},{"$f":"+'[1]itcer regional'!BX230","v":-1.5620302048327801},{"$f":"+'[1]itcer regional'!BY230","v":0.54274466157269785},null,{"$f":"+'[1]itcer regional'!CA230","v":1.4285486898248818},{"$f":"+'[1]itcer regional'!CB230","v":0.85712241550243906},{"$f":"+'[1]itcer regional'!CC230","v":0.7711240138236557},{"$f":"+'[1]itcer regional'!CD230","v":1.1559971020381252},{"$f":"+'[1]itcer regional'!CE230","v":1.2400801366000127},{"$f":"+'[1]itcer regional'!CF230","v":1.7166489375413763},null,{"$f":"+'[1]itcer regional'!CH230","v":0.77390278564850745},{"$f":"+'[1]itcer regional'!CI230","v":1.394138989374696},{"$f":"+'[1]itcer regional'!CJ230","v":0.95350413825756863},{"$f":"+'[1]itcer regional'!CK230","v":0.91445794672537917},{"$f":"+'[1]itcer regional'!CL230","v":0.90700916332306147},{"$f":"+'[1]itcer regional'!CM230","v":0.65838109584376725}]
[null,"Junio",{"$f":"+'[1]itcer regional'!AK231","v":112.31138798046265},{"$f":"+'[1]itcer regional'!AL231","v":119.04476945865166},{"$f":"+'[1]itcer regional'!AM231","v":73.600667216243679},{"$f":"+'[1]itcer regional'!AN231","v":105.29538489902777},{"$f":"+'[1]itcer regional'!AO231","v":111.28207692609365},{"$f":"+'[1]itcer regional'!AP231","v":111.45885433955837},null,{"$f":"+'[1]itcer regional'!BT231","v":1.5879829302498223},{"$f":"+'[1]itcer regional'!BU231","v":-0.37659248503192089},{"$f":"+'[1]itcer regional'!BV231","v":0.10019910150376177},{"$f":"+'[1]itcer regional'!BW231","v":-0.39323102273530708},{"$f":"+'[1]itcer regional'!BX231","v":-1.0618474088356038},{"$f":"+'[1]itcer regional'!BY231","v":-1.3821038761685571},null,{"$f":"+'[1]itcer regional'!CA231","v":1.4480492161094602},{"$f":"+'[1]itcer regional'!CB231","v":0.85120566781249374},{"$f":"+'[1]itcer regional'!CC231","v":0.77385212548975135},{"$f":"+'[1]itcer regional'!CD231","v":1.1484464475417329},{"$f":"+'[1]itcer regional'!CE231","v":1.2356885499293955},{"$f":"+'[1]itcer regional'!CF231","v":1.7082180508295355},null,{"$f":"+'[1]itcer regional'!CH231","v":0.77560477041115217},{"$f":"+'[1]itcer regional'!CI231","v":1.3985429604173545},{"$f":"+'[1]itcer regional'!CJ231","v":0.95109472200084322},{"$f":"+'[1]itcer regional'!CK231","v":0.91685063003515876},{"$f":"+'[1]itcer regional'!CL231","v":0.90056735520007902},{"$f":"+'[1]itcer regional'!CM231","v":0.65248610553806263}]
[null,"Julio",{"$f":"+'[1]itcer regional'!AK232","v":115.06102515179407},{"$f":"+'[1]itcer regional'!AL232","v":119.21417434362617},{"$f":"+'[1]itcer regional'!AM232","v":72.882635872819236},{"$f":"+'[1]itcer regional'!AN232","v":104.28908179503422},{"$f":"+'[1]itcer regional'!AO232","v":111.1454248639628},{"$f":"+'[1]itcer regional'!AP232","v":110.90879961720606},null,{"$f":"+'[1]itcer regional'!BT232","v":2.4482265073687159},{"$f":"+'[1]itcer regional'!BU232","v":0.14230350963329386},{"$f":"+'[1]itcer regional'!BV232","v":-0.97557722040049555},{"$f":"+'[1]itcer regional'!BW232","v":-0.95569535640952097},{"$f":"+'[1]itcer regional'!BX232","v":-0.12279790771842158},{"$f":"+'[1]itcer regional'!BY232","v":-0.49350473375275783},null,{"$f":"+'[1]itcer regional'!CA232","v":1.4943996500780623},{"$f":"+'[1]itcer regional'!CB232","v":0.85001176726325978},{"$f":"+'[1]itcer regional'!CC232","v":0.76317131787595793},{"$f":"+'[1]itcer regional'!CD232","v":1.1454612583810992},{"$f":"+'[1]itcer regional'!CE232","v":1.2292290373595307},{"$f":"+'[1]itcer regional'!CF232","v":1.6992424632093648},null,{"$f":"+'[1]itcer regional'!CH232","v":0.76994815373373293},{"$f":"+'[1]itcer regional'!CI232","v":1.4025002821720225},{"$f":"+'[1]itcer regional'!CJ232","v":0.95499705198125939},{"$f":"+'[1]itcer regional'!CK232","v":0.9104549021799988},{"$f":"+'[1]itcer regional'!CL232","v":0.9041880844493464},{"$f":"+'[1]itcer regional'!CM232","v":0.65269555121481748}]
[null,"Agosto",{"$f":"+'[1]itcer regional'!AK233","v":116.73392595250371},{"$f":"+'[1]itcer regional'!AL233","v":119.7725732865584},{"$f":"+'[1]itcer regional'!AM233","v":72.175817173336355},{"$f":"+'[1]itcer regional'!AN233","v":103.56205814469968},{"$f":"+'[1]itcer regional'!AO233","v":111.15807296219172},{"$f":"+'[1]itcer regional'!AP233","v":112.19970159048603},null,{"$f":"+'[1]itcer regional'!BT233","v":1.4539248181585975},{"$f":"+'[1]itcer regional'!BU233","v":0.46839979055064873},{"$f":"+'[1]itcer regional'!BV233","v":-0.96980397459319079},{"$f":"+'[1]itcer regional'!BW233","v":-0.6971234551315888},{"$f":"+'[1]itcer regional'!BX233","v":1.1379774061254011E-2},{"$f":"+'[1]itcer regional'!BY233","v":1.1639310656462101},null,{"$f":"+'[1]itcer regional'!CA233","v":1.536256328238546},{"$f":"+'[1]itcer regional'!CB233","v":0.84800895521181752},{"$f":"+'[1]itcer regional'!CC233","v":0.75442571718998885},{"$f":"+'[1]itcer regional'!CD233","v":1.1420832049754663},{"$f":"+'[1]itcer regional'!CE233","v":1.2248122379081043},{"$f":"+'[1]itcer regional'!CF233","v":1.7045221111418218},null,{"$f":"+'[1]itcer regional'!CH233","v":0.75985969142499488},{"$f":"+'[1]itcer regional'!CI233","v":1.412397505361737},{"$f":"+'[1]itcer regional'!CJ233","v":0.95669879126297264},{"$f":"+'[1]itcer regional'!CK233","v":0.90678207764139507},{"$f":"+'[1]itcer regional'!CL233","v":0.9075519456928528},{"$f":"+'[1]itcer regional'!CM233","v":0.65824726389337329}]
[null,"Septiembre",{"$f":"+'[1]itcer regional'!AK234","v":115.72082716458632},{"$f":"+'[1]itcer regional'!AL234","v":119.97045468541057},{"$f":"+'[1]itcer regional'!AM234","v":72.828399927749956},{"$f":"+'[1]itcer regional'!AN234","v":103.03783686046741},{"$f":"+'[1]itcer regional'!AO234","v":110.56352741525205},{"$f":"+'[1]itcer regional'!AP234","v":111.19453760044181},null,{"$f":"+'[1]itcer regional'!BT234","v":-0.86787005547093088},{"$f":"+'[1]itcer regional'!BU234","v":0.16521428355615342},{"$f":"+'[1]itcer regional'!BV234","v":0.90415707084599717},{"$f":"+'[1]itcer regional'!BW234","v":-0.50619048483935103},{"$f":"+'[1]itcer regional'!BX234","v":-0.53486492802181829},{"$f":"+'[1]itcer regional'!BY234","v":-0.89587046649458557},null,{"$f":"+'[1]itcer regional'!CA234","v":1.5380786478575876},{"$f":"+'[1]itcer regional'!CB234","v":0.84468006513317329},{"$f":"+'[1]itcer regional'!CC234","v":0.75937683859303784},{"$f":"+'[1]itcer regional'!CD234","v":1.1386854490921321},{"$f":"+'[1]itcer regional'!CE234","v":1.2184645884009233},{"$f":"+'[1]itcer regional'!CF234","v":1.7058953838904494},null,{"$f":"+'[1]itcer regional'!CH234","v":0.75237262623582712},{"$f":"+'[1]itcer regional'!CI234","v":1.4203064525560443},{"$f":"+'[1]itcer regional'!CJ234","v":0.95905479633386392},{"$f":"+'[1]itcer regional'!CK234","v":0.90488410950204823},{"$f":"+'[1]itcer regional'!CL234","v":0.90740041579995634},{"$f":"+'[1]itcer regional'!CM234","v":0.65182506882017899}]
[null,"Octubre",{"$f":"+'[1]itcer regional'!AK235","v":114.28313549794318},{"$f":"+'[1]itcer regional'!AL235","v":120.46971053029581},{"$f":"+'[1]itcer regional'!AM235","v":73.062883136291234},{"$f":"+'[1]itcer regional'!AN235","v":102.09561037630837},{"$f":"+'[1]itcer regional'!AO235","v":111.93691237744164},{"$f":"+'[1]itcer regional'!AP235","v":113.00877828520854},null,{"$f":"+'[1]itcer regional'!BT235","v":-1.2423793554451237},{"$f":"+'[1]itcer regional'!BU235","v":0.41614899784651982},{"$f":"+'[1]itcer regional'!BV235","v":0.32196671734364202},{"$f":"+'[1]itcer regional'!BW235","v":-0.91444707387925916},{"$f":"+'[1]itcer regional'!BX235","v":1.2421681853830933},{"$f":"+'[1]itcer regional'!BY235","v":1.6315915546911981},null,{"$f":"+'[1]itcer regional'!CA235","v":1.5329646757016524},{"$f":"+'[1]itcer regional'!CB235","v":0.83971829132014808},{"$f":"+'[1]itcer regional'!CC235","v":0.76454345230062826},{"$f":"+'[1]itcer regional'!CD235","v":1.1338017760217782},{"$f":"+'[1]itcer regional'!CE235","v":1.228256164817048},{"$f":"+'[1]itcer regional'!CF235","v":1.706472230885056},null,{"$f":"+'[1]itcer regional'!CH235","v":0.74550403743409632},{"$f":"+'[1]itcer regional'!CI235","v":1.4346443536546227},{"$f":"+'[1]itcer regional'!CJ235","v":0.95564068878536357},{"$f":"+'[1]itcer regional'!CK235","v":0.90047142750592468},{"$f":"+'[1]itcer regional'!CL235","v":0.91134826418001291},{"$f":"+'[1]itcer regional'!CM235","v":0.66223625699784694}]
[null,"Noviembre",{"$f":"+'[1]itcer regional'!AK236","v":111.56893474070597},{"$f":"+'[1]itcer regional'!AL236","v":120.49286052862195},{"$f":"+'[1]itcer regional'!AM236","v":74.045487486628801},{"$f":"+'[1]itcer regional'!AN236","v":101.69426084335217},{"$f":"+'[1]itcer regional'!AO236","v":112.28205308235138},{"$f":"+'[1]itcer regional'!AP236","v":117.42707307938551},null,{"$f":"+'[1]itcer regional'!BT236","v":-2.3749792525477744},{"$f":"+'[1]itcer regional'!BU236","v":1.9216447208364684E-2},{"$f":"+'[1]itcer regional'!BV236","v":1.3448748641695687},{"$f":"+'[1]itcer regional'!BW236","v":-0.39311144864788616},{"$f":"+'[1]itcer regional'!BX236","v":0.30833502334417062},{"$f":"+'[1]itcer regional'!BY236","v":3.9096916728240245},null,{"$f":"+'[1]itcer regional'!CA236","v":1.5190691334742592},{"$f":"+'[1]itcer regional'!CB236","v":0.83353686780085856},{"$f":"+'[1]itcer regional'!CC236","v":0.77566357284692078},{"$f":"+'[1]itcer regional'!CD236","v":1.1279831483930369},{"$f":"+'[1]itcer regional'!CE236","v":1.2303853417793007},{"$f":"+'[1]itcer regional'!CF236","v":1.7092742521084432},null,{"$f":"+'[1]itcer regional'!CH236","v":0.73445593937872278},{"$f":"+'[1]itcer regional'!CI236","v":1.4455612604937476},{"$f":"+'[1]itcer regional'!CJ236","v":0.95460828739010362},{"$f":"+'[1]itcer regional'!CK236","v":0.9015583343441721},{"$f":"+'[1]itcer regional'!CL236","v":0.91257632279637391},{"$f":"+'[1]itcer regional'!CM236","v":0.68699960193360166}]
[null,"Diciembre",{"$f":"+'[1]itcer regional'!AK237","v":110.44122157902666},{"$f":"+'[1]itcer regional'!AL237","v":120.00476326534336},{"$f":"+'[1]itcer regional'!AM237","v":74.92584318449191},{"$f":"+'[1]itcer regional'!AN237","v":101.02344258822274},{"$f":"+'[1]itcer regional'!AO237","v":112.61103812203901},{"$f":"+'[1]itcer regional'!AP237","v":118.86073677126727},null,{"$f":"+'[1]itcer regional'!BT237","v":-1.0107770270462879},{"$f":"+'[1]itcer regional'!BU237","v":-0.40508397023461384},{"$f":"+'[1]itcer regional'!BV237","v":1.1889390261926422},{"$f":"+'[1]itcer regional'!BW237","v":-0.65964219570143712},{"$f":"+'[1]itcer regional'!BX237","v":0.29299877465398083},{"$f":"+'[1]itcer regional'!BY237","v":1.220897067674116},null,{"$f":"+'[1]itcer regional'!CA237","v":1.5015759125263104},{"$f":"+'[1]itcer regional'!CB237","v":0.83035616496010367},{"$f":"+'[1]itcer regional'!CC237","v":0.78372145161066531},{"$f":"+'[1]itcer regional'!CD237","v":1.1253037011199212},{"$f":"+'[1]itcer regional'!CE237","v":1.2349821306590081},{"$f":"+'[1]itcer regional'!CF237","v":1.7114336163967745},null,{"$f":"+'[1]itcer regional'!CH237","v":0.73550208589331978},{"$f":"+'[1]itcer regional'!CI237","v":1.4452203563889872},{"$f":"+'[1]itcer regional'!CJ237","v":0.95602644320259511},{"$f":"+'[1]itcer regional'!CK237","v":0.89774380451857139},{"$f":"+'[1]itcer regional'!CL237","v":0.91184346175072006},{"$f":"+'[1]itcer regional'!CM237","v":0.69450977024463734}]
[2009,"Enero",{"$f":"+'[1]itcer regional'!AK238","v":110.17294326840538},{"$f":"+'[1]itcer regional'!AL238","v":118.92937999908845},{"$f":"+'[1]itcer regional'!AM238","v":76.386772239765548},{"$f":"+'[1]itcer regional'!AN238","v":99.786859113972568},{"$f":"+'[1]itcer regional'!AO238","v":112.01080903152327},{"$f":"+'[1]itcer regional'!AP238","v":117.37965194717074},null,{"$f":"+'[1]itcer regional'!BT238","v":-0.24291501559434892},{"$f":"+'[1]itcer regional'!BU238","v":-0.89611715151431781},{"$f":"+'[1]itcer regional'!BV238","v":1.9498333194280661},{"$f":"+'[1]itcer regional'!BW238","v":-1.2240559642087732},{"$f":"+'[1]itcer regional'!BX238","v":-0.53301088465703117},{"$f":"+'[1]itcer regional'!BY238","v":-1.2460673426134719},null,{"$f":"+'[1]itcer regional'!CA238","v":1.5074268828559134},{"$f":"+'[1]itcer regional'!CB238","v":0.81979142756772327},{"$f":"+'[1]itcer regional'!CC238","v":0.79692876617520081},{"$f":"+'[1]itcer regional'!CD238","v":1.1143946879638682},{"$f":"+'[1]itcer regional'!CE238","v":1.2307396924668437},{"$f":"+'[1]itcer regional'!CF238","v":1.6965490018683704},null,{"$f":"+'[1]itcer regional'!CH238","v":0.73086757653993761},{"$f":"+'[1]itcer regional'!CI238","v":1.4507272947699086},{"$f":"+'[1]itcer regional'!CJ238","v":0.95851443042240858},{"$f":"+'[1]itcer regional'!CK238","v":0.89543552380256808},{"$f":"+'[1]itcer regional'!CL238","v":0.91010966589542119},{"$f":"+'[1]itcer regional'!CM238","v":0.69187304238134739}]
[null,"Febrero",{"$f":"+'[1]itcer regional'!AK239","v":110.44748933330676},{"$f":"+'[1]itcer regional'!AL239","v":118.14068473999356},{"$f":"+'[1]itcer regional'!AM239","v":77.665129568751368},{"$f":"+'[1]itcer regional'!AN239","v":98.262838458099722},{"$f":"+'[1]itcer regional'!AO239","v":111.10890721034872},{"$f":"+'[1]itcer regional'!AP239","v":116.69152847473053},null,{"$f":"+'[1]itcer regional'!BT239","v":0.24919554362139706},{"$f":"+'[1]itcer regional'!BU239","v":-0.66316267612000956},{"$f":"+'[1]itcer regional'!BV239","v":1.6735323296202012},{"$f":"+'[1]itcer regional'!BW239","v":-1.5272759052694198},{"$f":"+'[1]itcer regional'!BX239","v":-0.80519177476945458},{"$f":"+'[1]itcer regional'!BY239","v":-0.58623744492777519},null,{"$f":"+'[1]itcer regional'!CA239","v":1.5175267521722973},{"$f":"+'[1]itcer regional'!CB239","v":0.81338221386785714},{"$f":"+'[1]itcer regional'!CC239","v":0.80327697805933862},{"$f":"+'[1]itcer regional'!CD239","v":1.1075593768339547},{"$f":"+'[1]itcer regional'!CE239","v":1.2272367346131186},{"$f":"+'[1]itcer regional'!CF239","v":1.6914659000800722},null,{"$f":"+'[1]itcer regional'!CH239","v":0.72781246969916191},{"$f":"+'[1]itcer regional'!CI239","v":1.4524621109945588},{"$f":"+'[1]itcer regional'!CJ239","v":0.9668536717731524},{"$f":"+'[1]itcer regional'!CK239","v":0.88720153983068384},{"$f":"+'[1]itcer regional'!CL239","v":0.90535838829315463},{"$f":"+'[1]itcer regional'!CM239","v":0.68988401403307342}]
[null,"Marzo",{"$f":"+'[1]itcer regional'!AK240","v":110.21595360698501},{"$f":"+'[1]itcer regional'!AL240","v":116.27447058704878},{"$f":"+'[1]itcer regional'!AM240","v":79.17858901851163},{"$f":"+'[1]itcer regional'!AN240","v":97.637977402656162},{"$f":"+'[1]itcer regional'!AO240","v":111.28968768584689},{"$f":"+'[1]itcer regional'!AP240","v":115.92240498217505},null,{"$f":"+'[1]itcer regional'!BT240","v":-0.20963421415856942},{"$f":"+'[1]itcer regional'!BU240","v":-1.5796540853406924},{"$f":"+'[1]itcer regional'!BV240","v":1.9486988023634382},{"$f":"+'[1]itcer regional'!BW240","v":-0.63590780120809143},{"$f":"+'[1]itcer regional'!BX240","v":0.16270565523241487},{"$f":"+'[1]itcer regional'!BY240","v":-0.65910825113755322},null,{"$f":"+'[1]itcer regional'!CA240","v":1.5160606142516626},{"$f":"+'[1]itcer regional'!CB240","v":0.8058251738796065},{"$f":"+'[1]itcer regional'!CC240","v":0.81544156445377491},{"$f":"+'[1]itcer regional'!CD240","v":1.099910942142535},{"$f":"+'[1]itcer regional'!CE240","v":1.2217896939391291},{"$f":"+'[1]itcer regional'!CF240","v":1.6834456520873089},null,{"$f":"+'[1]itcer regional'!CH240","v":0.72698909641807652},{"$f":"+'[1]itcer regional'!CI240","v":1.4429242763321843},{"$f":"+'[1]itcer regional'!CJ240","v":0.97099035013685553},{"$f":"+'[1]itcer regional'!CK240","v":0.88768984525661243},{"$f":"+'[1]itcer regional'!CL240","v":0.91087433654020855},{"$f":"+'[1]itcer regional'!CM240","v":0.68860200410059302}]
[null,"Abril",{"$f":"+'[1]itcer regional'!AK241","v":110.73575580278971},{"$f":"+'[1]itcer regional'!AL241","v":116.12091684439532},{"$f":"+'[1]itcer regional'!AM241","v":79.275529853737766},{"$f":"+'[1]itcer regional'!AN241","v":97.233883491913943},{"$f":"+'[1]itcer regional'!AO241","v":111.11797635167426},{"$f":"+'[1]itcer regional'!AP241","v":116.08410050211857},null,{"$f":"+'[1]itcer regional'!BT241","v":0.47162155640212688},{"$f":"+'[1]itcer regional'!BU241","v":-0.13206144210177229},{"$f":"+'[1]itcer regional'!BV241","v":0.12243314313604969},{"$f":"+'[1]itcer regional'!BW241","v":-0.41386960431979958},{"$f":"+'[1]itcer regional'!BX241","v":-0.15429222396359421},{"$f":"+'[1]itcer regional'!BY241","v":0.13948599493633651},null,{"$f":"+'[1]itcer regional'!CA241","v":1.5270287099561601},{"$f":"+'[1]itcer regional'!CB241","v":0.80416058117560585},{"$f":"+'[1]itcer regional'!CC241","v":0.81564888308580541},{"$f":"+'[1]itcer regional'!CD241","v":1.0978880592093347},{"$f":"+'[1]itcer regional'!CE241","v":1.2164169664178706},{"$f":"+'[1]itcer regional'!CF241","v":1.685018759180744},null,{"$f":"+'[1]itcer regional'!CH241","v":0.7251714069342472},{"$f":"+'[1]itcer regional'!CI241","v":1.4440016031951934},{"$f":"+'[1]itcer regional'!CJ241","v":0.97193205921913906},{"$f":"+'[1]itcer regional'!CK241","v":0.88564478569826866},{"$f":"+'[1]itcer regional'!CL241","v":0.9134859132958062},{"$f":"+'[1]itcer regional'!CM241","v":0.68891874271215026}]
[null,"Mayo",{"$f":"+'[1]itcer regional'!AK242","v":111.67764370734022},{"$f":"+'[1]itcer regional'!AL242","v":115.55638140602726},{"$f":"+'[1]itcer regional'!AM242","v":79.140008287576464},{"$f":"+'[1]itcer regional'!AN242","v":97.156780310740587},{"$f":"+'[1]itcer regional'!AO242","v":111.59615219526675},{"$f":"+'[1]itcer regional'!AP242","v":115.98282640495005},null,{"$f":"+'[1]itcer regional'!BT242","v":0.85057251627733876},{"$f":"+'[1]itcer regional'!BU242","v":-0.48616171290186116},{"$f":"+'[1]itcer regional'!BV242","v":-0.17095006039232885},{"$f":"+'[1]itcer regional'!BW242","v":-7.9296618014609521E-2},{"$f":"+'[1]itcer regional'!BX242","v":0.43033167025929231},{"$f":"+'[1]itcer regional'!BY242","v":-8.7242005348258544E-2},null,{"$f":"+'[1]itcer regional'!CA242","v":1.5359376169534242},{"$f":"+'[1]itcer regional'!CB242","v":0.80199403052780505},{"$f":"+'[1]itcer regional'!CC242","v":0.81443693352493207},{"$f":"+'[1]itcer regional'!CD242","v":1.0953787510112798},{"$f":"+'[1]itcer regional'!CE242","v":1.2221033620544872},{"$f":"+'[1]itcer regional'!CF242","v":1.6846472014268383},null,{"$f":"+'[1]itcer regional'!CH242","v":0.72709752319795362},{"$f":"+'[1]itcer regional'!CI242","v":1.4408633606658861},{"$f":"+'[1]itcer regional'!CJ242","v":0.97171438364237395},{"$f":"+'[1]itcer regional'!CK242","v":0.88696973737205631},{"$f":"+'[1]itcer regional'!CL242","v":0.91314823001273504},{"$f":"+'[1]itcer regional'!CM242","v":0.68846952825919028}]
[null,"Junio",{"$f":"+'[1]itcer regional'!AK243","v":111.79601851756355},{"$f":"+'[1]itcer regional'!AL243","v":115.32212365787987},{"$f":"+'[1]itcer regional'!AM243","v":79.526571882042973},{"$f":"+'[1]itcer regional'!AN243","v":96.458842355428047},{"$f":"+'[1]itcer regional'!AO243","v":112.05076062752779},{"$f":"+'[1]itcer regional'!AP243","v":113.23702775145286},null,{"$f":"+'[1]itcer regional'!BT243","v":0.10599687304788574},{"$f":"+'[1]itcer regional'!BU243","v":-0.20272160247409943},{"$f":"+'[1]itcer regional'!BV243","v":0.48845533735834579},{"$f":"+'[1]itcer regional'!BW243","v":-0.71836258167499523},{"$f":"+'[1]itcer regional'!BX243","v":0.4073692715368793},{"$f":"+'[1]itcer regional'!BY243","v":-2.3674182968350266},null,{"$f":"+'[1]itcer regional'!CA243","v":1.5378167179715412},{"$f":"+'[1]itcer regional'!CB243","v":0.79953190760726456},{"$f":"+'[1]itcer regional'!CC243","v":0.81642017227263675},{"$f":"+'[1]itcer regional'!CD243","v":1.0927887097172462},{"$f":"+'[1]itcer regional'!CE243","v":1.2258859805881477},{"$f":"+'[1]itcer regional'!CF243","v":1.6786030189640255},null,{"$f":"+'[1]itcer regional'!CH243","v":0.72697882141005843},{"$f":"+'[1]itcer regional'!CI243","v":1.4423704990461352},{"$f":"+'[1]itcer regional'!CJ243","v":0.97408876682539558},{"$f":"+'[1]itcer regional'!CK243","v":0.88268520252543881},{"$f":"+'[1]itcer regional'!CL243","v":0.91403900853624898},{"$f":"+'[1]itcer regional'!CM243","v":0.67459087391215777}]
[null,"Julio",{"$f":"+'[1]itcer regional'!AK244","v":111.43062293741677},{"$f":"+'[1]itcer regional'!AL244","v":115.68376689862964},{"$f":"+'[1]itcer regional'!AM244","v":79.620886658587125},{"$f":"+'[1]itcer regional'!AN244","v":95.447581410553809},{"$f":"+'[1]itcer regional'!AO244","v":113.15638560250892},{"$f":"+'[1]itcer regional'!AP244","v":113.13292579399113},null,{"$f":"+'[1]itcer regional'!BT244","v":-0.32684131777857317},{"$f":"+'[1]itcer regional'!BU244","v":0.31359398290533136},{"$f":"+'[1]itcer regional'!BV244","v":0.11859530005146723},{"$f":"+'[1]itcer regional'!BW244","v":-1.0483859438702154},{"$f":"+'[1]itcer regional'!BX244","v":0.98671795603100065},{"$f":"+'[1]itcer regional'!BY244","v":-9.1932788707779878E-2},null,{"$f":"+'[1]itcer regional'!CA244","v":1.5471889648754282},{"$f":"+'[1]itcer regional'!CB244","v":0.79570600156288263},{"$f":"+'[1]itcer regional'!CC244","v":0.81896967101012874},{"$f":"+'[1]itcer regional'!CD244","v":1.0885856756337067},{"$f":"+'[1]itcer regional'!CE244","v":1.2259657989403752},{"$f":"+'[1]itcer regional'!CF244","v":1.6719655728621678},null,{"$f":"+'[1]itcer regional'!CH244","v":0.7202134029335493},{"$f":"+'[1]itcer regional'!CI244","v":1.4538506266310656},{"$f":"+'[1]itcer regional'!CJ244","v":0.97220800082110015},{"$f":"+'[1]itcer regional'!CK244","v":0.87680357685204879},{"$f":"+'[1]itcer regional'!CL244","v":0.92299789847573299},{"$f":"+'[1]itcer regional'!CM244","v":0.67664626371656456}]
[null,"Agosto",{"$f":"+'[1]itcer regional'!AK245","v":111.20829632429086},{"$f":"+'[1]itcer regional'!AL245","v":115.29836434987671},{"$f":"+'[1]itcer regional'!AM245","v":80.278805482652942},{"$f":"+'[1]itcer regional'!AN245","v":94.903976126048249},{"$f":"+'[1]itcer regional'!AO245","v":113.10045921745575},{"$f":"+'[1]itcer regional'!AP245","v":111.82033701721859},null,{"$f":"+'[1]itcer regional'!BT245","v":-0.19952021021258304},{"$f":"+'[1]itcer regional'!BU245","v":-0.33315179742604073},{"$f":"+'[1]itcer regional'!BV245","v":0.82631436508231104},{"$f":"+'[1]itcer regional'!BW245","v":-0.56953280164043463},{"$f":"+'[1]itcer regional'!BX245","v":-4.9423976168370132E-2},{"$f":"+'[1]itcer regional'!BY245","v":-1.1602181836636021},null,{"$f":"+'[1]itcer regional'!CA245","v":1.552724466181346},{"$f":"+'[1]itcer regional'!CB245","v":0.78999143442824282},{"$f":"+'[1]itcer regional'!CC245","v":0.82533723261001235},{"$f":"+'[1]itcer regional'!CD245","v":1.0825580984234542},{"$f":"+'[1]itcer regional'!CE245","v":1.2265088728534315},{"$f":"+'[1]itcer regional'!CF245","v":1.6624498145634601},null,{"$f":"+'[1]itcer regional'!CH245","v":0.71621397579821866},{"$f":"+'[1]itcer regional'!CI245","v":1.4594887909553602},{"$f":"+'[1]itcer regional'!CJ245","v":0.97267883127945842},{"$f":"+'[1]itcer regional'!CK245","v":0.87666404476820559},{"$f":"+'[1]itcer regional'!CL245","v":0.92213323295681782},{"$f":"+'[1]itcer regional'!CM245","v":0.67262383524390068}]
[null,"Septiembre",{"$f":"+'[1]itcer regional'!AK246","v":111.04045626203171},{"$f":"+'[1]itcer regional'!AL246","v":115.39320244808343},{"$f":"+'[1]itcer regional'!AM246","v":80.319319760656185},{"$f":"+'[1]itcer regional'!AN246","v":94.787424184811087},{"$f":"+'[1]itcer regional'!AO246","v":113.1952787993893},{"$f":"+'[1]itcer regional'!AP246","v":111.81581160707042},null,{"$f":"+'[1]itcer regional'!BT246","v":-0.15092404776142132},{"$f":"+'[1]itcer regional'!BU246","v":8.2254504425520736E-2},{"$f":"+'[1]itcer regional'!BV246","v":5.0466966666547819E-2},{"$f":"+'[1]itcer regional'!BW246","v":-0.12281038792554},{"$f":"+'[1]itcer regional'!BX246","v":8.3836602070050503E-2},{"$f":"+'[1]itcer regional'!BY246","v":-4.0470367635236926E-3},null,{"$f":"+'[1]itcer regional'!CA246","v":1.5475494424923038},{"$f":"+'[1]itcer regional'!CB246","v":0.78702315364873288},{"$f":"+'[1]itcer regional'!CC246","v":0.83041993609934628},{"$f":"+'[1]itcer regional'!CD246","v":1.0796569836308487},{"$f":"+'[1]itcer regional'!CE246","v":1.2294956561921753},{"$f":"+'[1]itcer regional'!CF246","v":1.6597667078835538},null,{"$f":"+'[1]itcer regional'!CH246","v":0.71752445003115906},{"$f":"+'[1]itcer regional'!CI246","v":1.466198318475217},{"$f":"+'[1]itcer regional'!CJ246","v":0.9672132889527264},{"$f":"+'[1]itcer regional'!CK246","v":0.87794017564767934},{"$f":"+'[1]itcer regional'!CL246","v":0.92066432467083403},{"$f":"+'[1]itcer regional'!CM246","v":0.67368390434612335}]
[null,"Octubre",{"$f":"+'[1]itcer regional'!AK247","v":109.53309418822315},{"$f":"+'[1]itcer regional'!AL247","v":116.10188998132378},{"$f":"+'[1]itcer regional'!AM247","v":80.766445437596616},{"$f":"+'[1]itcer regional'!AN247","v":94.246814599794789},{"$f":"+'[1]itcer regional'!AO247","v":113.23905197743269},{"$f":"+'[1]itcer regional'!AP247","v":111.77010584791726},null,{"$f":"+'[1]itcer regional'!BT247","v":-1.3574890851056267},{"$f":"+'[1]itcer regional'!BU247","v":0.6141501563397469},{"$f":"+'[1]itcer regional'!BV247","v":0.55668508930706651},{"$f":"+'[1]itcer regional'!BW247","v":-0.57033893437409233},{"$f":"+'[1]itcer regional'!BX247","v":3.8670498016955435E-2},{"$f":"+'[1]itcer regional'!BY247","v":-4.0875935608966074E-2},null,{"$f":"+'[1]itcer regional'!CA247","v":1.5315997218041582},{"$f":"+'[1]itcer regional'!CB247","v":0.78602950391413584},{"$f":"+'[1]itcer regional'!CC247","v":0.83488167572389049},{"$f":"+'[1]itcer regional'!CD247","v":1.0790942683181974},{"$f":"+'[1]itcer regional'!CE247","v":1.2365911804787728},{"$f":"+'[1]itcer regional'!CF247","v":1.6638958517265741},null,{"$f":"+'[1]itcer regional'!CH247","v":0.71515483209410557},{"$f":"+'[1]itcer regional'!CI247","v":1.4770678378251625},{"$f":"+'[1]itcer regional'!CJ247","v":0.96739990571199752},{"$f":"+'[1]itcer regional'!CK247","v":0.87338814936605502},{"$f":"+'[1]itcer regional'!CL247","v":0.91573556212482243},{"$f":"+'[1]itcer regional'!CM247","v":0.67173739108692898}]
[null,"Noviembre",{"$f":"+'[1]itcer regional'!AK248","v":107.42475818991535},{"$f":"+'[1]itcer regional'!AL248","v":115.30701828338685},{"$f":"+'[1]itcer regional'!AM248","v":81.301592963418528},{"$f":"+'[1]itcer regional'!AN248","v":95.092960664458005},{"$f":"+'[1]itcer regional'!AO248","v":115.13916482381825},{"$f":"+'[1]itcer regional'!AP248","v":112.07710624586635},null,{"$f":"+'[1]itcer regional'!BT248","v":-1.9248392587949752},{"$f":"+'[1]itcer regional'!BU248","v":-0.68463286692816894},{"$f":"+'[1]itcer regional'!BV248","v":0.66258645273103411},{"$f":"+'[1]itcer regional'!BW248","v":0.89779805106013555},{"$f":"+'[1]itcer regional'!BX248","v":1.6779660489953727},{"$f":"+'[1]itcer regional'!BY248","v":0.27467129571014937},null,{"$f":"+'[1]itcer regional'!CA248","v":1.4930980912478331},{"$f":"+'[1]itcer regional'!CB248","v":0.79088944652878768},{"$f":"+'[1]itcer regional'!CC248","v":0.83530354022790687},{"$f":"+'[1]itcer regional'!CD248","v":1.0852180279661157},{"$f":"+'[1]itcer regional'!CE248","v":1.2540216897184082},{"$f":"+'[1]itcer regional'!CF248","v":1.6828742507669452},null,{"$f":"+'[1]itcer regional'!CH248","v":0.71947555769853555},{"$f":"+'[1]itcer regional'!CI248","v":1.4579410408049969},{"$f":"+'[1]itcer regional'!CJ248","v":0.97331795027752366},{"$f":"+'[1]itcer regional'!CK248","v":0.87625673564121009},{"$f":"+'[1]itcer regional'!CL248","v":0.91815927721053103},{"$f":"+'[1]itcer regional'!CM248","v":0.66598622086462411}]
[null,"Diciembre",{"$f":"+'[1]itcer regional'!AK249","v":106.16299179287093},{"$f":"+'[1]itcer regional'!AL249","v":115.74840592229104},{"$f":"+'[1]itcer regional'!AM249","v":81.567129224617545},{"$f":"+'[1]itcer regional'!AN249","v":95.01369387655204},{"$f":"+'[1]itcer regional'!AO249","v":115.35228292640271},{"$f":"+'[1]itcer regional'!AP249","v":112.15256140263237},null,{"$f":"+'[1]itcer regional'!BT249","v":-1.1745582846123312},{"$f":"+'[1]itcer regional'!BU249","v":0.38279338541163099},{"$f":"+'[1]itcer regional'!BV249","v":0.32660646799196513},{"$f":"+'[1]itcer regional'!BW249","v":-8.3357156357408257E-2},{"$f":"+'[1]itcer regional'!BX249","v":0.18509609906460867},{"$f":"+'[1]itcer regional'!BY249","v":6.7324326344134988E-2},null,{"$f":"+'[1]itcer regional'!CA249","v":1.4914653028624634},{"$f":"+'[1]itcer regional'!CB249","v":0.78954967865033399},{"$f":"+'[1]itcer regional'!CC249","v":0.83718293130882371},{"$f":"+'[1]itcer regional'!CD249","v":1.0838842221393938},{"$f":"+'[1]itcer regional'!CE249","v":1.2564180417930557},{"$f":"+'[1]itcer regional'!CF249","v":1.6807234570674594},null,{"$f":"+'[1]itcer regional'!CH249","v":0.71180329565240186},{"$f":"+'[1]itcer regional'!CI249","v":1.4660053578915109},{"$f":"+'[1]itcer regional'!CJ249","v":0.97430473286284325},{"$f":"+'[1]itcer regional'!CK249","v":0.87660371777542789},{"$f":"+'[1]itcer regional'!CL249","v":0.91810431790506197},{"$f":"+'[1]itcer regional'!CM249","v":0.66728741680274473}]
[2010,"Enero",{"$f":"+'[1]itcer regional'!AK250","v":104.393680495477},{"$f":"+'[1]itcer regional'!AL250","v":116.27962304271421},{"$f":"+'[1]itcer regional'!AM250","v":81.648806398664775},{"$f":"+'[1]itcer regional'!AN250","v":95.269506077684127},{"$f":"+'[1]itcer regional'!AO250","v":116.36771320421988},{"$f":"+'[1]itcer regional'!AP250","v":112.12862959785234},null,{"$f":"+'[1]itcer regional'!BT250","v":-1.6665989414144775},{"$f":"+'[1]itcer regional'!BU250","v":0.45894119766953168},{"$f":"+'[1]itcer regional'!BV250","v":0.10013491319807599},{"$f":"+'[1]itcer regional'!BW250","v":0.26923719170885363},{"$f":"+'[1]itcer regional'!BX250","v":0.88028624319905191},{"$f":"+'[1]itcer regional'!BY250","v":-2.1338616328264948E-2},null,{"$f":"+'[1]itcer regional'!CA250","v":1.4770274284675937},{"$f":"+'[1]itcer regional'!CB250","v":0.78766160964416809},{"$f":"+'[1]itcer regional'!CC250","v":0.8421404806343844},{"$f":"+'[1]itcer regional'!CD250","v":1.082365025839332},{"$f":"+'[1]itcer regional'!CE250","v":1.2659652179789478},{"$f":"+'[1]itcer regional'!CF250","v":1.682185267957111},null,{"$f":"+'[1]itcer regional'!CH250","v":0.70678227420451334},{"$f":"+'[1]itcer regional'!CI250","v":1.4762636850518125},{"$f":"+'[1]itcer regional'!CJ250","v":0.96953902913156154},{"$f":"+'[1]itcer regional'!CK250","v":0.88019756554685746},{"$f":"+'[1]itcer regional'!CL250","v":0.91920150373479703},{"$f":"+'[1]itcer regional'!CM250","v":0.66656528108835622}]
[null,"Febrero",{"$f":"+'[1]itcer regional'!AK251","v":103.20769340276814},{"$f":"+'[1]itcer regional'!AL251","v":118.72781860903498},{"$f":"+'[1]itcer regional'!AM251","v":79.839638987036011},{"$f":"+'[1]itcer regional'!AN251","v":96.175528629139464},{"$f":"+'[1]itcer regional'!AO251","v":117.45257839854331},{"$f":"+'[1]itcer regional'!AP251","v":114.67003502984278},null,{"$f":"+'[1]itcer regional'!BT251","v":-1.1360717306640424},{"$f":"+'[1]itcer regional'!BU251","v":2.1054381690087212},{"$f":"+'[1]itcer regional'!BV251","v":-2.2157916219805855},{"$f":"+'[1]itcer regional'!BW251","v":0.95101002278371993},{"$f":"+'[1]itcer regional'!BX251","v":0.93227336384924797},{"$f":"+'[1]itcer regional'!BY251","v":2.2665089559242375},null,{"$f":"+'[1]itcer regional'!CA251","v":1.4610402285687272},{"$f":"+'[1]itcer regional'!CB251","v":0.80013274239145882},{"$f":"+'[1]itcer regional'!CC251","v":0.82297446328625246},{"$f":"+'[1]itcer regional'!CD251","v":1.0956044905927811},{"$f":"+'[1]itcer regional'!CE251","v":1.2903949415019933},{"$f":"+'[1]itcer regional'!CF251","v":1.7135202558585703},null,{"$f":"+'[1]itcer regional'!CH251","v":0.70639871089568196},{"$f":"+'[1]itcer regional'!CI251","v":1.4838515201137501},{"$f":"+'[1]itcer regional'!CJ251","v":0.9701350716062942},{"$f":"+'[1]itcer regional'!CK251","v":0.87783072682646013},{"$f":"+'[1]itcer regional'!CL251","v":0.91020643851742722},{"$f":"+'[1]itcer regional'!CM251","v":0.66920735041084556}]
[null,"Marzo",{"$f":"+'[1]itcer regional'!AK252","v":101.23572403839877},{"$f":"+'[1]itcer regional'!AL252","v":120.78419762887638},{"$f":"+'[1]itcer regional'!AM252","v":78.522509815156567},{"$f":"+'[1]itcer regional'!AN252","v":97.332475660301697},{"$f":"+'[1]itcer regional'!AO252","v":118.93616959923426},{"$f":"+'[1]itcer regional'!AP252","v":116.6113959228344},null,{"$f":"+'[1]itcer regional'!BT252","v":-1.9106805891628227},{"$f":"+'[1]itcer regional'!BU252","v":1.7320111191573062},{"$f":"+'[1]itcer regional'!BV252","v":-1.6497183461630129},{"$f":"+'[1]itcer regional'!BW252","v":1.2029536490758517},{"$f":"+'[1]itcer regional'!BX252","v":1.2631405976093504},{"$f":"+'[1]itcer regional'!BY252","v":1.6929975581557954},null,{"$f":"+'[1]itcer regional'!CA252","v":1.4247492827586314},{"$f":"+'[1]itcer regional'!CB252","v":0.80964331038815196},{"$f":"+'[1]itcer regional'!CC252","v":0.8153447945250063},{"$f":"+'[1]itcer regional'!CD252","v":1.1064628901011491},{"$f":"+'[1]itcer regional'!CE252","v":1.3143129866463732},{"$f":"+'[1]itcer regional'!CF252","v":1.7465742261404109},null,{"$f":"+'[1]itcer regional'!CH252","v":0.71055114933894825},{"$f":"+'[1]itcer regional'!CI252","v":1.4918198678251426},{"$f":"+'[1]itcer regional'!CJ252","v":0.96305894564398697},{"$f":"+'[1]itcer regional'!CK252","v":0.87967230108733152},{"$f":"+'[1]itcer regional'!CL252","v":0.90493033856961358},{"$f":"+'[1]itcer regional'!CM252","v":0.66765783084136587}]
[null,"Abril",{"$f":"+'[1]itcer regional'!AK253","v":97.195322186967985},{"$f":"+'[1]itcer regional'!AL253","v":121.95569949742935},{"$f":"+'[1]itcer regional'!AM253","v":79.185677232845933},{"$f":"+'[1]itcer regional'!AN253","v":97.428435810039304},{"$f":"+'[1]itcer regional'!AO253","v":120.73714271802648},{"$f":"+'[1]itcer regional'!AP253","v":118.44485889372555},null,{"$f":"+'[1]itcer regional'!BT253","v":-3.9910830784380664},{"$f":"+'[1]itcer regional'!BU253","v":0.96991319357233863},{"$f":"+'[1]itcer regional'!BV253","v":0.84455708210356306},{"$f":"+'[1]itcer regional'!BW253","v":9.859006368286316E-2},{"$f":"+'[1]itcer regional'!BX253","v":1.5142350093001511},{"$f":"+'[1]itcer regional'!BY253","v":1.5722845579384028},null,{"$f":"+'[1]itcer regional'!CA253","v":1.3675541367197845},{"$f":"+'[1]itcer regional'!CB253","v":0.81512926044130551},{"$f":"+'[1]itcer regional'!CC253","v":0.82084313526321639},{"$f":"+'[1]itcer regional'!CD253","v":1.1139612086874635},{"$f":"+'[1]itcer regional'!CE253","v":1.3382957579244859},{"$f":"+'[1]itcer regional'!CF253","v":1.7800735044133511},null,{"$f":"+'[1]itcer regional'!CH253","v":0.71072376279085148},{"$f":"+'[1]itcer regional'!CI253","v":1.4961516585897474},{"$f":"+'[1]itcer regional'!CJ253","v":0.964687086131917},{"$f":"+'[1]itcer regional'!CK253","v":0.87461246451153707},{"$f":"+'[1]itcer regional'!CL253","v":0.90217085426074528},{"$f":"+'[1]itcer regional'!CM253","v":0.66539307843223439}]
[null,"Mayo",{"$f":"+'[1]itcer regional'!AK254","v":98.649257649165619},{"$f":"+'[1]itcer regional'!AL254","v":121.87836553182741},{"$f":"+'[1]itcer regional'!AM254","v":78.848620224659228},{"$f":"+'[1]itcer regional'!AN254","v":96.879296440911133},{"$f":"+'[1]itcer regional'!AO254","v":120.48033970842771},{"$f":"+'[1]itcer regional'!AP254","v":118.18017445036247},null,{"$f":"+'[1]itcer regional'!BT254","v":1.4958903674405093},{"$f":"+'[1]itcer regional'!BU254","v":-6.3411522315576008E-2},{"$f":"+'[1]itcer regional'!BV254","v":-0.42565400709472101},{"$f":"+'[1]itcer regional'!BW254","v":-0.56363356812876475},{"$f":"+'[1]itcer regional'!BX254","v":-0.21269594742565801},{"$f":"+'[1]itcer regional'!BY254","v":-0.22346638413455366},null,{"$f":"+'[1]itcer regional'!CA254","v":1.3960061227252241},{"$f":"+'[1]itcer regional'!CB254","v":0.81242455574996564},{"$f":"+'[1]itcer regional'!CC254","v":0.8160048967504514},{"$f":"+'[1]itcer regional'!CD254","v":1.1102249473046535},{"$f":"+'[1]itcer regional'!CE254","v":1.3330989742892503},{"$f":"+'[1]itcer regional'!CF254","v":1.7797905146756312},null,{"$f":"+'[1]itcer regional'!CH254","v":0.70665347410215307},{"$f":"+'[1]itcer regional'!CI254","v":1.5001807204032509},{"$f":"+'[1]itcer regional'!CJ254","v":0.96627631204978559},{"$f":"+'[1]itcer regional'!CK254","v":0.87260961552079741},{"$f":"+'[1]itcer regional'!CL254","v":0.90376140130677474},{"$f":"+'[1]itcer regional'!CM254","v":0.66401171079339605}]
[null,"Junio",{"$f":"+'[1]itcer regional'!AK255","v":100.02934169889991},{"$f":"+'[1]itcer regional'!AL255","v":121.39931986122831},{"$f":"+'[1]itcer regional'!AM255","v":78.548687504077392},{"$f":"+'[1]itcer regional'!AN255","v":96.58554962584455},{"$f":"+'[1]itcer regional'!AO255","v":120.73115185806529},{"$f":"+'[1]itcer regional'!AP255","v":118.23381483512303},null,{"$f":"+'[1]itcer regional'!BT255","v":1.3989806741804216},{"$f":"+'[1]itcer regional'!BU255","v":-0.39305226034886687},{"$f":"+'[1]itcer regional'!BV255","v":-0.38039057592543202},{"$f":"+'[1]itcer regional'!BW255","v":-0.30320907134760944},{"$f":"+'[1]itcer regional'!BX255","v":0.20817682805723337},{"$f":"+'[1]itcer regional'!BY255","v":4.5388649162219963E-2},null,{"$f":"+'[1]itcer regional'!CA255","v":1.4142211818273633},{"$f":"+'[1]itcer regional'!CB255","v":0.8098522262536143},{"$f":"+'[1]itcer regional'!CC255","v":0.81415762551942517},{"$f":"+'[1]itcer regional'!CD255","v":1.1069807828751228},{"$f":"+'[1]itcer regional'!CE255","v":1.3306682802082013},{"$f":"+'[1]itcer regional'!CF255","v":1.7709127781114937},null,{"$f":"+'[1]itcer regional'!CH255","v":0.70731044750474314},{"$f":"+'[1]itcer regional'!CI255","v":1.4990305135397719},{"$f":"+'[1]itcer regional'!CJ255","v":0.96478476700336802},{"$f":"+'[1]itcer regional'!CK255","v":0.87251333645545548},{"$f":"+'[1]itcer regional'!CL255","v":0.90729713523475009},{"$f":"+'[1]itcer regional'!CM255","v":0.66764335486476012}]
[null,"Julio",{"$f":"+'[1]itcer regional'!AK256","v":97.961650616288139},{"$f":"+'[1]itcer regional'!AL256","v":122.32381873981659},{"$f":"+'[1]itcer regional'!AM256","v":78.795546708864208},{"$f":"+'[1]itcer regional'!AN256","v":96.52789068349017},{"$f":"+'[1]itcer regional'!AO256","v":121.42695026151745},{"$f":"+'[1]itcer regional'!AP256","v":119.38789683162243},null,{"$f":"+'[1]itcer regional'!BT256","v":-2.0670845648827338},{"$f":"+'[1]itcer regional'!BU256","v":0.76153546794583349},{"$f":"+'[1]itcer regional'!BV256","v":0.31427540374116347},{"$f":"+'[1]itcer regional'!BW256","v":-5.9697276225833207E-2},{"$f":"+'[1]itcer regional'!BX256","v":0.57632052104510478},{"$f":"+'[1]itcer regional'!BY256","v":0.97610146311252777},null,{"$f":"+'[1]itcer regional'!CA256","v":1.3832626088293836},{"$f":"+'[1]itcer regional'!CB256","v":0.8122981021138137},{"$f":"+'[1]itcer regional'!CC256","v":0.81722827870760983},{"$f":"+'[1]itcer regional'!CD256","v":1.1104926721913175},{"$f":"+'[1]itcer regional'!CE256","v":1.3463526043675893},{"$f":"+'[1]itcer regional'!CF256","v":1.7883110712571078},null,{"$f":"+'[1]itcer regional'!CH256","v":0.70819271764448499},{"$f":"+'[1]itcer regional'!CI256","v":1.505898123133586},{"$f":"+'[1]itcer regional'!CJ256","v":0.96418037360961062},{"$f":"+'[1]itcer regional'!CK256","v":0.86923482793464291},{"$f":"+'[1]itcer regional'!CL256","v":0.90189560942361213},{"$f":"+'[1]itcer regional'!CM256","v":0.66760139637058624}]
[null,"Agosto",{"$f":"+'[1]itcer regional'!AK257","v":95.3159635520922},{"$f":"+'[1]itcer regional'!AL257","v":122.94123734669347},{"$f":"+'[1]itcer regional'!AM257","v":79.219578634792811},{"$f":"+'[1]itcer regional'!AN257","v":96.304042027480321},{"$f":"+'[1]itcer regional'!AO257","v":123.74026908714235},{"$f":"+'[1]itcer regional'!AP257","v":120.49892083053328},null,{"$f":"+'[1]itcer regional'!BT257","v":-2.700737531015065},{"$f":"+'[1]itcer regional'!BU257","v":0.50474111521170073},{"$f":"+'[1]itcer regional'!BV257","v":0.53814199360191139},{"$f":"+'[1]itcer regional'!BW257","v":-0.23190049469104679},{"$f":"+'[1]itcer regional'!BX257","v":1.9051115264302467},{"$f":"+'[1]itcer regional'!BY257","v":0.93060019348341427},null,{"$f":"+'[1]itcer regional'!CA257","v":1.3495111584080517},{"$f":"+'[1]itcer regional'!CB257","v":0.81420821726217041},{"$f":"+'[1]itcer regional'!CC257","v":0.82182924633919541},{"$f":"+'[1]itcer regional'!CD257","v":1.1135775440861764},{"$f":"+'[1]itcer regional'!CE257","v":1.3639715195237221},{"$f":"+'[1]itcer regional'!CF257","v":1.8073048001514127},null,{"$f":"+'[1]itcer regional'!CH257","v":0.7062999291130837},{"$f":"+'[1]itcer regional'!CI257","v":1.5099483736493298},{"$f":"+'[1]itcer regional'!CJ257","v":0.96394207175849689},{"$f":"+'[1]itcer regional'!CK257","v":0.8648166671366323},{"$f":"+'[1]itcer regional'!CL257","v":0.90720566607102304},{"$f":"+'[1]itcer regional'!CM257","v":0.6667326995448587}]
[null,"Septiembre",{"$f":"+'[1]itcer regional'!AK258","v":95.044986300928628},{"$f":"+'[1]itcer regional'!AL258","v":122.45205887761635},{"$f":"+'[1]itcer regional'!AM258","v":79.913419441803626},{"$f":"+'[1]itcer regional'!AN258","v":95.707836061324784},{"$f":"+'[1]itcer regional'!AO258","v":123.86611240986046},{"$f":"+'[1]itcer regional'!AP258","v":119.87997955075646},null,{"$f":"+'[1]itcer regional'!BT258","v":-0.28429367029949049},{"$f":"+'[1]itcer regional'!BU258","v":-0.39789616538317318},{"$f":"+'[1]itcer regional'!BV258","v":0.87584511173615454},{"$f":"+'[1]itcer regional'!BW258","v":-0.61908716768648731},{"$f":"+'[1]itcer regional'!BX258","v":0.10169957092098514},{"$f":"+'[1]itcer regional'!BY258","v":-0.51364881569958243},null,{"$f":"+'[1]itcer regional'!CA258","v":1.3394658162093749},{"$f":"+'[1]itcer regional'!CB258","v":0.81081176743818284},{"$f":"+'[1]itcer regional'!CC258","v":0.82895805329586481},{"$f":"+'[1]itcer regional'!CD258","v":1.1104416201825242},{"$f":"+'[1]itcer regional'!CE258","v":1.3684799561800958},{"$f":"+'[1]itcer regional'!CF258","v":1.8085397563383201},null,{"$f":"+'[1]itcer regional'!CH258","v":0.70957381032613032},{"$f":"+'[1]itcer regional'!CI258","v":1.5102402776480699},{"$f":"+'[1]itcer regional'!CJ258","v":0.964022475251611},{"$f":"+'[1]itcer regional'!CK258","v":0.86188984924388201},{"$f":"+'[1]itcer regional'!CL258","v":0.90513647533146135},{"$f":"+'[1]itcer regional'!CM258","v":0.66285509694004618}]
[null,"Octubre",{"$f":"+'[1]itcer regional'!AK259","v":95.512042557856816},{"$f":"+'[1]itcer regional'!AL259","v":122.70936717394493},{"$f":"+'[1]itcer regional'!AM259","v":79.885308847996583},{"$f":"+'[1]itcer regional'!AN259","v":95.533268688306904},{"$f":"+'[1]itcer regional'!AO259","v":122.63611814217079},{"$f":"+'[1]itcer regional'!AP259","v":120.57196338273339},null,{"$f":"+'[1]itcer regional'!BT259","v":0.49140546503885218},{"$f":"+'[1]itcer regional'!BU259","v":0.21012982442847772},{"$f":"+'[1]itcer regional'!BV259","v":-3.5176312067974891E-2},{"$f":"+'[1]itcer regional'!BW259","v":-0.18239611321483551},{"$f":"+'[1]itcer regional'!BX259","v":-0.99300304478737189},{"$f":"+'[1]itcer regional'!BY259","v":0.57723052220237037},null,{"$f":"+'[1]itcer regional'!CA259","v":1.3390125682669765},{"$f":"+'[1]itcer regional'!CB259","v":0.81145684414647434},{"$f":"+'[1]itcer regional'!CC259","v":0.82631135517670939},{"$f":"+'[1]itcer regional'!CD259","v":1.1110981044915158},{"$f":"+'[1]itcer regional'!CE259","v":1.3757444157028447},{"$f":"+'[1]itcer regional'!CF259","v":1.8199787418019091},null,{"$f":"+'[1]itcer regional'!CH259","v":0.7133020616936685},{"$f":"+'[1]itcer regional'!CI259","v":1.5122106376835844},{"$f":"+'[1]itcer regional'!CJ259","v":0.96677007217107458},{"$f":"+'[1]itcer regional'!CK259","v":0.8598094830881462},{"$f":"+'[1]itcer regional'!CL259","v":0.89141643420386396},{"$f":"+'[1]itcer regional'!CM259","v":0.66249105340295622}]
[null,"Noviembre",{"$f":"+'[1]itcer regional'!AK260","v":96.363629257611677},{"$f":"+'[1]itcer regional'!AL260","v":123.52193284506995},{"$f":"+'[1]itcer regional'!AM260","v":79.195332875601551},{"$f":"+'[1]itcer regional'!AN260","v":95.539090377055857},{"$f":"+'[1]itcer regional'!AO260","v":121.6496112031875},{"$f":"+'[1]itcer regional'!AP260","v":121.22216637013278},null,{"$f":"+'[1]itcer regional'!BT260","v":0.89160139072410516},{"$f":"+'[1]itcer regional'!BU260","v":0.66218715802941119},{"$f":"+'[1]itcer regional'!BV260","v":-0.86370821161609967},{"$f":"+'[1]itcer regional'!BW260","v":6.0938862753090461E-3},{"$f":"+'[1]itcer regional'!BX260","v":-0.80441794303993674},{"$f":"+'[1]itcer regional'!BY260","v":0.53926548855760359},null,{"$f":"+'[1]itcer regional'!CA260","v":1.3479785824611938},{"$f":"+'[1]itcer regional'!CB260","v":0.81354091846919441},{"$f":"+'[1]itcer regional'!CC260","v":0.81995277422913337},{"$f":"+'[1]itcer regional'!CD260","v":1.1129099505032212},{"$f":"+'[1]itcer regional'!CE260","v":1.3770614068731157},{"$f":"+'[1]itcer regional'!CF260","v":1.8224656497971818},null,{"$f":"+'[1]itcer regional'!CH260","v":0.71487507673650907},{"$f":"+'[1]itcer regional'!CI260","v":1.5183247706519294},{"$f":"+'[1]itcer regional'!CJ260","v":0.96585236814468822},{"$f":"+'[1]itcer regional'!CK260","v":0.85846200165481712},{"$f":"+'[1]itcer regional'!CL260","v":0.88340004734731814},{"$f":"+'[1]itcer regional'!CM260","v":0.66515473904061428}]
[null,"Diciembre",{"$f":"+'[1]itcer regional'!AK261","v":94.705949004281038},{"$f":"+'[1]itcer regional'!AL261","v":124.37677628997676},{"$f":"+'[1]itcer regional'!AM261","v":79.165903538955305},{"$f":"+'[1]itcer regional'!AN261","v":95.984011513094629},{"$f":"+'[1]itcer regional'!AO261","v":122.18804843255322},{"$f":"+'[1]itcer regional'!AP261","v":121.49797522811627},null,{"$f":"+'[1]itcer regional'!BT261","v":-1.7202343520075516},{"$f":"+'[1]itcer regional'!BU261","v":0.69205802177579301},{"$f":"+'[1]itcer regional'!BV261","v":-3.7160443144387045E-2},{"$f":"+'[1]itcer regional'!BW261","v":0.46569538634169305},{"$f":"+'[1]itcer regional'!BX261","v":0.44261319377862662},{"$f":"+'[1]itcer regional'!BY261","v":0.2275234523868761},null,{"$f":"+'[1]itcer regional'!CA261","v":1.3322030054415765},{"$f":"+'[1]itcer regional'!CB261","v":0.81641731463520828},{"$f":"+'[1]itcer regional'!CC261","v":0.81875372943950375},{"$f":"+'[1]itcer regional'!CD261","v":1.1163871353896682},{"$f":"+'[1]itcer regional'!CE261","v":1.3882963801306811},{"$f":"+'[1]itcer regional'!CF261","v":1.8378137889300903},null,{"$f":"+'[1]itcer regional'!CH261","v":0.71089727779805956},{"$f":"+'[1]itcer regional'!CI261","v":1.5234460864607071},{"$f":"+'[1]itcer regional'!CJ261","v":0.96690739464661868},{"$f":"+'[1]itcer regional'!CK261","v":0.85977353617203767},{"$f":"+'[1]itcer regional'!CL261","v":0.88012941747389395},{"$f":"+'[1]itcer regional'!CM261","v":0.66110057482400364}]
[2011,"Enero",{"$f":"+'[1]itcer regional'!AK262","v":94.570832138315993},{"$f":"+'[1]itcer regional'!AL262","v":124.38543933115876},{"$f":"+'[1]itcer regional'!AM262","v":78.667279515740233},{"$f":"+'[1]itcer regional'!AN262","v":96.194224233122796},{"$f":"+'[1]itcer regional'!AO262","v":124.11752592879752},{"$f":"+'[1]itcer regional'!AP262","v":121.27902274711938},null,{"$f":"+'[1]itcer regional'!BT262","v":-0.14266988228895627},{"$f":"+'[1]itcer regional'!BU262","v":6.9651597673043852E-3},{"$f":"+'[1]itcer regional'!BV262","v":-0.62984694284416776},{"$f":"+'[1]itcer regional'!BW262","v":0.21900805844052229},{"$f":"+'[1]itcer regional'!BX262","v":1.5791049296522317},{"$f":"+'[1]itcer regional'!BY262","v":-0.18021080646471432},null,{"$f":"+'[1]itcer regional'!CA262","v":1.3325665301770369},{"$f":"+'[1]itcer regional'!CB262","v":0.81661473316280364},{"$f":"+'[1]itcer regional'!CC262","v":0.81588627264604074},{"$f":"+'[1]itcer regional'!CD262","v":1.1165448239315852},{"$f":"+'[1]itcer regional'!CE262","v":1.3986915587571056},{"$f":"+'[1]itcer regional'!CF262","v":1.8449356420051981},null,{"$f":"+'[1]itcer regional'!CH262","v":0.70968938508272361},{"$f":"+'[1]itcer regional'!CI262","v":1.5231838745965998},{"$f":"+'[1]itcer regional'!CJ262","v":0.96419417942418062},{"$f":"+'[1]itcer regional'!CK262","v":0.86153481858796355},{"$f":"+'[1]itcer regional'!CL262","v":0.88738310567263234},{"$f":"+'[1]itcer regional'!CM262","v":0.65736180702382285}]
[null,"Febrero",{"$f":"+'[1]itcer regional'!AK263","v":94.370783741581974},{"$f":"+'[1]itcer regional'!AL263","v":126.30671813681337},{"$f":"+'[1]itcer regional'!AM263","v":77.080019422437957},{"$f":"+'[1]itcer regional'!AN263","v":96.729769754058736},{"$f":"+'[1]itcer regional'!AO263","v":125.40044352464096},{"$f":"+'[1]itcer regional'!AP263","v":122.26621717466055},null,{"$f":"+'[1]itcer regional'!BT263","v":-0.21153287140525379},{"$f":"+'[1]itcer regional'!BU263","v":1.5446171320257776},{"$f":"+'[1]itcer regional'!BV263","v":-2.0176877897305303},{"$f":"+'[1]itcer regional'!BW263","v":0.55673355152599413},{"$f":"+'[1]itcer regional'!BX263","v":1.0336312992408523},{"$f":"+'[1]itcer regional'!BY263","v":0.81398613311682766},null,{"$f":"+'[1]itcer regional'!CA263","v":1.327346924222093},{"$f":"+'[1]itcer regional'!CB263","v":0.82502608234483998},{"$f":"+'[1]itcer regional'!CC263","v":0.80210093843501917},{"$f":"+'[1]itcer regional'!CD263","v":1.1252819854085758},{"$f":"+'[1]itcer regional'!CE263","v":1.4164801597527601},{"$f":"+'[1]itcer regional'!CF263","v":1.8721431340614689},null,{"$f":"+'[1]itcer regional'!CH263","v":0.71097300953847498},{"$f":"+'[1]itcer regional'!CI263","v":1.5309421221912396},{"$f":"+'[1]itcer regional'!CJ263","v":0.96097655206374588},{"$f":"+'[1]itcer regional'!CK263","v":0.85960471249290782},{"$f":"+'[1]itcer regional'!CL263","v":0.88529615230564929},{"$f":"+'[1]itcer regional'!CM263","v":0.65308156705632614}]
[null,"Marzo",{"$f":"+'[1]itcer regional'!AK264","v":94.828499534589383},{"$f":"+'[1]itcer regional'!AL264","v":127.31363757535674},{"$f":"+'[1]itcer regional'!AM264","v":75.850759599417515},{"$f":"+'[1]itcer regional'!AN264","v":97.230594129829399},{"$f":"+'[1]itcer regional'!AO264","v":126.29594320408307},{"$f":"+'[1]itcer regional'!AP264","v":122.79146937125026},null,{"$f":"+'[1]itcer regional'!BT264","v":0.4850185352500489},{"$f":"+'[1]itcer regional'!BU264","v":0.79720180636209648},{"$f":"+'[1]itcer regional'!BV264","v":-1.5947840078807758},{"$f":"+'[1]itcer regional'!BW264","v":0.51775619547534291},{"$f":"+'[1]itcer regional'!BX264","v":0.71411205117959753},{"$f":"+'[1]itcer regional'!BY264","v":0.42959715997376691},null,{"$f":"+'[1]itcer regional'!CA264","v":1.3269382297129235},{"$f":"+'[1]itcer regional'!CB264","v":0.83081390733833771},{"$f":"+'[1]itcer regional'!CC264","v":0.79203336614841491},{"$f":"+'[1]itcer regional'!CD264","v":1.1311701397098139},{"$f":"+'[1]itcer regional'!CE264","v":1.4274436858051127},{"$f":"+'[1]itcer regional'!CF264","v":1.8904337600002723},null,{"$f":"+'[1]itcer regional'!CH264","v":0.71464140086690442},{"$f":"+'[1]itcer regional'!CI264","v":1.5323965625855849},{"$f":"+'[1]itcer regional'!CJ264","v":0.9576712653946986},{"$f":"+'[1]itcer regional'!CK264","v":0.85955764492486131},{"$f":"+'[1]itcer regional'!CL264","v":0.88477005755116067},{"$f":"+'[1]itcer regional'!CM264","v":0.64954124269994307}]
[null,"Abril",{"$f":"+'[1]itcer regional'!AK265","v":96.102572520368739},{"$f":"+'[1]itcer regional'!AL265","v":125.20595667222202},{"$f":"+'[1]itcer regional'!AM265","v":75.776516858585694},{"$f":"+'[1]itcer regional'!AN265","v":97.99617507355569},{"$f":"+'[1]itcer regional'!AO265","v":127.5685274220649},{"$f":"+'[1]itcer regional'!AP265","v":123.57111192975468},null,{"$f":"+'[1]itcer regional'!BT265","v":1.3435549355229881},{"$f":"+'[1]itcer regional'!BU265","v":-1.6555028536414085},{"$f":"+'[1]itcer regional'!BV265","v":-9.7880022855292736E-2},{"$f":"+'[1]itcer regional'!BW265","v":0.78738688226466991},{"$f":"+'[1]itcer regional'!BX265","v":1.0076208195582694},{"$f":"+'[1]itcer regional'!BY265","v":0.63493218421162112},null,{"$f":"+'[1]itcer regional'!CA265","v":1.3300302722507948},{"$f":"+'[1]itcer regional'!CB265","v":0.83568550030555067},{"$f":"+'[1]itcer regional'!CC265","v":0.78307428495770248},{"$f":"+'[1]itcer regional'!CD265","v":1.1359980273023953},{"$f":"+'[1]itcer regional'!CE265","v":1.4344400769667816},{"$f":"+'[1]itcer regional'!CF265","v":1.902606137833164},null,{"$f":"+'[1]itcer regional'!CH265","v":0.72255928699829886},{"$f":"+'[1]itcer regional'!CI265","v":1.4982425401235648},{"$f":"+'[1]itcer regional'!CJ265","v":0.96767980144666299},{"$f":"+'[1]itcer regional'!CK265","v":0.86264388421750082},{"$f":"+'[1]itcer regional'!CL265","v":0.88932629163441235},{"$f":"+'[1]itcer regional'!CM265","v":0.64948340842885666}]
[null,"Mayo",{"$f":"+'[1]itcer regional'!AK266","v":96.39627890949599},{"$f":"+'[1]itcer regional'!AL266","v":124.78131498860604},{"$f":"+'[1]itcer regional'!AM266","v":76.178783100433407},{"$f":"+'[1]itcer regional'!AN266","v":97.609611309111642},{"$f":"+'[1]itcer regional'!AO266","v":126.96955055890625},{"$f":"+'[1]itcer regional'!AP266","v":123.62215154977881},null,{"$f":"+'[1]itcer regional'!BT266","v":0.3056176139977822},{"$f":"+'[1]itcer regional'!BU266","v":-0.33915453777304094},{"$f":"+'[1]itcer regional'!BV266","v":0.53085871259881401},{"$f":"+'[1]itcer regional'!BW266","v":-0.39446821690121681},{"$f":"+'[1]itcer regional'!BX266","v":-0.4695334149126893},{"$f":"+'[1]itcer regional'!BY266","v":4.1303844585556249E-2},null,{"$f":"+'[1]itcer regional'!CA266","v":1.3346887741829563},{"$f":"+'[1]itcer regional'!CB266","v":0.83189162712964593},{"$f":"+'[1]itcer regional'!CC266","v":0.78640941413697596},{"$f":"+'[1]itcer regional'!CD266","v":1.1319637236958555},{"$f":"+'[1]itcer regional'!CE266","v":1.4344871377221955},{"$f":"+'[1]itcer regional'!CF266","v":1.8964369476113934},null,{"$f":"+'[1]itcer regional'!CH266","v":0.72223787877818912},{"$f":"+'[1]itcer regional'!CI266","v":1.4999708005134127},{"$f":"+'[1]itcer regional'!CJ266","v":0.96869113887749903},{"$f":"+'[1]itcer regional'!CK266","v":0.86230335182842077},{"$f":"+'[1]itcer regional'!CL266","v":0.88512156867798497},{"$f":"+'[1]itcer regional'!CM266","v":0.65186533992329043}]
[null,"Junio",{"$f":"+'[1]itcer regional'!AK267","v":96.09426548795588},{"$f":"+'[1]itcer regional'!AL267","v":124.23460979187075},{"$f":"+'[1]itcer regional'!AM267","v":77.024319228232386},{"$f":"+'[1]itcer regional'!AN267","v":96.887606638782458},{"$f":"+'[1]itcer regional'!AO267","v":126.80131458215894},{"$f":"+'[1]itcer regional'!AP267","v":122.48976693453668},null,{"$f":"+'[1]itcer regional'!BT267","v":-0.31330402475769858},{"$f":"+'[1]itcer regional'!BU267","v":-0.43813065825216313},{"$f":"+'[1]itcer regional'!BV267","v":1.1099365116980664},{"$f":"+'[1]itcer regional'!BW267","v":-0.73968604182095987},{"$f":"+'[1]itcer regional'!BX267","v":-0.13250104139673624},{"$f":"+'[1]itcer regional'!BY267","v":-0.91600461652389242},null,{"$f":"+'[1]itcer regional'!CA267","v":1.331960384122298},{"$f":"+'[1]itcer regional'!CB267","v":0.824338331831451},{"$f":"+'[1]itcer regional'!CC267","v":0.79681412930827444},{"$f":"+'[1]itcer regional'!CD267","v":1.1243537605705018},{"$f":"+'[1]itcer regional'!CE267","v":1.4362916820968725},{"$f":"+'[1]itcer regional'!CF267","v":1.8894980703687723},null,{"$f":"+'[1]itcer regional'!CH267","v":0.72144987668892024},{"$f":"+'[1]itcer regional'!CI267","v":1.5070827716558557},{"$f":"+'[1]itcer regional'!CJ267","v":0.9666535317979148},{"$f":"+'[1]itcer regional'!CK267","v":0.86171817124195205},{"$f":"+'[1]itcer regional'!CL267","v":0.88283818783270396},{"$f":"+'[1]itcer regional'!CM267","v":0.6482661657898936}]
[null,"Julio",{"$f":"+'[1]itcer regional'!AK268","v":96.187745734005674},{"$f":"+'[1]itcer regional'!AL268","v":124.97723369279807},{"$f":"+'[1]itcer regional'!AM268","v":76.405762676535574},{"$f":"+'[1]itcer regional'!AN268","v":96.711631880191192},{"$f":"+'[1]itcer regional'!AO268","v":127.79791918541878},{"$f":"+'[1]itcer regional'!AP268","v":122.37718684366746},null,{"$f":"+'[1]itcer regional'!BT268","v":9.7279734201720203E-2},{"$f":"+'[1]itcer regional'!BU268","v":0.59775927349990354},{"$f":"+'[1]itcer regional'!BV268","v":-0.80306656117784314},{"$f":"+'[1]itcer regional'!BW268","v":-0.18162772793772319},{"$f":"+'[1]itcer regional'!BX268","v":0.78595762713020179},{"$f":"+'[1]itcer regional'!BY268","v":-9.1909792700789694E-2},null,{"$f":"+'[1]itcer regional'!CA268","v":1.3297098689692537},{"$f":"+'[1]itcer regional'!CB268","v":0.82539580362673259},{"$f":"+'[1]itcer regional'!CC268","v":0.79485036247635221},{"$f":"+'[1]itcer regional'!CD268","v":1.1239225915104942},{"$f":"+'[1]itcer regional'!CE268","v":1.4453848792451565},{"$f":"+'[1]itcer regional'!CF268","v":1.8929980933537425},null,{"$f":"+'[1]itcer regional'!CH268","v":0.72337393275547524},{"$f":"+'[1]itcer regional'!CI268","v":1.5141491287411042},{"$f":"+'[1]itcer regional'!CJ268","v":0.96125970727991872},{"$f":"+'[1]itcer regional'!CK268","v":0.86048303157796402},{"$f":"+'[1]itcer regional'!CL268","v":0.88417916238448868},{"$f":"+'[1]itcer regional'!CM268","v":0.64647284787729031}]
[null,"Agosto",{"$f":"+'[1]itcer regional'!AK269","v":96.15175636240059},{"$f":"+'[1]itcer regional'!AL269","v":124.83713244210274},{"$f":"+'[1]itcer regional'!AM269","v":76.803173419198458},{"$f":"+'[1]itcer regional'!AN269","v":96.193007016846153},{"$f":"+'[1]itcer regional'!AO269","v":127.5578478884641},{"$f":"+'[1]itcer regional'!AP269","v":121.82416279994106},null,{"$f":"+'[1]itcer regional'!BT269","v":-3.7415755333952916E-2},{"$f":"+'[1]itcer regional'!BU269","v":-0.1121014176387547},{"$f":"+'[1]itcer regional'!BV269","v":0.52013189678548599},{"$f":"+'[1]itcer regional'!BW269","v":-0.53625903447428414},{"$f":"+'[1]itcer regional'!BX269","v":-0.18785227371846247},{"$f":"+'[1]itcer regional'!BY269","v":-0.45190125544630178},null,{"$f":"+'[1]itcer regional'!CA269","v":1.3265500542964175},{"$f":"+'[1]itcer regional'!CB269","v":0.82125670199811762},{"$f":"+'[1]itcer regional'!CC269","v":0.80171739561621191},{"$f":"+'[1]itcer regional'!CD269","v":1.1181663969549489},{"$f":"+'[1]itcer regional'!CE269","v":1.4473103421067215},{"$f":"+'[1]itcer regional'!CF269","v":1.8866516855100217},null,{"$f":"+'[1]itcer regional'!CH269","v":0.72482569391923968},{"$f":"+'[1]itcer regional'!CI269","v":1.5200744436955462},{"$f":"+'[1]itcer regional'!CJ269","v":0.95798312272077346},{"$f":"+'[1]itcer regional'!CK269","v":0.86027452871776622},{"$f":"+'[1]itcer regional'!CL269","v":0.88134413316489846},{"$f":"+'[1]itcer regional'!CM269","v":0.64571623758419472}]
[null,"Septiembre",{"$f":"+'[1]itcer regional'!AK270","v":97.025710503674176},{"$f":"+'[1]itcer regional'!AL270","v":124.52689288486575},{"$f":"+'[1]itcer regional'!AM270","v":76.689023511829646},{"$f":"+'[1]itcer regional'!AN270","v":96.358045500608853},{"$f":"+'[1]itcer regional'!AO270","v":126.80988410031718},{"$f":"+'[1]itcer regional'!AP270","v":121.00798694135221},null,{"$f":"+'[1]itcer regional'!BT270","v":0.90893206150037997},{"$f":"+'[1]itcer regional'!BU270","v":-0.24851544662072911},{"$f":"+'[1]itcer regional'!BV270","v":-0.14862655055381424},{"$f":"+'[1]itcer regional'!BW270","v":0.17157014722887709},{"$f":"+'[1]itcer regional'!BX270","v":-0.58637222289993929},{"$f":"+'[1]itcer regional'!BY270","v":-0.6699622142523225},null,{"$f":"+'[1]itcer regional'!CA270","v":1.3372436594174411},{"$f":"+'[1]itcer regional'!CB270","v":0.81761596747082388},{"$f":"+'[1]itcer regional'!CC270","v":0.80142053705265193},{"$f":"+'[1]itcer regional'!CD270","v":1.1192522463679278},{"$f":"+'[1]itcer regional'!CE270","v":1.4446812342831206},{"$f":"+'[1]itcer regional'!CF270","v":1.8805219386605825},null,{"$f":"+'[1]itcer regional'!CH270","v":0.72556493216757967},{"$f":"+'[1]itcer regional'!CI270","v":1.5230486908183996},{"$f":"+'[1]itcer regional'!CJ270","v":0.95691362981369776},{"$f":"+'[1]itcer regional'!CK270","v":0.86091447047168523},{"$f":"+'[1]itcer regional'!CL270","v":0.877770688031694},{"$f":"+'[1]itcer regional'!CM270","v":0.64348085738122884}]
[null,"Octubre",{"$f":"+'[1]itcer regional'!AK271","v":97.576379653751317},{"$f":"+'[1]itcer regional'!AL271","v":124.52228426719519},{"$f":"+'[1]itcer regional'!AM271","v":76.461026355716641},{"$f":"+'[1]itcer regional'!AN271","v":96.570974983773581},{"$f":"+'[1]itcer regional'!AO271","v":126.24937653896772},{"$f":"+'[1]itcer regional'!AP271","v":121.21848331739595},null,{"$f":"+'[1]itcer regional'!BT271","v":0.56754972184025121},{"$f":"+'[1]itcer regional'!BU271","v":-3.7009015191813432E-3},{"$f":"+'[1]itcer regional'!BV271","v":-0.29730089871054588},{"$f":"+'[1]itcer regional'!BW271","v":0.22097737875286327},{"$f":"+'[1]itcer regional'!BX271","v":-0.44200620900028298},{"$f":"+'[1]itcer regional'!BY271","v":0.17395246492759497},null,{"$f":"+'[1]itcer regional'!CA271","v":1.3468990219424259},{"$f":"+'[1]itcer regional'!CB271","v":0.81630217762893131},{"$f":"+'[1]itcer regional'!CC271","v":0.79812066399617398},{"$f":"+'[1]itcer regional'!CD271","v":1.1223769452498802},{"$f":"+'[1]itcer regional'!CE271","v":1.4435458636224205},{"$f":"+'[1]itcer regional'!CF271","v":1.8827973787279562},null,{"$f":"+'[1]itcer regional'!CH271","v":0.724452078917036},{"$f":"+'[1]itcer regional'!CI271","v":1.5254434899204645},{"$f":"+'[1]itcer regional'!CJ271","v":0.95801336570936302},{"$f":"+'[1]itcer regional'!CK271","v":0.86041481333415581},{"$f":"+'[1]itcer regional'!CL271","v":0.87457821549333203},{"$f":"+'[1]itcer regional'!CM271","v":0.64382118164670932}]
[null,"Noviembre",{"$f":"+'[1]itcer regional'!AK272","v":96.420335747029483},{"$f":"+'[1]itcer regional'!AL272","v":125.30165812210866},{"$f":"+'[1]itcer regional'!AM272","v":76.507060384435135},{"$f":"+'[1]itcer regional'!AN272","v":96.755551994383652},{"$f":"+'[1]itcer regional'!AO272","v":125.94903437558931},{"$f":"+'[1]itcer regional'!AP272","v":122.70869540052047},null,{"$f":"+'[1]itcer regional'!BT272","v":-1.1847579412395106},{"$f":"+'[1]itcer regional'!BU272","v":0.62589106801247851},{"$f":"+'[1]itcer regional'!BV272","v":6.0205873387488396E-2},{"$f":"+'[1]itcer regional'!BW272","v":0.19113093829805905},{"$f":"+'[1]itcer regional'!BX272","v":-0.23789595767684091},{"$f":"+'[1]itcer regional'!BY272","v":1.2293604426831308},null,{"$f":"+'[1]itcer regional'!CA272","v":1.328766544740781},{"$f":"+'[1]itcer regional'!CB272","v":0.81951108508391413},{"$f":"+'[1]itcer regional'!CC272","v":0.79769195619406563},{"$f":"+'[1]itcer regional'!CD272","v":1.1255835931507856},{"$f":"+'[1]itcer regional'!CE272","v":1.4546827431109415},{"$f":"+'[1]itcer regional'!CF272","v":1.9022292291974117},null,{"$f":"+'[1]itcer regional'!CH272","v":0.72563789424604574},{"$f":"+'[1]itcer regional'!CI272","v":1.5289806373916026},{"$f":"+'[1]itcer regional'!CJ272","v":0.95910532618962763},{"$f":"+'[1]itcer regional'!CK272","v":0.85960343223856917},{"$f":"+'[1]itcer regional'!CL272","v":0.86581789034108159},{"$f":"+'[1]itcer regional'!CM272","v":0.64507838233719972}]
[null,"Diciembre",{"$f":"+'[1]itcer regional'!AK273","v":95.381089688383256},{"$f":"+'[1]itcer regional'!AL273","v":126.17800108272218},{"$f":"+'[1]itcer regional'!AM273","v":76.434317808438209},{"$f":"+'[1]itcer regional'!AN273","v":97.075558962117299},{"$f":"+'[1]itcer regional'!AO273","v":125.53498240666214},{"$f":"+'[1]itcer regional'!AP273","v":123.72025124691066},null,{"$f":"+'[1]itcer regional'!BT273","v":-1.0778287076004602},{"$f":"+'[1]itcer regional'!BU273","v":0.69938656339208194},{"$f":"+'[1]itcer regional'!BV273","v":-9.5079559496085153E-2},{"$f":"+'[1]itcer regional'!BW273","v":0.33073757643616375},{"$f":"+'[1]itcer regional'!BX273","v":-0.32874564777721105},{"$f":"+'[1]itcer regional'!BY273","v":0.82435547300741518},null,{"$f":"+'[1]itcer regional'!CA273","v":1.3219090209011126},{"$f":"+'[1]itcer regional'!CB273","v":0.82034235593092475},{"$f":"+'[1]itcer regional'!CC273","v":0.79648938726574925},{"$f":"+'[1]itcer regional'!CD273","v":1.1284611750776103},{"$f":"+'[1]itcer regional'!CE273","v":1.4623610592433265},{"$f":"+'[1]itcer regional'!CF273","v":1.9117022107937149},null,{"$f":"+'[1]itcer regional'!CH273","v":0.72154050074765597},{"$f":"+'[1]itcer regional'!CI273","v":1.5381139370712529},{"$f":"+'[1]itcer regional'!CJ273","v":0.95964012867551018},{"$f":"+'[1]itcer regional'!CK273","v":0.86024722078223825},{"$f":"+'[1]itcer regional'!CL273","v":0.85844040781295194},{"$f":"+'[1]itcer regional'!CM273","v":0.64717323936944959}]
[2012,"Enero",{"$f":"+'[1]itcer regional'!AK274","v":95.904835154751026},{"$f":"+'[1]itcer regional'!AL274","v":125.45104794802414},{"$f":"+'[1]itcer regional'!AM274","v":76.380522992902328},{"$f":"+'[1]itcer regional'!AN274","v":97.231729526197441},{"$f":"+'[1]itcer regional'!AO274","v":126.14080503864344},{"$f":"+'[1]itcer regional'!AP274","v":123.86750711810231},null,{"$f":"+'[1]itcer regional'!BT274","v":0.54910828559296476},{"$f":"+'[1]itcer regional'!BU274","v":-0.57613302513918541},{"$f":"+'[1]itcer regional'!BV274","v":-7.0380448309492749E-2},{"$f":"+'[1]itcer regional'!BW274","v":0.1608752663902635},{"$f":"+'[1]itcer regional'!BX274","v":0.48259267685143925},{"$f":"+'[1]itcer regional'!BY274","v":0.1190232558595028},null,{"$f":"+'[1]itcer regional'!CA274","v":1.3290076544033451},{"$f":"+'[1]itcer regional'!CB274","v":0.81722313602675334},{"$f":"+'[1]itcer regional'!CC274","v":0.79465630156979394},{"$f":"+'[1]itcer regional'!CD274","v":1.1302990682133172},{"$f":"+'[1]itcer regional'!CE274","v":1.4682725133972452},{"$f":"+'[1]itcer regional'!CF274","v":1.9190135850546524},null,{"$f":"+'[1]itcer regional'!CH274","v":0.72162741002276076},{"$f":"+'[1]itcer regional'!CI274","v":1.535089284891676},{"$f":"+'[1]itcer regional'!CJ274","v":0.96117683635072648},{"$f":"+'[1]itcer regional'!CK274","v":0.86023011307877351},{"$f":"+'[1]itcer regional'!CL274","v":0.85911030743729311},{"$f":"+'[1]itcer regional'!CM274","v":0.64547488398616348}]
[null,"Febrero",{"$f":"+'[1]itcer regional'!AK275","v":96.408890993120153},{"$f":"+'[1]itcer regional'!AL275","v":125.83980356481162},{"$f":"+'[1]itcer regional'!AM275","v":76.034488400588188},{"$f":"+'[1]itcer regional'!AN275","v":97.169691394065012},{"$f":"+'[1]itcer regional'!AO275","v":125.71820733450635},{"$f":"+'[1]itcer regional'!AP275","v":124.2566922152678},null,{"$f":"+'[1]itcer regional'!BT275","v":0.52557917184860514},{"$f":"+'[1]itcer regional'!BU275","v":0.30988630477486367},{"$f":"+'[1]itcer regional'!BV275","v":-0.45304035473321846},{"$f":"+'[1]itcer regional'!BW275","v":-6.3804410797516198E-2},{"$f":"+'[1]itcer regional'!BX275","v":-0.33502061764045266},{"$f":"+'[1]itcer regional'!BY275","v":0.3141946634918753},null,{"$f":"+'[1]itcer regional'!CA275","v":1.3305577671761928},{"$f":"+'[1]itcer regional'!CB275","v":0.81711873916607614},{"$f":"+'[1]itcer regional'!CC275","v":0.79077243727124114},{"$f":"+'[1]itcer regional'!CD275","v":1.1352738140983727},{"$f":"+'[1]itcer regional'!CE275","v":1.4751406965049259},{"$f":"+'[1]itcer regional'!CF275","v":1.9230044867687328},null,{"$f":"+'[1]itcer regional'!CH275","v":0.72457501185932094},{"$f":"+'[1]itcer regional'!CI275","v":1.5400430504535911},{"$f":"+'[1]itcer regional'!CJ275","v":0.96152173263605745},{"$f":"+'[1]itcer regional'!CK275","v":0.85591414324337722},{"$f":"+'[1]itcer regional'!CL275","v":0.85224553584869889},{"$f":"+'[1]itcer regional'!CM275","v":0.64615913831828387}]
[null,"Marzo",{"$f":"+'[1]itcer regional'!AK276","v":96.193743912301358},{"$f":"+'[1]itcer regional'!AL276","v":126.63610065920994},{"$f":"+'[1]itcer regional'!AM276","v":75.449749567668036},{"$f":"+'[1]itcer regional'!AN276","v":97.423802268318767},{"$f":"+'[1]itcer regional'!AO276","v":126.17836263114528},{"$f":"+'[1]itcer regional'!AP276","v":125.15188701568185},null,{"$f":"+'[1]itcer regional'!BT276","v":-0.22316103691531453},{"$f":"+'[1]itcer regional'!BU276","v":0.63278634568769121},{"$f":"+'[1]itcer regional'!BV276","v":-0.76904421298851844},{"$f":"+'[1]itcer regional'!BW276","v":0.26151248461130194},{"$f":"+'[1]itcer regional'!BX276","v":0.36602120440245756},{"$f":"+'[1]itcer regional'!BY276","v":0.72043990907400257},null,{"$f":"+'[1]itcer regional'!CA276","v":1.3281521027745238},{"$f":"+'[1]itcer regional'!CB276","v":0.81992516444277785},{"$f":"+'[1]itcer regional'!CC276","v":0.78445491956114954},{"$f":"+'[1]itcer regional'!CD276","v":1.143593009684458},{"$f":"+'[1]itcer regional'!CE276","v":1.48144141848913},{"$f":"+'[1]itcer regional'!CF276","v":1.9326399568533881},null,{"$f":"+'[1]itcer regional'!CH276","v":0.72426752712548181},{"$f":"+'[1]itcer regional'!CI276","v":1.5444836449832831},{"$f":"+'[1]itcer regional'!CJ276","v":0.96181115939558581},{"$f":"+'[1]itcer regional'!CK276","v":0.85190973924543389},{"$f":"+'[1]itcer regional'!CL276","v":0.85172698060399954},{"$f":"+'[1]itcer regional'!CM276","v":0.64756959293880512}]
[null,"Abril",{"$f":"+'[1]itcer regional'!AK277","v":95.34563916782561},{"$f":"+'[1]itcer regional'!AL277","v":126.4722336716049},{"$f":"+'[1]itcer regional'!AM277","v":76.035310880194302},{"$f":"+'[1]itcer regional'!AN277","v":97.198491576433113},{"$f":"+'[1]itcer regional'!AO277","v":126.07847990432771},{"$f":"+'[1]itcer regional'!AP277","v":126.09985478018632},null,{"$f":"+'[1]itcer regional'!BT277","v":-0.8816630998882431},{"$f":"+'[1]itcer regional'!BU277","v":-0.12939989999061652},{"$f":"+'[1]itcer regional'!BV277","v":0.77609444150785123},{"$f":"+'[1]itcer regional'!BW277","v":-0.23126862906163126},{"$f":"+'[1]itcer regional'!BX277","v":-7.9159948452939943E-2},{"$f":"+'[1]itcer regional'!BY277","v":0.75745383238663067},null,{"$f":"+'[1]itcer regional'!CA277","v":1.3157229459640933},{"$f":"+'[1]itcer regional'!CB277","v":0.81863006561693907},{"$f":"+'[1]itcer regional'!CC277","v":0.78750953226075637},{"$f":"+'[1]itcer regional'!CD277","v":1.1471142526999423},{"$f":"+'[1]itcer regional'!CE277","v":1.4870277735143922},{"$f":"+'[1]itcer regional'!CF277","v":1.9359350139094158},null,{"$f":"+'[1]itcer regional'!CH277","v":0.72466349743533021},{"$f":"+'[1]itcer regional'!CI277","v":1.5449253452020777},{"$f":"+'[1]itcer regional'!CJ277","v":0.96551607015999719},{"$f":"+'[1]itcer regional'!CK277","v":0.84733051958563643},{"$f":"+'[1]itcer regional'!CL277","v":0.84785558245733372},{"$f":"+'[1]itcer regional'!CM277","v":0.65136408957003678}]
[null,"Mayo",{"$f":"+'[1]itcer regional'!AK278","v":94.001328925388989},{"$f":"+'[1]itcer regional'!AL278","v":126.63998158885569},{"$f":"+'[1]itcer regional'!AM278","v":76.276970367438494},{"$f":"+'[1]itcer regional'!AN278","v":97.329286114239267},{"$f":"+'[1]itcer regional'!AO278","v":127.12066746552809},{"$f":"+'[1]itcer regional'!AP278","v":126.67628277206138},null,{"$f":"+'[1]itcer regional'!BT278","v":-1.4099336416114454},{"$f":"+'[1]itcer regional'!BU278","v":0.13263616240570286},{"$f":"+'[1]itcer regional'!BV278","v":0.31782534252403138},{"$f":"+'[1]itcer regional'!BW278","v":0.13456436996585808},{"$f":"+'[1]itcer regional'!BX278","v":0.82661812070641361},{"$f":"+'[1]itcer regional'!BY278","v":0.45712026622067015},null,{"$f":"+'[1]itcer regional'!CA278","v":1.3110762541104206},{"$f":"+'[1]itcer regional'!CB278","v":0.81582570076354033},{"$f":"+'[1]itcer regional'!CC278","v":0.79031684199344998},{"$f":"+'[1]itcer regional'!CD278","v":1.1493573091751323},{"$f":"+'[1]itcer regional'!CE278","v":1.4899784424018678},{"$f":"+'[1]itcer regional'!CF278","v":1.932598207406518},null,{"$f":"+'[1]itcer regional'!CH278","v":0.71697834989140197},{"$f":"+'[1]itcer regional'!CI278","v":1.5522921313992919},{"$f":"+'[1]itcer regional'!CJ278","v":0.96514418413559044},{"$f":"+'[1]itcer regional'!CK278","v":0.84681487068708239},{"$f":"+'[1]itcer regional'!CL278","v":0.85317118589049934},{"$f":"+'[1]itcer regional'!CM278","v":0.65547138710253028}]
[null,"Junio",{"$f":"+'[1]itcer regional'!AK279","v":92.400752211953105},{"$f":"+'[1]itcer regional'!AL279","v":126.82633388007046},{"$f":"+'[1]itcer regional'!AM279","v":76.693614594223192},{"$f":"+'[1]itcer regional'!AN279","v":97.345144200244562},{"$f":"+'[1]itcer regional'!AO279","v":128.27670743162767},{"$f":"+'[1]itcer regional'!AP279","v":126.52712397441914},null,{"$f":"+'[1]itcer regional'!BT279","v":-1.7027171123360318},{"$f":"+'[1]itcer regional'!BU279","v":0.14715123050142154},{"$f":"+'[1]itcer regional'!BV279","v":0.54622545281708312},{"$f":"+'[1]itcer regional'!BW279","v":1.6293231604194602E-2},{"$f":"+'[1]itcer regional'!BX279","v":0.90940363132774849},{"$f":"+'[1]itcer regional'!BY279","v":-0.11774800647619088},null,{"$f":"+'[1]itcer regional'!CA279","v":1.2927920621914692},{"$f":"+'[1]itcer regional'!CB279","v":0.81218702783234675},{"$f":"+'[1]itcer regional'!CC279","v":0.79747895907478294},{"$f":"+'[1]itcer regional'!CD279","v":1.1515510463720839},{"$f":"+'[1]itcer regional'!CE279","v":1.4996046102240428},{"$f":"+'[1]itcer regional'!CF279","v":1.9343376590671271},null,{"$f":"+'[1]itcer regional'!CH279","v":0.71473792974347694},{"$f":"+'[1]itcer regional'!CI279","v":1.5615409940559921},{"$f":"+'[1]itcer regional'!CJ279","v":0.96170079124346264},{"$f":"+'[1]itcer regional'!CK279","v":0.84533937515776314},{"$f":"+'[1]itcer regional'!CL279","v":0.85540352808373232},{"$f":"+'[1]itcer regional'!CM279","v":0.65411084451222112}]
[null,"Julio",{"$f":"+'[1]itcer regional'!AK280","v":92.759143660937312},{"$f":"+'[1]itcer regional'!AL280","v":127.41148277593346},{"$f":"+'[1]itcer regional'!AM280","v":75.915913757971708},{"$f":"+'[1]itcer regional'!AN280","v":97.681116479812616},{"$f":"+'[1]itcer regional'!AO280","v":128.80183884564238},{"$f":"+'[1]itcer regional'!AP280","v":126.83565957442515},null,{"$f":"+'[1]itcer regional'!BT280","v":0.38786637598155949},{"$f":"+'[1]itcer regional'!BU280","v":0.46137807343411907},{"$f":"+'[1]itcer regional'!BV280","v":-1.0140359668353085},{"$f":"+'[1]itcer regional'!BW280","v":0.34513511929976914},{"$f":"+'[1]itcer regional'!BX280","v":0.4093739421044944},{"$f":"+'[1]itcer regional'!BY280","v":0.2438493742009058},null,{"$f":"+'[1]itcer regional'!CA280","v":1.2923563305582191},{"$f":"+'[1]itcer regional'!CB280","v":0.8119708584482781},{"$f":"+'[1]itcer regional'!CC280","v":0.79350550182238966},{"$f":"+'[1]itcer regional'!CD280","v":1.156689118509955},{"$f":"+'[1]itcer regional'!CE280","v":1.5112261686890354},{"$f":"+'[1]itcer regional'!CF280","v":1.9354497124038723},null,{"$f":"+'[1]itcer regional'!CH280","v":0.7177520740032356},{"$f":"+'[1]itcer regional'!CI280","v":1.5691632458266294},{"$f":"+'[1]itcer regional'!CJ280","v":0.95671565708896589},{"$f":"+'[1]itcer regional'!CK280","v":0.84448893757767252},{"$f":"+'[1]itcer regional'!CL280","v":0.85230021497957453},{"$f":"+'[1]itcer regional'!CM280","v":0.65532914010404542}]
[null,"Agosto",{"$f":"+'[1]itcer regional'!AK281","v":91.960169908085533},{"$f":"+'[1]itcer regional'!AL281","v":127.13694929630441},{"$f":"+'[1]itcer regional'!AM281","v":76.383506418800394},{"$f":"+'[1]itcer regional'!AN281","v":97.549694593197614},{"$f":"+'[1]itcer regional'!AO281","v":129.53289587560593},{"$f":"+'[1]itcer regional'!AP281","v":125.91057376016296},null,{"$f":"+'[1]itcer regional'!BT281","v":-0.8613423122708781},{"$f":"+'[1]itcer regional'!BU281","v":-0.21546996679401786},{"$f":"+'[1]itcer regional'!BV281","v":0.61593497026120758},{"$f":"+'[1]itcer regional'!BW281","v":-0.13454175315672501},{"$f":"+'[1]itcer regional'!BX281","v":0.56758275853472639},{"$f":"+'[1]itcer regional'!BY281","v":-0.72935782994005649},null,{"$f":"+'[1]itcer regional'!CA281","v":1.2831043308194192},{"$f":"+'[1]itcer regional'!CB281","v":0.80777524952495883},{"$f":"+'[1]itcer regional'!CC281","v":0.79905693881078099},{"$f":"+'[1]itcer regional'!CD281","v":1.1581969961073908},{"$f":"+'[1]itcer regional'!CE281","v":1.5172336627934238},{"$f":"+'[1]itcer regional'!CF281","v":1.9322285932989702},null,{"$f":"+'[1]itcer regional'!CH281","v":0.7167006431141707},{"$f":"+'[1]itcer regional'!CI281","v":1.5739148899532616},{"$f":"+'[1]itcer regional'!CJ281","v":0.95592069486913278},{"$f":"+'[1]itcer regional'!CK281","v":0.84225477117497694},{"$f":"+'[1]itcer regional'!CL281","v":0.85374388304250415},{"$f":"+'[1]itcer regional'!CM281","v":0.65163394329648594}]
[null,"Septiembre",{"$f":"+'[1]itcer regional'!AK282","v":91.653913370572468},{"$f":"+'[1]itcer regional'!AL282","v":126.42875780511058},{"$f":"+'[1]itcer regional'!AM282","v":77.136178340670838},{"$f":"+'[1]itcer regional'!AN282","v":97.257576112029625},{"$f":"+'[1]itcer regional'!AO282","v":129.27726660871357},{"$f":"+'[1]itcer regional'!AP282","v":125.41394106041642},null,{"$f":"+'[1]itcer regional'!BT282","v":-0.33303172212400511},{"$f":"+'[1]itcer regional'!BU282","v":-0.55703042672773506},{"$f":"+'[1]itcer regional'!BV282","v":0.98538540210977033},{"$f":"+'[1]itcer regional'!BW282","v":-0.2994560694281887},{"$f":"+'[1]itcer regional'!BX282","v":-0.19734698677457629},{"$f":"+'[1]itcer regional'!BY282","v":-0.39443287796665061},null,{"$f":"+'[1]itcer regional'!CA282","v":1.2727246220306334},{"$f":"+'[1]itcer regional'!CB282","v":0.80254947374370966},{"$f":"+'[1]itcer regional'!CC282","v":0.80741837088561919},{"$f":"+'[1]itcer regional'!CD282","v":1.1583790923615307},{"$f":"+'[1]itcer regional'!CE282","v":1.519058265368749},{"$f":"+'[1]itcer regional'!CF282","v":1.9303292224543016},null,{"$f":"+'[1]itcer regional'!CH282","v":0.72013939059604692},{"$f":"+'[1]itcer regional'!CI282","v":1.575339115423618},{"$f":"+'[1]itcer regional'!CJ282","v":0.95534336500250516},{"$f":"+'[1]itcer regional'!CK282","v":0.83960058286061923},{"$f":"+'[1]itcer regional'!CL282","v":0.85103560249107191},{"$f":"+'[1]itcer regional'!CM282","v":0.64970233886300433}]
[null,"Octubre",{"$f":"+'[1]itcer regional'!AK283","v":91.702935227169093},{"$f":"+'[1]itcer regional'!AL283","v":127.31328042934798},{"$f":"+'[1]itcer regional'!AM283","v":76.275859443140888},{"$f":"+'[1]itcer regional'!AN283","v":97.784902148978873},{"$f":"+'[1]itcer regional'!AO283","v":129.58987355372264},{"$f":"+'[1]itcer regional'!AP283","v":126.68060317749642},null,{"$f":"+'[1]itcer regional'!BT283","v":5.348583033047305E-2},{"$f":"+'[1]itcer regional'!BU283","v":0.69962138329388779},{"$f":"+'[1]itcer regional'!BV283","v":-1.115324762046626},{"$f":"+'[1]itcer regional'!BW283","v":0.5421953312324348},{"$f":"+'[1]itcer regional'!BX283","v":0.24181122730205118},{"$f":"+'[1]itcer regional'!BY283","v":1.0099850992401258},null,{"$f":"+'[1]itcer regional'!CA283","v":1.2763211154291378},{"$f":"+'[1]itcer regional'!CB283","v":0.80695118684518119},{"$f":"+'[1]itcer regional'!CC283","v":0.79639160062888903},{"$f":"+'[1]itcer regional'!CD283","v":1.1680213585156984},{"$f":"+'[1]itcer regional'!CE283","v":1.5265800060076131},{"$f":"+'[1]itcer regional'!CF283","v":1.949734497545599},null,{"$f":"+'[1]itcer regional'!CH283","v":0.71849422624600057},{"$f":"+'[1]itcer regional'!CI283","v":1.5777073322995661},{"$f":"+'[1]itcer regional'!CJ283","v":0.95776825600505944},{"$f":"+'[1]itcer regional'!CK283","v":0.83718419561472968},{"$f":"+'[1]itcer regional'!CL283","v":0.84889015343933683},{"$f":"+'[1]itcer regional'!CM283","v":0.64973258326693628}]
[null,"Noviembre",{"$f":"+'[1]itcer regional'!AK284","v":91.367146283504994},{"$f":"+'[1]itcer regional'!AL284","v":127.56604916846096},{"$f":"+'[1]itcer regional'!AM284","v":76.276666402808416},{"$f":"+'[1]itcer regional'!AN284","v":98.057950030118747},{"$f":"+'[1]itcer regional'!AO284","v":129.05593504919639},{"$f":"+'[1]itcer regional'!AP284","v":127.6608501562369},null,{"$f":"+'[1]itcer regional'!BT284","v":-0.36617033340566252},{"$f":"+'[1]itcer regional'!BU284","v":0.19854074787841114},{"$f":"+'[1]itcer regional'!BV284","v":1.0579489676274534E-3},{"$f":"+'[1]itcer regional'!BW284","v":0.27923316906721141},{"$f":"+'[1]itcer regional'!BX284","v":-0.41202178062539474},{"$f":"+'[1]itcer regional'!BY284","v":0.77379405698520998},null,{"$f":"+'[1]itcer regional'!CA284","v":1.2789455987522793},{"$f":"+'[1]itcer regional'!CB284","v":0.8053088162503349},{"$f":"+'[1]itcer regional'!CC284","v":0.79433371401371156},{"$f":"+'[1]itcer regional'!CD284","v":1.1714745941703228},{"$f":"+'[1]itcer regional'!CE284","v":1.5308946323331161},{"$f":"+'[1]itcer regional'!CF284","v":1.9709787419108233},null,{"$f":"+'[1]itcer regional'!CH284","v":0.71439431335188497},{"$f":"+'[1]itcer regional'!CI284","v":1.5840637354801581},{"$f":"+'[1]itcer regional'!CJ284","v":0.96025971272688249},{"$f":"+'[1]itcer regional'!CK284","v":0.83704717556906649},{"$f":"+'[1]itcer regional'!CL284","v":0.84300991278878801},{"$f":"+'[1]itcer regional'!CM284","v":0.64770282622364728}]
[null,"Diciembre",{"$f":"+'[1]itcer regional'!AK285","v":91.410749627607657},{"$f":"+'[1]itcer regional'!AL285","v":127.9806080654421},{"$f":"+'[1]itcer regional'!AM285","v":76.118332983956094},{"$f":"+'[1]itcer regional'!AN285","v":98.558785933964558},{"$f":"+'[1]itcer regional'!AO285","v":127.6665640122625},{"$f":"+'[1]itcer regional'!AP285","v":127.89387497658376},null,{"$f":"+'[1]itcer regional'!BT285","v":4.7723219862177757E-2},{"$f":"+'[1]itcer regional'!BU285","v":0.32497588479336059},{"$f":"+'[1]itcer regional'!BV285","v":-0.2075777905869387},{"$f":"+'[1]itcer regional'!BW285","v":0.51075502158874997},{"$f":"+'[1]itcer regional'!BX285","v":-1.0765650075715314},{"$f":"+'[1]itcer regional'!BY285","v":0.18253428522656634},null,{"$f":"+'[1]itcer regional'!CA285","v":1.2754483037086617},{"$f":"+'[1]itcer regional'!CB285","v":0.80327063673617582},{"$f":"+'[1]itcer regional'!CC285","v":0.79518167807551787},{"$f":"+'[1]itcer regional'!CD285","v":1.1747221481178287},{"$f":"+'[1]itcer regional'!CE285","v":1.5355904175160284},{"$f":"+'[1]itcer regional'!CF285","v":1.9801105473096101},null,{"$f":"+'[1]itcer regional'!CH285","v":0.71669505821450952},{"$f":"+'[1]itcer regional'!CI285","v":1.5932439480851548},{"$f":"+'[1]itcer regional'!CJ285","v":0.95724455281937715},{"$f":"+'[1]itcer regional'!CK285","v":0.83899657541894557},{"$f":"+'[1]itcer regional'!CL285","v":0.83138421909910054},{"$f":"+'[1]itcer regional'!CM285","v":0.64589260003868998}]
[2013,"Enero",{"$f":"+'[1]itcer regional'!AK286","v":90.826762014617699},{"$f":"+'[1]itcer regional'!AL286","v":128.14274064168296},{"$f":"+'[1]itcer regional'!AM286","v":76.053389045154759},{"$f":"+'[1]itcer regional'!AN286","v":99.051064958538532},{"$f":"+'[1]itcer regional'!AO286","v":127.84595036632965},{"$f":"+'[1]itcer regional'!AP286","v":128.48171040027378},null,{"$f":"+'[1]itcer regional'!BT286","v":-0.6388609822903959},{"$f":"+'[1]itcer regional'!BU286","v":0.12668526794151092},{"$f":"+'[1]itcer regional'!BV286","v":-8.5319707165709247E-2},{"$f":"+'[1]itcer regional'!BW286","v":0.49947756550471922},{"$f":"+'[1]itcer regional'!BX286","v":0.14051161747403285},{"$f":"+'[1]itcer regional'!BY286","v":0.45962750272259711},null,{"$f":"+'[1]itcer regional'!CA286","v":1.2754716325563928},{"$f":"+'[1]itcer regional'!CB286","v":0.802146433255574},{"$f":"+'[1]itcer regional'!CC286","v":0.79272500287777325},{"$f":"+'[1]itcer regional'!CD286","v":1.1785766811194665},{"$f":"+'[1]itcer regional'!CE286","v":1.5441336494121471},{"$f":"+'[1]itcer regional'!CF286","v":1.9982654695837228},null,{"$f":"+'[1]itcer regional'!CH286","v":0.71210334825382282},{"$f":"+'[1]itcer regional'!CI286","v":1.5974981042003218},{"$f":"+'[1]itcer regional'!CJ286","v":0.95939182905879794},{"$f":"+'[1]itcer regional'!CK286","v":0.84042953288754418},{"$f":"+'[1]itcer regional'!CL286","v":0.82794614582099602},{"$f":"+'[1]itcer regional'!CM286","v":0.6429661741942575}]
[null,"Febrero",{"$f":"+'[1]itcer regional'!AK287","v":90.728015009857288},{"$f":"+'[1]itcer regional'!AL287","v":128.93161002632607},{"$f":"+'[1]itcer regional'!AM287","v":75.325283827082146},{"$f":"+'[1]itcer regional'!AN287","v":99.228505470903713},{"$f":"+'[1]itcer regional'!AO287","v":128.86677580732092},{"$f":"+'[1]itcer regional'!AP287","v":129.88680299081804},null,{"$f":"+'[1]itcer regional'!BT287","v":-0.10872016415659402},{"$f":"+'[1]itcer regional'!BU287","v":0.61561769374745268},{"$f":"+'[1]itcer regional'!BV287","v":-0.95736064784742325},{"$f":"+'[1]itcer regional'!BW287","v":0.17914043876201902},{"$f":"+'[1]itcer regional'!BX287","v":0.79848085767770272},{"$f":"+'[1]itcer regional'!BY287","v":1.093612924490813},null,{"$f":"+'[1]itcer regional'!CA287","v":1.2782125079715321},{"$f":"+'[1]itcer regional'!CB287","v":0.80349702424326586},{"$f":"+'[1]itcer regional'!CC287","v":0.78593605279066303},{"$f":"+'[1]itcer regional'!CD287","v":1.1853169592155601},{"$f":"+'[1]itcer regional'!CE287","v":1.5534840434032176},{"$f":"+'[1]itcer regional'!CF287","v":2.0097516244215385},null,{"$f":"+'[1]itcer regional'!CH287","v":0.70980384281983544},{"$f":"+'[1]itcer regional'!CI287","v":1.6046308341683524},{"$f":"+'[1]itcer regional'!CJ287","v":0.95841491886802777},{"$f":"+'[1]itcer regional'!CK287","v":0.83714743722702567},{"$f":"+'[1]itcer regional'!CL287","v":0.82953395211586756},{"$f":"+'[1]itcer regional'!CM287","v":0.64628286108838451}]
[null,"Marzo",{"$f":"+'[1]itcer regional'!AK288","v":90.452888546933934},{"$f":"+'[1]itcer regional'!AL288","v":128.98206467424757},{"$f":"+'[1]itcer regional'!AM288","v":75.082174059738279},{"$f":"+'[1]itcer regional'!AN288","v":99.56601222662033},{"$f":"+'[1]itcer regional'!AO288","v":129.68917280668899},{"$f":"+'[1]itcer regional'!AP288","v":130.88975934016574},null,{"$f":"+'[1]itcer regional'!BT288","v":-0.30324311944161764},{"$f":"+'[1]itcer regional'!BU288","v":3.913287665547216E-2},{"$f":"+'[1]itcer regional'!BV288","v":-0.32274656661361689},{"$f":"+'[1]itcer regional'!BW288","v":0.34013084658982962},{"$f":"+'[1]itcer regional'!BX288","v":0.63817612741215157},{"$f":"+'[1]itcer regional'!BY288","v":0.77217725454264041},null,{"$f":"+'[1]itcer regional'!CA288","v":1.270682777343684},{"$f":"+'[1]itcer regional'!CB288","v":0.80422151253731899},{"$f":"+'[1]itcer regional'!CC288","v":0.78427354166123708},{"$f":"+'[1]itcer regional'!CD288","v":1.1912953586093618},{"$f":"+'[1]itcer regional'!CE288","v":1.5601520691988677},{"$f":"+'[1]itcer regional'!CF288","v":2.0261775886633657},null,{"$f":"+'[1]itcer regional'!CH288","v":0.71184476692146892},{"$f":"+'[1]itcer regional'!CI288","v":1.6038126643405639},{"$f":"+'[1]itcer regional'!CJ288","v":0.95734676833162435},{"$f":"+'[1]itcer regional'!CK288","v":0.83577940186761912},{"$f":"+'[1]itcer regional'!CL288","v":0.83125981990514475},{"$f":"+'[1]itcer regional'!CM288","v":0.64599352037306579}]
[null,"Abril",{"$f":"+'[1]itcer regional'!AK289","v":89.881934498230649},{"$f":"+'[1]itcer regional'!AL289","v":130.22506686488973},{"$f":"+'[1]itcer regional'!AM289","v":74.762576458406755},{"$f":"+'[1]itcer regional'!AN289","v":99.691790896098126},{"$f":"+'[1]itcer regional'!AO289","v":129.07936168843889},{"$f":"+'[1]itcer regional'!AP289","v":131.56011737201334},null,{"$f":"+'[1]itcer regional'!BT289","v":-0.63121704334187712},{"$f":"+'[1]itcer regional'!BU289","v":0.96370157647997701},{"$f":"+'[1]itcer regional'!BV289","v":-0.42566375485776575},{"$f":"+'[1]itcer regional'!BW289","v":0.12632691283398856},{"$f":"+'[1]itcer regional'!BX289","v":-0.47020973690614198},{"$f":"+'[1]itcer regional'!BY289","v":0.51215468286210353},null,{"$f":"+'[1]itcer regional'!CA289","v":1.2707079631782716},{"$f":"+'[1]itcer regional'!CB289","v":0.8043116249664285},{"$f":"+'[1]itcer regional'!CC289","v":0.78236865121920851},{"$f":"+'[1]itcer regional'!CD289","v":1.1959381280544279},{"$f":"+'[1]itcer regional'!CE289","v":1.5604455239918307},{"$f":"+'[1]itcer regional'!CF289","v":2.0298450552111382},null,{"$f":"+'[1]itcer regional'!CH289","v":0.70733746149996246},{"$f":"+'[1]itcer regional'!CI289","v":1.6190872147387554},{"$f":"+'[1]itcer regional'!CJ289","v":0.95559269075901865},{"$f":"+'[1]itcer regional'!CK289","v":0.83358652556949908},{"$f":"+'[1]itcer regional'!CL289","v":0.82719556500912916},{"$f":"+'[1]itcer regional'!CM289","v":0.64812886596572694}]
[null,"Mayo",{"$f":"+'[1]itcer regional'!AK290","v":90.04376631317804},{"$f":"+'[1]itcer regional'!AL290","v":130.68571330494868},{"$f":"+'[1]itcer regional'!AM290","v":74.448563092043116},{"$f":"+'[1]itcer regional'!AN290","v":99.934470176958399},{"$f":"+'[1]itcer regional'!AO290","v":128.50816636607308},{"$f":"+'[1]itcer regional'!AP290","v":132.08138811946151},null,{"$f":"+'[1]itcer regional'!BT290","v":0.1800493234272551},{"$f":"+'[1]itcer regional'!BU290","v":0.3537310067476227},{"$f":"+'[1]itcer regional'!BV290","v":-0.42001410496914104},{"$f":"+'[1]itcer regional'!BW290","v":0.24342955290390478},{"$f":"+'[1]itcer regional'!BX290","v":-0.44251483342821984},{"$f":"+'[1]itcer regional'!BY290","v":0.39622247065511829},null,{"$f":"+'[1]itcer regional'!CA290","v":1.2690599293264819},{"$f":"+'[1]itcer regional'!CB290","v":0.80348474941013159},{"$f":"+'[1]itcer regional'!CC290","v":0.78052345353543795},{"$f":"+'[1]itcer regional'!CD290","v":1.2006784468628053},{"$f":"+'[1]itcer regional'!CE290","v":1.5680892126968202},{"$f":"+'[1]itcer regional'!CF290","v":2.0313879498250138},null,{"$f":"+'[1]itcer regional'!CH290","v":0.70953123829988307},{"$f":"+'[1]itcer regional'!CI290","v":1.6264865437818199},{"$f":"+'[1]itcer regional'!CJ290","v":0.95382864864371397},{"$f":"+'[1]itcer regional'!CK290","v":0.83231668260617442},{"$f":"+'[1]itcer regional'!CL290","v":0.81952076020638565},{"$f":"+'[1]itcer regional'!CM290","v":0.6502026761103864}]
[null,"Junio",{"$f":"+'[1]itcer regional'!AK291","v":89.990865301039179},{"$f":"+'[1]itcer regional'!AL291","v":130.53769814381516},{"$f":"+'[1]itcer regional'!AM291","v":74.312336154153101},{"$f":"+'[1]itcer regional'!AN291","v":100.04729408479463},{"$f":"+'[1]itcer regional'!AO291","v":129.2243478903024},{"$f":"+'[1]itcer regional'!AP291","v":133.39627732952368},null,{"$f":"+'[1]itcer regional'!BT291","v":-5.8750332538153316E-2},{"$f":"+'[1]itcer regional'!BU291","v":-0.1132603996185253},{"$f":"+'[1]itcer regional'!BV291","v":-0.18298128564495642},{"$f":"+'[1]itcer regional'!BW291","v":0.11289788962352532},{"$f":"+'[1]itcer regional'!BX291","v":0.55730429005514281},{"$f":"+'[1]itcer regional'!BY291","v":0.99551437850797697},null,{"$f":"+'[1]itcer regional'!CA291","v":1.263849630686863},{"$f":"+'[1]itcer regional'!CB291","v":0.80071860148470064},{"$f":"+'[1]itcer regional'!CC291","v":0.78234984043069566},{"$f":"+'[1]itcer regional'!CD291","v":1.2032270493370765},{"$f":"+'[1]itcer regional'!CE291","v":1.5755202567214253},{"$f":"+'[1]itcer regional'!CF291","v":2.0461052126440507},null,{"$f":"+'[1]itcer regional'!CH291","v":0.71203775446080497},{"$f":"+'[1]itcer regional'!CI291","v":1.6302568455606103},{"$f":"+'[1]itcer regional'!CJ291","v":0.9498606929253417},{"$f":"+'[1]itcer regional'!CK291","v":0.83149139757052615},{"$f":"+'[1]itcer regional'!CL291","v":0.82020111984603372},{"$f":"+'[1]itcer regional'!CM291","v":0.65195218948269162}]
[null,"Julio",{"$f":"+'[1]itcer regional'!AK292","v":89.491914092890525},{"$f":"+'[1]itcer regional'!AL292","v":130.80173924521762},{"$f":"+'[1]itcer regional'!AM292","v":74.105974243443455},{"$f":"+'[1]itcer regional'!AN292","v":100.02384279331574},{"$f":"+'[1]itcer regional'!AO292","v":130.60397789880264},{"$f":"+'[1]itcer regional'!AP292","v":134.23828622314656},null,{"$f":"+'[1]itcer regional'!BT292","v":-0.55444650574204957},{"$f":"+'[1]itcer regional'!BU292","v":0.202271914670618},{"$f":"+'[1]itcer regional'!BV292","v":-0.27769536175200926},{"$f":"+'[1]itcer regional'!BW292","v":-2.3440205648157075E-2},{"$f":"+'[1]itcer regional'!BX292","v":1.0676238890146266},{"$f":"+'[1]itcer regional'!BY292","v":0.63120868923718376},null,{"$f":"+'[1]itcer regional'!CA292","v":1.2600273544791212},{"$f":"+'[1]itcer regional'!CB292","v":0.79925383921412607},{"$f":"+'[1]itcer regional'!CC292","v":0.78177590949278297},{"$f":"+'[1]itcer regional'!CD292","v":1.2069279583832795},{"$f":"+'[1]itcer regional'!CE292","v":1.5840086317923621},{"$f":"+'[1]itcer regional'!CF292","v":2.0669034704572042},null,{"$f":"+'[1]itcer regional'!CH292","v":0.71023786725555116},{"$f":"+'[1]itcer regional'!CI292","v":1.6365481506329664},{"$f":"+'[1]itcer regional'!CJ292","v":0.94791836565446841},{"$f":"+'[1]itcer regional'!CK292","v":0.8287474169320016},{"$f":"+'[1]itcer regional'!CL292","v":0.82451556940709081},{"$f":"+'[1]itcer regional'!CM292","v":0.64946567724061499}]
[null,"Agosto",{"$f":"+'[1]itcer regional'!AK293","v":89.273847800070271},{"$f":"+'[1]itcer regional'!AL293","v":130.25537484027871},{"$f":"+'[1]itcer regional'!AM293","v":74.827280490832848},{"$f":"+'[1]itcer regional'!AN293","v":99.393004695343762},{"$f":"+'[1]itcer regional'!AO293","v":130.28852776015739},{"$f":"+'[1]itcer regional'!AP293","v":134.5042151921979},null,{"$f":"+'[1]itcer regional'!BT293","v":-0.24367150376725988},{"$f":"+'[1]itcer regional'!BU293","v":-0.41770423550303803},{"$f":"+'[1]itcer regional'!BV293","v":0.97334426104411875},{"$f":"+'[1]itcer regional'!BW293","v":-0.63068772440138332},{"$f":"+'[1]itcer regional'!BX293","v":-0.24153179996528706},{"$f":"+'[1]itcer regional'!BY293","v":0.1981021782483765},null,{"$f":"+'[1]itcer regional'!CA293","v":1.2541929523226165},{"$f":"+'[1]itcer regional'!CB293","v":0.79476714874013032},{"$f":"+'[1]itcer regional'!CC293","v":0.78901808727052258},{"$f":"+'[1]itcer regional'!CD293","v":1.202284698472214},{"$f":"+'[1]itcer regional'!CE293","v":1.58639015283915},{"$f":"+'[1]itcer regional'!CF293","v":2.0819646446778397},null,{"$f":"+'[1]itcer regional'!CH293","v":0.71180313710697951},{"$f":"+'[1]itcer regional'!CI293","v":1.6389124166337312},{"$f":"+'[1]itcer regional'!CJ293","v":0.94835950782428136},{"$f":"+'[1]itcer regional'!CK293","v":0.82670107023441253},{"$f":"+'[1]itcer regional'!CL293","v":0.82128931226017154},{"$f":"+'[1]itcer regional'!CM293","v":0.64604466524459581}]
[null,"Septiembre",{"$f":"+'[1]itcer regional'!AK294","v":89.402640018974438},{"$f":"+'[1]itcer regional'!AL294","v":129.76575864098521},{"$f":"+'[1]itcer regional'!AM294","v":74.989483816147356},{"$f":"+'[1]itcer regional'!AN294","v":99.328253380755498},{"$f":"+'[1]itcer regional'!AO294","v":130.58559386489841},{"$f":"+'[1]itcer regional'!AP294","v":134.39778440813322},null,{"$f":"+'[1]itcer regional'!BT294","v":0.14426645885433231},{"$f":"+'[1]itcer regional'!BU294","v":-0.37588944018153825},{"$f":"+'[1]itcer regional'!BV294","v":0.21677030656536544},{"$f":"+'[1]itcer regional'!BW294","v":-6.5146752315953904E-2},{"$f":"+'[1]itcer regional'!BX294","v":0.22800634088665106},{"$f":"+'[1]itcer regional'!BY294","v":-7.9128214615877823E-2},null,{"$f":"+'[1]itcer regional'!CA294","v":1.254757322496864},{"$f":"+'[1]itcer regional'!CB294","v":0.79116772273454494},{"$f":"+'[1]itcer regional'!CC294","v":0.79150389868788895},{"$f":"+'[1]itcer regional'!CD294","v":1.2026795887540429},{"$f":"+'[1]itcer regional'!CE294","v":1.5885718258805139},{"$f":"+'[1]itcer regional'!CF294","v":2.0860582387277296},null,{"$f":"+'[1]itcer regional'!CH294","v":0.71250941051350503},{"$f":"+'[1]itcer regional'!CI294","v":1.640180140216926},{"$f":"+'[1]itcer regional'!CJ294","v":0.94743037830212518},{"$f":"+'[1]itcer regional'!CK294","v":0.82589123744635917},{"$f":"+'[1]itcer regional'!CL294","v":0.82203141046214534},{"$f":"+'[1]itcer regional'!CM294","v":0.64426669358043109}]
[null,"Octubre",{"$f":"+'[1]itcer regional'!AK295","v":89.682794998338153},{"$f":"+'[1]itcer regional'!AL295","v":129.63911635743784},{"$f":"+'[1]itcer regional'!AM295","v":75.010763734057804},{"$f":"+'[1]itcer regional'!AN295","v":98.983669928958477},{"$f":"+'[1]itcer regional'!AO295","v":130.91324038830038},{"$f":"+'[1]itcer regional'!AP295","v":133.62024079355666},null,{"$f":"+'[1]itcer regional'!BT295","v":0.31336320639330495},{"$f":"+'[1]itcer regional'!BU295","v":-9.7592989763768401E-2},{"$f":"+'[1]itcer regional'!BV295","v":2.8377202812350788E-2},{"$f":"+'[1]itcer regional'!BW295","v":-0.34691383374691043},{"$f":"+'[1]itcer regional'!BX295","v":0.25090556600059699},{"$f":"+'[1]itcer regional'!BY295","v":-0.57853901238085825},null,{"$f":"+'[1]itcer regional'!CA295","v":1.2494826602999121},{"$f":"+'[1]itcer regional'!CB295","v":0.79011217789894317},{"$f":"+'[1]itcer regional'!CC295","v":0.79319615678829725},{"$f":"+'[1]itcer regional'!CD295","v":1.2020507464112797},{"$f":"+'[1]itcer regional'!CE295","v":1.5974504397447093},{"$f":"+'[1]itcer regional'!CF295","v":2.0773253047314904},null,{"$f":"+'[1]itcer regional'!CH295","v":0.71775942034130902},{"$f":"+'[1]itcer regional'!CI295","v":1.6407684881173785},{"$f":"+'[1]itcer regional'!CJ295","v":0.94567734717451546},{"$f":"+'[1]itcer regional'!CK295","v":0.82345666540679774},{"$f":"+'[1]itcer regional'!CL295","v":0.81951362703447495},{"$f":"+'[1]itcer regional'!CM295","v":0.64323214322384636}]
[null,"Noviembre",{"$f":"+'[1]itcer regional'!AK296","v":89.942447657930387},{"$f":"+'[1]itcer regional'!AL296","v":130.49350764403442},{"$f":"+'[1]itcer regional'!AM296","v":74.179263834950675},{"$f":"+'[1]itcer regional'!AN296","v":99.354844125953605},{"$f":"+'[1]itcer regional'!AO296","v":131.23924361993602},{"$f":"+'[1]itcer regional'!AP296","v":134.38589311067955},null,{"$f":"+'[1]itcer regional'!BT296","v":0.28952338026155644},{"$f":"+'[1]itcer regional'!BU296","v":0.65905361792259498},{"$f":"+'[1]itcer regional'!BV296","v":-1.1085074430852586},{"$f":"+'[1]itcer regional'!BW296","v":0.37498528521069829},{"$f":"+'[1]itcer regional'!BX296","v":0.24902235302455722},{"$f":"+'[1]itcer regional'!BY296","v":0.57300623960543362},null,{"$f":"+'[1]itcer regional'!CA296","v":1.2511571807101534},{"$f":"+'[1]itcer regional'!CB296","v":0.79309086135109352},{"$f":"+'[1]itcer regional'!CC296","v":0.78654195532071469},{"$f":"+'[1]itcer regional'!CD296","v":1.2066521582428087},{"$f":"+'[1]itcer regional'!CE296","v":1.6051277538934814},{"$f":"+'[1]itcer regional'!CF296","v":2.0846732603026141},null,{"$f":"+'[1]itcer regional'!CH296","v":0.71887408748179282},{"$f":"+'[1]itcer regional'!CI296","v":1.6453790354074733},{"$f":"+'[1]itcer regional'!CJ296","v":0.94310625559324268},{"$f":"+'[1]itcer regional'!CK296","v":0.82339258623329703},{"$f":"+'[1]itcer regional'!CL296","v":0.81762491055054831},{"$f":"+'[1]itcer regional'!CM296","v":0.64463767857401255}]
[null,"Diciembre",{"$f":"+'[1]itcer regional'!AK297","v":89.928878074592262},{"$f":"+'[1]itcer regional'!AL297","v":131.29637974364792},{"$f":"+'[1]itcer regional'!AM297","v":73.779508398609167},{"$f":"+'[1]itcer regional'!AN297","v":99.688691643791842},{"$f":"+'[1]itcer regional'!AO297","v":130.45422687910562},{"$f":"+'[1]itcer regional'!AP297","v":135.00538806772957},null,{"$f":"+'[1]itcer regional'!BT297","v":-1.5086962487089295E-2},{"$f":"+'[1]itcer regional'!BU297","v":0.6152582715483419},{"$f":"+'[1]itcer regional'!BV297","v":-0.53890456129487063},{"$f":"+'[1]itcer regional'!BW297","v":0.33601534054545823},{"$f":"+'[1]itcer regional'!BX297","v":-0.59815701399786292},{"$f":"+'[1]itcer regional'!BY297","v":0.46098213339982408},null,{"$f":"+'[1]itcer regional'!CA297","v":1.2522152528380914},{"$f":"+'[1]itcer regional'!CB297","v":0.79448979991147106},{"$f":"+'[1]itcer regional'!CC297","v":0.78256786371859921},{"$f":"+'[1]itcer regional'!CD297","v":1.2111615036522756},{"$f":"+'[1]itcer regional'!CE297","v":1.6077111984507511},{"$f":"+'[1]itcer regional'!CF297","v":2.0947978497424606},null,{"$f":"+'[1]itcer regional'!CH297","v":0.71815830282191784},{"$f":"+'[1]itcer regional'!CI297","v":1.6525873555365731},{"$f":"+'[1]itcer regional'!CJ297","v":0.94278735198790731},{"$f":"+'[1]itcer regional'!CK297","v":0.8230833901439164},{"$f":"+'[1]itcer regional'!CL297","v":0.81142824037560979},{"$f":"+'[1]itcer regional'!CM297","v":0.64447931376446388}]
[2014,"Enero",{"$f":"+'[1]itcer regional'!AK298","v":90.201861266266022},{"$f":"+'[1]itcer regional'!AL298","v":131.36343182486499},{"$f":"+'[1]itcer regional'!AM298","v":73.872973288692265},{"$f":"+'[1]itcer regional'!AN298","v":98.727269354735384},{"$f":"+'[1]itcer regional'!AO298","v":130.94146128291018},{"$f":"+'[1]itcer regional'!AP298","v":136.06084348248837},null,{"$f":"+'[1]itcer regional'!BT298","v":0.30355453945209376},{"$f":"+'[1]itcer regional'!BU298","v":5.1069253659534297E-2},{"$f":"+'[1]itcer regional'!BV298","v":0.12668136737661939},{"$f":"+'[1]itcer regional'!BW298","v":-0.96442462349874347},{"$f":"+'[1]itcer regional'!BX298","v":0.37349069896836795},{"$f":"+'[1]itcer regional'!BY298","v":0.78178762334233909},null,{"$f":"+'[1]itcer regional'!CA298","v":1.257819657759699},{"$f":"+'[1]itcer regional'!CB298","v":0.79356209276719702},{"$f":"+'[1]itcer regional'!CC298","v":0.77941744433932481},{"$f":"+'[1]itcer regional'!CD298","v":1.2120657162600812},{"$f":"+'[1]itcer regional'!CE298","v":1.6153933596043741},{"$f":"+'[1]itcer regional'!CF298","v":2.1035206517702454},null,{"$f":"+'[1]itcer regional'!CH298","v":0.71712872914487957},{"$f":"+'[1]itcer regional'!CI298","v":1.6553642496555383},{"$f":"+'[1]itcer regional'!CJ298","v":0.94779727891914034},{"$f":"+'[1]itcer regional'!CK298","v":0.81453726502029711},{"$f":"+'[1]itcer regional'!CL298","v":0.81058561064643131},{"$f":"+'[1]itcer regional'!CM298","v":0.64682437687495276}]
[null,"Febrero",{"$f":"+'[1]itcer regional'!AK299","v":94.197457780211423},{"$f":"+'[1]itcer regional'!AL299","v":131.44692570367692},{"$f":"+'[1]itcer regional'!AM299","v":72.452770013410955},{"$f":"+'[1]itcer regional'!AN299","v":98.142436324584978},{"$f":"+'[1]itcer regional'!AO299","v":129.71850785295462},{"$f":"+'[1]itcer regional'!AP299","v":135.20394405949571},null,{"$f":"+'[1]itcer regional'!BT299","v":4.4296164822484485},{"$f":"+'[1]itcer regional'!BU299","v":6.3559453077658645E-2},{"$f":"+'[1]itcer regional'!BV299","v":-1.9224937241001783},{"$f":"+'[1]itcer regional'!BW299","v":-0.59237233438418002},{"$f":"+'[1]itcer regional'!BX299","v":-0.9339695906656118},{"$f":"+'[1]itcer regional'!BY299","v":-0.62979135000212239},null,{"$f":"+'[1]itcer regional'!CA299","v":1.316985936950303},{"$f":"+'[1]itcer regional'!CB299","v":0.79195929591535275},{"$f":"+'[1]itcer regional'!CC299","v":0.76230313735451372},{"$f":"+'[1]itcer regional'!CD299","v":1.2110692131157441},{"$f":"+'[1]itcer regional'!CE299","v":1.6040705329192042},{"$f":"+'[1]itcer regional'!CF299","v":2.0882806108063647},null,{"$f":"+'[1]itcer regional'!CH299","v":0.71525029339600321},{"$f":"+'[1]itcer regional'!CI299","v":1.6597687075792136},{"$f":"+'[1]itcer regional'!CJ299","v":0.95044564902159578},{"$f":"+'[1]itcer regional'!CK299","v":0.81037842644923475},{"$f":"+'[1]itcer regional'!CL299","v":0.80868331654271763},{"$f":"+'[1]itcer regional'!CM299","v":0.64744145666940967}]
[null,"Marzo",{"$f":"+'[1]itcer regional'!AK300","v":98.066224243509438},{"$f":"+'[1]itcer regional'!AL300","v":130.84999804290291},{"$f":"+'[1]itcer regional'!AM300","v":71.520983658016576},{"$f":"+'[1]itcer regional'!AN300","v":97.56232508705439},{"$f":"+'[1]itcer regional'!AO300","v":128.72916235646485},{"$f":"+'[1]itcer regional'!AP300","v":133.11242403901574},null,{"$f":"+'[1]itcer regional'!BT300","v":4.107081607578948},{"$f":"+'[1]itcer regional'!BU300","v":-0.45412067081711882},{"$f":"+'[1]itcer regional'!BV300","v":-1.286060360731426},{"$f":"+'[1]itcer regional'!BW300","v":-0.59109113168129568},{"$f":"+'[1]itcer regional'!BX300","v":-0.76268646075644142},{"$f":"+'[1]itcer regional'!BY300","v":-1.5469371363601709},null,{"$f":"+'[1]itcer regional'!CA300","v":1.3761944315544696},{"$f":"+'[1]itcer regional'!CB300","v":0.78763292099943583},{"$f":"+'[1]itcer regional'!CC300","v":0.75130410577819673},{"$f":"+'[1]itcer regional'!CD300","v":1.2076967853816298},{"$f":"+'[1]itcer regional'!CE300","v":1.5852325597988464},{"$f":"+'[1]itcer regional'!CF300","v":2.0586439562681584},null,{"$f":"+'[1]itcer regional'!CH300","v":0.71258989278673013},{"$f":"+'[1]itcer regional'!CI300","v":1.6613068671236593},{"$f":"+'[1]itcer regional'!CJ300","v":0.95195784380727611},{"$f":"+'[1]itcer regional'!CK300","v":0.80783791319130538},{"$f":"+'[1]itcer regional'!CL300","v":0.81205222262656263},{"$f":"+'[1]itcer regional'!CM300","v":0.64660245708693354}]
[null,"Abril",{"$f":"+'[1]itcer regional'!AK301","v":96.637186321076214},{"$f":"+'[1]itcer regional'!AL301","v":131.84091342913811},{"$f":"+'[1]itcer regional'!AM301","v":71.716802627118042},{"$f":"+'[1]itcer regional'!AN301","v":97.425369374223237},{"$f":"+'[1]itcer regional'!AO301","v":128.66850016507928},{"$f":"+'[1]itcer regional'!AP301","v":133.16679639170133},null,{"$f":"+'[1]itcer regional'!BT301","v":-1.4572172360636273},{"$f":"+'[1]itcer regional'!BU301","v":0.75729109748270673},{"$f":"+'[1]itcer regional'!BV301","v":0.27379233210464804},{"$f":"+'[1]itcer regional'!BW301","v":-0.14037766392810624},{"$f":"+'[1]itcer regional'!BX301","v":-4.7123891956658781E-2},{"$f":"+'[1]itcer regional'!BY301","v":4.084694053025828E-2},null,{"$f":"+'[1]itcer regional'!CA301","v":1.369780550948646},{"$f":"+'[1]itcer regional'!CB301","v":0.78664248663148595},{"$f":"+'[1]itcer regional'!CC301","v":0.75346553318543441},{"$f":"+'[1]itcer regional'!CD301","v":1.2097877366314491},{"$f":"+'[1]itcer regional'!CE301","v":1.5858129480842416},{"$f":"+'[1]itcer regional'!CF301","v":2.0587329369993146},null,{"$f":"+'[1]itcer regional'!CH301","v":0.7054939293315986},{"$f":"+'[1]itcer regional'!CI301","v":1.6759953304035169},{"$f":"+'[1]itcer regional'!CJ301","v":0.95182592259953991},{"$f":"+'[1]itcer regional'!CK301","v":0.80530961278790847},{"$f":"+'[1]itcer regional'!CL301","v":0.81137249081311036},{"$f":"+'[1]itcer regional'!CM301","v":0.64683861611403193}]
[null,"Mayo",{"$f":"+'[1]itcer regional'!AK302","v":97.432968868671637},{"$f":"+'[1]itcer regional'!AL302","v":131.83865005572233},{"$f":"+'[1]itcer regional'!AM302","v":71.505205614883238},{"$f":"+'[1]itcer regional'!AN302","v":97.325667234098376},{"$f":"+'[1]itcer regional'!AO302","v":128.17756837848137},{"$f":"+'[1]itcer regional'!AP302","v":133.37588746475225},null,{"$f":"+'[1]itcer regional'!BT302","v":0.82347445935712926},{"$f":"+'[1]itcer regional'!BU302","v":-1.7167458544662395E-3},{"$f":"+'[1]itcer regional'!BV302","v":-0.29504523972572372},{"$f":"+'[1]itcer regional'!BW302","v":-0.10233693827927937},{"$f":"+'[1]itcer regional'!BX302","v":-0.38154776496816112},{"$f":"+'[1]itcer regional'!BY302","v":0.15701442004800015},null,{"$f":"+'[1]itcer regional'!CA302","v":1.382460366076931},{"$f":"+'[1]itcer regional'!CB302","v":0.78518920128465974},{"$f":"+'[1]itcer regional'!CC302","v":0.74978714823682135},{"$f":"+'[1]itcer regional'!CD302","v":1.2107677904308745},{"$f":"+'[1]itcer regional'!CE302","v":1.588883074018717},{"$f":"+'[1]itcer regional'!CF302","v":2.0543824793100098},null,{"$f":"+'[1]itcer regional'!CH302","v":0.70477947331800561},{"$f":"+'[1]itcer regional'!CI302","v":1.6790685587628964},{"$f":"+'[1]itcer regional'!CJ302","v":0.95367339628363734},{"$f":"+'[1]itcer regional'!CK302","v":0.80383429426598163},{"$f":"+'[1]itcer regional'!CL302","v":0.80671492115707077},{"$f":"+'[1]itcer regional'!CM302","v":0.64922617286703199}]
[null,"Junio",{"$f":"+'[1]itcer regional'!AK303","v":96.979478380030997},{"$f":"+'[1]itcer regional'!AL303","v":131.2602933979849},{"$f":"+'[1]itcer regional'!AM303","v":72.01872545290648},{"$f":"+'[1]itcer regional'!AN303","v":97.510731702155553},{"$f":"+'[1]itcer regional'!AO303","v":127.64139310384637},{"$f":"+'[1]itcer regional'!AP303","v":134.1357511791571},null,{"$f":"+'[1]itcer regional'!BT303","v":-0.46543843824761666},{"$f":"+'[1]itcer regional'!BU303","v":-0.43868520914995202},{"$f":"+'[1]itcer regional'!BV303","v":0.71815727765189763},{"$f":"+'[1]itcer regional'!BW303","v":0.19014970389264363},{"$f":"+'[1]itcer regional'!BX303","v":-0.41830663619066399},{"$f":"+'[1]itcer regional'!BY303","v":0.56971595754566806},null,{"$f":"+'[1]itcer regional'!CA303","v":1.3722465155826822},{"$f":"+'[1]itcer regional'!CB303","v":0.7803169939978748},{"$f":"+'[1]itcer regional'!CC303","v":0.75560219362703451},{"$f":"+'[1]itcer regional'!CD303","v":1.2121345202291736},{"$f":"+'[1]itcer regional'!CE303","v":1.5965102432440688},{"$f":"+'[1]itcer regional'!CF303","v":2.056697547593946},null,{"$f":"+'[1]itcer regional'!CH303","v":0.70672052928370244},{"$f":"+'[1]itcer regional'!CI303","v":1.6821406480651677},{"$f":"+'[1]itcer regional'!CJ303","v":0.95313017961479007},{"$f":"+'[1]itcer regional'!CK303","v":0.804454704282488},{"$f":"+'[1]itcer regional'!CL303","v":0.7995025001811592},{"$f":"+'[1]itcer regional'!CM303","v":0.65218996996460421}]
[null,"Julio",{"$f":"+'[1]itcer regional'!AK304","v":94.566213466571213},{"$f":"+'[1]itcer regional'!AL304","v":131.9475155041755},{"$f":"+'[1]itcer regional'!AM304","v":72.068047110947319},{"$f":"+'[1]itcer regional'!AN304","v":98.01434003452917},{"$f":"+'[1]itcer regional'!AO304","v":129.65767705777469},{"$f":"+'[1]itcer regional'!AP304","v":136.16332843651375},null,{"$f":"+'[1]itcer regional'!BT304","v":-2.4884284322534569},{"$f":"+'[1]itcer regional'!BU304","v":0.52355673479024745},{"$f":"+'[1]itcer regional'!BV304","v":6.848449167999604E-2},{"$f":"+'[1]itcer regional'!BW304","v":0.51646451993805442},{"$f":"+'[1]itcer regional'!BX304","v":1.5796474050451081},{"$f":"+'[1]itcer regional'!BY304","v":1.5115860160566257},null,{"$f":"+'[1]itcer regional'!CA304","v":1.3425209741106403},{"$f":"+'[1]itcer regional'!CB304","v":0.78367588270894595},{"$f":"+'[1]itcer regional'!CC304","v":0.75535430185479269},{"$f":"+'[1]itcer regional'!CD304","v":1.2201582104376614},{"$f":"+'[1]itcer regional'!CE304","v":1.6186035956042879},{"$f":"+'[1]itcer regional'!CF304","v":2.0806229593648782},null,{"$f":"+'[1]itcer regional'!CH304","v":0.70439281985309066},{"$f":"+'[1]itcer regional'!CI304","v":1.6837000910130122},{"$f":"+'[1]itcer regional'!CJ304","v":0.95409593794570713},{"$f":"+'[1]itcer regional'!CK304","v":0.80329205832555262},{"$f":"+'[1]itcer regional'!CL304","v":0.80104651571201035},{"$f":"+'[1]itcer regional'!CM304","v":0.65443538351647523}]
[null,"Agosto",{"$f":"+'[1]itcer regional'!AK305","v":94.496630306793335},{"$f":"+'[1]itcer regional'!AL305","v":131.59544361292768},{"$f":"+'[1]itcer regional'!AM305","v":72.119414915001059},{"$f":"+'[1]itcer regional'!AN305","v":98.389189010279949},{"$f":"+'[1]itcer regional'!AO305","v":129.73607442611996},{"$f":"+'[1]itcer regional'!AP305","v":135.79785074115463},null,{"$f":"+'[1]itcer regional'!BT305","v":-7.3581416900523777E-2},{"$f":"+'[1]itcer regional'!BU305","v":-0.26682722285640637},{"$f":"+'[1]itcer regional'!BV305","v":7.1276808673133019E-2},{"$f":"+'[1]itcer regional'!BW305","v":0.38244299315664421},{"$f":"+'[1]itcer regional'!BX305","v":6.0464887328137706E-2},{"$f":"+'[1]itcer regional'!BY305","v":-0.26841125254183851},null,{"$f":"+'[1]itcer regional'!CA305","v":1.3418270147023759},{"$f":"+'[1]itcer regional'!CB305","v":0.7808871843942663},{"$f":"+'[1]itcer regional'!CC305","v":0.75715151256330848},{"$f":"+'[1]itcer regional'!CD305","v":1.2225806372856109},{"$f":"+'[1]itcer regional'!CE305","v":1.619680112073425},{"$f":"+'[1]itcer regional'!CF305","v":2.0761926679137215},null,{"$f":"+'[1]itcer regional'!CH305","v":0.70423854395086205},{"$f":"+'[1]itcer regional'!CI305","v":1.6852042938187826},{"$f":"+'[1]itcer regional'!CJ305","v":0.95250968555611082},{"$f":"+'[1]itcer regional'!CK305","v":0.8047664588302732},{"$f":"+'[1]itcer regional'!CL305","v":0.80099813203262071},{"$f":"+'[1]itcer regional'!CM305","v":0.65407152640420496}]
[null,"Septiembre",{"$f":"+'[1]itcer regional'!AK306","v":94.859238197583409},{"$f":"+'[1]itcer regional'!AL306","v":132.3093531736443},{"$f":"+'[1]itcer regional'!AM306","v":71.14641428928455},{"$f":"+'[1]itcer regional'!AN306","v":99.143547086054369},{"$f":"+'[1]itcer regional'!AO306","v":130.34927227727175},{"$f":"+'[1]itcer regional'!AP306","v":136.41207677585152},null,{"$f":"+'[1]itcer regional'!BT306","v":0.38372573668799248},{"$f":"+'[1]itcer regional'!BU306","v":0.54250325172084501},{"$f":"+'[1]itcer regional'!BV306","v":-1.3491521345025888},{"$f":"+'[1]itcer regional'!BW306","v":0.76670829728620049},{"$f":"+'[1]itcer regional'!BX306","v":0.47265022767510345},{"$f":"+'[1]itcer regional'!BY306","v":0.45230909866728553},null,{"$f":"+'[1]itcer regional'!CA306","v":1.3452589601881142},{"$f":"+'[1]itcer regional'!CB306","v":0.78405769055747609},{"$f":"+'[1]itcer regional'!CC306","v":0.74782257643359984},{"$f":"+'[1]itcer regional'!CD306","v":1.2339817191332376},{"$f":"+'[1]itcer regional'!CE306","v":1.6265442784194599},{"$f":"+'[1]itcer regional'!CF306","v":2.0905557289971122},null,{"$f":"+'[1]itcer regional'!CH306","v":0.70513738250305924},{"$f":"+'[1]itcer regional'!CI306","v":1.6874951265329778},{"$f":"+'[1]itcer regional'!CJ306","v":0.95138093621865583},{"$f":"+'[1]itcer regional'!CK306","v":0.8034442127367486},{"$f":"+'[1]itcer regional'!CL306","v":0.80138778886446493},{"$f":"+'[1]itcer regional'!CM306","v":0.65251585922223443}]
[null,"Octubre",{"$f":"+'[1]itcer regional'!AK307","v":95.34041700115452},{"$f":"+'[1]itcer regional'!AL307","v":132.87233647263147},{"$f":"+'[1]itcer regional'!AM307","v":70.202852730091948},{"$f":"+'[1]itcer regional'!AN307","v":99.840282960533372},{"$f":"+'[1]itcer regional'!AO307","v":131.07198988345931},{"$f":"+'[1]itcer regional'!AP307","v":137.45373639680489},null,{"$f":"+'[1]itcer regional'!BT307","v":0.50725560600524489},{"$f":"+'[1]itcer regional'!BU307","v":0.42550529156339678},{"$f":"+'[1]itcer regional'!BV307","v":-1.3262250369442938},{"$f":"+'[1]itcer regional'!BW307","v":0.70275463704587082},{"$f":"+'[1]itcer regional'!BX307","v":0.55444698199022469},{"$f":"+'[1]itcer regional'!BY307","v":0.76361246421386397},null,{"$f":"+'[1]itcer regional'!CA307","v":1.3463940571203301},{"$f":"+'[1]itcer regional'!CB307","v":0.78693518953084862},{"$f":"+'[1]itcer regional'!CC307","v":0.73879489878491134},{"$f":"+'[1]itcer regional'!CD307","v":1.2456781958164809},{"$f":"+'[1]itcer regional'!CE307","v":1.6379409451770672},{"$f":"+'[1]itcer regional'!CF307","v":2.1049988278763219},null,{"$f":"+'[1]itcer regional'!CH307","v":0.70811673964952537},{"$f":"+'[1]itcer regional'!CI307","v":1.6884787748765784},{"$f":"+'[1]itcer regional'!CJ307","v":0.95023467061770317},{"$f":"+'[1]itcer regional'!CK307","v":0.80149338164414885},{"$f":"+'[1]itcer regional'!CL307","v":0.8002241489194224},{"$f":"+'[1]itcer regional'!CM307","v":0.65298723484553389}]
[null,"Noviembre",{"$f":"+'[1]itcer regional'!AK308","v":94.975303323374874},{"$f":"+'[1]itcer regional'!AL308","v":133.55454803727011},{"$f":"+'[1]itcer regional'!AM308","v":70.043591784273517},{"$f":"+'[1]itcer regional'!AN308","v":100.17653636387564},{"$f":"+'[1]itcer regional'!AO308","v":130.17745093678798},{"$f":"+'[1]itcer regional'!AP308","v":139.04467597809742},null,{"$f":"+'[1]itcer regional'!BT308","v":-0.38295791990843497},{"$f":"+'[1]itcer regional'!BU308","v":0.51343385895765437},{"$f":"+'[1]itcer regional'!BV308","v":-0.22685822530708322},{"$f":"+'[1]itcer regional'!BW308","v":0.33679131646209726},{"$f":"+'[1]itcer regional'!BX308","v":-0.68247910744827323},{"$f":"+'[1]itcer regional'!BY308","v":1.1574364022377495},null,{"$f":"+'[1]itcer regional'!CA308","v":1.3399394685196302},{"$f":"+'[1]itcer regional'!CB308","v":0.78788134937222487},{"$f":"+'[1]itcer regional'!CC308","v":0.73654479005747298},{"$f":"+'[1]itcer regional'!CD308","v":1.2514986860610295},{"$f":"+'[1]itcer regional'!CE308","v":1.6459724666191267},{"$f":"+'[1]itcer regional'!CF308","v":2.1206511557140755},null,{"$f":"+'[1]itcer regional'!CH308","v":0.7088029388992021},{"$f":"+'[1]itcer regional'!CI308","v":1.695109906379747},{"$f":"+'[1]itcer regional'!CJ308","v":0.95097532057497769},{"$f":"+'[1]itcer regional'!CK308","v":0.80045258920064521},{"$f":"+'[1]itcer regional'!CL308","v":0.79088474185826518},{"$f":"+'[1]itcer regional'!CM308","v":0.65566972485523034}]
[null,"Diciembre",{"$f":"+'[1]itcer regional'!AK309","v":94.247315035451777},{"$f":"+'[1]itcer regional'!AL309","v":134.95108826759974},{"$f":"+'[1]itcer regional'!AM309","v":69.629275555085059},{"$f":"+'[1]itcer regional'!AN309","v":100.39760881821739},{"$f":"+'[1]itcer regional'!AO309","v":129.94567801852139},{"$f":"+'[1]itcer regional'!AP309","v":140.00686999875791},null,{"$f":"+'[1]itcer regional'!BT309","v":-0.76650272486565996},{"$f":"+'[1]itcer regional'!BU309","v":1.0456702904193946},{"$f":"+'[1]itcer regional'!BV309","v":-0.59151196938115902},{"$f":"+'[1]itcer regional'!BW309","v":0.22068286882941379},{"$f":"+'[1]itcer regional'!BX309","v":-0.17804382909535832},{"$f":"+'[1]itcer regional'!BY309","v":0.69200349735940847},null,{"$f":"+'[1]itcer regional'!CA309","v":1.3325064792249772},{"$f":"+'[1]itcer regional'!CB309","v":0.78687477979801523},{"$f":"+'[1]itcer regional'!CC309","v":0.73663854383271221},{"$f":"+'[1]itcer regional'!CD309","v":1.2587805632902658},{"$f":"+'[1]itcer regional'!CE309","v":1.6503768695841701},{"$f":"+'[1]itcer regional'!CF309","v":2.1277219631211524},null,{"$f":"+'[1]itcer regional'!CH309","v":0.70729348415828086},{"$f":"+'[1]itcer regional'!CI309","v":1.7150262244043535},{"$f":"+'[1]itcer regional'!CJ309","v":0.94522987071523101},{"$f":"+'[1]itcer regional'!CK309","v":0.79757832100451975},{"$f":"+'[1]itcer regional'!CL309","v":0.78736972393016247},{"$f":"+'[1]itcer regional'!CM309","v":0.65801299429828708}]
[2015,"Enero",{"$f":"+'[1]itcer regional'!AK310","v":93.889935113413628},{"$f":"+'[1]itcer regional'!AL310","v":135.03152174956898},{"$f":"+'[1]itcer regional'!AM310","v":69.535222036009088},{"$f":"+'[1]itcer regional'!AN310","v":100.75922712304548},{"$f":"+'[1]itcer regional'!AO310","v":130.2614838924743},{"$f":"+'[1]itcer regional'!AP310","v":140.45711423426684},null,{"$f":"+'[1]itcer regional'!BT310","v":-0.37919374350741464},{"$f":"+'[1]itcer regional'!BU310","v":5.9601951345314319E-2},{"$f":"+'[1]itcer regional'!BV310","v":-0.13507754938734706},{"$f":"+'[1]itcer regional'!BW310","v":0.36018617284285881},{"$f":"+'[1]itcer regional'!BX310","v":0.2430291478473805},{"$f":"+'[1]itcer regional'!BY310","v":0.32158724462088628},null,{"$f":"+'[1]itcer regional'!CA310","v":1.3333748776347547},{"$f":"+'[1]itcer regional'!CB310","v":0.78377297998505202},{"$f":"+'[1]itcer regional'!CC310","v":0.73621079267535272},{"$f":"+'[1]itcer regional'!CD310","v":1.2638731028420653},{"$f":"+'[1]itcer regional'!CE310","v":1.6565343889844153},{"$f":"+'[1]itcer regional'!CF310","v":2.1364416123370216},null,{"$f":"+'[1]itcer regional'!CH310","v":0.70415257320554148},{"$f":"+'[1]itcer regional'!CI310","v":1.7228397150427959},{"$f":"+'[1]itcer regional'!CJ310","v":0.94450153037449547},{"$f":"+'[1]itcer regional'!CK310","v":0.79722582034912126},{"$f":"+'[1]itcer regional'!CL310","v":0.78634940969945522},{"$f":"+'[1]itcer regional'!CM310","v":0.65743483661424706}]
[]
[]
[null,"Notas:"]
[null,"El ITCER REGIONAL incluye al resto de países Centroamericanos y a República Dominicana."]
[null,"Valores sobre (bajo) 100 significan una depreciación (apreciación) real de la moneda. El índice se descompone en el efecto que tiene la variación en el tipo de cambio y la variación en los precios nominales (multiplicados).  El efecto será 1 cuando tanto el tipo de cambio como los precios, tienen la misma importancia en el índice.  Un valor mayor (o menor) a 1 indica mayor (o menor) peso de alguno de estos componentes."]
[]
[null,"Fuente: Cálculos de la Secretaría Ejecutiva del Consejo Monetario Centroamericano"]
[null,{"$f":"TODAY()","v":"2015-02-27"}]

{"sheet":"ITCER BILATERAL","index":7,"n_rows":253,"n_cols":29,"rows_kept":253,"cut":false,"hidden":false,"merged":[[2,16,2,21],[2,23,2,28],[253,1,253,2],[2,2,2,7],[252,1,252,2],[2,9,2,14],[249,1,249,28]]}
["Secretaría Ejecutiva"]
["Consejo Monetario Centroamericano"]
[null,null,"ITCER BILATERAL\n2000=100",null,null,null,null,null,null,"VARIACION MENSUAL",null,null,null,null,null,null,"EFECTO TIPO DE CAMBIO",null,null,null,null,null,null,"EFECTO PRECIO"]
["Año","MES","COSTA\n RICA","EL\nSALVADOR","GUATEMALA","HONDURAS","NICARAGUA","REP.\nDOMINICANA",null,"COSTA\n RICA","EL\nSALVADOR","GUATEMALA","HONDURAS","NICARAGUA","REP.\nDOMINICANA",null,"COSTA\n RICA","EL\nSALVADOR","GUATEMALA","HONDURAS","NICARAGUA","REP.\nDOMINICANA",null,"COSTA\n RICA","EL\nSALVADOR","GUATEMALA","HONDURAS","NICARAGUA","REP.\nDOMINICANA"]
[1995,"Enero",{"$f":"+'[1]itcer BILATERAL'!AB79","v":91.499839345875984},{"$f":"+'[1]itcer BILATERAL'!AC79","v":111.73799176630641},{"$f":"+'[1]itcer BILATERAL'!AD79","v":96.311244789788077},{"$f":"+'[1]itcer BILATERAL'!AE79","v":128.28792381328569},{"$f":"+'[1]itcer BILATERAL'!AF79","v":89.670577175140579},{"$f":"+'[1]itcer BILATERAL'!AG79","v":98.444505083345192}]
[null,"Febrero",{"$f":"+'[1]itcer BILATERAL'!AB80","v":91.696786187615245},{"$f":"+'[1]itcer BILATERAL'!AC80","v":110.96743254772481},{"$f":"+'[1]itcer BILATERAL'!AD80","v":96.700262440106897},{"$f":"+'[1]itcer BILATERAL'!AE80","v":120.99737523638305},{"$f":"+'[1]itcer BILATERAL'!AF80","v":90.513421095125835},{"$f":"+'[1]itcer BILATERAL'!AG80","v":98.451926225882758},null,{"$f":"+'[1]itcer BILATERAL'!BK80","v":0.21524282790792881},{"$f":"+'[1]itcer BILATERAL'!BL80","v":-0.68961255379743136},{"$f":"+'[1]itcer BILATERAL'!BM80","v":0.40391716581787307},{"$f":"+'[1]itcer BILATERAL'!BN80","v":-5.6829578031939576},{"$f":"+'[1]itcer BILATERAL'!BO80","v":0.93993363992635182},{"$f":"+'[1]itcer BILATERAL'!BP80","v":7.5384019974364946E-3},null,{"$f":"+'[1]itcer BILATERAL'!BR80","v":0.54473808236799426},{"$f":"+'[1]itcer BILATERAL'!BS80","v":1.0005737234652894},{"$f":"+'[1]itcer BILATERAL'!BT80","v":0.73592528341339269},{"$f":"+'[1]itcer BILATERAL'!BU80","v":0.61195468300343048},{"$f":"+'[1]itcer BILATERAL'!BV80","v":0.58292271134338736},{"$f":"+'[1]itcer BILATERAL'!BW80","v":0.79534452569780623},null,{"$f":"+'[1]itcer BILATERAL'!BY80","v":1.6833188123915683},{"$f":"+'[1]itcer BILATERAL'!BZ80","v":1.1090380443273189},{"$f":"+'[1]itcer BILATERAL'!CA80","v":1.3139956544445461},{"$f":"+'[1]itcer BILATERAL'!CB80","v":1.977227703243261},{"$f":"+'[1]itcer BILATERAL'!CC80","v":1.5527516655944176},{"$f":"+'[1]itcer BILATERAL'!CD80","v":1.2378525663391549}]
[null,"Marzo",{"$f":"+'[1]itcer BILATERAL'!AB81","v":92.633959363954901},{"$f":"+'[1]itcer BILATERAL'!AC81","v":110.10255473206644},{"$f":"+'[1]itcer BILATERAL'!AD81","v":96.198981151901833},{"$f":"+'[1]itcer BILATERAL'!AE81","v":120.37570843272125},{"$f":"+'[1]itcer BILATERAL'!AF81","v":90.248625366601502},{"$f":"+'[1]itcer BILATERAL'!AG81","v":97.976962884061251},null,{"$f":"+'[1]itcer BILATERAL'!BK81","v":1.0220349210736401},{"$f":"+'[1]itcer BILATERAL'!BL81","v":-0.77939787900058377},{"$f":"+'[1]itcer BILATERAL'!BM81","v":-0.51838668847000235},{"$f":"+'[1]itcer BILATERAL'!BN81","v":-0.5137853630686493},{"$f":"+'[1]itcer BILATERAL'!BO81","v":-0.29254858044316734},{"$f":"+'[1]itcer BILATERAL'!BP81","v":-0.48243174108323217},null,{"$f":"+'[1]itcer BILATERAL'!BR81","v":0.55302465695626302},{"$f":"+'[1]itcer BILATERAL'!BS81","v":1.0005737234652894},{"$f":"+'[1]itcer BILATERAL'!BT81","v":0.73319432856236433},{"$f":"+'[1]itcer BILATERAL'!BU81","v":0.61532447751336128},{"$f":"+'[1]itcer BILATERAL'!BV81","v":0.58256892454710363},{"$f":"+'[1]itcer BILATERAL'!BW81","v":0.79534452569780623},null,{"$f":"+'[1]itcer BILATERAL'!BY81","v":1.6750421197093388},{"$f":"+'[1]itcer BILATERAL'!BZ81","v":1.1003942253325223},{"$f":"+'[1]itcer BILATERAL'!CA81","v":1.3120529906515677},{"$f":"+'[1]itcer BILATERAL'!CB81","v":1.9562964392247404},{"$f":"+'[1]itcer BILATERAL'!CC81","v":1.5491493206020541},{"$f":"+'[1]itcer BILATERAL'!CD81","v":1.2318807726513217}]
[null,"Abril",{"$f":"+'[1]itcer BILATERAL'!AB82","v":93.822421570754244},{"$f":"+'[1]itcer BILATERAL'!AC82","v":109.78252122001194},{"$f":"+'[1]itcer BILATERAL'!AD82","v":96.352445343954798},{"$f":"+'[1]itcer BILATERAL'!AE82","v":117.62713470890949},{"$f":"+'[1]itcer BILATERAL'!AF82","v":90.624658370341194},{"$f":"+'[1]itcer BILATERAL'!AG82","v":98.437613568750095},null,{"$f":"+'[1]itcer BILATERAL'!BK82","v":1.2829660040006843},{"$f":"+'[1]itcer BILATERAL'!BL82","v":-0.29066856153636422},{"$f":"+'[1]itcer BILATERAL'!BM82","v":0.15952787671487556},{"$f":"+'[1]itcer BILATERAL'!BN82","v":-2.2833292194894597},{"$f":"+'[1]itcer BILATERAL'!BO82","v":0.41666341422066466},{"$f":"+'[1]itcer BILATERAL'!BP82","v":0.47016224133619744},null,{"$f":"+'[1]itcer BILATERAL'!BR82","v":0.56144064589184972},{"$f":"+'[1]itcer BILATERAL'!BS82","v":1.0005737234652894},{"$f":"+'[1]itcer BILATERAL'!BT82","v":0.73756669300987954},{"$f":"+'[1]itcer BILATERAL'!BU82","v":0.6146505186113751},{"$f":"+'[1]itcer BILATERAL'!BV82","v":0.58290698748577474},{"$f":"+'[1]itcer BILATERAL'!BW82","v":0.79534452569780623},null,{"$f":"+'[1]itcer BILATERAL'!BY82","v":1.6711013400484589},{"$f":"+'[1]itcer BILATERAL'!BZ82","v":1.097195725266519},{"$f":"+'[1]itcer BILATERAL'!CA82","v":1.3063556998589168},{"$f":"+'[1]itcer BILATERAL'!CB82","v":1.9137238340684066},{"$f":"+'[1]itcer BILATERAL'!CC82","v":1.5547018703829281},{"$f":"+'[1]itcer BILATERAL'!CD82","v":1.2376726109026088}]
[null,"Mayo",{"$f":"+'[1]itcer BILATERAL'!AB83","v":94.484255528099325},{"$f":"+'[1]itcer BILATERAL'!AC83","v":109.22945717911396},{"$f":"+'[1]itcer BILATERAL'!AD83","v":95.279863357428027},{"$f":"+'[1]itcer BILATERAL'!AE83","v":116.13859801129207},{"$f":"+'[1]itcer BILATERAL'!AF83","v":90.531800822150089},{"$f":"+'[1]itcer BILATERAL'!AG83","v":98.213828116997021},null,{"$f":"+'[1]itcer BILATERAL'!BK83","v":0.7054112932333112},{"$f":"+'[1]itcer BILATERAL'!BL83","v":-0.50378150797757826},{"$f":"+'[1]itcer BILATERAL'!BM83","v":-1.1131860563558149},{"$f":"+'[1]itcer BILATERAL'!BN83","v":-1.2654705066999128},{"$f":"+'[1]itcer BILATERAL'!BO83","v":-0.1024638877110533},{"$f":"+'[1]itcer BILATERAL'!BP83","v":-0.22733733949856116},null,{"$f":"+'[1]itcer BILATERAL'!BR83","v":0.56922210637364468},{"$f":"+'[1]itcer BILATERAL'!BS83","v":1.0005737234652894},{"$f":"+'[1]itcer BILATERAL'!BT83","v":0.73865623826442106},{"$f":"+'[1]itcer BILATERAL'!BU83","v":0.61667239531733364},{"$f":"+'[1]itcer BILATERAL'!BV83","v":0.58524198034124686},{"$f":"+'[1]itcer BILATERAL'!BW83","v":0.79534452569780623},null,{"$f":"+'[1]itcer BILATERAL'!BY83","v":1.6598838040572981},{"$f":"+'[1]itcer BILATERAL'!BZ83","v":1.0916682560963056},{"$f":"+'[1]itcer BILATERAL'!CA83","v":1.2899080576548267},{"$f":"+'[1]itcer BILATERAL'!CB83","v":1.8833111209968836},{"$f":"+'[1]itcer BILATERAL'!CC83","v":1.5469122835200948},{"$f":"+'[1]itcer BILATERAL'!CD83","v":1.2348589189172805}]
[null,"Junio",{"$f":"+'[1]itcer BILATERAL'!AB84","v":94.670693742668789},{"$f":"+'[1]itcer BILATERAL'!AC84","v":108.50015135787606},{"$f":"+'[1]itcer BILATERAL'!AD84","v":94.575950937360119},{"$f":"+'[1]itcer BILATERAL'!AE84","v":116.93653643242621},{"$f":"+'[1]itcer BILATERAL'!AF84","v":89.992246031859409},{"$f":"+'[1]itcer BILATERAL'!AG84","v":97.789623224768391},null,{"$f":"+'[1]itcer BILATERAL'!BK84","v":0.1973219914020774},{"$f":"+'[1]itcer BILATERAL'!BL84","v":-0.66768236341410159},{"$f":"+'[1]itcer BILATERAL'!BM84","v":-0.73878403606362042},{"$f":"+'[1]itcer BILATERAL'!BN84","v":0.68705704632026254},{"$f":"+'[1]itcer BILATERAL'!BO84","v":-0.59598371554614005},{"$f":"+'[1]itcer BILATERAL'!BP84","v":-0.43191972083941721},null,{"$f":"+'[1]itcer BILATERAL'!BR84","v":0.57772327886816977},{"$f":"+'[1]itcer BILATERAL'!BS84","v":1.0005737234652894},{"$f":"+'[1]itcer BILATERAL'!BT84","v":0.74099908291235228},{"$f":"+'[1]itcer BILATERAL'!BU84","v":0.62543386104315357},{"$f":"+'[1]itcer BILATERAL'!BV84","v":0.59129566552210078},{"$f":"+'[1]itcer BILATERAL'!BW84","v":0.79534452569780623},null,{"$f":"+'[1]itcer BILATERAL'!BY84","v":1.6386858069513874},{"$f":"+'[1]itcer BILATERAL'!BZ84","v":1.0843793796833603},{"$f":"+'[1]itcer BILATERAL'!CA84","v":1.2763302022675629},{"$f":"+'[1]itcer BILATERAL'!CB84","v":1.8696866881717786},{"$f":"+'[1]itcer BILATERAL'!CC84","v":1.5219500375061652},{"$f":"+'[1]itcer BILATERAL'!CD84","v":1.2295253197219325}]
[null,"Julio",{"$f":"+'[1]itcer BILATERAL'!AB85","v":94.361063840716056},{"$f":"+'[1]itcer BILATERAL'!AC85","v":105.74425109247727},{"$f":"+'[1]itcer BILATERAL'!AD85","v":94.586929247535551},{"$f":"+'[1]itcer BILATERAL'!AE85","v":117.0035831678795},{"$f":"+'[1]itcer BILATERAL'!AF85","v":90.070107007921706},{"$f":"+'[1]itcer BILATERAL'!AG85","v":97.148014089832003},null,{"$f":"+'[1]itcer BILATERAL'!BK85","v":-0.32705992711362342},{"$f":"+'[1]itcer BILATERAL'!BL85","v":-2.5399967013029823},{"$f":"+'[1]itcer BILATERAL'!BM85","v":1.1607929993445509E-2},{"$f":"+'[1]itcer BILATERAL'!BN85","v":5.7336002500846917E-2},{"$f":"+'[1]itcer BILATERAL'!BO85","v":8.6519649742641036E-2},{"$f":"+'[1]itcer BILATERAL'!BP85","v":-0.65611167502062528},null,{"$f":"+'[1]itcer BILATERAL'!BR85","v":0.58556310004163592},{"$f":"+'[1]itcer BILATERAL'!BS85","v":1.0005737234652894},{"$f":"+'[1]itcer BILATERAL'!BT85","v":0.74264693952217964},{"$f":"+'[1]itcer BILATERAL'!BU85","v":0.63419532676897361},{"$f":"+'[1]itcer BILATERAL'!BV85","v":0.59893746032182793},{"$f":"+'[1]itcer BILATERAL'!BW85","v":0.79534452569780623},null,{"$f":"+'[1]itcer BILATERAL'!BY85","v":1.6114585060774249},{"$f":"+'[1]itcer BILATERAL'!BZ85","v":1.0568361792097933},{"$f":"+'[1]itcer BILATERAL'!CA85","v":1.2736459845696386},{"$f":"+'[1]itcer BILATERAL'!CB85","v":1.8449139914665733},{"$f":"+'[1]itcer BILATERAL'!CC85","v":1.5038315846787109},{"$f":"+'[1]itcer BILATERAL'!CD85","v":1.2214582605519018}]
[null,"Agosto",{"$f":"+'[1]itcer BILATERAL'!AB86","v":94.806149314389572},{"$f":"+'[1]itcer BILATERAL'!AC86","v":105.29222604394373},{"$f":"+'[1]itcer BILATERAL'!AD86","v":94.950700975494456},{"$f":"+'[1]itcer BILATERAL'!AE86","v":117.57990008983751},{"$f":"+'[1]itcer BILATERAL'!AF86","v":92.888015154096436},{"$f":"+'[1]itcer BILATERAL'!AG86","v":96.318323916970371},null,{"$f":"+'[1]itcer BILATERAL'!BK86","v":0.47168339944198578},{"$f":"+'[1]itcer BILATERAL'!BL86","v":-0.42747009304385131},{"$f":"+'[1]itcer BILATERAL'!BM86","v":0.38458984856872291},{"$f":"+'[1]itcer BILATERAL'!BN86","v":0.49256348083895318},{"$f":"+'[1]itcer BILATERAL'!BO86","v":3.1285719977293809},{"$f":"+'[1]itcer BILATERAL'!BP86","v":-0.85404748685282073},null,{"$f":"+'[1]itcer BILATERAL'!BR86","v":0.59330401189205395},{"$f":"+'[1]itcer BILATERAL'!BS86","v":1.0005737234652894},{"$f":"+'[1]itcer BILATERAL'!BT86","v":0.74807403535219763},{"$f":"+'[1]itcer BILATERAL'!BU86","v":0.64363075139677994},{"$f":"+'[1]itcer BILATERAL'!BV86","v":0.60622546832527147},{"$f":"+'[1]itcer BILATERAL'!BW86","v":0.79534452569780623},null,{"$f":"+'[1]itcer BILATERAL'!BY86","v":1.5979354161461268},{"$f":"+'[1]itcer BILATERAL'!BZ86","v":1.0523185206112038},{"$f":"+'[1]itcer BILATERAL'!CA86","v":1.2692687687093842},{"$f":"+'[1]itcer BILATERAL'!CB86","v":1.8268222864533841},{"$f":"+'[1]itcer BILATERAL'!CC86","v":1.532235447162988},{"$f":"+'[1]itcer BILATERAL'!CD86","v":1.2110264269747024}]
[null,"Septiembre",{"$f":"+'[1]itcer BILATERAL'!AB87","v":94.592858018688318},{"$f":"+'[1]itcer BILATERAL'!AC87","v":104.11740611327453},{"$f":"+'[1]itcer BILATERAL'!AD87","v":95.866947937378129},{"$f":"+'[1]itcer BILATERAL'!AE87","v":116.81308891047047},{"$f":"+'[1]itcer BILATERAL'!AF87","v":92.66574722194953},{"$f":"+'[1]itcer BILATERAL'!AG87","v":95.036119946208913},null,{"$f":"+'[1]itcer BILATERAL'!BK87","v":-0.22497622490071478},{"$f":"+'[1]itcer BILATERAL'!BL87","v":-1.1157708169061635},{"$f":"+'[1]itcer BILATERAL'!BM87","v":0.96497124557315317},{"$f":"+'[1]itcer BILATERAL'!BN87","v":-0.65216178852095652},{"$f":"+'[1]itcer BILATERAL'!BO87","v":-0.23928590978951547},{"$f":"+'[1]itcer BILATERAL'!BP87","v":-1.3312149948401952},null,{"$f":"+'[1]itcer BILATERAL'!BR87","v":0.60177315760365702},{"$f":"+'[1]itcer BILATERAL'!BS87","v":1.0005737234652894},{"$f":"+'[1]itcer BILATERAL'!BT87","v":0.75805659080860055},{"$f":"+'[1]itcer BILATERAL'!BU87","v":0.6517182582206138},{"$f":"+'[1]itcer BILATERAL'!BV87","v":0.60989698907781531},{"$f":"+'[1]itcer BILATERAL'!BW87","v":0.79534452569780623},null,{"$f":"+'[1]itcer BILATERAL'!BY87","v":1.5719022496013284},{"$f":"+'[1]itcer BILATERAL'!BZ87","v":1.0405770576573257},{"$f":"+'[1]itcer BILATERAL'!CA87","v":1.2646410452697101},{"$f":"+'[1]itcer BILATERAL'!CB87","v":1.7923863178147754},{"$f":"+'[1]itcer BILATERAL'!CC87","v":1.5193671862860521},{"$f":"+'[1]itcer BILATERAL'!CD87","v":1.1949050615873378}]
[null,"Octubre",{"$f":"+'[1]itcer BILATERAL'!AB88","v":93.457421467809283},{"$f":"+'[1]itcer BILATERAL'!AC88","v":103.98653544374795},{"$f":"+'[1]itcer BILATERAL'!AD88","v":95.928047848927207},{"$f":"+'[1]itcer BILATERAL'!AE88","v":116.71851249783678},{"$f":"+'[1]itcer BILATERAL'!AF88","v":90.466729813364694},{"$f":"+'[1]itcer BILATERAL'!AG88","v":94.660463489701868},null,{"$f":"+'[1]itcer BILATERAL'!BK88","v":-1.2003406754606374},{"$f":"+'[1]itcer BILATERAL'!BL88","v":-0.12569528421039422},{"$f":"+'[1]itcer BILATERAL'!BM88","v":6.3734074009531128E-2},{"$f":"+'[1]itcer BILATERAL'!BN88","v":-8.0963882999597558E-2},{"$f":"+'[1]itcer BILATERAL'!BO88","v":-2.3730639146715475},{"$f":"+'[1]itcer BILATERAL'!BP88","v":-0.39527756048927642},null,{"$f":"+'[1]itcer BILATERAL'!BR88","v":0.61028728749890626},{"$f":"+'[1]itcer BILATERAL'!BS88","v":1.0005737234652894},{"$f":"+'[1]itcer BILATERAL'!BT88","v":0.76666206421547645},{"$f":"+'[1]itcer BILATERAL'!BU88","v":0.66115368284841991},{"$f":"+'[1]itcer BILATERAL'!BV88","v":0.61625728948211489},{"$f":"+'[1]itcer BILATERAL'!BW88","v":0.79534452569780623},null,{"$f":"+'[1]itcer BILATERAL'!BY88","v":1.531367658841768},{"$f":"+'[1]itcer BILATERAL'!BZ88","v":1.0392691013672748},{"$f":"+'[1]itcer BILATERAL'!CA88","v":1.2512429181831262},{"$f":"+'[1]itcer BILATERAL'!CB88","v":1.7653764249634585},{"$f":"+'[1]itcer BILATERAL'!CC88","v":1.468002591732267},{"$f":"+'[1]itcer BILATERAL'!CD88","v":1.1901818700097322}]
[null,"Noviembre",{"$f":"+'[1]itcer BILATERAL'!AB89","v":92.577915684049401},{"$f":"+'[1]itcer BILATERAL'!AC89","v":103.46930297088656},{"$f":"+'[1]itcer BILATERAL'!AD89","v":95.281916966074505},{"$f":"+'[1]itcer BILATERAL'!AE89","v":117.740298342721},{"$f":"+'[1]itcer BILATERAL'!AF89","v":88.318808986795332},{"$f":"+'[1]itcer BILATERAL'!AG89","v":93.737799641785799},null,{"$f":"+'[1]itcer BILATERAL'!BK89","v":-0.94107644951752434},{"$f":"+'[1]itcer BILATERAL'!BL89","v":-0.49740331347148015},{"$f":"+'[1]itcer BILATERAL'!BM89","v":-0.6735578356293388},{"$f":"+'[1]itcer BILATERAL'!BN89","v":0.87542740480277814},{"$f":"+'[1]itcer BILATERAL'!BO89","v":-2.3742660213324598},{"$f":"+'[1]itcer BILATERAL'!BP89","v":-0.9747087790421034},null,{"$f":"+'[1]itcer BILATERAL'!BR89","v":0.61925974615346402},{"$f":"+'[1]itcer BILATERAL'!BS89","v":1.0005737234652894},{"$f":"+'[1]itcer BILATERAL'!BT89","v":0.77200148066406393},{"$f":"+'[1]itcer BILATERAL'!BU89","v":0.67665473759410144},{"$f":"+'[1]itcer BILATERAL'!BV89","v":0.61921337471328519},{"$f":"+'[1]itcer BILATERAL'!BW89","v":0.79534452569780623},null,{"$f":"+'[1]itcer BILATERAL'!BY89","v":1.4949771280807083},{"$f":"+'[1]itcer BILATERAL'!BZ89","v":1.0340997424211891},{"$f":"+'[1]itcer BILATERAL'!CA89","v":1.2342193551768119},{"$f":"+'[1]itcer BILATERAL'!CB89","v":1.7400350843822623},{"$f":"+'[1]itcer BILATERAL'!CC89","v":1.4263065462319779},{"$f":"+'[1]itcer BILATERAL'!CD89","v":1.1785810628361799}]
[null,"Diciembre",{"$f":"+'[1]itcer BILATERAL'!AB90","v":92.775372815723998},{"$f":"+'[1]itcer BILATERAL'!AC90","v":103.28609289935284},{"$f":"+'[1]itcer BILATERAL'!AD90","v":93.75605798449179},{"$f":"+'[1]itcer BILATERAL'!AE90","v":118.30162169402689},{"$f":"+'[1]itcer BILATERAL'!AF90","v":90.297014749407737},{"$f":"+'[1]itcer BILATERAL'!AG90","v":93.473434864413974},null,{"$f":"+'[1]itcer BILATERAL'!BK90","v":0.21328751054245743},{"$f":"+'[1]itcer BILATERAL'!BL90","v":-0.17706707813164257},{"$f":"+'[1]itcer BILATERAL'!BM90","v":-1.6014150745161828},{"$f":"+'[1]itcer BILATERAL'!BN90","v":0.47674700948350335},{"$f":"+'[1]itcer BILATERAL'!BO90","v":2.2398465120925266},{"$f":"+'[1]itcer BILATERAL'!BP90","v":-0.28202579789805782},null,{"$f":"+'[1]itcer BILATERAL'!BR90","v":0.62813916298718819},{"$f":"+'[1]itcer BILATERAL'!BS90","v":1.0005737234652894},{"$f":"+'[1]itcer BILATERAL'!BT90","v":0.76390918951909048},{"$f":"+'[1]itcer BILATERAL'!BU90","v":0.69080787453581072},{"$f":"+'[1]itcer BILATERAL'!BV90","v":0.62752343346154815},{"$f":"+'[1]itcer BILATERAL'!BW90","v":0.79534452569780623},null,{"$f":"+'[1]itcer BILATERAL'!BY90","v":1.4769875575743445},{"$f":"+'[1]itcer BILATERAL'!BZ90","v":1.0322686922223168},{"$f":"+'[1]itcer BILATERAL'!CA90","v":1.2273194153288656},{"$f":"+'[1]itcer BILATERAL'!CB90","v":1.7125111923994758},{"$f":"+'[1]itcer BILATERAL'!CC90","v":1.4389425148844379},{"$f":"+'[1]itcer BILATERAL'!CD90","v":1.1752571601898405}]
[1996,"Enero",{"$f":"+'[1]itcer BILATERAL'!AB91","v":93.258384335017368},{"$f":"+'[1]itcer BILATERAL'!AC91","v":102.3034217636685},{"$f":"+'[1]itcer BILATERAL'!AD91","v":95.879824331816224},{"$f":"+'[1]itcer BILATERAL'!AE91","v":120.71160657842555},{"$f":"+'[1]itcer BILATERAL'!AF91","v":91.004808419352187},{"$f":"+'[1]itcer BILATERAL'!AG91","v":94.093960944177539},null,{"$f":"+'[1]itcer BILATERAL'!BK91","v":0.52062471390199505},{"$f":"+'[1]itcer BILATERAL'!BL91","v":-0.95140701724665178},{"$f":"+'[1]itcer BILATERAL'!BM91","v":2.2652043963662862},{"$f":"+'[1]itcer BILATERAL'!BN91","v":2.037152872368722},{"$f":"+'[1]itcer BILATERAL'!BO91","v":0.78385057569036576},{"$f":"+'[1]itcer BILATERAL'!BP91","v":0.66385286970962909},null,{"$f":"+'[1]itcer BILATERAL'!BR91","v":0.6356789033331014},{"$f":"+'[1]itcer BILATERAL'!BS91","v":1.0005737234652894},{"$f":"+'[1]itcer BILATERAL'!BT91","v":0.78533648305751769},{"$f":"+'[1]itcer BILATERAL'!BU91","v":0.70428705257553392},{"$f":"+'[1]itcer BILATERAL'!BV91","v":0.63166666994247012},{"$f":"+'[1]itcer BILATERAL'!BW91","v":0.79534452569780623},null,{"$f":"+'[1]itcer BILATERAL'!BY91","v":1.4670674745697694},{"$f":"+'[1]itcer BILATERAL'!BZ91","v":1.0224476154476734},{"$f":"+'[1]itcer BILATERAL'!CA91","v":1.2208757188833417},{"$f":"+'[1]itcer BILATERAL'!CB91","v":1.713954645864789},{"$f":"+'[1]itcer BILATERAL'!CC91","v":1.4407093606449199},{"$f":"+'[1]itcer BILATERAL'!CD91","v":1.1830591385742291}]
[null,"Febrero",{"$f":"+'[1]itcer BILATERAL'!AB92","v":93.703493053183365},{"$f":"+'[1]itcer BILATERAL'!AC92","v":102.39265222031605},{"$f":"+'[1]itcer BILATERAL'!AD92","v":96.644842497425216},{"$f":"+'[1]itcer BILATERAL'!AE92","v":120.23606641288264},{"$f":"+'[1]itcer BILATERAL'!AF92","v":90.648481050291309},{"$f":"+'[1]itcer BILATERAL'!AG92","v":94.279750827229833},null,{"$f":"+'[1]itcer BILATERAL'!BK92","v":0.47728547019107737},{"$f":"+'[1]itcer BILATERAL'!BL92","v":8.7221380389095771E-2},{"$f":"+'[1]itcer BILATERAL'!BM92","v":0.79789274849049718},{"$f":"+'[1]itcer BILATERAL'!BN92","v":-0.39394734195170145},{"$f":"+'[1]itcer BILATERAL'!BO92","v":-0.39154784813007382},{"$f":"+'[1]itcer BILATERAL'!BP92","v":0.19745144235400858},null,{"$f":"+'[1]itcer BILATERAL'!BR92","v":0.64317055472921314},{"$f":"+'[1]itcer BILATERAL'!BS92","v":1.0005737234652894},{"$f":"+'[1]itcer BILATERAL'!BT92","v":0.79410700000590972},{"$f":"+'[1]itcer BILATERAL'!BU92","v":0.71911414841922938},{"$f":"+'[1]itcer BILATERAL'!BV92","v":0.63358498057120827},{"$f":"+'[1]itcer BILATERAL'!BW92","v":0.79534452569780623},null,{"$f":"+'[1]itcer BILATERAL'!BY92","v":1.4568996102850864},{"$f":"+'[1]itcer BILATERAL'!BZ92","v":1.0233394083716221},{"$f":"+'[1]itcer BILATERAL'!CA92","v":1.2170254448922624},{"$f":"+'[1]itcer BILATERAL'!CB92","v":1.6720025141653503},{"$f":"+'[1]itcer BILATERAL'!CC92","v":1.4307233256786995},{"$f":"+'[1]itcer BILATERAL'!CD92","v":1.185395105907245}]
[null,"Marzo",{"$f":"+'[1]itcer BILATERAL'!AB93","v":94.669894301082422},{"$f":"+'[1]itcer BILATERAL'!AC93","v":102.42224368179994},{"$f":"+'[1]itcer BILATERAL'!AD93","v":96.358230926988469},{"$f":"+'[1]itcer BILATERAL'!AE93","v":121.58606473679771},{"$f":"+'[1]itcer BILATERAL'!AF93","v":91.164272676430642},{"$f":"+'[1]itcer BILATERAL'!AG93","v":94.63326391340442},null,{"$f":"+'[1]itcer BILATERAL'!BK93","v":1.0313396186314634},{"$f":"+'[1]itcer BILATERAL'!BL93","v":2.8899985342903278E-2},{"$f":"+'[1]itcer BILATERAL'!BM93","v":-0.29656168195874955},{"$f":"+'[1]itcer BILATERAL'!BN93","v":1.1227898285355309},{"$f":"+'[1]itcer BILATERAL'!BO93","v":0.56900195145375676},{"$f":"+'[1]itcer BILATERAL'!BP93","v":0.374961837587378},null,{"$f":"+'[1]itcer BILATERAL'!BR93","v":0.65006371367343563},{"$f":"+'[1]itcer BILATERAL'!BS93","v":1.0005737234652894},{"$f":"+'[1]itcer BILATERAL'!BT93","v":0.79607462847742494},{"$f":"+'[1]itcer BILATERAL'!BU93","v":0.73461520316491102},{"$f":"+'[1]itcer BILATERAL'!BV93","v":0.63905688302039576},{"$f":"+'[1]itcer BILATERAL'!BW93","v":0.79534452569780623},null,{"$f":"+'[1]itcer BILATERAL'!BY93","v":1.4563171626072415},{"$f":"+'[1]itcer BILATERAL'!BZ93","v":1.0236351533106502},{"$f":"+'[1]itcer BILATERAL'!CA93","v":1.2104170573967861},{"$f":"+'[1]itcer BILATERAL'!CB93","v":1.6550986722432877},{"$f":"+'[1]itcer BILATERAL'!CC93","v":1.4265439446572878},{"$f":"+'[1]itcer BILATERAL'!CD93","v":1.1898398851790255}]
[null,"Abril",{"$f":"+'[1]itcer BILATERAL'!AB94","v":95.193492423648195},{"$f":"+'[1]itcer BILATERAL'!AC94","v":102.43227245631545},{"$f":"+'[1]itcer BILATERAL'!AD94","v":94.873997463183571},{"$f":"+'[1]itcer BILATERAL'!AE94","v":121.23817493357976},{"$f":"+'[1]itcer BILATERAL'!AF94","v":91.705055606237266},{"$f":"+'[1]itcer BILATERAL'!AG94","v":94.881422745888983},null,{"$f":"+'[1]itcer BILATERAL'!BK94","v":0.55307775130766856},{"$f":"+'[1]itcer BILATERAL'!BL94","v":9.791598148026992E-3},{"$f":"+'[1]itcer BILATERAL'!BM94","v":-1.5403286771936706},{"$f":"+'[1]itcer BILATERAL'!BN94","v":-0.28612637802781649},{"$f":"+'[1]itcer BILATERAL'!BO94","v":0.59319612160568624},{"$f":"+'[1]itcer BILATERAL'!BP94","v":0.26223213933700151},null,{"$f":"+'[1]itcer BILATERAL'!BR94","v":0.65609948746952651},{"$f":"+'[1]itcer BILATERAL'!BS94","v":1.0005737234652894},{"$f":"+'[1]itcer BILATERAL'!BT94","v":0.79012274576149166},{"$f":"+'[1]itcer BILATERAL'!BU94","v":0.74472458669470332},{"$f":"+'[1]itcer BILATERAL'!BV94","v":0.64569235093291588},{"$f":"+'[1]itcer BILATERAL'!BW94","v":0.79534452569780623},null,{"$f":"+'[1]itcer BILATERAL'!BY94","v":1.450900271097523},{"$f":"+'[1]itcer BILATERAL'!BZ94","v":1.0237353835513638},{"$f":"+'[1]itcer BILATERAL'!CA94","v":1.2007501109431729},{"$f":"+'[1]itcer BILATERAL'!CB94","v":1.6279598807348206},{"$f":"+'[1]itcer BILATERAL'!CC94","v":1.4202592840652208},{"$f":"+'[1]itcer BILATERAL'!CD94","v":1.1929600277646153}]
[null,"Mayo",{"$f":"+'[1]itcer BILATERAL'!AB95","v":94.743037549489941},{"$f":"+'[1]itcer BILATERAL'!AC95","v":101.86666594858481},{"$f":"+'[1]itcer BILATERAL'!AD95","v":93.731450030995518},{"$f":"+'[1]itcer BILATERAL'!AE95","v":120.38470452902456},{"$f":"+'[1]itcer BILATERAL'!AF95","v":91.334637969512571},{"$f":"+'[1]itcer BILATERAL'!AG95","v":94.847896017966491},null,{"$f":"+'[1]itcer BILATERAL'!BK95","v":-0.4731992310499038},{"$f":"+'[1]itcer BILATERAL'!BL95","v":-0.5521760810020595},{"$f":"+'[1]itcer BILATERAL'!BM95","v":-1.2042787937036366},{"$f":"+'[1]itcer BILATERAL'!BN95","v":-0.7039617719606639},{"$f":"+'[1]itcer BILATERAL'!BO95","v":-0.40392280913627587},{"$f":"+'[1]itcer BILATERAL'!BP95","v":-3.5335397543818203E-2},null,{"$f":"+'[1]itcer BILATERAL'!BR95","v":0.66264636261924936},{"$f":"+'[1]itcer BILATERAL'!BS95","v":1.0005737234652894},{"$f":"+'[1]itcer BILATERAL'!BT95","v":0.78403031815473589},{"$f":"+'[1]itcer BILATERAL'!BU95","v":0.75348605242052336},{"$f":"+'[1]itcer BILATERAL'!BV95","v":0.65289387771949026},{"$f":"+'[1]itcer BILATERAL'!BW95","v":0.79534452569780623},null,{"$f":"+'[1]itcer BILATERAL'!BY95","v":1.4297677146373842},{"$f":"+'[1]itcer BILATERAL'!BZ95","v":1.0180825616306388},{"$f":"+'[1]itcer BILATERAL'!CA95","v":1.1955079779516475},{"$f":"+'[1]itcer BILATERAL'!CB95","v":1.597703157773084},{"$f":"+'[1]itcer BILATERAL'!CC95","v":1.3989201168272194},{"$f":"+'[1]itcer BILATERAL'!CD95","v":1.1925384905962657}]
[null,"Junio",{"$f":"+'[1]itcer BILATERAL'!AB96","v":94.546355245605},{"$f":"+'[1]itcer BILATERAL'!AC96","v":100.28690416073226},{"$f":"+'[1]itcer BILATERAL'!AD96","v":93.840200807337609},{"$f":"+'[1]itcer BILATERAL'!AE96","v":120.4467935633913},{"$f":"+'[1]itcer BILATERAL'!AF96","v":92.127268564853352},{"$f":"+'[1]itcer BILATERAL'!AG96","v":94.583811071063153},null,{"$f":"+'[1]itcer BILATERAL'!BK96","v":-0.20759552255456981},{"$f":"+'[1]itcer BILATERAL'!BL96","v":-1.5508132843475124},{"$f":"+'[1]itcer BILATERAL'!BM96","v":0.11602378529951807},{"$f":"+'[1]itcer BILATERAL'!BN96","v":5.1575517512489455E-2},{"$f":"+'[1]itcer BILATERAL'!BO96","v":0.8678313211307227},{"$f":"+'[1]itcer BILATERAL'!BP96","v":-0.27842994730565351},null,{"$f":"+'[1]itcer BILATERAL'!BR96","v":0.66985619566801846},{"$f":"+'[1]itcer BILATERAL'!BS96","v":1.0005737234652894},{"$f":"+'[1]itcer BILATERAL'!BT96","v":0.78948320203811584},{"$f":"+'[1]itcer BILATERAL'!BU96","v":0.7723569016761358},{"$f":"+'[1]itcer BILATERAL'!BV96","v":0.66055925830563622},{"$f":"+'[1]itcer BILATERAL'!BW96","v":0.79534452569780623},null,{"$f":"+'[1]itcer BILATERAL'!BY96","v":1.4114425731528548},{"$f":"+'[1]itcer BILATERAL'!BZ96","v":1.0022940020192452},{"$f":"+'[1]itcer BILATERAL'!CA96","v":1.1886282135589639},{"$f":"+'[1]itcer BILATERAL'!CB96","v":1.559470670903605},{"$f":"+'[1]itcer BILATERAL'!CC96","v":1.3946859029902006},{"$f":"+'[1]itcer BILATERAL'!CD96","v":1.1892181063052993}]
[null,"Julio",{"$f":"+'[1]itcer BILATERAL'!AB97","v":94.592062795510174},{"$f":"+'[1]itcer BILATERAL'!AC97","v":100.47890206276304},{"$f":"+'[1]itcer BILATERAL'!AD97","v":92.253266288522511},{"$f":"+'[1]itcer BILATERAL'!AE97","v":123.54307349297751},{"$f":"+'[1]itcer BILATERAL'!AF97","v":92.942742311973859},{"$f":"+'[1]itcer BILATERAL'!AG97","v":94.522158304356694},null,{"$f":"+'[1]itcer BILATERAL'!BK97","v":4.8344063381861702E-2},{"$f":"+'[1]itcer BILATERAL'!BL97","v":0.19144862795153017},{"$f":"+'[1]itcer BILATERAL'!BM97","v":-1.6911030722037879},{"$f":"+'[1]itcer BILATERAL'!BN97","v":2.570661981098425},{"$f":"+'[1]itcer BILATERAL'!BO97","v":0.88516001811824196},{"$f":"+'[1]itcer BILATERAL'!BP97","v":-6.5183212653735723E-2},null,{"$f":"+'[1]itcer BILATERAL'!BR97","v":0.67672312909331089},{"$f":"+'[1]itcer BILATERAL'!BS97","v":1.0005737234652894},{"$f":"+'[1]itcer BILATERAL'!BT97","v":0.78517917593200981},{"$f":"+'[1]itcer BILATERAL'!BU97","v":0.80875068238338832},{"$f":"+'[1]itcer BILATERAL'!BV97","v":0.66691955870993602},{"$f":"+'[1]itcer BILATERAL'!BW97","v":0.79534452569780623},null,{"$f":"+'[1]itcer BILATERAL'!BY97","v":1.3977956231856119},{"$f":"+'[1]itcer BILATERAL'!BZ97","v":1.0042128801341514},{"$f":"+'[1]itcer BILATERAL'!CA97","v":1.1749326665345858},{"$f":"+'[1]itcer BILATERAL'!CB97","v":1.5275792179722936},{"$f":"+'[1]itcer BILATERAL'!CC97","v":1.3936124844165432},{"$f":"+'[1]itcer BILATERAL'!CD97","v":1.1884429357381494}]
[null,"Agosto",{"$f":"+'[1]itcer BILATERAL'!AB98","v":94.773086577282953},{"$f":"+'[1]itcer BILATERAL'!AC98","v":97.739749019912864},{"$f":"+'[1]itcer BILATERAL'!AD98","v":91.209564873703428},{"$f":"+'[1]itcer BILATERAL'!AE98","v":123.11179587996946},{"$f":"+'[1]itcer BILATERAL'!AF98","v":94.455846018883548},{"$f":"+'[1]itcer BILATERAL'!AG98","v":94.550357774192562},null,{"$f":"+'[1]itcer BILATERAL'!BK98","v":0.19137311992456318},{"$f":"+'[1]itcer BILATERAL'!BL98","v":-2.7260977047093888},{"$f":"+'[1]itcer BILATERAL'!BM98","v":-1.1313435901065105},{"$f":"+'[1]itcer BILATERAL'!BN98","v":-0.34909088855764026},{"$f":"+'[1]itcer BILATERAL'!BO98","v":1.6279955478726578},{"$f":"+'[1]itcer BILATERAL'!BP98","v":2.9833713429468389E-2},null,{"$f":"+'[1]itcer BILATERAL'!BR98","v":0.68321824449135404},{"$f":"+'[1]itcer BILATERAL'!BS98","v":1.0005737234652894},{"$f":"+'[1]itcer BILATERAL'!BT98","v":0.78249721838236919},{"$f":"+'[1]itcer BILATERAL'!BU98","v":0.82694757273701447},{"$f":"+'[1]itcer BILATERAL'!BV98","v":0.67121217183817783},{"$f":"+'[1]itcer BILATERAL'!BW98","v":0.79534452569780623},null,{"$f":"+'[1]itcer BILATERAL'!BY98","v":1.3871568468994868},{"$f":"+'[1]itcer BILATERAL'!BZ98","v":0.97683705585841862},{"$f":"+'[1]itcer BILATERAL'!CA98","v":1.1656215860071426},{"$f":"+'[1]itcer BILATERAL'!CB98","v":1.4887497096399538},{"$f":"+'[1]itcer BILATERAL'!CC98","v":1.4072427465105009},{"$f":"+'[1]itcer BILATERAL'!CD98","v":1.1887974923978704}]
[null,"Septiembre",{"$f":"+'[1]itcer BILATERAL'!AB99","v":95.177964819738065},{"$f":"+'[1]itcer BILATERAL'!AC99","v":98.648208014790171},{"$f":"+'[1]itcer BILATERAL'!AD99","v":90.811034743308184},{"$f":"+'[1]itcer BILATERAL'!AE99","v":122.92067523065452},{"$f":"+'[1]itcer BILATERAL'!AF99","v":95.120637700696491},{"$f":"+'[1]itcer BILATERAL'!AG99","v":94.335810238375998},null,{"$f":"+'[1]itcer BILATERAL'!BK99","v":0.42720803666655627},{"$f":"+'[1]itcer BILATERAL'!BL99","v":0.9294672883723365},{"$f":"+'[1]itcer BILATERAL'!BM99","v":-0.43693896681459421},{"$f":"+'[1]itcer BILATERAL'!BN99","v":-0.15524154119340494},{"$f":"+'[1]itcer BILATERAL'!BO99","v":0.7038121088662308},{"$f":"+'[1]itcer BILATERAL'!BP99","v":-0.22691351028935003},null,{"$f":"+'[1]itcer BILATERAL'!BR99","v":0.6901967652355514},{"$f":"+'[1]itcer BILATERAL'!BS99","v":1.0005737234652894},{"$f":"+'[1]itcer BILATERAL'!BT99","v":0.77919763695471034},{"$f":"+'[1]itcer BILATERAL'!BU99","v":0.83705695626680676},{"$f":"+'[1]itcer BILATERAL'!BV99","v":0.6807408295514179},{"$f":"+'[1]itcer BILATERAL'!BW99","v":0.79534452569780623},null,{"$f":"+'[1]itcer BILATERAL'!BY99","v":1.3789975498835549},{"$f":"+'[1]itcer BILATERAL'!BZ99","v":0.98591643675332186},{"$f":"+'[1]itcer BILATERAL'!CA99","v":1.165442891975639},{"$f":"+'[1]itcer BILATERAL'!CB99","v":1.4684863952253482},{"$f":"+'[1]itcer BILATERAL'!CC99","v":1.3973106000322819},{"$f":"+'[1]itcer BILATERAL'!CD99","v":1.1860999502776386}]
[null,"Octubre",{"$f":"+'[1]itcer BILATERAL'!AB100","v":95.223067040624755},{"$f":"+'[1]itcer BILATERAL'!AC100","v":98.91665516203885},{"$f":"+'[1]itcer BILATERAL'!AD100","v":90.87157015799562},{"$f":"+'[1]itcer BILATERAL'!AE100","v":122.89383448231503},{"$f":"+'[1]itcer BILATERAL'!AF100","v":93.892253234490695},{"$f":"+'[1]itcer BILATERAL'!AG100","v":94.419607024770343},null,{"$f":"+'[1]itcer BILATERAL'!BK100","v":4.7387250790791313E-2},{"$f":"+'[1]itcer BILATERAL'!BL100","v":0.27212572093395693},{"$f":"+'[1]itcer BILATERAL'!BM100","v":6.6660857745475255E-2},{"$f":"+'[1]itcer BILATERAL'!BN100","v":-2.1835828910909072E-2},{"$f":"+'[1]itcer BILATERAL'!BO100","v":-1.2913963740140133},{"$f":"+'[1]itcer BILATERAL'!BP100","v":8.8828183255756699E-2},null,{"$f":"+'[1]itcer BILATERAL'!BR100","v":0.6972698645273524},{"$f":"+'[1]itcer BILATERAL'!BS100","v":1.0005737234652894},{"$f":"+'[1]itcer BILATERAL'!BT100","v":0.78015566313710594},{"$f":"+'[1]itcer BILATERAL'!BU100","v":0.84649238089461298},{"$f":"+'[1]itcer BILATERAL'!BV100","v":0.68707754416929856},{"$f":"+'[1]itcer BILATERAL'!BW100","v":0.79534452569780623},null,{"$f":"+'[1]itcer BILATERAL'!BY100","v":1.3656558512703276},{"$f":"+'[1]itcer BILATERAL'!BZ100","v":0.98859936896464273},{"$f":"+'[1]itcer BILATERAL'!CA100","v":1.1647876757388309},{"$f":"+'[1]itcer BILATERAL'!CB100","v":1.45180083431389},{"$f":"+'[1]itcer BILATERAL'!CC100","v":1.3665452179493043},{"$f":"+'[1]itcer BILATERAL'!CD100","v":1.187153541315068}]
[null,"Noviembre",{"$f":"+'[1]itcer BILATERAL'!AB101","v":95.397009610146995},{"$f":"+'[1]itcer BILATERAL'!AC101","v":99.68193902655662},{"$f":"+'[1]itcer BILATERAL'!AD101","v":89.368294937037376},{"$f":"+'[1]itcer BILATERAL'!AE101","v":121.22016982434705},{"$f":"+'[1]itcer BILATERAL'!AF101","v":93.692397563828507},{"$f":"+'[1]itcer BILATERAL'!AG101","v":93.982516789009182},null,{"$f":"+'[1]itcer BILATERAL'!BK101","v":0.18266852237391618},{"$f":"+'[1]itcer BILATERAL'!BL101","v":0.77366532791079123},{"$f":"+'[1]itcer BILATERAL'!BM101","v":-1.654285513438964},{"$f":"+'[1]itcer BILATERAL'!BN101","v":-1.3618784579537504},{"$f":"+'[1]itcer BILATERAL'!BO101","v":-0.21285640058404454},{"$f":"+'[1]itcer BILATERAL'!BP101","v":-0.46292316769174136},null,{"$f":"+'[1]itcer BILATERAL'!BR101","v":0.70434216053015997},{"$f":"+'[1]itcer BILATERAL'!BS101","v":1.0005737234652894},{"$f":"+'[1]itcer BILATERAL'!BT101","v":0.77449518542416251},{"$f":"+'[1]itcer BILATERAL'!BU101","v":0.84986217540454378},{"$f":"+'[1]itcer BILATERAL'!BV101","v":0.69404321309168371},{"$f":"+'[1]itcer BILATERAL'!BW101","v":0.79534452569780623},null,{"$f":"+'[1]itcer BILATERAL'!BY101","v":1.3544128827719395},{"$f":"+'[1]itcer BILATERAL'!BZ101","v":0.99624781951426766},{"$f":"+'[1]itcer BILATERAL'!CA101","v":1.1538909036354261},{"$f":"+'[1]itcer BILATERAL'!CB101","v":1.4263509229204712},{"$f":"+'[1]itcer BILATERAL'!CC101","v":1.3499504900633852},{"$f":"+'[1]itcer BILATERAL'!CD101","v":1.1816579325362466}]
[null,"Diciembre",{"$f":"+'[1]itcer BILATERAL'!AB102","v":95.320549260341437},{"$f":"+'[1]itcer BILATERAL'!AC102","v":99.39959602692862},{"$f":"+'[1]itcer BILATERAL'!AD102","v":88.421060383443873},{"$f":"+'[1]itcer BILATERAL'!AE102","v":121.5064114632536},{"$f":"+'[1]itcer BILATERAL'!AF102","v":92.645179086992073},{"$f":"+'[1]itcer BILATERAL'!AG102","v":95.220033779964865},null,{"$f":"+'[1]itcer BILATERAL'!BK102","v":-8.014962955130045E-2},{"$f":"+'[1]itcer BILATERAL'!BL102","v":-0.28324388789505406},{"$f":"+'[1]itcer BILATERAL'!BM102","v":-1.0599223743284654},{"$f":"+'[1]itcer BILATERAL'!BN102","v":0.23613367257388518},{"$f":"+'[1]itcer BILATERAL'!BO102","v":-1.1177197980476592},{"$f":"+'[1]itcer BILATERAL'!BP102","v":1.3167523420700746},null,{"$f":"+'[1]itcer BILATERAL'!BR102","v":0.71136968190297167},{"$f":"+'[1]itcer BILATERAL'!BS102","v":1.0005737234652894},{"$f":"+'[1]itcer BILATERAL'!BT102","v":0.77295821744379145},{"$f":"+'[1]itcer BILATERAL'!BU102","v":0.86131947673830844},{"$f":"+'[1]itcer BILATERAL'!BV102","v":0.69862671758575878},{"$f":"+'[1]itcer BILATERAL'!BW102","v":0.81511999176022254},null,{"$f":"+'[1]itcer BILATERAL'!BY102","v":1.3399579949113269},{"$f":"+'[1]itcer BILATERAL'!BZ102","v":0.99342600845720563},{"$f":"+'[1]itcer BILATERAL'!CA102","v":1.1439306600019912},{"$f":"+'[1]itcer BILATERAL'!CB102","v":1.4107008461410937},{"$f":"+'[1]itcer BILATERAL'!CC102","v":1.3261041519732542},{"$f":"+'[1]itcer BILATERAL'!CD102","v":1.1681719837878177}]
[1997,"Enero",{"$f":"+'[1]itcer BILATERAL'!AB103","v":94.48822181051024},{"$f":"+'[1]itcer BILATERAL'!AC103","v":98.93130412355724},{"$f":"+'[1]itcer BILATERAL'!AD103","v":88.614268965084634},{"$f":"+'[1]itcer BILATERAL'!AE103","v":120.85394424666767},{"$f":"+'[1]itcer BILATERAL'!AF103","v":94.114304666463184},{"$f":"+'[1]itcer BILATERAL'!AG103","v":97.983963254733069},null,{"$f":"+'[1]itcer BILATERAL'!BK103","v":-0.8731878448978847},{"$f":"+'[1]itcer BILATERAL'!BL103","v":-0.47112052974995322},{"$f":"+'[1]itcer BILATERAL'!BM103","v":0.2185096862703233},{"$f":"+'[1]itcer BILATERAL'!BN103","v":-0.53698171868342115},{"$f":"+'[1]itcer BILATERAL'!BO103","v":1.5857550214152241},{"$f":"+'[1]itcer BILATERAL'!BP103","v":2.9026764274786103},null,{"$f":"+'[1]itcer BILATERAL'!BR103","v":0.71742159133015315},{"$f":"+'[1]itcer BILATERAL'!BS103","v":1.0005737234652894},{"$f":"+'[1]itcer BILATERAL'!BT103","v":0.78048059260946634},{"$f":"+'[1]itcer BILATERAL'!BU103","v":0.87142886026810085},{"$f":"+'[1]itcer BILATERAL'!BV103","v":0.70585183015875186},{"$f":"+'[1]itcer BILATERAL'!BW103","v":0.85961479040065925},null,{"$f":"+'[1]itcer BILATERAL'!BY103","v":1.3170529428215567},{"$f":"+'[1]itcer BILATERAL'!BZ103","v":0.98874577458348833},{"$f":"+'[1]itcer BILATERAL'!CA103","v":1.135380812850334},{"$f":"+'[1]itcer BILATERAL'!CB103","v":1.3868480808575259},{"$f":"+'[1]itcer BILATERAL'!CC103","v":1.3333436373650276},{"$f":"+'[1]itcer BILATERAL'!CD103","v":1.139858973448602}]
[null,"Febrero",{"$f":"+'[1]itcer BILATERAL'!AB104","v":95.10413849812808},{"$f":"+'[1]itcer BILATERAL'!AC104","v":97.89562360812721},{"$f":"+'[1]itcer BILATERAL'!AD104","v":87.409599006104472},{"$f":"+'[1]itcer BILATERAL'!AE104","v":116.53616609545819},{"$f":"+'[1]itcer BILATERAL'!AF104","v":94.993451021198567},{"$f":"+'[1]itcer BILATERAL'!AG104","v":98.768165406406069},null,{"$f":"+'[1]itcer BILATERAL'!BK104","v":0.65184493454964354},{"$f":"+'[1]itcer BILATERAL'!BL104","v":-1.0468683543649178},{"$f":"+'[1]itcer BILATERAL'!BM104","v":-1.3594537009099668},{"$f":"+'[1]itcer BILATERAL'!BN104","v":-3.5727242318187962},{"$f":"+'[1]itcer BILATERAL'!BO104","v":0.93412617545338605},{"$f":"+'[1]itcer BILATERAL'!BP104","v":0.80033724461038958},null,{"$f":"+'[1]itcer BILATERAL'!BR104","v":0.72436279406175264},{"$f":"+'[1]itcer BILATERAL'!BS104","v":1.0005737234652894},{"$f":"+'[1]itcer BILATERAL'!BT104","v":0.7853339042521813},{"$f":"+'[1]itcer BILATERAL'!BU104","v":0.85794968222837764},{"$f":"+'[1]itcer BILATERAL'!BV104","v":0.71005010014131797},{"$f":"+'[1]itcer BILATERAL'!BW104","v":0.86270470697291191},null,{"$f":"+'[1]itcer BILATERAL'!BY104","v":1.3129351656073647},{"$f":"+'[1]itcer BILATERAL'!BZ104","v":0.97839490796425344},{"$f":"+'[1]itcer BILATERAL'!CA104","v":1.1130246450946051},{"$f":"+'[1]itcer BILATERAL'!CB104","v":1.3583100327372974},{"$f":"+'[1]itcer BILATERAL'!CC104","v":1.3378415269893276},{"$f":"+'[1]itcer BILATERAL'!CD104","v":1.1448664254188115}]
[null,"Marzo",{"$f":"+'[1]itcer BILATERAL'!AB105","v":95.226317184426193},{"$f":"+'[1]itcer BILATERAL'!AC105","v":97.955184190285522},{"$f":"+'[1]itcer BILATERAL'!AD105","v":86.233141151553284},{"$f":"+'[1]itcer BILATERAL'!AE105","v":116.49873880866888},{"$f":"+'[1]itcer BILATERAL'!AF105","v":96.088656550298495},{"$f":"+'[1]itcer BILATERAL'!AG105","v":99.30260750259842},null,{"$f":"+'[1]itcer BILATERAL'!BK105","v":0.1284683171810741},{"$f":"+'[1]itcer BILATERAL'!BL105","v":6.0840903773936361E-2},{"$f":"+'[1]itcer BILATERAL'!BM105","v":-1.3459137988598115},{"$f":"+'[1]itcer BILATERAL'!BN105","v":-3.2116456241283231E-2},{"$f":"+'[1]itcer BILATERAL'!BO105","v":1.1529274042854922},{"$f":"+'[1]itcer BILATERAL'!BP105","v":0.54110764738138073},null,{"$f":"+'[1]itcer BILATERAL'!BR105","v":0.73136633900438353},{"$f":"+'[1]itcer BILATERAL'!BS105","v":1.0005737234652894},{"$f":"+'[1]itcer BILATERAL'!BT105","v":0.77304718622789015},{"$f":"+'[1]itcer BILATERAL'!BU105","v":0.86199343564029451},{"$f":"+'[1]itcer BILATERAL'!BV105","v":0.71594654674604585},{"$f":"+'[1]itcer BILATERAL'!BW105","v":0.86641260685961485},null,{"$f":"+'[1]itcer BILATERAL'!BY105","v":1.302033086647914},{"$f":"+'[1]itcer BILATERAL'!BZ105","v":0.97899017226873697},{"$f":"+'[1]itcer BILATERAL'!CA105","v":1.1154964753488179},{"$f":"+'[1]itcer BILATERAL'!CB105","v":1.3515037817211779},{"$f":"+'[1]itcer BILATERAL'!CC105","v":1.3421205394036522},{"$f":"+'[1]itcer BILATERAL'!CD105","v":1.1461353022381455}]
[null,"Abril",{"$f":"+'[1]itcer BILATERAL'!AB106","v":94.925947484965391},{"$f":"+'[1]itcer BILATERAL'!AC106","v":98.020531603403299},{"$f":"+'[1]itcer BILATERAL'!AD106","v":86.405973294424058},{"$f":"+'[1]itcer BILATERAL'!AE106","v":115.69477857553233},{"$f":"+'[1]itcer BILATERAL'!AF106","v":96.874822737284646},{"$f":"+'[1]itcer BILATERAL'!AG106","v":98.574316820430596},null,{"$f":"+'[1]itcer BILATERAL'!BK106","v":-0.31542719317714329},{"$f":"+'[1]itcer BILATERAL'!BL106","v":6.6711541260360718E-2},{"$f":"+'[1]itcer BILATERAL'!BM106","v":0.20042426909512301},{"$f":"+'[1]itcer BILATERAL'!BN106","v":-0.69010209154018298},{"$f":"+'[1]itcer BILATERAL'!BO106","v":0.81816752904086343},{"$f":"+'[1]itcer BILATERAL'!BP106","v":-0.73340539637769098},null,{"$f":"+'[1]itcer BILATERAL'!BR106","v":0.73788509903932742},{"$f":"+'[1]itcer BILATERAL'!BS106","v":1.0005737234652894},{"$f":"+'[1]itcer BILATERAL'!BT106","v":0.77322512379608732},{"$f":"+'[1]itcer BILATERAL'!BU106","v":0.85997155893433619},{"$f":"+'[1]itcer BILATERAL'!BV106","v":0.72339179332561543},{"$f":"+'[1]itcer BILATERAL'!BW106","v":0.86641260685961485},null,{"$f":"+'[1]itcer BILATERAL'!BY106","v":1.2864597429674631},{"$f":"+'[1]itcer BILATERAL'!BZ106","v":0.97964327170144527},{"$f":"+'[1]itcer BILATERAL'!CA106","v":1.1174749841316689},{"$f":"+'[1]itcer BILATERAL'!CB106","v":1.3453326144750597},{"$f":"+'[1]itcer BILATERAL'!CC106","v":1.339175031167088},{"$f":"+'[1]itcer BILATERAL'!CD106","v":1.1377294840817409}]
[null,"Mayo",{"$f":"+'[1]itcer BILATERAL'!AB107","v":95.257036822000373},{"$f":"+'[1]itcer BILATERAL'!AC107","v":98.173667042129154},{"$f":"+'[1]itcer BILATERAL'!AD107","v":85.912487864552403},{"$f":"+'[1]itcer BILATERAL'!AE107","v":116.78055398296976},{"$f":"+'[1]itcer BILATERAL'!AF107","v":96.999795190158068},{"$f":"+'[1]itcer BILATERAL'!AG107","v":98.329402495468344},null,{"$f":"+'[1]itcer BILATERAL'!BK107","v":0.34878697111496137},{"$f":"+'[1]itcer BILATERAL'!BL107","v":0.15622792104970529},{"$f":"+'[1]itcer BILATERAL'!BM107","v":-0.57112420710791412},{"$f":"+'[1]itcer BILATERAL'!BN107","v":0.93848263578169622},{"$f":"+'[1]itcer BILATERAL'!BO107","v":0.12900405837370954},{"$f":"+'[1]itcer BILATERAL'!BP107","v":-0.24845652788890504},null,{"$f":"+'[1]itcer BILATERAL'!BR107","v":0.74470547662859476},{"$f":"+'[1]itcer BILATERAL'!BS107","v":1.0005737234652894},{"$f":"+'[1]itcer BILATERAL'!BT107","v":0.77050190536106766},{"$f":"+'[1]itcer BILATERAL'!BU107","v":0.87951636709193481},{"$f":"+'[1]itcer BILATERAL'!BV107","v":0.73026311910232478},{"$f":"+'[1]itcer BILATERAL'!BW107","v":0.86641260685961485},null,{"$f":"+'[1]itcer BILATERAL'!BY107","v":1.2791236241909327},{"$f":"+'[1]itcer BILATERAL'!BZ107","v":0.98117374801852741},{"$f":"+'[1]itcer BILATERAL'!CA107","v":1.1150197977030654},{"$f":"+'[1]itcer BILATERAL'!CB107","v":1.3277814757341841},{"$f":"+'[1]itcer BILATERAL'!CC107","v":1.3282855542450913},{"$f":"+'[1]itcer BILATERAL'!CD107","v":1.1349027209088234}]
[null,"Junio",{"$f":"+'[1]itcer BILATERAL'!AB108","v":95.563165069433538},{"$f":"+'[1]itcer BILATERAL'!AC108","v":97.924946825505771},{"$f":"+'[1]itcer BILATERAL'!AD108","v":85.213315407288491},{"$f":"+'[1]itcer BILATERAL'!AE108","v":115.61335171013513},{"$f":"+'[1]itcer BILATERAL'!AF108","v":96.352550099170728},{"$f":"+'[1]itcer BILATERAL'!AG108","v":98.02645783177131},null,{"$f":"+'[1]itcer BILATERAL'!BK108","v":0.32137074346034922},{"$f":"+'[1]itcer BILATERAL'!BL108","v":-0.25334717966340747},{"$f":"+'[1]itcer BILATERAL'!BM108","v":-0.81381935809635308},{"$f":"+'[1]itcer BILATERAL'!BN108","v":-0.999483418279425},{"$f":"+'[1]itcer BILATERAL'!BO108","v":-0.66726438928915854},{"$f":"+'[1]itcer BILATERAL'!BP108","v":-0.30809163486068769},null,{"$f":"+'[1]itcer BILATERAL'!BR108","v":0.75201208853829871},{"$f":"+'[1]itcer BILATERAL'!BS108","v":1.0005737234652894},{"$f":"+'[1]itcer BILATERAL'!BT108","v":0.76365904540147977},{"$f":"+'[1]itcer BILATERAL'!BU108","v":0.88086428489590718},{"$f":"+'[1]itcer BILATERAL'!BV108","v":0.73932792301599304},{"$f":"+'[1]itcer BILATERAL'!BW108","v":0.86641260685961485},null,{"$f":"+'[1]itcer BILATERAL'!BY108","v":1.2707663417376924},{"$f":"+'[1]itcer BILATERAL'!BZ108","v":0.97868797200032487},{"$f":"+'[1]itcer BILATERAL'!CA108","v":1.11585551065514},{"$f":"+'[1]itcer BILATERAL'!CB108","v":1.3124990272911037},{"$f":"+'[1]itcer BILATERAL'!CC108","v":1.3032451108584255},{"$f":"+'[1]itcer BILATERAL'!CD108","v":1.1314061805618971}]
[null,"Julio",{"$f":"+'[1]itcer BILATERAL'!AB109","v":95.754350395607858},{"$f":"+'[1]itcer BILATERAL'!AC109","v":97.283781266641327},{"$f":"+'[1]itcer BILATERAL'!AD109","v":85.38780354180048},{"$f":"+'[1]itcer BILATERAL'!AE109","v":114.25007220643602},{"$f":"+'[1]itcer BILATERAL'!AF109","v":95.637257705668986},{"$f":"+'[1]itcer BILATERAL'!AG109","v":96.320862582307925},null,{"$f":"+'[1]itcer BILATERAL'!BK109","v":0.20006173512085468},{"$f":"+'[1]itcer BILATERAL'!BL109","v":-0.65475201125913429},{"$f":"+'[1]itcer BILATERAL'!BM109","v":0.2047662782254065},{"$f":"+'[1]itcer BILATERAL'!BN109","v":-1.1791713357788609},{"$f":"+'[1]itcer BILATERAL'!BO109","v":-0.74236996609381833},{"$f":"+'[1]itcer BILATERAL'!BP109","v":-1.7399335722101199},null,{"$f":"+'[1]itcer BILATERAL'!BR109","v":0.75905990168960291},{"$f":"+'[1]itcer BILATERAL'!BS109","v":1.0005737234652894},{"$f":"+'[1]itcer BILATERAL'!BT109","v":0.76764716785390208},{"$f":"+'[1]itcer BILATERAL'!BU109","v":0.88153824379789325},{"$f":"+'[1]itcer BILATERAL'!BV109","v":0.7453501604816215},{"$f":"+'[1]itcer BILATERAL'!BW109","v":0.86641260685961485},null,{"$f":"+'[1]itcer BILATERAL'!BY109","v":1.2614860853862369},{"$f":"+'[1]itcer BILATERAL'!BZ109","v":0.97227999281970101},{"$f":"+'[1]itcer BILATERAL'!CA109","v":1.1123313824047276},{"$f":"+'[1]itcer BILATERAL'!CB109","v":1.2960308076280089},{"$f":"+'[1]itcer BILATERAL'!CC109","v":1.2831184961960864},{"$f":"+'[1]itcer BILATERAL'!CD109","v":1.1117204645882401}]
[null,"Agosto",{"$f":"+'[1]itcer BILATERAL'!AB110","v":95.646407074722759},{"$f":"+'[1]itcer BILATERAL'!AC110","v":98.116333974436003},{"$f":"+'[1]itcer BILATERAL'!AD110","v":86.343886309206241},{"$f":"+'[1]itcer BILATERAL'!AE110","v":113.06374678162865},{"$f":"+'[1]itcer BILATERAL'!AF110","v":97.425761297809885},{"$f":"+'[1]itcer BILATERAL'!AG110","v":95.910703230248814},null,{"$f":"+'[1]itcer BILATERAL'!BK110","v":-0.11272941692898542},{"$f":"+'[1]itcer BILATERAL'!BL110","v":0.85579805488107752},{"$f":"+'[1]itcer BILATERAL'!BM110","v":1.1196947664050327},{"$f":"+'[1]itcer BILATERAL'!BN110","v":-1.0383585777204729},{"$f":"+'[1]itcer BILATERAL'!BO110","v":1.8700908359848114},{"$f":"+'[1]itcer BILATERAL'!BP110","v":-0.42582607865313093},null,{"$f":"+'[1]itcer BILATERAL'!BR110","v":0.76519668034524668},{"$f":"+'[1]itcer BILATERAL'!BS110","v":1.0005737234652894},{"$f":"+'[1]itcer BILATERAL'!BT110","v":0.78294721991353478},{"$f":"+'[1]itcer BILATERAL'!BU110","v":0.88153824379789325},{"$f":"+'[1]itcer BILATERAL'!BV110","v":0.75355015222659638},{"$f":"+'[1]itcer BILATERAL'!BW110","v":0.86641260685961485},null,{"$f":"+'[1]itcer BILATERAL'!BY110","v":1.2499584686066381},{"$f":"+'[1]itcer BILATERAL'!BZ110","v":0.98060074608625025},{"$f":"+'[1]itcer BILATERAL'!CA110","v":1.1028059633284308},{"$f":"+'[1]itcer BILATERAL'!CB110","v":1.2825733605671035},{"$f":"+'[1]itcer BILATERAL'!CC110","v":1.292890207903687},{"$f":"+'[1]itcer BILATERAL'!CD110","v":1.1069864689282998}]
[null,"Septiembre",{"$f":"+'[1]itcer BILATERAL'!AB111","v":97.04025039387443},{"$f":"+'[1]itcer BILATERAL'!AC111","v":98.689848071712703},{"$f":"+'[1]itcer BILATERAL'!AD111","v":86.504744443398877},{"$f":"+'[1]itcer BILATERAL'!AE111","v":113.07812347732795},{"$f":"+'[1]itcer BILATERAL'!AF111","v":99.566602845255261},{"$f":"+'[1]itcer BILATERAL'!AG111","v":95.546023036788824},null,{"$f":"+'[1]itcer BILATERAL'!BK111","v":1.4572876930575518},{"$f":"+'[1]itcer BILATERAL'!BL111","v":0.5845245883586756},{"$f":"+'[1]itcer BILATERAL'!BM111","v":0.18629939080641122},{"$f":"+'[1]itcer BILATERAL'!BN111","v":1.2715566314170701E-2},{"$f":"+'[1]itcer BILATERAL'!BO111","v":2.1974080765982222},{"$f":"+'[1]itcer BILATERAL'!BP111","v":-0.38022888080021744},null,{"$f":"+'[1]itcer BILATERAL'!BR111","v":0.77133709126416694},{"$f":"+'[1]itcer BILATERAL'!BS111","v":1.0005737234652894},{"$f":"+'[1]itcer BILATERAL'!BT111","v":0.78712617396083562},{"$f":"+'[1]itcer BILATERAL'!BU111","v":0.88221220269987943},{"$f":"+'[1]itcer BILATERAL'!BV111","v":0.76175800590037734},{"$f":"+'[1]itcer BILATERAL'!BW111","v":0.86641260685961485},null,{"$f":"+'[1]itcer BILATERAL'!BY111","v":1.2580783614960396},{"$f":"+'[1]itcer BILATERAL'!BZ111","v":0.9863325985607525},{"$f":"+'[1]itcer BILATERAL'!CA111","v":1.0989946377733213},{"$f":"+'[1]itcer BILATERAL'!CB111","v":1.2817565108629101},{"$f":"+'[1]itcer BILATERAL'!CC111","v":1.3070634253140565},{"$f":"+'[1]itcer BILATERAL'!CD111","v":1.1027773866668837}]
[null,"Octubre",{"$f":"+'[1]itcer BILATERAL'!AB112","v":97.895477023812603},{"$f":"+'[1]itcer BILATERAL'!AC112","v":99.252714730903961},{"$f":"+'[1]itcer BILATERAL'!AD112","v":86.874692476944631},{"$f":"+'[1]itcer BILATERAL'!AE112","v":113.66086533939504},{"$f":"+'[1]itcer BILATERAL'!AF112","v":100.00452848298814},{"$f":"+'[1]itcer BILATERAL'!AG112","v":95.475059814839767},null,{"$f":"+'[1]itcer BILATERAL'!BK112","v":0.88131123576754078},{"$f":"+'[1]itcer BILATERAL'!BL112","v":0.57033896615411095},{"$f":"+'[1]itcer BILATERAL'!BM112","v":0.42766213104971484},{"$f":"+'[1]itcer BILATERAL'!BN112","v":0.51534447525911276},{"$f":"+'[1]itcer BILATERAL'!BO112","v":0.43983185648453116},{"$f":"+'[1]itcer BILATERAL'!BP112","v":-7.427124614252989E-2},null,{"$f":"+'[1]itcer BILATERAL'!BR112","v":0.77754672473897724},{"$f":"+'[1]itcer BILATERAL'!BS112","v":1.0005737234652894},{"$f":"+'[1]itcer BILATERAL'!BT112","v":0.79257003202553888},{"$f":"+'[1]itcer BILATERAL'!BU112","v":0.88221220269987943},{"$f":"+'[1]itcer BILATERAL'!BV112","v":0.76711984134627664},{"$f":"+'[1]itcer BILATERAL'!BW112","v":0.86641260685961485},null,{"$f":"+'[1]itcer BILATERAL'!BY112","v":1.2590301509748643},{"$f":"+'[1]itcer BILATERAL'!BZ112","v":0.99195803770622504},{"$f":"+'[1]itcer BILATERAL'!CA112","v":1.0961137687091513},{"$f":"+'[1]itcer BILATERAL'!CB112","v":1.2883619722279156},{"$f":"+'[1]itcer BILATERAL'!CC112","v":1.3036363172080472},{"$f":"+'[1]itcer BILATERAL'!CD112","v":1.1019583401596282}]
[null,"Noviembre",{"$f":"+'[1]itcer BILATERAL'!AB113","v":97.004450000773545},{"$f":"+'[1]itcer BILATERAL'!AC113","v":99.307360088765691},{"$f":"+'[1]itcer BILATERAL'!AD113","v":87.398758810451042},{"$f":"+'[1]itcer BILATERAL'!AE113","v":112.72026390213479},{"$f":"+'[1]itcer BILATERAL'!AF113","v":97.92079013672145},{"$f":"+'[1]itcer BILATERAL'!AG113","v":95.264908718263541},null,{"$f":"+'[1]itcer BILATERAL'!BK113","v":-0.91018201261977083},{"$f":"+'[1]itcer BILATERAL'!BL113","v":5.5056789136571638E-2},{"$f":"+'[1]itcer BILATERAL'!BM113","v":0.60324395812449438},{"$f":"+'[1]itcer BILATERAL'!BN113","v":-0.82755083242732042},{"$f":"+'[1]itcer BILATERAL'!BO113","v":-2.083643988803118},{"$f":"+'[1]itcer BILATERAL'!BP113","v":-0.22011098708267696},null,{"$f":"+'[1]itcer BILATERAL'!BR113","v":0.78389309197075507},{"$f":"+'[1]itcer BILATERAL'!BS113","v":1.0005737234652894},{"$f":"+'[1]itcer BILATERAL'!BT113","v":0.80079513164532612},{"$f":"+'[1]itcer BILATERAL'!BU113","v":0.88221220269987943},{"$f":"+'[1]itcer BILATERAL'!BV113","v":0.77339366053370684},{"$f":"+'[1]itcer BILATERAL'!BW113","v":0.86641260685961485},null,{"$f":"+'[1]itcer BILATERAL'!BY113","v":1.2374704024613667},{"$f":"+'[1]itcer BILATERAL'!BZ113","v":0.99250417795136814},{"$f":"+'[1]itcer BILATERAL'!CA113","v":1.0913997270547862},{"$f":"+'[1]itcer BILATERAL'!CB113","v":1.277700122002067},{"$f":"+'[1]itcer BILATERAL'!CC113","v":1.2661183448174098},{"$f":"+'[1]itcer BILATERAL'!CD113","v":1.0995328087798628}]
[null,"Diciembre",{"$f":"+'[1]itcer BILATERAL'!AB114","v":96.827223813627413},{"$f":"+'[1]itcer BILATERAL'!AC114","v":99.169873956507416},{"$f":"+'[1]itcer BILATERAL'!AD114","v":86.565511301669105},{"$f":"+'[1]itcer BILATERAL'!AE114","v":112.4205906779724},{"$f":"+'[1]itcer BILATERAL'!AF114","v":98.228447162342462},{"$f":"+'[1]itcer BILATERAL'!AG114","v":94.988092048695037},null,{"$f":"+'[1]itcer BILATERAL'!BK114","v":-0.18269902787420733},{"$f":"+'[1]itcer BILATERAL'!BL114","v":-0.13844505798500961},{"$f":"+'[1]itcer BILATERAL'!BM114","v":-0.95338597495310751},{"$f":"+'[1]itcer BILATERAL'!BN114","v":-0.26585568005994276},{"$f":"+'[1]itcer BILATERAL'!BO114","v":0.31418968861612484},{"$f":"+'[1]itcer BILATERAL'!BP114","v":-0.29057569391805771},null,{"$f":"+'[1]itcer BILATERAL'!BR114","v":0.79011260939274863},{"$f":"+'[1]itcer BILATERAL'!BS114","v":1.0005737234652894},{"$f":"+'[1]itcer BILATERAL'!BT114","v":0.79709067777988518},{"$f":"+'[1]itcer BILATERAL'!BU114","v":0.8828861616018655},{"$f":"+'[1]itcer BILATERAL'!BV114","v":0.78112979847910968},{"$f":"+'[1]itcer BILATERAL'!BW114","v":0.86641260685961485},null,{"$f":"+'[1]itcer BILATERAL'!BY114","v":1.2254863757717427},{"$f":"+'[1]itcer BILATERAL'!BZ114","v":0.99113010496670007},{"$f":"+'[1]itcer BILATERAL'!CA114","v":1.0860183629643954},{"$f":"+'[1]itcer BILATERAL'!CB114","v":1.2733305330553828},{"$f":"+'[1]itcer BILATERAL'!CC114","v":1.257517602754332},{"$f":"+'[1]itcer BILATERAL'!CD114","v":1.096337833690894}]
[1998,"Enero",{"$f":"+'[1]itcer BILATERAL'!AB115","v":96.131101518057051},{"$f":"+'[1]itcer BILATERAL'!AC115","v":98.148632235342049},{"$f":"+'[1]itcer BILATERAL'!AD115","v":86.646909012021084},{"$f":"+'[1]itcer BILATERAL'!AE115","v":111.78984044268377},{"$f":"+'[1]itcer BILATERAL'!AF115","v":99.100873278384128},{"$f":"+'[1]itcer BILATERAL'!AG115","v":95.07611063926187},null,{"$f":"+'[1]itcer BILATERAL'!BK115","v":-0.71893241193225776},{"$f":"+'[1]itcer BILATERAL'!BL115","v":-1.0297902784602115},{"$f":"+'[1]itcer BILATERAL'!BM115","v":9.4030184917784254E-2},{"$f":"+'[1]itcer BILATERAL'!BN115","v":-0.5610629080356091},{"$f":"+'[1]itcer BILATERAL'!BO115","v":0.88816034585154569},{"$f":"+'[1]itcer BILATERAL'!BP115","v":9.2662762951079003E-2},null,{"$f":"+'[1]itcer BILATERAL'!BR115","v":0.79543003327483719},{"$f":"+'[1]itcer BILATERAL'!BS115","v":1.0005737234652894},{"$f":"+'[1]itcer BILATERAL'!BT115","v":0.80610102362454317},{"$f":"+'[1]itcer BILATERAL'!BU115","v":0.88356012050385169},{"$f":"+'[1]itcer BILATERAL'!BV115","v":0.7914839587170116},{"$f":"+'[1]itcer BILATERAL'!BW115","v":0.86641260685961485},null,{"$f":"+'[1]itcer BILATERAL'!BY115","v":1.2085425178413121},{"$f":"+'[1]itcer BILATERAL'!BZ115","v":0.98092354349886046},{"$f":"+'[1]itcer BILATERAL'!CA115","v":1.0748889589846065},{"$f":"+'[1]itcer BILATERAL'!CB115","v":1.265220530538832},{"$f":"+'[1]itcer BILATERAL'!CC115","v":1.252089473032729},{"$f":"+'[1]itcer BILATERAL'!CD115","v":1.0973537306188701}]
[null,"Febrero",{"$f":"+'[1]itcer BILATERAL'!AB116","v":96.10374981176038},{"$f":"+'[1]itcer BILATERAL'!AC116","v":98.075802096754728},{"$f":"+'[1]itcer BILATERAL'!AD116","v":85.737004763755607},{"$f":"+'[1]itcer BILATERAL'!AE116","v":109.70153353039764},{"$f":"+'[1]itcer BILATERAL'!AF116","v":98.523069669357426},{"$f":"+'[1]itcer BILATERAL'!AG116","v":95.310111568512653},null,{"$f":"+'[1]itcer BILATERAL'!BK116","v":-2.8452504823874847E-2},{"$f":"+'[1]itcer BILATERAL'!BL116","v":-7.420392615628657E-2},{"$f":"+'[1]itcer BILATERAL'!BM116","v":-1.0501289182043791},{"$f":"+'[1]itcer BILATERAL'!BN116","v":-1.8680650263176943},{"$f":"+'[1]itcer BILATERAL'!BO116","v":-0.58304593078972289},{"$f":"+'[1]itcer BILATERAL'!BP116","v":0.2461195853274063},null,{"$f":"+'[1]itcer BILATERAL'!BR116","v":0.80175297789679656},{"$f":"+'[1]itcer BILATERAL'!BS116","v":1.0005737234652894},{"$f":"+'[1]itcer BILATERAL'!BT116","v":0.80073581912259384},{"$f":"+'[1]itcer BILATERAL'!BU116","v":0.88692991501378249},{"$f":"+'[1]itcer BILATERAL'!BV116","v":0.79626401143124437},{"$f":"+'[1]itcer BILATERAL'!BW116","v":0.86641260685961485},null,{"$f":"+'[1]itcer BILATERAL'!BY116","v":1.1986703194276265},{"$f":"+'[1]itcer BILATERAL'!BZ116","v":0.98019565971699263},{"$f":"+'[1]itcer BILATERAL'!CA116","v":1.0707277321214619},{"$f":"+'[1]itcer BILATERAL'!CB116","v":1.2368681185896513},{"$f":"+'[1]itcer BILATERAL'!CC116","v":1.2373166218107383},{"$f":"+'[1]itcer BILATERAL'!CD116","v":1.1000545330702438}]
[null,"Marzo",{"$f":"+'[1]itcer BILATERAL'!AB117","v":96.067533175792747},{"$f":"+'[1]itcer BILATERAL'!AC117","v":97.834619909600818},{"$f":"+'[1]itcer BILATERAL'!AD117","v":86.129801138956822},{"$f":"+'[1]itcer BILATERAL'!AE117","v":108.48781561972733},{"$f":"+'[1]itcer BILATERAL'!AF117","v":98.822206069592227},{"$f":"+'[1]itcer BILATERAL'!AG117","v":95.643792267368255},null,{"$f":"+'[1]itcer BILATERAL'!BK117","v":-3.7684935331412817E-2},{"$f":"+'[1]itcer BILATERAL'!BL117","v":-0.24591406034689101},{"$f":"+'[1]itcer BILATERAL'!BM117","v":0.45814100490628107},{"$f":"+'[1]itcer BILATERAL'!BN117","v":-1.1063818996969559},{"$f":"+'[1]itcer BILATERAL'!BO117","v":0.30362066594015857},{"$f":"+'[1]itcer BILATERAL'!BP117","v":0.35009999816833215},null,{"$f":"+'[1]itcer BILATERAL'!BR117","v":0.80839197432810239},{"$f":"+'[1]itcer BILATERAL'!BS117","v":1.0005737234652894},{"$f":"+'[1]itcer BILATERAL'!BT117","v":0.80815246326948464},{"$f":"+'[1]itcer BILATERAL'!BU117","v":0.89029970952371329},{"$f":"+'[1]itcer BILATERAL'!BV117","v":0.80572977371403398},{"$f":"+'[1]itcer BILATERAL'!BW117","v":0.86641260685961485},null,{"$f":"+'[1]itcer BILATERAL'!BY117","v":1.1883781163913654},{"$f":"+'[1]itcer BILATERAL'!BZ117","v":0.97778522077083851},{"$f":"+'[1]itcer BILATERAL'!CA117","v":1.0657617844844229},{"$f":"+'[1]itcer BILATERAL'!CB117","v":1.2185538696599756},{"$f":"+'[1]itcer BILATERAL'!CC117","v":1.226493165494785},{"$f":"+'[1]itcer BILATERAL'!CD117","v":1.1039058239703738}]
[null,"Abril",{"$f":"+'[1]itcer BILATERAL'!AB118","v":96.265057700608267},{"$f":"+'[1]itcer BILATERAL'!AC118","v":96.820937498350048},{"$f":"+'[1]itcer BILATERAL'!AD118","v":85.831000192172567},{"$f":"+'[1]itcer BILATERAL'!AE118","v":106.83782471957443},{"$f":"+'[1]itcer BILATERAL'!AF118","v":98.121753560754925},{"$f":"+'[1]itcer BILATERAL'!AG118","v":95.934142777714285},null,{"$f":"+'[1]itcer BILATERAL'!BK118","v":0.2056100727121617},{"$f":"+'[1]itcer BILATERAL'!BL118","v":-1.0361183108672662},{"$f":"+'[1]itcer BILATERAL'!BM118","v":-0.34691935059990442},{"$f":"+'[1]itcer BILATERAL'!BN118","v":-1.5208997348941722},{"$f":"+'[1]itcer BILATERAL'!BO118","v":-0.70880072070444555},{"$f":"+'[1]itcer BILATERAL'!BP118","v":0.30357486195693184},null,{"$f":"+'[1]itcer BILATERAL'!BR118","v":0.81504760782244801},{"$f":"+'[1]itcer BILATERAL'!BS118","v":1.0005737234652894},{"$f":"+'[1]itcer BILATERAL'!BT118","v":0.80976163779926902},{"$f":"+'[1]itcer BILATERAL'!BU118","v":0.89029970952371329},{"$f":"+'[1]itcer BILATERAL'!BV118","v":0.81510905477995432},{"$f":"+'[1]itcer BILATERAL'!BW118","v":0.86641260685961485},null,{"$f":"+'[1]itcer BILATERAL'!BY118","v":1.1810973589358584},{"$f":"+'[1]itcer BILATERAL'!BZ118","v":0.96765420905747812},{"$f":"+'[1]itcer BILATERAL'!CA118","v":1.0599538948947977},{"$f":"+'[1]itcer BILATERAL'!CB118","v":1.2000208870867746},{"$f":"+'[1]itcer BILATERAL'!CC118","v":1.2037868182833982},{"$f":"+'[1]itcer BILATERAL'!CD118","v":1.1072570045516266}]
[null,"Mayo",{"$f":"+'[1]itcer BILATERAL'!AB119","v":96.484776701933896},{"$f":"+'[1]itcer BILATERAL'!AC119","v":96.493693670773695},{"$f":"+'[1]itcer BILATERAL'!AD119","v":85.489460684564662},{"$f":"+'[1]itcer BILATERAL'!AE119","v":106.25477305118014},{"$f":"+'[1]itcer BILATERAL'!AF119","v":97.141824793580469},{"$f":"+'[1]itcer BILATERAL'!AG119","v":95.688739990630253},null,{"$f":"+'[1]itcer BILATERAL'!BK119","v":0.22824377460923984},{"$f":"+'[1]itcer BILATERAL'!BL119","v":-0.33798869958467037},{"$f":"+'[1]itcer BILATERAL'!BM119","v":-0.39792092232784171},{"$f":"+'[1]itcer BILATERAL'!BN119","v":-0.54573524865811862},{"$f":"+'[1]itcer BILATERAL'!BO119","v":-0.99868656196375127},{"$f":"+'[1]itcer BILATERAL'!BP119","v":-0.25580338759334609},null,{"$f":"+'[1]itcer BILATERAL'!BR119","v":0.82158023332393515},{"$f":"+'[1]itcer BILATERAL'!BS119","v":1.0005737234652894},{"$f":"+'[1]itcer BILATERAL'!BT119","v":0.80918269600129378},{"$f":"+'[1]itcer BILATERAL'!BU119","v":0.89434346293563016},{"$f":"+'[1]itcer BILATERAL'!BV119","v":0.82168948919083029},{"$f":"+'[1]itcer BILATERAL'!BW119","v":0.86641260685961485},null,{"$f":"+'[1]itcer BILATERAL'!BY119","v":1.1743804535264617},{"$f":"+'[1]itcer BILATERAL'!BZ119","v":0.96438364717980851},{"$f":"+'[1]itcer BILATERAL'!CA119","v":1.0564914586906586},{"$f":"+'[1]itcer BILATERAL'!CB119","v":1.1880756941232067},{"$f":"+'[1]itcer BILATERAL'!CC119","v":1.1822206085323319},{"$f":"+'[1]itcer BILATERAL'!CD119","v":1.1044246036246184}]
[null,"Junio",{"$f":"+'[1]itcer BILATERAL'!AB120","v":96.718061442456388},{"$f":"+'[1]itcer BILATERAL'!AC120","v":96.516984791421308},{"$f":"+'[1]itcer BILATERAL'!AD120","v":85.885992257341329},{"$f":"+'[1]itcer BILATERAL'!AE120","v":104.94090545356565},{"$f":"+'[1]itcer BILATERAL'!AF120","v":96.225591235022421},{"$f":"+'[1]itcer BILATERAL'!AG120","v":95.306229134490493},null,{"$f":"+'[1]itcer BILATERAL'!BK120","v":0.24178398758508024},{"$f":"+'[1]itcer BILATERAL'!BL120","v":2.413745371492837E-2},{"$f":"+'[1]itcer BILATERAL'!BM120","v":0.46383679298173774},{"$f":"+'[1]itcer BILATERAL'!BN120","v":-1.2365257201026054},{"$f":"+'[1]itcer BILATERAL'!BO120","v":-0.94319162781323485},{"$f":"+'[1]itcer BILATERAL'!BP120","v":-0.39974489806972713},null,{"$f":"+'[1]itcer BILATERAL'!BR120","v":0.82916052230122539},{"$f":"+'[1]itcer BILATERAL'!BS120","v":1.0005737234652894},{"$f":"+'[1]itcer BILATERAL'!BT120","v":0.8131476092056904},{"$f":"+'[1]itcer BILATERAL'!BU120","v":0.89771325744556096},{"$f":"+'[1]itcer BILATERAL'!BV120","v":0.82849005760828309},{"$f":"+'[1]itcer BILATERAL'!BW120","v":0.86641260685961485},null,{"$f":"+'[1]itcer BILATERAL'!BY120","v":1.1664576260098372},{"$f":"+'[1]itcer BILATERAL'!BZ120","v":0.96461642483628085},{"$f":"+'[1]itcer BILATERAL'!CA120","v":1.0562165009774502},{"$f":"+'[1]itcer BILATERAL'!CB120","v":1.1689802348711498},{"$f":"+'[1]itcer BILATERAL'!CC120","v":1.1614574049664534},{"$f":"+'[1]itcer BILATERAL'!CD120","v":1.1000097226186021}]
[null,"Julio",{"$f":"+'[1]itcer BILATERAL'!AB121","v":96.115447844964223},{"$f":"+'[1]itcer BILATERAL'!AC121","v":96.215315500124049},{"$f":"+'[1]itcer BILATERAL'!AD121","v":86.203878335638549},{"$f":"+'[1]itcer BILATERAL'!AE121","v":103.42046071319032},{"$f":"+'[1]itcer BILATERAL'!AF121","v":98.171088342164381},{"$f":"+'[1]itcer BILATERAL'!AG121","v":102.93897989513611},null,{"$f":"+'[1]itcer BILATERAL'!BK121","v":-0.62306211322349725},{"$f":"+'[1]itcer BILATERAL'!BL121","v":-0.31255565219861126},{"$f":"+'[1]itcer BILATERAL'!BM121","v":0.37012563974896295},{"$f":"+'[1]itcer BILATERAL'!BN121","v":-1.4488580347232585},{"$f":"+'[1]itcer BILATERAL'!BO121","v":2.0218084214107535},{"$f":"+'[1]itcer BILATERAL'!BP121","v":8.0086588567833701},null,{"$f":"+'[1]itcer BILATERAL'!BR121","v":0.83697928333281357},{"$f":"+'[1]itcer BILATERAL'!BS121","v":1.0005737234652894},{"$f":"+'[1]itcer BILATERAL'!BT121","v":0.81758057557860608},{"$f":"+'[1]itcer BILATERAL'!BU121","v":0.90108305195549165},{"$f":"+'[1]itcer BILATERAL'!BV121","v":0.8366126395927036},{"$f":"+'[1]itcer BILATERAL'!BW121","v":0.94057060459367614},null,{"$f":"+'[1]itcer BILATERAL'!BY121","v":1.1483611334110548},{"$f":"+'[1]itcer BILATERAL'!BZ121","v":0.96160146167841887},{"$f":"+'[1]itcer BILATERAL'!CA121","v":1.0543777691224085},{"$f":"+'[1]itcer BILATERAL'!CB121","v":1.147735056038971},{"$f":"+'[1]itcer BILATERAL'!CC121","v":1.1734353952619936},{"$f":"+'[1]itcer BILATERAL'!CD121","v":1.0944311824374466}]
[null,"Agosto",{"$f":"+'[1]itcer BILATERAL'!AB122","v":95.220516131741718},{"$f":"+'[1]itcer BILATERAL'!AC122","v":97.523032033457966},{"$f":"+'[1]itcer BILATERAL'!AD122","v":86.941508092267014},{"$f":"+'[1]itcer BILATERAL'!AE122","v":103.78297971285352},{"$f":"+'[1]itcer BILATERAL'!AF122","v":99.651246068806898},{"$f":"+'[1]itcer BILATERAL'!AG122","v":103.57226985316512},null,{"$f":"+'[1]itcer BILATERAL'!BK122","v":-0.93110080979495535},{"$f":"+'[1]itcer BILATERAL'!BL122","v":1.3591563115876539},{"$f":"+'[1]itcer BILATERAL'!BM122","v":0.8556804761805239},{"$f":"+'[1]itcer BILATERAL'!BN122","v":0.3505292832416842},{"$f":"+'[1]itcer BILATERAL'!BO122","v":1.50773282810475},{"$f":"+'[1]itcer BILATERAL'!BP122","v":0.61520908665903562},null,{"$f":"+'[1]itcer BILATERAL'!BR122","v":0.84490145909093672},{"$f":"+'[1]itcer BILATERAL'!BS122","v":1.0005737234652894},{"$f":"+'[1]itcer BILATERAL'!BT122","v":0.8247535226212267},{"$f":"+'[1]itcer BILATERAL'!BU122","v":0.90445284646542246},{"$f":"+'[1]itcer BILATERAL'!BV122","v":0.84383654263818786},{"$f":"+'[1]itcer BILATERAL'!BW122","v":0.94736842105263175},null,{"$f":"+'[1]itcer BILATERAL'!BY122","v":1.1270014403122617},{"$f":"+'[1]itcer BILATERAL'!BZ122","v":0.97467112863714067},{"$f":"+'[1]itcer BILATERAL'!CA122","v":1.0541514004808374},{"$f":"+'[1]itcer BILATERAL'!CB122","v":1.1474670030442671},{"$f":"+'[1]itcer BILATERAL'!CC122","v":1.1809306783189928},{"$f":"+'[1]itcer BILATERAL'!CD122","v":1.0932628484500766}]
[null,"Septiembre",{"$f":"+'[1]itcer BILATERAL'!AB123","v":96.582948247721362},{"$f":"+'[1]itcer BILATERAL'!AC123","v":98.664906104715428},{"$f":"+'[1]itcer BILATERAL'!AD123","v":88.363365372317332},{"$f":"+'[1]itcer BILATERAL'!AE123","v":104.29446146895737},{"$f":"+'[1]itcer BILATERAL'!AF123","v":100.62717227549483},{"$f":"+'[1]itcer BILATERAL'!AG123","v":103.22792536422276},null,{"$f":"+'[1]itcer BILATERAL'!BK123","v":1.4308178230147917},{"$f":"+'[1]itcer BILATERAL'!BL123","v":1.1708763021905497},{"$f":"+'[1]itcer BILATERAL'!BM123","v":1.6354182383647782},{"$f":"+'[1]itcer BILATERAL'!BN123","v":0.4928378020355666},{"$f":"+'[1]itcer BILATERAL'!BO123","v":0.9793416993642694},{"$f":"+'[1]itcer BILATERAL'!BP123","v":-0.33246784050456313},null,{"$f":"+'[1]itcer BILATERAL'!BR123","v":0.85260517516838652},{"$f":"+'[1]itcer BILATERAL'!BS123","v":1.0005737234652894},{"$f":"+'[1]itcer BILATERAL'!BT123","v":0.8357624426014344},{"$f":"+'[1]itcer BILATERAL'!BU123","v":0.91051847658329788},{"$f":"+'[1]itcer BILATERAL'!BV123","v":0.85342154417453997},{"$f":"+'[1]itcer BILATERAL'!BW123","v":0.94922237099598328},null,{"$f":"+'[1]itcer BILATERAL'!BY123","v":1.132798053080625},{"$f":"+'[1]itcer BILATERAL'!BZ123","v":0.98608332190664605},{"$f":"+'[1]itcer BILATERAL'!CA123","v":1.057278490491548},{"$f":"+'[1]itcer BILATERAL'!CB123","v":1.145440363388563},{"$f":"+'[1]itcer BILATERAL'!CC123","v":1.1791027887961867},{"$f":"+'[1]itcer BILATERAL'!CD123","v":1.0874999211818994}]
[null,"Octubre",{"$f":"+'[1]itcer BILATERAL'!AB124","v":97.411565938153814},{"$f":"+'[1]itcer BILATERAL'!AC124","v":98.835250298245128},{"$f":"+'[1]itcer BILATERAL'!AD124","v":89.669676193339654},{"$f":"+'[1]itcer BILATERAL'!AE124","v":104.43215013241122},{"$f":"+'[1]itcer BILATERAL'!AF124","v":99.306727986221887},{"$f":"+'[1]itcer BILATERAL'!AG124","v":101.78118113794106},null,{"$f":"+'[1]itcer BILATERAL'!BK124","v":0.85793372998634254},{"$f":"+'[1]itcer BILATERAL'!BL124","v":0.17264922276308425},{"$f":"+'[1]itcer BILATERAL'!BM124","v":1.4783398250148139},{"$f":"+'[1]itcer BILATERAL'!BN124","v":0.13201915184617974},{"$f":"+'[1]itcer BILATERAL'!BO124","v":-1.3122144440846029},{"$f":"+'[1]itcer BILATERAL'!BP124","v":-1.4015047005711949},null,{"$f":"+'[1]itcer BILATERAL'!BR124","v":0.86049853729956205},{"$f":"+'[1]itcer BILATERAL'!BS124","v":1.0005737234652894},{"$f":"+'[1]itcer BILATERAL'!BT124","v":0.84612924005292989},{"$f":"+'[1]itcer BILATERAL'!BU124","v":0.91456222999521497},{"$f":"+'[1]itcer BILATERAL'!BV124","v":0.86010538915564838},{"$f":"+'[1]itcer BILATERAL'!BW124","v":0.95416623751158713},null,{"$f":"+'[1]itcer BILATERAL'!BY124","v":1.1320363918787499},{"$f":"+'[1]itcer BILATERAL'!BZ124","v":0.9877857870977137},{"$f":"+'[1]itcer BILATERAL'!CA124","v":1.0597633546824401},{"$f":"+'[1]itcer BILATERAL'!CB124","v":1.1418812925716122},{"$f":"+'[1]itcer BILATERAL'!CC124","v":1.154587905602007},{"$f":"+'[1]itcer BILATERAL'!CD124","v":1.0667028148405329}]
[null,"Noviembre",{"$f":"+'[1]itcer BILATERAL'!AB125","v":97.090838949793067},{"$f":"+'[1]itcer BILATERAL'!AC125","v":96.700519786894532},{"$f":"+'[1]itcer BILATERAL'!AD125","v":87.31318562163311},{"$f":"+'[1]itcer BILATERAL'!AE125","v":103.89244290302973},{"$f":"+'[1]itcer BILATERAL'!AF125","v":94.736072012123472},{"$f":"+'[1]itcer BILATERAL'!AG125","v":100.28622000271079},null,{"$f":"+'[1]itcer BILATERAL'!BK125","v":-0.32924939176562873},{"$f":"+'[1]itcer BILATERAL'!BL125","v":-2.1598877980364648},{"$f":"+'[1]itcer BILATERAL'!BM125","v":-2.6279681958766474},{"$f":"+'[1]itcer BILATERAL'!BN125","v":-0.51680179781531876},{"$f":"+'[1]itcer BILATERAL'!BO125","v":-4.6025642640572784},{"$f":"+'[1]itcer BILATERAL'!BP125","v":-1.4687991616094394},null,{"$f":"+'[1]itcer BILATERAL'!BR125","v":0.86896143132725745},{"$f":"+'[1]itcer BILATERAL'!BS125","v":1.0005737234652894},{"$f":"+'[1]itcer BILATERAL'!BT125","v":0.84572694642048385},{"$f":"+'[1]itcer BILATERAL'!BU125","v":0.92130181901507646},{"$f":"+'[1]itcer BILATERAL'!BV125","v":0.86901735717332185},{"$f":"+'[1]itcer BILATERAL'!BW125","v":0.95725615408383979},null,{"$f":"+'[1]itcer BILATERAL'!BY125","v":1.1173204638265231},{"$f":"+'[1]itcer BILATERAL'!BZ125","v":0.96645072241145202},{"$f":"+'[1]itcer BILATERAL'!CA125","v":1.0324039690491569},{"$f":"+'[1]itcer BILATERAL'!CB125","v":1.1276700073608517},{"$f":"+'[1]itcer BILATERAL'!CC125","v":1.0901516664784954},{"$f":"+'[1]itcer BILATERAL'!CD125","v":1.0476424682658909}]
[null,"Diciembre",{"$f":"+'[1]itcer BILATERAL'!AB126","v":97.225202357499754},{"$f":"+'[1]itcer BILATERAL'!AC126","v":96.695803350324368},{"$f":"+'[1]itcer BILATERAL'!AD126","v":88.959530368366799},{"$f":"+'[1]itcer BILATERAL'!AE126","v":103.68059296815231},{"$f":"+'[1]itcer BILATERAL'!AF126","v":94.448072314435564},{"$f":"+'[1]itcer BILATERAL'!AG126","v":98.841327540886752},null,{"$f":"+'[1]itcer BILATERAL'!BK126","v":0.13838937757677172},{"$f":"+'[1]itcer BILATERAL'!BL126","v":-4.8773642381263471E-3},{"$f":"+'[1]itcer BILATERAL'!BM126","v":1.8855625699742973},{"$f":"+'[1]itcer BILATERAL'!BN126","v":-0.20391274760490319},{"$f":"+'[1]itcer BILATERAL'!BO126","v":-0.30400215205361292},{"$f":"+'[1]itcer BILATERAL'!BP126","v":-1.4407686936300763},null,{"$f":"+'[1]itcer BILATERAL'!BR126","v":0.87724501728132032},{"$f":"+'[1]itcer BILATERAL'!BS126","v":1.0005737234652894},{"$f":"+'[1]itcer BILATERAL'!BT126","v":0.86641799103542805},{"$f":"+'[1]itcer BILATERAL'!BU126","v":0.9266934902309657},{"$f":"+'[1]itcer BILATERAL'!BV126","v":0.87560004533712266},{"$f":"+'[1]itcer BILATERAL'!BW126","v":0.9566381707693894},null,{"$f":"+'[1]itcer BILATERAL'!BY126","v":1.1083015627585031},{"$f":"+'[1]itcer BILATERAL'!BZ126","v":0.96640358508953783},{"$f":"+'[1]itcer BILATERAL'!CA126","v":1.0267507287337623},{"$f":"+'[1]itcer BILATERAL'!CB126","v":1.1188229340244027},{"$f":"+'[1]itcer BILATERAL'!CC126","v":1.0786668275933138},{"$f":"+'[1]itcer BILATERAL'!CD126","v":1.033215384468636}]
[1999,"Enero",{"$f":"+'[1]itcer BILATERAL'!AB127","v":96.51397847094799},{"$f":"+'[1]itcer BILATERAL'!AC127","v":96.755279492785846},{"$f":"+'[1]itcer BILATERAL'!AD127","v":92.418963098482749},{"$f":"+'[1]itcer BILATERAL'!AE127","v":102.84944496132775},{"$f":"+'[1]itcer BILATERAL'!AF127","v":96.26819500916298},{"$f":"+'[1]itcer BILATERAL'!AG127","v":99.673579472462876},null,{"$f":"+'[1]itcer BILATERAL'!BK127","v":-0.73152214580801456},{"$f":"+'[1]itcer BILATERAL'!BL127","v":6.150850440323552E-2},{"$f":"+'[1]itcer BILATERAL'!BM127","v":3.8887713500633367},{"$f":"+'[1]itcer BILATERAL'!BN127","v":-0.80164279835848617},{"$f":"+'[1]itcer BILATERAL'!BO127","v":1.9271147098353509},{"$f":"+'[1]itcer BILATERAL'!BP127","v":0.84200804691928965},null,{"$f":"+'[1]itcer BILATERAL'!BR127","v":0.88432688290083528},{"$f":"+'[1]itcer BILATERAL'!BS127","v":1.0005737234652894},{"$f":"+'[1]itcer BILATERAL'!BT127","v":0.89887612439942044},{"$f":"+'[1]itcer BILATERAL'!BU127","v":0.93275912034884112},{"$f":"+'[1]itcer BILATERAL'!BV127","v":0.88740735208272303},{"$f":"+'[1]itcer BILATERAL'!BW127","v":0.95725615408383979},null,{"$f":"+'[1]itcer BILATERAL'!BY127","v":1.0913835182116778},{"$f":"+'[1]itcer BILATERAL'!BZ127","v":0.96699800548122583},{"$f":"+'[1]itcer BILATERAL'!CA127","v":1.0281612848514805},{"$f":"+'[1]itcer BILATERAL'!CB127","v":1.1026367120684195},{"$f":"+'[1]itcer BILATERAL'!CC127","v":1.0848253035454789},{"$f":"+'[1]itcer BILATERAL'!CD127","v":1.0412425038714677}]
[null,"Febrero",{"$f":"+'[1]itcer BILATERAL'!AB128","v":96.823945954382665},{"$f":"+'[1]itcer BILATERAL'!AC128","v":97.104291366370603},{"$f":"+'[1]itcer BILATERAL'!AD128","v":91.680641938570645},{"$f":"+'[1]itcer BILATERAL'!AE128","v":102.54044581138707},{"$f":"+'[1]itcer BILATERAL'!AF128","v":97.587934867115578},{"$f":"+'[1]itcer BILATERAL'!AG128","v":101.74468114042439},null,{"$f":"+'[1]itcer BILATERAL'!BK128","v":0.32116330540448246},{"$f":"+'[1]itcer BILATERAL'!BL128","v":0.36071610295000767},{"$f":"+'[1]itcer BILATERAL'!BM128","v":-0.79888492053881066},{"$f":"+'[1]itcer BILATERAL'!BN128","v":-0.30043832522078162},{"$f":"+'[1]itcer BILATERAL'!BO128","v":1.3708991404970163},{"$f":"+'[1]itcer BILATERAL'!BP128","v":2.0778843088841796},null,{"$f":"+'[1]itcer BILATERAL'!BR128","v":0.89253569811664113},{"$f":"+'[1]itcer BILATERAL'!BS128","v":1.0005737234652894},{"$f":"+'[1]itcer BILATERAL'!BT128","v":0.88625416168142424},{"$f":"+'[1]itcer BILATERAL'!BU128","v":0.93680287376075799},{"$f":"+'[1]itcer BILATERAL'!BV128","v":0.89522374721802345},{"$f":"+'[1]itcer BILATERAL'!BW128","v":0.97332372025955305},null,{"$f":"+'[1]itcer BILATERAL'!BY128","v":1.0848187490841317},{"$f":"+'[1]itcer BILATERAL'!BZ128","v":0.97048612300220205},{"$f":"+'[1]itcer BILATERAL'!CA128","v":1.0344734716351769},{"$f":"+'[1]itcer BILATERAL'!CB128","v":1.0945786854788617},{"$f":"+'[1]itcer BILATERAL'!CC128","v":1.0900954668637599},{"$f":"+'[1]itcer BILATERAL'!CD128","v":1.0453323906797678}]
[null,"Marzo",{"$f":"+'[1]itcer BILATERAL'!AB129","v":98.375478826522624},{"$f":"+'[1]itcer BILATERAL'!AC129","v":97.605011980023178},{"$f":"+'[1]itcer BILATERAL'!AD129","v":93.666736536522336},{"$f":"+'[1]itcer BILATERAL'!AE129","v":102.98797418686911},{"$f":"+'[1]itcer BILATERAL'!AF129","v":100.84546161381354},{"$f":"+'[1]itcer BILATERAL'!AG129","v":102.36255906578897},null,{"$f":"+'[1]itcer BILATERAL'!BK129","v":1.6024268137873037},{"$f":"+'[1]itcer BILATERAL'!BL129","v":0.51565240485962249},{"$f":"+'[1]itcer BILATERAL'!BM129","v":2.1663183808011013},{"$f":"+'[1]itcer BILATERAL'!BN129","v":0.43644083263029643},{"$f":"+'[1]itcer BILATERAL'!BO129","v":3.3380425061086783},{"$f":"+'[1]itcer BILATERAL'!BP129","v":0.6072827772803322},null,{"$f":"+'[1]itcer BILATERAL'!BR129","v":0.90071921721320547},{"$f":"+'[1]itcer BILATERAL'!BS129","v":1.0005737234652894},{"$f":"+'[1]itcer BILATERAL'!BT129","v":0.89845964733762529},{"$f":"+'[1]itcer BILATERAL'!BU129","v":0.94084662717267509},{"$f":"+'[1]itcer BILATERAL'!BV129","v":0.90469573352778498},{"$f":"+'[1]itcer BILATERAL'!BW129","v":0.98135750334740979},null,{"$f":"+'[1]itcer BILATERAL'!BY129","v":1.0921880753348754},{"$f":"+'[1]itcer BILATERAL'!BZ129","v":0.97549045803429191},{"$f":"+'[1]itcer BILATERAL'!CA129","v":1.0425258030684159},{"$f":"+'[1]itcer BILATERAL'!CB129","v":1.0946308485619685},{"$f":"+'[1]itcer BILATERAL'!CC129","v":1.1146892582390675},{"$f":"+'[1]itcer BILATERAL'!CD129","v":1.0430710390110673}]
[null,"Abril",{"$f":"+'[1]itcer BILATERAL'!AB130","v":99.836161701681959},{"$f":"+'[1]itcer BILATERAL'!AC130","v":98.871339608855948},{"$f":"+'[1]itcer BILATERAL'!AD130","v":95.437227260795083},{"$f":"+'[1]itcer BILATERAL'!AE130","v":103.89955942094987},{"$f":"+'[1]itcer BILATERAL'!AF130","v":101.80966478221144},{"$f":"+'[1]itcer BILATERAL'!AG130","v":102.84029606597839},null,{"$f":"+'[1]itcer BILATERAL'!BK130","v":1.4848038277253295},{"$f":"+'[1]itcer BILATERAL'!BL130","v":1.2974002083949898},{"$f":"+'[1]itcer BILATERAL'!BM130","v":1.8902022102396927},{"$f":"+'[1]itcer BILATERAL'!BN130","v":0.88513755249395842},{"$f":"+'[1]itcer BILATERAL'!BO130","v":0.95611954466559723},{"$f":"+'[1]itcer BILATERAL'!BP130","v":0.46671068459940557},null,{"$f":"+'[1]itcer BILATERAL'!BR130","v":0.90860751513115967},{"$f":"+'[1]itcer BILATERAL'!BS130","v":1.0005737234652894},{"$f":"+'[1]itcer BILATERAL'!BT130","v":0.91092430293011384},{"$f":"+'[1]itcer BILATERAL'!BU130","v":0.94556433948657803},{"$f":"+'[1]itcer BILATERAL'!BV130","v":0.9101126024753281},{"$f":"+'[1]itcer BILATERAL'!BW130","v":0.98135750334740979},null,{"$f":"+'[1]itcer BILATERAL'!BY130","v":1.0987820377786595},{"$f":"+'[1]itcer BILATERAL'!BZ130","v":0.98814647326970162},{"$f":"+'[1]itcer BILATERAL'!CA130","v":1.0476965753774274},{"$f":"+'[1]itcer BILATERAL'!CB130","v":1.0988100447756437},{"$f":"+'[1]itcer BILATERAL'!CC130","v":1.1186491045757316},{"$f":"+'[1]itcer BILATERAL'!CD130","v":1.0479391629980943}]
[null,"Mayo",{"$f":"+'[1]itcer BILATERAL'!AB131","v":99.942226503670426},{"$f":"+'[1]itcer BILATERAL'!AC131","v":99.533298720197308},{"$f":"+'[1]itcer BILATERAL'!AD131","v":97.360580969337008},{"$f":"+'[1]itcer BILATERAL'!AE131","v":103.5311087751015},{"$f":"+'[1]itcer BILATERAL'!AF131","v":101.28761477549655},{"$f":"+'[1]itcer BILATERAL'!AG131","v":102.89148076439868},null,{"$f":"+'[1]itcer BILATERAL'!BK131","v":0.10623886193201315},{"$f":"+'[1]itcer BILATERAL'!BL131","v":0.66951566951570385},{"$f":"+'[1]itcer BILATERAL'!BM131","v":2.0153076150107694},{"$f":"+'[1]itcer BILATERAL'!BN131","v":-0.35462195210624259},{"$f":"+'[1]itcer BILATERAL'!BO131","v":-0.51277057814859006},{"$f":"+'[1]itcer BILATERAL'!BP131","v":4.9771053155510003E-2},null,{"$f":"+'[1]itcer BILATERAL'!BR131","v":0.91695648182418676},{"$f":"+'[1]itcer BILATERAL'!BS131","v":1.0005737234652894},{"$f":"+'[1]itcer BILATERAL'!BT131","v":0.9363513235449763},{"$f":"+'[1]itcer BILATERAL'!BU131","v":0.94960809289849502},{"$f":"+'[1]itcer BILATERAL'!BV131","v":0.91765219220057337},{"$f":"+'[1]itcer BILATERAL'!BW131","v":0.98135750334740979},null,{"$f":"+'[1]itcer BILATERAL'!BY131","v":1.0899342388075612},{"$f":"+'[1]itcer BILATERAL'!BZ131","v":0.9947622687460087},{"$f":"+'[1]itcer BILATERAL'!CA131","v":1.039786867612202},{"$f":"+'[1]itcer BILATERAL'!CB131","v":1.0902509103423161},{"$f":"+'[1]itcer BILATERAL'!CC131","v":1.1037691146642832},{"$f":"+'[1]itcer BILATERAL'!CD131","v":1.0484607333559472}]
[null,"Junio",{"$f":"+'[1]itcer BILATERAL'!AB132","v":99.480123947571798},{"$f":"+'[1]itcer BILATERAL'!AC132","v":99.604241912442617},{"$f":"+'[1]itcer BILATERAL'!AD132","v":97.954750258860813},{"$f":"+'[1]itcer BILATERAL'!AE132","v":102.88952198193257},{"$f":"+'[1]itcer BILATERAL'!AF132","v":101.6401705440431},{"$f":"+'[1]itcer BILATERAL'!AG132","v":103.26244425891683},null,{"$f":"+'[1]itcer BILATERAL'!BK132","v":-0.46236968323060523},{"$f":"+'[1]itcer BILATERAL'!BL132","v":7.1275837491072025E-2},{"$f":"+'[1]itcer BILATERAL'!BM132","v":0.61027705834145252},{"$f":"+'[1]itcer BILATERAL'!BN132","v":-0.61970435819695524},{"$f":"+'[1]itcer BILATERAL'!BO132","v":0.34807391735699866},{"$f":"+'[1]itcer BILATERAL'!BP132","v":0.36053859052489656},null,{"$f":"+'[1]itcer BILATERAL'!BR132","v":0.92540659307920026},{"$f":"+'[1]itcer BILATERAL'!BS132","v":1.0005737234652894},{"$f":"+'[1]itcer BILATERAL'!BT132","v":0.94796110516851695},{"$f":"+'[1]itcer BILATERAL'!BU132","v":0.95499976411438425},{"$f":"+'[1]itcer BILATERAL'!BV132","v":0.92806138594011944},{"$f":"+'[1]itcer BILATERAL'!BW132","v":0.97950355340405826},null,{"$f":"+'[1]itcer BILATERAL'!BY132","v":1.0749882774939108},{"$f":"+'[1]itcer BILATERAL'!BZ132","v":0.99547129388410283},{"$f":"+'[1]itcer BILATERAL'!CA132","v":1.0333203516978433},{"$f":"+'[1]itcer BILATERAL'!CB132","v":1.0773774596410171},{"$f":"+'[1]itcer BILATERAL'!CC132","v":1.0951880132485241},{"$f":"+'[1]itcer BILATERAL'!CD132","v":1.0542324619451351}]
[null,"Julio",{"$f":"+'[1]itcer BILATERAL'!AB133","v":100.3739209037775},{"$f":"+'[1]itcer BILATERAL'!AC133","v":99.337464783347741},{"$f":"+'[1]itcer BILATERAL'!AD133","v":97.410695480597767},{"$f":"+'[1]itcer BILATERAL'!AE133","v":102.77211706172244},{"$f":"+'[1]itcer BILATERAL'!AF133","v":102.26598340801804},{"$f":"+'[1]itcer BILATERAL'!AG133","v":103.83291756019368},null,{"$f":"+'[1]itcer BILATERAL'!BK133","v":0.89846787552933449},{"$f":"+'[1]itcer BILATERAL'!BL133","v":-0.2678371161434967},{"$f":"+'[1]itcer BILATERAL'!BM133","v":-0.55541438962917766},{"$f":"+'[1]itcer BILATERAL'!BN133","v":-0.1141077516433171},{"$f":"+'[1]itcer BILATERAL'!BO133","v":0.61571410262810389},{"$f":"+'[1]itcer BILATERAL'!BP133","v":0.55244993024420808},null,{"$f":"+'[1]itcer BILATERAL'!BR133","v":0.93326080360333608},{"$f":"+'[1]itcer BILATERAL'!BS133","v":1.0005737234652894},{"$f":"+'[1]itcer BILATERAL'!BT133","v":0.95165524381261335},{"$f":"+'[1]itcer BILATERAL'!BU133","v":0.95836955862431505},{"$f":"+'[1]itcer BILATERAL'!BV133","v":0.9385491989677287},{"$f":"+'[1]itcer BILATERAL'!BW133","v":0.97950355340405826},null,{"$f":"+'[1]itcer BILATERAL'!BY133","v":1.0755184458217044},{"$f":"+'[1]itcer BILATERAL'!BZ133","v":0.99280505227852744},{"$f":"+'[1]itcer BILATERAL'!CA133","v":1.0235922737139727},{"$f":"+'[1]itcer BILATERAL'!CB133","v":1.0723641640834873},{"$f":"+'[1]itcer BILATERAL'!CC133","v":1.0896177155176967},{"$f":"+'[1]itcer BILATERAL'!CD133","v":1.0600565684457626}]
[null,"Agosto",{"$f":"+'[1]itcer BILATERAL'!AB134","v":100.72038256955686},{"$f":"+'[1]itcer BILATERAL'!AC134","v":99.589943247959326},{"$f":"+'[1]itcer BILATERAL'!AD134","v":100.43263746170034},{"$f":"+'[1]itcer BILATERAL'!AE134","v":102.53687127672403},{"$f":"+'[1]itcer BILATERAL'!AF134","v":101.74840626582687},{"$f":"+'[1]itcer BILATERAL'!AG134","v":103.79046198280282},null,{"$f":"+'[1]itcer BILATERAL'!BK134","v":0.34517099925935213},{"$f":"+'[1]itcer BILATERAL'!BL134","v":0.25416237988579837},{"$f":"+'[1]itcer BILATERAL'!BM134","v":3.1022691771094912},{"$f":"+'[1]itcer BILATERAL'!BN134","v":-0.22890039801080775},{"$f":"+'[1]itcer BILATERAL'!BO134","v":-0.50610880073989506},{"$f":"+'[1]itcer BILATERAL'!BP134","v":-4.0888360250718847E-2},null,{"$f":"+'[1]itcer BILATERAL'!BR134","v":0.93977792213468392},{"$f":"+'[1]itcer BILATERAL'!BS134","v":1.0005737234652894},{"$f":"+'[1]itcer BILATERAL'!BT134","v":0.98785909192742594},{"$f":"+'[1]itcer BILATERAL'!BU134","v":0.96173935313424586},{"$f":"+'[1]itcer BILATERAL'!BV134","v":0.94659981406538352},{"$f":"+'[1]itcer BILATERAL'!BW134","v":0.97950355340405826},null,{"$f":"+'[1]itcer BILATERAL'!BY134","v":1.0717466350004565},{"$f":"+'[1]itcer BILATERAL'!BZ134","v":0.99532838922702516},{"$f":"+'[1]itcer BILATERAL'!CA134","v":1.0166696675914051},{"$f":"+'[1]itcer BILATERAL'!CB134","v":1.06616071124222},{"$f":"+'[1]itcer BILATERAL'!CC134","v":1.0748830155464084},{"$f":"+'[1]itcer BILATERAL'!CD134","v":1.0596231286971951}]
[null,"Septiembre",{"$f":"+'[1]itcer BILATERAL'!AB135","v":101.2019637546196},{"$f":"+'[1]itcer BILATERAL'!AC135","v":99.812040571306355},{"$f":"+'[1]itcer BILATERAL'!AD135","v":101.85311639058534},{"$f":"+'[1]itcer BILATERAL'!AE135","v":102.8563536679176},{"$f":"+'[1]itcer BILATERAL'!AF135","v":101.55610308936377},{"$f":"+'[1]itcer BILATERAL'!AG135","v":103.87162829964265},null,{"$f":"+'[1]itcer BILATERAL'!BK135","v":0.47813677110507058},{"$f":"+'[1]itcer BILATERAL'!BL135","v":0.22301179828374984},{"$f":"+'[1]itcer BILATERAL'!BM135","v":1.4143598782086144},{"$f":"+'[1]itcer BILATERAL'!BN135","v":0.31157805696193464},{"$f":"+'[1]itcer BILATERAL'!BO135","v":-0.18899871115493738},{"$f":"+'[1]itcer BILATERAL'!BP135","v":7.8202096116768871E-2},null,{"$f":"+'[1]itcer BILATERAL'!BR135","v":0.94594854370488846},{"$f":"+'[1]itcer BILATERAL'!BS135","v":1.0005737234652894},{"$f":"+'[1]itcer BILATERAL'!BT135","v":1.0024344996875885},{"$f":"+'[1]itcer BILATERAL'!BU135","v":0.96713102435013498},{"$f":"+'[1]itcer BILATERAL'!BV135","v":0.95275570432071943},{"$f":"+'[1]itcer BILATERAL'!BW135","v":0.97950355340405826},null,{"$f":"+'[1]itcer BILATERAL'!BY135","v":1.0698463931056275},{"$f":"+'[1]itcer BILATERAL'!BZ135","v":0.99754808896666891},{"$f":"+'[1]itcer BILATERAL'!CA135","v":1.0160575720640916},{"$f":"+'[1]itcer BILATERAL'!CB135","v":1.0635203615459659},{"$f":"+'[1]itcer BILATERAL'!CC135","v":1.0659196542073672},{"$f":"+'[1]itcer BILATERAL'!CD135","v":1.0604517761947745}]
[null,"Octubre",{"$f":"+'[1]itcer BILATERAL'!AB136","v":100.56177084740098},{"$f":"+'[1]itcer BILATERAL'!AC136","v":99.428006909268646},{"$f":"+'[1]itcer BILATERAL'!AD136","v":101.57964937853379},{"$f":"+'[1]itcer BILATERAL'!AE136","v":102.39270565997475},{"$f":"+'[1]itcer BILATERAL'!AF136","v":100.38416271621153},{"$f":"+'[1]itcer BILATERAL'!AG136","v":100.78424438946602},null,{"$f":"+'[1]itcer BILATERAL'!BK136","v":-0.63258941177353734},{"$f":"+'[1]itcer BILATERAL'!BL136","v":-0.38475684881260008},{"$f":"+'[1]itcer BILATERAL'!BM136","v":-0.26849155111058565},{"$f":"+'[1]itcer BILATERAL'!BN136","v":-0.45077235523999093},{"$f":"+'[1]itcer BILATERAL'!BO136","v":-1.1539832048508174},{"$f":"+'[1]itcer BILATERAL'!BP136","v":-2.9723072225943383},null,{"$f":"+'[1]itcer BILATERAL'!BR136","v":0.95207243481102466},{"$f":"+'[1]itcer BILATERAL'!BS136","v":1.0005737234652894},{"$f":"+'[1]itcer BILATERAL'!BT136","v":1.0053459709121504},{"$f":"+'[1]itcer BILATERAL'!BU136","v":0.96982685995807971},{"$f":"+'[1]itcer BILATERAL'!BV136","v":0.95711121287941159},{"$f":"+'[1]itcer BILATERAL'!BW136","v":0.9819754866618603},null,{"$f":"+'[1]itcer BILATERAL'!BY136","v":1.0562407561706302},{"$f":"+'[1]itcer BILATERAL'!BZ136","v":0.9937099543741702},{"$f":"+'[1]itcer BILATERAL'!CA136","v":1.0103949517634265},{"$f":"+'[1]itcer BILATERAL'!CB136","v":1.0557833556435072},{"$f":"+'[1]itcer BILATERAL'!CC136","v":1.0488244350853628},{"$f":"+'[1]itcer BILATERAL'!CD136","v":1.0263417545388351}]
[null,"Noviembre",{"$f":"+'[1]itcer BILATERAL'!AB137","v":100.3437074127629},{"$f":"+'[1]itcer BILATERAL'!AC137","v":99.936779173003586},{"$f":"+'[1]itcer BILATERAL'!AD137","v":100.78352005692523},{"$f":"+'[1]itcer BILATERAL'!AE137","v":101.8368180373608},{"$f":"+'[1]itcer BILATERAL'!AF137","v":100.20744440558167},{"$f":"+'[1]itcer BILATERAL'!AG137","v":99.668156518541977},null,{"$f":"+'[1]itcer BILATERAL'!BK137","v":-0.21684526117682879},{"$f":"+'[1]itcer BILATERAL'!BL137","v":0.5116991475040038},{"$f":"+'[1]itcer BILATERAL'!BM137","v":-0.78374883796044514},{"$f":"+'[1]itcer BILATERAL'!BN137","v":-0.5428976791178286},{"$f":"+'[1]itcer BILATERAL'!BO137","v":-0.17604202281334835},{"$f":"+'[1]itcer BILATERAL'!BP137","v":-1.1074031240548692},null,{"$f":"+'[1]itcer BILATERAL'!BR137","v":0.95834430572004159},{"$f":"+'[1]itcer BILATERAL'!BS137","v":1.0005737234652894},{"$f":"+'[1]itcer BILATERAL'!BT137","v":1.0002450939571608},{"$f":"+'[1]itcer BILATERAL'!BU137","v":0.97319665446801062},{"$f":"+'[1]itcer BILATERAL'!BV137","v":0.96482376503839551},{"$f":"+'[1]itcer BILATERAL'!BW137","v":0.98444741991966223},null,{"$f":"+'[1]itcer BILATERAL'!BY137","v":1.0470527848273774},{"$f":"+'[1]itcer BILATERAL'!BZ137","v":0.99879475973936549},{"$f":"+'[1]itcer BILATERAL'!CA137","v":1.007588246778661},{"$f":"+'[1]itcer BILATERAL'!CB137","v":1.0464156198012111},{"$f":"+'[1]itcer BILATERAL'!CC137","v":1.0386087909183483},{"$f":"+'[1]itcer BILATERAL'!CD137","v":1.0124274237691191}]
[null,"Diciembre",{"$f":"+'[1]itcer BILATERAL'!AB138","v":99.710488910264573},{"$f":"+'[1]itcer BILATERAL'!AC138","v":100.3193529767284},{"$f":"+'[1]itcer BILATERAL'!AD138","v":99.300604962720229},{"$f":"+'[1]itcer BILATERAL'!AE138","v":101.13108164054229},{"$f":"+'[1]itcer BILATERAL'!AF138","v":99.65821893877596},{"$f":"+'[1]itcer BILATERAL'!AG138","v":99.313353462399817},null,{"$f":"+'[1]itcer BILATERAL'!BK138","v":-0.63104953845643763},{"$f":"+'[1]itcer BILATERAL'!BL138","v":0.38281582305401685},{"$f":"+'[1]itcer BILATERAL'!BM138","v":-1.4713864859725163},{"$f":"+'[1]itcer BILATERAL'!BN138","v":-0.69300711709158236},{"$f":"+'[1]itcer BILATERAL'!BO138","v":-0.54808848789991771},{"$f":"+'[1]itcer BILATERAL'!BP138","v":-0.35598436705926417},null,{"$f":"+'[1]itcer BILATERAL'!BR138","v":0.96475252620433305},{"$f":"+'[1]itcer BILATERAL'!BS138","v":1.0005737234652894},{"$f":"+'[1]itcer BILATERAL'!BT138","v":0.98815178633308387},{"$f":"+'[1]itcer BILATERAL'!BU138","v":0.97656644897794131},{"$f":"+'[1]itcer BILATERAL'!BV138","v":0.96457218331659389},{"$f":"+'[1]itcer BILATERAL'!BW138","v":0.98382943660521183},null,{"$f":"+'[1]itcer BILATERAL'!BY138","v":1.03353436453346},{"$f":"+'[1]itcer BILATERAL'!BZ138","v":1.0026183041194821},{"$f":"+'[1]itcer BILATERAL'!CA138","v":1.004912467255797},{"$f":"+'[1]itcer BILATERAL'!CB138","v":1.0355780883767252},{"$f":"+'[1]itcer BILATERAL'!CC138","v":1.0331857030762619},{"$f":"+'[1]itcer BILATERAL'!CD138","v":1.0094570234154523}]
[2000,"Enero",{"$f":"+'[1]itcer BILATERAL'!AB139","v":98.825460399466039},{"$f":"+'[1]itcer BILATERAL'!AC139","v":99.951331489520953},{"$f":"+'[1]itcer BILATERAL'!AD139","v":101.86573345660005},{"$f":"+'[1]itcer BILATERAL'!AE139","v":101.27862707142251},{"$f":"+'[1]itcer BILATERAL'!AF139","v":100.44000623637132},{"$f":"+'[1]itcer BILATERAL'!AG139","v":99.672510875444473},null,{"$f":"+'[1]itcer BILATERAL'!BK139","v":-0.88759820603731043},{"$f":"+'[1]itcer BILATERAL'!BL139","v":-0.36684994100073709},{"$f":"+'[1]itcer BILATERAL'!BM139","v":2.5831952331436696},{"$f":"+'[1]itcer BILATERAL'!BN139","v":0.14589523664409398},{"$f":"+'[1]itcer BILATERAL'!BO139","v":0.78446846223054933},{"$f":"+'[1]itcer BILATERAL'!BP139","v":0.36164060574255075},null,{"$f":"+'[1]itcer BILATERAL'!BR139","v":0.97032036669879995},{"$f":"+'[1]itcer BILATERAL'!BS139","v":1.0005737234652894},{"$f":"+'[1]itcer BILATERAL'!BT139","v":1.0151879814777307},{"$f":"+'[1]itcer BILATERAL'!BU139","v":0.97993624348787201},{"$f":"+'[1]itcer BILATERAL'!BV139","v":0.97774877599595877},{"$f":"+'[1]itcer BILATERAL'!BW139","v":0.98753733649191489},null,{"$f":"+'[1]itcer BILATERAL'!BY139","v":1.01848280002292},{"$f":"+'[1]itcer BILATERAL'!BZ139","v":0.99894019946235713},{"$f":"+'[1]itcer BILATERAL'!CA139","v":1.0034174489371122},{"$f":"+'[1]itcer BILATERAL'!CB139","v":1.0335226168484499},{"$f":"+'[1]itcer BILATERAL'!CC139","v":1.0272578059129831},{"$f":"+'[1]itcer BILATERAL'!CD139","v":1.0093037214118588}]
[null,"Febrero",{"$f":"+'[1]itcer BILATERAL'!AB140","v":98.540736585940181},{"$f":"+'[1]itcer BILATERAL'!AC140","v":100.05025474941355},{"$f":"+'[1]itcer BILATERAL'!AD140","v":100.48340534137249},{"$f":"+'[1]itcer BILATERAL'!AE140","v":100.84576529630489},{"$f":"+'[1]itcer BILATERAL'!AF140","v":99.277506792492943},{"$f":"+'[1]itcer BILATERAL'!AG140","v":100.65470429321229},null,{"$f":"+'[1]itcer BILATERAL'!BK140","v":-0.28810775317916182},{"$f":"+'[1]itcer BILATERAL'!BL140","v":9.8971427812315937E-2},{"$f":"+'[1]itcer BILATERAL'!BM140","v":-1.3570099270099547},{"$f":"+'[1]itcer BILATERAL'!BN140","v":-0.42739696186082199},{"$f":"+'[1]itcer BILATERAL'!BO140","v":-1.1574067818580147},{"$f":"+'[1]itcer BILATERAL'!BP140","v":0.98542056294259339},null,{"$f":"+'[1]itcer BILATERAL'!BR140","v":0.97577074875915359},{"$f":"+'[1]itcer BILATERAL'!BS140","v":1.0005737234652894},{"$f":"+'[1]itcer BILATERAL'!BT140","v":1.0033293451392475},{"$f":"+'[1]itcer BILATERAL'!BU140","v":0.98465395580177528},{"$f":"+'[1]itcer BILATERAL'!BV140","v":0.98111368152505674},{"$f":"+'[1]itcer BILATERAL'!BW140","v":0.99186321969306857},null,{"$f":"+'[1]itcer BILATERAL'!BY140","v":1.0098759028311748},{"$f":"+'[1]itcer BILATERAL'!BZ140","v":0.99992886484075627},{"$f":"+'[1]itcer BILATERAL'!CA140","v":1.0014997152049494},{"$f":"+'[1]itcer BILATERAL'!CB140","v":1.0241746829137461},{"$f":"+'[1]itcer BILATERAL'!CC140","v":1.011885866663021},{"$f":"+'[1]itcer BILATERAL'!CD140","v":1.0148042824328121}]
[null,"Marzo",{"$f":"+'[1]itcer BILATERAL'!AB141","v":99.252374019806282},{"$f":"+'[1]itcer BILATERAL'!AC141","v":100.79041133218306},{"$f":"+'[1]itcer BILATERAL'!AD141","v":99.404941513499551},{"$f":"+'[1]itcer BILATERAL'!AE141","v":101.00046162279141},{"$f":"+'[1]itcer BILATERAL'!AF141","v":99.561275195870905},{"$f":"+'[1]itcer BILATERAL'!AG141","v":101.53247634895786},null,{"$f":"+'[1]itcer BILATERAL'!BK141","v":0.72217588230169838},{"$f":"+'[1]itcer BILATERAL'!BL141","v":0.73978480576917605},{"$f":"+'[1]itcer BILATERAL'!BM141","v":-1.0732755565051519},{"$f":"+'[1]itcer BILATERAL'!BN141","v":0.15339893155849893},{"$f":"+'[1]itcer BILATERAL'!BO141","v":0.28583353122584754},{"$f":"+'[1]itcer BILATERAL'!BP141","v":0.87206262430474624},null,{"$f":"+'[1]itcer BILATERAL'!BR141","v":0.98138689498306053},{"$f":"+'[1]itcer BILATERAL'!BS141","v":1.0005737234652894},{"$f":"+'[1]itcer BILATERAL'!BT141","v":0.99504235419139153},{"$f":"+'[1]itcer BILATERAL'!BU141","v":0.98734979140971979},{"$f":"+'[1]itcer BILATERAL'!BV141","v":0.98544560429732997},{"$f":"+'[1]itcer BILATERAL'!BW141","v":0.99186321969306857},null,{"$f":"+'[1]itcer BILATERAL'!BY141","v":1.0113480679963576},{"$f":"+'[1]itcer BILATERAL'!BZ141","v":1.0073261866513481},{"$f":"+'[1]itcer BILATERAL'!CA141","v":0.99900211377715387},{"$f":"+'[1]itcer BILATERAL'!CB141","v":1.0229450849286634},{"$f":"+'[1]itcer BILATERAL'!CC141","v":1.0103173098718408},{"$f":"+'[1]itcer BILATERAL'!CD141","v":1.0236540112897523}]
[null,"Abril",{"$f":"+'[1]itcer BILATERAL'!AB142","v":100.18920811319876},{"$f":"+'[1]itcer BILATERAL'!AC142","v":100.76461994253054},{"$f":"+'[1]itcer BILATERAL'!AD142","v":98.377519795693658},{"$f":"+'[1]itcer BILATERAL'!AE142","v":100.12039171083923},{"$f":"+'[1]itcer BILATERAL'!AF142","v":99.486761542439453},{"$f":"+'[1]itcer BILATERAL'!AG142","v":101.5247317422338},null,{"$f":"+'[1]itcer BILATERAL'!BK142","v":0.94389086673687927},{"$f":"+'[1]itcer BILATERAL'!BL142","v":-2.5589130267078986E-2},{"$f":"+'[1]itcer BILATERAL'!BM142","v":-1.0335720761591745},{"$f":"+'[1]itcer BILATERAL'!BN142","v":-0.8713523659317417},{"$f":"+'[1]itcer BILATERAL'!BO142","v":-7.4842003866322671E-2},{"$f":"+'[1]itcer BILATERAL'!BP142","v":-7.6277138138891587E-3},null,{"$f":"+'[1]itcer BILATERAL'!BR142","v":0.98661019435045483},{"$f":"+'[1]itcer BILATERAL'!BS142","v":1.0005737234652894},{"$f":"+'[1]itcer BILATERAL'!BT142","v":0.99362530065915344},{"$f":"+'[1]itcer BILATERAL'!BU142","v":0.99071958591965048},{"$f":"+'[1]itcer BILATERAL'!BV142","v":0.99002910879140515},{"$f":"+'[1]itcer BILATERAL'!BW142","v":0.99186321969306857},null,{"$f":"+'[1]itcer BILATERAL'!BY142","v":1.0154892853013686},{"$f":"+'[1]itcer BILATERAL'!BZ142","v":1.0070684206412319},{"$f":"+'[1]itcer BILATERAL'!CA142","v":0.99008670300999546},{"$f":"+'[1]itcer BILATERAL'!CB142","v":1.0105825415564076},{"$f":"+'[1]itcer BILATERAL'!CC142","v":1.0048872367388229},{"$f":"+'[1]itcer BILATERAL'!CD142","v":1.0235759298913267}]
[null,"Mayo",{"$f":"+'[1]itcer BILATERAL'!AB143","v":100.88618126307126},{"$f":"+'[1]itcer BILATERAL'!AC143","v":100.27893762747691},{"$f":"+'[1]itcer BILATERAL'!AD143","v":99.157008707657511},{"$f":"+'[1]itcer BILATERAL'!AE143","v":99.69061184577906},{"$f":"+'[1]itcer BILATERAL'!AF143","v":99.255933481108116},{"$f":"+'[1]itcer BILATERAL'!AG143","v":101.56665544838758},null,{"$f":"+'[1]itcer BILATERAL'!BK143","v":0.69565691055770174},{"$f":"+'[1]itcer BILATERAL'!BL143","v":-0.48199687085669041},{"$f":"+'[1]itcer BILATERAL'!BM143","v":0.79234454536225485},{"$f":"+'[1]itcer BILATERAL'!BN143","v":-0.42926306790872104},{"$f":"+'[1]itcer BILATERAL'!BO143","v":-0.23201887140820077},{"$f":"+'[1]itcer BILATERAL'!BP143","v":4.129408217519881E-2},null,{"$f":"+'[1]itcer BILATERAL'!BR143","v":0.99153557827801864},{"$f":"+'[1]itcer BILATERAL'!BS143","v":1.0005737234652894},{"$f":"+'[1]itcer BILATERAL'!BT143","v":0.99221598354292395},{"$f":"+'[1]itcer BILATERAL'!BU143","v":0.99476333933156746},{"$f":"+'[1]itcer BILATERAL'!BV143","v":0.99436103156367839},{"$f":"+'[1]itcer BILATERAL'!BW143","v":0.99186321969306857},null,{"$f":"+'[1]itcer BILATERAL'!BY143","v":1.0174741428671519},{"$f":"+'[1]itcer BILATERAL'!BZ143","v":1.0022143823663552},{"$f":"+'[1]itcer BILATERAL'!CA143","v":0.99934903642245032},{"$f":"+'[1]itcer BILATERAL'!CB143","v":1.0021540592033304},{"$f":"+'[1]itcer BILATERAL'!CC143","v":0.99818808592110242},{"$f":"+'[1]itcer BILATERAL'!CD143","v":1.0239986061769417}]
[null,"Junio",{"$f":"+'[1]itcer BILATERAL'!AB144","v":100.63503849215189},{"$f":"+'[1]itcer BILATERAL'!AC144","v":99.695909793243374},{"$f":"+'[1]itcer BILATERAL'!AD144","v":99.551890508977635},{"$f":"+'[1]itcer BILATERAL'!AE144","v":99.540051968128481},{"$f":"+'[1]itcer BILATERAL'!AF144","v":99.170100793365634},{"$f":"+'[1]itcer BILATERAL'!AG144","v":101.10895439904186},null,{"$f":"+'[1]itcer BILATERAL'!BK144","v":-0.24893674017107514},{"$f":"+'[1]itcer BILATERAL'!BL144","v":-0.58140607392491006},{"$f":"+'[1]itcer BILATERAL'!BM144","v":0.39823892074473122},{"$f":"+'[1]itcer BILATERAL'!BN144","v":-0.1510271377243555},{"$f":"+'[1]itcer BILATERAL'!BO144","v":-8.6476127655203072E-2},{"$f":"+'[1]itcer BILATERAL'!BP144","v":-0.45064105667859167},null,{"$f":"+'[1]itcer BILATERAL'!BR144","v":0.99720760186240531},{"$f":"+'[1]itcer BILATERAL'!BS144","v":1.0005737234652894},{"$f":"+'[1]itcer BILATERAL'!BT144","v":0.99593462083771422},{"$f":"+'[1]itcer BILATERAL'!BU144","v":0.99745917493951219},{"$f":"+'[1]itcer BILATERAL'!BV144","v":0.99478557571921888},{"$f":"+'[1]itcer BILATERAL'!BW144","v":0.99186321969306857},null,{"$f":"+'[1]itcer BILATERAL'!BY144","v":1.0091683848398652},{"$f":"+'[1]itcer BILATERAL'!BZ144","v":0.996387447073528},{"$f":"+'[1]itcer BILATERAL'!CA144","v":0.99958258731121508},{"$f":"+'[1]itcer BILATERAL'!CB144","v":0.99793610073479744},{"$f":"+'[1]itcer BILATERAL'!CC144","v":0.99689926365957571},{"$f":"+'[1]itcer BILATERAL'!CD144","v":1.0193840480376921}]
[null,"Julio",{"$f":"+'[1]itcer BILATERAL'!AB145","v":100.11173076020546},{"$f":"+'[1]itcer BILATERAL'!AC145","v":99.936344991038084},{"$f":"+'[1]itcer BILATERAL'!AD145","v":99.790015756940008},{"$f":"+'[1]itcer BILATERAL'!AE145","v":99.452485255598646},{"$f":"+'[1]itcer BILATERAL'!AF145","v":100.24442013800483},{"$f":"+'[1]itcer BILATERAL'!AG145","v":100.8823372704597},null,{"$f":"+'[1]itcer BILATERAL'!BK145","v":-0.52000549687993214},{"$f":"+'[1]itcer BILATERAL'!BL145","v":0.24116856779113505},{"$f":"+'[1]itcer BILATERAL'!BM145","v":0.23919711292765555},{"$f":"+'[1]itcer BILATERAL'!BN145","v":-8.7971334953564906E-2},{"$f":"+'[1]itcer BILATERAL'!BO145","v":1.0833097234394131},{"$f":"+'[1]itcer BILATERAL'!BP145","v":-0.22413161121988878},null,{"$f":"+'[1]itcer BILATERAL'!BR145","v":1.0027760360922153},{"$f":"+'[1]itcer BILATERAL'!BS145","v":0.99942627653471006},{"$f":"+'[1]itcer BILATERAL'!BT145","v":0.99824136221093862},{"$f":"+'[1]itcer BILATERAL'!BU145","v":1.0008222298604232},{"$f":"+'[1]itcer BILATERAL'!BV145","v":1.0002103065955685},{"$f":"+'[1]itcer BILATERAL'!BW145","v":0.99186321969306857},null,{"$f":"+'[1]itcer BILATERAL'!BY145","v":0.99834586345259657},{"$f":"+'[1]itcer BILATERAL'!BZ145","v":0.99993713730987077},{"$f":"+'[1]itcer BILATERAL'!CA145","v":0.99965819424594593},{"$f":"+'[1]itcer BILATERAL'!CB145","v":0.99370779633330597},{"$f":"+'[1]itcer BILATERAL'!CC145","v":1.0022334250804545},{"$f":"+'[1]itcer BILATERAL'!CD145","v":1.0170992861463064}]
[null,"Agosto",{"$f":"+'[1]itcer BILATERAL'!AB146","v":99.977473252186002},{"$f":"+'[1]itcer BILATERAL'!AC146","v":99.511492180461815},{"$f":"+'[1]itcer BILATERAL'!AD146","v":100.20625114289845},{"$f":"+'[1]itcer BILATERAL'!AE146","v":99.395210330831489},{"$f":"+'[1]itcer BILATERAL'!AF146","v":100.96293174898112},{"$f":"+'[1]itcer BILATERAL'!AG146","v":99.742894893575723},null,{"$f":"+'[1]itcer BILATERAL'!BK146","v":-0.13410766850195444},{"$f":"+'[1]itcer BILATERAL'!BL146","v":-0.42512342292923222},{"$f":"+'[1]itcer BILATERAL'!BM146","v":0.41711125386758852},{"$f":"+'[1]itcer BILATERAL'!BN146","v":-5.7590239821507794E-2},{"$f":"+'[1]itcer BILATERAL'!BO146","v":0.71675970591394389},{"$f":"+'[1]itcer BILATERAL'!BP146","v":-1.1294765840220435},null,{"$f":"+'[1]itcer BILATERAL'!BR146","v":1.0080243072696302},{"$f":"+'[1]itcer BILATERAL'!BS146","v":0.99942627653471006},{"$f":"+'[1]itcer BILATERAL'!BT146","v":0.99801829554935806},{"$f":"+'[1]itcer BILATERAL'!BU146","v":1.004919899984499},{"$f":"+'[1]itcer BILATERAL'!BV146","v":1.008661880062345},{"$f":"+'[1]itcer BILATERAL'!BW146","v":0.99186321969306857},null,{"$f":"+'[1]itcer BILATERAL'!BY146","v":0.99181609541726712},{"$f":"+'[1]itcer BILATERAL'!BZ146","v":0.9956861703245985},{"$f":"+'[1]itcer BILATERAL'!CA146","v":1.0040522462340233},{"$f":"+'[1]itcer BILATERAL'!CB146","v":0.98908589960617421},{"$f":"+'[1]itcer BILATERAL'!CC146","v":1.0009591295622342},{"$f":"+'[1]itcer BILATERAL'!CD146","v":1.0056113878730288}]
[null,"Septiembre",{"$f":"+'[1]itcer BILATERAL'!AB147","v":100.64841824746263},{"$f":"+'[1]itcer BILATERAL'!AC147","v":99.838100811209699},{"$f":"+'[1]itcer BILATERAL'!AD147","v":101.26980066981531},{"$f":"+'[1]itcer BILATERAL'!AE147","v":100.18483472271451},{"$f":"+'[1]itcer BILATERAL'!AF147","v":101.24602049473106},{"$f":"+'[1]itcer BILATERAL'!AG147","v":98.532745827298001},null,{"$f":"+'[1]itcer BILATERAL'!BK147","v":0.67109617141876754},{"$f":"+'[1]itcer BILATERAL'!BL147","v":0.32821197189525719},{"$f":"+'[1]itcer BILATERAL'!BM147","v":1.0613604588402268},{"$f":"+'[1]itcer BILATERAL'!BN147","v":0.7944290165036989},{"$f":"+'[1]itcer BILATERAL'!BO147","v":0.28038879304115483},{"$f":"+'[1]itcer BILATERAL'!BP147","v":-1.2132684413951864},null,{"$f":"+'[1]itcer BILATERAL'!BR147","v":1.0133700558201484},{"$f":"+'[1]itcer BILATERAL'!BS147","v":0.99942627653471006},{"$f":"+'[1]itcer BILATERAL'!BT147","v":1.0047721867248474},{"$f":"+'[1]itcer BILATERAL'!BU147","v":1.0095297788740842},{"$f":"+'[1]itcer BILATERAL'!BV147","v":1.0104072282573444},{"$f":"+'[1]itcer BILATERAL'!BW147","v":1.0122566690699353},null,{"$f":"+'[1]itcer BILATERAL'!BY147","v":0.99320497649799877},{"$f":"+'[1]itcer BILATERAL'!BZ147","v":0.99895413153810875},{"$f":"+'[1]itcer BILATERAL'!CA147","v":1.0078881761239238},{"$f":"+'[1]itcer BILATERAL'!CB147","v":0.9923910796811698},{"$f":"+'[1]itcer BILATERAL'!CC147","v":1.0020318309613705},{"$f":"+'[1]itcer BILATERAL'!CD147","v":0.97339685514574292}]
[null,"Octubre",{"$f":"+'[1]itcer BILATERAL'!AB148","v":100.72834264063982},{"$f":"+'[1]itcer BILATERAL'!AC148","v":100.02422346004403},{"$f":"+'[1]itcer BILATERAL'!AD148","v":101.37054191650242},{"$f":"+'[1]itcer BILATERAL'!AE148","v":100.15832292298995},{"$f":"+'[1]itcer BILATERAL'!AF148","v":100.81076369265567},{"$f":"+'[1]itcer BILATERAL'!AG148","v":98.862472781727206},null,{"$f":"+'[1]itcer BILATERAL'!BK148","v":7.9409487569563453E-2},{"$f":"+'[1]itcer BILATERAL'!BL148","v":0.18642446853660033},{"$f":"+'[1]itcer BILATERAL'!BM148","v":9.9478073444188908E-2},{"$f":"+'[1]itcer BILATERAL'!BN148","v":-2.6462887120530354E-2},{"$f":"+'[1]itcer BILATERAL'!BO148","v":-0.42990015799982473},{"$f":"+'[1]itcer BILATERAL'!BP148","v":0.33463692872939532},null,{"$f":"+'[1]itcer BILATERAL'!BR148","v":1.0188184158082074},{"$f":"+'[1]itcer BILATERAL'!BS148","v":0.99942627653471006},{"$f":"+'[1]itcer BILATERAL'!BT148","v":1.0070802175007401},{"$f":"+'[1]itcer BILATERAL'!BU148","v":1.0131354589997101},{"$f":"+'[1]itcer BILATERAL'!BV148","v":1.0152973479748653},{"$f":"+'[1]itcer BILATERAL'!BW148","v":1.0165825522710887},null,{"$f":"+'[1]itcer BILATERAL'!BY148","v":0.98867807135910613},{"$f":"+'[1]itcer BILATERAL'!BZ148","v":1.0008164264687531},{"$f":"+'[1]itcer BILATERAL'!CA148","v":1.0065786235784928},{"$f":"+'[1]itcer BILATERAL'!CB148","v":0.98859754668816313},{"$f":"+'[1]itcer BILATERAL'!CC148","v":0.99291861535672377},{"$f":"+'[1]itcer BILATERAL'!CD148","v":0.97249822516493367}]
[null,"Noviembre",{"$f":"+'[1]itcer BILATERAL'!AB149","v":100.49374033387822},{"$f":"+'[1]itcer BILATERAL'!AC149","v":99.862980693702525},{"$f":"+'[1]itcer BILATERAL'!AD149","v":100.13097975558239},{"$f":"+'[1]itcer BILATERAL'!AE149","v":99.496096491992276},{"$f":"+'[1]itcer BILATERAL'!AF149","v":100.36901088442177},{"$f":"+'[1]itcer BILATERAL'!AG149","v":98.689830504079083},null,{"$f":"+'[1]itcer BILATERAL'!BK149","v":-0.23290595339047115},{"$f":"+'[1]itcer BILATERAL'!BL149","v":-0.16120371722347215},{"$f":"+'[1]itcer BILATERAL'!BM149","v":-1.2228031314472361},{"$f":"+'[1]itcer BILATERAL'!BN149","v":-0.66117963207796038},{"$f":"+'[1]itcer BILATERAL'!BO149","v":-0.43820004139705304},{"$f":"+'[1]itcer BILATERAL'!BP149","v":-0.17462872694807174},null,{"$f":"+'[1]itcer BILATERAL'!BR149","v":1.0242749483886364},{"$f":"+'[1]itcer BILATERAL'!BS149","v":0.99942627653471006},{"$f":"+'[1]itcer BILATERAL'!BT149","v":1.000756986816395},{"$f":"+'[1]itcer BILATERAL'!BU149","v":1.0170039830971107},{"$f":"+'[1]itcer BILATERAL'!BV149","v":1.020549116417476},{"$f":"+'[1]itcer BILATERAL'!BW149","v":1.0190544855288908},null,{"$f":"+'[1]itcer BILATERAL'!BY149","v":0.98112074782237368},{"$f":"+'[1]itcer BILATERAL'!BZ149","v":0.99920307318670232},{"$f":"+'[1]itcer BILATERAL'!CA149","v":1.0005523925855242},{"$f":"+'[1]itcer BILATERAL'!CB149","v":0.97832553407503886},{"$f":"+'[1]itcer BILATERAL'!CC149","v":0.98348045449057842},{"$f":"+'[1]itcer BILATERAL'!CD149","v":0.96844508223580317}]
[null,"Diciembre",{"$f":"+'[1]itcer BILATERAL'!AB150","v":99.820312138475515},{"$f":"+'[1]itcer BILATERAL'!AC150","v":99.330743933608147},{"$f":"+'[1]itcer BILATERAL'!AD150","v":98.453323927062513},{"$f":"+'[1]itcer BILATERAL'!AE150","v":99.159853971541821},{"$f":"+'[1]itcer BILATERAL'!AF150","v":99.316526466260029},{"$f":"+'[1]itcer BILATERAL'!AG150","v":97.790889685123062},null,{"$f":"+'[1]itcer BILATERAL'!BK150","v":-0.67011954492421921},{"$f":"+'[1]itcer BILATERAL'!BL150","v":-0.53296702781868532},{"$f":"+'[1]itcer BILATERAL'!BM150","v":-1.6754613133867338},{"$f":"+'[1]itcer BILATERAL'!BN150","v":-0.33794543937462151},{"$f":"+'[1]itcer BILATERAL'!BO150","v":-1.0486149149897557},{"$f":"+'[1]itcer BILATERAL'!BP150","v":-0.91087482303342426},null,{"$f":"+'[1]itcer BILATERAL'!BR150","v":1.0299048516892677},{"$f":"+'[1]itcer BILATERAL'!BS150","v":0.99942627653471006},{"$f":"+'[1]itcer BILATERAL'!BT150","v":0.99579536534955981},{"$f":"+'[1]itcer BILATERAL'!BU150","v":1.0197065582940754},{"$f":"+'[1]itcer BILATERAL'!BV150","v":1.0213903427997506},{"$f":"+'[1]itcer BILATERAL'!BW150","v":1.021526418786693},null,{"$f":"+'[1]itcer BILATERAL'!BY150","v":0.96921877758657549},{"$f":"+'[1]itcer BILATERAL'!BZ150","v":0.99387765026566643},{"$f":"+'[1]itcer BILATERAL'!CA150","v":0.9886903208522354},{"$f":"+'[1]itcer BILATERAL'!CB150","v":0.97243518897663994},{"$f":"+'[1]itcer BILATERAL'!CC150","v":0.97236602212256895},{"$f":"+'[1]itcer BILATERAL'!CD150","v":0.95730162124708584}]
[2001,"Enero",{"$f":"+'[1]itcer BILATERAL'!AB151","v":99.557829892850179},{"$f":"+'[1]itcer BILATERAL'!AC151","v":98.634392467129899},{"$f":"+'[1]itcer BILATERAL'!AD151","v":98.627548833791451},{"$f":"+'[1]itcer BILATERAL'!AE151","v":98.993130375519044},{"$f":"+'[1]itcer BILATERAL'!AF151","v":99.825066425620193},{"$f":"+'[1]itcer BILATERAL'!AG151","v":96.53141581864142},null,{"$f":"+'[1]itcer BILATERAL'!BK151","v":-0.26295474338049019},{"$f":"+'[1]itcer BILATERAL'!BL151","v":-0.70104324089597014},{"$f":"+'[1]itcer BILATERAL'!BM151","v":0.17696193463005727},{"$f":"+'[1]itcer BILATERAL'!BN151","v":-0.16813618550771992},{"$f":"+'[1]itcer BILATERAL'!BO151","v":0.51203961460828396},{"$f":"+'[1]itcer BILATERAL'!BP151","v":-1.2879255629405009},null,{"$f":"+'[1]itcer BILATERAL'!BR151","v":1.0349268049241152},{"$f":"+'[1]itcer BILATERAL'!BS151","v":1.0040160642570277},{"$f":"+'[1]itcer BILATERAL'!BT151","v":1.0048392356635885},{"$f":"+'[1]itcer BILATERAL'!BU151","v":1.0207848925372531},{"$f":"+'[1]itcer BILATERAL'!BV151","v":1.0275226472686674},{"$f":"+'[1]itcer BILATERAL'!BW151","v":1.0270882686167475},null,{"$f":"+'[1]itcer BILATERAL'!BY151","v":0.9619794310009212},{"$f":"+'[1]itcer BILATERAL'!BZ151","v":0.98239854897261403},{"$f":"+'[1]itcer BILATERAL'!CA151","v":0.98152565438648043},{"$f":"+'[1]itcer BILATERAL'!CB151","v":0.96977464203513686},{"$f":"+'[1]itcer BILATERAL'!CC151","v":0.97151207996215438},{"$f":"+'[1]itcer BILATERAL'!CD151","v":0.93985511049256854}]
[null,"Febrero",{"$f":"+'[1]itcer BILATERAL'!AB152","v":99.331559404234156},{"$f":"+'[1]itcer BILATERAL'!AC152","v":99.214176537254644},{"$f":"+'[1]itcer BILATERAL'!AD152","v":97.485980497765894},{"$f":"+'[1]itcer BILATERAL'!AE152","v":98.496144015022978},{"$f":"+'[1]itcer BILATERAL'!AF152","v":99.563563480392219},{"$f":"+'[1]itcer BILATERAL'!AG152","v":97.019102315599696},null,{"$f":"+'[1]itcer BILATERAL'!BK152","v":-0.2272754326400559},{"$f":"+'[1]itcer BILATERAL'!BL152","v":0.58781126503917847},{"$f":"+'[1]itcer BILATERAL'!BM152","v":-1.1574538245387629},{"$f":"+'[1]itcer BILATERAL'!BN152","v":-0.50204126146007866},{"$f":"+'[1]itcer BILATERAL'!BO152","v":-0.26196120332443229},{"$f":"+'[1]itcer BILATERAL'!BP152","v":0.50521013581166585},null,{"$f":"+'[1]itcer BILATERAL'!BR152","v":1.0403268902372775},{"$f":"+'[1]itcer BILATERAL'!BS152","v":1.0040160642570277},{"$f":"+'[1]itcer BILATERAL'!BT152","v":0.99651614144102563},{"$f":"+'[1]itcer BILATERAL'!BU152","v":1.0243636143067996},{"$f":"+'[1]itcer BILATERAL'!BV152","v":1.03302599743308},{"$f":"+'[1]itcer BILATERAL'!BW152","v":1.0295602018745496},null,{"$f":"+'[1]itcer BILATERAL'!BY152","v":0.95481103426614911},{"$f":"+'[1]itcer BILATERAL'!BZ152","v":0.98817319831105654},{"$f":"+'[1]itcer BILATERAL'!CA152","v":0.97826795215574702},{"$f":"+'[1]itcer BILATERAL'!CB152","v":0.96153497292732948},{"$f":"+'[1]itcer BILATERAL'!CC152","v":0.96380501292119714},{"$f":"+'[1]itcer BILATERAL'!CD152","v":0.94233539854157389}]
[null,"Marzo",{"$f":"+'[1]itcer BILATERAL'!AB153","v":98.402582140643403},{"$f":"+'[1]itcer BILATERAL'!AC153","v":99.240774461766549},{"$f":"+'[1]itcer BILATERAL'!AD153","v":96.739151316636949},{"$f":"+'[1]itcer BILATERAL'!AE153","v":98.163995850267966},{"$f":"+'[1]itcer BILATERAL'!AF153","v":100.08035074434774},{"$f":"+'[1]itcer BILATERAL'!AG153","v":97.652829343972613},null,{"$f":"+'[1]itcer BILATERAL'!BK153","v":-0.93522871196478263},{"$f":"+'[1]itcer BILATERAL'!BL153","v":2.6808592723554625E-2},{"$f":"+'[1]itcer BILATERAL'!BM153","v":-0.76608880304185334},{"$f":"+'[1]itcer BILATERAL'!BN153","v":-0.33721945978348344},{"$f":"+'[1]itcer BILATERAL'!BO153","v":0.51905259905376511},{"$f":"+'[1]itcer BILATERAL'!BP153","v":0.65319819834184045},null,{"$f":"+'[1]itcer BILATERAL'!BR153","v":1.0458298813609659},{"$f":"+'[1]itcer BILATERAL'!BS153","v":1.0040160642570277},{"$f":"+'[1]itcer BILATERAL'!BT153","v":0.99187042362787414},{"$f":"+'[1]itcer BILATERAL'!BU153","v":1.0276457941594721},{"$f":"+'[1]itcer BILATERAL'!BV153","v":1.0361864928132143},{"$f":"+'[1]itcer BILATERAL'!BW153","v":1.0295602018745496},null,{"$f":"+'[1]itcer BILATERAL'!BY153","v":0.94090428944896398},{"$f":"+'[1]itcer BILATERAL'!BZ153","v":0.98843811363919476},{"$f":"+'[1]itcer BILATERAL'!CA153","v":0.97532045529498679},{"$f":"+'[1]itcer BILATERAL'!CB153","v":0.95523181633373866},{"$f":"+'[1]itcer BILATERAL'!CC153","v":0.96585268615722542},{"$f":"+'[1]itcer BILATERAL'!CD153","v":0.94849071638718474}]
[null,"Abril",{"$f":"+'[1]itcer BILATERAL'!AB154","v":98.044941527919079},{"$f":"+'[1]itcer BILATERAL'!AC154","v":99.50218735310321},{"$f":"+'[1]itcer BILATERAL'!AD154","v":97.275717716077295},{"$f":"+'[1]itcer BILATERAL'!AE154","v":98.348801183724092},{"$f":"+'[1]itcer BILATERAL'!AF154","v":100.0843750647373},{"$f":"+'[1]itcer BILATERAL'!AG154","v":97.436612185360914},null,{"$f":"+'[1]itcer BILATERAL'!BK154","v":-0.3634463699470416},{"$f":"+'[1]itcer BILATERAL'!BL154","v":0.26341278849790228},{"$f":"+'[1]itcer BILATERAL'!BM154","v":0.5546527875607552},{"$f":"+'[1]itcer BILATERAL'!BN154","v":0.18826182843862682},{"$f":"+'[1]itcer BILATERAL'!BO154","v":4.0210894142802545E-3},{"$f":"+'[1]itcer BILATERAL'!BP154","v":-0.22141412600559818},null,{"$f":"+'[1]itcer BILATERAL'!BR154","v":1.0509276231660871},{"$f":"+'[1]itcer BILATERAL'!BS154","v":1.0040160642570277},{"$f":"+'[1]itcer BILATERAL'!BT154","v":0.99777073023708351},{"$f":"+'[1]itcer BILATERAL'!BU154","v":1.0318310789408063},{"$f":"+'[1]itcer BILATERAL'!BV154","v":1.0392683689052851},{"$f":"+'[1]itcer BILATERAL'!BW154","v":1.0295602018745496},null,{"$f":"+'[1]itcer BILATERAL'!BY154","v":0.93293714397327432},{"$f":"+'[1]itcer BILATERAL'!BZ154","v":0.99104178603690829},{"$f":"+'[1]itcer BILATERAL'!CA154","v":0.97493056037997139},{"$f":"+'[1]itcer BILATERAL'!CB154","v":0.95314827388879342},{"$f":"+'[1]itcer BILATERAL'!CC154","v":0.96302724165617881},{"$f":"+'[1]itcer BILATERAL'!CD154","v":0.94639062395725171}]
[null,"Mayo",{"$f":"+'[1]itcer BILATERAL'!AB155","v":98.30139870652593},{"$f":"+'[1]itcer BILATERAL'!AC155","v":99.79250097891105},{"$f":"+'[1]itcer BILATERAL'!AD155","v":97.700482293164129},{"$f":"+'[1]itcer BILATERAL'!AE155","v":97.979588692951509},{"$f":"+'[1]itcer BILATERAL'!AF155","v":100.45000165922951},{"$f":"+'[1]itcer BILATERAL'!AG155","v":97.621784484827288},null,{"$f":"+'[1]itcer BILATERAL'!BK155","v":0.26157104549224641},{"$f":"+'[1]itcer BILATERAL'!BL155","v":0.29176607422468237},{"$f":"+'[1]itcer BILATERAL'!BM155","v":0.43666044009728466},{"$f":"+'[1]itcer BILATERAL'!BN155","v":-0.37541127734019142},{"$f":"+'[1]itcer BILATERAL'!BO155","v":0.36531835689208947},{"$f":"+'[1]itcer BILATERAL'!BP155","v":0.19004386063228651},null,{"$f":"+'[1]itcer BILATERAL'!BR155","v":1.0561116312240075},{"$f":"+'[1]itcer BILATERAL'!BS155","v":1.0040160642570277},{"$f":"+'[1]itcer BILATERAL'!BT155","v":1.0006035478988915},{"$f":"+'[1]itcer BILATERAL'!BU155","v":1.0358748323527232},{"$f":"+'[1]itcer BILATERAL'!BV155","v":1.0461239708243821},{"$f":"+'[1]itcer BILATERAL'!BW155","v":1.0295602018745496},null,{"$f":"+'[1]itcer BILATERAL'!BY155","v":0.93078606276305309},{"$f":"+'[1]itcer BILATERAL'!BZ155","v":0.99393330974995464},{"$f":"+'[1]itcer BILATERAL'!CA155","v":0.97641550940249633},{"$f":"+'[1]itcer BILATERAL'!CB155","v":0.94586320309004968},{"$f":"+'[1]itcer BILATERAL'!CC155","v":0.96021126043093574},{"$f":"+'[1]itcer BILATERAL'!CD155","v":0.94818918123568252}]
[null,"Junio",{"$f":"+'[1]itcer BILATERAL'!AB156","v":98.716875362688285},{"$f":"+'[1]itcer BILATERAL'!AC156","v":99.81481332986435},{"$f":"+'[1]itcer BILATERAL'!AD156","v":97.511992817397243},{"$f":"+'[1]itcer BILATERAL'!AE156","v":97.93509849300554},{"$f":"+'[1]itcer BILATERAL'!AF156","v":100.92293668724456},{"$f":"+'[1]itcer BILATERAL'!AG156","v":98.341352177665897},null,{"$f":"+'[1]itcer BILATERAL'!BK156","v":0.42265589465593223},{"$f":"+'[1]itcer BILATERAL'!BL156","v":2.2358745130574675E-2},{"$f":"+'[1]itcer BILATERAL'!BM156","v":-0.19292583960977083},{"$f":"+'[1]itcer BILATERAL'!BN156","v":-4.5407620647793578E-2},{"$f":"+'[1]itcer BILATERAL'!BO156","v":0.47081634664323246},{"$f":"+'[1]itcer BILATERAL'!BP156","v":0.73709745896977097},null,{"$f":"+'[1]itcer BILATERAL'!BR156","v":1.0617329078993585},{"$f":"+'[1]itcer BILATERAL'!BS156","v":1.0040160642570277},{"$f":"+'[1]itcer BILATERAL'!BT156","v":1.0043286322070224},{"$f":"+'[1]itcer BILATERAL'!BU156","v":1.03991858576464},{"$f":"+'[1]itcer BILATERAL'!BV156","v":1.0559671056898743},{"$f":"+'[1]itcer BILATERAL'!BW156","v":1.0295602018745496},null,{"$f":"+'[1]itcer BILATERAL'!BY156","v":0.92977126948056921},{"$f":"+'[1]itcer BILATERAL'!BZ156","v":0.99415554076544943},{"$f":"+'[1]itcer BILATERAL'!CA156","v":0.9709171847775927},{"$f":"+'[1]itcer BILATERAL'!CB156","v":0.94175736287081568},{"$f":"+'[1]itcer BILATERAL'!CC156","v":0.9557393989210542},{"$f":"+'[1]itcer BILATERAL'!CD156","v":0.95517825959679714}]
[null,"Julio",{"$f":"+'[1]itcer BILATERAL'!AB157","v":98.421193464088915},{"$f":"+'[1]itcer BILATERAL'!AC157","v":99.574142526895429},{"$f":"+'[1]itcer BILATERAL'!AD157","v":96.42114153387601},{"$f":"+'[1]itcer BILATERAL'!AE157","v":97.536555576731033},{"$f":"+'[1]itcer BILATERAL'!AF157","v":101.62887654551589},{"$f":"+'[1]itcer BILATERAL'!AG157","v":98.298164804928433},null,{"$f":"+'[1]itcer BILATERAL'!BK157","v":-0.29952517997863026},{"$f":"+'[1]itcer BILATERAL'!BL157","v":-0.24111732010514686},{"$f":"+'[1]itcer BILATERAL'!BM157","v":-1.1186842274508564},{"$f":"+'[1]itcer BILATERAL'!BN157","v":-0.40694594931454731},{"$f":"+'[1]itcer BILATERAL'!BO157","v":0.69948406323034362},{"$f":"+'[1]itcer BILATERAL'!BP157","v":-4.3915780880695365E-2},null,{"$f":"+'[1]itcer BILATERAL'!BR157","v":1.06799227544056},{"$f":"+'[1]itcer BILATERAL'!BS157","v":1.0040160642570277},{"$f":"+'[1]itcer BILATERAL'!BT157","v":1.0044988333592109},{"$f":"+'[1]itcer BILATERAL'!BU157","v":1.0439623391765569},{"$f":"+'[1]itcer BILATERAL'!BV157","v":1.0621072720875973},{"$f":"+'[1]itcer BILATERAL'!BW157","v":1.0295602018745496},null,{"$f":"+'[1]itcer BILATERAL'!BY157","v":0.92155342063208223},{"$f":"+'[1]itcer BILATERAL'!BZ157","v":0.99175845956787867},{"$f":"+'[1]itcer BILATERAL'!CA157","v":0.95989301661434168},{"$f":"+'[1]itcer BILATERAL'!CB157","v":0.93429189843825799},{"$f":"+'[1]itcer BILATERAL'!CC157","v":0.95686075424153605},{"$f":"+'[1]itcer BILATERAL'!CD157","v":0.95475878560529204}]
[null,"Agosto",{"$f":"+'[1]itcer BILATERAL'!AB158","v":98.236378958641183},{"$f":"+'[1]itcer BILATERAL'!AC158","v":99.231056427544885},{"$f":"+'[1]itcer BILATERAL'!AD158","v":95.824744145022024},{"$f":"+'[1]itcer BILATERAL'!AE158","v":97.061223671147019},{"$f":"+'[1]itcer BILATERAL'!AF158","v":101.81373521245169},{"$f":"+'[1]itcer BILATERAL'!AG158","v":97.577637352065594},null,{"$f":"+'[1]itcer BILATERAL'!BK158","v":-0.18777917534109179},{"$f":"+'[1]itcer BILATERAL'!BL158","v":-0.34455340577788718},{"$f":"+'[1]itcer BILATERAL'!BM158","v":-0.61853383953605601},{"$f":"+'[1]itcer BILATERAL'!BN158","v":-0.48733718632300338},{"$f":"+'[1]itcer BILATERAL'!BO158","v":0.18189580876948241},{"$f":"+'[1]itcer BILATERAL'!BP158","v":-0.73300193782124268},null,{"$f":"+'[1]itcer BILATERAL'!BR158","v":1.0744632921687929},{"$f":"+'[1]itcer BILATERAL'!BS158","v":1.0040160642570277},{"$f":"+'[1]itcer BILATERAL'!BT158","v":1.0108143276275476},{"$f":"+'[1]itcer BILATERAL'!BU158","v":1.0459842158825154},{"$f":"+'[1]itcer BILATERAL'!BV158","v":1.0663998852158392},{"$f":"+'[1]itcer BILATERAL'!BW158","v":1.0295602018745496},null,{"$f":"+'[1]itcer BILATERAL'!BY158","v":0.91428324889863943},{"$f":"+'[1]itcer BILATERAL'!BZ158","v":0.98834132201834723},{"$f":"+'[1]itcer BILATERAL'!CA158","v":0.9479955074432852},{"$f":"+'[1]itcer BILATERAL'!CB158","v":0.92794157117614595},{"$f":"+'[1]itcer BILATERAL'!CC158","v":0.95474255599572377},{"$f":"+'[1]itcer BILATERAL'!CD158","v":0.94776038520528683}]
[null,"Septiembre",{"$f":"+'[1]itcer BILATERAL'!AB159","v":98.712446200774494},{"$f":"+'[1]itcer BILATERAL'!AC159","v":99.678294991725352},{"$f":"+'[1]itcer BILATERAL'!AD159","v":97.226640759498579},{"$f":"+'[1]itcer BILATERAL'!AE159","v":97.195222909451303},{"$f":"+'[1]itcer BILATERAL'!AF159","v":102.80013645928416},{"$f":"+'[1]itcer BILATERAL'!AG159","v":97.133573024144241},null,{"$f":"+'[1]itcer BILATERAL'!BK159","v":0.48461399654576098},{"$f":"+'[1]itcer BILATERAL'!BL159","v":0.45070422535209786},{"$f":"+'[1]itcer BILATERAL'!BM159","v":1.4629797626747774},{"$f":"+'[1]itcer BILATERAL'!BN159","v":0.13805640732316249},{"$f":"+'[1]itcer BILATERAL'!BO159","v":0.96882924958423189},{"$f":"+'[1]itcer BILATERAL'!BP159","v":-0.45508821485310591},null,{"$f":"+'[1]itcer BILATERAL'!BR159","v":1.0813588995185981},{"$f":"+'[1]itcer BILATERAL'!BS159","v":1.0040160642570277},{"$f":"+'[1]itcer BILATERAL'!BT159","v":1.0242202471677466},{"$f":"+'[1]itcer BILATERAL'!BU159","v":1.0507019281964187},{"$f":"+'[1]itcer BILATERAL'!BV159","v":1.07237495110863},{"$f":"+'[1]itcer BILATERAL'!BW159","v":1.0295602018745496},null,{"$f":"+'[1]itcer BILATERAL'!BY159","v":0.91285553986488233},{"$f":"+'[1]itcer BILATERAL'!BZ159","v":0.99279581811758499},{"$f":"+'[1]itcer BILATERAL'!CA159","v":0.94927473879136093},{"$f":"+'[1]itcer BILATERAL'!CB159","v":0.92505039061165206},{"$f":"+'[1]itcer BILATERAL'!CC159","v":0.95862120196866341},{"$f":"+'[1]itcer BILATERAL'!CD159","v":0.94344723938717134}]
[null,"Octubre",{"$f":"+'[1]itcer BILATERAL'!AB160","v":99.05294795177015},{"$f":"+'[1]itcer BILATERAL'!AC160","v":100.67704369508192},{"$f":"+'[1]itcer BILATERAL'!AD160","v":98.064149465064503},{"$f":"+'[1]itcer BILATERAL'!AE160","v":97.263343860177031},{"$f":"+'[1]itcer BILATERAL'!AF160","v":103.10918551015128},{"$f":"+'[1]itcer BILATERAL'!AG160","v":96.564831708694427},null,{"$f":"+'[1]itcer BILATERAL'!BK160","v":0.34494307871075591},{"$f":"+'[1]itcer BILATERAL'!BL160","v":1.001972097776644},{"$f":"+'[1]itcer BILATERAL'!BM160","v":0.86139837705346167},{"$f":"+'[1]itcer BILATERAL'!BN160","v":7.0086727193569232E-2},{"$f":"+'[1]itcer BILATERAL'!BO160","v":0.30063097337378508},{"$f":"+'[1]itcer BILATERAL'!BP160","v":-0.58552496087881423},null,{"$f":"+'[1]itcer BILATERAL'!BR160","v":1.0886553131506431},{"$f":"+'[1]itcer BILATERAL'!BS160","v":1.0040160642570277},{"$f":"+'[1]itcer BILATERAL'!BT160","v":1.0442807738779913},{"$f":"+'[1]itcer BILATERAL'!BU160","v":1.0567675583142939},{"$f":"+'[1]itcer BILATERAL'!BV160","v":1.0811410017276586},{"$f":"+'[1]itcer BILATERAL'!BW160","v":1.0295602018745496},null,{"$f":"+'[1]itcer BILATERAL'!BY160","v":0.90986510381421037},{"$f":"+'[1]itcer BILATERAL'!BZ160","v":1.0027433552030163},{"$f":"+'[1]itcer BILATERAL'!CA160","v":0.93905922543128106},{"$f":"+'[1]itcer BILATERAL'!CB160","v":0.92038540637381949},{"$f":"+'[1]itcer BILATERAL'!CC160","v":0.95370710522848789},{"$f":"+'[1]itcer BILATERAL'!CD160","v":0.93792312030783709}]
[null,"Noviembre",{"$f":"+'[1]itcer BILATERAL'!AB161","v":98.763872243553578},{"$f":"+'[1]itcer BILATERAL'!AC161","v":99.227750467593509},{"$f":"+'[1]itcer BILATERAL'!AD161","v":96.910330662412591},{"$f":"+'[1]itcer BILATERAL'!AE161","v":97.350576215680476},{"$f":"+'[1]itcer BILATERAL'!AF161","v":102.52386700527431},{"$f":"+'[1]itcer BILATERAL'!AG161","v":97.077470407186254},null,{"$f":"+'[1]itcer BILATERAL'!BK161","v":-0.29183958094546369},{"$f":"+'[1]itcer BILATERAL'!BL161","v":-1.4395468661930977},{"$f":"+'[1]itcer BILATERAL'!BM161","v":-1.1765959414790643},{"$f":"+'[1]itcer BILATERAL'!BN161","v":8.9686774113857837E-2},{"$f":"+'[1]itcer BILATERAL'!BO161","v":-0.5676686339640753},{"$f":"+'[1]itcer BILATERAL'!BP161","v":0.53087515342883762},null,{"$f":"+'[1]itcer BILATERAL'!BR161","v":1.0969821719335395},{"$f":"+'[1]itcer BILATERAL'!BS161","v":1.0040160642570277},{"$f":"+'[1]itcer BILATERAL'!BT161","v":1.0409644302156473},{"$f":"+'[1]itcer BILATERAL'!BU161","v":1.0648550651381279},{"$f":"+'[1]itcer BILATERAL'!BV161","v":1.0818957468930639},{"$f":"+'[1]itcer BILATERAL'!BW161","v":1.0357400350190547},null,{"$f":"+'[1]itcer BILATERAL'!BY161","v":0.90032340333728922},{"$f":"+'[1]itcer BILATERAL'!BZ161","v":0.98830839465723186},{"$f":"+'[1]itcer BILATERAL'!CA161","v":0.93096678281635947},{"$f":"+'[1]itcer BILATERAL'!CB161","v":0.91421433209835568},{"$f":"+'[1]itcer BILATERAL'!CC161","v":0.94763166691150613},{"$f":"+'[1]itcer BILATERAL'!CD161","v":0.93727641227463321}]
[null,"Diciembre",{"$f":"+'[1]itcer BILATERAL'!AB162","v":98.053682954655372},{"$f":"+'[1]itcer BILATERAL'!AC162","v":99.922612546507693},{"$f":"+'[1]itcer BILATERAL'!AD162","v":94.458608882872937},{"$f":"+'[1]itcer BILATERAL'!AE162","v":97.132010991637699},{"$f":"+'[1]itcer BILATERAL'!AF162","v":102.20202050058944},{"$f":"+'[1]itcer BILATERAL'!AG162","v":97.669844876389092},null,{"$f":"+'[1]itcer BILATERAL'!BK162","v":-0.71907801179247599},{"$f":"+'[1]itcer BILATERAL'!BL162","v":0.70026991001989813},{"$f":"+'[1]itcer BILATERAL'!BM162","v":-2.5298869199819762},{"$f":"+'[1]itcer BILATERAL'!BN162","v":-0.22451353914799199},{"$f":"+'[1]itcer BILATERAL'!BO162","v":-0.31392349321774304},{"$f":"+'[1]itcer BILATERAL'!BP162","v":0.61020797793571546},null,{"$f":"+'[1]itcer BILATERAL'!BR162","v":1.1053651212435596},{"$f":"+'[1]itcer BILATERAL'!BS162","v":1.0040160642570277},{"$f":"+'[1]itcer BILATERAL'!BT162","v":1.0246173831895202},{"$f":"+'[1]itcer BILATERAL'!BU162","v":1.0702467363540171},{"$f":"+'[1]itcer BILATERAL'!BV162","v":1.0832479986477479},{"$f":"+'[1]itcer BILATERAL'!BW162","v":1.0487176846225152},null,{"$f":"+'[1]itcer BILATERAL'!BY162","v":0.88707053506757005},{"$f":"+'[1]itcer BILATERAL'!BZ162","v":0.99522922096321731},{"$f":"+'[1]itcer BILATERAL'!CA162","v":0.92189153173288696},{"$f":"+'[1]itcer BILATERAL'!CB162","v":0.90756652360870449},{"$f":"+'[1]itcer BILATERAL'!CC162","v":0.9434775843405333},{"$f":"+'[1]itcer BILATERAL'!CD162","v":0.93132638372113696}]
[2002,"Enero",{"$f":"+'[1]itcer BILATERAL'!AB163","v":97.861048694750536},{"$f":"+'[1]itcer BILATERAL'!AC163","v":98.928776575688602},{"$f":"+'[1]itcer BILATERAL'!AD163","v":94.137371049656139},{"$f":"+'[1]itcer BILATERAL'!AE163","v":97.577831053754508},{"$f":"+'[1]itcer BILATERAL'!AF163","v":102.799612186857},{"$f":"+'[1]itcer BILATERAL'!AG163","v":97.799330038572435},null,{"$f":"+'[1]itcer BILATERAL'!BK163","v":-0.19645795456139581},{"$f":"+'[1]itcer BILATERAL'!BL163","v":-0.99460567082002171},{"$f":"+'[1]itcer BILATERAL'!BM163","v":-0.34008317189503146},{"$f":"+'[1]itcer BILATERAL'!BN163","v":0.45898366312542294},{"$f":"+'[1]itcer BILATERAL'!BO163","v":0.58471611749017427},{"$f":"+'[1]itcer BILATERAL'!BP163","v":0.13257435019704644},null,{"$f":"+'[1]itcer BILATERAL'!BR163","v":1.11302325940202},{"$f":"+'[1]itcer BILATERAL'!BS163","v":1.0040160642570277},{"$f":"+'[1]itcer BILATERAL'!BT163","v":1.0321707040192292},{"$f":"+'[1]itcer BILATERAL'!BU163","v":1.0763123664718925},{"$f":"+'[1]itcer BILATERAL'!BV163","v":1.0898284330586241},{"$f":"+'[1]itcer BILATERAL'!BW163","v":1.0536615511381195},null,{"$f":"+'[1]itcer BILATERAL'!BY163","v":0.87923633102983945},{"$f":"+'[1]itcer BILATERAL'!BZ163","v":0.98533061469385907},{"$f":"+'[1]itcer BILATERAL'!CA163","v":0.91203296783263854},{"$f":"+'[1]itcer BILATERAL'!CB163","v":0.90659397860131097},{"$f":"+'[1]itcer BILATERAL'!CC163","v":0.94326417873268342},{"$f":"+'[1]itcer BILATERAL'!CD163","v":0.92818543044428137}]
[null,"Febrero",{"$f":"+'[1]itcer BILATERAL'!AB164","v":98.624263286174312},{"$f":"+'[1]itcer BILATERAL'!AC164","v":99.005164351800858},{"$f":"+'[1]itcer BILATERAL'!AD164","v":92.792501705591548},{"$f":"+'[1]itcer BILATERAL'!AE164","v":97.522203658688397},{"$f":"+'[1]itcer BILATERAL'!AF164","v":102.77301178567093},{"$f":"+'[1]itcer BILATERAL'!AG164","v":98.720938204966401},null,{"$f":"+'[1]itcer BILATERAL'!BK164","v":0.77989619118470443},{"$f":"+'[1]itcer BILATERAL'!BL164","v":7.7214920426939671E-2},{"$f":"+'[1]itcer BILATERAL'!BM164","v":-1.4286242849879329},{"$f":"+'[1]itcer BILATERAL'!BN164","v":-5.7008230727589648E-2},{"$f":"+'[1]itcer BILATERAL'!BO164","v":-2.5875974257289158E-2},{"$f":"+'[1]itcer BILATERAL'!BP164","v":0.94234609381319956},null,{"$f":"+'[1]itcer BILATERAL'!BR164","v":1.1222910689588759},{"$f":"+'[1]itcer BILATERAL'!BS164","v":1.0040160642570277},{"$f":"+'[1]itcer BILATERAL'!BT164","v":1.0223699543390281},{"$f":"+'[1]itcer BILATERAL'!BU164","v":1.0830519554917541},{"$f":"+'[1]itcer BILATERAL'!BV164","v":1.0939795314683525},{"$f":"+'[1]itcer BILATERAL'!BW164","v":1.0598413842826244},null,{"$f":"+'[1]itcer BILATERAL'!BY164","v":0.87877615721976488},{"$f":"+'[1]itcer BILATERAL'!BZ164","v":0.98609143694393686},{"$f":"+'[1]itcer BILATERAL'!CA164","v":0.90762156410966477},{"$f":"+'[1]itcer BILATERAL'!CB164","v":0.90043883088146892},{"$f":"+'[1]itcer BILATERAL'!CC164","v":0.93944181613460132},{"$f":"+'[1]itcer BILATERAL'!CD164","v":0.9314689883693088}]
[null,"Marzo",{"$f":"+'[1]itcer BILATERAL'!AB165","v":99.265012254830779},{"$f":"+'[1]itcer BILATERAL'!AC165","v":98.987100116256642},{"$f":"+'[1]itcer BILATERAL'!AD165","v":92.404753337805516},{"$f":"+'[1]itcer BILATERAL'!AE165","v":97.994338591950836},{"$f":"+'[1]itcer BILATERAL'!AF165","v":103.55659020415196},{"$f":"+'[1]itcer BILATERAL'!AG165","v":98.156426466708382},null,{"$f":"+'[1]itcer BILATERAL'!BK165","v":0.64968695056026604},{"$f":"+'[1]itcer BILATERAL'!BL165","v":-1.8245750777239778E-2},{"$f":"+'[1]itcer BILATERAL'!BM165","v":-0.4178660566952459},{"$f":"+'[1]itcer BILATERAL'!BN165","v":0.48413070618751419},{"$f":"+'[1]itcer BILATERAL'!BO165","v":0.76243597892717219},{"$f":"+'[1]itcer BILATERAL'!BP165","v":-0.57182574286922261},null,{"$f":"+'[1]itcer BILATERAL'!BR165","v":1.1320433964919823},{"$f":"+'[1]itcer BILATERAL'!BS165","v":1.0040160642570277},{"$f":"+'[1]itcer BILATERAL'!BT165","v":1.018869226095146},{"$f":"+'[1]itcer BILATERAL'!BU165","v":1.0884436267076432},{"$f":"+'[1]itcer BILATERAL'!BV165","v":1.0993335049854454},{"$f":"+'[1]itcer BILATERAL'!BW165","v":1.0598413842826244},null,{"$f":"+'[1]itcer BILATERAL'!BY165","v":0.87686578590924036},{"$f":"+'[1]itcer BILATERAL'!BZ165","v":0.98591151715791647},{"$f":"+'[1]itcer BILATERAL'!CA165","v":0.90693438344339949},{"$f":"+'[1]itcer BILATERAL'!CB165","v":0.90031615958253186},{"$f":"+'[1]itcer BILATERAL'!CC165","v":0.94199430595470657},{"$f":"+'[1]itcer BILATERAL'!CD165","v":0.92614260890696964}]
[null,"Abril",{"$f":"+'[1]itcer BILATERAL'!AB166","v":100.44938051868886},{"$f":"+'[1]itcer BILATERAL'!AC166","v":99.176291925014112},{"$f":"+'[1]itcer BILATERAL'!AD166","v":91.399796118065481},{"$f":"+'[1]itcer BILATERAL'!AE166","v":98.30651603950345},{"$f":"+'[1]itcer BILATERAL'!AF166","v":104.06816253966898},{"$f":"+'[1]itcer BILATERAL'!AG166","v":100.38413311592089},null,{"$f":"+'[1]itcer BILATERAL'!BK166","v":1.193137679586016},{"$f":"+'[1]itcer BILATERAL'!BL166","v":0.19112774142820399},{"$f":"+'[1]itcer BILATERAL'!BM166","v":-1.0875600912717118},{"$f":"+'[1]itcer BILATERAL'!BN166","v":0.31856681930628383},{"$f":"+'[1]itcer BILATERAL'!BO166","v":0.49400268443417872},{"$f":"+'[1]itcer BILATERAL'!BP166","v":2.2695474248627789},null,{"$f":"+'[1]itcer BILATERAL'!BR166","v":1.1411647430152381},{"$f":"+'[1]itcer BILATERAL'!BS166","v":1.0040160642570277},{"$f":"+'[1]itcer BILATERAL'!BT166","v":1.0077287870427927},{"$f":"+'[1]itcer BILATERAL'!BU166","v":1.0938352979235326},{"$f":"+'[1]itcer BILATERAL'!BV166","v":1.1048132693634389},{"$f":"+'[1]itcer BILATERAL'!BW166","v":1.0851787001750954},null,{"$f":"+'[1]itcer BILATERAL'!BY166","v":0.88023557626988091},{"$f":"+'[1]itcer BILATERAL'!BZ166","v":0.98779586757314108},{"$f":"+'[1]itcer BILATERAL'!CA166","v":0.90698804374022746},{"$f":"+'[1]itcer BILATERAL'!CB166","v":0.89873234321586004},{"$f":"+'[1]itcer BILATERAL'!CC166","v":0.94195250387995422},{"$f":"+'[1]itcer BILATERAL'!CD166","v":0.92504702773583536}]
[null,"Mayo",{"$f":"+'[1]itcer BILATERAL'!AB167","v":100.69000936257716},{"$f":"+'[1]itcer BILATERAL'!AC167","v":99.202233931795448},{"$f":"+'[1]itcer BILATERAL'!AD167","v":91.581488516585239},{"$f":"+'[1]itcer BILATERAL'!AE167","v":98.311902292773766},{"$f":"+'[1]itcer BILATERAL'!AF167","v":104.28387212036604},{"$f":"+'[1]itcer BILATERAL'!AG167","v":100.74399150414813},null,{"$f":"+'[1]itcer BILATERAL'!BK167","v":0.23955234232981581},{"$f":"+'[1]itcer BILATERAL'!BL167","v":2.6157467957105496E-2},{"$f":"+'[1]itcer BILATERAL'!BM167","v":0.19878862561691335},{"$f":"+'[1]itcer BILATERAL'!BN167","v":5.4790399327799832E-3},{"$f":"+'[1]itcer BILATERAL'!BO167","v":0.20727720700828911},{"$f":"+'[1]itcer BILATERAL'!BP167","v":0.35848134267561704},null,{"$f":"+'[1]itcer BILATERAL'!BR167","v":1.1510729634962187},{"$f":"+'[1]itcer BILATERAL'!BS167","v":1.0040160642570277},{"$f":"+'[1]itcer BILATERAL'!BT167","v":1.0133054535823098},{"$f":"+'[1]itcer BILATERAL'!BU167","v":1.0992269691394219},{"$f":"+'[1]itcer BILATERAL'!BV167","v":1.1121956205125583},{"$f":"+'[1]itcer BILATERAL'!BW167","v":1.0851787001750954},null,{"$f":"+'[1]itcer BILATERAL'!BY167","v":0.87474914758440436},{"$f":"+'[1]itcer BILATERAL'!BZ167","v":0.98805424996068325},{"$f":"+'[1]itcer BILATERAL'!CA167","v":0.90378955519108117},{"$f":"+'[1]itcer BILATERAL'!CB167","v":0.89437309175321211},{"$f":"+'[1]itcer BILATERAL'!CC167","v":0.93763965796148807},{"$f":"+'[1]itcer BILATERAL'!CD167","v":0.92836314874124348}]
[null,"Junio",{"$f":"+'[1]itcer BILATERAL'!AB168","v":101.02831592930428},{"$f":"+'[1]itcer BILATERAL'!AC168","v":98.612543973255086},{"$f":"+'[1]itcer BILATERAL'!AD168","v":91.461902661594564},{"$f":"+'[1]itcer BILATERAL'!AE168","v":97.742840977416321},{"$f":"+'[1]itcer BILATERAL'!AF168","v":104.87724785757392},{"$f":"+'[1]itcer BILATERAL'!AG168","v":100.68517886934029},null,{"$f":"+'[1]itcer BILATERAL'!BK168","v":0.33598821657558631},{"$f":"+'[1]itcer BILATERAL'!BL168","v":-0.59443213642325077},{"$f":"+'[1]itcer BILATERAL'!BM168","v":-0.13057863213154519},{"$f":"+'[1]itcer BILATERAL'!BN168","v":-0.57883257478098926},{"$f":"+'[1]itcer BILATERAL'!BO168","v":0.56900048410457771},{"$f":"+'[1]itcer BILATERAL'!BP168","v":-5.837830517705811E-2},null,{"$f":"+'[1]itcer BILATERAL'!BR168","v":1.1616471454785684},{"$f":"+'[1]itcer BILATERAL'!BS168","v":1.0040160642570277},{"$f":"+'[1]itcer BILATERAL'!BT168","v":1.0172471575386808},{"$f":"+'[1]itcer BILATERAL'!BU168","v":1.1046186403553111},{"$f":"+'[1]itcer BILATERAL'!BV168","v":1.1198216914546728},{"$f":"+'[1]itcer BILATERAL'!BW168","v":1.0851787001750954},null,{"$f":"+'[1]itcer BILATERAL'!BY168","v":0.86969882655445485},{"$f":"+'[1]itcer BILATERAL'!BZ168","v":0.98218093797362138},{"$f":"+'[1]itcer BILATERAL'!CA168","v":0.8991119019972954},{"$f":"+'[1]itcer BILATERAL'!CB168","v":0.88485598021391731},{"$f":"+'[1]itcer BILATERAL'!CC168","v":0.93655310178298212},{"$f":"+'[1]itcer BILATERAL'!CD168","v":0.9278211860691199}]
[null,"Julio",{"$f":"+'[1]itcer BILATERAL'!AB169","v":100.57596101546994},{"$f":"+'[1]itcer BILATERAL'!AC169","v":98.555695157542843},{"$f":"+'[1]itcer BILATERAL'!AD169","v":90.293853855792861},{"$f":"+'[1]itcer BILATERAL'!AE169","v":97.549349167382985},{"$f":"+'[1]itcer BILATERAL'!AF169","v":104.98516134203044},{"$f":"+'[1]itcer BILATERAL'!AG169","v":100.39676829014608},null,{"$f":"+'[1]itcer BILATERAL'!BK169","v":-0.44775062285596334},{"$f":"+'[1]itcer BILATERAL'!BL169","v":-5.7648665597412219E-2},{"$f":"+'[1]itcer BILATERAL'!BM169","v":-1.2770878057538795},{"$f":"+'[1]itcer BILATERAL'!BN169","v":-0.19796008392884801},{"$f":"+'[1]itcer BILATERAL'!BO169","v":0.10289503840057534},{"$f":"+'[1]itcer BILATERAL'!BP169","v":-0.28644789872049614},null,{"$f":"+'[1]itcer BILATERAL'!BR169","v":1.1721027200947212},{"$f":"+'[1]itcer BILATERAL'!BS169","v":1.0040160642570277},{"$f":"+'[1]itcer BILATERAL'!BT169","v":1.0114306621028974},{"$f":"+'[1]itcer BILATERAL'!BU169","v":1.1100103115712003},{"$f":"+'[1]itcer BILATERAL'!BV169","v":1.1214884203616091},{"$f":"+'[1]itcer BILATERAL'!BW169","v":1.0851787001750954},null,{"$f":"+'[1]itcer BILATERAL'!BY169","v":0.85808145729191798},{"$f":"+'[1]itcer BILATERAL'!BZ169","v":0.98161472376912695},{"$f":"+'[1]itcer BILATERAL'!CA169","v":0.8927339978803891},{"$f":"+'[1]itcer BILATERAL'!CB169","v":0.87881480154273128},{"$f":"+'[1]itcer BILATERAL'!CC169","v":0.93612345375959694},{"$f":"+'[1]itcer BILATERAL'!CD169","v":0.92516346177774123}]
[null,"Agosto",{"$f":"+'[1]itcer BILATERAL'!AB170","v":100.56197927351803},{"$f":"+'[1]itcer BILATERAL'!AC170","v":99.257421956181929},{"$f":"+'[1]itcer BILATERAL'!AD170","v":89.636436453951873},{"$f":"+'[1]itcer BILATERAL'!AE170","v":97.729725595219648},{"$f":"+'[1]itcer BILATERAL'!AF170","v":105.69209460561208},{"$f":"+'[1]itcer BILATERAL'!AG170","v":99.841028982306483},null,{"$f":"+'[1]itcer BILATERAL'!BK170","v":-1.3901673730714492E-2},{"$f":"+'[1]itcer BILATERAL'!BL170","v":0.71201039931519006},{"$f":"+'[1]itcer BILATERAL'!BM170","v":-0.72808654605765355},{"$f":"+'[1]itcer BILATERAL'!BN170","v":0.18490787419520416},{"$f":"+'[1]itcer BILATERAL'!BO170","v":0.67336493514405049},{"$f":"+'[1]itcer BILATERAL'!BP170","v":-0.55354302464549221},null,{"$f":"+'[1]itcer BILATERAL'!BR170","v":1.181890971110775},{"$f":"+'[1]itcer BILATERAL'!BS170","v":1.0040160642570277},{"$f":"+'[1]itcer BILATERAL'!BT170","v":1.0005532611948358},{"$f":"+'[1]itcer BILATERAL'!BU170","v":1.1154019827870896},{"$f":"+'[1]itcer BILATERAL'!BV170","v":1.1265750882992875},{"$f":"+'[1]itcer BILATERAL'!BW170","v":1.0851787001750954},null,{"$f":"+'[1]itcer BILATERAL'!BY170","v":0.85085665033050373},{"$f":"+'[1]itcer BILATERAL'!BZ170","v":0.98860392268357222},{"$f":"+'[1]itcer BILATERAL'!CA170","v":0.89586871514376254},{"$f":"+'[1]itcer BILATERAL'!CB170","v":0.87618389695721488},{"$f":"+'[1]itcer BILATERAL'!CC170","v":0.93817177126797757},{"$f":"+'[1]itcer BILATERAL'!CD170","v":0.92004228396850207}]
[null,"Septiembre",{"$f":"+'[1]itcer BILATERAL'!AB171","v":101.20794843228779},{"$f":"+'[1]itcer BILATERAL'!AC171","v":99.772974513323788},{"$f":"+'[1]itcer BILATERAL'!AD171","v":90.159617816868703},{"$f":"+'[1]itcer BILATERAL'!AE171","v":98.269443591973058},{"$f":"+'[1]itcer BILATERAL'!AF171","v":106.07816384522644},{"$f":"+'[1]itcer BILATERAL'!AG171","v":98.620223927775882},null,{"$f":"+'[1]itcer BILATERAL'!BK171","v":0.6423592330186807},{"$f":"+'[1]itcer BILATERAL'!BL171","v":0.51940957863025972},{"$f":"+'[1]itcer BILATERAL'!BM171","v":0.58367041753784576},{"$f":"+'[1]itcer BILATERAL'!BN171","v":0.55225571694413134},{"$f":"+'[1]itcer BILATERAL'!BO171","v":0.36527730958022175},{"$f":"+'[1]itcer BILATERAL'!BP171","v":-1.2227488708544314},null,{"$f":"+'[1]itcer BILATERAL'!BR171","v":1.1922289162777662},{"$f":"+'[1]itcer BILATERAL'!BS171","v":1.0040160642570277},{"$f":"+'[1]itcer BILATERAL'!BT171","v":1.0020528364978318},{"$f":"+'[1]itcer BILATERAL'!BU171","v":1.121467612904965},{"$f":"+'[1]itcer BILATERAL'!BV171","v":1.1341225399533392},{"$f":"+'[1]itcer BILATERAL'!BW171","v":1.0851787001750954},null,{"$f":"+'[1]itcer BILATERAL'!BY171","v":0.8488969446259288},{"$f":"+'[1]itcer BILATERAL'!BZ171","v":0.99373882615270526},{"$f":"+'[1]itcer BILATERAL'!CA171","v":0.89974914029459763},{"$f":"+'[1]itcer BILATERAL'!CB171","v":0.87625752595229478},{"$f":"+'[1]itcer BILATERAL'!CC171","v":0.93533247165329036},{"$f":"+'[1]itcer BILATERAL'!CD171","v":0.90879247732989399}]
[null,"Octubre",{"$f":"+'[1]itcer BILATERAL'!AB172","v":101.59681506052152},{"$f":"+'[1]itcer BILATERAL'!AC172","v":99.807927349270102},{"$f":"+'[1]itcer BILATERAL'!AD172","v":89.430654677317975},{"$f":"+'[1]itcer BILATERAL'!AE172","v":98.422647261928162},{"$f":"+'[1]itcer BILATERAL'!AF172","v":106.651255281407},{"$f":"+'[1]itcer BILATERAL'!AG172","v":95.992581806913975},null,{"$f":"+'[1]itcer BILATERAL'!BK172","v":0.38422538373446002},{"$f":"+'[1]itcer BILATERAL'!BL172","v":3.5032368351053833E-2},{"$f":"+'[1]itcer BILATERAL'!BM172","v":-0.80852509937585637},{"$f":"+'[1]itcer BILATERAL'!BN172","v":0.1559016357019658},{"$f":"+'[1]itcer BILATERAL'!BO172","v":0.54025391787205024},{"$f":"+'[1]itcer BILATERAL'!BP172","v":-2.6644049427288365},null,{"$f":"+'[1]itcer BILATERAL'!BR172","v":1.2026912664619529},{"$f":"+'[1]itcer BILATERAL'!BS172","v":1.0040160642570277},{"$f":"+'[1]itcer BILATERAL'!BT172","v":0.99506556343941721},{"$f":"+'[1]itcer BILATERAL'!BU172","v":1.1275332430228404},{"$f":"+'[1]itcer BILATERAL'!BV172","v":1.139169898246986},{"$f":"+'[1]itcer BILATERAL'!BW172","v":1.0851787001750954},null,{"$f":"+'[1]itcer BILATERAL'!BY172","v":0.84474559592834242},{"$f":"+'[1]itcer BILATERAL'!BZ172","v":0.99408695639873057},{"$f":"+'[1]itcer BILATERAL'!CA172","v":0.89874132884473812},{"$f":"+'[1]itcer BILATERAL'!CB172","v":0.87290239885135179},{"$f":"+'[1]itcer BILATERAL'!CC172","v":0.93621904375745413},{"$f":"+'[1]itcer BILATERAL'!CD172","v":0.88457856564476833}]
[null,"Noviembre",{"$f":"+'[1]itcer BILATERAL'!AB173","v":101.45397296381103},{"$f":"+'[1]itcer BILATERAL'!AC173","v":100.00368034485574},{"$f":"+'[1]itcer BILATERAL'!AD173","v":87.680405394134183},{"$f":"+'[1]itcer BILATERAL'!AE173","v":98.219624173359094},{"$f":"+'[1]itcer BILATERAL'!AF173","v":107.31532004916532},{"$f":"+'[1]itcer BILATERAL'!AG173","v":95.536560040610354},null,{"$f":"+'[1]itcer BILATERAL'!BK173","v":-0.1405970222840125},{"$f":"+'[1]itcer BILATERAL'!BL173","v":0.1961297071129593},{"$f":"+'[1]itcer BILATERAL'!BM173","v":-1.9571021698309323},{"$f":"+'[1]itcer BILATERAL'!BN173","v":-0.20627680134306559},{"$f":"+'[1]itcer BILATERAL'!BO173","v":0.62265068142531277},{"$f":"+'[1]itcer BILATERAL'!BP173","v":-0.4750593824227991},null,{"$f":"+'[1]itcer BILATERAL'!BR173","v":1.2134064081998903},{"$f":"+'[1]itcer BILATERAL'!BS173","v":1.0040160642570277},{"$f":"+'[1]itcer BILATERAL'!BT173","v":0.9800311283294123},{"$f":"+'[1]itcer BILATERAL'!BU173","v":1.1322509553367437},{"$f":"+'[1]itcer BILATERAL'!BV173","v":1.1439892606052504},{"$f":"+'[1]itcer BILATERAL'!BW173","v":1.0851787001750954},null,{"$f":"+'[1]itcer BILATERAL'!BY173","v":0.83610876189717642},{"$f":"+'[1]itcer BILATERAL'!BZ173","v":0.99603665623476345},{"$f":"+'[1]itcer BILATERAL'!CA173","v":0.89466959629738052},{"$f":"+'[1]itcer BILATERAL'!CB173","v":0.867472212855387},{"$f":"+'[1]itcer BILATERAL'!CC173","v":0.93807978575242923},{"$f":"+'[1]itcer BILATERAL'!CD173","v":0.88037629217377167}]
[null,"Diciembre",{"$f":"+'[1]itcer BILATERAL'!AB174","v":101.36869320419363},{"$f":"+'[1]itcer BILATERAL'!AC174","v":99.509807820420349},{"$f":"+'[1]itcer BILATERAL'!AD174","v":87.404810655461702},{"$f":"+'[1]itcer BILATERAL'!AE174","v":97.785259252456626},{"$f":"+'[1]itcer BILATERAL'!AF174","v":106.77789302601143},{"$f":"+'[1]itcer BILATERAL'!AG174","v":93.625582494871153},null,{"$f":"+'[1]itcer BILATERAL'!BK174","v":-8.405758505664096E-2},{"$f":"+'[1]itcer BILATERAL'!BL174","v":-0.49385434889227042},{"$f":"+'[1]itcer BILATERAL'!BM174","v":-0.31431736365000518},{"$f":"+'[1]itcer BILATERAL'!BN174","v":-0.44223842695203075},{"$f":"+'[1]itcer BILATERAL'!BO174","v":-0.50079245247339088},{"$f":"+'[1]itcer BILATERAL'!BP174","v":-2.0002578540894547},null,{"$f":"+'[1]itcer BILATERAL'!BR174","v":1.2242857701486221},{"$f":"+'[1]itcer BILATERAL'!BS174","v":1.0040160642570277},{"$f":"+'[1]itcer BILATERAL'!BT174","v":0.98467813554523198},{"$f":"+'[1]itcer BILATERAL'!BU174","v":1.1376426265526327},{"$f":"+'[1]itcer BILATERAL'!BV174","v":1.1482268402318481},{"$f":"+'[1]itcer BILATERAL'!BW174","v":1.0851787001750954},null,{"$f":"+'[1]itcer BILATERAL'!BY174","v":0.82798228710840882},{"$f":"+'[1]itcer BILATERAL'!BZ174","v":0.99111768589138705},{"$f":"+'[1]itcer BILATERAL'!CA174","v":0.88764853712390246},{"$f":"+'[1]itcer BILATERAL'!CB174","v":0.85954285616716597},{"$f":"+'[1]itcer BILATERAL'!CC174","v":0.92993726748671912},{"$f":"+'[1]itcer BILATERAL'!CD174","v":0.86276649624402435}]
[2003,"Enero",{"$f":"+'[1]itcer BILATERAL'!AB175","v":101.95535605179808},{"$f":"+'[1]itcer BILATERAL'!AC175","v":98.77778071908628},{"$f":"+'[1]itcer BILATERAL'!AD175","v":88.441081618324034},{"$f":"+'[1]itcer BILATERAL'!AE175","v":97.852009560492391},{"$f":"+'[1]itcer BILATERAL'!AF175","v":106.8855274413305},{"$f":"+'[1]itcer BILATERAL'!AG175","v":91.045431693126645},null,{"$f":"+'[1]itcer BILATERAL'!BK175","v":0.57874164997144817},{"$f":"+'[1]itcer BILATERAL'!BL175","v":-0.73563311734568515},{"$f":"+'[1]itcer BILATERAL'!BM175","v":1.1855994596763964},{"$f":"+'[1]itcer BILATERAL'!BN175","v":6.8262137408098056E-2},{"$f":"+'[1]itcer BILATERAL'!BO175","v":0.10080215320679997},{"$f":"+'[1]itcer BILATERAL'!BP175","v":-2.7558181567370781},null,{"$f":"+'[1]itcer BILATERAL'!BR175","v":1.2338917094887192},{"$f":"+'[1]itcer BILATERAL'!BS175","v":1.0040160642570277},{"$f":"+'[1]itcer BILATERAL'!BT175","v":1.0037548480197191},{"$f":"+'[1]itcer BILATERAL'!BU175","v":1.1430342977685222},{"$f":"+'[1]itcer BILATERAL'!BV175","v":1.155137475652589},{"$f":"+'[1]itcer BILATERAL'!BW175","v":1.0851787001750954},null,{"$f":"+'[1]itcer BILATERAL'!BY175","v":0.8262909562302253},{"$f":"+'[1]itcer BILATERAL'!BZ175","v":0.98382669596209993},{"$f":"+'[1]itcer BILATERAL'!CA175","v":0.88110241054184724},{"$f":"+'[1]itcer BILATERAL'!CB175","v":0.85607238340549408},{"$f":"+'[1]itcer BILATERAL'!CC175","v":0.92530568606949604},{"$f":"+'[1]itcer BILATERAL'!CD175","v":0.83899022049028715}]
[null,"Febrero",{"$f":"+'[1]itcer BILATERAL'!AB176","v":102.80539483139054},{"$f":"+'[1]itcer BILATERAL'!AC176","v":99.295743313972849},{"$f":"+'[1]itcer BILATERAL'!AD176","v":88.845551794328031},{"$f":"+'[1]itcer BILATERAL'!AE176","v":97.798060330449175},{"$f":"+'[1]itcer BILATERAL'!AF176","v":106.65457662131689},{"$f":"+'[1]itcer BILATERAL'!AG176","v":91.301926036199362},null,{"$f":"+'[1]itcer BILATERAL'!BK176","v":0.83373626703888704},{"$f":"+'[1]itcer BILATERAL'!BL176","v":0.52437156526082163},{"$f":"+'[1]itcer BILATERAL'!BM176","v":0.4573329143005509},{"$f":"+'[1]itcer BILATERAL'!BN176","v":-5.5133492184296529E-2},{"$f":"+'[1]itcer BILATERAL'!BO176","v":-0.21607305080696904},{"$f":"+'[1]itcer BILATERAL'!BP176","v":0.28172126629839056},null,{"$f":"+'[1]itcer BILATERAL'!BR176","v":1.2447019835946218},{"$f":"+'[1]itcer BILATERAL'!BS176","v":1.0040160642570277},{"$f":"+'[1]itcer BILATERAL'!BT176","v":1.0075933997626425},{"$f":"+'[1]itcer BILATERAL'!BU176","v":1.1484259689844114},{"$f":"+'[1]itcer BILATERAL'!BV176","v":1.1606093781017763},{"$f":"+'[1]itcer BILATERAL'!BW176","v":1.1228756823565766},null,{"$f":"+'[1]itcer BILATERAL'!BY176","v":0.82594384990449643},{"$f":"+'[1]itcer BILATERAL'!BZ176","v":0.98898560340717023},{"$f":"+'[1]itcer BILATERAL'!CA176","v":0.88175996205669116},{"$f":"+'[1]itcer BILATERAL'!CB176","v":0.85158349751473339},{"$f":"+'[1]itcer BILATERAL'!CC176","v":0.91895325536447758},{"$f":"+'[1]itcer BILATERAL'!CD176","v":0.81310805346308879}]
[null,"Marzo",{"$f":"+'[1]itcer BILATERAL'!AB177","v":103.66494956628689},{"$f":"+'[1]itcer BILATERAL'!AC177","v":99.597798355766528},{"$f":"+'[1]itcer BILATERAL'!AD177","v":89.890618341531365},{"$f":"+'[1]itcer BILATERAL'!AE177","v":98.417813240797528},{"$f":"+'[1]itcer BILATERAL'!AF177","v":107.65295563957767},{"$f":"+'[1]itcer BILATERAL'!AG177","v":112.85031778078681},null,{"$f":"+'[1]itcer BILATERAL'!BK177","v":0.83609886067368677},{"$f":"+'[1]itcer BILATERAL'!BL177","v":0.30419737212558573},{"$f":"+'[1]itcer BILATERAL'!BM177","v":1.1762733486338135},{"$f":"+'[1]itcer BILATERAL'!BN177","v":0.63370675068019011},{"$f":"+'[1]itcer BILATERAL'!BO177","v":0.93608642956371568},{"$f":"+'[1]itcer BILATERAL'!BP177","v":23.601245537847632},null,{"$f":"+'[1]itcer BILATERAL'!BR177","v":1.2556905279846513},{"$f":"+'[1]itcer BILATERAL'!BS177","v":1.0040160642570277},{"$f":"+'[1]itcer BILATERAL'!BT177","v":1.0176546087817993},{"$f":"+'[1]itcer BILATERAL'!BU177","v":1.1531436812983145},{"$f":"+'[1]itcer BILATERAL'!BV177","v":1.1668831972892066},{"$f":"+'[1]itcer BILATERAL'!BW177","v":1.4040580904315585},null,{"$f":"+'[1]itcer BILATERAL'!BY177","v":0.82556129281843271},{"$f":"+'[1]itcer BILATERAL'!BZ177","v":0.99199407162343534},{"$f":"+'[1]itcer BILATERAL'!CA177","v":0.88331166159741026},{"$f":"+'[1]itcer BILATERAL'!CB177","v":0.85347398452541312},{"$f":"+'[1]itcer BILATERAL'!CC177","v":0.92256839321764916},{"$f":"+'[1]itcer BILATERAL'!CD177","v":0.80374393730462079}]
[null,"Abril",{"$f":"+'[1]itcer BILATERAL'!AB178","v":103.31059332583047},{"$f":"+'[1]itcer BILATERAL'!AC178","v":99.419745053088562},{"$f":"+'[1]itcer BILATERAL'!AD178","v":89.312168542185589},{"$f":"+'[1]itcer BILATERAL'!AE178","v":98.088829393327572},{"$f":"+'[1]itcer BILATERAL'!AF178","v":108.20166877334405},{"$f":"+'[1]itcer BILATERAL'!AG178","v":117.51901032332385},null,{"$f":"+'[1]itcer BILATERAL'!BK178","v":-0.34182840192271158},{"$f":"+'[1]itcer BILATERAL'!BL178","v":-0.17877232792029929},{"$f":"+'[1]itcer BILATERAL'!BM178","v":-0.64350408309353213},{"$f":"+'[1]itcer BILATERAL'!BN178","v":-0.33427266532028455},{"$f":"+'[1]itcer BILATERAL'!BO178","v":0.5097055909950825},{"$f":"+'[1]itcer BILATERAL'!BP178","v":4.1370663675099735},null,{"$f":"+'[1]itcer BILATERAL'!BR178","v":1.2661953127830696},{"$f":"+'[1]itcer BILATERAL'!BS178","v":1.0040160642570277},{"$f":"+'[1]itcer BILATERAL'!BT178","v":1.0179279621474357},{"$f":"+'[1]itcer BILATERAL'!BU178","v":1.1578613936122175},{"$f":"+'[1]itcer BILATERAL'!BV178","v":1.1729604682564794},{"$f":"+'[1]itcer BILATERAL'!BW178","v":1.4695643217633125},null,{"$f":"+'[1]itcer BILATERAL'!BY178","v":0.81591356627877587},{"$f":"+'[1]itcer BILATERAL'!BZ178","v":0.99022066072876258},{"$f":"+'[1]itcer BILATERAL'!CA178","v":0.87739183776591945},{"$f":"+'[1]itcer BILATERAL'!CB178","v":0.84715519434771613},{"$f":"+'[1]itcer BILATERAL'!CC178","v":0.92246645732381749},{"$f":"+'[1]itcer BILATERAL'!CD178","v":0.79968606057551939}]
[null,"Mayo",{"$f":"+'[1]itcer BILATERAL'!AB179","v":103.41883268682597},{"$f":"+'[1]itcer BILATERAL'!AC179","v":99.384904139433559},{"$f":"+'[1]itcer BILATERAL'!AD179","v":88.897899142895369},{"$f":"+'[1]itcer BILATERAL'!AE179","v":98.066819286832228},{"$f":"+'[1]itcer BILATERAL'!AF179","v":107.72830813777421},{"$f":"+'[1]itcer BILATERAL'!AG179","v":124.81581707827385},null,{"$f":"+'[1]itcer BILATERAL'!BK179","v":0.10477082505384772},{"$f":"+'[1]itcer BILATERAL'!BL179","v":-3.5044259705557579E-2},{"$f":"+'[1]itcer BILATERAL'!BM179","v":-0.46384429585822318},{"$f":"+'[1]itcer BILATERAL'!BN179","v":-2.2438953172837728E-2},{"$f":"+'[1]itcer BILATERAL'!BO179","v":-0.43747997691367857},{"$f":"+'[1]itcer BILATERAL'!BP179","v":6.2090437409868287},null,{"$f":"+'[1]itcer BILATERAL'!BR179","v":1.2762571710154929},{"$f":"+'[1]itcer BILATERAL'!BS179","v":1.0040160642570277},{"$f":"+'[1]itcer BILATERAL'!BT179","v":1.0174083328721928},{"$f":"+'[1]itcer BILATERAL'!BU179","v":1.1612311881221482},{"$f":"+'[1]itcer BILATERAL'!BV179","v":1.1785974712105993},{"$f":"+'[1]itcer BILATERAL'!BW179","v":1.5820372849933055},null,{"$f":"+'[1]itcer BILATERAL'!BY179","v":0.8103291016538432},{"$f":"+'[1]itcer BILATERAL'!BZ179","v":0.98987364522875854},{"$f":"+'[1]itcer BILATERAL'!CA179","v":0.87376814471267705},{"$f":"+'[1]itcer BILATERAL'!CB179","v":0.84450728063391201},{"$f":"+'[1]itcer BILATERAL'!CC179","v":0.91403817477328242},{"$f":"+'[1]itcer BILATERAL'!CD179","v":0.78895622917510444}]
[null,"Junio",{"$f":"+'[1]itcer BILATERAL'!AB180","v":103.74072606885223},{"$f":"+'[1]itcer BILATERAL'!AC180","v":99.162218028582785},{"$f":"+'[1]itcer BILATERAL'!AD180","v":88.955203197561957},{"$f":"+'[1]itcer BILATERAL'!AE180","v":98.27852557966753},{"$f":"+'[1]itcer BILATERAL'!AF180","v":107.24054781899893},{"$f":"+'[1]itcer BILATERAL'!AG180","v":134.12203641184183},null,{"$f":"+'[1]itcer BILATERAL'!BK180","v":0.31125219040232821},{"$f":"+'[1]itcer BILATERAL'!BL180","v":-0.22406432121557884},{"$f":"+'[1]itcer BILATERAL'!BM180","v":6.4460527435500126E-2},{"$f":"+'[1]itcer BILATERAL'!BN180","v":0.21587963632845231},{"$f":"+'[1]itcer BILATERAL'!BO180","v":-0.45276893994424938},{"$f":"+'[1]itcer BILATERAL'!BP180","v":7.4559615531194225},null,{"$f":"+'[1]itcer BILATERAL'!BR180","v":1.2874042028271635},{"$f":"+'[1]itcer BILATERAL'!BS180","v":1.0040160642570277},{"$f":"+'[1]itcer BILATERAL'!BT180","v":1.019694443802728},{"$f":"+'[1]itcer BILATERAL'!BU180","v":1.1659489004360515},{"$f":"+'[1]itcer BILATERAL'!BV180","v":1.1849577716148991},{"$f":"+'[1]itcer BILATERAL'!BW180","v":1.7853537954475232},null,{"$f":"+'[1]itcer BILATERAL'!BY180","v":0.80581316917434065},{"$f":"+'[1]itcer BILATERAL'!BZ180","v":0.98765569156468469},{"$f":"+'[1]itcer BILATERAL'!CA180","v":0.87237116705101347},{"$f":"+'[1]itcer BILATERAL'!CB180","v":0.84290594161470112},{"$f":"+'[1]itcer BILATERAL'!CC180","v":0.90501577683100076},{"$f":"+'[1]itcer BILATERAL'!CD180","v":0.75123505914536293}]
[null,"Julio",{"$f":"+'[1]itcer BILATERAL'!AB181","v":103.93713533418121},{"$f":"+'[1]itcer BILATERAL'!AC181","v":99.639924151644081},{"$f":"+'[1]itcer BILATERAL'!AD181","v":88.813314676116548},{"$f":"+'[1]itcer BILATERAL'!AE181","v":98.473322713371687},{"$f":"+'[1]itcer BILATERAL'!AF181","v":108.25141324409304},{"$f":"+'[1]itcer BILATERAL'!AG181","v":154.45726260912596},null,{"$f":"+'[1]itcer BILATERAL'!BK181","v":0.18932705868918731},{"$f":"+'[1]itcer BILATERAL'!BL181","v":0.48174207128323587},{"$f":"+'[1]itcer BILATERAL'!BM181","v":-0.15950558971833573},{"$f":"+'[1]itcer BILATERAL'!BN181","v":0.19820925533345246},{"$f":"+'[1]itcer BILATERAL'!BO181","v":0.9426149396404071},{"$f":"+'[1]itcer BILATERAL'!BP181","v":15.161733851730204},null,{"$f":"+'[1]itcer BILATERAL'!BR181","v":1.2987758063009809},{"$f":"+'[1]itcer BILATERAL'!BS181","v":1.0040160642570277},{"$f":"+'[1]itcer BILATERAL'!BT181","v":1.0195874233812758},{"$f":"+'[1]itcer BILATERAL'!BU181","v":1.1713405716519407},{"$f":"+'[1]itcer BILATERAL'!BV181","v":1.1938574750236346},{"$f":"+'[1]itcer BILATERAL'!BW181","v":2.1289525182820066},null,{"$f":"+'[1]itcer BILATERAL'!BY181","v":0.80027002989994567},{"$f":"+'[1]itcer BILATERAL'!BZ181","v":0.99241364455037562},{"$f":"+'[1]itcer BILATERAL'!CA181","v":0.87107110817023803},{"$f":"+'[1]itcer BILATERAL'!CB181","v":0.84068907964568207},{"$f":"+'[1]itcer BILATERAL'!CC181","v":0.90673648663086859},{"$f":"+'[1]itcer BILATERAL'!CD181","v":0.72550825480019543}]
[null,"Agosto",{"$f":"+'[1]itcer BILATERAL'!AB182","v":104.72687881970241},{"$f":"+'[1]itcer BILATERAL'!AC182","v":99.699072317800983},{"$f":"+'[1]itcer BILATERAL'!AD182","v":88.934679137135163},{"$f":"+'[1]itcer BILATERAL'!AE182","v":98.369283665313802},{"$f":"+'[1]itcer BILATERAL'!AF182","v":108.59236802639307},{"$f":"+'[1]itcer BILATERAL'!AG182","v":147.24986951875314},null,{"$f":"+'[1]itcer BILATERAL'!BK182","v":0.75982802776120195},{"$f":"+'[1]itcer BILATERAL'!BL182","v":5.9361914072610489E-2},{"$f":"+'[1]itcer BILATERAL'!BM182","v":0.13665120084888827},{"$f":"+'[1]itcer BILATERAL'!BN182","v":-0.10565201334854635},{"$f":"+'[1]itcer BILATERAL'!BO182","v":0.314965663802667},{"$f":"+'[1]itcer BILATERAL'!BP182","v":-4.6662701181051318},null,{"$f":"+'[1]itcer BILATERAL'!BR182","v":1.309091084748107},{"$f":"+'[1]itcer BILATERAL'!BS182","v":1.0040160642570277},{"$f":"+'[1]itcer BILATERAL'!BT182","v":1.01999100641639},{"$f":"+'[1]itcer BILATERAL'!BU182","v":1.1760582839658436},{"$f":"+'[1]itcer BILATERAL'!BV182","v":1.1922693654047614},{"$f":"+'[1]itcer BILATERAL'!BW182","v":2.0838397363271191},null,{"$f":"+'[1]itcer BILATERAL'!BY182","v":0.79999688363819055},{"$f":"+'[1]itcer BILATERAL'!BZ182","v":0.99300276028529844},{"$f":"+'[1]itcer BILATERAL'!CA182","v":0.87191630688584176},{"$f":"+'[1]itcer BILATERAL'!CB182","v":0.8364320459832818},{"$f":"+'[1]itcer BILATERAL'!CC182","v":0.91080397750157127},{"$f":"+'[1]itcer BILATERAL'!CD182","v":0.70662761128784801}]
[null,"Septiembre",{"$f":"+'[1]itcer BILATERAL'!AB183","v":105.76904598262054},{"$f":"+'[1]itcer BILATERAL'!AC183","v":99.959135175066905},{"$f":"+'[1]itcer BILATERAL'!AD183","v":89.534635540848441},{"$f":"+'[1]itcer BILATERAL'!AE183","v":98.705346838096006},{"$f":"+'[1]itcer BILATERAL'!AF183","v":109.74354732077272},{"$f":"+'[1]itcer BILATERAL'!AG183","v":136.8210129752822},null,{"$f":"+'[1]itcer BILATERAL'!BK183","v":0.99512863809520979},{"$f":"+'[1]itcer BILATERAL'!BL183","v":0.26084782056641131},{"$f":"+'[1]itcer BILATERAL'!BM183","v":0.67460343876449258},{"$f":"+'[1]itcer BILATERAL'!BN183","v":0.34163425843945561},{"$f":"+'[1]itcer BILATERAL'!BO183","v":1.0600922655078762},{"$f":"+'[1]itcer BILATERAL'!BP183","v":-7.0824215855368067},null,{"$f":"+'[1]itcer BILATERAL'!BR183","v":1.3195569624187438},{"$f":"+'[1]itcer BILATERAL'!BS183","v":1.0040160642570277},{"$f":"+'[1]itcer BILATERAL'!BT183","v":1.0277557892836671},{"$f":"+'[1]itcer BILATERAL'!BU183","v":1.181449955181733},{"$f":"+'[1]itcer BILATERAL'!BV183","v":1.2036062667434513},{"$f":"+'[1]itcer BILATERAL'!BW183","v":1.9590071068081165},null,{"$f":"+'[1]itcer BILATERAL'!BY183","v":0.8015496791343224},{"$f":"+'[1]itcer BILATERAL'!BZ183","v":0.99559298634366677},{"$f":"+'[1]itcer BILATERAL'!CA183","v":0.87116644318056291},{"$f":"+'[1]itcer BILATERAL'!CB183","v":0.8354593980488404},{"$f":"+'[1]itcer BILATERAL'!CC183","v":0.9117894310878043},{"$f":"+'[1]itcer BILATERAL'!CD183","v":0.69842019714879866}]
[null,"Octubre",{"$f":"+'[1]itcer BILATERAL'!AB184","v":105.30827982830422},{"$f":"+'[1]itcer BILATERAL'!AC184","v":99.532825529523862},{"$f":"+'[1]itcer BILATERAL'!AD184","v":90.301026268157457},{"$f":"+'[1]itcer BILATERAL'!AE184","v":98.558929976402425},{"$f":"+'[1]itcer BILATERAL'!AF184","v":110.16304506549153},{"$f":"+'[1]itcer BILATERAL'!AG184","v":146.70678473078408},null,{"$f":"+'[1]itcer BILATERAL'!BK184","v":-0.43563421607493069},{"$f":"+'[1]itcer BILATERAL'!BL184","v":-0.4264839274533756},{"$f":"+'[1]itcer BILATERAL'!BM184","v":0.8559712369179806},{"$f":"+'[1]itcer BILATERAL'!BN184","v":-0.14833731543818374},{"$f":"+'[1]itcer BILATERAL'!BO184","v":0.38225276561605881},{"$f":"+'[1]itcer BILATERAL'!BP184","v":7.2253315046628188},null,{"$f":"+'[1]itcer BILATERAL'!BR184","v":1.3305755727682507},{"$f":"+'[1]itcer BILATERAL'!BS184","v":1.0040160642570277},{"$f":"+'[1]itcer BILATERAL'!BT184","v":1.0421210244089298},{"$f":"+'[1]itcer BILATERAL'!BU184","v":1.1861676674956363},{"$f":"+'[1]itcer BILATERAL'!BV184","v":1.2142513183471864},{"$f":"+'[1]itcer BILATERAL'!BW184","v":2.1573797507467298},null,{"$f":"+'[1]itcer BILATERAL'!BY184","v":0.79144906898607248},{"$f":"+'[1]itcer BILATERAL'!BZ184","v":0.99134694227405795},{"$f":"+'[1]itcer BILATERAL'!CA184","v":0.86651189404200324},{"$f":"+'[1]itcer BILATERAL'!CB184","v":0.83090217915390097},{"$f":"+'[1]itcer BILATERAL'!CC184","v":0.9072507758562135},{"$f":"+'[1]itcer BILATERAL'!CD184","v":0.68002299863992288}]
[null,"Noviembre",{"$f":"+'[1]itcer BILATERAL'!AB185","v":104.44183410889362},{"$f":"+'[1]itcer BILATERAL'!AC185","v":99.200560298072958},{"$f":"+'[1]itcer BILATERAL'!AD185","v":89.47396743961535},{"$f":"+'[1]itcer BILATERAL'!AE185","v":98.039436096561218},{"$f":"+'[1]itcer BILATERAL'!AF185","v":109.16210665187268},{"$f":"+'[1]itcer BILATERAL'!AG185","v":157.10377980667084},null,{"$f":"+'[1]itcer BILATERAL'!BK185","v":-0.82277074587418042},{"$f":"+'[1]itcer BILATERAL'!BL185","v":-0.33382477557853463},{"$f":"+'[1]itcer BILATERAL'!BM185","v":-0.91589084058256276},{"$f":"+'[1]itcer BILATERAL'!BN185","v":-0.52708961021146195},{"$f":"+'[1]itcer BILATERAL'!BO185","v":-0.90859726419489562},{"$f":"+'[1]itcer BILATERAL'!BP185","v":7.0869217773164905},null,{"$f":"+'[1]itcer BILATERAL'!BR185","v":1.3419968753828508},{"$f":"+'[1]itcer BILATERAL'!BS185","v":1.0040160642570277},{"$f":"+'[1]itcer BILATERAL'!BT185","v":1.0400837681933373},{"$f":"+'[1]itcer BILATERAL'!BU185","v":1.1908853798095393},{"$f":"+'[1]itcer BILATERAL'!BV185","v":1.2163819010536949},{"$f":"+'[1]itcer BILATERAL'!BW185","v":2.4558656916263266},null,{"$f":"+'[1]itcer BILATERAL'!BY185","v":0.77825690971968897},{"$f":"+'[1]itcer BILATERAL'!BZ185","v":0.98803758056880708},{"$f":"+'[1]itcer BILATERAL'!CA185","v":0.86025731941798156},{"$f":"+'[1]itcer BILATERAL'!CB185","v":0.82324829709674385},{"$f":"+'[1]itcer BILATERAL'!CC185","v":0.89743284208118079},{"$f":"+'[1]itcer BILATERAL'!CD185","v":0.63970835352414313}]
[null,"Diciembre",{"$f":"+'[1]itcer BILATERAL'!AB186","v":103.89967323824733},{"$f":"+'[1]itcer BILATERAL'!AC186","v":98.891361046470863},{"$f":"+'[1]itcer BILATERAL'!AD186","v":88.316554756172351},{"$f":"+'[1]itcer BILATERAL'!AE186","v":97.981490457830205},{"$f":"+'[1]itcer BILATERAL'!AF186","v":108.61642912392534},{"$f":"+'[1]itcer BILATERAL'!AG186","v":142.56258086576142},null,{"$f":"+'[1]itcer BILATERAL'!BK186","v":-0.51910316902421982},{"$f":"+'[1]itcer BILATERAL'!BL186","v":-0.31169103347100702},{"$f":"+'[1]itcer BILATERAL'!BM186","v":-1.2935747866820861},{"$f":"+'[1]itcer BILATERAL'!BN186","v":-5.9104418627981659E-2},{"$f":"+'[1]itcer BILATERAL'!BO186","v":-0.49987815798347413},{"$f":"+'[1]itcer BILATERAL'!BP186","v":-9.2557919095285826},null,{"$f":"+'[1]itcer BILATERAL'!BR186","v":1.3532471822186227},{"$f":"+'[1]itcer BILATERAL'!BS186","v":1.0040160642570277},{"$f":"+'[1]itcer BILATERAL'!BT186","v":1.0337734315356732},{"$f":"+'[1]itcer BILATERAL'!BU186","v":1.1949291332214562},{"$f":"+'[1]itcer BILATERAL'!BV186","v":1.2208317527580625},{"$f":"+'[1]itcer BILATERAL'!BW186","v":2.3137295293027091},null,{"$f":"+'[1]itcer BILATERAL'!BY186","v":0.76778045137257034},{"$f":"+'[1]itcer BILATERAL'!BZ186","v":0.98495795602285008},{"$f":"+'[1]itcer BILATERAL'!CA186","v":0.85431248339375365},{"$f":"+'[1]itcer BILATERAL'!CB186","v":0.81997741735259289},{"$f":"+'[1]itcer BILATERAL'!CC186","v":0.88969203887876191},{"$f":"+'[1]itcer BILATERAL'!CD186","v":0.61615923149291196}]
[2004,"Enero",{"$f":"+'[1]itcer BILATERAL'!AB187","v":103.31972482858734},{"$f":"+'[1]itcer BILATERAL'!AC187","v":98.286652475572168},{"$f":"+'[1]itcer BILATERAL'!AD187","v":88.29568525874177},{"$f":"+'[1]itcer BILATERAL'!AE187","v":97.818155985145324},{"$f":"+'[1]itcer BILATERAL'!AF187","v":108.16871289236153},{"$f":"+'[1]itcer BILATERAL'!AG187","v":161.45167480883322},null,{"$f":"+'[1]itcer BILATERAL'!BK187","v":-0.55818116802942086},{"$f":"+'[1]itcer BILATERAL'!BL187","v":-0.6114877624290358},{"$f":"+'[1]itcer BILATERAL'!BM187","v":-2.3630334639065609E-2},{"$f":"+'[1]itcer BILATERAL'!BN187","v":-0.16669931424974038},{"$f":"+'[1]itcer BILATERAL'!BO187","v":-0.41219936539526714},{"$f":"+'[1]itcer BILATERAL'!BP187","v":13.249685736861053},null,{"$f":"+'[1]itcer BILATERAL'!BR187","v":1.3619520408614587},{"$f":"+'[1]itcer BILATERAL'!BS187","v":1.0040160642570277},{"$f":"+'[1]itcer BILATERAL'!BT187","v":1.0442472494086208},{"$f":"+'[1]itcer BILATERAL'!BU187","v":1.1982989277313869},{"$f":"+'[1]itcer BILATERAL'!BV187","v":1.2289609871437805},{"$f":"+'[1]itcer BILATERAL'!BW187","v":2.8482850963024005},null,{"$f":"+'[1]itcer BILATERAL'!BY187","v":0.75861500059308817},{"$f":"+'[1]itcer BILATERAL'!BZ187","v":0.97893505865669894},{"$f":"+'[1]itcer BILATERAL'!CA187","v":0.84554386242094914},{"$f":"+'[1]itcer BILATERAL'!CB187","v":0.81630846628840859},{"$f":"+'[1]itcer BILATERAL'!CC187","v":0.88016392728426329},{"$f":"+'[1]itcer BILATERAL'!CD187","v":0.56683818280138909}]
[null,"Febrero",{"$f":"+'[1]itcer BILATERAL'!AB188","v":103.32011026981752},{"$f":"+'[1]itcer BILATERAL'!AC188","v":98.384165616853153},{"$f":"+'[1]itcer BILATERAL'!AD188","v":88.060775427451446},{"$f":"+'[1]itcer BILATERAL'!AE188","v":97.669414727383028},{"$f":"+'[1]itcer BILATERAL'!AF188","v":107.75730214375595},{"$f":"+'[1]itcer BILATERAL'!AG188","v":155.84523072792354},null,{"$f":"+'[1]itcer BILATERAL'!BK188","v":3.7305677189181097E-4},{"$f":"+'[1]itcer BILATERAL'!BL188","v":9.9213004843363706E-2},{"$f":"+'[1]itcer BILATERAL'!BM188","v":-0.26604904939799212},{"$f":"+'[1]itcer BILATERAL'!BN188","v":-0.15205894679192511},{"$f":"+'[1]itcer BILATERAL'!BO188","v":-0.38034172507440189},{"$f":"+'[1]itcer BILATERAL'!BP188","v":-3.4725214758830987},null,{"$f":"+'[1]itcer BILATERAL'!BR188","v":1.3721520648007952},{"$f":"+'[1]itcer BILATERAL'!BS188","v":1.0040160642570277},{"$f":"+'[1]itcer BILATERAL'!BT188","v":1.0435754706185425},{"$f":"+'[1]itcer BILATERAL'!BU188","v":1.2036905989472761},{"$f":"+'[1]itcer BILATERAL'!BV188","v":1.232954846977383},{"$f":"+'[1]itcer BILATERAL'!BW188","v":3.0423318570398603},null,{"$f":"+'[1]itcer BILATERAL'!BY188","v":0.75297857227520326},{"$f":"+'[1]itcer BILATERAL'!BZ188","v":0.97990628954385761},{"$f":"+'[1]itcer BILATERAL'!CA188","v":0.84383715319847952},{"$f":"+'[1]itcer BILATERAL'!CB188","v":0.81141627933958038},{"$f":"+'[1]itcer BILATERAL'!CC188","v":0.87397606171811915},{"$f":"+'[1]itcer BILATERAL'!CD188","v":0.51225585521613171}]
[null,"Marzo",{"$f":"+'[1]itcer BILATERAL'!AB189","v":104.29628793627792},{"$f":"+'[1]itcer BILATERAL'!AC189","v":98.389728885241382},{"$f":"+'[1]itcer BILATERAL'!AD189","v":87.947068886872401},{"$f":"+'[1]itcer BILATERAL'!AE189","v":98.39076239971547},{"$f":"+'[1]itcer BILATERAL'!AF189","v":108.41854045760049},{"$f":"+'[1]itcer BILATERAL'!AG189","v":144.82056699365117},null,{"$f":"+'[1]itcer BILATERAL'!BK189","v":0.94480896691955252},{"$f":"+'[1]itcer BILATERAL'!BL189","v":5.6546379728388274E-3},{"$f":"+'[1]itcer BILATERAL'!BM189","v":-0.12912280186849046},{"$f":"+'[1]itcer BILATERAL'!BN189","v":0.73856045349087651},{"$f":"+'[1]itcer BILATERAL'!BO189","v":0.61363666377096138},{"$f":"+'[1]itcer BILATERAL'!BP189","v":-7.0741104381431796},null,{"$f":"+'[1]itcer BILATERAL'!BR189","v":1.3826004098160052},{"$f":"+'[1]itcer BILATERAL'!BS189","v":1.0040160642570277},{"$f":"+'[1]itcer BILATERAL'!BT189","v":1.0429024024257962},{"$f":"+'[1]itcer BILATERAL'!BU189","v":1.2090822701631654},{"$f":"+'[1]itcer BILATERAL'!BV189","v":1.2384503352129892},{"$f":"+'[1]itcer BILATERAL'!BW189","v":2.874858378823772},null,{"$f":"+'[1]itcer BILATERAL'!BY189","v":0.75434874165962063},{"$f":"+'[1]itcer BILATERAL'!BZ189","v":0.97996169969700453},{"$f":"+'[1]itcer BILATERAL'!CA189","v":0.84329145931879201},{"$f":"+'[1]itcer BILATERAL'!CB189","v":0.81376399958654277},{"$f":"+'[1]itcer BILATERAL'!CC189","v":0.8754371279568075},{"$f":"+'[1]itcer BILATERAL'!CD189","v":0.50374852570269379}]
[null,"Abril",{"$f":"+'[1]itcer BILATERAL'!AB190","v":104.42604197563391},{"$f":"+'[1]itcer BILATERAL'!AC190","v":97.876418394038481},{"$f":"+'[1]itcer BILATERAL'!AD190","v":87.174075488712134},{"$f":"+'[1]itcer BILATERAL'!AE190","v":98.130811284477474},{"$f":"+'[1]itcer BILATERAL'!AF190","v":108.29771842631001},{"$f":"+'[1]itcer BILATERAL'!AG190","v":137.55039203570541},null,{"$f":"+'[1]itcer BILATERAL'!BK190","v":0.1244090675933478},{"$f":"+'[1]itcer BILATERAL'!BL190","v":-0.52171146014805458},{"$f":"+'[1]itcer BILATERAL'!BM190","v":-0.87893025650983247},{"$f":"+'[1]itcer BILATERAL'!BN190","v":-0.26420276548111588},{"$f":"+'[1]itcer BILATERAL'!BO190","v":-0.11144037798381135},{"$f":"+'[1]itcer BILATERAL'!BP190","v":-5.0201260144662143},null,{"$f":"+'[1]itcer BILATERAL'!BR190","v":1.3925099574701045},{"$f":"+'[1]itcer BILATERAL'!BS190","v":1.0040160642570277},{"$f":"+'[1]itcer BILATERAL'!BT190","v":1.0359950723328033},{"$f":"+'[1]itcer BILATERAL'!BU190","v":1.2147637437069088},{"$f":"+'[1]itcer BILATERAL'!BV190","v":1.2433954884321543},{"$f":"+'[1]itcer BILATERAL'!BW190","v":2.7407559995880115},null,{"$f":"+'[1]itcer BILATERAL'!BY190","v":0.74991235369945841},{"$f":"+'[1]itcer BILATERAL'!BZ190","v":0.9748491272046238},{"$f":"+'[1]itcer BILATERAL'!CA190","v":0.84145260741846761},{"$f":"+'[1]itcer BILATERAL'!CB190","v":0.80781807814766238},{"$f":"+'[1]itcer BILATERAL'!CC190","v":0.87098368486817335},{"$f":"+'[1]itcer BILATERAL'!CD190","v":0.50187025790103856}]
[null,"Mayo",{"$f":"+'[1]itcer BILATERAL'!AB191","v":105.1100125288896},{"$f":"+'[1]itcer BILATERAL'!AC191","v":97.761403649410454},{"$f":"+'[1]itcer BILATERAL'!AD191","v":86.305438030745108},{"$f":"+'[1]itcer BILATERAL'!AE191","v":98.360137496432941},{"$f":"+'[1]itcer BILATERAL'!AF191","v":108.48439163728834},{"$f":"+'[1]itcer BILATERAL'!AG191","v":142.62380386448922},null,{"$f":"+'[1]itcer BILATERAL'!BK191","v":0.65498082692370474},{"$f":"+'[1]itcer BILATERAL'!BL191","v":-0.11751016896121769},{"$f":"+'[1]itcer BILATERAL'!BM191","v":-0.9964401149049138},{"$f":"+'[1]itcer BILATERAL'!BN191","v":0.23369440133400587},{"$f":"+'[1]itcer BILATERAL'!BO191","v":0.17237040049495533},{"$f":"+'[1]itcer BILATERAL'!BP191","v":3.6884023038384726},null,{"$f":"+'[1]itcer BILATERAL'!BR191","v":1.4028212893234793},{"$f":"+'[1]itcer BILATERAL'!BS191","v":1.0040160642570277},{"$f":"+'[1]itcer BILATERAL'!BT191","v":1.0281271372520788},{"$f":"+'[1]itcer BILATERAL'!BU191","v":1.2198184354718049},{"$f":"+'[1]itcer BILATERAL'!BV191","v":1.2493116460762015},{"$f":"+'[1]itcer BILATERAL'!BW191","v":2.8995777114017929},null,{"$f":"+'[1]itcer BILATERAL'!BY191","v":0.74927585807868413},{"$f":"+'[1]itcer BILATERAL'!BZ191","v":0.97370358034812887},{"$f":"+'[1]itcer BILATERAL'!CA191","v":0.83944324494164702},{"$f":"+'[1]itcer BILATERAL'!CB191","v":0.80635063904726889},{"$f":"+'[1]itcer BILATERAL'!CC191","v":0.86835332063070658},{"$f":"+'[1]itcer BILATERAL'!CD191","v":0.4918778458796268}]
[null,"Junio",{"$f":"+'[1]itcer BILATERAL'!AB192","v":105.1062705794905},{"$f":"+'[1]itcer BILATERAL'!AC192","v":97.915600199824894},{"$f":"+'[1]itcer BILATERAL'!AD192","v":85.727808612096098},{"$f":"+'[1]itcer BILATERAL'!AE192","v":98.438793120613354},{"$f":"+'[1]itcer BILATERAL'!AF192","v":108.91528685842005},{"$f":"+'[1]itcer BILATERAL'!AG192","v":143.87161118169104},null,{"$f":"+'[1]itcer BILATERAL'!BK192","v":-3.5600313510286696E-3},{"$f":"+'[1]itcer BILATERAL'!BL192","v":0.15772743092705355},{"$f":"+'[1]itcer BILATERAL'!BM192","v":-0.66928507847123342},{"$f":"+'[1]itcer BILATERAL'!BN192","v":7.9966972578972673E-2},{"$f":"+'[1]itcer BILATERAL'!BO192","v":0.39719559157632034},{"$f":"+'[1]itcer BILATERAL'!BP192","v":0.87489415047954822},null,{"$f":"+'[1]itcer BILATERAL'!BR192","v":1.4132435449091987},{"$f":"+'[1]itcer BILATERAL'!BS192","v":1.0040160642570277},{"$f":"+'[1]itcer BILATERAL'!BT192","v":1.0220837069467106},{"$f":"+'[1]itcer BILATERAL'!BU192","v":1.2245226686076682},{"$f":"+'[1]itcer BILATERAL'!BV192","v":1.2542449501848534},{"$f":"+'[1]itcer BILATERAL'!BW192","v":2.9737357091358536},null,{"$f":"+'[1]itcer BILATERAL'!BY192","v":0.74372369120740345},{"$f":"+'[1]itcer BILATERAL'!BZ192","v":0.9752393779902564},{"$f":"+'[1]itcer BILATERAL'!CA192","v":0.83875526074270734},{"$f":"+'[1]itcer BILATERAL'!CB192","v":0.8038952290898973},{"$f":"+'[1]itcer BILATERAL'!CC192","v":0.86837333363285918},{"$f":"+'[1]itcer BILATERAL'!CD192","v":0.48380765896475419}]
[null,"Julio",{"$f":"+'[1]itcer BILATERAL'!AB193","v":104.37244447955536},{"$f":"+'[1]itcer BILATERAL'!AC193","v":97.450741200899998},{"$f":"+'[1]itcer BILATERAL'!AD193","v":84.710497857946322},{"$f":"+'[1]itcer BILATERAL'!AE193","v":97.397564257319942},{"$f":"+'[1]itcer BILATERAL'!AF193","v":108.30525537484657},{"$f":"+'[1]itcer BILATERAL'!AG193","v":133.03377088013391},null,{"$f":"+'[1]itcer BILATERAL'!BK193","v":-0.69817537611150726},{"$f":"+'[1]itcer BILATERAL'!BL193","v":-0.47475478675126226},{"$f":"+'[1]itcer BILATERAL'!BM193","v":-1.1866753281341147},{"$f":"+'[1]itcer BILATERAL'!BN193","v":-1.0577424105734679},{"$f":"+'[1]itcer BILATERAL'!BO193","v":-0.5600972105655444},{"$f":"+'[1]itcer BILATERAL'!BP193","v":-7.5329943221879603},null,{"$f":"+'[1]itcer BILATERAL'!BR193","v":1.4238258994839195},{"$f":"+'[1]itcer BILATERAL'!BS193","v":1.0040160642570277},{"$f":"+'[1]itcer BILATERAL'!BT193","v":1.0163419968656771},{"$f":"+'[1]itcer BILATERAL'!BU193","v":1.2293684331129486},{"$f":"+'[1]itcer BILATERAL'!BV193","v":1.2568833320327373},{"$f":"+'[1]itcer BILATERAL'!BW193","v":2.7710371819960868},null,{"$f":"+'[1]itcer BILATERAL'!BY193","v":0.73304218245634012},{"$f":"+'[1]itcer BILATERAL'!BZ193","v":0.97060938236096461},{"$f":"+'[1]itcer BILATERAL'!CA193","v":0.83348418267853897},{"$f":"+'[1]itcer BILATERAL'!CB193","v":0.79225691529019027},{"$f":"+'[1]itcer BILATERAL'!CC193","v":0.86169696593625922},{"$f":"+'[1]itcer BILATERAL'!CD193","v":0.48008656016771473}]
[null,"Agosto",{"$f":"+'[1]itcer BILATERAL'!AB194","v":104.21516358202723},{"$f":"+'[1]itcer BILATERAL'!AC194","v":97.288607141516636},{"$f":"+'[1]itcer BILATERAL'!AD194","v":84.660268719222373},{"$f":"+'[1]itcer BILATERAL'!AE194","v":97.592731281326039},{"$f":"+'[1]itcer BILATERAL'!AF194","v":108.45238831416532},{"$f":"+'[1]itcer BILATERAL'!AG194","v":121.78492107273405},null,{"$f":"+'[1]itcer BILATERAL'!BK194","v":-0.15069197460344697},{"$f":"+'[1]itcer BILATERAL'!BL194","v":-0.16637539887881303},{"$f":"+'[1]itcer BILATERAL'!BM194","v":-5.929505786659206E-2},{"$f":"+'[1]itcer BILATERAL'!BN194","v":0.20038183243522667},{"$f":"+'[1]itcer BILATERAL'!BO194","v":0.13585023072934632},{"$f":"+'[1]itcer BILATERAL'!BP194","v":-8.4556347857983383},null,{"$f":"+'[1]itcer BILATERAL'!BR194","v":1.4346619187526015},{"$f":"+'[1]itcer BILATERAL'!BS194","v":1.0040160642570277},{"$f":"+'[1]itcer BILATERAL'!BT194","v":1.0182748114651536},{"$f":"+'[1]itcer BILATERAL'!BU194","v":1.2353666673406254},{"$f":"+'[1]itcer BILATERAL'!BV194","v":1.2607530955117432},{"$f":"+'[1]itcer BILATERAL'!BW194","v":2.5491811721083533},null,{"$f":"+'[1]itcer BILATERAL'!BY194","v":0.72640921334720721},{"$f":"+'[1]itcer BILATERAL'!BZ194","v":0.9689945271295064},{"$f":"+'[1]itcer BILATERAL'!CA194","v":0.83140884725812092},{"$f":"+'[1]itcer BILATERAL'!CB194","v":0.78998999941785686},{"$f":"+'[1]itcer BILATERAL'!CC194","v":0.86021909206690628},{"$f":"+'[1]itcer BILATERAL'!CD194","v":0.47774133280613124}]
[null,"Septiembre",{"$f":"+'[1]itcer BILATERAL'!AB195","v":104.45594662638673},{"$f":"+'[1]itcer BILATERAL'!AC195","v":97.29267864761907},{"$f":"+'[1]itcer BILATERAL'!AD195","v":84.079527496828874},{"$f":"+'[1]itcer BILATERAL'!AE195","v":98.097978834076741},{"$f":"+'[1]itcer BILATERAL'!AF195","v":108.13893272425615},{"$f":"+'[1]itcer BILATERAL'!AG195","v":110.57365397327789},null,{"$f":"+'[1]itcer BILATERAL'!BK195","v":0.23104415526825051},{"$f":"+'[1]itcer BILATERAL'!BL195","v":4.1849772774611438E-3},{"$f":"+'[1]itcer BILATERAL'!BM195","v":-0.68596666556722141},{"$f":"+'[1]itcer BILATERAL'!BN195","v":0.51771022915040987},{"$f":"+'[1]itcer BILATERAL'!BO195","v":-0.2890259908349293},{"$f":"+'[1]itcer BILATERAL'!BP195","v":-9.2057924747189475},null,{"$f":"+'[1]itcer BILATERAL'!BR195","v":1.4460903112657117},{"$f":"+'[1]itcer BILATERAL'!BS195","v":1.0040160642570277},{"$f":"+'[1]itcer BILATERAL'!BT195","v":1.0169866981997253},{"$f":"+'[1]itcer BILATERAL'!BU195","v":1.2408257344467135},{"$f":"+'[1]itcer BILATERAL'!BV195","v":1.2619608335964692},{"$f":"+'[1]itcer BILATERAL'!BW195","v":2.2834483468946343},null,{"$f":"+'[1]itcer BILATERAL'!BY195","v":0.72233349336916686},{"$f":"+'[1]itcer BILATERAL'!BZ195","v":0.96903507933028632},{"$f":"+'[1]itcer BILATERAL'!CA195","v":0.8267514968058759},{"$f":"+'[1]itcer BILATERAL'!CB195","v":0.79058626937503695},{"$f":"+'[1]itcer BILATERAL'!CC195","v":0.85691195673696463},{"$f":"+'[1]itcer BILATERAL'!CD195","v":0.48423978638996601}]
[null,"Octubre",{"$f":"+'[1]itcer BILATERAL'!AB196","v":105.07693413469794},{"$f":"+'[1]itcer BILATERAL'!AC196","v":97.391038062780012},{"$f":"+'[1]itcer BILATERAL'!AD196","v":82.96840245551482},{"$f":"+'[1]itcer BILATERAL'!AE196","v":98.156672927010334},{"$f":"+'[1]itcer BILATERAL'!AF196","v":107.46778767811421},{"$f":"+'[1]itcer BILATERAL'!AG196","v":95.786054095479244},null,{"$f":"+'[1]itcer BILATERAL'!BK196","v":0.59449703761941919},{"$f":"+'[1]itcer BILATERAL'!BL196","v":0.10109642012960762},{"$f":"+'[1]itcer BILATERAL'!BM196","v":-1.3215167525245164},{"$f":"+'[1]itcer BILATERAL'!BN196","v":5.9832112374991198E-2},{"$f":"+'[1]itcer BILATERAL'!BO196","v":-0.62063220824761345},{"$f":"+'[1]itcer BILATERAL'!BP196","v":-13.373529178453609},null,{"$f":"+'[1]itcer BILATERAL'!BR196","v":1.4579286605704651},{"$f":"+'[1]itcer BILATERAL'!BS196","v":1.0040160642570277},{"$f":"+'[1]itcer BILATERAL'!BT196","v":1.0080614529311616},{"$f":"+'[1]itcer BILATERAL'!BU196","v":1.2459276033347486},{"$f":"+'[1]itcer BILATERAL'!BV196","v":1.2645495453288034},{"$f":"+'[1]itcer BILATERAL'!BW196","v":1.9942321557317955},null,{"$f":"+'[1]itcer BILATERAL'!BY196","v":0.72072754296210151},{"$f":"+'[1]itcer BILATERAL'!BZ196","v":0.97001473910528935},{"$f":"+'[1]itcer BILATERAL'!CA196","v":0.82304905335151801},{"$f":"+'[1]itcer BILATERAL'!CB196","v":0.78782003596591144},{"$f":"+'[1]itcer BILATERAL'!CC196","v":0.84985035244444163},{"$f":"+'[1]itcer BILATERAL'!CD196","v":0.48031546287212462}]
[null,"Noviembre",{"$f":"+'[1]itcer BILATERAL'!AB197","v":104.50901576382913},{"$f":"+'[1]itcer BILATERAL'!AC197","v":97.418492505959506},{"$f":"+'[1]itcer BILATERAL'!AD197","v":81.572358391582711},{"$f":"+'[1]itcer BILATERAL'!AE197","v":97.639919252262899},{"$f":"+'[1]itcer BILATERAL'!AF197","v":106.76430880710278},{"$f":"+'[1]itcer BILATERAL'!AG197","v":89.262243751871267},null,{"$f":"+'[1]itcer BILATERAL'!BK197","v":-0.54047862696565119},{"$f":"+'[1]itcer BILATERAL'!BL197","v":2.8189907126559888E-2},{"$f":"+'[1]itcer BILATERAL'!BM197","v":-1.6826213626092539},{"$f":"+'[1]itcer BILATERAL'!BN197","v":-0.52645801791967983},{"$f":"+'[1]itcer BILATERAL'!BO197","v":-0.65459509887601541},{"$f":"+'[1]itcer BILATERAL'!BP197","v":-6.810814377117012},null,{"$f":"+'[1]itcer BILATERAL'!BR197","v":1.4695674449487039},{"$f":"+'[1]itcer BILATERAL'!BS197","v":1.0040160642570277},{"$f":"+'[1]itcer BILATERAL'!BT197","v":1.0004410831627113},{"$f":"+'[1]itcer BILATERAL'!BU197","v":1.2495198042823348},{"$f":"+'[1]itcer BILATERAL'!BV197","v":1.2663498092215939},{"$f":"+'[1]itcer BILATERAL'!BW197","v":1.826758677515707},null,{"$f":"+'[1]itcer BILATERAL'!BY197","v":0.71115494646438004},{"$f":"+'[1]itcer BILATERAL'!BZ197","v":0.97028818535935712},{"$f":"+'[1]itcer BILATERAL'!CA197","v":0.81536394061014184},{"$f":"+'[1]itcer BILATERAL'!CB197","v":0.78141954147211501},{"$f":"+'[1]itcer BILATERAL'!CC197","v":0.84308702089771848},{"$f":"+'[1]itcer BILATERAL'!CD197","v":0.48863730524747295}]
[null,"Diciembre",{"$f":"+'[1]itcer BILATERAL'!AB198","v":103.80257435773768},{"$f":"+'[1]itcer BILATERAL'!AC198","v":96.90914378164517},{"$f":"+'[1]itcer BILATERAL'!AD198","v":80.868473112824105},{"$f":"+'[1]itcer BILATERAL'!AE198","v":97.156840111646602},{"$f":"+'[1]itcer BILATERAL'!AF198","v":106.6749344925196},{"$f":"+'[1]itcer BILATERAL'!AG198","v":88.138402039744378},null,{"$f":"+'[1]itcer BILATERAL'!BK198","v":-0.67596216549189592},{"$f":"+'[1]itcer BILATERAL'!BL198","v":-0.5228460338607448},{"$f":"+'[1]itcer BILATERAL'!BM198","v":-0.86289681043626842},{"$f":"+'[1]itcer BILATERAL'!BN198","v":-0.4947557764444781},{"$f":"+'[1]itcer BILATERAL'!BO198","v":-8.371179056163669E-2},{"$f":"+'[1]itcer BILATERAL'!BP198","v":-1.2590336797391188},null,{"$f":"+'[1]itcer BILATERAL'!BR198","v":1.4812603640199939},{"$f":"+'[1]itcer BILATERAL'!BS198","v":1.0040160642570277},{"$f":"+'[1]itcer BILATERAL'!BT198","v":1.0013307710036981},{"$f":"+'[1]itcer BILATERAL'!BU198","v":1.2528895987922657},{"$f":"+'[1]itcer BILATERAL'!BV198","v":1.2685597511048223},{"$f":"+'[1]itcer BILATERAL'!BW198","v":1.7834998455041715},null,{"$f":"+'[1]itcer BILATERAL'!BY198","v":0.70077197013513426},{"$f":"+'[1]itcer BILATERAL'!BZ198","v":0.96521507206518597},{"$f":"+'[1]itcer BILATERAL'!CA198","v":0.80760998717501153},{"$f":"+'[1]itcer BILATERAL'!CB198","v":0.7754621014118227},{"$f":"+'[1]itcer BILATERAL'!CC198","v":0.84091375593158757},{"$f":"+'[1]itcer BILATERAL'!CD198","v":0.49418788715862683}]
[2005,"Enero",{"$f":"+'[1]itcer BILATERAL'!AB199","v":102.79864871716273},{"$f":"+'[1]itcer BILATERAL'!AC199","v":95.737567319981125},{"$f":"+'[1]itcer BILATERAL'!AD199","v":79.807398939692135},{"$f":"+'[1]itcer BILATERAL'!AE199","v":96.957147686090039},{"$f":"+'[1]itcer BILATERAL'!AF199","v":107.26708034570889},{"$f":"+'[1]itcer BILATERAL'!AG199","v":90.596633180036861},null,{"$f":"+'[1]itcer BILATERAL'!BK199","v":-0.96714907774358494},{"$f":"+'[1]itcer BILATERAL'!BL199","v":-1.2089431563896937},{"$f":"+'[1]itcer BILATERAL'!BM199","v":-1.3120986860375154},{"$f":"+'[1]itcer BILATERAL'!BN199","v":-0.20553614683956312},{"$f":"+'[1]itcer BILATERAL'!BO199","v":0.55509371156989573},{"$f":"+'[1]itcer BILATERAL'!BP199","v":2.7890579853988982},null,{"$f":"+'[1]itcer BILATERAL'!BR199","v":1.4925574013198319},{"$f":"+'[1]itcer BILATERAL'!BS199","v":1.0040160642570277},{"$f":"+'[1]itcer BILATERAL'!BT199","v":0.99949208279899227},{"$f":"+'[1]itcer BILATERAL'!BU199","v":1.2576073111061687},{"$f":"+'[1]itcer BILATERAL'!BV199","v":1.2804880685402951},{"$f":"+'[1]itcer BILATERAL'!BW199","v":1.8437902976619633},null,{"$f":"+'[1]itcer BILATERAL'!BY199","v":0.6887416767104596},{"$f":"+'[1]itcer BILATERAL'!BZ199","v":0.95354617050701229},{"$f":"+'[1]itcer BILATERAL'!CA199","v":0.79847955089547396},{"$f":"+'[1]itcer BILATERAL'!CB199","v":0.77096520376307487},{"$f":"+'[1]itcer BILATERAL'!CC199","v":0.83770464544811474},{"$f":"+'[1]itcer BILATERAL'!CD199","v":0.49136083043130691}]
[null,"Febrero",{"$f":"+'[1]itcer BILATERAL'!AB200","v":103.00435352939552},{"$f":"+'[1]itcer BILATERAL'!AC200","v":96.198218252537998},{"$f":"+'[1]itcer BILATERAL'!AD200","v":79.21305997515141},{"$f":"+'[1]itcer BILATERAL'!AE200","v":96.738157213252506},{"$f":"+'[1]itcer BILATERAL'!AF200","v":107.68867542062705},{"$f":"+'[1]itcer BILATERAL'!AG200","v":88.065709613777599},null,{"$f":"+'[1]itcer BILATERAL'!BK200","v":0.20010458775460904},{"$f":"+'[1]itcer BILATERAL'!BL200","v":0.48116005602820167},{"$f":"+'[1]itcer BILATERAL'!BM200","v":-0.74471662081087686},{"$f":"+'[1]itcer BILATERAL'!BN200","v":-0.22586315507810184},{"$f":"+'[1]itcer BILATERAL'!BO200","v":0.39303304756631974},{"$f":"+'[1]itcer BILATERAL'!BP200","v":-2.7936176846988587},null,{"$f":"+'[1]itcer BILATERAL'!BR200","v":1.5032272370595887},{"$f":"+'[1]itcer BILATERAL'!BS200","v":1.0040160642570277},{"$f":"+'[1]itcer BILATERAL'!BT200","v":0.99366785094720045},{"$f":"+'[1]itcer BILATERAL'!BU200","v":1.2623250234200718},{"$f":"+'[1]itcer BILATERAL'!BV200","v":1.2938612094398176},{"$f":"+'[1]itcer BILATERAL'!BW200","v":1.7827273663611085},null,{"$f":"+'[1]itcer BILATERAL'!BY200","v":0.68522144217449665},{"$f":"+'[1]itcer BILATERAL'!BZ200","v":0.95813425379527872},{"$f":"+'[1]itcer BILATERAL'!CA200","v":0.79717845253464337},{"$f":"+'[1]itcer BILATERAL'!CB200","v":0.76634904179555607},{"$f":"+'[1]itcer BILATERAL'!CC200","v":0.83230469106691363},{"$f":"+'[1]itcer BILATERAL'!CD200","v":0.49399426561525633}]
[null,"Marzo",{"$f":"+'[1]itcer BILATERAL'!AB201","v":103.64292934530793},{"$f":"+'[1]itcer BILATERAL'!AC201","v":96.881439985392106},{"$f":"+'[1]itcer BILATERAL'!AD201","v":78.408239309454856},{"$f":"+'[1]itcer BILATERAL'!AE201","v":96.9474879840037},{"$f":"+'[1]itcer BILATERAL'!AF201","v":107.92170606191102},{"$f":"+'[1]itcer BILATERAL'!AG201","v":87.127850582330836},null,{"$f":"+'[1]itcer BILATERAL'!BK201","v":0.61995031669238188},{"$f":"+'[1]itcer BILATERAL'!BL201","v":0.71022285575033095},{"$f":"+'[1]itcer BILATERAL'!BM201","v":-1.0160201688320285},{"$f":"+'[1]itcer BILATERAL'!BN201","v":0.21638904107894064},{"$f":"+'[1]itcer BILATERAL'!BO201","v":0.21639289402880024},{"$f":"+'[1]itcer BILATERAL'!BP201","v":-1.0649536982780887},null,{"$f":"+'[1]itcer BILATERAL'!BR201","v":1.5133273113916832},{"$f":"+'[1]itcer BILATERAL'!BS201","v":1.0040160642570277},{"$f":"+'[1]itcer BILATERAL'!BT201","v":0.98042826435118602},{"$f":"+'[1]itcer BILATERAL'!BU201","v":1.2650208590280163},{"$f":"+'[1]itcer BILATERAL'!BV201","v":1.2991601494552663},{"$f":"+'[1]itcer BILATERAL'!BW201","v":1.7487753630651977},null,{"$f":"+'[1]itcer BILATERAL'!BY201","v":0.68486789715039254},{"$f":"+'[1]itcer BILATERAL'!BZ201","v":0.96493914225450617},{"$f":"+'[1]itcer BILATERAL'!CA201","v":0.79973458702093581},{"$f":"+'[1]itcer BILATERAL'!CB201","v":0.76637066726704939},{"$f":"+'[1]itcer BILATERAL'!CC201","v":0.83070363655444834},{"$f":"+'[1]itcer BILATERAL'!CD201","v":0.49822208399377221}]
[null,"Abril",{"$f":"+'[1]itcer BILATERAL'!AB202","v":103.99319134135219},{"$f":"+'[1]itcer BILATERAL'!AC202","v":97.048732881034141},{"$f":"+'[1]itcer BILATERAL'!AD202","v":78.339500513659559},{"$f":"+'[1]itcer BILATERAL'!AE202","v":96.933082700723787},{"$f":"+'[1]itcer BILATERAL'!AF202","v":107.13498126803211},{"$f":"+'[1]itcer BILATERAL'!AG202","v":87.282395527789703},null,{"$f":"+'[1]itcer BILATERAL'!BK202","v":0.3379506911439023},{"$f":"+'[1]itcer BILATERAL'!BL202","v":0.1726779615035241},{"$f":"+'[1]itcer BILATERAL'!BM202","v":-8.7667822158337572E-2},{"$f":"+'[1]itcer BILATERAL'!BN202","v":-1.4858851507625559E-2},{"$f":"+'[1]itcer BILATERAL'!BO202","v":-0.72897735088398008},{"$f":"+'[1]itcer BILATERAL'!BP202","v":0.17737720421879999},null,{"$f":"+'[1]itcer BILATERAL'!BR202","v":1.522750450097305},{"$f":"+'[1]itcer BILATERAL'!BS202","v":1.0040160642570277},{"$f":"+'[1]itcer BILATERAL'!BT202","v":0.97927424896323967},{"$f":"+'[1]itcer BILATERAL'!BU202","v":1.267716694635961},{"$f":"+'[1]itcer BILATERAL'!BV202","v":1.3026744316316841},{"$f":"+'[1]itcer BILATERAL'!BW202","v":1.7456236481614997},null,{"$f":"+'[1]itcer BILATERAL'!BY202","v":0.68292996619838087},{"$f":"+'[1]itcer BILATERAL'!BZ202","v":0.96660537949510017},{"$f":"+'[1]itcer BILATERAL'!CA202","v":0.79997508968093256},{"$f":"+'[1]itcer BILATERAL'!CB202","v":0.76462732652234411},{"$f":"+'[1]itcer BILATERAL'!CC202","v":0.8224233059816688},{"$f":"+'[1]itcer BILATERAL'!CD202","v":0.50000694949175328}]
[null,"Mayo",{"$f":"+'[1]itcer BILATERAL'!AB203","v":103.17333651833724},{"$f":"+'[1]itcer BILATERAL'!AC203","v":96.254872756964915},{"$f":"+'[1]itcer BILATERAL'!AD203","v":77.742623647419208},{"$f":"+'[1]itcer BILATERAL'!AE203","v":96.668999597325382},{"$f":"+'[1]itcer BILATERAL'!AF203","v":106.70244519643369},{"$f":"+'[1]itcer BILATERAL'!AG203","v":88.8541892993603},null,{"$f":"+'[1]itcer BILATERAL'!BK203","v":-0.78837355834558309},{"$f":"+'[1]itcer BILATERAL'!BL203","v":-0.81800153438619816},{"$f":"+'[1]itcer BILATERAL'!BM203","v":-0.7619104823578482},{"$f":"+'[1]itcer BILATERAL'!BN203","v":-0.27243856900099672},{"$f":"+'[1]itcer BILATERAL'!BO203","v":-0.40373001094413041},{"$f":"+'[1]itcer BILATERAL'!BP203","v":1.8008141986320254},null,{"$f":"+'[1]itcer BILATERAL'!BR203","v":1.5330421188331382},{"$f":"+'[1]itcer BILATERAL'!BS203","v":1.0040160642570277},{"$f":"+'[1]itcer BILATERAL'!BT203","v":0.97765733801744681},{"$f":"+'[1]itcer BILATERAL'!BU203","v":1.270412530243906},{"$f":"+'[1]itcer BILATERAL'!BV203","v":1.3095929289812311},{"$f":"+'[1]itcer BILATERAL'!BW203","v":1.7735503141415183},null,{"$f":"+'[1]itcer BILATERAL'!BY203","v":0.67299740333857705},{"$f":"+'[1]itcer BILATERAL'!BZ203","v":0.95869853265937122},{"$f":"+'[1]itcer BILATERAL'!CA203","v":0.79519296408157125},{"$f":"+'[1]itcer BILATERAL'!CB203","v":0.76092605587545614},{"$f":"+'[1]itcer BILATERAL'!CC203","v":0.81477566681304903},{"$f":"+'[1]itcer BILATERAL'!CD203","v":0.50099615776826656}]
[null,"Junio",{"$f":"+'[1]itcer BILATERAL'!AB204","v":103.47468106131497},{"$f":"+'[1]itcer BILATERAL'!AC204","v":96.270488521061154},{"$f":"+'[1]itcer BILATERAL'!AD204","v":77.503894149119859},{"$f":"+'[1]itcer BILATERAL'!AE204","v":96.097597459108755},{"$f":"+'[1]itcer BILATERAL'!AF204","v":106.14345261284183},{"$f":"+'[1]itcer BILATERAL'!AG204","v":89.467255220096632},null,{"$f":"+'[1]itcer BILATERAL'!BK204","v":0.29207598895879983},{"$f":"+'[1]itcer BILATERAL'!BL204","v":1.6223349165585432E-2},{"$f":"+'[1]itcer BILATERAL'!BM204","v":-0.30707671943520154},{"$f":"+'[1]itcer BILATERAL'!BN204","v":-0.59109139496301566},{"$f":"+'[1]itcer BILATERAL'!BO204","v":-0.52387982539929112},{"$f":"+'[1]itcer BILATERAL'!BP204","v":0.68996850409700983},null,{"$f":"+'[1]itcer BILATERAL'!BR204","v":1.5437482148384947},{"$f":"+'[1]itcer BILATERAL'!BS204","v":1.0040160642570277},{"$f":"+'[1]itcer BILATERAL'!BT204","v":0.98054688939665091},{"$f":"+'[1]itcer BILATERAL'!BU204","v":1.2710864891458917},{"$f":"+'[1]itcer BILATERAL'!BV204","v":1.3114955157523569},{"$f":"+'[1]itcer BILATERAL'!BW204","v":1.7858852610979503},null,{"$f":"+'[1]itcer BILATERAL'!BY204","v":0.67028210991091164},{"$f":"+'[1]itcer BILATERAL'!BZ204","v":0.95885406566976983},{"$f":"+'[1]itcer BILATERAL'!CA204","v":0.79041497135144123},{"$f":"+'[1]itcer BILATERAL'!CB204","v":0.75602721199311673},{"$f":"+'[1]itcer BILATERAL'!CC204","v":0.80933141850623269},{"$f":"+'[1]itcer BILATERAL'!CD204","v":0.50096866337926316}]
[null,"Julio",{"$f":"+'[1]itcer BILATERAL'!AB205","v":103.33249422288581},{"$f":"+'[1]itcer BILATERAL'!AC205","v":96.557349612975713},{"$f":"+'[1]itcer BILATERAL'!AD205","v":76.892843666862802},{"$f":"+'[1]itcer BILATERAL'!AE205","v":95.746673469998527},{"$f":"+'[1]itcer BILATERAL'!AF205","v":106.56024738781581},{"$f":"+'[1]itcer BILATERAL'!AG205","v":89.435251442904004},null,{"$f":"+'[1]itcer BILATERAL'!BK205","v":-0.13741220264780907},{"$f":"+'[1]itcer BILATERAL'!BL205","v":0.29797406902302725},{"$f":"+'[1]itcer BILATERAL'!BM205","v":-0.78841261973414589},{"$f":"+'[1]itcer BILATERAL'!BN205","v":-0.36517457084143246},{"$f":"+'[1]itcer BILATERAL'!BO205","v":0.39267120553749635},{"$f":"+'[1]itcer BILATERAL'!BP205","v":-3.5771497755121118E-2},null,{"$f":"+'[1]itcer BILATERAL'!BR205","v":1.5542059897679781},{"$f":"+'[1]itcer BILATERAL'!BS205","v":1.0040160642570277},{"$f":"+'[1]itcer BILATERAL'!BT205","v":0.97738785285981455},{"$f":"+'[1]itcer BILATERAL'!BU205","v":1.2717604480478781},{"$f":"+'[1]itcer BILATERAL'!BV205","v":1.3215037511227816},{"$f":"+'[1]itcer BILATERAL'!BW205","v":1.7876403337109898},null,{"$f":"+'[1]itcer BILATERAL'!BY205","v":0.66485713543229841},{"$f":"+'[1]itcer BILATERAL'!BZ205","v":0.96171120214523842},{"$f":"+'[1]itcer BILATERAL'!CA205","v":0.7867178156744643},{"$f":"+'[1]itcer BILATERAL'!CB205","v":0.75286720558865783},{"$f":"+'[1]itcer BILATERAL'!CC205","v":0.80635599632070387},{"$f":"+'[1]itcer BILATERAL'!CD205","v":0.50029779344508285}]
[null,"Agosto",{"$f":"+'[1]itcer BILATERAL'!AB206","v":103.21352674760661},{"$f":"+'[1]itcer BILATERAL'!AC206","v":96.790732640491399},{"$f":"+'[1]itcer BILATERAL'!AD206","v":76.993009789633959},{"$f":"+'[1]itcer BILATERAL'!AE206","v":95.459610581269274},{"$f":"+'[1]itcer BILATERAL'!AF206","v":106.90438319382318},{"$f":"+'[1]itcer BILATERAL'!AG206","v":88.933636770508201},null,{"$f":"+'[1]itcer BILATERAL'!BK206","v":-0.11513074969678883},{"$f":"+'[1]itcer BILATERAL'!BL206","v":0.24170405303287623},{"$f":"+'[1]itcer BILATERAL'!BM206","v":0.13026715880755546},{"$f":"+'[1]itcer BILATERAL'!BN206","v":-0.29981499965030878},{"$f":"+'[1]itcer BILATERAL'!BO206","v":0.32294951864639643},{"$f":"+'[1]itcer BILATERAL'!BP206","v":-0.56086908048337136},null,{"$f":"+'[1]itcer BILATERAL'!BR206","v":1.5638108813398215},{"$f":"+'[1]itcer BILATERAL'!BS206","v":1.0040160642570277},{"$f":"+'[1]itcer BILATERAL'!BT206","v":0.97727696423035826},{"$f":"+'[1]itcer BILATERAL'!BU206","v":1.2717604480478781},{"$f":"+'[1]itcer BILATERAL'!BV206","v":1.3276832271645362},{"$f":"+'[1]itcer BILATERAL'!BW206","v":1.7922134102379239},null,{"$f":"+'[1]itcer BILATERAL'!BY206","v":0.66001284413097749},{"$f":"+'[1]itcer BILATERAL'!BZ206","v":0.96403569709929449},{"$f":"+'[1]itcer BILATERAL'!CA206","v":0.78783203337110064},{"$f":"+'[1]itcer BILATERAL'!CB206","v":0.75060999677885465},{"$f":"+'[1]itcer BILATERAL'!CC206","v":0.80519495167633692},{"$f":"+'[1]itcer BILATERAL'!CD206","v":0.49622235980648022}]
[null,"Septiembre",{"$f":"+'[1]itcer BILATERAL'!AB207","v":104.96851285941283},{"$f":"+'[1]itcer BILATERAL'!AC207","v":97.57455008941524},{"$f":"+'[1]itcer BILATERAL'!AD207","v":77.620261625769245},{"$f":"+'[1]itcer BILATERAL'!AE207","v":96.318378866526999},{"$f":"+'[1]itcer BILATERAL'!AF207","v":107.89648034724638},{"$f":"+'[1]itcer BILATERAL'!AG207","v":91.451346499998721},null,{"$f":"+'[1]itcer BILATERAL'!BK207","v":1.700345068236814},{"$f":"+'[1]itcer BILATERAL'!BL207","v":0.80980629812481197},{"$f":"+'[1]itcer BILATERAL'!BM207","v":0.81468673305423067},{"$f":"+'[1]itcer BILATERAL'!BN207","v":0.8996142766857389},{"$f":"+'[1]itcer BILATERAL'!BO207","v":0.9280228965209858},{"$f":"+'[1]itcer BILATERAL'!BP207","v":2.8309982824467568},null,{"$f":"+'[1]itcer BILATERAL'!BR207","v":1.5738969080932728},{"$f":"+'[1]itcer BILATERAL'!BS207","v":1.0040160642570277},{"$f":"+'[1]itcer BILATERAL'!BT207","v":0.98154875526976193},{"$f":"+'[1]itcer BILATERAL'!BU207","v":1.2724344069498641},{"$f":"+'[1]itcer BILATERAL'!BV207","v":1.3327620331734085},{"$f":"+'[1]itcer BILATERAL'!BW207","v":1.8800782778864973},null,{"$f":"+'[1]itcer BILATERAL'!BY207","v":0.66693385265353211},{"$f":"+'[1]itcer BILATERAL'!BZ207","v":0.97184251889057616},{"$f":"+'[1]itcer BILATERAL'!CA207","v":0.79079374518117196},{"$f":"+'[1]itcer BILATERAL'!CB207","v":0.75696144603170956},{"$f":"+'[1]itcer BILATERAL'!CC207","v":0.80957048341433169},{"$f":"+'[1]itcer BILATERAL'!CD207","v":0.48642307916457811}]
[null,"Octubre",{"$f":"+'[1]itcer BILATERAL'!AB208","v":104.56657268020315},{"$f":"+'[1]itcer BILATERAL'!AC208","v":95.940254494939708},{"$f":"+'[1]itcer BILATERAL'!AD208","v":76.969967600456002},{"$f":"+'[1]itcer BILATERAL'!AE208","v":96.503579598528447},{"$f":"+'[1]itcer BILATERAL'!AF208","v":107.48224914041083},{"$f":"+'[1]itcer BILATERAL'!AG208","v":96.536960456607375},null,{"$f":"+'[1]itcer BILATERAL'!BK208","v":-0.38291499827953146},{"$f":"+'[1]itcer BILATERAL'!BL208","v":-1.6749199386293867},{"$f":"+'[1]itcer BILATERAL'!BM208","v":-0.83778901499779579},{"$f":"+'[1]itcer BILATERAL'!BN208","v":0.19227974368017442},{"$f":"+'[1]itcer BILATERAL'!BO208","v":-0.38391540252510481},{"$f":"+'[1]itcer BILATERAL'!BP208","v":5.5610050056602773},null,{"$f":"+'[1]itcer BILATERAL'!BR208","v":1.5841533019646008},{"$f":"+'[1]itcer BILATERAL'!BS208","v":1.0040160642570277},{"$f":"+'[1]itcer BILATERAL'!BT208","v":0.98843545492006513},{"$f":"+'[1]itcer BILATERAL'!BU208","v":1.2731083658518505},{"$f":"+'[1]itcer BILATERAL'!BV208","v":1.3372669183794201},{"$f":"+'[1]itcer BILATERAL'!BW208","v":2.002667627974045},null,{"$f":"+'[1]itcer BILATERAL'!BY208","v":0.66007862086657931},{"$f":"+'[1]itcer BILATERAL'!BZ208","v":0.95556493476959958},{"$f":"+'[1]itcer BILATERAL'!CA208","v":0.77870504560847209},{"$f":"+'[1]itcer BILATERAL'!CB208","v":0.75801543833196683},{"$f":"+'[1]itcer BILATERAL'!CC208","v":0.80374566710035877},{"$f":"+'[1]itcer BILATERAL'!CD208","v":0.48204184812367928}]
[null,"Noviembre",{"$f":"+'[1]itcer BILATERAL'!AB209","v":102.73736485564237},{"$f":"+'[1]itcer BILATERAL'!AC209","v":96.402331989194536},{"$f":"+'[1]itcer BILATERAL'!AD209","v":75.672844305508605},{"$f":"+'[1]itcer BILATERAL'!AE209","v":95.601758477888481},{"$f":"+'[1]itcer BILATERAL'!AF209","v":107.3736668834936},{"$f":"+'[1]itcer BILATERAL'!AG209","v":99.0912564312966},null,{"$f":"+'[1]itcer BILATERAL'!BK209","v":-1.7493236869827058},{"$f":"+'[1]itcer BILATERAL'!BL209","v":0.48163046542595112},{"$f":"+'[1]itcer BILATERAL'!BM209","v":-1.6852330011110865},{"$f":"+'[1]itcer BILATERAL'!BN209","v":-0.93449499427036642},{"$f":"+'[1]itcer BILATERAL'!BO209","v":-0.10102343204168562},{"$f":"+'[1]itcer BILATERAL'!BP209","v":2.6459254182105383},null,{"$f":"+'[1]itcer BILATERAL'!BR209","v":1.5945298050032886},{"$f":"+'[1]itcer BILATERAL'!BS209","v":1.0040160642570277},{"$f":"+'[1]itcer BILATERAL'!BT209","v":0.98005046936943374},{"$f":"+'[1]itcer BILATERAL'!BU209","v":1.2737823247538365},{"$f":"+'[1]itcer BILATERAL'!BV209","v":1.3428567497607022},{"$f":"+'[1]itcer BILATERAL'!BW209","v":2.0548933978782578},null,{"$f":"+'[1]itcer BILATERAL'!BY209","v":0.64431134829386572},{"$f":"+'[1]itcer BILATERAL'!BZ209","v":0.96016722661237774},{"$f":"+'[1]itcer BILATERAL'!CA209","v":0.77213211636127921},{"$f":"+'[1]itcer BILATERAL'!CB209","v":0.75053450358061669},{"$f":"+'[1]itcer BILATERAL'!CC209","v":0.79959137043193662},{"$f":"+'[1]itcer BILATERAL'!CD209","v":0.48222091001709111}]
[null,"Diciembre",{"$f":"+'[1]itcer BILATERAL'!AB210","v":101.96605375858357},{"$f":"+'[1]itcer BILATERAL'!AC210","v":96.123202790929639},{"$f":"+'[1]itcer BILATERAL'!AD210","v":75.409674679693623},{"$f":"+'[1]itcer BILATERAL'!AE210","v":94.805055350395577},{"$f":"+'[1]itcer BILATERAL'!AF210","v":106.71820831205035},{"$f":"+'[1]itcer BILATERAL'!AG210","v":97.370135721498514},null,{"$f":"+'[1]itcer BILATERAL'!BK210","v":-0.75076005515867905},{"$f":"+'[1]itcer BILATERAL'!BL210","v":-0.28954610589315166},{"$f":"+'[1]itcer BILATERAL'!BM210","v":-0.34777287444424587},{"$f":"+'[1]itcer BILATERAL'!BN210","v":-0.83335614341986286},{"$f":"+'[1]itcer BILATERAL'!BO210","v":-0.61044629513719428},{"$f":"+'[1]itcer BILATERAL'!BP210","v":-1.7369047197331611},null,{"$f":"+'[1]itcer BILATERAL'!BR210","v":1.6050290366299675},{"$f":"+'[1]itcer BILATERAL'!BS210","v":1.0040160642570277},{"$f":"+'[1]itcer BILATERAL'!BT210","v":0.98024774797765257},{"$f":"+'[1]itcer BILATERAL'!BU210","v":1.2737823247538365},{"$f":"+'[1]itcer BILATERAL'!BV210","v":1.344845817748697},{"$f":"+'[1]itcer BILATERAL'!BW210","v":2.0469275929549906},null,{"$f":"+'[1]itcer BILATERAL'!BY210","v":0.63529102235233514},{"$f":"+'[1]itcer BILATERAL'!BZ210","v":0.95738709979765935},{"$f":"+'[1]itcer BILATERAL'!CA210","v":0.76929199618434418},{"$f":"+'[1]itcer BILATERAL'!CB210","v":0.74427987818654195},{"$f":"+'[1]itcer BILATERAL'!CC210","v":0.79353489376722075},{"$f":"+'[1]itcer BILATERAL'!CD210","v":0.47568920393970937}]
[2006,"Enero",{"$f":"+'[1]itcer BILATERAL'!AB211","v":102.195969566594},{"$f":"+'[1]itcer BILATERAL'!AC211","v":96.342735130739115},{"$f":"+'[1]itcer BILATERAL'!AD211","v":75.393395413675506},{"$f":"+'[1]itcer BILATERAL'!AE211","v":95.176665311316199},{"$f":"+'[1]itcer BILATERAL'!AF211","v":106.93681927582467},{"$f":"+'[1]itcer BILATERAL'!AG211","v":100.82296760270505},null,{"$f":"+'[1]itcer BILATERAL'!BK211","v":0.22548269697166745},{"$f":"+'[1]itcer BILATERAL'!BL211","v":0.22838641809195792},{"$f":"+'[1]itcer BILATERAL'!BM211","v":-2.1587768528732454E-2},{"$f":"+'[1]itcer BILATERAL'!BN211","v":0.3919727271369311},{"$f":"+'[1]itcer BILATERAL'!BO211","v":0.20484879500139641},{"$f":"+'[1]itcer BILATERAL'!BP211","v":3.5460892147490171},null,{"$f":"+'[1]itcer BILATERAL'!BR211","v":1.6152290605693045},{"$f":"+'[1]itcer BILATERAL'!BS211","v":1.0040160642570277},{"$f":"+'[1]itcer BILATERAL'!BT211","v":0.98142368321095652},{"$f":"+'[1]itcer BILATERAL'!BU211","v":1.2737823247538365},{"$f":"+'[1]itcer BILATERAL'!BV211","v":1.3536826257269823},{"$f":"+'[1]itcer BILATERAL'!BW211","v":2.1360531465650432},null,{"$f":"+'[1]itcer BILATERAL'!BY211","v":0.63270264299587298},{"$f":"+'[1]itcer BILATERAL'!BZ211","v":0.95957364190216188},{"$f":"+'[1]itcer BILATERAL'!CA211","v":0.76820436171876771},{"$f":"+'[1]itcer BILATERAL'!CB211","v":0.74719725232260115},{"$f":"+'[1]itcer BILATERAL'!CC211","v":0.78996965199575675},{"$f":"+'[1]itcer BILATERAL'!CD211","v":0.47200589444526236}]
[null,"Febrero",{"$f":"+'[1]itcer BILATERAL'!AB212","v":102.10442725623928},{"$f":"+'[1]itcer BILATERAL'!AC212","v":96.061356892374576},{"$f":"+'[1]itcer BILATERAL'!AD212","v":75.43880468133159},{"$f":"+'[1]itcer BILATERAL'!AE212","v":94.7057105423835},{"$f":"+'[1]itcer BILATERAL'!AF212","v":106.197011749719},{"$f":"+'[1]itcer BILATERAL'!AG212","v":100.0031338278705},null,{"$f":"+'[1]itcer BILATERAL'!BK212","v":-8.9575264800515697E-2},{"$f":"+'[1]itcer BILATERAL'!BL212","v":-0.29205963270889868},{"$f":"+'[1]itcer BILATERAL'!BM212","v":6.0229768677928064E-2},{"$f":"+'[1]itcer BILATERAL'!BN212","v":-0.49482167440122282},{"$f":"+'[1]itcer BILATERAL'!BO212","v":-0.69181740313172213},{"$f":"+'[1]itcer BILATERAL'!BP212","v":-0.81314188059323556},null,{"$f":"+'[1]itcer BILATERAL'!BR212","v":1.624794810512854},{"$f":"+'[1]itcer BILATERAL'!BS212","v":1.0040160642570277},{"$f":"+'[1]itcer BILATERAL'!BT212","v":0.9798106404731679},{"$f":"+'[1]itcer BILATERAL'!BU212","v":1.2737823247538365},{"$f":"+'[1]itcer BILATERAL'!BV212","v":1.3608212570831064},{"$f":"+'[1]itcer BILATERAL'!BW212","v":2.1118776393037386},null,{"$f":"+'[1]itcer BILATERAL'!BY212","v":0.6284142871185735},{"$f":"+'[1]itcer BILATERAL'!BZ212","v":0.9567711146480512},{"$f":"+'[1]itcer BILATERAL'!CA212","v":0.76993249067902392},{"$f":"+'[1]itcer BILATERAL'!CB212","v":0.74349995836757843},{"$f":"+'[1]itcer BILATERAL'!CC212","v":0.78038913043841063},{"$f":"+'[1]itcer BILATERAL'!CD212","v":0.47352712092183696}]
[null,"Marzo",{"$f":"+'[1]itcer BILATERAL'!AB213","v":103.06164384995672},{"$f":"+'[1]itcer BILATERAL'!AC213","v":96.251208835806381},{"$f":"+'[1]itcer BILATERAL'!AD213","v":75.597728611897537},{"$f":"+'[1]itcer BILATERAL'!AE213","v":95.023764473097756},{"$f":"+'[1]itcer BILATERAL'!AF213","v":106.41301827312185},{"$f":"+'[1]itcer BILATERAL'!AG213","v":95.721656348639186},null,{"$f":"+'[1]itcer BILATERAL'!BK213","v":0.93748784400429486},{"$f":"+'[1]itcer BILATERAL'!BL213","v":0.19763612504924311},{"$f":"+'[1]itcer BILATERAL'!BM213","v":0.21066602425273118},{"$f":"+'[1]itcer BILATERAL'!BN213","v":0.33583395224295032},{"$f":"+'[1]itcer BILATERAL'!BO213","v":0.20340169637911742},{"$f":"+'[1]itcer BILATERAL'!BP213","v":-4.2813433093014623},null,{"$f":"+'[1]itcer BILATERAL'!BR213","v":1.6337431255932473},{"$f":"+'[1]itcer BILATERAL'!BS213","v":1.0040160642570277},{"$f":"+'[1]itcer BILATERAL'!BT213","v":0.98111680537594959},{"$f":"+'[1]itcer BILATERAL'!BU213","v":1.2737823247538365},{"$f":"+'[1]itcer BILATERAL'!BV213","v":1.3649958435102301},{"$f":"+'[1]itcer BILATERAL'!BW213","v":2.0122216500154497},null,{"$f":"+'[1]itcer BILATERAL'!BY213","v":0.63083138490656432},{"$f":"+'[1]itcer BILATERAL'!BZ213","v":0.95866204000463184},{"$f":"+'[1]itcer BILATERAL'!CA213","v":0.77052730314745344},{"$f":"+'[1]itcer BILATERAL'!CB213","v":0.74599688366268924},{"$f":"+'[1]itcer BILATERAL'!CC213","v":0.77958492532453161},{"$f":"+'[1]itcer BILATERAL'!CD213","v":0.47570135401288544}]
[null,"Abril",{"$f":"+'[1]itcer BILATERAL'!AB214","v":104.02369570847374},{"$f":"+'[1]itcer BILATERAL'!AC214","v":96.420532890362011},{"$f":"+'[1]itcer BILATERAL'!AD214","v":75.365201413292965},{"$f":"+'[1]itcer BILATERAL'!AE214","v":95.311761719808274},{"$f":"+'[1]itcer BILATERAL'!AF214","v":106.17105829411274},{"$f":"+'[1]itcer BILATERAL'!AG214","v":94.626044038998558},null,{"$f":"+'[1]itcer BILATERAL'!BK214","v":0.93347226240408077},{"$f":"+'[1]itcer BILATERAL'!BL214","v":0.17591888621832652},{"$f":"+'[1]itcer BILATERAL'!BM214","v":-0.3075849008616558},{"$f":"+'[1]itcer BILATERAL'!BN214","v":0.30307918056861638},{"$f":"+'[1]itcer BILATERAL'!BO214","v":-0.22737817509140257},{"$f":"+'[1]itcer BILATERAL'!BP214","v":-1.1445814368800455},null,{"$f":"+'[1]itcer BILATERAL'!BR214","v":1.6421055386455157},{"$f":"+'[1]itcer BILATERAL'!BS214","v":1.0040160642570277},{"$f":"+'[1]itcer BILATERAL'!BT214","v":0.97789716691371265},{"$f":"+'[1]itcer BILATERAL'!BU214","v":1.2737823247538365},{"$f":"+'[1]itcer BILATERAL'!BV214","v":1.3694851026276529},{"$f":"+'[1]itcer BILATERAL'!BW214","v":1.9841157688742406},null,{"$f":"+'[1]itcer BILATERAL'!BY214","v":0.63347752784682343},{"$f":"+'[1]itcer BILATERAL'!BZ214","v":0.96034850758800605},{"$f":"+'[1]itcer BILATERAL'!CA214","v":0.77068636624798625},{"$f":"+'[1]itcer BILATERAL'!CB214","v":0.74825784490476166},{"$f":"+'[1]itcer BILATERAL'!CC214","v":0.77526260118055057},{"$f":"+'[1]itcer BILATERAL'!CD214","v":0.47691795772929141}]
[null,"Mayo",{"$f":"+'[1]itcer BILATERAL'!AB215","v":103.32996122811812},{"$f":"+'[1]itcer BILATERAL'!AC215","v":96.778293385982067},{"$f":"+'[1]itcer BILATERAL'!AD215","v":75.177544006947713},{"$f":"+'[1]itcer BILATERAL'!AE215","v":95.153098782121987},{"$f":"+'[1]itcer BILATERAL'!AF215","v":106.19347407529493},{"$f":"+'[1]itcer BILATERAL'!AG215","v":95.692742753780522},null,{"$f":"+'[1]itcer BILATERAL'!BK215","v":-0.66690043612737782},{"$f":"+'[1]itcer BILATERAL'!BL215","v":0.37104181536400915},{"$f":"+'[1]itcer BILATERAL'!BM215","v":-0.24899741900264871},{"$f":"+'[1]itcer BILATERAL'!BN215","v":-0.16646732241999018},{"$f":"+'[1]itcer BILATERAL'!BO215","v":2.1112892291313301E-2},{"$f":"+'[1]itcer BILATERAL'!BP215","v":1.1272781459006609},null,{"$f":"+'[1]itcer BILATERAL'!BR215","v":1.6488247018215789},{"$f":"+'[1]itcer BILATERAL'!BS215","v":1.0040160642570277},{"$f":"+'[1]itcer BILATERAL'!BT215","v":0.97670962705639586},{"$f":"+'[1]itcer BILATERAL'!BU215","v":1.2737823247538365},{"$f":"+'[1]itcer BILATERAL'!BV215","v":1.3752400345138671},{"$f":"+'[1]itcer BILATERAL'!BW215","v":2.0079822844783193},null,{"$f":"+'[1]itcer BILATERAL'!BY215","v":0.62668858074458633},{"$f":"+'[1]itcer BILATERAL'!BZ215","v":0.96391180212438199},{"$f":"+'[1]itcer BILATERAL'!CA215","v":0.76970208877245871},{"$f":"+'[1]itcer BILATERAL'!CB215","v":0.74701224010555112},{"$f":"+'[1]itcer BILATERAL'!CC215","v":0.77218137496144978},{"$f":"+'[1]itcer BILATERAL'!CD215","v":0.47656168828522233}]
[null,"Junio",{"$f":"+'[1]itcer BILATERAL'!AB216","v":103.11213693554819},{"$f":"+'[1]itcer BILATERAL'!AC216","v":96.174092901204105},{"$f":"+'[1]itcer BILATERAL'!AD216","v":75.139763875887056},{"$f":"+'[1]itcer BILATERAL'!AE216","v":95.056115127389319},{"$f":"+'[1]itcer BILATERAL'!AF216","v":106.63423171765146},{"$f":"+'[1]itcer BILATERAL'!AG216","v":95.959533755463312},null,{"$f":"+'[1]itcer BILATERAL'!BK216","v":-0.21080458173118188},{"$f":"+'[1]itcer BILATERAL'!BL216","v":-0.62431405187962241},{"$f":"+'[1]itcer BILATERAL'!BM216","v":-5.0254542842168348E-2},{"$f":"+'[1]itcer BILATERAL'!BN216","v":-0.10192380066857254},{"$f":"+'[1]itcer BILATERAL'!BO216","v":0.41505153324582977},{"$f":"+'[1]itcer BILATERAL'!BP216","v":0.2787996184509467},null,{"$f":"+'[1]itcer BILATERAL'!BR216","v":1.657802434243008},{"$f":"+'[1]itcer BILATERAL'!BS216","v":1.0040160642570277},{"$f":"+'[1]itcer BILATERAL'!BT216","v":0.98010591368416189},{"$f":"+'[1]itcer BILATERAL'!BU216","v":1.2737823247538365},{"$f":"+'[1]itcer BILATERAL'!BV216","v":1.382984037179106},{"$f":"+'[1]itcer BILATERAL'!BW216","v":2.0248346894633849},null,{"$f":"+'[1]itcer BILATERAL'!BY216","v":0.62198085131073944},{"$f":"+'[1]itcer BILATERAL'!BZ216","v":0.95789396529599358},{"$f":"+'[1]itcer BILATERAL'!CA216","v":0.76664942866675512},{"$f":"+'[1]itcer BILATERAL'!CB216","v":0.74625085683897618},{"$f":"+'[1]itcer BILATERAL'!CC216","v":0.77104455909089864},{"$f":"+'[1]itcer BILATERAL'!CD216","v":0.47391292857045136}]
[null,"Julio",{"$f":"+'[1]itcer BILATERAL'!AB217","v":103.0437418478074},{"$f":"+'[1]itcer BILATERAL'!AC217","v":95.270288921839551},{"$f":"+'[1]itcer BILATERAL'!AD217","v":74.756931916663447},{"$f":"+'[1]itcer BILATERAL'!AE217","v":94.827079885515275},{"$f":"+'[1]itcer BILATERAL'!AF217","v":106.61469864247307},{"$f":"+'[1]itcer BILATERAL'!AG217","v":95.357562983576656},null,{"$f":"+'[1]itcer BILATERAL'!BK217","v":-6.633078294512984E-2},{"$f":"+'[1]itcer BILATERAL'!BL217","v":-0.93975825723980222},{"$f":"+'[1]itcer BILATERAL'!BM217","v":-0.5094931624431922},{"$f":"+'[1]itcer BILATERAL'!BN217","v":-0.24094740413818272},{"$f":"+'[1]itcer BILATERAL'!BO217","v":-1.8317828021778837E-2},{"$f":"+'[1]itcer BILATERAL'!BP217","v":-0.62731731629780541},null,{"$f":"+'[1]itcer BILATERAL'!BR217","v":1.6671407386457744},{"$f":"+'[1]itcer BILATERAL'!BS217","v":1.0040160642570277},{"$f":"+'[1]itcer BILATERAL'!BT217","v":0.97660905364828432},{"$f":"+'[1]itcer BILATERAL'!BU217","v":1.2737823247538365},{"$f":"+'[1]itcer BILATERAL'!BV217","v":1.3859848286578484},{"$f":"+'[1]itcer BILATERAL'!BW217","v":2.0241672674837781},null,{"$f":"+'[1]itcer BILATERAL'!BY217","v":0.61808664055267626},{"$f":"+'[1]itcer BILATERAL'!BZ217","v":0.94889207766152239},{"$f":"+'[1]itcer BILATERAL'!CA217","v":0.76547449194123895},{"$f":"+'[1]itcer BILATERAL'!CB217","v":0.74445278477106358},{"$f":"+'[1]itcer BILATERAL'!CC217","v":0.76923424007256946},{"$f":"+'[1]itcer BILATERAL'!CD217","v":0.47109527219118941}]
[null,"Agosto",{"$f":"+'[1]itcer BILATERAL'!AB218","v":102.86953917416561},{"$f":"+'[1]itcer BILATERAL'!AC218","v":95.968760970361402},{"$f":"+'[1]itcer BILATERAL'!AD218","v":74.652692711118235},{"$f":"+'[1]itcer BILATERAL'!AE218","v":94.675746568115855},{"$f":"+'[1]itcer BILATERAL'!AF218","v":107.18386199363405},{"$f":"+'[1]itcer BILATERAL'!AG218","v":95.014478951397706},null,{"$f":"+'[1]itcer BILATERAL'!BK218","v":-0.16905701454346911},{"$f":"+'[1]itcer BILATERAL'!BL218","v":0.73314782229209641},{"$f":"+'[1]itcer BILATERAL'!BM218","v":-0.13943751150918615},{"$f":"+'[1]itcer BILATERAL'!BN218","v":-0.1595887140910861},{"$f":"+'[1]itcer BILATERAL'!BO218","v":0.53385073391206106},{"$f":"+'[1]itcer BILATERAL'!BP218","v":-0.3597869130087048},null,{"$f":"+'[1]itcer BILATERAL'!BR218","v":1.6756276614920644},{"$f":"+'[1]itcer BILATERAL'!BS218","v":1.0040160642570277},{"$f":"+'[1]itcer BILATERAL'!BT218","v":0.97657166097090953},{"$f":"+'[1]itcer BILATERAL'!BU218","v":1.2737823247538365},{"$f":"+'[1]itcer BILATERAL'!BV218","v":1.3931023367617892},{"$f":"+'[1]itcer BILATERAL'!BW218","v":2.0167514677103719},null,{"$f":"+'[1]itcer BILATERAL'!BY218","v":0.6139164537458478},{"$f":"+'[1]itcer BILATERAL'!BZ218","v":0.9558488592647999},{"$f":"+'[1]itcer BILATERAL'!CA218","v":0.76443640231069543},{"$f":"+'[1]itcer BILATERAL'!CB218","v":0.74326472214483208},{"$f":"+'[1]itcer BILATERAL'!CC218","v":0.76938972224236357},{"$f":"+'[1]itcer BILATERAL'!CD218","v":0.4711263657056769}]
[null,"Septiembre",{"$f":"+'[1]itcer BILATERAL'!AB219","v":103.05497617369957},{"$f":"+'[1]itcer BILATERAL'!AC219","v":95.540732985904299},{"$f":"+'[1]itcer BILATERAL'!AD219","v":74.804586767680263},{"$f":"+'[1]itcer BILATERAL'!AE219","v":94.21142216120991},{"$f":"+'[1]itcer BILATERAL'!AF219","v":107.26582889159386},{"$f":"+'[1]itcer BILATERAL'!AG219","v":96.524195811331893},null,{"$f":"+'[1]itcer BILATERAL'!BK219","v":0.18026424636742888},{"$f":"+'[1]itcer BILATERAL'!BL219","v":-0.44600761761350327},{"$f":"+'[1]itcer BILATERAL'!BM219","v":0.203467619245572},{"$f":"+'[1]itcer BILATERAL'!BN219","v":-0.49043648847477073},{"$f":"+'[1]itcer BILATERAL'!BO219","v":7.647317090018646E-2},{"$f":"+'[1]itcer BILATERAL'!BP219","v":1.588933472662049},null,{"$f":"+'[1]itcer BILATERAL'!BR219","v":1.6841259700866988},{"$f":"+'[1]itcer BILATERAL'!BS219","v":1.0040160642570277},{"$f":"+'[1]itcer BILATERAL'!BT219","v":0.97964172872364719},{"$f":"+'[1]itcer BILATERAL'!BU219","v":1.2737823247538365},{"$f":"+'[1]itcer BILATERAL'!BV219","v":1.3953819384333928},{"$f":"+'[1]itcer BILATERAL'!BW219","v":2.0362241219487078},null,{"$f":"+'[1]itcer BILATERAL'!BY219","v":0.61191964261672371},{"$f":"+'[1]itcer BILATERAL'!BZ219","v":0.95158570053960734},{"$f":"+'[1]itcer BILATERAL'!CA219","v":0.76359126581042491},{"$f":"+'[1]itcer BILATERAL'!CB219","v":0.73961948074147332},{"$f":"+'[1]itcer BILATERAL'!CC219","v":0.76872020439093647},{"$f":"+'[1]itcer BILATERAL'!CD219","v":0.47403522417245653}]
[null,"Octubre",{"$f":"+'[1]itcer BILATERAL'!AB220","v":102.20857036523907},{"$f":"+'[1]itcer BILATERAL'!AC220","v":95.395449494444335},{"$f":"+'[1]itcer BILATERAL'!AD220","v":74.486912838375872},{"$f":"+'[1]itcer BILATERAL'!AE220","v":93.589776952295566},{"$f":"+'[1]itcer BILATERAL'!AF220","v":106.69190428688796},{"$f":"+'[1]itcer BILATERAL'!AG220","v":97.427630752443136},null,{"$f":"+'[1]itcer BILATERAL'!BK220","v":-0.82131483591231813},{"$f":"+'[1]itcer BILATERAL'!BL220","v":-0.15206445138053937},{"$f":"+'[1]itcer BILATERAL'!BM220","v":-0.42467172539966214},{"$f":"+'[1]itcer BILATERAL'!BN220","v":-0.65984059539046314},{"$f":"+'[1]itcer BILATERAL'!BO220","v":-0.53504886937099627},{"$f":"+'[1]itcer BILATERAL'!BP220","v":0.93596733287175482},null,{"$f":"+'[1]itcer BILATERAL'!BR220","v":1.6825670306292217},{"$f":"+'[1]itcer BILATERAL'!BS220","v":1.0040160642570277},{"$f":"+'[1]itcer BILATERAL'!BT220","v":0.9805855714766939},{"$f":"+'[1]itcer BILATERAL'!BU220","v":1.2737823247538365},{"$f":"+'[1]itcer BILATERAL'!BV220","v":1.401719010733498},{"$f":"+'[1]itcer BILATERAL'!BW220","v":2.0686188072922032},null,{"$f":"+'[1]itcer BILATERAL'!BY220","v":0.60745615779132811},{"$f":"+'[1]itcer BILATERAL'!BZ220","v":0.95013867696466592},{"$f":"+'[1]itcer BILATERAL'!CA220","v":0.75961665157079306},{"$f":"+'[1]itcer BILATERAL'!CB220","v":0.73473917115612475},{"$f":"+'[1]itcer BILATERAL'!CC220","v":0.76115044077955196},{"$f":"+'[1]itcer BILATERAL'!CD220","v":0.47097914032781463}]
[null,"Noviembre",{"$f":"+'[1]itcer BILATERAL'!AB221","v":100.39034356533811},{"$f":"+'[1]itcer BILATERAL'!AC221","v":94.659623381005744},{"$f":"+'[1]itcer BILATERAL'!AD221","v":73.897087032614451},{"$f":"+'[1]itcer BILATERAL'!AE221","v":92.955614579000766},{"$f":"+'[1]itcer BILATERAL'!AF221","v":106.2460814387024},{"$f":"+'[1]itcer BILATERAL'!AG221","v":96.909708292249334},null,{"$f":"+'[1]itcer BILATERAL'!BK221","v":-1.7789377088472946},{"$f":"+'[1]itcer BILATERAL'!BL221","v":-0.771342991031716},{"$f":"+'[1]itcer BILATERAL'!BM221","v":-0.79185159283113649},{"$f":"+'[1]itcer BILATERAL'!BN221","v":-0.6775979107398058},{"$f":"+'[1]itcer BILATERAL'!BO221","v":-0.4178600533614798},{"$f":"+'[1]itcer BILATERAL'!BP221","v":-0.53159710052869968},null,{"$f":"+'[1]itcer BILATERAL'!BR221","v":1.6719911372920588},{"$f":"+'[1]itcer BILATERAL'!BS221","v":1.0040160642570277},{"$f":"+'[1]itcer BILATERAL'!BT221","v":0.97983384972119347},{"$f":"+'[1]itcer BILATERAL'!BU221","v":1.2737823247538365},{"$f":"+'[1]itcer BILATERAL'!BV221","v":1.4085008560952343},{"$f":"+'[1]itcer BILATERAL'!BW221","v":2.0738902049644659},null,{"$f":"+'[1]itcer BILATERAL'!BY221","v":0.60042389774822236},{"$f":"+'[1]itcer BILATERAL'!BZ221","v":0.94280984887481745},{"$f":"+'[1]itcer BILATERAL'!CA221","v":0.75417977296499261},{"$f":"+'[1]itcer BILATERAL'!CB221","v":0.72976059388298398},{"$f":"+'[1]itcer BILATERAL'!CC221","v":0.75432031850691827},{"$f":"+'[1]itcer BILATERAL'!CD221","v":0.46728466174471267}]
[null,"Diciembre",{"$f":"+'[1]itcer BILATERAL'!AB222","v":99.616835306564496},{"$f":"+'[1]itcer BILATERAL'!AC222","v":93.973837210334622},{"$f":"+'[1]itcer BILATERAL'!AD222","v":73.021633067296392},{"$f":"+'[1]itcer BILATERAL'!AE222","v":92.333171657547879},{"$f":"+'[1]itcer BILATERAL'!AF222","v":105.11976066771486},{"$f":"+'[1]itcer BILATERAL'!AG222","v":94.982815547643256},null,{"$f":"+'[1]itcer BILATERAL'!BK222","v":-0.77050065903020482},{"$f":"+'[1]itcer BILATERAL'!BL222","v":-0.72447591293578739},{"$f":"+'[1]itcer BILATERAL'!BM222","v":-1.1846934709776633},{"$f":"+'[1]itcer BILATERAL'!BN222","v":-0.66961304518501663},{"$f":"+'[1]itcer BILATERAL'!BO222","v":-1.0601057052982839},{"$f":"+'[1]itcer BILATERAL'!BP222","v":-1.9883381949671843},null,{"$f":"+'[1]itcer BILATERAL'!BR222","v":1.6733822941266816},{"$f":"+'[1]itcer BILATERAL'!BS222","v":1.0040160642570277},{"$f":"+'[1]itcer BILATERAL'!BT222","v":0.97930777343261022},{"$f":"+'[1]itcer BILATERAL'!BU222","v":1.2737823247538365},{"$f":"+'[1]itcer BILATERAL'!BV222","v":1.4139364480984939},{"$f":"+'[1]itcer BILATERAL'!BW222","v":2.0446348748583789},null,{"$f":"+'[1]itcer BILATERAL'!BY222","v":0.59530231469643546},{"$f":"+'[1]itcer BILATERAL'!BZ222","v":0.93597941861493295},{"$f":"+'[1]itcer BILATERAL'!CA222","v":0.74564539410675157},{"$f":"+'[1]itcer BILATERAL'!CB222","v":0.72487402174772375},{"$f":"+'[1]itcer BILATERAL'!CC222","v":0.74345463552540281},{"$f":"+'[1]itcer BILATERAL'!CD222","v":0.46454658832043161}]
[2007,"Enero",{"$f":"+'[1]itcer BILATERAL'!AB223","v":99.158521026388641},{"$f":"+'[1]itcer BILATERAL'!AC223","v":93.180667305380467},{"$f":"+'[1]itcer BILATERAL'!AD223","v":72.997692278026577},{"$f":"+'[1]itcer BILATERAL'!AE223","v":92.024090070925453},{"$f":"+'[1]itcer BILATERAL'!AF223","v":104.95967340698489},{"$f":"+'[1]itcer BILATERAL'!AG223","v":96.147858603653148},null,{"$f":"+'[1]itcer BILATERAL'!BK223","v":-0.46007713331329114},{"$f":"+'[1]itcer BILATERAL'!BL223","v":-0.84403268877790083},{"$f":"+'[1]itcer BILATERAL'!BM223","v":-3.2785885858984898E-2},{"$f":"+'[1]itcer BILATERAL'!BN223","v":-0.33474598681476664},{"$f":"+'[1]itcer BILATERAL'!BO223","v":-0.15229035883747599},{"$f":"+'[1]itcer BILATERAL'!BP223","v":1.2265829869251519},null,{"$f":"+'[1]itcer BILATERAL'!BR223","v":1.6765035957512615},{"$f":"+'[1]itcer BILATERAL'!BS223","v":1.0040160642570277},{"$f":"+'[1]itcer BILATERAL'!BT223","v":0.98885966839786898},{"$f":"+'[1]itcer BILATERAL'!BU223","v":1.2737823247538365},{"$f":"+'[1]itcer BILATERAL'!BV223","v":1.4198643424184467},{"$f":"+'[1]itcer BILATERAL'!BW223","v":2.0826779276959524},null,{"$f":"+'[1]itcer BILATERAL'!BY223","v":0.59146023472711062},{"$f":"+'[1]itcer BILATERAL'!BZ223","v":0.9280794463615899},{"$f":"+'[1]itcer BILATERAL'!CA223","v":0.7382007236304422},{"$f":"+'[1]itcer BILATERAL'!CB223","v":0.72244753505046078},{"$f":"+'[1]itcer BILATERAL'!CC223","v":0.73922325021704305},{"$f":"+'[1]itcer BILATERAL'!CD223","v":0.46165495550250846}]
[null,"Febrero",{"$f":"+'[1]itcer BILATERAL'!AB224","v":99.537367472867629},{"$f":"+'[1]itcer BILATERAL'!AC224","v":93.88411580237748},{"$f":"+'[1]itcer BILATERAL'!AD224","v":73.295535370650953},{"$f":"+'[1]itcer BILATERAL'!AE224","v":91.675842835065424},{"$f":"+'[1]itcer BILATERAL'!AF224","v":104.7957615898883},{"$f":"+'[1]itcer BILATERAL'!AG224","v":95.396994919249764},null,{"$f":"+'[1]itcer BILATERAL'!BK224","v":0.38206141293512985},{"$f":"+'[1]itcer BILATERAL'!BL224","v":0.75492966227812985},{"$f":"+'[1]itcer BILATERAL'!BM224","v":0.4080171349663857},{"$f":"+'[1]itcer BILATERAL'!BN224","v":-0.37843051269686612},{"$f":"+'[1]itcer BILATERAL'!BO224","v":-0.15616647020328855},{"$f":"+'[1]itcer BILATERAL'!BP224","v":-0.78094686174826222},null,{"$f":"+'[1]itcer BILATERAL'!BR224","v":1.6798671937842622},{"$f":"+'[1]itcer BILATERAL'!BS224","v":1.0040160642570277},{"$f":"+'[1]itcer BILATERAL'!BT224","v":0.99107357277899044},{"$f":"+'[1]itcer BILATERAL'!BU224","v":1.2737823247538365},{"$f":"+'[1]itcer BILATERAL'!BV224","v":1.4267749778391881},{"$f":"+'[1]itcer BILATERAL'!BW224","v":2.0617035740035021},null,{"$f":"+'[1]itcer BILATERAL'!BY224","v":0.59253117056615823},{"$f":"+'[1]itcer BILATERAL'!BZ224","v":0.93508579339167996},{"$f":"+'[1]itcer BILATERAL'!CA224","v":0.73955695504147845},{"$f":"+'[1]itcer BILATERAL'!CB224","v":0.71971357313960338},{"$f":"+'[1]itcer BILATERAL'!CC224","v":0.73449396868873218},{"$f":"+'[1]itcer BILATERAL'!CD224","v":0.46270955787307438}]
[null,"Marzo",{"$f":"+'[1]itcer BILATERAL'!AB225","v":99.670644326130883},{"$f":"+'[1]itcer BILATERAL'!AC225","v":94.162323856519521},{"$f":"+'[1]itcer BILATERAL'!AD225","v":73.306855676411672},{"$f":"+'[1]itcer BILATERAL'!AE225","v":91.866842571073192},{"$f":"+'[1]itcer BILATERAL'!AF225","v":104.84683613939954},{"$f":"+'[1]itcer BILATERAL'!AG225","v":93.878466195820806},null,{"$f":"+'[1]itcer BILATERAL'!BK225","v":0.13389630110478379},{"$f":"+'[1]itcer BILATERAL'!BL225","v":0.29633133546005297},{"$f":"+'[1]itcer BILATERAL'!BM225","v":1.5444741215773661E-2},{"$f":"+'[1]itcer BILATERAL'!BN225","v":0.20834249252705206},{"$f":"+'[1]itcer BILATERAL'!BO225","v":4.8737228239374986E-2},{"$f":"+'[1]itcer BILATERAL'!BP225","v":-1.591799327341846},null,{"$f":"+'[1]itcer BILATERAL'!BR225","v":1.6789847109734861},{"$f":"+'[1]itcer BILATERAL'!BS225","v":1.0040160642570277},{"$f":"+'[1]itcer BILATERAL'!BT225","v":0.99068288377055735},{"$f":"+'[1]itcer BILATERAL'!BU225","v":1.2737823247538365},{"$f":"+'[1]itcer BILATERAL'!BV225","v":1.4304192567266063},{"$f":"+'[1]itcer BILATERAL'!BW225","v":2.0264476259141007},null,{"$f":"+'[1]itcer BILATERAL'!BY225","v":0.59363640225372405},{"$f":"+'[1]itcer BILATERAL'!BZ225","v":0.93785674561093468},{"$f":"+'[1]itcer BILATERAL'!CA225","v":0.73996287689360718},{"$f":"+'[1]itcer BILATERAL'!CB225","v":0.72121304233693784},{"$f":"+'[1]itcer BILATERAL'!CC225","v":0.73297975853130404},{"$f":"+'[1]itcer BILATERAL'!CD225","v":0.46326618559151567}]
[null,"Abril",{"$f":"+'[1]itcer BILATERAL'!AB226","v":99.36418538801729},{"$f":"+'[1]itcer BILATERAL'!AC226","v":94.701961790738267},{"$f":"+'[1]itcer BILATERAL'!AD226","v":73.309889778114879},{"$f":"+'[1]itcer BILATERAL'!AE226","v":91.938859346989588},{"$f":"+'[1]itcer BILATERAL'!AF226","v":104.61622710877218},{"$f":"+'[1]itcer BILATERAL'!AG226","v":92.117806418768069},null,{"$f":"+'[1]itcer BILATERAL'!BK226","v":-0.30747161331758832},{"$f":"+'[1]itcer BILATERAL'!BL226","v":0.57309326290737772},{"$f":"+'[1]itcer BILATERAL'!BM226","v":4.1389058024918768E-3},{"$f":"+'[1]itcer BILATERAL'!BN226","v":7.8392566785652207E-2},{"$f":"+'[1]itcer BILATERAL'!BO226","v":-0.21994848783110399},{"$f":"+'[1]itcer BILATERAL'!BP226","v":-1.875467131493366},null,{"$f":"+'[1]itcer BILATERAL'!BR226","v":1.6783941887863041},{"$f":"+'[1]itcer BILATERAL'!BS226","v":1.0040160642570277},{"$f":"+'[1]itcer BILATERAL'!BT226","v":0.98672570698216922},{"$f":"+'[1]itcer BILATERAL'!BU226","v":1.2737823247538365},{"$f":"+'[1]itcer BILATERAL'!BV226","v":1.432365326141116},{"$f":"+'[1]itcer BILATERAL'!BW226","v":1.9916428056442477},null,{"$f":"+'[1]itcer BILATERAL'!BY226","v":0.5920193602426046},{"$f":"+'[1]itcer BILATERAL'!BZ226","v":0.94323153943575344},{"$f":"+'[1]itcer BILATERAL'!CA226","v":0.74296118221474117},{"$f":"+'[1]itcer BILATERAL'!CB226","v":0.72177841975281887},{"$f":"+'[1]itcer BILATERAL'!CC226","v":0.73037391508641847},{"$f":"+'[1]itcer BILATERAL'!CD226","v":0.46252172406472358}]
[null,"Mayo",{"$f":"+'[1]itcer BILATERAL'!AB227","v":98.947688354633883},{"$f":"+'[1]itcer BILATERAL'!AC227","v":95.675539962259151},{"$f":"+'[1]itcer BILATERAL'!AD227","v":73.775179599705439},{"$f":"+'[1]itcer BILATERAL'!AE227","v":92.134643189797799},{"$f":"+'[1]itcer BILATERAL'!AF227","v":104.68404554207908},{"$f":"+'[1]itcer BILATERAL'!AG227","v":91.454751955337443},null,{"$f":"+'[1]itcer BILATERAL'!BK227","v":-0.41916212743755921},{"$f":"+'[1]itcer BILATERAL'!BL227","v":1.0280443542153677},{"$f":"+'[1]itcer BILATERAL'!BM227","v":0.63468902081129386},{"$f":"+'[1]itcer BILATERAL'!BN227","v":0.21295004549632779},{"$f":"+'[1]itcer BILATERAL'!BO227","v":6.4825921543103959E-2},{"$f":"+'[1]itcer BILATERAL'!BP227","v":-0.71978967933341664},null,{"$f":"+'[1]itcer BILATERAL'!BR227","v":1.6785037853455294},{"$f":"+'[1]itcer BILATERAL'!BS227","v":1.0040160642570277},{"$f":"+'[1]itcer BILATERAL'!BT227","v":0.98438544113957416},{"$f":"+'[1]itcer BILATERAL'!BU227","v":1.2737823247538365},{"$f":"+'[1]itcer BILATERAL'!BV227","v":1.4355002349348442},{"$f":"+'[1]itcer BILATERAL'!BW227","v":1.9861860129776499},null,{"$f":"+'[1]itcer BILATERAL'!BY227","v":0.58949934589670849},{"$f":"+'[1]itcer BILATERAL'!BZ227","v":0.95292837802410113},{"$f":"+'[1]itcer BILATERAL'!CA227","v":0.74945419260060964},{"$f":"+'[1]itcer BILATERAL'!CB227","v":0.72331544722606511},{"$f":"+'[1]itcer BILATERAL'!CC227","v":0.72925132991587815},{"$f":"+'[1]itcer BILATERAL'!CD227","v":0.46045411334978814}]
[null,"Junio",{"$f":"+'[1]itcer BILATERAL'!AB228","v":98.561176376079786},{"$f":"+'[1]itcer BILATERAL'!AC228","v":95.227422833139414},{"$f":"+'[1]itcer BILATERAL'!AD228","v":73.925116595536238},{"$f":"+'[1]itcer BILATERAL'!AE228","v":91.949350777641769},{"$f":"+'[1]itcer BILATERAL'!AF228","v":104.03074747958529},{"$f":"+'[1]itcer BILATERAL'!AG228","v":92.047885715618918},null,{"$f":"+'[1]itcer BILATERAL'!BK228","v":-0.39062254508546346},{"$f":"+'[1]itcer BILATERAL'!BL228","v":-0.46837167503470312},{"$f":"+'[1]itcer BILATERAL'!BM228","v":0.2032350129736642},{"$f":"+'[1]itcer BILATERAL'!BN228","v":-0.20111046805089927},{"$f":"+'[1]itcer BILATERAL'!BO228","v":-0.62406650326785496},{"$f":"+'[1]itcer BILATERAL'!BP228","v":0.64855433709026045},null,{"$f":"+'[1]itcer BILATERAL'!BR228","v":1.6782068827483425},{"$f":"+'[1]itcer BILATERAL'!BS228","v":1.0040160642570277},{"$f":"+'[1]itcer BILATERAL'!BT228","v":0.98892284912860551},{"$f":"+'[1]itcer BILATERAL'!BU228","v":1.2737823247538365},{"$f":"+'[1]itcer BILATERAL'!BV228","v":1.438166912679522},{"$f":"+'[1]itcer BILATERAL'!BW228","v":2.0032176331239056},null,{"$f":"+'[1]itcer BILATERAL'!BY228","v":0.58730051335905287},{"$f":"+'[1]itcer BILATERAL'!BZ228","v":0.94846513141806887},{"$f":"+'[1]itcer BILATERAL'!CA228","v":0.7475316872360237},{"$f":"+'[1]itcer BILATERAL'!CB228","v":0.72186078414466404},{"$f":"+'[1]itcer BILATERAL'!CC228","v":0.72335656287461303},{"$f":"+'[1]itcer BILATERAL'!CD228","v":0.45950017708298319}]
[null,"Julio",{"$f":"+'[1]itcer BILATERAL'!AB229","v":97.614561817133421},{"$f":"+'[1]itcer BILATERAL'!AC229","v":94.527272819360505},{"$f":"+'[1]itcer BILATERAL'!AD229","v":73.389888956155659},{"$f":"+'[1]itcer BILATERAL'!AE229","v":91.309008200420735},{"$f":"+'[1]itcer BILATERAL'!AF229","v":103.57558248537022},{"$f":"+'[1]itcer BILATERAL'!AG229","v":93.422795475202761},null,{"$f":"+'[1]itcer BILATERAL'!BK229","v":-0.96043350308073627},{"$f":"+'[1]itcer BILATERAL'!BL229","v":-0.7352399056369876},{"$f":"+'[1]itcer BILATERAL'!BM229","v":-0.72401325020419449},{"$f":"+'[1]itcer BILATERAL'!BN229","v":-0.69640793741932328},{"$f":"+'[1]itcer BILATERAL'!BO229","v":-0.4375292932547552},{"$f":"+'[1]itcer BILATERAL'!BP229","v":1.4936896691267947},null,{"$f":"+'[1]itcer BILATERAL'!BR229","v":1.6779589458541626},{"$f":"+'[1]itcer BILATERAL'!BS229","v":1.0040160642570277},{"$f":"+'[1]itcer BILATERAL'!BT229","v":0.9889911874700148},{"$f":"+'[1]itcer BILATERAL'!BU229","v":1.2737823247538365},{"$f":"+'[1]itcer BILATERAL'!BV229","v":1.443835363348867},{"$f":"+'[1]itcer BILATERAL'!BW229","v":2.0388938098671336},null,{"$f":"+'[1]itcer BILATERAL'!BY229","v":0.58174582911170636},{"$f":"+'[1]itcer BILATERAL'!BZ229","v":0.94149163728083096},{"$f":"+'[1]itcer BILATERAL'!CA229","v":0.74206817902895394},{"$f":"+'[1]itcer BILATERAL'!CB229","v":0.71683368834676353},{"$f":"+'[1]itcer BILATERAL'!CC229","v":0.71736421696400687},{"$f":"+'[1]itcer BILATERAL'!CD229","v":0.45820334057167367}]
[null,"Agosto",{"$f":"+'[1]itcer BILATERAL'!AB230","v":96.752468911001401},{"$f":"+'[1]itcer BILATERAL'!AC230","v":94.496232646600077},{"$f":"+'[1]itcer BILATERAL'!AD230","v":72.434042682456294},{"$f":"+'[1]itcer BILATERAL'!AE230","v":90.48367732125979},{"$f":"+'[1]itcer BILATERAL'!AF230","v":103.91828037506011},{"$f":"+'[1]itcer BILATERAL'!AG230","v":93.600393722810821},null,{"$f":"+'[1]itcer BILATERAL'!BK230","v":-0.883160145457623},{"$f":"+'[1]itcer BILATERAL'!BL230","v":-3.2837266785151087E-2},{"$f":"+'[1]itcer BILATERAL'!BM230","v":-1.3024222918097195},{"$f":"+'[1]itcer BILATERAL'!BN230","v":-0.90388768362193161},{"$f":"+'[1]itcer BILATERAL'!BO230","v":0.33086745105998716},{"$f":"+'[1]itcer BILATERAL'!BP230","v":0.19010161995763042},null,{"$f":"+'[1]itcer BILATERAL'!BR230","v":1.6778793154669631},{"$f":"+'[1]itcer BILATERAL'!BS230","v":1.0040160642570277},{"$f":"+'[1]itcer BILATERAL'!BT230","v":0.98693587961706886},{"$f":"+'[1]itcer BILATERAL'!BU230","v":1.2737823247538365},{"$f":"+'[1]itcer BILATERAL'!BV230","v":1.45525088397562},{"$f":"+'[1]itcer BILATERAL'!BW230","v":2.0333813987022356},null,{"$f":"+'[1]itcer BILATERAL'!BY230","v":0.57663544701410563},{"$f":"+'[1]itcer BILATERAL'!BZ230","v":0.94118247716013692},{"$f":"+'[1]itcer BILATERAL'!CA230","v":0.73392855785687605},{"$f":"+'[1]itcer BILATERAL'!CB230","v":0.71035431692574424},{"$f":"+'[1]itcer BILATERAL'!CC230","v":0.71409185535874287},{"$f":"+'[1]itcer BILATERAL'!CD230","v":0.46031892385043632}]
[null,"Septiembre",{"$f":"+'[1]itcer BILATERAL'!AB231","v":96.369686413388052},{"$f":"+'[1]itcer BILATERAL'!AC231","v":94.117846600352294},{"$f":"+'[1]itcer BILATERAL'!AD231","v":72.487852563616144},{"$f":"+'[1]itcer BILATERAL'!AE231","v":90.381752525295383},{"$f":"+'[1]itcer BILATERAL'!AF231","v":103.5110000663631},{"$f":"+'[1]itcer BILATERAL'!AG231","v":93.862676259809604},null,{"$f":"+'[1]itcer BILATERAL'!BK231","v":-0.39563072851966297},{"$f":"+'[1]itcer BILATERAL'!BL231","v":-0.40042447793963731},{"$f":"+'[1]itcer BILATERAL'!BM231","v":7.4288109799084623E-2},{"$f":"+'[1]itcer BILATERAL'!BN231","v":-0.11264440060556069},{"$f":"+'[1]itcer BILATERAL'!BO231","v":-0.3919236415643752},{"$f":"+'[1]itcer BILATERAL'!BP231","v":0.28021520697392077},null,{"$f":"+'[1]itcer BILATERAL'!BR231","v":1.6772010601514273},{"$f":"+'[1]itcer BILATERAL'!BS231","v":1.0040160642570277},{"$f":"+'[1]itcer BILATERAL'!BT231","v":0.99158226155378104},{"$f":"+'[1]itcer BILATERAL'!BU231","v":1.2737823247538365},{"$f":"+'[1]itcer BILATERAL'!BV231","v":1.461909937674559},{"$f":"+'[1]itcer BILATERAL'!BW231","v":2.0582675867751572},null,{"$f":"+'[1]itcer BILATERAL'!BY231","v":0.5745863671508008},{"$f":"+'[1]itcer BILATERAL'!BZ231","v":0.93741375213950906},{"$f":"+'[1]itcer BILATERAL'!CA231","v":0.73103216318159769},{"$f":"+'[1]itcer BILATERAL'!CB231","v":0.70955414256326732},{"$f":"+'[1]itcer BILATERAL'!CC231","v":0.70805319396772626},{"$f":"+'[1]itcer BILATERAL'!CD231","v":0.45602756834387764}]
[null,"Octubre",{"$f":"+'[1]itcer BILATERAL'!AB232","v":96.068291724055925},{"$f":"+'[1]itcer BILATERAL'!AC232","v":93.657715668871518},{"$f":"+'[1]itcer BILATERAL'!AD232","v":72.592831564782429},{"$f":"+'[1]itcer BILATERAL'!AE232","v":89.486215446352091},{"$f":"+'[1]itcer BILATERAL'!AF232","v":102.2925966570476},{"$f":"+'[1]itcer BILATERAL'!AG232","v":94.036106580794893},null,{"$f":"+'[1]itcer BILATERAL'!BK232","v":-0.31274843838264133},{"$f":"+'[1]itcer BILATERAL'!BL232","v":-0.48888807819265878},{"$f":"+'[1]itcer BILATERAL'!BM232","v":0.14482288749573513},{"$f":"+'[1]itcer BILATERAL'!BN232","v":-0.99083836495940147},{"$f":"+'[1]itcer BILATERAL'!BO232","v":-1.177076261010285},{"$f":"+'[1]itcer BILATERAL'!BP232","v":0.18477027067204688},null,{"$f":"+'[1]itcer BILATERAL'!BR232","v":1.6779013186002676},{"$f":"+'[1]itcer BILATERAL'!BS232","v":1.0040160642570277},{"$f":"+'[1]itcer BILATERAL'!BT232","v":0.99424292453717178},{"$f":"+'[1]itcer BILATERAL'!BU232","v":1.2737823247538365},{"$f":"+'[1]itcer BILATERAL'!BV232","v":1.471304942598092},{"$f":"+'[1]itcer BILATERAL'!BW232","v":2.0674693583273256},null,{"$f":"+'[1]itcer BILATERAL'!BY232","v":0.57255030828748399},{"$f":"+'[1]itcer BILATERAL'!BZ232","v":0.93283084806196093},{"$f":"+'[1]itcer BILATERAL'!CA232","v":0.73013173916802077},{"$f":"+'[1]itcer BILATERAL'!CB232","v":0.70252360789859192},{"$f":"+'[1]itcer BILATERAL'!CC232","v":0.6952508191565987},{"$f":"+'[1]itcer BILATERAL'!CD232","v":0.45483676070959672}]
[null,"Noviembre",{"$f":"+'[1]itcer BILATERAL'!AB233","v":94.476380759400001},{"$f":"+'[1]itcer BILATERAL'!AC233","v":92.949786891260189},{"$f":"+'[1]itcer BILATERAL'!AD233","v":70.916902962428765},{"$f":"+'[1]itcer BILATERAL'!AE233","v":88.470700724493071},{"$f":"+'[1]itcer BILATERAL'!AF233","v":99.072594341037174},{"$f":"+'[1]itcer BILATERAL'!AG233","v":92.790999631288599},null,{"$f":"+'[1]itcer BILATERAL'!BK233","v":-1.6570618006079343},{"$f":"+'[1]itcer BILATERAL'!BL233","v":-0.75586808044114662},{"$f":"+'[1]itcer BILATERAL'!BM233","v":-2.3086695562468265},{"$f":"+'[1]itcer BILATERAL'!BN233","v":-1.1348281037405457},{"$f":"+'[1]itcer BILATERAL'!BO233","v":-3.1478351525340571},{"$f":"+'[1]itcer BILATERAL'!BP233","v":-1.3240732680021239},null,{"$f":"+'[1]itcer BILATERAL'!BR233","v":1.6607159634230915},{"$f":"+'[1]itcer BILATERAL'!BS233","v":1.0040160642570277},{"$f":"+'[1]itcer BILATERAL'!BT233","v":0.98379778662225847},{"$f":"+'[1]itcer BILATERAL'!BU233","v":1.2737823247538365},{"$f":"+'[1]itcer BILATERAL'!BV233","v":1.477492280568653},{"$f":"+'[1]itcer BILATERAL'!BW233","v":2.0645524770831187},null,{"$f":"+'[1]itcer BILATERAL'!BY233","v":0.5688894599692047},{"$f":"+'[1]itcer BILATERAL'!BZ233","v":0.92577987743695178},{"$f":"+'[1]itcer BILATERAL'!CA233","v":0.72084836870707658},{"$f":"+'[1]itcer BILATERAL'!CB233","v":0.6945511725607465},{"$f":"+'[1]itcer BILATERAL'!CC233","v":0.67054559704979577},{"$f":"+'[1]itcer BILATERAL'!CD233","v":0.44944849143475102}]
[null,"Diciembre",{"$f":"+'[1]itcer BILATERAL'!AB234","v":90.037358816182959},{"$f":"+'[1]itcer BILATERAL'!AC234","v":93.278576449315281},{"$f":"+'[1]itcer BILATERAL'!AD234","v":70.068309626370919},{"$f":"+'[1]itcer BILATERAL'!AE234","v":88.269132346148666},{"$f":"+'[1]itcer BILATERAL'!AF234","v":98.072202928507934},{"$f":"+'[1]itcer BILATERAL'!AG234","v":91.987722707741526},null,{"$f":"+'[1]itcer BILATERAL'!BK234","v":-4.6985520693492333},{"$f":"+'[1]itcer BILATERAL'!BL234","v":0.35372814618685311},{"$f":"+'[1]itcer BILATERAL'!BM234","v":-1.1966023622145769},{"$f":"+'[1]itcer BILATERAL'!BN234","v":-0.22783630817180267},{"$f":"+'[1]itcer BILATERAL'!BO234","v":-1.0097559463170995},{"$f":"+'[1]itcer BILATERAL'!BP234","v":-0.86568409300357985},null,{"$f":"+'[1]itcer BILATERAL'!BR234","v":1.6102521613693197},{"$f":"+'[1]itcer BILATERAL'!BS234","v":1.0040160642570277},{"$f":"+'[1]itcer BILATERAL'!BT234","v":0.98181815199335165},{"$f":"+'[1]itcer BILATERAL'!BU234","v":1.2737823247538365},{"$f":"+'[1]itcer BILATERAL'!BV234","v":1.4812345586804534},{"$f":"+'[1]itcer BILATERAL'!BW234","v":2.0714120918735195},null,{"$f":"+'[1]itcer BILATERAL'!BY234","v":0.55915067823673881},{"$f":"+'[1]itcer BILATERAL'!BZ234","v":0.92905462143518047},{"$f":"+'[1]itcer BILATERAL'!CA234","v":0.71365873083639408},{"$f":"+'[1]itcer BILATERAL'!CB234","v":0.69296873281082005},{"$f":"+'[1]itcer BILATERAL'!CC234","v":0.66209772350892782},{"$f":"+'[1]itcer BILATERAL'!CD234","v":0.44408219430901286}]
[2008,"Enero",{"$f":"+'[1]itcer BILATERAL'!AB235","v":89.620495147548439},{"$f":"+'[1]itcer BILATERAL'!AC235","v":92.765641511612685},{"$f":"+'[1]itcer BILATERAL'!AD235","v":70.467851361983037},{"$f":"+'[1]itcer BILATERAL'!AE235","v":88.117904008343018},{"$f":"+'[1]itcer BILATERAL'!AF235","v":97.677432520019067},{"$f":"+'[1]itcer BILATERAL'!AG235","v":92.096906258235578},null,{"$f":"+'[1]itcer BILATERAL'!BK235","v":-0.46298966797279206},{"$f":"+'[1]itcer BILATERAL'!BL235","v":-0.54989576087849912},{"$f":"+'[1]itcer BILATERAL'!BM235","v":0.57021746027928089},{"$f":"+'[1]itcer BILATERAL'!BN235","v":-0.17132641251372149},{"$f":"+'[1]itcer BILATERAL'!BO235","v":-0.40253037731460495},{"$f":"+'[1]itcer BILATERAL'!BP235","v":0.11869361179964244},null,{"$f":"+'[1]itcer BILATERAL'!BR235","v":1.6065273452312259},{"$f":"+'[1]itcer BILATERAL'!BS235","v":1.0040160642570277},{"$f":"+'[1]itcer BILATERAL'!BT235","v":0.99219539864413209},{"$f":"+'[1]itcer BILATERAL'!BU235","v":1.2734520848918633},{"$f":"+'[1]itcer BILATERAL'!BV235","v":1.4861315261208004},{"$f":"+'[1]itcer BILATERAL'!BW235","v":2.0861262745905864},null,{"$f":"+'[1]itcer BILATERAL'!BY235","v":0.55785228563693978},{"$f":"+'[1]itcer BILATERAL'!BZ235","v":0.92394578945566253},{"$f":"+'[1]itcer BILATERAL'!CA235","v":0.71022150937486406},{"$f":"+'[1]itcer BILATERAL'!CB235","v":0.69196089160924834},{"$f":"+'[1]itcer BILATERAL'!CC235","v":0.65725967589815681},{"$f":"+'[1]itcer BILATERAL'!CD235","v":0.44147330571496735}]
[null,"Febrero",{"$f":"+'[1]itcer BILATERAL'!AB236","v":88.694098106878386},{"$f":"+'[1]itcer BILATERAL'!AC236","v":92.294685927530523},{"$f":"+'[1]itcer BILATERAL'!AD236","v":70.355228171621846},{"$f":"+'[1]itcer BILATERAL'!AE236","v":87.442086533927679},{"$f":"+'[1]itcer BILATERAL'!AF236","v":96.41482059976326},{"$f":"+'[1]itcer BILATERAL'!AG236","v":92.60670662172727},null,{"$f":"+'[1]itcer BILATERAL'!BK236","v":-1.0336888221213911},{"$f":"+'[1]itcer BILATERAL'!BL236","v":-0.50768320728231231},{"$f":"+'[1]itcer BILATERAL'!BM236","v":-0.15982208650390817},{"$f":"+'[1]itcer BILATERAL'!BN236","v":-0.76694683336016567},{"$f":"+'[1]itcer BILATERAL'!BO236","v":-1.2926342223389469},{"$f":"+'[1]itcer BILATERAL'!BP236","v":0.55354776203040501},null,{"$f":"+'[1]itcer BILATERAL'!BR236","v":1.6029551419586188},{"$f":"+'[1]itcer BILATERAL'!BS236","v":1.0040160642570277},{"$f":"+'[1]itcer BILATERAL'!BT236","v":0.99462479773677692},{"$f":"+'[1]itcer BILATERAL'!BU236","v":1.2734520848918638},{"$f":"+'[1]itcer BILATERAL'!BV236","v":1.4934140247131042},{"$f":"+'[1]itcer BILATERAL'!BW236","v":2.0909094654444336},null,{"$f":"+'[1]itcer BILATERAL'!BY236","v":0.55331615829563918},{"$f":"+'[1]itcer BILATERAL'!BZ236","v":0.91925507183820454},{"$f":"+'[1]itcer BILATERAL'!CA236","v":0.70735445498354699},{"$f":"+'[1]itcer BILATERAL'!CB236","v":0.6866539194629605},{"$f":"+'[1]itcer BILATERAL'!CC236","v":0.64560007475679937},{"$f":"+'[1]itcer BILATERAL'!CD236","v":0.44290156102977529}]
[null,"Marzo",{"$f":"+'[1]itcer BILATERAL'!AB237","v":88.904465625191861},{"$f":"+'[1]itcer BILATERAL'!AC237","v":92.37867615815874},{"$f":"+'[1]itcer BILATERAL'!AD237","v":69.369073531546732},{"$f":"+'[1]itcer BILATERAL'!AE237","v":87.425457304896852},{"$f":"+'[1]itcer BILATERAL'!AF237","v":96.06479200720625},{"$f":"+'[1]itcer BILATERAL'!AG237","v":92.062858366227033},null,{"$f":"+'[1]itcer BILATERAL'!BK237","v":0.23718322053399277},{"$f":"+'[1]itcer BILATERAL'!BL237","v":9.1002238952484049E-2},{"$f":"+'[1]itcer BILATERAL'!BM237","v":-1.4016792578222095},{"$f":"+'[1]itcer BILATERAL'!BN237","v":-1.9017420203454094E-2},{"$f":"+'[1]itcer BILATERAL'!BO237","v":-0.36304438506404324},{"$f":"+'[1]itcer BILATERAL'!BP237","v":-0.58726659800321102},null,{"$f":"+'[1]itcer BILATERAL'!BR237","v":1.599223352742154},{"$f":"+'[1]itcer BILATERAL'!BS237","v":1.0040160642570277},{"$f":"+'[1]itcer BILATERAL'!BT237","v":0.98361026036654997},{"$f":"+'[1]itcer BILATERAL'!BU237","v":1.2735801370832405},{"$f":"+'[1]itcer BILATERAL'!BV237","v":1.4987814944462599},{"$f":"+'[1]itcer BILATERAL'!BW237","v":2.0960078277886498},null,{"$f":"+'[1]itcer BILATERAL'!BY237","v":0.55592275758573229},{"$f":"+'[1]itcer BILATERAL'!BZ237","v":0.92009161453526134},{"$f":"+'[1]itcer BILATERAL'!CA237","v":0.70524959251335795},{"$f":"+'[1]itcer BILATERAL'!CB237","v":0.68645430907174054},{"$f":"+'[1]itcer BILATERAL'!CC237","v":0.64095261626310895},{"$f":"+'[1]itcer BILATERAL'!CD237","v":0.4392295541346144}]
[null,"Abril",{"$f":"+'[1]itcer BILATERAL'!AB238","v":88.500649258296846},{"$f":"+'[1]itcer BILATERAL'!AC238","v":92.17326377268563},{"$f":"+'[1]itcer BILATERAL'!AD238","v":67.935538581028339},{"$f":"+'[1]itcer BILATERAL'!AE238","v":87.121549912799964},{"$f":"+'[1]itcer BILATERAL'!AF238","v":95.633956148211041},{"$f":"+'[1]itcer BILATERAL'!AG238","v":91.204559875634303},null,{"$f":"+'[1]itcer BILATERAL'!BK238","v":-0.45421381710728781},{"$f":"+'[1]itcer BILATERAL'!BL238","v":-0.22235909196342618},{"$f":"+'[1]itcer BILATERAL'!BM238","v":-2.0665332222816346},{"$f":"+'[1]itcer BILATERAL'!BN238","v":-0.3476188760866421},{"$f":"+'[1]itcer BILATERAL'!BO238","v":-0.44848466331232828},{"$f":"+'[1]itcer BILATERAL'!BP238","v":-0.93229615702176716},null,{"$f":"+'[1]itcer BILATERAL'!BR238","v":1.5957077759241107},{"$f":"+'[1]itcer BILATERAL'!BS238","v":1.0040160642570277},{"$f":"+'[1]itcer BILATERAL'!BT238","v":0.97097399189385125},{"$f":"+'[1]itcer BILATERAL'!BU238","v":1.2740249499585516},{"$f":"+'[1]itcer BILATERAL'!BV238","v":1.5035853194589812},{"$f":"+'[1]itcer BILATERAL'!BW238","v":2.1027376660830157},null,{"$f":"+'[1]itcer BILATERAL'!BY238","v":0.55461689535882674},{"$f":"+'[1]itcer BILATERAL'!BZ238","v":0.91804570717594924},{"$f":"+'[1]itcer BILATERAL'!CA238","v":0.69966383392538078},{"$f":"+'[1]itcer BILATERAL'!CB238","v":0.68382922889880882},{"$f":"+'[1]itcer BILATERAL'!CC238","v":0.63603943793905882},{"$f":"+'[1]itcer BILATERAL'!CD238","v":0.43374198002326347}]
[null,"Mayo",{"$f":"+'[1]itcer BILATERAL'!AB239","v":90.478501119132446},{"$f":"+'[1]itcer BILATERAL'!AC239","v":91.948781222939232},{"$f":"+'[1]itcer BILATERAL'!AD239","v":66.586915737927711},{"$f":"+'[1]itcer BILATERAL'!AE239","v":86.330657281630636},{"$f":"+'[1]itcer BILATERAL'!AF239","v":94.261633994876064},{"$f":"+'[1]itcer BILATERAL'!AG239","v":91.627145876141157},null,{"$f":"+'[1]itcer BILATERAL'!BK239","v":2.2348444643192096},{"$f":"+'[1]itcer BILATERAL'!BL239","v":-0.24354410439453034},{"$f":"+'[1]itcer BILATERAL'!BM239","v":-1.9851507344599781},{"$f":"+'[1]itcer BILATERAL'!BN239","v":-0.90780367424699193},{"$f":"+'[1]itcer BILATERAL'!BO239","v":-1.4349737359062971},{"$f":"+'[1]itcer BILATERAL'!BP239","v":0.46333867635904369},null,{"$f":"+'[1]itcer BILATERAL'!BR239","v":1.6485795240504639},{"$f":"+'[1]itcer BILATERAL'!BS239","v":1.0040160642570277},{"$f":"+'[1]itcer BILATERAL'!BT239","v":0.95726376505368849},{"$f":"+'[1]itcer BILATERAL'!BU239","v":1.2745849777128193},{"$f":"+'[1]itcer BILATERAL'!BV239","v":1.5105828223186935},{"$f":"+'[1]itcer BILATERAL'!BW239","v":2.1018477701102074},null,{"$f":"+'[1]itcer BILATERAL'!BY239","v":0.54882703442071157},{"$f":"+'[1]itcer BILATERAL'!BZ239","v":0.91580986098047523},{"$f":"+'[1]itcer BILATERAL'!CA239","v":0.69559632536799454},{"$f":"+'[1]itcer BILATERAL'!CB239","v":0.67732366841908653},{"$f":"+'[1]itcer BILATERAL'!CC239","v":0.6240083800912527},{"$f":"+'[1]itcer BILATERAL'!CD239","v":0.43593616616362674}]
[null,"Junio",{"$f":"+'[1]itcer BILATERAL'!AB240","v":91.712086552398958},{"$f":"+'[1]itcer BILATERAL'!AC240","v":91.73090448350608},{"$f":"+'[1]itcer BILATERAL'!AD240","v":66.697069772574778},{"$f":"+'[1]itcer BILATERAL'!AE240","v":86.090781980182797},{"$f":"+'[1]itcer BILATERAL'!AF240","v":93.655616629610222},{"$f":"+'[1]itcer BILATERAL'!AG240","v":90.785185043453012},null,{"$f":"+'[1]itcer BILATERAL'!BK240","v":1.3634017120180317},{"$f":"+'[1]itcer BILATERAL'!BL240","v":-0.23695446153320177},{"$f":"+'[1]itcer BILATERAL'!BM240","v":0.16542894865503399},{"$f":"+'[1]itcer BILATERAL'!BN240","v":-0.27785645215848831},{"$f":"+'[1]itcer BILATERAL'!BO240","v":-0.64290988770551394},{"$f":"+'[1]itcer BILATERAL'!BP240","v":-0.91889889686871129},null,{"$f":"+'[1]itcer BILATERAL'!BR240","v":1.6775096279018276},{"$f":"+'[1]itcer BILATERAL'!BS240","v":1.0040160642570277},{"$f":"+'[1]itcer BILATERAL'!BT240","v":0.96474182768681893},{"$f":"+'[1]itcer BILATERAL'!BU240","v":1.2737088311402391},{"$f":"+'[1]itcer BILATERAL'!BV240","v":1.5174876086050544},{"$f":"+'[1]itcer BILATERAL'!BW240","v":2.1108579668348959},null,{"$f":"+'[1]itcer BILATERAL'!BY240","v":0.54671570897097854},{"$f":"+'[1]itcer BILATERAL'!BZ240","v":0.91363980865572092},{"$f":"+'[1]itcer BILATERAL'!CA240","v":0.69134630487096926},{"$f":"+'[1]itcer BILATERAL'!CB240","v":0.67590629722739159},{"$f":"+'[1]itcer BILATERAL'!CC240","v":0.61717549519697801},{"$f":"+'[1]itcer BILATERAL'!CD240","v":0.43008665893129666}]
[null,"Julio",{"$f":"+'[1]itcer BILATERAL'!AB241","v":93.024527975391607},{"$f":"+'[1]itcer BILATERAL'!AC241","v":91.045451104777484},{"$f":"+'[1]itcer BILATERAL'!AD241","v":65.779504712043348},{"$f":"+'[1]itcer BILATERAL'!AE241","v":84.740144578868211},{"$f":"+'[1]itcer BILATERAL'!AF241","v":93.337606714771084},{"$f":"+'[1]itcer BILATERAL'!AG241","v":90.113992995182343},null,{"$f":"+'[1]itcer BILATERAL'!BK241","v":1.4310452115194181},{"$f":"+'[1]itcer BILATERAL'!BL241","v":-0.74724367168084882},{"$f":"+'[1]itcer BILATERAL'!BM241","v":-1.3757201982938199},{"$f":"+'[1]itcer BILATERAL'!BN241","v":-1.5688525185257163},{"$f":"+'[1]itcer BILATERAL'!BO241","v":-0.33955242225013649},{"$f":"+'[1]itcer BILATERAL'!BP241","v":-0.73931891855417575},null,{"$f":"+'[1]itcer BILATERAL'!BR241","v":1.7288249512145095},{"$f":"+'[1]itcer BILATERAL'!BS241","v":1.0040160642570277},{"$f":"+'[1]itcer BILATERAL'!BT241","v":0.95825379429881741},{"$f":"+'[1]itcer BILATERAL'!BU241","v":1.2734731827357511},{"$f":"+'[1]itcer BILATERAL'!BV241","v":1.5232958777941783},{"$f":"+'[1]itcer BILATERAL'!BW241","v":2.1180512926150996},null,{"$f":"+'[1]itcer BILATERAL'!BY241","v":0.53807950833912555},{"$f":"+'[1]itcer BILATERAL'!BZ241","v":0.90681269300358425},{"$f":"+'[1]itcer BILATERAL'!CA241","v":0.68645180539228812},{"$f":"+'[1]itcer BILATERAL'!CB241","v":0.66542543437643809},{"$f":"+'[1]itcer BILATERAL'!CC241","v":0.61273458476057474},{"$f":"+'[1]itcer BILATERAL'!CD241","v":0.42545708552657902}]
[null,"Agosto",{"$f":"+'[1]itcer BILATERAL'!AB242","v":93.571657547174823},{"$f":"+'[1]itcer BILATERAL'!AC242","v":90.610914351918552},{"$f":"+'[1]itcer BILATERAL'!AD242","v":64.882579307457959},{"$f":"+'[1]itcer BILATERAL'!AE242","v":83.619837799148257},{"$f":"+'[1]itcer BILATERAL'!AF242","v":92.975769410538646},{"$f":"+'[1]itcer BILATERAL'!AG242","v":90.723185697431404},null,{"$f":"+'[1]itcer BILATERAL'!BK242","v":0.58815624619772677},{"$f":"+'[1]itcer BILATERAL'!BL242","v":-0.47727453440683121},{"$f":"+'[1]itcer BILATERAL'!BM242","v":-1.3635332289468778},{"$f":"+'[1]itcer BILATERAL'!BN242","v":-1.3220496439881373},{"$f":"+'[1]itcer BILATERAL'!BO242","v":-0.38766507624110602},{"$f":"+'[1]itcer BILATERAL'!BP242","v":0.67602453514807337},null,{"$f":"+'[1]itcer BILATERAL'!BR242","v":1.7771909815240861},{"$f":"+'[1]itcer BILATERAL'!BS242","v":1.0040160642570277},{"$f":"+'[1]itcer BILATERAL'!BT242","v":0.95379675169517331},{"$f":"+'[1]itcer BILATERAL'!BU242","v":1.2734588244808831},{"$f":"+'[1]itcer BILATERAL'!BV242","v":1.5311565155150797},{"$f":"+'[1]itcer BILATERAL'!BW242","v":2.1428756823565767},null,{"$f":"+'[1]itcer BILATERAL'!BY242","v":0.52651436182131373},{"$f":"+'[1]itcer BILATERAL'!BZ242","v":0.90248470694510918},{"$f":"+'[1]itcer BILATERAL'!CA242","v":0.68025582171613408},{"$f":"+'[1]itcer BILATERAL'!CB242","v":0.65663558327639937},{"$f":"+'[1]itcer BILATERAL'!CC242","v":0.60722576998773814},{"$f":"+'[1]itcer BILATERAL'!CD242","v":0.42337120367925751}]
[null,"Septiembre",{"$f":"+'[1]itcer BILATERAL'!AB243","v":92.870599812977105},{"$f":"+'[1]itcer BILATERAL'!AC243","v":90.877618878427469},{"$f":"+'[1]itcer BILATERAL'!AD243","v":65.361355002079947},{"$f":"+'[1]itcer BILATERAL'!AE243","v":83.38200915805912},{"$f":"+'[1]itcer BILATERAL'!AF243","v":92.447139822290637},{"$f":"+'[1]itcer BILATERAL'!AG243","v":89.901595124350294},null,{"$f":"+'[1]itcer BILATERAL'!BK243","v":-0.74922017261933149},{"$f":"+'[1]itcer BILATERAL'!BL243","v":0.29434039863352268},{"$f":"+'[1]itcer BILATERAL'!BM243","v":0.73791100744196569},{"$f":"+'[1]itcer BILATERAL'!BN243","v":-0.28441653003487488},{"$f":"+'[1]itcer BILATERAL'!BO243","v":-0.5685670488122696},{"$f":"+'[1]itcer BILATERAL'!BP243","v":-0.90560154690905392},null,{"$f":"+'[1]itcer BILATERAL'!BR243","v":1.7831123390269901},{"$f":"+'[1]itcer BILATERAL'!BS243","v":1.0040160642570277},{"$f":"+'[1]itcer BILATERAL'!BT243","v":0.96065283798452539},{"$f":"+'[1]itcer BILATERAL'!BU243","v":1.2734536895559159},{"$f":"+'[1]itcer BILATERAL'!BV243","v":1.5278055680002856},{"$f":"+'[1]itcer BILATERAL'!BW243","v":2.1525409413945824},null,{"$f":"+'[1]itcer BILATERAL'!BY243","v":0.52083426142210865},{"$f":"+'[1]itcer BILATERAL'!BZ243","v":0.90514108402913784},{"$f":"+'[1]itcer BILATERAL'!CA243","v":0.68038475938102438},{"$f":"+'[1]itcer BILATERAL'!CB243","v":0.65477064334500013},{"$f":"+'[1]itcer BILATERAL'!CC243","v":0.60509754486163347},{"$f":"+'[1]itcer BILATERAL'!CD243","v":0.41765335745997512}]
[null,"Octubre",{"$f":"+'[1]itcer BILATERAL'!AB244","v":91.200910347131995},{"$f":"+'[1]itcer BILATERAL'!AC244","v":90.38682632441153},{"$f":"+'[1]itcer BILATERAL'!AD244","v":64.9224274713646},{"$f":"+'[1]itcer BILATERAL'!AE244","v":82.021102968704042},{"$f":"+'[1]itcer BILATERAL'!AF244","v":92.542217888892296},{"$f":"+'[1]itcer BILATERAL'!AG244","v":90.342215022821662},null,{"$f":"+'[1]itcer BILATERAL'!BK244","v":-1.7978665683300505},{"$f":"+'[1]itcer BILATERAL'!BL244","v":-0.54005877362665444},{"$f":"+'[1]itcer BILATERAL'!BM244","v":-0.67153982762656028},{"$f":"+'[1]itcer BILATERAL'!BN244","v":-1.6321340815563019},{"$f":"+'[1]itcer BILATERAL'!BO244","v":0.10284587147253887},{"$f":"+'[1]itcer BILATERAL'!BP244","v":0.49011354899977277},null,{"$f":"+'[1]itcer BILATERAL'!BR244","v":1.7872631777366019},{"$f":"+'[1]itcer BILATERAL'!BS244","v":1.0040160642570277},{"$f":"+'[1]itcer BILATERAL'!BT244","v":0.96872134685806965},{"$f":"+'[1]itcer BILATERAL'!BU244","v":1.2734533686231055},{"$f":"+'[1]itcer BILATERAL'!BV244","v":1.5446315248606461},{"$f":"+'[1]itcer BILATERAL'!BW244","v":2.1623236172623344},null,{"$f":"+'[1]itcer BILATERAL'!BY244","v":0.51028248935687925},{"$f":"+'[1]itcer BILATERAL'!BZ244","v":0.90025279019113924},{"$f":"+'[1]itcer BILATERAL'!CA244","v":0.67018681566100125},{"$f":"+'[1]itcer BILATERAL'!CB244","v":0.64408407083949681},{"$f":"+'[1]itcer BILATERAL'!CC244","v":0.59912164422023761},{"$f":"+'[1]itcer BILATERAL'!CD244","v":0.41780154599246228}]
[null,"Noviembre",{"$f":"+'[1]itcer BILATERAL'!AB245","v":88.105498510992547},{"$f":"+'[1]itcer BILATERAL'!AC245","v":89.220567498271663},{"$f":"+'[1]itcer BILATERAL'!AD245","v":64.58570332855065},{"$f":"+'[1]itcer BILATERAL'!AE245","v":80.6059797654584},{"$f":"+'[1]itcer BILATERAL'!AF245","v":91.084612636690466},{"$f":"+'[1]itcer BILATERAL'!AG245","v":92.149858594989354},null,{"$f":"+'[1]itcer BILATERAL'!BK245","v":-3.3940580465234262},{"$f":"+'[1]itcer BILATERAL'!BL245","v":-1.2902973514680127},{"$f":"+'[1]itcer BILATERAL'!BM245","v":-0.51865611920082699},{"$f":"+'[1]itcer BILATERAL'!BN245","v":-1.7253159882348825},{"$f":"+'[1]itcer BILATERAL'!BO245","v":-1.5750705844891826},{"$f":"+'[1]itcer BILATERAL'!BP245","v":2.0008847156460092},null,{"$f":"+'[1]itcer BILATERAL'!BR245","v":1.7820707875326602},{"$f":"+'[1]itcer BILATERAL'!BS245","v":1.0040160642570277},{"$f":"+'[1]itcer BILATERAL'!BT245","v":0.98263647747737859},{"$f":"+'[1]itcer BILATERAL'!BU245","v":1.2734530958302166},{"$f":"+'[1]itcer BILATERAL'!BV245","v":1.5512833790175748},{"$f":"+'[1]itcer BILATERAL'!BW245","v":2.174936656710269},null,{"$f":"+'[1]itcer BILATERAL'!BY245","v":0.49439954421214494},{"$f":"+'[1]itcer BILATERAL'!BZ245","v":0.8886368522827861},{"$f":"+'[1]itcer BILATERAL'!CA245","v":0.65726954788361691},{"$f":"+'[1]itcer BILATERAL'!CB245","v":0.632971720979704},{"$f":"+'[1]itcer BILATERAL'!CC245","v":0.58715650453480772},{"$f":"+'[1]itcer BILATERAL'!CD245","v":0.4236898500500329}]
[null,"Diciembre",{"$f":"+'[1]itcer BILATERAL'!AB246","v":86.896834178532572},{"$f":"+'[1]itcer BILATERAL'!AC246","v":88.518132011310428},{"$f":"+'[1]itcer BILATERAL'!AD246","v":64.735533109200261},{"$f":"+'[1]itcer BILATERAL'!AE246","v":79.695064699389548},{"$f":"+'[1]itcer BILATERAL'!AF246","v":90.649413692553637},{"$f":"+'[1]itcer BILATERAL'!AG246","v":92.660168602768152},null,{"$f":"+'[1]itcer BILATERAL'!BK246","v":-1.3718375730081931},{"$f":"+'[1]itcer BILATERAL'!BL246","v":-0.78730219573512272},{"$f":"+'[1]itcer BILATERAL'!BM246","v":0.23198598595020314},{"$f":"+'[1]itcer BILATERAL'!BN246","v":-1.1300837341340753},{"$f":"+'[1]itcer BILATERAL'!BO246","v":-0.47779633852394454},{"$f":"+'[1]itcer BILATERAL'!BP246","v":0.55378273559993829},null,{"$f":"+'[1]itcer BILATERAL'!BR246","v":1.7685238425383454},{"$f":"+'[1]itcer BILATERAL'!BS246","v":1.0040160642570277},{"$f":"+'[1]itcer BILATERAL'!BT246","v":0.99145623845062802},{"$f":"+'[1]itcer BILATERAL'!BU246","v":1.2734520848918633},{"$f":"+'[1]itcer BILATERAL'!BV246","v":1.5563381825473224},{"$f":"+'[1]itcer BILATERAL'!BW246","v":2.1788175919250183},null,{"$f":"+'[1]itcer BILATERAL'!BY246","v":0.49135234758164392},{"$f":"+'[1]itcer BILATERAL'!BZ246","v":0.88164059483265211},{"$f":"+'[1]itcer BILATERAL'!CA246","v":0.65293384214682026},{"$f":"+'[1]itcer BILATERAL'!CB246","v":0.62581910732948354},{"$f":"+'[1]itcer BILATERAL'!CC246","v":0.5824531885748897},{"$f":"+'[1]itcer BILATERAL'!CD246","v":0.42527731071283248}]
[2009,"Enero",{"$f":"+'[1]itcer BILATERAL'!AB247","v":88.038129068312756},{"$f":"+'[1]itcer BILATERAL'!AC247","v":89.385164402271712},{"$f":"+'[1]itcer BILATERAL'!AD247","v":66.617285232974922},{"$f":"+'[1]itcer BILATERAL'!AE247","v":80.080673347848204},{"$f":"+'[1]itcer BILATERAL'!AF247","v":91.540920044393332},{"$f":"+'[1]itcer BILATERAL'!AG247","v":93.098640267403667},null,{"$f":"+'[1]itcer BILATERAL'!BK247","v":1.3133906437090133},{"$f":"+'[1]itcer BILATERAL'!BL247","v":0.9794969361198298},{"$f":"+'[1]itcer BILATERAL'!BM247","v":2.9068303501886561},{"$f":"+'[1]itcer BILATERAL'!BN247","v":0.48385511689232885},{"$f":"+'[1]itcer BILATERAL'!BO247","v":0.98346620846696453},{"$f":"+'[1]itcer BILATERAL'!BP247","v":0.47320404360068835},null,{"$f":"+'[1]itcer BILATERAL'!BR247","v":1.7906946187639599},{"$f":"+'[1]itcer BILATERAL'!BS247","v":1.0040160642570277},{"$f":"+'[1]itcer BILATERAL'!BT247","v":1.0116023339707023},{"$f":"+'[1]itcer BILATERAL'!BU247","v":1.2734520848918633},{"$f":"+'[1]itcer BILATERAL'!BV247","v":1.5657850625187939},{"$f":"+'[1]itcer BILATERAL'!BW247","v":2.1857637243794423},null,{"$f":"+'[1]itcer BILATERAL'!BY247","v":0.49164233893259657},{"$f":"+'[1]itcer BILATERAL'!BZ247","v":0.89027623744662676},{"$f":"+'[1]itcer BILATERAL'!CA247","v":0.65853234018837548},{"$f":"+'[1]itcer BILATERAL'!CB247","v":0.62884716510278704},{"$f":"+'[1]itcer BILATERAL'!CC247","v":0.58463273303384566},{"$f":"+'[1]itcer BILATERAL'!CD247","v":0.42593185726803662}]
[null,"Febrero",{"$f":"+'[1]itcer BILATERAL'!AB248","v":89.121059927956964},{"$f":"+'[1]itcer BILATERAL'!AC248","v":89.937975476047612},{"$f":"+'[1]itcer BILATERAL'!AD248","v":68.095049256574669},{"$f":"+'[1]itcer BILATERAL'!AE248","v":79.860435328160591},{"$f":"+'[1]itcer BILATERAL'!AF248","v":91.844100976937284},{"$f":"+'[1]itcer BILATERAL'!AG248","v":93.774225181735687},null,{"$f":"+'[1]itcer BILATERAL'!BK248","v":1.2300702787583191},{"$f":"+'[1]itcer BILATERAL'!BL248","v":0.61845953685110544},{"$f":"+'[1]itcer BILATERAL'!BM248","v":2.2182891698929126},{"$f":"+'[1]itcer BILATERAL'!BN248","v":-0.27502018961673969},{"$f":"+'[1]itcer BILATERAL'!BO248","v":0.33119716559208712},{"$f":"+'[1]itcer BILATERAL'!BP248","v":0.72566571583811879},null,{"$f":"+'[1]itcer BILATERAL'!BR248","v":1.8117277057686947},{"$f":"+'[1]itcer BILATERAL'!BS248","v":1.0040160642570277},{"$f":"+'[1]itcer BILATERAL'!BT248","v":1.0228117391486982},{"$f":"+'[1]itcer BILATERAL'!BU248","v":1.2734520848918638},{"$f":"+'[1]itcer BILATERAL'!BV248","v":1.5722227484096001},{"$f":"+'[1]itcer BILATERAL'!BW248","v":2.1974250695231232},null,{"$f":"+'[1]itcer BILATERAL'!BY248","v":0.49191200004386937},{"$f":"+'[1]itcer BILATERAL'!BZ248","v":0.89578223574143456},{"$f":"+'[1]itcer BILATERAL'!CA248","v":0.66576327441500838},{"$f":"+'[1]itcer BILATERAL'!CB248","v":0.62711770843692172},{"$f":"+'[1]itcer BILATERAL'!CC248","v":0.58416723120081582},{"$f":"+'[1]itcer BILATERAL'!CD248","v":0.42674595135153437}]
[null,"Marzo",{"$f":"+'[1]itcer BILATERAL'!AB249","v":89.794026140235133},{"$f":"+'[1]itcer BILATERAL'!AC249","v":89.732945603552423},{"$f":"+'[1]itcer BILATERAL'!AD249","v":69.567642345266847},{"$f":"+'[1]itcer BILATERAL'!AE249","v":80.054635818418674},{"$f":"+'[1]itcer BILATERAL'!AF249","v":92.699257875668792},{"$f":"+'[1]itcer BILATERAL'!AG249","v":94.143761930712188},null,{"$f":"+'[1]itcer BILATERAL'!BK249","v":0.75511468649742142},{"$f":"+'[1]itcer BILATERAL'!BL249","v":-0.22796807623248583},{"$f":"+'[1]itcer BILATERAL'!BM249","v":2.1625552881878463},{"$f":"+'[1]itcer BILATERAL'!BN249","v":0.24317484554157431},{"$f":"+'[1]itcer BILATERAL'!BO249","v":0.9310961614684885},{"$f":"+'[1]itcer BILATERAL'!BP249","v":0.39407070360788055},null,{"$f":"+'[1]itcer BILATERAL'!BR249","v":1.8212370633280761},{"$f":"+'[1]itcer BILATERAL'!BS249","v":1.0040160642570277},{"$f":"+'[1]itcer BILATERAL'!BT249","v":1.0397207150204193},{"$f":"+'[1]itcer BILATERAL'!BU249","v":1.273452084891864},{"$f":"+'[1]itcer BILATERAL'!BV249","v":1.5746421348281479},{"$f":"+'[1]itcer BILATERAL'!BW249","v":2.2041549078174891},null,{"$f":"+'[1]itcer BILATERAL'!BY249","v":0.49303864910451645},{"$f":"+'[1]itcer BILATERAL'!BZ249","v":0.89374013821138243},{"$f":"+'[1]itcer BILATERAL'!CA249","v":0.66909932004096484},{"$f":"+'[1]itcer BILATERAL'!CB249","v":0.62864270095577701},{"$f":"+'[1]itcer BILATERAL'!CC249","v":0.5887004788283895},{"$f":"+'[1]itcer BILATERAL'!CD249","v":0.42711953500551142}]
[null,"Abril",{"$f":"+'[1]itcer BILATERAL'!AB250","v":90.423231610522535},{"$f":"+'[1]itcer BILATERAL'!AC250","v":89.885044047191855},{"$f":"+'[1]itcer BILATERAL'!AD250","v":69.823105418484403},{"$f":"+'[1]itcer BILATERAL'!AE250","v":79.985558085503129},{"$f":"+'[1]itcer BILATERAL'!AF250","v":92.912584104974954},{"$f":"+'[1]itcer BILATERAL'!AG250","v":94.663745603639313},null,{"$f":"+'[1]itcer BILATERAL'!BK250","v":0.70072085787171545},{"$f":"+'[1]itcer BILATERAL'!BL250","v":0.16950122679735102},{"$f":"+'[1]itcer BILATERAL'!BM250","v":0.36721536709507063},{"$f":"+'[1]itcer BILATERAL'!BN250","v":-8.628823578965239E-2},{"$f":"+'[1]itcer BILATERAL'!BO250","v":0.23012722452673984},{"$f":"+'[1]itcer BILATERAL'!BP250","v":0.55232939736337983},null,{"$f":"+'[1]itcer BILATERAL'!BR250","v":1.8354789930043598},{"$f":"+'[1]itcer BILATERAL'!BS250","v":1.0040160642570277},{"$f":"+'[1]itcer BILATERAL'!BT250","v":1.0417808071629542},{"$f":"+'[1]itcer BILATERAL'!BU250","v":1.2734520848918638},{"$f":"+'[1]itcer BILATERAL'!BV250","v":1.5729011100216903},{"$f":"+'[1]itcer BILATERAL'!BW250","v":2.2139623030178188},null,{"$f":"+'[1]itcer BILATERAL'!BY250","v":0.49264105966429739},{"$f":"+'[1]itcer BILATERAL'!BZ250","v":0.8952550387100312},{"$f":"+'[1]itcer BILATERAL'!CA250","v":0.67022837182642325},{"$f":"+'[1]itcer BILATERAL'!CB250","v":0.62810025625970178},{"$f":"+'[1]itcer BILATERAL'!CC250","v":0.59070836375526292},{"$f":"+'[1]itcer BILATERAL'!CD250","v":0.42757614018361834}]
[null,"Mayo",{"$f":"+'[1]itcer BILATERAL'!AB251","v":91.54350614861157},{"$f":"+'[1]itcer BILATERAL'!AC251","v":89.893200948822383},{"$f":"+'[1]itcer BILATERAL'!AD251","v":70.011289330203596},{"$f":"+'[1]itcer BILATERAL'!AE251","v":80.216617472956983},{"$f":"+'[1]itcer BILATERAL'!AF251","v":93.818562404047825},{"$f":"+'[1]itcer BILATERAL'!AG251","v":95.153976953819736},null,{"$f":"+'[1]itcer BILATERAL'!BK251","v":1.2389233586722241},{"$f":"+'[1]itcer BILATERAL'!BL251","v":9.0748151897628304E-3},{"$f":"+'[1]itcer BILATERAL'!BM251","v":0.26951524225586354},{"$f":"+'[1]itcer BILATERAL'!BN251","v":0.28887638341768707},{"$f":"+'[1]itcer BILATERAL'!BO251","v":0.97508675256440824},{"$f":"+'[1]itcer BILATERAL'!BP251","v":0.51786599722458959},null,{"$f":"+'[1]itcer BILATERAL'!BR251","v":1.8505525712683635},{"$f":"+'[1]itcer BILATERAL'!BS251","v":1.0040160642570277},{"$f":"+'[1]itcer BILATERAL'!BT251","v":1.0429498292948685},{"$f":"+'[1]itcer BILATERAL'!BU251","v":1.2734520848918633},{"$f":"+'[1]itcer BILATERAL'!BV251","v":1.58534856321155},{"$f":"+'[1]itcer BILATERAL'!BW251","v":2.2215449582861266},null,{"$f":"+'[1]itcer BILATERAL'!BY251","v":0.49468200779547672},{"$f":"+'[1]itcer BILATERAL'!BZ251","v":0.89533628145027133},{"$f":"+'[1]itcer BILATERAL'!CA251","v":0.67128146880792683},{"$f":"+'[1]itcer BILATERAL'!CB251","v":0.62991468956422236},{"$f":"+'[1]itcer BILATERAL'!CC251","v":0.59178507856968132},{"$f":"+'[1]itcer BILATERAL'!CD251","v":0.42832343589944255}]
[null,"Junio",{"$f":"+'[1]itcer BILATERAL'!AB252","v":92.523377490733438},{"$f":"+'[1]itcer BILATERAL'!AC252","v":90.62925219734214},{"$f":"+'[1]itcer BILATERAL'!AD252","v":70.905167549925338},{"$f":"+'[1]itcer BILATERAL'!AE252","v":80.48187797229366},{"$f":"+'[1]itcer BILATERAL'!AF252","v":95.105375103384972},{"$f":"+'[1]itcer BILATERAL'!AG252","v":93.875048039309533},null,{"$f":"+'[1]itcer BILATERAL'!BK252","v":1.0703886964206504},{"$f":"+'[1]itcer BILATERAL'!BL252","v":0.81880636216169478},{"$f":"+'[1]itcer BILATERAL'!BM252","v":1.2767629739052921},{"$f":"+'[1]itcer BILATERAL'!BN252","v":0.33068023520949907},{"$f":"+'[1]itcer BILATERAL'!BO252","v":1.3715971193368262},{"$f":"+'[1]itcer BILATERAL'!BP252","v":-1.3440624926595461},null,{"$f":"+'[1]itcer BILATERAL'!BR252","v":1.8575583689127377},{"$f":"+'[1]itcer BILATERAL'!BS252","v":1.0040160642570277},{"$f":"+'[1]itcer BILATERAL'!BT252","v":1.0468767972220365},{"$f":"+'[1]itcer BILATERAL'!BU252","v":1.273452084891864},{"$f":"+'[1]itcer BILATERAL'!BV252","v":1.5938898862348874},{"$f":"+'[1]itcer BILATERAL'!BW252","v":2.2199938201668559},null,{"$f":"+'[1]itcer BILATERAL'!BY252","v":0.49809136035326335},{"$f":"+'[1]itcer BILATERAL'!BZ252","v":0.90266735188552816},{"$f":"+'[1]itcer BILATERAL'!CA252","v":0.6773019302565243},{"$f":"+'[1]itcer BILATERAL'!CB252","v":0.63199769294129227},{"$f":"+'[1]itcer BILATERAL'!CC252","v":0.59668723620578601},{"$f":"+'[1]itcer BILATERAL'!CD252","v":0.42286175387755731}]
[null,"Julio",{"$f":"+'[1]itcer BILATERAL'!AB253","v":92.385800303681748},{"$f":"+'[1]itcer BILATERAL'!AC253","v":90.856579504805197},{"$f":"+'[1]itcer BILATERAL'!AD253","v":70.969354765500157},{"$f":"+'[1]itcer BILATERAL'!AE253","v":79.784378540960702},{"$f":"+'[1]itcer BILATERAL'!AF253","v":95.999927515579046},{"$f":"+'[1]itcer BILATERAL'!AG253","v":93.761016510001355},null,{"$f":"+'[1]itcer BILATERAL'!BK253","v":-0.14869451460035066},{"$f":"+'[1]itcer BILATERAL'!BL253","v":0.25083215623146771},{"$f":"+'[1]itcer BILATERAL'!BM253","v":9.0525440941419788E-2},{"$f":"+'[1]itcer BILATERAL'!BN253","v":-0.86665402063937336},{"$f":"+'[1]itcer BILATERAL'!BO253","v":0.94059080385481764},{"$f":"+'[1]itcer BILATERAL'!BP253","v":-0.12147160687516134},null,{"$f":"+'[1]itcer BILATERAL'!BR253","v":1.8747884987199093},{"$f":"+'[1]itcer BILATERAL'!BS253","v":1.0040160642570277},{"$f":"+'[1]itcer BILATERAL'!BT253","v":1.0528142540904406},{"$f":"+'[1]itcer BILATERAL'!BU253","v":1.2734520848918633},{"$f":"+'[1]itcer BILATERAL'!BV253","v":1.6015298147223964},{"$f":"+'[1]itcer BILATERAL'!BW253","v":2.2234977855597902},null,{"$f":"+'[1]itcer BILATERAL'!BY253","v":0.49277985419028342},{"$f":"+'[1]itcer BILATERAL'!BZ253","v":0.90493153186785991},{"$f":"+'[1]itcer BILATERAL'!CA253","v":0.67409188743186998},{"$f":"+'[1]itcer BILATERAL'!CB253","v":0.62652045952506874},{"$f":"+'[1]itcer BILATERAL'!CC253","v":0.59942641487582504},{"$f":"+'[1]itcer BILATERAL'!CD253","v":0.42168252704778825}]
[null,"Agosto",{"$f":"+'[1]itcer BILATERAL'!AB254","v":92.789312733895542},{"$f":"+'[1]itcer BILATERAL'!AC254","v":91.233718589679413},{"$f":"+'[1]itcer BILATERAL'!AD254","v":71.808968412932828},{"$f":"+'[1]itcer BILATERAL'!AE254","v":79.887778938949879},{"$f":"+'[1]itcer BILATERAL'!AF254","v":96.509067840044111},{"$f":"+'[1]itcer BILATERAL'!AG254","v":93.298437770893642},null,{"$f":"+'[1]itcer BILATERAL'!BK254","v":0.43676888535620151},{"$f":"+'[1]itcer BILATERAL'!BL254","v":0.41509276150360108},{"$f":"+'[1]itcer BILATERAL'!BM254","v":1.1830650711239628},{"$f":"+'[1]itcer BILATERAL'!BN254","v":0.12959980372109214},{"$f":"+'[1]itcer BILATERAL'!BO254","v":0.53035490509347483},{"$f":"+'[1]itcer BILATERAL'!BP254","v":-0.49335934733426257},null,{"$f":"+'[1]itcer BILATERAL'!BR254","v":1.8910603396832275},{"$f":"+'[1]itcer BILATERAL'!BS254","v":1.0040160642570277},{"$f":"+'[1]itcer BILATERAL'!BT254","v":1.06367611565894},{"$f":"+'[1]itcer BILATERAL'!BU254","v":1.2734520848918638},{"$f":"+'[1]itcer BILATERAL'!BV254","v":1.6113279948833277},{"$f":"+'[1]itcer BILATERAL'!BW254","v":2.2264023071377075},null,{"$f":"+'[1]itcer BILATERAL'!BY254","v":0.4906734639119909},{"$f":"+'[1]itcer BILATERAL'!BZ254","v":0.90868783715320744},{"$f":"+'[1]itcer BILATERAL'!CA254","v":0.67510182240434791},{"$f":"+'[1]itcer BILATERAL'!CB254","v":0.62733242881088547},{"$f":"+'[1]itcer BILATERAL'!CC254","v":0.59894117241494382},{"$f":"+'[1]itcer BILATERAL'!CD254","v":0.41905471204276362}]
[null,"Septiembre",{"$f":"+'[1]itcer BILATERAL'!AB255","v":92.734643733419787},{"$f":"+'[1]itcer BILATERAL'!AC255","v":91.354860074415484},{"$f":"+'[1]itcer BILATERAL'!AD255","v":71.881995424796472},{"$f":"+'[1]itcer BILATERAL'!AE255","v":79.862340910463558},{"$f":"+'[1]itcer BILATERAL'!AF255","v":96.628238405958982},{"$f":"+'[1]itcer BILATERAL'!AG255","v":93.329008821222473},null,{"$f":"+'[1]itcer BILATERAL'!BK255","v":-5.8917346044523811E-2},{"$f":"+'[1]itcer BILATERAL'!BL255","v":0.13278148321553829},{"$f":"+'[1]itcer BILATERAL'!BM255","v":0.10169622747358176},{"$f":"+'[1]itcer BILATERAL'!BN255","v":-3.1842202680039122E-2},{"$f":"+'[1]itcer BILATERAL'!BO255","v":0.12348121122917632},{"$f":"+'[1]itcer BILATERAL'!BP255","v":3.2766947720915596E-2},null,{"$f":"+'[1]itcer BILATERAL'!BR255","v":1.8908890994251406},{"$f":"+'[1]itcer BILATERAL'!BS255","v":1.0040160642570277},{"$f":"+'[1]itcer BILATERAL'!BT255","v":1.0706075207655219},{"$f":"+'[1]itcer BILATERAL'!BU255","v":1.2734527588507658},{"$f":"+'[1]itcer BILATERAL'!BV255","v":1.6178333432535106},{"$f":"+'[1]itcer BILATERAL'!BW255","v":2.2281944587496141},null,{"$f":"+'[1]itcer BILATERAL'!BY255","v":0.49042878168588822},{"$f":"+'[1]itcer BILATERAL'!BZ255","v":0.90989440634117869},{"$f":"+'[1]itcer BILATERAL'!CA255","v":0.67141313721949503},{"$f":"+'[1]itcer BILATERAL'!CB255","v":0.62713234044532395},{"$f":"+'[1]itcer BILATERAL'!CC255","v":0.59726942091350854},{"$f":"+'[1]itcer BILATERAL'!CD255","v":0.41885486455071558}]
[null,"Octubre",{"$f":"+'[1]itcer BILATERAL'!AB256","v":91.865885749842448},{"$f":"+'[1]itcer BILATERAL'!AC256","v":92.089213742858263},{"$f":"+'[1]itcer BILATERAL'!AD256","v":72.373111504425083},{"$f":"+'[1]itcer BILATERAL'!AE256","v":79.751075501907323},{"$f":"+'[1]itcer BILATERAL'!AF256","v":96.714769197757306},{"$f":"+'[1]itcer BILATERAL'!AG256","v":93.305786273189824},null,{"$f":"+'[1]itcer BILATERAL'!BK256","v":-0.93682139554525179},{"$f":"+'[1]itcer BILATERAL'!BL256","v":0.80384740105188257},{"$f":"+'[1]itcer BILATERAL'!BM256","v":0.68322544014853293},{"$f":"+'[1]itcer BILATERAL'!BN256","v":-0.13932149657493653},{"$f":"+'[1]itcer BILATERAL'!BO256","v":8.9550211434868743E-2},{"$f":"+'[1]itcer BILATERAL'!BP256","v":-2.4882454368650997E-2},null,{"$f":"+'[1]itcer BILATERAL'!BR256","v":1.875738824525043},{"$f":"+'[1]itcer BILATERAL'!BS256","v":1.0040160642570277},{"$f":"+'[1]itcer BILATERAL'!BT256","v":1.074802864861113},{"$f":"+'[1]itcer BILATERAL'!BU256","v":1.2734527588507658},{"$f":"+'[1]itcer BILATERAL'!BV256","v":1.624107091687131},{"$f":"+'[1]itcer BILATERAL'!BW256","v":2.2306045936759711},null,{"$f":"+'[1]itcer BILATERAL'!BY256","v":0.48975840638743429},{"$f":"+'[1]itcer BILATERAL'!BZ256","v":0.9172085688788687},{"$f":"+'[1]itcer BILATERAL'!CA256","v":0.67336172865316291},{"$f":"+'[1]itcer BILATERAL'!CB256","v":0.62625861028311036},{"$f":"+'[1]itcer BILATERAL'!CC256","v":0.59549502426770073},{"$f":"+'[1]itcer BILATERAL'!CD256","v":0.41829818936858115}]
[null,"Noviembre",{"$f":"+'[1]itcer BILATERAL'!AB257","v":89.669153620748517},{"$f":"+'[1]itcer BILATERAL'!AC257","v":90.887852414330268},{"$f":"+'[1]itcer BILATERAL'!AD257","v":72.00969825192621},{"$f":"+'[1]itcer BILATERAL'!AE257","v":79.620090003852084},{"$f":"+'[1]itcer BILATERAL'!AF257","v":96.980835804076406},{"$f":"+'[1]itcer BILATERAL'!AG257","v":92.379960970089371},null,{"$f":"+'[1]itcer BILATERAL'!BK257","v":-2.3912381741746742},{"$f":"+'[1]itcer BILATERAL'!BL257","v":-1.3045624777322615},{"$f":"+'[1]itcer BILATERAL'!BM257","v":-0.50213849445543701},{"$f":"+'[1]itcer BILATERAL'!BN257","v":-0.16424292366076543},{"$f":"+'[1]itcer BILATERAL'!BO257","v":0.27510442151297809},{"$f":"+'[1]itcer BILATERAL'!BP257","v":-0.9922485411459121},null,{"$f":"+'[1]itcer BILATERAL'!BR257","v":1.8266680303631411},{"$f":"+'[1]itcer BILATERAL'!BS257","v":1.0040160642570277},{"$f":"+'[1]itcer BILATERAL'!BT257","v":1.0692510305026222},{"$f":"+'[1]itcer BILATERAL'!BU257","v":1.2734527588507658},{"$f":"+'[1]itcer BILATERAL'!BV257","v":1.6293912802229336},{"$f":"+'[1]itcer BILATERAL'!BW257","v":2.2304933566793701},null,{"$f":"+'[1]itcer BILATERAL'!BY257","v":0.49088916064799309},{"$f":"+'[1]itcer BILATERAL'!BZ257","v":0.9052430100467298},{"$f":"+'[1]itcer BILATERAL'!CA257","v":0.67345923639724392},{"$f":"+'[1]itcer BILATERAL'!CB257","v":0.62523002483190404},{"$f":"+'[1]itcer BILATERAL'!CC257","v":0.59519672764424947},{"$f":"+'[1]itcer BILATERAL'!CD257","v":0.41416828565505948}]
[null,"Diciembre",{"$f":"+'[1]itcer BILATERAL'!AB258","v":88.649950841783905},{"$f":"+'[1]itcer BILATERAL'!AC258","v":91.099764796701322},{"$f":"+'[1]itcer BILATERAL'!AD258","v":72.102056983837713},{"$f":"+'[1]itcer BILATERAL'!AE258","v":79.517212806881375},{"$f":"+'[1]itcer BILATERAL'!AF258","v":96.846758306874165},{"$f":"+'[1]itcer BILATERAL'!AG258","v":92.119011339006818},null,{"$f":"+'[1]itcer BILATERAL'!BK258","v":-1.136625849369878},{"$f":"+'[1]itcer BILATERAL'!BL258","v":0.23315809180417091},{"$f":"+'[1]itcer BILATERAL'!BM258","v":0.12825874035520712},{"$f":"+'[1]itcer BILATERAL'!BN258","v":-0.12921009881517875},{"$f":"+'[1]itcer BILATERAL'!BO258","v":-0.13825153814214275},{"$f":"+'[1]itcer BILATERAL'!BP258","v":-0.28247428158910282},null,{"$f":"+'[1]itcer BILATERAL'!BR258","v":1.8274880487232561},{"$f":"+'[1]itcer BILATERAL'!BS258","v":1.0040160642570277},{"$f":"+'[1]itcer BILATERAL'!BT258","v":1.0720264156033397},{"$f":"+'[1]itcer BILATERAL'!BU258","v":1.2734527588507658},{"$f":"+'[1]itcer BILATERAL'!BV258","v":1.6338238618031846},{"$f":"+'[1]itcer BILATERAL'!BW258","v":2.2302708826861677},null,{"$f":"+'[1]itcer BILATERAL'!BY258","v":0.48509182264539408},{"$f":"+'[1]itcer BILATERAL'!BZ258","v":0.90735365737514551},{"$f":"+'[1]itcer BILATERAL'!CA258","v":0.67257724188875001},{"$f":"+'[1]itcer BILATERAL'!CB258","v":0.62442216449899635},{"$f":"+'[1]itcer BILATERAL'!CC258","v":0.59276131638809793},{"$f":"+'[1]itcer BILATERAL'!CD258","v":0.41303956418091003}]
[2010,"Enero",{"$f":"+'[1]itcer BILATERAL'!AB259","v":86.971632785834331},{"$f":"+'[1]itcer BILATERAL'!AC259","v":91.010648979630432},{"$f":"+'[1]itcer BILATERAL'!AD259","v":71.789435574824068},{"$f":"+'[1]itcer BILATERAL'!AE259","v":79.34154604667485},{"$f":"+'[1]itcer BILATERAL'!AF259","v":96.876113299295142},{"$f":"+'[1]itcer BILATERAL'!AG259","v":91.287857607023241},null,{"$f":"+'[1]itcer BILATERAL'!BK259","v":-1.8931968264087544},{"$f":"+'[1]itcer BILATERAL'!BL259","v":-9.782222519427819E-2},{"$f":"+'[1]itcer BILATERAL'!BM259","v":-0.43358181734498658},{"$f":"+'[1]itcer BILATERAL'!BN259","v":-0.22091664685626711},{"$f":"+'[1]itcer BILATERAL'!BO259","v":3.0310764071188601E-2},{"$f":"+'[1]itcer BILATERAL'!BP259","v":-0.90226080360855576},null,{"$f":"+'[1]itcer BILATERAL'!BR259","v":1.8158421045952924},{"$f":"+'[1]itcer BILATERAL'!BS259","v":1.0040160642570277},{"$f":"+'[1]itcer BILATERAL'!BT259","v":1.0774687747239364},{"$f":"+'[1]itcer BILATERAL'!BU259","v":1.2734527588507658},{"$f":"+'[1]itcer BILATERAL'!BV259","v":1.6445767193984671},{"$f":"+'[1]itcer BILATERAL'!BW259","v":2.231537748480791},null,{"$f":"+'[1]itcer BILATERAL'!BY259","v":0.47896032681331735},{"$f":"+'[1]itcer BILATERAL'!BZ259","v":0.90646606383711925},{"$f":"+'[1]itcer BILATERAL'!CA259","v":0.66627857121165845},{"$f":"+'[1]itcer BILATERAL'!CB259","v":0.62304271199095806},{"$f":"+'[1]itcer BILATERAL'!CC259","v":0.5890641169645725},{"$f":"+'[1]itcer BILATERAL'!CD259","v":0.40908049917224604}]
[null,"Febrero",{"$f":"+'[1]itcer BILATERAL'!AB260","v":84.790861171089745},{"$f":"+'[1]itcer BILATERAL'!AC260","v":90.915656910635974},{"$f":"+'[1]itcer BILATERAL'!AD260","v":69.610791939454998},{"$f":"+'[1]itcer BILATERAL'!AE260","v":78.808877868556962},{"$f":"+'[1]itcer BILATERAL'!AF260","v":96.061434239508287},{"$f":"+'[1]itcer BILATERAL'!AG260","v":91.390003650942433},null,{"$f":"+'[1]itcer BILATERAL'!BK260","v":-2.507451619443188},{"$f":"+'[1]itcer BILATERAL'!BL260","v":-0.10437467489734331},{"$f":"+'[1]itcer BILATERAL'!BM260","v":-3.0347691382784774},{"$f":"+'[1]itcer BILATERAL'!BN260","v":-0.67136097625893854},{"$f":"+'[1]itcer BILATERAL'!BO260","v":-0.84094936516490293},{"$f":"+'[1]itcer BILATERAL'!BP260","v":0.11189444751667565},null,{"$f":"+'[1]itcer BILATERAL'!BR260","v":1.7820228396616713},{"$f":"+'[1]itcer BILATERAL'!BS260","v":1.0040160642570277},{"$f":"+'[1]itcer BILATERAL'!BT260","v":1.0490742854792425},{"$f":"+'[1]itcer BILATERAL'!BU260","v":1.2734520849004201},{"$f":"+'[1]itcer BILATERAL'!BV260","v":1.6540530842081134},{"$f":"+'[1]itcer BILATERAL'!BW260","v":2.2366052116592856},null,{"$f":"+'[1]itcer BILATERAL'!BY260","v":0.47581242666445184},{"$f":"+'[1]itcer BILATERAL'!BZ260","v":0.90551994282993487},{"$f":"+'[1]itcer BILATERAL'!CA260","v":0.66354492625519923},{"$f":"+'[1]itcer BILATERAL'!CB260","v":0.61886017387705283},{"$f":"+'[1]itcer BILATERAL'!CC260","v":0.58076391354451717},{"$f":"+'[1]itcer BILATERAL'!CD260","v":0.40861034917799505}]
[null,"Marzo",{"$f":"+'[1]itcer BILATERAL'!AB261","v":82.456632458890994},{"$f":"+'[1]itcer BILATERAL'!AC261","v":90.999434607361394},{"$f":"+'[1]itcer BILATERAL'!AD261","v":68.033591861651331},{"$f":"+'[1]itcer BILATERAL'!AE261","v":78.766996470174561},{"$f":"+'[1]itcer BILATERAL'!AF261","v":95.780295538684584},{"$f":"+'[1]itcer BILATERAL'!AG261","v":91.247800254167956},null,{"$f":"+'[1]itcer BILATERAL'!BK261","v":-2.7529248788838032},{"$f":"+'[1]itcer BILATERAL'!BL261","v":9.2148810856372165E-2},{"$f":"+'[1]itcer BILATERAL'!BM261","v":-2.2657407477499447},{"$f":"+'[1]itcer BILATERAL'!BN261","v":-5.3142995453185904E-2},{"$f":"+'[1]itcer BILATERAL'!BO261","v":-0.29266552498347664},{"$f":"+'[1]itcer BILATERAL'!BP261","v":-0.15560060301299927},null,{"$f":"+'[1]itcer BILATERAL'!BR261","v":1.7300801775811585},{"$f":"+'[1]itcer BILATERAL'!BS261","v":1.0040160642570277},{"$f":"+'[1]itcer BILATERAL'!BT261","v":1.0328537896450329},{"$f":"+'[1]itcer BILATERAL'!BU261","v":1.2734523280308749},{"$f":"+'[1]itcer BILATERAL'!BV261","v":1.6605805926278789},{"$f":"+'[1]itcer BILATERAL'!BW261","v":2.2431125759604491},null,{"$f":"+'[1]itcer BILATERAL'!BY261","v":0.47660584478907997},{"$f":"+'[1]itcer BILATERAL'!BZ261","v":0.90635436868931973},{"$f":"+'[1]itcer BILATERAL'!CA261","v":0.65869528236937414},{"$f":"+'[1]itcer BILATERAL'!CB261","v":0.61853117495156718},{"$f":"+'[1]itcer BILATERAL'!CC261","v":0.576787997908079},{"$f":"+'[1]itcer BILATERAL'!CD261","v":0.40679099761677245}]
[null,"Abril",{"$f":"+'[1]itcer BILATERAL'!AB262","v":79.2402986805062},{"$f":"+'[1]itcer BILATERAL'!AC262","v":91.320416854897815},{"$f":"+'[1]itcer BILATERAL'!AD262","v":68.06575545615793},{"$f":"+'[1]itcer BILATERAL'!AE262","v":78.504935336602415},{"$f":"+'[1]itcer BILATERAL'!AF262","v":95.938413979451838},{"$f":"+'[1]itcer BILATERAL'!AG262","v":91.393144339050551},null,{"$f":"+'[1]itcer BILATERAL'!BK262","v":-3.9006368347486244},{"$f":"+'[1]itcer BILATERAL'!BL262","v":0.35272993609396508},{"$f":"+'[1]itcer BILATERAL'!BM262","v":4.7276049413952137E-2},{"$f":"+'[1]itcer BILATERAL'!BN262","v":-0.33270423567741148},{"$f":"+'[1]itcer BILATERAL'!BO262","v":0.16508451960601178},{"$f":"+'[1]itcer BILATERAL'!BP262","v":0.15928502876533912},null,{"$f":"+'[1]itcer BILATERAL'!BR262","v":1.6607062191783422},{"$f":"+'[1]itcer BILATERAL'!BS262","v":1.0040160642570277},{"$f":"+'[1]itcer BILATERAL'!BT262","v":1.0305995627268896},{"$f":"+'[1]itcer BILATERAL'!BU262","v":1.2734523280308749},{"$f":"+'[1]itcer BILATERAL'!BV262","v":1.6655091100920065},{"$f":"+'[1]itcer BILATERAL'!BW262","v":2.2507941085590688},null,{"$f":"+'[1]itcer BILATERAL'!BY262","v":0.47714820216492876},{"$f":"+'[1]itcer BILATERAL'!BZ262","v":0.90955135187478275},{"$f":"+'[1]itcer BILATERAL'!CA262","v":0.6604481305625729},{"$f":"+'[1]itcer BILATERAL'!CB262","v":0.61647329553351793},{"$f":"+'[1]itcer BILATERAL'!CC262","v":0.57603055665154534},{"$f":"+'[1]itcer BILATERAL'!CD262","v":0.40604844304288368}]
[null,"Mayo",{"$f":"+'[1]itcer BILATERAL'!AB263","v":80.608824676094528},{"$f":"+'[1]itcer BILATERAL'!AC263","v":91.582174904134007},{"$f":"+'[1]itcer BILATERAL'!AD263","v":68.146287270782565},{"$f":"+'[1]itcer BILATERAL'!AE263","v":78.421619765005929},{"$f":"+'[1]itcer BILATERAL'!AF263","v":96.421403311379038},{"$f":"+'[1]itcer BILATERAL'!AG263","v":91.845489944693711},null,{"$f":"+'[1]itcer BILATERAL'!BK263","v":1.7270580984382207},{"$f":"+'[1]itcer BILATERAL'!BL263","v":0.2866369408410776},{"$f":"+'[1]itcer BILATERAL'!BM263","v":0.11831472975644886},{"$f":"+'[1]itcer BILATERAL'!BN263","v":-0.10612781379826686},{"$f":"+'[1]itcer BILATERAL'!BO263","v":0.50343685276124006},{"$f":"+'[1]itcer BILATERAL'!BP263","v":0.49494478925579699},null,{"$f":"+'[1]itcer BILATERAL'!BR263","v":1.6967831502808826},{"$f":"+'[1]itcer BILATERAL'!BS263","v":1.0040160642570277},{"$f":"+'[1]itcer BILATERAL'!BT263","v":1.0299627560292983},{"$f":"+'[1]itcer BILATERAL'!BU263","v":1.2734520848918633},{"$f":"+'[1]itcer BILATERAL'!BV263","v":1.6716272603504001},{"$f":"+'[1]itcer BILATERAL'!BW263","v":2.2678875270367702},null,{"$f":"+'[1]itcer BILATERAL'!BY263","v":0.47506851221825647},{"$f":"+'[1]itcer BILATERAL'!BZ263","v":0.91215846204517514},{"$f":"+'[1]itcer BILATERAL'!CA263","v":0.66163836383268282},{"$f":"+'[1]itcer BILATERAL'!CB263","v":0.61581916348007082},{"$f":"+'[1]itcer BILATERAL'!CC263","v":0.57681162301198374},{"$f":"+'[1]itcer BILATERAL'!CD263","v":0.40498256130320248}]
[null,"Junio",{"$f":"+'[1]itcer BILATERAL'!AB264","v":81.490990865968371},{"$f":"+'[1]itcer BILATERAL'!AC264","v":91.075901418817764},{"$f":"+'[1]itcer BILATERAL'!AD264","v":67.826720621722629},{"$f":"+'[1]itcer BILATERAL'!AE264","v":78.022946238103017},{"$f":"+'[1]itcer BILATERAL'!AF264","v":96.681544895132376},{"$f":"+'[1]itcer BILATERAL'!AG264","v":91.983843285651304},null,{"$f":"+'[1]itcer BILATERAL'!BK264","v":1.094379174263608},{"$f":"+'[1]itcer BILATERAL'!BL264","v":-0.55280788630123823},{"$f":"+'[1]itcer BILATERAL'!BM264","v":-0.46894212708922112},{"$f":"+'[1]itcer BILATERAL'!BN264","v":-0.50837196183597655},{"$f":"+'[1]itcer BILATERAL'!BO264","v":0.26979651282739781},{"$f":"+'[1]itcer BILATERAL'!BP264","v":0.15063705473279754},null,{"$f":"+'[1]itcer BILATERAL'!BR264","v":1.7212017386644707},{"$f":"+'[1]itcer BILATERAL'!BS264","v":1.0040160642570277},{"$f":"+'[1]itcer BILATERAL'!BT264","v":1.0312942383644497},{"$f":"+'[1]itcer BILATERAL'!BU264","v":1.2734520848918633},{"$f":"+'[1]itcer BILATERAL'!BV264","v":1.6776535077395709},{"$f":"+'[1]itcer BILATERAL'!BW264","v":2.2696611391492434},null,{"$f":"+'[1]itcer BILATERAL'!BY264","v":0.47345403525562052},{"$f":"+'[1]itcer BILATERAL'!BZ264","v":0.90711597813142542},{"$f":"+'[1]itcer BILATERAL'!CA264","v":0.6576854412499229},{"$f":"+'[1]itcer BILATERAL'!CB264","v":0.61268851151732517},{"$f":"+'[1]itcer BILATERAL'!CC264","v":0.57629030338570164},{"$f":"+'[1]itcer BILATERAL'!CD264","v":0.40527566736297199}]
[null,"Julio",{"$f":"+'[1]itcer BILATERAL'!AB265","v":79.529836850694394},{"$f":"+'[1]itcer BILATERAL'!AC265","v":91.077080144700858},{"$f":"+'[1]itcer BILATERAL'!AD265","v":67.54726503386027},{"$f":"+'[1]itcer BILATERAL'!AE265","v":77.543474275741076},{"$f":"+'[1]itcer BILATERAL'!AF265","v":96.238748247246207},{"$f":"+'[1]itcer BILATERAL'!AG265","v":91.86152415333099},null,{"$f":"+'[1]itcer BILATERAL'!BK265","v":-2.4065899732395764},{"$f":"+'[1]itcer BILATERAL'!BL265","v":1.2942236801762874E-3},{"$f":"+'[1]itcer BILATERAL'!BM265","v":-0.41201400465888582},{"$f":"+'[1]itcer BILATERAL'!BN265","v":-0.61452686098104436},{"$f":"+'[1]itcer BILATERAL'!BO265","v":-0.45799500656144687},{"$f":"+'[1]itcer BILATERAL'!BP265","v":-0.13297893189835008},null,{"$f":"+'[1]itcer BILATERAL'!BR265","v":1.6847945859343092},{"$f":"+'[1]itcer BILATERAL'!BS265","v":1.0040160642570277},{"$f":"+'[1]itcer BILATERAL'!BT265","v":1.0306027903748241},{"$f":"+'[1]itcer BILATERAL'!BU265","v":1.273452084891864},{"$f":"+'[1]itcer BILATERAL'!BV265","v":1.6842729074514842},{"$f":"+'[1]itcer BILATERAL'!BW265","v":2.2739437635183855},null,{"$f":"+'[1]itcer BILATERAL'!BY265","v":0.47204470808879528},{"$f":"+'[1]itcer BILATERAL'!BZ265","v":0.90712771824122074},{"$f":"+'[1]itcer BILATERAL'!CA265","v":0.65541511884800685},{"$f":"+'[1]itcer BILATERAL'!CB265","v":0.60892337603990598},{"$f":"+'[1]itcer BILATERAL'!CC265","v":0.57139640388128965},{"$f":"+'[1]itcer BILATERAL'!CD265","v":0.40397447653321567}]
[null,"Agosto",{"$f":"+'[1]itcer BILATERAL'!AB266","v":77.662540893032798},{"$f":"+'[1]itcer BILATERAL'!AC266","v":91.356626049591867},{"$f":"+'[1]itcer BILATERAL'!AD266","v":67.666445190135008},{"$f":"+'[1]itcer BILATERAL'!AE266","v":77.299650998321923},{"$f":"+'[1]itcer BILATERAL'!AF266","v":97.344048071708855},{"$f":"+'[1]itcer BILATERAL'!AG266","v":92.028786813150901},null,{"$f":"+'[1]itcer BILATERAL'!BK266","v":-2.3479187580469585},{"$f":"+'[1]itcer BILATERAL'!BL266","v":0.30693331895012932},{"$f":"+'[1]itcer BILATERAL'!BM266","v":0.17643964743056983},{"$f":"+'[1]itcer BILATERAL'!BN266","v":-0.31443429598230921},{"$f":"+'[1]itcer BILATERAL'!BO266","v":1.1484977148944466},{"$f":"+'[1]itcer BILATERAL'!BP266","v":0.18208130265804812},null,{"$f":"+'[1]itcer BILATERAL'!BR266","v":1.6462765294311872},{"$f":"+'[1]itcer BILATERAL'!BS266","v":1.0040160642570277},{"$f":"+'[1]itcer BILATERAL'!BT266","v":1.0315221344771768},{"$f":"+'[1]itcer BILATERAL'!BU266","v":1.2734520650484251},{"$f":"+'[1]itcer BILATERAL'!BV266","v":1.6927040241568423},{"$f":"+'[1]itcer BILATERAL'!BW266","v":2.2799320218354104},null,{"$f":"+'[1]itcer BILATERAL'!BY266","v":0.47174663250448179},{"$f":"+'[1]itcer BILATERAL'!BZ266","v":0.90991199545393531},{"$f":"+'[1]itcer BILATERAL'!CA266","v":0.65598636159592949},{"$f":"+'[1]itcer BILATERAL'!CB266","v":0.60700872156803565},{"$f":"+'[1]itcer BILATERAL'!CC266","v":0.57508014799100649},{"$f":"+'[1]itcer BILATERAL'!CD266","v":0.40364706461320343}]
[null,"Septiembre",{"$f":"+'[1]itcer BILATERAL'!AB267","v":77.498115246110117},{"$f":"+'[1]itcer BILATERAL'!AC267","v":91.138552722878813},{"$f":"+'[1]itcer BILATERAL'!AD267","v":68.072949849779903},{"$f":"+'[1]itcer BILATERAL'!AE267","v":76.892922069749218},{"$f":"+'[1]itcer BILATERAL'!AF267","v":97.394416176431008},{"$f":"+'[1]itcer BILATERAL'!AG267","v":91.605388406104382},null,{"$f":"+'[1]itcer BILATERAL'!BK267","v":-0.2117180883241474},{"$f":"+'[1]itcer BILATERAL'!BL267","v":-0.23870553909759451},{"$f":"+'[1]itcer BILATERAL'!BM267","v":0.60074776870968094},{"$f":"+'[1]itcer BILATERAL'!BN267","v":-0.52617175280848016},{"$f":"+'[1]itcer BILATERAL'!BO267","v":5.1742356846574467E-2},{"$f":"+'[1]itcer BILATERAL'!BP267","v":-0.46007170333143677},null,{"$f":"+'[1]itcer BILATERAL'!BR267","v":1.6404717536091928},{"$f":"+'[1]itcer BILATERAL'!BS267","v":1.0040160642570277},{"$f":"+'[1]itcer BILATERAL'!BT267","v":1.0400682953613203},{"$f":"+'[1]itcer BILATERAL'!BU267","v":1.2734520848918633},{"$f":"+'[1]itcer BILATERAL'!BV267","v":1.6996905216964471},{"$f":"+'[1]itcer BILATERAL'!BW267","v":2.2855927489957772},null,{"$f":"+'[1]itcer BILATERAL'!BY267","v":0.47241359124658466},{"$f":"+'[1]itcer BILATERAL'!BZ267","v":0.90773998511987353},{"$f":"+'[1]itcer BILATERAL'!CA267","v":0.65450461429680751},{"$f":"+'[1]itcer BILATERAL'!CB267","v":0.60381480372917762},{"$f":"+'[1]itcer BILATERAL'!CC267","v":0.57301264514449646},{"$f":"+'[1]itcer BILATERAL'!CD267","v":0.40079488546834557}]
[null,"Octubre",{"$f":"+'[1]itcer BILATERAL'!AB268","v":77.228425366671217},{"$f":"+'[1]itcer BILATERAL'!AC268","v":90.651342083988197},{"$f":"+'[1]itcer BILATERAL'!AD268","v":67.617942719798492},{"$f":"+'[1]itcer BILATERAL'!AE268","v":76.269148779339076},{"$f":"+'[1]itcer BILATERAL'!AF268","v":95.920319641426815},{"$f":"+'[1]itcer BILATERAL'!AG268","v":91.607149308066312},null,{"$f":"+'[1]itcer BILATERAL'!BK268","v":-0.34799540425267139},{"$f":"+'[1]itcer BILATERAL'!BL268","v":-0.53458237412662868},{"$f":"+'[1]itcer BILATERAL'!BM268","v":-0.66841106634205971},{"$f":"+'[1]itcer BILATERAL'!BN268","v":-0.81122328768351792},{"$f":"+'[1]itcer BILATERAL'!BO268","v":-1.5135329035022522},{"$f":"+'[1]itcer BILATERAL'!BP268","v":1.9222689762870004E-3},null,{"$f":"+'[1]itcer BILATERAL'!BR268","v":1.6404697977751213},{"$f":"+'[1]itcer BILATERAL'!BS268","v":1.0040160642570277},{"$f":"+'[1]itcer BILATERAL'!BT268","v":1.037271580974219},{"$f":"+'[1]itcer BILATERAL'!BU268","v":1.2734520848918638},{"$f":"+'[1]itcer BILATERAL'!BV268","v":1.7076217203071116},{"$f":"+'[1]itcer BILATERAL'!BW268","v":2.2981934287774233},null,{"$f":"+'[1]itcer BILATERAL'!BY268","v":0.47077017493044898},{"$f":"+'[1]itcer BILATERAL'!BZ268","v":0.90288736715652285},{"$f":"+'[1]itcer BILATERAL'!CA268","v":0.6518827273402289},{"$f":"+'[1]itcer BILATERAL'!CB268","v":0.59891651742684537},{"$f":"+'[1]itcer BILATERAL'!CC268","v":0.56171878408864351},{"$f":"+'[1]itcer BILATERAL'!CD268","v":0.39860504412284764}]
[null,"Noviembre",{"$f":"+'[1]itcer BILATERAL'!AB269","v":77.112849010473013},{"$f":"+'[1]itcer BILATERAL'!AC269","v":90.281442574769372},{"$f":"+'[1]itcer BILATERAL'!AD269","v":66.684521779602704},{"$f":"+'[1]itcer BILATERAL'!AE269","v":75.661459106652657},{"$f":"+'[1]itcer BILATERAL'!AF269","v":94.580167475775639},{"$f":"+'[1]itcer BILATERAL'!AG269","v":91.428503433368761},null,{"$f":"+'[1]itcer BILATERAL'!BK269","v":-0.1496552022774722},{"$f":"+'[1]itcer BILATERAL'!BL269","v":-0.40804636833297536},{"$f":"+'[1]itcer BILATERAL'!BM269","v":-1.3804338059555903},{"$f":"+'[1]itcer BILATERAL'!BN269","v":-0.79676996847646819},{"$f":"+'[1]itcer BILATERAL'!BO269","v":-1.3971514801670679},{"$f":"+'[1]itcer BILATERAL'!BP269","v":-0.19501302687280031},null,{"$f":"+'[1]itcer BILATERAL'!BR269","v":1.6480668510444529},{"$f":"+'[1]itcer BILATERAL'!BS269","v":1.0040160642570277},{"$f":"+'[1]itcer BILATERAL'!BT269","v":1.0304635348866695},{"$f":"+'[1]itcer BILATERAL'!BU269","v":1.273452084891864},{"$f":"+'[1]itcer BILATERAL'!BV269","v":1.7092663348821131},{"$f":"+'[1]itcer BILATERAL'!BW269","v":2.2998681635595841},null,{"$f":"+'[1]itcer BILATERAL'!BY269","v":0.46789879282872038},{"$f":"+'[1]itcer BILATERAL'!BZ269","v":0.89920316804470335},{"$f":"+'[1]itcer BILATERAL'!CA269","v":0.64713131054110218},{"$f":"+'[1]itcer BILATERAL'!CB269","v":0.59414453047974303},{"$f":"+'[1]itcer BILATERAL'!CC269","v":0.55333780081907935},{"$f":"+'[1]itcer BILATERAL'!CD269","v":0.39753801927438198}]
[null,"Diciembre",{"$f":"+'[1]itcer BILATERAL'!AB270","v":75.727917099411641},{"$f":"+'[1]itcer BILATERAL'!AC270","v":90.533991395372169},{"$f":"+'[1]itcer BILATERAL'!AD270","v":66.480172787566588},{"$f":"+'[1]itcer BILATERAL'!AE270","v":75.791478844152138},{"$f":"+'[1]itcer BILATERAL'!AF270","v":94.403391115534703},{"$f":"+'[1]itcer BILATERAL'!AG270","v":90.982270496763519},null,{"$f":"+'[1]itcer BILATERAL'!BK270","v":-1.7959807332151314},{"$f":"+'[1]itcer BILATERAL'!BL270","v":0.27973503014602841},{"$f":"+'[1]itcer BILATERAL'!BM270","v":-0.30644141486311582},{"$f":"+'[1]itcer BILATERAL'!BN270","v":0.17184407892030151},{"$f":"+'[1]itcer BILATERAL'!BO270","v":-0.18690637261370568},{"$f":"+'[1]itcer BILATERAL'!BP270","v":-0.48806763738667769},null,{"$f":"+'[1]itcer BILATERAL'!BR270","v":1.627682834020044},{"$f":"+'[1]itcer BILATERAL'!BS270","v":1.0040160642570277},{"$f":"+'[1]itcer BILATERAL'!BT270","v":1.0263645238047909},{"$f":"+'[1]itcer BILATERAL'!BU270","v":1.273452084891864},{"$f":"+'[1]itcer BILATERAL'!BV270","v":1.713898821234352},{"$f":"+'[1]itcer BILATERAL'!BW270","v":2.3056772067154188},null,{"$f":"+'[1]itcer BILATERAL'!BY270","v":0.46524983563523348},{"$f":"+'[1]itcer BILATERAL'!BZ270","v":0.90171855429790704},{"$f":"+'[1]itcer BILATERAL'!CA270","v":0.64772477268720152},{"$f":"+'[1]itcer BILATERAL'!CB270","v":0.59516553267560135},{"$f":"+'[1]itcer BILATERAL'!CC270","v":0.55081075933960477},{"$f":"+'[1]itcer BILATERAL'!CD270","v":0.39460107525794325}]
[2011,"Enero",{"$f":"+'[1]itcer BILATERAL'!AB271","v":75.670456420733089},{"$f":"+'[1]itcer BILATERAL'!AC271","v":90.398739836417278},{"$f":"+'[1]itcer BILATERAL'!AD271","v":66.087087785682414},{"$f":"+'[1]itcer BILATERAL'!AE271","v":75.817901941583571},{"$f":"+'[1]itcer BILATERAL'!AF271","v":95.685891723693871},{"$f":"+'[1]itcer BILATERAL'!AG271","v":90.623469232575005},null,{"$f":"+'[1]itcer BILATERAL'!BK271","v":-7.5877801581583526E-2},{"$f":"+'[1]itcer BILATERAL'!BL271","v":-0.14939312502441737},{"$f":"+'[1]itcer BILATERAL'!BM271","v":-0.59128155869909449},{"$f":"+'[1]itcer BILATERAL'!BN271","v":3.4862886744519983E-2},{"$f":"+'[1]itcer BILATERAL'!BO271","v":1.3585323503787947},{"$f":"+'[1]itcer BILATERAL'!BP271","v":-0.39436393731378416},null,{"$f":"+'[1]itcer BILATERAL'!BR271","v":1.6296878134120387},{"$f":"+'[1]itcer BILATERAL'!BS271","v":1.0040160642570277},{"$f":"+'[1]itcer BILATERAL'!BT271","v":1.0237857184685981},{"$f":"+'[1]itcer BILATERAL'!BU271","v":1.2734520848918638},{"$f":"+'[1]itcer BILATERAL'!BV271","v":1.7264438426436199},{"$f":"+'[1]itcer BILATERAL'!BW271","v":2.3141312184571019},null,{"$f":"+'[1]itcer BILATERAL'!BY271","v":0.46432485901887949},{"$f":"+'[1]itcer BILATERAL'!BZ271","v":0.90037144877071629},{"$f":"+'[1]itcer BILATERAL'!CA271","v":0.64551679705531528},{"$f":"+'[1]itcer BILATERAL'!CB271","v":0.59537302456120056},{"$f":"+'[1]itcer BILATERAL'!CC271","v":0.55423691961607435},{"$f":"+'[1]itcer BILATERAL'!CD271","v":0.39160903456890533}]
[null,"Febrero",{"$f":"+'[1]itcer BILATERAL'!AB272","v":75.023599426810321},{"$f":"+'[1]itcer BILATERAL'!AC272","v":90.676886630008056},{"$f":"+'[1]itcer BILATERAL'!AD272","v":64.701383635776651},{"$f":"+'[1]itcer BILATERAL'!AE272","v":75.659907847252484},{"$f":"+'[1]itcer BILATERAL'!AF272","v":95.933608100233471},{"$f":"+'[1]itcer BILATERAL'!AG272","v":90.423867186266747},null,{"$f":"+'[1]itcer BILATERAL'!BK272","v":-0.85483427022852254},{"$f":"+'[1]itcer BILATERAL'!BL272","v":0.30768879532404014},{"$f":"+'[1]itcer BILATERAL'!BM272","v":-2.0967850095007066},{"$f":"+'[1]itcer BILATERAL'!BN272","v":-0.20838626536094296},{"$f":"+'[1]itcer BILATERAL'!BO272","v":0.25888495375568255},{"$f":"+'[1]itcer BILATERAL'!BP272","v":-0.22025425422194189},null,{"$f":"+'[1]itcer BILATERAL'!BR272","v":1.6148389764488504},{"$f":"+'[1]itcer BILATERAL'!BS272","v":1.0040160642570277},{"$f":"+'[1]itcer BILATERAL'!BT272","v":1.0049191786290104},{"$f":"+'[1]itcer BILATERAL'!BU272","v":1.2734520848918638},{"$f":"+'[1]itcer BILATERAL'!BV272","v":1.7346697917613001},{"$f":"+'[1]itcer BILATERAL'!BW272","v":2.3253228962818007},null,{"$f":"+'[1]itcer BILATERAL'!BY272","v":0.46458873312429388},{"$f":"+'[1]itcer BILATERAL'!BZ272","v":0.90314179083488055},{"$f":"+'[1]itcer BILATERAL'!CA272","v":0.64384663972726008},{"$f":"+'[1]itcer BILATERAL'!CB272","v":0.59413234895035105},{"$f":"+'[1]itcer BILATERAL'!CC272","v":0.55303671370691887},{"$f":"+'[1]itcer BILATERAL'!CD272","v":0.38886585312884869}]
[null,"Marzo",{"$f":"+'[1]itcer BILATERAL'!AB273","v":75.253718038641495},{"$f":"+'[1]itcer BILATERAL'!AC273","v":90.969112760916317},{"$f":"+'[1]itcer BILATERAL'!AD273","v":63.881912166818424},{"$f":"+'[1]itcer BILATERAL'!AE273","v":75.868053141276135},{"$f":"+'[1]itcer BILATERAL'!AF273","v":96.533220052778432},{"$f":"+'[1]itcer BILATERAL'!AG273","v":90.587360162358564},null,{"$f":"+'[1]itcer BILATERAL'!BK273","v":0.30672830094704295},{"$f":"+'[1]itcer BILATERAL'!BL273","v":0.32227190607088119},{"$f":"+'[1]itcer BILATERAL'!BM273","v":-1.2665439638374352},{"$f":"+'[1]itcer BILATERAL'!BN273","v":0.27510645987551641},{"$f":"+'[1]itcer BILATERAL'!BO273","v":0.62502804222528141},{"$f":"+'[1]itcer BILATERAL'!BP273","v":0.18080732574181013},null,{"$f":"+'[1]itcer BILATERAL'!BR273","v":1.6081901534481473},{"$f":"+'[1]itcer BILATERAL'!BS273","v":1.0040160642570277},{"$f":"+'[1]itcer BILATERAL'!BT273","v":0.99170280128102173},{"$f":"+'[1]itcer BILATERAL'!BU273","v":1.2734520848918633},{"$f":"+'[1]itcer BILATERAL'!BV273","v":1.7397968655603069},{"$f":"+'[1]itcer BILATERAL'!BW273","v":2.3336903903594606},null,{"$f":"+'[1]itcer BILATERAL'!BY273","v":0.46794042282430809},{"$f":"+'[1]itcer BILATERAL'!BZ273","v":0.90605236309872672},{"$f":"+'[1]itcer BILATERAL'!CA273","v":0.64416387736627967},{"$f":"+'[1]itcer BILATERAL'!CB273","v":0.59576684542252356},{"$f":"+'[1]itcer BILATERAL'!CC273","v":0.55485339675956713},{"$f":"+'[1]itcer BILATERAL'!CD273","v":0.38817214372813735}]
[null,"Abril",{"$f":"+'[1]itcer BILATERAL'!AB274","v":75.526674118451979},{"$f":"+'[1]itcer BILATERAL'!AC274","v":88.91232770435478},{"$f":"+'[1]itcer BILATERAL'!AD274","v":63.158550322304784},{"$f":"+'[1]itcer BILATERAL'!AE274","v":75.5060124614279},{"$f":"+'[1]itcer BILATERAL'!AF274","v":96.669816243594795},{"$f":"+'[1]itcer BILATERAL'!AG274","v":90.553680139609995},null,{"$f":"+'[1]itcer BILATERAL'!BK274","v":0.36271441056283038},{"$f":"+'[1]itcer BILATERAL'!BL274","v":-2.2609707780344621},{"$f":"+'[1]itcer BILATERAL'!BM274","v":-1.132342191988073},{"$f":"+'[1]itcer BILATERAL'!BN274","v":-0.47719779915014726},{"$f":"+'[1]itcer BILATERAL'!BO274","v":0.14150174493472889},{"$f":"+'[1]itcer BILATERAL'!BP274","v":-3.7179605066540944E-2},null,{"$f":"+'[1]itcer BILATERAL'!BR274","v":1.6061720120911511},{"$f":"+'[1]itcer BILATERAL'!BS274","v":1.0040160642570277},{"$f":"+'[1]itcer BILATERAL'!BT274","v":0.98037668824446222},{"$f":"+'[1]itcer BILATERAL'!BU274","v":1.2734520848918638},{"$f":"+'[1]itcer BILATERAL'!BV274","v":1.7425506604695666},{"$f":"+'[1]itcer BILATERAL'!BW274","v":2.3381584097229378},null,{"$f":"+'[1]itcer BILATERAL'!BY274","v":0.47022780592547014},{"$f":"+'[1]itcer BILATERAL'!BZ274","v":0.8855667839353738},{"$f":"+'[1]itcer BILATERAL'!CA274","v":0.64422737790105278},{"$f":"+'[1]itcer BILATERAL'!CB274","v":0.59292385914810108},{"$f":"+'[1]itcer BILATERAL'!CC274","v":0.55476043501395289},{"$f":"+'[1]itcer BILATERAL'!CD274","v":0.38728633510481558}]
[null,"Mayo",{"$f":"+'[1]itcer BILATERAL'!AB275","v":75.875137247918161},{"$f":"+'[1]itcer BILATERAL'!AC275","v":88.897389182102657},{"$f":"+'[1]itcer BILATERAL'!AD275","v":63.531020471934028},{"$f":"+'[1]itcer BILATERAL'!AE275","v":75.408882841874984},{"$f":"+'[1]itcer BILATERAL'!AF275","v":96.501206852806376},{"$f":"+'[1]itcer BILATERAL'!AG275","v":90.915575144298984},null,{"$f":"+'[1]itcer BILATERAL'!BK275","v":0.46137756432868571},{"$f":"+'[1]itcer BILATERAL'!BL275","v":-1.6801407226452625E-2},{"$f":"+'[1]itcer BILATERAL'!BM275","v":0.58973828203544088},{"$f":"+'[1]itcer BILATERAL'!BN275","v":-0.12863825857913014},{"$f":"+'[1]itcer BILATERAL'!BO275","v":-0.17441782486018553},{"$f":"+'[1]itcer BILATERAL'!BP275","v":0.39964693221858738},null,{"$f":"+'[1]itcer BILATERAL'!BR275","v":1.616825859386309},{"$f":"+'[1]itcer BILATERAL'!BS275","v":1.0040160642570277},{"$f":"+'[1]itcer BILATERAL'!BT275","v":0.98639304109380033},{"$f":"+'[1]itcer BILATERAL'!BU275","v":1.2734520848918633},{"$f":"+'[1]itcer BILATERAL'!BV275","v":1.7494115020048475},{"$f":"+'[1]itcer BILATERAL'!BW275","v":2.3416067566175713},null,{"$f":"+'[1]itcer BILATERAL'!BY275","v":0.46928453554495808},{"$f":"+'[1]itcer BILATERAL'!BZ275","v":0.88541799625374262},{"$f":"+'[1]itcer BILATERAL'!CA275","v":0.6440740944551393},{"$f":"+'[1]itcer BILATERAL'!CB275","v":0.59216113222099309},{"$f":"+'[1]itcer BILATERAL'!CC275","v":0.551620969350063},{"$f":"+'[1]itcer BILATERAL'!CD275","v":0.38826149987551989}]
[null,"Junio",{"$f":"+'[1]itcer BILATERAL'!AB276","v":75.741133670733035},{"$f":"+'[1]itcer BILATERAL'!AC276","v":88.752521985514178},{"$f":"+'[1]itcer BILATERAL'!AD276","v":64.076424256015954},{"$f":"+'[1]itcer BILATERAL'!AE276","v":75.008664726340839},{"$f":"+'[1]itcer BILATERAL'!AF276","v":96.417798427692418},{"$f":"+'[1]itcer BILATERAL'!AG276","v":90.231407972203201},null,{"$f":"+'[1]itcer BILATERAL'!BK276","v":-0.17661065540781351},{"$f":"+'[1]itcer BILATERAL'!BL276","v":-0.16296001257329351},{"$f":"+'[1]itcer BILATERAL'!BM276","v":0.85848421767893512},{"$f":"+'[1]itcer BILATERAL'!BN276","v":-0.53073073151523431},{"$f":"+'[1]itcer BILATERAL'!BO276","v":-8.6432520207949892E-2},{"$f":"+'[1]itcer BILATERAL'!BP276","v":-0.7525302138933796},null,{"$f":"+'[1]itcer BILATERAL'!BR276","v":1.6247380464204249},{"$f":"+'[1]itcer BILATERAL'!BS276","v":1.0040160642570277},{"$f":"+'[1]itcer BILATERAL'!BT276","v":1.0012108565555651},{"$f":"+'[1]itcer BILATERAL'!BU276","v":1.2734520848918633},{"$f":"+'[1]itcer BILATERAL'!BV276","v":1.7612588428102487},{"$f":"+'[1]itcer BILATERAL'!BW276","v":2.3501905448552893},null,{"$f":"+'[1]itcer BILATERAL'!BY276","v":0.46617443247299872},{"$f":"+'[1]itcer BILATERAL'!BZ276","v":0.88397511897572167},{"$f":"+'[1]itcer BILATERAL'!CA276","v":0.63998930731190951},{"$f":"+'[1]itcer BILATERAL'!CB276","v":0.58901835111220746},{"$f":"+'[1]itcer BILATERAL'!CC276","v":0.54743684507978996},{"$f":"+'[1]itcer BILATERAL'!CD276","v":0.38393230782808341}]
[null,"Julio",{"$f":"+'[1]itcer BILATERAL'!AB277","v":75.432091906341171},{"$f":"+'[1]itcer BILATERAL'!AC277","v":88.599937151055911},{"$f":"+'[1]itcer BILATERAL'!AD277","v":63.362300588876614},{"$f":"+'[1]itcer BILATERAL'!AE277","v":74.479597872440223},{"$f":"+'[1]itcer BILATERAL'!AF277","v":96.642159938284863},{"$f":"+'[1]itcer BILATERAL'!AG277","v":89.580983190806634},null,{"$f":"+'[1]itcer BILATERAL'!BK277","v":-0.40802368464056826},{"$f":"+'[1]itcer BILATERAL'!BL277","v":-0.17192168858387902},{"$f":"+'[1]itcer BILATERAL'!BM277","v":-1.1144873881945614},{"$f":"+'[1]itcer BILATERAL'!BN277","v":-0.7053409840461029},{"$f":"+'[1]itcer BILATERAL'!BO277","v":0.23269719310248149},{"$f":"+'[1]itcer BILATERAL'!BP277","v":-0.72084077597119744},null,{"$f":"+'[1]itcer BILATERAL'!BR277","v":1.6221212801350933},{"$f":"+'[1]itcer BILATERAL'!BS277","v":1.0040160642570277},{"$f":"+'[1]itcer BILATERAL'!BT277","v":0.99857144929397135},{"$f":"+'[1]itcer BILATERAL'!BU277","v":1.2719228721432574},{"$f":"+'[1]itcer BILATERAL'!BV277","v":1.7700149024394372},{"$f":"+'[1]itcer BILATERAL'!BW277","v":2.3510804408280981},null,{"$f":"+'[1]itcer BILATERAL'!BY277","v":0.46502128311921936},{"$f":"+'[1]itcer BILATERAL'!BZ277","v":0.88245537402451713},{"$f":"+'[1]itcer BILATERAL'!CA277","v":0.63452946340170457},{"$f":"+'[1]itcer BILATERAL'!CB277","v":0.58556693572887919},{"$f":"+'[1]itcer BILATERAL'!CC277","v":0.54599630661353482},{"$f":"+'[1]itcer BILATERAL'!CD277","v":0.38102049438705893}]
[null,"Agosto",{"$f":"+'[1]itcer BILATERAL'!AB278","v":75.564797016785576},{"$f":"+'[1]itcer BILATERAL'!AC278","v":88.745259344070021},{"$f":"+'[1]itcer BILATERAL'!AD278","v":63.73300505585167},{"$f":"+'[1]itcer BILATERAL'!AE278","v":74.308703556035326},{"$f":"+'[1]itcer BILATERAL'!AF278","v":96.684415954790865},{"$f":"+'[1]itcer BILATERAL'!AG278","v":89.425081743051905},null,{"$f":"+'[1]itcer BILATERAL'!BK278","v":0.17592659449134374},{"$f":"+'[1]itcer BILATERAL'!BL278","v":0.16402065022501233},{"$f":"+'[1]itcer BILATERAL'!BM278","v":0.58505525135576875},{"$f":"+'[1]itcer BILATERAL'!BN278","v":-0.22945118030521883},{"$f":"+'[1]itcer BILATERAL'!BO278","v":4.372420539129962E-2},{"$f":"+'[1]itcer BILATERAL'!BP278","v":-0.17403408871128079},null,{"$f":"+'[1]itcer BILATERAL'!BR278","v":1.6246610703794631},{"$f":"+'[1]itcer BILATERAL'!BS278","v":1.0040160642570277},{"$f":"+'[1]itcer BILATERAL'!BT278","v":1.0076488440773705},{"$f":"+'[1]itcer BILATERAL'!BU278","v":1.2703123154854365},{"$f":"+'[1]itcer BILATERAL'!BV278","v":1.777160328521342},{"$f":"+'[1]itcer BILATERAL'!BW278","v":2.3521680914615306},null,{"$f":"+'[1]itcer BILATERAL'!BY278","v":0.46511114468408077},{"$f":"+'[1]itcer BILATERAL'!BZ278","v":0.8839027830669377},{"$f":"+'[1]itcer BILATERAL'!CA278","v":0.63249221621652596},{"$f":"+'[1]itcer BILATERAL'!CB278","v":0.58496404899954879},{"$f":"+'[1]itcer BILATERAL'!CC278","v":0.54403879269145972},{"$f":"+'[1]itcer BILATERAL'!CD278","v":0.38018151027415392}]
[null,"Septiembre",{"$f":"+'[1]itcer BILATERAL'!AB279","v":76.602103360392391},{"$f":"+'[1]itcer BILATERAL'!AC279","v":89.120008251822313},{"$f":"+'[1]itcer BILATERAL'!AD279","v":64.076840011978646},{"$f":"+'[1]itcer BILATERAL'!AE279","v":74.877074974726568},{"$f":"+'[1]itcer BILATERAL'!AF279","v":96.907620315393103},{"$f":"+'[1]itcer BILATERAL'!AG279","v":89.566396562415477},null,{"$f":"+'[1]itcer BILATERAL'!BK279","v":1.3727375504977317},{"$f":"+'[1]itcer BILATERAL'!BL279","v":0.42227484659139236},{"$f":"+'[1]itcer BILATERAL'!BM279","v":0.53949277274098506},{"$f":"+'[1]itcer BILATERAL'!BN279","v":0.76487866359104828},{"$f":"+'[1]itcer BILATERAL'!BO279","v":0.23085867396315507},{"$f":"+'[1]itcer BILATERAL'!BP279","v":0.15802593255615704},null,{"$f":"+'[1]itcer BILATERAL'!BR279","v":1.641898744118055},{"$f":"+'[1]itcer BILATERAL'!BS279","v":1.0040160642570277},{"$f":"+'[1]itcer BILATERAL'!BT279","v":1.0108800871636203},{"$f":"+'[1]itcer BILATERAL'!BU279","v":1.2754062568168134},{"$f":"+'[1]itcer BILATERAL'!BV279","v":1.7827811459402605},{"$f":"+'[1]itcer BILATERAL'!BW279","v":2.3573344319703371},null,{"$f":"+'[1]itcer BILATERAL'!BY279","v":0.46654584294440871},{"$f":"+'[1]itcer BILATERAL'!BZ279","v":0.88763528218815069},{"$f":"+'[1]itcer BILATERAL'!CA279","v":0.63387181947335391},{"$f":"+'[1]itcer BILATERAL'!CB279","v":0.58708411201938426},{"$f":"+'[1]itcer BILATERAL'!CC279","v":0.54357552824737132},{"$f":"+'[1]itcer BILATERAL'!CD279","v":0.37994777214344155}]
[null,"Octubre",{"$f":"+'[1]itcer BILATERAL'!AB280","v":76.870472225795908},{"$f":"+'[1]itcer BILATERAL'!AC280","v":89.002478031538189},{"$f":"+'[1]itcer BILATERAL'!AD280","v":63.887326154375778},{"$f":"+'[1]itcer BILATERAL'!AE280","v":74.937356111087254},{"$f":"+'[1]itcer BILATERAL'!AF280","v":96.500283193871681},{"$f":"+'[1]itcer BILATERAL'!AG280","v":89.716965412308326},null,{"$f":"+'[1]itcer BILATERAL'!BK280","v":0.35034137919282671},{"$f":"+'[1]itcer BILATERAL'!BL280","v":-0.13187860121379913},{"$f":"+'[1]itcer BILATERAL'!BM280","v":-0.29576030523264762},{"$f":"+'[1]itcer BILATERAL'!BN280","v":8.0506799151862651E-2},{"$f":"+'[1]itcer BILATERAL'!BO280","v":-0.42033549084759159},{"$f":"+'[1]itcer BILATERAL'!BP280","v":0.16810863858738401},null,{"$f":"+'[1]itcer BILATERAL'!BR280","v":1.6549656715502339},{"$f":"+'[1]itcer BILATERAL'!BS280","v":1.0040160642570277},{"$f":"+'[1]itcer BILATERAL'!BT280","v":1.0095916453033733},{"$f":"+'[1]itcer BILATERAL'!BU280","v":1.2801471177398713},{"$f":"+'[1]itcer BILATERAL'!BV280","v":1.7865577883378787},{"$f":"+'[1]itcer BILATERAL'!BW280","v":2.3668822741785975},null,{"$f":"+'[1]itcer BILATERAL'!BY280","v":0.46448378686785713},{"$f":"+'[1]itcer BILATERAL'!BZ280","v":0.88646468119412081},{"$f":"+'[1]itcer BILATERAL'!CA280","v":0.63280363354411673},{"$f":"+'[1]itcer BILATERAL'!CB280","v":0.58538081344424575},{"$f":"+'[1]itcer BILATERAL'!CC280","v":0.54014644151897562},{"$f":"+'[1]itcer BILATERAL'!CD280","v":0.37905123711082617}]
[null,"Noviembre",{"$f":"+'[1]itcer BILATERAL'!AB281","v":75.477883580103054},{"$f":"+'[1]itcer BILATERAL'!AC281","v":88.795017294654897},{"$f":"+'[1]itcer BILATERAL'!AD281","v":63.458754767931126},{"$f":"+'[1]itcer BILATERAL'!AE281","v":74.550844929223672},{"$f":"+'[1]itcer BILATERAL'!AF281","v":95.372319891551712},{"$f":"+'[1]itcer BILATERAL'!AG281","v":89.891384410589396},null,{"$f":"+'[1]itcer BILATERAL'!BK281","v":-1.8116041249263191},{"$f":"+'[1]itcer BILATERAL'!BL281","v":-0.2330954614654388},{"$f":"+'[1]itcer BILATERAL'!BM281","v":-0.67082379595768771},{"$f":"+'[1]itcer BILATERAL'!BN281","v":-0.51577904788983631},{"$f":"+'[1]itcer BILATERAL'!BO281","v":-1.1688704581870155},{"$f":"+'[1]itcer BILATERAL'!BP281","v":0.19441027399832933},null,{"$f":"+'[1]itcer BILATERAL'!BR281","v":1.6312385403621641},{"$f":"+'[1]itcer BILATERAL'!BS281","v":1.0040160642570277},{"$f":"+'[1]itcer BILATERAL'!BT281","v":1.005848837952708},{"$f":"+'[1]itcer BILATERAL'!BU281","v":1.2794395970460994},{"$f":"+'[1]itcer BILATERAL'!BV281","v":1.7893740884790521},{"$f":"+'[1]itcer BILATERAL'!BW281","v":2.375626738078072},null,{"$f":"+'[1]itcer BILATERAL'!BY281","v":0.46270291997481644},{"$f":"+'[1]itcer BILATERAL'!BZ281","v":0.88439837225476314},{"$f":"+'[1]itcer BILATERAL'!CA281","v":0.63089753026005646},{"$f":"+'[1]itcer BILATERAL'!CB281","v":0.58268358351064498},{"$f":"+'[1]itcer BILATERAL'!CC281","v":0.5329926285711285},{"$f":"+'[1]itcer BILATERAL'!CD281","v":0.37839018634431287}]
[null,"Diciembre",{"$f":"+'[1]itcer BILATERAL'!AB282","v":74.250306354749199},{"$f":"+'[1]itcer BILATERAL'!AC282","v":88.732862288633612},{"$f":"+'[1]itcer BILATERAL'!AD282","v":63.041393717552651},{"$f":"+'[1]itcer BILATERAL'!AE282","v":74.344672314549811},{"$f":"+'[1]itcer BILATERAL'!AF282","v":94.303263146592471},{"$f":"+'[1]itcer BILATERAL'!AG282","v":89.815259993020632},null,{"$f":"+'[1]itcer BILATERAL'!BK282","v":-1.6264065274843773},{"$f":"+'[1]itcer BILATERAL'!BL282","v":-6.9998303863201272E-2},{"$f":"+'[1]itcer BILATERAL'!BM282","v":-0.65768868598945573},{"$f":"+'[1]itcer BILATERAL'!BN282","v":-0.27655302212818356},{"$f":"+'[1]itcer BILATERAL'!BO282","v":-1.1209297898749639},{"$f":"+'[1]itcer BILATERAL'!BP282","v":-8.4684887286925914E-2},null,{"$f":"+'[1]itcer BILATERAL'!BR282","v":1.6234100350858267},{"$f":"+'[1]itcer BILATERAL'!BS282","v":1.0040160642570277},{"$f":"+'[1]itcer BILATERAL'!BT282","v":1.0038783282106134},{"$f":"+'[1]itcer BILATERAL'!BU282","v":1.2811976566352479},{"$f":"+'[1]itcer BILATERAL'!BV282","v":1.7951315244125836},{"$f":"+'[1]itcer BILATERAL'!BW282","v":2.3821588217118141},null,{"$f":"+'[1]itcer BILATERAL'!BY282","v":0.45737247368206463},{"$f":"+'[1]itcer BILATERAL'!BZ282","v":0.88377930839479113},{"$f":"+'[1]itcer BILATERAL'!CA282","v":0.62797843071203918},{"$f":"+'[1]itcer BILATERAL'!CB282","v":0.58027480716595981},{"$f":"+'[1]itcer BILATERAL'!CC282","v":0.52532787633736822},{"$f":"+'[1]itcer BILATERAL'!CD282","v":0.37703304739555354}]
[2012,"Enero",{"$f":"+'[1]itcer BILATERAL'!AB283","v":75.086121558656274},{"$f":"+'[1]itcer BILATERAL'!AC283","v":88.825260307207245},{"$f":"+'[1]itcer BILATERAL'!AD283","v":63.344636170774201},{"$f":"+'[1]itcer BILATERAL'!AE283","v":74.820619274562929},{"$f":"+'[1]itcer BILATERAL'!AF283","v":95.345451112543259},{"$f":"+'[1]itcer BILATERAL'!AG283","v":90.543607336572265},null,{"$f":"+'[1]itcer BILATERAL'!BK283","v":1.1256723977861611},{"$f":"+'[1]itcer BILATERAL'!BL283","v":0.10413055117402337},{"$f":"+'[1]itcer BILATERAL'!BM283","v":0.48102117567417224},{"$f":"+'[1]itcer BILATERAL'!BN283","v":0.64018973410684055},{"$f":"+'[1]itcer BILATERAL'!BO283","v":1.1051451786251931},{"$f":"+'[1]itcer BILATERAL'!BP283","v":0.81093941453627849},null,{"$f":"+'[1]itcer BILATERAL'!BR283","v":1.6373495439187939},{"$f":"+'[1]itcer BILATERAL'!BS283","v":1.0040160642570277},{"$f":"+'[1]itcer BILATERAL'!BT283","v":1.0052337928800259},{"$f":"+'[1]itcer BILATERAL'!BU283","v":1.2864333069935132},{"$f":"+'[1]itcer BILATERAL'!BV283","v":1.8093273610751748},{"$f":"+'[1]itcer BILATERAL'!BW283","v":2.4013842826243694},null,{"$f":"+'[1]itcer BILATERAL'!BY283","v":0.458583335717961},{"$f":"+'[1]itcer BILATERAL'!BZ283","v":0.88469959265978437},{"$f":"+'[1]itcer BILATERAL'!CA283","v":0.63014829604255396},{"$f":"+'[1]itcer BILATERAL'!CB283","v":0.5816128894347744},{"$f":"+'[1]itcer BILATERAL'!CC283","v":0.5269662813029321},{"$f":"+'[1]itcer BILATERAL'!CD283","v":0.37704755541091933}]
[null,"Febrero",{"$f":"+'[1]itcer BILATERAL'!AB284","v":75.347141623606106},{"$f":"+'[1]itcer BILATERAL'!AC284","v":88.927228500759753},{"$f":"+'[1]itcer BILATERAL'!AD284","v":63.109756150187096},{"$f":"+'[1]itcer BILATERAL'!AE284","v":74.7293779909796},{"$f":"+'[1]itcer BILATERAL'!AF284","v":95.077033602103313},{"$f":"+'[1]itcer BILATERAL'!AG284","v":90.820218368243502},null,{"$f":"+'[1]itcer BILATERAL'!BK284","v":0.34762757688307033},{"$f":"+'[1]itcer BILATERAL'!BL284","v":0.11479639147675869},{"$f":"+'[1]itcer BILATERAL'!BM284","v":-0.3707970157944942},{"$f":"+'[1]itcer BILATERAL'!BN284","v":-0.1219467099684266},{"$f":"+'[1]itcer BILATERAL'!BO284","v":-0.28152104511322307},{"$f":"+'[1]itcer BILATERAL'!BP284","v":0.305500343765857},null,{"$f":"+'[1]itcer BILATERAL'!BR284","v":1.6404413635125408},{"$f":"+'[1]itcer BILATERAL'!BS284","v":1.0040160642570277},{"$f":"+'[1]itcer BILATERAL'!BT284","v":1.0020876503698706},{"$f":"+'[1]itcer BILATERAL'!BU284","v":1.2915016511297495},{"$f":"+'[1]itcer BILATERAL'!BV284","v":1.8183245743329741},{"$f":"+'[1]itcer BILATERAL'!BW284","v":2.4065815222988984},null,{"$f":"+'[1]itcer BILATERAL'!BY284","v":0.45931017895251997},{"$f":"+'[1]itcer BILATERAL'!BZ284","v":0.88571519586756742},{"$f":"+'[1]itcer BILATERAL'!CA284","v":0.62978279521649916},{"$f":"+'[1]itcer BILATERAL'!CB284","v":0.57862394465860434},{"$f":"+'[1]itcer BILATERAL'!CC284","v":0.52288263022007997},{"$f":"+'[1]itcer BILATERAL'!CD284","v":0.3773826796504573}]
[null,"Marzo",{"$f":"+'[1]itcer BILATERAL'!AB285","v":75.347817662054695},{"$f":"+'[1]itcer BILATERAL'!AC285","v":89.470043338519105},{"$f":"+'[1]itcer BILATERAL'!AD285","v":62.889543188564765},{"$f":"+'[1]itcer BILATERAL'!AE285","v":75.043259435561311},{"$f":"+'[1]itcer BILATERAL'!AF285","v":95.553283658313518},{"$f":"+'[1]itcer BILATERAL'!AG285","v":91.497126303187386},null,{"$f":"+'[1]itcer BILATERAL'!BK285","v":8.9723171181788075E-4},{"$f":"+'[1]itcer BILATERAL'!BL285","v":0.61040341289250932},{"$f":"+'[1]itcer BILATERAL'!BM285","v":-0.34893647996084098},{"$f":"+'[1]itcer BILATERAL'!BN285","v":0.42002416321409441},{"$f":"+'[1]itcer BILATERAL'!BO285","v":0.50090967099720274},{"$f":"+'[1]itcer BILATERAL'!BP285","v":0.74532735893593838},null,{"$f":"+'[1]itcer BILATERAL'!BR285","v":1.6346190598524446},{"$f":"+'[1]itcer BILATERAL'!BS285","v":1.0040160642570277},{"$f":"+'[1]itcer BILATERAL'!BT285","v":0.99431126287858085},{"$f":"+'[1]itcer BILATERAL'!BU285","v":1.2967208223278905},{"$f":"+'[1]itcer BILATERAL'!BV285","v":1.8209733227517706},{"$f":"+'[1]itcer BILATERAL'!BW285","v":2.4097888557008962},null,{"$f":"+'[1]itcer BILATERAL'!BY285","v":0.46095031871741576},{"$f":"+'[1]itcer BILATERAL'!BZ285","v":0.8911216316516507},{"$f":"+'[1]itcer BILATERAL'!CA285","v":0.63249352125909131},{"$f":"+'[1]itcer BILATERAL'!CB285","v":0.57871561976495933},{"$f":"+'[1]itcer BILATERAL'!CC285","v":0.52473741632808657},{"$f":"+'[1]itcer BILATERAL'!CD285","v":0.37968939098846938}]
[null,"Abril",{"$f":"+'[1]itcer BILATERAL'!AB286","v":74.558642481868276},{"$f":"+'[1]itcer BILATERAL'!AC286","v":89.187858415397329},{"$f":"+'[1]itcer BILATERAL'!AD286","v":63.046778725669014},{"$f":"+'[1]itcer BILATERAL'!AE286","v":74.694771867822226},{"$f":"+'[1]itcer BILATERAL'!AF286","v":95.05089982030762},{"$f":"+'[1]itcer BILATERAL'!AG286","v":91.819701514565452},null,{"$f":"+'[1]itcer BILATERAL'!BK286","v":-1.0473762939305971},{"$f":"+'[1]itcer BILATERAL'!BL286","v":-0.31539598349594655},{"$f":"+'[1]itcer BILATERAL'!BM286","v":0.25001857086606094},{"$f":"+'[1]itcer BILATERAL'!BN286","v":-0.46438223813869683},{"$f":"+'[1]itcer BILATERAL'!BO286","v":-0.52576302851335299},{"$f":"+'[1]itcer BILATERAL'!BP286","v":0.35255228706219555},null,{"$f":"+'[1]itcer BILATERAL'!BR286","v":1.6228552417960596},{"$f":"+'[1]itcer BILATERAL'!BS286","v":1.0040160642570277},{"$f":"+'[1]itcer BILATERAL'!BT286","v":0.99750382388478764},{"$f":"+'[1]itcer BILATERAL'!BU286","v":1.3010567320867932},{"$f":"+'[1]itcer BILATERAL'!BV286","v":1.8252123476855537},{"$f":"+'[1]itcer BILATERAL'!BW286","v":2.4112225769904216},null,{"$f":"+'[1]itcer BILATERAL'!BY286","v":0.4594287929177967},{"$f":"+'[1]itcer BILATERAL'!BZ286","v":0.88831106981735775},{"$f":"+'[1]itcer BILATERAL'!CA286","v":0.63204548409782313},{"$f":"+'[1]itcer BILATERAL'!CB286","v":0.57410849216403992},{"$f":"+'[1]itcer BILATERAL'!CC286","v":0.52076625462695414},{"$f":"+'[1]itcer BILATERAL'!CD286","v":0.38080143405579181}]
[null,"Mayo",{"$f":"+'[1]itcer BILATERAL'!AB287","v":73.697207953584922},{"$f":"+'[1]itcer BILATERAL'!AC287","v":89.329443208373561},{"$f":"+'[1]itcer BILATERAL'!AD287","v":63.177189633349485},{"$f":"+'[1]itcer BILATERAL'!AE287","v":74.798621836292355},{"$f":"+'[1]itcer BILATERAL'!AF287","v":95.547320765976465},{"$f":"+'[1]itcer BILATERAL'!AG287","v":91.967945636345149},null,{"$f":"+'[1]itcer BILATERAL'!BK287","v":-1.1553785042328855},{"$f":"+'[1]itcer BILATERAL'!BL287","v":0.15874895472521189},{"$f":"+'[1]itcer BILATERAL'!BM287","v":0.20684785220814206},{"$f":"+'[1]itcer BILATERAL'!BN287","v":0.13903244614481025},{"$f":"+'[1]itcer BILATERAL'!BO287","v":0.52226853886425317},{"$f":"+'[1]itcer BILATERAL'!BP287","v":0.16145132181264898},null,{"$f":"+'[1]itcer BILATERAL'!BR287","v":1.6218509559259153},{"$f":"+'[1]itcer BILATERAL'!BS287","v":1.0040160642570277},{"$f":"+'[1]itcer BILATERAL'!BT287","v":1.0020438106791552},{"$f":"+'[1]itcer BILATERAL'!BU287","v":1.3059831620558691},{"$f":"+'[1]itcer BILATERAL'!BV287","v":1.8311968253740094},{"$f":"+'[1]itcer BILATERAL'!BW287","v":2.4115068493150686},null,{"$f":"+'[1]itcer BILATERAL'!BY287","v":0.45440185292187441},{"$f":"+'[1]itcer BILATERAL'!BZ287","v":0.88972125435540106},{"$f":"+'[1]itcer BILATERAL'!CA287","v":0.63048330781595152},{"$f":"+'[1]itcer BILATERAL'!CB287","v":0.57273802610551949},{"$f":"+'[1]itcer BILATERAL'!CC287","v":0.52177526436275679},{"$f":"+'[1]itcer BILATERAL'!CD287","v":0.38137128104142215}]
[null,"Junio",{"$f":"+'[1]itcer BILATERAL'!AB288","v":72.804687330869783},{"$f":"+'[1]itcer BILATERAL'!AC288","v":89.686009490132776},{"$f":"+'[1]itcer BILATERAL'!AD288","v":63.538024076533475},{"$f":"+'[1]itcer BILATERAL'!AE288","v":74.990841269747776},{"$f":"+'[1]itcer BILATERAL'!AF288","v":96.268251426653208},{"$f":"+'[1]itcer BILATERAL'!AG288","v":91.740258694303662},null,{"$f":"+'[1]itcer BILATERAL'!BK288","v":-1.2110643638999932},{"$f":"+'[1]itcer BILATERAL'!BL288","v":0.39915874201462032},{"$f":"+'[1]itcer BILATERAL'!BM288","v":0.57114671494269942},{"$f":"+'[1]itcer BILATERAL'!BN288","v":0.25698258702695398},{"$f":"+'[1]itcer BILATERAL'!BO288","v":0.7545273429932422},{"$f":"+'[1]itcer BILATERAL'!BP288","v":-0.24757206488203565},null,{"$f":"+'[1]itcer BILATERAL'!BR288","v":1.6070793095467106},{"$f":"+'[1]itcer BILATERAL'!BS288","v":1.0040160642570277},{"$f":"+'[1]itcer BILATERAL'!BT288","v":1.0104648995044934},{"$f":"+'[1]itcer BILATERAL'!BU288","v":1.3112621420917181},{"$f":"+'[1]itcer BILATERAL'!BV288","v":1.8416228260604133},{"$f":"+'[1]itcer BILATERAL'!BW288","v":2.4141765372334949},null,{"$f":"+'[1]itcer BILATERAL'!BY288","v":0.45302485632401607},{"$f":"+'[1]itcer BILATERAL'!BZ288","v":0.89327265452172278},{"$f":"+'[1]itcer BILATERAL'!CA288","v":0.62879991286872927},{"$f":"+'[1]itcer BILATERAL'!CB288","v":0.57189816484843214},{"$f":"+'[1]itcer BILATERAL'!CC288","v":0.52273598081204053},{"$f":"+'[1]itcer BILATERAL'!CD288","v":0.38000642156614045}]
[null,"Julio",{"$f":"+'[1]itcer BILATERAL'!AB289","v":72.975630933508413},{"$f":"+'[1]itcer BILATERAL'!AC289","v":89.814426015752488},{"$f":"+'[1]itcer BILATERAL'!AD289","v":63.009531811643058},{"$f":"+'[1]itcer BILATERAL'!AE289","v":75.109991278757107},{"$f":"+'[1]itcer BILATERAL'!AF289","v":96.596857465953221},{"$f":"+'[1]itcer BILATERAL'!AG289","v":91.812399997710742},null,{"$f":"+'[1]itcer BILATERAL'!BK289","v":0.23479752321682668},{"$f":"+'[1]itcer BILATERAL'!BL289","v":0.14318456841793648},{"$f":"+'[1]itcer BILATERAL'!BM289","v":-0.83177321386928327},{"$f":"+'[1]itcer BILATERAL'!BN289","v":0.15888608127589521},{"$f":"+'[1]itcer BILATERAL'!BO289","v":0.34134414454425155},{"$f":"+'[1]itcer BILATERAL'!BP289","v":7.8636472617191089E-2},null,{"$f":"+'[1]itcer BILATERAL'!BR289","v":1.6086061174444408},{"$f":"+'[1]itcer BILATERAL'!BS289","v":1.0040160642570277},{"$f":"+'[1]itcer BILATERAL'!BT289","v":1.0072323670155754},{"$f":"+'[1]itcer BILATERAL'!BU289","v":1.3165551264683879},{"$f":"+'[1]itcer BILATERAL'!BV289","v":1.8557843902852167},{"$f":"+'[1]itcer BILATERAL'!BW289","v":2.4151220517046039},null,{"$f":"+'[1]itcer BILATERAL'!BY289","v":0.45365754949038301},{"$f":"+'[1]itcer BILATERAL'!BZ289","v":0.89455168311689526},{"$f":"+'[1]itcer BILATERAL'!CA289","v":0.62557095934416795},{"$f":"+'[1]itcer BILATERAL'!CB289","v":0.5705039596802679},{"$f":"+'[1]itcer BILATERAL'!CC289","v":0.52051767420625417},{"$f":"+'[1]itcer BILATERAL'!CD289","v":0.38015635662350528}]
[null,"Agosto",{"$f":"+'[1]itcer BILATERAL'!AB290","v":72.812364991859269},{"$f":"+'[1]itcer BILATERAL'!AC290","v":90.155076530168742},{"$f":"+'[1]itcer BILATERAL'!AD290","v":63.570397998507801},{"$f":"+'[1]itcer BILATERAL'!AE290","v":75.389662896475045},{"$f":"+'[1]itcer BILATERAL'!AF290","v":97.422537382804293},{"$f":"+'[1]itcer BILATERAL'!AG290","v":91.467375302691394},null,{"$f":"+'[1]itcer BILATERAL'!BK290","v":-0.22372665992830321},{"$f":"+'[1]itcer BILATERAL'!BL290","v":0.37928262699860227},{"$f":"+'[1]itcer BILATERAL'!BM290","v":0.89012911338772938},{"$f":"+'[1]itcer BILATERAL'!BN290","v":0.37234942110428904},{"$f":"+'[1]itcer BILATERAL'!BO290","v":0.85476892158948203},{"$f":"+'[1]itcer BILATERAL'!BP290","v":-0.37579313363767142},null,{"$f":"+'[1]itcer BILATERAL'!BR290","v":1.6045638275258001},{"$f":"+'[1]itcer BILATERAL'!BS290","v":1.0040160642570277},{"$f":"+'[1]itcer BILATERAL'!BT290","v":1.0151492993976878},{"$f":"+'[1]itcer BILATERAL'!BU290","v":1.3221212944347696},{"$f":"+'[1]itcer BILATERAL'!BV290","v":1.8659297315138355},{"$f":"+'[1]itcer BILATERAL'!BW290","v":2.4169883613142447},null,{"$f":"+'[1]itcer BILATERAL'!BY290","v":0.45378291435208423},{"$f":"+'[1]itcer BILATERAL'!BZ290","v":0.89794456224048091},{"$f":"+'[1]itcer BILATERAL'!CA290","v":0.62621722771444199},{"$f":"+'[1]itcer BILATERAL'!CB290","v":0.57021744686977072},{"$f":"+'[1]itcer BILATERAL'!CC290","v":0.52211257335915362},{"$f":"+'[1]itcer BILATERAL'!CD290","v":0.37843531548060799}]
[null,"Septiembre",{"$f":"+'[1]itcer BILATERAL'!AB291","v":72.881625772442774},{"$f":"+'[1]itcer BILATERAL'!AC291","v":90.189248238085469},{"$f":"+'[1]itcer BILATERAL'!AD291","v":64.246963967415851},{"$f":"+'[1]itcer BILATERAL'!AE291","v":75.485459091655542},{"$f":"+'[1]itcer BILATERAL'!AF291","v":97.544230453292542},{"$f":"+'[1]itcer BILATERAL'!AG291","v":91.502868142609444},null,{"$f":"+'[1]itcer BILATERAL'!BK291","v":9.5122278463620091E-2},{"$f":"+'[1]itcer BILATERAL'!BL291","v":3.7903254294604949E-2},{"$f":"+'[1]itcer BILATERAL'!BM291","v":1.0642783279789114},{"$f":"+'[1]itcer BILATERAL'!BN291","v":0.12706807737295378},{"$f":"+'[1]itcer BILATERAL'!BO291","v":0.12491264727594853},{"$f":"+'[1]itcer BILATERAL'!BP291","v":3.8803824643053986E-2},null,{"$f":"+'[1]itcer BILATERAL'!BR291","v":1.6000623706332504},{"$f":"+'[1]itcer BILATERAL'!BS291","v":1.0040160642570277},{"$f":"+'[1]itcer BILATERAL'!BT291","v":1.0263748390261358},{"$f":"+'[1]itcer BILATERAL'!BU291","v":1.3274629127824287},{"$f":"+'[1]itcer BILATERAL'!BV291","v":1.8722203850267516},{"$f":"+'[1]itcer BILATERAL'!BW291","v":2.4227788649706459},null,{"$f":"+'[1]itcer BILATERAL'!BY291","v":0.45549240523417028},{"$f":"+'[1]itcer BILATERAL'!BZ291","v":0.89828491245133157},{"$f":"+'[1]itcer BILATERAL'!CA291","v":0.62596004426975116},{"$f":"+'[1]itcer BILATERAL'!CB291","v":0.5686445803102268},{"$f":"+'[1]itcer BILATERAL'!CC291","v":0.52100827035861363},{"$f":"+'[1]itcer BILATERAL'!CD291","v":0.37767734177307211}]
[null,"Octubre",{"$f":"+'[1]itcer BILATERAL'!AB292","v":72.4986564176847},{"$f":"+'[1]itcer BILATERAL'!AC292","v":90.079271755833119},{"$f":"+'[1]itcer BILATERAL'!AD292","v":63.390104564041401},{"$f":"+'[1]itcer BILATERAL'!AE292","v":75.407607706521162},{"$f":"+'[1]itcer BILATERAL'!AF292","v":97.227167479555874},{"$f":"+'[1]itcer BILATERAL'!AG292","v":91.772881177699745},null,{"$f":"+'[1]itcer BILATERAL'!BK292","v":-0.5254676342619149},{"$f":"+'[1]itcer BILATERAL'!BL292","v":-0.12193968172572056},{"$f":"+'[1]itcer BILATERAL'!BM292","v":-1.3336963343653423},{"$f":"+'[1]itcer BILATERAL'!BN292","v":-0.10313428052396034},{"$f":"+'[1]itcer BILATERAL'!BO292","v":-0.32504533816430126},{"$f":"+'[1]itcer BILATERAL'!BP292","v":0.29508696347033947},null,{"$f":"+'[1]itcer BILATERAL'!BR292","v":1.5993700402975222},{"$f":"+'[1]itcer BILATERAL'!BS292","v":1.0040160642570277},{"$f":"+'[1]itcer BILATERAL'!BT292","v":1.0133583190917019},{"$f":"+'[1]itcer BILATERAL'!BU292","v":1.3324375540449109},{"$f":"+'[1]itcer BILATERAL'!BV292","v":1.875971465446246},{"$f":"+'[1]itcer BILATERAL'!BW292","v":2.436603151714904},null,{"$f":"+'[1]itcer BILATERAL'!BY292","v":0.45329507613008779},{"$f":"+'[1]itcer BILATERAL'!BZ292","v":0.89718954668809825},{"$f":"+'[1]itcer BILATERAL'!CA292","v":0.62554481835072417},{"$f":"+'[1]itcer BILATERAL'!CB292","v":0.56593727396533189},{"$f":"+'[1]itcer BILATERAL'!CC292","v":0.51827636651407161},{"$f":"+'[1]itcer BILATERAL'!CD292","v":0.3766427089824172}]
[null,"Noviembre",{"$f":"+'[1]itcer BILATERAL'!AB293","v":71.89544729648587},{"$f":"+'[1]itcer BILATERAL'!AC293","v":89.808419773418734},{"$f":"+'[1]itcer BILATERAL'!AD293","v":63.106765479628677},{"$f":"+'[1]itcer BILATERAL'!AE293","v":75.254079220533882},{"$f":"+'[1]itcer BILATERAL'!AF293","v":96.328700316030776},{"$f":"+'[1]itcer BILATERAL'!AG293","v":91.966360850671535},null,{"$f":"+'[1]itcer BILATERAL'!BK293","v":-0.83202800024814394},{"$f":"+'[1]itcer BILATERAL'!BL293","v":-0.30068180740686046},{"$f":"+'[1]itcer BILATERAL'!BM293","v":-0.44697683709682678},{"$f":"+'[1]itcer BILATERAL'!BN293","v":-0.20359813904295265},{"$f":"+'[1]itcer BILATERAL'!BO293","v":-0.92409064957489306},{"$f":"+'[1]itcer BILATERAL'!BP293","v":0.21082445106759451},null,{"$f":"+'[1]itcer BILATERAL'!BR293","v":1.6059598040943861},{"$f":"+'[1]itcer BILATERAL'!BS293","v":1.0040160642570277},{"$f":"+'[1]itcer BILATERAL'!BT293","v":1.0131816709261727},{"$f":"+'[1]itcer BILATERAL'!BU293","v":1.3377085519870453},{"$f":"+'[1]itcer BILATERAL'!BV293","v":1.8848437018705995},{"$f":"+'[1]itcer BILATERAL'!BW293","v":2.4679472654238337},null,{"$f":"+'[1]itcer BILATERAL'!BY293","v":0.44767899615662099},{"$f":"+'[1]itcer BILATERAL'!BZ293","v":0.89449186094325095},{"$f":"+'[1]itcer BILATERAL'!CA293","v":0.62285735412032617},{"$f":"+'[1]itcer BILATERAL'!CB293","v":0.5625596032016893},{"$f":"+'[1]itcer BILATERAL'!CC293","v":0.51106996415899131},{"$f":"+'[1]itcer BILATERAL'!CD293","v":0.37264313601481142}]
[null,"Diciembre",{"$f":"+'[1]itcer BILATERAL'!AB294","v":71.434788999237938},{"$f":"+'[1]itcer BILATERAL'!AC294","v":89.54028784298167},{"$f":"+'[1]itcer BILATERAL'!AD294","v":62.697523703275145},{"$f":"+'[1]itcer BILATERAL'!AE294","v":75.200823603727144},{"$f":"+'[1]itcer BILATERAL'!AF294","v":94.828336108240165},{"$f":"+'[1]itcer BILATERAL'!AG294","v":91.609219138292303},null,{"$f":"+'[1]itcer BILATERAL'!BK294","v":-0.64073361328186706},{"$f":"+'[1]itcer BILATERAL'!BL294","v":-0.29855990241621555},{"$f":"+'[1]itcer BILATERAL'!BM294","v":-0.64849112966443556},{"$f":"+'[1]itcer BILATERAL'!BN294","v":-7.0767747553816207E-2},{"$f":"+'[1]itcer BILATERAL'!BO294","v":-1.5575464039982734},{"$f":"+'[1]itcer BILATERAL'!BP294","v":-0.38833950704990627},null,{"$f":"+'[1]itcer BILATERAL'!BR294","v":1.6056283600704713},{"$f":"+'[1]itcer BILATERAL'!BS294","v":1.0040160642570277},{"$f":"+'[1]itcer BILATERAL'!BT294","v":1.0155464354194617},{"$f":"+'[1]itcer BILATERAL'!BU294","v":1.342982370940689},{"$f":"+'[1]itcer BILATERAL'!BV294","v":1.8923983997436205},{"$f":"+'[1]itcer BILATERAL'!BW294","v":2.4824636934802764},null,{"$f":"+'[1]itcer BILATERAL'!BY294","v":0.44490238697641504},{"$f":"+'[1]itcer BILATERAL'!BZ294","v":0.89182126691609775},{"$f":"+'[1]itcer BILATERAL'!CA294","v":0.61737722192268396},{"$f":"+'[1]itcer BILATERAL'!CB294","v":0.55995391474165734},{"$f":"+'[1]itcer BILATERAL'!CC294","v":0.50110133321338357},{"$f":"+'[1]itcer BILATERAL'!CD294","v":0.36902541366017422}]
[2013,"Enero",{"$f":"+'[1]itcer BILATERAL'!AB295","v":70.892031091667675},{"$f":"+'[1]itcer BILATERAL'!AC295","v":89.460731724589053},{"$f":"+'[1]itcer BILATERAL'!AD295","v":62.533200057686415},{"$f":"+'[1]itcer BILATERAL'!AE295","v":75.378458240580727},{"$f":"+'[1]itcer BILATERAL'!AF295","v":94.640047591828164},{"$f":"+'[1]itcer BILATERAL'!AG295","v":91.689750545148456},null,{"$f":"+'[1]itcer BILATERAL'!BK295","v":-0.75979493349669269},{"$f":"+'[1]itcer BILATERAL'!BL295","v":-8.8849522722242114E-2},{"$f":"+'[1]itcer BILATERAL'!BM295","v":-0.26208953062710805},{"$f":"+'[1]itcer BILATERAL'!BN295","v":0.23621368535754073},{"$f":"+'[1]itcer BILATERAL'!BO295","v":-0.19855722892478411},{"$f":"+'[1]itcer BILATERAL'!BP295","v":8.7907535522788294E-2},null,{"$f":"+'[1]itcer BILATERAL'!BR295","v":1.608915209078966},{"$f":"+'[1]itcer BILATERAL'!BS295","v":1.0040160642570277},{"$f":"+'[1]itcer BILATERAL'!BT295","v":1.0144530219569157},{"$f":"+'[1]itcer BILATERAL'!BU295","v":1.3480279699289455},{"$f":"+'[1]itcer BILATERAL'!BV295","v":1.9046326505239504},{"$f":"+'[1]itcer BILATERAL'!BW295","v":2.5075043773818111},null,{"$f":"+'[1]itcer BILATERAL'!BY295","v":0.44062005686583239},{"$f":"+'[1]itcer BILATERAL'!BZ295","v":0.89102888797690694},{"$f":"+'[1]itcer BILATERAL'!CA295","v":0.61642282791033187},{"$f":"+'[1]itcer BILATERAL'!CB295","v":0.55917577321896295},{"$f":"+'[1]itcer BILATERAL'!CC295","v":0.4968939683239883},{"$f":"+'[1]itcer BILATERAL'!CD295","v":0.36566137779143371}]
[null,"Febrero",{"$f":"+'[1]itcer BILATERAL'!AB296","v":70.876041615555536},{"$f":"+'[1]itcer BILATERAL'!AC296","v":89.812959509061997},{"$f":"+'[1]itcer BILATERAL'!AD296","v":62.112530530371693},{"$f":"+'[1]itcer BILATERAL'!AE296","v":75.491036671272909},{"$f":"+'[1]itcer BILATERAL'!AF296","v":95.354683761138958},{"$f":"+'[1]itcer BILATERAL'!AG296","v":92.554036894812711},null,{"$f":"+'[1]itcer BILATERAL'!BK296","v":-2.2554687552215569E-2},{"$f":"+'[1]itcer BILATERAL'!BL296","v":0.39372334395531539},{"$f":"+'[1]itcer BILATERAL'!BM296","v":-0.67271389746032639},{"$f":"+'[1]itcer BILATERAL'!BN296","v":0.14935093303829206},{"$f":"+'[1]itcer BILATERAL'!BO296","v":0.75510968928603006},{"$f":"+'[1]itcer BILATERAL'!BP296","v":0.9426204614208018},null,{"$f":"+'[1]itcer BILATERAL'!BR296","v":1.6117630431896099},{"$f":"+'[1]itcer BILATERAL'!BS296","v":1.0040160642570277},{"$f":"+'[1]itcer BILATERAL'!BT296","v":1.0075908209573063},{"$f":"+'[1]itcer BILATERAL'!BU296","v":1.3533421621949495},{"$f":"+'[1]itcer BILATERAL'!BV296","v":1.9149266698885283},{"$f":"+'[1]itcer BILATERAL'!BW296","v":2.5187718394761238},null,{"$f":"+'[1]itcer BILATERAL'!BY296","v":0.43974231767527611},{"$f":"+'[1]itcer BILATERAL'!BZ296","v":0.89453707671025762},{"$f":"+'[1]itcer BILATERAL'!CA296","v":0.61644597428308179},{"$f":"+'[1]itcer BILATERAL'!CB296","v":0.55781190285859428},{"$f":"+'[1]itcer BILATERAL'!CC296","v":0.49795475336238199},{"$f":"+'[1]itcer BILATERAL'!CD296","v":0.36745700997698516}]
[null,"Marzo",{"$f":"+'[1]itcer BILATERAL'!AB297","v":70.613168013329016},{"$f":"+'[1]itcer BILATERAL'!AC297","v":89.668030726735793},{"$f":"+'[1]itcer BILATERAL'!AD297","v":61.853319777068499},{"$f":"+'[1]itcer BILATERAL'!AE297","v":75.56430002096242},{"$f":"+'[1]itcer BILATERAL'!AF297","v":95.703646431431508},{"$f":"+'[1]itcer BILATERAL'!AG297","v":92.999577652672727},null,{"$f":"+'[1]itcer BILATERAL'!BK297","v":-0.37089204791146813},{"$f":"+'[1]itcer BILATERAL'!BL297","v":-0.16136733843134721},{"$f":"+'[1]itcer BILATERAL'!BM297","v":-0.41732441278728061},{"$f":"+'[1]itcer BILATERAL'!BN297","v":9.7049070883130639E-2},{"$f":"+'[1]itcer BILATERAL'!BO297","v":0.36596279965301903},{"$f":"+'[1]itcer BILATERAL'!BP297","v":0.48138446772058785},null,{"$f":"+'[1]itcer BILATERAL'!BR297","v":1.6029282612834479},{"$f":"+'[1]itcer BILATERAL'!BS297","v":1.0040160642570277},{"$f":"+'[1]itcer BILATERAL'!BT297","v":1.0052763431680731},{"$f":"+'[1]itcer BILATERAL'!BU297","v":1.3581597327528299},{"$f":"+'[1]itcer BILATERAL'!BV297","v":1.9190236683895423},{"$f":"+'[1]itcer BILATERAL'!BW297","v":2.5331877639303744},null,{"$f":"+'[1]itcer BILATERAL'!BY297","v":0.44052606544468681},{"$f":"+'[1]itcer BILATERAL'!BZ297","v":0.89309358603828881},{"$f":"+'[1]itcer BILATERAL'!CA297","v":0.61528673381630727},{"$f":"+'[1]itcer BILATERAL'!CB297","v":0.5563727019634318},{"$f":"+'[1]itcer BILATERAL'!CC297","v":0.49871008892634777},{"$f":"+'[1]itcer BILATERAL'!CD297","v":0.36712469157193073}]
[null,"Abril",{"$f":"+'[1]itcer BILATERAL'!AB298","v":70.009345731866247},{"$f":"+'[1]itcer BILATERAL'!AC298","v":90.119439993338702},{"$f":"+'[1]itcer BILATERAL'!AD298","v":61.564493077795625},{"$f":"+'[1]itcer BILATERAL'!AE298","v":75.538723551717311},{"$f":"+'[1]itcer BILATERAL'!AF298","v":94.985676848979921},{"$f":"+'[1]itcer BILATERAL'!AG298","v":93.075408715678961},null,{"$f":"+'[1]itcer BILATERAL'!BK298","v":-0.85511286131333009},{"$f":"+'[1]itcer BILATERAL'!BL298","v":0.50342275049911223},{"$f":"+'[1]itcer BILATERAL'!BM298","v":-0.46695423998883712},{"$f":"+'[1]itcer BILATERAL'!BN298","v":-3.3847291959318682E-2},{"$f":"+'[1]itcer BILATERAL'!BO298","v":-0.75020086404543918},{"$f":"+'[1]itcer BILATERAL'!BP298","v":8.1539147725422367E-2},null,{"$f":"+'[1]itcer BILATERAL'!BR298","v":1.6029066074062273},{"$f":"+'[1]itcer BILATERAL'!BS298","v":1.0040160642570277},{"$f":"+'[1]itcer BILATERAL'!BT298","v":1.0035833574648625},{"$f":"+'[1]itcer BILATERAL'!BU298","v":1.3626303268026716},{"$f":"+'[1]itcer BILATERAL'!BV298","v":1.9192116901351377},{"$f":"+'[1]itcer BILATERAL'!BW298","v":2.5369883613142448},null,{"$f":"+'[1]itcer BILATERAL'!BY298","v":0.43676497063764153},{"$f":"+'[1]itcer BILATERAL'!BZ298","v":0.89758962233365402},{"$f":"+'[1]itcer BILATERAL'!CA298","v":0.61344673185207865},{"$f":"+'[1]itcer BILATERAL'!CB298","v":0.55435962392650029},{"$f":"+'[1]itcer BILATERAL'!CC298","v":0.49492027032354968},{"$f":"+'[1]itcer BILATERAL'!CD298","v":0.36687361335573015}]
[null,"Mayo",{"$f":"+'[1]itcer BILATERAL'!AB299","v":70.137474743516464},{"$f":"+'[1]itcer BILATERAL'!AC299","v":90.412788252713014},{"$f":"+'[1]itcer BILATERAL'!AD299","v":61.450816007855757},{"$f":"+'[1]itcer BILATERAL'!AE299","v":75.774613150929838},{"$f":"+'[1]itcer BILATERAL'!AF299","v":94.703894030550501},{"$f":"+'[1]itcer BILATERAL'!AG299","v":93.509055301434373},null,{"$f":"+'[1]itcer BILATERAL'!BK299","v":0.18301701053020736},{"$f":"+'[1]itcer BILATERAL'!BL299","v":0.32551052180971851},{"$f":"+'[1]itcer BILATERAL'!BM299","v":-0.18464713060532745},{"$f":"+'[1]itcer BILATERAL'!BN299","v":0.31227639033511423},{"$f":"+'[1]itcer BILATERAL'!BO299","v":-0.29665822024665545},{"$f":"+'[1]itcer BILATERAL'!BP299","v":0.46590887081687526},null,{"$f":"+'[1]itcer BILATERAL'!BR299","v":1.6032363051497207},{"$f":"+'[1]itcer BILATERAL'!BS299","v":1.0040160642570277},{"$f":"+'[1]itcer BILATERAL'!BT299","v":1.0026279100878031},{"$f":"+'[1]itcer BILATERAL'!BU299","v":1.3681567897989579},{"$f":"+'[1]itcer BILATERAL'!BV299","v":1.9290834864164872},{"$f":"+'[1]itcer BILATERAL'!BW299","v":2.539596250901226},null,{"$f":"+'[1]itcer BILATERAL'!BY299","v":0.43747434185609058},{"$f":"+'[1]itcer BILATERAL'!BZ299","v":0.90051137099702194},{"$f":"+'[1]itcer BILATERAL'!CA299","v":0.61289752050164181},{"$f":"+'[1]itcer BILATERAL'!CB299","v":0.55384451340598495},{"$f":"+'[1]itcer BILATERAL'!CC299","v":0.49092688158600511},{"$f":"+'[1]itcer BILATERAL'!CD299","v":0.36820441543907156}]
[null,"Junio",{"$f":"+'[1]itcer BILATERAL'!AB300","v":70.255518272923069},{"$f":"+'[1]itcer BILATERAL'!AC300","v":90.446678953695283},{"$f":"+'[1]itcer BILATERAL'!AD300","v":61.446409539979605},{"$f":"+'[1]itcer BILATERAL'!AE300","v":75.932049358239979},{"$f":"+'[1]itcer BILATERAL'!AF300","v":95.323628749392014},{"$f":"+'[1]itcer BILATERAL'!AG300","v":94.538936813445758},null,{"$f":"+'[1]itcer BILATERAL'!BK300","v":0.1683030788295099},{"$f":"+'[1]itcer BILATERAL'!BL300","v":3.7484410819786262E-2},{"$f":"+'[1]itcer BILATERAL'!BM300","v":-7.1707231285387252E-3},{"$f":"+'[1]itcer BILATERAL'!BN300","v":0.20776906771737913},{"$f":"+'[1]itcer BILATERAL'!BO300","v":0.65439201332269192},{"$f":"+'[1]itcer BILATERAL'!BP300","v":1.1013708872274179},null,{"$f":"+'[1]itcer BILATERAL'!BR300","v":1.6023760874143129},{"$f":"+'[1]itcer BILATERAL'!BS300","v":1.0040160642570277},{"$f":"+'[1]itcer BILATERAL'!BT300","v":1.0063890976706404},{"$f":"+'[1]itcer BILATERAL'!BU300","v":1.3735306011039448},{"$f":"+'[1]itcer BILATERAL'!BV300","v":1.9405345548910404},{"$f":"+'[1]itcer BILATERAL'!BW300","v":2.5623194973735712},null,{"$f":"+'[1]itcer BILATERAL'!BY300","v":0.43844587313014299},{"$f":"+'[1]itcer BILATERAL'!BZ300","v":0.90084892237880498},{"$f":"+'[1]itcer BILATERAL'!CA300","v":0.61056314781431664},{"$f":"+'[1]itcer BILATERAL'!CB300","v":0.5528238635324999},{"$f":"+'[1]itcer BILATERAL'!CC300","v":0.49122355749415841},{"$f":"+'[1]itcer BILATERAL'!CD300","v":0.36895842579487093}]
[null,"Julio",{"$f":"+'[1]itcer BILATERAL'!AB301","v":70.008337796289041},{"$f":"+'[1]itcer BILATERAL'!AC301","v":90.590447659340441},{"$f":"+'[1]itcer BILATERAL'!AD301","v":61.326060932152444},{"$f":"+'[1]itcer BILATERAL'!AE301","v":75.925044040391313},{"$f":"+'[1]itcer BILATERAL'!AF301","v":96.219167333115678},{"$f":"+'[1]itcer BILATERAL'!AG301","v":94.99948294815708},null,{"$f":"+'[1]itcer BILATERAL'!BK301","v":-0.35183069274900447},{"$f":"+'[1]itcer BILATERAL'!BL301","v":0.15895410125423837},{"$f":"+'[1]itcer BILATERAL'!BM301","v":-0.19585946311289604},{"$f":"+'[1]itcer BILATERAL'!BN301","v":-9.2257721316286734E-3},{"$f":"+'[1]itcer BILATERAL'!BO301","v":0.93947177155631323},{"$f":"+'[1]itcer BILATERAL'!BP301","v":0.48714968692753757},null,{"$f":"+'[1]itcer BILATERAL'!BR301","v":1.6015211085201684},{"$f":"+'[1]itcer BILATERAL'!BS301","v":1.0040160642570277},{"$f":"+'[1]itcer BILATERAL'!BT301","v":1.0070428248233654},{"$f":"+'[1]itcer BILATERAL'!BU301","v":1.3786734789260378},{"$f":"+'[1]itcer BILATERAL'!BV301","v":1.9517914465574748},{"$f":"+'[1]itcer BILATERAL'!BW301","v":2.5898259346997632},null,{"$f":"+'[1]itcer BILATERAL'!BY301","v":0.43713652866541286},{"$f":"+'[1]itcer BILATERAL'!BZ301","v":0.90228085868703123},{"$f":"+'[1]itcer BILATERAL'!CA301","v":0.60897172811800726},{"$f":"+'[1]itcer BILATERAL'!CB301","v":0.55071084778925028},{"$f":"+'[1]itcer BILATERAL'!CC301","v":0.4929787324502567},{"$f":"+'[1]itcer BILATERAL'!CD301","v":0.36681802307756367}]
[null,"Agosto",{"$f":"+'[1]itcer BILATERAL'!AB302","v":70.070091155426113},{"$f":"+'[1]itcer BILATERAL'!AC302","v":90.624442912456985},{"$f":"+'[1]itcer BILATERAL'!AD302","v":61.918687196624532},{"$f":"+'[1]itcer BILATERAL'!AE302","v":75.736913193230521},{"$f":"+'[1]itcer BILATERAL'!AF302","v":96.238153154962092},{"$f":"+'[1]itcer BILATERAL'!AG302","v":95.53073640699229},null,{"$f":"+'[1]itcer BILATERAL'!BK302","v":8.8208577836496715E-2},{"$f":"+'[1]itcer BILATERAL'!BL302","v":3.7526310990742218E-2},{"$f":"+'[1]itcer BILATERAL'!BM302","v":0.96635305686392314},{"$f":"+'[1]itcer BILATERAL'!BN302","v":-0.24778496942420247},{"$f":"+'[1]itcer BILATERAL'!BO302","v":1.9731850080020763E-2},{"$f":"+'[1]itcer BILATERAL'!BP302","v":0.55921721081905673},null,{"$f":"+'[1]itcer BILATERAL'!BR302","v":1.6017589519135145},{"$f":"+'[1]itcer BILATERAL'!BS302","v":1.0040160642570277},{"$f":"+'[1]itcer BILATERAL'!BT302","v":1.0169861577615726},{"$f":"+'[1]itcer BILATERAL'!BU302","v":1.3788678348212511},{"$f":"+'[1]itcer BILATERAL'!BV302","v":1.9598009311610785},{"$f":"+'[1]itcer BILATERAL'!BW302","v":2.6183953033268104},null,{"$f":"+'[1]itcer BILATERAL'!BY302","v":0.43745715341074293},{"$f":"+'[1]itcer BILATERAL'!BZ302","v":0.90261945140807187},{"$f":"+'[1]itcer BILATERAL'!CA302","v":0.60884493583383714},{"$f":"+'[1]itcer BILATERAL'!CB302","v":0.54926883694439521},{"$f":"+'[1]itcer BILATERAL'!CC302","v":0.49106086044130037},{"$f":"+'[1]itcer BILATERAL'!CD302","v":0.3648445912105609}]
[null,"Septiembre",{"$f":"+'[1]itcer BILATERAL'!AB303","v":70.341203769238604},{"$f":"+'[1]itcer BILATERAL'!AC303","v":90.571773623484575},{"$f":"+'[1]itcer BILATERAL'!AD303","v":62.136276248387212},{"$f":"+'[1]itcer BILATERAL'!AE303","v":75.839306652762431},{"$f":"+'[1]itcer BILATERAL'!AF303","v":96.673337676841825},{"$f":"+'[1]itcer BILATERAL'!AG303","v":95.726452937697644},null,{"$f":"+'[1]itcer BILATERAL'!BK303","v":0.38691631385367486},{"$f":"+'[1]itcer BILATERAL'!BL303","v":-5.811819337007762E-2},{"$f":"+'[1]itcer BILATERAL'!BM303","v":0.3514109578449478},{"$f":"+'[1]itcer BILATERAL'!BN303","v":0.13519624079565062},{"$f":"+'[1]itcer BILATERAL'!BO303","v":0.45219542106029564},{"$f":"+'[1]itcer BILATERAL'!BP303","v":0.20487283785979571},null,{"$f":"+'[1]itcer BILATERAL'!BR303","v":1.6081901534481473},{"$f":"+'[1]itcer BILATERAL'!BS303","v":1.0040160642570277},{"$f":"+'[1]itcer BILATERAL'!BT303","v":1.0223377192723258},{"$f":"+'[1]itcer BILATERAL'!BU303","v":1.3833391582638432},{"$f":"+'[1]itcer BILATERAL'!BV303","v":1.9685879821352998},{"$f":"+'[1]itcer BILATERAL'!BW303","v":2.6334555566999698},null,{"$f":"+'[1]itcer BILATERAL'!BY303","v":0.4373935732563643},{"$f":"+'[1]itcer BILATERAL'!BZ303","v":0.9020948652899069},{"$f":"+'[1]itcer BILATERAL'!CA303","v":0.6077862048620708},{"$f":"+'[1]itcer BILATERAL'!CB303","v":0.54823364320825263},{"$f":"+'[1]itcer BILATERAL'!CC303","v":0.49107958879227553},{"$f":"+'[1]itcer BILATERAL'!CD303","v":0.36350130418625409}]
[null,"Octubre",{"$f":"+'[1]itcer BILATERAL'!AB304","v":70.53231971952664},{"$f":"+'[1]itcer BILATERAL'!AC304","v":90.462947456659052},{"$f":"+'[1]itcer BILATERAL'!AD304","v":62.121523265168008},{"$f":"+'[1]itcer BILATERAL'!AE304","v":75.578482976987232},{"$f":"+'[1]itcer BILATERAL'!AF304","v":96.933970494627047},{"$f":"+'[1]itcer BILATERAL'!AG304","v":95.219870450252742},null,{"$f":"+'[1]itcer BILATERAL'!BK304","v":0.27169843569213015},{"$f":"+'[1]itcer BILATERAL'!BL304","v":-0.12015461602631206},{"$f":"+'[1]itcer BILATERAL'!BM304","v":-2.3742947131609071E-2},{"$f":"+'[1]itcer BILATERAL'!BN304","v":-0.34391621876160627},{"$f":"+'[1]itcer BILATERAL'!BO304","v":0.26960155100515237},{"$f":"+'[1]itcer BILATERAL'!BP304","v":-0.52919801360926044},null,{"$f":"+'[1]itcer BILATERAL'!BR304","v":1.6044223788116956},{"$f":"+'[1]itcer BILATERAL'!BS304","v":1.0040160642570277},{"$f":"+'[1]itcer BILATERAL'!BT304","v":1.0244639442720167},{"$f":"+'[1]itcer BILATERAL'!BU304","v":1.3837188217786289},{"$f":"+'[1]itcer BILATERAL'!BV304","v":1.9789657348654901},{"$f":"+'[1]itcer BILATERAL'!BW304","v":2.622659388196519},null,{"$f":"+'[1]itcer BILATERAL'!BY304","v":0.43961191673084188},{"$f":"+'[1]itcer BILATERAL'!BZ304","v":0.90101095666832454},{"$f":"+'[1]itcer BILATERAL'!CA304","v":0.60638076735156876},{"$f":"+'[1]itcer BILATERAL'!CB304","v":0.54619827227499029},{"$f":"+'[1]itcer BILATERAL'!CC304","v":0.48982136874247412},{"$f":"+'[1]itcer BILATERAL'!CD304","v":0.36306609573014753}]
[null,"Noviembre",{"$f":"+'[1]itcer BILATERAL'!AB305","v":70.216441077034929},{"$f":"+'[1]itcer BILATERAL'!AC305","v":90.202390360564209},{"$f":"+'[1]itcer BILATERAL'!AD305","v":61.216376174029797},{"$f":"+'[1]itcer BILATERAL'!AE305","v":75.293054761078395},{"$f":"+'[1]itcer BILATERAL'!AF305","v":96.546771175804238},{"$f":"+'[1]itcer BILATERAL'!AG305","v":95.021751762765476},null,{"$f":"+'[1]itcer BILATERAL'!BK305","v":-0.44784950182811656},{"$f":"+'[1]itcer BILATERAL'!BL305","v":-0.28802631731591077},{"$f":"+'[1]itcer BILATERAL'!BM305","v":-1.4570587512391739},{"$f":"+'[1]itcer BILATERAL'!BN305","v":-0.37765803793089958},{"$f":"+'[1]itcer BILATERAL'!BO305","v":-0.39944646530729244},{"$f":"+'[1]itcer BILATERAL'!BP305","v":-0.20806443712898215},null,{"$f":"+'[1]itcer BILATERAL'!BR305","v":1.603220588625931},{"$f":"+'[1]itcer BILATERAL'!BS305","v":1.0040160642570277},{"$f":"+'[1]itcer BILATERAL'!BT305","v":1.0161498758681307},{"$f":"+'[1]itcer BILATERAL'!BU305","v":1.3850086507439061},{"$f":"+'[1]itcer BILATERAL'!BV305","v":1.984089335540836},{"$f":"+'[1]itcer BILATERAL'!BW305","v":2.6240189514883103},null,{"$f":"+'[1]itcer BILATERAL'!BY305","v":0.43797117860877277},{"$f":"+'[1]itcer BILATERAL'!BZ305","v":0.89841580799122012},{"$f":"+'[1]itcer BILATERAL'!CA305","v":0.60243451903913892},{"$f":"+'[1]itcer BILATERAL'!CB305","v":0.54362876882131761},{"$f":"+'[1]itcer BILATERAL'!CC305","v":0.48660496000038683},{"$f":"+'[1]itcer BILATERAL'!CD305","v":0.36212296297963226}]
[null,"Diciembre",{"$f":"+'[1]itcer BILATERAL'!AB306","v":69.816906172081261},{"$f":"+'[1]itcer BILATERAL'!AC306","v":90.174538395380154},{"$f":"+'[1]itcer BILATERAL'!AD306","v":60.723875098320249},{"$f":"+'[1]itcer BILATERAL'!AE306","v":75.1874546341556},{"$f":"+'[1]itcer BILATERAL'!AF306","v":95.558576822878905},{"$f":"+'[1]itcer BILATERAL'!AG306","v":94.938394019925752},null,{"$f":"+'[1]itcer BILATERAL'!BK306","v":-0.56900477840416386},{"$f":"+'[1]itcer BILATERAL'!BL306","v":-3.0877191915550384E-2},{"$f":"+'[1]itcer BILATERAL'!BM306","v":-0.80452504132135516},{"$f":"+'[1]itcer BILATERAL'!BN306","v":-0.14025214843239553},{"$f":"+'[1]itcer BILATERAL'!BO306","v":-1.0235395144658952},{"$f":"+'[1]itcer BILATERAL'!BP306","v":-8.7724906448613638E-2},null,{"$f":"+'[1]itcer BILATERAL'!BR306","v":1.6029607420992791},{"$f":"+'[1]itcer BILATERAL'!BS306","v":1.0040160642570277},{"$f":"+'[1]itcer BILATERAL'!BT306","v":1.0115583129670391},{"$f":"+'[1]itcer BILATERAL'!BU306","v":1.3879435812956504},{"$f":"+'[1]itcer BILATERAL'!BV306","v":1.9853790142207257},{"$f":"+'[1]itcer BILATERAL'!BW306","v":2.632903491605727},null,{"$f":"+'[1]itcer BILATERAL'!BY306","v":0.43554969462725091},{"$f":"+'[1]itcer BILATERAL'!BZ306","v":0.89813840241798659},{"$f":"+'[1]itcer BILATERAL'!CA306","v":0.60030029233024451},{"$f":"+'[1]itcer BILATERAL'!CB306","v":0.54171837852348315},{"$f":"+'[1]itcer BILATERAL'!CC306","v":0.48131150847480009},{"$f":"+'[1]itcer BILATERAL'!CD306","v":0.36058440547710985}]
[2014,"Enero",{"$f":"+'[1]itcer BILATERAL'!AB307","v":70.011361655992189},{"$f":"+'[1]itcer BILATERAL'!AC307","v":90.128513484619589},{"$f":"+'[1]itcer BILATERAL'!AD307","v":60.732707535611226},{"$f":"+'[1]itcer BILATERAL'!AE307","v":74.507630298595856},{"$f":"+'[1]itcer BILATERAL'!AF307","v":95.91830816296995},{"$f":"+'[1]itcer BILATERAL'!AG307","v":95.708965074362268},null,{"$f":"+'[1]itcer BILATERAL'!BK307","v":0.27852205801220009},{"$f":"+'[1]itcer BILATERAL'!BL307","v":-5.1039807444055896E-2},{"$f":"+'[1]itcer BILATERAL'!BM307","v":1.4545246456478367E-2},{"$f":"+'[1]itcer BILATERAL'!BN307","v":-0.90417256291971171},{"$f":"+'[1]itcer BILATERAL'!BO307","v":0.37645112772850098},{"$f":"+'[1]itcer BILATERAL'!BP307","v":0.81165377020680296},null,{"$f":"+'[1]itcer BILATERAL'!BR307","v":1.6124126595062396},{"$f":"+'[1]itcer BILATERAL'!BS307","v":1.0040160642570277},{"$f":"+'[1]itcer BILATERAL'!BT307","v":1.0098704848745008},{"$f":"+'[1]itcer BILATERAL'!BU307","v":1.3901385720771475},{"$f":"+'[1]itcer BILATERAL'!BV307","v":1.9986085914001239},{"$f":"+'[1]itcer BILATERAL'!BW307","v":2.6489113193943767},null,{"$f":"+'[1]itcer BILATERAL'!BY307","v":0.43420250543946609},{"$f":"+'[1]itcer BILATERAL'!BZ307","v":0.89767999430681167},{"$f":"+'[1]itcer BILATERAL'!CA307","v":0.60139105405341808},{"$f":"+'[1]itcer BILATERAL'!CB307","v":0.5359726849911548},{"$f":"+'[1]itcer BILATERAL'!CC307","v":0.4799254269980619},{"$f":"+'[1]itcer BILATERAL'!CD307","v":0.36131434213601515}]
[null,"Febrero",{"$f":"+'[1]itcer BILATERAL'!AB308","v":72.912620150316584},{"$f":"+'[1]itcer BILATERAL'!AC308","v":90.246430642018808},{"$f":"+'[1]itcer BILATERAL'!AD308","v":60.133154649033045},{"$f":"+'[1]itcer BILATERAL'!AE308","v":74.310379545210736},{"$f":"+'[1]itcer BILATERAL'!AF308","v":96.183411954223374},{"$f":"+'[1]itcer BILATERAL'!AG308","v":96.186793433231543},null,{"$f":"+'[1]itcer BILATERAL'!BK308","v":4.1439823847163808},{"$f":"+'[1]itcer BILATERAL'!BL308","v":0.13083224480267575},{"$f":"+'[1]itcer BILATERAL'!BM308","v":-0.98719933773185176},{"$f":"+'[1]itcer BILATERAL'!BN308","v":-0.26473899732768302},{"$f":"+'[1]itcer BILATERAL'!BO308","v":0.27638497418345764},{"$f":"+'[1]itcer BILATERAL'!BP308","v":0.49925141129467931},null,{"$f":"+'[1]itcer BILATERAL'!BR308","v":1.6849748020737616},{"$f":"+'[1]itcer BILATERAL'!BS308","v":1.0040160642570277},{"$f":"+'[1]itcer BILATERAL'!BT308","v":0.99867718031275521},{"$f":"+'[1]itcer BILATERAL'!BU308","v":1.3933160125895521},{"$f":"+'[1]itcer BILATERAL'!BV308","v":2.010911540011735},{"$f":"+'[1]itcer BILATERAL'!BW308","v":2.6626738078071894},null,{"$f":"+'[1]itcer BILATERAL'!BY308","v":0.43272231763098357},{"$f":"+'[1]itcer BILATERAL'!BZ308","v":0.89885444919450785},{"$f":"+'[1]itcer BILATERAL'!CA308","v":0.60212805333352237},{"$f":"+'[1]itcer BILATERAL'!CB308","v":0.53333471282728551},{"$f":"+'[1]itcer BILATERAL'!CC308","v":0.47830752392848713},{"$f":"+'[1]itcer BILATERAL'!CD308","v":0.36124137005142559}]
[null,"Marzo",{"$f":"+'[1]itcer BILATERAL'!AB309","v":76.232782723080945},{"$f":"+'[1]itcer BILATERAL'!AC309","v":90.640691218235659},{"$f":"+'[1]itcer BILATERAL'!AD309","v":60.181260530194876},{"$f":"+'[1]itcer BILATERAL'!AE309","v":74.582613057898953},{"$f":"+'[1]itcer BILATERAL'!AF309","v":97.155473370674315},{"$f":"+'[1]itcer BILATERAL'!AG309","v":96.403262822249431},null,{"$f":"+'[1]itcer BILATERAL'!BK309","v":4.5536185175069903},{"$f":"+'[1]itcer BILATERAL'!BL309","v":0.43687110217219072},{"$f":"+'[1]itcer BILATERAL'!BM309","v":7.9998931442389676E-2},{"$f":"+'[1]itcer BILATERAL'!BN309","v":0.36634655125477877},{"$f":"+'[1]itcer BILATERAL'!BO309","v":1.0106331192675668},{"$f":"+'[1]itcer BILATERAL'!BP309","v":0.22505105045232199},null,{"$f":"+'[1]itcer BILATERAL'!BR309","v":1.7604602180661169},{"$f":"+'[1]itcer BILATERAL'!BS309","v":1.0040160642570277},{"$f":"+'[1]itcer BILATERAL'!BT309","v":0.99492630795126269},{"$f":"+'[1]itcer BILATERAL'!BU309","v":1.3971261108688067},{"$f":"+'[1]itcer BILATERAL'!BV309","v":2.0172563357368025},{"$f":"+'[1]itcer BILATERAL'!BW309","v":2.6644474199196626},null,{"$f":"+'[1]itcer BILATERAL'!BY309","v":0.43302757961110544},{"$f":"+'[1]itcer BILATERAL'!BZ309","v":0.90278128453362716},{"$f":"+'[1]itcer BILATERAL'!CA309","v":0.60488158820645943},{"$f":"+'[1]itcer BILATERAL'!CB309","v":0.53382878236753828},{"$f":"+'[1]itcer BILATERAL'!CC309","v":0.48162185265953472},{"$f":"+'[1]itcer BILATERAL'!CD309","v":0.36181334299010542}]
[null,"Abril",{"$f":"+'[1]itcer BILATERAL'!AB310","v":75.384074013764732},{"$f":"+'[1]itcer BILATERAL'!AC310","v":91.401215530651484},{"$f":"+'[1]itcer BILATERAL'!AD310","v":60.438429062170769},{"$f":"+'[1]itcer BILATERAL'!AE310","v":74.711043999643834},{"$f":"+'[1]itcer BILATERAL'!AF310","v":97.075064894313982},{"$f":"+'[1]itcer BILATERAL'!AG310","v":96.334534642717941},null,{"$f":"+'[1]itcer BILATERAL'!BK310","v":-1.1133119886219873},{"$f":"+'[1]itcer BILATERAL'!BL310","v":0.83905396372662722},{"$f":"+'[1]itcer BILATERAL'!BM310","v":0.42732327257728286},{"$f":"+'[1]itcer BILATERAL'!BN310","v":0.17219957370650718},{"$f":"+'[1]itcer BILATERAL'!BO310","v":-8.2762682914989227E-2},{"$f":"+'[1]itcer BILATERAL'!BP310","v":-7.1292379033067732E-2},null,{"$f":"+'[1]itcer BILATERAL'!BR310","v":1.7543538246897992},{"$f":"+'[1]itcer BILATERAL'!BS310","v":1.0040160642570277},{"$f":"+'[1]itcer BILATERAL'!BT310","v":0.99746772061008093},{"$f":"+'[1]itcer BILATERAL'!BU310","v":1.4001106790285707},{"$f":"+'[1]itcer BILATERAL'!BV310","v":2.0172082595570249},{"$f":"+'[1]itcer BILATERAL'!BW310","v":2.6641260685961483},null,{"$f":"+'[1]itcer BILATERAL'!BY310","v":0.42969709389777155},{"$f":"+'[1]itcer BILATERAL'!BZ310","v":0.91035610668528899},{"$f":"+'[1]itcer BILATERAL'!CA310","v":0.60591864592074018},{"$f":"+'[1]itcer BILATERAL'!CB310","v":0.53360812911933575},{"$f":"+'[1]itcer BILATERAL'!CC310","v":0.48123471849967275},{"$f":"+'[1]itcer BILATERAL'!CD310","v":0.36159900906446618}]
[null,"Mayo",{"$f":"+'[1]itcer BILATERAL'!AB311","v":75.97414938520626},{"$f":"+'[1]itcer BILATERAL'!AC311","v":91.444880060575187},{"$f":"+'[1]itcer BILATERAL'!AD311","v":60.375291213183004},{"$f":"+'[1]itcer BILATERAL'!AE311","v":74.703305452099031},{"$f":"+'[1]itcer BILATERAL'!AF311","v":96.963415095403846},{"$f":"+'[1]itcer BILATERAL'!AG311","v":96.726571800231596},null,{"$f":"+'[1]itcer BILATERAL'!BK311","v":0.78275866509123659},{"$f":"+'[1]itcer BILATERAL'!BL311","v":4.7772373343391905E-2},{"$f":"+'[1]itcer BILATERAL'!BM311","v":-0.10446639657496348},{"$f":"+'[1]itcer BILATERAL'!BN311","v":-1.0357970027612851E-2},{"$f":"+'[1]itcer BILATERAL'!BO311","v":-0.11501388027058113},{"$f":"+'[1]itcer BILATERAL'!BP311","v":0.40695391218490329},null,{"$f":"+'[1]itcer BILATERAL'!BR311","v":1.7725755623712585},{"$f":"+'[1]itcer BILATERAL'!BS311","v":1.0040160642570277},{"$f":"+'[1]itcer BILATERAL'!BT311","v":0.99591399039502482},{"$f":"+'[1]itcer BILATERAL'!BU311","v":1.4032552856831553},{"$f":"+'[1]itcer BILATERAL'!BV311","v":2.0282556304201398},{"$f":"+'[1]itcer BILATERAL'!BW311","v":2.6680502626429088},null,{"$f":"+'[1]itcer BILATERAL'!BY311","v":0.42860880516468386},{"$f":"+'[1]itcer BILATERAL'!BZ311","v":0.91079100540332925},{"$f":"+'[1]itcer BILATERAL'!CA311","v":0.60622997362689357},{"$f":"+'[1]itcer BILATERAL'!CB311","v":0.53235719982149055},{"$f":"+'[1]itcer BILATERAL'!CC311","v":0.47806308850388107},{"$f":"+'[1]itcer BILATERAL'!CD311","v":0.36253654271271679}]
[null,"Junio",{"$f":"+'[1]itcer BILATERAL'!AB312","v":75.713001668111929},{"$f":"+'[1]itcer BILATERAL'!AC312","v":91.281750181483361},{"$f":"+'[1]itcer BILATERAL'!AD312","v":60.729085058769968},{"$f":"+'[1]itcer BILATERAL'!AE312","v":74.890778120965905},{"$f":"+'[1]itcer BILATERAL'!AF312","v":96.558630691444478},{"$f":"+'[1]itcer BILATERAL'!AG312","v":97.339829175727687},null,{"$f":"+'[1]itcer BILATERAL'!BK312","v":-0.34373233423154659},{"$f":"+'[1]itcer BILATERAL'!BL312","v":-0.17839148455743725},{"$f":"+'[1]itcer BILATERAL'!BM312","v":0.58599112066843873},{"$f":"+'[1]itcer BILATERAL'!BN312","v":0.25095632346159391},{"$f":"+'[1]itcer BILATERAL'!BO312","v":-0.41746096046750836},{"$f":"+'[1]itcer BILATERAL'!BP312","v":0.6340112795092665},null,{"$f":"+'[1]itcer BILATERAL'!BR312","v":1.769424923235605},{"$f":"+'[1]itcer BILATERAL'!BS312","v":1.0040160642570277},{"$f":"+'[1]itcer BILATERAL'!BT312","v":1.0049681759303981},{"$f":"+'[1]itcer BILATERAL'!BU312","v":1.4099172089628826},{"$f":"+'[1]itcer BILATERAL'!BV312","v":2.0423310208326497},{"$f":"+'[1]itcer BILATERAL'!BW312","v":2.6797177876197344},null,{"$f":"+'[1]itcer BILATERAL'!BY312","v":0.42789609592285877},{"$f":"+'[1]itcer BILATERAL'!BZ312","v":0.90916623180757472},{"$f":"+'[1]itcer BILATERAL'!CA312","v":0.6042886383197863},{"$f":"+'[1]itcer BILATERAL'!CB312","v":0.53117145918131337},{"$f":"+'[1]itcer BILATERAL'!CC312","v":0.47278638823239311},{"$f":"+'[1]itcer BILATERAL'!CD312","v":0.36324656881943534}]
[null,"Julio",{"$f":"+'[1]itcer BILATERAL'!AB313","v":73.384423094127726},{"$f":"+'[1]itcer BILATERAL'!AC313","v":90.735411259156152},{"$f":"+'[1]itcer BILATERAL'!AD313","v":60.101335731814537},{"$f":"+'[1]itcer BILATERAL'!AE313","v":74.456315340571422},{"$f":"+'[1]itcer BILATERAL'!AF313","v":96.521942999519879},{"$f":"+'[1]itcer BILATERAL'!AG313","v":97.189071735775954},null,{"$f":"+'[1]itcer BILATERAL'!BK313","v":-3.0755332937287676},{"$f":"+'[1]itcer BILATERAL'!BL313","v":-0.59851933298932636},{"$f":"+'[1]itcer BILATERAL'!BM313","v":-1.0336881024107925},{"$f":"+'[1]itcer BILATERAL'!BN313","v":-0.58012854358746324},{"$f":"+'[1]itcer BILATERAL'!BO313","v":-3.79952487539299E-2},{"$f":"+'[1]itcer BILATERAL'!BP313","v":-0.15487744454489416},null,{"$f":"+'[1]itcer BILATERAL'!BR313","v":1.7312924454494494},{"$f":"+'[1]itcer BILATERAL'!BS313","v":1.0040160642570277},{"$f":"+'[1]itcer BILATERAL'!BT313","v":1.0006873590723178},{"$f":"+'[1]itcer BILATERAL'!BU313","v":1.412950735655444},{"$f":"+'[1]itcer BILATERAL'!BV313","v":2.052847657838532},{"$f":"+'[1]itcer BILATERAL'!BW313","v":2.6863549284169332},null,{"$f":"+'[1]itcer BILATERAL'!BY313","v":0.42387075209051045},{"$f":"+'[1]itcer BILATERAL'!BZ313","v":0.90372469614119566},{"$f":"+'[1]itcer BILATERAL'!CA313","v":0.60060052909563266},{"$f":"+'[1]itcer BILATERAL'!CB313","v":0.52695620209314931},{"$f":"+'[1]itcer BILATERAL'!CC313","v":0.47018561085603894},{"$f":"+'[1]itcer BILATERAL'!CD313","v":0.36178790340652933}]
[null,"Agosto",{"$f":"+'[1]itcer BILATERAL'!AB314","v":73.175578417781765},{"$f":"+'[1]itcer BILATERAL'!AC314","v":90.363576780487477},{"$f":"+'[1]itcer BILATERAL'!AD314","v":59.990626750732204},{"$f":"+'[1]itcer BILATERAL'!AE314","v":74.522648781130087},{"$f":"+'[1]itcer BILATERAL'!AF314","v":96.329373039411308},{"$f":"+'[1]itcer BILATERAL'!AG314","v":96.703229671669817},null,{"$f":"+'[1]itcer BILATERAL'!BK314","v":-0.2845899273175263},{"$f":"+'[1]itcer BILATERAL'!BL314","v":-0.40980084126873351},{"$f":"+'[1]itcer BILATERAL'!BM314","v":-0.18420386125251298},{"$f":"+'[1]itcer BILATERAL'!BN314","v":8.9090415306273485E-2},{"$f":"+'[1]itcer BILATERAL'!BO314","v":-0.19950899673614231},{"$f":"+'[1]itcer BILATERAL'!BP314","v":-0.49989371791406256},null,{"$f":"+'[1]itcer BILATERAL'!BR314","v":1.7350277392700695},{"$f":"+'[1]itcer BILATERAL'!BS314","v":1.0040160642570277},{"$f":"+'[1]itcer BILATERAL'!BT314","v":1.004697401370098},{"$f":"+'[1]itcer BILATERAL'!BU314","v":1.418612722996152},{"$f":"+'[1]itcer BILATERAL'!BV314","v":2.0586744000543669},{"$f":"+'[1]itcer BILATERAL'!BW314","v":2.6877871783176146},null,{"$f":"+'[1]itcer BILATERAL'!BY314","v":0.42175451585901974},{"$f":"+'[1]itcer BILATERAL'!BZ314","v":0.90002122473365553},{"$f":"+'[1]itcer BILATERAL'!CA314","v":0.5971014423738279},{"$f":"+'[1]itcer BILATERAL'!CB314","v":0.52532060070444053},{"$f":"+'[1]itcer BILATERAL'!CC314","v":0.46791941958799976},{"$f":"+'[1]itcer BILATERAL'!CD314","v":0.35978752503834743}]
[null,"Septiembre",{"$f":"+'[1]itcer BILATERAL'!AB315","v":73.345753517947273},{"$f":"+'[1]itcer BILATERAL'!AC315","v":90.537578395903907},{"$f":"+'[1]itcer BILATERAL'!AD315","v":59.354078119667825},{"$f":"+'[1]itcer BILATERAL'!AE315","v":74.909532205955742},{"$f":"+'[1]itcer BILATERAL'!AF315","v":96.71159281755456},{"$f":"+'[1]itcer BILATERAL'!AG315","v":96.940014830189},null,{"$f":"+'[1]itcer BILATERAL'!BK315","v":0.23255723267936901},{"$f":"+'[1]itcer BILATERAL'!BL315","v":0.19255724664277807},{"$f":"+'[1]itcer BILATERAL'!BM315","v":-1.0610801479192844},{"$f":"+'[1]itcer BILATERAL'!BN315","v":0.51914878383068697},{"$f":"+'[1]itcer BILATERAL'!BO315","v":0.39678424771526011},{"$f":"+'[1]itcer BILATERAL'!BP315","v":0.2448575495597396},null,{"$f":"+'[1]itcer BILATERAL'!BR315","v":1.7353200666125528},{"$f":"+'[1]itcer BILATERAL'!BS315","v":1.0040160642570277},{"$f":"+'[1]itcer BILATERAL'!BT315","v":0.99379550181134213},{"$f":"+'[1]itcer BILATERAL'!BU315","v":1.4264394503520115},{"$f":"+'[1]itcer BILATERAL'!BV315","v":2.0630660927883988},{"$f":"+'[1]itcer BILATERAL'!BW315","v":2.6975445462972494},null,{"$f":"+'[1]itcer BILATERAL'!BY315","v":0.42266412363410577},{"$f":"+'[1]itcer BILATERAL'!BZ315","v":0.9017542808232033},{"$f":"+'[1]itcer BILATERAL'!CA315","v":0.59724639537496449},{"$f":"+'[1]itcer BILATERAL'!CB315","v":0.52515045196955146},{"$f":"+'[1]itcer BILATERAL'!CC315","v":0.46877602785299571},{"$f":"+'[1]itcer BILATERAL'!CD315","v":0.35936390731064105}]
[null,"Octubre",{"$f":"+'[1]itcer BILATERAL'!AB316","v":73.313993493060167},{"$f":"+'[1]itcer BILATERAL'!AC316","v":90.261293366721077},{"$f":"+'[1]itcer BILATERAL'!AD316","v":58.492750072874543},{"$f":"+'[1]itcer BILATERAL'!AE316","v":74.943256117623008},{"$f":"+'[1]itcer BILATERAL'!AF316","v":96.798370274086992},{"$f":"+'[1]itcer BILATERAL'!AG316","v":97.116918330089391},null,{"$f":"+'[1]itcer BILATERAL'!BK316","v":-4.3301790988266475E-2},{"$f":"+'[1]itcer BILATERAL'!BL316","v":-0.30516061294977703},{"$f":"+'[1]itcer BILATERAL'!BM316","v":-1.4511691093183146},{"$f":"+'[1]itcer BILATERAL'!BN316","v":4.5019519778264794E-2},{"$f":"+'[1]itcer BILATERAL'!BO316","v":8.972808119924025E-2},{"$f":"+'[1]itcer BILATERAL'!BP316","v":0.18248759318871066},null,{"$f":"+'[1]itcer BILATERAL'!BR316","v":1.7339558723476307},{"$f":"+'[1]itcer BILATERAL'!BS316","v":1.0040160642570277},{"$f":"+'[1]itcer BILATERAL'!BT316","v":0.98334102497841602},{"$f":"+'[1]itcer BILATERAL'!BU316","v":1.4347796491369953},{"$f":"+'[1]itcer BILATERAL'!BV316","v":2.0727007131174902},{"$f":"+'[1]itcer BILATERAL'!BW316","v":2.7070017509527249},null,{"$f":"+'[1]itcer BILATERAL'!BY316","v":0.42281349059823053},{"$f":"+'[1]itcer BILATERAL'!BZ316","v":0.89900248193254251},{"$f":"+'[1]itcer BILATERAL'!CA316","v":0.59483687334369506},{"$f":"+'[1]itcer BILATERAL'!CB316","v":0.52233286249007338},{"$f":"+'[1]itcer BILATERAL'!CC316","v":0.46701566541411232},{"$f":"+'[1]itcer BILATERAL'!CD316","v":0.35876193392157674}]
[null,"Noviembre",{"$f":"+'[1]itcer BILATERAL'!AB317","v":72.336550198524478},{"$f":"+'[1]itcer BILATERAL'!AC317","v":89.782025577370334},{"$f":"+'[1]itcer BILATERAL'!AD317","v":57.88501902926356},{"$f":"+'[1]itcer BILATERAL'!AE317","v":74.502451135967462},{"$f":"+'[1]itcer BILATERAL'!AF317","v":95.227858451073274},{"$f":"+'[1]itcer BILATERAL'!AG317","v":97.21310625041265},null,{"$f":"+'[1]itcer BILATERAL'!BK317","v":-1.3332288257196296},{"$f":"+'[1]itcer BILATERAL'!BL317","v":-0.53097819837738314},{"$f":"+'[1]itcer BILATERAL'!BM317","v":-1.038985246639669},{"$f":"+'[1]itcer BILATERAL'!BN317","v":-0.58818498753737458},{"$f":"+'[1]itcer BILATERAL'!BO317","v":-1.6224568849318217},{"$f":"+'[1]itcer BILATERAL'!BP317","v":9.9043423099899996E-2},null,{"$f":"+'[1]itcer BILATERAL'!BR317","v":1.7259980724689186},{"$f":"+'[1]itcer BILATERAL'!BS317","v":1.0040160642570277},{"$f":"+'[1]itcer BILATERAL'!BT317","v":0.98031479691639356},{"$f":"+'[1]itcer BILATERAL'!BU317","v":1.439210928917555},{"$f":"+'[1]itcer BILATERAL'!BV317","v":2.078550800978717},{"$f":"+'[1]itcer BILATERAL'!BW317","v":2.720578844371202},null,{"$f":"+'[1]itcer BILATERAL'!BY317","v":0.41909983187323124},{"$f":"+'[1]itcer BILATERAL'!BZ317","v":0.89422897475060892},{"$f":"+'[1]itcer BILATERAL'!CA317","v":0.59047378669935857},{"$f":"+'[1]itcer BILATERAL'!CB317","v":0.51766179396651391},{"$f":"+'[1]itcer BILATERAL'!CC317","v":0.45814544636692933},{"$f":"+'[1]itcer BILATERAL'!CD317","v":0.35732508341577279}]
[null,"Diciembre",{"$f":"+'[1]itcer BILATERAL'!AB318","v":71.796826709759628},{"$f":"+'[1]itcer BILATERAL'!AC318","v":90.463258464874016},{"$f":"+'[1]itcer BILATERAL'!AD318","v":57.660426111623977},{"$f":"+'[1]itcer BILATERAL'!AE318","v":74.684934261514059},{"$f":"+'[1]itcer BILATERAL'!AF318","v":94.944332407834906},{"$f":"+'[1]itcer BILATERAL'!AG318","v":97.610797251015143},null,{"$f":"+'[1]itcer BILATERAL'!BK318","v":-0.74612832279615304},{"$f":"+'[1]itcer BILATERAL'!BL318","v":0.75876310778555478},{"$f":"+'[1]itcer BILATERAL'!BM318","v":-0.38799834811497647},{"$f":"+'[1]itcer BILATERAL'!BN318","v":0.24493573401171886},{"$f":"+'[1]itcer BILATERAL'!BO318","v":-0.29773434775290752},{"$f":"+'[1]itcer BILATERAL'!BP318","v":0.40909195883327243},null,{"$f":"+'[1]itcer BILATERAL'!BR318","v":1.719242062775971},{"$f":"+'[1]itcer BILATERAL'!BS318","v":1.0040160642570277},{"$f":"+'[1]itcer BILATERAL'!BT318","v":0.98099946973315288},{"$f":"+'[1]itcer BILATERAL'!BU318","v":1.4473448163676437},{"$f":"+'[1]itcer BILATERAL'!BV318","v":2.0827654986801809},{"$f":"+'[1]itcer BILATERAL'!BW318","v":2.7279946441446086},null,{"$f":"+'[1]itcer BILATERAL'!BY318","v":0.41760743448675886},{"$f":"+'[1]itcer BILATERAL'!BZ318","v":0.90101405431014558},{"$f":"+'[1]itcer BILATERAL'!CA318","v":0.58777224545604001},{"$f":"+'[1]itcer BILATERAL'!CB318","v":0.51601341585586014},{"$f":"+'[1]itcer BILATERAL'!CC318","v":0.45585704424237761},{"$f":"+'[1]itcer BILATERAL'!CD318","v":0.35781154285081829}]
[2015,"Enero",{"$f":"+'[1]itcer BILATERAL'!AB319","v":71.729416656392488},{"$f":"+'[1]itcer BILATERAL'!AC319","v":90.708542807000768},{"$f":"+'[1]itcer BILATERAL'!AD319","v":57.730536770198121},{"$f":"+'[1]itcer BILATERAL'!AE319","v":75.081259175159531},{"$f":"+'[1]itcer BILATERAL'!AF319","v":95.298986834205422},{"$f":"+'[1]itcer BILATERAL'!AG319","v":98.033705656502022},null,{"$f":"+'[1]itcer BILATERAL'!BK319","v":-9.3890017785398072E-2},{"$f":"+'[1]itcer BILATERAL'!BL319","v":0.27114250170636467},{"$f":"+'[1]itcer BILATERAL'!BM319","v":0.12159233516315737},{"$f":"+'[1]itcer BILATERAL'!BN319","v":0.5306624656824539},{"$f":"+'[1]itcer BILATERAL'!BO319","v":0.37353933339285561},{"$f":"+'[1]itcer BILATERAL'!BP319","v":0.43325986202052036},null,{"$f":"+'[1]itcer BILATERAL'!BR319","v":1.7263553614430647},{"$f":"+'[1]itcer BILATERAL'!BS319","v":1.0040160642570277},{"$f":"+'[1]itcer BILATERAL'!BT319","v":0.98332555214639883},{"$f":"+'[1]itcer BILATERAL'!BU319","v":1.4561617013546895},{"$f":"+'[1]itcer BILATERAL'!BV319","v":2.0962172576012317},{"$f":"+'[1]itcer BILATERAL'!BW319","v":2.7476959522092907},null,{"$f":"+'[1]itcer BILATERAL'!BY319","v":0.41549624288497394},{"$f":"+'[1]itcer BILATERAL'!BZ319","v":0.90345708635772826},{"$f":"+'[1]itcer BILATERAL'!CA319","v":0.58709485016619523},{"$f":"+'[1]itcer BILATERAL'!CB319","v":0.51561072582330869},{"$f":"+'[1]itcer BILATERAL'!CC319","v":0.45462361541312335},{"$f":"+'[1]itcer BILATERAL'!CD319","v":0.3567851296562774}]
[]
[]
[null,"Notas:"]
[null,"El ITCER BILATERAL incluye únicamente a Estados Unidos."]
[null,"Valores sobre (bajo) 100 significan una depreciación (apreciación) real de la moneda. El índice se descompone en el efecto que tiene la variación en el tipo de cambio y la variación en los precios nominales (multiplicados).  El efecto será 1 cuando tanto el tipo de cambio como los precios, tienen la misma importancia en el índice.  Un valor mayor (o menor) a 1 indica mayor (o menor) peso de alguno de estos componentes."]
[]
[null,"Fuente: Cálculos de la Secretaría Ejecutiva del Consejo Monetario Centroamericano"]
[null,{"$f":"TODAY()","v":"2015-02-27"}]

{"sheet":"GRAFICOS","index":8,"n_rows":28,"n_cols":10,"rows_kept":28,"cut":false,"hidden":false,"merged":[[2,0,2,16],[6,0,7,7],[6,9,7,16],[27,0,28,7],[27,9,28,16],[3,0,3,16],[4,0,4,16]]}
["Secretaría Ejecutiva"]
["Consejo Monetario Centroamericano"]
["GRÁFICOS 2008-2015"]
["Valores sobre 100 indican depreciación real de la moneda respecto al promedio del año 2000"]
[]
[]
["ITCER GLOBAL\n2000=100",null,null,null,null,null,null,null,null,"ITCER RESTO DEL MUNDO\n2000=100"]
[]
[]
[]
[]
[]
[]
[]
[]
[]
[]
[]
[]
[]
[]
[]
[]
[]
[]
[]
[]
["ITCER CENTROAMÉRICA y REPÚBLICA DOMINICANA\n2000=100",null,null,null,null,null,null,null,null,"ITCER BILATERAL\n2000=100"]

{"sheet":"metodologia","index":9,"n_rows":3,"n_cols":1,"rows_kept":3,"cut":false,"hidden":false,"merged":[[0,0,1,10],[2,0,2,10]]}
["SECRETARÍA EJECUTIVA\nCONSEJO MONETARIO CENTROAMERICANO"]
[]
["INDICE DE TIPO DE CAMBIO REAL"]