{"text_format":"1","workbook":"xlsx","n_sheets":14,"sheets":["Portada","Índice","Datos mensuales","Datos trimestrales","Crecimiento del PIB","Inflación","Tasas de Interés","Confianza EEUU","Commodities","Tipos de Cambio","Indices Bursátiles","Series Mensuales","Series Trimestrales"," Nota Técnica"],"not_rendered":{"charts":18,"images":25,"macros":1,"external_links":0,"defined_names":13,"comments":3,"pivot_tables":0},"unopened":[],"bounds":{"document_bytes":16777216,"sheet_cells":100000,"rows_first":2000,"rows_last":500,"rows_between":2000,"halvings":0,"cell_chars":16384,"cell_head_chars":4096},"cells_cut":0,"cells_raw":0,"read":"whole","date_system":"1900"}

{"sheet":"Portada","index":0,"n_rows":0,"n_cols":0,"rows_kept":0,"cut":false,"hidden":false,"merged":[]}

{"sheet":"Índice","index":1,"n_rows":35,"n_cols":10,"rows_kept":35,"cut":false,"hidden":false,"merged":[[16,3,16,8],[42,5,42,6],[42,9,42,10],[4,4,4,6],[5,4,5,6],[13,2,13,8],[12,1,12,9],[15,3,15,8],[16,9,16,10],[28,9,29,10],[7,13,7,16],[8,13,8,16],[19,13,19,16],[21,13,21,16],[26,9,27,10]]}
[]
[]
[]
[null,null,null,null,"Consejo Monetario Centroamericano"]
[null,null,null,null,"Secretaría Ejecutiva"]
[null,null,null,null,"www.secmca.org"]
[]
[]
[]
[]
[]
[]
[null,"REPORTE MENSUAL DE  INDICADORES DE COYUNTURA DE LA ECONOMÍA INTERNACIONAL"]
[]
[]
[]
[null,null,null,null,null,null,null,null,null,"Al mes de:"]
[]
[]
[]
[]
[null,"CONTENIDO"]
[]
[null,"Principales Indicadores macroeconómicos Internacionales"]
[]
[null,null,null,"PIB trimestral países seleccionados"]
[null,null,null,"Inflación países seleccionados",null,null,null,null,null,"Junio"]
[null,null,null,"Tasas de interés de Referencia"]
[null,null,null,"Indices de confianza de EEUU",null,null,null,null,null,2014]
[null,null,null,"Precios de commodities"]
[null,null,null,"Tipos de Cambio de los principales socios comerciales"]
[null,null,null,"Indices Bursátiles"]
[null,null,null,"Series Mensuales"]
[null,null,null,"Series Trimestrales"]
[null,null,null,"Notas Técnicas"]

{"sheet":"Datos mensuales","index":2,"n_rows":316,"n_cols":64,"rows_kept":316,"cut":false,"hidden":true,"merged":[[0,3,0,9],[0,0,3,1],[52,0,63,0],[4,0,15,0],[16,0,27,0],[28,0,39,0],[40,0,51,0],[196,0,207,0],[64,0,75,0],[76,0,87,0],[88,0,99,0],[100,0,111,0],[112,0,123,0],[124,0,135,0],[136,0,147,0],[148,0,159,0],[160,0,171,0],[172,0,183,0],[184,0,195,0],[280,0,291,0],[292,0,303,0],[304,0,315,0],[208,0,219,0],[220,0,231,0],[232,0,243,0],[244,0,255,0],[256,0,267,0],[268,0,279,0],[0,51,0,53],[0,48,0,50],[0,46,0,47],[1,58,1,60],[1,54,1,57]]}
["Fecha",null,null,"Inflación Interanual medida por el Indice de Precios al Consumidor",null,null,null,null,null,null,null,null,null,null,null,null,null,null,null,"Commodities",null,null,null,null,null,null,null,null,null,null,null,null,null,null,null,null,null,null,null,null,null,null,"Tipos de Cambio",null,null,null,"Depósitos 6 Meses",null,"Depósitos 3 meses",null,null,"Bonos Gobierno 10 años"]
[null,null,null,1,2,3,4,5,6,7,1,2,3,4,5,6,7,null,null,"a","b","a-b",null,null,null,null,null,null,null,null,null,null,null,null,null,null,null,null,1,2,3,4,5,6,7,null,null,null,null,null,null,null,null,null,"Indice confianza del Consumidor",null,null,null,"Indice Producción Industrial"]
[null,null,null,"Brasil","China","Colombia","Estados Unidos","EuroZona","Japón ","México","Brasil","China","Colombia","Estados Unidos","EuroZona","Japón ","México",{"$f":"IF(AND(Inflación!$J$6<>1,Inflación!$J$6<>2,Inflación!$J$6<>3,Inflación!$J$6<>4,Inflación!$J$6<>5,Inflación!$J$6<>6,Inflación!$J$6<>7),LOOKUP(1,K2:Q2,K3:Q3),LOOKUP(Inflación!$J$6,K2:Q2,K3:Q3))","v":"Brasil"},null,"WTI-NY","Brent","Diferencial ","Oro","Azúcar","Algodón","Café","Trigo","Aceite de Palma","Maíz","Arroz","Banano","Brasil","Canadá","China","Colombia","EuroZona","Japón ","México","Brasil","Canadá","China","Colombia","EuroZona","Japón ","México",{"$f":"IF(AND('Tipos de Cambio'!$J$6<>1,'Tipos de Cambio'!$J$6<>2,'Tipos de Cambio'!$J$6<>3,'Tipos de Cambio'!$J$6<>4,'Tipos de Cambio'!$J$6<>5,'Tipos de Cambio'!$J$6<>6,'Tipos de Cambio'!$J$6<>7),LOOKUP(1,'Datos mensuales'!$AM$2:$AS$2,'Datos mensuales'!$AM3:$AS3),LOOKUP('Tipos de Cambio'!$J$6,$AM$2:$AS$2,$AM3:$AS3))","v":"Brasil"},"LIBOR","Letras Tesoro US","Estados Unidos","EuroZona","Japón","Estados Unidos","EuroZona","Japón","Confianza","Situación Presente","Expectativas","Normal","Serie Original","Tendencia-Ciclo","Tendencia","Dow Jones","Nasdaq Composite","Standard & Poor's 500"]
[null,null,null,"%","%","%","%","%","%","%","%","%","%","%","%","%","%","Var. Interanual","aceleración","US$ por barril","US$ por barril","de los barriles","$/toz","US centavos/Kilo","US centavos/libra","US centavos/libra","(US$/tm)","(US$/tm)","(US$/tm)","(US$/tm)","(US$/tm)",null,null,null,null,null,null,null,"MN/ME","MN/ME","MN/ME","MN/ME","MN/ME","MN/ME","MN/ME","MN/ME","%","%","%","%","%","%","%","%","Nivel","Nivel","Nivel","(1985=100)","%","%","%"]
[1990,"enero",null,"n.d.","n.d.","n.d.","n.d.","n.d.","n.d.","n.d.",null,null,null,null,null,null,null,null,null,22.86,"n.d.",{"$f":"IF(OR(T5=\"\",U5=\"n.d.\"),\"\",U5-T5)","v":""},"n.d.","n.d.","n.d.","n.d.","n.d.",230.56,"n.d.","n.d.","n.d.",null,null,null,null,null,null,null,"n.d.","n.d.","n.d.","n.d.","","n.d.","n.d.",{"$f":"IF(AND('Tipos de Cambio'!$J$6<>1,'Tipos de Cambio'!$J$6<>2,'Tipos de Cambio'!$J$6<>3,'Tipos de Cambio'!$J$6<>4,'Tipos de Cambio'!$J$6<>5,'Tipos de Cambio'!$J$6<>6,'Tipos de Cambio'!$J$6<>7),LOOKUP(1,'Datos mensuales'!$AM$2:$AS$2,'Datos mensuales'!$AM5:$AS5),LOOKUP('Tipos de Cambio'!$J$6,'Datos mensuales'!$AM$2:$AS$2,'Datos mensuales'!$AM5:$AS5))","v":"n.d."},"n.d.","n.d.","n.d.","n.d.","n.d.","n.d.","n.d.","n.d.","n.d.","n.d.","n.d.",100,"n.d.","n.d.","n.d.",2590.54,415.81,329.08]
[null,"febrero",null,"n.d.","n.d.","n.d.","n.d.","n.d.","n.d.","n.d.",null,null,null,null,null,null,null,null,null,22.11,"n.d.",{"$f":"IF(OR(T6=\"\",U6=\"n.d.\"),\"\",U6-T6)","v":""},"n.d.","n.d.","n.d.","n.d.","n.d.",223.95,"n.d.","n.d.","n.d.",null,null,null,null,null,null,null,"n.d.","n.d.","n.d.","n.d.","","n.d.","n.d.",{"$f":"IF(AND('Tipos de Cambio'!$J$6<>1,'Tipos de Cambio'!$J$6<>2,'Tipos de Cambio'!$J$6<>3,'Tipos de Cambio'!$J$6<>4,'Tipos de Cambio'!$J$6<>5,'Tipos de Cambio'!$J$6<>6,'Tipos de Cambio'!$J$6<>7),LOOKUP(1,'Datos mensuales'!$AM$2:$AS$2,'Datos mensuales'!$AM6:$AS6),LOOKUP('Tipos de Cambio'!$J$6,'Datos mensuales'!$AM$2:$AS$2,'Datos mensuales'!$AM6:$AS6))","v":"n.d."},"n.d.","n.d.","n.d.","n.d.","n.d.","n.d.","n.d.","n.d.","n.d.","n.d.","n.d.",100,"n.d.","n.d.","n.d.",2627.25,425.83,331.89]
[null,"marzo",null,"n.d.","n.d.","n.d.","n.d.","n.d.","n.d.","n.d.",null,null,null,null,null,null,null,null,null,20.39,"n.d.","","n.d.","n.d.","n.d.","n.d.","n.d.",236.34,"n.d.","n.d.","n.d.",null,null,null,null,null,null,null,"n.d.","n.d.","n.d.","n.d.","","n.d.","n.d.",{"$f":"IF(AND('Tipos de Cambio'!$J$6<>1,'Tipos de Cambio'!$J$6<>2,'Tipos de Cambio'!$J$6<>3,'Tipos de Cambio'!$J$6<>4,'Tipos de Cambio'!$J$6<>5,'Tipos de Cambio'!$J$6<>6,'Tipos de Cambio'!$J$6<>7),LOOKUP(1,'Datos mensuales'!$AM$2:$AS$2,'Datos mensuales'!$AM7:$AS7),LOOKUP('Tipos de Cambio'!$J$6,'Datos mensuales'!$AM$2:$AS$2,'Datos mensuales'!$AM7:$AS7))","v":"n.d."},"n.d.","n.d.","n.d.","n.d.","n.d.","n.d.","n.d.","n.d.","n.d.","n.d.","n.d.",100,"n.d.","n.d.","n.d.",2707.21,435.54,339.94]
[null,"abril ",null,"n.d.","n.d.","n.d.","n.d.","n.d.","n.d.","n.d.",null,null,null,null,null,null,null,null,null,18.43,"n.d.","","n.d.","n.d.","n.d.","n.d.","n.d.",220.64,"n.d.","n.d.","n.d.",null,null,null,null,null,null,null,"n.d.","n.d.","n.d.","n.d.","","n.d.","n.d.",{"$f":"IF(AND('Tipos de Cambio'!$J$6<>1,'Tipos de Cambio'!$J$6<>2,'Tipos de Cambio'!$J$6<>3,'Tipos de Cambio'!$J$6<>4,'Tipos de Cambio'!$J$6<>5,'Tipos de Cambio'!$J$6<>6,'Tipos de Cambio'!$J$6<>7),LOOKUP(1,'Datos mensuales'!$AM$2:$AS$2,'Datos mensuales'!$AM8:$AS8),LOOKUP('Tipos de Cambio'!$J$6,'Datos mensuales'!$AM$2:$AS$2,'Datos mensuales'!$AM8:$AS8))","v":"n.d."},"n.d.","n.d.","n.d.","n.d.","n.d.","n.d.","n.d.","n.d.","n.d.","n.d.","n.d.",100,"n.d.","n.d.","n.d.",2656.76,420.07,330.8]
[null,"mayo",null,"n.d.","n.d.","n.d.","n.d.","n.d.","n.d.","n.d.",null,null,null,null,null,null,null,null,null,18.2,"n.d.","","n.d.","n.d.","n.d.","n.d.","n.d.",232.21,"n.d.","n.d.","n.d.",null,null,null,null,null,null,null,"n.d.","n.d.","n.d.","n.d.","","n.d.","n.d.",{"$f":"IF(AND('Tipos de Cambio'!$J$6<>1,'Tipos de Cambio'!$J$6<>2,'Tipos de Cambio'!$J$6<>3,'Tipos de Cambio'!$J$6<>4,'Tipos de Cambio'!$J$6<>5,'Tipos de Cambio'!$J$6<>6,'Tipos de Cambio'!$J$6<>7),LOOKUP(1,'Datos mensuales'!$AM$2:$AS$2,'Datos mensuales'!$AM9:$AS9),LOOKUP('Tipos de Cambio'!$J$6,'Datos mensuales'!$AM$2:$AS$2,'Datos mensuales'!$AM9:$AS9))","v":"n.d."},"n.d.","n.d.","n.d.","n.d.","n.d.","n.d.","n.d.","n.d.","n.d.","n.d.","n.d.",100,"n.d.","n.d.","n.d.",2876.66,458.97,361.23]
[null,"junio",null,"n.d.","n.d.","n.d.","n.d.","n.d.","n.d.","n.d.",null,null,null,null,null,null,null,null,null,16.7,"n.d.","","n.d.","n.d.","n.d.","n.d.","n.d.",224.77,"n.d.","n.d.","n.d.",null,null,null,null,null,null,null,"n.d.","n.d.","n.d.","n.d.","","n.d.","n.d.",{"$f":"IF(AND('Tipos de Cambio'!$J$6<>1,'Tipos de Cambio'!$J$6<>2,'Tipos de Cambio'!$J$6<>3,'Tipos de Cambio'!$J$6<>4,'Tipos de Cambio'!$J$6<>5,'Tipos de Cambio'!$J$6<>6,'Tipos de Cambio'!$J$6<>7),LOOKUP(1,'Datos mensuales'!$AM$2:$AS$2,'Datos mensuales'!$AM10:$AS10),LOOKUP('Tipos de Cambio'!$J$6,'Datos mensuales'!$AM$2:$AS$2,'Datos mensuales'!$AM10:$AS10))","v":"n.d."},"n.d.","n.d.","n.d.","n.d.","n.d.","n.d.","n.d.","n.d.","n.d.","n.d.","n.d.",100,"n.d.","n.d.","n.d.",2880.69,462.29,358.02]
[null,"julio",null,"n.d.","n.d.","n.d.","n.d.","n.d.","n.d.","n.d.",null,null,null,null,null,null,null,null,null,18.45,"n.d.","","n.d.","n.d.","n.d.","n.d.","n.d.",230.56,"n.d.","n.d.","n.d.",null,null,null,null,null,null,null,"n.d.","n.d.","n.d.","n.d.","","n.d.","n.d.",{"$f":"IF(AND('Tipos de Cambio'!$J$6<>1,'Tipos de Cambio'!$J$6<>2,'Tipos de Cambio'!$J$6<>3,'Tipos de Cambio'!$J$6<>4,'Tipos de Cambio'!$J$6<>5,'Tipos de Cambio'!$J$6<>6,'Tipos de Cambio'!$J$6<>7),LOOKUP(1,'Datos mensuales'!$AM$2:$AS$2,'Datos mensuales'!$AM11:$AS11),LOOKUP('Tipos de Cambio'!$J$6,'Datos mensuales'!$AM$2:$AS$2,'Datos mensuales'!$AM11:$AS11))","v":"n.d."},"n.d.","n.d.","n.d.","n.d.","n.d.","n.d.","n.d.","n.d.","n.d.","n.d.","n.d.",100,"n.d.","n.d.","n.d.",2905.2,438.24,356.15]
[null,"agosto",null,"n.d.","n.d.","n.d.","n.d.","n.d.","n.d.","n.d.",null,null,null,null,null,null,null,null,null,27.31,"n.d.","","n.d.","n.d.","n.d.","n.d.","n.d.",240.47,"n.d.","n.d.","n.d.",null,null,null,null,null,null,null,"n.d.","n.d.","n.d.","n.d.","","n.d.","n.d.",{"$f":"IF(AND('Tipos de Cambio'!$J$6<>1,'Tipos de Cambio'!$J$6<>2,'Tipos de Cambio'!$J$6<>3,'Tipos de Cambio'!$J$6<>4,'Tipos de Cambio'!$J$6<>5,'Tipos de Cambio'!$J$6<>6,'Tipos de Cambio'!$J$6<>7),LOOKUP(1,'Datos mensuales'!$AM$2:$AS$2,'Datos mensuales'!$AM12:$AS12),LOOKUP('Tipos de Cambio'!$J$6,'Datos mensuales'!$AM$2:$AS$2,'Datos mensuales'!$AM12:$AS12))","v":"n.d."},"n.d.","n.d.","n.d.","n.d.","n.d.","n.d.","n.d.","n.d.","n.d.","n.d.","n.d.",100,"n.d.","n.d.","n.d.",2614.36,381.21,322.56]
[null,"septiembre",null,"n.d.","n.d.","n.d.","n.d.","n.d.","n.d.","n.d.",null,null,null,null,null,null,null,null,null,33.51,"n.d.","","n.d.","n.d.","n.d.","n.d.","n.d.",234.69,"n.d.","n.d.","n.d.",null,null,null,null,null,null,null,"n.d.","n.d.","n.d.","n.d.","","n.d.","n.d.",{"$f":"IF(AND('Tipos de Cambio'!$J$6<>1,'Tipos de Cambio'!$J$6<>2,'Tipos de Cambio'!$J$6<>3,'Tipos de Cambio'!$J$6<>4,'Tipos de Cambio'!$J$6<>5,'Tipos de Cambio'!$J$6<>6,'Tipos de Cambio'!$J$6<>7),LOOKUP(1,'Datos mensuales'!$AM$2:$AS$2,'Datos mensuales'!$AM13:$AS13),LOOKUP('Tipos de Cambio'!$J$6,'Datos mensuales'!$AM$2:$AS$2,'Datos mensuales'!$AM13:$AS13))","v":"n.d."},"n.d.","n.d.","n.d.","n.d.","n.d.","n.d.","n.d.","n.d.","n.d.","n.d.","n.d.",100,"n.d.","n.d.","n.d.",2452.48,344.51,306.05]
[null,"octubre",null,"n.d.","n.d.","n.d.","n.d.","n.d.","n.d.","n.d.",null,null,null,null,null,null,null,null,null,36.04,"n.d.","","n.d.","n.d.","n.d.","n.d.","n.d.",239.65,"n.d.","n.d.","n.d.",null,null,null,null,null,null,null,"n.d.","n.d.","n.d.","n.d.","","n.d.","n.d.",{"$f":"IF(AND('Tipos de Cambio'!$J$6<>1,'Tipos de Cambio'!$J$6<>2,'Tipos de Cambio'!$J$6<>3,'Tipos de Cambio'!$J$6<>4,'Tipos de Cambio'!$J$6<>5,'Tipos de Cambio'!$J$6<>6,'Tipos de Cambio'!$J$6<>7),LOOKUP(1,'Datos mensuales'!$AM$2:$AS$2,'Datos mensuales'!$AM14:$AS14),LOOKUP('Tipos de Cambio'!$J$6,'Datos mensuales'!$AM$2:$AS$2,'Datos mensuales'!$AM14:$AS14))","v":"n.d."},"n.d.","n.d.","n.d.","n.d.","n.d.","n.d.","n.d.","n.d.","n.d.","n.d.","n.d.",100,"n.d.","n.d.","n.d.",2442.33,329.84,304]
[null,"noviembre",null,"n.d.","n.d.","n.d.","n.d.","n.d.","n.d.","n.d.",null,null,null,null,null,null,null,null,null,32.33,"n.d.","","n.d.","n.d.","n.d.","n.d.","n.d.",274.35000000000002,"n.d.","n.d.","n.d.",null,null,null,null,null,null,null,"n.d.","n.d.","n.d.","n.d.","","n.d.","n.d.",{"$f":"IF(AND('Tipos de Cambio'!$J$6<>1,'Tipos de Cambio'!$J$6<>2,'Tipos de Cambio'!$J$6<>3,'Tipos de Cambio'!$J$6<>4,'Tipos de Cambio'!$J$6<>5,'Tipos de Cambio'!$J$6<>6,'Tipos de Cambio'!$J$6<>7),LOOKUP(1,'Datos mensuales'!$AM$2:$AS$2,'Datos mensuales'!$AM15:$AS15),LOOKUP('Tipos de Cambio'!$J$6,'Datos mensuales'!$AM$2:$AS$2,'Datos mensuales'!$AM15:$AS15))","v":"n.d."},"n.d.","n.d.","n.d.","n.d.","n.d.","n.d.","n.d.","n.d.","n.d.","n.d.","n.d.",100,"n.d.","n.d.","n.d.",2559.65,359.06,322.22000000000003]
[null,"diciembre",null,"n.d.","n.d.","n.d.","n.d.","n.d.","n.d.","n.d.",null,null,null,null,null,null,null,null,null,27.28,"n.d.","","n.d.","n.d.","n.d.","n.d.","n.d.",285.92,"n.d.","n.d.","n.d.",null,null,null,null,null,null,null,"n.d.",1.1599999999999999,"n.d.","n.d.",0.67024128686327078,133.55000000000001,2.9409000000000001,{"$f":"IF(AND('Tipos de Cambio'!$J$6<>1,'Tipos de Cambio'!$J$6<>2,'Tipos de Cambio'!$J$6<>3,'Tipos de Cambio'!$J$6<>4,'Tipos de Cambio'!$J$6<>5,'Tipos de Cambio'!$J$6<>6,'Tipos de Cambio'!$J$6<>7),LOOKUP(1,'Datos mensuales'!$AM$2:$AS$2,'Datos mensuales'!$AM16:$AS16),LOOKUP('Tipos de Cambio'!$J$6,'Datos mensuales'!$AM$2:$AS$2,'Datos mensuales'!$AM16:$AS16))","v":"n.d."},"n.d.","n.d.","n.d.","n.d.","n.d.","n.d.","n.d.","n.d.","n.d.","n.d.","n.d.",100,"n.d.","n.d.","n.d.",2633.66,373.84,330.22]
[1991,"enero",null,"n.d.","n.d.","n.d.",5.6514913657770709,3.9015260581629829,"n.d.",27.10689919922492,null,null,null,null,null,null,null,null,null,25.23,"n.d.","","n.d.","n.d.","n.d.","n.d.","n.d.",288.39999999999998,"n.d.","n.d.","n.d.",null,null,null,null,null,null,null,"n.d.",1.1558999999999999,"n.d.","n.d.",0.66225165562913912,133.69999999999999,2.9531999999999998,{"$f":"IF(AND('Tipos de Cambio'!$J$6<>1,'Tipos de Cambio'!$J$6<>2,'Tipos de Cambio'!$J$6<>3,'Tipos de Cambio'!$J$6<>4,'Tipos de Cambio'!$J$6<>5,'Tipos de Cambio'!$J$6<>6,'Tipos de Cambio'!$J$6<>7),LOOKUP(1,'Datos mensuales'!$AM$2:$AS$2,'Datos mensuales'!$AM17:$AS17),LOOKUP('Tipos de Cambio'!$J$6,'Datos mensuales'!$AM$2:$AS$2,'Datos mensuales'!$AM17:$AS17))","v":"n.d."},"n.d.","n.d.","n.d.","n.d.","n.d.","n.d.","n.d.","n.d.","n.d.","n.d.","n.d.",100,-0.88960158209216988,-1.2469246981882343,0.36051921113049445,2736.39,414.2,343.93]
[null,"febrero",null,"n.d.","n.d.","n.d.",5.3125000000000089,4.1314015205852961,"n.d.",26.462187527699939,null,null,null,null,null,null,null,null,null,20.48,"n.d.","","n.d.","n.d.","n.d.","n.d.","n.d.",279.31,"n.d.","n.d.","n.d.",null,null,null,null,null,null,null,"n.d.",1.1546000000000001,"n.d.","n.d.",0.67572133252246769,130.54,2.9649999999999999,{"$f":"IF(AND('Tipos de Cambio'!$J$6<>1,'Tipos de Cambio'!$J$6<>2,'Tipos de Cambio'!$J$6<>3,'Tipos de Cambio'!$J$6<>4,'Tipos de Cambio'!$J$6<>5,'Tipos de Cambio'!$J$6<>6,'Tipos de Cambio'!$J$6<>7),LOOKUP(1,'Datos mensuales'!$AM$2:$AS$2,'Datos mensuales'!$AM18:$AS18),LOOKUP('Tipos de Cambio'!$J$6,'Datos mensuales'!$AM$2:$AS$2,'Datos mensuales'!$AM18:$AS18))","v":"n.d."},"n.d.","n.d.","n.d.","n.d.","n.d.","n.d.","n.d.","n.d.","n.d.","n.d.","n.d.",100,-2.4626295760442618,-2.4418344939293735,0.39039941133081069,2882.18,453.05,367.07]
[null,"marzo",null,"n.d.","n.d.","n.d.",4.8951048951049039,3.8780767029193015,"n.d.",26.043611095629149,null,null,null,null,null,null,null,null,null,19.899999999999999,"n.d.","","n.d.","n.d.","n.d.","n.d.","n.d.",287.58,"n.d.","n.d.","n.d.",null,null,null,null,null,null,null,"n.d.",1.1569,"n.d.","n.d.",0.62414180501810013,137.38999999999999,2.9769000000000001,{"$f":"IF(AND('Tipos de Cambio'!$J$6<>1,'Tipos de Cambio'!$J$6<>2,'Tipos de Cambio'!$J$6<>3,'Tipos de Cambio'!$J$6<>4,'Tipos de Cambio'!$J$6<>5,'Tipos de Cambio'!$J$6<>6,'Tipos de Cambio'!$J$6<>7),LOOKUP(1,'Datos mensuales'!$AM$2:$AS$2,'Datos mensuales'!$AM19:$AS19),LOOKUP('Tipos de Cambio'!$J$6,'Datos mensuales'!$AM$2:$AS$2,'Datos mensuales'!$AM19:$AS19))","v":"n.d."},"n.d.","n.d.","n.d.","n.d.","n.d.","n.d.","n.d.","n.d.","n.d.","n.d.","n.d.",100,-3.5007083469553946,-3.2047513412468698,0.42797567080372634,2913.86,482.3,375.22]
[null,"abril ",null,"n.d.","n.d.","n.d.",4.887509697439862,3.8494439692044526,"n.d.",25.454607069542902,null,null,null,null,null,null,null,null,null,20.83,"n.d.","","n.d.","n.d.","n.d.","n.d.","n.d.",263.61,"n.d.","n.d.","n.d.",null,null,null,null,null,null,null,"n.d.",1.1533,"n.d.","n.d.",0.58716458223239976,137.11000000000001,2.9889999999999999,{"$f":"IF(AND('Tipos de Cambio'!$J$6<>1,'Tipos de Cambio'!$J$6<>2,'Tipos de Cambio'!$J$6<>3,'Tipos de Cambio'!$J$6<>4,'Tipos de Cambio'!$J$6<>5,'Tipos de Cambio'!$J$6<>6,'Tipos de Cambio'!$J$6<>7),LOOKUP(1,'Datos mensuales'!$AM$2:$AS$2,'Datos mensuales'!$AM20:$AS20),LOOKUP('Tipos de Cambio'!$J$6,'Datos mensuales'!$AM$2:$AS$2,'Datos mensuales'!$AM20:$AS20))","v":"n.d."},"n.d.","n.d.","n.d.","n.d.","n.d.","n.d.","n.d.","n.d.","n.d.","n.d.","n.d.",100,-3.1931942690946014,-3.1124763746272155,0.47390861758760394,2887.87,484.72,375.35]
[null,"mayo",null,"n.d.","n.d.","n.d.",4.9535603715170327,4.0967283072546374,"n.d.",24.508239960212446,null,null,null,null,null,null,null,null,null,21.23,"n.d.","","n.d.","n.d.","n.d.","n.d.","n.d.",262.77999999999997,"n.d.","n.d.","n.d.",null,null,null,null,null,null,null,"n.d.",1.1496999999999999,"n.d.","n.d.",0.58241118229470001,138.22,3.0011999999999999,{"$f":"IF(AND('Tipos de Cambio'!$J$6<>1,'Tipos de Cambio'!$J$6<>2,'Tipos de Cambio'!$J$6<>3,'Tipos de Cambio'!$J$6<>4,'Tipos de Cambio'!$J$6<>5,'Tipos de Cambio'!$J$6<>6,'Tipos de Cambio'!$J$6<>7),LOOKUP(1,'Datos mensuales'!$AM$2:$AS$2,'Datos mensuales'!$AM21:$AS21),LOOKUP('Tipos de Cambio'!$J$6,'Datos mensuales'!$AM$2:$AS$2,'Datos mensuales'!$AM21:$AS21))","v":"n.d."},"n.d.","n.d.","n.d.","n.d.","n.d.","n.d.","n.d.","n.d.","n.d.","n.d.","n.d.",100,-2.3888308742976871,-2.5088743702404659,0.52860196217809907,3027.5,506.11,389.83]
[null,"junio",null,"n.d.","n.d.","n.d.",4.6959199384141597,4.3187952834209495,"n.d.",23.103396721552201,null,null,null,null,null,null,null,null,null,20.190000000000001,"n.d.","","n.d.","n.d.","n.d.","n.d.","n.d.",257,"n.d.","n.d.","n.d.",null,null,null,null,null,null,null,"n.d.",1.1436999999999999,"n.d.","n.d.",0.56044387154626463,139.75,3.0133999999999999,{"$f":"IF(AND('Tipos de Cambio'!$J$6<>1,'Tipos de Cambio'!$J$6<>2,'Tipos de Cambio'!$J$6<>3,'Tipos de Cambio'!$J$6<>4,'Tipos de Cambio'!$J$6<>5,'Tipos de Cambio'!$J$6<>6,'Tipos de Cambio'!$J$6<>7),LOOKUP(1,'Datos mensuales'!$AM$2:$AS$2,'Datos mensuales'!$AM22:$AS22),LOOKUP('Tipos de Cambio'!$J$6,'Datos mensuales'!$AM$2:$AS$2,'Datos mensuales'!$AM22:$AS22))","v":"n.d."},"n.d.","n.d.","n.d.","n.d.","n.d.","n.d.","n.d.","n.d.","n.d.","n.d.","n.d.",100,-1.8012682154305959,-1.9774121951801504,0.59220594244169256,2906.75,475.92,371.16]
[null,"julio",null,"n.d.","n.d.","n.d.",4.4478527607361835,5.0433300184685281,"n.d.",21.966981084729667,null,null,null,null,null,null,null,null,null,21.4,"n.d.","","n.d.","n.d.","n.d.","n.d.","n.d.",281.79000000000002,"n.d.","n.d.","n.d.",null,null,null,null,null,null,null,"n.d.",1.1491,"n.d.","n.d.",0.55906524291384807,137.83000000000001,3.0322,{"$f":"IF(AND('Tipos de Cambio'!$J$6<>1,'Tipos de Cambio'!$J$6<>2,'Tipos de Cambio'!$J$6<>3,'Tipos de Cambio'!$J$6<>4,'Tipos de Cambio'!$J$6<>5,'Tipos de Cambio'!$J$6<>6,'Tipos de Cambio'!$J$6<>7),LOOKUP(1,'Datos mensuales'!$AM$2:$AS$2,'Datos mensuales'!$AM23:$AS23),LOOKUP('Tipos de Cambio'!$J$6,'Datos mensuales'!$AM$2:$AS$2,'Datos mensuales'!$AM23:$AS23))","v":"n.d."},"n.d.","n.d.","n.d.","n.d.","n.d.","n.d.","n.d.","n.d.","n.d.","n.d.","n.d.",100,-1.6828010350289246,-1.7532563185360561,0.66465613074255803,3024.82,502.04,387.81]
[null,"agosto",null,"n.d.","n.d.","n.d.",3.7993920972644375,4.5473803135150384,"n.d.",20.758255037468501,null,null,null,null,null,null,null,null,null,21.69,"n.d.","","n.d.","n.d.","n.d.","n.d.","n.d.",279.31,"n.d.","n.d.","n.d.",null,null,null,null,null,null,null,"n.d.",1.1447000000000001,"n.d.","n.d.",0.57300022920009164,136.82,3.0379999999999998,{"$f":"IF(AND('Tipos de Cambio'!$J$6<>1,'Tipos de Cambio'!$J$6<>2,'Tipos de Cambio'!$J$6<>3,'Tipos de Cambio'!$J$6<>4,'Tipos de Cambio'!$J$6<>5,'Tipos de Cambio'!$J$6<>6,'Tipos de Cambio'!$J$6<>7),LOOKUP(1,'Datos mensuales'!$AM$2:$AS$2,'Datos mensuales'!$AM24:$AS24),LOOKUP('Tipos de Cambio'!$J$6,'Datos mensuales'!$AM$2:$AS$2,'Datos mensuales'!$AM24:$AS24))","v":"n.d."},"n.d.","n.d.","n.d.","n.d.","n.d.","n.d.","n.d.","n.d.","n.d.","n.d.","n.d.",100,-1.8040407196396102,-1.6001153799011014,0.7457046266766465,3043.6,525.67999999999995,395.43]
[null,"septiembre",null,"n.d.","n.d.","n.d.",3.3911077618688772,3.9119461581604127,"n.d.",20.247147890271215,null,null,null,null,null,null,null,null,null,21.89,"n.d.","","n.d.","n.d.","n.d.","n.d.","n.d.",266.92,"n.d.","n.d.","n.d.",null,null,null,null,null,null,null,"n.d.",1.1368,"n.d.","n.d.",0.58889346917142693,134.30000000000001,3.0501999999999998,{"$f":"IF(AND('Tipos de Cambio'!$J$6<>1,'Tipos de Cambio'!$J$6<>2,'Tipos de Cambio'!$J$6<>3,'Tipos de Cambio'!$J$6<>4,'Tipos de Cambio'!$J$6<>5,'Tipos de Cambio'!$J$6<>6,'Tipos de Cambio'!$J$6<>7),LOOKUP(1,'Datos mensuales'!$AM$2:$AS$2,'Datos mensuales'!$AM25:$AS25),LOOKUP('Tipos de Cambio'!$J$6,'Datos mensuales'!$AM$2:$AS$2,'Datos mensuales'!$AM25:$AS25))","v":"n.d."},"n.d.","n.d.","n.d.","n.d.","n.d.","n.d.","n.d.","n.d.","n.d.","n.d.","n.d.",100,-1.1605006617796731,-1.1706619923551931,0.83493012843796066,3016.77,526.88,387.86]
[null,"octubre",null,"n.d.","n.d.","n.d.",2.921348314606746,3.6660161695009892,"n.d.",19.921675679124903,null,null,null,null,null,null,null,null,null,23.23,"n.d.","","n.d.","n.d.","n.d.","n.d.","n.d.",285.10000000000002,"n.d.","n.d.","n.d.",null,null,null,null,null,null,null,"n.d.",1.1278999999999999,"n.d.","n.d.",0.5891016200294551,130.77000000000001,3.0623999999999998,{"$f":"IF(AND('Tipos de Cambio'!$J$6<>1,'Tipos de Cambio'!$J$6<>2,'Tipos de Cambio'!$J$6<>3,'Tipos de Cambio'!$J$6<>4,'Tipos de Cambio'!$J$6<>5,'Tipos de Cambio'!$J$6<>6,'Tipos de Cambio'!$J$6<>7),LOOKUP(1,'Datos mensuales'!$AM$2:$AS$2,'Datos mensuales'!$AM26:$AS26),LOOKUP('Tipos de Cambio'!$J$6,'Datos mensuales'!$AM$2:$AS$2,'Datos mensuales'!$AM26:$AS26))","v":"n.d."},"n.d.","n.d.","n.d.","n.d.","n.d.","n.d.","n.d.","n.d.","n.d.","n.d.","n.d.",100,-0.61848827870126799,-0.4816878202944963,0.93174274373872823,3069.1,542.98,392.46]
[null,"noviembre",null,"n.d.","n.d.","n.d.",2.9895366218236172,4.1260105938109959,"n.d.",19.720736304578683,null,null,null,null,null,null,null,null,null,22.46,"n.d.","","n.d.","n.d.","n.d.","n.d.","n.d.",299.14,"n.d.","n.d.","n.d.",null,null,null,null,null,null,null,"n.d.",1.1303000000000001,"n.d.","n.d.",0.61538461538461542,127,3.0697999999999999,{"$f":"IF(AND('Tipos de Cambio'!$J$6<>1,'Tipos de Cambio'!$J$6<>2,'Tipos de Cambio'!$J$6<>3,'Tipos de Cambio'!$J$6<>4,'Tipos de Cambio'!$J$6<>5,'Tipos de Cambio'!$J$6<>6,'Tipos de Cambio'!$J$6<>7),LOOKUP(1,'Datos mensuales'!$AM$2:$AS$2,'Datos mensuales'!$AM27:$AS27),LOOKUP('Tipos de Cambio'!$J$6,'Datos mensuales'!$AM$2:$AS$2,'Datos mensuales'!$AM27:$AS27))","v":"n.d."},"n.d.","n.d.","n.d.","n.d.","n.d.","n.d.","n.d.","n.d.","n.d.","n.d.","n.d.",100,0.48006878985025203,0.20240146284988825,1.0354074879653119,2894.68,523.9,375.22]
[null,"diciembre",null,"n.d.","n.d.","n.d.",3.0642750373692031,4.1260105938109959,"n.d.",18.794622340153929,null,null,null,null,null,null,null,null,null,19.5,"n.d.","","n.d.","n.d.","n.d.","n.d.","n.d.",310.70999999999998,"n.d.","n.d.","n.d.",null,null,null,null,null,null,null,"n.d.",1.1456999999999999,"n.d.","n.d.",0.63714558776680474,128.11000000000001,3.07,{"$f":"IF(AND('Tipos de Cambio'!$J$6<>1,'Tipos de Cambio'!$J$6<>2,'Tipos de Cambio'!$J$6<>3,'Tipos de Cambio'!$J$6<>4,'Tipos de Cambio'!$J$6<>5,'Tipos de Cambio'!$J$6<>6,'Tipos de Cambio'!$J$6<>7),LOOKUP(1,'Datos mensuales'!$AM$2:$AS$2,'Datos mensuales'!$AM28:$AS28),LOOKUP('Tipos de Cambio'!$J$6,'Datos mensuales'!$AM$2:$AS$2,'Datos mensuales'!$AM28:$AS28))","v":"n.d."},"n.d.","n.d.","n.d.","n.d.","n.d.","n.d.","n.d.","n.d.","n.d.","n.d.","n.d.",100,0.77915968363178045,0.63260720568949491,1.1450857193389785,3168.83,586.34,417.09]
[1992,"enero",null,"n.d.","n.d.","n.d.",2.6002971768202081,3.8658722460856199,"n.d.",17.947390998963321,null,null,null,null,null,null,null,null,null,18.79,"n.d.","","n.d.","n.d.","n.d.","n.d.","n.d.",316.5,"n.d.","n.d.","n.d.",null,null,null,null,null,null,null,"n.d.",1.1565000000000001,"n.d.","n.d.",0.63395460885000643,130,3.0684999999999998,{"$f":"IF(AND('Tipos de Cambio'!$J$6<>1,'Tipos de Cambio'!$J$6<>2,'Tipos de Cambio'!$J$6<>3,'Tipos de Cambio'!$J$6<>4,'Tipos de Cambio'!$J$6<>5,'Tipos de Cambio'!$J$6<>6,'Tipos de Cambio'!$J$6<>7),LOOKUP(1,'Datos mensuales'!$AM$2:$AS$2,'Datos mensuales'!$AM29:$AS29),LOOKUP('Tipos de Cambio'!$J$6,'Datos mensuales'!$AM$2:$AS$2,'Datos mensuales'!$AM29:$AS29))","v":"n.d."},"n.d.","n.d.","n.d.","n.d.","n.d.","n.d.","n.d.","n.d.","n.d.","n.d.","n.d.",100,0.61534725276168878,1.0911244625132044,1.2598755492780667,3223.39,620.21,408.79]
[null,"febrero",null,"n.d.","n.d.","n.d.",2.8189910979228356,3.843504614960727,"n.d.",17.297158396332367,null,null,null,null,null,null,null,null,null,19.010000000000002,"n.d.","","n.d.","n.d.","n.d.","n.d.","n.d.",315.67,"n.d.","n.d.","n.d.",null,null,null,null,null,null,null,"n.d.",1.1825000000000001,"n.d.","n.d.",0.61739828363277149,130.5,3.0636000000000001,{"$f":"IF(AND('Tipos de Cambio'!$J$6<>1,'Tipos de Cambio'!$J$6<>2,'Tipos de Cambio'!$J$6<>3,'Tipos de Cambio'!$J$6<>4,'Tipos de Cambio'!$J$6<>5,'Tipos de Cambio'!$J$6<>6,'Tipos de Cambio'!$J$6<>7),LOOKUP(1,'Datos mensuales'!$AM$2:$AS$2,'Datos mensuales'!$AM30:$AS30),LOOKUP('Tipos de Cambio'!$J$6,'Datos mensuales'!$AM$2:$AS$2,'Datos mensuales'!$AM30:$AS30))","v":"n.d."},"n.d.","n.d.","n.d.","n.d.","n.d.","n.d.","n.d.","n.d.","n.d.","n.d.","n.d.",100,2.0205056880406635,2.0904613853599097,1.3788353808727338,3267.67,633.47,412.7]
[null,"marzo",null,"n.d.","n.d.","n.d.",3.1851851851851936,4.311888689902184,"n.d.",16.824853492142001,null,null,null,null,null,null,null,null,null,18.920000000000002,"n.d.","","n.d.","n.d.","n.d.","n.d.","n.d.",327.24,"n.d.","n.d.","n.d.",null,null,null,null,null,null,null,"n.d.",1.1926000000000001,"n.d.","n.d.",0.60201071579074106,132.86000000000001,3.0672000000000001,{"$f":"IF(AND('Tipos de Cambio'!$J$6<>1,'Tipos de Cambio'!$J$6<>2,'Tipos de Cambio'!$J$6<>3,'Tipos de Cambio'!$J$6<>4,'Tipos de Cambio'!$J$6<>5,'Tipos de Cambio'!$J$6<>6,'Tipos de Cambio'!$J$6<>7),LOOKUP(1,'Datos mensuales'!$AM$2:$AS$2,'Datos mensuales'!$AM31:$AS31),LOOKUP('Tipos de Cambio'!$J$6,'Datos mensuales'!$AM$2:$AS$2,'Datos mensuales'!$AM31:$AS31))","v":"n.d."},"n.d.","n.d.","n.d.","n.d.","n.d.","n.d.","n.d.","n.d.","n.d.","n.d.","n.d.",100,3.4666126375086481,3.2336996188511824,1.5010085972810394,3235.47,603.77,403.69]
[null,"abril ",null,"n.d.","n.d.","n.d.",3.1804733727810737,4.1872597473915389,"n.d.",16.644375410826594,null,null,null,null,null,null,null,null,null,20.23,"n.d.","","n.d.","n.d.","n.d.","n.d.","n.d.",333.03,"n.d.","n.d.","n.d.",null,null,null,null,null,null,null,"n.d.",1.1875,"n.d.","n.d.",0.60668567615118607,133.54,3.0674999999999999,{"$f":"IF(AND('Tipos de Cambio'!$J$6<>1,'Tipos de Cambio'!$J$6<>2,'Tipos de Cambio'!$J$6<>3,'Tipos de Cambio'!$J$6<>4,'Tipos de Cambio'!$J$6<>5,'Tipos de Cambio'!$J$6<>6,'Tipos de Cambio'!$J$6<>7),LOOKUP(1,'Datos mensuales'!$AM$2:$AS$2,'Datos mensuales'!$AM32:$AS32),LOOKUP('Tipos de Cambio'!$J$6,'Datos mensuales'!$AM$2:$AS$2,'Datos mensuales'!$AM32:$AS32))","v":"n.d."},"n.d.","n.d.","n.d.","n.d.","n.d.","n.d.","n.d.","n.d.","n.d.","n.d.","n.d.",100,3.960215559812541,3.6412140453134567,1.625484376308961,3359.12,578.67999999999995,414.95]
[null,"mayo",null,"n.d.","n.d.","n.d.",3.0235988200589929,4.0448209893413409,"n.d.",16.276778426380996,null,null,null,null,null,null,null,null,null,20.98,"n.d.","","n.d.","n.d.","n.d.","n.d.","n.d.",323.94,"n.d.","n.d.","n.d.",null,null,null,null,null,null,null,"n.d.",1.2,"n.d.","n.d.",0.61705541157595956,130.77000000000001,3.0981999999999998,{"$f":"IF(AND('Tipos de Cambio'!$J$6<>1,'Tipos de Cambio'!$J$6<>2,'Tipos de Cambio'!$J$6<>3,'Tipos de Cambio'!$J$6<>4,'Tipos de Cambio'!$J$6<>5,'Tipos de Cambio'!$J$6<>6,'Tipos de Cambio'!$J$6<>7),LOOKUP(1,'Datos mensuales'!$AM$2:$AS$2,'Datos mensuales'!$AM33:$AS33),LOOKUP('Tipos de Cambio'!$J$6,'Datos mensuales'!$AM$2:$AS$2,'Datos mensuales'!$AM33:$AS33))","v":"n.d."},"n.d.","n.d.","n.d.","n.d.","n.d.","n.d.","n.d.","n.d.","n.d.","n.d.","n.d.",100,3.2862470854821302,3.2773493192782777,1.7514672348463156,3396.88,585.30999999999995,415.35]
[null,"junio",null,"n.d.","n.d.","n.d.",3.0882352941176388,3.9221026828271754,"n.d.",15.848183515514105,null,null,null,null,null,null,null,null,null,22.39,"n.d.","","n.d.","n.d.","n.d.","n.d.","n.d.",333.85,"n.d.","n.d.","n.d.",null,null,null,null,null,null,null,"n.d.",1.2,"n.d.","n.d.",0.63532401524777637,126.84,3.1185,{"$f":"IF(AND('Tipos de Cambio'!$J$6<>1,'Tipos de Cambio'!$J$6<>2,'Tipos de Cambio'!$J$6<>3,'Tipos de Cambio'!$J$6<>4,'Tipos de Cambio'!$J$6<>5,'Tipos de Cambio'!$J$6<>6,'Tipos de Cambio'!$J$6<>7),LOOKUP(1,'Datos mensuales'!$AM$2:$AS$2,'Datos mensuales'!$AM34:$AS34),LOOKUP('Tipos de Cambio'!$J$6,'Datos mensuales'!$AM$2:$AS$2,'Datos mensuales'!$AM34:$AS34))","v":"n.d."},"n.d.","n.d.","n.d.","n.d.","n.d.","n.d.","n.d.","n.d.","n.d.","n.d.","n.d.",100,2.3124356821311309,2.9013942084076705,1.8782972915829532,3318.52,563.6,408.14]
[null,"julio",null,"n.d.","n.d.","n.d.",3.1571218795888485,3.327021909656489,"n.d.",15.558462078862897,null,null,null,null,null,null,null,null,null,21.78,"n.d.","","n.d.","n.d.","n.d.","n.d.","n.d.",315.67,"n.d.","n.d.","n.d.",null,null,null,null,null,null,null,"n.d.",1.1917,"n.d.","n.d.",0.67073579716949494,125.88,3.1164999999999998,{"$f":"IF(AND('Tipos de Cambio'!$J$6<>1,'Tipos de Cambio'!$J$6<>2,'Tipos de Cambio'!$J$6<>3,'Tipos de Cambio'!$J$6<>4,'Tipos de Cambio'!$J$6<>5,'Tipos de Cambio'!$J$6<>6,'Tipos de Cambio'!$J$6<>7),LOOKUP(1,'Datos mensuales'!$AM$2:$AS$2,'Datos mensuales'!$AM35:$AS35),LOOKUP('Tipos de Cambio'!$J$6,'Datos mensuales'!$AM$2:$AS$2,'Datos mensuales'!$AM35:$AS35))","v":"n.d."},"n.d.","n.d.","n.d.","n.d.","n.d.","n.d.","n.d.","n.d.","n.d.","n.d.","n.d.",100,3.2206569411887154,2.756915043881869,2.0054179103800696,3393.78,580.83000000000004,424.21]
[null,"agosto",null,"n.d.","n.d.","n.d.",3.1478770131771681,3.3094691341348139,"n.d.",15.464793049928897,null,null,null,null,null,null,null,null,null,21.34,"n.d.","","n.d.","n.d.","n.d.","n.d.","n.d.",315.67,"n.d.","n.d.","n.d.",null,null,null,null,null,null,null,"n.d.",1.1909000000000001,"n.d.","n.d.",0.68917987594762231,126.23,3.0912999999999999,{"$f":"IF(AND('Tipos de Cambio'!$J$6<>1,'Tipos de Cambio'!$J$6<>2,'Tipos de Cambio'!$J$6<>3,'Tipos de Cambio'!$J$6<>4,'Tipos de Cambio'!$J$6<>5,'Tipos de Cambio'!$J$6<>6,'Tipos de Cambio'!$J$6<>7),LOOKUP(1,'Datos mensuales'!$AM$2:$AS$2,'Datos mensuales'!$AM36:$AS36),LOOKUP('Tipos de Cambio'!$J$6,'Datos mensuales'!$AM$2:$AS$2,'Datos mensuales'!$AM36:$AS36))","v":"n.d."},"n.d.","n.d.","n.d.","n.d.","n.d.","n.d.","n.d.","n.d.","n.d.","n.d.","n.d.",100,2.5870255861635716,2.5053481934847799,2.1323431231934142,3257.35,563.12,414.03]
[null,"septiembre",null,"n.d.","n.d.","n.d.",2.988338192419842,3.3193900958035267,"n.d.",15.320380662093136,null,null,null,null,null,null,null,null,null,21.88,"n.d.","","n.d.","n.d.","n.d.","n.d.","n.d.",323.32,"n.d.","n.d.","n.d.",null,null,null,null,null,null,null,"n.d.",1.2222999999999999,"n.d.","n.d.",0.69075084616978655,123.35307692307693,3.0857000000000001,{"$f":"IF(AND('Tipos de Cambio'!$J$6<>1,'Tipos de Cambio'!$J$6<>2,'Tipos de Cambio'!$J$6<>3,'Tipos de Cambio'!$J$6<>4,'Tipos de Cambio'!$J$6<>5,'Tipos de Cambio'!$J$6<>6,'Tipos de Cambio'!$J$6<>7),LOOKUP(1,'Datos mensuales'!$AM$2:$AS$2,'Datos mensuales'!$AM37:$AS37),LOOKUP('Tipos de Cambio'!$J$6,'Datos mensuales'!$AM$2:$AS$2,'Datos mensuales'!$AM37:$AS37))","v":"n.d."},"n.d.","n.d.","n.d.","n.d.","n.d.","n.d.","n.d.","n.d.","n.d.","n.d.","n.d.",100,1.941211595443848,2.3776873249427011,2.2586398315993961,3271.66,583.27,417.8]
[null,"octubre",null,"n.d.","n.d.","n.d.",3.2023289665211103,3.1733225763076502,"n.d.",14.815391856556712,null,null,null,null,null,null,null,null,null,21.69,"n.d.","","n.d.","n.d.","n.d.","n.d.","n.d.",326.41000000000003,"n.d.","n.d.","n.d.",null,null,null,null,null,null,null,"n.d.",1.2451000000000001,"n.d.","n.d.",0.67494600431965446,121.05083333333333,3.1238000000000001,{"$f":"IF(AND('Tipos de Cambio'!$J$6<>1,'Tipos de Cambio'!$J$6<>2,'Tipos de Cambio'!$J$6<>3,'Tipos de Cambio'!$J$6<>4,'Tipos de Cambio'!$J$6<>5,'Tipos de Cambio'!$J$6<>6,'Tipos de Cambio'!$J$6<>7),LOOKUP(1,'Datos mensuales'!$AM$2:$AS$2,'Datos mensuales'!$AM38:$AS38),LOOKUP('Tipos de Cambio'!$J$6,'Datos mensuales'!$AM$2:$AS$2,'Datos mensuales'!$AM38:$AS38))","v":"n.d."},"n.d.","n.d.","n.d.","n.d.","n.d.","n.d.","n.d.","n.d.","n.d.","n.d.","n.d.",100,2.9568283700664999,2.7594302683455307,2.3839010566242935,3226.28,605.16999999999996,418.68]
[null,"noviembre",null,"n.d.","n.d.","n.d.",3.0478955007256809,3.0655957161981151,"n.d.",12.964399646892538,null,null,null,null,null,null,null,null,null,20.34,"n.d.","","n.d.","n.d.","n.d.","n.d.","n.d.",341.29,"n.d.","n.d.","n.d.",null,null,null,null,null,null,null,"n.d.",1.268,"n.d.","n.d.",0.62984190968067022,123.83428571428571,3.1198000000000001,{"$f":"IF(AND('Tipos de Cambio'!$J$6<>1,'Tipos de Cambio'!$J$6<>2,'Tipos de Cambio'!$J$6<>3,'Tipos de Cambio'!$J$6<>4,'Tipos de Cambio'!$J$6<>5,'Tipos de Cambio'!$J$6<>6,'Tipos de Cambio'!$J$6<>7),LOOKUP(1,'Datos mensuales'!$AM$2:$AS$2,'Datos mensuales'!$AM39:$AS39),LOOKUP('Tipos de Cambio'!$J$6,'Datos mensuales'!$AM$2:$AS$2,'Datos mensuales'!$AM39:$AS39))","v":"n.d."},"n.d.","n.d.","n.d.","n.d.","n.d.","n.d.","n.d.","n.d.","n.d.","n.d.","n.d.",100,3.4876455002107232,3.4587105977531341,2.5077292746336743,3305.16,652.73,431.35]
[null,"diciembre",null,"n.d.","n.d.","n.d.",2.9006526468455403,3.1726907630521959,"n.d.",11.938094606259627,null,null,null,null,null,null,null,null,null,19.41,"n.d.","","n.d.","n.d.","n.d.","n.d.","n.d.",331.37,"n.d.","n.d.","n.d.",null,null,null,null,null,null,null,"n.d.",1.2726999999999999,"n.d.","n.d.",0.63299151791365993,123.81538461538462,3.1181999999999999,{"$f":"IF(AND('Tipos de Cambio'!$J$6<>1,'Tipos de Cambio'!$J$6<>2,'Tipos de Cambio'!$J$6<>3,'Tipos de Cambio'!$J$6<>4,'Tipos de Cambio'!$J$6<>5,'Tipos de Cambio'!$J$6<>6,'Tipos de Cambio'!$J$6<>7),LOOKUP(1,'Datos mensuales'!$AM$2:$AS$2,'Datos mensuales'!$AM40:$AS40),LOOKUP('Tipos de Cambio'!$J$6,'Datos mensuales'!$AM$2:$AS$2,'Datos mensuales'!$AM40:$AS40))","v":"n.d."},"n.d.","n.d.","n.d.","n.d.","n.d.","n.d.","n.d.","n.d.","n.d.","n.d.","n.d.",100,3.9533654905927085,4.1934880089364635,2.6297547939684973,3301.11,676.95,435.71]
[1993,"enero",null,"n.d.","n.d.","n.d.",3.2585083272990589,3.3884738527214604,"n.d.",11.318977302541395,null,null,null,null,null,null,null,null,null,19.03,"n.d.","","n.d.","n.d.","n.d.","n.d.","n.d.",338.81,"n.d.","n.d.","n.d.",null,null,null,null,null,null,null,"n.d.",1.2776000000000001,"n.d.","n.d.",0.6188884762965714,124.78571428571429,3.1145999999999998,{"$f":"IF(AND('Tipos de Cambio'!$J$6<>1,'Tipos de Cambio'!$J$6<>2,'Tipos de Cambio'!$J$6<>3,'Tipos de Cambio'!$J$6<>4,'Tipos de Cambio'!$J$6<>5,'Tipos de Cambio'!$J$6<>6,'Tipos de Cambio'!$J$6<>7),LOOKUP(1,'Datos mensuales'!$AM$2:$AS$2,'Datos mensuales'!$AM41:$AS41),LOOKUP('Tipos de Cambio'!$J$6,'Datos mensuales'!$AM$2:$AS$2,'Datos mensuales'!$AM41:$AS41))","v":"n.d."},"n.d.","n.d.","n.d.","n.d.","n.d.","n.d.","n.d.","n.d.","n.d.","n.d.","n.d.",100,5.0978371131935596,4.6991056490347072,2.7496758254955456,3310.03,696.34,438.78]
[null,"febrero",null,"n.d.","n.d.","n.d.",3.2467532467532472,3.3695940567789946,"n.d.",10.914341663193422,null,null,null,null,null,null,null,null,null,20.09,"n.d.","","n.d.","n.d.","n.d.","n.d.","n.d.",351.21,"n.d.","n.d.","n.d.",null,null,null,null,null,null,null,"n.d.",1.2597,"n.d.","n.d.",0.60916179337231968,120.98571428571428,3.1049000000000002,{"$f":"IF(AND('Tipos de Cambio'!$J$6<>1,'Tipos de Cambio'!$J$6<>2,'Tipos de Cambio'!$J$6<>3,'Tipos de Cambio'!$J$6<>4,'Tipos de Cambio'!$J$6<>5,'Tipos de Cambio'!$J$6<>6,'Tipos de Cambio'!$J$6<>7),LOOKUP(1,'Datos mensuales'!$AM$2:$AS$2,'Datos mensuales'!$AM42:$AS42),LOOKUP('Tipos de Cambio'!$J$6,'Datos mensuales'!$AM$2:$AS$2,'Datos mensuales'!$AM42:$AS42))","v":"n.d."},"n.d.","n.d.","n.d.","n.d.","n.d.","n.d.","n.d.","n.d.","n.d.","n.d.","n.d.",100,4.7234163124873385,4.6184729765148536,2.8672997912807086,3370.81,670.77,443.38]
[null,"marzo",null,"n.d.","n.d.","n.d.",3.086862885857848,3.2356048600105694,"n.d.",10.43681961628905,null,null,null,null,null,null,null,null,null,20.32,"n.d.","","n.d.","n.d.","n.d.","n.d.","n.d.",337.16,"n.d.","n.d.","n.d.",null,null,null,null,null,null,null,"n.d.",1.2468999999999999,"n.d.","n.d.",0.60701711788272428,121,3.1082999999999998,{"$f":"IF(AND('Tipos de Cambio'!$J$6<>1,'Tipos de Cambio'!$J$6<>2,'Tipos de Cambio'!$J$6<>3,'Tipos de Cambio'!$J$6<>4,'Tipos de Cambio'!$J$6<>5,'Tipos de Cambio'!$J$6<>6,'Tipos de Cambio'!$J$6<>7),LOOKUP(1,'Datos mensuales'!$AM$2:$AS$2,'Datos mensuales'!$AM43:$AS43),LOOKUP('Tipos de Cambio'!$J$6,'Datos mensuales'!$AM$2:$AS$2,'Datos mensuales'!$AM43:$AS43))","v":"n.d."},"n.d.","n.d.","n.d.","n.d.","n.d.","n.d.","n.d.","n.d.","n.d.","n.d.","n.d.",100,3.7690724826570099,4.0161526382425317,2.9825696036450022,3435.11,690.13,451.67]
[null,"abril ",null,"n.d.","n.d.","n.d.",3.225806451612903,3.2283568322572185,"n.d.",10.092262467525718,null,null,null,null,null,null,null,null,null,20.25,"n.d.","","n.d.","n.d.","n.d.","n.d.","n.d.",323.94,"n.d.","n.d.","n.d.",null,null,null,null,null,null,null,"n.d.",1.262,"n.d.","n.d.",0.62656641604010022,112.42,3.0954999999999999,{"$f":"IF(AND('Tipos de Cambio'!$J$6<>1,'Tipos de Cambio'!$J$6<>2,'Tipos de Cambio'!$J$6<>3,'Tipos de Cambio'!$J$6<>4,'Tipos de Cambio'!$J$6<>5,'Tipos de Cambio'!$J$6<>6,'Tipos de Cambio'!$J$6<>7),LOOKUP(1,'Datos mensuales'!$AM$2:$AS$2,'Datos mensuales'!$AM44:$AS44),LOOKUP('Tipos de Cambio'!$J$6,'Datos mensuales'!$AM$2:$AS$2,'Datos mensuales'!$AM44:$AS44))","v":"n.d."},"n.d.","n.d.","n.d.","n.d.","n.d.","n.d.","n.d.","n.d.","n.d.","n.d.","n.d.",100,3.3616003825615692,3.3233684527482765,3.0955498074570764,3427.55,661.42,440.19]
[null,"mayo",null,"n.d.","n.d.","n.d.",3.2211882605583395,3.1126871552403528,"n.d.",9.9963294343709741,null,null,null,null,null,null,null,null,null,19.95,"n.d.","","n.d.","n.d.","n.d.","n.d.","n.d.",305.76,"n.d.","n.d.","n.d.",null,null,null,null,null,null,null,"n.d.",1.27,"n.d.","n.d.",0.62262623746964696,110.4,3.1227,{"$f":"IF(AND('Tipos de Cambio'!$J$6<>1,'Tipos de Cambio'!$J$6<>2,'Tipos de Cambio'!$J$6<>3,'Tipos de Cambio'!$J$6<>4,'Tipos de Cambio'!$J$6<>5,'Tipos de Cambio'!$J$6<>6,'Tipos de Cambio'!$J$6<>7),LOOKUP(1,'Datos mensuales'!$AM$2:$AS$2,'Datos mensuales'!$AM45:$AS45),LOOKUP('Tipos de Cambio'!$J$6,'Datos mensuales'!$AM$2:$AS$2,'Datos mensuales'!$AM45:$AS45))","v":"n.d."},"n.d.","n.d.","n.d.","n.d.","n.d.","n.d.","n.d.","n.d.","n.d.","n.d.","n.d.",100,2.6358389583733821,2.8325704733718204,3.2063776323489446,3527.43,700.53,450.19]
[null,"junio",null,"n.d.","n.d.","n.d.",2.9957203994293988,3.1057528502162293,"n.d.",9.8696368861818708,null,null,null,null,null,null,null,null,null,19.09,"n.d.","","n.d.","n.d.","n.d.","n.d.","n.d.",294.19,"n.d.","n.d.","n.d.",null,null,null,null,null,null,null,"n.d.",1.28,"n.d.","n.d.",0.60525360125892758,107.34,3.1213000000000002,{"$f":"IF(AND('Tipos de Cambio'!$J$6<>1,'Tipos de Cambio'!$J$6<>2,'Tipos de Cambio'!$J$6<>3,'Tipos de Cambio'!$J$6<>4,'Tipos de Cambio'!$J$6<>5,'Tipos de Cambio'!$J$6<>6,'Tipos de Cambio'!$J$6<>7),LOOKUP(1,'Datos mensuales'!$AM$2:$AS$2,'Datos mensuales'!$AM46:$AS46),LOOKUP('Tipos de Cambio'!$J$6,'Datos mensuales'!$AM$2:$AS$2,'Datos mensuales'!$AM46:$AS46))","v":"n.d."},"n.d.","n.d.","n.d.","n.d.","n.d.","n.d.","n.d.","n.d.","n.d.","n.d.","n.d.",100,2.841897691683104,2.5573742973535651,3.3152067924676398,3516.08,703.95,450.53]
[null,"julio",null,"n.d.","n.d.","n.d.",2.7758007117437762,3.3115183246073312,"n.d.",9.7049313887314739,null,null,null,null,null,null,null,null,null,17.89,"n.d.","","n.d.","n.d.","n.d.","n.d.","n.d.",299.14,"n.d.","n.d.","n.d.",null,null,null,null,null,null,null,"n.d.",1.28,"n.d.","n.d.",0.58319239517116706,107.73,3.1236000000000002,{"$f":"IF(AND('Tipos de Cambio'!$J$6<>1,'Tipos de Cambio'!$J$6<>2,'Tipos de Cambio'!$J$6<>3,'Tipos de Cambio'!$J$6<>4,'Tipos de Cambio'!$J$6<>5,'Tipos de Cambio'!$J$6<>6,'Tipos de Cambio'!$J$6<>7),LOOKUP(1,'Datos mensuales'!$AM$2:$AS$2,'Datos mensuales'!$AM47:$AS47),LOOKUP('Tipos de Cambio'!$J$6,'Datos mensuales'!$AM$2:$AS$2,'Datos mensuales'!$AM47:$AS47))","v":"n.d."},"n.d.","n.d.","n.d.","n.d.","n.d.","n.d.","n.d.","n.d.","n.d.","n.d.","n.d.",100,2.2240560911922724,2.464508414810318,3.4221656521936206,3539.47,704.7,448.13]
[null,"agosto",null,"n.d.","n.d.","n.d.",2.7679205110007139,3.3211297071129602,"n.d.",9.6186704391292892,null,null,null,null,null,null,null,null,null,18.010000000000002,"n.d.","","n.d.","n.d.","n.d.","n.d.","n.d.",294.19,"n.d.","n.d.","n.d.",null,null,null,null,null,null,null,"n.d.",1.31,"n.d.","n.d.",0.58972695641917794,103.71,3.1126,{"$f":"IF(AND('Tipos de Cambio'!$J$6<>1,'Tipos de Cambio'!$J$6<>2,'Tipos de Cambio'!$J$6<>3,'Tipos de Cambio'!$J$6<>4,'Tipos de Cambio'!$J$6<>5,'Tipos de Cambio'!$J$6<>6,'Tipos de Cambio'!$J$6<>7),LOOKUP(1,'Datos mensuales'!$AM$2:$AS$2,'Datos mensuales'!$AM48:$AS48),LOOKUP('Tipos de Cambio'!$J$6,'Datos mensuales'!$AM$2:$AS$2,'Datos mensuales'!$AM48:$AS48))","v":"n.d."},"n.d.","n.d.","n.d.","n.d.","n.d.","n.d.","n.d.","n.d.","n.d.","n.d.","n.d.",100,2.6515469203222342,2.607027625716718,3.5273315221131307,3651.25,742.84,463.56]
[null,"septiembre",null,"n.d.","n.d.","n.d.",2.6893135173389831,3.3041661225022874,"n.d.",9.4782122906792221,null,null,null,null,null,null,null,null,null,17.5,"n.d.","","n.d.","n.d.","n.d.","n.d.","n.d.",290.88,"n.d.","n.d.","n.d.",null,null,null,null,null,null,null,"n.d.",1.32,"n.d.","n.d.",0.61629483544927888,105.28,3.1126999999999998,{"$f":"IF(AND('Tipos de Cambio'!$J$6<>1,'Tipos de Cambio'!$J$6<>2,'Tipos de Cambio'!$J$6<>3,'Tipos de Cambio'!$J$6<>4,'Tipos de Cambio'!$J$6<>5,'Tipos de Cambio'!$J$6<>6,'Tipos de Cambio'!$J$6<>7),LOOKUP(1,'Datos mensuales'!$AM$2:$AS$2,'Datos mensuales'!$AM49:$AS49),LOOKUP('Tipos de Cambio'!$J$6,'Datos mensuales'!$AM$2:$AS$2,'Datos mensuales'!$AM49:$AS49))","v":"n.d."},"n.d.","n.d.","n.d.","n.d.","n.d.","n.d.","n.d.","n.d.","n.d.","n.d.","n.d.",100,2.9020768140150865,2.7956182720636713,3.6307165641764838,3555.12,762.78,458.93]
[null,"octubre",null,"n.d.","n.d.","n.d.",2.7503526093088695,3.3103088752769341,"n.d.",9.1400764243634782,null,null,null,null,null,null,null,null,null,18.149999999999999,"n.d.","","n.d.","n.d.","n.d.","n.d.","n.d.",275.18,"n.d.","n.d.","n.d.",null,null,null,null,null,null,null,"n.d.",1.33,"n.d.","n.d.",0.61050061050061055,106.92,3.1141999999999999,{"$f":"IF(AND('Tipos de Cambio'!$J$6<>1,'Tipos de Cambio'!$J$6<>2,'Tipos de Cambio'!$J$6<>3,'Tipos de Cambio'!$J$6<>4,'Tipos de Cambio'!$J$6<>5,'Tipos de Cambio'!$J$6<>6,'Tipos de Cambio'!$J$6<>7),LOOKUP(1,'Datos mensuales'!$AM$2:$AS$2,'Datos mensuales'!$AM50:$AS50),LOOKUP('Tipos de Cambio'!$J$6,'Datos mensuales'!$AM$2:$AS$2,'Datos mensuales'!$AM50:$AS50))","v":"n.d."},"n.d.","n.d.","n.d.","n.d.","n.d.","n.d.","n.d.","n.d.","n.d.","n.d.","n.d.",100,2.8974494360369363,2.8997254811835571,3.7322708948205774,3680.59,779.26,467.83]
[null,"noviembre",null,"n.d.","n.d.","n.d.",2.676056338028177,3.1822314586309948,"n.d.",8.718169779167189,null,null,null,null,null,null,null,null,null,16.61,"n.d.","","n.d.","n.d.","n.d.","n.d.","n.d.",297.7,"n.d.","n.d.","n.d.",null,null,null,null,null,null,null,"n.d.",1.32,"n.d.","n.d.",0.58823529411764708,107.8,3.1553,{"$f":"IF(AND('Tipos de Cambio'!$J$6<>1,'Tipos de Cambio'!$J$6<>2,'Tipos de Cambio'!$J$6<>3,'Tipos de Cambio'!$J$6<>4,'Tipos de Cambio'!$J$6<>5,'Tipos de Cambio'!$J$6<>6,'Tipos de Cambio'!$J$6<>7),LOOKUP(1,'Datos mensuales'!$AM$2:$AS$2,'Datos mensuales'!$AM51:$AS51),LOOKUP('Tipos de Cambio'!$J$6,'Datos mensuales'!$AM$2:$AS$2,'Datos mensuales'!$AM51:$AS51))","v":"n.d."},"n.d.","n.d.","n.d.","n.d.","n.d.","n.d.","n.d.","n.d.","n.d.","n.d.","n.d.",100,2.8840948061329641,3.0432966826237084,3.8318898360325093,3683.95,754.4,461.79]
[null,"diciembre",null,"n.d.","n.d.","n.d.",2.7484143763213571,3.1919034643830391,"n.d.",8.0091845063569362,null,null,null,null,null,null,null,null,null,14.52,"n.d.","","n.d.","n.d.","n.d.","n.d.","n.d.",337.57,"n.d.","n.d.","n.d.",null,null,null,null,null,null,null,"n.d.",1.33,"n.d.","n.d.",0.58489793531028833,109.7,3.1076999999999999,{"$f":"IF(AND('Tipos de Cambio'!$J$6<>1,'Tipos de Cambio'!$J$6<>2,'Tipos de Cambio'!$J$6<>3,'Tipos de Cambio'!$J$6<>4,'Tipos de Cambio'!$J$6<>5,'Tipos de Cambio'!$J$6<>6,'Tipos de Cambio'!$J$6<>7),LOOKUP(1,'Datos mensuales'!$AM$2:$AS$2,'Datos mensuales'!$AM52:$AS52),LOOKUP('Tipos de Cambio'!$J$6,'Datos mensuales'!$AM$2:$AS$2,'Datos mensuales'!$AM52:$AS52))","v":"n.d."},"n.d.","n.d.","n.d.","n.d.","n.d.","n.d.","n.d.","n.d.","n.d.","n.d.","n.d.",100,3.3466436114562903,3.1810649609833153,3.9294140426821667,3754.09,776.82,466.45]
[1994,"enero",null,"n.d.","n.d.","n.d.",2.5245441795231378,2.9419354838709695,"n.d.",7.4981216029580011,null,null,null,null,null,null,null,null,null,15.03,"n.d.","","n.d.","n.d.","n.d.","n.d.","n.d.",334.68,"n.d.","n.d.","n.d.",null,null,null,null,null,null,null,"n.d.",1.32,"n.d.","n.d.",0.57369055131661983,111.51,3.1074999999999999,{"$f":"IF(AND('Tipos de Cambio'!$J$6<>1,'Tipos de Cambio'!$J$6<>2,'Tipos de Cambio'!$J$6<>3,'Tipos de Cambio'!$J$6<>4,'Tipos de Cambio'!$J$6<>5,'Tipos de Cambio'!$J$6<>6,'Tipos de Cambio'!$J$6<>7),LOOKUP(1,'Datos mensuales'!$AM$2:$AS$2,'Datos mensuales'!$AM53:$AS53),LOOKUP('Tipos de Cambio'!$J$6,'Datos mensuales'!$AM$2:$AS$2,'Datos mensuales'!$AM53:$AS53))","v":"n.d."},"n.d.","n.d.","n.d.","n.d.","n.d.","n.d.","n.d.","n.d.","n.d.","n.d.","n.d.",100,3.2753483752832047,3.1854658948021752,4.0246330491548798,3978.36,800.47,481.61]
[null,"febrero",null,"n.d.","n.d.","n.d.",2.5157232704402475,2.9260780287474346,"n.d.",7.1753724215314705,null,null,null,null,null,null,null,null,null,14.78,"n.d.","","n.d.","n.d.","n.d.","n.d.","n.d.",319.8,"n.d.","n.d.","n.d.",null,null,null,null,null,null,null,"n.d.",1.34,"n.d.","n.d.",0.57563895924476161,106.21,3.1114999999999999,{"$f":"IF(AND('Tipos de Cambio'!$J$6<>1,'Tipos de Cambio'!$J$6<>2,'Tipos de Cambio'!$J$6<>3,'Tipos de Cambio'!$J$6<>4,'Tipos de Cambio'!$J$6<>5,'Tipos de Cambio'!$J$6<>6,'Tipos de Cambio'!$J$6<>7),LOOKUP(1,'Datos mensuales'!$AM$2:$AS$2,'Datos mensuales'!$AM54:$AS54),LOOKUP('Tipos de Cambio'!$J$6,'Datos mensuales'!$AM$2:$AS$2,'Datos mensuales'!$AM54:$AS54))","v":"n.d."},"n.d.","n.d.","n.d.","n.d.","n.d.","n.d.","n.d.","n.d.","n.d.","n.d.","n.d.",100,2.9273436219654281,3.2942147278501199,4.1172892282796081,3832.02,792.5,467.14]
[null,"marzo",null,"n.d.","n.d.","n.d.",2.506963788300832,2.8143789177433836,"n.d.",7.1022791098855409,null,null,null,null,null,null,null,null,null,14.68,"n.d.","","n.d.","n.d.","n.d.","n.d.","n.d.",326.41000000000003,"n.d.","n.d.","n.d.",null,null,null,null,null,null,null,"n.d.",1.36,"n.d.","n.d.",0.59091177687171303,105.14,3.2841,{"$f":"IF(AND('Tipos de Cambio'!$J$6<>1,'Tipos de Cambio'!$J$6<>2,'Tipos de Cambio'!$J$6<>3,'Tipos de Cambio'!$J$6<>4,'Tipos de Cambio'!$J$6<>5,'Tipos de Cambio'!$J$6<>6,'Tipos de Cambio'!$J$6<>7),LOOKUP(1,'Datos mensuales'!$AM$2:$AS$2,'Datos mensuales'!$AM55:$AS55),LOOKUP('Tipos de Cambio'!$J$6,'Datos mensuales'!$AM$2:$AS$2,'Datos mensuales'!$AM55:$AS55))","v":"n.d."},"n.d.","n.d.","n.d.","n.d.","n.d.","n.d.","n.d.","n.d.","n.d.","n.d.","n.d.",100,4.0295436968290632,3.756173102167093,4.2070710991528371,3635.96,743.46,445.77]
[null,"abril ",null,"n.d.","n.d.","n.d.",2.3611111111111152,2.7061526678580425,"n.d.",7.0097259270714458,null,null,null,null,null,null,null,null,null,16.420000000000002,"n.d.","","n.d.","n.d.","n.d.","n.d.","n.d.",358.64,"n.d.","n.d.","n.d.",null,null,null,null,null,null,null,"n.d.",1.38,"n.d.","n.d.",0.58885879166175958,103.53,3.3536000000000001,{"$f":"IF(AND('Tipos de Cambio'!$J$6<>1,'Tipos de Cambio'!$J$6<>2,'Tipos de Cambio'!$J$6<>3,'Tipos de Cambio'!$J$6<>4,'Tipos de Cambio'!$J$6<>5,'Tipos de Cambio'!$J$6<>6,'Tipos de Cambio'!$J$6<>7),LOOKUP(1,'Datos mensuales'!$AM$2:$AS$2,'Datos mensuales'!$AM56:$AS56),LOOKUP('Tipos de Cambio'!$J$6,'Datos mensuales'!$AM$2:$AS$2,'Datos mensuales'!$AM56:$AS56))","v":"n.d."},"n.d.","n.d.","n.d.","n.d.","n.d.","n.d.","n.d.","n.d.","n.d.","n.d.","n.d.",100,4.2702551820602785,4.4380514438949525,4.2936155414440957,3681.69,733.84,450.91]
[null,"mayo",null,"n.d.","n.d.","n.d.",2.2884882108183158,2.8021908037192569,"n.d.",6.9155979737532682,null,null,null,null,null,null,null,null,null,17.89,"n.d.","","n.d.","n.d.","n.d.","n.d.","n.d.",403.27,"n.d.","n.d.","n.d.",null,null,null,null,null,null,null,"n.d.",1.38,"n.d.","n.d.",0.60320907226444687,103.73,3.3119999999999998,{"$f":"IF(AND('Tipos de Cambio'!$J$6<>1,'Tipos de Cambio'!$J$6<>2,'Tipos de Cambio'!$J$6<>3,'Tipos de Cambio'!$J$6<>4,'Tipos de Cambio'!$J$6<>5,'Tipos de Cambio'!$J$6<>6,'Tipos de Cambio'!$J$6<>7),LOOKUP(1,'Datos mensuales'!$AM$2:$AS$2,'Datos mensuales'!$AM57:$AS57),LOOKUP('Tipos de Cambio'!$J$6,'Datos mensuales'!$AM$2:$AS$2,'Datos mensuales'!$AM57:$AS57))","v":"n.d."},"n.d.","n.d.","n.d.","n.d.","n.d.","n.d.","n.d.","n.d.","n.d.","n.d.","n.d.",100,5.2427836655217996,5.1418853262858555,4.3765341165411753,3758.37,735.19,456.5]
[null,"junio",null,"n.d.","n.d.","n.d.",2.4930747922437635,2.6944585663446747,"n.d.",6.8512725635712242,null,null,null,null,null,null,null,null,null,19.059999999999999,"n.d.","","n.d.","n.d.","n.d.","n.d.","n.d.",419.79,"n.d.","n.d.","n.d.",null,null,null,null,null,null,null,"n.d.",1.38,"n.d.","n.d.",0.61383586029095816,102.72,3.3607,{"$f":"IF(AND('Tipos de Cambio'!$J$6<>1,'Tipos de Cambio'!$J$6<>2,'Tipos de Cambio'!$J$6<>3,'Tipos de Cambio'!$J$6<>4,'Tipos de Cambio'!$J$6<>5,'Tipos de Cambio'!$J$6<>6,'Tipos de Cambio'!$J$6<>7),LOOKUP(1,'Datos mensuales'!$AM$2:$AS$2,'Datos mensuales'!$AM58:$AS58),LOOKUP('Tipos de Cambio'!$J$6,'Datos mensuales'!$AM$2:$AS$2,'Datos mensuales'!$AM58:$AS58))","v":"n.d."},"n.d.","n.d.","n.d.","n.d.","n.d.","n.d.","n.d.","n.d.","n.d.","n.d.","n.d.",100,5.764518292136489,5.6114296625759286,4.4554557609839618,3624.96,705.93,444.27]
[null,"julio",null,"n.d.","n.d.","n.d.",2.7700831024930745,2.5718991511465688,"n.d.",6.8118581476599562,null,null,null,null,null,null,null,null,null,19.66,"n.d.","","n.d.","n.d.","n.d.","n.d.","n.d.",419.79,"n.d.","n.d.","n.d.",null,null,null,null,null,null,null,"n.d.",1.38,"n.d.","n.d.",0.63657775797313643,98.5,3.4009,{"$f":"IF(AND('Tipos de Cambio'!$J$6<>1,'Tipos de Cambio'!$J$6<>2,'Tipos de Cambio'!$J$6<>3,'Tipos de Cambio'!$J$6<>4,'Tipos de Cambio'!$J$6<>5,'Tipos de Cambio'!$J$6<>6,'Tipos de Cambio'!$J$6<>7),LOOKUP(1,'Datos mensuales'!$AM$2:$AS$2,'Datos mensuales'!$AM59:$AS59),LOOKUP('Tipos de Cambio'!$J$6,'Datos mensuales'!$AM$2:$AS$2,'Datos mensuales'!$AM59:$AS59))","v":"n.d."},"n.d.","n.d.","n.d.","n.d.","n.d.","n.d.","n.d.","n.d.","n.d.","n.d.","n.d.",100,5.6365238611713719,5.8744536956252924,4.5300692426381239,3764.5,722.16,458.26]
[null,"agosto",null,"n.d.","n.d.","n.d.",2.9005524861878373,2.6702100733991387,"n.d.",6.7384032720601059,null,null,null,null,null,null,null,null,null,18.38,"n.d.","","n.d.","n.d.","n.d.","n.d.","n.d.",472.52,"n.d.","n.d.","n.d.",null,null,null,null,null,null,null,"n.d.",1.38,"n.d.","n.d.",0.63914099450338746,99.81,3.3820999999999999,{"$f":"IF(AND('Tipos de Cambio'!$J$6<>1,'Tipos de Cambio'!$J$6<>2,'Tipos de Cambio'!$J$6<>3,'Tipos de Cambio'!$J$6<>4,'Tipos de Cambio'!$J$6<>5,'Tipos de Cambio'!$J$6<>6,'Tipos de Cambio'!$J$6<>7),LOOKUP(1,'Datos mensuales'!$AM$2:$AS$2,'Datos mensuales'!$AM60:$AS60),LOOKUP('Tipos de Cambio'!$J$6,'Datos mensuales'!$AM$2:$AS$2,'Datos mensuales'!$AM60:$AS60))","v":"n.d."},"n.d.","n.d.","n.d.","n.d.","n.d.","n.d.","n.d.","n.d.","n.d.","n.d.","n.d.",100,6.2951583886885709,6.1120469334722483,4.6001487699149246,3913.42,765.62,475.49]
[null,"septiembre",null,"n.d.","n.d.","n.d.",2.9634734665747837,2.6801517067003853,"n.d.",6.7072271945274933,null,null,null,null,null,null,null,null,null,17.45,"n.d.","","n.d.","n.d.","n.d.","n.d.","n.d.",507.39,"n.d.","n.d.","n.d.",null,null,null,null,null,null,null,"n.d.",1.35,"n.d.","n.d.",0.64478689793023403,98.31,3.3997999999999999,{"$f":"IF(AND('Tipos de Cambio'!$J$6<>1,'Tipos de Cambio'!$J$6<>2,'Tipos de Cambio'!$J$6<>3,'Tipos de Cambio'!$J$6<>4,'Tipos de Cambio'!$J$6<>5,'Tipos de Cambio'!$J$6<>6,'Tipos de Cambio'!$J$6<>7),LOOKUP(1,'Datos mensuales'!$AM$2:$AS$2,'Datos mensuales'!$AM61:$AS61),LOOKUP('Tipos de Cambio'!$J$6,'Datos mensuales'!$AM$2:$AS$2,'Datos mensuales'!$AM61:$AS61))","v":"n.d."},"n.d.","n.d.","n.d.","n.d.","n.d.","n.d.","n.d.","n.d.","n.d.","n.d.","n.d.",100,6.1696496382843247,6.2330677834481651,4.6655663975256001,3843.18,764.42,462.69]
[null,"octubre",null,"n.d.","n.d.","n.d.",2.6080988332189512,2.5608679197678832,"n.d.",6.830487801971298,null,null,null,null,null,null,null,null,null,17.72,"n.d.","","n.d.","n.d.","n.d.","n.d.","n.d.",510.69,"n.d.","n.d.","n.d.",null,null,null,null,null,null,null,"n.d.",1.35,"n.d.","n.d.",0.6585879873551107,98.42,3.4157999999999999,{"$f":"IF(AND('Tipos de Cambio'!$J$6<>1,'Tipos de Cambio'!$J$6<>2,'Tipos de Cambio'!$J$6<>3,'Tipos de Cambio'!$J$6<>4,'Tipos de Cambio'!$J$6<>5,'Tipos de Cambio'!$J$6<>6,'Tipos de Cambio'!$J$6<>7),LOOKUP(1,'Datos mensuales'!$AM$2:$AS$2,'Datos mensuales'!$AM62:$AS62),LOOKUP('Tipos de Cambio'!$J$6,'Datos mensuales'!$AM$2:$AS$2,'Datos mensuales'!$AM62:$AS62))","v":"n.d."},"n.d.","n.d.","n.d.","n.d.","n.d.","n.d.","n.d.","n.d.","n.d.","n.d.","n.d.",100,6.2506851984943879,6.3223542329938764,4.726302054086684,3908.12,777.49,472.35]
[null,"noviembre",null,"n.d.","n.d.","n.d.",2.6748971193415483,2.454682779456197,"n.d.",6.9299573951394553,null,null,null,null,null,null,null,null,null,18.07,"n.d.","","n.d.","n.d.","n.d.","n.d.","n.d.",584.24,"n.d.","n.d.","n.d.",null,null,null,null,null,null,null,"n.d.",1.36,"n.d.","n.d.",0.64989926561382982,97.96,3.4426000000000001,{"$f":"IF(AND('Tipos de Cambio'!$J$6<>1,'Tipos de Cambio'!$J$6<>2,'Tipos de Cambio'!$J$6<>3,'Tipos de Cambio'!$J$6<>4,'Tipos de Cambio'!$J$6<>5,'Tipos de Cambio'!$J$6<>6,'Tipos de Cambio'!$J$6<>7),LOOKUP(1,'Datos mensuales'!$AM$2:$AS$2,'Datos mensuales'!$AM63:$AS63),LOOKUP('Tipos de Cambio'!$J$6,'Datos mensuales'!$AM$2:$AS$2,'Datos mensuales'!$AM63:$AS63))","v":"n.d."},"n.d.","n.d.","n.d.","n.d.","n.d.","n.d.","n.d.","n.d.","n.d.","n.d.","n.d.",100,6.4749914317864032,6.557407881889743,4.7824454709628039,3739.22,750.32,453.69]
[null,"diciembre",null,"n.d.","n.d.","n.d.",2.6748971193415483,2.5524959134917657,"n.d.",7.0515466296105975,null,null,null,null,null,null,null,null,null,17.16,"n.d.","","n.d.","n.d.","n.d.","n.d.","n.d.",590.02,"n.d.","n.d.","n.d.",null,null,null,null,null,null,null,"n.d.",1.39,"n.d.","n.d.",1.2408150003475398,100.12,3.9308000000000001,{"$f":"IF(AND('Tipos de Cambio'!$J$6<>1,'Tipos de Cambio'!$J$6<>2,'Tipos de Cambio'!$J$6<>3,'Tipos de Cambio'!$J$6<>4,'Tipos de Cambio'!$J$6<>5,'Tipos de Cambio'!$J$6<>6,'Tipos de Cambio'!$J$6<>7),LOOKUP(1,'Datos mensuales'!$AM$2:$AS$2,'Datos mensuales'!$AM64:$AS64),LOOKUP('Tipos de Cambio'!$J$6,'Datos mensuales'!$AM$2:$AS$2,'Datos mensuales'!$AM64:$AS64))","v":"n.d."},"n.d.","n.d.","n.d.","n.d.","n.d.","n.d.","n.d.","n.d.","n.d.","n.d.","n.d.",100,7.0157493026041573,6.8329390816240787,4.8341976642081397,3834.44,751.96,459.27]
[1995,"enero",null,"n.d.","n.d.","n.d.",2.8043775649794962,2.444221609425925,"n.d.",10.226362844870573,null,null,null,null,null,null,null,null,null,18.04,"n.d.","","n.d.","n.d.","n.d.","n.d.","n.d.",541.27,"n.d.","n.d.","n.d.",null,null,null,null,null,null,null,"n.d.",1.41,"n.d.","n.d.",1.2408150003475398,99.75,5.5133000000000001,{"$f":"IF(AND('Tipos de Cambio'!$J$6<>1,'Tipos de Cambio'!$J$6<>2,'Tipos de Cambio'!$J$6<>3,'Tipos de Cambio'!$J$6<>4,'Tipos de Cambio'!$J$6<>5,'Tipos de Cambio'!$J$6<>6,'Tipos de Cambio'!$J$6<>7),LOOKUP(1,'Datos mensuales'!$AM$2:$AS$2,'Datos mensuales'!$AM65:$AS65),LOOKUP('Tipos de Cambio'!$J$6,'Datos mensuales'!$AM$2:$AS$2,'Datos mensuales'!$AM65:$AS65))","v":"n.d."},6.7950100000000004,"n.d.","n.d.","n.d.","n.d.","n.d.","n.d.","n.d.","n.d.","n.d.","n.d.",100,6.7985220734846141,6.872558616797253,4.8818817804711756,3843.86,755.2,470.42]
[null,"febrero",null,"n.d.","n.d.","n.d.",2.8629856850715862,2.4314214463840433,"n.d.",14.310123614559334,null,null,null,null,null,null,null,null,null,18.57,"n.d.","","n.d.","n.d.","n.d.","n.d.","n.d.",546.23,"n.d.","n.d.","n.d.",null,null,null,null,null,null,null,"n.d.",1.4,"n.d.","n.d.",1.2586939992706347,98.24,5.6851000000000003,{"$f":"IF(AND('Tipos de Cambio'!$J$6<>1,'Tipos de Cambio'!$J$6<>2,'Tipos de Cambio'!$J$6<>3,'Tipos de Cambio'!$J$6<>4,'Tipos de Cambio'!$J$6<>5,'Tipos de Cambio'!$J$6<>6,'Tipos de Cambio'!$J$6<>7),LOOKUP(1,'Datos mensuales'!$AM$2:$AS$2,'Datos mensuales'!$AM66:$AS66),LOOKUP('Tipos de Cambio'!$J$6,'Datos mensuales'!$AM$2:$AS$2,'Datos mensuales'!$AM66:$AS66))","v":"n.d."},6.5444100000000001,"n.d.","n.d.","n.d.","n.d.","n.d.","n.d.","n.d.","n.d.","n.d.","n.d.",100,6.6646939008489836,6.4979294873455551,4.9259552378856597,4011.05,793.74,487.39]
[null,"marzo",null,"n.d.","n.d.","n.d.",2.8532608695652293,2.5258180913276109,"n.d.",20.429590760713108,null,null,null,null,null,null,null,null,null,18.54,"n.d.","","n.d.","n.d.","n.d.","n.d.","n.d.",567.71,"n.d.","n.d.","n.d.",null,null,null,null,null,null,null,"n.d.",1.41,"n.d.","n.d.",1.3170630008209439,90.79,6.7019000000000002,{"$f":"IF(AND('Tipos de Cambio'!$J$6<>1,'Tipos de Cambio'!$J$6<>2,'Tipos de Cambio'!$J$6<>3,'Tipos de Cambio'!$J$6<>4,'Tipos de Cambio'!$J$6<>5,'Tipos de Cambio'!$J$6<>6,'Tipos de Cambio'!$J$6<>7),LOOKUP(1,'Datos mensuales'!$AM$2:$AS$2,'Datos mensuales'!$AM67:$AS67),LOOKUP('Tipos de Cambio'!$J$6,'Datos mensuales'!$AM$2:$AS$2,'Datos mensuales'!$AM67:$AS67))","v":"n.d."},6.4639899999999999,"n.d.","n.d.","n.d.","n.d.","n.d.","n.d.","n.d.","n.d.","n.d.","n.d.",100,5.7369626987395783,5.8281977886519121,4.9670077529245571,4157.6899999999996,817.21,500.71]
[null,"abril ",null,"n.d.","n.d.","n.d.",3.0529172320217097,2.6224210787969175,"n.d.",29.392135045501711,null,null,null,null,null,null,null,null,null,19.899999999999999,"n.d.","","n.d.","n.d.","n.d.","n.d.","n.d.",511.39,"n.d.","n.d.","n.d.",null,null,null,null,null,null,null,"n.d.",1.38,"n.d.","n.d.",1.3414320000961859,83.67,6.2995999999999999,{"$f":"IF(AND('Tipos de Cambio'!$J$6<>1,'Tipos de Cambio'!$J$6<>2,'Tipos de Cambio'!$J$6<>3,'Tipos de Cambio'!$J$6<>4,'Tipos de Cambio'!$J$6<>5,'Tipos de Cambio'!$J$6<>6,'Tipos de Cambio'!$J$6<>7),LOOKUP(1,'Datos mensuales'!$AM$2:$AS$2,'Datos mensuales'!$AM68:$AS68),LOOKUP('Tipos de Cambio'!$J$6,'Datos mensuales'!$AM$2:$AS$2,'Datos mensuales'!$AM68:$AS68))","v":"n.d."},6.3958300000000001,"n.d.","n.d.","n.d.","n.d.","n.d.","n.d.","n.d.","n.d.","n.d.","n.d.",100,5.1463552073642838,5.2194492058861064,5.0057292764210226,4321.2700000000004,843.98,514.71]
[null,"mayo",null,"n.d.","n.d.","n.d.",3.1864406779660936,2.4160574897782219,"n.d.",34.152026888469685,null,null,null,null,null,null,null,null,null,19.739999999999998,"n.d.","","n.d.","n.d.","n.d.","n.d.","n.d.",491.14,"n.d.","n.d.","n.d.",null,null,null,null,null,null,null,"n.d.",1.36,"n.d.","n.d.",1.3216429992257102,85,5.9626999999999999,{"$f":"IF(AND('Tipos de Cambio'!$J$6<>1,'Tipos de Cambio'!$J$6<>2,'Tipos de Cambio'!$J$6<>3,'Tipos de Cambio'!$J$6<>4,'Tipos de Cambio'!$J$6<>5,'Tipos de Cambio'!$J$6<>6,'Tipos de Cambio'!$J$6<>7),LOOKUP(1,'Datos mensuales'!$AM$2:$AS$2,'Datos mensuales'!$AM69:$AS69),LOOKUP('Tipos de Cambio'!$J$6,'Datos mensuales'!$AM$2:$AS$2,'Datos mensuales'!$AM69:$AS69))","v":"n.d."},6.1754100000000003,"n.d.","n.d.","n.d.","n.d.","n.d.","n.d.","n.d.","n.d.","n.d.","n.d.",100,4.8673340775155394,4.8163259053486174,5.042860610056521,4465.1400000000003,864.58,533.4]
[null,"junio",null,"n.d.","n.d.","n.d.",3.0405405405405408,2.6113861386138608,"n.d.",37.720544423415546,null,null,null,null,null,null,null,null,null,18.45,"n.d.",{"$f":"IF(OR(T70=\"\",U70=\"n.d.\"),\"\",U70-T70)","v":""},"n.d.","n.d.","n.d.","n.d.","n.d.",521.99,"n.d.","n.d.","n.d.",null,null,null,null,null,null,null,"n.d.",1.38,"n.d.","n.d.",1.3314410006205182,84.53,6.2232000000000003,{"$f":"IF(AND('Tipos de Cambio'!$J$6<>1,'Tipos de Cambio'!$J$6<>2,'Tipos de Cambio'!$J$6<>3,'Tipos de Cambio'!$J$6<>4,'Tipos de Cambio'!$J$6<>5,'Tipos de Cambio'!$J$6<>6,'Tipos de Cambio'!$J$6<>7),LOOKUP(1,'Datos mensuales'!$AM$2:$AS$2,'Datos mensuales'!$AM70:$AS70),LOOKUP('Tipos de Cambio'!$J$6,'Datos mensuales'!$AM$2:$AS$2,'Datos mensuales'!$AM70:$AS70))","v":"n.d."},5.9023399999999997,"n.d.","n.d.","n.d.","n.d.","n.d.","n.d.","n.d.","n.d.","n.d.","n.d.",100,4.578489964603305,4.4951364784870496,5.079147128636774,4556.09,933.45,544.75]
[null,"julio",null,"n.d.","n.d.","n.d.",2.762803234501344,2.4085968379446676,"n.d.",39.90763733323773,null,null,null,null,null,null,null,null,null,17.329999999999998,"n.d.","","n.d.","n.d.","n.d.","n.d.","n.d.",563.41,"n.d.","n.d.","n.d.",null,null,null,null,null,null,null,"n.d.",1.36,"n.d.","n.d.",1.3448149998050758,87.22,6.1394000000000002,{"$f":"IF(AND('Tipos de Cambio'!$J$6<>1,'Tipos de Cambio'!$J$6<>2,'Tipos de Cambio'!$J$6<>3,'Tipos de Cambio'!$J$6<>4,'Tipos de Cambio'!$J$6<>5,'Tipos de Cambio'!$J$6<>6,'Tipos de Cambio'!$J$6<>7),LOOKUP(1,'Datos mensuales'!$AM$2:$AS$2,'Datos mensuales'!$AM71:$AS71),LOOKUP('Tipos de Cambio'!$J$6,'Datos mensuales'!$AM$2:$AS$2,'Datos mensuales'!$AM71:$AS71))","v":"n.d."},5.8573300000000001,"n.d.","n.d.","n.d.","n.d.","n.d.","n.d.","n.d.","n.d.","n.d.","n.d.",100,3.9774003389365653,4.3868283741824055,5.1153081580966875,4708.47,1001.21,562.05999999999995]
[null,"agosto",null,"n.d.","n.d.","n.d.",2.6174496644295342,2.2926167878713168,"n.d.",41.568457466749734,null,null,null,null,null,null,null,null,null,18.02,"n.d.","","n.d.","n.d.","n.d.","n.d.","n.d.",540.41,"n.d.","n.d.","n.d.",null,null,null,null,null,null,null,"n.d.",1.35,"n.d.","n.d.",1.3044110004131122,94.55,6.1909000000000001,{"$f":"IF(AND('Tipos de Cambio'!$J$6<>1,'Tipos de Cambio'!$J$6<>2,'Tipos de Cambio'!$J$6<>3,'Tipos de Cambio'!$J$6<>4,'Tipos de Cambio'!$J$6<>5,'Tipos de Cambio'!$J$6<>6,'Tipos de Cambio'!$J$6<>7),LOOKUP(1,'Datos mensuales'!$AM$2:$AS$2,'Datos mensuales'!$AM72:$AS72),LOOKUP('Tipos de Cambio'!$J$6,'Datos mensuales'!$AM$2:$AS$2,'Datos mensuales'!$AM72:$AS72))","v":"n.d."},5.9321700000000002,"n.d.","n.d.","n.d.","n.d.","n.d.","n.d.","n.d.","n.d.","n.d.","n.d.",100,4.776476559950682,4.547421492155479,5.1520115116610254,4610.5600000000004,1020.11,561.88]
[null,"septiembre",null,"n.d.","n.d.","n.d.",2.5435073627844598,2.3885742427973375,"n.d.",43.476427010655115,null,null,null,null,null,null,null,null,null,18.23,"n.d.","","n.d.","n.d.","n.d.","n.d.","n.d.",524.82000000000005,"n.d.","n.d.","n.d.",null,null,null,null,null,null,null,"n.d.",1.35,"n.d.","n.d.",1.2888020004928997,100.49,6.3025000000000002,{"$f":"IF(AND('Tipos de Cambio'!$J$6<>1,'Tipos de Cambio'!$J$6<>2,'Tipos de Cambio'!$J$6<>3,'Tipos de Cambio'!$J$6<>4,'Tipos de Cambio'!$J$6<>5,'Tipos de Cambio'!$J$6<>6,'Tipos de Cambio'!$J$6<>7),LOOKUP(1,'Datos mensuales'!$AM$2:$AS$2,'Datos mensuales'!$AM73:$AS73),LOOKUP('Tipos de Cambio'!$J$6,'Datos mensuales'!$AM$2:$AS$2,'Datos mensuales'!$AM73:$AS73))","v":"n.d."},5.8679300000000003,"n.d.","n.d.","n.d.","n.d.","n.d.","n.d.","n.d.","n.d.","n.d.","n.d.",100,4.7954668292950808,4.499932089245573,5.1898641781490173,4789.08,1043.54,584.41]
[null,"octubre",null,"n.d.","n.d.","n.d.",2.8093645484949756,2.3985239852398559,"n.d.",45.663870772191132,null,null,null,null,null,null,null,null,null,17.43,"n.d.","","n.d.","n.d.","n.d.","n.d.","n.d.",553.62,"n.d.","n.d.","n.d.",null,null,null,null,null,null,null,"n.d.",1.35,"n.d.","n.d.",1.3221719997979351,100.65,6.6910999999999996,{"$f":"IF(AND('Tipos de Cambio'!$J$6<>1,'Tipos de Cambio'!$J$6<>2,'Tipos de Cambio'!$J$6<>3,'Tipos de Cambio'!$J$6<>4,'Tipos de Cambio'!$J$6<>5,'Tipos de Cambio'!$J$6<>6,'Tipos de Cambio'!$J$6<>7),LOOKUP(1,'Datos mensuales'!$AM$2:$AS$2,'Datos mensuales'!$AM74:$AS74),LOOKUP('Tipos de Cambio'!$J$6,'Datos mensuales'!$AM$2:$AS$2,'Datos mensuales'!$AM74:$AS74))","v":"n.d."},5.8963099999999997,"n.d.","n.d.","n.d.","n.d.","n.d.","n.d.","n.d.","n.d.","n.d.","n.d.",100,3.7685853295022165,3.9886090800195229,5.2294222351168651,4755.4799999999996,1036.06,581.5]
[null,"noviembre",null,"n.d.","n.d.","n.d.",2.6052104208416873,2.3835852070278878,"n.d.",48.462033012449815,null,null,null,null,null,null,null,null,null,17.989999999999998,"n.d.","","n.d.","n.d.","n.d.","n.d.","n.d.",549.54999999999995,"n.d.","n.d.","n.d.",null,null,null,null,null,null,null,"n.d.",1.35,"n.d.","n.d.",1.3238049997374564,101.92,7.6584000000000003,{"$f":"IF(AND('Tipos de Cambio'!$J$6<>1,'Tipos de Cambio'!$J$6<>2,'Tipos de Cambio'!$J$6<>3,'Tipos de Cambio'!$J$6<>4,'Tipos de Cambio'!$J$6<>5,'Tipos de Cambio'!$J$6<>6,'Tipos de Cambio'!$J$6<>7),LOOKUP(1,'Datos mensuales'!$AM$2:$AS$2,'Datos mensuales'!$AM75:$AS75),LOOKUP('Tipos de Cambio'!$J$6,'Datos mensuales'!$AM$2:$AS$2,'Datos mensuales'!$AM75:$AS75))","v":"n.d."},5.7342000000000004,"n.d.","n.d.","n.d.","n.d.","n.d.","n.d.","n.d.","n.d.","n.d.","n.d.",100,3.3880682684076957,3.2638961925027576,5.2711851040244451,5074.49,1059.22,605.37]
[null,"diciembre",null,"n.d.","n.d.","n.d.",2.5384101536406223,2.3786169691024983,"n.d.",51.966102306944592,null,null,null,null,null,null,null,null,null,19.03,"n.d.","","n.d.","n.d.","n.d.","n.d.","n.d.",539.94000000000005,"n.d.","n.d.","n.d.",null,null,null,null,null,null,null,"n.d.",1.37,"n.d.","n.d.",1.3043039992042285,101.81,7.6646999999999998,{"$f":"IF(AND('Tipos de Cambio'!$J$6<>1,'Tipos de Cambio'!$J$6<>2,'Tipos de Cambio'!$J$6<>3,'Tipos de Cambio'!$J$6<>4,'Tipos de Cambio'!$J$6<>5,'Tipos de Cambio'!$J$6<>6,'Tipos de Cambio'!$J$6<>7),LOOKUP(1,'Datos mensuales'!$AM$2:$AS$2,'Datos mensuales'!$AM76:$AS76),LOOKUP('Tipos de Cambio'!$J$6,'Datos mensuales'!$AM$2:$AS$2,'Datos mensuales'!$AM76:$AS76))","v":"n.d."},5.6140999999999996,"n.d.","n.d.","n.d.","n.d.","n.d.","n.d.","n.d.","n.d.","n.d.","n.d.",100,2.7275226447678991,2.6208288431510463,5.3155574187127241,5117.12,1052.1400000000001,615.92999999999995]
[1996,"enero",null,"n.d.",6.5082810785867746,"n.d.",2.7278775781769755,2.3736693992414017,-0.49554013875123881,51.718589454864436,null,null,null,null,null,null,null,null,null,18.86,"n.d.","","n.d.","n.d.","n.d.","n.d.","n.d.",482.3,"n.d.","n.d.","n.d.",null,null,null,null,null,null,null,"n.d.",1.37,"n.d.","n.d.",1.2918379999648335,105.84,7.5048000000000004,{"$f":"IF(AND('Tipos de Cambio'!$J$6<>1,'Tipos de Cambio'!$J$6<>2,'Tipos de Cambio'!$J$6<>3,'Tipos de Cambio'!$J$6<>4,'Tipos de Cambio'!$J$6<>5,'Tipos de Cambio'!$J$6<>6,'Tipos de Cambio'!$J$6<>7),LOOKUP(1,'Datos mensuales'!$AM$2:$AS$2,'Datos mensuales'!$AM77:$AS77),LOOKUP('Tipos de Cambio'!$J$6,'Datos mensuales'!$AM$2:$AS$2,'Datos mensuales'!$AM77:$AS77))","v":"n.d."},5.4247199999999998,"n.d.","n.d.","n.d.","n.d.","n.d.","n.d.","n.d.","n.d.","n.d.","n.d.",100,1.8408127489367265,2.4930959852015766,5.3627962350998981,5395.3,1059.79,636.02]
[null,"febrero",null,"n.d.",6.9815819848065415,"n.d.",2.650762094102054,2.3615337796713298,-0.39761431411529968,48.946895775002211,null,null,null,null,null,null,null,null,null,19.09,"n.d.","","n.d.","n.d.","n.d.","n.d.","n.d.",483.42,"n.d.","n.d.","n.d.",null,null,null,null,null,null,null,"n.d.",1.38,"n.d.","n.d.",1.2886030006298652,105.73,7.5042,{"$f":"IF(AND('Tipos de Cambio'!$J$6<>1,'Tipos de Cambio'!$J$6<>2,'Tipos de Cambio'!$J$6<>3,'Tipos de Cambio'!$J$6<>4,'Tipos de Cambio'!$J$6<>5,'Tipos de Cambio'!$J$6<>6,'Tipos de Cambio'!$J$6<>7),LOOKUP(1,'Datos mensuales'!$AM$2:$AS$2,'Datos mensuales'!$AM78:$AS78),LOOKUP('Tipos de Cambio'!$J$6,'Datos mensuales'!$AM$2:$AS$2,'Datos mensuales'!$AM78:$AS78))","v":"n.d."},5.1804300000000003,"n.d.","n.d.","n.d.","n.d.","n.d.","n.d.","n.d.","n.d.","n.d.","n.d.",100,3.5292162664184445,2.9244564040155518,5.4129656167029028,5485.62,1100.05,640.42999999999995]
[null,"marzo",null,"n.d.",7.0551268243036285,"n.d.",2.84015852047555,2.3665048543689182,-9.9502487562183384E-2,43.751479655806676,null,null,null,null,null,null,null,null,null,21.33,"n.d.","","n.d.","n.d.","n.d.","n.d.","n.d.",462.98,"n.d.","n.d.","n.d.",null,null,null,null,null,null,null,"n.d.",1.37,"n.d.","n.d.",1.2813370007402194,105.82,7.5735999999999999,{"$f":"IF(AND('Tipos de Cambio'!$J$6<>1,'Tipos de Cambio'!$J$6<>2,'Tipos de Cambio'!$J$6<>3,'Tipos de Cambio'!$J$6<>4,'Tipos de Cambio'!$J$6<>5,'Tipos de Cambio'!$J$6<>6,'Tipos de Cambio'!$J$6<>7),LOOKUP(1,'Datos mensuales'!$AM$2:$AS$2,'Datos mensuales'!$AM79:$AS79),LOOKUP('Tipos de Cambio'!$J$6,'Datos mensuales'!$AM$2:$AS$2,'Datos mensuales'!$AM79:$AS79))","v":"n.d."},5.40848,"n.d.","n.d.","n.d.","n.d.","n.d.","n.d.","n.d.","n.d.","n.d.","n.d.",100,3.2353913110731325,3.4926445376034287,5.4659268749876144,5587.14,1101.3800000000001,645.5]
[null,"abril ",null,"n.d.",7.0707004973958822,"n.d.",2.8966425279789374,2.3616325541964427,0.19841269841270123,36.927137152246367,null,null,null,null,null,null,null,null,null,23.5,"n.d.","","n.d.","n.d.","n.d.","n.d.","n.d.",494.92,"n.d.","n.d.","n.d.",null,null,null,null,null,null,null,"n.d.",1.36,"n.d.","n.d.",1.2639049993592886,107.46,7.4713000000000003,{"$f":"IF(AND('Tipos de Cambio'!$J$6<>1,'Tipos de Cambio'!$J$6<>2,'Tipos de Cambio'!$J$6<>3,'Tipos de Cambio'!$J$6<>4,'Tipos de Cambio'!$J$6<>5,'Tipos de Cambio'!$J$6<>6,'Tipos de Cambio'!$J$6<>7),LOOKUP(1,'Datos mensuales'!$AM$2:$AS$2,'Datos mensuales'!$AM80:$AS80),LOOKUP('Tipos de Cambio'!$J$6,'Datos mensuales'!$AM$2:$AS$2,'Datos mensuales'!$AM80:$AS80))","v":"n.d."},5.5598299999999998,"n.d.","n.d.","n.d.","n.d.","n.d.","n.d.","n.d.","n.d.","n.d.","n.d.",100,4.1619017477230402,4.0999762484242419,5.5213692480603038,5569.07,1190.58,654.16999999999996]
[null,"mayo",null,"n.d.",6.5195008842009123,"n.d.",2.8909329829172181,2.4558432131623533,0.19801980198020083,33.829465749212723,null,null,null,null,null,null,null,null,null,21.17,"n.d.","","n.d.","n.d.","n.d.","n.d.","n.d.",503.07,"n.d.","n.d.","n.d.",null,null,null,null,null,null,null,"n.d.",1.37,"n.d.","n.d.",1.2466800007736396,106.45,7.4344999999999999,{"$f":"IF(AND('Tipos de Cambio'!$J$6<>1,'Tipos de Cambio'!$J$6<>2,'Tipos de Cambio'!$J$6<>3,'Tipos de Cambio'!$J$6<>4,'Tipos de Cambio'!$J$6<>5,'Tipos de Cambio'!$J$6<>6,'Tipos de Cambio'!$J$6<>7),LOOKUP(1,'Datos mensuales'!$AM$2:$AS$2,'Datos mensuales'!$AM81:$AS81),LOOKUP('Tipos de Cambio'!$J$6,'Datos mensuales'!$AM$2:$AS$2,'Datos mensuales'!$AM81:$AS81))","v":"n.d."},5.5998900000000003,"n.d.","n.d.","n.d.","n.d.","n.d.","n.d.","n.d.","n.d.","n.d.","n.d.",100,4.5966823554490777,4.6361293036305318,5.5788487081449123,5643.17,1243.44,669.12]
[null,"junio",null,"n.d.",6.3744798356435792,"n.d.",2.7540983606557301,2.146906283922327,0,31.824904743509393,null,null,null,null,null,null,null,null,null,20.420000000000002,"n.d.","","n.d.","n.d.","n.d.","n.d.","n.d.",446.58,"n.d.","n.d.","n.d.",null,null,null,null,null,null,null,"n.d.",1.37,"n.d.","n.d.",1.2529220004772605,108.86,7.5426000000000002,{"$f":"IF(AND('Tipos de Cambio'!$J$6<>1,'Tipos de Cambio'!$J$6<>2,'Tipos de Cambio'!$J$6<>3,'Tipos de Cambio'!$J$6<>4,'Tipos de Cambio'!$J$6<>5,'Tipos de Cambio'!$J$6<>6,'Tipos de Cambio'!$J$6<>7),LOOKUP(1,'Datos mensuales'!$AM$2:$AS$2,'Datos mensuales'!$AM82:$AS82),LOOKUP('Tipos de Cambio'!$J$6,'Datos mensuales'!$AM$2:$AS$2,'Datos mensuales'!$AM82:$AS82))","v":"n.d."},5.7562499999999996,"n.d.","n.d.","n.d.","n.d.","n.d.","n.d.","n.d.","n.d.","n.d.","n.d.",100,5.0551218939804743,4.9828317858339188,5.6378284239227083,5654.62,1185.02,670.63]
[null,"julio",null,"n.d.",6.2686704303120173,"n.d.",2.9508196721311477,2.146906283922327,0.39840637450198352,31.027711724886025,null,null,null,null,null,null,null,null,null,21.3,"n.d.","","n.d.","n.d.","n.d.","n.d.","n.d.",418.14,"n.d.","n.d.","n.d.",null,null,null,null,null,null,null,"n.d.",1.37,"n.d.","n.d.",1.2706379993978523,109.32,7.6193999999999997,{"$f":"IF(AND('Tipos de Cambio'!$J$6<>1,'Tipos de Cambio'!$J$6<>2,'Tipos de Cambio'!$J$6<>3,'Tipos de Cambio'!$J$6<>4,'Tipos de Cambio'!$J$6<>5,'Tipos de Cambio'!$J$6<>6,'Tipos de Cambio'!$J$6<>7),LOOKUP(1,'Datos mensuales'!$AM$2:$AS$2,'Datos mensuales'!$AM83:$AS83),LOOKUP('Tipos de Cambio'!$J$6,'Datos mensuales'!$AM$2:$AS$2,'Datos mensuales'!$AM83:$AS83))","v":"n.d."},5.8490200000000003,"n.d.","n.d.","n.d.","n.d.","n.d.","n.d.","n.d.","n.d.","n.d.","n.d.",100,5.2783801297713984,5.033085354353739,5.6977138365826852,5528.91,1080.5999999999999,639.95000000000005]
[null,"agosto",null,"n.d.",5.4187890424581049,"n.d.",2.8776978417266221,2.0484395710326582,0.19900497512438092,30.602927531255197,null,null,null,null,null,null,null,null,null,21.9,"n.d.","","n.d.","n.d.","n.d.","n.d.","n.d.",449.59,"n.d.","n.d.","n.d.",null,null,null,null,null,null,null,"n.d.",1.37,"n.d.","n.d.",1.2832489992143166,107.75,7.5114999999999998,{"$f":"IF(AND('Tipos de Cambio'!$J$6<>1,'Tipos de Cambio'!$J$6<>2,'Tipos de Cambio'!$J$6<>3,'Tipos de Cambio'!$J$6<>4,'Tipos de Cambio'!$J$6<>5,'Tipos de Cambio'!$J$6<>6,'Tipos de Cambio'!$J$6<>7),LOOKUP(1,'Datos mensuales'!$AM$2:$AS$2,'Datos mensuales'!$AM84:$AS84),LOOKUP('Tipos de Cambio'!$J$6,'Datos mensuales'!$AM$2:$AS$2,'Datos mensuales'!$AM84:$AS84))","v":"n.d."},5.7049899999999996,"n.d.","n.d.","n.d.","n.d.","n.d.","n.d.","n.d.","n.d.","n.d.","n.d.",100,4.536860172189483,4.8175296040114945,5.7578744318453445,5616.2,1141.5,651.99]
[null,"septiembre",null,"n.d.",5.5661986836075936,"n.d.",3.002610966057456,2.0442520442520475,0,30.001995628889684,null,null,null,null,null,null,null,null,null,23.97,"n.d.","","n.d.","n.d.","n.d.","n.d.","n.d.",468.69,"n.d.","n.d.","n.d.",null,null,null,null,null,null,null,"n.d.",1.37,"n.d.","n.d.",1.2690680005214348,109.75,7.5439999999999996,{"$f":"IF(AND('Tipos de Cambio'!$J$6<>1,'Tipos de Cambio'!$J$6<>2,'Tipos de Cambio'!$J$6<>3,'Tipos de Cambio'!$J$6<>4,'Tipos de Cambio'!$J$6<>5,'Tipos de Cambio'!$J$6<>6,'Tipos de Cambio'!$J$6<>7),LOOKUP(1,'Datos mensuales'!$AM$2:$AS$2,'Datos mensuales'!$AM85:$AS85),LOOKUP('Tipos de Cambio'!$J$6,'Datos mensuales'!$AM$2:$AS$2,'Datos mensuales'!$AM85:$AS85))","v":"n.d."},5.8320299999999996,"n.d.","n.d.","n.d.","n.d.","n.d.","n.d.","n.d.","n.d.","n.d.","n.d.",100,4.8173547781214632,4.7608612541787831,5.8176434475188721,5882.16,1226.9100000000001,687.31]
[null,"octubre",null,"n.d.",5.727882575540395,"n.d.",2.992843201041004,2.0300300300300274,0.49603174603174599,28.970985859375801,null,null,null,null,null,null,null,null,null,24.88,"n.d.","","n.d.","n.d.","n.d.","n.d.","n.d.",448.41,"n.d.","n.d.","n.d.",null,null,null,null,null,null,null,"n.d.",1.35,"n.d.","n.d.",1.2584110004782856,112.36,7.7263000000000002,{"$f":"IF(AND('Tipos de Cambio'!$J$6<>1,'Tipos de Cambio'!$J$6<>2,'Tipos de Cambio'!$J$6<>3,'Tipos de Cambio'!$J$6<>4,'Tipos de Cambio'!$J$6<>5,'Tipos de Cambio'!$J$6<>6,'Tipos de Cambio'!$J$6<>7),LOOKUP(1,'Datos mensuales'!$AM$2:$AS$2,'Datos mensuales'!$AM86:$AS86),LOOKUP('Tipos de Cambio'!$J$6,'Datos mensuales'!$AM$2:$AS$2,'Datos mensuales'!$AM86:$AS86))","v":"n.d."},5.63706,"n.d.","n.d.","n.d.","n.d.","n.d.","n.d.","n.d.","n.d.","n.d.","n.d.",100,4.8909530833098458,5.0098024402090324,5.8763002344316861,6029.38,1221.51,705.27]
[null,"noviembre",null,"n.d.",5.9110327764124744,"n.d.",3.2552083333333335,1.9320772830913231,0.49751243781094528,27.774341278100106,null,null,null,null,null,null,null,null,null,23.71,"n.d.","","n.d.","n.d.","n.d.","n.d.","n.d.",466.77,"n.d.","n.d.","n.d.",null,null,null,null,null,null,null,"n.d.",1.34,"n.d.","n.d.",1.2769000006094644,112.26,7.9059999999999997,{"$f":"IF(AND('Tipos de Cambio'!$J$6<>1,'Tipos de Cambio'!$J$6<>2,'Tipos de Cambio'!$J$6<>3,'Tipos de Cambio'!$J$6<>4,'Tipos de Cambio'!$J$6<>5,'Tipos de Cambio'!$J$6<>6,'Tipos de Cambio'!$J$6<>7),LOOKUP(1,'Datos mensuales'!$AM$2:$AS$2,'Datos mensuales'!$AM87:$AS87),LOOKUP('Tipos de Cambio'!$J$6,'Datos mensuales'!$AM$2:$AS$2,'Datos mensuales'!$AM87:$AS87))","v":"n.d."},5.5487399999999996,"n.d.","n.d.","n.d.","n.d.","n.d.","n.d.","n.d.","n.d.","n.d.","n.d.",100,5.5328633873307442,5.4407457905098822,5.9330630788536176,6521.7,1292.6099999999999,757.02]
[null,"diciembre",null,"n.d.",6.7050392142949446,"n.d.",3.3224755700325694,1.9281437125748497,0.59701492537312872,27.704808349682825,null,null,null,null,null,null,null,null,null,25.23,"n.d.","","n.d.","n.d.","n.d.","n.d.","n.d.",480.96,"n.d.","n.d.","n.d.",null,null,null,null,null,null,null,"n.d.",1.36,"n.d.","n.d.",1.25025199923015,113.76,7.8727,{"$f":"IF(AND('Tipos de Cambio'!$J$6<>1,'Tipos de Cambio'!$J$6<>2,'Tipos de Cambio'!$J$6<>3,'Tipos de Cambio'!$J$6<>4,'Tipos de Cambio'!$J$6<>5,'Tipos de Cambio'!$J$6<>6,'Tipos de Cambio'!$J$6<>7),LOOKUP(1,'Datos mensuales'!$AM$2:$AS$2,'Datos mensuales'!$AM88:$AS88),LOOKUP('Tipos de Cambio'!$J$6,'Datos mensuales'!$AM$2:$AS$2,'Datos mensuales'!$AM88:$AS88))","v":"n.d."},5.59551,"n.d.","n.d.","n.d.","n.d.","n.d.","n.d.","n.d.","n.d.","n.d.","n.d.",100,5.7899850687277876,5.9609296278628321,5.9871044125940243,6448.26,1291.03,740.74]
[1997,"enero",null,"n.d.",6.3044035218176431,"n.d.",3.0440414507771947,2.0198398470180443,0.5976095617529823,26.443194946196325,null,null,null,null,null,null,null,null,null,25.13,"n.d.","","n.d.","n.d.","n.d.","n.d.","n.d.",522.66999999999996,"n.d.","n.d.","n.d.",null,null,null,null,null,null,null,"n.d.",1.35,"n.d.","n.d.",1.2162059999214647,118.02,7.827,{"$f":"IF(AND('Tipos de Cambio'!$J$6<>1,'Tipos de Cambio'!$J$6<>2,'Tipos de Cambio'!$J$6<>3,'Tipos de Cambio'!$J$6<>4,'Tipos de Cambio'!$J$6<>5,'Tipos de Cambio'!$J$6<>6,'Tipos de Cambio'!$J$6<>7),LOOKUP(1,'Datos mensuales'!$AM$2:$AS$2,'Datos mensuales'!$AM89:$AS89),LOOKUP('Tipos de Cambio'!$J$6,'Datos mensuales'!$AM$2:$AS$2,'Datos mensuales'!$AM89:$AS89))","v":"n.d."},5.6795099999999996,"n.d.","n.d.","n.d.","n.d.","n.d.","n.d.","n.d.","n.d.","n.d.","n.d.",100,6.6602934004920789,6.3895546714062501,6.0375783963243279,6813.08,1379.85,786.16]
[null,"febrero",null,"n.d.",6.2383621298165446,"n.d.",3.0342156229825621,1.819479129504104,0.59880239520957512,25.635707840408863,null,null,null,null,null,null,null,null,null,22.18,"n.d.","","n.d.","n.d.","n.d.","n.d.","n.d.",532.26,"n.d.","n.d.","n.d.",null,null,null,null,null,null,null,"n.d.",1.36,"n.d.","n.d.",1.1657609997693168,123.01,7.8003,{"$f":"IF(AND('Tipos de Cambio'!$J$6<>1,'Tipos de Cambio'!$J$6<>2,'Tipos de Cambio'!$J$6<>3,'Tipos de Cambio'!$J$6<>4,'Tipos de Cambio'!$J$6<>5,'Tipos de Cambio'!$J$6<>6,'Tipos de Cambio'!$J$6<>7),LOOKUP(1,'Datos mensuales'!$AM$2:$AS$2,'Datos mensuales'!$AM90:$AS90),LOOKUP('Tipos de Cambio'!$J$6,'Datos mensuales'!$AM$2:$AS$2,'Datos mensuales'!$AM90:$AS90))","v":"n.d."},5.6011699999999998,"n.d.","n.d.","n.d.","n.d.","n.d.","n.d.","n.d.","n.d.","n.d.","n.d.",100,6.2923546102763739,6.6565330776458875,6.0836537239398858,6877.73,1309,790.82]
[null,"marzo",null,"n.d.",5.9218305648624137,"n.d.",2.7617212588310931,1.6004742145821087,0.49800796812749004,24.459449926299889,null,null,null,null,null,null,null,null,null,20.97,"n.d.","","n.d.","n.d.","n.d.","n.d.","n.d.",508.01,"n.d.","n.d.","n.d.",null,null,null,null,null,null,null,"n.d.",1.37,"n.d.","n.d.",1.1497559994716458,122.64,7.9646999999999997,{"$f":"IF(AND('Tipos de Cambio'!$J$6<>1,'Tipos de Cambio'!$J$6<>2,'Tipos de Cambio'!$J$6<>3,'Tipos de Cambio'!$J$6<>4,'Tipos de Cambio'!$J$6<>5,'Tipos de Cambio'!$J$6<>6,'Tipos de Cambio'!$J$6<>7),LOOKUP(1,'Datos mensuales'!$AM$2:$AS$2,'Datos mensuales'!$AM91:$AS91),LOOKUP('Tipos de Cambio'!$J$6,'Datos mensuales'!$AM$2:$AS$2,'Datos mensuales'!$AM91:$AS91))","v":"n.d."},5.7841300000000002,"n.d.","n.d.","n.d.","n.d.","n.d.","n.d.","n.d.","n.d.","n.d.","n.d.",100,7.1868832094019952,6.7285504692161657,6.1245396437445754,6583.47,1221.7,757.12]
[null,"abril ",null,"n.d.",5.5658766159437825,"n.d.",2.4952015355086226,1.3014671083767257,1.9801980198019802,22.326632168914461,null,null,null,null,null,null,null,null,null,19.7,"n.d.","","n.d.","n.d.","n.d.","n.d.","n.d.",509.47,"n.d.","n.d.","n.d.",null,null,null,null,null,null,null,"n.d.",1.39,"n.d.","n.d.",1.1450150001774086,125.51,7.9036999999999997,{"$f":"IF(AND('Tipos de Cambio'!$J$6<>1,'Tipos de Cambio'!$J$6<>2,'Tipos de Cambio'!$J$6<>3,'Tipos de Cambio'!$J$6<>4,'Tipos de Cambio'!$J$6<>5,'Tipos de Cambio'!$J$6<>6,'Tipos de Cambio'!$J$6<>7),LOOKUP(1,'Datos mensuales'!$AM$2:$AS$2,'Datos mensuales'!$AM92:$AS92),LOOKUP('Tipos de Cambio'!$J$6,'Datos mensuales'!$AM$2:$AS$2,'Datos mensuales'!$AM92:$AS92))","v":"n.d."},6.00746,"n.d.","n.d.","n.d.","n.d.","n.d.","n.d.","n.d.","n.d.","n.d.","n.d.",100,6.3427650831248128,6.4765829362062322,6.1595011351524676,7008.99,1260.76,801.34]
[null,"mayo",null,"n.d.",5.7441583245455092,"n.d.",2.234993614303959,1.3933168024560243,1.9762845849802373,21.233261425639256,null,null,null,null,null,null,null,null,null,20.82,"n.d.","","n.d.","n.d.","n.d.","n.d.","n.d.",508.57,"n.d.","n.d.","n.d.",null,null,null,null,null,null,null,"n.d.",1.38,"n.d.","n.d.",1.1493409997075135,118.99,7.9057000000000004,{"$f":"IF(AND('Tipos de Cambio'!$J$6<>1,'Tipos de Cambio'!$J$6<>2,'Tipos de Cambio'!$J$6<>3,'Tipos de Cambio'!$J$6<>4,'Tipos de Cambio'!$J$6<>5,'Tipos de Cambio'!$J$6<>6,'Tipos de Cambio'!$J$6<>7),LOOKUP(1,'Datos mensuales'!$AM$2:$AS$2,'Datos mensuales'!$AM93:$AS93),LOOKUP('Tipos de Cambio'!$J$6,'Datos mensuales'!$AM$2:$AS$2,'Datos mensuales'!$AM93:$AS93))","v":"n.d."},5.9957000000000003,"n.d.","n.d.","n.d.","n.d.","n.d.","n.d.","n.d.","n.d.","n.d.","n.d.",100,6.2499664794881449,6.1736817264026245,6.1878605919278851,7331.04,1400.32,848.28]
[null,"junio",null,"n.d.",5.5240814561979423,"n.d.",2.2973835354180108,1.3933168024560243,2.2794846382556959,20.349193904604839,null,null,null,null,null,null,null,null,null,19.260000000000002,"n.d.","","n.d.","n.d.","n.d.","n.d.","n.d.",471.65,"n.d.","n.d.","n.d.",null,null,null,null,null,null,null,"n.d.",1.38,"n.d.","n.d.",1.1366270005894024,117.2,7.9465000000000003,{"$f":"IF(AND('Tipos de Cambio'!$J$6<>1,'Tipos de Cambio'!$J$6<>2,'Tipos de Cambio'!$J$6<>3,'Tipos de Cambio'!$J$6<>4,'Tipos de Cambio'!$J$6<>5,'Tipos de Cambio'!$J$6<>6,'Tipos de Cambio'!$J$6<>7),LOOKUP(1,'Datos mensuales'!$AM$2:$AS$2,'Datos mensuales'!$AM94:$AS94),LOOKUP('Tipos de Cambio'!$J$6,'Datos mensuales'!$AM$2:$AS$2,'Datos mensuales'!$AM94:$AS94))","v":"n.d."},5.9107099999999999,"n.d.","n.d.","n.d.","n.d.","n.d.","n.d.","n.d.","n.d.","n.d.","n.d.",100,5.8883912900103086,6.2632149018456484,6.2089780800987704,7672.79,1442.07,885.14]
[null,"julio",null,"n.d.",6.3665931060830712,"n.d.",2.2292993630573248,1.4995867280670636,1.984126984126984,19.69613573980488,null,null,null,null,null,null,null,null,null,19.66,"n.d.","","n.d.","n.d.","n.d.","n.d.","n.d.",445.03,"n.d.","n.d.","n.d.",null,null,null,null,null,null,null,"n.d.",1.38,"n.d.","n.d.",1.1049129997415288,115.16,7.8856999999999999,{"$f":"IF(AND('Tipos de Cambio'!$J$6<>1,'Tipos de Cambio'!$J$6<>2,'Tipos de Cambio'!$J$6<>3,'Tipos de Cambio'!$J$6<>4,'Tipos de Cambio'!$J$6<>5,'Tipos de Cambio'!$J$6<>6,'Tipos de Cambio'!$J$6<>7),LOOKUP(1,'Datos mensuales'!$AM$2:$AS$2,'Datos mensuales'!$AM95:$AS95),LOOKUP('Tipos de Cambio'!$J$6,'Datos mensuales'!$AM$2:$AS$2,'Datos mensuales'!$AM95:$AS95))","v":"n.d."},5.8432399999999998,"n.d.","n.d.","n.d.","n.d.","n.d.","n.d.","n.d.","n.d.","n.d.","n.d.",100,7.0039356336050407,6.7495607540034808,6.2222284958139529,8222.61,1593.81,954.29]
[null,"agosto",null,"n.d.",6.2620671384474598,"n.d.",2.2250476795931338,1.7003188097768307,2.1847070506454842,19.176409838149297,null,null,null,null,null,null,null,null,null,19.95,"n.d.","","n.d.","n.d.","n.d.","n.d.","n.d.",444.55,"n.d.","n.d.","n.d.",null,null,null,null,null,null,null,"n.d.",1.39,"n.d.","n.d.",1.0727329998147079,117.9,7.7843,{"$f":"IF(AND('Tipos de Cambio'!$J$6<>1,'Tipos de Cambio'!$J$6<>2,'Tipos de Cambio'!$J$6<>3,'Tipos de Cambio'!$J$6<>4,'Tipos de Cambio'!$J$6<>5,'Tipos de Cambio'!$J$6<>6,'Tipos de Cambio'!$J$6<>7),LOOKUP(1,'Datos mensuales'!$AM$2:$AS$2,'Datos mensuales'!$AM96:$AS96),LOOKUP('Tipos de Cambio'!$J$6,'Datos mensuales'!$AM$2:$AS$2,'Datos mensuales'!$AM96:$AS96))","v":"n.d."},5.8350600000000004,"n.d.","n.d.","n.d.","n.d.","n.d.","n.d.","n.d.","n.d.","n.d.","n.d.",100,7.3815239454634751,7.3283211331285791,6.2270060914677794,7622.42,1587.32,899.47]
[null,"septiembre",null,"n.d.",5.5505338962006538,"n.d.",2.154626108998718,1.5908555267499342,2.4727992087042532,18.761877046669952,null,null,null,null,null,null,null,null,null,19.8,"n.d.","","n.d.","n.d.","n.d.","n.d.","n.d.",460.63,"n.d.","n.d.","n.d.",null,null,null,null,null,null,null,"n.d.",1.39,"n.d.","n.d.",1.0999150005486047,120.75,7.7792000000000003,{"$f":"IF(AND('Tipos de Cambio'!$J$6<>1,'Tipos de Cambio'!$J$6<>2,'Tipos de Cambio'!$J$6<>3,'Tipos de Cambio'!$J$6<>4,'Tipos de Cambio'!$J$6<>5,'Tipos de Cambio'!$J$6<>6,'Tipos de Cambio'!$J$6<>7),LOOKUP(1,'Datos mensuales'!$AM$2:$AS$2,'Datos mensuales'!$AM97:$AS97),LOOKUP('Tipos de Cambio'!$J$6,'Datos mensuales'!$AM$2:$AS$2,'Datos mensuales'!$AM97:$AS97))","v":"n.d."},5.8359399999999999,"n.d.","n.d.","n.d.","n.d.","n.d.","n.d.","n.d.","n.d.","n.d.","n.d.",100,7.6432542804592218,7.9123386183331146,6.2227563664942531,7945.25,1685.69,947.28]
[null,"octubre",null,"n.d.",5.6014592782488632,"n.d.",2.0846493998736464,1.4951730633388227,2.5666337611056353,18.235192642469098,null,null,null,null,null,null,null,null,null,21.33,"n.d.","","n.d.","n.d.","n.d.","n.d.","n.d.",490.54,"n.d.","n.d.","n.d.",null,null,null,null,null,null,null,"n.d.",1.39,"n.d.","n.d.",1.1203180002029725,121.06,7.8113999999999999,{"$f":"IF(AND('Tipos de Cambio'!$J$6<>1,'Tipos de Cambio'!$J$6<>2,'Tipos de Cambio'!$J$6<>3,'Tipos de Cambio'!$J$6<>4,'Tipos de Cambio'!$J$6<>5,'Tipos de Cambio'!$J$6<>6,'Tipos de Cambio'!$J$6<>7),LOOKUP(1,'Datos mensuales'!$AM$2:$AS$2,'Datos mensuales'!$AM98:$AS98),LOOKUP('Tipos de Cambio'!$J$6,'Datos mensuales'!$AM$2:$AS$2,'Datos mensuales'!$AM98:$AS98))","v":"n.d."},5.8367899999999997,"n.d.","n.d.","n.d.","n.d.","n.d.","n.d.","n.d.","n.d.","n.d.","n.d.",100,8.6889258426847924,8.4363389508719919,6.2090135488013454,7442.08,1593.61,914.62]
[null,"noviembre",null,"n.d.",5.3982100930319277,"n.d.",1.8284993694829796,1.5893571933129367,2.178217821782181,17.773508919854322,null,null,null,null,null,null,null,null,null,20.190000000000001,"n.d.","","n.d.","n.d.","n.d.","n.d.","n.d.",493.09,"n.d.","n.d.","n.d.",null,null,null,null,null,null,null,"n.d.",1.41,"n.d.","n.d.",1.1393679995891348,125.27,8.2837999999999994,{"$f":"IF(AND('Tipos de Cambio'!$J$6<>1,'Tipos de Cambio'!$J$6<>2,'Tipos de Cambio'!$J$6<>3,'Tipos de Cambio'!$J$6<>4,'Tipos de Cambio'!$J$6<>5,'Tipos de Cambio'!$J$6<>6,'Tipos de Cambio'!$J$6<>7),LOOKUP(1,'Datos mensuales'!$AM$2:$AS$2,'Datos mensuales'!$AM99:$AS99),LOOKUP('Tipos de Cambio'!$J$6,'Datos mensuales'!$AM$2:$AS$2,'Datos mensuales'!$AM99:$AS99))","v":"n.d."},5.88164,"n.d.","n.d.","n.d.","n.d.","n.d.","n.d.","n.d.","n.d.","n.d.","n.d.",100,8.7136550305327845,8.6659566556247736,6.1854399784200043,7823.12,1600.55,955.4]
[null,"diciembre",null,"n.d.",5.1917698370787591,"n.d.",1.7023959646910576,1.4921865820702573,1.8793273986152381,15.718506096949939,null,null,null,null,null,null,null,null,null,18.329999999999998,"n.d.","","n.d.","n.d.","n.d.","n.d.","n.d.",498.67,"n.d.","n.d.","n.d.",null,null,null,null,null,null,null,"n.d.",1.43,"n.d.","n.d.",1.1115809998664647,129.38,8.0832999999999995,{"$f":"IF(AND('Tipos de Cambio'!$J$6<>1,'Tipos de Cambio'!$J$6<>2,'Tipos de Cambio'!$J$6<>3,'Tipos de Cambio'!$J$6<>4,'Tipos de Cambio'!$J$6<>5,'Tipos de Cambio'!$J$6<>6,'Tipos de Cambio'!$J$6<>7),LOOKUP(1,'Datos mensuales'!$AM$2:$AS$2,'Datos mensuales'!$AM100:$AS100),LOOKUP('Tipos de Cambio'!$J$6,'Datos mensuales'!$AM$2:$AS$2,'Datos mensuales'!$AM100:$AS100))","v":"n.d."},5.9185299999999996,"n.d.","n.d.","n.d.","n.d.","n.d.","n.d.","n.d.","n.d.","n.d.","n.d.",100,8.3813964107713126,8.6259134661037749,6.1518593883091777,7908.24,1570.35,970.43]
[1998,"enero",null,"n.d.",5.3834548162081575,"n.d.",1.5713387806411061,1.0895032802249376,1.8811881188118866,15.271892225329006,null,null,null,null,null,null,null,null,null,16.72,"n.d.","","n.d.","n.d.","n.d.","n.d.","n.d.",548.63,"n.d.","n.d.","n.d.",null,null,null,null,null,null,null,"n.d.",1.44,"n.d.","n.d.",1.0877239996940669,129.44999999999999,8.1798000000000002,{"$f":"IF(AND('Tipos de Cambio'!$J$6<>1,'Tipos de Cambio'!$J$6<>2,'Tipos de Cambio'!$J$6<>3,'Tipos de Cambio'!$J$6<>4,'Tipos de Cambio'!$J$6<>5,'Tipos de Cambio'!$J$6<>6,'Tipos de Cambio'!$J$6<>7),LOOKUP(1,'Datos mensuales'!$AM$2:$AS$2,'Datos mensuales'!$AM101:$AS101),LOOKUP('Tipos de Cambio'!$J$6,'Datos mensuales'!$AM$2:$AS$2,'Datos mensuales'!$AM101:$AS101))","v":"n.d."},5.6599700000000004,"n.d.","n.d.","n.d.","n.d.","n.d.","n.d.","n.d.",128.30000000000001,159.30000000000001,107.7,100,8.762311091769126,8.3090691720771446,6.1082705296302997,7906.5,1619.36,980.28]
[null,"febrero",null,"n.d.",4.6965479111904314,"n.d.",1.4411027568922379,1.0861948142957167,1.984126984126984,15.351563432505463,null,null,null,null,null,null,null,null,null,16.059999999999999,"n.d.","","n.d.","n.d.","n.d.","n.d.","n.d.",595.77,"n.d.","n.d.","n.d.",null,null,null,null,null,null,null,"n.d.",1.43,"n.d.","n.d.",1.0884459997520237,126,8.4931999999999999,{"$f":"IF(AND('Tipos de Cambio'!$J$6<>1,'Tipos de Cambio'!$J$6<>2,'Tipos de Cambio'!$J$6<>3,'Tipos de Cambio'!$J$6<>4,'Tipos de Cambio'!$J$6<>5,'Tipos de Cambio'!$J$6<>6,'Tipos de Cambio'!$J$6<>7),LOOKUP(1,'Datos mensuales'!$AM$2:$AS$2,'Datos mensuales'!$AM102:$AS102),LOOKUP('Tipos de Cambio'!$J$6,'Datos mensuales'!$AM$2:$AS$2,'Datos mensuales'!$AM102:$AS102))","v":"n.d."},5.6412100000000001,"n.d.","n.d.","n.d.","n.d.","n.d.","n.d.","n.d.",137.4,171.8,114.5,100,7.5504753519549661,7.7092224165614676,6.0548420244951329,8545.7099999999991,1770.51,1049.3399999999999]
[null,"marzo",null,"n.d.",4.7791020787544829,"n.d.",1.3749999999999929,1.0851808634772375,2.2794846382556959,15.268247037829081,null,null,null,null,null,null,null,null,null,15.12,"n.d.","","n.d.","n.d.","n.d.","n.d.","n.d.",599.87,"n.d.","n.d.","n.d.",null,null,null,null,null,null,null,"n.d.",1.42,"n.d.","n.d.",1.0843299998611082,128.69,8.5688999999999993,{"$f":"IF(AND('Tipos de Cambio'!$J$6<>1,'Tipos de Cambio'!$J$6<>2,'Tipos de Cambio'!$J$6<>3,'Tipos de Cambio'!$J$6<>4,'Tipos de Cambio'!$J$6<>5,'Tipos de Cambio'!$J$6<>6,'Tipos de Cambio'!$J$6<>7),LOOKUP(1,'Datos mensuales'!$AM$2:$AS$2,'Datos mensuales'!$AM103:$AS103),LOOKUP('Tipos de Cambio'!$J$6,'Datos mensuales'!$AM$2:$AS$2,'Datos mensuales'!$AM103:$AS103))","v":"n.d."},5.7137799999999999,"n.d.","n.d.","n.d.","n.d.","n.d.","n.d.","n.d.",133.80000000000001,172.7,107.9,100,6.8863458740254568,7.252302280215317,5.9918900964076371,8799.7999999999993,1835.68,1101.75]
[null,"abril ",null,"n.d.",4.7364077763064536,"n.d.",1.435705368289645,1.3781826676010192,0.38834951456311234,15.103187741078141,null,null,null,null,null,null,null,null,null,15.35,"n.d.","","n.d.","n.d.","n.d.","n.d.","n.d.",628.88,"n.d.","n.d.","n.d.",null,null,null,null,null,null,null,"n.d.",1.43,"n.d.","n.d.",1.0910609995304303,131.66999999999999,8.4995999999999992,{"$f":"IF(AND('Tipos de Cambio'!$J$6<>1,'Tipos de Cambio'!$J$6<>2,'Tipos de Cambio'!$J$6<>3,'Tipos de Cambio'!$J$6<>4,'Tipos de Cambio'!$J$6<>5,'Tipos de Cambio'!$J$6<>6,'Tipos de Cambio'!$J$6<>7),LOOKUP(1,'Datos mensuales'!$AM$2:$AS$2,'Datos mensuales'!$AM104:$AS104),LOOKUP('Tipos de Cambio'!$J$6,'Datos mensuales'!$AM$2:$AS$2,'Datos mensuales'!$AM104:$AS104))","v":"n.d."},5.6689499999999997,"n.d.","n.d.","n.d.","n.d.","n.d.","n.d.","n.d.",137.19999999999999,169.3,115.8,100,7.1795926764040452,7.1180969913718917,5.9198378458521494,9063.36,1868.41,1111.75]
[null,"mayo",null,"n.d.",4.5407172975608781,"n.d.",1.686445971267968,1.2810061721206407,0.48449612403100772,14.970764579800889,null,null,null,null,null,null,null,null,null,14.91,"n.d.","","n.d.","n.d.","n.d.","n.d.","n.d.",643.72,"n.d.","n.d.","n.d.",null,null,null,null,null,null,null,"n.d.",1.45,"n.d.","n.d.",1.1090449997093637,135,8.5611999999999995,{"$f":"IF(AND('Tipos de Cambio'!$J$6<>1,'Tipos de Cambio'!$J$6<>2,'Tipos de Cambio'!$J$6<>3,'Tipos de Cambio'!$J$6<>4,'Tipos de Cambio'!$J$6<>5,'Tipos de Cambio'!$J$6<>6,'Tipos de Cambio'!$J$6<>7),LOOKUP(1,'Datos mensuales'!$AM$2:$AS$2,'Datos mensuales'!$AM105:$AS105),LOOKUP('Tipos de Cambio'!$J$6,'Datos mensuales'!$AM$2:$AS$2,'Datos mensuales'!$AM105:$AS105))","v":"n.d."},5.7654199999999998,"n.d.","n.d.","n.d.","n.d.","n.d.","n.d.","n.d.",136.30000000000001,170.9,113.3,100,7.1688803356784403,6.8250459235930316,5.8391855386063396,8899.9500000000007,1778.87,1090.82]
[null,"junio",null,"n.d.",3.9929877380691527,"n.d.",1.6843418590143409,1.3858157680214251,9.6899224806196046E-2,15.306614490228867,null,null,null,null,null,null,null,null,null,13.72,"n.d.","","n.d.","n.d.","n.d.","n.d.","n.d.",583.24,"n.d.","n.d.","n.d.",null,null,null,null,null,null,null,"n.d.",1.47,"n.d.","n.d.",1.1014059999393633,140.57,8.8994,{"$f":"IF(AND('Tipos de Cambio'!$J$6<>1,'Tipos de Cambio'!$J$6<>2,'Tipos de Cambio'!$J$6<>3,'Tipos de Cambio'!$J$6<>4,'Tipos de Cambio'!$J$6<>5,'Tipos de Cambio'!$J$6<>6,'Tipos de Cambio'!$J$6<>7),LOOKUP(1,'Datos mensuales'!$AM$2:$AS$2,'Datos mensuales'!$AM106:$AS106),LOOKUP('Tipos de Cambio'!$J$6,'Datos mensuales'!$AM$2:$AS$2,'Datos mensuales'!$AM106:$AS106))","v":"n.d."},5.7460899999999997,"n.d.","n.d.","n.d.","n.d.","n.d.","n.d.","n.d.",138.19999999999999,171.3,116.2,100,5.9469573297837641,5.9856213570874672,5.750503139865426,8952.01,1894.74,1133.8399999999999]
[null,"julio",null,"n.d.",3.1692770116354989,"n.d.",1.6822429906541985,1.2796649604467294,-9.7276264591434167E-2,15.412982717086225,null,null,null,null,null,null,null,null,null,14.17,"n.d.","","n.d.","n.d.","n.d.","n.d.","n.d.",583.59,"n.d.","n.d.","n.d.",null,null,null,null,null,null,null,"n.d.",1.49,"n.d.","n.d.",1.0975000002496813,140.72999999999999,8.9039999999999999,{"$f":"IF(AND('Tipos de Cambio'!$J$6<>1,'Tipos de Cambio'!$J$6<>2,'Tipos de Cambio'!$J$6<>3,'Tipos de Cambio'!$J$6<>4,'Tipos de Cambio'!$J$6<>5,'Tipos de Cambio'!$J$6<>6,'Tipos de Cambio'!$J$6<>7),LOOKUP(1,'Datos mensuales'!$AM$2:$AS$2,'Datos mensuales'!$AM107:$AS107),LOOKUP('Tipos de Cambio'!$J$6,'Datos mensuales'!$AM$2:$AS$2,'Datos mensuales'!$AM107:$AS107))","v":"n.d."},5.75136,"n.d.","n.d.","n.d.","n.d.","n.d.","n.d.","n.d.",137.19999999999999,172.9,113.4,100,4.6516955779009495,4.8448221579452388,5.6544133142738318,8883.2900000000009,1872.39,1120.67]
[null,"agosto",null,"n.d.",2.8142146169173863,"n.d.",1.6169154228855687,1.0797631487286738,-0.29154518950438418,15.495557302521004,null,null,null,null,null,null,null,null,null,13.47,"n.d.","","n.d.","n.d.","n.d.","n.d.","n.d.",589.9,"n.d.","n.d.","n.d.",null,null,null,null,null,null,null,"n.d.",1.54,"n.d.","n.d.",1.1015660001054817,144.65,9.2596000000000007,{"$f":"IF(AND('Tipos de Cambio'!$J$6<>1,'Tipos de Cambio'!$J$6<>2,'Tipos de Cambio'!$J$6<>3,'Tipos de Cambio'!$J$6<>4,'Tipos de Cambio'!$J$6<>5,'Tipos de Cambio'!$J$6<>6,'Tipos de Cambio'!$J$6<>7),LOOKUP(1,'Datos mensuales'!$AM$2:$AS$2,'Datos mensuales'!$AM108:$AS108),LOOKUP('Tipos de Cambio'!$J$6,'Datos mensuales'!$AM$2:$AS$2,'Datos mensuales'!$AM108:$AS108))","v":"n.d."},5.7140599999999999,"n.d.","n.d.","n.d.","n.d.","n.d.","n.d.","n.d.",133.1,172.6,106.8,100,5.7965313785088624,5.6611783601149712,5.5515389268439241,7539.06,1499.25,957.28]
[null,"septiembre",null,"n.d.",2.5418066495393443,"n.d.",1.4888337468982666,0.98596450527782009,-0.19305019305018209,15.924923891317253,null,null,null,null,null,null,null,null,null,15.03,"n.d.","","n.d.","n.d.","n.d.","n.d.","n.d.",626.84,"n.d.","n.d.","n.d.",null,null,null,null,null,null,null,"n.d.",1.52,"n.d.","n.d.",1.1541249997678766,134.59,10.215400000000001,{"$f":"IF(AND('Tipos de Cambio'!$J$6<>1,'Tipos de Cambio'!$J$6<>2,'Tipos de Cambio'!$J$6<>3,'Tipos de Cambio'!$J$6<>4,'Tipos de Cambio'!$J$6<>5,'Tipos de Cambio'!$J$6<>6,'Tipos de Cambio'!$J$6<>7),LOOKUP(1,'Datos mensuales'!$AM$2:$AS$2,'Datos mensuales'!$AM109:$AS109),LOOKUP('Tipos de Cambio'!$J$6,'Datos mensuales'!$AM$2:$AS$2,'Datos mensuales'!$AM109:$AS109))","v":"n.d."},5.4114599999999999,"n.d.","n.d.","n.d.","n.d.","n.d.","n.d.","n.d.",126.4,170.7,96.8,100,4.5980270772705722,4.8070607812322752,5.4424315963193859,7842.62,1693.84,1017.01]
[null,"octubre",null,"n.d.",8.6833923119301895E-2,"n.d.",1.4851485148514887,0.88156826354251849,0.192492781520682,16.653843421797131,null,null,null,null,null,null,null,null,null,14.46,"n.d.","","n.d.","n.d.","n.d.","n.d.","n.d.",613.46,"n.d.","n.d.","n.d.",null,null,null,null,null,null,null,"n.d.",1.55,"n.d.","n.d.",1.1937550005949318,121.3,10.1523,{"$f":"IF(AND('Tipos de Cambio'!$J$6<>1,'Tipos de Cambio'!$J$6<>2,'Tipos de Cambio'!$J$6<>3,'Tipos de Cambio'!$J$6<>4,'Tipos de Cambio'!$J$6<>5,'Tipos de Cambio'!$J$6<>6,'Tipos de Cambio'!$J$6<>7),LOOKUP(1,'Datos mensuales'!$AM$2:$AS$2,'Datos mensuales'!$AM110:$AS110),LOOKUP('Tipos de Cambio'!$J$6,'Datos mensuales'!$AM$2:$AS$2,'Datos mensuales'!$AM110:$AS110))","v":"n.d."},5.0594599999999996,"n.d.","n.d.","n.d.","n.d.","n.d.","n.d.","n.d.",119.3,165.2,88.7,100,4.4712295578437367,4.1819436010961608,5.3276350150024632,8592.11,1771.39,1098.67]
[null,"noviembre",null,"n.d.",-0.69532473342777856,"n.d.",1.5479876160990713,0.78804032912271704,0.77519379844960956,17.406267221905601,null,null,null,null,null,null,null,null,null,13,"n.d.","","n.d.","n.d.","n.d.","n.d.","n.d.",616.53,"n.d.","n.d.","n.d.",null,null,null,null,null,null,null,"n.d.",1.54,"n.d.","n.d.",1.1644229993747444,120.58,9.9873999999999992,{"$f":"IF(AND('Tipos de Cambio'!$J$6<>1,'Tipos de Cambio'!$J$6<>2,'Tipos de Cambio'!$J$6<>3,'Tipos de Cambio'!$J$6<>4,'Tipos de Cambio'!$J$6<>5,'Tipos de Cambio'!$J$6<>6,'Tipos de Cambio'!$J$6<>7),LOOKUP(1,'Datos mensuales'!$AM$2:$AS$2,'Datos mensuales'!$AM111:$AS111),LOOKUP('Tipos de Cambio'!$J$6,'Datos mensuales'!$AM$2:$AS$2,'Datos mensuales'!$AM111:$AS111))","v":"n.d."},5.1502100000000004,"n.d.","n.d.","n.d.","n.d.","n.d.","n.d.","n.d.",126.4,166.7,99.5,100,3.5117084967351664,3.7282903600943662,5.2076329161707458,9116.5499999999993,1949.54,1163.6300000000001]
[null,"diciembre",null,"n.d.",-1.6454860691475974,"n.d.",1.6119032858028484,0.78721926371846129,0.58252427184465461,18.609144141014742,null,null,null,null,null,null,null,null,null,11.35,"n.d.","","n.d.","n.d.","n.d.","n.d.","n.d.",579.74,"n.d.","n.d.","n.d.",null,null,null,null,null,null,null,"n.d.",1.54,"n.d.","n.d.",1.1721220004450055,117.62,9.9116999999999997,{"$f":"IF(AND('Tipos de Cambio'!$J$6<>1,'Tipos de Cambio'!$J$6<>2,'Tipos de Cambio'!$J$6<>3,'Tipos de Cambio'!$J$6<>4,'Tipos de Cambio'!$J$6<>5,'Tipos de Cambio'!$J$6<>6,'Tipos de Cambio'!$J$6<>7),LOOKUP(1,'Datos mensuales'!$AM$2:$AS$2,'Datos mensuales'!$AM112:$AS112),LOOKUP('Tipos de Cambio'!$J$6,'Datos mensuales'!$AM$2:$AS$2,'Datos mensuales'!$AM112:$AS112))","v":"n.d."},5.0925599999999998,"n.d.","n.d.","n.d.","n.d.","n.d.","n.d.","n.d.",126.7,168.6,98.7,100,3.544587424339074,3.4977064948422232,5.0828147185328687,9181.43,2192.69,1229.23]
[1999,"enero",null,"n.d.",-1.039352217687576,"n.d.",1.6707920792079314,0.78804032912271704,0.19436345966957105,19.015000000001137,null,null,null,null,null,null,null,null,null,12.52,"n.d.","","n.d.","n.d.","n.d.","n.d.","n.d.",560.55999999999995,"n.d.","n.d.","n.d.",null,null,null,null,null,null,null,"n.d.",1.52,"n.d.","n.d.",1.1607799999574691,113.18349999999998,10.1104,{"$f":"IF(AND('Tipos de Cambio'!$J$6<>1,'Tipos de Cambio'!$J$6<>2,'Tipos de Cambio'!$J$6<>3,'Tipos de Cambio'!$J$6<>4,'Tipos de Cambio'!$J$6<>5,'Tipos de Cambio'!$J$6<>6,'Tipos de Cambio'!$J$6<>7),LOOKUP(1,'Datos mensuales'!$AM$2:$AS$2,'Datos mensuales'!$AM113:$AS113),LOOKUP('Tipos de Cambio'!$J$6,'Datos mensuales'!$AM$2:$AS$2,'Datos mensuales'!$AM113:$AS113))","v":"n.d."},5.0120399999999998,"n.d.","n.d.","n.d.","n.d.","n.d.","n.d.","n.d.",128.9,172.9,99.6,100,3.5009330502227431,3.5533283116248038,4.9534542708670859,9358.82,2505.89,1279.6400000000001]
[null,"febrero",null,"n.d.",-1.7250484069705991,"n.d.",1.6059295861642953,0.78567302137493578,-9.7276264591434167E-2,18.53915105719927,null,null,null,null,null,null,null,null,null,12.01,"n.d.","","n.d.","n.d.","n.d.","n.d.","n.d.",484.72,"n.d.","n.d.","n.d.",null,null,null,null,null,null,null,"n.d.",1.5,"n.d.","n.d.",1.1207649997589346,116.66349999999997,10.015000000000001,{"$f":"IF(AND('Tipos de Cambio'!$J$6<>1,'Tipos de Cambio'!$J$6<>2,'Tipos de Cambio'!$J$6<>3,'Tipos de Cambio'!$J$6<>4,'Tipos de Cambio'!$J$6<>5,'Tipos de Cambio'!$J$6<>6,'Tipos de Cambio'!$J$6<>7),LOOKUP(1,'Datos mensuales'!$AM$2:$AS$2,'Datos mensuales'!$AM114:$AS114),LOOKUP('Tipos de Cambio'!$J$6,'Datos mensuales'!$AM$2:$AS$2,'Datos mensuales'!$AM114:$AS114))","v":"n.d."},5.0485499999999996,"n.d.","n.d.","n.d.","n.d.","n.d.","n.d.","n.d.",133.1,177.7,103.4,100,3.8825732786623934,3.7860092983164284,4.8197045676166228,9306.57,2288.0300000000002,1238.33]
[null,"marzo",null,"n.d.",-2.5818017168888985,"n.d.",1.7262638717632623,0.9811843472238353,-0.38759689922481172,18.255208012288076,null,null,null,null,null,null,null,null,null,14.68,"n.d.","","n.d.","n.d.","n.d.","n.d.","n.d.",428.77,"n.d.","n.d.","n.d.",null,null,null,null,null,null,null,"n.d.",1.52,"n.d.","n.d.",1.0882960000047277,119.78,9.7693999999999992,{"$f":"IF(AND('Tipos de Cambio'!$J$6<>1,'Tipos de Cambio'!$J$6<>2,'Tipos de Cambio'!$J$6<>3,'Tipos de Cambio'!$J$6<>4,'Tipos de Cambio'!$J$6<>5,'Tipos de Cambio'!$J$6<>6,'Tipos de Cambio'!$J$6<>7),LOOKUP(1,'Datos mensuales'!$AM$2:$AS$2,'Datos mensuales'!$AM115:$AS115),LOOKUP('Tipos de Cambio'!$J$6,'Datos mensuales'!$AM$2:$AS$2,'Datos mensuales'!$AM115:$AS115))","v":"n.d."},5.0946100000000003,"n.d.","n.d.","n.d.","n.d.","n.d.","n.d.","n.d.",134,176.6,105.5,100,3.9988396065124832,3.9278913008428562,4.681613556039621,9786.16,2461.4,1286.3699999999999]
[null,"abril ",null,"n.d.",-3.7544663307375159,"n.d.",2.2769230769230697,1.0714285714285792,-9.6711798839466651E-2,18.234254714950826,null,null,null,null,null,null,null,null,null,17.309999999999999,"n.d.","","n.d.","n.d.","n.d.","n.d.","n.d.",439.74,"n.d.","n.d.","n.d.",null,null,null,null,null,null,null,"n.d.",1.49,"n.d.","n.d.",1.0704410005295997,119.81,9.4460999999999995,{"$f":"IF(AND('Tipos de Cambio'!$J$6<>1,'Tipos de Cambio'!$J$6<>2,'Tipos de Cambio'!$J$6<>3,'Tipos de Cambio'!$J$6<>4,'Tipos de Cambio'!$J$6<>5,'Tipos de Cambio'!$J$6<>6,'Tipos de Cambio'!$J$6<>7),LOOKUP(1,'Datos mensuales'!$AM$2:$AS$2,'Datos mensuales'!$AM116:$AS116),LOOKUP('Tipos de Cambio'!$J$6,'Datos mensuales'!$AM$2:$AS$2,'Datos mensuales'!$AM116:$AS116))","v":"n.d."},5.0511799999999996,"n.d.","n.d.","n.d.","n.d.","n.d.","n.d.","n.d.",135.5,175.5,108.8,100,3.8386531124855017,3.927994842790139,4.5391518469635628,10789.04,2542.85,1335.18]
[null,"mayo",null,"n.d.",-4.0032560181458949,"n.d.",2.0884520884520743,0.97734851098079145,-0.38572806171649537,18.005528994739439,null,null,null,null,null,null,null,null,null,17.72,"n.d.","","n.d.","n.d.","n.d.","n.d.","n.d.",398.46,"n.d.","n.d.","n.d.",null,null,null,null,null,null,null,"n.d.",1.46,"n.d.","n.d.",1.0628099995571376,122.11,9.3622999999999994,{"$f":"IF(AND('Tipos de Cambio'!$J$6<>1,'Tipos de Cambio'!$J$6<>2,'Tipos de Cambio'!$J$6<>3,'Tipos de Cambio'!$J$6<>4,'Tipos de Cambio'!$J$6<>5,'Tipos de Cambio'!$J$6<>6,'Tipos de Cambio'!$J$6<>7),LOOKUP(1,'Datos mensuales'!$AM$2:$AS$2,'Datos mensuales'!$AM117:$AS117),LOOKUP('Tipos de Cambio'!$J$6,'Datos mensuales'!$AM$2:$AS$2,'Datos mensuales'!$AM117:$AS117))","v":"n.d."},5.1306599999999998,"n.d.","n.d.","n.d.","n.d.","n.d.","n.d.","n.d.",137.69999999999999,177.2,111.3,100,3.9956054463262891,4.0989813400501562,4.3922332252198881,10559.75,2470.52,1301.8399999999999]
[null,"junio",null,"n.d.",-4.0952817224003653,"n.d.",1.9631901840490729,0.87296117620031111,-0.29041626331074266,17.393330381962432,null,null,null,null,null,null,null,null,null,17.920000000000002,"n.d.","","n.d.","n.d.","n.d.","n.d.","n.d.",330.79,"n.d.","n.d.","n.d.",null,null,null,null,null,null,null,"n.d.",1.47,"n.d.","n.d.",1.0377550005314344,120.9,9.5418000000000003,{"$f":"IF(AND('Tipos de Cambio'!$J$6<>1,'Tipos de Cambio'!$J$6<>2,'Tipos de Cambio'!$J$6<>3,'Tipos de Cambio'!$J$6<>4,'Tipos de Cambio'!$J$6<>5,'Tipos de Cambio'!$J$6<>6,'Tipos de Cambio'!$J$6<>7),LOOKUP(1,'Datos mensuales'!$AM$2:$AS$2,'Datos mensuales'!$AM118:$AS118),LOOKUP('Tipos de Cambio'!$J$6,'Datos mensuales'!$AM$2:$AS$2,'Datos mensuales'!$AM118:$AS118))","v":"n.d."},5.3723299999999998,"n.d.","n.d.","n.d.","n.d.","n.d.","n.d.","n.d.",139,175,114.9,100,4.5134633482596831,4.6305775391444648,4.2407263628147174,10970.81,2686.12,1372.71]
[null,"julio",null,"n.d.",-5.4603756298671628,"n.d.",2.1446078431372548,1.0682288077188062,-9.7370983446941117E-2,17.040631168807156,null,null,null,null,null,null,null,null,null,20.100000000000001,"n.d.","","n.d.","n.d.","n.d.","n.d.","n.d.",279.58,"n.d.","n.d.","n.d.",null,null,null,null,null,null,null,"n.d.",1.49,"n.d.","n.d.",1.0352679997598053,119.86,9.3671000000000006,{"$f":"IF(AND('Tipos de Cambio'!$J$6<>1,'Tipos de Cambio'!$J$6<>2,'Tipos de Cambio'!$J$6<>3,'Tipos de Cambio'!$J$6<>4,'Tipos de Cambio'!$J$6<>5,'Tipos de Cambio'!$J$6<>6,'Tipos de Cambio'!$J$6<>7),LOOKUP(1,'Datos mensuales'!$AM$2:$AS$2,'Datos mensuales'!$AM119:$AS119),LOOKUP('Tipos de Cambio'!$J$6,'Datos mensuales'!$AM$2:$AS$2,'Datos mensuales'!$AM119:$AS119))","v":"n.d."},5.6097799999999998,"n.d.","n.d.","n.d.","n.d.","n.d.","n.d.","n.d.",136.19999999999999,179.2,107.6,100,5.5754377114792586,5.2810846811488066,4.0844774704831499,10655.15,2638.49,1328.72]
[null,"agosto",null,"n.d.",-6.1595833601234391,"n.d.",2.2643818849449135,1.1601194578451537,0.29239766081872454,16.578689275903375,null,null,null,null,null,null,null,null,null,21.28,"n.d.","","n.d.","n.d.","n.d.","n.d.","n.d.",308.27,"n.d.","n.d.","n.d.",null,null,null,null,null,null,null,"n.d.",1.49,"n.d.","n.d.",1.0603550005132489,113.4,9.3980999999999995,{"$f":"IF(AND('Tipos de Cambio'!$J$6<>1,'Tipos de Cambio'!$J$6<>2,'Tipos de Cambio'!$J$6<>3,'Tipos de Cambio'!$J$6<>4,'Tipos de Cambio'!$J$6<>5,'Tipos de Cambio'!$J$6<>6,'Tipos de Cambio'!$J$6<>7),LOOKUP(1,'Datos mensuales'!$AM$2:$AS$2,'Datos mensuales'!$AM120:$AS120),LOOKUP('Tipos de Cambio'!$J$6,'Datos mensuales'!$AM$2:$AS$2,'Datos mensuales'!$AM120:$AS120))","v":"n.d."},5.8553899999999999,"n.d.","n.d.","n.d.","n.d.","n.d.","n.d.","n.d.",136,176.3,109.2,100,3.8437331729592517,3.7821750753193717,3.9233570729950262,10829.28,2739.35,1320.41]
[null,"septiembre",null,"n.d.",-5.9827098858338585,"n.d.",2.6283618581907158,1.1601194578451537,-0.19342359767891956,15.826566390315666,null,null,null,null,null,null,null,null,null,23.8,"n.d.","","n.d.","n.d.","n.d.","n.d.","n.d.",342.4,"n.d.","n.d.","n.d.",null,null,null,null,null,null,null,"n.d.",1.48,"n.d.","n.d.",1.0500770002562902,107.57,9.3402999999999992,{"$f":"IF(AND('Tipos de Cambio'!$J$6<>1,'Tipos de Cambio'!$J$6<>2,'Tipos de Cambio'!$J$6<>3,'Tipos de Cambio'!$J$6<>4,'Tipos de Cambio'!$J$6<>5,'Tipos de Cambio'!$J$6<>6,'Tipos de Cambio'!$J$6<>7),LOOKUP(1,'Datos mensuales'!$AM$2:$AS$2,'Datos mensuales'!$AM121:$AS121),LOOKUP('Tipos de Cambio'!$J$6,'Datos mensuales'!$AM$2:$AS$2,'Datos mensuales'!$AM121:$AS121))","v":"n.d."},5.9426699999999997,"n.d.","n.d.","n.d.","n.d.","n.d.","n.d.","n.d.",134.19999999999999,176.3,106.2,100,3.7413078101465658,3.9635297425364424,3.7573132270577903,10336.959999999999,2746.16,1282.71]
[null,"octubre",null,"n.d.",-4.170009515457954,"n.d.",2.5609756097560905,1.3682879153731147,-0.67243035542746266,14.913481043909698,null,null,null,null,null,null,null,null,null,22.69,"n.d.","","n.d.","n.d.","n.d.","n.d.","n.d.",326.07,"n.d.","n.d.","n.d.",null,null,null,null,null,null,null,"n.d.",1.48,"n.d.","n.d.",1.0706330004877729,105.97,9.5403000000000002,{"$f":"IF(AND('Tipos de Cambio'!$J$6<>1,'Tipos de Cambio'!$J$6<>2,'Tipos de Cambio'!$J$6<>3,'Tipos de Cambio'!$J$6<>4,'Tipos de Cambio'!$J$6<>5,'Tipos de Cambio'!$J$6<>6,'Tipos de Cambio'!$J$6<>7),LOOKUP(1,'Datos mensuales'!$AM$2:$AS$2,'Datos mensuales'!$AM122:$AS122),LOOKUP('Tipos de Cambio'!$J$6,'Datos mensuales'!$AM$2:$AS$2,'Datos mensuales'!$AM122:$AS122))","v":"n.d."},6.0913700000000004,"n.d.","n.d.","n.d.","n.d.","n.d.","n.d.","n.d.",130.5,173.9,101.5,100,4.3226539580941914,4.3399589353334544,3.5862791976975172,10729.87,2966.43,1362.93]
[null,"noviembre",null,"n.d.",-4.2828180435884464,"n.d.",2.6219512195122019,1.4602736575830702,-1.1538461538461564,13.917992304081594,null,null,null,null,null,null,null,null,null,25,"n.d.","","n.d.","n.d.","n.d.","n.d.","n.d.",315.97000000000003,"n.d.","n.d.","n.d.",null,null,null,null,null,null,null,"n.d.",1.47,"n.d.","n.d.",1.0338229998754616,104.96,9.4205000000000005,{"$f":"IF(AND('Tipos de Cambio'!$J$6<>1,'Tipos de Cambio'!$J$6<>2,'Tipos de Cambio'!$J$6<>3,'Tipos de Cambio'!$J$6<>4,'Tipos de Cambio'!$J$6<>5,'Tipos de Cambio'!$J$6<>6,'Tipos de Cambio'!$J$6<>7),LOOKUP(1,'Datos mensuales'!$AM$2:$AS$2,'Datos mensuales'!$AM123:$AS123),LOOKUP('Tipos de Cambio'!$J$6,'Datos mensuales'!$AM$2:$AS$2,'Datos mensuales'!$AM123:$AS123))","v":"n.d."},6.0432399999999999,"n.d.","n.d.","n.d.","n.d.","n.d.","n.d.","n.d.",137,176.8,110.4,100,4.877154722409105,4.8573315535154871,3.4101973470666236,10877.81,3336.16,1388.91]
[null,"diciembre",null,"n.d.",-4.0492641568286363,"n.d.",2.684563758389265,1.7459223524006386,-1.0617760617760563,12.318661431172224,null,null,null,null,null,null,null,null,null,26.1,"n.d.","","n.d.","n.d.","n.d.","n.d.","n.d.",312,"n.d.","n.d.","n.d.",null,null,null,null,null,null,null,"n.d.",1.47,"n.d.","n.d.",1.0110139996554284,102.68,9.4135000000000009,{"$f":"IF(AND('Tipos de Cambio'!$J$6<>1,'Tipos de Cambio'!$J$6<>2,'Tipos de Cambio'!$J$6<>3,'Tipos de Cambio'!$J$6<>4,'Tipos de Cambio'!$J$6<>5,'Tipos de Cambio'!$J$6<>6,'Tipos de Cambio'!$J$6<>7),LOOKUP(1,'Datos mensuales'!$AM$2:$AS$2,'Datos mensuales'!$AM124:$AS124),LOOKUP('Tipos de Cambio'!$J$6,'Datos mensuales'!$AM$2:$AS$2,'Datos mensuales'!$AM124:$AS124))","v":"n.d."},6.1137499999999996,"n.d.","n.d.","n.d.","n.d.","n.d.","n.d.","n.d.",141.69999999999999,181.7,115,100,5.3084956969546404,5.0938832879700913,3.2290568501759154,11497.12,4069.31,1469.25]
[2000,"enero",null,"n.d.",-5.2494621837687472,"n.d.",2.7388922702373706,1.851213061975393,-0.67895247332685615,11.023190408329423,null,null,null,null,null,null,null,null,null,27.26,25.306999999999999,-1.953000000000003,284.315,39,47.77,111.11,105.8265947,301.79000000000002,92.953274960000002,247.5,482.26,null,null,null,null,null,null,null,"n.d.",1.45,"n.d.","n.d.",1.0136950001923943,105.16,9.4793000000000003,{"$f":"IF(AND('Tipos de Cambio'!$J$6<>1,'Tipos de Cambio'!$J$6<>2,'Tipos de Cambio'!$J$6<>3,'Tipos de Cambio'!$J$6<>4,'Tipos de Cambio'!$J$6<>5,'Tipos de Cambio'!$J$6<>6,'Tipos de Cambio'!$J$6<>7),LOOKUP(1,'Datos mensuales'!$AM$2:$AS$2,'Datos mensuales'!$AM125:$AS125),LOOKUP('Tipos de Cambio'!$J$6,'Datos mensuales'!$AM$2:$AS$2,'Datos mensuales'!$AM125:$AS125))","v":"n.d."},6.2149700000000001,5.52,"n.d.","n.d.","n.d.","n.d.","n.d.","n.d.",144.69999999999999,183.1,119.1,100,4.8584943108925582,4.9665271938257982,3.0429397884272902,10940.54,3940.35,1394.46]
[null,"febrero",null,"n.d.",-5.0048549638470146,"n.d.",3.2218844984802502,1.9374068554396395,-0.68159688412853248,10.522687589351507,null,null,null,null,null,null,null,null,null,29.37,27.753500000000003,-1.6164999999999985,299.8642857142857,37.65,53.73,103.44,108.41211199999999,277.58,95.081619040000007,243,578.71,null,null,null,null,null,null,null,"n.d.",1.45,"n.d.","n.d.",0.98342400002706376,109.31,9.4456000000000007,{"$f":"IF(AND('Tipos de Cambio'!$J$6<>1,'Tipos de Cambio'!$J$6<>2,'Tipos de Cambio'!$J$6<>3,'Tipos de Cambio'!$J$6<>4,'Tipos de Cambio'!$J$6<>5,'Tipos de Cambio'!$J$6<>6,'Tipos de Cambio'!$J$6<>7),LOOKUP(1,'Datos mensuales'!$AM$2:$AS$2,'Datos mensuales'!$AM126:$AS126),LOOKUP('Tipos de Cambio'!$J$6,'Datos mensuales'!$AM$2:$AS$2,'Datos mensuales'!$AM126:$AS126))","v":"n.d."},6.3298800000000002,5.75,"n.d.","n.d.","n.d.","n.d.","n.d.","n.d.",140.80000000000001,180.1,114.6,100,4.6976583296298502,4.850209490677071,2.8520484742748264,10128.31,4696.6899999999996,1366.42]
[null,"marzo",null,"n.d.",-4.7702157932179237,"n.d.",3.7575757575757507,1.9318701417466821,-0.58365758754863262,10.112402406322721,null,null,null,null,null,null,null,null,null,29.84,27.559565217391309,-2.2804347826086904,286.3891304347826,40.54,57.46,100.73,105.7005059,294.39,95.169351109999994,228.8,482.26,null,null,null,null,null,null,null,"n.d.",1.46,"n.d.","n.d.",0.96434300001396456,106.71,9.2958999999999996,{"$f":"IF(AND('Tipos de Cambio'!$J$6<>1,'Tipos de Cambio'!$J$6<>2,'Tipos de Cambio'!$J$6<>3,'Tipos de Cambio'!$J$6<>4,'Tipos de Cambio'!$J$6<>5,'Tipos de Cambio'!$J$6<>6,'Tipos de Cambio'!$J$6<>7),LOOKUP(1,'Datos mensuales'!$AM$2:$AS$2,'Datos mensuales'!$AM127:$AS127),LOOKUP('Tipos de Cambio'!$J$6,'Datos mensuales'!$AM$2:$AS$2,'Datos mensuales'!$AM127:$AS127))","v":"n.d."},6.4110899999999997,5.85,"n.d.","n.d.","n.d.","n.d.","n.d.","n.d.",137.1,182.5,106.8,100,4.9448514281010603,4.9845042501751591,2.6567080696975109,10921.93,4572.83,1498.58]
[null,"abril ",null,"n.d.",-4.3435631877546381,"n.d.",3.0685920577617467,1.7439872335575073,-0.77444336882865161,9.7318560531058758,null,null,null,null,null,null,null,null,null,25.72,22.804210526315781,-2.9157894736842174,279.69444444444446,42.79,58.72,94.61,105.10525850000001,318.14,95.539372950000001,217,477.09,null,null,null,null,null,null,null,"n.d.",1.47,"n.d.","n.d.",0.94695000023034559,105.48,9.3748000000000005,{"$f":"IF(AND('Tipos de Cambio'!$J$6<>1,'Tipos de Cambio'!$J$6<>2,'Tipos de Cambio'!$J$6<>3,'Tipos de Cambio'!$J$6<>4,'Tipos de Cambio'!$J$6<>5,'Tipos de Cambio'!$J$6<>6,'Tipos de Cambio'!$J$6<>7),LOOKUP(1,'Datos mensuales'!$AM$2:$AS$2,'Datos mensuales'!$AM128:$AS128),LOOKUP('Tipos de Cambio'!$J$6,'Datos mensuales'!$AM$2:$AS$2,'Datos mensuales'!$AM128:$AS128))","v":"n.d."},6.53573,5.82,"n.d.","n.d.","n.d.","n.d.","n.d.","n.d.",137.69999999999999,179.8,109.7,100,5.511176731677403,5.191835775415532,2.4573698184163106,10733.92,3860.66,1452.43]
[null,"mayo",null,"n.d.",-4.5246239007612585,"n.d.",3.1889290012033764,1.7308130266454229,-0.67763794772507535,9.4834475190128646,null,null,null,null,null,null,null,null,null,28.79,27.516363636363632,-1.273636363636367,275.18571428571431,42.15,60.5,94.15,110.782155,283.17,95.530550890000001,198.7826087,415.09,null,null,null,null,null,null,null,"n.d.",1.4955000000000001,"n.d.","n.d.",0.9059680003314392,108.11,9.5077999999999996,{"$f":"IF(AND('Tipos de Cambio'!$J$6<>1,'Tipos de Cambio'!$J$6<>2,'Tipos de Cambio'!$J$6<>3,'Tipos de Cambio'!$J$6<>4,'Tipos de Cambio'!$J$6<>5,'Tipos de Cambio'!$J$6<>6,'Tipos de Cambio'!$J$6<>7),LOOKUP(1,'Datos mensuales'!$AM$2:$AS$2,'Datos mensuales'!$AM129:$AS129),LOOKUP('Tipos de Cambio'!$J$6,'Datos mensuales'!$AM$2:$AS$2,'Datos mensuales'!$AM129:$AS129))","v":"n.d."},6.9574999999999996,6.12,"n.d.","n.d.","n.d.","n.d.","n.d.","n.d.",144.69999999999999,183.6,118.7,100,4.9305622392191717,5.2109097728547438,2.2546331545524767,10522.34,3400.91,1420.6]
[null,"junio",null,"n.d.",-4.5374474589224372,"n.d.",3.7304452466907447,2.1179685720792687,-0.58252427184465461,9.4130619171412668,null,null,null,null,null,null,null,null,null,31.82,29.602272727272734,-2.2177272727272666,285.73181818181814,42.03,59.47,86.44,113.5089218,272.23,84.039514499999996,197.86363639999999,392.15,null,null,null,null,null,null,null,"n.d.",1.4767999999999999,"n.d.","n.d.",0.94917699999360539,106.23,9.7978000000000005,{"$f":"IF(AND('Tipos de Cambio'!$J$6<>1,'Tipos de Cambio'!$J$6<>2,'Tipos de Cambio'!$J$6<>3,'Tipos de Cambio'!$J$6<>4,'Tipos de Cambio'!$J$6<>5,'Tipos de Cambio'!$J$6<>6,'Tipos de Cambio'!$J$6<>7),LOOKUP(1,'Datos mensuales'!$AM$2:$AS$2,'Datos mensuales'!$AM130:$AS130),LOOKUP('Tipos de Cambio'!$J$6,'Datos mensuales'!$AM$2:$AS$2,'Datos mensuales'!$AM130:$AS130))","v":"n.d."},6.9693199999999997,6.02,"n.d.","n.d.","n.d.","n.d.","n.d.","n.d.",139.19999999999999,180.1,111.9,100,5.1781740982423941,4.9327554063960832,2.0492720696880573,10447.9,3966.11,1454.6]
[null,"julio",null,"n.d.",-3.3395677875763168,"n.d.",3.6592681463707399,2.0115922263893742,-0.58479532163742143,9.1186998204433927,null,null,null,null,null,null,null,null,null,29.7,28.482500000000002,-1.2174999999999976,281.58571428571423,41.510000000000005,58.38,87.35,108.97786600000001,266.54000000000002,75.057375210000004,191,306.58,null,null,null,null,null,null,null,"n.d.",1.47786,"n.d.","n.d.",0.93965699967403482,107.9,9.4687999999999999,{"$f":"IF(AND('Tipos de Cambio'!$J$6<>1,'Tipos de Cambio'!$J$6<>2,'Tipos de Cambio'!$J$6<>3,'Tipos de Cambio'!$J$6<>4,'Tipos de Cambio'!$J$6<>5,'Tipos de Cambio'!$J$6<>6,'Tipos de Cambio'!$J$6<>7),LOOKUP(1,'Datos mensuales'!$AM$2:$AS$2,'Datos mensuales'!$AM131:$AS131),LOOKUP('Tipos de Cambio'!$J$6,'Datos mensuales'!$AM$2:$AS$2,'Datos mensuales'!$AM131:$AS131))","v":"n.d."},6.9191700000000003,6.27,"n.d.","n.d.","n.d.","n.d.","n.d.","n.d.",143,186.8,113.7,100,4.3921926592064287,4.4387591104289026,1.8422491872672309,10521.98,3766.99,1430.83]
[null,"agosto",null,"n.d.",-2.6432731365927715,"n.d.",3.4111310592459705,2.0211195639831967,-0.48590864917395532,9.1041934868828633,null,null,null,null,null,null,null,null,null,31.26,29.787826086956521,-1.4721739130434806,274.46818181818179,41.63,60.86,76.92,108.28198810000001,257.14999999999998,75.240531140000002,187.08695650000001,334.14,null,null,null,null,null,null,null,"n.d.",1.47902,"n.d.","n.d.",0.90405699972342912,108.08043478260868,9.2724782608695637,{"$f":"IF(AND('Tipos de Cambio'!$J$6<>1,'Tipos de Cambio'!$J$6<>2,'Tipos de Cambio'!$J$6<>3,'Tipos de Cambio'!$J$6<>4,'Tipos de Cambio'!$J$6<>5,'Tipos de Cambio'!$J$6<>6,'Tipos de Cambio'!$J$6<>7),LOOKUP(1,'Datos mensuales'!$AM$2:$AS$2,'Datos mensuales'!$AM132:$AS132),LOOKUP('Tipos de Cambio'!$J$6,'Datos mensuales'!$AM$2:$AS$2,'Datos mensuales'!$AM132:$AS132))","v":"n.d."},6.84009,6.35,"n.d.","n.d.","n.d.","n.d.","n.d.","n.d.",140.80000000000001,181.3,113.9,100,3.6160467264440221,4.0664999080304964,1.6347100555665905,11215.1,4206.3500000000004,1517.68]
[null,"septiembre",null,"n.d.",-2.8184879691541798,"n.d.",3.4544371649791441,2.4980129442488961,-0.96899224806201545,8.8494312099083103,null,null,null,null,null,null,null,null,null,33.880000000000003,32.930999999999997,-0.94900000000000517,273.67857142857139,43.14,61.65,75.78,117.49386920000001,239.79,80.150576270000002,178.14285709999999,421.63,null,null,null,null,null,null,null,"n.d.",1.48617,"n.d.","n.d.",0.87211400013273233,106.83750000000001,9.3615999999999993,{"$f":"IF(AND('Tipos de Cambio'!$J$6<>1,'Tipos de Cambio'!$J$6<>2,'Tipos de Cambio'!$J$6<>3,'Tipos de Cambio'!$J$6<>4,'Tipos de Cambio'!$J$6<>5,'Tipos de Cambio'!$J$6<>6,'Tipos de Cambio'!$J$6<>7),LOOKUP(1,'Datos mensuales'!$AM$2:$AS$2,'Datos mensuales'!$AM133:$AS133),LOOKUP('Tipos de Cambio'!$J$6,'Datos mensuales'!$AM$2:$AS$2,'Datos mensuales'!$AM133:$AS133))","v":"n.d."},6.7655700000000003,6.25,"n.d.","n.d.","n.d.","n.d.","n.d.","n.d.",142.5,182.5,115.9,100,4.3797412749277731,3.7203363093815556,1.4279634595199653,10650.92,3672.82,1436.51]
[null,"octubre",null,"n.d.",-3.0824344846384584,"n.d.",3.4482758620689724,2.3933756805807613,-1.1605415860735036,8.9091862691418644,null,null,null,null,null,null,null,null,null,33.11,30.837272727272726,{"$f":"IF(OR(T134=\"\",U134=\"n.d.\"),\"\",U134-T134)","v":-2.2727272727272734},269.99772727272727,47.599999999999994,60.9,76.66,128.21702479999999,208.46,84.707274400000003,186.72727269999999,382.36,null,null,null,null,null,null,null,"n.d.",1.5123,"n.d.","n.d.",0.85515899992236943,108.44285714285714,9.5379047619047608,{"$f":"IF(AND('Tipos de Cambio'!$J$6<>1,'Tipos de Cambio'!$J$6<>2,'Tipos de Cambio'!$J$6<>3,'Tipos de Cambio'!$J$6<>4,'Tipos de Cambio'!$J$6<>5,'Tipos de Cambio'!$J$6<>6,'Tipos de Cambio'!$J$6<>7),LOOKUP(1,'Datos mensuales'!$AM$2:$AS$2,'Datos mensuales'!$AM134:$AS134),LOOKUP('Tipos de Cambio'!$J$6,'Datos mensuales'!$AM$2:$AS$2,'Datos mensuales'!$AM134:$AS134))","v":"n.d."},6.7261699999999998,6.32,"n.d.","n.d.","n.d.","n.d.","n.d.","n.d.",135.80000000000001,176.8,108.4,100,2.6450251142339232,2.9909600867995545,1.2234705324250639,10971.14,3369.63,1429.4]
[null,"noviembre",null,"n.d.",-2.2830190529422678,"n.d.",3.4462269756387296,2.4932003626473289,-0.87548638132294887,8.8721779884984997,null,null,null,null,null,null,null,null,null,34.42,32.444761904761904,-1.9752380952380975,266.00681818181818,47.99,63.98,71.540000000000006,127.72506799999999,215.31,88.937107830000002,184.86363639999999,367.9,null,null,null,null,null,null,null,"n.d.",1.5422199999999999,"n.d.","n.d.",0.85638599983455987,109.0095238095238,9.5081428571428575,{"$f":"IF(AND('Tipos de Cambio'!$J$6<>1,'Tipos de Cambio'!$J$6<>2,'Tipos de Cambio'!$J$6<>3,'Tipos de Cambio'!$J$6<>4,'Tipos de Cambio'!$J$6<>5,'Tipos de Cambio'!$J$6<>6,'Tipos de Cambio'!$J$6<>7),LOOKUP(1,'Datos mensuales'!$AM$2:$AS$2,'Datos mensuales'!$AM135:$AS135),LOOKUP('Tipos de Cambio'!$J$6,'Datos mensuales'!$AM$2:$AS$2,'Datos mensuales'!$AM135:$AS135))","v":"n.d."},6.7053399999999996,6.34,"n.d.","n.d.","n.d.","n.d.","n.d.","n.d.",132.6,179.7,101.2,100,2.1365904807411518,2.0197382015563647,1.0228360573818707,10414.49,2597.9299999999998,1314.95]
[null,"diciembre",null,"n.d.",-2.1096805335277367,"n.d.",3.3868092691622032,2.4836306163919653,-0.48780487804878048,8.959306478720567,null,null,null,null,null,null,null,null,null,28.44,25.567499999999999,-2.8725000000000023,271.45,47.08,65.87,66.16,128.0149347,199.18,96.224203759999995,183.57142859999999,447.81,null,null,null,null,null,null,null,"n.d.",1.52244,"n.d.","n.d.",0.89731599979761212,112.20899999999999,9.4672500000000017,{"$f":"IF(AND('Tipos de Cambio'!$J$6<>1,'Tipos de Cambio'!$J$6<>2,'Tipos de Cambio'!$J$6<>3,'Tipos de Cambio'!$J$6<>4,'Tipos de Cambio'!$J$6<>5,'Tipos de Cambio'!$J$6<>6,'Tipos de Cambio'!$J$6<>7),LOOKUP(1,'Datos mensuales'!$AM$2:$AS$2,'Datos mensuales'!$AM136:$AS136),LOOKUP('Tipos de Cambio'!$J$6,'Datos mensuales'!$AM$2:$AS$2,'Datos mensuales'!$AM136:$AS136))","v":"n.d."},6.3986499999999999,5.92,"n.d.","n.d.","n.d.","n.d.","n.d.","n.d.",128.6,176.1,96.9,100,1.0605834416382631,1.1007057283257904,0.82777382969152491,10786.85,2470.52,1320.28]
[2001,"enero",null,"n.d.",-1.5692884266465787,"n.d.",3.7322274881516488,2.0094829532625891,-0.39062500000000555,8.1116821614822658,null,null,null,null,null,null,null,null,null,29.59,25.62,-3.9699999999999989,265.48599999999999,47.31,64.13,65.98,132.84147770000001,191.79,94.297233270000007,184.43478260000001,534.62,null,null,null,null,null,null,null,"n.d.",1.5032000000000001,"n.d.","n.d.",0.93828199999079354,116.72136363636361,9.7737272727272728,{"$f":"IF(AND('Tipos de Cambio'!$J$6<>1,'Tipos de Cambio'!$J$6<>2,'Tipos de Cambio'!$J$6<>3,'Tipos de Cambio'!$J$6<>4,'Tipos de Cambio'!$J$6<>5,'Tipos de Cambio'!$J$6<>6,'Tipos de Cambio'!$J$6<>7),LOOKUP(1,'Datos mensuales'!$AM$2:$AS$2,'Datos mensuales'!$AM137:$AS137),LOOKUP('Tipos de Cambio'!$J$6,'Datos mensuales'!$AM$2:$AS$2,'Datos mensuales'!$AM137:$AS137))","v":"n.d."},5.5309100000000004,5.15,"n.d.","n.d.","n.d.","n.d.","n.d.","n.d.",115.7,170.4,79.3,100,0.28671970926423818,0.27291380516301089,0.64005594220053474,10887.36,2772.73,1366.01]
[null,"febrero",null,"n.d.",-2.4026476659256861,"n.d.",3.5335689045936389,1.9005847953216348,-0.29411764705882076,7.0902090934026125,null,null,null,null,null,null,null,null,null,29.61,27.5,-2.1099999999999994,261.86500000000001,47.49,60.4,67.19,128.11597979999999,185.07,92.377514820000002,185.1,687.22,null,null,null,null,null,null,null,"n.d.",1.5213000000000001,"n.d.","n.d.",0.92170500006731215,115.49697792693513,9.5345218025779719,{"$f":"IF(AND('Tipos de Cambio'!$J$6<>1,'Tipos de Cambio'!$J$6<>2,'Tipos de Cambio'!$J$6<>3,'Tipos de Cambio'!$J$6<>4,'Tipos de Cambio'!$J$6<>5,'Tipos de Cambio'!$J$6<>6,'Tipos de Cambio'!$J$6<>7),LOOKUP(1,'Datos mensuales'!$AM$2:$AS$2,'Datos mensuales'!$AM138:$AS138),LOOKUP('Tipos de Cambio'!$J$6,'Datos mensuales'!$AM$2:$AS$2,'Datos mensuales'!$AM138:$AS138))","v":"n.d."},5.2024699999999999,4.8899999999999997,"n.d.","n.d.","n.d.","n.d.","n.d.","n.d.",109.2,167.1,70.7,100,-0.63376236919692186,-0.57125847587670142,0.46146619430178504,10495.28,2151.83,1239.94]
[null,"marzo",null,"n.d.",-1.9482847922228006,"n.d.",2.9205607476635516,2.1868341370416089,-0.68493150684931781,7.1745461971639894,null,null,null,null,null,null,null,null,null,27.25,24.52,-2.7300000000000004,263.02999999999997,47.510000000000005,54.56,66.5,130.28385610000001,210.9,91.012153569999995,177.0909091,540.82000000000005,null,null,null,null,null,null,null,"n.d.",1.5579700000000001,"n.d.","n.d.",0.90952300031686506,121.44666666666663,9.6029761904761912,{"$f":"IF(AND('Tipos de Cambio'!$J$6<>1,'Tipos de Cambio'!$J$6<>2,'Tipos de Cambio'!$J$6<>3,'Tipos de Cambio'!$J$6<>4,'Tipos de Cambio'!$J$6<>5,'Tipos de Cambio'!$J$6<>6,'Tipos de Cambio'!$J$6<>7),LOOKUP(1,'Datos mensuales'!$AM$2:$AS$2,'Datos mensuales'!$AM139:$AS139),LOOKUP('Tipos de Cambio'!$J$6,'Datos mensuales'!$AM$2:$AS$2,'Datos mensuales'!$AM139:$AS139))","v":"n.d."},4.8085800000000001,4.4400000000000004,"n.d.","n.d.","n.d.","n.d.","n.d.","n.d.",116.9,167.5,83.1,100,-1.3500264711072796,-1.4521112904803735,0.29375852608541919,9878.7800000000007,1840.26,1160.33]
[null,"abril ",null,"n.d.",-1.4829483824100165,"n.d.",3.2691185055458227,2.7447904996638903,-0.78048780487804603,7.1057789319330196,null,null,null,null,null,null,null,null,null,27.49,25.64,-1.8499999999999979,260.47890000000001,47.410000000000004,51.16,66.13,129.3026921,208.96,87.545066520000006,162.09523809999999,551.16,null,null,null,null,null,null,null,"n.d.",1.55749,"n.d.","n.d.",0.89200000014628811,123.77095238095242,9.3275952380952365,{"$f":"IF(AND('Tipos de Cambio'!$J$6<>1,'Tipos de Cambio'!$J$6<>2,'Tipos de Cambio'!$J$6<>3,'Tipos de Cambio'!$J$6<>4,'Tipos de Cambio'!$J$6<>5,'Tipos de Cambio'!$J$6<>6,'Tipos de Cambio'!$J$6<>7),LOOKUP(1,'Datos mensuales'!$AM$2:$AS$2,'Datos mensuales'!$AM140:$AS140),LOOKUP('Tipos de Cambio'!$J$6,'Datos mensuales'!$AM$2:$AS$2,'Datos mensuales'!$AM140:$AS140))","v":"n.d."},4.47553,3.99,"n.d.","n.d.","n.d.","n.d.","n.d.","n.d.",109.9,156,79.099999999999994,100,-2.3613634397439243,-2.3602913949790194,0.1386151911971778,10734.97,2116.2399999999998,1249.46]
[null,"mayo",null,"n.d.",-1.4874762997704827,"n.d.",3.6151603498542206,3.1229012760241681,-0.77972709551656649,6.9517398832385373,null,null,null,null,null,null,null,null,null,28.63,28.29,-0.33999999999999986,272.35480000000001,47.07,49.97,69.22,135.0002556,194.01,85.07752309,164.26086960000001,636.58000000000004,null,null,null,null,null,null,null,"n.d.",1.54745,"n.d.","n.d.",0.87416400036083741,121.72391304347826,9.1883043478260849,{"$f":"IF(AND('Tipos de Cambio'!$J$6<>1,'Tipos de Cambio'!$J$6<>2,'Tipos de Cambio'!$J$6<>3,'Tipos de Cambio'!$J$6<>4,'Tipos de Cambio'!$J$6<>5,'Tipos de Cambio'!$J$6<>6,'Tipos de Cambio'!$J$6<>7),LOOKUP(1,'Datos mensuales'!$AM$2:$AS$2,'Datos mensuales'!$AM141:$AS141),LOOKUP('Tipos de Cambio'!$J$6,'Datos mensuales'!$AM$2:$AS$2,'Datos mensuales'!$AM141:$AS141))","v":"n.d."},4.0844800000000001,3.74,"n.d.","n.d.","n.d.","n.d.","n.d.","n.d.",116.1,159.6,87.1,100,-3.2798825954182043,-3.2591772074426872,-2.4003062135569131E-3,10911.94,2110.4899999999998,1255.82]
[null,"junio",null,"n.d.",-1.1183806296795122,"n.d.",3.2482598607888593,2.8322925958965119,-0.87890625000000555,6.5734352456384162,null,null,null,null,null,null,null,null,null,27.6,27.82,0.21999999999999886,270.23099999999999,46.39,47.46,63.9,127.2295388,209.17,83.160665989999998,167.7619048,609.72,null,null,null,null,null,null,null,"n.d.",1.5245333333333331,"n.d.","n.d.",0.85316699971306031,122.35095238095242,9.0880952380952387,{"$f":"IF(AND('Tipos de Cambio'!$J$6<>1,'Tipos de Cambio'!$J$6<>2,'Tipos de Cambio'!$J$6<>3,'Tipos de Cambio'!$J$6<>4,'Tipos de Cambio'!$J$6<>5,'Tipos de Cambio'!$J$6<>6,'Tipos de Cambio'!$J$6<>7),LOOKUP(1,'Datos mensuales'!$AM$2:$AS$2,'Datos mensuales'!$AM142:$AS142),LOOKUP('Tipos de Cambio'!$J$6,'Datos mensuales'!$AM$2:$AS$2,'Datos mensuales'!$AM142:$AS142))","v":"n.d."},3.83006,3.56,"n.d.","n.d.","n.d.","n.d.","n.d.","n.d.",118.9,156.80000000000001,93.5,100,-3.9972483335813158,-3.9354541413591293,-0.12789267327749654,10502.4,2161.2399999999998,1224.42]
[null,"julio",null,"n.d.",-0.84035214183524054,"n.d.",2.7199074074074008,2.5512477718359983,-0.78431372549019329,5.8834976000227748,null,null,null,null,null,null,null,null,null,26.43,24.62,-1.8099999999999987,267.53179999999998,46.32,45.57,58.72,123.78533040000001,279.63,90.754669539999995,169.72727269999999,697.56,null,null,null,null,null,null,null,"n.d.",1.53037,"n.d.","n.d.",0.86066399979713115,124.45181818181817,9.1619545454545452,{"$f":"IF(AND('Tipos de Cambio'!$J$6<>1,'Tipos de Cambio'!$J$6<>2,'Tipos de Cambio'!$J$6<>3,'Tipos de Cambio'!$J$6<>4,'Tipos de Cambio'!$J$6<>5,'Tipos de Cambio'!$J$6<>6,'Tipos de Cambio'!$J$6<>7),LOOKUP(1,'Datos mensuales'!$AM$2:$AS$2,'Datos mensuales'!$AM143:$AS143),LOOKUP('Tipos de Cambio'!$J$6,'Datos mensuales'!$AM$2:$AS$2,'Datos mensuales'!$AM143:$AS143))","v":"n.d."},3.7911100000000002,3.56,"n.d.","n.d.","n.d.","n.d.","n.d.","n.d.",116.3,151.30000000000001,92.9,100,-4.3963102299899077,-4.2746219686287334,-0.23668558417204721,10522.81,2027.13,1211.23]
[null,"agosto",null,"n.d.",-1.1236169688682855,"n.d.",2.7199074074074008,2.34835837506956,-0.7812500000000111,5.9287566236552154,null,null,null,null,null,null,null,null,null,27.37,25.66,-1.7100000000000009,272.38639999999998,46.94,43.35,59.72,121.9231542,312.62,92.879031639999994,168.73913039999999,683.43,null,null,null,null,null,null,null,"n.d.",1.54016,"n.d.","n.d.",0.9004829997206657,121.355,9.1336700000000004,{"$f":"IF(AND('Tipos de Cambio'!$J$6<>1,'Tipos de Cambio'!$J$6<>2,'Tipos de Cambio'!$J$6<>3,'Tipos de Cambio'!$J$6<>4,'Tipos de Cambio'!$J$6<>5,'Tipos de Cambio'!$J$6<>6,'Tipos de Cambio'!$J$6<>7),LOOKUP(1,'Datos mensuales'!$AM$2:$AS$2,'Datos mensuales'!$AM144:$AS144),LOOKUP('Tipos de Cambio'!$J$6,'Datos mensuales'!$AM$2:$AS$2,'Datos mensuales'!$AM144:$AS144))","v":"n.d."},3.5710500000000001,3.39,"n.d.","n.d.","n.d.","n.d.","n.d.","n.d.",114,144.5,93.7,100,-4.2622815863672781,-4.5139829446659512,-0.32785811129899534,9949.75,1805.43,1133.58]
[null,"septiembre",null,"n.d.",-1.1225662330148538,"n.d.",2.6482440990213143,2.1601861083416449,-0.78277886497064297,6.1394894915891118,null,null,null,null,null,null,null,null,null,26.2,25.62,-0.57999999999999829,283.42,47.089999999999996,41.26,58.07,122.03122860000001,259.56,89.743988490000007,173,571.82000000000005,null,null,null,null,null,null,null,"n.d.",1.5679388888888885,"n.d.","n.d.",0.91109500003600641,118.926,9.4173899999999993,{"$f":"IF(AND('Tipos de Cambio'!$J$6<>1,'Tipos de Cambio'!$J$6<>2,'Tipos de Cambio'!$J$6<>3,'Tipos de Cambio'!$J$6<>4,'Tipos de Cambio'!$J$6<>5,'Tipos de Cambio'!$J$6<>6,'Tipos de Cambio'!$J$6<>7),LOOKUP(1,'Datos mensuales'!$AM$2:$AS$2,'Datos mensuales'!$AM145:$AS145),LOOKUP('Tipos de Cambio'!$J$6,'Datos mensuales'!$AM$2:$AS$2,'Datos mensuales'!$AM145:$AS145))","v":"n.d."},3.0011299999999999,2.71,"n.d.","n.d.","n.d.","n.d.","n.d.","n.d.",97,125.4,78.099999999999994,100,-4.9599708211619964,-4.8673324979718995,-0.40075884834486208,8847.56,1498.8,1040.94]
[null,"octubre",null,"n.d.",-1.2160799376441263,"n.d.",2.1264367816091889,2.2488091281710436,-0.78277886497064297,5.8900317436196419,null,null,null,null,null,null,null,null,null,22.17,20.55,-1.620000000000001,283.0609,46.64,37.22,56.4,123.3369866,232.09,86.267739129999995,170.86956520000001,483.64,null,null,null,null,null,null,null,"n.d.",1.5716772727272728,"n.d.","n.d.",0.90586500029780304,121.417,9.3390799999999992,{"$f":"IF(AND('Tipos de Cambio'!$J$6<>1,'Tipos de Cambio'!$J$6<>2,'Tipos de Cambio'!$J$6<>3,'Tipos de Cambio'!$J$6<>4,'Tipos de Cambio'!$J$6<>5,'Tipos de Cambio'!$J$6<>6,'Tipos de Cambio'!$J$6<>7),LOOKUP(1,'Datos mensuales'!$AM$2:$AS$2,'Datos mensuales'!$AM146:$AS146),LOOKUP('Tipos de Cambio'!$J$6,'Datos mensuales'!$AM$2:$AS$2,'Datos mensuales'!$AM146:$AS146))","v":"n.d."},2.3425500000000001,2.17,"n.d.","n.d.","n.d.","n.d.","n.d.","n.d.",85.3,107.2,70.7,100,-5.1029468773755138,-5.242975400902572,-0.45501558831598787,9075.14,1690.2,1059.78]
[null,"noviembre",null,"n.d.",-1.4018954188024637,"n.d.",1.8954623779437172,1.9681556833259635,-0.98135426889106958,5.3878333050216494,null,null,null,null,null,null,null,null,null,19.64,18.760000000000002,-0.87999999999999901,276.16359999999997,47.02,37.880000000000003,58.85,125.27147960000001,281.51,89.882554240000005,170,496.04,null,null,null,null,null,null,null,"n.d.",1.5922449999999999,"n.d.","n.d.",0.88830899998409119,122.312,9.2249800000000004,{"$f":"IF(AND('Tipos de Cambio'!$J$6<>1,'Tipos de Cambio'!$J$6<>2,'Tipos de Cambio'!$J$6<>3,'Tipos de Cambio'!$J$6<>4,'Tipos de Cambio'!$J$6<>5,'Tipos de Cambio'!$J$6<>6,'Tipos de Cambio'!$J$6<>7),LOOKUP(1,'Datos mensuales'!$AM$2:$AS$2,'Datos mensuales'!$AM147:$AS147),LOOKUP('Tipos de Cambio'!$J$6,'Datos mensuales'!$AM$2:$AS$2,'Datos mensuales'!$AM147:$AS147))","v":"n.d."},2.1065100000000001,1.92,"n.d.","n.d.","n.d.","n.d.","n.d.","n.d.",84.9,96.2,77.3,100,-5.6105503340296625,-5.4262582123471681,-0.49055514219140672,9851.56,1930.58,1139.45]
[null,"diciembre",null,"n.d.",-3.5613868779145581,"n.d.",1.5517241379310278,2.0489094514210171,-1.1764705882352968,4.4034985590446762,null,null,null,null,null,null,null,null,null,19.39,18.71,-0.67999999999999972,275.84710000000001,47.24,42.87,56.72,122.5330622,295.47000000000003,92.311515170000007,179.38095240000001,506.37,null,null,null,null,null,null,null,"n.d.",1.5780315789473685,"n.d.","n.d.",0.89237200003875738,127.59399999999999,9.1573799999999999,{"$f":"IF(AND('Tipos de Cambio'!$J$6<>1,'Tipos de Cambio'!$J$6<>2,'Tipos de Cambio'!$J$6<>3,'Tipos de Cambio'!$J$6<>4,'Tipos de Cambio'!$J$6<>5,'Tipos de Cambio'!$J$6<>6,'Tipos de Cambio'!$J$6<>7),LOOKUP(1,'Datos mensuales'!$AM$2:$AS$2,'Datos mensuales'!$AM148:$AS148),LOOKUP('Tipos de Cambio'!$J$6,'Datos mensuales'!$AM$2:$AS$2,'Datos mensuales'!$AM148:$AS148))","v":"n.d."},1.9882899999999999,1.82,"n.d.","n.d.","n.d.","n.d.","n.d.","n.d.",94.6,97.8,92.4,100,-5.3120010427188831,-5.0952450755005652,-0.50762791012641806,10021.5,1950.4,1148.08]
[2002,"enero",null,"n.d.",-1,"n.d.",1.1422044545973729,2.6117751217352803,-1.3725490196078487,4.7863571113843619,null,null,null,null,null,null,null,null,null,19.72,19.420000000000002,-0.29999999999999716,281.51139999999998,46.739999999999995,43.42,58.25,125.3104074,310.3,91.966960589999999,191.13043479999999,428.52,null,null,null,null,null,null,null,"n.d.",1.59971,"n.d.","n.d.",0.88328600008286806,132.62799999999999,9.1636199999999999,{"$f":"IF(AND('Tipos de Cambio'!$J$6<>1,'Tipos de Cambio'!$J$6<>2,'Tipos de Cambio'!$J$6<>3,'Tipos de Cambio'!$J$6<>4,'Tipos de Cambio'!$J$6<>5,'Tipos de Cambio'!$J$6<>6,'Tipos de Cambio'!$J$6<>7),LOOKUP(1,'Datos mensuales'!$AM$2:$AS$2,'Datos mensuales'!$AM149:$AS149),LOOKUP('Tipos de Cambio'!$J$6,'Datos mensuales'!$AM$2:$AS$2,'Datos mensuales'!$AM149:$AS149))","v":"n.d."},1.93418,1.77,1.82,3.34,0.09,5,5.0199999999999996,1.42,97.8,98.1,97.6,100,-4.0268896970970243,-4.2797509655708943,-0.5068194859561892,9920,1934.03,1130.2]
[null,"febrero",null,"n.d.",0,"n.d.",1.1376564277588168,2.5162785564507244,-1.5732546705998118,4.7883443052670041,null,null,null,null,null,null,null,null,null,20.72,20.28,-0.43999999999999773,295.495,46.04,42.81,59.12,123.2846711,296.77,90.728193840000003,194.35,516.71,null,null,null,null,null,null,null,"n.d.",1.59612,"n.d.","n.d.",0.87003499997678757,133.64699999999999,9.1058400000000006,{"$f":"IF(AND('Tipos de Cambio'!$J$6<>1,'Tipos de Cambio'!$J$6<>2,'Tipos de Cambio'!$J$6<>3,'Tipos de Cambio'!$J$6<>4,'Tipos de Cambio'!$J$6<>5,'Tipos de Cambio'!$J$6<>6,'Tipos de Cambio'!$J$6<>7),LOOKUP(1,'Datos mensuales'!$AM$2:$AS$2,'Datos mensuales'!$AM150:$AS150),LOOKUP('Tipos de Cambio'!$J$6,'Datos mensuales'!$AM$2:$AS$2,'Datos mensuales'!$AM150:$AS150))","v":"n.d."},2.03559,1.86,1.9,3.36,0.1,4.9000000000000004,5.07,1.52,95,96.4,94,100,-3.4127441999753372,-3.3720459114192747,-0.48902837133413257,10106.129999999999,1731.49,1106.73]
[null,"marzo",null,"n.d.",-0.79999999999999716,"n.d.",1.4755959137344057,2.5021949078138728,-1.1822660098522195,4.6612472488653998,null,null,null,null,null,null,null,null,null,24.53,23.7,-0.83000000000000185,294.05500000000001,44.56,42.04,64.47,122.5562955,302.45,89.857949110000007,189.2857143,571.82000000000005,null,null,null,null,null,null,null,"n.d.",1.5877399999999999,"n.d.","n.d.",0.87580000027657767,131.06100000000001,9.0730000000000004,{"$f":"IF(AND('Tipos de Cambio'!$J$6<>1,'Tipos de Cambio'!$J$6<>2,'Tipos de Cambio'!$J$6<>3,'Tipos de Cambio'!$J$6<>4,'Tipos de Cambio'!$J$6<>5,'Tipos de Cambio'!$J$6<>6,'Tipos de Cambio'!$J$6<>7),LOOKUP(1,'Datos mensuales'!$AM$2:$AS$2,'Datos mensuales'!$AM151:$AS151),LOOKUP('Tipos de Cambio'!$J$6,'Datos mensuales'!$AM$2:$AS$2,'Datos mensuales'!$AM151:$AS151))","v":"n.d."},2.2353100000000001,2.06,1.99,3.39,0.1,5.28,5.32,1.45,110.7,111.5,110.2,100,-2.3693971547799175,-2.4798752484655351,-0.45541094493994905,10403.94,1845.35,1147.3900000000001]
[null,"abril ",null,"n.d.",-1.2999999999999972,"n.d.",1.6393442622950851,2.3007305637335072,-1.0816125860373731,4.7047921862165438,null,null,null,null,null,null,null,null,null,26.18,25.73,-0.44999999999999929,302.68329999999997,43.44,41.38,65.430000000000007,123.7217713,311.14999999999998,87.106647769999995,189.5,544.27,null,null,null,null,null,null,null,"n.d.",1.5813299999999999,"n.d.","n.d.",0.88584300001829785,130.816,9.1661999999999999,{"$f":"IF(AND('Tipos de Cambio'!$J$6<>1,'Tipos de Cambio'!$J$6<>2,'Tipos de Cambio'!$J$6<>3,'Tipos de Cambio'!$J$6<>4,'Tipos de Cambio'!$J$6<>5,'Tipos de Cambio'!$J$6<>6,'Tipos de Cambio'!$J$6<>7),LOOKUP(1,'Datos mensuales'!$AM$2:$AS$2,'Datos mensuales'!$AM152:$AS152),LOOKUP('Tipos de Cambio'!$J$6,'Datos mensuales'!$AM$2:$AS$2,'Datos mensuales'!$AM152:$AS152))","v":"n.d."},2.20696,1.98,1.97,3.41,0.08,5.21,5.3,1.39,108.5,106.8,109.6,100,-1.6354260347951621,-1.4873778377325508,-0.40732234133998846,9946.2199999999993,1688.23,1076.92]
[null,"mayo",null,"n.d.",-1.0999999999999943,"n.d.",1.1817670230726072,2.0188863562357535,-0.88408644400785019,4.6768139588163757,null,null,null,null,null,null,null,null,null,27.04,25.35,-1.6899999999999977,314.4932,43.71,39.93,61.4,121.46406380000001,337.82,90.331305020000002,198.30434779999999,625.55999999999995,null,null,null,null,null,null,null,"n.d.",1.5501499999999999,"n.d.","n.d.",0.91699999991105097,126.375,9.5098900000000004,{"$f":"IF(AND('Tipos de Cambio'!$J$6<>1,'Tipos de Cambio'!$J$6<>2,'Tipos de Cambio'!$J$6<>3,'Tipos de Cambio'!$J$6<>4,'Tipos de Cambio'!$J$6<>5,'Tipos de Cambio'!$J$6<>6,'Tipos de Cambio'!$J$6<>7),LOOKUP(1,'Datos mensuales'!$AM$2:$AS$2,'Datos mensuales'!$AM153:$AS153),LOOKUP('Tipos de Cambio'!$J$6,'Datos mensuales'!$AM$2:$AS$2,'Datos mensuales'!$AM153:$AS153))","v":"n.d."},2.1005099999999999,1.91,1.91,3.46,0.08,5.15,5.3,1.38,110.3,111.2,109.7,100,-0.48766337727249587,-0.32799586127533198,-0.34625890331143605,9925.25,1615.73,1067.1400000000001]
[null,"junio",null,"n.d.",-0.79999999999999716,"n.d.",1.0674157303370819,1.9193233571893256,-0.68965517241379581,4.938986423702536,null,null,null,null,null,null,null,null,null,25.52,24.08,-1.4400000000000013,321.17779999999999,44.07,43.48,58.57,132.0341406,376,93.169800129999999,202,647.61,null,null,null,null,null,null,null,"n.d.",1.5318400000000001,"n.d.","n.d.",0.95544000009829577,123.29,9.76708,{"$f":"IF(AND('Tipos de Cambio'!$J$6<>1,'Tipos de Cambio'!$J$6<>2,'Tipos de Cambio'!$J$6<>3,'Tipos de Cambio'!$J$6<>4,'Tipos de Cambio'!$J$6<>5,'Tipos de Cambio'!$J$6<>6,'Tipos de Cambio'!$J$6<>7),LOOKUP(1,'Datos mensuales'!$AM$2:$AS$2,'Datos mensuales'!$AM154:$AS154),LOOKUP('Tipos de Cambio'!$J$6,'Datos mensuales'!$AM$2:$AS$2,'Datos mensuales'!$AM154:$AS154))","v":"n.d."},2.00177,1.83,1.88,3.46,7.0000000000000007E-2,4.9000000000000004,5.16,1.36,106.3,104.9,107.2,100,1.1367235496413608,0.77566317462536283,-0.27379570753250926,9243.26,1463.21,989.81]
[null,"julio",null,"n.d.",-0.90000000000000568,"n.d.",1.4647887323943631,2.0206409560021723,-0.79051383399209207,5.5143872764192556,null,null,null,null,null,null,null,null,null,26.97,25.74,-1.2300000000000004,313.29129999999998,45.7,46.59,56.48,149.3049887,369.21,99.700002679999997,199.6086957,536.82000000000005,null,null,null,null,null,null,null,"n.d.",1.54555,"n.d.","n.d.",0.99218299991524672,117.899,9.7791700000000006,{"$f":"IF(AND('Tipos de Cambio'!$J$6<>1,'Tipos de Cambio'!$J$6<>2,'Tipos de Cambio'!$J$6<>3,'Tipos de Cambio'!$J$6<>4,'Tipos de Cambio'!$J$6<>5,'Tipos de Cambio'!$J$6<>6,'Tipos de Cambio'!$J$6<>7),LOOKUP(1,'Datos mensuales'!$AM$2:$AS$2,'Datos mensuales'!$AM155:$AS155),LOOKUP('Tipos de Cambio'!$J$6,'Datos mensuales'!$AM$2:$AS$2,'Datos mensuales'!$AM155:$AS155))","v":"n.d."},1.90524,1.74,1.85,3.41,7.0000000000000007E-2,4.62,5.03,1.3,97.4,99.4,96.1,100,1.4392177231769887,1.4435385178375171,-0.19151269107670066,8736.59,1328.26,911.62]
[null,"agosto",null,"n.d.",-0.70000000000000284,"n.d.",1.8028169014084443,2.1204871683340616,-0.88582677165353496,5.2917544722454766,null,null,null,null,null,null,null,null,null,28.39,26.65,-1.740000000000002,310.25479999999999,46.1,49.43,54.27,161.2589341,391.51,109.8910018,191.31818179999999,420.26,null,null,null,null,null,null,null,"n.d.",1.5691999999999999,"n.d.","n.d.",0.97775900011173233,119,9.8387100000000007,{"$f":"IF(AND('Tipos de Cambio'!$J$6<>1,'Tipos de Cambio'!$J$6<>2,'Tipos de Cambio'!$J$6<>3,'Tipos de Cambio'!$J$6<>4,'Tipos de Cambio'!$J$6<>5,'Tipos de Cambio'!$J$6<>6,'Tipos de Cambio'!$J$6<>7),LOOKUP(1,'Datos mensuales'!$AM$2:$AS$2,'Datos mensuales'!$AM156:$AS156),LOOKUP('Tipos de Cambio'!$J$6,'Datos mensuales'!$AM$2:$AS$2,'Datos mensuales'!$AM156:$AS156))","v":"n.d."},1.7638499999999999,1.64,1.78,3.35,7.0000000000000007E-2,4.24,4.7300000000000004,1.26,94.5,93.1,95.5,100,1.6633063375580459,1.7749467892270276,-0.10092600217757042,8663.5,1314.85,916.07]
[null,"septiembre",null,"n.d.",-0.70000000000000284,"n.d.",1.5143017386427304,2.1036651485577944,-0.69033530571992385,4.9481152262099073,null,null,null,null,null,null,null,null,null,29.66,28.4,-1.2600000000000016,319.13569999999999,47.44,49.02,60.67,187.84280989999999,369.4,113.9414542,188.4761905,485.71,null,null,null,null,null,null,null,"n.d.",1.5761400000000001,"n.d.","n.d.",0.9807950001393414,121.078,10.0708,{"$f":"IF(AND('Tipos de Cambio'!$J$6<>1,'Tipos de Cambio'!$J$6<>2,'Tipos de Cambio'!$J$6<>3,'Tipos de Cambio'!$J$6<>4,'Tipos de Cambio'!$J$6<>5,'Tipos de Cambio'!$J$6<>6,'Tipos de Cambio'!$J$6<>7),LOOKUP(1,'Datos mensuales'!$AM$2:$AS$2,'Datos mensuales'!$AM157:$AS157),LOOKUP('Tipos de Cambio'!$J$6,'Datos mensuales'!$AM$2:$AS$2,'Datos mensuales'!$AM157:$AS157))","v":"n.d."},1.7799400000000001,1.64,1.8,3.31,7.0000000000000007E-2,3.88,4.5199999999999996,1.1599999999999999,93.7,88.5,97.2,100,2.1247026631166177,2.1143222466410094,-3.4491073115372473E-3,7591.93,1172.06,815.28]
[null,"octubre",null,"n.d.",-0.79999999999999716,"n.d.",2.0258863252673174,2.2968580715059641,-0.88757396449704695,4.9364119033448084,null,null,null,null,null,null,null,null,null,28.84,27.54,-1.3000000000000007,316.55650000000003,48.13,49.56,65.73,190.3162178,372.8,109.64680989999999,185.47826090000001,544.27,null,null,null,null,null,null,null,"n.d.",1.5780099999999999,"n.d.","n.d.",0.98112318982771485,123.908,10.094099999999999,{"$f":"IF(AND('Tipos de Cambio'!$J$6<>1,'Tipos de Cambio'!$J$6<>2,'Tipos de Cambio'!$J$6<>3,'Tipos de Cambio'!$J$6<>4,'Tipos de Cambio'!$J$6<>5,'Tipos de Cambio'!$J$6<>6,'Tipos de Cambio'!$J$6<>7),LOOKUP(1,'Datos mensuales'!$AM$2:$AS$2,'Datos mensuales'!$AM158:$AS158),LOOKUP('Tipos de Cambio'!$J$6,'Datos mensuales'!$AM$2:$AS$2,'Datos mensuales'!$AM158:$AS158))","v":"n.d."},1.7367699999999999,1.59,1.78,3.26,7.0000000000000007E-2,3.91,4.62,1.0900000000000001,79.400000000000006,77.5,80.7,100,2.312859654868249,2.5623373536560967,9.9623202164722535E-2,8397.0300000000007,1329.75,885.76]
[null,"noviembre",null,"n.d.",-0.70000000000000284,"n.d.",2.1984216459977484,2.2880069399262624,-0.39643211100099673,5.3881075134145107,null,null,null,null,null,null,null,null,null,26.35,29.6,3.25,319.06670000000003,49.16,52.24,69.87,176.26157359999999,409.97,108.6464294,187.19047620000001,396.14,null,null,null,null,null,null,null,"n.d.",1.57145,"n.d.","n.d.",1.0017992314196296,121.505,10.1952,{"$f":"IF(AND('Tipos de Cambio'!$J$6<>1,'Tipos de Cambio'!$J$6<>2,'Tipos de Cambio'!$J$6<>3,'Tipos de Cambio'!$J$6<>4,'Tipos de Cambio'!$J$6<>5,'Tipos de Cambio'!$J$6<>6,'Tipos de Cambio'!$J$6<>7),LOOKUP(1,'Datos mensuales'!$AM$2:$AS$2,'Datos mensuales'!$AM159:$AS159),LOOKUP('Tipos de Cambio'!$J$6,'Datos mensuales'!$AM$2:$AS$2,'Datos mensuales'!$AM159:$AS159))","v":"n.d."},1.4616400000000001,1.3,1.46,3.12,7.0000000000000007E-2,4.04,4.59,0.99,84.9,78.3,89.3,100,3.3955475601529228,2.9662603825599598,0.2071309742947447,8896.09,1478.78,936.31]
[null,"diciembre",null,"n.d.",-0.40000000000000568,"n.d.",2.3769100169779387,2.2776338514680479,-0.29761904761904484,5.7004794045940432,null,null,null,null,null,null,null,null,null,29.46,28.33,-1.1300000000000026,331.9194,48.559999999999995,54.475000000000001,64.16,168.97712419999999,433.56,107.0126485,185.27272730000001,625.22,null,null,null,null,null,null,null,"n.d.",1.5592200000000001,"n.d.","n.d.",1.0191664441486596,121.893,10.225099999999999,{"$f":"IF(AND('Tipos de Cambio'!$J$6<>1,'Tipos de Cambio'!$J$6<>2,'Tipos de Cambio'!$J$6<>3,'Tipos de Cambio'!$J$6<>4,'Tipos de Cambio'!$J$6<>5,'Tipos de Cambio'!$J$6<>6,'Tipos de Cambio'!$J$6<>7),LOOKUP(1,'Datos mensuales'!$AM$2:$AS$2,'Datos mensuales'!$AM160:$AS160),LOOKUP('Tipos de Cambio'!$J$6,'Datos mensuales'!$AM$2:$AS$2,'Datos mensuales'!$AM160:$AS160))","v":"n.d."},1.42222,1.27,1.41,2.94,0.06,4.03,4.41,0.97,80.7,69.599999999999994,88.1,100,2.8826609036390671,3.1184548359981523,0.31807316667060714,8341.6299999999992,1335.51,879.82]
[2003,"enero",null,"n.d.",0.40000000000000568,"n.d.",2.5974025974025943,2.1031061259706672,-0.39761431411529968,5.1570615398194857,null,null,null,null,null,null,null,null,null,32.950000000000003,31.18,-1.7700000000000031,356.85910000000001,48.599269999999997,56.71,65.569999999999993,149.5992143,431.32,105.75286560000001,199.73913039999999,560.79999999999995,null,null,null,null,null,null,null,3.43,1.5414479999999999,"n.d.","n.d.",1.0618399999999999,118.813,10.622299999999999,{"$f":"IF(AND('Tipos de Cambio'!$J$6<>1,'Tipos de Cambio'!$J$6<>2,'Tipos de Cambio'!$J$6<>3,'Tipos de Cambio'!$J$6<>4,'Tipos de Cambio'!$J$6<>5,'Tipos de Cambio'!$J$6<>6,'Tipos de Cambio'!$J$6<>7),LOOKUP(1,'Datos mensuales'!$AM$2:$AS$2,'Datos mensuales'!$AM161:$AS161),LOOKUP('Tipos de Cambio'!$J$6,'Datos mensuales'!$AM$2:$AS$2,'Datos mensuales'!$AM161:$AS161))","v":3.43},1.37293,1.22,1.37,2.83,0.06,4.0199999999999996,4.2699999999999996,0.84,79,69.599999999999994,81.400000000000006,100,2.9403113713472928,3.1137169241977514,0.43162799261535767,8053.81,1320.91,855.7]
[null,"febrero",null,"n.d.",0.20000000000000284,"n.d.",2.9808773903261994,2.3683927225750918,-0.19980019980018843,5.5169977327781474,null,null,null,null,null,null,null,null,null,35.83,32.770000000000003,-3.0599999999999952,358.97,48.902149999999999,58.54,66.41,150.83815509999999,421.52,106.0371916,198.75,461.59,null,null,null,null,null,null,null,3.6,1.5121500000000001,"n.d.","n.d.",1.078422,119.33799999999999,10.944699999999999,{"$f":"IF(AND('Tipos de Cambio'!$J$6<>1,'Tipos de Cambio'!$J$6<>2,'Tipos de Cambio'!$J$6<>3,'Tipos de Cambio'!$J$6<>4,'Tipos de Cambio'!$J$6<>5,'Tipos de Cambio'!$J$6<>6,'Tipos de Cambio'!$J$6<>7),LOOKUP(1,'Datos mensuales'!$AM$2:$AS$2,'Datos mensuales'!$AM162:$AS162),LOOKUP('Tipos de Cambio'!$J$6,'Datos mensuales'!$AM$2:$AS$2,'Datos mensuales'!$AM162:$AS162))","v":3.6},1.34338,1.2,1.34,2.69,0.06,3.9,4.0599999999999996,0.83,64,61.6,65.599999999999994,100,3.2147274229859413,2.8854726711152301,0.54715696349163512,7891.08,1337.52,841.15]
[null,"marzo",null,"n.d.",0.90000000000000568,"n.d.",3.0201342281879064,2.4518201284796488,-9.9700897308070108E-2,5.6426710948939114,null,null,null,null,null,null,null,null,null,33.51,30.61,-2.8999999999999986,340.55,49.052800000000005,61.01,61.75,141.8086821,390.13,105.0640156,196.952381,485.71,null,null,null,null,null,null,null,3.46,1.4760800000000001,"n.d.","n.d.",1.078454,118.687,10.9053,{"$f":"IF(AND('Tipos de Cambio'!$J$6<>1,'Tipos de Cambio'!$J$6<>2,'Tipos de Cambio'!$J$6<>3,'Tipos de Cambio'!$J$6<>4,'Tipos de Cambio'!$J$6<>5,'Tipos de Cambio'!$J$6<>6,'Tipos de Cambio'!$J$6<>7),LOOKUP(1,'Datos mensuales'!$AM$2:$AS$2,'Datos mensuales'!$AM163:$AS163),LOOKUP('Tipos de Cambio'!$J$6,'Datos mensuales'!$AM$2:$AS$2,'Datos mensuales'!$AM163:$AS163))","v":3.46},1.2642899999999999,1.1599999999999999,1.29,2.5299999999999998,0.06,3.79,4.13,0.74,62.5,63.5,62.5,100,2.2004632792388401,2.1447678026036421,0.66419932566494921,7992.13,1341.17,848.18]
[null,"abril ",null,"n.d.",1,"n.d.",2.2246941045606228,2.0784480920912416,-9.9403578528821396E-2,5.2481119211117244,null,null,null,null,null,null,null,null,null,28.17,25,-3.1700000000000017,328.18,48.187980000000003,60.78,64.69,138.61548250000001,377.2,105.2537329,195.18181820000001,384.43,null,null,null,null,null,null,null,3.11,1.4581999999999999,"n.d.","n.d.",1.0854779999999999,119.895,10.588699999999999,{"$f":"IF(AND('Tipos de Cambio'!$J$6<>1,'Tipos de Cambio'!$J$6<>2,'Tipos de Cambio'!$J$6<>3,'Tipos de Cambio'!$J$6<>4,'Tipos de Cambio'!$J$6<>5,'Tipos de Cambio'!$J$6<>6,'Tipos de Cambio'!$J$6<>7),LOOKUP(1,'Datos mensuales'!$AM$2:$AS$2,'Datos mensuales'!$AM164:$AS164),LOOKUP('Tipos de Cambio'!$J$6,'Datos mensuales'!$AM$2:$AS$2,'Datos mensuales'!$AM164:$AS164))","v":3.11},1.2793099999999999,1.17,1.3,2.54,0.06,3.94,4.2300000000000004,0.66,81,84.8,75.2,100,0.94976118038367918,1.1478499528768671,0.78245060232526864,8480.09,1464.31,916.92]
[null,"mayo",null,"n.d.",0.70000000000000284,"n.d.",2.0578420467185699,1.8087030535163349,-0.19821605550049837,4.6962984243437624,null,null,null,null,null,null,null,null,null,28.11,25.81,-2.3000000000000007,355.6825,48.164649999999995,57.8,66.260000000000005,141.96178069999999,382.12,107.8173535,197.72727269999999,296.25,null,null,null,null,null,null,null,2.94,1.3839600000000001,"n.d.","n.d.",1.1548099999999999,117.36799999999999,10.252800000000001,{"$f":"IF(AND('Tipos de Cambio'!$J$6<>1,'Tipos de Cambio'!$J$6<>2,'Tipos de Cambio'!$J$6<>3,'Tipos de Cambio'!$J$6<>4,'Tipos de Cambio'!$J$6<>5,'Tipos de Cambio'!$J$6<>6,'Tipos de Cambio'!$J$6<>7),LOOKUP(1,'Datos mensuales'!$AM$2:$AS$2,'Datos mensuales'!$AM165:$AS165),LOOKUP('Tipos de Cambio'!$J$6,'Datos mensuales'!$AM$2:$AS$2,'Datos mensuales'!$AM165:$AS165))","v":2.94},1.2333400000000001,1.1100000000000001,1.28,2.41,0.06,3.56,3.92,0.56999999999999995,83.6,67.3,94.5,100,0.56438520803996362,0.37544688650510416,0.90170506636650938,8850.26,1595.91,963.59]
[null,"junio",null,"n.d.",0.29999999999999716,"n.d.",2.1122846025569664,1.893818491328866,-0.39682539682538837,4.2743734144647032,null,null,null,null,null,null,null,null,null,30.66,27.65,-3.0100000000000016,356.35239999999999,47.67333,58.5,61.04,131.3475852,390.44,106.99249570000001,203.66666670000001,308.3,null,null,null,null,null,null,null,2.88,1.3525100000000001,"n.d.","n.d.",1.1676420000000001,118.32899999999999,10.502800000000001,{"$f":"IF(AND('Tipos de Cambio'!$J$6<>1,'Tipos de Cambio'!$J$6<>2,'Tipos de Cambio'!$J$6<>3,'Tipos de Cambio'!$J$6<>4,'Tipos de Cambio'!$J$6<>5,'Tipos de Cambio'!$J$6<>6,'Tipos de Cambio'!$J$6<>7),LOOKUP(1,'Datos mensuales'!$AM$2:$AS$2,'Datos mensuales'!$AM166:$AS166),LOOKUP('Tipos de Cambio'!$J$6,'Datos mensuales'!$AM$2:$AS$2,'Datos mensuales'!$AM166:$AS166))","v":2.88},1.0814600000000001,0.94,1.1200000000000001,2.15,0.06,3.32,3.72,0.56000000000000005,83.5,64.900000000000006,95.9,100,-0.35192068291933776,5.8772317760991122E-2,1.0217807195353368,8985.44,1622.8,974.5]
[null,"julio",null,"n.d.",0.5,"n.d.",2.1099389228206618,1.8954317964008105,-0.19920318725099884,4.1265817731826777,null,null,null,null,null,null,null,null,null,30.76,28.35,-2.41,351.01960000000003,47.068640000000002,60.21,62.95,131.61736110000001,382.83,97.614424659999997,199.47826090000001,296.25,null,null,null,null,null,null,null,2.87,1.38209,"n.d.","n.d.",1.1373009999999999,118.696,10.4581,{"$f":"IF(AND('Tipos de Cambio'!$J$6<>1,'Tipos de Cambio'!$J$6<>2,'Tipos de Cambio'!$J$6<>3,'Tipos de Cambio'!$J$6<>4,'Tipos de Cambio'!$J$6<>5,'Tipos de Cambio'!$J$6<>6,'Tipos de Cambio'!$J$6<>7),LOOKUP(1,'Datos mensuales'!$AM$2:$AS$2,'Datos mensuales'!$AM167:$AS167),LOOKUP('Tipos de Cambio'!$J$6,'Datos mensuales'!$AM$2:$AS$2,'Datos mensuales'!$AM167:$AS167))","v":2.87},1.1233200000000001,0.97,1.1100000000000001,2.13,0.05,3.93,4.05,1,77,63,86.3,100,0.47708840272226993,0.12902120946043372,1.1424578357567938,9233.7999999999993,1735.02,990.31]
[null,"agosto",null,"n.d.",0.90000000000000568,"n.d.",2.1582733812949675,2.0658076882121157,-0.29791459781529012,4.043346423422423,null,null,null,null,null,null,null,null,null,31.57,29.89,-1.6799999999999997,359.76749999999998,46.857619999999997,60.5,63.89,148.71718100000001,361.94,100.3078479,196.42857140000001,285.91000000000003,null,null,null,null,null,null,null,2.99,1.3962699999999999,"n.d.","n.d.",1.114004,118.66200000000001,10.782999999999999,{"$f":"IF(AND('Tipos de Cambio'!$J$6<>1,'Tipos de Cambio'!$J$6<>2,'Tipos de Cambio'!$J$6<>3,'Tipos de Cambio'!$J$6<>4,'Tipos de Cambio'!$J$6<>5,'Tipos de Cambio'!$J$6<>6,'Tipos de Cambio'!$J$6<>7),LOOKUP(1,'Datos mensuales'!$AM$2:$AS$2,'Datos mensuales'!$AM168:$AS168),LOOKUP('Tipos de Cambio'!$J$6,'Datos mensuales'!$AM$2:$AS$2,'Datos mensuales'!$AM168:$AS168))","v":2.99},1.1952499999999999,1.05,1.1399999999999999,2.14,0.05,4.4400000000000004,4.2,1.1499999999999999,81.7,62,94.9,100,0.20199367197786255,0.34576833764314863,1.2634490660123676,9415.82,1810.45,1008.01]
[null,"septiembre",null,"n.d.",1.0999999999999943,"n.d.",2.3204419889502703,2.1559048428207319,-0.19860973187686479,4.0369601739304395,null,null,null,null,null,null,null,null,null,28.31,27.11,-1.1999999999999993,378.94549999999998,46.663409999999999,64.180000000000007,66.41,145.62302460000001,374.87,103.2150218,202.86363639999999,311.8,null,null,null,null,null,null,null,2.92,1.36337,"n.d.","n.d.",1.1266099999999999,114.8,10.9229,{"$f":"IF(AND('Tipos de Cambio'!$J$6<>1,'Tipos de Cambio'!$J$6<>2,'Tipos de Cambio'!$J$6<>3,'Tipos de Cambio'!$J$6<>4,'Tipos de Cambio'!$J$6<>5,'Tipos de Cambio'!$J$6<>6,'Tipos de Cambio'!$J$6<>7),LOOKUP(1,'Datos mensuales'!$AM$2:$AS$2,'Datos mensuales'!$AM169:$AS169),LOOKUP('Tipos de Cambio'!$J$6,'Datos mensuales'!$AM$2:$AS$2,'Datos mensuales'!$AM169:$AS169))","v":2.92},1.18557,1.03,1.1399999999999999,2.15,0.05,4.29,4.2300000000000004,1.45,77,59.7,88.5,100,0.67196769574227044,0.67019230695715137,1.3843967273411195,9275.06,1786.94,995.97]
[null,"octubre",null,"n.d.",1.7999999999999972,"n.d.",2.0408163265306056,1.9699216267739881,0,3.9602109488769042,null,null,null,null,null,null,null,null,null,30.34,29.61,-0.73000000000000043,378.9196,46.350700000000003,72.400000000000006,64.3,147.4558337,449.02,104.17171829999999,204,327.9,null,null,null,null,null,null,null,2.86,1.3221000000000001,"n.d.","n.d.",1.171173,109.509,11.179600000000001,{"$f":"IF(AND('Tipos de Cambio'!$J$6<>1,'Tipos de Cambio'!$J$6<>2,'Tipos de Cambio'!$J$6<>3,'Tipos de Cambio'!$J$6<>4,'Tipos de Cambio'!$J$6<>5,'Tipos de Cambio'!$J$6<>6,'Tipos de Cambio'!$J$6<>7),LOOKUP(1,'Datos mensuales'!$AM$2:$AS$2,'Datos mensuales'!$AM170:$AS170),LOOKUP('Tipos de Cambio'!$J$6,'Datos mensuales'!$AM$2:$AS$2,'Datos mensuales'!$AM170:$AS170))","v":2.86},1.2039899999999999,1.02,1.1599999999999999,2.14,0.06,4.2699999999999996,4.3099999999999996,1.4,81.7,67,91.5,100,1.0603035811873385,1.0365203122972844,1.5048795675551174,9801.1200000000008,1932.21,1050.71]
[null,"noviembre",null,"n.d.",3,"n.d.",1.7650303364589015,2.1520195059896121,-0.49751243781094528,3.9821195026256992,null,null,null,null,null,null,null,null,null,31.11,28.73,-2.379999999999999,389.91,45.958979999999997,76.77,62.28,160.54532760000001,484.63,108.0310116,201.75,408.2,null,null,null,null,null,null,null,2.91,1.31304,"n.d.","n.d.",1.1720470000000001,109.158,11.1494,{"$f":"IF(AND('Tipos de Cambio'!$J$6<>1,'Tipos de Cambio'!$J$6<>2,'Tipos de Cambio'!$J$6<>3,'Tipos de Cambio'!$J$6<>4,'Tipos de Cambio'!$J$6<>5,'Tipos de Cambio'!$J$6<>6,'Tipos de Cambio'!$J$6<>7),LOOKUP(1,'Datos mensuales'!$AM$2:$AS$2,'Datos mensuales'!$AM171:$AS171),LOOKUP('Tipos de Cambio'!$J$6,'Datos mensuales'!$AM$2:$AS$2,'Datos mensuales'!$AM171:$AS171))","v":2.91},1.2433099999999999,1.04,1.17,2.16,0.06,4.29,4.4400000000000004,1.38,92.5,81,100.1,100,1.3130154193038646,1.3398231998537291,1.6244273765645412,9782.4599999999991,1960.26,1058.2]
[null,"diciembre",null,"n.d.",3.2000000000000028,"n.d.",1.8794914317302409,1.9736147757255986,-0.39800995024876185,3.9765218067332402,null,null,null,null,null,null,null,null,null,32.130000000000003,29.81,-2.3200000000000038,406.95260000000002,44.974249999999998,73.599999999999994,64.86,165.57344620000001,478.47,111.9818495,197,370.3,null,null,null,null,null,null,null,2.92,1.3127500000000001,"n.d.","n.d.",1.230189,107.742,11.2515,{"$f":"IF(AND('Tipos de Cambio'!$J$6<>1,'Tipos de Cambio'!$J$6<>2,'Tipos de Cambio'!$J$6<>3,'Tipos de Cambio'!$J$6<>4,'Tipos de Cambio'!$J$6<>5,'Tipos de Cambio'!$J$6<>6,'Tipos de Cambio'!$J$6<>7),LOOKUP(1,'Datos mensuales'!$AM$2:$AS$2,'Datos mensuales'!$AM172:$AS172),LOOKUP('Tipos de Cambio'!$J$6,'Datos mensuales'!$AM$2:$AS$2,'Datos mensuales'!$AM172:$AS172))","v":2.92},1.2350300000000001,1.01,1.17,2.15,0.06,4.26,4.3600000000000003,1.35,91.3,73.900000000000006,102.9,100,1.6858179450414346,1.46997224393004,1.7425387441953877,10453.92,2003.37,1111.92]
[2004,"enero",null,"n.d.",3.2,"n.d.",1.9262520638414973,1.8802154853702346,-0.29940119760478756,4.2015098722422834,null,null,null,null,null,null,null,null,null,34.31,31.28,-3.0300000000000011,413.78809999999999,45.123930094736799,76.150000000000006,72.73,166.32712359999999,467.69,115.0864131,207.45454549999999,427.2,null,null,null,null,null,null,null,2.85,1.29575,8.2768999999999995,"n.d.",1.260893,106.26900000000001,10.920299999999999,{"$f":"IF(AND('Tipos de Cambio'!$J$6<>1,'Tipos de Cambio'!$J$6<>2,'Tipos de Cambio'!$J$6<>3,'Tipos de Cambio'!$J$6<>4,'Tipos de Cambio'!$J$6<>5,'Tipos de Cambio'!$J$6<>6,'Tipos de Cambio'!$J$6<>7),LOOKUP(1,'Datos mensuales'!$AM$2:$AS$2,'Datos mensuales'!$AM173:$AS173),LOOKUP('Tipos de Cambio'!$J$6,'Datos mensuales'!$AM$2:$AS$2,'Datos mensuales'!$AM173:$AS173))","v":2.85},1.18801,0.99,1.1299999999999999,2.09,0.06,4.13,4.26,1.33,96.4,79.400000000000006,107.8,100,1.2722840755174936,1.3862368269169423,1.8586942192903022,10488.07,2066.15,1131.1300000000001]
[null,"febrero",null,"n.d.",2.1,"n.d.",1.6930638995084624,1.6090019981070576,0,4.5344426534882016,null,null,null,null,null,null,null,null,null,34.69,30.86,-3.8299999999999983,404.8775,45.516120389473699,73.91,76.209999999999994,161.39145250000001,501.61,122.90652900000001,213.25,496.1,null,null,null,null,null,null,null,2.93,1.32989,8.2771000000000008,"n.d.",1.263703,106.708,11.0319,{"$f":"IF(AND('Tipos de Cambio'!$J$6<>1,'Tipos de Cambio'!$J$6<>2,'Tipos de Cambio'!$J$6<>3,'Tipos de Cambio'!$J$6<>4,'Tipos de Cambio'!$J$6<>5,'Tipos de Cambio'!$J$6<>6,'Tipos de Cambio'!$J$6<>7),LOOKUP(1,'Datos mensuales'!$AM$2:$AS$2,'Datos mensuales'!$AM174:$AS174),LOOKUP('Tipos de Cambio'!$J$6,'Datos mensuales'!$AM$2:$AS$2,'Datos mensuales'!$AM174:$AS174))","v":2.93},1.1857500000000001,1.01,1.1200000000000001,2.0699999999999998,0.05,4.0599999999999996,4.18,1.25,87.3,73.099999999999994,96.8,100,1.5205245412086565,1.3700658777514807,1.9723578946172715,10583.92,2029.82,1144.94]
[null,"marzo",null,"n.d.",3,"n.d.",1.7372421281216164,1.6720660466088499,-9.9800399201605314E-2,4.2307286521329912,null,null,null,null,null,null,null,null,null,36.74,33.630000000000003,-3.1099999999999994,406.66739999999999,46.581703539130395,72.23,78.06,166.27978909999999,520.57000000000005,128.43024080000001,240.34782609999999,512.6,null,null,null,null,null,null,null,2.91,1.3285800000000001,8.2771000000000008,"n.d.",1.2263390000000001,108.51600000000001,11.019,{"$f":"IF(AND('Tipos de Cambio'!$J$6<>1,'Tipos de Cambio'!$J$6<>2,'Tipos de Cambio'!$J$6<>3,'Tipos de Cambio'!$J$6<>4,'Tipos de Cambio'!$J$6<>5,'Tipos de Cambio'!$J$6<>6,'Tipos de Cambio'!$J$6<>7),LOOKUP(1,'Datos mensuales'!$AM$2:$AS$2,'Datos mensuales'!$AM175:$AS175),LOOKUP('Tipos de Cambio'!$J$6,'Datos mensuales'!$AM$2:$AS$2,'Datos mensuales'!$AM175:$AS175))","v":2.91},1.1585300000000001,1.01,1.1100000000000001,2.0299999999999998,0.05,3.81,4.0199999999999996,1.35,88.5,84.4,91.3,100,1.2072993524696596,1.6898540530676298,2.0829642664717873,10357.700000000001,1994.22,1126.21]
[null,"abril ",null,"n.d.",3.8,"n.d.",2.2850924918389492,2.0361282238696909,-0.39800995024876185,4.210113080363409,null,null,null,null,null,null,null,null,null,36.75,33.590000000000003,-3.1599999999999966,403.26,46.398852447618999,69.459999999999994,75.44,166.58441160000001,516.34,133.39263270000001,253.4090909,529.1,null,null,null,null,null,null,null,2.9,1.3419700000000001,8.2768999999999995,"n.d.",1.1991449999999999,107.65600000000001,11.270099999999999,{"$f":"IF(AND('Tipos de Cambio'!$J$6<>1,'Tipos de Cambio'!$J$6<>2,'Tipos de Cambio'!$J$6<>3,'Tipos de Cambio'!$J$6<>4,'Tipos de Cambio'!$J$6<>5,'Tipos de Cambio'!$J$6<>6,'Tipos de Cambio'!$J$6<>7),LOOKUP(1,'Datos mensuales'!$AM$2:$AS$2,'Datos mensuales'!$AM176:$AS176),LOOKUP('Tipos de Cambio'!$J$6,'Datos mensuales'!$AM$2:$AS$2,'Datos mensuales'!$AM176:$AS176))","v":2.9},1.2802800000000001,1.1100000000000001,1.1499999999999999,2.0499999999999998,0.05,4.32,4.24,1.51,92.9,90.6,94.5,100,2.3874773716668241,2.2829483031456155,2.1899100857996512,10225.57,1920.15,1107.3]
[null,"mayo",null,"n.d.",4.4000000000000004,"n.d.",3.0517711171662092,2.4662974187480402,-0.49652432969215493,4.2852202647390394,null,null,null,null,null,null,null,null,null,40.28,37.57,-2.7100000000000009,383.77890000000002,45.755785789999997,70.040000000000006,76.989999999999995,163.7343716,481.14,129.30489979999999,251.57142859999999,556.29999999999995,null,null,null,null,null,null,null,3.09,1.37886,8.2771000000000008,"n.d.",1.1997869999999999,112.196,11.5199,{"$f":"IF(AND('Tipos de Cambio'!$J$6<>1,'Tipos de Cambio'!$J$6<>2,'Tipos de Cambio'!$J$6<>3,'Tipos de Cambio'!$J$6<>4,'Tipos de Cambio'!$J$6<>5,'Tipos de Cambio'!$J$6<>6,'Tipos de Cambio'!$J$6<>7),LOOKUP(1,'Datos mensuales'!$AM$2:$AS$2,'Datos mensuales'!$AM177:$AS177),LOOKUP('Tipos de Cambio'!$J$6,'Datos mensuales'!$AM$2:$AS$2,'Datos mensuales'!$AM177:$AS177))","v":3.09},1.52145,1.33,1.25,2.09,0.05,4.7,4.3899999999999997,1.49,93.2,90.3,95.2,100,3.1176907348898109,2.6514152134013758,2.292569345936557,10188.450000000001,1986.74,1120.68]
[null,"junio",null,"n.d.",5,"n.d.",3.2661948829613499,2.3807037694476363,0,4.3661458133365443,null,null,null,null,null,null,null,null,null,38.03,35.18,-2.8500000000000014,392.37270000000001,44.1585386,64.55,82.21,154.74332759999999,408.98,123.22719739999999,244.22727269999999,603.5,null,null,null,null,null,null,null,3.13,1.3578399999999999,8.2766999999999999,"n.d.",1.2132449999999999,109.434,11.3926,{"$f":"IF(AND('Tipos de Cambio'!$J$6<>1,'Tipos de Cambio'!$J$6<>2,'Tipos de Cambio'!$J$6<>3,'Tipos de Cambio'!$J$6<>4,'Tipos de Cambio'!$J$6<>5,'Tipos de Cambio'!$J$6<>6,'Tipos de Cambio'!$J$6<>7),LOOKUP(1,'Datos mensuales'!$AM$2:$AS$2,'Datos mensuales'!$AM178:$AS178),LOOKUP('Tipos de Cambio'!$J$6,'Datos mensuales'!$AM$2:$AS$2,'Datos mensuales'!$AM178:$AS178))","v":3.13},1.8112200000000001,1.64,1.5,2.11,0.05,4.7300000000000004,4.4400000000000004,1.77,102.1,105.9,100.8,100,2.2483667997298618,2.5753920380635398,2.3903279749185158,10435.48,2047.79,1140.8399999999999]
[null,"julio",null,"n.d.",5.3,"n.d.",2.9907558455682435,2.2886404012958486,-9.9800399201605314E-2,4.4882546315371981,null,null,null,null,null,null,null,null,null,40.78,38.22,-2.5600000000000023,398.09089999999998,44.888162838095205,57.02,74.94,150.60091660000001,386.63,104.4804287,240.31818179999999,603.5,null,null,null,null,null,null,null,3.04,1.3225,8.2766999999999999,"n.d.",1.227406,109.48699999999999,11.4678,{"$f":"IF(AND('Tipos de Cambio'!$J$6<>1,'Tipos de Cambio'!$J$6<>2,'Tipos de Cambio'!$J$6<>3,'Tipos de Cambio'!$J$6<>4,'Tipos de Cambio'!$J$6<>5,'Tipos de Cambio'!$J$6<>6,'Tipos de Cambio'!$J$6<>7),LOOKUP(1,'Datos mensuales'!$AM$2:$AS$2,'Datos mensuales'!$AM179:$AS179),LOOKUP('Tipos de Cambio'!$J$6,'Datos mensuales'!$AM$2:$AS$2,'Datos mensuales'!$AM179:$AS179))","v":3.04},1.89381,1.7,1.63,2.12,0.05,4.4800000000000004,4.34,1.79,106.1,106.5,105.8,100,2.4258518232940229,2.4777017443283533,2.4826030812323818,10139.709999999999,1887.36,1101.72]
[null,"agosto",null,"n.d.",5.3,"n.d.",2.6543878656554742,2.2952529994783548,-0.19920318725099884,4.8188281160424529,null,null,null,null,null,null,null,null,null,44.9,42.74,-2.1599999999999966,400.5095,44.312861999999996,53.56,73.61,141.29479570000001,393.71,104.0394536,252.54545450000001,547.70000000000005,null,null,null,null,null,null,null,3,1.3126800000000001,8.2767999999999997,"n.d.",1.2198899999999999,110.23399999999999,11.395300000000001,{"$f":"IF(AND('Tipos de Cambio'!$J$6<>1,'Tipos de Cambio'!$J$6<>2,'Tipos de Cambio'!$J$6<>3,'Tipos de Cambio'!$J$6<>4,'Tipos de Cambio'!$J$6<>5,'Tipos de Cambio'!$J$6<>6,'Tipos de Cambio'!$J$6<>7),LOOKUP(1,'Datos mensuales'!$AM$2:$AS$2,'Datos mensuales'!$AM180:$AS180),LOOKUP('Tipos de Cambio'!$J$6,'Datos mensuales'!$AM$2:$AS$2,'Datos mensuales'!$AM180:$AS180))","v":3},1.9396100000000001,1.76,1.73,2.11,0.05,4.2699999999999996,4.17,1.63,98.7,100.7,97.3,100,2.7182520730642645,2.4958250456344366,2.5688313115437067,10173.92,1838.1,1104.24]
[null,"septiembre",null,"n.d.",5.2,"n.d.",2.5377969762419101,2.1104064871608288,0,5.0600807409171127,null,null,null,null,null,null,null,null,null,45.94,43.2,-2.7399999999999949,405.27499999999998,45.366880323809497,56.57,80.47,151.03484180000001,401.64,97.755025430000003,252,538.79999999999995,null,null,null,null,null,null,null,2.89,1.2881,8.2766999999999999,"n.d.",1.2209890000000001,110.09099999999999,11.487,{"$f":"IF(AND('Tipos de Cambio'!$J$6<>1,'Tipos de Cambio'!$J$6<>2,'Tipos de Cambio'!$J$6<>3,'Tipos de Cambio'!$J$6<>4,'Tipos de Cambio'!$J$6<>5,'Tipos de Cambio'!$J$6<>6,'Tipos de Cambio'!$J$6<>7),LOOKUP(1,'Datos mensuales'!$AM$2:$AS$2,'Datos mensuales'!$AM181:$AS181),LOOKUP('Tipos de Cambio'!$J$6,'Datos mensuales'!$AM$2:$AS$2,'Datos mensuales'!$AM181:$AS181))","v":2.89},2.0871599999999999,1.91,1.9,2.12,0.05,4.13,4.1100000000000003,1.5,96.8,95.5,97.6,100,2.2069769804702988,2.5386491260717126,2.6484566253833552,10080.27,1896.84,1114.58]
[null,"octubre",null,"n.d.",4.3,"n.d.",3.1891891891891921,2.3680930619027847,0.49751243781094528,5.4012360284306231,null,null,null,null,null,null,null,null,null,53.28,49.78,-3.5,420.46429999999998,47.150522885714302,52.63,80.55,150.145995,381.61,93.368281550000006,253.5238095,496.1,null,null,null,null,null,null,null,2.85,1.2469300000000001,8.2765000000000004,"n.d.",1.2510490000000001,108.78400000000001,11.403700000000001,{"$f":"IF(AND('Tipos de Cambio'!$J$6<>1,'Tipos de Cambio'!$J$6<>2,'Tipos de Cambio'!$J$6<>3,'Tipos de Cambio'!$J$6<>4,'Tipos de Cambio'!$J$6<>5,'Tipos de Cambio'!$J$6<>6,'Tipos de Cambio'!$J$6<>7),LOOKUP(1,'Datos mensuales'!$AM$2:$AS$2,'Datos mensuales'!$AM182:$AS182),LOOKUP('Tipos de Cambio'!$J$6,'Datos mensuales'!$AM$2:$AS$2,'Datos mensuales'!$AM182:$AS182))","v":2.85},2.2268500000000002,2.0499999999999998,2.08,2.15,0.05,4.08,3.98,1.49,92.8,94.2,92,100,3.115864378123856,2.6876907338636125,2.7209261629572046,10027.469999999999,1974.99,1130.2]
[null,"noviembre",null,"n.d.",2.8,"n.d.",3.5230352303523031,2.2000830220008352,0.79999999999999727,5.425294261201743,null,null,null,null,null,null,null,null,null,48.47,43.11,-5.3599999999999994,439.375,45.064532438095199,49.21,90.27,156.5686542,386.67,93.753330309999996,262.31818179999999,492.6,null,null,null,null,null,null,null,2.79,1.1974,8.2765000000000004,"n.d.",1.3017289999999999,104.77800000000001,11.37,{"$f":"IF(AND('Tipos de Cambio'!$J$6<>1,'Tipos de Cambio'!$J$6<>2,'Tipos de Cambio'!$J$6<>3,'Tipos de Cambio'!$J$6<>4,'Tipos de Cambio'!$J$6<>5,'Tipos de Cambio'!$J$6<>6,'Tipos de Cambio'!$J$6<>7),LOOKUP(1,'Datos mensuales'!$AM$2:$AS$2,'Datos mensuales'!$AM183:$AS183),LOOKUP('Tipos de Cambio'!$J$6,'Datos mensuales'!$AM$2:$AS$2,'Datos mensuales'!$AM183:$AS183))","v":2.79},2.5001099999999998,2.3199999999999998,2.31,2.17,0.05,4.1900000000000004,3.87,1.46,92.6,96.3,90.2,100,2.5480783447840771,2.9287031101883354,2.7856885953748689,10428.02,2096.81,1173.82]
[null,"diciembre",null,"n.d.",2.4,"n.d.",3.2555615843733046,2.3597598840819716,0.19980019980020267,5.1908482560095077,null,null,null,null,null,null,null,null,null,43.15,39.6,-3.5499999999999972,442.07889999999998,45.296542447619096,48.6,104.12,153.8743107,370.09,95.589773640000004,278.43478260000001,496.1,null,null,null,null,null,null,null,2.72,1.21888,8.2765000000000004,"n.d.",1.339426,103.81,11.2012,{"$f":"IF(AND('Tipos de Cambio'!$J$6<>1,'Tipos de Cambio'!$J$6<>2,'Tipos de Cambio'!$J$6<>3,'Tipos de Cambio'!$J$6<>4,'Tipos de Cambio'!$J$6<>5,'Tipos de Cambio'!$J$6<>6,'Tipos de Cambio'!$J$6<>7),LOOKUP(1,'Datos mensuales'!$AM$2:$AS$2,'Datos mensuales'!$AM184:$AS184),LOOKUP('Tipos de Cambio'!$J$6,'Datos mensuales'!$AM$2:$AS$2,'Datos mensuales'!$AM184:$AS184))","v":2.72},2.7103899999999999,2.5,2.5,2.17,0.05,4.2300000000000004,3.69,1.4,102.3,105.9,99.9,100,3.3649702745791155,3.2327066256317094,2.8421995043822923,10783.01,2175.44,1211.92]
[2005,"enero",null,"n.d.",1.9,"n.d.",2.9697624190064795,1.928460342146189,0.2002002002001888,4.5448212444617893,null,null,null,null,null,null,null,null,null,46.84,44.51,-2.3300000000000054,424.03,45.465878259999997,51.28,107.16,153.59311959999999,346.63,95.984627459999999,288.38095240000001,575.29999999999995,null,null,null,null,null,null,null,2.69,1.2248399999999999,8.2765000000000004,"n.d.",1.312845,103.34099999999999,11.262700000000001,{"$f":"IF(AND('Tipos de Cambio'!$J$6<>1,'Tipos de Cambio'!$J$6<>2,'Tipos de Cambio'!$J$6<>3,'Tipos de Cambio'!$J$6<>4,'Tipos de Cambio'!$J$6<>5,'Tipos de Cambio'!$J$6<>6,'Tipos de Cambio'!$J$6<>7),LOOKUP(1,'Datos mensuales'!$AM$2:$AS$2,'Datos mensuales'!$AM185:$AS185),LOOKUP('Tipos de Cambio'!$J$6,'Datos mensuales'!$AM$2:$AS$2,'Datos mensuales'!$AM185:$AS185))","v":2.69},2.8911899999999999,2.68,2.66,2.15,0.05,4.21,3.63,1.37,105.1,112.1,100.4,100,3.5765410402753162,3.5474696073046319,2.8899339163491744,10489.94,2062.41,1181.27]
[null,"febrero",null,"n.d.",3.9,"n.d.",3.0075187969924935,2.1010142827571943,-0.10010010010010863,4.2694243109738093,null,null,null,null,null,null,null,null,null,48.15,45.48,-2.6700000000000017,423.35,44.886063199999995,52.25,120.86,151.3047037,347.57,94.359393609999998,292.35000000000002,885.3,null,null,null,null,null,null,null,2.6,1.2400500000000001,8.2765000000000004,"n.d.",1.3009500000000001,104.994,11.1373,{"$f":"IF(AND('Tipos de Cambio'!$J$6<>1,'Tipos de Cambio'!$J$6<>2,'Tipos de Cambio'!$J$6<>3,'Tipos de Cambio'!$J$6<>4,'Tipos de Cambio'!$J$6<>5,'Tipos de Cambio'!$J$6<>6,'Tipos de Cambio'!$J$6<>7),LOOKUP(1,'Datos mensuales'!$AM$2:$AS$2,'Datos mensuales'!$AM186:$AS186),LOOKUP('Tipos de Cambio'!$J$6,'Datos mensuales'!$AM$2:$AS$2,'Datos mensuales'!$AM186:$AS186))","v":2.6},3.0467200000000001,2.85,2.82,2.14,0.05,4.16,3.62,1.4,104.4,116.8,96.1,100,3.6986875098586447,3.813877466073734,2.9284030281639284,10766.23,2051.7199999999998,1203.5999999999999]
[null,"marzo",null,"n.d.",2.7,"n.d.",3.1483457844183591,2.0865453797923599,0,4.3856743227326849,null,null,null,null,null,null,null,null,null,54.19,53.1,-1.0899999999999963,434.32139999999998,45.418178300000001,56.4,135.03,150.98585030000001,374.83,99.943710670000002,295,792.3,null,null,null,null,null,null,null,2.7,1.2160299999999999,8.2765000000000004,"n.d.",1.3196699999999999,105.254,11.155200000000001,{"$f":"IF(AND('Tipos de Cambio'!$J$6<>1,'Tipos de Cambio'!$J$6<>2,'Tipos de Cambio'!$J$6<>3,'Tipos de Cambio'!$J$6<>4,'Tipos de Cambio'!$J$6<>5,'Tipos de Cambio'!$J$6<>6,'Tipos de Cambio'!$J$6<>7),LOOKUP(1,'Datos mensuales'!$AM$2:$AS$2,'Datos mensuales'!$AM187:$AS187),LOOKUP('Tipos de Cambio'!$J$6,'Datos mensuales'!$AM$2:$AS$2,'Datos mensuales'!$AM187:$AS187))","v":2.7},3.28152,3.09,3.03,2.14,0.05,4.49,3.76,1.45,103,117,93.7,100,4.1450153964588177,3.9278570044851469,2.9571720062237405,10503.76,1999.23,1180.5899999999999]
[null,"abril ",null,"n.d.",1.8,"n.d.",3.5106382978723372,2.0773638968481385,9.9900099900108424E-2,4.5995810209859842,null,null,null,null,null,null,null,null,null,52.98,51.88,-1.0999999999999943,429.23329999999999,46.769438571428601,56.95,129.53,140.87696769999999,375.84,96.391198000000003,299.14285710000001,592.5,null,null,null,null,null,null,null,2.58,1.2368600000000001,8.2765000000000004,"n.d.",1.2940179999999999,107.167,11.1097,{"$f":"IF(AND('Tipos de Cambio'!$J$6<>1,'Tipos de Cambio'!$J$6<>2,'Tipos de Cambio'!$J$6<>3,'Tipos de Cambio'!$J$6<>4,'Tipos de Cambio'!$J$6<>5,'Tipos de Cambio'!$J$6<>6,'Tipos de Cambio'!$J$6<>7),LOOKUP(1,'Datos mensuales'!$AM$2:$AS$2,'Datos mensuales'!$AM188:$AS188),LOOKUP('Tipos de Cambio'!$J$6,'Datos mensuales'!$AM$2:$AS$2,'Datos mensuales'!$AM188:$AS188))","v":2.58},3.3836599999999999,3.14,3.15,2.14,0.05,4.34,3.57,1.32,97.7,113.6,87.2,100,3.8915723813071956,3.8260409014247543,2.975875176428433,10192.51,1921.65,1156.8499999999999]
[null,"mayo",null,"n.d.",1.8,"n.d.",2.8027498677948239,1.9887812340642561,9.9800399201591145E-2,4.5991728305232948,null,null,null,null,null,null,null,null,null,49.83,48.65,-1.1799999999999997,421.8725,48.262281257142902,55.86,128.37,144.25388559999999,370.16,95.268641489999993,295.27272729999999,618.29999999999995,null,null,null,null,null,null,null,2.46,1.25566,8.2765000000000004,"n.d.",1.2684580000000001,106.654,10.972300000000001,{"$f":"IF(AND('Tipos de Cambio'!$J$6<>1,'Tipos de Cambio'!$J$6<>2,'Tipos de Cambio'!$J$6<>3,'Tipos de Cambio'!$J$6<>4,'Tipos de Cambio'!$J$6<>5,'Tipos de Cambio'!$J$6<>6,'Tipos de Cambio'!$J$6<>7),LOOKUP(1,'Datos mensuales'!$AM$2:$AS$2,'Datos mensuales'!$AM189:$AS189),LOOKUP('Tipos de Cambio'!$J$6,'Datos mensuales'!$AM$2:$AS$2,'Datos mensuales'!$AM189:$AS189))","v":2.46},3.4859100000000001,3.17,3.27,2.13,0.05,4.1399999999999997,3.41,1.27,103.1,117.8,93.4,100,3.285391640349733,3.8135433901079985,2.9842219446712503,10467.48,2068.2199999999998,1191.5]
[null,"junio",null,"n.d.",1.6,"n.d.",2.5303110173958943,2.0703722590515055,-0.49800796812749004,4.3315522775136923,null,null,null,null,null,null,null,null,null,56.35,54.35,-2,430.65679999999998,48.259131799999999,53.97,121.16,141.9307633,369.64,97.561592860000005,287.04545450000001,485.7,null,null,null,null,null,null,null,2.42,1.24017,8.2765000000000004,"n.d.",1.215957,108.747,10.819699999999999,{"$f":"IF(AND('Tipos de Cambio'!$J$6<>1,'Tipos de Cambio'!$J$6<>2,'Tipos de Cambio'!$J$6<>3,'Tipos de Cambio'!$J$6<>4,'Tipos de Cambio'!$J$6<>5,'Tipos de Cambio'!$J$6<>6,'Tipos de Cambio'!$J$6<>7),LOOKUP(1,'Datos mensuales'!$AM$2:$AS$2,'Datos mensuales'!$AM190:$AS190),LOOKUP('Tipos de Cambio'!$J$6,'Datos mensuales'!$AM$2:$AS$2,'Datos mensuales'!$AM190:$AS190))","v":2.42},3.61307,3.22,3.43,2.11,0.05,4,3.25,1.24,106.2,120.8,96.4,100,4.5370373397944253,3.9048737171486048,2.981987227906524,10274.969999999999,2056.96,1191.33]
[null,"julio",null,"n.d.",1.8,"n.d.",3.167898627243928,2.1659174499387053,-0.29970029970029688,4.4660710682251681,null,null,null,null,null,null,null,null,null,59,57.52,-1.4799999999999969,424.47859999999997,48.359442009999995,55.06,109.93,143.8698268,369.6,105.5953928,278.7142857,401.3,null,null,null,null,null,null,null,2.37,1.22376,8.2369000000000003,"n.d.",1.2030099999999999,111.94,10.6755,{"$f":"IF(AND('Tipos de Cambio'!$J$6<>1,'Tipos de Cambio'!$J$6<>2,'Tipos de Cambio'!$J$6<>3,'Tipos de Cambio'!$J$6<>4,'Tipos de Cambio'!$J$6<>5,'Tipos de Cambio'!$J$6<>6,'Tipos de Cambio'!$J$6<>7),LOOKUP(1,'Datos mensuales'!$AM$2:$AS$2,'Datos mensuales'!$AM191:$AS191),LOOKUP('Tipos de Cambio'!$J$6,'Datos mensuales'!$AM$2:$AS$2,'Datos mensuales'!$AM191:$AS191))","v":2.37},3.8332999999999999,3.53,3.61,2.13,0.06,4.16,3.32,1.26,103.2,118.5,93,100,3.5361024672570185,3.8204935274571694,2.969008550810992,10640.91,2184.83,1234.18]
[null,"agosto",null,"n.d.",1.3,"n.d.",3.6411609498680768,2.2437531871494167,-0.29940119760478756,3.9491316833033223,null,null,null,null,null,null,null,null,null,64.989999999999995,63.98,-1.009999999999998,437.92950000000002,45.1697882086956,53.97,108.2,149.3590111,360.3,98.638263260000002,283.47826090000001,404.8,null,null,null,null,null,null,null,2.37,1.20428,8.1019000000000005,"n.d.",1.2294369999999999,110.607,10.686199999999999,{"$f":"IF(AND('Tipos de Cambio'!$J$6<>1,'Tipos de Cambio'!$J$6<>2,'Tipos de Cambio'!$J$6<>3,'Tipos de Cambio'!$J$6<>4,'Tipos de Cambio'!$J$6<>5,'Tipos de Cambio'!$J$6<>6,'Tipos de Cambio'!$J$6<>7),LOOKUP(1,'Datos mensuales'!$AM$2:$AS$2,'Datos mensuales'!$AM192:$AS192),LOOKUP('Tipos de Cambio'!$J$6,'Datos mensuales'!$AM$2:$AS$2,'Datos mensuales'!$AM192:$AS192))","v":2.37},4.0246899999999997,3.78,3.8,2.16,0.06,4.26,3.32,1.43,105.5,123.8,93.3,100,3.6629355385626949,3.7682590762606161,2.9451914352746744,10481.6,2152.09,1220.33]
[null,"septiembre",null,"n.d.",0.9,"n.d.",4.6866771985255431,2.5860313581755308,-0.29850746268656436,3.5098822806087462,null,null,null,null,null,null,null,null,null,65.59,62.91,-2.6800000000000068,456.04770000000002,46.661307209523798,54.86,99.49,159.70864359999999,369.98,96.993437950000001,287.40909090000002,594.20000000000005,null,null,null,null,null,null,null,2.2999999999999998,1.1778900000000001,8.0922000000000001,"n.d.",1.2261919999999999,111.15600000000001,10.7791,{"$f":"IF(AND('Tipos de Cambio'!$J$6<>1,'Tipos de Cambio'!$J$6<>2,'Tipos de Cambio'!$J$6<>3,'Tipos de Cambio'!$J$6<>4,'Tipos de Cambio'!$J$6<>5,'Tipos de Cambio'!$J$6<>6,'Tipos de Cambio'!$J$6<>7),LOOKUP(1,'Datos mensuales'!$AM$2:$AS$2,'Datos mensuales'!$AM193:$AS193),LOOKUP('Tipos de Cambio'!$J$6,'Datos mensuales'!$AM$2:$AS$2,'Datos mensuales'!$AM193:$AS193))","v":2.2999999999999998},4.0451199999999998,3.79,3.91,2.14,0.06,4.1900000000000004,3.16,1.38,87.5,110.4,72.3,100,1.5327247816258716,3.8148196783930777,2.9105025039818377,10568.7,2151.69,1228.81]
[null,"octubre",null,"n.d.",1.2,"n.d.",4.3478260869565126,2.4959415584415523,-0.79207920792078934,3.0502478270237532,null,null,null,null,null,null,null,null,null,62.26,58.54,-3.7199999999999989,469.89760000000001,47.8853962190476,58.37,105.05,167.82669749999999,382.82,101.49969249999999,290.7142857,630.4,null,null,null,null,null,null,null,2.25,1.1772800000000001,8.0889000000000006,"n.d.",1.2030799999999999,114.82,10.8332,{"$f":"IF(AND('Tipos de Cambio'!$J$6<>1,'Tipos de Cambio'!$J$6<>2,'Tipos de Cambio'!$J$6<>3,'Tipos de Cambio'!$J$6<>4,'Tipos de Cambio'!$J$6<>5,'Tipos de Cambio'!$J$6<>6,'Tipos de Cambio'!$J$6<>7),LOOKUP(1,'Datos mensuales'!$AM$2:$AS$2,'Datos mensuales'!$AM194:$AS194),LOOKUP('Tipos de Cambio'!$J$6,'Datos mensuales'!$AM$2:$AS$2,'Datos mensuales'!$AM194:$AS194))","v":2.25},4.3530100000000003,4.13,4.17,2.2000000000000002,0.06,4.45,3.32,1.54,85.2,107.8,70.099999999999994,100,1.8659611653186969,3.7988741008464721,2.8649668668936812,10440.07,2117.34,1207.01]
[null,"noviembre",null,"n.d.",1.3,"n.d.",3.4554973821989501,2.3151909017059311,-0.99206349206349198,2.914047614808597,null,null,null,null,null,null,null,null,null,58.32,55.24,-3.0799999999999983,476.66590000000002,47.700260630000002,56.83,107.74,161.11633699999999,375.97,95.969864380000004,278.95454549999999,589.1,null,null,null,null,null,null,null,2.21,1.1813899999999999,8.0839999999999996,"n.d.",1.1774770000000001,118.45,10.6714,{"$f":"IF(AND('Tipos de Cambio'!$J$6<>1,'Tipos de Cambio'!$J$6<>2,'Tipos de Cambio'!$J$6<>3,'Tipos de Cambio'!$J$6<>4,'Tipos de Cambio'!$J$6<>5,'Tipos de Cambio'!$J$6<>6,'Tipos de Cambio'!$J$6<>7),LOOKUP(1,'Datos mensuales'!$AM$2:$AS$2,'Datos mensuales'!$AM195:$AS195),LOOKUP('Tipos de Cambio'!$J$6,'Datos mensuales'!$AM$2:$AS$2,'Datos mensuales'!$AM195:$AS195))","v":2.21},4.5549200000000001,4.3,4.3499999999999996,2.36,0.06,4.53,3.53,1.52,98.9,114,88.8,100,2.6562897172505595,3.6751618833529509,2.8086710949192906,10805.87,2232.8200000000002,1249.48]
[null,"diciembre",null,"n.d.",1.6,"n.d.",3.4156594850236468,2.2244691607684413,-0.39880358923229453,3.3327410039975325,null,null,null,null,null,null,null,null,null,59.41,56.86,-2.5499999999999972,510.09719999999999,48.281178000000004,56.53,105.77,164.4410311,368.9,102.66199210000001,277.27272729999999,645.9,null,null,null,null,null,null,null,2.2799999999999998,1.1616599999999999,8.0759000000000007,"n.d.",1.185659,118.36799999999999,10.629,{"$f":"IF(AND('Tipos de Cambio'!$J$6<>1,'Tipos de Cambio'!$J$6<>2,'Tipos de Cambio'!$J$6<>3,'Tipos de Cambio'!$J$6<>4,'Tipos de Cambio'!$J$6<>5,'Tipos de Cambio'!$J$6<>6,'Tipos de Cambio'!$J$6<>7),LOOKUP(1,'Datos mensuales'!$AM$2:$AS$2,'Datos mensuales'!$AM196:$AS196),LOOKUP('Tipos de Cambio'!$J$6,'Datos mensuales'!$AM$2:$AS$2,'Datos mensuales'!$AM196:$AS196))","v":2.2799999999999998},4.6661900000000003,4.33,4.49,2.4700000000000002,7.0000000000000007E-2,4.46,3.41,1.54,103.8,120.7,92.6,100,2.5444917434228831,3.3136053064111159,2.7417642730003466,10717.5,2205.3200000000002,1248.29]
[2006,"enero",null,"n.d.",1.9,"n.d.",3.9853172522286435,2.3903977214932297,-9.9900099900094214E-2,3.9350000888459511,null,null,null,null,null,null,null,null,null,65.489999999999995,62.99,-2.4999999999999929,549.86400000000003,51.542913290000001,59.1,124.2,167.1607185,377.92,102.69690799999999,284.45454549999999,685.5,null,null,null,null,null,null,null,2.2799999999999998,1.15788,8.0659399999999994,"n.d.",1.2105870000000001,115.586,10.5496,{"$f":"IF(AND('Tipos de Cambio'!$J$6<>1,'Tipos de Cambio'!$J$6<>2,'Tipos de Cambio'!$J$6<>3,'Tipos de Cambio'!$J$6<>4,'Tipos de Cambio'!$J$6<>5,'Tipos de Cambio'!$J$6<>6,'Tipos de Cambio'!$J$6<>7),LOOKUP(1,'Datos mensuales'!$AM$2:$AS$2,'Datos mensuales'!$AM197:$AS197),LOOKUP('Tipos de Cambio'!$J$6,'Datos mensuales'!$AM$2:$AS$2,'Datos mensuales'!$AM197:$AS197))","v":2.2799999999999998},4.7325900000000001,4.47,4.5999999999999996,2.5099999999999998,7.0000000000000007E-2,4.41,3.39,1.47,106.3,129.4,91.5,100,2.1876478140414823,2.7473655126388774,2.6644515608296837,10864.86,2305.8200000000002,1280.08]
[null,"febrero",null,"n.d.",1.4,"n.d.",3.5974973931178189,2.3314749113025819,-0.10020040080159752,3.7483728714505298,null,null,null,null,null,null,null,null,null,61.63,60.21,{"$f":"IF(OR(T198=\"\",U198=\"n.d.\"),\"\",U198-T198)","v":-1.4200000000000017},554.995,53.197480600000006,60.75,119.12,179.8409096,390.63,106.920962,296.39999999999998,854.3,null,null,null,null,null,null,null,2.16,1.14873,8.05124,"n.d.",1.193584,117.839,10.481299999999999,{"$f":"IF(AND('Tipos de Cambio'!$J$6<>1,'Tipos de Cambio'!$J$6<>2,'Tipos de Cambio'!$J$6<>3,'Tipos de Cambio'!$J$6<>4,'Tipos de Cambio'!$J$6<>5,'Tipos de Cambio'!$J$6<>6,'Tipos de Cambio'!$J$6<>7),LOOKUP(1,'Datos mensuales'!$AM$2:$AS$2,'Datos mensuales'!$AM198:$AS198),LOOKUP('Tipos de Cambio'!$J$6,'Datos mensuales'!$AM$2:$AS$2,'Datos mensuales'!$AM198:$AS198))","v":2.16},4.9227499999999997,4.6900000000000004,4.76,2.6,7.0000000000000007E-2,4.5599999999999996,3.55,1.57,102.7,130.30000000000001,84.2,100,1.5752508536630128,2.2816394645120086,2.5769733206599588,10993.41,2281.39,1280.6600000000001]
[null,"marzo",null,"n.d.",1.2,"n.d.",3.3626487325400931,2.2251308900523643,-0.19980019980018843,3.4124367495901762,null,null,null,null,null,null,null,null,null,62.69,62.06,-0.62999999999999545,557.09349999999995,50.838537199999998,58.62,113.66,174.43596450000001,383.36,104.8939228,297.73913040000002,825.4,null,null,null,null,null,null,null,2.14,1.1573100000000001,8.0449900000000003,"n.d.",1.20299,117.27800000000001,10.7493,{"$f":"IF(AND('Tipos de Cambio'!$J$6<>1,'Tipos de Cambio'!$J$6<>2,'Tipos de Cambio'!$J$6<>3,'Tipos de Cambio'!$J$6<>4,'Tipos de Cambio'!$J$6<>5,'Tipos de Cambio'!$J$6<>6,'Tipos de Cambio'!$J$6<>7),LOOKUP(1,'Datos mensuales'!$AM$2:$AS$2,'Datos mensuales'!$AM199:$AS199),LOOKUP('Tipos de Cambio'!$J$6,'Datos mensuales'!$AM$2:$AS$2,'Datos mensuales'!$AM199:$AS199))","v":2.14},5.0527499999999996,4.79,4.92,2.72,0.1,4.72,3.73,1.7,107.5,133.33000000000001,90.3,100,1.9256574429705076,2.1507170957635102,2.4795701078308641,11109.32,2339.79,1294.83]
[null,"abril ",null,"n.d.",1.2,"n.d.",3.5457348406988727,2.4561403508771957,-9.9800399201605314E-2,3.1965355492693517,null,null,null,null,null,null,null,null,null,69.44,70.260000000000005,0.82000000000000739,610.65279999999996,51.997703189473697,57.16,115.42,180.3460383,386.41,107.82228689999999,298.5,730.29362499999991,null,null,null,null,null,null,null,2.13,1.1440999999999999,8.0143400000000007,"n.d.",1.226288,117.07,11.0489,{"$f":"IF(AND('Tipos de Cambio'!$J$6<>1,'Tipos de Cambio'!$J$6<>2,'Tipos de Cambio'!$J$6<>3,'Tipos de Cambio'!$J$6<>4,'Tipos de Cambio'!$J$6<>5,'Tipos de Cambio'!$J$6<>6,'Tipos de Cambio'!$J$6<>7),LOOKUP(1,'Datos mensuales'!$AM$2:$AS$2,'Datos mensuales'!$AM200:$AS200),LOOKUP('Tipos de Cambio'!$J$6,'Datos mensuales'!$AM$2:$AS$2,'Datos mensuales'!$AM200:$AS200))","v":2.13},5.20472,4.9000000000000004,5.07,2.79,0.11,4.99,4.01,1.91,109.8,136.19999999999999,92.3,100,2.1725293887578712,2.1623258732635708,2.372455069919166,11367.14,2322.5700000000002,1310.6099999999999]
[null,"mayo",null,"n.d.",1.2,"n.d.",4.1666666666666634,2.480000000000004,9.9700897308084291E-2,2.9958786854061272,null,null,null,null,null,null,null,null,null,70.84,69.78,-1.0600000000000023,675.39300000000003,51.664267600000002,55.44,109.36,193.16670479999999,394.52,110.56652459999999,301.26086959999998,925.95720000000006,null,null,null,null,null,null,null,2.17,1.1098699999999999,8.0135900000000007,"n.d.",1.277083,111.767,11.093,{"$f":"IF(AND('Tipos de Cambio'!$J$6<>1,'Tipos de Cambio'!$J$6<>2,'Tipos de Cambio'!$J$6<>3,'Tipos de Cambio'!$J$6<>4,'Tipos de Cambio'!$J$6<>5,'Tipos de Cambio'!$J$6<>6,'Tipos de Cambio'!$J$6<>7),LOOKUP(1,'Datos mensuales'!$AM$2:$AS$2,'Datos mensuales'!$AM201:$AS201),LOOKUP('Tipos de Cambio'!$J$6,'Datos mensuales'!$AM$2:$AS$2,'Datos mensuales'!$AM201:$AS201))","v":2.17},5.2887399999999998,5.01,5.18,2.89,0.19,5.0999999999999996,4.0599999999999996,1.91,103.2,132.5,83.7,100,1.8497253831394556,2.0966443182852235,2.2558112006763054,11168.31,2178.88,1270.0899999999999]
[null,"junio",null,"n.d.",1.5,"n.d.",4.318766066838049,2.478017585931259,0.50050050050050054,3.1838655936254305,null,null,null,null,null,null,null,null,null,70.95,68.56,-2.3900000000000006,596.14499999999998,51.416748899999995,56.42,103.15,195.1639855,386.18,109.55142960000001,305.59090909999998,654.5084374999999,null,null,null,null,null,null,null,2.25,1.1137300000000001,8.0041899999999995,"n.d.",1.2662070000000001,114.625,11.3934,{"$f":"IF(AND('Tipos de Cambio'!$J$6<>1,'Tipos de Cambio'!$J$6<>2,'Tipos de Cambio'!$J$6<>3,'Tipos de Cambio'!$J$6<>4,'Tipos de Cambio'!$J$6<>5,'Tipos de Cambio'!$J$6<>6,'Tipos de Cambio'!$J$6<>7),LOOKUP(1,'Datos mensuales'!$AM$2:$AS$2,'Datos mensuales'!$AM202:$AS202),LOOKUP('Tipos de Cambio'!$J$6,'Datos mensuales'!$AM$2:$AS$2,'Datos mensuales'!$AM202:$AS202))","v":2.25},5.4896599999999998,5.17,5.38,2.99,0.32,5.0999999999999996,4.07,1.87,105.4,132.19999999999999,87.5,100,1.8383518225039586,2.0619028220602686,2.1297989609807999,11150.22,2172.09,1270.2]
[null,"julio",null,"n.d.",1,"n.d.",4.1453428863868957,2.4300000000000068,0.30060120240480681,3.0634554091192054,null,null,null,null,null,null,null,null,null,74.41,73.67,-0.73999999999999488,633.71,49.171844479999997,56.65,105,202.42859519999999,404.02,114.2367158,312.42857140000001,559.77695312499998,null,null,null,null,null,null,null,2.19,1.1294500000000001,7.9897,"n.d.",1.270119,115.767,10.983000000000001,{"$f":"IF(AND('Tipos de Cambio'!$J$6<>1,'Tipos de Cambio'!$J$6<>2,'Tipos de Cambio'!$J$6<>3,'Tipos de Cambio'!$J$6<>4,'Tipos de Cambio'!$J$6<>5,'Tipos de Cambio'!$J$6<>6,'Tipos de Cambio'!$J$6<>7),LOOKUP(1,'Datos mensuales'!$AM$2:$AS$2,'Datos mensuales'!$AM203:$AS203),LOOKUP('Tipos de Cambio'!$J$6,'Datos mensuales'!$AM$2:$AS$2,'Datos mensuales'!$AM203:$AS203))","v":2.19},5.5822500000000002,5.27,5.5,3.1,0.4,5.0999999999999996,4.0999999999999996,1.91,106.5,134.19999999999999,88.9,100,2.0504741747645827,2.1322587085442324,1.9945600078047354,11185.68,2091.4699999999998,1276.6600000000001]
[null,"agosto",null,"n.d.",1.3,"n.d.",3.8187372708757632,2.2643391521196965,0.90090090090089237,3.4658458084488855,null,null,null,null,null,null,null,null,null,73.040000000000006,73.23,0.18999999999999773,632.59320000000002,47.150112086956504,60.89,111.73,189.91465170000001,434.48,115.2057107,313.3913043,541.51961249999988,null,null,null,null,null,null,null,2.16,1.1182099999999999,7.9721799999999998,"n.d.",1.2804580000000001,115.92400000000001,10.8735,{"$f":"IF(AND('Tipos de Cambio'!$J$6<>1,'Tipos de Cambio'!$J$6<>2,'Tipos de Cambio'!$J$6<>3,'Tipos de Cambio'!$J$6<>4,'Tipos de Cambio'!$J$6<>5,'Tipos de Cambio'!$J$6<>6,'Tipos de Cambio'!$J$6<>7),LOOKUP(1,'Datos mensuales'!$AM$2:$AS$2,'Datos mensuales'!$AM204:$AS204),LOOKUP('Tipos de Cambio'!$J$6,'Datos mensuales'!$AM$2:$AS$2,'Datos mensuales'!$AM204:$AS204))","v":2.16},5.47926,5.17,5.42,3.23,0.41,4.88,3.97,1.81,99.6,123.9,84.4,100,2.2353000079273322,2.0621138734108868,1.8502230035078115,11381.15,2183.75,1303.82]
[null,"septiembre",null,"n.d.",1.5,"n.d.",2.0623742454728338,1.7467248908296853,0.59880239520957512,4.0931483875480028,null,null,null,null,null,null,null,null,null,63.8,61.96,-1.8399999999999963,598.1857,46.653066129999999,59.51,109.83,195.98153210000001,416.94,120.26005259999999,312.90476189999998,544.27543749999995,null,null,null,null,null,null,null,2.17,1.1156200000000001,7.9343599999999999,"n.d.",1.272829,117.214,10.9842,{"$f":"IF(AND('Tipos de Cambio'!$J$6<>1,'Tipos de Cambio'!$J$6<>2,'Tipos de Cambio'!$J$6<>3,'Tipos de Cambio'!$J$6<>4,'Tipos de Cambio'!$J$6<>5,'Tipos de Cambio'!$J$6<>6,'Tipos de Cambio'!$J$6<>7),LOOKUP(1,'Datos mensuales'!$AM$2:$AS$2,'Datos mensuales'!$AM205:$AS205),LOOKUP('Tipos de Cambio'!$J$6,'Datos mensuales'!$AM$2:$AS$2,'Datos mensuales'!$AM205:$AS205))","v":2.17},5.4091500000000003,5.08,5.38,3.34,0.42,4.72,3.84,1.68,105.9,128.30000000000001,91,100,4.1251046920112611,1.6528726821944728,1.6969165962474442,11679.07,2258.4299999999998,1335.85]
[null,"octubre",null,"n.d.",1.4,"n.d.",1.3052208835341481,1.5640467234211031,0.39920159680637868,4.2922493791667673,null,null,null,null,null,null,null,null,null,58.89,57.81,-1.0799999999999983,585.77949999999998,44.794872099999999,57.87,110.63,212.09406730000001,422.32,142.17293749999999,309.63636359999998,549.44260937499996,null,null,null,null,null,null,null,2.15,1.12843,7.9018600000000001,"n.d.",1.261477,118.622,10.8932,{"$f":"IF(AND('Tipos de Cambio'!$J$6<>1,'Tipos de Cambio'!$J$6<>2,'Tipos de Cambio'!$J$6<>3,'Tipos de Cambio'!$J$6<>4,'Tipos de Cambio'!$J$6<>5,'Tipos de Cambio'!$J$6<>6,'Tipos de Cambio'!$J$6<>7),LOOKUP(1,'Datos mensuales'!$AM$2:$AS$2,'Datos mensuales'!$AM206:$AS206),LOOKUP('Tipos de Cambio'!$J$6,'Datos mensuales'!$AM$2:$AS$2,'Datos mensuales'!$AM206:$AS206))","v":2.15},5.3944900000000002,5.12,5.37,3.5,0.44,4.7300000000000004,3.88,1.76,105.1,125.1,91.9,100,2.7583352069644462,1.0928134886385887,1.5347740721849634,12080.73,2366.71,1377.94]
[null,"noviembre",null,"n.d.",1.9,"n.d.",1.9736842105263188,1.8658197697498964,0.30060120240480681,4.0902838456275763,null,null,null,null,null,null,null,null,null,59.08,58.76,-0.32000000000000028,627.82730000000004,43.561086580000001,58.71,122.27,205.81288029999999,476.74,164.08179609999999,300.59090909999998,598.01402499999995,null,null,null,null,null,null,null,2.16,1.1361300000000001,7.8627399999999996,"n.d.",1.288151,117.288,10.915900000000001,{"$f":"IF(AND('Tipos de Cambio'!$J$6<>1,'Tipos de Cambio'!$J$6<>2,'Tipos de Cambio'!$J$6<>3,'Tipos de Cambio'!$J$6<>4,'Tipos de Cambio'!$J$6<>5,'Tipos de Cambio'!$J$6<>6,'Tipos de Cambio'!$J$6<>7),LOOKUP(1,'Datos mensuales'!$AM$2:$AS$2,'Datos mensuales'!$AM207:$AS207),LOOKUP('Tipos de Cambio'!$J$6,'Datos mensuales'!$AM$2:$AS$2,'Datos mensuales'!$AM207:$AS207))","v":2.16},5.37296,5.15,5.37,3.6,0.48,4.5999999999999996,3.8,1.7,102.9,123.6,89.2,100,1.6265474517180412,0.77212035400162637,1.3639154404788911,12221.93,2431.77,1400.63]
[null,"diciembre",null,"n.d.",2,"n.d.",2.5406504065040649,1.9188921859545123,0.30030030030029742,4.0532755522306241,null,null,null,null,null,null,null,null,null,61.96,62.47,0.50999999999999801,629.7912,43.186301180000001,61.62,128.44,204.30626910000001,528.24,160.65676149999999,309.2857143,657.95321875000002,null,null,null,null,null,null,null,2.15,1.15344,7.8216099999999997,"n.d.",1.3191470000000001,117.39700000000001,10.854699999999999,{"$f":"IF(AND('Tipos de Cambio'!$J$6<>1,'Tipos de Cambio'!$J$6<>2,'Tipos de Cambio'!$J$6<>3,'Tipos de Cambio'!$J$6<>4,'Tipos de Cambio'!$J$6<>5,'Tipos de Cambio'!$J$6<>6,'Tipos de Cambio'!$J$6<>7),LOOKUP(1,'Datos mensuales'!$AM$2:$AS$2,'Datos mensuales'!$AM208:$AS208),LOOKUP('Tipos de Cambio'!$J$6,'Datos mensuales'!$AM$2:$AS$2,'Datos mensuales'!$AM208:$AS208))","v":2.15},5.3492100000000002,5.07,5.36,3.68,0.56000000000000005,4.57,3.9,1.64,110,130.5,96.3,100,2.0334336757388494,0.86360930286462079,1.1844189155482798,12463.15,2415.29,1418.3]
[2007,"enero",null,2.9878134851550295,2.2000000000000002,4.7117530008910409,2.0756429652042283,1.8378700576197184,0,3.9809203046591781,{"$f":"D209-D208","v":{"$error":"#VALUE!"}},{"$f":"E209-E208","v":0.20000000000000018},{"$f":"F209-F208","v":{"$error":"#VALUE!"}},{"$f":"G209-G208","v":-0.46500744129983662},{"$f":"H209-H208","v":-8.102212833479383E-2},-0.30030030030029742,-7.2355247571445958E-2,{"$f":"IF(AND(Inflación!$J$6<>1,Inflación!$J$6<>2,Inflación!$J$6<>3,Inflación!$J$6<>4,Inflación!$J$6<>5,Inflación!$J$6<>6,Inflación!$J$6<>7),LOOKUP(1,'Datos mensuales'!$D$2:$J$2,'Datos mensuales'!$D209:$J209),LOOKUP(Inflación!$J$6,'Datos mensuales'!$D$2:$J$2,'Datos mensuales'!$D209:$J209))","v":2.9878134851550295},{"$f":"IF(AND(Inflación!$J$6<>1,Inflación!$J$6<>2,Inflación!$J$6<>3,Inflación!$J$6<>4,Inflación!$J$6<>5,Inflación!$J$6<>6,Inflación!$J$6<>7),LOOKUP(1,'Datos mensuales'!$K$2:$Q$2,'Datos mensuales'!$K209:$Q209),LOOKUP(Inflación!$J$6,'Datos mensuales'!$K$2:$Q$2,'Datos mensuales'!$K209:$Q209))","v":{"$error":"#VALUE!"}},54.51,53.68,-0.82999999999999829,631.16589999999997,43.903904990000001,60.44,124.53,196.06613920000001,550.78,165.10303870000001,313.47826090000001,639.3513999999999,100,100,100,100,100,100,100,2.14,1.17553,7.7888099999999998,2236.8293119999998,1.298481,120.381,10.950100000000001,{"$f":"IF(AND('Tipos de Cambio'!$J$6<>1,'Tipos de Cambio'!$J$6<>2,'Tipos de Cambio'!$J$6<>3,'Tipos de Cambio'!$J$6<>4,'Tipos de Cambio'!$J$6<>5,'Tipos de Cambio'!$J$6<>6,'Tipos de Cambio'!$J$6<>7),LOOKUP(1,'Datos mensuales'!$AM$2:$AS$2,'Datos mensuales'!$AM209:$AS209),LOOKUP('Tipos de Cambio'!$J$6,'Datos mensuales'!$AM$2:$AS$2,'Datos mensuales'!$AM209:$AS209))","v":2.14},5.3841799999999997,5.15,5.36,3.75,0.56000000000000005,4.76,4.0999999999999996,1.71,110.2,133.9,94.4,100,1.4299647881502953,1.2498544698872127,0.99631004765254882,12621.69,2463.9299999999998,1438.24]
[null,"febrero",null,3.0185643661014723,2.7,5.2467675725839129,2.4151987921489719,1.8424962852897468,-0.20060180541625161,4.1122548266505854,{"$f":"D210-D209","v":3.0750880946442738E-2},0.5,0.53501457169287203,0.33955582694474362,4.6262276700284044E-3,-0.20060180541625161,0.13133452199140727,{"$f":"IF(AND(Inflación!$J$6<>1,Inflación!$J$6<>2,Inflación!$J$6<>3,Inflación!$J$6<>4,Inflación!$J$6<>5,Inflación!$J$6<>6,Inflación!$J$6<>7),LOOKUP(1,'Datos mensuales'!$D$2:$J$2,'Datos mensuales'!$D210:$J210),LOOKUP(Inflación!$J$6,'Datos mensuales'!$D$2:$J$2,'Datos mensuales'!$D210:$J210))","v":3.0185643661014723},{"$f":"IF(AND(Inflación!$J$6<>1,Inflación!$J$6<>2,Inflación!$J$6<>3,Inflación!$J$6<>4,Inflación!$J$6<>5,Inflación!$J$6<>6,Inflación!$J$6<>7),LOOKUP(1,'Datos mensuales'!$K$2:$Q$2,'Datos mensuales'!$K210:$Q210),LOOKUP(Inflación!$J$6,'Datos mensuales'!$K$2:$Q$2,'Datos mensuales'!$K210:$Q210))","v":3.0750880946442738E-2},59.28,57.56,-1.7199999999999989,664.745,45.6924899894737,59.22,122.03,199.98224049999999,553.75,177.34862530000001,316.05,654.5084374999999,{"$f":"+AM210/$AM$209 *100","v":97.663551401869142},{"$f":"+AN210/$AN$209 *100","v":99.583166741810075},{"$f":"+AO210/$AO$209 *100","v":99.499410051086116},{"$f":"+AP210/$AP$209 *100","v":99.549200292310914},{"$f":"+AQ210/$AQ$209 *100","v":100.70875122547038},{"$f":"+AR210/$AR$209 *100","v":100.04984175243601},{"$f":"+AS210/$AS$209 *100","v":100.40912868375631},2.09,1.1706300000000001,7.7498199999999997,2226.745692,1.3076840000000001,120.441,10.994899999999999,{"$f":"IF(AND('Tipos de Cambio'!$J$6<>1,'Tipos de Cambio'!$J$6<>2,'Tipos de Cambio'!$J$6<>3,'Tipos de Cambio'!$J$6<>4,'Tipos de Cambio'!$J$6<>5,'Tipos de Cambio'!$J$6<>6,'Tipos de Cambio'!$J$6<>7),LOOKUP(1,'Datos mensuales'!$AM$2:$AS$2,'Datos mensuales'!$AM210:$AS210),LOOKUP('Tipos de Cambio'!$J$6,'Datos mensuales'!$AM$2:$AS$2,'Datos mensuales'!$AM210:$AS210))","v":2.09},5.38931,5.16,5.36,3.82,0.59,4.72,4.12,1.71,111.2,137.1,93.8,100,2.4882753720329553,1.7597806920614856,0.79958047747317185,12268.63,2416.13,1406.82]
[null,"marzo",null,2.9570383734539289,3.3,5.7804615188500081,2.7787787787787748,1.9403132079188405,-0.10010010010010863,4.2068383499990549,-6.1525992647543326E-2,0.59999999999999964,0.53369394626609523,0.36357998662980284,9.7816922629093694E-2,0.10050170531614298,9.4583523348469534E-2,{"$f":"IF(AND(Inflación!$J$6<>1,Inflación!$J$6<>2,Inflación!$J$6<>3,Inflación!$J$6<>4,Inflación!$J$6<>5,Inflación!$J$6<>6,Inflación!$J$6<>7),LOOKUP(1,'Datos mensuales'!$D$2:$J$2,'Datos mensuales'!$D211:$J211),LOOKUP(Inflación!$J$6,'Datos mensuales'!$D$2:$J$2,'Datos mensuales'!$D211:$J211))","v":2.9570383734539289},{"$f":"IF(AND(Inflación!$J$6<>1,Inflación!$J$6<>2,Inflación!$J$6<>3,Inflación!$J$6<>4,Inflación!$J$6<>5,Inflación!$J$6<>6,Inflación!$J$6<>7),LOOKUP(1,'Datos mensuales'!$K$2:$Q$2,'Datos mensuales'!$K211:$Q211),LOOKUP(Inflación!$J$6,'Datos mensuales'!$K$2:$Q$2,'Datos mensuales'!$K211:$Q211))","v":-6.1525992647543326E-2},60.44,62.05,1.6099999999999994,654.89549999999997,45.916221999999998,59.92,117.08,199.09818240000001,566.39,169.5223427,326.18181820000001,647.618875,{"$f":"+AM211/$AM$209 *100","v":97.663551401869142},{"$f":"+AN211/$AN$209 *100","v":99.373048752477615},{"$f":"+AO211/$AO$209 *100","v":99.334172999469757},{"$f":"+AP211/$AP$209 *100","v":98.369597903409456},{"$f":"+AQ211/$AQ$209 *100","v":101.99710276854263},{"$f":"+AR211/$AR$209 *100","v":97.407398177453246},{"$f":"+AS211/$AS$209 *100","v":101.50044291832951},2.09,1.1681600000000001,7.7369500000000002,2200.36,1.3244130000000001,117.26,11.1144,{"$f":"IF(AND('Tipos de Cambio'!$J$6<>1,'Tipos de Cambio'!$J$6<>2,'Tipos de Cambio'!$J$6<>3,'Tipos de Cambio'!$J$6<>4,'Tipos de Cambio'!$J$6<>5,'Tipos de Cambio'!$J$6<>6,'Tipos de Cambio'!$J$6<>7),LOOKUP(1,'Datos mensuales'!$AM$2:$AS$2,'Datos mensuales'!$AM211:$AS211),LOOKUP('Tipos de Cambio'!$J$6,'Datos mensuales'!$AM$2:$AS$2,'Datos mensuales'!$AM211:$AS211))","v":2.09},5.3156699999999999,5.0999999999999996,5.35,3.89,0.71,4.5599999999999996,4.0199999999999996,1.62,108.2,138.5,87.9,100,2.3656131083233056,2.2015935942685916,0.59422720829120923,12354.35,2421.64,1420.86]
[null,"abril ",null,2.9981802167443332,3,6.2563363764654918,2.5736972704714676,1.9080234833659517,0,3.9921348984092289,4.1141843290404267E-2,-0.29999999999999982,0.47587485761548365,-0.2050815083073072,-3.228972455288881E-2,0.10010010010010863,-0.21470345158982607,{"$f":"IF(AND(Inflación!$J$6<>1,Inflación!$J$6<>2,Inflación!$J$6<>3,Inflación!$J$6<>4,Inflación!$J$6<>5,Inflación!$J$6<>6,Inflación!$J$6<>7),LOOKUP(1,'Datos mensuales'!$D$2:$J$2,'Datos mensuales'!$D212:$J212),LOOKUP(Inflación!$J$6,'Datos mensuales'!$D$2:$J$2,'Datos mensuales'!$D212:$J212))","v":2.9981802167443332},{"$f":"IF(AND(Inflación!$J$6<>1,Inflación!$J$6<>2,Inflación!$J$6<>3,Inflación!$J$6<>4,Inflación!$J$6<>5,Inflación!$J$6<>6,Inflación!$J$6<>7),LOOKUP(1,'Datos mensuales'!$K$2:$Q$2,'Datos mensuales'!$K212:$Q212),LOOKUP(Inflación!$J$6,'Datos mensuales'!$K$2:$Q$2,'Datos mensuales'!$K212:$Q212))","v":4.1141843290404267E-2},63.98,67.489999999999995,3.509999999999998,679.36839999999995,46.089785719999995,58.68,114.6,198.30777359999999,645.41,152.5813565,322.2857143,647.618875,94.859813084112133,96.551342798567447,99.1770244748556,95.757418257580483,104.05504585742879,98.796321678670225,100.27488333439875,2.0299999999999998,1.1349899999999999,7.72471,2141.9299999999998,1.351135,118.932,10.9802,{"$f":"IF(AND('Tipos de Cambio'!$J$6<>1,'Tipos de Cambio'!$J$6<>2,'Tipos de Cambio'!$J$6<>3,'Tipos de Cambio'!$J$6<>4,'Tipos de Cambio'!$J$6<>5,'Tipos de Cambio'!$J$6<>6,'Tipos de Cambio'!$J$6<>7),LOOKUP(1,'Datos mensuales'!$AM$2:$AS$2,'Datos mensuales'!$AM212:$AS212),LOOKUP('Tipos de Cambio'!$J$6,'Datos mensuales'!$AM$2:$AS$2,'Datos mensuales'!$AM212:$AS212))","v":2.0299999999999998},5.3546399999999998,5.07,5.35,3.98,0.66,4.6900000000000004,4.25,1.67,106.3,133.5,88.2,100,2.7216748768472909,2.5198398419868484,0.38030197496765616,13062.91,2525.09,1482.37]
[null,"mayo",null,3.1831801566782012,3.4,6.2264350053381756,2.6908641975308702,1.8735362997658096,0,3.9475709228950806,0.18499993993386799,0.39999999999999991,-2.9901371127316168E-2,0.11716692705940268,-3.4487183600142135E-2,0,-4.4563975514148257E-2,{"$f":"IF(AND(Inflación!$J$6<>1,Inflación!$J$6<>2,Inflación!$J$6<>3,Inflación!$J$6<>4,Inflación!$J$6<>5,Inflación!$J$6<>6,Inflación!$J$6<>7),LOOKUP(1,'Datos mensuales'!$D$2:$J$2,'Datos mensuales'!$D213:$J213),LOOKUP(Inflación!$J$6,'Datos mensuales'!$D$2:$J$2,'Datos mensuales'!$D213:$J213))","v":3.1831801566782012},{"$f":"IF(AND(Inflación!$J$6<>1,Inflación!$J$6<>2,Inflación!$J$6<>3,Inflación!$J$6<>4,Inflación!$J$6<>5,Inflación!$J$6<>6,Inflación!$J$6<>7),LOOKUP(1,'Datos mensuales'!$K$2:$Q$2,'Datos mensuales'!$K213:$Q213),LOOKUP(Inflación!$J$6,'Datos mensuales'!$K$2:$Q$2,'Datos mensuales'!$K213:$Q213))","v":0.18499993993386799},63.46,67.209999999999994,3.7499999999999929,666.85950000000003,46.321070399999996,57.18,113.24,195.7212644,740.63,156.4442731,320.6086957,688.95624999999995,92.523364485981304,93.09843219654114,98.553951117051255,89.621187868267711,104.08492692615448,100.35969131341325,98.811882996502305,1.98,1.0944,7.6761799999999996,2004.673,1.351523,120.81399999999999,10.82,{"$f":"IF(AND('Tipos de Cambio'!$J$6<>1,'Tipos de Cambio'!$J$6<>2,'Tipos de Cambio'!$J$6<>3,'Tipos de Cambio'!$J$6<>4,'Tipos de Cambio'!$J$6<>5,'Tipos de Cambio'!$J$6<>6,'Tipos de Cambio'!$J$6<>7),LOOKUP(1,'Datos mensuales'!$AM$2:$AS$2,'Datos mensuales'!$AM213:$AS213),LOOKUP('Tipos de Cambio'!$J$6,'Datos mensuales'!$AM$2:$AS$2,'Datos mensuales'!$AM213:$AS213))","v":1.98},5.3691000000000004,4.9800000000000004,5.36,4.07,0.67,4.75,4.37,1.67,108.5,136.1,90.1,100,2.914176949276559,2.6207279809374651,0.15795431313982977,13627.64,2604.52,1530.62]
[null,"junio",null,3.6898061288305284,4.4000000000000004,6.0338175585322711,2.6870379497289298,1.891575663026519,-0.19920318725099884,3.9826070613958819,0.50662597215232719,1.0000000000000004,-0.19261744680590454,-3.8262478019404078E-3,1.8039363260709429E-2,-0.19920318725099884,3.5036138500801339E-2,{"$f":"IF(AND(Inflación!$J$6<>1,Inflación!$J$6<>2,Inflación!$J$6<>3,Inflación!$J$6<>4,Inflación!$J$6<>5,Inflación!$J$6<>6,Inflación!$J$6<>7),LOOKUP(1,'Datos mensuales'!$D$2:$J$2,'Datos mensuales'!$D214:$J214),LOOKUP(Inflación!$J$6,'Datos mensuales'!$D$2:$J$2,'Datos mensuales'!$D214:$J214))","v":3.6898061288305284},{"$f":"IF(AND(Inflación!$J$6<>1,Inflación!$J$6<>2,Inflación!$J$6<>3,Inflación!$J$6<>4,Inflación!$J$6<>5,Inflación!$J$6<>6,Inflación!$J$6<>7),LOOKUP(1,'Datos mensuales'!$K$2:$Q$2,'Datos mensuales'!$K214:$Q214),LOOKUP(Inflación!$J$6,'Datos mensuales'!$K$2:$Q$2,'Datos mensuales'!$K214:$Q214))","v":0.50662597215232719},67.489999999999995,71.05,3.5600000000000023,655.4905,47.010896952380897,62.53,119.33,223.03916000000001,748.43,164.50445759999999,326.2857143,778.52056249999998,90.186915887850461,90.60593944858914,98.003289334314232,85.876825276509976,103.36516283257129,101.91724607703874,98.93060337348517,1.93,1.0650999999999999,7.6332899999999997,1920.9179999999999,1.342177,122.68899999999999,10.833,{"$f":"IF(AND('Tipos de Cambio'!$J$6<>1,'Tipos de Cambio'!$J$6<>2,'Tipos de Cambio'!$J$6<>3,'Tipos de Cambio'!$J$6<>4,'Tipos de Cambio'!$J$6<>5,'Tipos de Cambio'!$J$6<>6,'Tipos de Cambio'!$J$6<>7),LOOKUP(1,'Datos mensuales'!$AM$2:$AS$2,'Datos mensuales'!$AM214:$AS214),LOOKUP('Tipos de Cambio'!$J$6,'Datos mensuales'!$AM$2:$AS$2,'Datos mensuales'!$AM214:$AS214))","v":1.93},5.3929900000000002,4.95,5.36,4.1500000000000004,0.73,5.0999999999999996,4.66,1.89,105.3,129.9,88.8,100,2.5127156125608119,2.5221134479403107,-7.2532070320441289E-2,13408.62,2603.23,1503.35]
[null,"julio",null,3.7417418814552801,5.6,5.7717747168589817,2.3582309582309615,1.7768231963291938,0,4.1386948372807808,5.1935752624751697E-2,1.1999999999999993,-0.2620428416732894,-0.32880699149796833,-0.11475246669732519,0.19920318725099884,0.15608777588489886,{"$f":"IF(AND(Inflación!$J$6<>1,Inflación!$J$6<>2,Inflación!$J$6<>3,Inflación!$J$6<>4,Inflación!$J$6<>5,Inflación!$J$6<>6,Inflación!$J$6<>7),LOOKUP(1,'Datos mensuales'!$D$2:$J$2,'Datos mensuales'!$D215:$J215),LOOKUP(Inflación!$J$6,'Datos mensuales'!$D$2:$J$2,'Datos mensuales'!$D215:$J215))","v":3.7417418814552801},{"$f":"IF(AND(Inflación!$J$6<>1,Inflación!$J$6<>2,Inflación!$J$6<>3,Inflación!$J$6<>4,Inflación!$J$6<>5,Inflación!$J$6<>6,Inflación!$J$6<>7),LOOKUP(1,'Datos mensuales'!$K$2:$Q$2,'Datos mensuales'!$K215:$Q215),LOOKUP(Inflación!$J$6,'Datos mensuales'!$K$2:$Q$2,'Datos mensuales'!$K215:$Q215))","v":5.1935752624751697E-2},74.12,76.930000000000007,2.8100000000000023,665.29549999999995,46.5573751238095,69.349999999999994,117.63,238.40668819999999,764.47,147.13352090000001,332.54545450000001,733.73840625000003,88.317757009345783,89.372453276394481,96.959740961713024,87.274093267962328,105.61317416273322,100.89632084797435,98.742477237650789,1.89,1.0506,7.5520100000000001,1952.1724999999999,1.371367,121.46,10.8124,{"$f":"IF(AND('Tipos de Cambio'!$J$6<>1,'Tipos de Cambio'!$J$6<>2,'Tipos de Cambio'!$J$6<>3,'Tipos de Cambio'!$J$6<>4,'Tipos de Cambio'!$J$6<>5,'Tipos de Cambio'!$J$6<>6,'Tipos de Cambio'!$J$6<>7),LOOKUP(1,'Datos mensuales'!$AM$2:$AS$2,'Datos mensuales'!$AM215:$AS215),LOOKUP('Tipos de Cambio'!$J$6,'Datos mensuales'!$AM$2:$AS$2,'Datos mensuales'!$AM215:$AS215))","v":1.89},5.37425,5.04,5.36,4.22,0.77,5,4.63,1.89,111.9,138.30000000000001,94.4,100,2.5476266033351402,2.44095196549452,-0.31071863501033192,13211.99,2546.27,1455.27]
[null,"agosto",null,4.1773716659497602,6.5,5.2177577397641581,1.9700833742030386,1.7460007803355504,-0.19841269841270123,4.0320735046071006,0.43562978449448009,0.90000000000000036,-0.55401697709482356,-0.38814758402792293,-3.0822415993643437E-2,-0.19841269841270123,-0.10662133267368024,{"$f":"IF(AND(Inflación!$J$6<>1,Inflación!$J$6<>2,Inflación!$J$6<>3,Inflación!$J$6<>4,Inflación!$J$6<>5,Inflación!$J$6<>6,Inflación!$J$6<>7),LOOKUP(1,'Datos mensuales'!$D$2:$J$2,'Datos mensuales'!$D216:$J216),LOOKUP(Inflación!$J$6,'Datos mensuales'!$D$2:$J$2,'Datos mensuales'!$D216:$J216))","v":4.1773716659497602},{"$f":"IF(AND(Inflación!$J$6<>1,Inflación!$J$6<>2,Inflación!$J$6<>3,Inflación!$J$6<>4,Inflación!$J$6<>5,Inflación!$J$6<>6,Inflación!$J$6<>7),LOOKUP(1,'Datos mensuales'!$K$2:$Q$2,'Datos mensuales'!$K216:$Q216),LOOKUP(Inflación!$J$6,'Datos mensuales'!$K$2:$Q$2,'Datos mensuales'!$K216:$Q216))","v":0.43562978449448009},72.36,70.760000000000005,-1.5999999999999943,665.41139999999996,48.060715999999999,66.62,123.19,259.72728430000001,729.56,151.00841740000001,331.47826090000001,697.22372500000006,91.588785046728958,89.989196362491811,97.233723765247831,92.16474359220129,104.96734261032698,96.969621451890248,100.85569994794568,1.96,1.05785,7.5733499999999996,2061.5680000000002,1.362981,116.733,11.043799999999999,{"$f":"IF(AND('Tipos de Cambio'!$J$6<>1,'Tipos de Cambio'!$J$6<>2,'Tipos de Cambio'!$J$6<>3,'Tipos de Cambio'!$J$6<>4,'Tipos de Cambio'!$J$6<>5,'Tipos de Cambio'!$J$6<>6,'Tipos de Cambio'!$J$6<>7),LOOKUP(1,'Datos mensuales'!$AM$2:$AS$2,'Datos mensuales'!$AM216:$AS216),LOOKUP('Tipos de Cambio'!$J$6,'Datos mensuales'!$AM$2:$AS$2,'Datos mensuales'!$AM216:$AS216))","v":1.96},5.3773099999999996,4.55,5.48,4.54,0.92,4.67,4.43,1.65,105.6,130.1,89.2,100,2.3352833988683264,2.4758306904584915,-0.55600327262661509,13357.74,2596.36,1473.99]
[null,"septiembre",null,4.146187726944043,6.2,5.0050019346623449,2.7550517496303613,2.1361685524775629,-0.19841269841270123,3.7920617605107885,-3.1183939005717143E-2,-0.29999999999999982,-0.21275580510181324,0.78496837542732267,0.39016777214201248,0,-0.2400117440963121,{"$f":"IF(AND(Inflación!$J$6<>1,Inflación!$J$6<>2,Inflación!$J$6<>3,Inflación!$J$6<>4,Inflación!$J$6<>5,Inflación!$J$6<>6,Inflación!$J$6<>7),LOOKUP(1,'Datos mensuales'!$D$2:$J$2,'Datos mensuales'!$D217:$J217),LOOKUP(Inflación!$J$6,'Datos mensuales'!$D$2:$J$2,'Datos mensuales'!$D217:$J217))","v":4.146187726944043},{"$f":"IF(AND(Inflación!$J$6<>1,Inflación!$J$6<>2,Inflación!$J$6<>3,Inflación!$J$6<>4,Inflación!$J$6<>5,Inflación!$J$6<>6,Inflación!$J$6<>7),LOOKUP(1,'Datos mensuales'!$K$2:$Q$2,'Datos mensuales'!$K217:$Q217),LOOKUP(Inflación!$J$6,'Datos mensuales'!$K$2:$Q$2,'Datos mensuales'!$K217:$Q217))","v":-3.1183939005717143E-2},79.92,77.17,-2.75,712.65250000000003,46.3074629368421,69.430000000000007,128.04,326.54483340000002,745.18,160.0525112,330,664.851828125,88.785046728971949,87.343581193163942,96.56122052020784,94.298335536118017,107.10992305624805,95.565745424942477,{"$f":"+AS217/$AS$209 *100","v":100.74702514132289},1.9,1.0267500000000001,7.5209700000000002,2109.2928099999999,1.3908020000000001,115.04300000000001,11.0319,{"$f":"IF(AND('Tipos de Cambio'!$J$6<>1,'Tipos de Cambio'!$J$6<>2,'Tipos de Cambio'!$J$6<>3,'Tipos de Cambio'!$J$6<>4,'Tipos de Cambio'!$J$6<>5,'Tipos de Cambio'!$J$6<>6,'Tipos de Cambio'!$J$6<>7),LOOKUP(1,'Datos mensuales'!$AM$2:$AS$2,'Datos mensuales'!$AM217:$AS217),LOOKUP('Tipos de Cambio'!$J$6,'Datos mensuales'!$AM$2:$AS$2,'Datos mensuales'!$AM217:$AS217))","v":1.9},5.3538399999999999,4.2,5.49,4.74,0.99,4.5199999999999996,4.37,1.61,99.5,121.2,85,100,2.9072292863107307,2.6100584082392464,-0.80760917707627389,13895.63,2701.5,1526.75]
[null,"octubre",null,4.1152120623467914,6.5,5.1633001912599914,3.5361744301288383,2.5536062378167688,0.29821073558649241,3.7429714849067173,-3.0975664597251651E-2,0.29999999999999982,0.15829825659764651,0.781122680498477,0.41743768533920589,0.49662343399919362,-4.9090275604071199E-2,{"$f":"IF(AND(Inflación!$J$6<>1,Inflación!$J$6<>2,Inflación!$J$6<>3,Inflación!$J$6<>4,Inflación!$J$6<>5,Inflación!$J$6<>6,Inflación!$J$6<>7),LOOKUP(1,'Datos mensuales'!$D$2:$J$2,'Datos mensuales'!$D218:$J218),LOOKUP(Inflación!$J$6,'Datos mensuales'!$D$2:$J$2,'Datos mensuales'!$D218:$J218))","v":4.1152120623467914},{"$f":"IF(AND(Inflación!$J$6<>1,Inflación!$J$6<>2,Inflación!$J$6<>3,Inflación!$J$6<>4,Inflación!$J$6<>5,Inflación!$J$6<>6,Inflación!$J$6<>7),LOOKUP(1,'Datos mensuales'!$K$2:$Q$2,'Datos mensuales'!$K218:$Q218),LOOKUP(Inflación!$J$6,'Datos mensuales'!$K$2:$Q$2,'Datos mensuales'!$K218:$Q218))","v":-3.0975664597251651E-2},85.8,82.34,-3.4599999999999937,754.60429999999997,44.7077765391304,70.72,134.29,335.1461726,824.07,164.09270799999999,335.30434780000002,658.65113749999989,84.112149532710276,82.976444667511672,96.316638870379435,89.3397917882793,109.59844618442627,96.249408129189817,98.824668267869697,1.8,0.97541299999999997,7.5019200000000001,1998.3786500000001,1.4231149999999999,115.866,10.821400000000001,{"$f":"IF(AND('Tipos de Cambio'!$J$6<>1,'Tipos de Cambio'!$J$6<>2,'Tipos de Cambio'!$J$6<>3,'Tipos de Cambio'!$J$6<>4,'Tipos de Cambio'!$J$6<>5,'Tipos de Cambio'!$J$6<>6,'Tipos de Cambio'!$J$6<>7),LOOKUP(1,'Datos mensuales'!$AM$2:$AS$2,'Datos mensuales'!$AM218:$AS218),LOOKUP('Tipos de Cambio'!$J$6,'Datos mensuales'!$AM$2:$AS$2,'Datos mensuales'!$AM218:$AS218))","v":1.8},5.0512800000000002,4.16,5.15,4.6900000000000004,0.97,4.53,4.4000000000000004,1.66,95.2,118,80,100,2.4444308120156188,2.7580968644475456,-1.064565627587577,13930.01,2859.12,1549.38]
[null,"noviembre",null,4.1877997049059479,6.9,5.4120754089973238,4.3062034739454056,3.0592361652377247,0.59940059940060797,3.9295539357880624,7.2587642559156507E-2,0.40000000000000036,0.24877521773733235,0.77002904381656734,0.50562992742095592,0.30118986381411555,0.18658245088134517,{"$f":"IF(AND(Inflación!$J$6<>1,Inflación!$J$6<>2,Inflación!$J$6<>3,Inflación!$J$6<>4,Inflación!$J$6<>5,Inflación!$J$6<>6,Inflación!$J$6<>7),LOOKUP(1,'Datos mensuales'!$D$2:$J$2,'Datos mensuales'!$D219:$J219),LOOKUP(Inflación!$J$6,'Datos mensuales'!$D$2:$J$2,'Datos mensuales'!$D219:$J219))","v":4.1877997049059479},{"$f":"IF(AND(Inflación!$J$6<>1,Inflación!$J$6<>2,Inflación!$J$6<>3,Inflación!$J$6<>4,Inflación!$J$6<>5,Inflación!$J$6<>6,Inflación!$J$6<>7),LOOKUP(1,'Datos mensuales'!$K$2:$Q$2,'Datos mensuales'!$K219:$Q219),LOOKUP(Inflación!$J$6,'Datos mensuales'!$K$2:$Q$2,'Datos mensuales'!$K219:$Q219))","v":7.2587642559156507E-2},94.77,92.41,-2.3599999999999994,806.24770000000001,44.175073250000004,71.03,131,321.81328059999998,877.34,171.05981209999999,356.5,651.07251562499994,82.710280373831765,82.169914846920108,95.27617184139811,91.421071738888244,113.00365581013507,92.261237238434632,99.369868768321751,1.77,0.96593200000000001,7.4208800000000004,2044.9333300000001,1.4673309999999999,111.065,10.8811,{"$f":"IF(AND('Tipos de Cambio'!$J$6<>1,'Tipos de Cambio'!$J$6<>2,'Tipos de Cambio'!$J$6<>3,'Tipos de Cambio'!$J$6<>4,'Tipos de Cambio'!$J$6<>5,'Tipos de Cambio'!$J$6<>6,'Tipos de Cambio'!$J$6<>7),LOOKUP(1,'Datos mensuales'!$AM$2:$AS$2,'Datos mensuales'!$AM219:$AS219),LOOKUP('Tipos de Cambio'!$J$6,'Datos mensuales'!$AM$2:$AS$2,'Datos mensuales'!$AM219:$AS219))","v":1.77},4.8324400000000001,3.58,4.96,4.6399999999999997,0.91,4.1500000000000004,4.25,1.51,87.7,115.7,69.099999999999994,100,3.1565983593550895,2.7575540852784908,-1.3256807903468948,13371.72,2660.96,1481.14]
[null,"diciembre",null,4.4576585533737294,6.5,5.6940627563197133,4.0812685827551975,3.0667701863354,0.69860279441118045,3.7590381357687561,0.26985884846778152,-0.40000000000000036,0.2819873473223895,-0.22493489119020804,7.5340210976753141E-3,9.920219501057248E-2,-0.17051580001930633,{"$f":"IF(AND(Inflación!$J$6<>1,Inflación!$J$6<>2,Inflación!$J$6<>3,Inflación!$J$6<>4,Inflación!$J$6<>5,Inflación!$J$6<>6,Inflación!$J$6<>7),LOOKUP(1,'Datos mensuales'!$D$2:$J$2,'Datos mensuales'!$D220:$J220),LOOKUP(Inflación!$J$6,'Datos mensuales'!$D$2:$J$2,'Datos mensuales'!$D220:$J220))","v":4.4576585533737294},{"$f":"IF(AND(Inflación!$J$6<>1,Inflación!$J$6<>2,Inflación!$J$6<>3,Inflación!$J$6<>4,Inflación!$J$6<>5,Inflación!$J$6<>6,Inflación!$J$6<>7),LOOKUP(1,'Datos mensuales'!$K$2:$Q$2,'Datos mensuales'!$K220:$Q220),LOOKUP(Inflación!$J$6,'Datos mensuales'!$K$2:$Q$2,'Datos mensuales'!$K220:$Q220))","v":0.26985884846778152},91.69,90.93,-0.75999999999999091,803.2029,44.551889221052598,70.52,137.58000000000001,368.62002890000002,883.45,180.25431639999999,378,647.62768750000009,83.177570093457945,85.183704371645135,94.586721206448743,90.084791860953601,112.05585603485919,93.489836435982426,99.037451712769737,1.78,1.00136,7.3671800000000003,2015.04303,1.4550240000000001,112.544,10.8447,{"$f":"IF(AND('Tipos de Cambio'!$J$6<>1,'Tipos de Cambio'!$J$6<>2,'Tipos de Cambio'!$J$6<>3,'Tipos de Cambio'!$J$6<>4,'Tipos de Cambio'!$J$6<>5,'Tipos de Cambio'!$J$6<>6,'Tipos de Cambio'!$J$6<>7),LOOKUP(1,'Datos mensuales'!$AM$2:$AS$2,'Datos mensuales'!$AM220:$AS220),LOOKUP('Tipos de Cambio'!$J$6,'Datos mensuales'!$AM$2:$AS$2,'Datos mensuales'!$AM220:$AS220))","v":1.78},4.8249700000000004,3.34,4.97,4.8499999999999996,0.99,4.0999999999999996,4.38,1.53,88.6,108.3,75.5,100,2.1351512196012168,2.4963626319864707,-1.5895121976040372,13264.82,2652.28,1468.36]
[2008,"enero",null,4.5614796539960993,7.1,5.997045202001857,4.2802940479013598,3.2094429811725602,0.70000000000000284,3.7043735613284259,0.10382110062236993,0.59999999999999964,0.30298244568214372,0.19902546514616226,0.14267279483716022,1.3972055888223922E-3,-5.4664574440330238E-2,{"$f":"IF(AND(Inflación!$J$6<>1,Inflación!$J$6<>2,Inflación!$J$6<>3,Inflación!$J$6<>4,Inflación!$J$6<>5,Inflación!$J$6<>6,Inflación!$J$6<>7),LOOKUP(1,'Datos mensuales'!$D$2:$J$2,'Datos mensuales'!$D221:$J221),LOOKUP(Inflación!$J$6,'Datos mensuales'!$D$2:$J$2,'Datos mensuales'!$D221:$J221))","v":4.5614796539960993},{"$f":"IF(AND(Inflación!$J$6<>1,Inflación!$J$6<>2,Inflación!$J$6<>3,Inflación!$J$6<>4,Inflación!$J$6<>5,Inflación!$J$6<>6,Inflación!$J$6<>7),LOOKUP(1,'Datos mensuales'!$K$2:$Q$2,'Datos mensuales'!$K221:$Q221),LOOKUP(Inflación!$J$6,'Datos mensuales'!$K$2:$Q$2,'Datos mensuales'!$K221:$Q221))","v":0.10382110062236993},92.97,92.18,-0.78999999999999204,889.59550000000002,44.618359342857097,74.33,139.86000000000001,369.58617120000002,987.02,206.52772419999999,393.47826090000001,688.96562500000005,82.710280373831765,85.905081112349336,92.990970379300563,88.71067007011753,113.26727152726916,89.668635415887891,99.611875690632957,1.77,1.0098400000000001,7.2428900000000001,1984.3062709999999,1.4707539999999999,107.944,10.9076,{"$f":"IF(AND('Tipos de Cambio'!$J$6<>1,'Tipos de Cambio'!$J$6<>2,'Tipos de Cambio'!$J$6<>3,'Tipos de Cambio'!$J$6<>4,'Tipos de Cambio'!$J$6<>5,'Tipos de Cambio'!$J$6<>6,'Tipos de Cambio'!$J$6<>7),LOOKUP(1,'Datos mensuales'!$AM$2:$AS$2,'Datos mensuales'!$AM221:$AS221),LOOKUP('Tipos de Cambio'!$J$6,'Datos mensuales'!$AM$2:$AS$2,'Datos mensuales'!$AM221:$AS221))","v":1.77},3.7795000000000001,2.84,3.9176000000000002,4.4800000000000004,0.89429999999999998,3.74,4.05,1.444,87.3,114.3,69.3,100,2.3658036703826824,1.9973209012155602,-1.8543466003626108,12650.36,2389.86,1378.55]
[null,"febrero",null,4.6135126529498294,8.6999999999999993,6.3520075542030536,4.0265554130487216,3.2681645754304052,1.0050251256281406,3.722741433021568,5.2032998953730036E-2,1.5999999999999996,0.35496235220119665,-0.25373863485263826,5.8721594257844956E-2,0.30502512562813777,1.8367871693142135E-2,{"$f":"IF(AND(Inflación!$J$6<>1,Inflación!$J$6<>2,Inflación!$J$6<>3,Inflación!$J$6<>4,Inflación!$J$6<>5,Inflación!$J$6<>6,Inflación!$J$6<>7),LOOKUP(1,'Datos mensuales'!$D$2:$J$2,'Datos mensuales'!$D222:$J222),LOOKUP(Inflación!$J$6,'Datos mensuales'!$D$2:$J$2,'Datos mensuales'!$D222:$J222))","v":4.6135126529498294},{"$f":"IF(AND(Inflación!$J$6<>1,Inflación!$J$6<>2,Inflación!$J$6<>3,Inflación!$J$6<>4,Inflación!$J$6<>5,Inflación!$J$6<>6,Inflación!$J$6<>7),LOOKUP(1,'Datos mensuales'!$K$2:$Q$2,'Datos mensuales'!$K222:$Q222),LOOKUP(Inflación!$J$6,'Datos mensuales'!$K$2:$Q$2,'Datos mensuales'!$K222:$Q222))","v":5.2032998953730036E-2},95.39,94.99,-0.40000000000000568,922.29759999999999,44.401046799999996,76.069999999999993,157.29,424.99562049999997,1109.5,219.9543572,481.14285710000001,792.31046875000004,80.841121495327101,84.956232507890064,91.977079939040749,85.178836032706656,113.50347059371681,88.934300263330584,98.335175021232672,1.73,0.99868599999999996,7.1639200000000001,1905.3051720000001,1.473821,107.06,10.767799999999999,{"$f":"IF(AND('Tipos de Cambio'!$J$6<>1,'Tipos de Cambio'!$J$6<>2,'Tipos de Cambio'!$J$6<>3,'Tipos de Cambio'!$J$6<>4,'Tipos de Cambio'!$J$6<>5,'Tipos de Cambio'!$J$6<>6,'Tipos de Cambio'!$J$6<>7),LOOKUP(1,'Datos mensuales'!$AM$2:$AS$2,'Datos mensuales'!$AM222:$AS222),LOOKUP('Tipos de Cambio'!$J$6,'Datos mensuales'!$AM$2:$AS$2,'Datos mensuales'!$AM222:$AS222))","v":1.73},3.00393,2.1,3.0876000000000001,4.3600000000000003,0.89570000000000005,3.74,4.0599999999999996,1.46,76.400000000000006,104,58,100,0.99349627249953887,1.2343312232595105,-2.1181959762883729,12266.39,2279.64,1330.63]
[null,"marzo",null,4.7283109506473036,8.3000000000000007,5.9259516550345541,3.9814562312516983,3.5845410628019261,1.2024048096192415,4.2488792905981514,0.11479829769747418,-0.39999999999999858,-0.42605589916849951,-4.5099181797023213E-2,0.31637648737152091,0.19737968399110084,0.52613785757658338,{"$f":"IF(AND(Inflación!$J$6<>1,Inflación!$J$6<>2,Inflación!$J$6<>3,Inflación!$J$6<>4,Inflación!$J$6<>5,Inflación!$J$6<>6,Inflación!$J$6<>7),LOOKUP(1,'Datos mensuales'!$D$2:$J$2,'Datos mensuales'!$D223:$J223),LOOKUP(Inflación!$J$6,'Datos mensuales'!$D$2:$J$2,'Datos mensuales'!$D223:$J223))","v":4.7283109506473036},{"$f":"IF(AND(Inflación!$J$6<>1,Inflación!$J$6<>2,Inflación!$J$6<>3,Inflación!$J$6<>4,Inflación!$J$6<>5,Inflación!$J$6<>6,Inflación!$J$6<>7),LOOKUP(1,'Datos mensuales'!$K$2:$Q$2,'Datos mensuales'!$K223:$Q223),LOOKUP(Inflación!$J$6,'Datos mensuales'!$K$2:$Q$2,'Datos mensuales'!$K223:$Q223))","v":0.11479829769747418},105.45,103.64,-1.8100000000000023,968.43420000000003,45.525402999999997,81.540000000000006,149.88999999999999,439.71605199999999,1146.8599999999999,233.85211390000001,672.64474829999995,1026.55878125,79.906542056074755,85.318111830408412,90.800006676244521,82.385659250516838,119.47198303248179,83.697593474053207,98.01554323704805,1.71,1.0029399999999999,7.0722399999999999,1842.826575,1.5513209999999999,100.756,10.732799999999999,{"$f":"IF(AND('Tipos de Cambio'!$J$6<>1,'Tipos de Cambio'!$J$6<>2,'Tipos de Cambio'!$J$6<>3,'Tipos de Cambio'!$J$6<>4,'Tipos de Cambio'!$J$6<>5,'Tipos de Cambio'!$J$6<>6,'Tipos de Cambio'!$J$6<>7),LOOKUP(1,'Datos mensuales'!$AM$2:$AS$2,'Datos mensuales'!$AM223:$AS223),LOOKUP('Tipos de Cambio'!$J$6,'Datos mensuales'!$AM$2:$AS$2,'Datos mensuales'!$AM223:$AS223))","v":1.71},2.6798000000000002,1.51,2.7825000000000002,4.5999999999999996,0.96630000000000005,3.51,4.13,1.371,65.900000000000006,90.6,49.4,100,0.58719581043085167,0.29271889084865332,-2.3788082580195047,12262.89,2279.1,1322.7]
[null,"abril ",null,5.0416274251271398,8.5,5.7279999672342239,3.9368897748275162,3.2645223235717635,0.79920079920081066,4.5485426164960252,0.31331647447983624,0.19999999999999929,-0.19795168780033023,-4.456645642418211E-2,-0.32001873923016255,-0.40320401041843079,0.29966332589787381,{"$f":"IF(AND(Inflación!$J$6<>1,Inflación!$J$6<>2,Inflación!$J$6<>3,Inflación!$J$6<>4,Inflación!$J$6<>5,Inflación!$J$6<>6,Inflación!$J$6<>7),LOOKUP(1,'Datos mensuales'!$D$2:$J$2,'Datos mensuales'!$D224:$J224),LOOKUP(Inflación!$J$6,'Datos mensuales'!$D$2:$J$2,'Datos mensuales'!$D224:$J224))","v":5.0416274251271398},{"$f":"IF(AND(Inflación!$J$6<>1,Inflación!$J$6<>2,Inflación!$J$6<>3,Inflación!$J$6<>4,Inflación!$J$6<>5,Inflación!$J$6<>6,Inflación!$J$6<>7),LOOKUP(1,'Datos mensuales'!$K$2:$Q$2,'Datos mensuales'!$K224:$Q224),LOOKUP(Inflación!$J$6,'Datos mensuales'!$K$2:$Q$2,'Datos mensuales'!$K224:$Q224))","v":0.31331647447983624},112.58,109.07,-3.5100000000000051,909.70450000000005,45.157632300000003,77.48,140.69999999999999,362.22921430000002,1083.48,246.66998269999999,1015.211265,967.30773750000014,78.971962616822424,86.235144998426236,89.86854217781665,80.170907738891444,121.26500118215053,85.294190943753577,96.022867371074227,1.69,1.01372,6.9996900000000002,1793.286364,1.574603,102.678,10.5146,{"$f":"IF(AND('Tipos de Cambio'!$J$6<>1,'Tipos de Cambio'!$J$6<>2,'Tipos de Cambio'!$J$6<>3,'Tipos de Cambio'!$J$6<>4,'Tipos de Cambio'!$J$6<>5,'Tipos de Cambio'!$J$6<>6,'Tipos de Cambio'!$J$6<>7),LOOKUP(1,'Datos mensuales'!$AM$2:$AS$2,'Datos mensuales'!$AM224:$AS224),LOOKUP('Tipos de Cambio'!$J$6,'Datos mensuales'!$AM$2:$AS$2,'Datos mensuales'!$AM224:$AS224))","v":1.69},2.8386100000000001,1.58,2.7947000000000002,4.78,0.92059999999999997,3.68,4.32,1.3220000000000001,62.8,81.900000000000006,50,100,-0.85671182512089272,-0.61735219195376834,-2.6336955509890347,12820.13,2412.8000000000002,1385.59]
[null,"mayo",null,5.5760294222613025,7.7,6.3943198523017148,4.1755430418035155,3.6685823754789251,1.2948207171314712,4.9475632325732288,0.5344019971341627,-0.79999999999999982,0.66631988506749096,0.23865326697599931,0.40406005190716154,0.49561991793066051,0.39902061607720363,{"$f":"IF(AND(Inflación!$J$6<>1,Inflación!$J$6<>2,Inflación!$J$6<>3,Inflación!$J$6<>4,Inflación!$J$6<>5,Inflación!$J$6<>6,Inflación!$J$6<>7),LOOKUP(1,'Datos mensuales'!$D$2:$J$2,'Datos mensuales'!$D225:$J225),LOOKUP(Inflación!$J$6,'Datos mensuales'!$D$2:$J$2,'Datos mensuales'!$D225:$J225))","v":5.5760294222613025},{"$f":"IF(AND(Inflación!$J$6<>1,Inflación!$J$6<>2,Inflación!$J$6<>3,Inflación!$J$6<>4,Inflación!$J$6<>5,Inflación!$J$6<>6,Inflación!$J$6<>7),LOOKUP(1,'Datos mensuales'!$K$2:$Q$2,'Datos mensuales'!$K225:$Q225),LOOKUP(Inflación!$J$6,'Datos mensuales'!$K$2:$Q$2,'Datos mensuales'!$K225:$Q225))","v":0.5344019971341627},125.4,122.8,-2.6000000000000085,888.66250000000002,45.928533514285704,75.87,141.94999999999999,328.76168289999998,1086.83,243.45795820000001,1009.318182,923.21393750000004,77.570093457943912,84.966355601303249,89.501091951145298,79.382233882314225,119.79274244290059,86.648225218265353,95.305978940831579,1.66,0.99880500000000005,6.9710700000000001,1775.645076,1.5554859999999999,104.30800000000001,10.4361,{"$f":"IF(AND('Tipos de Cambio'!$J$6<>1,'Tipos de Cambio'!$J$6<>2,'Tipos de Cambio'!$J$6<>3,'Tipos de Cambio'!$J$6<>4,'Tipos de Cambio'!$J$6<>5,'Tipos de Cambio'!$J$6<>6,'Tipos de Cambio'!$J$6<>7),LOOKUP(1,'Datos mensuales'!$AM$2:$AS$2,'Datos mensuales'!$AM225:$AS225),LOOKUP('Tipos de Cambio'!$J$6,'Datos mensuales'!$AM$2:$AS$2,'Datos mensuales'!$AM225:$AS225))","v":1.66},2.8543799999999999,1.86,2.6938,4.8600000000000003,0.91649999999999998,3.88,4.5199999999999996,1.663,58.1,74.2,47.3,100,-1.3577575230412364,-1.2354467546708214,-2.8801737800935978,12638.32,2522.66,1400.38]
[null,"junio",null,6.0605833564348179,7.1,7.1804021356146608,5.0217900476117308,3.9617224880382782,1.996007984031936,5.2554612597670678,0.48455393417351544,-0.60000000000000053,0.78608228331294594,0.84624700580821521,0.29314011255935313,0.70118726690046485,0.30789802719383896,{"$f":"IF(AND(Inflación!$J$6<>1,Inflación!$J$6<>2,Inflación!$J$6<>3,Inflación!$J$6<>4,Inflación!$J$6<>5,Inflación!$J$6<>6,Inflación!$J$6<>7),LOOKUP(1,'Datos mensuales'!$D$2:$J$2,'Datos mensuales'!$D226:$J226),LOOKUP(Inflación!$J$6,'Datos mensuales'!$D$2:$J$2,'Datos mensuales'!$D226:$J226))","v":6.0605833564348179},{"$f":"IF(AND(Inflación!$J$6<>1,Inflación!$J$6<>2,Inflación!$J$6<>3,Inflación!$J$6<>4,Inflación!$J$6<>5,Inflación!$J$6<>6,Inflación!$J$6<>7),LOOKUP(1,'Datos mensuales'!$K$2:$Q$2,'Datos mensuales'!$K226:$Q226),LOOKUP(Inflación!$J$6,'Datos mensuales'!$K$2:$Q$2,'Datos mensuales'!$K226:$Q226))","v":0.48455393417351544},133.88,132.32,-1.5600000000000023,889.48810000000003,47.946285723809503,78.5,146.15,348.55304649999999,1096.3900000000001,287.11238680000002,834.6,868.09668750000003,75.700934579439249,86.481842232865176,88.580026987434536,77.415900565594882,119.93452349322015,88.813849361610238,94.308727774175566,1.62,1.0166200000000001,6.89933,1731.661556,1.5573269999999999,106.91500000000001,10.3269,{"$f":"IF(AND('Tipos de Cambio'!$J$6<>1,'Tipos de Cambio'!$J$6<>2,'Tipos de Cambio'!$J$6<>3,'Tipos de Cambio'!$J$6<>4,'Tipos de Cambio'!$J$6<>5,'Tipos de Cambio'!$J$6<>6,'Tipos de Cambio'!$J$6<>7),LOOKUP(1,'Datos mensuales'!$AM$2:$AS$2,'Datos mensuales'!$AM226:$AS226),LOOKUP('Tipos de Cambio'!$J$6,'Datos mensuales'!$AM$2:$AS$2,'Datos mensuales'!$AM226:$AS226))","v":1.62},3.10351,2.19,2.7654000000000001,4.9405000000000001,0.92400000000000004,4.0999999999999996,4.7300000000000004,1.8009999999999999,51,65.400000000000006,41.4,100,-1.5484946993643223,-1.6196549749001199,-3.1154001760945293,11350.01,2292.98,1280]
[null,"julio",null,6.3670915879048762,6.3,7.5195900243574103,5.6001229002539583,4.0479616306954425,2.2977022977023092,5.3943945417948527,0.30650823147005823,-0.79999999999999982,0.33918788874274952,0.57833285264222756,8.6239142657164258E-2,0.30169431367037314,0.13893328202778488,{"$f":"IF(AND(Inflación!$J$6<>1,Inflación!$J$6<>2,Inflación!$J$6<>3,Inflación!$J$6<>4,Inflación!$J$6<>5,Inflación!$J$6<>6,Inflación!$J$6<>7),LOOKUP(1,'Datos mensuales'!$D$2:$J$2,'Datos mensuales'!$D227:$J227),LOOKUP(Inflación!$J$6,'Datos mensuales'!$D$2:$J$2,'Datos mensuales'!$D227:$J227))","v":6.3670915879048762},{"$f":"IF(AND(Inflación!$J$6<>1,Inflación!$J$6<>2,Inflación!$J$6<>3,Inflación!$J$6<>4,Inflación!$J$6<>5,Inflación!$J$6<>6,Inflación!$J$6<>7),LOOKUP(1,'Datos mensuales'!$K$2:$Q$2,'Datos mensuales'!$K227:$Q227),LOOKUP(Inflación!$J$6,'Datos mensuales'!$K$2:$Q$2,'Datos mensuales'!$K227:$Q227))","v":0.30650823147005823},133.37,132.72,-0.65000000000000568,939.77170000000001,52.379767000000001,78.44,147.36000000000001,328.18357459999999,1026.25,266.94365690000001,799,722.03597500000001,74.299065420560751,86.198565753319784,87.770403951309646,79.136081662720997,121.4050109320044,88.759023433930608,93.298691336152174,1.59,1.01329,6.8362699999999998,1770.1390710000001,1.5764210000000001,106.849,10.2163,{"$f":"IF(AND('Tipos de Cambio'!$J$6<>1,'Tipos de Cambio'!$J$6<>2,'Tipos de Cambio'!$J$6<>3,'Tipos de Cambio'!$J$6<>4,'Tipos de Cambio'!$J$6<>5,'Tipos de Cambio'!$J$6<>6,'Tipos de Cambio'!$J$6<>7),LOOKUP(1,'Datos mensuales'!$AM$2:$AS$2,'Datos mensuales'!$AM227:$AS227),LOOKUP('Tipos de Cambio'!$J$6,'Datos mensuales'!$AM$2:$AS$2,'Datos mensuales'!$AM227:$AS227))","v":1.59},3.11565,1.98,2.7923,4.9610000000000003,0.91579999999999995,4.01,4.53,1.704,51.9,65.8,42.7,100,-2.0756530775427606,-2.3495254188298564,-3.3363895817286604,11378.02,2325.5500000000002,1267.3800000000001]
[null,"agosto",null,6.1658179491662315,4.9000000000000004,7.8692665188365982,5.3718551152623455,3.8443102291247158,2.0874751491053765,5.5729370355883558,-0.20127363873864468,-1.3999999999999995,0.34967649447918792,-0.22826778499161282,-0.2036514015707267,-0.2102271485969327,0.17854249379350318,{"$f":"IF(AND(Inflación!$J$6<>1,Inflación!$J$6<>2,Inflación!$J$6<>3,Inflación!$J$6<>4,Inflación!$J$6<>5,Inflación!$J$6<>6,Inflación!$J$6<>7),LOOKUP(1,'Datos mensuales'!$D$2:$J$2,'Datos mensuales'!$D228:$J228),LOOKUP(Inflación!$J$6,'Datos mensuales'!$D$2:$J$2,'Datos mensuales'!$D228:$J228))","v":6.1658179491662315},{"$f":"IF(AND(Inflación!$J$6<>1,Inflación!$J$6<>2,Inflación!$J$6<>3,Inflación!$J$6<>4,Inflación!$J$6<>5,Inflación!$J$6<>6,Inflación!$J$6<>7),LOOKUP(1,'Datos mensuales'!$K$2:$Q$2,'Datos mensuales'!$K228:$Q228),LOOKUP(Inflación!$J$6,'Datos mensuales'!$K$2:$Q$2,'Datos mensuales'!$K228:$Q228))","v":-0.20127363873864468},116.67,113.24,-3.4300000000000068,839.02499999999998,51.2679131904762,78.040000000000006,146.43,329.34412070000002,791.77,235.1641534,737,799.20012499999996,75.233644859813083,89.573213784420631,87.907138574442058,82.62330585911063,115.11789544860494,90.881451391830936,92.337056282591021,1.61,1.0529599999999999,6.8469199999999999,1848.1423239999999,1.4947839999999999,109.404,10.111000000000001,{"$f":"IF(AND('Tipos de Cambio'!$J$6<>1,'Tipos de Cambio'!$J$6<>2,'Tipos de Cambio'!$J$6<>3,'Tipos de Cambio'!$J$6<>4,'Tipos de Cambio'!$J$6<>5,'Tipos de Cambio'!$J$6<>6,'Tipos de Cambio'!$J$6<>7),LOOKUP(1,'Datos mensuales'!$AM$2:$AS$2,'Datos mensuales'!$AM228:$AS228),LOOKUP('Tipos de Cambio'!$J$6,'Datos mensuales'!$AM$2:$AS$2,'Datos mensuales'!$AM228:$AS228))","v":1.61},3.11164,1.97,2.81,4.97,0.89,3.89,4.34,1.53,58.5,65,54.1,100,-3.6981058336415629,-3.6859734698269309,-3.5400157112537078,11543.55,2367.52,1282.83]
[null,"septiembre",null,6.2505337496890387,4.5999999999999996,7.5737182010219382,4.9369274305721991,3.638620953108588,2.0874751491053765,5.473405072398176,8.471580052280725E-2,-0.30000000000000071,-0.29554831781466007,-0.43492768469014642,-0.20568927601612774,0,-9.9531963190179873E-2,{"$f":"IF(AND(Inflación!$J$6<>1,Inflación!$J$6<>2,Inflación!$J$6<>3,Inflación!$J$6<>4,Inflación!$J$6<>5,Inflación!$J$6<>6,Inflación!$J$6<>7),LOOKUP(1,'Datos mensuales'!$D$2:$J$2,'Datos mensuales'!$D229:$J229),LOOKUP(Inflación!$J$6,'Datos mensuales'!$D$2:$J$2,'Datos mensuales'!$D229:$J229))","v":6.2505337496890387},{"$f":"IF(AND(Inflación!$J$6<>1,Inflación!$J$6<>2,Inflación!$J$6<>3,Inflación!$J$6<>4,Inflación!$J$6<>5,Inflación!$J$6<>6,Inflación!$J$6<>7),LOOKUP(1,'Datos mensuales'!$K$2:$Q$2,'Datos mensuales'!$K229:$Q229),LOOKUP(Inflación!$J$6,'Datos mensuales'!$K$2:$Q$2,'Datos mensuales'!$K229:$Q229))","v":8.471580052280725E-2},104.11,97.23,-6.8799999999999955,829.93179999999995,50.924622361904703,73.59,143.27000000000001,295.55030740000001,667.04,233.9062452,722,803,84.112149532710276,90.03853580937961,87.6961949257974,92.660460987378201,110.5055830620548,88.611159568370439,97.228335814284776,1.8,1.05843,6.8304900000000002,2072.656352,1.4348939999999999,106.67100000000001,10.646599999999999,{"$f":"IF(AND('Tipos de Cambio'!$J$6<>1,'Tipos de Cambio'!$J$6<>2,'Tipos de Cambio'!$J$6<>3,'Tipos de Cambio'!$J$6<>4,'Tipos de Cambio'!$J$6<>5,'Tipos de Cambio'!$J$6<>6,'Tipos de Cambio'!$J$6<>7),LOOKUP(1,'Datos mensuales'!$AM$2:$AS$2,'Datos mensuales'!$AM229:$AS229),LOOKUP('Tipos de Cambio'!$J$6,'Datos mensuales'!$AM$2:$AS$2,'Datos mensuales'!$AM229:$AS229))","v":1.8},3.3368500000000001,1.64,3.12,5.0199999999999996,0.91,3.69,4.34,1.4850000000000001,61.4,61.1,61.5,100,-8.102253721441155,-5.2819483662943973,-3.7230373320502497,10850.66,2091.88,1166.3599999999999]
[null,"octubre",null,6.4095302614676646,4,7.9396795066713972,3.655186277137497,3.1647975670024699,1.6848364717542006,5.7799325124224419,0.15899651177862584,-0.59999999999999964,0.36596130564945906,-1.2817411534347021,-0.47382338610611807,-0.40263867735117587,0.30652744002426591,{"$f":"IF(AND(Inflación!$J$6<>1,Inflación!$J$6<>2,Inflación!$J$6<>3,Inflación!$J$6<>4,Inflación!$J$6<>5,Inflación!$J$6<>6,Inflación!$J$6<>7),LOOKUP(1,'Datos mensuales'!$D$2:$J$2,'Datos mensuales'!$D230:$J230),LOOKUP(Inflación!$J$6,'Datos mensuales'!$D$2:$J$2,'Datos mensuales'!$D230:$J230))","v":6.4095302614676646},{"$f":"IF(AND(Inflación!$J$6<>1,Inflación!$J$6<>2,Inflación!$J$6<>3,Inflación!$J$6<>4,Inflación!$J$6<>5,Inflación!$J$6<>6,Inflación!$J$6<>7),LOOKUP(1,'Datos mensuales'!$K$2:$Q$2,'Datos mensuales'!$K230:$Q230),LOOKUP(Inflación!$J$6,'Datos mensuales'!$K$2:$Q$2,'Datos mensuales'!$K230:$Q230))","v":0.15899651177862584},76.61,71.58,-5.0300000000000011,806.61959999999999,47.192287426086899,62.3,123.59,237.38405610000001,486.4,182.95908919999999,624,807.46771250000006,101.86915887850468,100.8251597151923,87.764883210657345,102.2419207281919,102.31740010057906,83.048986135685865,115.69392060346479,2.1800000000000002,1.18523,6.8358400000000001,2286.9772520000001,1.3285720000000001,99.975200000000001,12.6686,{"$f":"IF(AND('Tipos de Cambio'!$J$6<>1,'Tipos de Cambio'!$J$6<>2,'Tipos de Cambio'!$J$6<>3,'Tipos de Cambio'!$J$6<>4,'Tipos de Cambio'!$J$6<>5,'Tipos de Cambio'!$J$6<>6,'Tipos de Cambio'!$J$6<>7),LOOKUP(1,'Datos mensuales'!$AM$2:$AS$2,'Datos mensuales'!$AM230:$AS230),LOOKUP('Tipos de Cambio'!$J$6,'Datos mensuales'!$AM$2:$AS$2,'Datos mensuales'!$AM230:$AS230))","v":2.1800000000000002},3.8783699999999999,1.23,4.0599999999999996,5.1100000000000003,1.04,3.81,4.25,1.5249999999999999,38.799999999999997,43.5,35.700000000000003,100,-6.8684828257988162,-6.9709247539607837,-3.8821700548411497,9325.01,1720.95,968.75]
[null,"noviembre",null,6.3885969279563346,2.4,7.7300937323852601,1.0695746918073905,2.1176025713745461,0.99304865938430986,6.232856445975556,-2.0933333511329977E-2,-1.6,-0.20958577428613712,-2.5856115853301063,-1.0471949956279238,-0.69178781236989073,0.45292393355311411,{"$f":"IF(AND(Inflación!$J$6<>1,Inflación!$J$6<>2,Inflación!$J$6<>3,Inflación!$J$6<>4,Inflación!$J$6<>5,Inflación!$J$6<>6,Inflación!$J$6<>7),LOOKUP(1,'Datos mensuales'!$D$2:$J$2,'Datos mensuales'!$D231:$J231),LOOKUP(Inflación!$J$6,'Datos mensuales'!$D$2:$J$2,'Datos mensuales'!$D231:$J231))","v":6.3885969279563346},{"$f":"IF(AND(Inflación!$J$6<>1,Inflación!$J$6<>2,Inflación!$J$6<>3,Inflación!$J$6<>4,Inflación!$J$6<>5,Inflación!$J$6<>6,Inflación!$J$6<>7),LOOKUP(1,'Datos mensuales'!$K$2:$Q$2,'Datos mensuales'!$K231:$Q231),LOOKUP(Inflación!$J$6,'Datos mensuales'!$K$2:$Q$2,'Datos mensuales'!$K231:$Q231))","v":-2.0933333511329977E-2},57.31,52.45,-4.8599999999999994,760.86249999999995,43.362554747368399,54.96,121.89,226.8462121,433.1,164.2696636,563.25,902.54496874999995,106.07476635514017,103.51160753022042,87.664097596423588,104.16181760050182,97.941055741285396,80.527658019122612,119.71123551383091,2.27,1.2168099999999999,6.8279899999999998,2329.9220679999999,1.271746,96.94,13.108499999999999,{"$f":"IF(AND('Tipos de Cambio'!$J$6<>1,'Tipos de Cambio'!$J$6<>2,'Tipos de Cambio'!$J$6<>3,'Tipos de Cambio'!$J$6<>4,'Tipos de Cambio'!$J$6<>5,'Tipos de Cambio'!$J$6<>6,'Tipos de Cambio'!$J$6<>7),LOOKUP(1,'Datos mensuales'!$AM$2:$AS$2,'Datos mensuales'!$AM231:$AS231),LOOKUP('Tipos de Cambio'!$J$6,'Datos mensuales'!$AM$2:$AS$2,'Datos mensuales'!$AM231:$AS231))","v":2.27},2.6577500000000001,0.74,2.2790599999999999,4.24,0.91,3.53,3.77,1.4970000000000001,44.9,42.2,46.7,100,-8.5779217879312633,-8.9065094042206194,-4.0141795711882917,8829.0400000000009,1535.57,896.24]
[null,"diciembre",null,5.9027243906546385,1.2,7.6747584329872502,9.1412900645607073E-2,1.5819209039547952,0.39643211100098258,6.5281450097157077,-0.48587253730169611,-1.2,-5.5335299398009852E-2,-0.97816179116178348,-0.53568166741975087,-0.59661654838332723,0.29528856374015167,{"$f":"IF(AND(Inflación!$J$6<>1,Inflación!$J$6<>2,Inflación!$J$6<>3,Inflación!$J$6<>4,Inflación!$J$6<>5,Inflación!$J$6<>6,Inflación!$J$6<>7),LOOKUP(1,'Datos mensuales'!$D$2:$J$2,'Datos mensuales'!$D232:$J232),LOOKUP(Inflación!$J$6,'Datos mensuales'!$D$2:$J$2,'Datos mensuales'!$D232:$J232))","v":5.9027243906546385},{"$f":"IF(AND(Inflación!$J$6<>1,Inflación!$J$6<>2,Inflación!$J$6<>3,Inflación!$J$6<>4,Inflación!$J$6<>5,Inflación!$J$6<>6,Inflación!$J$6<>7),LOOKUP(1,'Datos mensuales'!$K$2:$Q$2,'Datos mensuales'!$K232:$Q232),LOOKUP(Inflación!$J$6,'Datos mensuales'!$K$2:$Q$2,'Datos mensuales'!$K232:$Q232))","v":-0.48587253730169611},41.12,39.950000000000003,-1.1699999999999946,816.09209999999996,43.594356300000001,55.506399999999999,118.97,220.1353896,440.38,158.15662090000001,550.75,830.20357812500004,112.61682242990653,104.8692929997533,87.986354783336608,100.30577925473824,103.98735137441363,75.800250870153931,122.49477173724439,2.41,1.2327699999999999,6.8530899999999999,2243.6690720000001,1.3502559999999999,91.249099999999999,13.4133,{"$f":"IF(AND('Tipos de Cambio'!$J$6<>1,'Tipos de Cambio'!$J$6<>2,'Tipos de Cambio'!$J$6<>3,'Tipos de Cambio'!$J$6<>4,'Tipos de Cambio'!$J$6<>5,'Tipos de Cambio'!$J$6<>6,'Tipos de Cambio'!$J$6<>7),LOOKUP(1,'Datos mensuales'!$AM$2:$AS$2,'Datos mensuales'!$AM232:$AS232),LOOKUP('Tipos de Cambio'!$J$6,'Datos mensuales'!$AM$2:$AS$2,'Datos mensuales'!$AM232:$AS232))","v":2.41},2.1778300000000002,0.26,1.82935,3.29,0.92,2.42,3.69,1.3819999999999999,38.6,30.2,44.2,100,-11.150607450613315,-10.960092926627073,-4.1159853486363973,8776.39,1577.03,903.25]
[2009,"enero",null,5.8393442981098653,1,7.1781555123625589,2.9846503695275806E-2,1.1153119092627664,0,6.2824029299385202,-6.338009254477317E-2,-0.19999999999999996,-0.49660292062469136,-6.1566396950331267E-2,-0.46660899469202888,-0.39643211100098258,-0.24574207977718743,{"$f":"IF(AND(Inflación!$J$6<>1,Inflación!$J$6<>2,Inflación!$J$6<>3,Inflación!$J$6<>4,Inflación!$J$6<>5,Inflación!$J$6<>6,Inflación!$J$6<>7),LOOKUP(1,'Datos mensuales'!$D$2:$J$2,'Datos mensuales'!$D233:$J233),LOOKUP(Inflación!$J$6,'Datos mensuales'!$D$2:$J$2,'Datos mensuales'!$D233:$J233))","v":5.8393442981098653},{"$f":"IF(AND(Inflación!$J$6<>1,Inflación!$J$6<>2,Inflación!$J$6<>3,Inflación!$J$6<>4,Inflación!$J$6<>5,Inflación!$J$6<>6,Inflación!$J$6<>7),LOOKUP(1,'Datos mensuales'!$K$2:$Q$2,'Datos mensuales'!$K233:$Q233),LOOKUP(Inflación!$J$6,'Datos mensuales'!$K$2:$Q$2,'Datos mensuales'!$K233:$Q233))","v":-6.338009254477317E-2},41.71,43.44,1.7299999999999969,858.69050000000004,44.41758145,57.69,128.30000000000001,239.36,522.15,173.24,615.25,819.86909375000005,107.94392523364486,104.34782608695652,87.764369653387362,101.29609809047425,102.27142330153463,75.112517756124305,126.79792878603845,2.31,1.22664,6.8357999999999999,2265.8208140000002,1.3279749999999999,90.421199999999999,13.884499999999999,{"$f":"IF(AND('Tipos de Cambio'!$J$6<>1,'Tipos de Cambio'!$J$6<>2,'Tipos de Cambio'!$J$6<>3,'Tipos de Cambio'!$J$6<>4,'Tipos de Cambio'!$J$6<>5,'Tipos de Cambio'!$J$6<>6,'Tipos de Cambio'!$J$6<>7),LOOKUP(1,'Datos mensuales'!$AM$2:$AS$2,'Datos mensuales'!$AM233:$AS233),LOOKUP('Tipos de Cambio'!$J$6,'Datos mensuales'!$AM$2:$AS$2,'Datos mensuales'!$AM233:$AS233))","v":2.31},1.6211,0.3,1.2108099999999999,2.46,0.73,2.52,4.0199999999999996,1.284,37.4,29.7,42.5,100,-12.890466016731651,-12.590514642765294,-4.1847874093050681,8000.86,1476.42,825.88]
[null,"febrero",null,5.9025374751343413,-1.6,6.4667477114956196,0.23619108803786615,1.1773570688518413,-9.9502487562183384E-2,6.2013420696954507,6.3193177024476022E-2,-2.6,-0.71140780086693933,0.20634458434259034,6.2045159589074972E-2,-9.9502487562183384E-2,-8.1060860243069577E-2,{"$f":"IF(AND(Inflación!$J$6<>1,Inflación!$J$6<>2,Inflación!$J$6<>3,Inflación!$J$6<>4,Inflación!$J$6<>5,Inflación!$J$6<>6,Inflación!$J$6<>7),LOOKUP(1,'Datos mensuales'!$D$2:$J$2,'Datos mensuales'!$D234:$J234),LOOKUP(Inflación!$J$6,'Datos mensuales'!$D$2:$J$2,'Datos mensuales'!$D234:$J234))","v":5.9025374751343413},{"$f":"IF(AND(Inflación!$J$6<>1,Inflación!$J$6<>2,Inflación!$J$6<>3,Inflación!$J$6<>4,Inflación!$J$6<>5,Inflación!$J$6<>6,Inflación!$J$6<>7),LOOKUP(1,'Datos mensuales'!$K$2:$Q$2,'Datos mensuales'!$K234:$Q234),LOOKUP(Inflación!$J$6,'Datos mensuales'!$K$2:$Q$2,'Datos mensuales'!$K234:$Q234))","v":6.3193177024476022E-2},39.090000000000003,43.32,4.2299999999999969,943.16300000000001,43.494831947368404,55.21,129.47999999999999,224.69,529.4,163.13,634,943.88290625000002,108.41121495327101,106.06619992684149,87.777080195819394,112.28751279883085,98.623160446706564,76.874423704737453,133.25723052757508,2.3199999999999998,1.2468399999999999,6.8367899999999997,2511.6799999999998,1.2806029999999999,92.542199999999994,14.591799999999999,{"$f":"IF(AND('Tipos de Cambio'!$J$6<>1,'Tipos de Cambio'!$J$6<>2,'Tipos de Cambio'!$J$6<>3,'Tipos de Cambio'!$J$6<>4,'Tipos de Cambio'!$J$6<>5,'Tipos de Cambio'!$J$6<>6,'Tipos de Cambio'!$J$6<>7),LOOKUP(1,'Datos mensuales'!$AM$2:$AS$2,'Datos mensuales'!$AM234:$AS234),LOOKUP('Tipos de Cambio'!$J$6,'Datos mensuales'!$AM$2:$AS$2,'Datos mensuales'!$AM234:$AS234))","v":2.3199999999999998},1.7569399999999999,0.46,1.2426299999999999,1.94,0.64,2.87,3.85,1.3029999999999999,25.3,22.3,27.3,100,-13.280210893293143,-13.554565658458939,-4.2182086631672,7062.93,1377.84,735.09]
[null,"marzo",null,5.607122766021905,-1.2,6.1407954518252374,-0.38355625491738249,0.56897677455461193,-0.29702970297029424,6.0437232222731492,-0.29541470911243639,0.40000000000000013,-0.32595225967038211,-0.61974734295524869,-0.6083802942972294,-0.19752721540811086,-0.15761884742230148,{"$f":"IF(AND(Inflación!$J$6<>1,Inflación!$J$6<>2,Inflación!$J$6<>3,Inflación!$J$6<>4,Inflación!$J$6<>5,Inflación!$J$6<>6,Inflación!$J$6<>7),LOOKUP(1,'Datos mensuales'!$D$2:$J$2,'Datos mensuales'!$D235:$J235),LOOKUP(Inflación!$J$6,'Datos mensuales'!$D$2:$J$2,'Datos mensuales'!$D235:$J235))","v":5.607122766021905},{"$f":"IF(AND(Inflación!$J$6<>1,Inflación!$J$6<>2,Inflación!$J$6<>3,Inflación!$J$6<>4,Inflación!$J$6<>5,Inflación!$J$6<>6,Inflación!$J$6<>7),LOOKUP(1,'Datos mensuales'!$K$2:$Q$2,'Datos mensuales'!$K235:$Q235),LOOKUP(Inflación!$J$6,'Datos mensuales'!$K$2:$Q$2,'Datos mensuales'!$K235:$Q235))","v":-0.29541470911243639},47.94,46.54,-1.3999999999999986,924.27269999999999,43.548259700000003,51.5,128.52000000000001,230.98,557.21,164.52,625.25,909.43462499999998,108.41121495327101,107.41963199578063,87.770789119262119,110.50046562515719,100.43327549652248,81.271712313404947,133.985990995516,2.3199999999999998,1.26275,6.8362999999999996,2471.7068049999998,1.3041069999999999,97.835700000000003,14.6716,{"$f":"IF(AND('Tipos de Cambio'!$J$6<>1,'Tipos de Cambio'!$J$6<>2,'Tipos de Cambio'!$J$6<>3,'Tipos de Cambio'!$J$6<>4,'Tipos de Cambio'!$J$6<>5,'Tipos de Cambio'!$J$6<>6,'Tipos de Cambio'!$J$6<>7),LOOKUP(1,'Datos mensuales'!$AM$2:$AS$2,'Datos mensuales'!$AM235:$AS235),LOOKUP('Tipos de Cambio'!$J$6,'Datos mensuales'!$AM$2:$AS$2,'Datos mensuales'!$AM235:$AS235))","v":2.3199999999999998},1.8271999999999999,0.43,1.26674,1.64,0.62,2.82,3.77,1.296,26.9,21.9,30.2,100,-14.344984347815636,-14.150013828433149,-4.2144138498697581,7608.92,1528.59,797.87]
[null,"abril ",null,5.5337782830583251,-1.5,5.7298665442913945,-0.73688571521671253,0.61366806136680296,-9.910802775025622E-2,6.1732744582240606,-7.3344482963579871E-2,-0.30000000000000004,-0.41092890753384292,-0.35332946029933004,4.4691286812191033E-2,0.19792167522003801,0.12955123595091145,{"$f":"IF(AND(Inflación!$J$6<>1,Inflación!$J$6<>2,Inflación!$J$6<>3,Inflación!$J$6<>4,Inflación!$J$6<>5,Inflación!$J$6<>6,Inflación!$J$6<>7),LOOKUP(1,'Datos mensuales'!$D$2:$J$2,'Datos mensuales'!$D236:$J236),LOOKUP(Inflación!$J$6,'Datos mensuales'!$D$2:$J$2,'Datos mensuales'!$D236:$J236))","v":5.5337782830583251},{"$f":"IF(AND(Inflación!$J$6<>1,Inflación!$J$6<>2,Inflación!$J$6<>3,Inflación!$J$6<>4,Inflación!$J$6<>5,Inflación!$J$6<>6,Inflación!$J$6<>7),LOOKUP(1,'Datos mensuales'!$K$2:$Q$2,'Datos mensuales'!$K236:$Q236),LOOKUP(Inflación!$J$6,'Datos mensuales'!$K$2:$Q$2,'Datos mensuales'!$K236:$Q236))","v":-7.3344482963579871E-2},49.65,50.18,0.53000000000000114,890.2,46.826128799999999,56.78,134.88,233.47,693.21,168.72,577.25,890.14358749999985,102.80373831775702,104.37589853087543,87.713013926389266,106.17877927737027,101.72563171890849,82.145936651132644,122.82170939078181,2.2000000000000002,1.2269699999999999,6.8318000000000003,2375.0380580000001,1.3208880000000001,98.888099999999994,13.4491,{"$f":"IF(AND('Tipos de Cambio'!$J$6<>1,'Tipos de Cambio'!$J$6<>2,'Tipos de Cambio'!$J$6<>3,'Tipos de Cambio'!$J$6<>4,'Tipos de Cambio'!$J$6<>5,'Tipos de Cambio'!$J$6<>6,'Tipos de Cambio'!$J$6<>7),LOOKUP(1,'Datos mensuales'!$AM$2:$AS$2,'Datos mensuales'!$AM236:$AS236),LOOKUP('Tipos de Cambio'!$J$6,'Datos mensuales'!$AM$2:$AS$2,'Datos mensuales'!$AM236:$AS236))","v":2.2000000000000002},1.6518900000000001,0.35,1.10622,1.42,0.56999999999999995,2.93,3.79,1.353,40.799999999999997,25.5,51,100,-14.396404476265811,-14.626922303357803,-4.1721863758851452,8168.12,1717.3,872.81]
[null,"mayo",null,5.1986222405670413,-1.4,4.7686231834316244,-1.2814357989586074,3.6958329483499995E-2,-1.0816125860373731,5.9785249627710471,-0.33515604249128383,0.10000000000000009,-0.96124336085977014,-0.54455008374189484,-0.57670973188330299,-0.98250455828711691,-0.19474949545301357,{"$f":"IF(AND(Inflación!$J$6<>1,Inflación!$J$6<>2,Inflación!$J$6<>3,Inflación!$J$6<>4,Inflación!$J$6<>5,Inflación!$J$6<>6,Inflación!$J$6<>7),LOOKUP(1,'Datos mensuales'!$D$2:$J$2,'Datos mensuales'!$D237:$J237),LOOKUP(Inflación!$J$6,'Datos mensuales'!$D$2:$J$2,'Datos mensuales'!$D237:$J237))","v":5.1986222405670413},{"$f":"IF(AND(Inflación!$J$6<>1,Inflación!$J$6<>2,Inflación!$J$6<>3,Inflación!$J$6<>4,Inflación!$J$6<>5,Inflación!$J$6<>6,Inflación!$J$6<>7),LOOKUP(1,'Datos mensuales'!$K$2:$Q$2,'Datos mensuales'!$K237:$Q237),LOOKUP(Inflación!$J$6,'Datos mensuales'!$K$2:$Q$2,'Datos mensuales'!$K237:$Q237))","v":-0.33515604249128383},59.03,57.3,-1.730000000000004,928.64499999999998,47.676009809999996,61.95,150.99,256.7,772.39,180.31,540.75,830.20357812500004,96.728971962616811,98.09277517375142,87.615438045092901,99.571606114575104,105.15995228270572,80.357946852077973,120.69296170811224,2.0699999999999998,1.1531100000000001,6.8242000000000003,2227.2468720000002,1.3654820000000001,96.735699999999994,13.215999999999999,{"$f":"IF(AND('Tipos de Cambio'!$J$6<>1,'Tipos de Cambio'!$J$6<>2,'Tipos de Cambio'!$J$6<>3,'Tipos de Cambio'!$J$6<>4,'Tipos de Cambio'!$J$6<>5,'Tipos de Cambio'!$J$6<>6,'Tipos de Cambio'!$J$6<>7),LOOKUP(1,'Datos mensuales'!$AM$2:$AS$2,'Datos mensuales'!$AM237:$AS237),LOOKUP('Tipos de Cambio'!$J$6,'Datos mensuales'!$AM$2:$AS$2,'Datos mensuales'!$AM237:$AS237))","v":2.0699999999999998},1.35701,0.3,0.81655,1.28,0.53,3.29,4.18,1.4510000000000001,54.8,29.7,71.5,100,-14.908869655716305,-14.961764345719232,-4.090984366446615,8500.33,1774.33,919.14]
[null,"junio",null,4.8015654360756743,-1.7,3.8148622001712971,-1.4267760436898684,-0.14727540500736061,-1.76125244618395,5.7361182659734125,-0.39705680449136693,-0.30000000000000004,-0.95376098326032732,-0.14534024473126106,-0.18423373449086061,-0.67963986014657696,-0.2424066967976346,{"$f":"IF(AND(Inflación!$J$6<>1,Inflación!$J$6<>2,Inflación!$J$6<>3,Inflación!$J$6<>4,Inflación!$J$6<>5,Inflación!$J$6<>6,Inflación!$J$6<>7),LOOKUP(1,'Datos mensuales'!$D$2:$J$2,'Datos mensuales'!$D238:$J238),LOOKUP(Inflación!$J$6,'Datos mensuales'!$D$2:$J$2,'Datos mensuales'!$D238:$J238))","v":4.8015654360756743},{"$f":"IF(AND(Inflación!$J$6<>1,Inflación!$J$6<>2,Inflación!$J$6<>3,Inflación!$J$6<>4,Inflación!$J$6<>5,Inflación!$J$6<>6,Inflación!$J$6<>7),LOOKUP(1,'Datos mensuales'!$K$2:$Q$2,'Datos mensuales'!$K238:$Q238),LOOKUP(Inflación!$J$6,'Datos mensuales'!$K$2:$Q$2,'Datos mensuales'!$K238:$Q238))","v":-0.39705680449136693},69.64,68.61,-1.0300000000000011,945.67049999999995,49.153005,61.39,149.79,253.41,690.82,178.83,548.6,854.31737500000008,91.588785046728958,95.665784794943548,87.738948568523313,93.437664008938029,107.86180159740498,80.244556865286043,121.72400252052493,1.96,1.1245799999999999,6.8338200000000002,2090.0410569999999,1.4005650000000001,96.599199999999996,13.328900000000001,{"$f":"IF(AND('Tipos de Cambio'!$J$6<>1,'Tipos de Cambio'!$J$6<>2,'Tipos de Cambio'!$J$6<>3,'Tipos de Cambio'!$J$6<>4,'Tipos de Cambio'!$J$6<>5,'Tipos de Cambio'!$J$6<>6,'Tipos de Cambio'!$J$6<>7),LOOKUP(1,'Datos mensuales'!$AM$2:$AS$2,'Datos mensuales'!$AM238:$AS238),LOOKUP('Tipos de Cambio'!$J$6,'Datos mensuales'!$AM$2:$AS$2,'Datos mensuales'!$AM238:$AS238))","v":1.96},1.1795500000000001,0.31,0.62,1.23,0.49,3.72,3.99,1.5269999999999999,49.3,25,65.5,100,-15.061017052313364,-14.766285469371709,-3.9709955630525484,8447,1835.04,919.32]
[null,"julio",null,4.4993956769823189,-1.8,3.2767571627968679,-2.0971613536760558,-0.64533972526966243,-2.2460937500000111,5.4365375062097137,-0.30216975909335542,-0.10000000000000009,-0.53810503737442916,-0.67038530998618739,-0.49806432026230185,-0.48484130381606105,-0.2995807597636988,{"$f":"IF(AND(Inflación!$J$6<>1,Inflación!$J$6<>2,Inflación!$J$6<>3,Inflación!$J$6<>4,Inflación!$J$6<>5,Inflación!$J$6<>6,Inflación!$J$6<>7),LOOKUP(1,'Datos mensuales'!$D$2:$J$2,'Datos mensuales'!$D239:$J239),LOOKUP(Inflación!$J$6,'Datos mensuales'!$D$2:$J$2,'Datos mensuales'!$D239:$J239))","v":4.4993956769823189},{"$f":"IF(AND(Inflación!$J$6<>1,Inflación!$J$6<>2,Inflación!$J$6<>3,Inflación!$J$6<>4,Inflación!$J$6<>5,Inflación!$J$6<>6,Inflación!$J$6<>7),LOOKUP(1,'Datos mensuales'!$K$2:$Q$2,'Datos mensuales'!$K239:$Q239),LOOKUP(Inflación!$J$6,'Datos mensuales'!$K$2:$Q$2,'Datos mensuales'!$K239:$Q239))","v":-0.30216975909335542},64.150000000000006,64.44,0.28999999999999204,934.22829999999999,50.739329300000001,64.8,140.9,224.95,601.95000000000005,151.76,623,826.75874999999996,90.654205607476626,95.573911342118024,87.714297819564223,91.618618148723542,108.42014630941847,78.478663576478013,121.97148884485071,1.94,1.1234999999999999,6.8319000000000001,2049.3521059999998,1.407815,94.473399999999998,13.356,{"$f":"IF(AND('Tipos de Cambio'!$J$6<>1,'Tipos de Cambio'!$J$6<>2,'Tipos de Cambio'!$J$6<>3,'Tipos de Cambio'!$J$6<>4,'Tipos de Cambio'!$J$6<>5,'Tipos de Cambio'!$J$6<>6,'Tipos de Cambio'!$J$6<>7),LOOKUP(1,'Datos mensuales'!$AM$2:$AS$2,'Datos mensuales'!$AM239:$AS239),LOOKUP('Tipos de Cambio'!$J$6,'Datos mensuales'!$AM$2:$AS$2,'Datos mensuales'!$AM239:$AS239))","v":1.94},0.98141,0.28000000000000003,0.52,0.97,0.43,3.56,3.74,1.3540000000000001,47.4,23.3,63.4,100,-13.791943435233112,-13.640852074523846,-3.8131887428734745,9171.61,1978.5,987.48]
[null,"agosto",null,4.3638516815982351,-1.2,3.125020938675068,-1.4843486119606042,-0.16617429837517783,-2.2395326192794518,5.0819596221518877,-0.13554399538408379,0.60000000000000009,-0.15173622412179988,0.61281274171545164,0.4791654268944846,6.561130720559305E-3,-0.35457788405782598,{"$f":"IF(AND(Inflación!$J$6<>1,Inflación!$J$6<>2,Inflación!$J$6<>3,Inflación!$J$6<>4,Inflación!$J$6<>5,Inflación!$J$6<>6,Inflación!$J$6<>7),LOOKUP(1,'Datos mensuales'!$D$2:$J$2,'Datos mensuales'!$D240:$J240),LOOKUP(Inflación!$J$6,'Datos mensuales'!$D$2:$J$2,'Datos mensuales'!$D240:$J240))","v":4.3638516815982351},{"$f":"IF(AND(Inflación!$J$6<>1,Inflación!$J$6<>2,Inflación!$J$6<>3,Inflación!$J$6<>4,Inflación!$J$6<>5,Inflación!$J$6<>6,Inflación!$J$6<>7),LOOKUP(1,'Datos mensuales'!$K$2:$Q$2,'Datos mensuales'!$K240:$Q240),LOOKUP(Inflación!$J$6,'Datos mensuales'!$K$2:$Q$2,'Datos mensuales'!$K240:$Q240))","v":-0.13554399538408379},71.05,72.510000000000005,1.460000000000008,949.375,57.464995028571394,64.260000000000005,149.76,210.37,686.79,152.01,576.25,833.64840624999999,86.44859813084112,92.550594200062946,87.721487621343968,90.170299502942143,109.82902329722191,78.781867570463774,118.77425776933543,1.85,1.08796,6.8324600000000002,2016.95569,1.4261090000000001,94.838399999999993,13.0059,{"$f":"IF(AND('Tipos de Cambio'!$J$6<>1,'Tipos de Cambio'!$J$6<>2,'Tipos de Cambio'!$J$6<>3,'Tipos de Cambio'!$J$6<>4,'Tipos de Cambio'!$J$6<>5,'Tipos de Cambio'!$J$6<>6,'Tipos de Cambio'!$J$6<>7),LOOKUP(1,'Datos mensuales'!$AM$2:$AS$2,'Datos mensuales'!$AM240:$AS240),LOOKUP('Tipos de Cambio'!$J$6,'Datos mensuales'!$AM$2:$AS$2,'Datos mensuales'!$AM240:$AS240))","v":1.85},0.84280999999999995,0.27,0.42452000000000001,0.86,0.4,3.59,3.68,1.452,54.5,25.4,73.8,100,-11.615596924841654,-11.767515272542095,-3.6193329100682847,9496.2800000000007,2009.06,1020.62]
[null,"septiembre",null,4.3431007670667903,-0.8,3.2138903764545916,-1.2862059666427432,-0.33173608551419043,-2.2395326192794518,4.8942579661047185,-2.0750914531444842E-2,0.39999999999999991,8.8869437779523608E-2,0.19814264531786097,-0.1655617871390126,0,-0.18770165604716915,{"$f":"IF(AND(Inflación!$J$6<>1,Inflación!$J$6<>2,Inflación!$J$6<>3,Inflación!$J$6<>4,Inflación!$J$6<>5,Inflación!$J$6<>6,Inflación!$J$6<>7),LOOKUP(1,'Datos mensuales'!$D$2:$J$2,'Datos mensuales'!$D241:$J241),LOOKUP(Inflación!$J$6,'Datos mensuales'!$D$2:$J$2,'Datos mensuales'!$D241:$J241))","v":4.3431007670667903},{"$f":"IF(AND(Inflación!$J$6<>1,Inflación!$J$6<>2,Inflación!$J$6<>3,Inflación!$J$6<>4,Inflación!$J$6<>5,Inflación!$J$6<>6,Inflación!$J$6<>7),LOOKUP(1,'Datos mensuales'!$K$2:$Q$2,'Datos mensuales'!$K241:$Q241),LOOKUP(Inflación!$J$6,'Datos mensuales'!$K$2:$Q$2,'Datos mensuales'!$K241:$Q241))","v":-2.0750914531444842E-2},69.41,67.650000000000006,-1.7599999999999909,996.59,63.7366140190476,64.069999999999993,148.53,191.09,636.41999999999996,150.57,593.66999999999996,818.49116249999997,85.046728971962608,92.028276607147419,87.668077665265926,88.241422329859034,112.14103248334015,75.961488939284436,122.46098209148772,1.82,1.08182,6.8282999999999996,1973.81,1.4561299999999999,91.443200000000004,13.409599999999999,{"$f":"IF(AND('Tipos de Cambio'!$J$6<>1,'Tipos de Cambio'!$J$6<>2,'Tipos de Cambio'!$J$6<>3,'Tipos de Cambio'!$J$6<>4,'Tipos de Cambio'!$J$6<>5,'Tipos de Cambio'!$J$6<>6,'Tipos de Cambio'!$J$6<>7),LOOKUP(1,'Datos mensuales'!$AM$2:$AS$2,'Datos mensuales'!$AM241:$AS241),LOOKUP('Tipos de Cambio'!$J$6,'Datos mensuales'!$AM$2:$AS$2,'Datos mensuales'!$AM241:$AS241))","v":1.82},0.67735999999999996,0.21,0.29794999999999999,0.77,0.36,3.4,3.64,1.329,53.4,23,73.7,100,-7.0573626185980736,-9.6984427033643961,-3.3919515012679868,9712.2800000000007,2122.42,1057.08]
[null,"octubre",null,4.1663912497434357,-0.5,2.7168356170803416,-0.18284827748612015,-0.12897282358360257,-2.5341130604288447,4.4994975180436247,-0.1767095173233546,0.30000000000000004,-0.49705475937425003,1.103357689156623,0.20276326193058786,-0.29458044114939286,-0.39476044806109378,{"$f":"IF(AND(Inflación!$J$6<>1,Inflación!$J$6<>2,Inflación!$J$6<>3,Inflación!$J$6<>4,Inflación!$J$6<>5,Inflación!$J$6<>6,Inflación!$J$6<>7),LOOKUP(1,'Datos mensuales'!$D$2:$J$2,'Datos mensuales'!$D242:$J242),LOOKUP(Inflación!$J$6,'Datos mensuales'!$D$2:$J$2,'Datos mensuales'!$D242:$J242))","v":4.1663912497434357},{"$f":"IF(AND(Inflación!$J$6<>1,Inflación!$J$6<>2,Inflación!$J$6<>3,Inflación!$J$6<>4,Inflación!$J$6<>5,Inflación!$J$6<>6,Inflación!$J$6<>7),LOOKUP(1,'Datos mensuales'!$K$2:$Q$2,'Datos mensuales'!$K242:$Q242),LOOKUP(Inflación!$J$6,'Datos mensuales'!$K$2:$Q$2,'Datos mensuales'!$K242:$Q242))","v":-0.1767095173233546},75.72,72.77,-2.9500000000000028,1043.1591000000001,67.778035599999995,66.819999999999993,154.57,198.85,636.55999999999995,167.22,566.25,809.53460937500006,81.308411214953267,89.684652879977548,87.651772221944043,85.036589640327463,114.07367531754412,75.075551789734263,120.73771015789809,1.74,1.05427,6.8270299999999997,1902.1233629999999,1.481225,90.3767,13.2209,{"$f":"IF(AND('Tipos de Cambio'!$J$6<>1,'Tipos de Cambio'!$J$6<>2,'Tipos de Cambio'!$J$6<>3,'Tipos de Cambio'!$J$6<>4,'Tipos de Cambio'!$J$6<>5,'Tipos de Cambio'!$J$6<>6,'Tipos de Cambio'!$J$6<>7),LOOKUP(1,'Datos mensuales'!$AM$2:$AS$2,'Datos mensuales'!$AM242:$AS242),LOOKUP('Tipos de Cambio'!$J$6,'Datos mensuales'!$AM$2:$AS$2,'Datos mensuales'!$AM242:$AS242))","v":1.74},0.59660000000000002,0.16,0.28000000000000003,0.74,0.33,3.39,3.68,1.2569999999999999,48.7,21.1,67,100,-7.5093125634947526,-7.6984805167755299,-3.1342213814670394,9712.73,2045.11,1036.19]
[null,"noviembre",null,4.2183459397250251,0.6,2.3707721050746522,1.8382958691302818,0.48139233475283305,-1.868239921337272,3.8610067674894069,5.1954689981589475E-2,1.1000000000000001,-0.34606351200568941,2.0211441466164017,0.61036515833643556,0.66587313909157264,-0.63849075055421789,{"$f":"IF(AND(Inflación!$J$6<>1,Inflación!$J$6<>2,Inflación!$J$6<>3,Inflación!$J$6<>4,Inflación!$J$6<>5,Inflación!$J$6<>6,Inflación!$J$6<>7),LOOKUP(1,'Datos mensuales'!$D$2:$J$2,'Datos mensuales'!$D243:$J243),LOOKUP(Inflación!$J$6,'Datos mensuales'!$D$2:$J$2,'Datos mensuales'!$D243:$J243))","v":4.2183459397250251},{"$f":"IF(AND(Inflación!$J$6<>1,Inflación!$J$6<>2,Inflación!$J$6<>3,Inflación!$J$6<>4,Inflación!$J$6<>5,Inflación!$J$6<>6,Inflación!$J$6<>7),LOOKUP(1,'Datos mensuales'!$K$2:$Q$2,'Datos mensuales'!$K243:$Q243),LOOKUP(Inflación!$J$6,'Datos mensuales'!$K$2:$Q$2,'Datos mensuales'!$K243:$Q243))","v":5.1954689981589475E-2},77.989999999999995,76.66,-1.3299999999999983,1127.0356999999999,70.245807060000004,71.78,152.21,211.04,674.33,171.61,566.25,833.64840624999999,80.841121495327101,90.153377625411508,87.656651016008865,88.292515723256045,114.76841016541634,74.062601241059639,119.70027670980173,1.73,1.0597799999999999,6.8274100000000004,1974.9528720000001,1.490246,89.157300000000006,13.1073,{"$f":"IF(AND('Tipos de Cambio'!$J$6<>1,'Tipos de Cambio'!$J$6<>2,'Tipos de Cambio'!$J$6<>3,'Tipos de Cambio'!$J$6<>4,'Tipos de Cambio'!$J$6<>5,'Tipos de Cambio'!$J$6<>6,'Tipos de Cambio'!$J$6<>7),LOOKUP(1,'Datos mensuales'!$AM$2:$AS$2,'Datos mensuales'!$AM243:$AS243),LOOKUP('Tipos de Cambio'!$J$6,'Datos mensuales'!$AM$2:$AS$2,'Datos mensuales'!$AM243:$AS243))","v":1.73},0.51167899999999999,0.15,0.27,0.72,0.31,3.4,3.57,1.4410000000000001,49.5,21,68.5,100,-5.9494577783567255,-5.4921621715134705,-2.8498579407603253,10344.84,2144.6,1095.6300000000001]
[null,"diciembre",null,4.31165006256784,1.9,2,2.7213311262058353,0.92695587690025971,-1.6781836130306049,3.5735378772584792,9.3304122842814863E-2,1.2999999999999998,-0.37077210507465219,0.88303525707555353,0.44556354214742666,0.19005630830666709,-0.2874688902309277,{"$f":"IF(AND(Inflación!$J$6<>1,Inflación!$J$6<>2,Inflación!$J$6<>3,Inflación!$J$6<>4,Inflación!$J$6<>5,Inflación!$J$6<>6,Inflación!$J$6<>7),LOOKUP(1,'Datos mensuales'!$D$2:$J$2,'Datos mensuales'!$D244:$J244),LOOKUP(Inflación!$J$6,'Datos mensuales'!$D$2:$J$2,'Datos mensuales'!$D244:$J244))","v":4.31165006256784},{"$f":"IF(AND(Inflación!$J$6<>1,Inflación!$J$6<>2,Inflación!$J$6<>3,Inflación!$J$6<>4,Inflación!$J$6<>5,Inflación!$J$6<>6,Inflación!$J$6<>7),LOOKUP(1,'Datos mensuales'!$K$2:$Q$2,'Datos mensuales'!$K244:$Q244),LOOKUP(Inflación!$J$6,'Datos mensuales'!$K$2:$Q$2,'Datos mensuales'!$K244:$Q244))","v":9.3304122842814863E-2},74.47,74.459999999999994,-1.0000000000005116E-2,1134.7237,73.420860700000006,76.78,158.16,206.25,727.6,164.58,606,795.75529687500011,81.775700934579433,89.632761392733499,87.660631084851232,90.30971554972183,112.13148286343812,74.608202291059229,117.36331175057761,1.75,1.05366,6.8277200000000002,2020.0741889999999,1.4560059999999999,89.814099999999996,12.8514,{"$f":"IF(AND('Tipos de Cambio'!$J$6<>1,'Tipos de Cambio'!$J$6<>2,'Tipos de Cambio'!$J$6<>3,'Tipos de Cambio'!$J$6<>4,'Tipos de Cambio'!$J$6<>5,'Tipos de Cambio'!$J$6<>6,'Tipos de Cambio'!$J$6<>7),LOOKUP(1,'Datos mensuales'!$AM$2:$AS$2,'Datos mensuales'!$AM244:$AS244),LOOKUP('Tipos de Cambio'!$J$6,'Datos mensuales'!$AM$2:$AS$2,'Datos mensuales'!$AM244:$AS244))","v":1.75},0.45288,0.17,0.25,0.71,0.28000000000000003,3.59,3.76,1.246,53.6,20.2,75.900000000000006,100,-2.8796469569589034,-2.8121659367949081,-2.5430059440753383,10428.049999999999,2269.15,1115.0999999999999]
[2010,"enero",null,4.59208597948217,1.5,2.0995986201474541,2.6257086429576217,0.9441017012525621,-0.59582919563059433,4.4573397677349513,0.28043591691433001,-0.39999999999999991,9.9598620147454131E-2,-9.5622483248213541E-2,1.7145824352302386E-2,1.0823544174000106,0.88380189047647217,{"$f":"IF(AND(Inflación!$J$6<>1,Inflación!$J$6<>2,Inflación!$J$6<>3,Inflación!$J$6<>4,Inflación!$J$6<>5,Inflación!$J$6<>6,Inflación!$J$6<>7),LOOKUP(1,'Datos mensuales'!$D$2:$J$2,'Datos mensuales'!$D245:$J245),LOOKUP(Inflación!$J$6,'Datos mensuales'!$D$2:$J$2,'Datos mensuales'!$D245:$J245))","v":4.59208597948217},{"$f":"IF(AND(Inflación!$J$6<>1,Inflación!$J$6<>2,Inflación!$J$6<>3,Inflación!$J$6<>4,Inflación!$J$6<>5,Inflación!$J$6<>6,Inflación!$J$6<>7),LOOKUP(1,'Datos mensuales'!$K$2:$Q$2,'Datos mensuales'!$K245:$Q245),LOOKUP(Inflación!$J$6,'Datos mensuales'!$K$2:$Q$2,'Datos mensuales'!$K245:$Q245))","v":0.28043591691433001},78.33,76.17,-2.1599999999999966,1117.9625000000001,86.769201894736796,77.39,158.9,201.51,742,167.21,598,785.42081250000001,83.177570093457945,88.700415982578079,87.652029000579034,88.615948448372279,109.80045145057954,75.856322841644442,116.98888594624705,1.78,1.0427,6.8270499999999998,1982.18751,1.4257379999999999,91.316599999999994,12.8104,{"$f":"IF(AND('Tipos de Cambio'!$J$6<>1,'Tipos de Cambio'!$J$6<>2,'Tipos de Cambio'!$J$6<>3,'Tipos de Cambio'!$J$6<>4,'Tipos de Cambio'!$J$6<>5,'Tipos de Cambio'!$J$6<>6,'Tipos de Cambio'!$J$6<>7),LOOKUP(1,'Datos mensuales'!$AM$2:$AS$2,'Datos mensuales'!$AM245:$AS245),LOOKUP('Tipos de Cambio'!$J$6,'Datos mensuales'!$AM$2:$AS$2,'Datos mensuales'!$AM245:$AS245))","v":1.78},0.39924999999999999,0.15,0.25012000000000001,0.68,0.26,3.73,3.66,1.339,56.5,25.2,77.3,100,0.51611753497329271,-0.17740797428925648,-2.2181145105689248,10067.33,2147.35,1073.8699999999999]
[null,"febrero",null,4.8310996910422723,2.7,2.0888177674193589,2.1433317781453685,0.84714205920684849,-0.39840637450199767,4.8300549986231882,0.23901371156010232,1.2000000000000002,-1.0780852728095258E-2,-0.48237686481225328,-9.6959642045713612E-2,0.19742282112859666,0.37271523088823688,{"$f":"IF(AND(Inflación!$J$6<>1,Inflación!$J$6<>2,Inflación!$J$6<>3,Inflación!$J$6<>4,Inflación!$J$6<>5,Inflación!$J$6<>6,Inflación!$J$6<>7),LOOKUP(1,'Datos mensuales'!$D$2:$J$2,'Datos mensuales'!$D246:$J246),LOOKUP(Inflación!$J$6,'Datos mensuales'!$D$2:$J$2,'Datos mensuales'!$D246:$J246))","v":4.8310996910422723},{"$f":"IF(AND(Inflación!$J$6<>1,Inflación!$J$6<>2,Inflación!$J$6<>3,Inflación!$J$6<>4,Inflación!$J$6<>5,Inflación!$J$6<>6,Inflación!$J$6<>7),LOOKUP(1,'Datos mensuales'!$K$2:$Q$2,'Datos mensuales'!$K246:$Q246),LOOKUP(Inflación!$J$6,'Datos mensuales'!$K$2:$Q$2,'Datos mensuales'!$K246:$Q246))","v":0.23901371156010232},76.39,73.75,-2.6400000000000006,1095.4124999999999,88.740596305263196,80.05,157.86000000000001,194.54,754.32,161.63,584.75,719.96907812500001,85.981308411214954,89.841178021828455,87.679632703840511,87.251955056640469,105.18667581581865,74.934831908689915,118.20987936183232,1.84,1.0561100000000001,6.8292000000000002,1951.677306,1.365829,90.207300000000004,12.944100000000001,{"$f":"IF(AND('Tipos de Cambio'!$J$6<>1,'Tipos de Cambio'!$J$6<>2,'Tipos de Cambio'!$J$6<>3,'Tipos de Cambio'!$J$6<>4,'Tipos de Cambio'!$J$6<>5,'Tipos de Cambio'!$J$6<>6,'Tipos de Cambio'!$J$6<>7),LOOKUP(1,'Datos mensuales'!$AM$2:$AS$2,'Datos mensuales'!$AM246:$AS246),LOOKUP('Tipos de Cambio'!$J$6,'Datos mensuales'!$AM$2:$AS$2,'Datos mensuales'!$AM246:$AS246))","v":1.84},0.38779999999999998,0.18,0.25052000000000002,0.66,0.25,3.69,3.49,1.3480000000000001,52.3,25.2,70.400000000000006,100,1.5090028155012591,1.8983249596225216,-1.8797777446874053,10325.26,2238.2600000000002,1104.49]
[null,"marzo",null,5.1660025200012276,2.4,1.8395082212911751,2.3139594469439455,1.5859766277128622,-0.39721946375372957,4.9704010655623145,0.33490282895895529,-0.30000000000000027,-0.24930954612818379,0.17062766879857705,0.7388345685060137,1.1869107482680996E-3,0.14034606693912632,{"$f":"IF(AND(Inflación!$J$6<>1,Inflación!$J$6<>2,Inflación!$J$6<>3,Inflación!$J$6<>4,Inflación!$J$6<>5,Inflación!$J$6<>6,Inflación!$J$6<>7),LOOKUP(1,'Datos mensuales'!$D$2:$J$2,'Datos mensuales'!$D247:$J247),LOOKUP(Inflación!$J$6,'Datos mensuales'!$D$2:$J$2,'Datos mensuales'!$D247:$J247))","v":5.1660025200012276},{"$f":"IF(AND(Inflación!$J$6<>1,Inflación!$J$6<>2,Inflación!$J$6<>3,Inflación!$J$6<>4,Inflación!$J$6<>5,Inflación!$J$6<>6,Inflación!$J$6<>7),LOOKUP(1,'Datos mensuales'!$K$2:$Q$2,'Datos mensuales'!$K247:$Q247),LOOKUP(Inflación!$J$6,'Datos mensuales'!$K$2:$Q$2,'Datos mensuales'!$K247:$Q247))","v":0.33490282895895529},81.2,78.83,-2.3700000000000045,1113.337,77.412834973913007,85.8,164.5,191.07,793.9,159.01,540.13,837.78219999999999,83.644859813084111,87.078168996112396,87.642399801766885,85.401896950821083,104.52082086684365,75.326255804487417,114.81265011278437,1.79,1.02363,6.8262999999999998,1910.294664,1.357183,90.6785,12.572100000000001,{"$f":"IF(AND('Tipos de Cambio'!$J$6<>1,'Tipos de Cambio'!$J$6<>2,'Tipos de Cambio'!$J$6<>3,'Tipos de Cambio'!$J$6<>4,'Tipos de Cambio'!$J$6<>5,'Tipos de Cambio'!$J$6<>6,'Tipos de Cambio'!$J$6<>7),LOOKUP(1,'Datos mensuales'!$AM$2:$AS$2,'Datos mensuales'!$AM247:$AS247),LOOKUP('Tipos de Cambio'!$J$6,'Datos mensuales'!$AM$2:$AS$2,'Datos mensuales'!$AM247:$AS247))","v":1.79},0.41060999999999998,0.23,0.26841999999999999,0.64,0.25,3.73,3.46,1.329,57.9,28.6,77.400000000000006,100,3.8271018049259586,3.7087404069382046,-1.5325774299012163,10856.63,2397.96,1169.43]
[null,"abril ",null,5.2602603793205382,2.8,1.9808412692803787,2.2364471956480854,1.6357083448849556,-0.39682539682538837,4.270976971234079,9.4257859319310633E-2,0.39999999999999991,0.14133304798920365,-7.7512251295860146E-2,4.9731717172093459E-2,3.9406692834120793E-4,-0.69942409432823549,{"$f":"IF(AND(Inflación!$J$6<>1,Inflación!$J$6<>2,Inflación!$J$6<>3,Inflación!$J$6<>4,Inflación!$J$6<>5,Inflación!$J$6<>6,Inflación!$J$6<>7),LOOKUP(1,'Datos mensuales'!$D$2:$J$2,'Datos mensuales'!$D248:$J248),LOOKUP(Inflación!$J$6,'Datos mensuales'!$D$2:$J$2,'Datos mensuales'!$D248:$J248))","v":5.2602603793205382},{"$f":"IF(AND(Inflación!$J$6<>1,Inflación!$J$6<>2,Inflación!$J$6<>3,Inflación!$J$6<>4,Inflación!$J$6<>5,Inflación!$J$6<>6,Inflación!$J$6<>7),LOOKUP(1,'Datos mensuales'!$K$2:$Q$2,'Datos mensuales'!$K248:$Q248),LOOKUP(Inflación!$J$6,'Datos mensuales'!$K$2:$Q$2,'Datos mensuales'!$K248:$Q248))","v":9.4257859319310633E-2},84.29,84.82,0.52999999999998693,1148.6875,68.384162942857103,88.08,169.24,192.82,798.53,157.66,502.23,825.03633593749998,82.242990654205599,85.448265888577922,87.635851946574633,86.574387576694988,103.45064733330713,77.701796795175326,111.71222180619354,1.76,1.00447,6.8257899999999996,1936.5212779999999,1.3432869999999999,93.538200000000003,12.2326,{"$f":"IF(AND('Tipos de Cambio'!$J$6<>1,'Tipos de Cambio'!$J$6<>2,'Tipos de Cambio'!$J$6<>3,'Tipos de Cambio'!$J$6<>4,'Tipos de Cambio'!$J$6<>5,'Tipos de Cambio'!$J$6<>6,'Tipos de Cambio'!$J$6<>7),LOOKUP(1,'Datos mensuales'!$AM$2:$AS$2,'Datos mensuales'!$AM248:$AS248),LOOKUP('Tipos de Cambio'!$J$6,'Datos mensuales'!$AM$2:$AS$2,'Datos mensuales'!$AM248:$AS248))","v":1.76},0.47586000000000001,0.24,0.31161,0.64,0.24,3.85,3.4,1.397,57.7,28.2,77.400000000000006,100,5.0555455494694979,5.6025641778316482,-1.1809601168940698,11008.61,2461.19,1186.69]
[null,"mayo",null,5.2184030901821687,3.1,2.0717969266309266,2.0209860840939711,1.6902188972014394,-0.29821073558647826,3.9166383173840433,-4.1857289138369502E-2,0.30000000000000027,9.0955657350547892E-2,-0.21546111155411429,5.4510552316483718E-2,9.8614661238910106E-2,-0.35433865385003571,{"$f":"IF(AND(Inflación!$J$6<>1,Inflación!$J$6<>2,Inflación!$J$6<>3,Inflación!$J$6<>4,Inflación!$J$6<>5,Inflación!$J$6<>6,Inflación!$J$6<>7),LOOKUP(1,'Datos mensuales'!$D$2:$J$2,'Datos mensuales'!$D249:$J249),LOOKUP(Inflación!$J$6,'Datos mensuales'!$D$2:$J$2,'Datos mensuales'!$D249:$J249))","v":5.2184030901821687},{"$f":"IF(AND(Inflación!$J$6<>1,Inflación!$J$6<>2,Inflación!$J$6<>3,Inflación!$J$6<>4,Inflación!$J$6<>5,Inflación!$J$6<>6,Inflación!$J$6<>7),LOOKUP(1,'Datos mensuales'!$K$2:$Q$2,'Datos mensuales'!$K249:$Q249),LOOKUP(Inflación!$J$6,'Datos mensuales'!$K$2:$Q$2,'Datos mensuales'!$K249:$Q249))","v":-4.1857289138369502E-2},73.739999999999995,75.95,2.210000000000008,1205.4341999999999,68.106223349999993,90.07,173.28,181.88,775.57,163.77000000000001,472.48,799.20012499999996,84.579439252336442,88.442659906595338,87.662428535296158,88.772610424375557,96.838921786302606,76.54945547885464,116.22085643053488,1.81,1.0396700000000001,6.8278600000000003,1985.691771,1.2574350000000001,92.150999999999996,12.7263,{"$f":"IF(AND('Tipos de Cambio'!$J$6<>1,'Tipos de Cambio'!$J$6<>2,'Tipos de Cambio'!$J$6<>3,'Tipos de Cambio'!$J$6<>4,'Tipos de Cambio'!$J$6<>5,'Tipos de Cambio'!$J$6<>6,'Tipos de Cambio'!$J$6<>7),LOOKUP(1,'Datos mensuales'!$AM$2:$AS$2,'Datos mensuales'!$AM249:$AS249),LOOKUP('Tipos de Cambio'!$J$6,'Datos mensuales'!$AM$2:$AS$2,'Datos mensuales'!$AM249:$AS249))","v":1.81},0.65925,0.22,0.45850999999999997,0.69,0.24,3.42,3,1.321,62.7,29.8,84.6,100,7.8351261218065016,7.3726239304306773,-0.82912835122105344,10136.629999999999,2257.04,1089.4100000000001]
[null,"junio",null,4.8410906272117513,2.9,2.2451342870110311,1.0533489728456606,1.493362831858398,-0.29880478087650536,3.6931503613422145,{"$f":"D250-D249","v":-0.37731246297041743},-0.20000000000000018,0.1733373603801045,-0.96763711124831042,-0.19685606534304134,-5.9404529002710094E-4,-0.22348795604182881,{"$f":"IF(AND(Inflación!$J$6<>1,Inflación!$J$6<>2,Inflación!$J$6<>3,Inflación!$J$6<>4,Inflación!$J$6<>5,Inflación!$J$6<>6,Inflación!$J$6<>7),LOOKUP(1,'Datos mensuales'!$D$2:$J$2,'Datos mensuales'!$D250:$J250),LOOKUP(Inflación!$J$6,'Datos mensuales'!$D$2:$J$2,'Datos mensuales'!$D250:$J250))","v":4.8410906272117513},{"$f":"IF(AND(Inflación!$J$6<>1,Inflación!$J$6<>2,Inflación!$J$6<>3,Inflación!$J$6<>4,Inflación!$J$6<>5,Inflación!$J$6<>6,Inflación!$J$6<>7),LOOKUP(1,'Datos mensuales'!$K$2:$Q$2,'Datos mensuales'!$K250:$Q250),LOOKUP(Inflación!$J$6,'Datos mensuales'!$K$2:$Q$2,'Datos mensuales'!$K250:$Q250))","v":-0.37731246297041743},75.34,74.760000000000005,-0.57999999999999829,1227.75,72.373666200000002,93.04,190.9,157.66999999999999,764.91,152.87,458.55,962.07159875000002,84.579439252336442,88.316759249019597,87.545080699105512,86.112003793340861,94.09271294689718,75.526536579692817,116.21446379485118,1.81,1.0381899999999999,6.8187199999999999,1926.1785420000001,1.221776,90.919600000000003,12.7256,{"$f":"IF(AND('Tipos de Cambio'!$J$6<>1,'Tipos de Cambio'!$J$6<>2,'Tipos de Cambio'!$J$6<>3,'Tipos de Cambio'!$J$6<>4,'Tipos de Cambio'!$J$6<>5,'Tipos de Cambio'!$J$6<>6,'Tipos de Cambio'!$J$6<>7),LOOKUP(1,'Datos mensuales'!$AM$2:$AS$2,'Datos mensuales'!$AM250:$AS250),LOOKUP('Tipos de Cambio'!$J$6,'Datos mensuales'!$AM$2:$AS$2,'Datos mensuales'!$AM250:$AS250))","v":1.81},0.75182000000000004,0.19,0.53690000000000004,0.73,0.24,3.2,3.03,1.2829999999999999,54.3,26.8,72.7,100,8.4898246787369125,8.2779095322104155,-0.48092413825528979,9774.02,2109.2399999999998,1030.71]
[null,"julio",null,4.6005339214987586,3.3,2.241803439338752,1.2351927783014689,1.7258977451981066,-0.59940059940059376,3.6360022379929462,-0.2405567057129927,0.39999999999999991,-3.3308476722790914E-3,0.18184380545580825,0.23253491333970855,-0.3005958185240884,-5.7148123349268332E-2,{"$f":"IF(AND(Inflación!$J$6<>1,Inflación!$J$6<>2,Inflación!$J$6<>3,Inflación!$J$6<>4,Inflación!$J$6<>5,Inflación!$J$6<>6,Inflación!$J$6<>7),LOOKUP(1,'Datos mensuales'!$D$2:$J$2,'Datos mensuales'!$D251:$J251),LOOKUP(Inflación!$J$6,'Datos mensuales'!$D$2:$J$2,'Datos mensuales'!$D251:$J251))","v":4.6005339214987586},{"$f":"IF(AND(Inflación!$J$6<>1,Inflación!$J$6<>2,Inflación!$J$6<>3,Inflación!$J$6<>4,Inflación!$J$6<>5,Inflación!$J$6<>6,Inflación!$J$6<>7),LOOKUP(1,'Datos mensuales'!$K$2:$Q$2,'Datos mensuales'!$K251:$Q251),LOOKUP(Inflación!$J$6,'Datos mensuales'!$K$2:$Q$2,'Datos mensuales'!$K251:$Q251))","v":-0.2405567057129927},76.319999999999993,75.58,-0.73999999999999488,1192.96,73.277369523809497,84.2,203.21,195.82,774.5,163.92,470.68,985.22084374999997,82.710280373831765,88.754859510178392,87.005075229720589,83.733031660128745,98.515265144426451,72.685307482077746,117.08020931315694,1.77,1.0433399999999999,6.7766599999999997,1872.9649959999999,1.279202,87.499300000000005,12.820399999999999,{"$f":"IF(AND('Tipos de Cambio'!$J$6<>1,'Tipos de Cambio'!$J$6<>2,'Tipos de Cambio'!$J$6<>3,'Tipos de Cambio'!$J$6<>4,'Tipos de Cambio'!$J$6<>5,'Tipos de Cambio'!$J$6<>6,'Tipos de Cambio'!$J$6<>7),LOOKUP(1,'Datos mensuales'!$AM$2:$AS$2,'Datos mensuales'!$AM251:$AS251),LOOKUP('Tipos de Cambio'!$J$6,'Datos mensuales'!$AM$2:$AS$2,'Datos mensuales'!$AM251:$AS251))","v":1.77},0.71850000000000003,0.2,0.51032999999999995,0.85,0.24,3.01,3.01,1.1160000000000001,51,26.4,67.5,100,8.0955928435441749,8.1353509974515958,-0.139718087175289,10465.94,2254.6999999999998,1101.5999999999999]
[null,"agosto",null,4.4855439322115878,3.5,2.3114364687831714,1.1481045618391952,1.5812835213611927,-0.69721115537848877,3.6757955655437837,-0.11498998928717086,0.20000000000000018,6.9633029444419403E-2,-8.7088216462273715E-2,-0.14461422383691391,-9.7810555977895008E-2,3.9793327550837532E-2,{"$f":"IF(AND(Inflación!$J$6<>1,Inflación!$J$6<>2,Inflación!$J$6<>3,Inflación!$J$6<>4,Inflación!$J$6<>5,Inflación!$J$6<>6,Inflación!$J$6<>7),LOOKUP(1,'Datos mensuales'!$D$2:$J$2,'Datos mensuales'!$D252:$J252),LOOKUP(Inflación!$J$6,'Datos mensuales'!$D$2:$J$2,'Datos mensuales'!$D252:$J252))","v":4.4855439322115878},{"$f":"IF(AND(Inflación!$J$6<>1,Inflación!$J$6<>2,Inflación!$J$6<>3,Inflación!$J$6<>4,Inflación!$J$6<>5,Inflación!$J$6<>6,Inflación!$J$6<>7),LOOKUP(1,'Datos mensuales'!$K$2:$Q$2,'Datos mensuales'!$K252:$Q252),LOOKUP(Inflación!$J$6,'Datos mensuales'!$K$2:$Q$2,'Datos mensuales'!$K252:$Q252))","v":-0.11498998928717086},76.599999999999994,77.040000000000006,0.44000000000001194,1215.81,77.172723099999999,90.35,211.59,246.25,865.23,175.6,486.86,899.10014062499999,82.242990654205599,88.463076229445434,87.146431868282832,81.428828620428959,99.321899973892585,70.890755185618985,116.58341019716714,1.76,1.0399099999999999,6.7876700000000003,1821.4239070000001,1.289676,85.338999999999999,12.766,{"$f":"IF(AND('Tipos de Cambio'!$J$6<>1,'Tipos de Cambio'!$J$6<>2,'Tipos de Cambio'!$J$6<>3,'Tipos de Cambio'!$J$6<>4,'Tipos de Cambio'!$J$6<>5,'Tipos de Cambio'!$J$6<>6,'Tipos de Cambio'!$J$6<>7),LOOKUP(1,'Datos mensuales'!$AM$2:$AS$2,'Datos mensuales'!$AM252:$AS252),LOOKUP('Tipos de Cambio'!$J$6,'Datos mensuales'!$AM$2:$AS$2,'Datos mensuales'!$AM252:$AS252))","v":1.76},0.57909999999999995,0.19,0.36254999999999998,0.9,0.24,2.7,2.48,1.06,53.2,24.9,72,100,7.3787533602347244,7.5062344714276419,0.19164936901086005,10014.719999999999,2114.0300000000002,1049.33]
[null,"septiembre",null,4.7042195972309218,3.6,2.279749314531923,1.1436826581592725,1.8768491124260367,-0.49800796812749004,3.6991026278100185,0.218675665019334,0.10000000000000009,-3.1687154251248462E-2,-4.4219036799226785E-3,0.29556559106484404,0.19920318725099873,2.3307062266234801E-2,{"$f":"IF(AND(Inflación!$J$6<>1,Inflación!$J$6<>2,Inflación!$J$6<>3,Inflación!$J$6<>4,Inflación!$J$6<>5,Inflación!$J$6<>6,Inflación!$J$6<>7),LOOKUP(1,'Datos mensuales'!$D$2:$J$2,'Datos mensuales'!$D253:$J253),LOOKUP(Inflación!$J$6,'Datos mensuales'!$D$2:$J$2,'Datos mensuales'!$D253:$J253))","v":4.7042195972309218},{"$f":"IF(AND(Inflación!$J$6<>1,Inflación!$J$6<>2,Inflación!$J$6<>3,Inflación!$J$6<>4,Inflación!$J$6<>5,Inflación!$J$6<>6,Inflación!$J$6<>7),LOOKUP(1,'Datos mensuales'!$K$2:$Q$2,'Datos mensuales'!$K253:$Q253),LOOKUP(Inflación!$J$6,'Datos mensuales'!$K$2:$Q$2,'Datos mensuales'!$K253:$Q253))","v":0.218675665019334},75.239999999999995,77.84,2.6000000000000085,1270.98,84.150345400000006,104.7,222.71,271.69,884.89,205.84,519.95000000000005,880.49806875000002,80.373831775700936,87.994351484011474,86.577795581096467,80.77065242785946,100.64005557262678,70.091293476545303,117.00715061962903,1.72,1.0344,6.7433800000000002,1806.7016289999999,1.306792,84.376599999999996,12.8124,{"$f":"IF(AND('Tipos de Cambio'!$J$6<>1,'Tipos de Cambio'!$J$6<>2,'Tipos de Cambio'!$J$6<>3,'Tipos de Cambio'!$J$6<>4,'Tipos de Cambio'!$J$6<>5,'Tipos de Cambio'!$J$6<>6,'Tipos de Cambio'!$J$6<>7),LOOKUP(1,'Datos mensuales'!$AM$2:$AS$2,'Datos mensuales'!$AM253:$AS253),LOOKUP('Tipos de Cambio'!$J$6,'Datos mensuales'!$AM$2:$AS$2,'Datos mensuales'!$AM253:$AS253))","v":1.72},0.47776999999999997,0.19,0.29137000000000002,0.88,0.22,2.65,2.67,1.0489999999999999,48.6,23.3,65.5,100,6.8789331944166587,6.8088398566316322,0.51086178081567457,10788.05,2368.62,1141.2]
[null,"octubre",null,5.1950611016668855,4.4000000000000004,2.3298146695430488,1.1721876055269618,1.9463149155981918,0.20000000000000281,4.0245377318626909,0.49084150443596375,0.80000000000000027,5.0065355011125856E-2,2.8504947367689271E-2,6.9465803172155116E-2,0.69800796812749288,0.3254351040526724,{"$f":"IF(AND(Inflación!$J$6<>1,Inflación!$J$6<>2,Inflación!$J$6<>3,Inflación!$J$6<>4,Inflación!$J$6<>5,Inflación!$J$6<>6,Inflación!$J$6<>7),LOOKUP(1,'Datos mensuales'!$D$2:$J$2,'Datos mensuales'!$D254:$J254),LOOKUP(Inflación!$J$6,'Datos mensuales'!$D$2:$J$2,'Datos mensuales'!$D254:$J254))","v":5.1950611016668855},{"$f":"IF(AND(Inflación!$J$6<>1,Inflación!$J$6<>2,Inflación!$J$6<>3,Inflación!$J$6<>4,Inflación!$J$6<>5,Inflación!$J$6<>6,Inflación!$J$6<>7),LOOKUP(1,'Datos mensuales'!$K$2:$Q$2,'Datos mensuales'!$K254:$Q254),LOOKUP(Inflación!$J$6,'Datos mensuales'!$K$2:$Q$2,'Datos mensuales'!$K254:$Q254))","v":0.49084150443596375},81.89,82.66,0.76999999999999602,1342.0238095238096,84.28787169523811,126.5,217.64,270.23,935.22,235.7,533.13,916.32428125000001,78.504672897196258,86.627308533172268,85.605631669022614,80.824084891105002,107.08304549700765,67.946602869223554,113.58069789316991,1.68,1.01833,6.6676599999999997,1807.8968219999999,1.3904529999999999,81.794799999999995,12.437200000000001,{"$f":"IF(AND('Tipos de Cambio'!$J$6<>1,'Tipos de Cambio'!$J$6<>2,'Tipos de Cambio'!$J$6<>3,'Tipos de Cambio'!$J$6<>4,'Tipos de Cambio'!$J$6<>5,'Tipos de Cambio'!$J$6<>6,'Tipos de Cambio'!$J$6<>7),LOOKUP(1,'Datos mensuales'!$AM$2:$AS$2,'Datos mensuales'!$AM254:$AS254),LOOKUP('Tipos de Cambio'!$J$6,'Datos mensuales'!$AM$2:$AS$2,'Datos mensuales'!$AM254:$AS254))","v":1.68},0.45499000000000001,0.18,0.28883999999999999,1,0.2,2.54,2.86,0.83899999999999997,49.9,23.5,67.5,100,6.1664397647944735,6.3229805995741017,0.81608720024743953,11118.49,2507.41,1183.26]
[null,"noviembre",null,5.6348475121987018,5.0999999999999996,2.588724489795923,1.143160911570279,1.916344204901417,0.10020040080161176,4.3168804812640316,0.43978641053181633,0.69999999999999929,0.25890982025287412,-2.9026693956682781E-2,-2.9970710696774816E-2,-9.9799599198391056E-2,0.29234274940134064,{"$f":"IF(AND(Inflación!$J$6<>1,Inflación!$J$6<>2,Inflación!$J$6<>3,Inflación!$J$6<>4,Inflación!$J$6<>5,Inflación!$J$6<>6,Inflación!$J$6<>7),LOOKUP(1,'Datos mensuales'!$D$2:$J$2,'Datos mensuales'!$D255:$J255),LOOKUP(Inflación!$J$6,'Datos mensuales'!$D$2:$J$2,'Datos mensuales'!$D255:$J255))","v":5.6348475121987018},{"$f":"IF(AND(Inflación!$J$6<>1,Inflación!$J$6<>2,Inflación!$J$6<>3,Inflación!$J$6<>4,Inflación!$J$6<>5,Inflación!$J$6<>6,Inflación!$J$6<>7),LOOKUP(1,'Datos mensuales'!$K$2:$Q$2,'Datos mensuales'!$K255:$Q255),LOOKUP(Inflación!$J$6,'Datos mensuales'!$K$2:$Q$2,'Datos mensuales'!$K255:$Q255))","v":0.43978641053181633},84.25,85.27,1.019999999999996,1369.8863636363637,85.621141885714309,155.4,233.48,274.08,1059.01,238.24,543.14,909.43462499999998,79.906542056074755,86.136466104650665,85.424602731354341,83.424318699199887,105.05336620250894,68.543208645882657,112.5834467265139,1.71,1.0125599999999999,6.6535599999999997,1866.059614,1.364098,82.513000000000005,12.327999999999999,{"$f":"IF(AND('Tipos de Cambio'!$J$6<>1,'Tipos de Cambio'!$J$6<>2,'Tipos de Cambio'!$J$6<>3,'Tipos de Cambio'!$J$6<>4,'Tipos de Cambio'!$J$6<>5,'Tipos de Cambio'!$J$6<>6,'Tipos de Cambio'!$J$6<>7),LOOKUP(1,'Datos mensuales'!$AM$2:$AS$2,'Datos mensuales'!$AM255:$AS255),LOOKUP('Tipos de Cambio'!$J$6,'Datos mensuales'!$AM$2:$AS$2,'Datos mensuales'!$AM255:$AS255))","v":1.71},0.44596999999999998,0.18,0.28883999999999999,1.04,0.19,2.76,3.11,0.96799999999999997,54.1,24,74.2,100,5.9677771198853202,6.1883157144754897,1.1059289115221471,11006.02,2498.23,1180.55]
[null,"diciembre",null,5.908688721794535,4.5999999999999996,3.1730509803921612,1.4957235273143148,2.2134459955914871,0,4.4015850903352671,0.27384120959583313,-0.5,0.5843264905962382,0.3525626157440358,0.29710179069007014,-0.10020040080161176,8.4704609071235559E-2,{"$f":"IF(AND(Inflación!$J$6<>1,Inflación!$J$6<>2,Inflación!$J$6<>3,Inflación!$J$6<>4,Inflación!$J$6<>5,Inflación!$J$6<>6,Inflación!$J$6<>7),LOOKUP(1,'Datos mensuales'!$D$2:$J$2,'Datos mensuales'!$D256:$J256),LOOKUP(Inflación!$J$6,'Datos mensuales'!$D$2:$J$2,'Datos mensuales'!$D256:$J256))","v":5.908688721794535},{"$f":"IF(AND(Inflación!$J$6<>1,Inflación!$J$6<>2,Inflación!$J$6<>3,Inflación!$J$6<>4,Inflación!$J$6<>5,Inflación!$J$6<>6,Inflación!$J$6<>7),LOOKUP(1,'Datos mensuales'!$K$2:$Q$2,'Datos mensuales'!$K256:$Q256),LOOKUP(Inflación!$J$6,'Datos mensuales'!$K$2:$Q$2,'Datos mensuales'!$K256:$Q256))","v":0.27384120959583313},89.15,91.45,2.2999999999999972,1390.5526315789473,84.6854668,168.2,248.17,306.52,1171.22,250.63,536.78,899.78910625000003,79.43925233644859,85.755361411448462,85.339352224537507,85.781831617914705,101.83714663518373,69.1894069662156,113.14873836768614,1.7,1.0080800000000001,6.6469199999999997,1918.793154,1.322336,83.290899999999993,12.389900000000001,{"$f":"IF(AND('Tipos de Cambio'!$J$6<>1,'Tipos de Cambio'!$J$6<>2,'Tipos de Cambio'!$J$6<>3,'Tipos de Cambio'!$J$6<>4,'Tipos de Cambio'!$J$6<>5,'Tipos de Cambio'!$J$6<>6,'Tipos de Cambio'!$J$6<>7),LOOKUP(1,'Datos mensuales'!$AM$2:$AS$2,'Datos mensuales'!$AM256:$AS256),LOOKUP('Tipos de Cambio'!$J$6,'Datos mensuales'!$AM$2:$AS$2,'Datos mensuales'!$AM256:$AS256))","v":1.7},0.45839000000000002,0.19,0.3,1.02,0.18,3.29,3.36,1.1890000000000001,53.3,24.9,72.3,100,6.5101806050845257,6.0061583475681912,1.3793854662458971,11577.51,2652.87,1257.6400000000001]
[2011,"enero",null,5.9929873495997095,4.9000000000000057,3.3994000075948336,1.631846857448763,2.3242892860450093,-0.59940059940059376,3.7820372017969262,8.4298627805174497E-2,0.30000000000000604,0.22634902720267247,0.13612333013444822,0.11084329045352215,-0.59940059940059376,-0.61954788853834097,{"$f":"IF(AND(Inflación!$J$6<>1,Inflación!$J$6<>2,Inflación!$J$6<>3,Inflación!$J$6<>4,Inflación!$J$6<>5,Inflación!$J$6<>6,Inflación!$J$6<>7),LOOKUP(1,'Datos mensuales'!$D$2:$J$2,'Datos mensuales'!$D257:$J257),LOOKUP(Inflación!$J$6,'Datos mensuales'!$D$2:$J$2,'Datos mensuales'!$D257:$J257))","v":5.9929873495997095},{"$f":"IF(AND(Inflación!$J$6<>1,Inflación!$J$6<>2,Inflación!$J$6<>3,Inflación!$J$6<>4,Inflación!$J$6<>5,Inflación!$J$6<>6,Inflación!$J$6<>7),LOOKUP(1,'Datos mensuales'!$K$2:$Q$2,'Datos mensuales'!$K257:$Q257),LOOKUP(Inflación!$J$6,'Datos mensuales'!$K$2:$Q$2,'Datos mensuales'!$K257:$Q257))","v":8.4298627805174497E-2},89.17,96.52,7.3499999999999943,1356.4,84.793166178947402,178.9,263.77,326.55,1238.57,265.29000000000002,528.38,892.18215625000005,78.504672897196258,84.544418262400782,84.702669599078689,83.49909525863724,102.92988499639193,68.688663493408427,110.66382955406799,1.68,0.99384499999999998,6.5973300000000004,1867.7322380000001,1.336525,82.688100000000006,12.117800000000001,{"$f":"IF(AND('Tipos de Cambio'!$J$6<>1,'Tipos de Cambio'!$J$6<>2,'Tipos de Cambio'!$J$6<>3,'Tipos de Cambio'!$J$6<>4,'Tipos de Cambio'!$J$6<>5,'Tipos de Cambio'!$J$6<>6,'Tipos de Cambio'!$J$6<>7),LOOKUP(1,'Datos mensuales'!$AM$2:$AS$2,'Datos mensuales'!$AM257:$AS257),LOOKUP('Tipos de Cambio'!$J$6,'Datos mensuales'!$AM$2:$AS$2,'Datos mensuales'!$AM257:$AS257))","v":1.68},0.45540000000000003,0.18,0.3,1.02,0.19,3.39,3.49,1.214,64.8,31.1,87.3,100,5.2533242413910664,5.4000029208494338,1.6358314361316628,11891.93,2700.08,1286.1199999999999]
[null,"febrero",null,6.0141713420345768,4.9000000000000057,3.1675519072911649,2.1075846286581603,2.4277670082156333,-0.5,3.5723311727497804,2.1183992434867349E-2,0,-0.23184810030366876,0.47573777120939731,0.10347772217062401,9.9400599400593759E-2,-0.20970602904714575,{"$f":"IF(AND(Inflación!$J$6<>1,Inflación!$J$6<>2,Inflación!$J$6<>3,Inflación!$J$6<>4,Inflación!$J$6<>5,Inflación!$J$6<>6,Inflación!$J$6<>7),LOOKUP(1,'Datos mensuales'!$D$2:$J$2,'Datos mensuales'!$D258:$J258),LOOKUP(Inflación!$J$6,'Datos mensuales'!$D$2:$J$2,'Datos mensuales'!$D258:$J258))","v":6.0141713420345768},{"$f":"IF(AND(Inflación!$J$6<>1,Inflación!$J$6<>2,Inflación!$J$6<>3,Inflación!$J$6<>4,Inflación!$J$6<>5,Inflación!$J$6<>6,Inflación!$J$6<>7),LOOKUP(1,'Datos mensuales'!$K$2:$Q$2,'Datos mensuales'!$K258:$Q258),LOOKUP(Inflación!$J$6,'Datos mensuales'!$K$2:$Q$2,'Datos mensuales'!$K258:$Q258))","v":2.1183992434867349E-2},88.58,103.72,15.14,1372.7249999999999,87.391136799999998,212.47368421043086,287.89,348.15,1248.55,293.39999999999998,532.79999999999995,1002.41315625,78.037383177570092,84.045324236727268,84.431639749846255,84.166378315056704,105.13084134461729,68.640732341482462,110.16520397074,1.67,0.98797800000000002,6.5762200000000002,1882.6582209999999,1.3651040000000001,82.630399999999995,12.0632,{"$f":"IF(AND('Tipos de Cambio'!$J$6<>1,'Tipos de Cambio'!$J$6<>2,'Tipos de Cambio'!$J$6<>3,'Tipos de Cambio'!$J$6<>4,'Tipos de Cambio'!$J$6<>5,'Tipos de Cambio'!$J$6<>6,'Tipos de Cambio'!$J$6<>7),LOOKUP(1,'Datos mensuales'!$AM$2:$AS$2,'Datos mensuales'!$AM258:$AS258),LOOKUP('Tipos de Cambio'!$J$6,'Datos mensuales'!$AM$2:$AS$2,'Datos mensuales'!$AM258:$AS258))","v":1.67},0.46405000000000002,0.17,0.31190000000000001,1.0900000000000001,0.19,3.58,3.49,1.236,72,33.799999999999997,97.5,100,4.3960092129961215,4.7562701921323836,1.8749921186890672,12226.34,2782.27,1327.22]
[null,"marzo",null,6.2989876163202219,5.4000000000000057,3.186064317438257,2.681603264240854,2.6841961106546131,-0.49850448654037888,3.039507116320844,0.28481627428564504,0.5,1.8512410147092151E-2,0.57401863558269373,0.25642910243897976,1.4955134596211228E-3,-0.53282405642893638,{"$f":"IF(AND(Inflación!$J$6<>1,Inflación!$J$6<>2,Inflación!$J$6<>3,Inflación!$J$6<>4,Inflación!$J$6<>5,Inflación!$J$6<>6,Inflación!$J$6<>7),LOOKUP(1,'Datos mensuales'!$D$2:$J$2,'Datos mensuales'!$D259:$J259),LOOKUP(Inflación!$J$6,'Datos mensuales'!$D$2:$J$2,'Datos mensuales'!$D259:$J259))","v":6.2989876163202219},{"$f":"IF(AND(Inflación!$J$6<>1,Inflación!$J$6<>2,Inflación!$J$6<>3,Inflación!$J$6<>4,Inflación!$J$6<>5,Inflación!$J$6<>6,Inflación!$J$6<>7),LOOKUP(1,'Datos mensuales'!$K$2:$Q$2,'Datos mensuales'!$K259:$Q259),LOOKUP(Inflación!$J$6,'Datos mensuales'!$K$2:$Q$2,'Datos mensuales'!$K259:$Q259))","v":0.28481627428564504},102.86,114.64,11.780000000000001,1424.0109,87.509036043478304,229.6,292.07,316.75,1142.23,290.36,508.96,996.21266249999996,77.570093457943912,83.07725026158414,84.286174653124164,84.138228245821566,107.97578093171944,67.884300678678528,109.6382681436699,1.66,0.97659799999999997,6.5648900000000001,1882.028552,1.402045,81.719800000000006,12.0055,{"$f":"IF(AND('Tipos de Cambio'!$J$6<>1,'Tipos de Cambio'!$J$6<>2,'Tipos de Cambio'!$J$6<>3,'Tipos de Cambio'!$J$6<>4,'Tipos de Cambio'!$J$6<>5,'Tipos de Cambio'!$J$6<>6,'Tipos de Cambio'!$J$6<>7),LOOKUP(1,'Datos mensuales'!$AM$2:$AS$2,'Datos mensuales'!$AM259:$AS259),LOOKUP('Tipos de Cambio'!$J$6,'Datos mensuales'!$AM$2:$AS$2,'Datos mensuales'!$AM259:$AS259))","v":1.66},0.46078000000000002,0.16,0.31,1.18,0.2,3.41,3.66,1.31,63.8,37.5,81.3,100,4.6428093321918773,4.2652215118014203,2.096889344122399,12319.73,2781.07,1325.83]
[null,"abril ",null,6.5102569235040804,5.2999999999999972,2.8399999999999972,3.163630859276461,2.8368794326241047,-0.44820717131474386,3.3606679891096829,0.2112693071838585,-0.10000000000000853,-0.34606431743825983,0.48202759503560699,0.15268332196949164,5.029731522563502E-2,0.32116087278883887,{"$f":"IF(AND(Inflación!$J$6<>1,Inflación!$J$6<>2,Inflación!$J$6<>3,Inflación!$J$6<>4,Inflación!$J$6<>5,Inflación!$J$6<>6,Inflación!$J$6<>7),LOOKUP(1,'Datos mensuales'!$D$2:$J$2,'Datos mensuales'!$D260:$J260),LOOKUP(Inflación!$J$6,'Datos mensuales'!$D$2:$J$2,'Datos mensuales'!$D260:$J260))","v":6.5102569235040804},{"$f":"IF(AND(Inflación!$J$6<>1,Inflación!$J$6<>2,Inflación!$J$6<>3,Inflación!$J$6<>4,Inflación!$J$6<>5,Inflación!$J$6<>6,Inflación!$J$6<>7),LOOKUP(1,'Datos mensuales'!$K$2:$Q$2,'Datos mensuales'!$K260:$Q260),LOOKUP(Inflación!$J$6,'Datos mensuales'!$K$2:$Q$2,'Datos mensuales'!$K260:$Q260))","v":0.2112693071838585},109.53,123.26,13.730000000000004,1473.8055999999999,84.277111050000002,216.6,300.12,336.12,1123.79,318.7,500.57,1026.5261875000001,73.831775700934571,81.477461230253596,83.811776124979303,80.894975190668461,111.35665442929084,69.155431504971716,106.9679728952247,1.58,0.95779199999999998,6.5279400000000001,1809.4825169999999,1.445945,83.25,11.713100000000001,{"$f":"IF(AND('Tipos de Cambio'!$J$6<>1,'Tipos de Cambio'!$J$6<>2,'Tipos de Cambio'!$J$6<>3,'Tipos de Cambio'!$J$6<>4,'Tipos de Cambio'!$J$6<>5,'Tipos de Cambio'!$J$6<>6,'Tipos de Cambio'!$J$6<>7),LOOKUP(1,'Datos mensuales'!$AM$2:$AS$2,'Datos mensuales'!$AM260:$AS260),LOOKUP('Tipos de Cambio'!$J$6,'Datos mensuales'!$AM$2:$AS$2,'Datos mensuales'!$AM260:$AS260))","v":1.58},0.44230000000000003,0.12,0.28000000000000003,1.32,0.2,3.46,3.55,1.3029999999999999,66,39.299999999999997,83.2,100,3.7411379504699971,3.5733145087203377,2.3017821469010658,12810.54,2873.54,1363.61]
[null,"mayo",null,6.5527816532400696,5.5,3.0200000000000045,3.5686457846345649,2.7338782924614033,-0.39880358923229453,3.2492890245807002,4.2524729735989197E-2,0.20000000000000284,0.18000000000000727,0.40501492535810391,-0.10300114016270134,4.9403582082449327E-2,-0.11137896452898266,{"$f":"IF(AND(Inflación!$J$6<>1,Inflación!$J$6<>2,Inflación!$J$6<>3,Inflación!$J$6<>4,Inflación!$J$6<>5,Inflación!$J$6<>6,Inflación!$J$6<>7),LOOKUP(1,'Datos mensuales'!$D$2:$J$2,'Datos mensuales'!$D261:$J261),LOOKUP(Inflación!$J$6,'Datos mensuales'!$D$2:$J$2,'Datos mensuales'!$D261:$J261))","v":6.5527816532400696},{"$f":"IF(AND(Inflación!$J$6<>1,Inflación!$J$6<>2,Inflación!$J$6<>3,Inflación!$J$6<>4,Inflación!$J$6<>5,Inflación!$J$6<>6,Inflación!$J$6<>7),LOOKUP(1,'Datos mensuales'!$K$2:$Q$2,'Datos mensuales'!$K261:$Q261),LOOKUP(Inflación!$J$6,'Datos mensuales'!$K$2:$Q$2,'Datos mensuales'!$K261:$Q261))","v":4.2524729735989197E-2},100.9,114.99,14.089999999999989,1510.4375,78.175825200000006,165.5,291.08999999999997,354.47,1143.44,308.47000000000003,500.55,1011,75.233644859813083,82.327205600877903,83.392456614039887,80.581054814074264,110.23957993994522,67.431654496972101,106.40816065606707,1.61,0.967781,6.4952800000000002,1802.460654,1.43144,81.174899999999994,11.6518,{"$f":"IF(AND('Tipos de Cambio'!$J$6<>1,'Tipos de Cambio'!$J$6<>2,'Tipos de Cambio'!$J$6<>3,'Tipos de Cambio'!$J$6<>4,'Tipos de Cambio'!$J$6<>5,'Tipos de Cambio'!$J$6<>6,'Tipos de Cambio'!$J$6<>7),LOOKUP(1,'Datos mensuales'!$AM$2:$AS$2,'Datos mensuales'!$AM261:$AS261),LOOKUP('Tipos de Cambio'!$J$6,'Datos mensuales'!$AM$2:$AS$2,'Datos mensuales'!$AM261:$AS261))","v":1.61},0.41408,0.09,0.26,1.43,0.2,3.17,3.37,1.1279999999999999,61.7,39.299999999999997,76.7,100,2.4717796968282801,2.8256438998119471,2.4901168163855125,12569.79,2835.3,1345.2]
[null,"junio",null,6.7125507114063021,6.4000000000000057,3.23695304256188,3.5588282522423347,2.7247956403269753,-0.39960039960039112,3.2764685199688928,0.15976905816623255,0.90000000000000568,0.21695304256187553,-9.817532392230266E-3,-9.0826521344280486E-3,-7.9681036809658989E-4,2.7179495388192532E-2,{"$f":"IF(AND(Inflación!$J$6<>1,Inflación!$J$6<>2,Inflación!$J$6<>3,Inflación!$J$6<>4,Inflación!$J$6<>5,Inflación!$J$6<>6,Inflación!$J$6<>7),LOOKUP(1,'Datos mensuales'!$D$2:$J$2,'Datos mensuales'!$D262:$J262),LOOKUP(Inflación!$J$6,'Datos mensuales'!$D$2:$J$2,'Datos mensuales'!$D262:$J262))","v":6.7125507114063021},{"$f":"IF(AND(Inflación!$J$6<>1,Inflación!$J$6<>2,Inflación!$J$6<>3,Inflación!$J$6<>4,Inflación!$J$6<>5,Inflación!$J$6<>6,Inflación!$J$6<>7),LOOKUP(1,'Datos mensuales'!$K$2:$Q$2,'Datos mensuales'!$K262:$Q262),LOOKUP(Inflación!$J$6,'Datos mensuales'!$K$2:$Q$2,'Datos mensuales'!$K262:$Q262))","v":0.15976905816623255},96.26,113.83,{"$f":"IF(OR(T262=\"\",U262=\"n.d.\"),\"\",U262-T262)","v":17.569999999999993},1528.6591000000001,78.393280899999993,167.1,274.98,326.43,1075.9100000000001,310.45999999999998,518.09,975.54435000000001,74.299065420560751,83.148877527583295,83.128488177269702,79.661659271031581,110.83281156982659,66.828320083734141,107.86111542360344,1.59,0.97743999999999998,6.4747199999999996,1781.8953449999999,1.4391430000000001,80.448599999999999,11.8109,{"$f":"IF(AND('Tipos de Cambio'!$J$6<>1,'Tipos de Cambio'!$J$6<>2,'Tipos de Cambio'!$J$6<>3,'Tipos de Cambio'!$J$6<>4,'Tipos de Cambio'!$J$6<>5,'Tipos de Cambio'!$J$6<>6,'Tipos de Cambio'!$J$6<>7),LOOKUP(1,'Datos mensuales'!$AM$2:$AS$2,'Datos mensuales'!$AM262:$AS262),LOOKUP('Tipos de Cambio'!$J$6,'Datos mensuales'!$AM$2:$AS$2,'Datos mensuales'!$AM262:$AS262))","v":1.59},0.39757999999999999,0.1,0.24782000000000001,1.49,0.2,3,3.41,1.173,57.6,36.6,71.599999999999994,100,2.4803859943835826,2.4481389732397441,2.6624628026771013,12414.34,2773.52,1320.64]
[null,"julio",null,6.8725992832002039,6.5,3.4240560602223025,3.628715982221081,2.5358022439113395,0.20100502512563098,3.5471623015452725,0.16004857179390175,9.9999999999994316E-2,0.18710301766042248,6.9887729978746371E-2,-0.18899339641563584,0.60060542472602207,0.27069378157637969,{"$f":"IF(AND(Inflación!$J$6<>1,Inflación!$J$6<>2,Inflación!$J$6<>3,Inflación!$J$6<>4,Inflación!$J$6<>5,Inflación!$J$6<>6,Inflación!$J$6<>7),LOOKUP(1,'Datos mensuales'!$D$2:$J$2,'Datos mensuales'!$D263:$J263),LOOKUP(Inflación!$J$6,'Datos mensuales'!$D$2:$J$2,'Datos mensuales'!$D263:$J263))","v":6.8725992832002039},{"$f":"IF(AND(Inflación!$J$6<>1,Inflación!$J$6<>2,Inflación!$J$6<>3,Inflación!$J$6<>4,Inflación!$J$6<>5,Inflación!$J$6<>6,Inflación!$J$6<>7),LOOKUP(1,'Datos mensuales'!$K$2:$Q$2,'Datos mensuales'!$K263:$Q263),LOOKUP(Inflación!$J$6,'Datos mensuales'!$K$2:$Q$2,'Datos mensuales'!$K263:$Q263))","v":0.16004857179390175},97.3,116.97,19.670000000000002,1572.8095000000001,83.62013429000001,149.25,268.02,303.88,1033.57,300.8,546.19000000000005,961.07653125000002,72.89719626168224,81.337099010659031,82.916389024767582,78.71708268279346,110.14554698913577,65.959329130012208,106.59537355823234,1.56,0.95614200000000005,6.4581999999999997,1760.766779,1.4302189999999999,79.402500000000003,11.6723,{"$f":"IF(AND('Tipos de Cambio'!$J$6<>1,'Tipos de Cambio'!$J$6<>2,'Tipos de Cambio'!$J$6<>3,'Tipos de Cambio'!$J$6<>4,'Tipos de Cambio'!$J$6<>5,'Tipos de Cambio'!$J$6<>6,'Tipos de Cambio'!$J$6<>7),LOOKUP(1,'Datos mensuales'!$AM$2:$AS$2,'Datos mensuales'!$AM263:$AS263),LOOKUP('Tipos de Cambio'!$J$6,'Datos mensuales'!$AM$2:$AS$2,'Datos mensuales'!$AM263:$AS263))","v":1.56},0.41393000000000002,0.08,0.24990999999999999,1.6,0.2,3,3.06,1.169,59.2,35.700000000000003,74.900000000000006,100,2.4903405635072318,2.4480487968035813,2.8194442299251721,12143.24,2756.38,1292.28]
[null,"agosto",null,7.2252264409807534,6.2000000000000028,3.2699999999999938,3.7712081791197805,2.5216203914428861,0.20060180541625161,3.4236915404563013,0.35262715778054954,-0.29999999999999716,-0.15405606022230867,0.14249219689869941,-1.4181852468453382E-2,-4.0321970937937102E-4,-0.12347076108897115,{"$f":"IF(AND(Inflación!$J$6<>1,Inflación!$J$6<>2,Inflación!$J$6<>3,Inflación!$J$6<>4,Inflación!$J$6<>5,Inflación!$J$6<>6,Inflación!$J$6<>7),LOOKUP(1,'Datos mensuales'!$D$2:$J$2,'Datos mensuales'!$D264:$J264),LOOKUP(Inflación!$J$6,'Datos mensuales'!$D$2:$J$2,'Datos mensuales'!$D264:$J264))","v":7.2252264409807534},{"$f":"IF(AND(Inflación!$J$6<>1,Inflación!$J$6<>2,Inflación!$J$6<>3,Inflación!$J$6<>4,Inflación!$J$6<>5,Inflación!$J$6<>6,Inflación!$J$6<>7),LOOKUP(1,'Datos mensuales'!$K$2:$Q$2,'Datos mensuales'!$K264:$Q264),LOOKUP(Inflación!$J$6,'Datos mensuales'!$K$2:$Q$2,'Datos mensuales'!$K264:$Q264))","v":0.35262715778054954},86.33,110.22,23.89,1755.8068000000001,88.02568394782611,114.1,270.44,327.07,1047.51,310.24,577.29999999999995,950.74237500000004,74.766355140186917,83.453080738050076,82.224498992785797,79.829676337860874,110.4151697252405,63.959927231041434,111.70856887151714,1.6,0.981016,6.4043099999999997,1785.6536000000001,1.4337200000000001,76.995599999999996,12.232200000000001,{"$f":"IF(AND('Tipos de Cambio'!$J$6<>1,'Tipos de Cambio'!$J$6<>2,'Tipos de Cambio'!$J$6<>3,'Tipos de Cambio'!$J$6<>4,'Tipos de Cambio'!$J$6<>5,'Tipos de Cambio'!$J$6<>6,'Tipos de Cambio'!$J$6<>7),LOOKUP(1,'Datos mensuales'!$AM$2:$AS$2,'Datos mensuales'!$AM264:$AS264),LOOKUP('Tipos de Cambio'!$J$6,'Datos mensuales'!$AM$2:$AS$2,'Datos mensuales'!$AM264:$AS264))","v":1.6},0.45918999999999999,0.06,0.28999999999999998,1.55,0.19,2.2999999999999998,2.76,1.0429999999999999,45.2,34.299999999999997,52.4,100,2.6981772168468421,2.6059050585485855,2.9616971153324512,11613.53,2579.46,1218.8900000000001]
[null,"septiembre",null,7.3109020596297825,6.0999999999999943,3.7300000000000098,3.8683568410402982,2.9857518831109959,0,3.1400000000000117,8.5675618649029062E-2,-0.10000000000000853,0.46000000000001595,9.7148661920517743E-2,0.46413149166810985,-0.20060180541625161,-0.28369154045628964,{"$f":"IF(AND(Inflación!$J$6<>1,Inflación!$J$6<>2,Inflación!$J$6<>3,Inflación!$J$6<>4,Inflación!$J$6<>5,Inflación!$J$6<>6,Inflación!$J$6<>7),LOOKUP(1,'Datos mensuales'!$D$2:$J$2,'Datos mensuales'!$D265:$J265),LOOKUP(Inflación!$J$6,'Datos mensuales'!$D$2:$J$2,'Datos mensuales'!$D265:$J265))","v":7.3109020596297825},{"$f":"IF(AND(Inflación!$J$6<>1,Inflación!$J$6<>2,Inflación!$J$6<>3,Inflación!$J$6<>4,Inflación!$J$6<>5,Inflación!$J$6<>6,Inflación!$J$6<>7),LOOKUP(1,'Datos mensuales'!$K$2:$Q$2,'Datos mensuales'!$K265:$Q265),LOOKUP(Inflación!$J$6,'Datos mensuales'!$K$2:$Q$2,'Datos mensuales'!$K265:$Q265))","v":8.5675618649029062E-2},85.52,112.83,27.310000000000002,1771.8523,88.525991190476205,116.8,274.88,315.92,995.18,296.20999999999998,615.54999999999995,947.29765625000005,81.308411214953267,85.24240129983923,82.045139116244982,82.053651664593346,106.00270623905934,63.792043594919456,119.03452936502863,1.74,1.0020500000000001,6.3903400000000001,1835.400132,1.376425,76.793499999999995,13.0344,{"$f":"IF(AND('Tipos de Cambio'!$J$6<>1,'Tipos de Cambio'!$J$6<>2,'Tipos de Cambio'!$J$6<>3,'Tipos de Cambio'!$J$6<>4,'Tipos de Cambio'!$J$6<>5,'Tipos de Cambio'!$J$6<>6,'Tipos de Cambio'!$J$6<>7),LOOKUP(1,'Datos mensuales'!$AM$2:$AS$2,'Datos mensuales'!$AM265:$AS265),LOOKUP('Tipos de Cambio'!$J$6,'Datos mensuales'!$AM$2:$AS$2,'Datos mensuales'!$AM265:$AS265))","v":1.74},0.5222,0.04,0.35,1.54,0.19,1.98,2.48,1.0840000000000001,46.4,33.299999999999997,55.1,100,2.5327858686215343,2.8396572778861984,3.0898550007471437,10913.38,2415.4,1131.42]
[null,"octubre",null,6.9700991192924002,5.5,4.020000000000004,3.5251999213573986,3.0311255881288535,-0.19960079840319644,3.1956472384470436,-0.34080294033738223,-0.59999999999999432,0.28999999999999426,-0.34315691968289963,4.5373705017857535E-2,-0.19960079840319644,5.5647238447031899E-2,{"$f":"IF(AND(Inflación!$J$6<>1,Inflación!$J$6<>2,Inflación!$J$6<>3,Inflación!$J$6<>4,Inflación!$J$6<>5,Inflación!$J$6<>6,Inflación!$J$6<>7),LOOKUP(1,'Datos mensuales'!$D$2:$J$2,'Datos mensuales'!$D266:$J266),LOOKUP(Inflación!$J$6,'Datos mensuales'!$D$2:$J$2,'Datos mensuales'!$D266:$J266))","v":6.9700991192924002},{"$f":"IF(AND(Inflación!$J$6<>1,Inflación!$J$6<>2,Inflación!$J$6<>3,Inflación!$J$6<>4,Inflación!$J$6<>5,Inflación!$J$6<>6,Inflación!$J$6<>7),LOOKUP(1,'Datos mensuales'!$K$2:$Q$2,'Datos mensuales'!$K266:$Q266),LOOKUP(Inflación!$J$6,'Datos mensuales'!$K$2:$Q$2,'Datos mensuales'!$K266:$Q266))","v":-0.34080294033738223},86.32,109.55,23.230000000000004,1665.2143000000001,82.840801119999995,110.6,247.82,289.01,914.44,274.77999999999997,602.14,954.18709375000003,82.710280373831765,86.799996597279531,81.782968129919723,85.153630309722999,105.70974854464563,63.675912311743545,122.83723436315648,1.77,1.0203599999999999,6.3699199999999996,1904.7413630000001,1.3726210000000001,76.653700000000001,13.450799999999999,{"$f":"IF(AND('Tipos de Cambio'!$J$6<>1,'Tipos de Cambio'!$J$6<>2,'Tipos de Cambio'!$J$6<>3,'Tipos de Cambio'!$J$6<>4,'Tipos de Cambio'!$J$6<>5,'Tipos de Cambio'!$J$6<>6,'Tipos de Cambio'!$J$6<>7),LOOKUP(1,'Datos mensuales'!$AM$2:$AS$2,'Datos mensuales'!$AM266:$AS266),LOOKUP('Tipos de Cambio'!$J$6,'Datos mensuales'!$AM$2:$AS$2,'Datos mensuales'!$AM266:$AS266))","v":1.77},0.59521000000000002,0.05,0.40648000000000001,1.58,0.19,2.15,2.79,0.995,40.9,27.1,50,100,3.3813309236316647,3.0872511931291369,3.2045461019693411,11955.01,2684.41,1253.3]
[null,"noviembre",null,6.6413088655742678,4.2000000000000028,3.9600000000000031,3.394377590800854,3.0555053335743945,-0.50050050050050054,3.4826938218248045,-0.32879025371813242,-1.2999999999999972,-6.0000000000000941E-2,-0.13082233055654457,2.4379745445541001E-2,-0.3008997020973041,0.2870465833777609,{"$f":"IF(AND(Inflación!$J$6<>1,Inflación!$J$6<>2,Inflación!$J$6<>3,Inflación!$J$6<>4,Inflación!$J$6<>5,Inflación!$J$6<>6,Inflación!$J$6<>7),LOOKUP(1,'Datos mensuales'!$D$2:$J$2,'Datos mensuales'!$D267:$J267),LOOKUP(Inflación!$J$6,'Datos mensuales'!$D$2:$J$2,'Datos mensuales'!$D267:$J267))","v":6.6413088655742678},{"$f":"IF(AND(Inflación!$J$6<>1,Inflación!$J$6<>2,Inflación!$J$6<>3,Inflación!$J$6<>4,Inflación!$J$6<>5,Inflación!$J$6<>6,Inflación!$J$6<>7),LOOKUP(1,'Datos mensuales'!$K$2:$Q$2,'Datos mensuales'!$K267:$Q267),LOOKUP(Inflación!$J$6,'Datos mensuales'!$K$2:$Q$2,'Datos mensuales'!$K267:$Q267))","v":-0.32879025371813242},97.16,110.77,13.61,1738.9773,83.607588952380894,104.6,245.09,281.01,985.77,274.23,609.09,956.25392499999998,83.644859813084111,87.215979175350697,81.59937140590155,85.841601623289179,104.41623712630374,64.354590840747278,125.0929215258308,1.79,1.02525,6.35562,1920.130107,1.3558250000000001,77.470699999999994,13.697800000000001,{"$f":"IF(AND('Tipos de Cambio'!$J$6<>1,'Tipos de Cambio'!$J$6<>2,'Tipos de Cambio'!$J$6<>3,'Tipos de Cambio'!$J$6<>4,'Tipos de Cambio'!$J$6<>5,'Tipos de Cambio'!$J$6<>6,'Tipos de Cambio'!$J$6<>7),LOOKUP(1,'Datos mensuales'!$AM$2:$AS$2,'Datos mensuales'!$AM267:$AS267),LOOKUP('Tipos de Cambio'!$J$6,'Datos mensuales'!$AM$2:$AS$2,'Datos mensuales'!$AM267:$AS267))","v":1.79},0.68054000000000003,0.05,0.47528999999999999,1.48,0.2,2.0099999999999998,3.07,1.0249999999999999,55.2,38.299999999999997,66.400000000000006,100,3.2911160778470672,3.1424266434423753,3.306396788853827,12045.68,2620.34,1246.96]
[null,"diciembre",null,6.5033527436801686,4.0999999999999943,3.7300000000000133,2.9624188448710851,2.699999999999986,-0.20080321285139419,3.8187567875879203,-0.13795612189409923,-0.10000000000000853,-0.22999999999998977,-0.43195874592976891,-0.3555053335744085,0.29969728764910636,0.33606296576311578,{"$f":"IF(AND(Inflación!$J$6<>1,Inflación!$J$6<>2,Inflación!$J$6<>3,Inflación!$J$6<>4,Inflación!$J$6<>5,Inflación!$J$6<>6,Inflación!$J$6<>7),LOOKUP(1,'Datos mensuales'!$D$2:$J$2,'Datos mensuales'!$D268:$J268),LOOKUP(Inflación!$J$6,'Datos mensuales'!$D$2:$J$2,'Datos mensuales'!$D268:$J268))","v":6.5033527436801686},{"$f":"IF(AND(Inflación!$J$6<>1,Inflación!$J$6<>2,Inflación!$J$6<>3,Inflación!$J$6<>4,Inflación!$J$6<>5,Inflación!$J$6<>6,Inflación!$J$6<>7),LOOKUP(1,'Datos mensuales'!$K$2:$Q$2,'Datos mensuales'!$K268:$Q268),LOOKUP(Inflación!$J$6,'Datos mensuales'!$K$2:$Q$2,'Datos mensuales'!$K268:$Q268))","v":-0.13795612189409923},98.56,107.87,9.3100000000000023,1652.3055999999999,79.828240380952394,95.45,236.71,269.02999999999997,969.07,258.44,580.91,942.47505000000001,85.981308411214954,87.021173428155819,81.405375147166254,86.427226906797614,101.33440535518041,64.637525855409081,125.56415009908584,1.84,1.0229600000000001,6.3405100000000001,1933.2295449999999,1.3158080000000001,77.811300000000003,13.7494,{"$f":"IF(AND('Tipos de Cambio'!$J$6<>1,'Tipos de Cambio'!$J$6<>2,'Tipos de Cambio'!$J$6<>3,'Tipos de Cambio'!$J$6<>4,'Tipos de Cambio'!$J$6<>5,'Tipos de Cambio'!$J$6<>6,'Tipos de Cambio'!$J$6<>7),LOOKUP(1,'Datos mensuales'!$AM$2:$AS$2,'Datos mensuales'!$AM268:$AS268),LOOKUP('Tipos de Cambio'!$J$6,'Datos mensuales'!$AM$2:$AS$2,'Datos mensuales'!$AM268:$AS268))","v":1.84},0.77985000000000004,0.05,0.55574000000000001,1.43,0.2,1.98,2.65,1.085,64.8,46.5,77,100,2.8193322554550093,3.234668156315168,3.3960379867752133,12217.56,2605.15,1257.5999999999999]
[2012,"enero",-12,6.2179976539370996,4.5,3.539999999999996,2.9252167121508554,2.6999999999999931,0.10050251256280836,4.0467733567466295,-0.285355089743069,0.40000000000000568,-0.19000000000001727,-3.7202132720229653E-2,7.1054273576010019E-15,0.30130572541420253,0.22801656915870927,{"$f":"IF(AND(Inflación!$J$6<>1,Inflación!$J$6<>2,Inflación!$J$6<>3,Inflación!$J$6<>4,Inflación!$J$6<>5,Inflación!$J$6<>6,Inflación!$J$6<>7),LOOKUP(1,'Datos mensuales'!$D$2:$J$2,'Datos mensuales'!$D269:$J269),LOOKUP(Inflación!$J$6,'Datos mensuales'!$D$2:$J$2,'Datos mensuales'!$D269:$J269))","v":6.2179976539370996},{"$f":"IF(AND(Inflación!$J$6<>1,Inflación!$J$6<>2,Inflación!$J$6<>3,Inflación!$J$6<>4,Inflación!$J$6<>5,Inflación!$J$6<>6,Inflación!$J$6<>7),LOOKUP(1,'Datos mensuales'!$K$2:$Q$2,'Datos mensuales'!$K269:$Q269),LOOKUP(Inflación!$J$6,'Datos mensuales'!$K$2:$Q$2,'Datos mensuales'!$K269:$Q269))","v":-0.285355089743069},100.27,110.69,10.420000000000002,1656.1189999999999,76.484881659999999,101.1,237.21,274.89,1020.54,272.85000000000002,541.05882352941171,945.23082499999998,83.644859813084111,86.179850790707164,81.049094791117,82.611220761756542,99.305958269701293,63.936750816158693,122.54865252372123,1.79,1.0130699999999999,6.3127599999999999,1847.872001,1.289469,76.967699999999994,13.4192,{"$f":"IF(AND('Tipos de Cambio'!$J$6<>1,'Tipos de Cambio'!$J$6<>2,'Tipos de Cambio'!$J$6<>3,'Tipos de Cambio'!$J$6<>4,'Tipos de Cambio'!$J$6<>5,'Tipos de Cambio'!$J$6<>6,'Tipos de Cambio'!$J$6<>7),LOOKUP(1,'Datos mensuales'!$AM$2:$AS$2,'Datos mensuales'!$AM269:$AS269),LOOKUP('Tipos de Cambio'!$J$6,'Datos mensuales'!$AM$2:$AS$2,'Datos mensuales'!$AM269:$AS269))","v":1.79},0.79698000000000002,7.0000000000000007E-2,0.56589999999999996,1.22,0.2,1.97,2.67,0.97899999999999998,61.5,38.799999999999997,76.7,100,3.6740220532023971,3.6787656246137335,3.4740992131407022,12632.91,2813.84,1312.41]
[null,"febrero",-12,5.8490856474355102,3.2000000000000028,3.5499999999999936,2.8710987804382171,2.6999999999999984,0.30150753768843935,3.8686334539382092,-0.3689120065015894,-1.2999999999999972,9.9999999999975664E-3,-5.4117931712638345E-2,5.3290705182007514E-15,0.20100502512563101,-0.17813990280842029,{"$f":"IF(AND(Inflación!$J$6<>1,Inflación!$J$6<>2,Inflación!$J$6<>3,Inflación!$J$6<>4,Inflación!$J$6<>5,Inflación!$J$6<>6,Inflación!$J$6<>7),LOOKUP(1,'Datos mensuales'!$D$2:$J$2,'Datos mensuales'!$D270:$J270),LOOKUP(Inflación!$J$6,'Datos mensuales'!$D$2:$J$2,'Datos mensuales'!$D270:$J270))","v":5.8490856474355102},{"$f":"IF(AND(Inflación!$J$6<>1,Inflación!$J$6<>2,Inflación!$J$6<>3,Inflación!$J$6<>4,Inflación!$J$6<>5,Inflación!$J$6<>6,Inflación!$J$6<>7),LOOKUP(1,'Datos mensuales'!$K$2:$Q$2,'Datos mensuales'!$K270:$Q270),LOOKUP(Inflación!$J$6,'Datos mensuales'!$K$2:$Q$2,'Datos mensuales'!$K270:$Q270))","v":-0.3689120065015894},102.2,119.33,17.129999999999995,1742.6189999999999,74.144677529999996,100.7,224.16,277.77,1047.69,279.45999999999998,547.47619047619048,1067.8628125,80.373831775700936,84.870228747883942,80.888094586977985,79.649435629355708,101.94511895052759,65.175152225018891,116.81902448379466,1.72,0.99767499999999998,6.3002200000000004,1781.6219229999999,1.3237380000000001,78.458500000000001,12.7918,{"$f":"IF(AND('Tipos de Cambio'!$J$6<>1,'Tipos de Cambio'!$J$6<>2,'Tipos de Cambio'!$J$6<>3,'Tipos de Cambio'!$J$6<>4,'Tipos de Cambio'!$J$6<>5,'Tipos de Cambio'!$J$6<>6,'Tipos de Cambio'!$J$6<>7),LOOKUP(1,'Datos mensuales'!$AM$2:$AS$2,'Datos mensuales'!$AM270:$AS270),LOOKUP('Tipos de Cambio'!$J$6,'Datos mensuales'!$AM$2:$AS$2,'Datos mensuales'!$AM270:$AS270))","v":1.72},0.75729000000000002,0.12,0.50324000000000002,1.05,0.2,1.97,2.59,1.0058,71.599999999999994,46.4,88.4,100,4.6399895767169852,3.970899213187784,3.5412064792349263,12952.07,2966.89,1365.68]
[null,"marzo",-12,5.2399919361243219,3.5999999999999943,3.4000000000000066,2.6513981930217807,2.6999999999999935,0.50100200400801598,3.7292776570731276,-0.60909371131118828,0.39999999999999147,-0.14999999999998703,-0.21970058741643639,-4.8849813083506888E-15,0.19949446631957662,-0.13935579686508159,{"$f":"IF(AND(Inflación!$J$6<>1,Inflación!$J$6<>2,Inflación!$J$6<>3,Inflación!$J$6<>4,Inflación!$J$6<>5,Inflación!$J$6<>6,Inflación!$J$6<>7),LOOKUP(1,'Datos mensuales'!$D$2:$J$2,'Datos mensuales'!$D271:$J271),LOOKUP(Inflación!$J$6,'Datos mensuales'!$D$2:$J$2,'Datos mensuales'!$D271:$J271))","v":5.2399919361243219},{"$f":"IF(AND(Inflación!$J$6<>1,Inflación!$J$6<>2,Inflación!$J$6<>3,Inflación!$J$6<>4,Inflación!$J$6<>5,Inflación!$J$6<>6,Inflación!$J$6<>7),LOOKUP(1,'Datos mensuales'!$K$2:$Q$2,'Datos mensuales'!$K271:$Q271),LOOKUP(Inflación!$J$6,'Datos mensuales'!$K$2:$Q$2,'Datos mensuales'!$K271:$Q271))","v":-0.60909371131118828},106.16,125.45,19.290000000000006,1673.7727,76.353005299999992,99.5,201.26,283.88,1105.74,280.66000000000003,577.0454545454545,1143.6466250000001,83.644859813084111,84.552839995576463,81.041648210702277,78.960364813030509,101.71762236028097,68.513386664008436,116.38523849097268,1.79,0.99394400000000005,6.3121799999999997,1766.2085850000001,1.320784,82.477099999999993,12.744300000000001,{"$f":"IF(AND('Tipos de Cambio'!$J$6<>1,'Tipos de Cambio'!$J$6<>2,'Tipos de Cambio'!$J$6<>3,'Tipos de Cambio'!$J$6<>4,'Tipos de Cambio'!$J$6<>5,'Tipos de Cambio'!$J$6<>6,'Tipos de Cambio'!$J$6<>7),LOOKUP(1,'Datos mensuales'!$AM$2:$AS$2,'Datos mensuales'!$AM271:$AS271),LOOKUP('Tipos de Cambio'!$J$6,'Datos mensuales'!$AM$2:$AS$2,'Datos mensuales'!$AM271:$AS271))","v":1.79},0.74128000000000005,0.14000000000000001,0.47328999999999999,0.86,0.2,2.17,2.6,1.0489999999999999,69.5,49.9,82.5,100,3.2114806158715092,3.9797846522742653,3.5980052408496555,13212.04,3091.57,1408.47]
[null,"abril ",-12,5.104165719430017,3.4000000000000057,3.430000000000001,2.3027398112989435,2.6000000000000032,0.450225112556281,3.4120786990643746,-0.13582621669430495,-0.19999999999998863,2.9999999999994476E-2,-0.34865838172283725,-9.9999999999990319E-2,-5.0776891451734973E-2,-0.31719895800875308,{"$f":"IF(AND(Inflación!$J$6<>1,Inflación!$J$6<>2,Inflación!$J$6<>3,Inflación!$J$6<>4,Inflación!$J$6<>5,Inflación!$J$6<>6,Inflación!$J$6<>7),LOOKUP(1,'Datos mensuales'!$D$2:$J$2,'Datos mensuales'!$D272:$J272),LOOKUP(Inflación!$J$6,'Datos mensuales'!$D$2:$J$2,'Datos mensuales'!$D272:$J272))","v":5.104165719430017},{"$f":"IF(AND(Inflación!$J$6<>1,Inflación!$J$6<>2,Inflación!$J$6<>3,Inflación!$J$6<>4,Inflación!$J$6<>5,Inflación!$J$6<>6,Inflación!$J$6<>7),LOOKUP(1,'Datos mensuales'!$K$2:$Q$2,'Datos mensuales'!$K272:$Q272),LOOKUP(Inflación!$J$6,'Datos mensuales'!$K$2:$Q$2,'Datos mensuales'!$K272:$Q272))","v":-0.13582621669430495},103.32,119.75,16.430000000000007,1650.0658000000001,70.25572785,100.1,191.45,266.32,1157.45,274.20999999999998,585.95238095238096,1029.9709062500001,86.44859813084112,84.480106845422924,80.896696671250169,79.224755080462756,101.39455255795041,67.572208238841682,119.24274664158317,1.85,0.993089,6.3008899999999999,1772.1225440000001,1.316589,81.344099999999997,13.0572,{"$f":"IF(AND('Tipos de Cambio'!$J$6<>1,'Tipos de Cambio'!$J$6<>2,'Tipos de Cambio'!$J$6<>3,'Tipos de Cambio'!$J$6<>4,'Tipos de Cambio'!$J$6<>5,'Tipos de Cambio'!$J$6<>6,'Tipos de Cambio'!$J$6<>7),LOOKUP(1,'Datos mensuales'!$AM$2:$AS$2,'Datos mensuales'!$AM272:$AS272),LOOKUP('Tipos de Cambio'!$J$6,'Datos mensuales'!$AM$2:$AS$2,'Datos mensuales'!$AM272:$AS272))","v":1.85},0.73140000000000005,0.14000000000000001,0.46682000000000001,0.74,0.2,2.0499999999999998,2.4700000000000002,0.93559999999999999,68.7,51.2,80.400000000000006,100,4.5527405013523259,4.2419358026370535,3.6451736602318485,13213.63,3046.36,1397.91]
[null,"mayo",-12,4.9888673678113102,3,3.4399999999999924,1.7042537749376003,2.4000000000000026,0.2002002002001888,3.8512284349199311,-0.11529835161870672,-0.40000000000000568,9.9999999999913491E-3,-0.59848603636134312,-0.20000000000000062,-0.2500249123560922,0.4391497358555565,{"$f":"IF(AND(Inflación!$J$6<>1,Inflación!$J$6<>2,Inflación!$J$6<>3,Inflación!$J$6<>4,Inflación!$J$6<>5,Inflación!$J$6<>6,Inflación!$J$6<>7),LOOKUP(1,'Datos mensuales'!$D$2:$J$2,'Datos mensuales'!$D273:$J273),LOOKUP(Inflación!$J$6,'Datos mensuales'!$D$2:$J$2,'Datos mensuales'!$D273:$J273))","v":4.9888673678113102},{"$f":"IF(AND(Inflación!$J$6<>1,Inflación!$J$6<>2,Inflación!$J$6<>3,Inflación!$J$6<>4,Inflación!$J$6<>5,Inflación!$J$6<>6,Inflación!$J$6<>7),LOOKUP(1,'Datos mensuales'!$K$2:$Q$2,'Datos mensuales'!$K273:$Q273),LOOKUP(Inflación!$J$6,'Datos mensuales'!$K$2:$Q$2,'Datos mensuales'!$K273:$Q273))","v":-0.11529835161870672},94.65,110.34,15.689999999999998,1585.5045,66.579524000000006,88.53,184.65,264.35872401848002,1031.1199999999999,268.79000000000002,612.43478260869563,953.49815000000001,92.523364485981304,85.83787738296769,81.122019923454289,80.23190868307077,98.562397139426764,66.166076041900297,124.51118254627811,1.98,1.00905,6.3184399999999998,1794.6508510000001,1.279814,79.651383999999993,13.634099000000001,{"$f":"IF(AND('Tipos de Cambio'!$J$6<>1,'Tipos de Cambio'!$J$6<>2,'Tipos de Cambio'!$J$6<>3,'Tipos de Cambio'!$J$6<>4,'Tipos de Cambio'!$J$6<>5,'Tipos de Cambio'!$J$6<>6,'Tipos de Cambio'!$J$6<>7),LOOKUP(1,'Datos mensuales'!$AM$2:$AS$2,'Datos mensuales'!$AM273:$AS273),LOOKUP('Tipos de Cambio'!$J$6,'Datos mensuales'!$AM$2:$AS$2,'Datos mensuales'!$AM273:$AS273))","v":1.98},0.73299000000000003,0.15,0.46653,0.68,0.2,1.8,1.89,0.84689999999999999,64.400000000000006,44.9,77.3,100,4.5619184412664771,4.5210418332876312,3.6834167663134743,12393.45,2827.34,1310.33]
[null,"junio",-12,4.9154252835474566,2.2000000000000028,3.1999999999999966,1.6639937622385057,2.3999999999999981,-0.10030090270813291,4.3352225587509157,-7.344208426385368E-2,-0.79999999999999716,-0.23999999999999577,-4.0260012699094627E-2,-4.4408920985006262E-15,-0.30050110290832172,0.48399412383098461,{"$f":"IF(AND(Inflación!$J$6<>1,Inflación!$J$6<>2,Inflación!$J$6<>3,Inflación!$J$6<>4,Inflación!$J$6<>5,Inflación!$J$6<>6,Inflación!$J$6<>7),LOOKUP(1,'Datos mensuales'!$D$2:$J$2,'Datos mensuales'!$D274:$J274),LOOKUP(Inflación!$J$6,'Datos mensuales'!$D$2:$J$2,'Datos mensuales'!$D274:$J274))","v":4.9154252835474566},{"$f":"IF(AND(Inflación!$J$6<>1,Inflación!$J$6<>2,Inflación!$J$6<>3,Inflación!$J$6<>4,Inflación!$J$6<>5,Inflación!$J$6<>6,Inflación!$J$6<>7),LOOKUP(1,'Datos mensuales'!$K$2:$Q$2,'Datos mensuales'!$K274:$Q274),LOOKUP(Inflación!$J$6,'Datos mensuales'!$K$2:$Q$2,'Datos mensuales'!$K274:$Q274))","v":-7.344208426385368E-2},82.3,95.16,12.86,1596.6974,63.063680009523807,82.18,168.69,276.19,927.63,267.23,606.14285714285711,954.18709375000003,95.794392523364465,87.435454645989481,81.664721568506621,80.062853539716144,96.610115973972668,65.865003613527051,127.14002611848294,2.0499999999999998,1.02783,6.3607100000000001,1790.8693760000001,1.254464,79.28895,13.92196,{"$f":"IF(AND('Tipos de Cambio'!$J$6<>1,'Tipos de Cambio'!$J$6<>2,'Tipos de Cambio'!$J$6<>3,'Tipos de Cambio'!$J$6<>4,'Tipos de Cambio'!$J$6<>5,'Tipos de Cambio'!$J$6<>6,'Tipos de Cambio'!$J$6<>7),LOOKUP(1,'Datos mensuales'!$AM$2:$AS$2,'Datos mensuales'!$AM274:$AS274),LOOKUP('Tipos de Cambio'!$J$6,'Datos mensuales'!$AM$2:$AS$2,'Datos mensuales'!$AM274:$AS274))","v":2.0499999999999998},0.73640000000000005,0.15,0.46559,0.66,0.2,1.62,2.3199999999999998,0.83740000000000003,62.7,46.6,73.400000000000006,100,4.3696740602767736,4.4447653702681222,3.7134804198500682,12880.09,2935.05,1362.16]
[null,"julio",-12,5.1984143693268194,1.7999999999999972,3.030000000000002,1.4084507042253593,2.3999999999999995,-0.40120361083250322,4.4199719461605014,0.28298908577936288,-0.40000000000000568,-0.1699999999999946,-0.25554305801314636,0,-0.30090270812437031,8.4749387409585708E-2,{"$f":"IF(AND(Inflación!$J$6<>1,Inflación!$J$6<>2,Inflación!$J$6<>3,Inflación!$J$6<>4,Inflación!$J$6<>5,Inflación!$J$6<>6,Inflación!$J$6<>7),LOOKUP(1,'Datos mensuales'!$D$2:$J$2,'Datos mensuales'!$D275:$J275),LOOKUP(Inflación!$J$6,'Datos mensuales'!$D$2:$J$2,'Datos mensuales'!$D275:$J275))","v":5.1984143693268194},{"$f":"IF(AND(Inflación!$J$6<>1,Inflación!$J$6<>2,Inflación!$J$6<>3,Inflación!$J$6<>4,Inflación!$J$6<>5,Inflación!$J$6<>6,Inflación!$J$6<>7),LOOKUP(1,'Datos mensuales'!$K$2:$Q$2,'Datos mensuales'!$K275:$Q275),LOOKUP(Inflación!$J$6,'Datos mensuales'!$K$2:$Q$2,'Datos mensuales'!$K275:$Q275))","v":0.28298908577936288},87.9,102.61857142857141,14.718571428571408,1593.9091000000001,63.230601238095197,83.97,190.45,345.69,952.54,332.95,578.36363636363637,964.52125000000001,{"$f":"+AM275/$AM$209 *100","v":94.859813084112133},{"$f":"+AN275/$AN$209 *100","v":86.240929623233768},{"$f":"+AO275/$AO$209 *100","v":81.834952964573532},{"$f":"+AP275/$AP$209 *100","v":79.720025682496072},{"$f":"+AQ275/$AQ$209 *100","v":94.653137011631287},{"$f":"+AR275/$AR$209 *100","v":65.629041958448596},{"$f":"+AS275/$AS$209 *100","v":121.94087725226252},2.0299999999999998,1.0137879999999999,6.3739689999999998,1783.200902,1.229053,79.004897,13.352648,{"$f":"IF(AND('Tipos de Cambio'!$J$6<>1,'Tipos de Cambio'!$J$6<>2,'Tipos de Cambio'!$J$6<>3,'Tipos de Cambio'!$J$6<>4,'Tipos de Cambio'!$J$6<>5,'Tipos de Cambio'!$J$6<>6,'Tipos de Cambio'!$J$6<>7),LOOKUP(1,'Datos mensuales'!$AM$2:$AS$2,'Datos mensuales'!$AM275:$AS275),LOOKUP('Tipos de Cambio'!$J$6,'Datos mensuales'!$AM$2:$AS$2,'Datos mensuales'!$AM275:$AS275))","v":2.0299999999999998},0.73021999999999998,0.15,0.45355000000000001,0.5,0.2,1.53,1.87,0.7782,65.400000000000006,45.9,78.400000000000006,100,4.2869173452364517,4.0341625724584773,3.73616569738906,13008.68,2939.52,1379.32]
[null,"agosto",-12,5.2403840391230903,2,3.1099999999999879,1.6923789975501571,2.6000000000000063,-0.50050050050050054,4.5679380214541014,4.1969669796270814E-2,0.20000000000000284,7.999999999998586E-2,0.28392829332479774,0.20000000000000684,-9.9296889667997323E-2,0.14796607529360006,{"$f":"IF(AND(Inflación!$J$6<>1,Inflación!$J$6<>2,Inflación!$J$6<>3,Inflación!$J$6<>4,Inflación!$J$6<>5,Inflación!$J$6<>6,Inflación!$J$6<>7),LOOKUP(1,'Datos mensuales'!$D$2:$J$2,'Datos mensuales'!$D276:$J276),LOOKUP(Inflación!$J$6,'Datos mensuales'!$D$2:$J$2,'Datos mensuales'!$D276:$J276))","v":5.2403840391230903},{"$f":"IF(AND(Inflación!$J$6<>1,Inflación!$J$6<>2,Inflación!$J$6<>3,Inflación!$J$6<>4,Inflación!$J$6<>5,Inflación!$J$6<>6,Inflación!$J$6<>7),LOOKUP(1,'Datos mensuales'!$K$2:$Q$2,'Datos mensuales'!$K276:$Q276),LOOKUP(Inflación!$J$6,'Datos mensuales'!$K$2:$Q$2,'Datos mensuales'!$K276:$Q276))","v":4.1969669796270814E-2},94.13,113.36,19.230000000000004,1626.0341000000001,63.361737330434799,84.4,174.82,349.4,930.61,332.17,582.86956521739125,950.74237500000004,94.859813084112133,84.441400900019573,81.672835773372313,80.683746333166795,95.489729922886823,65.384943637284948,120.25134017040939,2.0299999999999998,0.99263400000000002,6.3613419999999996,1804.7576879999999,1.239916,78.711049000000003,13.167642000000001,{"$f":"IF(AND('Tipos de Cambio'!$J$6<>1,'Tipos de Cambio'!$J$6<>2,'Tipos de Cambio'!$J$6<>3,'Tipos de Cambio'!$J$6<>4,'Tipos de Cambio'!$J$6<>5,'Tipos de Cambio'!$J$6<>6,'Tipos de Cambio'!$J$6<>7),LOOKUP(1,'Datos mensuales'!$AM$2:$AS$2,'Datos mensuales'!$AM276:$AS276),LOOKUP('Tipos de Cambio'!$J$6,'Datos mensuales'!$AM$2:$AS$2,'Datos mensuales'!$AM276:$AS276))","v":2.0299999999999998},0.71753,0.14000000000000001,0.43225999999999998,0.33,0.19,1.68,1.91,0.81289999999999996,61.3,46.5,71.099999999999994,100,3.1526397688708574,3.4551049133081602,3.7523201269201945,13090.84,3066.97,1406.58]
[null,"septiembre",-12,5.2822033772001742,1.9000000000000057,3.0799999999999907,1.9912820806649949,2.5999999999999988,-0.30030030030031168,4.7684886917564864,4.1819338077083934E-2,-9.9999999999994316E-2,-2.999999999999714E-2,0.29890308311483782,-7.5495165674510645E-15,0.20020020020018886,0.20055067030238494,{"$f":"IF(AND(Inflación!$J$6<>1,Inflación!$J$6<>2,Inflación!$J$6<>3,Inflación!$J$6<>4,Inflación!$J$6<>5,Inflación!$J$6<>6,Inflación!$J$6<>7),LOOKUP(1,'Datos mensuales'!$D$2:$J$2,'Datos mensuales'!$D277:$J277),LOOKUP(Inflación!$J$6,'Datos mensuales'!$D$2:$J$2,'Datos mensuales'!$D277:$J277))","v":5.2822033772001742},{"$f":"IF(AND(Inflación!$J$6<>1,Inflación!$J$6<>2,Inflación!$J$6<>3,Inflación!$J$6<>4,Inflación!$J$6<>5,Inflación!$J$6<>6,Inflación!$J$6<>7),LOOKUP(1,'Datos mensuales'!$K$2:$Q$2,'Datos mensuales'!$K277:$Q277),LOOKUP(Inflación!$J$6,'Datos mensuales'!$K$2:$Q$2,'Datos mensuales'!$K277:$Q277))","v":4.1819338077083934E-2},94.51,112.86,18.349999999999994,1744.45,57.904924463157904,84.15,178.98,353.42,879.53,320.72000000000003,590.5,964.52125000000001,94.859813084112133,83.274437913111527,81.166969023509367,80.537108680378395,99.104492094994072,64.942053978617892,118.10431868202116,2.0299999999999998,0.97891600000000001,6.3219409999999998,1801.477654,1.286853,78.177893999999995,12.932541000000001,{"$f":"IF(AND('Tipos de Cambio'!$J$6<>1,'Tipos de Cambio'!$J$6<>2,'Tipos de Cambio'!$J$6<>3,'Tipos de Cambio'!$J$6<>4,'Tipos de Cambio'!$J$6<>5,'Tipos de Cambio'!$J$6<>6,'Tipos de Cambio'!$J$6<>7),LOOKUP(1,'Datos mensuales'!$AM$2:$AS$2,'Datos mensuales'!$AM277:$AS277),LOOKUP('Tipos de Cambio'!$J$6,'Datos mensuales'!$AM$2:$AS$2,'Datos mensuales'!$AM277:$AS277))","v":2.0299999999999998},0.67168000000000005,0.14000000000000001,0.37197999999999998,0.25,0.19,1.72,1.94,0.78010000000000002,68.400000000000006,48.7,81.5,100,3.3359648396797281,3.1081256445601113,3.7628055414848482,13437.13,3116.23,1440.67]
[null,"octubre",-12,5.4498290435938799,1.7000000000000028,3.0599999999999907,2.1623435988711361,2.4999999999999876,-0.40000000000000563,4.5960947956853806,0.16762566639370569,-0.20000000000000284,-2.0000000000000018E-2,0.17106151820614124,-0.10000000000001119,-9.9699699699693944E-2,-0.17239389607110578,{"$f":"IF(AND(Inflación!$J$6<>1,Inflación!$J$6<>2,Inflación!$J$6<>3,Inflación!$J$6<>4,Inflación!$J$6<>5,Inflación!$J$6<>6,Inflación!$J$6<>7),LOOKUP(1,'Datos mensuales'!$D$2:$J$2,'Datos mensuales'!$D278:$J278),LOOKUP(Inflación!$J$6,'Datos mensuales'!$D$2:$J$2,'Datos mensuales'!$D278:$J278))","v":5.4498290435938799},{"$f":"IF(AND(Inflación!$J$6<>1,Inflación!$J$6<>2,Inflación!$J$6<>3,Inflación!$J$6<>4,Inflación!$J$6<>5,Inflación!$J$6<>6,Inflación!$J$6<>7),LOOKUP(1,'Datos mensuales'!$K$2:$Q$2,'Datos mensuales'!$K278:$Q278),LOOKUP(Inflación!$J$6,'Datos mensuales'!$K$2:$Q$2,'Datos mensuales'!$K278:$Q278))","v":0.16762566639370569},89.491304347826073,111.71086956521739,22.21956521739132,1747.0109,52.540103000000002,81.95,173.32,358.2,768.09,321.63,584.73913043478262,956.25392499999998,94.859813084112133,83.954046259984864,80.542727322915823,80.7123023788415,99.94639890764671,65.613485516817434,117.75663235952183,2.0299999999999998,0.98690500000000003,6.27332,1805.396438,1.297785,78.986170000000001,12.894469000000001,{"$f":"IF(AND('Tipos de Cambio'!$J$6<>1,'Tipos de Cambio'!$J$6<>2,'Tipos de Cambio'!$J$6<>3,'Tipos de Cambio'!$J$6<>4,'Tipos de Cambio'!$J$6<>5,'Tipos de Cambio'!$J$6<>6,'Tipos de Cambio'!$J$6<>7),LOOKUP(1,'Datos mensuales'!$AM$2:$AS$2,'Datos mensuales'!$AM278:$AS278),LOOKUP('Tipos de Cambio'!$J$6,'Datos mensuales'!$AM$2:$AS$2,'Datos mensuales'!$AM278:$AS278))","v":2.0299999999999998},0.58230000000000004,0.15,0.33050000000000002,0.21,0.19,1.75,1.95,0.78390000000000004,49.9,23.5,67.5,100,2.7269685066384719,3.1475512736910183,3.7684553077424132,13096.46,2977.23,1412.16]
[null,"noviembre",-12,5.5338372505019366,2,2.7700000000000022,1.7999999999999956,2.219298245614036,-0.20120724346076743,4.1798514220062959,8.4008206908056771E-2,0.29999999999999716,-0.28999999999998849,-0.36234359887114054,-0.28070175438595157,0.1987927565392382,-0.4162433736790847,{"$f":"IF(AND(Inflación!$J$6<>1,Inflación!$J$6<>2,Inflación!$J$6<>3,Inflación!$J$6<>4,Inflación!$J$6<>5,Inflación!$J$6<>6,Inflación!$J$6<>7),LOOKUP(1,'Datos mensuales'!$D$2:$J$2,'Datos mensuales'!$D279:$J279),LOOKUP(Inflación!$J$6,'Datos mensuales'!$D$2:$J$2,'Datos mensuales'!$D279:$J279))","v":5.5338372505019366},{"$f":"IF(AND(Inflación!$J$6<>1,Inflación!$J$6<>2,Inflación!$J$6<>3,Inflación!$J$6<>4,Inflación!$J$6<>5,Inflación!$J$6<>6,Inflación!$J$6<>7),LOOKUP(1,'Datos mensuales'!$K$2:$Q$2,'Datos mensuales'!$K279:$Q279),LOOKUP(Inflación!$J$6,'Datos mensuales'!$K$2:$Q$2,'Datos mensuales'!$K279:$Q279))","v":8.4008206908056771E-2},86.53,109.06,22.53,1721.1364000000001,49.645942761904799,80.87,159.91,361,743.13,321.54000000000002,590.72727272727275,933.51878124999996,96.728971962616811,84.216991484692016,80.106293515954306,81.40147060984151,98.796054774771449,67.291118199715896,119.39035259951964,2.0699999999999998,0.98999599999999999,6.2393270000000003,1820.8119549999999,1.282848,81.005720999999994,13.073363000000001,{"$f":"IF(AND('Tipos de Cambio'!$J$6<>1,'Tipos de Cambio'!$J$6<>2,'Tipos de Cambio'!$J$6<>3,'Tipos de Cambio'!$J$6<>4,'Tipos de Cambio'!$J$6<>5,'Tipos de Cambio'!$J$6<>6,'Tipos de Cambio'!$J$6<>7),LOOKUP(1,'Datos mensuales'!$AM$2:$AS$2,'Datos mensuales'!$AM279:$AS279),LOOKUP('Tipos de Cambio'!$J$6,'Datos mensuales'!$AM$2:$AS$2,'Datos mensuales'!$AM279:$AS279))","v":2.0699999999999998},0.52834999999999999,0.14000000000000001,0.31102000000000002,0.19,0.19,1.65,1.8,0.74050000000000005,54.1,24,74.2,100,3.6140601735271893,3.2824837227029224,3.7700495090542407,13025.58,3010.24,1416.18]
[null,"diciembre",-12,5.8385947181474451,2.5,2.4400000000000035,1.6999999999999849,2.1999999999999984,-0.10060362173039086,3.5700000000000016,0.30475746764550848,0.5,-0.32999999999999874,-0.10000000000001075,-1.929824561403759E-2,0.10060362173037657,-0.60985142200629427,{"$f":"IF(AND(Inflación!$J$6<>1,Inflación!$J$6<>2,Inflación!$J$6<>3,Inflación!$J$6<>4,Inflación!$J$6<>5,Inflación!$J$6<>6,Inflación!$J$6<>7),LOOKUP(1,'Datos mensuales'!$D$2:$J$2,'Datos mensuales'!$D280:$J280),LOOKUP(Inflación!$J$6,'Datos mensuales'!$D$2:$J$2,'Datos mensuales'!$D280:$J280))","v":5.8385947181474451},{"$f":"IF(AND(Inflación!$J$6<>1,Inflación!$J$6<>2,Inflación!$J$6<>3,Inflación!$J$6<>4,Inflación!$J$6<>5,Inflación!$J$6<>6,Inflación!$J$6<>7),LOOKUP(1,'Datos mensuales'!$K$2:$Q$2,'Datos mensuales'!$K280:$Q280),LOOKUP(Inflación!$J$6,'Datos mensuales'!$K$2:$Q$2,'Datos mensuales'!$K280:$Q280))","v":0.30475746764550848},87.859500000000011,109.494,21.634499999999989,1688.5293999999999,49.202709160000005,83.4,152.74,347.9,713.9,308.7,565.52380952380952,943.85293750000005,97.196261682242991,84.267692019769811,80.05800629364434,80.119939477974796,100.98507409811926,69.616769257607089,117.64245075387439,2.08,0.99059200000000003,6.2355660000000004,1792.146291,1.311272,83.805363,12.881966,{"$f":"IF(AND('Tipos de Cambio'!$J$6<>1,'Tipos de Cambio'!$J$6<>2,'Tipos de Cambio'!$J$6<>3,'Tipos de Cambio'!$J$6<>4,'Tipos de Cambio'!$J$6<>5,'Tipos de Cambio'!$J$6<>6,'Tipos de Cambio'!$J$6<>7),LOOKUP(1,'Datos mensuales'!$AM$2:$AS$2,'Datos mensuales'!$AM280:$AS280),LOOKUP('Tipos de Cambio'!$J$6,'Datos mensuales'!$AM$2:$AS$2,'Datos mensuales'!$AM280:$AS280))","v":2.08},0.51490000000000002,0.12,0.3095,0.19,0.18,1.72,1.72,0.83550000000000002,64.599999999999994,66.7,68.099999999999994,100,3.3166070901483824,3.1271537688096096,3.7683169467382038,13104.14,3019.51,1426.19]
[2013,"enero",-13,6.1543360825525406,3.5,2.000000000000004,1.5948646681225638,2.0000000000000044,-0.30120481927710557,3.2545740477925578,0.31574136440509548,1,-0.4399999999999995,-0.10513533187742108,-0.19999999999999396,-0.20060119754671471,-0.31542595220744385,{"$f":"IF(AND(Inflación!$J$6<>1,Inflación!$J$6<>2,Inflación!$J$6<>3,Inflación!$J$6<>4,Inflación!$J$6<>5,Inflación!$J$6<>6,Inflación!$J$6<>7),LOOKUP(1,'Datos mensuales'!$D$2:$J$2,'Datos mensuales'!$D281:$J281),LOOKUP(Inflación!$J$6,'Datos mensuales'!$D$2:$J$2,'Datos mensuales'!$D281:$J281))","v":6.1543360825525406},{"$f":"IF(AND(Inflación!$J$6<>1,Inflación!$J$6<>2,Inflación!$J$6<>3,Inflación!$J$6<>4,Inflación!$J$6<>5,Inflación!$J$6<>6,Inflación!$J$6<>7),LOOKUP(1,'Datos mensuales'!$K$2:$Q$2,'Datos mensuales'!$K281:$Q281),LOOKUP(Inflación!$J$6,'Datos mensuales'!$K$2:$Q$2,'Datos mensuales'!$K281:$Q281))","v":0.31574136440509548},94.76,112.96,18.199999999999989,1670.9545000000001,47.559952314285695,85.51,157.29,335.5,776.5,303.28522414965983,573.39130434782612,933.82176315157335,94.859813084112133,84.42864069823824,79.914158902322697,79.158404063331588,102.46072141217314,74.091110723453042,115.96705966155558,2.0299999999999998,0.99248400000000003,6.2243620000000002,1770.638385,1.330433,89.19162,12.698509,{"$f":"IF(AND('Tipos de Cambio'!$J$6<>1,'Tipos de Cambio'!$J$6<>2,'Tipos de Cambio'!$J$6<>3,'Tipos de Cambio'!$J$6<>4,'Tipos de Cambio'!$J$6<>5,'Tipos de Cambio'!$J$6<>6,'Tipos de Cambio'!$J$6<>7),LOOKUP(1,'Datos mensuales'!$AM$2:$AS$2,'Datos mensuales'!$AM281:$AS281),LOOKUP('Tipos de Cambio'!$J$6,'Datos mensuales'!$AM$2:$AS$2,'Datos mensuales'!$AM281:$AS281))","v":2.0299999999999998},0.48809999999999998,0.1075,0.30260999999999999,0.2,0.17,1.91,2.02,0.79810000000000003,58.4,56.2,59.9,100,2.4927355100765602,2.8612930861565911,3.7639439762763516,13860.58,3142.13,1498.11]
[null,"febrero",-13,6.3129146440423511,4.6384999999999934,1.8300000000000014,1.9779235097490526,1.7999999999999974,-0.60120240480961362,3.5522890828357099,0.15857856148981053,1.1384999999999934,-0.17000000000000259,0.38305884162648884,-0.20000000000000706,-0.29999758553250805,0.29771503504315211,{"$f":"IF(AND(Inflación!$J$6<>1,Inflación!$J$6<>2,Inflación!$J$6<>3,Inflación!$J$6<>4,Inflación!$J$6<>5,Inflación!$J$6<>6,Inflación!$J$6<>7),LOOKUP(1,'Datos mensuales'!$D$2:$J$2,'Datos mensuales'!$D282:$J282),LOOKUP(Inflación!$J$6,'Datos mensuales'!$D$2:$J$2,'Datos mensuales'!$D282:$J282))","v":6.3129146440423511},{"$f":"IF(AND(Inflación!$J$6<>1,Inflación!$J$6<>2,Inflación!$J$6<>3,Inflación!$J$6<>4,Inflación!$J$6<>5,Inflación!$J$6<>6,Inflación!$J$6<>7),LOOKUP(1,'Datos mensuales'!$K$2:$Q$2,'Datos mensuales'!$K282:$Q282),LOOKUP(Inflación!$J$6,'Datos mensuales'!$K$2:$Q$2,'Datos mensuales'!$K282:$Q282))","v":0.15857856148981053},95.31,116.02,20.709999999999994,1627.5875000000001,45.716470066666695,89.71,149.46,318.92,792.38,302.50420068277316,574.06666666666672,925.41436464088406,92.056074766355138,85.839578743205195,80.051137465158348,80.128037234876871,102.86611817962681,77.3156503102649,116.09205395384517,1.97,1.0090699999999999,6.2350310000000002,1792.3274240000001,1.3356969999999999,93.073352999999997,12.712196,{"$f":"IF(AND('Tipos de Cambio'!$J$6<>1,'Tipos de Cambio'!$J$6<>2,'Tipos de Cambio'!$J$6<>3,'Tipos de Cambio'!$J$6<>4,'Tipos de Cambio'!$J$6<>5,'Tipos de Cambio'!$J$6<>6,'Tipos de Cambio'!$J$6<>7),LOOKUP(1,'Datos mensuales'!$AM$2:$AS$2,'Datos mensuales'!$AM282:$AS282),LOOKUP('Tipos de Cambio'!$J$6,'Datos mensuales'!$AM$2:$AS$2,'Datos mensuales'!$AM282:$AS282))","v":1.97},0.46343000000000001,0.12,0.29049999999999998,0.22,0.16,1.98,1.88,0.74209999999999998,68,61.4,72.400000000000006,100,2.7691828793774409,2.9213058862588293,3.757564154605908,14054.49,3160.19,1514.68]
[null,"marzo",-13,6.5887659233589106,5.8791999999999973,1.9099999999999906,1.4999999999999845,1.6999999999999929,-0.89730807577267346,4.2522667278778821,0.27585127931655951,1.2407000000000039,7.9999999999989191E-2,-0.47792350974906816,-0.10000000000000453,-0.29610567096305984,0.69997764504217219,{"$f":"IF(AND(Inflación!$J$6<>1,Inflación!$J$6<>2,Inflación!$J$6<>3,Inflación!$J$6<>4,Inflación!$J$6<>5,Inflación!$J$6<>6,Inflación!$J$6<>7),LOOKUP(1,'Datos mensuales'!$D$2:$J$2,'Datos mensuales'!$D283:$J283),LOOKUP(Inflación!$J$6,'Datos mensuales'!$D$2:$J$2,'Datos mensuales'!$D283:$J283))","v":6.5887659233589106},{"$f":"IF(AND(Inflación!$J$6<>1,Inflación!$J$6<>2,Inflación!$J$6<>3,Inflación!$J$6<>4,Inflación!$J$6<>5,Inflación!$J$6<>6,Inflación!$J$6<>7),LOOKUP(1,'Datos mensuales'!$K$2:$Q$2,'Datos mensuales'!$K283:$Q283),LOOKUP(Inflación!$J$6,'Datos mensuales'!$K$2:$Q$2,'Datos mensuales'!$K283:$Q283))","v":0.27585127931655951},92.94,108.47,15.530000000000001,1592.8625,45.945441126315799,94.447499999999991,149.78,309.92799364035079,771.87090169632995,309.49114459586463,564.52380952380952,938.56879768481963,92.523364485981304,87.111260452731969,79.817879753133028,81.025215526145615,99.826643593552774,78.716812453792542,114.14793472205733,1.98,1.024019,6.216863,1812.395771,1.29623,94.760086000000001,12.499313000000001,{"$f":"IF(AND('Tipos de Cambio'!$J$6<>1,'Tipos de Cambio'!$J$6<>2,'Tipos de Cambio'!$J$6<>3,'Tipos de Cambio'!$J$6<>4,'Tipos de Cambio'!$J$6<>5,'Tipos de Cambio'!$J$6<>6,'Tipos de Cambio'!$J$6<>7),LOOKUP(1,'Datos mensuales'!$AM$2:$AS$2,'Datos mensuales'!$AM283:$AS283),LOOKUP('Tipos de Cambio'!$J$6,'Datos mensuales'!$AM$2:$AS$2,'Datos mensuales'!$AM283:$AS283))","v":1.98},0.44783000000000001,0.11,0.28189999999999998,0.21,0.16,1.96,1.76,0.69730000000000003,61.9,59.2,63.7,100,3.626101095027745,3.0600585374180644,3.7497401865351776,14578.54,3267.52,1569.19]
[null,"abril ",-13,6.4935139842997422,5.8816000000000059,2.0093234443733143,1.0630853814894485,1.2000000000000044,-0.69721115537848877,4.6494224200790617,-9.52519390591684E-2,2.4000000000086175E-3,9.9323444373323744E-2,-0.43691461851053592,-0.49999999999998845,0.2000969203941847,0.39715569220117963,{"$f":"IF(AND(Inflación!$J$6<>1,Inflación!$J$6<>2,Inflación!$J$6<>3,Inflación!$J$6<>4,Inflación!$J$6<>5,Inflación!$J$6<>6,Inflación!$J$6<>7),LOOKUP(1,'Datos mensuales'!$D$2:$J$2,'Datos mensuales'!$D284:$J284),LOOKUP(Inflación!$J$6,'Datos mensuales'!$D$2:$J$2,'Datos mensuales'!$D284:$J284))","v":6.4935139842997422},{"$f":"IF(AND(Inflación!$J$6<>1,Inflación!$J$6<>2,Inflación!$J$6<>3,Inflación!$J$6<>4,Inflación!$J$6<>5,Inflación!$J$6<>6,Inflación!$J$6<>7),LOOKUP(1,'Datos mensuales'!$K$2:$Q$2,'Datos mensuales'!$K284:$Q284),LOOKUP(Inflación!$J$6,'Datos mensuales'!$K$2:$Q$2,'Datos mensuales'!$K284:$Q284))","v":-9.52519390591684E-2},92.02,102.25,10.230000000000004,1485.0833,44.805895200000002,92.57,149.81,308.74,756.45,280.27060554511269,553.72727272727275,912.2300351582121,93.45794392523365,86.64338638741674,79.443586375839189,81.827068886336207,100.31051667294324,81.347721816565738,111.38599647491803,2,1.018519,6.18771,1830.331862,1.302513,97.927200999999997,12.196878,{"$f":"IF(AND('Tipos de Cambio'!$J$6<>1,'Tipos de Cambio'!$J$6<>2,'Tipos de Cambio'!$J$6<>3,'Tipos de Cambio'!$J$6<>4,'Tipos de Cambio'!$J$6<>5,'Tipos de Cambio'!$J$6<>6,'Tipos de Cambio'!$J$6<>7),LOOKUP(1,'Datos mensuales'!$AM$2:$AS$2,'Datos mensuales'!$AM284:$AS284),LOOKUP('Tipos de Cambio'!$J$6,'Datos mensuales'!$AM$2:$AS$2,'Datos mensuales'!$AM284:$AS284))","v":2},0.43602000000000002,0.09,0.27714,0.21,0.16,1.76,1.55,0.75760000000000005,69,61,74.3,100,2.5978185184190261,2.839169108764561,3.7409695204417392,14839.8,3328.79,1597.57]
[null,"mayo",-13,6.5041351287665918,5.1629999999999967,1.9999999999999998,1.3619650588516832,1.4000000000000072,-0.29970029970029688,4.6314208991424337,1.0621144466849586E-2,-0.71860000000000923,-9.32344437331456E-3,0.29887967736223464,0.20000000000000284,0.39751085567819189,-1.800152093662799E-2,{"$f":"IF(AND(Inflación!$J$6<>1,Inflación!$J$6<>2,Inflación!$J$6<>3,Inflación!$J$6<>4,Inflación!$J$6<>5,Inflación!$J$6<>6,Inflación!$J$6<>7),LOOKUP(1,'Datos mensuales'!$D$2:$J$2,'Datos mensuales'!$D285:$J285),LOOKUP(Inflación!$J$6,'Datos mensuales'!$D$2:$J$2,'Datos mensuales'!$D285:$J285))","v":6.5041351287665918},{"$f":"IF(AND(Inflación!$J$6<>1,Inflación!$J$6<>2,Inflación!$J$6<>3,Inflación!$J$6<>4,Inflación!$J$6<>5,Inflación!$J$6<>6,Inflación!$J$6<>7),LOOKUP(1,'Datos mensuales'!$K$2:$Q$2,'Datos mensuales'!$K285:$Q285),LOOKUP(Inflación!$J$6,'Datos mensuales'!$K$2:$Q$2,'Datos mensuales'!$K285:$Q285))","v":1.0621144466849586E-2},94.51,102.56,8.0499999999999972,1413.5,43.0191509,92.622727272727275,147.19,319.11456958333332,763.38146131468181,295.29292276785714,552.08695652173913,907.99903915445577,95.327102803738313,86.776177553954398,78.868736045686049,82.742021622792478,99.945936829264355,83.919094375358242,112.27905681226656,2.04,1.0200800000000001,6.1429359999999997,1850.797793,1.297779,101.022645,12.294669000000001,{"$f":"IF(AND('Tipos de Cambio'!$J$6<>1,'Tipos de Cambio'!$J$6<>2,'Tipos de Cambio'!$J$6<>3,'Tipos de Cambio'!$J$6<>4,'Tipos de Cambio'!$J$6<>5,'Tipos de Cambio'!$J$6<>6,'Tipos de Cambio'!$J$6<>7),LOOKUP(1,'Datos mensuales'!$AM$2:$AS$2,'Datos mensuales'!$AM285:$AS285),LOOKUP('Tipos de Cambio'!$J$6,'Datos mensuales'!$AM$2:$AS$2,'Datos mensuales'!$AM285:$AS285))","v":2.04},0.42137000000000002,0.08,0.27417000000000002,0.2,0.16,1.93,1.84,1.0538000000000001,74.3,64.8,80.599999999999994,100,2.37240802658365,2.4606717222301011,3.7316954930078694,15115.57,3455.91,1630.74]
[null,"junio",-13,6.6959158358983863,4.959399999999988,2.1600000000000104,1.7544165453768907,1.6000000000000076,0.20080321285140845,4.088026212420238,0.19178070713179451,-0.20360000000000866,0.16000000000001058,{"$f":"G286-G285","v":0.39245148652520756},0.2000000000000004,0.50050351255170533,-0.54339468672219571,{"$f":"IF(AND(Inflación!$J$6<>1,Inflación!$J$6<>2,Inflación!$J$6<>3,Inflación!$J$6<>4,Inflación!$J$6<>5,Inflación!$J$6<>6,Inflación!$J$6<>7),LOOKUP(1,'Datos mensuales'!$D$2:$J$2,'Datos mensuales'!$D286:$J286),LOOKUP(Inflación!$J$6,'Datos mensuales'!$D$2:$J$2,'Datos mensuales'!$D286:$J286))","v":6.6959158358983863},{"$f":"IF(AND(Inflación!$J$6<>1,Inflación!$J$6<>2,Inflación!$J$6<>3,Inflación!$J$6<>4,Inflación!$J$6<>5,Inflación!$J$6<>6,Inflación!$J$6<>7),LOOKUP(1,'Datos mensuales'!$K$2:$Q$2,'Datos mensuales'!$K286:$Q286),LOOKUP(Inflación!$J$6,'Datos mensuales'!$K$2:$Q$2,'Datos mensuales'!$K286:$Q286))","v":0.19178070713179451},95.77,102.92,7.1500000000000057,1342.3625,42.259258469999999,93.079999999999984,138.26,313.51533583333332,763.04360384522772,297.05778191964288,546.25,911.60220994475128,101.4018691588785,87.820812739785453,78.797171840114217,85.323590931197529,101.47010237346561,80.936940214817952,118.24571465100775,2.17,1.0323599999999999,6.1373620000000004,1908.5430919999999,1.3175699999999999,97.432698000000002,12.948024,{"$f":"IF(AND('Tipos de Cambio'!$J$6<>1,'Tipos de Cambio'!$J$6<>2,'Tipos de Cambio'!$J$6<>3,'Tipos de Cambio'!$J$6<>4,'Tipos de Cambio'!$J$6<>5,'Tipos de Cambio'!$J$6<>6,'Tipos de Cambio'!$J$6<>7),LOOKUP(1,'Datos mensuales'!$AM$2:$AS$2,'Datos mensuales'!$AM286:$AS286),LOOKUP('Tipos de Cambio'!$J$6,'Datos mensuales'!$AM$2:$AS$2,'Datos mensuales'!$AM286:$AS286))","v":2.17},0.41399000000000002,0.09,0.27373999999999998,0.21,0.15,2.2999999999999998,2.14,1.024,82.1,68.7,91.1,100,2.5179648792015064,2.2139873224124695,3.7222926638020626,14909.6,3403.25,1606.28]
[null,"julio",-13,6.270692169139731,4.5485999999999933,2.2199999999999944,1.9606816118443984,1.6000000000000041,0.70493454179255066,3.4726191837191811,-0.42522366675865531,-0.41079999999999472,5.9999999999984066E-2,{"$f":"G287-G286","v":0.20626506646750764},-3.5527136788005009E-15,0.50413132894114221,-0.6154070287010569,{"$f":"IF(AND(Inflación!$J$6<>1,Inflación!$J$6<>2,Inflación!$J$6<>3,Inflación!$J$6<>4,Inflación!$J$6<>5,Inflación!$J$6<>6,Inflación!$J$6<>7),LOOKUP(1,'Datos mensuales'!$D$2:$J$2,'Datos mensuales'!$D287:$J287),LOOKUP(Inflación!$J$6,'Datos mensuales'!$D$2:$J$2,'Datos mensuales'!$D287:$J287))","v":6.270692169139731},{"$f":"IF(AND(Inflación!$J$6<>1,Inflación!$J$6<>2,Inflación!$J$6<>3,Inflación!$J$6<>4,Inflación!$J$6<>5,Inflación!$J$6<>6,Inflación!$J$6<>7),LOOKUP(1,'Datos mensuales'!$K$2:$Q$2,'Datos mensuales'!$K287:$Q287),LOOKUP(Inflación!$J$6,'Datos mensuales'!$K$2:$Q$2,'Datos mensuales'!$K287:$Q287))","v":-0.42522366675865531},104.67,107.93,3.2600000000000051,1286.7239,42.3667838,92.62,138.38999999999999,304.67597875000001,729.85747727001296,278.92827187500001,538.26086956521738,925.41436464088395,105.14018691588785,88.532406659123964,78.80247431892677,84.945130180769027,100.71429616605865,82.845516319020447,116.62196692267651,2.25,1.0407249999999999,6.1377750000000004,1900.077571,1.3077559999999999,99.730260999999999,12.770222,{"$f":"IF(AND('Tipos de Cambio'!$J$6<>1,'Tipos de Cambio'!$J$6<>2,'Tipos de Cambio'!$J$6<>3,'Tipos de Cambio'!$J$6<>4,'Tipos de Cambio'!$J$6<>5,'Tipos de Cambio'!$J$6<>6,'Tipos de Cambio'!$J$6<>7),LOOKUP(1,'Datos mensuales'!$AM$2:$AS$2,'Datos mensuales'!$AM287:$AS287),LOOKUP('Tipos de Cambio'!$J$6,'Datos mensuales'!$AM$2:$AS$2,'Datos mensuales'!$AM287:$AS287))","v":2.25},0.40307999999999999,7.0000000000000007E-2,0.26757999999999998,0.22,0.16,2.58,1.95,1.0085,81,73.599999999999994,86,100,1.7778828548064007,2.2805065237601063,3.713042327159255,15499.54,3626.37,1685.73]
[null,"agosto",-13,6.0907620642133873,5.0624999999999858,2.2699999999999885,1.5183675595431958,1.2999999999999841,0.90543259557343203,3.4600000000000004,-0.17993010492634376,0.51389999999999247,4.9999999999994049E-2,{"$f":"G288-G287","v":-0.44231405230120258},-0.30000000000002003,0.20049805378088137,-1.2619183719180693E-2,{"$f":"IF(AND(Inflación!$J$6<>1,Inflación!$J$6<>2,Inflación!$J$6<>3,Inflación!$J$6<>4,Inflación!$J$6<>5,Inflación!$J$6<>6,Inflación!$J$6<>7),LOOKUP(1,'Datos mensuales'!$D$2:$J$2,'Datos mensuales'!$D288:$J288),LOOKUP(Inflación!$J$6,'Datos mensuales'!$D$2:$J$2,'Datos mensuales'!$D288:$J288))","v":6.0907620642133873},{"$f":"IF(AND(Inflación!$J$6<>1,Inflación!$J$6<>2,Inflación!$J$6<>3,Inflación!$J$6<>4,Inflación!$J$6<>5,Inflación!$J$6<>6,Inflación!$J$6<>7),LOOKUP(1,'Datos mensuales'!$K$2:$Q$2,'Datos mensuales'!$K288:$Q288),LOOKUP(Inflación!$J$6,'Datos mensuales'!$K$2:$Q$2,'Datos mensuales'!$K288:$Q288))","v":-0.17993010492634376},106.57,111.28,4.710000000000008,1347.0952,45.056420200000005,92.71,135.15,305.490185,722.83532397894282,234.8895558035714,503.8235294117647,937.60155996100093,109.29794392523364,88.510799384107585,78.600415211052777,85.13267962754594,102.54227824665898,81.270040953306577,117.77991981808384,2.3389760000000002,1.0404709999999999,6.1220369999999997,1904.2727319999999,1.3314919999999999,97.833687999999995,12.897019,{"$f":"IF(AND('Tipos de Cambio'!$J$6<>1,'Tipos de Cambio'!$J$6<>2,'Tipos de Cambio'!$J$6<>3,'Tipos de Cambio'!$J$6<>4,'Tipos de Cambio'!$J$6<>5,'Tipos de Cambio'!$J$6<>6,'Tipos de Cambio'!$J$6<>7),LOOKUP(1,'Datos mensuales'!$AM$2:$AS$2,'Datos mensuales'!$AM288:$AS288),LOOKUP('Tipos de Cambio'!$J$6,'Datos mensuales'!$AM$2:$AS$2,'Datos mensuales'!$AM288:$AS288))","v":2.3389760000000002},0.39498,7.0000000000000007E-2,0.26334000000000002,0.23,0.16,2.74,2.17,0.93369999999999997,81.8,70.900000000000006,89,100,2.9697903301872275,2.7875166694589781,3.704116718135797,14810.31,3589.87,1632.97]
[null,"septiembre",-13,5.858620748231905,5.0588999999999942,2.2699999999999996,1.1849252615521526,1.0999999999999894,1.0040160642570282,3.3902953386985506,-0.23214131598148224,-3.5999999999916099E-3,1.1102230246251565E-14,{"$f":"G289-G288","v":-0.33344229799104319},-0.19999999999999463,9.8583468683596132E-2,-6.9704661301449811E-2,{"$f":"IF(AND(Inflación!$J$6<>1,Inflación!$J$6<>2,Inflación!$J$6<>3,Inflación!$J$6<>4,Inflación!$J$6<>5,Inflación!$J$6<>6,Inflación!$J$6<>7),LOOKUP(1,'Datos mensuales'!$D$2:$J$2,'Datos mensuales'!$D289:$J289),LOOKUP(Inflación!$J$6,'Datos mensuales'!$D$2:$J$2,'Datos mensuales'!$D289:$J289))","v":5.858620748231905},{"$f":"IF(AND(Inflación!$J$6<>1,Inflación!$J$6<>2,Inflación!$J$6<>3,Inflación!$J$6<>4,Inflación!$J$6<>5,Inflación!$J$6<>6,Inflación!$J$6<>7),LOOKUP(1,'Datos mensuales'!$K$2:$Q$2,'Datos mensuales'!$K289:$Q289),LOOKUP(Inflación!$J$6,'Datos mensuales'!$K$2:$Q$2,'Datos mensuales'!$K289:$Q289))","v":-0.23214131598148224},107.43800000000002,112.57533333333332,5.1373333333333022,1350.3815789473683,46.417171789999998,90.09,132.28,307.50774633333339,725.79697726996051,207.40651593749993,470,939.2265193370165,106.13514018691588,88.099240342653957,78.575944207138193,85.839292283022445,102.85387310249436,82.33866806223574,119.40441639802377,2.2712919999999999,1.035633,6.1201309999999998,1920.0784510000001,1.3355379999999999,99.120112000000006,13.074903000000001,{"$f":"IF(AND('Tipos de Cambio'!$J$6<>1,'Tipos de Cambio'!$J$6<>2,'Tipos de Cambio'!$J$6<>3,'Tipos de Cambio'!$J$6<>4,'Tipos de Cambio'!$J$6<>5,'Tipos de Cambio'!$J$6<>6,'Tipos de Cambio'!$J$6<>7),LOOKUP(1,'Datos mensuales'!$AM$2:$AS$2,'Datos mensuales'!$AM289:$AS289),LOOKUP('Tipos de Cambio'!$J$6,'Datos mensuales'!$AM$2:$AS$2,'Datos mensuales'!$AM289:$AS289))","v":2.2712919999999999},0.38034000000000001,0.05,0.24110999999999999,0.22,0.15,2.81,2.0499999999999998,0.87719999999999998,79.7,73.2,84.1,100,3.4205973107155563,3.336513926264173,3.6955861118140421,15618.76,3930.62,1763.31]
[null,"octubre",-13,5.8374848715134142,4.9544000000000068,1.8399999999999965,0.96361270464340487,0.69999999999999329,1.1044176706827395,3.3600000000000021,-2.113587671849082E-2,-0.10449999999998738,-0.43000000000000305,{"$f":"G290-G289","v":-0.22131255690874774},-0.39999999999999614,0.10040160642571139,-3.0295338698548502E-2,{"$f":"IF(AND(Inflación!$J$6<>1,Inflación!$J$6<>2,Inflación!$J$6<>3,Inflación!$J$6<>4,Inflación!$J$6<>5,Inflación!$J$6<>6,Inflación!$J$6<>7),LOOKUP(1,'Datos mensuales'!$D$2:$J$2,'Datos mensuales'!$D290:$J290),LOOKUP(Inflación!$J$6,'Datos mensuales'!$D$2:$J$2,'Datos mensuales'!$D290:$J290))","v":5.8374848715134142},{"$f":"IF(AND(Inflación!$J$6<>1,Inflación!$J$6<>2,Inflación!$J$6<>3,Inflación!$J$6<>4,Inflación!$J$6<>5,Inflación!$J$6<>6,Inflación!$J$6<>7),LOOKUP(1,'Datos mensuales'!$K$2:$Q$2,'Datos mensuales'!$K290:$Q290),LOOKUP(Inflación!$J$6,'Datos mensuales'!$K$2:$Q$2,'Datos mensuales'!$K290:$Q290))","v":-2.113587671849082E-2},101.04949999999999,109.23899999999999,8.1894999999999953,1316.1847826086957,47.967738547826102,89.35,128.69999999999999,325.68667541666662,762.62087950889315,201.75225616071427,453.26086956521738,936.82440547681949,{"$f":"+AM290/$AM$209 *100","v":102.25556074766355},88.124930882240363,78.375708227572645,84.239125886419004,105.07030907652866,81.236988395178628,118.57384864065168,2.188269,1.0359350000000001,6.1045350000000003,1884.2854600000001,1.3643179999999999,97.793898999999996,12.983955,{"$f":"IF(AND('Tipos de Cambio'!$J$6<>1,'Tipos de Cambio'!$J$6<>2,'Tipos de Cambio'!$J$6<>3,'Tipos de Cambio'!$J$6<>4,'Tipos de Cambio'!$J$6<>5,'Tipos de Cambio'!$J$6<>6,'Tipos de Cambio'!$J$6<>7),LOOKUP(1,'Datos mensuales'!$AM$2:$AS$2,'Datos mensuales'!$AM290:$AS290),LOOKUP('Tipos de Cambio'!$J$6,'Datos mensuales'!$AM$2:$AS$2,'Datos mensuales'!$AM290:$AS290))","v":2.188269},0.36121999999999999,0.05,0.24177000000000001,0.23,0.15,2.62,1.95,0.75680000000000003,72.400000000000006,72.599999999999994,72.2,100,3.6048302814375877,3.4717775885761082,3.6874561604675504,15545.75,3919.71,1756.54]
[null,"noviembre",-13,5.7744067237047618,5.0600000000000023,1.7661975543322859,1.1999999999999957,0.89999999999999181,0.91185410334344708,3.6186915887850466,-6.3078147808652396E-2,0.10559999999999548,-7.3802445667710659E-2,{"$f":"G291-G290","v":0.23638729535659087},0.19999999999999851,-0.19256356733929247,0.2586915887850445,{"$f":"IF(AND(Inflación!$J$6<>1,Inflación!$J$6<>2,Inflación!$J$6<>3,Inflación!$J$6<>4,Inflación!$J$6<>5,Inflación!$J$6<>6,Inflación!$J$6<>7),LOOKUP(1,'Datos mensuales'!$D$2:$J$2,'Datos mensuales'!$D291:$J291),LOOKUP(Inflación!$J$6,'Datos mensuales'!$D$2:$J$2,'Datos mensuales'!$D291:$J291))","v":5.7744067237047618},{"$f":"IF(AND(Inflación!$J$6<>1,Inflación!$J$6<>2,Inflación!$J$6<>3,Inflación!$J$6<>4,Inflación!$J$6<>5,Inflación!$J$6<>6,Inflación!$J$6<>7),LOOKUP(1,'Datos mensuales'!$K$2:$Q$2,'Datos mensuales'!$K291:$Q291),LOOKUP(Inflación!$J$6,'Datos mensuales'!$K$2:$Q$2,'Datos mensuales'!$K291:$Q291))","v":-6.3078147808652396E-2},94.074705882352916,107.14176470588234,13.067058823529422,1275.8214285714287,45.940973870000001,84.65,122.02,306.7516003508772,810.30066850908759,199.13582391917294,448.8095238095238,922.12575637989994,{"$f":"+AM291/$AM$209 *100","v":107.39714953271027},89.221967963386746,78.239525678505444,85.939084653769058,103.89493569794243,83.19081416502604,119.32111122272855,2.2982990000000001,1.0488310000000001,6.093928,1922.3106359999999,1.349056,100.145934,13.065780999999999,{"$f":"IF(AND('Tipos de Cambio'!$J$6<>1,'Tipos de Cambio'!$J$6<>2,'Tipos de Cambio'!$J$6<>3,'Tipos de Cambio'!$J$6<>4,'Tipos de Cambio'!$J$6<>5,'Tipos de Cambio'!$J$6<>6,'Tipos de Cambio'!$J$6<>7),LOOKUP(1,'Datos mensuales'!$AM$2:$AS$2,'Datos mensuales'!$AM291:$AS291),LOOKUP('Tipos de Cambio'!$J$6,'Datos mensuales'!$AM$2:$AS$2,'Datos mensuales'!$AM291:$AS291))","v":2.2982990000000001},0.35064000000000001,0.05,0.23824999999999999,0.22,0.14000000000000001,2.72,1.99,0.7903,70.400000000000006,72,69.3,100,3.1704757901764413,3.3109803531270465,3.679707167827484,16086.41,4059.89,1805.81]
[null,"diciembre",-13,5.9106832553310751,5.0624999999999858,1.9400000000000119,1.4999999999999842,0.79999999999999638,1.6112789526686895,3.970000000000002,0.13627653162631326,2.4999999999835154E-3,0.17380244566772607,0.2999999999999885,-9.9999999999995426E-2,0.6994248493252424,0.35130841121495537,{"$f":"IF(AND(Inflación!$J$6<>1,Inflación!$J$6<>2,Inflación!$J$6<>3,Inflación!$J$6<>4,Inflación!$J$6<>5,Inflación!$J$6<>6,Inflación!$J$6<>7),LOOKUP(1,'Datos mensuales'!$D$2:$J$2,'Datos mensuales'!$D292:$J292),LOOKUP(Inflación!$J$6,'Datos mensuales'!$D$2:$J$2,'Datos mensuales'!$D292:$J292))","v":5.9106832553310751},{"$f":"IF(AND(Inflación!$J$6<>1,Inflación!$J$6<>2,Inflación!$J$6<>3,Inflación!$J$6<>4,Inflación!$J$6<>5,Inflación!$J$6<>6,Inflación!$J$6<>7),LOOKUP(1,'Datos mensuales'!$K$2:$Q$2,'Datos mensuales'!$K292:$Q292),LOOKUP(Inflación!$J$6,'Datos mensuales'!$K$2:$Q$2,'Datos mensuales'!$K292:$Q292))","v":0.13627653162631326},97.625238095238103,110.75666666666666,13.131428571428557,1225.4028000000001,43.545444276190501,87.49,125.97,291.55662075396822,795.27480961498236,197.4972083333333,447.54545454545456,925.41436464088406,109.66985981308413,90.517128444191115,77.979010914375877,86.402874981638305,105.55225682932597,86.023316802485439,118.74049552058885,2.3469350000000002,1.0640559999999999,6.0736369999999997,1932.6848339999999,1.370576,103.555729,13.002203,{"$f":"IF(AND('Tipos de Cambio'!$J$6<>1,'Tipos de Cambio'!$J$6<>2,'Tipos de Cambio'!$J$6<>3,'Tipos de Cambio'!$J$6<>4,'Tipos de Cambio'!$J$6<>5,'Tipos de Cambio'!$J$6<>6,'Tipos de Cambio'!$J$6<>7),LOOKUP(1,'Datos mensuales'!$AM$2:$AS$2,'Datos mensuales'!$AM292:$AS292),LOOKUP('Tipos de Cambio'!$J$6,'Datos mensuales'!$AM$2:$AS$2,'Datos mensuales'!$AM292:$AS292))","v":2.3469350000000002},0.34639999999999999,0.05,0.24390000000000001,0.27,0.15,2.9,2.2400000000000002,0.94679999999999997,77.5,75.3,79,100,3.2535526159270578,3.176860076283039,3.6723049271740305,16576.66,4176.59,1848.36]
[2014,"enero",null,5.58534061385354,2.5,2.1300000000000066,1.6000000000000034,0.79999999999999738,1.4098690835851013,4.4828098590241261,{"$f":"D293-D292","v":-0.32534264147753511},{"$f":"E293-E292","v":-2.5624999999999858},{"$f":"F293-F292","v":0.18999999999999462},{"$f":"G293-G292","v":0.10000000000001918},{"$f":"H293-H292","v":9.9920072216264089E-16},{"$f":"I293-I292","v":-0.20140986908358816},{"$f":"J293-J292","v":0.51280985902412413},{"$f":"IF(AND(Inflación!$J$6<>1,Inflación!$J$6<>2,Inflación!$J$6<>3,Inflación!$J$6<>4,Inflación!$J$6<>5,Inflación!$J$6<>6,Inflación!$J$6<>7),LOOKUP(1,'Datos mensuales'!$D$2:$J$2,'Datos mensuales'!$D293:$J293),LOOKUP(Inflación!$J$6,'Datos mensuales'!$D$2:$J$2,'Datos mensuales'!$D293:$J293))","v":5.58534061385354},{"$f":"IF(AND(Inflación!$J$6<>1,Inflación!$J$6<>2,Inflación!$J$6<>3,Inflación!$J$6<>4,Inflación!$J$6<>5,Inflación!$J$6<>6,Inflación!$J$6<>7),LOOKUP(1,'Datos mensuales'!$K$2:$Q$2,'Datos mensuales'!$K293:$Q293),LOOKUP(Inflación!$J$6,'Datos mensuales'!$K$2:$Q$2,'Datos mensuales'!$K293:$Q293))","v":-0.32534264147753511},94.62,108.12,13.5,1300.9749999999999,44.687647400000003,90.96,132.72999999999999,275.5337575396826,769.33728277542139,198.71574829931973,441.04347826086956,928.41700696613009,{"$f":"+AM293/$AM$209 *100","v":111.1657476635514},{"$f":"+AN293/$AN$209 *100","v":92.895970328277457},{"$f":"+AO293/$AO$209 *100","v":77.687926653750708},{"$f":"+AP293/$AP$209 *100","v":87.681965292486296},{"$f":"+AQ293/$AQ$209 *100","v":104.89418019978729},{"$f":"+AR293/$AR$209 *100","v":86.271012867479087},{"$f":"+AS293/$AS$209 *100","v":120.65403055679855},2.3789470000000001,1.09202,6.0509649999999997,1961.295901,1.362031,103.853908,13.211736999999999,{"$f":"IF(AND('Tipos de Cambio'!$J$6<>1,'Tipos de Cambio'!$J$6<>2,'Tipos de Cambio'!$J$6<>3,'Tipos de Cambio'!$J$6<>4,'Tipos de Cambio'!$J$6<>5,'Tipos de Cambio'!$J$6<>6,'Tipos de Cambio'!$J$6<>7),LOOKUP(1,'Datos mensuales'!$AM$2:$AS$2,'Datos mensuales'!$AM293:$AS293),LOOKUP('Tipos de Cambio'!$J$6,'Datos mensuales'!$AM$2:$AS$2,'Datos mensuales'!$AM293:$AS293))","v":2.3789470000000001},0.33795999999999998,7.0000000000000007E-2,0.23823,0.28999999999999998,0.14000000000000001,2.86,1.89,0.82289999999999996,79.400000000000006,77.3,80.8,100,3.0070603728949985,3.2000542436836588,3.6651904806281443,15698.85,4103.88,1782.59]
[null,"febrero",null,5.679517624013755,2,2.3200000000000158,1.0999999999999943,0.6999999999999913,1.5120967741935483,4.2344373798610153,{"$f":"D294-D293","v":9.4177010160215069E-2},{"$f":"E294-E293","v":-0.5},{"$f":"F294-F293","v":0.19000000000000927},{"$f":"G294-G293","v":-0.5000000000000091},{"$f":"H294-H293","v":-0.10000000000000608},{"$f":"I294-I293","v":0.10222769060844694},{"$f":"J294-J293","v":-0.24837247916311078},{"$f":"IF(AND(Inflación!$J$6<>1,Inflación!$J$6<>2,Inflación!$J$6<>3,Inflación!$J$6<>4,Inflación!$J$6<>5,Inflación!$J$6<>6,Inflación!$J$6<>7),LOOKUP(1,'Datos mensuales'!$D$2:$J$2,'Datos mensuales'!$D294:$J294),LOOKUP(Inflación!$J$6,'Datos mensuales'!$D$2:$J$2,'Datos mensuales'!$D294:$J294))","v":5.679517624013755},{"$f":"IF(AND(Inflación!$J$6<>1,Inflación!$J$6<>2,Inflación!$J$6<>3,Inflación!$J$6<>4,Inflación!$J$6<>5,Inflación!$J$6<>6,Inflación!$J$6<>7),LOOKUP(1,'Datos mensuales'!$K$2:$Q$2,'Datos mensuales'!$K294:$Q294),LOOKUP(Inflación!$J$6,'Datos mensuales'!$K$2:$Q$2,'Datos mensuales'!$K294:$Q294))","v":9.4177010160215069E-2},100.32187500000001,108.8673333,{"$f":"IF(OR(T294=\"\",U294=\"n.d.\"),\"\",U294-T294)","v":8.5454582999999928},1327.125,47.531607199999996,94.05,173.64,292.26686017543858,811.20466811742301,209.32493937969923,447,946.13259668508294,{"$f":"+AM294/$AM$209 *100","v":111.26308411214953},{"$f":"+AN294/$AN$209 *100","v":94.040050019990986},{"$f":"+AO294/$AO$209 *100","v":78.040573592114853},{"$f":"+AP294/$AP$209 *100","v":91.128767897691077},{"$f":"+AQ294/$AQ$209 *100","v":105.18321022795098},{"$f":"+AR294/$AR$209 *100","v":84.848420431795716},{"$f":"+AS294/$AS$209 *100","v":121.33987817462852},2.38103,1.105469,6.0784320000000003,2038.394992,1.3657840000000001,102.14137700000001,13.286837999999999,{"$f":"IF(AND('Tipos de Cambio'!$J$6<>1,'Tipos de Cambio'!$J$6<>2,'Tipos de Cambio'!$J$6<>3,'Tipos de Cambio'!$J$6<>4,'Tipos de Cambio'!$J$6<>5,'Tipos de Cambio'!$J$6<>6,'Tipos de Cambio'!$J$6<>7),LOOKUP(1,'Datos mensuales'!$AM$2:$AS$2,'Datos mensuales'!$AM294:$AS294),LOOKUP('Tipos de Cambio'!$J$6,'Datos mensuales'!$AM$2:$AS$2,'Datos mensuales'!$AM294:$AS294))","v":2.38103},0.33079999999999998,0.08,0.23519999999999999,0.28999999999999998,0.14000000000000001,2.71,1.88,0.80759999999999998,78.3,81.7,76.5,100,3.4444356941070398,3.4187049774859535,3.6582710342459857,16321.71,4308.12,1859.45]
[null,"marzo",null,6.1528910091982958,2.3089999999999975,2.5099999999999905,1.4999999999999936,0.4999999999999844,1.609657947686111,3.7586466303370663,{"$f":"D295-D294","v":0.47337338518454075},{"$f":"E295-E294","v":0.3089999999999975},{"$f":"F295-F294","v":0.18999999999997463},{"$f":"G295-G294","v":0.39999999999999925},{"$f":"H295-H294","v":-0.20000000000000689},{"$f":"I295-I294","v":9.7561173492562769E-2},{"$f":"J295-J294","v":-0.47579074952394906},{"$f":"IF(AND(Inflación!$J$6<>1,Inflación!$J$6<>2,Inflación!$J$6<>3,Inflación!$J$6<>4,Inflación!$J$6<>5,Inflación!$J$6<>6,Inflación!$J$6<>7),LOOKUP(1,'Datos mensuales'!$D$2:$J$2,'Datos mensuales'!$D295:$J295),LOOKUP(Inflación!$J$6,'Datos mensuales'!$D$2:$J$2,'Datos mensuales'!$D295:$J295))","v":6.1528910091982958},{"$f":"IF(AND(Inflación!$J$6<>1,Inflación!$J$6<>2,Inflación!$J$6<>3,Inflación!$J$6<>4,Inflación!$J$6<>5,Inflación!$J$6<>6,Inflación!$J$6<>7),LOOKUP(1,'Datos mensuales'!$K$2:$Q$2,'Datos mensuales'!$K295:$Q295),LOOKUP(Inflación!$J$6,'Datos mensuales'!$K$2:$Q$2,'Datos mensuales'!$K295:$Q295))","v":0.47337338518454075},100.75375,107.81375,7.0600000000000023,1292.875,48.567778599999997,96.95,214.09,323.55423047619041,860.51868173511957,222.33199017857137,434.14285714285717,966.85082872928183,{"$f":"+AM295/$AM$209 *100","v":108.61341121495325},{"$f":"+AN295/$AN$209 *100","v":94.483679701921687},{"$f":"+AO295/$AO$209 *100","v":79.254751367667211},{"$f":"+AP295/$AP$209 *100","v":90.204720368042103},{"$f":"+AQ295/$AQ$209 *100","v":106.49143114146453},{"$f":"+AR295/$AR$209 *100","v":85.009307947267416},120.49157541940257,2.3243269999999998,1.110684,6.1730020000000003,2017.7256259999999,1.382771,102.335055,13.193948000000001,{"$f":"IF(AND('Tipos de Cambio'!$J$6<>1,'Tipos de Cambio'!$J$6<>2,'Tipos de Cambio'!$J$6<>3,'Tipos de Cambio'!$J$6<>4,'Tipos de Cambio'!$J$6<>5,'Tipos de Cambio'!$J$6<>6,'Tipos de Cambio'!$J$6<>7),LOOKUP(1,'Datos mensuales'!$AM$2:$AS$2,'Datos mensuales'!$AM295:$AS295),LOOKUP('Tipos de Cambio'!$J$6,'Datos mensuales'!$AM$2:$AS$2,'Datos mensuales'!$AM295:$AS295))","v":2.3243269999999998},0.33106999999999998,0.08,0.2341,0.31,0.14000000000000001,2.72,1.82,0.83889999999999998,83.9,82.5,84.8,100,3.8440816982952652,3.6894573913653028,3.6514230509008927,16323.06,4198.99,1872.34]
[null,"abril ",null,6.279552187877445,1.7999999999999972,2.7199999999999842,2.0000000000000013,0.69999999999999074,3.4102306920762202,3.499999999999996,{"$f":"D296-D295","v":0.12666117867914917},{"$f":"E296-E295","v":-0.50900000000000034},{"$f":"F296-F295","v":0.20999999999999375},{"$f":"G296-G295","v":0.50000000000000777},{"$f":"H296-H295","v":0.20000000000000634},{"$f":"I296-I295","v":1.8005727443901092},{"$f":"J296-J295","v":-0.25864663033707025},{"$f":"IF(AND(Inflación!$J$6<>1,Inflación!$J$6<>2,Inflación!$J$6<>3,Inflación!$J$6<>4,Inflación!$J$6<>5,Inflación!$J$6<>6,Inflación!$J$6<>7),LOOKUP(1,'Datos mensuales'!$D$2:$J$2,'Datos mensuales'!$D296:$J296),LOOKUP(Inflación!$J$6,'Datos mensuales'!$D$2:$J$2,'Datos mensuales'!$D296:$J296))","v":6.279552187877445},{"$f":"IF(AND(Inflación!$J$6<>1,Inflación!$J$6<>2,Inflación!$J$6<>3,Inflación!$J$6<>4,Inflación!$J$6<>5,Inflación!$J$6<>6,Inflación!$J$6<>7),LOOKUP(1,'Datos mensuales'!$K$2:$Q$2,'Datos mensuales'!$K296:$Q296),LOOKUP(Inflación!$J$6,'Datos mensuales'!$K$2:$Q$2,'Datos mensuales'!$K296:$Q296))","v":0.12666117867914917},102.46285714285713,107.06285714285715,4.6000000000000227,1290.25,53.484081199999999,94.2,223.48,324.93211797619045,825.32497165707855,222.36011033163265,409.94117647058823,945.50477147162212,{"$f":"+AM296/$AM$209 *100","v":104.35850467289718},{"$f":"+AN296/$AN$209 *100","v":93.542146946483712},{"$f":"+AO296/$AO$209 *100","v":79.935831019115895},{"$f":"+AP296/$AP$209 *100","v":86.605270845091653},{"$f":"+AQ296/$AQ$209 *100","v":106.34772476455181},{"$f":"+AR296/$AR$209 *100","v":85.094166853573242},{"$f":"+AS296/$AS$209 *100","v":119.3191386380033},2.2332719999999999,1.0996159999999999,6.2260499999999999,1937.212084,1.380905,102.437209,13.065564999999999,{"$f":"IF(AND('Tipos de Cambio'!$J$6<>1,'Tipos de Cambio'!$J$6<>2,'Tipos de Cambio'!$J$6<>3,'Tipos de Cambio'!$J$6<>4,'Tipos de Cambio'!$J$6<>5,'Tipos de Cambio'!$J$6<>6,'Tipos de Cambio'!$J$6<>7),LOOKUP(1,'Datos mensuales'!$AM$2:$AS$2,'Datos mensuales'!$AM296:$AS296),LOOKUP('Tipos de Cambio'!$J$6,'Datos mensuales'!$AM$2:$AS$2,'Datos mensuales'!$AM296:$AS296))","v":2.2332719999999999},0.32382,0.05,0.22735,0.33,0.14000000000000001,2.71,1.72,0.8054,82.3,80.3,83.5,100,3.7628182923980402,3.9046172037602078,3.6445076125455556,16580.84,4114.5600000000004,1883.95]
[null,"mayo",null,6.3748556504095752,2.519999999999996,2.9300000000000148,2.0999999999999956,0.4999999999999849,3.7074148296593217,3.5102243563208901,null,null,null,null,null,null,null,null,null,101.05846153846154,109.15461538461538,8.0961538461538396,1252.25,56.394179600000001,92.71,214.2,334.74792607142859,800.2873392835894,216.92354740646255,403.59090909090907,915.99698643897534,{"$f":"+AM297/$AM$209 *100","v":104.95457943925233},{"$f":"+AN297/$AN$209 *100","v":92.669264076629275},{"$f":"+AO297/$AO$209 *100","v":80.102878360108932},{"$f":"+AP297/$AP$209 *100","v":85.625552415865343},{"$f":"+AQ297/$AQ$209 *100","v":105.75210572969492},{"$f":"+AR297/$AR$209 *100","v":84.570560138227805},{"$f":"+AS297/$AS$209 *100","v":118.06349713701243},2.2460279999999999,1.0893550000000001,6.2390610000000004,1915.2974549999999,1.3731709999999999,101.80688600000001,12.928070999999999,{"$f":"IF(AND('Tipos de Cambio'!$J$6<>1,'Tipos de Cambio'!$J$6<>2,'Tipos de Cambio'!$J$6<>3,'Tipos de Cambio'!$J$6<>4,'Tipos de Cambio'!$J$6<>5,'Tipos de Cambio'!$J$6<>6,'Tipos de Cambio'!$J$6<>7),LOOKUP(1,'Datos mensuales'!$AM$2:$AS$2,'Datos mensuales'!$AM297:$AS297),LOOKUP('Tipos de Cambio'!$J$6,'Datos mensuales'!$AM$2:$AS$2,'Datos mensuales'!$AM297:$AS297))","v":2.2460279999999999},0.32312000000000002,0.05,0.22609000000000001,0.32,0.14000000000000001,2.56,1.56,0.75439999999999996,85.2,85.1,85.2,100,"","","",16717.169999999998,4242.62,1923.57]
[null,"junio",null,"","","","","","","",null,null,null,null,null,null,null,null,null,102.18,109.54,7.3599999999999994,"","","","","","","","","",null,null,null,null,null,null,null,"","","","","","","",{"$f":"IF(AND('Tipos de Cambio'!$J$6<>1,'Tipos de Cambio'!$J$6<>2,'Tipos de Cambio'!$J$6<>3,'Tipos de Cambio'!$J$6<>4,'Tipos de Cambio'!$J$6<>5,'Tipos de Cambio'!$J$6<>6,'Tipos de Cambio'!$J$6<>7),LOOKUP(1,'Datos mensuales'!$AM$2:$AS$2,'Datos mensuales'!$AM298:$AS298),LOOKUP('Tipos de Cambio'!$J$6,'Datos mensuales'!$AM$2:$AS$2,'Datos mensuales'!$AM298:$AS298))","v":""},"","","","","","","","","","","","","","",""]
[null,"julio",null,"","","","","","","",null,null,null,null,null,null,null,null,null,"","","","","","","","","","","","",null,null,null,null,null,null,null,"","","","","","","",{"$f":"IF(AND('Tipos de Cambio'!$J$6<>1,'Tipos de Cambio'!$J$6<>2,'Tipos de Cambio'!$J$6<>3,'Tipos de Cambio'!$J$6<>4,'Tipos de Cambio'!$J$6<>5,'Tipos de Cambio'!$J$6<>6,'Tipos de Cambio'!$J$6<>7),LOOKUP(1,'Datos mensuales'!$AM$2:$AS$2,'Datos mensuales'!$AM299:$AS299),LOOKUP('Tipos de Cambio'!$J$6,'Datos mensuales'!$AM$2:$AS$2,'Datos mensuales'!$AM299:$AS299))","v":""},"","","","","","","","","","","","","","",""]
[null,"agosto",null,"","","","","","","",null,null,null,null,null,null,null,null,null,"","","","","","","","","","","","",null,null,null,null,null,null,null,"","","","","","","",{"$f":"IF(AND('Tipos de Cambio'!$J$6<>1,'Tipos de Cambio'!$J$6<>2,'Tipos de Cambio'!$J$6<>3,'Tipos de Cambio'!$J$6<>4,'Tipos de Cambio'!$J$6<>5,'Tipos de Cambio'!$J$6<>6,'Tipos de Cambio'!$J$6<>7),LOOKUP(1,'Datos mensuales'!$AM$2:$AS$2,'Datos mensuales'!$AM300:$AS300),LOOKUP('Tipos de Cambio'!$J$6,'Datos mensuales'!$AM$2:$AS$2,'Datos mensuales'!$AM300:$AS300))","v":""},"","","","","","","","","","","","","","",""]
[null,"septiembre",null,"","","","","","","",null,null,null,null,null,null,null,null,null,"","","","","","","","","","","","",null,null,null,null,null,null,null,"","","","","","","",{"$f":"IF(AND('Tipos de Cambio'!$J$6<>1,'Tipos de Cambio'!$J$6<>2,'Tipos de Cambio'!$J$6<>3,'Tipos de Cambio'!$J$6<>4,'Tipos de Cambio'!$J$6<>5,'Tipos de Cambio'!$J$6<>6,'Tipos de Cambio'!$J$6<>7),LOOKUP(1,'Datos mensuales'!$AM$2:$AS$2,'Datos mensuales'!$AM301:$AS301),LOOKUP('Tipos de Cambio'!$J$6,'Datos mensuales'!$AM$2:$AS$2,'Datos mensuales'!$AM301:$AS301))","v":""},"","","","","","","","","","","","","","",""]
[null,"octubre",null,"","","","","","","",null,null,null,null,null,null,null,null,null,"","","","","","","","","","","","",null,null,null,null,null,null,null,"","","","","","","",{"$f":"IF(AND('Tipos de Cambio'!$J$6<>1,'Tipos de Cambio'!$J$6<>2,'Tipos de Cambio'!$J$6<>3,'Tipos de Cambio'!$J$6<>4,'Tipos de Cambio'!$J$6<>5,'Tipos de Cambio'!$J$6<>6,'Tipos de Cambio'!$J$6<>7),LOOKUP(1,'Datos mensuales'!$AM$2:$AS$2,'Datos mensuales'!$AM302:$AS302),LOOKUP('Tipos de Cambio'!$J$6,'Datos mensuales'!$AM$2:$AS$2,'Datos mensuales'!$AM302:$AS302))","v":""},"","","","","","","","","","","","","","",""]
[null,"noviembre",null,"","","","","","","",null,null,null,null,null,null,null,null,null,"","","","","","","","","","","","",null,null,null,null,null,null,null,"","","","","","","",{"$f":"IF(AND('Tipos de Cambio'!$J$6<>1,'Tipos de Cambio'!$J$6<>2,'Tipos de Cambio'!$J$6<>3,'Tipos de Cambio'!$J$6<>4,'Tipos de Cambio'!$J$6<>5,'Tipos de Cambio'!$J$6<>6,'Tipos de Cambio'!$J$6<>7),LOOKUP(1,'Datos mensuales'!$AM$2:$AS$2,'Datos mensuales'!$AM303:$AS303),LOOKUP('Tipos de Cambio'!$J$6,'Datos mensuales'!$AM$2:$AS$2,'Datos mensuales'!$AM303:$AS303))","v":""},"","","","","","","","","","","","","","",""]
[null,"diciembre",null,"","","","","","","",null,null,null,null,null,null,null,null,null,"","","","","","","","","","","","",null,null,null,null,null,null,null,"","","","","","","",{"$f":"IF(AND('Tipos de Cambio'!$J$6<>1,'Tipos de Cambio'!$J$6<>2,'Tipos de Cambio'!$J$6<>3,'Tipos de Cambio'!$J$6<>4,'Tipos de Cambio'!$J$6<>5,'Tipos de Cambio'!$J$6<>6,'Tipos de Cambio'!$J$6<>7),LOOKUP(1,'Datos mensuales'!$AM$2:$AS$2,'Datos mensuales'!$AM304:$AS304),LOOKUP('Tipos de Cambio'!$J$6,'Datos mensuales'!$AM$2:$AS$2,'Datos mensuales'!$AM304:$AS304))","v":""},"","","","","","","","","","","","","","",""]
[2015,"enero",null,null,null,null,null,null,null,null,null,null,null,null,null,null,null,null,null,"","","","","","","",null,null,"","","",null,null,null,null,null,null,null,"","","","","","","",null,"","","","","","","",""]
[null,"febrero",null,null,null,null,null,null,null,null,null,null,null,null,null,null,null,null,null,"","","","","","","",null,null,"","","",null,null,null,null,null,null,null,"","","","","","","",null,"","","","","","","",""]
[null,"marzo",null,null,null,null,null,null,null,null,null,null,null,null,null,null,null,null,null,"","","","","","","",null,null,"","","",null,null,null,null,null,null,null,"","","","","","","",null,"","","","","","","",""]
[null,"abril ",null,null,null,null,null,null,null,null,null,null,null,null,null,null,null,null,null,"","","","","","","",null,null,"","","",null,null,null,null,null,null,null,"","","","","","","",null,"","","","","","","",""]
[null,"mayo",null,null,null,null,null,null,null,null,null,null,null,null,null,null,null,null,null,"","","","","","","",null,null,"","","",null,null,null,null,null,null,null,"","","",null,"","","",null,"","","","","","","",""]
[null,"junio",null,null,null,null,null,null,null,null,null,null,null,null,null,null,null,null,null,"","","","","","","",null,null,"","","",null,null,null,null,null,null,null,"","","",null,"","","",null,"","","","","","","",""]
[null,"julio",null,null,null,null,null,null,null,null,null,null,null,null,null,null,null,null,null,"","","","","","","",null,null,"","","",null,null,null,null,null,null,null,"","","",null,"","","",null,"","","","","","","",""]
[null,"agosto",null,null,null,null,null,null,null,null,null,null,null,null,null,null,null,null,null,"","","","","","","",null,null,"","","",null,null,null,null,null,null,null,"","","",null,"","","",null,"","","","","","","",""]
[null,"septiembre",null,null,null,null,null,null,null,null,null,null,null,null,null,null,null,null,null,"","","","","","","",null,null,"","","",null,null,null,null,null,null,null,"","","",null,"","","",null,"","","","","","","",""]
[null,"octubre",null,null,null,null,null,null,null,null,null,null,null,null,null,null,null,null,null,"","","","","","","",null,null,"","","",null,null,null,null,null,null,null,"","","",null,"","","",null,"","","","","","","",""]
[null,"noviembre",null,null,null,null,null,null,null,null,null,null,null,null,null,null,null,null,null,"","","","","","","",null,null,"","","",null,null,null,null,null,null,null,"","","",null,"","","",null,"","","","","","","",""]
[null,"diciembre",null,null,null,null,null,null,null,null,null,null,null,null,null,null,null,null,null,"","","","","","","",null,null,"","","",null,null,null,null,null,null,null,"","","",null,"","","",null,"","","","","","","",""]

{"sheet":"Datos trimestrales","index":3,"n_rows":131,"n_cols":19,"rows_kept":131,"cut":false,"hidden":true,"merged":[[80,0,83,0],[1,17,2,18],[64,0,67,0],[68,0,71,0],[72,0,75,0],[76,0,79,0]]}
[null,null,null,null,null,"Tasa de Crecimiento del PIB real"]
[null,null,1,2,3,4,5,6,7,null,1,2,3,4,5,6,7,{"$f":"IF(AND('Crecimiento del PIB'!J6<>1,'Crecimiento del PIB'!J6<>2,'Crecimiento del PIB'!J6<>3,'Crecimiento del PIB'!J6<>4,'Crecimiento del PIB'!J6<>5,'Crecimiento del PIB'!J6<>6,'Crecimiento del PIB'!J6<>7),LOOKUP(1,'Datos trimestrales'!$C$2:$I$2,'Datos trimestrales'!$C3:$I3),LOOKUP('Crecimiento del PIB'!J6,'Datos trimestrales'!$C$2:$I$2,'Datos trimestrales'!$C3:$I3))","v":"Colombia"}]
[null,null,"Brasil","China","Colombia","Estados Unidos","EuroZona","Japón","México","Promedio Países","Brasil","China","Colombia","Estados Unidos","EuroZona","Japón","México"]
[null,null,"T1.12","T1.12","T1.12","T1.12","T1.12","T1.12","T1.12",null,"Aceleración","Aceleración","Aceleración","Aceleración","Aceleración","Aceleración","Aceleración","Variación %","Aceleración"]
[1995,"I",null,"n.d.","n.d.","n.d.","n.d.","n.d.","n.d."]
[null,"II",null,"n.d.","n.d.","n.d.","n.d.","n.d.","n.d."]
[null,"III",null,"n.d.","n.d.","n.d.","n.d.","n.d.","n.d."]
[null,"IV",null,"n.d.","n.d.","n.d.","n.d.","n.d.","n.d."]
[1996,"I",null,"n.d.","n.d.",2.5953016603975825,1.2454578620208749,3.285449993565468,1.6405059108849622]
[null,"II",null,"n.d.","n.d.",4.0233011245067232,1.4013683994083403,2.2510707556798399,6.7027465274333284]
[null,"III",null,"n.d.","n.d.",4.0940604253900386,1.6425140626377466,1.8938317567431688,6.8867552931343736]
[null,"IV",null,"n.d.","n.d.",4.2954049598538546,1.6193286917099183,3.0046645227245472,8.3505066264545977]
[1997,"I",null,"n.d.","n.d.",3.0813837503401054,1.9800901120480077,3.5043644390560269,4.3491677384939571]
[null,"II",null,"n.d.","n.d.",6.1736437856074522,2.489046394127596,1.4987390522796407,8.5034218102355545]
[null,"III",null,"n.d.","n.d.",5.1947509651502966,2.6016303548167015,1.7093239675194123,7.9327609448679057]
[null,"IV",null,"n.d.","n.d.",3.1392450132959437,3.2996474886252147,-0.15863665696149623,7.0535519534187729]
[1998,"I",null,"n.d.","n.d.",4.0169074067871291,3.5721143933928756,-2.388109652241988,8.1958894293706681]
[null,"II",null,"n.d.","n.d.",3.9369182597569052,2.7162993060193106,-1.8309876315432148,4.4376075218464521]
[null,"III",null,"n.d.","n.d.",5.3371307996656903,2.6144375923065635,-2.2891386349198068,4.5266326507350536]
[null,"IV",null,"n.d.","n.d.",6.7261669445530803,1.874908287557876,-1.5265872974349948,1.9256719372843893]
[1999,"I",null,"n.d.","n.d.",3.7915090777449256,2.09381360427213,-0.28102098167547535,2.2594160200152733]
[null,"II",null,"n.d.","n.d.",3.4098482038873001,2.3692527284043003,0.14618625849169661,2.1054837114399803]
[null,"III",null,"n.d.","n.d.",5.1918362835308152,2.9033587226814515,-0.13789113766664113,2.7756181685066572]
[null,"IV",null,"n.d.","n.d.",7.1024278328294832,3.841401883050056,-0.49966773280977311,3.5030971161675071]
[2000,"I",null,"n.d.","n.d.",1.1533924977036536,4.3187314359061331,3.2928996693318995,5.4338489541834827]
[null,"II",null,"n.d.","n.d.",7.7701178345080724,4.4922817799922239,2.5385462831235572,6.1168504586423946]
[null,"III",null,"n.d.","n.d.",0.5121445170695349,3.8123679666841106,3.0330456953958711,5.7741243009044574]
[null,"IV",null,"n.d.","n.d.",2.1479176458757854,3.2032436242097164,2.5964748623392602,3.9134819881080891]
[2001,"I",null,"n.d.",1.2045137568150066,-1.1400234542668364,2.9340948057011884,2.0356312759263946,7.6084605293563035E-2,{"$f":"AVERAGE(F29:I29)","v":0.97644680816357743}]
[null,"II",null,"n.d.",1.4307038048835485,2.1394135831549921,2.0679366315479548,1.001203204632827,-0.55841499696602104,1.1625346055924382]
[null,"III",null,"n.d.",1.7015615153000541,-1.2121214507086808,1.716820210660891,-0.29102692298776983,-1.039797977320013,-0.20653153508889316]
[null,"IV",null,"n.d.",2.3711094606146288,0.9851479229512794,1.2848206535391888,-1.8415100609053869,-0.88578057104399066,-0.11433051386472734]
[2002,"I",null,7.6,0.75169130543724094,3.8124139013190783,0.41296000414402051,-1.9374545037046842,-2.2465243799299039,1.0348755457127656E-2]
[null,"II",null,7.8,3.9761210606691577,2.2044150533355733,0.97020788173232486,-0.21444609630623257,1.4307030763843531,1.0977199787865046,{"$f":"+C34-C33","v":0},0.20000000000000018,3.2244297552319168,-1.607998847983505,0.5572478775883043,1.7230084073984515,3.6772274563142568]
[null,"III",null,7.9,2.8146516111264175,1.9371864575468356,1.1890771453806455,1.4665163862804482,0.31884120424452839,1.2279052983631145,0,0.10000000000000053,-1.1614694495427402,-0.2672285957887377,0.2188692636483206,1.6809624825866809,-1.1118618721398248]
[null,"IV",null,9.1,2.4667697909679598,0.19154419341536055,1.0810886978848853,1.6835667025696259,1.0057599377977307,0.99048988291690065,0,1.1999999999999993,-0.3478818201584577,-1.7456422641314751,-0.1079884474957602,0.2170503162891777,0.68691873355320232]
[2003,"I",null,9.9,4.2582000055265468,2.0427889379102337,0.84435948626009927,1.3378073261496859,3.1841412743218425,1.8522742561604653,0,0.80000000000000071,1.791430214558587,1.8512447444948732,-0.236729211624786,-0.34575937641994003,2.1783813365241116]
[null,"II",null,8.1999999999999993,2.4421181937137826,3.8364377836314523,0.35085169410121764,1.3037580812537559,0.40159494532953555,1.4731606260789905,0,-1.7000000000000011,-1.8160818118127642,1.7936488457212185,-0.49350779215888163,-3.4049244895929975E-2,-2.7825463289923071]
[null,"III",null,8.5,3.9336226293796184,6.9312126149411624,0.51192564476258151,1.0882961745698168,0.4038890981120315,2.233830883096398,0,0.30000000000000071,1.4915044356658358,3.0947748313097101,0.16107395066136387,-0.21546190668393916,2.2941527824959507E-3]
[null,"IV",null,10,5.0512337514862393,4.6149439548618831,1.1879272096289619,1.8980345514015087,1.7549203862077465,2.3639565255250252,0,1.5,1.1176111221066209,-2.3162686600792792,0.67600156486638041,0.80973837683169192,1.3510312880957149]
[2004,"I",null,9.5,6.1158229525576369,2.4140330741410532,1.7821055180439769,4.1720923925906854,4.1960084920091445,3.1410598691962148,0,-0.5,1.0645892010713975,-2.20091088072083,0.59417830841501496,2.274057841189177,2.441088105801398]
[null,"II",null,9.5,4.3976382571067285,3.095578957189371,2.2453763326271194,3.2218787226499996,4.1267364621106397,3.1723926186442819,0,0,-1.7181846954509084,0.68154588304831787,0.46327081458314257,-0.95021366994068579,-6.9272029898504783E-2]
[null,"III",null,9.6999999999999993,4.4471076403654664,3.5561300457807032,2.1546905606472411,2.8950031848004909,4.1248788735888722,3.182675666204327,0,0.19999999999999929,4.9469383258737842E-2,0.4605510885913322,-9.0685771979878371E-2,-0.32687553784950873,-1.8575885217675392E-3]
[null,"IV",null,9.8000000000000007,6.3687463438207415,3.4179834266825138,1.7529835814071217,0.83555531794984894,4.7216646454148314,2.6820467428635792,0,0.10000000000000142,1.9216387034552751,-0.13814661909818948,-0.40170697924011933,-2.059447866850642,0.59678577182595927]
[2005,"I",null,9.4,4.1998126756165988,4.4457327009377323,1.4591164602870079,1.0802717546598561,1.4777828983968579,2.1157259535703639,0,-0.40000000000000036,-2.1689336682041427,1.0277492742552186,-0.29386712112011382,0.2447164367100072,-3.2438817470179737]
[null,"II",null,9.5,6.0376793138319895,2.2023243679431426,1.6212845667410172,2.0007410151908114,3.5183055115568207,2.3356638653579482,0,9.9999999999999645E-2,1.8378666382153908,-2.2434083329945897,0.16216810645400925,0.92046926053095524,2.040522613159963]
[null,"III",null,9.4,5.3866653506390971,3.3045752762249858,1.897356814294755,1.9824436009986655,3.401953957609317,2.6465824122819308,0,-9.9999999999999645E-2,-0.6510139631928924,1.1022509082818432,0.27607224755373783,-1.8297414192145922E-2,-0.11635155394750374]
[null,"IV",null,9.9,3.2579326175844692,2.2321309392430155,2.2204909304094302,2.6400897776324683,3.6979794603055858,2.6976727768976252,0,0.5,-2.128732733054628,-1.0724443369819703,0.32313411611467524,0.65764617663380287,0.29602550269626882]
[2006,"I",null,10.199999999999999,5.382439655792326,4.9429501164916179,2.9253127413165649,2.4863551820591692,5.7797268645799971,4.0335862261118374,0,0.29999999999999893,2.1245070382078568,2.7108191772486023,0.70482181090713469,-0.15373459557329916,2.0817474042744113]
[null,"II",null,10.9,5.8057527698303302,1.2487244009449894,3.3537338044614535,2.0132146597335079,4.8786528834773035,2.8735814371543134,0,0.70000000000000107,0.4233131140380042,-3.6942257155466285,0.42842106314488859,-0.47314052232566128,-0.90107398110269354]
[null,"III",null,10.7,7.6342222950666061,0.35134878748976917,3.3557197198650779,1.6374248970511456,5.400583020026251,2.6862691061080612,0,-0.20000000000000107,1.8284695252362759,-0.89737561345522021,1.9859154036243609E-3,-0.3757897626823623,0.52193013654894749]
[null,"IV",null,10.7,7.9185336992138255,3.1590962439421721,3.8072979824638531,2.0308133799659225,4.0071620622300772,3.251092417150506,0,0,0.28431140414721945,2.807747456452403,0.4515782625987752,0.3933884829147769,-1.3934209577961738]
[2007,"I",-1.313542569210191,11.1,7.9734786020539294,0.26387632437077091,3.6882059789096941,3.5422896372879791,2.9229513192072378,2.6043308149439204,-1.313542569210191,0.40000000000000036,5.4944902840103893E-2,-2.8952199195714012,-0.11909200355415894,1.5114762573220566,-1.0842107430228394,{"$f":"IF(AND('Crecimiento del PIB'!$J$6<>1,'Crecimiento del PIB'!$J$6<>2,'Crecimiento del PIB'!$J$6<>3,'Crecimiento del PIB'!$J$6<>4,'Crecimiento del PIB'!$J$6<>5,'Crecimiento del PIB'!$J$6<>6,'Crecimiento del PIB'!$J$6<>7),LOOKUP(1,'Datos trimestrales'!$C$2:$I$2,'Datos trimestrales'!$C53:$I53),LOOKUP('Crecimiento del PIB'!$J$6,'Datos trimestrales'!$C$2:$I$2,'Datos trimestrales'!$C53:$I53))","v":7.9734786020539294},{"$f":"IF(AND('Crecimiento del PIB'!$J$6<>1,'Crecimiento del PIB'!$J$6<>2,'Crecimiento del PIB'!$J$6<>3,'Crecimiento del PIB'!$J$6<>4,'Crecimiento del PIB'!$J$6<>5,'Crecimiento del PIB'!$J$6<>6,'Crecimiento del PIB'!$J$6<>7),LOOKUP(1,'Datos trimestrales'!$K$2:$Q$2,'Datos trimestrales'!$K53:$Q53),LOOKUP('Crecimiento del PIB'!$J$6,'Datos trimestrales'!$K$2:$Q$2,'Datos trimestrales'!$K53:$Q53))","v":5.4944902840103893E-2}]
[null,"II",5.1855892870081188,11.5,6.3217751268583644,3.1155799350050417,3.0328107650055784,2.3136478013135253,2.7471756699524277,2.8023035428191432,6.4991318562183098,0.40000000000000036,-1.651703475195565,2.8517036106342708,-0.6553952139041157,-1.2286418359744538,-0.17577564925481015,{"$f":"IF(AND('Crecimiento del PIB'!$J$6<>1,'Crecimiento del PIB'!$J$6<>2,'Crecimiento del PIB'!$J$6<>3,'Crecimiento del PIB'!$J$6<>4,'Crecimiento del PIB'!$J$6<>5,'Crecimiento del PIB'!$J$6<>6,'Crecimiento del PIB'!$J$6<>7),LOOKUP(1,'Datos trimestrales'!$C$2:$I$2,'Datos trimestrales'!$C54:$I54),LOOKUP('Crecimiento del PIB'!$J$6,'Datos trimestrales'!$C$2:$I$2,'Datos trimestrales'!$C54:$I54))","v":6.3217751268583644},{"$f":"IF(AND('Crecimiento del PIB'!$J$6<>1,'Crecimiento del PIB'!$J$6<>2,'Crecimiento del PIB'!$J$6<>3,'Crecimiento del PIB'!$J$6<>4,'Crecimiento del PIB'!$J$6<>5,'Crecimiento del PIB'!$J$6<>6,'Crecimiento del PIB'!$J$6<>7),LOOKUP(1,'Datos trimestrales'!$K$2:$Q$2,'Datos trimestrales'!$K54:$Q54),LOOKUP('Crecimiento del PIB'!$J$6,'Datos trimestrales'!$K$2:$Q$2,'Datos trimestrales'!$K54:$Q54))","v":-1.651703475195565}]
[null,"III",1.7848604931968604,11.5,6.1355899020002491,2.7225072139918982,2.9865791590613999,1.74052975065988,3.1572203324391444,2.6517091140380806,-3.4007287938112585,0,-0.18618522485811528,-0.3930727210131435,-4.6231605944178522E-2,-0.57311805065364529,0.41004466248671667,{"$f":"IF(AND('Crecimiento del PIB'!$J$6<>1,'Crecimiento del PIB'!$J$6<>2,'Crecimiento del PIB'!$J$6<>3,'Crecimiento del PIB'!$J$6<>4,'Crecimiento del PIB'!$J$6<>5,'Crecimiento del PIB'!$J$6<>6,'Crecimiento del PIB'!$J$6<>7),LOOKUP(1,'Datos trimestrales'!$C$2:$I$2,'Datos trimestrales'!$C55:$I55),LOOKUP('Crecimiento del PIB'!$J$6,'Datos trimestrales'!$C$2:$I$2,'Datos trimestrales'!$C55:$I55))","v":6.1355899020002491},{"$f":"IF(AND('Crecimiento del PIB'!$J$6<>1,'Crecimiento del PIB'!$J$6<>2,'Crecimiento del PIB'!$J$6<>3,'Crecimiento del PIB'!$J$6<>4,'Crecimiento del PIB'!$J$6<>5,'Crecimiento del PIB'!$J$6<>6,'Crecimiento del PIB'!$J$6<>7),LOOKUP(1,'Datos trimestrales'!$K$2:$Q$2,'Datos trimestrales'!$K55:$Q55),LOOKUP('Crecimiento del PIB'!$J$6,'Datos trimestrales'!$K$2:$Q$2,'Datos trimestrales'!$K55:$Q55))","v":-0.18618522485811528}]
[null,"IV",0.96057770010709032,11.4,7.2012531382099843,1.4697323019686959,2.2907218133840459,1.8937801209690459,3.7459048812767355,2.350034779399631,-0.82428279308977004,-9.9999999999999645E-2,1.0656632362097351,-1.2527749120232023,-0.69585734567735402,0.15325037030916588,0.58868454883759114,{"$f":"IF(AND('Crecimiento del PIB'!$J$6<>1,'Crecimiento del PIB'!$J$6<>2,'Crecimiento del PIB'!$J$6<>3,'Crecimiento del PIB'!$J$6<>4,'Crecimiento del PIB'!$J$6<>5,'Crecimiento del PIB'!$J$6<>6,'Crecimiento del PIB'!$J$6<>7),LOOKUP(1,'Datos trimestrales'!$C$2:$I$2,'Datos trimestrales'!$C56:$I56),LOOKUP('Crecimiento del PIB'!$J$6,'Datos trimestrales'!$C$2:$I$2,'Datos trimestrales'!$C56:$I56))","v":7.2012531382099843},{"$f":"IF(AND('Crecimiento del PIB'!$J$6<>1,'Crecimiento del PIB'!$J$6<>2,'Crecimiento del PIB'!$J$6<>3,'Crecimiento del PIB'!$J$6<>4,'Crecimiento del PIB'!$J$6<>5,'Crecimiento del PIB'!$J$6<>6,'Crecimiento del PIB'!$J$6<>7),LOOKUP(1,'Datos trimestrales'!$K$2:$Q$2,'Datos trimestrales'!$K56:$Q56),LOOKUP('Crecimiento del PIB'!$J$6,'Datos trimestrales'!$K$2:$Q$2,'Datos trimestrales'!$K56:$Q56))","v":1.0656632362097351}]
[2008,"I",-1.663932874897478,10.6,5.0505582473140853,-2.6590972439311078,2.0695522641712243,1.2810946792092714,2.1499715729706428,0.71038031810500768,-2.6245105750045683,-0.80000000000000071,-2.1506948908958989,-4.1288295458998032,-0.22116954921282161,-0.61268544175977446,-1.5959333083060927,{"$f":"IF(AND('Crecimiento del PIB'!$J$6<>1,'Crecimiento del PIB'!$J$6<>2,'Crecimiento del PIB'!$J$6<>3,'Crecimiento del PIB'!$J$6<>4,'Crecimiento del PIB'!$J$6<>5,'Crecimiento del PIB'!$J$6<>6,'Crecimiento del PIB'!$J$6<>7),LOOKUP(1,'Datos trimestrales'!$C$2:$I$2,'Datos trimestrales'!$C57:$I57),LOOKUP('Crecimiento del PIB'!$J$6,'Datos trimestrales'!$C$2:$I$2,'Datos trimestrales'!$C57:$I57))","v":5.0505582473140853},{"$f":"IF(AND('Crecimiento del PIB'!$J$6<>1,'Crecimiento del PIB'!$J$6<>2,'Crecimiento del PIB'!$J$6<>3,'Crecimiento del PIB'!$J$6<>4,'Crecimiento del PIB'!$J$6<>5,'Crecimiento del PIB'!$J$6<>6,'Crecimiento del PIB'!$J$6<>7),LOOKUP(1,'Datos trimestrales'!$K$2:$Q$2,'Datos trimestrales'!$K57:$Q57),LOOKUP('Crecimiento del PIB'!$J$6,'Datos trimestrales'!$K$2:$Q$2,'Datos trimestrales'!$K57:$Q57))","v":-2.1506948908958989}]
[null,"II",5.3465171855202165,10.4,5.2938405986707737,1.9965971376084024,1.1741754761229588,-0.32317196773803403,3.0825159886695066,1.4825291586657086,7.0104500604176945,-0.19999999999999929,0.24328235135668841,4.6556943815395098,-0.89537678804826548,-1.6042666469473055,0.93254441569886382,{"$f":"IF(AND('Crecimiento del PIB'!$J$6<>1,'Crecimiento del PIB'!$J$6<>2,'Crecimiento del PIB'!$J$6<>3,'Crecimiento del PIB'!$J$6<>4,'Crecimiento del PIB'!$J$6<>5,'Crecimiento del PIB'!$J$6<>6,'Crecimiento del PIB'!$J$6<>7),LOOKUP(1,'Datos trimestrales'!$C$2:$I$2,'Datos trimestrales'!$C58:$I58),LOOKUP('Crecimiento del PIB'!$J$6,'Datos trimestrales'!$C$2:$I$2,'Datos trimestrales'!$C58:$I58))","v":5.2938405986707737},{"$f":"IF(AND('Crecimiento del PIB'!$J$6<>1,'Crecimiento del PIB'!$J$6<>2,'Crecimiento del PIB'!$J$6<>3,'Crecimiento del PIB'!$J$6<>4,'Crecimiento del PIB'!$J$6<>5,'Crecimiento del PIB'!$J$6<>6,'Crecimiento del PIB'!$J$6<>7),LOOKUP(1,'Datos trimestrales'!$K$2:$Q$2,'Datos trimestrales'!$K58:$Q58),LOOKUP('Crecimiento del PIB'!$J$6,'Datos trimestrales'!$K$2:$Q$2,'Datos trimestrales'!$K58:$Q58))","v":0.24328235135668841}]
[null,"III",2.4157880714041013,9.9,3.606271777003478,-1.965411718532184,-3.9203871256453658E-2,-1.3831522619815018,1.5899349012533166,-0.44945823762920573,-2.9307291141161151,-0.5,-1.6875688216672957,-3.9620088561405864,-1.2133793473794126,-1.0599802942434677,-1.49258108741619,{"$f":"IF(AND('Crecimiento del PIB'!$J$6<>1,'Crecimiento del PIB'!$J$6<>2,'Crecimiento del PIB'!$J$6<>3,'Crecimiento del PIB'!$J$6<>4,'Crecimiento del PIB'!$J$6<>5,'Crecimiento del PIB'!$J$6<>6,'Crecimiento del PIB'!$J$6<>7),LOOKUP(1,'Datos trimestrales'!$C$2:$I$2,'Datos trimestrales'!$C59:$I59),LOOKUP('Crecimiento del PIB'!$J$6,'Datos trimestrales'!$C$2:$I$2,'Datos trimestrales'!$C59:$I59))","v":3.606271777003478},{"$f":"IF(AND('Crecimiento del PIB'!$J$6<>1,'Crecimiento del PIB'!$J$6<>2,'Crecimiento del PIB'!$J$6<>3,'Crecimiento del PIB'!$J$6<>4,'Crecimiento del PIB'!$J$6<>5,'Crecimiento del PIB'!$J$6<>6,'Crecimiento del PIB'!$J$6<>7),LOOKUP(1,'Datos trimestrales'!$K$2:$Q$2,'Datos trimestrales'!$K59:$Q59),LOOKUP('Crecimiento del PIB'!$J$6,'Datos trimestrales'!$K$2:$Q$2,'Datos trimestrales'!$K59:$Q59))","v":-1.6875688216672957}]
[null,"IV",-4.8409934702705932,9,0.38931924177825206,-8.3330282483786267,-2.1374644865052259,-4.1202063242879561,-1.1185732327870468,-3.9273180729897135,-7.2567815416746946,-0.90000000000000036,-3.216952535225226,-6.3676165298464422,-2.0982606152487722,-2.7370540623064543,-2.7085081340403634,{"$f":"IF(AND('Crecimiento del PIB'!$J$6<>1,'Crecimiento del PIB'!$J$6<>2,'Crecimiento del PIB'!$J$6<>3,'Crecimiento del PIB'!$J$6<>4,'Crecimiento del PIB'!$J$6<>5,'Crecimiento del PIB'!$J$6<>6,'Crecimiento del PIB'!$J$6<>7),LOOKUP(1,'Datos trimestrales'!$C$2:$I$2,'Datos trimestrales'!$C60:$I60),LOOKUP('Crecimiento del PIB'!$J$6,'Datos trimestrales'!$C$2:$I$2,'Datos trimestrales'!$C60:$I60))","v":0.38931924177825206},{"$f":"IF(AND('Crecimiento del PIB'!$J$6<>1,'Crecimiento del PIB'!$J$6<>2,'Crecimiento del PIB'!$J$6<>3,'Crecimiento del PIB'!$J$6<>4,'Crecimiento del PIB'!$J$6<>5,'Crecimiento del PIB'!$J$6<>6,'Crecimiento del PIB'!$J$6<>7),LOOKUP(1,'Datos trimestrales'!$K$2:$Q$2,'Datos trimestrales'!$K60:$Q60),LOOKUP('Crecimiento del PIB'!$J$6,'Datos trimestrales'!$K$2:$Q$2,'Datos trimestrales'!$K60:$Q60))","v":-3.216952535225226}]
[2009,"I",-5.2415339131657408,6.1,1.0768536622048464,-5.4428565473592201,-5.4628319872162532,-9.3000000000000007,-5.238050746959293,-6.3609348203836911,-0.40054044289514756,-2.9000000000000004,0.68753442042659429,2.8901717010194066,-3.3253675007110273,-5.1797936757120446,-4.1194775141722459,{"$f":"IF(AND('Crecimiento del PIB'!$J$6<>1,'Crecimiento del PIB'!$J$6<>2,'Crecimiento del PIB'!$J$6<>3,'Crecimiento del PIB'!$J$6<>4,'Crecimiento del PIB'!$J$6<>5,'Crecimiento del PIB'!$J$6<>6,'Crecimiento del PIB'!$J$6<>7),LOOKUP(1,'Datos trimestrales'!$C$2:$I$2,'Datos trimestrales'!$C61:$I61),LOOKUP('Crecimiento del PIB'!$J$6,'Datos trimestrales'!$C$2:$I$2,'Datos trimestrales'!$C61:$I61))","v":1.0768536622048464},{"$f":"IF(AND('Crecimiento del PIB'!$J$6<>1,'Crecimiento del PIB'!$J$6<>2,'Crecimiento del PIB'!$J$6<>3,'Crecimiento del PIB'!$J$6<>4,'Crecimiento del PIB'!$J$6<>5,'Crecimiento del PIB'!$J$6<>6,'Crecimiento del PIB'!$J$6<>7),LOOKUP(1,'Datos trimestrales'!$K$2:$Q$2,'Datos trimestrales'!$K61:$Q61),LOOKUP('Crecimiento del PIB'!$J$6,'Datos trimestrales'!$K$2:$Q$2,'Datos trimestrales'!$K61:$Q61))","v":0.68753442042659429}]
[null,"II",5.6856118369533748,7.1,1.1828673101199838,-0.42237122232027247,-5.3213933822746826,-6.6,-7.9466729707955226,-5.0726093938476193,10.927145750119116,1,0.10601364791513745,5.0204853250389476,0.14143860494157057,2.7000000000000011,-2.7086222238362296,{"$f":"IF(AND('Crecimiento del PIB'!$J$6<>1,'Crecimiento del PIB'!$J$6<>2,'Crecimiento del PIB'!$J$6<>3,'Crecimiento del PIB'!$J$6<>4,'Crecimiento del PIB'!$J$6<>5,'Crecimiento del PIB'!$J$6<>6,'Crecimiento del PIB'!$J$6<>7),LOOKUP(1,'Datos trimestrales'!$C$2:$I$2,'Datos trimestrales'!$C62:$I62),LOOKUP('Crecimiento del PIB'!$J$6,'Datos trimestrales'!$C$2:$I$2,'Datos trimestrales'!$C62:$I62))","v":1.1828673101199838},{"$f":"IF(AND('Crecimiento del PIB'!$J$6<>1,'Crecimiento del PIB'!$J$6<>2,'Crecimiento del PIB'!$J$6<>3,'Crecimiento del PIB'!$J$6<>4,'Crecimiento del PIB'!$J$6<>5,'Crecimiento del PIB'!$J$6<>6,'Crecimiento del PIB'!$J$6<>7),LOOKUP(1,'Datos trimestrales'!$K$2:$Q$2,'Datos trimestrales'!$K62:$Q62),LOOKUP('Crecimiento del PIB'!$J$6,'Datos trimestrales'!$K$2:$Q$2,'Datos trimestrales'!$K62:$Q62))","v":0.10601364791513745}]
[null,"III",3.3943648240226221,7.7,1.3353247806605406,1.2765349239340251,-4.3538620587256958,-5.6,-4.5736812634877069,-3.3127520995698445,-2.2912470129307527,0.60000000000000053,0.15245747054055681,1.6989061462542976,0.96753132354898685,1,3.3729917073078157,{"$f":"IF(AND('Crecimiento del PIB'!$J$6<>1,'Crecimiento del PIB'!$J$6<>2,'Crecimiento del PIB'!$J$6<>3,'Crecimiento del PIB'!$J$6<>4,'Crecimiento del PIB'!$J$6<>5,'Crecimiento del PIB'!$J$6<>6,'Crecimiento del PIB'!$J$6<>7),LOOKUP(1,'Datos trimestrales'!$C$2:$I$2,'Datos trimestrales'!$C63:$I63),LOOKUP('Crecimiento del PIB'!$J$6,'Datos trimestrales'!$C$2:$I$2,'Datos trimestrales'!$C63:$I63))","v":1.3353247806605406},{"$f":"IF(AND('Crecimiento del PIB'!$J$6<>1,'Crecimiento del PIB'!$J$6<>2,'Crecimiento del PIB'!$J$6<>3,'Crecimiento del PIB'!$J$6<>4,'Crecimiento del PIB'!$J$6<>5,'Crecimiento del PIB'!$J$6<>6,'Crecimiento del PIB'!$J$6<>7),LOOKUP(1,'Datos trimestrales'!$K$2:$Q$2,'Datos trimestrales'!$K63:$Q63),LOOKUP('Crecimiento del PIB'!$J$6,'Datos trimestrales'!$K$2:$Q$2,'Datos trimestrales'!$K63:$Q63))","v":0.15245747054055681}]
[null,"IV",1.7052076536327565,8.6999999999999993,3.0117539154794759,3.8795322680319044,-2.2436936054530876,-0.5,-1.0291115808333215,2.668177043637382E-2,-1.6891571703898656,0.99999999999999911,1.6764291348189353,2.6029973440978793,2.1101684532726082,5.0999999999999996,3.5445696826543855,{"$f":"IF(AND('Crecimiento del PIB'!$J$6<>1,'Crecimiento del PIB'!$J$6<>2,'Crecimiento del PIB'!$J$6<>3,'Crecimiento del PIB'!$J$6<>4,'Crecimiento del PIB'!$J$6<>5,'Crecimiento del PIB'!$J$6<>6,'Crecimiento del PIB'!$J$6<>7),LOOKUP(1,'Datos trimestrales'!$C$2:$I$2,'Datos trimestrales'!$C64:$I64),LOOKUP('Crecimiento del PIB'!$J$6,'Datos trimestrales'!$C$2:$I$2,'Datos trimestrales'!$C64:$I64))","v":3.0117539154794759},{"$f":"IF(AND('Crecimiento del PIB'!$J$6<>1,'Crecimiento del PIB'!$J$6<>2,'Crecimiento del PIB'!$J$6<>3,'Crecimiento del PIB'!$J$6<>4,'Crecimiento del PIB'!$J$6<>5,'Crecimiento del PIB'!$J$6<>6,'Crecimiento del PIB'!$J$6<>7),LOOKUP(1,'Datos trimestrales'!$K$2:$Q$2,'Datos trimestrales'!$K64:$Q64),LOOKUP('Crecimiento del PIB'!$J$6,'Datos trimestrales'!$K$2:$Q$2,'Datos trimestrales'!$K64:$Q64))","v":1.6764291348189353}]
[2010,"I",-1.6128314481735573,11.9,3.6345961174101493,1.5912292911759662,1.0230829087002384,4.9023698852762223,3.6542650204263132,2.7927367763946851,-3.3180391018063138,3.2000000000000011,0.62284220193067341,-2.2883029768559382,3.2667765141533263,5.4023698852762223,4.683376601259635,{"$f":"IF(AND('Crecimiento del PIB'!$J$6<>1,'Crecimiento del PIB'!$J$6<>2,'Crecimiento del PIB'!$J$6<>3,'Crecimiento del PIB'!$J$6<>4,'Crecimiento del PIB'!$J$6<>5,'Crecimiento del PIB'!$J$6<>6,'Crecimiento del PIB'!$J$6<>7),LOOKUP(1,'Datos trimestrales'!$C$2:$I$2,'Datos trimestrales'!$C65:$I65),LOOKUP('Crecimiento del PIB'!$J$6,'Datos trimestrales'!$C$2:$I$2,'Datos trimestrales'!$C65:$I65))","v":3.6345961174101493},{"$f":"IF(AND('Crecimiento del PIB'!$J$6<>1,'Crecimiento del PIB'!$J$6<>2,'Crecimiento del PIB'!$J$6<>3,'Crecimiento del PIB'!$J$6<>4,'Crecimiento del PIB'!$J$6<>5,'Crecimiento del PIB'!$J$6<>6,'Crecimiento del PIB'!$J$6<>7),LOOKUP(1,'Datos trimestrales'!$K$2:$Q$2,'Datos trimestrales'!$K65:$Q65),LOOKUP('Crecimiento del PIB'!$J$6,'Datos trimestrales'!$K$2:$Q$2,'Datos trimestrales'!$K65:$Q65))","v":0.62284220193067341}]
[null,"II",5.1262528222660197,11.1,3.548377589814633,3.9002212065116115,2.1896522916793777,4.4489916993046794,6.7077166104918708,4.3116454519968848,6.7390842704395766,-0.80000000000000071,-8.6218527595516292E-2,2.3089919153356453,1.1665693829791393,-0.45337818597154289,3.0534515900655577,{"$f":"IF(AND('Crecimiento del PIB'!$J$6<>1,'Crecimiento del PIB'!$J$6<>2,'Crecimiento del PIB'!$J$6<>3,'Crecimiento del PIB'!$J$6<>4,'Crecimiento del PIB'!$J$6<>5,'Crecimiento del PIB'!$J$6<>6,'Crecimiento del PIB'!$J$6<>7),LOOKUP(1,'Datos trimestrales'!$C$2:$I$2,'Datos trimestrales'!$C66:$I66),LOOKUP('Crecimiento del PIB'!$J$6,'Datos trimestrales'!$C$2:$I$2,'Datos trimestrales'!$C66:$I66))","v":3.548377589814633},{"$f":"IF(AND('Crecimiento del PIB'!$J$6<>1,'Crecimiento del PIB'!$J$6<>2,'Crecimiento del PIB'!$J$6<>3,'Crecimiento del PIB'!$J$6<>4,'Crecimiento del PIB'!$J$6<>5,'Crecimiento del PIB'!$J$6<>6,'Crecimiento del PIB'!$J$6<>7),LOOKUP(1,'Datos trimestrales'!$K$2:$Q$2,'Datos trimestrales'!$K66:$Q66),LOOKUP('Crecimiento del PIB'!$J$6,'Datos trimestrales'!$K$2:$Q$2,'Datos trimestrales'!$K66:$Q66))","v":-8.6218527595516292E-2}]
[null,"III",1.6446696139490458,10.6,3.4104774082714284,2.7778316019166915,2.1888020496700178,6.0091989186054295,5.4019421402115402,4.0944436776009194,-3.481583208316974,-0.5,-0.1379001815432046,-1.12238960459492,-8.502420093599028E-4,1.5602072193007501,-1.3057744702803307,{"$f":"IF(AND('Crecimiento del PIB'!$J$6<>1,'Crecimiento del PIB'!$J$6<>2,'Crecimiento del PIB'!$J$6<>3,'Crecimiento del PIB'!$J$6<>4,'Crecimiento del PIB'!$J$6<>5,'Crecimiento del PIB'!$J$6<>6,'Crecimiento del PIB'!$J$6<>7),LOOKUP(1,'Datos trimestrales'!$C$2:$I$2,'Datos trimestrales'!$C67:$I67),LOOKUP('Crecimiento del PIB'!$J$6,'Datos trimestrales'!$C$2:$I$2,'Datos trimestrales'!$C67:$I67))","v":3.4104774082714284},{"$f":"IF(AND('Crecimiento del PIB'!$J$6<>1,'Crecimiento del PIB'!$J$6<>2,'Crecimiento del PIB'!$J$6<>3,'Crecimiento del PIB'!$J$6<>4,'Crecimiento del PIB'!$J$6<>5,'Crecimiento del PIB'!$J$6<>6,'Crecimiento del PIB'!$J$6<>7),LOOKUP(1,'Datos trimestrales'!$K$2:$Q$2,'Datos trimestrales'!$K67:$Q67),LOOKUP('Crecimiento del PIB'!$J$6,'Datos trimestrales'!$K$2:$Q$2,'Datos trimestrales'!$K67:$Q67))","v":-0.1379001815432046}]
[null,"IV",0.19083700191895314,10.3,5.2744657788789118,2.8082040961846744,2.2137138980258215,3.3146162237176418,4.5303962078440376,3.2167326064430437,-1.4538326120300926,-0.29999999999999893,1.8639883706074833,3.037249426798283E-2,2.4911848355803734E-2,-2.6945826948877878,-0.87154593236750255,{"$f":"IF(AND('Crecimiento del PIB'!$J$6<>1,'Crecimiento del PIB'!$J$6<>2,'Crecimiento del PIB'!$J$6<>3,'Crecimiento del PIB'!$J$6<>4,'Crecimiento del PIB'!$J$6<>5,'Crecimiento del PIB'!$J$6<>6,'Crecimiento del PIB'!$J$6<>7),LOOKUP(1,'Datos trimestrales'!$C$2:$I$2,'Datos trimestrales'!$C68:$I68),LOOKUP('Crecimiento del PIB'!$J$6,'Datos trimestrales'!$C$2:$I$2,'Datos trimestrales'!$C68:$I68))","v":5.2744657788789118},{"$f":"IF(AND('Crecimiento del PIB'!$J$6<>1,'Crecimiento del PIB'!$J$6<>2,'Crecimiento del PIB'!$J$6<>3,'Crecimiento del PIB'!$J$6<>4,'Crecimiento del PIB'!$J$6<>5,'Crecimiento del PIB'!$J$6<>6,'Crecimiento del PIB'!$J$6<>7),LOOKUP(1,'Datos trimestrales'!$K$2:$Q$2,'Datos trimestrales'!$K68:$Q68),LOOKUP('Crecimiento del PIB'!$J$6,'Datos trimestrales'!$K$2:$Q$2,'Datos trimestrales'!$K68:$Q68))","v":1.8639883706074833}]
[2011,"I",-2.6381108971266998,9.6999999999999993,5.6416490385075679,-1.2893604342359311,2.5785206845203383,4.7132844237805178E-2,4.4331554957769113,1.442362147574781,-2.8289478990456529,-0.60000000000000142,0.36718325962865617,-4.0975645304206054,0.36480678649451681,-3.2674833794798364,-9.7240712067126367E-2,{"$f":"IF(AND('Crecimiento del PIB'!$J$6<>1,'Crecimiento del PIB'!$J$6<>2,'Crecimiento del PIB'!$J$6<>3,'Crecimiento del PIB'!$J$6<>4,'Crecimiento del PIB'!$J$6<>5,'Crecimiento del PIB'!$J$6<>6,'Crecimiento del PIB'!$J$6<>7),LOOKUP(1,'Datos trimestrales'!$C$2:$I$2,'Datos trimestrales'!$C69:$I69),LOOKUP('Crecimiento del PIB'!$J$6,'Datos trimestrales'!$C$2:$I$2,'Datos trimestrales'!$C69:$I69))","v":5.6416490385075679},{"$f":"IF(AND('Crecimiento del PIB'!$J$6<>1,'Crecimiento del PIB'!$J$6<>2,'Crecimiento del PIB'!$J$6<>3,'Crecimiento del PIB'!$J$6<>4,'Crecimiento del PIB'!$J$6<>5,'Crecimiento del PIB'!$J$6<>6,'Crecimiento del PIB'!$J$6<>7),LOOKUP(1,'Datos trimestrales'!$K$2:$Q$2,'Datos trimestrales'!$K69:$Q69),LOOKUP('Crecimiento del PIB'!$J$6,'Datos trimestrales'!$K$2:$Q$2,'Datos trimestrales'!$K69:$Q69))","v":0.36718325962865617}]
[null,"II",4.1990916191743555,9.6,6.3061524595607432,3.1876731945435388,1.7197392856154397,-1.4868975874617394,3.1972529018388531,1.6544419486340229,6.8372025163010548,-9.9999999999999645E-2,0.66450342105317528,{"$f":"+F70-F69","v":4.4770336287794699},-0.85878139890489869,-1.5340304316995446,-1.2359025939380581,{"$f":"IF(AND('Crecimiento del PIB'!$J$6<>1,'Crecimiento del PIB'!$J$6<>2,'Crecimiento del PIB'!$J$6<>3,'Crecimiento del PIB'!$J$6<>4,'Crecimiento del PIB'!$J$6<>5,'Crecimiento del PIB'!$J$6<>6,'Crecimiento del PIB'!$J$6<>7),LOOKUP(1,'Datos trimestrales'!$C$2:$I$2,'Datos trimestrales'!$C70:$I70),LOOKUP('Crecimiento del PIB'!$J$6,'Datos trimestrales'!$C$2:$I$2,'Datos trimestrales'!$C70:$I70))","v":6.3061524595607432},{"$f":"IF(AND('Crecimiento del PIB'!$J$6<>1,'Crecimiento del PIB'!$J$6<>2,'Crecimiento del PIB'!$J$6<>3,'Crecimiento del PIB'!$J$6<>4,'Crecimiento del PIB'!$J$6<>5,'Crecimiento del PIB'!$J$6<>6,'Crecimiento del PIB'!$J$6<>7),LOOKUP(1,'Datos trimestrales'!$K$2:$Q$2,'Datos trimestrales'!$K70:$Q70),LOOKUP('Crecimiento del PIB'!$J$6,'Datos trimestrales'!$K$2:$Q$2,'Datos trimestrales'!$K70:$Q70))","v":0.66450342105317528}]
[null,"III",0.4716326332301346,9.4,7.9420065506923487,1.3605337846721799,1.3858817544857653,-0.50214340843786909,4.1266785103988495,1.5927376602797314,{"$f":"+C71-C70","v":-3.7274589859442209},-0.19999999999999929,1.6358540911316055,-1.8271394098713589,-0.33385753112967431,0.9847541790238703,0.92942560855999634,{"$f":"IF(AND('Crecimiento del PIB'!$J$6<>1,'Crecimiento del PIB'!$J$6<>2,'Crecimiento del PIB'!$J$6<>3,'Crecimiento del PIB'!$J$6<>4,'Crecimiento del PIB'!$J$6<>5,'Crecimiento del PIB'!$J$6<>6,'Crecimiento del PIB'!$J$6<>7),LOOKUP(1,'Datos trimestrales'!$C$2:$I$2,'Datos trimestrales'!$C71:$I71),LOOKUP('Crecimiento del PIB'!$J$6,'Datos trimestrales'!$C$2:$I$2,'Datos trimestrales'!$C71:$I71))","v":7.9420065506923487},{"$f":"IF(AND('Crecimiento del PIB'!$J$6<>1,'Crecimiento del PIB'!$J$6<>2,'Crecimiento del PIB'!$J$6<>3,'Crecimiento del PIB'!$J$6<>4,'Crecimiento del PIB'!$J$6<>5,'Crecimiento del PIB'!$J$6<>6,'Crecimiento del PIB'!$J$6<>7),LOOKUP(1,'Datos trimestrales'!$K$2:$Q$2,'Datos trimestrales'!$K71:$Q71),LOOKUP('Crecimiento del PIB'!$J$6,'Datos trimestrales'!$K$2:$Q$2,'Datos trimestrales'!$K71:$Q71))","v":1.6358540911316055}]
[null,"IV",-0.55162742178945789,9.1999999999999993,6.4571880343451848,4.8665836825772857,0.67921346369230917,9.234783595212874E-2,4.2747104433320606,2.4782138563884462,-1.0232600550195925,-0.20000000000000107,-1.4848185163471639,3.5060498979051058,-0.70666829079345617,0.59449124438999779,0.14803193293321115,{"$f":"IF(AND('Crecimiento del PIB'!$J$6<>1,'Crecimiento del PIB'!$J$6<>2,'Crecimiento del PIB'!$J$6<>3,'Crecimiento del PIB'!$J$6<>4,'Crecimiento del PIB'!$J$6<>5,'Crecimiento del PIB'!$J$6<>6,'Crecimiento del PIB'!$J$6<>7),LOOKUP(1,'Datos trimestrales'!$C$2:$I$2,'Datos trimestrales'!$C72:$I72),LOOKUP('Crecimiento del PIB'!$J$6,'Datos trimestrales'!$C$2:$I$2,'Datos trimestrales'!$C72:$I72))","v":6.4571880343451848},{"$f":"IF(AND('Crecimiento del PIB'!$J$6<>1,'Crecimiento del PIB'!$J$6<>2,'Crecimiento del PIB'!$J$6<>3,'Crecimiento del PIB'!$J$6<>4,'Crecimiento del PIB'!$J$6<>5,'Crecimiento del PIB'!$J$6<>6,'Crecimiento del PIB'!$J$6<>7),LOOKUP(1,'Datos trimestrales'!$K$2:$Q$2,'Datos trimestrales'!$K72:$Q72),LOOKUP('Crecimiento del PIB'!$J$6,'Datos trimestrales'!$K$2:$Q$2,'Datos trimestrales'!$K72:$Q72))","v":-1.4848185163471639}]
[2012,"I",-3.1846757667326586,8.1,6.0615944983554826,3.7114787829780171,-0.17198192190245004,3.243520113318485,4.8174011676720658,2.9001045355165296,-2.6330483449432007,-1.0999999999999996,-0.39559353598970226,-1.1551048995992685,-0.85119538559475916,3.1511722773663564,0.5426907243400052,{"$f":"IF(AND('Crecimiento del PIB'!$J$6<>1,'Crecimiento del PIB'!$J$6<>2,'Crecimiento del PIB'!$J$6<>3,'Crecimiento del PIB'!$J$6<>4,'Crecimiento del PIB'!$J$6<>5,'Crecimiento del PIB'!$J$6<>6,'Crecimiento del PIB'!$J$6<>7),LOOKUP(1,'Datos trimestrales'!$C$2:$I$2,'Datos trimestrales'!$C73:$I73),LOOKUP('Crecimiento del PIB'!$J$6,'Datos trimestrales'!$C$2:$I$2,'Datos trimestrales'!$C73:$I73))","v":6.0615944983554826},{"$f":"IF(AND('Crecimiento del PIB'!$J$6<>1,'Crecimiento del PIB'!$J$6<>2,'Crecimiento del PIB'!$J$6<>3,'Crecimiento del PIB'!$J$6<>4,'Crecimiento del PIB'!$J$6<>5,'Crecimiento del PIB'!$J$6<>6,'Crecimiento del PIB'!$J$6<>7),LOOKUP(1,'Datos trimestrales'!$K$2:$Q$2,'Datos trimestrales'!$K73:$Q73),LOOKUP('Crecimiento del PIB'!$J$6,'Datos trimestrales'!$K$2:$Q$2,'Datos trimestrales'!$K73:$Q73))","v":-0.39559353598970226}]
[null,"II",3.9441632196196563,7.8,5.1708135508513831,1.2042352681324919,-0.50958006685865564,3.2355446539528403,4.427886812141379,2.089521666842014,7.1288389863523154,-0.29999999999999982,-0.89078094750409953,-2.5072435148455252,-0.3375981449562056,-7.9754593656446993E-3,-0.38951435553068681,{"$f":"IF(AND('Crecimiento del PIB'!$J$6<>1,'Crecimiento del PIB'!$J$6<>2,'Crecimiento del PIB'!$J$6<>3,'Crecimiento del PIB'!$J$6<>4,'Crecimiento del PIB'!$J$6<>5,'Crecimiento del PIB'!$J$6<>6,'Crecimiento del PIB'!$J$6<>7),LOOKUP(1,'Datos trimestrales'!$C$2:$I$2,'Datos trimestrales'!$C74:$I74),LOOKUP('Crecimiento del PIB'!$J$6,'Datos trimestrales'!$C$2:$I$2,'Datos trimestrales'!$C74:$I74))","v":5.1708135508513831},{"$f":"IF(AND('Crecimiento del PIB'!$J$6<>1,'Crecimiento del PIB'!$J$6<>2,'Crecimiento del PIB'!$J$6<>3,'Crecimiento del PIB'!$J$6<>4,'Crecimiento del PIB'!$J$6<>5,'Crecimiento del PIB'!$J$6<>6,'Crecimiento del PIB'!$J$6<>7),LOOKUP(1,'Datos trimestrales'!$K$2:$Q$2,'Datos trimestrales'!$K74:$Q74),LOOKUP('Crecimiento del PIB'!$J$6,'Datos trimestrales'!$K$2:$Q$2,'Datos trimestrales'!$K74:$Q74))","v":-0.89078094750409953}]
[null,"III",0.86665401142422827,7.7,2.5105590387995536,2.7846976101748577,-0.68672506903691333,-0.22064069134602729,3.1130416173973625,1.24759336679732,-3.0775092081954281,-9.9999999999999645E-2,-2.6602545120518295,1.5804623420423658,-0.17714500217825768,-3.4561853452988678,-1.3148451947440165,{"$f":"IF(AND('Crecimiento del PIB'!$J$6<>1,'Crecimiento del PIB'!$J$6<>2,'Crecimiento del PIB'!$J$6<>3,'Crecimiento del PIB'!$J$6<>4,'Crecimiento del PIB'!$J$6<>5,'Crecimiento del PIB'!$J$6<>6,'Crecimiento del PIB'!$J$6<>7),LOOKUP(1,'Datos trimestrales'!$C$2:$I$2,'Datos trimestrales'!$C75:$I75),LOOKUP('Crecimiento del PIB'!$J$6,'Datos trimestrales'!$C$2:$I$2,'Datos trimestrales'!$C75:$I75))","v":2.5105590387995536},{"$f":"IF(AND('Crecimiento del PIB'!$J$6<>1,'Crecimiento del PIB'!$J$6<>2,'Crecimiento del PIB'!$J$6<>3,'Crecimiento del PIB'!$J$6<>4,'Crecimiento del PIB'!$J$6<>5,'Crecimiento del PIB'!$J$6<>6,'Crecimiento del PIB'!$J$6<>7),LOOKUP(1,'Datos trimestrales'!$K$2:$Q$2,'Datos trimestrales'!$K75:$Q75),LOOKUP('Crecimiento del PIB'!$J$6,'Datos trimestrales'!$K$2:$Q$2,'Datos trimestrales'!$K75:$Q75))","v":-2.6602545120518295}]
[null,"IV",0.31069715239899764,7.8,2.5647225436520982,0.14427781444716903,-0.96175941097115936,-0.30127036805310853,3.344841395933885,0.55652235783919646,-0.55595685902523062,9.9999999999999645E-2,5.4163504852544619E-2,-2.6404197957276887,-0.27503434193424603,-8.0629676707081238E-2,0.23179977853652245,{"$f":"IF(AND('Crecimiento del PIB'!$J$6<>1,'Crecimiento del PIB'!$J$6<>2,'Crecimiento del PIB'!$J$6<>3,'Crecimiento del PIB'!$J$6<>4,'Crecimiento del PIB'!$J$6<>5,'Crecimiento del PIB'!$J$6<>6,'Crecimiento del PIB'!$J$6<>7),LOOKUP(1,'Datos trimestrales'!$C$2:$I$2,'Datos trimestrales'!$C76:$I76),LOOKUP('Crecimiento del PIB'!$J$6,'Datos trimestrales'!$C$2:$I$2,'Datos trimestrales'!$C76:$I76))","v":2.5647225436520982},{"$f":"IF(AND('Crecimiento del PIB'!$J$6<>1,'Crecimiento del PIB'!$J$6<>2,'Crecimiento del PIB'!$J$6<>3,'Crecimiento del PIB'!$J$6<>4,'Crecimiento del PIB'!$J$6<>5,'Crecimiento del PIB'!$J$6<>6,'Crecimiento del PIB'!$J$6<>7),LOOKUP(1,'Datos trimestrales'!$K$2:$Q$2,'Datos trimestrales'!$K76:$Q76),LOOKUP('Crecimiento del PIB'!$J$6,'Datos trimestrales'!$K$2:$Q$2,'Datos trimestrales'!$K76:$Q76))","v":5.4163504852544619E-2}]
[2013,"I",-3.118156327391064,7.7,2.638031044704725,1.1451979379999422,-1.2000000000000062,6.5995937651445818E-2,0.61408005385608955,0.15631848237686785,-3.4288534797900616,-9.9999999999999645E-2,7.3308501052626873E-2,1.0009201235527732,-0.23824058902884682,0.36726630570455432,-2.7307613420777956,{"$f":"IF(AND('Crecimiento del PIB'!$J$6<>1,'Crecimiento del PIB'!$J$6<>2,'Crecimiento del PIB'!$J$6<>3,'Crecimiento del PIB'!$J$6<>4,'Crecimiento del PIB'!$J$6<>5,'Crecimiento del PIB'!$J$6<>6,'Crecimiento del PIB'!$J$6<>7),LOOKUP(1,'Datos trimestrales'!$C$2:$I$2,'Datos trimestrales'!$C77:$I77),LOOKUP('Crecimiento del PIB'!$J$6,'Datos trimestrales'!$C$2:$I$2,'Datos trimestrales'!$C77:$I77))","v":2.638031044704725},{"$f":"IF(AND('Crecimiento del PIB'!$J$6<>1,'Crecimiento del PIB'!$J$6<>2,'Crecimiento del PIB'!$J$6<>3,'Crecimiento del PIB'!$J$6<>4,'Crecimiento del PIB'!$J$6<>5,'Crecimiento del PIB'!$J$6<>6,'Crecimiento del PIB'!$J$6<>7),LOOKUP(1,'Datos trimestrales'!$K$2:$Q$2,'Datos trimestrales'!$K77:$Q77),LOOKUP('Crecimiento del PIB'!$J$6,'Datos trimestrales'!$K$2:$Q$2,'Datos trimestrales'!$K77:$Q77))","v":7.3308501052626873E-2}]
[null,"II",5.5430561277124646,7.5,4.0459582845408404,2.4817151787694947,-0.59999999999999831,1.2826530250022679,1.5853621800635516,1.187432595958829,{"$f":"+C78-C77","v":8.661212455103529},-0.20000000000000018,1.4079272398361153,1.3365172407695525,0.60000000000000786,1.216657087350822,0.97128212620746202,{"$f":"IF(AND('Crecimiento del PIB'!$J$6<>1,'Crecimiento del PIB'!$J$6<>2,'Crecimiento del PIB'!$J$6<>3,'Crecimiento del PIB'!$J$6<>4,'Crecimiento del PIB'!$J$6<>5,'Crecimiento del PIB'!$J$6<>6,'Crecimiento del PIB'!$J$6<>7),LOOKUP(1,'Datos trimestrales'!$C$2:$I$2,'Datos trimestrales'!$C78:$I78),LOOKUP('Crecimiento del PIB'!$J$6,'Datos trimestrales'!$C$2:$I$2,'Datos trimestrales'!$C78:$I78))","v":4.0459582845408404},{"$f":"IF(AND('Crecimiento del PIB'!$J$6<>1,'Crecimiento del PIB'!$J$6<>2,'Crecimiento del PIB'!$J$6<>3,'Crecimiento del PIB'!$J$6<>4,'Crecimiento del PIB'!$J$6<>5,'Crecimiento del PIB'!$J$6<>6,'Crecimiento del PIB'!$J$6<>7),LOOKUP(1,'Datos trimestrales'!$K$2:$Q$2,'Datos trimestrales'!$K78:$Q78),LOOKUP('Crecimiento del PIB'!$J$6,'Datos trimestrales'!$K$2:$Q$2,'Datos trimestrales'!$K78:$Q78))","v":1.4079272398361153}]
[null,"III",-0.13944675002335316,7.8,5.4270310847237768,4.1340937498222319,-0.30000000000000643,2.3678633732842678,1.3934243760986194,1.8988453748012781,{"$f":"+C79-C78","v":-5.6825028777358177},0.29999999999999982,1.3810728001829364,1.6523785710527372,0.29999999999999188,1.0852103482819999,-0.19193780396493221,{"$f":"IF(AND('Crecimiento del PIB'!$J$6<>1,'Crecimiento del PIB'!$J$6<>2,'Crecimiento del PIB'!$J$6<>3,'Crecimiento del PIB'!$J$6<>4,'Crecimiento del PIB'!$J$6<>5,'Crecimiento del PIB'!$J$6<>6,'Crecimiento del PIB'!$J$6<>7),LOOKUP(1,'Datos trimestrales'!$C$2:$I$2,'Datos trimestrales'!$C79:$I79),LOOKUP('Crecimiento del PIB'!$J$6,'Datos trimestrales'!$C$2:$I$2,'Datos trimestrales'!$C79:$I79))","v":5.4270310847237768},{"$f":"IF(AND('Crecimiento del PIB'!$J$6<>1,'Crecimiento del PIB'!$J$6<>2,'Crecimiento del PIB'!$J$6<>3,'Crecimiento del PIB'!$J$6<>4,'Crecimiento del PIB'!$J$6<>5,'Crecimiento del PIB'!$J$6<>6,'Crecimiento del PIB'!$J$6<>7),LOOKUP(1,'Datos trimestrales'!$K$2:$Q$2,'Datos trimestrales'!$K79:$Q79),LOOKUP('Crecimiento del PIB'!$J$6,'Datos trimestrales'!$K$2:$Q$2,'Datos trimestrales'!$K79:$Q79))","v":1.3810728001829364}]
[null,"IV",6.5477821058479435E-2,7.7,4.9077223588051,2.6266071644112765,0.49999999999997979,2.5387881998682831,0.6708574150725034,{"$f":"AVERAGE(F80:I80)","v":1.5840631948380106},{"$f":"+C80-C79","v":0.2049245710818326},{"$f":"+D80-D79","v":-9.9999999999999645E-2},{"$f":"+E80-E79","v":-0.51930872591867683},{"$f":"+F80-F79","v":-1.5074865854109554},{"$f":"+G80-G79","v":0.79999999999998628},{"$f":"+H80-H79","v":0.17092482658401531},{"$f":"+I80-I79","v":-0.72256696102611595},{"$f":"IF(AND('Crecimiento del PIB'!$J$6<>1,'Crecimiento del PIB'!$J$6<>2,'Crecimiento del PIB'!$J$6<>3,'Crecimiento del PIB'!$J$6<>4,'Crecimiento del PIB'!$J$6<>5,'Crecimiento del PIB'!$J$6<>6,'Crecimiento del PIB'!$J$6<>7),LOOKUP(1,'Datos trimestrales'!$C$2:$I$2,'Datos trimestrales'!$C80:$I80),LOOKUP('Crecimiento del PIB'!$J$6,'Datos trimestrales'!$C$2:$I$2,'Datos trimestrales'!$C80:$I80))","v":4.9077223588051},{"$f":"IF(AND('Crecimiento del PIB'!$J$6<>1,'Crecimiento del PIB'!$J$6<>2,'Crecimiento del PIB'!$J$6<>3,'Crecimiento del PIB'!$J$6<>4,'Crecimiento del PIB'!$J$6<>5,'Crecimiento del PIB'!$J$6<>6,'Crecimiento del PIB'!$J$6<>7),LOOKUP(1,'Datos trimestrales'!$K$2:$Q$2,'Datos trimestrales'!$K80:$Q80),LOOKUP('Crecimiento del PIB'!$J$6,'Datos trimestrales'!$K$2:$Q$2,'Datos trimestrales'!$K80:$Q80))","v":-0.51930872591867683}]
[2014,"I",-3.3628903563535317,7.4,null,-0.98490631894200265,0.1999999999999944,2.9793351660248564,1.8000000000000085,0.9986072117707141,{"$f":"+C81-C80","v":-3.4283681774120112},{"$f":"+D81-D80","v":-0.29999999999999982},{"$f":"+E81-E80","v":-4.9077223588051},{"$f":"+F81-F80","v":-3.6115134833532792},{"$f":"+G81-G80","v":-0.29999999999998539},{"$f":"+H81-H80","v":0.44054696615657329},{"$f":"+I81-I80","v":1.129142584927505},{"$f":"IF(AND('Crecimiento del PIB'!$J$6<>1,'Crecimiento del PIB'!$J$6<>2,'Crecimiento del PIB'!$J$6<>3,'Crecimiento del PIB'!$J$6<>4,'Crecimiento del PIB'!$J$6<>5,'Crecimiento del PIB'!$J$6<>6,'Crecimiento del PIB'!$J$6<>7),LOOKUP(1,'Datos mensuales'!#REF!,'Datos mensuales'!#REF!),LOOKUP('Crecimiento del PIB'!$J$6,'Datos mensuales'!#REF!,'Datos mensuales'!#REF!))","v":{"$error":"#REF!"}},{"$f":"IF(AND('Crecimiento del PIB'!$J$6<>1,'Crecimiento del PIB'!$J$6<>2,'Crecimiento del PIB'!$J$6<>3,'Crecimiento del PIB'!$J$6<>4,'Crecimiento del PIB'!$J$6<>5,'Crecimiento del PIB'!$J$6<>6,'Crecimiento del PIB'!$J$6<>7),LOOKUP(1,'Datos mensuales'!#REF!,'Datos mensuales'!#REF!),LOOKUP('Crecimiento del PIB'!$J$6,'Datos mensuales'!#REF!,'Datos mensuales'!#REF!))","v":{"$error":"#REF!"}}]
[null,"II",null,"",null,"","","",null,null,null,null,null,null,null,null,null,{"$f":"IF(AND('Crecimiento del PIB'!$J$6<>1,'Crecimiento del PIB'!$J$6<>2,'Crecimiento del PIB'!$J$6<>3,'Crecimiento del PIB'!$J$6<>4,'Crecimiento del PIB'!$J$6<>5,'Crecimiento del PIB'!$J$6<>6,'Crecimiento del PIB'!$J$6<>7),LOOKUP(1,'Datos mensuales'!#REF!,'Datos mensuales'!#REF!),LOOKUP('Crecimiento del PIB'!$J$6,'Datos mensuales'!#REF!,'Datos mensuales'!#REF!))","v":{"$error":"#REF!"}},{"$f":"IF(AND('Crecimiento del PIB'!$J$6<>1,'Crecimiento del PIB'!$J$6<>2,'Crecimiento del PIB'!$J$6<>3,'Crecimiento del PIB'!$J$6<>4,'Crecimiento del PIB'!$J$6<>5,'Crecimiento del PIB'!$J$6<>6,'Crecimiento del PIB'!$J$6<>7),LOOKUP(1,'Datos mensuales'!#REF!,'Datos mensuales'!#REF!),LOOKUP('Crecimiento del PIB'!$J$6,'Datos mensuales'!#REF!,'Datos mensuales'!#REF!))","v":{"$error":"#REF!"}}]
[null,"III",null,"",null,"","","",null,null,null,null,null,null,null,null,null,{"$f":"IF(AND('Crecimiento del PIB'!$J$6<>1,'Crecimiento del PIB'!$J$6<>2,'Crecimiento del PIB'!$J$6<>3,'Crecimiento del PIB'!$J$6<>4,'Crecimiento del PIB'!$J$6<>5,'Crecimiento del PIB'!$J$6<>6,'Crecimiento del PIB'!$J$6<>7),LOOKUP(1,'Datos mensuales'!#REF!,'Datos mensuales'!#REF!),LOOKUP('Crecimiento del PIB'!$J$6,'Datos mensuales'!#REF!,'Datos mensuales'!#REF!))","v":{"$error":"#REF!"}},{"$f":"IF(AND('Crecimiento del PIB'!$J$6<>1,'Crecimiento del PIB'!$J$6<>2,'Crecimiento del PIB'!$J$6<>3,'Crecimiento del PIB'!$J$6<>4,'Crecimiento del PIB'!$J$6<>5,'Crecimiento del PIB'!$J$6<>6,'Crecimiento del PIB'!$J$6<>7),LOOKUP(1,'Datos mensuales'!#REF!,'Datos mensuales'!#REF!),LOOKUP('Crecimiento del PIB'!$J$6,'Datos mensuales'!#REF!,'Datos mensuales'!#REF!))","v":{"$error":"#REF!"}}]
[null,"IV",null,"",null,"","","",null,null,null,null,null,null,null,null,null,{"$f":"IF(AND('Crecimiento del PIB'!$J$6<>1,'Crecimiento del PIB'!$J$6<>2,'Crecimiento del PIB'!$J$6<>3,'Crecimiento del PIB'!$J$6<>4,'Crecimiento del PIB'!$J$6<>5,'Crecimiento del PIB'!$J$6<>6,'Crecimiento del PIB'!$J$6<>7),LOOKUP(1,'Datos mensuales'!#REF!,'Datos mensuales'!#REF!),LOOKUP('Crecimiento del PIB'!$J$6,'Datos mensuales'!#REF!,'Datos mensuales'!#REF!))","v":{"$error":"#REF!"}},{"$f":"IF(AND('Crecimiento del PIB'!$J$6<>1,'Crecimiento del PIB'!$J$6<>2,'Crecimiento del PIB'!$J$6<>3,'Crecimiento del PIB'!$J$6<>4,'Crecimiento del PIB'!$J$6<>5,'Crecimiento del PIB'!$J$6<>6,'Crecimiento del PIB'!$J$6<>7),LOOKUP(1,'Datos mensuales'!#REF!,'Datos mensuales'!#REF!),LOOKUP('Crecimiento del PIB'!$J$6,'Datos mensuales'!#REF!,'Datos mensuales'!#REF!))","v":{"$error":"#REF!"}}]
[null,null,null,null,null,null,null,null,null,null,null,null,null,null,null,null,null,{"$f":"IF(AND('Crecimiento del PIB'!$J$6<>1,'Crecimiento del PIB'!$J$6<>2,'Crecimiento del PIB'!$J$6<>3,'Crecimiento del PIB'!$J$6<>4,'Crecimiento del PIB'!$J$6<>5,'Crecimiento del PIB'!$J$6<>6,'Crecimiento del PIB'!$J$6<>7),LOOKUP(1,'Datos mensuales'!#REF!,'Datos mensuales'!#REF!),LOOKUP('Crecimiento del PIB'!$J$6,'Datos mensuales'!#REF!,'Datos mensuales'!#REF!))","v":{"$error":"#REF!"}},{"$f":"IF(AND('Crecimiento del PIB'!$J$6<>1,'Crecimiento del PIB'!$J$6<>2,'Crecimiento del PIB'!$J$6<>3,'Crecimiento del PIB'!$J$6<>4,'Crecimiento del PIB'!$J$6<>5,'Crecimiento del PIB'!$J$6<>6,'Crecimiento del PIB'!$J$6<>7),LOOKUP(1,'Datos mensuales'!#REF!,'Datos mensuales'!#REF!),LOOKUP('Crecimiento del PIB'!$J$6,'Datos mensuales'!#REF!,'Datos mensuales'!#REF!))","v":{"$error":"#REF!"}}]
[null,null,null,null,null,null,null,null,null,null,null,null,null,null,null,null,null,{"$f":"IF(AND('Crecimiento del PIB'!$J$6<>1,'Crecimiento del PIB'!$J$6<>2,'Crecimiento del PIB'!$J$6<>3,'Crecimiento del PIB'!$J$6<>4,'Crecimiento del PIB'!$J$6<>5,'Crecimiento del PIB'!$J$6<>6,'Crecimiento del PIB'!$J$6<>7),LOOKUP(1,'Datos mensuales'!#REF!,'Datos mensuales'!#REF!),LOOKUP('Crecimiento del PIB'!$J$6,'Datos mensuales'!#REF!,'Datos mensuales'!#REF!))","v":{"$error":"#REF!"}},{"$f":"IF(AND('Crecimiento del PIB'!$J$6<>1,'Crecimiento del PIB'!$J$6<>2,'Crecimiento del PIB'!$J$6<>3,'Crecimiento del PIB'!$J$6<>4,'Crecimiento del PIB'!$J$6<>5,'Crecimiento del PIB'!$J$6<>6,'Crecimiento del PIB'!$J$6<>7),LOOKUP(1,'Datos mensuales'!#REF!,'Datos mensuales'!#REF!),LOOKUP('Crecimiento del PIB'!$J$6,'Datos mensuales'!#REF!,'Datos mensuales'!#REF!))","v":{"$error":"#REF!"}}]
[null,null,null,null,null,null,null,null,null,null,null,null,null,null,null,null,null,{"$f":"IF(AND('Crecimiento del PIB'!$J$6<>1,'Crecimiento del PIB'!$J$6<>2,'Crecimiento del PIB'!$J$6<>3,'Crecimiento del PIB'!$J$6<>4,'Crecimiento del PIB'!$J$6<>5,'Crecimiento del PIB'!$J$6<>6,'Crecimiento del PIB'!$J$6<>7),LOOKUP(1,'Datos mensuales'!#REF!,'Datos mensuales'!#REF!),LOOKUP('Crecimiento del PIB'!$J$6,'Datos mensuales'!#REF!,'Datos mensuales'!#REF!))","v":{"$error":"#REF!"}},{"$f":"IF(AND('Crecimiento del PIB'!$J$6<>1,'Crecimiento del PIB'!$J$6<>2,'Crecimiento del PIB'!$J$6<>3,'Crecimiento del PIB'!$J$6<>4,'Crecimiento del PIB'!$J$6<>5,'Crecimiento del PIB'!$J$6<>6,'Crecimiento del PIB'!$J$6<>7),LOOKUP(1,'Datos mensuales'!#REF!,'Datos mensuales'!#REF!),LOOKUP('Crecimiento del PIB'!$J$6,'Datos mensuales'!#REF!,'Datos mensuales'!#REF!))","v":{"$error":"#REF!"}}]
[null,null,null,null,null,null,null,null,null,null,null,null,null,null,null,null,null,{"$f":"IF(AND('Crecimiento del PIB'!$J$6<>1,'Crecimiento del PIB'!$J$6<>2,'Crecimiento del PIB'!$J$6<>3,'Crecimiento del PIB'!$J$6<>4,'Crecimiento del PIB'!$J$6<>5,'Crecimiento del PIB'!$J$6<>6,'Crecimiento del PIB'!$J$6<>7),LOOKUP(1,'Datos mensuales'!#REF!,'Datos mensuales'!#REF!),LOOKUP('Crecimiento del PIB'!$J$6,'Datos mensuales'!#REF!,'Datos mensuales'!#REF!))","v":{"$error":"#REF!"}},{"$f":"IF(AND('Crecimiento del PIB'!$J$6<>1,'Crecimiento del PIB'!$J$6<>2,'Crecimiento del PIB'!$J$6<>3,'Crecimiento del PIB'!$J$6<>4,'Crecimiento del PIB'!$J$6<>5,'Crecimiento del PIB'!$J$6<>6,'Crecimiento del PIB'!$J$6<>7),LOOKUP(1,'Datos mensuales'!#REF!,'Datos mensuales'!#REF!),LOOKUP('Crecimiento del PIB'!$J$6,'Datos mensuales'!#REF!,'Datos mensuales'!#REF!))","v":{"$error":"#REF!"}}]
[null,null,null,null,null,null,null,null,null,null,null,null,null,null,null,null,null,{"$f":"IF(AND('Crecimiento del PIB'!$J$6<>1,'Crecimiento del PIB'!$J$6<>2,'Crecimiento del PIB'!$J$6<>3,'Crecimiento del PIB'!$J$6<>4,'Crecimiento del PIB'!$J$6<>5,'Crecimiento del PIB'!$J$6<>6,'Crecimiento del PIB'!$J$6<>7),LOOKUP(1,'Datos mensuales'!#REF!,'Datos mensuales'!#REF!),LOOKUP('Crecimiento del PIB'!$J$6,'Datos mensuales'!#REF!,'Datos mensuales'!#REF!))","v":{"$error":"#REF!"}},{"$f":"IF(AND('Crecimiento del PIB'!$J$6<>1,'Crecimiento del PIB'!$J$6<>2,'Crecimiento del PIB'!$J$6<>3,'Crecimiento del PIB'!$J$6<>4,'Crecimiento del PIB'!$J$6<>5,'Crecimiento del PIB'!$J$6<>6,'Crecimiento del PIB'!$J$6<>7),LOOKUP(1,'Datos mensuales'!#REF!,'Datos mensuales'!#REF!),LOOKUP('Crecimiento del PIB'!$J$6,'Datos mensuales'!#REF!,'Datos mensuales'!#REF!))","v":{"$error":"#REF!"}}]
[null,null,null,null,null,null,null,null,null,null,null,null,null,null,null,null,null,{"$f":"IF(AND('Crecimiento del PIB'!$J$6<>1,'Crecimiento del PIB'!$J$6<>2,'Crecimiento del PIB'!$J$6<>3,'Crecimiento del PIB'!$J$6<>4,'Crecimiento del PIB'!$J$6<>5,'Crecimiento del PIB'!$J$6<>6,'Crecimiento del PIB'!$J$6<>7),LOOKUP(1,'Datos mensuales'!#REF!,'Datos mensuales'!#REF!),LOOKUP('Crecimiento del PIB'!$J$6,'Datos mensuales'!#REF!,'Datos mensuales'!#REF!))","v":{"$error":"#REF!"}},{"$f":"IF(AND('Crecimiento del PIB'!$J$6<>1,'Crecimiento del PIB'!$J$6<>2,'Crecimiento del PIB'!$J$6<>3,'Crecimiento del PIB'!$J$6<>4,'Crecimiento del PIB'!$J$6<>5,'Crecimiento del PIB'!$J$6<>6,'Crecimiento del PIB'!$J$6<>7),LOOKUP(1,'Datos mensuales'!#REF!,'Datos mensuales'!#REF!),LOOKUP('Crecimiento del PIB'!$J$6,'Datos mensuales'!#REF!,'Datos mensuales'!#REF!))","v":{"$error":"#REF!"}}]
[null,null,null,null,null,null,null,null,null,null,null,null,null,null,null,null,null,{"$f":"IF(AND('Crecimiento del PIB'!$J$6<>1,'Crecimiento del PIB'!$J$6<>2,'Crecimiento del PIB'!$J$6<>3,'Crecimiento del PIB'!$J$6<>4,'Crecimiento del PIB'!$J$6<>5,'Crecimiento del PIB'!$J$6<>6,'Crecimiento del PIB'!$J$6<>7),LOOKUP(1,'Datos mensuales'!#REF!,'Datos mensuales'!#REF!),LOOKUP('Crecimiento del PIB'!$J$6,'Datos mensuales'!#REF!,'Datos mensuales'!#REF!))","v":{"$error":"#REF!"}},{"$f":"IF(AND('Crecimiento del PIB'!$J$6<>1,'Crecimiento del PIB'!$J$6<>2,'Crecimiento del PIB'!$J$6<>3,'Crecimiento del PIB'!$J$6<>4,'Crecimiento del PIB'!$J$6<>5,'Crecimiento del PIB'!$J$6<>6,'Crecimiento del PIB'!$J$6<>7),LOOKUP(1,'Datos mensuales'!#REF!,'Datos mensuales'!#REF!),LOOKUP('Crecimiento del PIB'!$J$6,'Datos mensuales'!#REF!,'Datos mensuales'!#REF!))","v":{"$error":"#REF!"}}]
[null,null,null,null,null,null,null,null,null,null,null,null,null,null,null,null,null,{"$f":"IF(AND('Crecimiento del PIB'!$J$6<>1,'Crecimiento del PIB'!$J$6<>2,'Crecimiento del PIB'!$J$6<>3,'Crecimiento del PIB'!$J$6<>4,'Crecimiento del PIB'!$J$6<>5,'Crecimiento del PIB'!$J$6<>6,'Crecimiento del PIB'!$J$6<>7),LOOKUP(1,'Datos mensuales'!#REF!,'Datos mensuales'!#REF!),LOOKUP('Crecimiento del PIB'!$J$6,'Datos mensuales'!#REF!,'Datos mensuales'!#REF!))","v":{"$error":"#REF!"}},{"$f":"IF(AND('Crecimiento del PIB'!$J$6<>1,'Crecimiento del PIB'!$J$6<>2,'Crecimiento del PIB'!$J$6<>3,'Crecimiento del PIB'!$J$6<>4,'Crecimiento del PIB'!$J$6<>5,'Crecimiento del PIB'!$J$6<>6,'Crecimiento del PIB'!$J$6<>7),LOOKUP(1,'Datos mensuales'!#REF!,'Datos mensuales'!#REF!),LOOKUP('Crecimiento del PIB'!$J$6,'Datos mensuales'!#REF!,'Datos mensuales'!#REF!))","v":{"$error":"#REF!"}}]
[null,null,null,null,null,null,null,null,null,null,null,null,null,null,null,null,null,{"$f":"IF(AND('Crecimiento del PIB'!$J$6<>1,'Crecimiento del PIB'!$J$6<>2,'Crecimiento del PIB'!$J$6<>3,'Crecimiento del PIB'!$J$6<>4,'Crecimiento del PIB'!$J$6<>5,'Crecimiento del PIB'!$J$6<>6,'Crecimiento del PIB'!$J$6<>7),LOOKUP(1,'Datos mensuales'!#REF!,'Datos mensuales'!#REF!),LOOKUP('Crecimiento del PIB'!$J$6,'Datos mensuales'!#REF!,'Datos mensuales'!#REF!))","v":{"$error":"#REF!"}},{"$f":"IF(AND('Crecimiento del PIB'!$J$6<>1,'Crecimiento del PIB'!$J$6<>2,'Crecimiento del PIB'!$J$6<>3,'Crecimiento del PIB'!$J$6<>4,'Crecimiento del PIB'!$J$6<>5,'Crecimiento del PIB'!$J$6<>6,'Crecimiento del PIB'!$J$6<>7),LOOKUP(1,'Datos mensuales'!#REF!,'Datos mensuales'!#REF!),LOOKUP('Crecimiento del PIB'!$J$6,'Datos mensuales'!#REF!,'Datos mensuales'!#REF!))","v":{"$error":"#REF!"}}]
[null,null,null,null,null,null,null,null,null,null,null,null,null,null,null,null,null,{"$f":"IF(AND('Crecimiento del PIB'!$J$6<>1,'Crecimiento del PIB'!$J$6<>2,'Crecimiento del PIB'!$J$6<>3,'Crecimiento del PIB'!$J$6<>4,'Crecimiento del PIB'!$J$6<>5,'Crecimiento del PIB'!$J$6<>6,'Crecimiento del PIB'!$J$6<>7),LOOKUP(1,'Datos mensuales'!#REF!,'Datos mensuales'!#REF!),LOOKUP('Crecimiento del PIB'!$J$6,'Datos mensuales'!#REF!,'Datos mensuales'!#REF!))","v":{"$error":"#REF!"}},{"$f":"IF(AND('Crecimiento del PIB'!$J$6<>1,'Crecimiento del PIB'!$J$6<>2,'Crecimiento del PIB'!$J$6<>3,'Crecimiento del PIB'!$J$6<>4,'Crecimiento del PIB'!$J$6<>5,'Crecimiento del PIB'!$J$6<>6,'Crecimiento del PIB'!$J$6<>7),LOOKUP(1,'Datos mensuales'!#REF!,'Datos mensuales'!#REF!),LOOKUP('Crecimiento del PIB'!$J$6,'Datos mensuales'!#REF!,'Datos mensuales'!#REF!))","v":{"$error":"#REF!"}}]
[null,null,null,null,null,null,null,null,null,null,null,null,null,null,null,null,null,{"$f":"IF(AND('Crecimiento del PIB'!$J$6<>1,'Crecimiento del PIB'!$J$6<>2,'Crecimiento del PIB'!$J$6<>3,'Crecimiento del PIB'!$J$6<>4,'Crecimiento del PIB'!$J$6<>5,'Crecimiento del PIB'!$J$6<>6,'Crecimiento del PIB'!$J$6<>7),LOOKUP(1,'Datos mensuales'!#REF!,'Datos mensuales'!#REF!),LOOKUP('Crecimiento del PIB'!$J$6,'Datos mensuales'!#REF!,'Datos mensuales'!#REF!))","v":{"$error":"#REF!"}},{"$f":"IF(AND('Crecimiento del PIB'!$J$6<>1,'Crecimiento del PIB'!$J$6<>2,'Crecimiento del PIB'!$J$6<>3,'Crecimiento del PIB'!$J$6<>4,'Crecimiento del PIB'!$J$6<>5,'Crecimiento del PIB'!$J$6<>6,'Crecimiento del PIB'!$J$6<>7),LOOKUP(1,'Datos mensuales'!#REF!,'Datos mensuales'!#REF!),LOOKUP('Crecimiento del PIB'!$J$6,'Datos mensuales'!#REF!,'Datos mensuales'!#REF!))","v":{"$error":"#REF!"}}]
[null,null,null,null,null,null,null,null,null,null,null,null,null,null,null,null,null,{"$f":"IF(AND('Crecimiento del PIB'!$J$6<>1,'Crecimiento del PIB'!$J$6<>2,'Crecimiento del PIB'!$J$6<>3,'Crecimiento del PIB'!$J$6<>4,'Crecimiento del PIB'!$J$6<>5,'Crecimiento del PIB'!$J$6<>6,'Crecimiento del PIB'!$J$6<>7),LOOKUP(1,'Datos mensuales'!#REF!,'Datos mensuales'!#REF!),LOOKUP('Crecimiento del PIB'!$J$6,'Datos mensuales'!#REF!,'Datos mensuales'!#REF!))","v":{"$error":"#REF!"}},{"$f":"IF(AND('Crecimiento del PIB'!$J$6<>1,'Crecimiento del PIB'!$J$6<>2,'Crecimiento del PIB'!$J$6<>3,'Crecimiento del PIB'!$J$6<>4,'Crecimiento del PIB'!$J$6<>5,'Crecimiento del PIB'!$J$6<>6,'Crecimiento del PIB'!$J$6<>7),LOOKUP(1,'Datos mensuales'!#REF!,'Datos mensuales'!#REF!),LOOKUP('Crecimiento del PIB'!$J$6,'Datos mensuales'!#REF!,'Datos mensuales'!#REF!))","v":{"$error":"#REF!"}}]
[null,null,null,null,null,null,null,null,null,null,null,null,null,null,null,null,null,{"$f":"IF(AND('Crecimiento del PIB'!$J$6<>1,'Crecimiento del PIB'!$J$6<>2,'Crecimiento del PIB'!$J$6<>3,'Crecimiento del PIB'!$J$6<>4,'Crecimiento del PIB'!$J$6<>5,'Crecimiento del PIB'!$J$6<>6,'Crecimiento del PIB'!$J$6<>7),LOOKUP(1,'Datos mensuales'!#REF!,'Datos mensuales'!#REF!),LOOKUP('Crecimiento del PIB'!$J$6,'Datos mensuales'!#REF!,'Datos mensuales'!#REF!))","v":{"$error":"#REF!"}},{"$f":"IF(AND('Crecimiento del PIB'!$J$6<>1,'Crecimiento del PIB'!$J$6<>2,'Crecimiento del PIB'!$J$6<>3,'Crecimiento del PIB'!$J$6<>4,'Crecimiento del PIB'!$J$6<>5,'Crecimiento del PIB'!$J$6<>6,'Crecimiento del PIB'!$J$6<>7),LOOKUP(1,'Datos mensuales'!#REF!,'Datos mensuales'!#REF!),LOOKUP('Crecimiento del PIB'!$J$6,'Datos mensuales'!#REF!,'Datos mensuales'!#REF!))","v":{"$error":"#REF!"}}]
[null,null,null,null,null,null,null,null,null,null,null,null,null,null,null,null,null,{"$f":"IF(AND('Crecimiento del PIB'!$J$6<>1,'Crecimiento del PIB'!$J$6<>2,'Crecimiento del PIB'!$J$6<>3,'Crecimiento del PIB'!$J$6<>4,'Crecimiento del PIB'!$J$6<>5,'Crecimiento del PIB'!$J$6<>6,'Crecimiento del PIB'!$J$6<>7),LOOKUP(1,'Datos mensuales'!#REF!,'Datos mensuales'!#REF!),LOOKUP('Crecimiento del PIB'!$J$6,'Datos mensuales'!#REF!,'Datos mensuales'!#REF!))","v":{"$error":"#REF!"}},{"$f":"IF(AND('Crecimiento del PIB'!$J$6<>1,'Crecimiento del PIB'!$J$6<>2,'Crecimiento del PIB'!$J$6<>3,'Crecimiento del PIB'!$J$6<>4,'Crecimiento del PIB'!$J$6<>5,'Crecimiento del PIB'!$J$6<>6,'Crecimiento del PIB'!$J$6<>7),LOOKUP(1,'Datos mensuales'!#REF!,'Datos mensuales'!#REF!),LOOKUP('Crecimiento del PIB'!$J$6,'Datos mensuales'!#REF!,'Datos mensuales'!#REF!))","v":{"$error":"#REF!"}}]
[null,null,null,null,null,null,null,null,null,null,null,null,null,null,null,null,null,{"$f":"IF(AND('Crecimiento del PIB'!$J$6<>1,'Crecimiento del PIB'!$J$6<>2,'Crecimiento del PIB'!$J$6<>3,'Crecimiento del PIB'!$J$6<>4,'Crecimiento del PIB'!$J$6<>5,'Crecimiento del PIB'!$J$6<>6,'Crecimiento del PIB'!$J$6<>7),LOOKUP(1,'Datos mensuales'!#REF!,'Datos mensuales'!#REF!),LOOKUP('Crecimiento del PIB'!$J$6,'Datos mensuales'!#REF!,'Datos mensuales'!#REF!))","v":{"$error":"#REF!"}},{"$f":"IF(AND('Crecimiento del PIB'!$J$6<>1,'Crecimiento del PIB'!$J$6<>2,'Crecimiento del PIB'!$J$6<>3,'Crecimiento del PIB'!$J$6<>4,'Crecimiento del PIB'!$J$6<>5,'Crecimiento del PIB'!$J$6<>6,'Crecimiento del PIB'!$J$6<>7),LOOKUP(1,'Datos mensuales'!#REF!,'Datos mensuales'!#REF!),LOOKUP('Crecimiento del PIB'!$J$6,'Datos mensuales'!#REF!,'Datos mensuales'!#REF!))","v":{"$error":"#REF!"}}]
[null,null,null,null,null,null,null,null,null,null,null,null,null,null,null,null,null,{"$f":"IF(AND('Crecimiento del PIB'!$J$6<>1,'Crecimiento del PIB'!$J$6<>2,'Crecimiento del PIB'!$J$6<>3,'Crecimiento del PIB'!$J$6<>4,'Crecimiento del PIB'!$J$6<>5,'Crecimiento del PIB'!$J$6<>6,'Crecimiento del PIB'!$J$6<>7),LOOKUP(1,'Datos mensuales'!#REF!,'Datos mensuales'!#REF!),LOOKUP('Crecimiento del PIB'!$J$6,'Datos mensuales'!#REF!,'Datos mensuales'!#REF!))","v":{"$error":"#REF!"}},{"$f":"IF(AND('Crecimiento del PIB'!$J$6<>1,'Crecimiento del PIB'!$J$6<>2,'Crecimiento del PIB'!$J$6<>3,'Crecimiento del PIB'!$J$6<>4,'Crecimiento del PIB'!$J$6<>5,'Crecimiento del PIB'!$J$6<>6,'Crecimiento del PIB'!$J$6<>7),LOOKUP(1,'Datos mensuales'!#REF!,'Datos mensuales'!#REF!),LOOKUP('Crecimiento del PIB'!$J$6,'Datos mensuales'!#REF!,'Datos mensuales'!#REF!))","v":{"$error":"#REF!"}}]
[null,null,null,null,null,null,null,null,null,null,null,null,null,null,null,null,null,{"$f":"IF(AND('Crecimiento del PIB'!$J$6<>1,'Crecimiento del PIB'!$J$6<>2,'Crecimiento del PIB'!$J$6<>3,'Crecimiento del PIB'!$J$6<>4,'Crecimiento del PIB'!$J$6<>5,'Crecimiento del PIB'!$J$6<>6,'Crecimiento del PIB'!$J$6<>7),LOOKUP(1,'Datos mensuales'!#REF!,'Datos mensuales'!#REF!),LOOKUP('Crecimiento del PIB'!$J$6,'Datos mensuales'!#REF!,'Datos mensuales'!#REF!))","v":{"$error":"#REF!"}},{"$f":"IF(AND('Crecimiento del PIB'!$J$6<>1,'Crecimiento del PIB'!$J$6<>2,'Crecimiento del PIB'!$J$6<>3,'Crecimiento del PIB'!$J$6<>4,'Crecimiento del PIB'!$J$6<>5,'Crecimiento del PIB'!$J$6<>6,'Crecimiento del PIB'!$J$6<>7),LOOKUP(1,'Datos mensuales'!#REF!,'Datos mensuales'!#REF!),LOOKUP('Crecimiento del PIB'!$J$6,'Datos mensuales'!#REF!,'Datos mensuales'!#REF!))","v":{"$error":"#REF!"}}]
[null,null,null,null,null,null,null,null,null,null,null,null,null,null,null,null,null,{"$f":"IF(AND('Crecimiento del PIB'!$J$6<>1,'Crecimiento del PIB'!$J$6<>2,'Crecimiento del PIB'!$J$6<>3,'Crecimiento del PIB'!$J$6<>4,'Crecimiento del PIB'!$J$6<>5,'Crecimiento del PIB'!$J$6<>6,'Crecimiento del PIB'!$J$6<>7),LOOKUP(1,'Datos mensuales'!#REF!,'Datos mensuales'!#REF!),LOOKUP('Crecimiento del PIB'!$J$6,'Datos mensuales'!#REF!,'Datos mensuales'!#REF!))","v":{"$error":"#REF!"}},{"$f":"IF(AND('Crecimiento del PIB'!$J$6<>1,'Crecimiento del PIB'!$J$6<>2,'Crecimiento del PIB'!$J$6<>3,'Crecimiento del PIB'!$J$6<>4,'Crecimiento del PIB'!$J$6<>5,'Crecimiento del PIB'!$J$6<>6,'Crecimiento del PIB'!$J$6<>7),LOOKUP(1,'Datos mensuales'!#REF!,'Datos mensuales'!#REF!),LOOKUP('Crecimiento del PIB'!$J$6,'Datos mensuales'!#REF!,'Datos mensuales'!#REF!))","v":{"$error":"#REF!"}}]
[null,null,null,null,null,null,null,null,null,null,null,null,null,null,null,null,null,{"$f":"IF(AND('Crecimiento del PIB'!$J$6<>1,'Crecimiento del PIB'!$J$6<>2,'Crecimiento del PIB'!$J$6<>3,'Crecimiento del PIB'!$J$6<>4,'Crecimiento del PIB'!$J$6<>5,'Crecimiento del PIB'!$J$6<>6,'Crecimiento del PIB'!$J$6<>7),LOOKUP(1,'Datos mensuales'!#REF!,'Datos mensuales'!#REF!),LOOKUP('Crecimiento del PIB'!$J$6,'Datos mensuales'!#REF!,'Datos mensuales'!#REF!))","v":{"$error":"#REF!"}},{"$f":"IF(AND('Crecimiento del PIB'!$J$6<>1,'Crecimiento del PIB'!$J$6<>2,'Crecimiento del PIB'!$J$6<>3,'Crecimiento del PIB'!$J$6<>4,'Crecimiento del PIB'!$J$6<>5,'Crecimiento del PIB'!$J$6<>6,'Crecimiento del PIB'!$J$6<>7),LOOKUP(1,'Datos mensuales'!#REF!,'Datos mensuales'!#REF!),LOOKUP('Crecimiento del PIB'!$J$6,'Datos mensuales'!#REF!,'Datos mensuales'!#REF!))","v":{"$error":"#REF!"}}]
[null,null,null,null,null,null,null,null,null,null,null,null,null,null,null,null,null,{"$f":"IF(AND('Crecimiento del PIB'!$J$6<>1,'Crecimiento del PIB'!$J$6<>2,'Crecimiento del PIB'!$J$6<>3,'Crecimiento del PIB'!$J$6<>4,'Crecimiento del PIB'!$J$6<>5,'Crecimiento del PIB'!$J$6<>6,'Crecimiento del PIB'!$J$6<>7),LOOKUP(1,'Datos mensuales'!#REF!,'Datos mensuales'!#REF!),LOOKUP('Crecimiento del PIB'!$J$6,'Datos mensuales'!#REF!,'Datos mensuales'!#REF!))","v":{"$error":"#REF!"}},{"$f":"IF(AND('Crecimiento del PIB'!$J$6<>1,'Crecimiento del PIB'!$J$6<>2,'Crecimiento del PIB'!$J$6<>3,'Crecimiento del PIB'!$J$6<>4,'Crecimiento del PIB'!$J$6<>5,'Crecimiento del PIB'!$J$6<>6,'Crecimiento del PIB'!$J$6<>7),LOOKUP(1,'Datos mensuales'!#REF!,'Datos mensuales'!#REF!),LOOKUP('Crecimiento del PIB'!$J$6,'Datos mensuales'!#REF!,'Datos mensuales'!#REF!))","v":{"$error":"#REF!"}}]
[null,null,null,null,null,null,null,null,null,null,null,null,null,null,null,null,null,{"$f":"IF(AND('Crecimiento del PIB'!$J$6<>1,'Crecimiento del PIB'!$J$6<>2,'Crecimiento del PIB'!$J$6<>3,'Crecimiento del PIB'!$J$6<>4,'Crecimiento del PIB'!$J$6<>5,'Crecimiento del PIB'!$J$6<>6,'Crecimiento del PIB'!$J$6<>7),LOOKUP(1,'Datos mensuales'!#REF!,'Datos mensuales'!#REF!),LOOKUP('Crecimiento del PIB'!$J$6,'Datos mensuales'!#REF!,'Datos mensuales'!#REF!))","v":{"$error":"#REF!"}},{"$f":"IF(AND('Crecimiento del PIB'!$J$6<>1,'Crecimiento del PIB'!$J$6<>2,'Crecimiento del PIB'!$J$6<>3,'Crecimiento del PIB'!$J$6<>4,'Crecimiento del PIB'!$J$6<>5,'Crecimiento del PIB'!$J$6<>6,'Crecimiento del PIB'!$J$6<>7),LOOKUP(1,'Datos mensuales'!#REF!,'Datos mensuales'!#REF!),LOOKUP('Crecimiento del PIB'!$J$6,'Datos mensuales'!#REF!,'Datos mensuales'!#REF!))","v":{"$error":"#REF!"}}]
[null,null,null,null,null,null,null,null,null,null,null,null,null,null,null,null,null,{"$f":"IF(AND('Crecimiento del PIB'!$J$6<>1,'Crecimiento del PIB'!$J$6<>2,'Crecimiento del PIB'!$J$6<>3,'Crecimiento del PIB'!$J$6<>4,'Crecimiento del PIB'!$J$6<>5,'Crecimiento del PIB'!$J$6<>6,'Crecimiento del PIB'!$J$6<>7),LOOKUP(1,'Datos mensuales'!#REF!,'Datos mensuales'!#REF!),LOOKUP('Crecimiento del PIB'!$J$6,'Datos mensuales'!#REF!,'Datos mensuales'!#REF!))","v":{"$error":"#REF!"}},{"$f":"IF(AND('Crecimiento del PIB'!$J$6<>1,'Crecimiento del PIB'!$J$6<>2,'Crecimiento del PIB'!$J$6<>3,'Crecimiento del PIB'!$J$6<>4,'Crecimiento del PIB'!$J$6<>5,'Crecimiento del PIB'!$J$6<>6,'Crecimiento del PIB'!$J$6<>7),LOOKUP(1,'Datos mensuales'!#REF!,'Datos mensuales'!#REF!),LOOKUP('Crecimiento del PIB'!$J$6,'Datos mensuales'!#REF!,'Datos mensuales'!#REF!))","v":{"$error":"#REF!"}}]
[null,null,null,null,null,null,null,null,null,null,null,null,null,null,null,null,null,{"$f":"IF(AND('Crecimiento del PIB'!$J$6<>1,'Crecimiento del PIB'!$J$6<>2,'Crecimiento del PIB'!$J$6<>3,'Crecimiento del PIB'!$J$6<>4,'Crecimiento del PIB'!$J$6<>5,'Crecimiento del PIB'!$J$6<>6,'Crecimiento del PIB'!$J$6<>7),LOOKUP(1,'Datos mensuales'!#REF!,'Datos mensuales'!#REF!),LOOKUP('Crecimiento del PIB'!$J$6,'Datos mensuales'!#REF!,'Datos mensuales'!#REF!))","v":{"$error":"#REF!"}},{"$f":"IF(AND('Crecimiento del PIB'!$J$6<>1,'Crecimiento del PIB'!$J$6<>2,'Crecimiento del PIB'!$J$6<>3,'Crecimiento del PIB'!$J$6<>4,'Crecimiento del PIB'!$J$6<>5,'Crecimiento del PIB'!$J$6<>6,'Crecimiento del PIB'!$J$6<>7),LOOKUP(1,'Datos mensuales'!#REF!,'Datos mensuales'!#REF!),LOOKUP('Crecimiento del PIB'!$J$6,'Datos mensuales'!#REF!,'Datos mensuales'!#REF!))","v":{"$error":"#REF!"}}]
[null,null,null,null,null,null,null,null,null,null,null,null,null,null,null,null,null,{"$f":"IF(AND('Crecimiento del PIB'!$J$6<>1,'Crecimiento del PIB'!$J$6<>2,'Crecimiento del PIB'!$J$6<>3,'Crecimiento del PIB'!$J$6<>4,'Crecimiento del PIB'!$J$6<>5,'Crecimiento del PIB'!$J$6<>6,'Crecimiento del PIB'!$J$6<>7),LOOKUP(1,'Datos mensuales'!#REF!,'Datos mensuales'!#REF!),LOOKUP('Crecimiento del PIB'!$J$6,'Datos mensuales'!#REF!,'Datos mensuales'!#REF!))","v":{"$error":"#REF!"}},{"$f":"IF(AND('Crecimiento del PIB'!$J$6<>1,'Crecimiento del PIB'!$J$6<>2,'Crecimiento del PIB'!$J$6<>3,'Crecimiento del PIB'!$J$6<>4,'Crecimiento del PIB'!$J$6<>5,'Crecimiento del PIB'!$J$6<>6,'Crecimiento del PIB'!$J$6<>7),LOOKUP(1,'Datos mensuales'!#REF!,'Datos mensuales'!#REF!),LOOKUP('Crecimiento del PIB'!$J$6,'Datos mensuales'!#REF!,'Datos mensuales'!#REF!))","v":{"$error":"#REF!"}}]
[null,null,null,null,null,null,null,null,null,null,null,null,null,null,null,null,null,{"$f":"IF(AND('Crecimiento del PIB'!$J$6<>1,'Crecimiento del PIB'!$J$6<>2,'Crecimiento del PIB'!$J$6<>3,'Crecimiento del PIB'!$J$6<>4,'Crecimiento del PIB'!$J$6<>5,'Crecimiento del PIB'!$J$6<>6,'Crecimiento del PIB'!$J$6<>7),LOOKUP(1,'Datos mensuales'!#REF!,'Datos mensuales'!#REF!),LOOKUP('Crecimiento del PIB'!$J$6,'Datos mensuales'!#REF!,'Datos mensuales'!#REF!))","v":{"$error":"#REF!"}},{"$f":"IF(AND('Crecimiento del PIB'!$J$6<>1,'Crecimiento del PIB'!$J$6<>2,'Crecimiento del PIB'!$J$6<>3,'Crecimiento del PIB'!$J$6<>4,'Crecimiento del PIB'!$J$6<>5,'Crecimiento del PIB'!$J$6<>6,'Crecimiento del PIB'!$J$6<>7),LOOKUP(1,'Datos mensuales'!#REF!,'Datos mensuales'!#REF!),LOOKUP('Crecimiento del PIB'!$J$6,'Datos mensuales'!#REF!,'Datos mensuales'!#REF!))","v":{"$error":"#REF!"}}]
[null,null,null,null,null,null,null,null,null,null,null,null,null,null,null,null,null,{"$f":"IF(AND('Crecimiento del PIB'!$J$6<>1,'Crecimiento del PIB'!$J$6<>2,'Crecimiento del PIB'!$J$6<>3,'Crecimiento del PIB'!$J$6<>4,'Crecimiento del PIB'!$J$6<>5,'Crecimiento del PIB'!$J$6<>6,'Crecimiento del PIB'!$J$6<>7),LOOKUP(1,'Datos mensuales'!#REF!,'Datos mensuales'!#REF!),LOOKUP('Crecimiento del PIB'!$J$6,'Datos mensuales'!#REF!,'Datos mensuales'!#REF!))","v":{"$error":"#REF!"}},{"$f":"IF(AND('Crecimiento del PIB'!$J$6<>1,'Crecimiento del PIB'!$J$6<>2,'Crecimiento del PIB'!$J$6<>3,'Crecimiento del PIB'!$J$6<>4,'Crecimiento del PIB'!$J$6<>5,'Crecimiento del PIB'!$J$6<>6,'Crecimiento del PIB'!$J$6<>7),LOOKUP(1,'Datos mensuales'!#REF!,'Datos mensuales'!#REF!),LOOKUP('Crecimiento del PIB'!$J$6,'Datos mensuales'!#REF!,'Datos mensuales'!#REF!))","v":{"$error":"#REF!"}}]
[null,null,null,null,null,null,null,null,null,null,null,null,null,null,null,null,null,{"$f":"IF(AND('Crecimiento del PIB'!$J$6<>1,'Crecimiento del PIB'!$J$6<>2,'Crecimiento del PIB'!$J$6<>3,'Crecimiento del PIB'!$J$6<>4,'Crecimiento del PIB'!$J$6<>5,'Crecimiento del PIB'!$J$6<>6,'Crecimiento del PIB'!$J$6<>7),LOOKUP(1,'Datos mensuales'!#REF!,'Datos mensuales'!#REF!),LOOKUP('Crecimiento del PIB'!$J$6,'Datos mensuales'!#REF!,'Datos mensuales'!#REF!))","v":{"$error":"#REF!"}},{"$f":"IF(AND('Crecimiento del PIB'!$J$6<>1,'Crecimiento del PIB'!$J$6<>2,'Crecimiento del PIB'!$J$6<>3,'Crecimiento del PIB'!$J$6<>4,'Crecimiento del PIB'!$J$6<>5,'Crecimiento del PIB'!$J$6<>6,'Crecimiento del PIB'!$J$6<>7),LOOKUP(1,'Datos mensuales'!#REF!,'Datos mensuales'!#REF!),LOOKUP('Crecimiento del PIB'!$J$6,'Datos mensuales'!#REF!,'Datos mensuales'!#REF!))","v":{"$error":"#REF!"}}]
[null,null,null,null,null,null,null,null,null,null,null,null,null,null,null,null,null,{"$f":"IF(AND('Crecimiento del PIB'!$J$6<>1,'Crecimiento del PIB'!$J$6<>2,'Crecimiento del PIB'!$J$6<>3,'Crecimiento del PIB'!$J$6<>4,'Crecimiento del PIB'!$J$6<>5,'Crecimiento del PIB'!$J$6<>6,'Crecimiento del PIB'!$J$6<>7),LOOKUP(1,'Datos mensuales'!#REF!,'Datos mensuales'!#REF!),LOOKUP('Crecimiento del PIB'!$J$6,'Datos mensuales'!#REF!,'Datos mensuales'!#REF!))","v":{"$error":"#REF!"}},{"$f":"IF(AND('Crecimiento del PIB'!$J$6<>1,'Crecimiento del PIB'!$J$6<>2,'Crecimiento del PIB'!$J$6<>3,'Crecimiento del PIB'!$J$6<>4,'Crecimiento del PIB'!$J$6<>5,'Crecimiento del PIB'!$J$6<>6,'Crecimiento del PIB'!$J$6<>7),LOOKUP(1,'Datos mensuales'!#REF!,'Datos mensuales'!#REF!),LOOKUP('Crecimiento del PIB'!$J$6,'Datos mensuales'!#REF!,'Datos mensuales'!#REF!))","v":{"$error":"#REF!"}}]
[null,null,null,null,null,null,null,null,null,null,null,null,null,null,null,null,null,{"$f":"IF(AND('Crecimiento del PIB'!$J$6<>1,'Crecimiento del PIB'!$J$6<>2,'Crecimiento del PIB'!$J$6<>3,'Crecimiento del PIB'!$J$6<>4,'Crecimiento del PIB'!$J$6<>5,'Crecimiento del PIB'!$J$6<>6,'Crecimiento del PIB'!$J$6<>7),LOOKUP(1,'Datos mensuales'!#REF!,'Datos mensuales'!#REF!),LOOKUP('Crecimiento del PIB'!$J$6,'Datos mensuales'!#REF!,'Datos mensuales'!#REF!))","v":{"$error":"#REF!"}},{"$f":"IF(AND('Crecimiento del PIB'!$J$6<>1,'Crecimiento del PIB'!$J$6<>2,'Crecimiento del PIB'!$J$6<>3,'Crecimiento del PIB'!$J$6<>4,'Crecimiento del PIB'!$J$6<>5,'Crecimiento del PIB'!$J$6<>6,'Crecimiento del PIB'!$J$6<>7),LOOKUP(1,'Datos mensuales'!#REF!,'Datos mensuales'!#REF!),LOOKUP('Crecimiento del PIB'!$J$6,'Datos mensuales'!#REF!,'Datos mensuales'!#REF!))","v":{"$error":"#REF!"}}]
[null,null,null,null,null,null,null,null,null,null,null,null,null,null,null,null,null,{"$f":"IF(AND('Crecimiento del PIB'!$J$6<>1,'Crecimiento del PIB'!$J$6<>2,'Crecimiento del PIB'!$J$6<>3,'Crecimiento del PIB'!$J$6<>4,'Crecimiento del PIB'!$J$6<>5,'Crecimiento del PIB'!$J$6<>6,'Crecimiento del PIB'!$J$6<>7),LOOKUP(1,'Datos mensuales'!#REF!,'Datos mensuales'!#REF!),LOOKUP('Crecimiento del PIB'!$J$6,'Datos mensuales'!#REF!,'Datos mensuales'!#REF!))","v":{"$error":"#REF!"}},{"$f":"IF(AND('Crecimiento del PIB'!$J$6<>1,'Crecimiento del PIB'!$J$6<>2,'Crecimiento del PIB'!$J$6<>3,'Crecimiento del PIB'!$J$6<>4,'Crecimiento del PIB'!$J$6<>5,'Crecimiento del PIB'!$J$6<>6,'Crecimiento del PIB'!$J$6<>7),LOOKUP(1,'Datos mensuales'!#REF!,'Datos mensuales'!#REF!),LOOKUP('Crecimiento del PIB'!$J$6,'Datos mensuales'!#REF!,'Datos mensuales'!#REF!))","v":{"$error":"#REF!"}}]
[null,null,null,null,null,null,null,null,null,null,null,null,null,null,null,null,null,{"$f":"IF(AND('Crecimiento del PIB'!$J$6<>1,'Crecimiento del PIB'!$J$6<>2,'Crecimiento del PIB'!$J$6<>3,'Crecimiento del PIB'!$J$6<>4,'Crecimiento del PIB'!$J$6<>5,'Crecimiento del PIB'!$J$6<>6,'Crecimiento del PIB'!$J$6<>7),LOOKUP(1,'Datos mensuales'!#REF!,'Datos mensuales'!#REF!),LOOKUP('Crecimiento del PIB'!$J$6,'Datos mensuales'!#REF!,'Datos mensuales'!#REF!))","v":{"$error":"#REF!"}},{"$f":"IF(AND('Crecimiento del PIB'!$J$6<>1,'Crecimiento del PIB'!$J$6<>2,'Crecimiento del PIB'!$J$6<>3,'Crecimiento del PIB'!$J$6<>4,'Crecimiento del PIB'!$J$6<>5,'Crecimiento del PIB'!$J$6<>6,'Crecimiento del PIB'!$J$6<>7),LOOKUP(1,'Datos mensuales'!#REF!,'Datos mensuales'!#REF!),LOOKUP('Crecimiento del PIB'!$J$6,'Datos mensuales'!#REF!,'Datos mensuales'!#REF!))","v":{"$error":"#REF!"}}]
[null,null,null,null,null,null,null,null,null,null,null,null,null,null,null,null,null,{"$f":"IF(AND('Crecimiento del PIB'!$J$6<>1,'Crecimiento del PIB'!$J$6<>2,'Crecimiento del PIB'!$J$6<>3,'Crecimiento del PIB'!$J$6<>4,'Crecimiento del PIB'!$J$6<>5,'Crecimiento del PIB'!$J$6<>6,'Crecimiento del PIB'!$J$6<>7),LOOKUP(1,'Datos mensuales'!#REF!,'Datos mensuales'!#REF!),LOOKUP('Crecimiento del PIB'!$J$6,'Datos mensuales'!#REF!,'Datos mensuales'!#REF!))","v":{"$error":"#REF!"}},{"$f":"IF(AND('Crecimiento del PIB'!$J$6<>1,'Crecimiento del PIB'!$J$6<>2,'Crecimiento del PIB'!$J$6<>3,'Crecimiento del PIB'!$J$6<>4,'Crecimiento del PIB'!$J$6<>5,'Crecimiento del PIB'!$J$6<>6,'Crecimiento del PIB'!$J$6<>7),LOOKUP(1,'Datos mensuales'!#REF!,'Datos mensuales'!#REF!),LOOKUP('Crecimiento del PIB'!$J$6,'Datos mensuales'!#REF!,'Datos mensuales'!#REF!))","v":{"$error":"#REF!"}}]
[null,null,null,null,null,null,null,null,null,null,null,null,null,null,null,null,null,{"$f":"IF(AND('Crecimiento del PIB'!$J$6<>1,'Crecimiento del PIB'!$J$6<>2,'Crecimiento del PIB'!$J$6<>3,'Crecimiento del PIB'!$J$6<>4,'Crecimiento del PIB'!$J$6<>5,'Crecimiento del PIB'!$J$6<>6,'Crecimiento del PIB'!$J$6<>7),LOOKUP(1,'Datos mensuales'!#REF!,'Datos mensuales'!#REF!),LOOKUP('Crecimiento del PIB'!$J$6,'Datos mensuales'!#REF!,'Datos mensuales'!#REF!))","v":{"$error":"#REF!"}},{"$f":"IF(AND('Crecimiento del PIB'!$J$6<>1,'Crecimiento del PIB'!$J$6<>2,'Crecimiento del PIB'!$J$6<>3,'Crecimiento del PIB'!$J$6<>4,'Crecimiento del PIB'!$J$6<>5,'Crecimiento del PIB'!$J$6<>6,'Crecimiento del PIB'!$J$6<>7),LOOKUP(1,'Datos mensuales'!#REF!,'Datos mensuales'!#REF!),LOOKUP('Crecimiento del PIB'!$J$6,'Datos mensuales'!#REF!,'Datos mensuales'!#REF!))","v":{"$error":"#REF!"}}]
[null,null,null,null,null,null,null,null,null,null,null,null,null,null,null,null,null,{"$f":"IF(AND('Crecimiento del PIB'!$J$6<>1,'Crecimiento del PIB'!$J$6<>2,'Crecimiento del PIB'!$J$6<>3,'Crecimiento del PIB'!$J$6<>4,'Crecimiento del PIB'!$J$6<>5,'Crecimiento del PIB'!$J$6<>6,'Crecimiento del PIB'!$J$6<>7),LOOKUP(1,'Datos mensuales'!#REF!,'Datos mensuales'!#REF!),LOOKUP('Crecimiento del PIB'!$J$6,'Datos mensuales'!#REF!,'Datos mensuales'!#REF!))","v":{"$error":"#REF!"}},{"$f":"IF(AND('Crecimiento del PIB'!$J$6<>1,'Crecimiento del PIB'!$J$6<>2,'Crecimiento del PIB'!$J$6<>3,'Crecimiento del PIB'!$J$6<>4,'Crecimiento del PIB'!$J$6<>5,'Crecimiento del PIB'!$J$6<>6,'Crecimiento del PIB'!$J$6<>7),LOOKUP(1,'Datos mensuales'!#REF!,'Datos mensuales'!#REF!),LOOKUP('Crecimiento del PIB'!$J$6,'Datos mensuales'!#REF!,'Datos mensuales'!#REF!))","v":{"$error":"#REF!"}}]
[null,null,null,null,null,null,null,null,null,null,null,null,null,null,null,null,null,{"$f":"IF(AND('Crecimiento del PIB'!$J$6<>1,'Crecimiento del PIB'!$J$6<>2,'Crecimiento del PIB'!$J$6<>3,'Crecimiento del PIB'!$J$6<>4,'Crecimiento del PIB'!$J$6<>5,'Crecimiento del PIB'!$J$6<>6,'Crecimiento del PIB'!$J$6<>7),LOOKUP(1,'Datos mensuales'!#REF!,'Datos mensuales'!#REF!),LOOKUP('Crecimiento del PIB'!$J$6,'Datos mensuales'!#REF!,'Datos mensuales'!#REF!))","v":{"$error":"#REF!"}},{"$f":"IF(AND('Crecimiento del PIB'!$J$6<>1,'Crecimiento del PIB'!$J$6<>2,'Crecimiento del PIB'!$J$6<>3,'Crecimiento del PIB'!$J$6<>4,'Crecimiento del PIB'!$J$6<>5,'Crecimiento del PIB'!$J$6<>6,'Crecimiento del PIB'!$J$6<>7),LOOKUP(1,'Datos mensuales'!#REF!,'Datos mensuales'!#REF!),LOOKUP('Crecimiento del PIB'!$J$6,'Datos mensuales'!#REF!,'Datos mensuales'!#REF!))","v":{"$error":"#REF!"}}]
[null,null,null,null,null,null,null,null,null,null,null,null,null,null,null,null,null,{"$f":"IF(AND('Crecimiento del PIB'!$J$6<>1,'Crecimiento del PIB'!$J$6<>2,'Crecimiento del PIB'!$J$6<>3,'Crecimiento del PIB'!$J$6<>4,'Crecimiento del PIB'!$J$6<>5,'Crecimiento del PIB'!$J$6<>6,'Crecimiento del PIB'!$J$6<>7),LOOKUP(1,'Datos mensuales'!#REF!,'Datos mensuales'!#REF!),LOOKUP('Crecimiento del PIB'!$J$6,'Datos mensuales'!#REF!,'Datos mensuales'!#REF!))","v":{"$error":"#REF!"}},{"$f":"IF(AND('Crecimiento del PIB'!$J$6<>1,'Crecimiento del PIB'!$J$6<>2,'Crecimiento del PIB'!$J$6<>3,'Crecimiento del PIB'!$J$6<>4,'Crecimiento del PIB'!$J$6<>5,'Crecimiento del PIB'!$J$6<>6,'Crecimiento del PIB'!$J$6<>7),LOOKUP(1,'Datos mensuales'!#REF!,'Datos mensuales'!#REF!),LOOKUP('Crecimiento del PIB'!$J$6,'Datos mensuales'!#REF!,'Datos mensuales'!#REF!))","v":{"$error":"#REF!"}}]
[null,null,null,null,null,null,null,null,null,null,null,null,null,null,null,null,null,{"$f":"IF(AND('Crecimiento del PIB'!$J$6<>1,'Crecimiento del PIB'!$J$6<>2,'Crecimiento del PIB'!$J$6<>3,'Crecimiento del PIB'!$J$6<>4,'Crecimiento del PIB'!$J$6<>5,'Crecimiento del PIB'!$J$6<>6,'Crecimiento del PIB'!$J$6<>7),LOOKUP(1,'Datos mensuales'!#REF!,'Datos mensuales'!#REF!),LOOKUP('Crecimiento del PIB'!$J$6,'Datos mensuales'!#REF!,'Datos mensuales'!#REF!))","v":{"$error":"#REF!"}},{"$f":"IF(AND('Crecimiento del PIB'!$J$6<>1,'Crecimiento del PIB'!$J$6<>2,'Crecimiento del PIB'!$J$6<>3,'Crecimiento del PIB'!$J$6<>4,'Crecimiento del PIB'!$J$6<>5,'Crecimiento del PIB'!$J$6<>6,'Crecimiento del PIB'!$J$6<>7),LOOKUP(1,'Datos mensuales'!#REF!,'Datos mensuales'!#REF!),LOOKUP('Crecimiento del PIB'!$J$6,'Datos mensuales'!#REF!,'Datos mensuales'!#REF!))","v":{"$error":"#REF!"}}]
[null,null,null,null,null,null,null,null,null,null,null,null,null,null,null,null,null,{"$f":"IF(AND('Crecimiento del PIB'!$J$6<>1,'Crecimiento del PIB'!$J$6<>2,'Crecimiento del PIB'!$J$6<>3,'Crecimiento del PIB'!$J$6<>4,'Crecimiento del PIB'!$J$6<>5,'Crecimiento del PIB'!$J$6<>6,'Crecimiento del PIB'!$J$6<>7),LOOKUP(1,'Datos mensuales'!#REF!,'Datos mensuales'!#REF!),LOOKUP('Crecimiento del PIB'!$J$6,'Datos mensuales'!#REF!,'Datos mensuales'!#REF!))","v":{"$error":"#REF!"}},{"$f":"IF(AND('Crecimiento del PIB'!$J$6<>1,'Crecimiento del PIB'!$J$6<>2,'Crecimiento del PIB'!$J$6<>3,'Crecimiento del PIB'!$J$6<>4,'Crecimiento del PIB'!$J$6<>5,'Crecimiento del PIB'!$J$6<>6,'Crecimiento del PIB'!$J$6<>7),LOOKUP(1,'Datos mensuales'!#REF!,'Datos mensuales'!#REF!),LOOKUP('Crecimiento del PIB'!$J$6,'Datos mensuales'!#REF!,'Datos mensuales'!#REF!))","v":{"$error":"#REF!"}}]
[null,null,null,null,null,null,null,null,null,null,null,null,null,null,null,null,null,{"$f":"IF(AND('Crecimiento del PIB'!$J$6<>1,'Crecimiento del PIB'!$J$6<>2,'Crecimiento del PIB'!$J$6<>3,'Crecimiento del PIB'!$J$6<>4,'Crecimiento del PIB'!$J$6<>5,'Crecimiento del PIB'!$J$6<>6,'Crecimiento del PIB'!$J$6<>7),LOOKUP(1,'Datos mensuales'!#REF!,'Datos mensuales'!#REF!),LOOKUP('Crecimiento del PIB'!$J$6,'Datos mensuales'!#REF!,'Datos mensuales'!#REF!))","v":{"$error":"#REF!"}},{"$f":"IF(AND('Crecimiento del PIB'!$J$6<>1,'Crecimiento del PIB'!$J$6<>2,'Crecimiento del PIB'!$J$6<>3,'Crecimiento del PIB'!$J$6<>4,'Crecimiento del PIB'!$J$6<>5,'Crecimiento del PIB'!$J$6<>6,'Crecimiento del PIB'!$J$6<>7),LOOKUP(1,'Datos mensuales'!#REF!,'Datos mensuales'!#REF!),LOOKUP('Crecimiento del PIB'!$J$6,'Datos mensuales'!#REF!,'Datos mensuales'!#REF!))","v":{"$error":"#REF!"}}]
[null,null,null,null,null,null,null,null,null,null,null,null,null,null,null,null,null,{"$f":"IF(AND('Crecimiento del PIB'!$J$6<>1,'Crecimiento del PIB'!$J$6<>2,'Crecimiento del PIB'!$J$6<>3,'Crecimiento del PIB'!$J$6<>4,'Crecimiento del PIB'!$J$6<>5,'Crecimiento del PIB'!$J$6<>6,'Crecimiento del PIB'!$J$6<>7),LOOKUP(1,'Datos mensuales'!#REF!,'Datos mensuales'!#REF!),LOOKUP('Crecimiento del PIB'!$J$6,'Datos mensuales'!#REF!,'Datos mensuales'!#REF!))","v":{"$error":"#REF!"}},{"$f":"IF(AND('Crecimiento del PIB'!$J$6<>1,'Crecimiento del PIB'!$J$6<>2,'Crecimiento del PIB'!$J$6<>3,'Crecimiento del PIB'!$J$6<>4,'Crecimiento del PIB'!$J$6<>5,'Crecimiento del PIB'!$J$6<>6,'Crecimiento del PIB'!$J$6<>7),LOOKUP(1,'Datos mensuales'!#REF!,'Datos mensuales'!#REF!),LOOKUP('Crecimiento del PIB'!$J$6,'Datos mensuales'!#REF!,'Datos mensuales'!#REF!))","v":{"$error":"#REF!"}}]
[null,null,null,null,null,null,null,null,null,null,null,null,null,null,null,null,null,{"$f":"IF(AND('Crecimiento del PIB'!$J$6<>1,'Crecimiento del PIB'!$J$6<>2,'Crecimiento del PIB'!$J$6<>3,'Crecimiento del PIB'!$J$6<>4,'Crecimiento del PIB'!$J$6<>5,'Crecimiento del PIB'!$J$6<>6,'Crecimiento del PIB'!$J$6<>7),LOOKUP(1,'Datos mensuales'!#REF!,'Datos mensuales'!#REF!),LOOKUP('Crecimiento del PIB'!$J$6,'Datos mensuales'!#REF!,'Datos mensuales'!#REF!))","v":{"$error":"#REF!"}},{"$f":"IF(AND('Crecimiento del PIB'!$J$6<>1,'Crecimiento del PIB'!$J$6<>2,'Crecimiento del PIB'!$J$6<>3,'Crecimiento del PIB'!$J$6<>4,'Crecimiento del PIB'!$J$6<>5,'Crecimiento del PIB'!$J$6<>6,'Crecimiento del PIB'!$J$6<>7),LOOKUP(1,'Datos mensuales'!#REF!,'Datos mensuales'!#REF!),LOOKUP('Crecimiento del PIB'!$J$6,'Datos mensuales'!#REF!,'Datos mensuales'!#REF!))","v":{"$error":"#REF!"}}]
[null,null,null,null,null,null,null,null,null,null,null,null,null,null,null,null,null,{"$f":"IF(AND('Crecimiento del PIB'!$J$6<>1,'Crecimiento del PIB'!$J$6<>2,'Crecimiento del PIB'!$J$6<>3,'Crecimiento del PIB'!$J$6<>4,'Crecimiento del PIB'!$J$6<>5,'Crecimiento del PIB'!$J$6<>6,'Crecimiento del PIB'!$J$6<>7),LOOKUP(1,'Datos mensuales'!#REF!,'Datos mensuales'!#REF!),LOOKUP('Crecimiento del PIB'!$J$6,'Datos mensuales'!#REF!,'Datos mensuales'!#REF!))","v":{"$error":"#REF!"}},{"$f":"IF(AND('Crecimiento del PIB'!$J$6<>1,'Crecimiento del PIB'!$J$6<>2,'Crecimiento del PIB'!$J$6<>3,'Crecimiento del PIB'!$J$6<>4,'Crecimiento del PIB'!$J$6<>5,'Crecimiento del PIB'!$J$6<>6,'Crecimiento del PIB'!$J$6<>7),LOOKUP(1,'Datos mensuales'!#REF!,'Datos mensuales'!#REF!),LOOKUP('Crecimiento del PIB'!$J$6,'Datos mensuales'!#REF!,'Datos mensuales'!#REF!))","v":{"$error":"#REF!"}}]
[null,null,null,null,null,null,null,null,null,null,null,null,null,null,null,null,null,{"$f":"IF(AND('Crecimiento del PIB'!$J$6<>1,'Crecimiento del PIB'!$J$6<>2,'Crecimiento del PIB'!$J$6<>3,'Crecimiento del PIB'!$J$6<>4,'Crecimiento del PIB'!$J$6<>5,'Crecimiento del PIB'!$J$6<>6,'Crecimiento del PIB'!$J$6<>7),LOOKUP(1,'Datos mensuales'!#REF!,'Datos mensuales'!#REF!),LOOKUP('Crecimiento del PIB'!$J$6,'Datos mensuales'!#REF!,'Datos mensuales'!#REF!))","v":{"$error":"#REF!"}},{"$f":"IF(AND('Crecimiento del PIB'!$J$6<>1,'Crecimiento del PIB'!$J$6<>2,'Crecimiento del PIB'!$J$6<>3,'Crecimiento del PIB'!$J$6<>4,'Crecimiento del PIB'!$J$6<>5,'Crecimiento del PIB'!$J$6<>6,'Crecimiento del PIB'!$J$6<>7),LOOKUP(1,'Datos mensuales'!#REF!,'Datos mensuales'!#REF!),LOOKUP('Crecimiento del PIB'!$J$6,'Datos mensuales'!#REF!,'Datos mensuales'!#REF!))","v":{"$error":"#REF!"}}]
[null,null,null,null,null,null,null,null,null,null,null,null,null,null,null,null,null,{"$f":"IF(AND('Crecimiento del PIB'!$J$6<>1,'Crecimiento del PIB'!$J$6<>2,'Crecimiento del PIB'!$J$6<>3,'Crecimiento del PIB'!$J$6<>4,'Crecimiento del PIB'!$J$6<>5,'Crecimiento del PIB'!$J$6<>6,'Crecimiento del PIB'!$J$6<>7),LOOKUP(1,'Datos mensuales'!#REF!,'Datos mensuales'!#REF!),LOOKUP('Crecimiento del PIB'!$J$6,'Datos mensuales'!#REF!,'Datos mensuales'!#REF!))","v":{"$error":"#REF!"}},{"$f":"IF(AND('Crecimiento del PIB'!$J$6<>1,'Crecimiento del PIB'!$J$6<>2,'Crecimiento del PIB'!$J$6<>3,'Crecimiento del PIB'!$J$6<>4,'Crecimiento del PIB'!$J$6<>5,'Crecimiento del PIB'!$J$6<>6,'Crecimiento del PIB'!$J$6<>7),LOOKUP(1,'Datos mensuales'!#REF!,'Datos mensuales'!#REF!),LOOKUP('Crecimiento del PIB'!$J$6,'Datos mensuales'!#REF!,'Datos mensuales'!#REF!))","v":{"$error":"#REF!"}}]
[null,null,null,null,null,null,null,null,null,null,null,null,null,null,null,null,null,{"$f":"IF(AND('Crecimiento del PIB'!$J$6<>1,'Crecimiento del PIB'!$J$6<>2,'Crecimiento del PIB'!$J$6<>3,'Crecimiento del PIB'!$J$6<>4,'Crecimiento del PIB'!$J$6<>5,'Crecimiento del PIB'!$J$6<>6,'Crecimiento del PIB'!$J$6<>7),LOOKUP(1,'Datos mensuales'!#REF!,'Datos mensuales'!#REF!),LOOKUP('Crecimiento del PIB'!$J$6,'Datos mensuales'!#REF!,'Datos mensuales'!#REF!))","v":{"$error":"#REF!"}},{"$f":"IF(AND('Crecimiento del PIB'!$J$6<>1,'Crecimiento del PIB'!$J$6<>2,'Crecimiento del PIB'!$J$6<>3,'Crecimiento del PIB'!$J$6<>4,'Crecimiento del PIB'!$J$6<>5,'Crecimiento del PIB'!$J$6<>6,'Crecimiento del PIB'!$J$6<>7),LOOKUP(1,'Datos mensuales'!#REF!,'Datos mensuales'!#REF!),LOOKUP('Crecimiento del PIB'!$J$6,'Datos mensuales'!#REF!,'Datos mensuales'!#REF!))","v":{"$error":"#REF!"}}]
[null,null,null,null,null,null,null,null,null,null,null,null,null,null,null,null,null,{"$f":"IF(AND('Crecimiento del PIB'!$J$6<>1,'Crecimiento del PIB'!$J$6<>2,'Crecimiento del PIB'!$J$6<>3,'Crecimiento del PIB'!$J$6<>4,'Crecimiento del PIB'!$J$6<>5,'Crecimiento del PIB'!$J$6<>6,'Crecimiento del PIB'!$J$6<>7),LOOKUP(1,'Datos mensuales'!#REF!,'Datos mensuales'!#REF!),LOOKUP('Crecimiento del PIB'!$J$6,'Datos mensuales'!#REF!,'Datos mensuales'!#REF!))","v":{"$error":"#REF!"}},{"$f":"IF(AND('Crecimiento del PIB'!$J$6<>1,'Crecimiento del PIB'!$J$6<>2,'Crecimiento del PIB'!$J$6<>3,'Crecimiento del PIB'!$J$6<>4,'Crecimiento del PIB'!$J$6<>5,'Crecimiento del PIB'!$J$6<>6,'Crecimiento del PIB'!$J$6<>7),LOOKUP(1,'Datos mensuales'!#REF!,'Datos mensuales'!#REF!),LOOKUP('Crecimiento del PIB'!$J$6,'Datos mensuales'!#REF!,'Datos mensuales'!#REF!))","v":{"$error":"#REF!"}}]
[null,null,null,null,null,null,null,null,null,null,null,null,null,null,null,null,null,{"$f":"IF(AND('Crecimiento del PIB'!$J$6<>1,'Crecimiento del PIB'!$J$6<>2,'Crecimiento del PIB'!$J$6<>3,'Crecimiento del PIB'!$J$6<>4,'Crecimiento del PIB'!$J$6<>5,'Crecimiento del PIB'!$J$6<>6,'Crecimiento del PIB'!$J$6<>7),LOOKUP(1,'Datos mensuales'!#REF!,'Datos mensuales'!#REF!),LOOKUP('Crecimiento del PIB'!$J$6,'Datos mensuales'!#REF!,'Datos mensuales'!#REF!))","v":{"$error":"#REF!"}},{"$f":"IF(AND('Crecimiento del PIB'!$J$6<>1,'Crecimiento del PIB'!$J$6<>2,'Crecimiento del PIB'!$J$6<>3,'Crecimiento del PIB'!$J$6<>4,'Crecimiento del PIB'!$J$6<>5,'Crecimiento del PIB'!$J$6<>6,'Crecimiento del PIB'!$J$6<>7),LOOKUP(1,'Datos mensuales'!#REF!,'Datos mensuales'!#REF!),LOOKUP('Crecimiento del PIB'!$J$6,'Datos mensuales'!#REF!,'Datos mensuales'!#REF!))","v":{"$error":"#REF!"}}]

{"sheet":"Crecimiento del PIB","index":4,"n_rows":50,"n_cols":11,"rows_kept":50,"cut":false,"hidden":false,"merged":[[25,9,26,12],[1,0,1,3],[2,0,3,7],[4,0,5,7],[25,0,26,7]]}
["Secretaría Ejecutiva ",null,null,null,null,null,null,{"$f":"Índice!J27","v":"Junio"}]
["Consejo Monetario Centroamericano",null,null,null,null,null,null,{"$f":"Índice!J29","v":2014}]
["PIB trimestral a Precios constantes de países seleccionados\n variación interanual1/"]
[]
[{"$f":"+'Datos trimestrales'!R2","v":"Colombia"}]
[null,null,null,null,null,null,null,null,null,3,"Seleccionar país"]
[]
[null,null,null,null,null,null,null,null,null,1,"Brasil"]
[null,null,null,null,null,null,null,null,null,2,"China"]
[null,null,null,null,null,null,null,null,null,3,"Colombia"]
[null,null,null,null,null,null,null,null,null,4,"Estados Unidos"]
[null,null,null,null,null,null,null,null,null,5,"EuroZona"]
[null,null,null,null,null,null,null,null,null,6,"Japón "]
[null,null,null,null,null,null,null,null,null,7,"México"]
[]
[]
[]
[]
[]
[]
[]
[]
[]
[]
["Fuente: Bancos Centrales e Institutos de Estadística. "]
["PIB trimestral a Precios constantes de los países seleccionados\n variación interanual",null,null,null,null,null,null,null,null,"Seleccione el país"]
[]
[]
[]
[]
[]
[]
[]
[]
[]
[]
[]
[]
[]
[]
[]
[]
[]
[]
[]
[]
["Fuente: Bancos Centrales e Institutos de Estadística. "]
[]
["Nota:"]
["1/ Ver Nota Técnica para una descripción de las tasas de variación utilizadas en cada país."]

{"sheet":"Inflación","index":5,"n_rows":42,"n_cols":11,"rows_kept":42,"cut":false,"hidden":false,"merged":[[21,9,22,12],[2,0,3,7],[4,0,5,7],[1,0,1,3],[21,0,22,7]]}
["Secretaría Ejecutiva ",null,null,null,null,null,null,{"$f":"Índice!J27","v":"Junio"}]
["Consejo Monetario Centroamericano",null,null,null,null,null,null,{"$f":"Índice!J29","v":2014}]
["Inflación de países seleccionados\nvariación interanual del Indice de Precios al Consumidor"]
[]
[{"$f":"'Datos mensuales'!R3","v":"Brasil"}]
[null,null,null,null,null,null,null,null,null,1,"Seleccionar País"]
[]
[null,null,null,null,null,null,null,null,null,1,"Brasil"]
[null,null,null,null,null,null,null,null,null,2,"China"]
[null,null,null,null,null,null,null,null,null,3,"Colombia"]
[null,null,null,null,null,null,null,null,null,4,"Estados Unidos"]
[null,null,null,null,null,null,null,null,null,5,"EuroZona"]
[null,null,null,null,null,null,null,null,null,6,"Japón "]
[null,null,null,null,null,null,null,null,null,7,"México"]
[]
[]
[]
[]
[]
[]
["Fuente: Bancos Centrales e Institutos de Estadística."]
["Inflación de todos los paises\nvariación interanual del Indice de Precios al Consumidor",null,null,null,null,null,null,null,null,"Seleccione el país"]
[]
[]
[]
[]
[]
[]
[]
[]
[]
[]
[]
[]
[]
[]
[]
[]
[]
[]
[]
["Fuente: Bancos Centrales e Institutos de Estadística."]

{"sheet":"Tasas de Interés","index":6,"n_rows":49,"n_cols":8,"rows_kept":49,"cut":false,"hidden":false,"merged":[[2,0,3,7],[1,0,1,3]]}
["Secretaría Ejecutiva ",null,null,null,null,null,null,{"$f":"Índice!J27","v":"Junio"}]
["Consejo Monetario Centroamericano",null,null,null,null,null,null,{"$f":"Índice!J29","v":2014}]
["Tasas de Interés de Referencia"]
[]
[]
[]
[]
[]
[]
[]
[]
[]
[]
[]
[]
[]
[]
[]
[]
[]
[]
[]
[]
[]
[]
[]
[]
[]
[]
[]
[]
[]
[]
[]
[]
[]
[]
[]
[]
[]
[]
[]
[]
[]
[]
[]
[]
["Fuente: European Central Bank y www.HSH.com"]
["http://www.hsh.com/indices"]

{"sheet":"Confianza EEUU","index":7,"n_rows":26,"n_cols":8,"rows_kept":26,"cut":false,"hidden":false,"merged":[[2,0,3,7],[4,10,5,15],[1,0,1,3]]}
["Secretaría Ejecutiva ",null,null,null,null,null,null,{"$f":"Índice!J27","v":"Junio"}]
["Consejo Monetario Centroamericano",null,null,null,null,null,null,{"$f":"Índice!J29","v":2014}]
["Índice de Confianza del Consumidor de EEUU"]
[]
[]
[]
[]
[]
[]
[]
[]
[]
[]
[]
[]
[]
[]
[]
[]
[]
[]
[]
[]
[]
["Fuente: The Conference Board."]
["http://www.conference-board.org/data/consumerdata.cfm "]

{"sheet":"Commodities","index":8,"n_rows":87,"n_cols":10,"rows_kept":87,"cut":false,"hidden":false,"merged":[[2,0,3,17],[6,3,7,14],[56,3,57,14]]}
["Secretaría Ejecutiva ",null,null,null,null,null,null,null,{"$f":"Índice!J27","v":"Junio"}]
["Consejo Monetario Centroamericano",null,null,null,null,null,null,null,{"$f":"Índice!J29","v":2014}]
["Precios de los Principales Commodities"]
[]
[]
[]
[null,null,null,"Principales Productos de Importación"]
[]
[]
[]
[]
[]
[]
[]
[]
[]
[]
[]
[]
[]
[]
[]
[]
[]
[]
[]
[]
[]
[]
[]
[]
[]
[]
[]
[]
[]
[]
[]
[]
[]
[]
[]
[]
[]
[]
[]
[]
[]
[]
[]
[]
[]
[]
[]
[]
[]
[null,null,null,"Principales Productos de Exportación"]
[]
[]
[]
[]
[]
[]
[]
[]
[]
[]
[]
[]
[]
[]
[]
[]
[]
[]
[]
[]
[]
[]
[]
[]
["Fuentes:"]
["Petróleo: US Energy Information Administration.",null,null,null,null,null,null,null,null,"Café: International Coffee Organization. "]
["http://quotes.ino.com/exchanges/contracts.html?r=NYMEX_CL ",null,null,null,null,null,null,null,null,"http://www.ico.org/prices/p2.htm "]
[]
["Oro: The London Bullion Market Association.",null,null,null,null,null,null,null,null,"Azúcar, Algodón, Aceite de Palma, Banano,Maíz, Trigo y Arroz: IMF Primary Commodity Prices."]
["http://www.lbma.org.uk/pages/index.cfm?page_id=53&title=gold_fixings&show=2010&type=daily#latest ",null,null,null,null,null,null,null,null,"http://www.imf.org/external/np/res/commod/index.asp "]

{"sheet":"Tipos de Cambio","index":9,"n_rows":27,"n_cols":12,"rows_kept":27,"cut":false,"hidden":false,"merged":[[26,0,27,7],[2,0,3,7],[4,0,5,7],[1,0,1,3],[26,9,27,12]]}
["Secretaría Ejecutiva ",null,null,null,null,null,null,{"$f":"Índice!J27","v":"Junio"}]
["Consejo Monetario Centroamericano",null,null,null,null,null,null,{"$f":"Índice!J29","v":2014}]
["Tipos de Cambio de las divisas de los principales socios comerciales.\n Moneda Nacional/ US$, excepto el euro ( US$/€)"]
[]
[{"$f":"'Datos mensuales'!AT3","v":"Brasil"}]
[null,null,null,null,null,null,null,null,null,1,"Seleccionar país"]
[]
[null,null,null,null,null,null,null,null,null,1,"Brasil","-Real"]
[null,null,null,null,null,null,null,null,null,2,"Canadá","-Dólar"]
[null,null,null,null,null,null,null,null,null,3,"China","-Renmimbi"]
[null,null,null,null,null,null,null,null,null,4,"Colombia","-Peso"]
[null,null,null,null,null,null,null,null,null,5,"EuroZona","-Euro"]
[null,null,null,null,null,null,null,null,null,6,"Japón ","-Yen"]
[null,null,null,null,null,null,null,null,null,7,"México","-Peso"]
[]
[]
[]
[]
[]
[]
[]
[]
[]
["Fuente: www.x-rates.com "]
[]
[]
["Indice del tipo de cambio (enero del 2007 = 100)",null,null,null,null,null,null,null,null,"Seleccione el país"]

{"sheet":"Indices Bursátiles","index":10,"n_rows":45,"n_cols":10,"rows_kept":45,"cut":false,"hidden":false,"merged":[[2,0,3,9],[1,0,1,3]]}
["Secretaría Ejecutiva ",null,null,null,null,null,null,null,null,{"$f":"Índice!J27","v":"Junio"}]
["Consejo Monetario Centroamericano",null,null,null,null,null,null,null,null,{"$f":"Índice!J29","v":2014}]
["Indices Bursátiles de referencia"]
[]
[]
[]
[]
[]
[]
[]
[]
[]
[]
[]
[]
[]
[]
[]
[]
[]
[]
[]
[]
[]
[]
[]
[]
[]
[]
[]
[]
[]
[]
[]
[]
[]
[]
[]
[]
[]
[]
[]
[]
[]
["Fuente: Bloomberg."]

{"sheet":"Series Mensuales","index":11,"n_rows":303,"n_cols":41,"rows_kept":303,"cut":false,"hidden":false,"merged":[[0,31,0,36],[1,40,2,40],[1,39,2,39],[1,38,2,38],[0,38,0,40],[0,23,0,29],[0,2,0,8],[1,10,1,12],[1,13,1,14],[1,15,1,17],[0,10,0,17],[0,19,1,21],[99,0,110,0],[111,0,122,0],[123,0,134,0],[135,0,146,0],[0,0,2,1],[3,0,14,0],[15,0,26,0],[27,0,38,0],[39,0,50,0],[51,0,62,0],[291,0,302,0],[63,0,74,0],[267,0,278,0],[279,0,290,0],[147,0,158,0],[159,0,170,0],[171,0,182,0],[183,0,194,0],[195,0,206,0],[207,0,218,0],[219,0,230,0],[231,0,242,0],[243,0,254,0],[255,0,266,0],[75,0,86,0],[87,0,98,0]]}
["Series Históricas Mensuales",null,"Variación Interanual del Indice de Precios al Consumidor",null,null,null,null,null,null,null,"Tasas de Interés de Referencia.",null,null,null,null,null,null,null,null,"Índice de Confianza del Consumidor de Estados Unidos",null,null,null,"Precio de los Principales Commodities",null,null,null,null,null,null,null,"Tipos de Cambio principales divisas/ US$",null,null,null,null,null,null,"Índices Bursatiles Internacionales de Referencia"]
[null,null,"Brasil","China","Colombia","Estados Unidos","Japón ","México","Eurozona",null,"3 Meses Plazo",null,null,"6 Meses Plazo",null,"Bonos 10 años",null,null,null,null,null,null,null,"WTI-NY","Brent","Oro","Trigo","Café","Maíz","Arroz",null,"EuroZona","Japón ","China","Colombia","Canadá","México",null,"Dow Jones","Nasdaq Composite","Standard & Poor's 500"]
[null,null,"%","%","%","%","%","%","%",null,"Estados Unidos","EuroZona ","Japón","LIBOR","Letras del Tesoro US","Estados Unidos","EuroZona ","Japón",null,"Confianza","Situación Presente","Expectativas",null,"US$ por barril","US$ por barril","$/toz","US$/tm","US centavos/Libra","US$/tm","US$/tm",null,"US$/Euro","Yen/US$","CNY/US$","Peso/US$","Dólar/US$","Peso/US$"]
[1990,"enero",{"$f":"'Datos mensuales'!D5","v":"n.d."},{"$f":"'Datos mensuales'!E5","v":"n.d."},{"$f":"'Datos mensuales'!F5","v":"n.d."},{"$f":"'Datos mensuales'!G5","v":"n.d."},{"$f":"'Datos mensuales'!I5","v":"n.d."},{"$f":"'Datos mensuales'!J5","v":"n.d."},{"$f":"'Datos mensuales'!H5","v":"n.d."},null,{"$f":"'Datos mensuales'!AW5","v":"n.d."},{"$f":"'Datos mensuales'!AX5","v":"n.d."},{"$f":"'Datos mensuales'!AY5","v":"n.d."},{"$f":"'Datos mensuales'!AU5","v":"n.d."},{"$f":"'Datos mensuales'!AV5","v":"n.d."},{"$f":"'Datos mensuales'!AZ5","v":"n.d."},{"$f":"'Datos mensuales'!BA5","v":"n.d."},{"$f":"'Datos mensuales'!BB5","v":"n.d."},null,{"$f":"'Datos mensuales'!BC5","v":"n.d."},{"$f":"'Datos mensuales'!BD5","v":"n.d."},{"$f":"'Datos mensuales'!BE5","v":"n.d."},null,{"$f":"'Datos mensuales'!T5","v":22.86},{"$f":"'Datos mensuales'!U5","v":"n.d."},{"$f":"'Datos mensuales'!W5","v":"n.d."},{"$f":"'Datos mensuales'!AA5","v":"n.d."},{"$f":"'Datos mensuales'!Z5","v":"n.d."},{"$f":"'Datos mensuales'!AC5","v":"n.d."},{"$f":"'Datos mensuales'!AD5","v":"n.d."},null,{"$f":"'Datos mensuales'!AQ5","v":""},{"$f":"'Datos mensuales'!AR5","v":"n.d."},{"$f":"'Datos mensuales'!AO5","v":"n.d."},{"$f":"'Datos mensuales'!AP5","v":"n.d."},{"$f":"'Datos mensuales'!AN5","v":"n.d."},{"$f":"'Datos mensuales'!AS5","v":"n.d."},null,{"$f":"'Datos mensuales'!BJ5","v":2590.54},{"$f":"'Datos mensuales'!BK5","v":415.81},{"$f":"'Datos mensuales'!BL5","v":329.08}]
[null,"febrero",{"$f":"'Datos mensuales'!D6","v":"n.d."},{"$f":"'Datos mensuales'!E6","v":"n.d."},{"$f":"'Datos mensuales'!F6","v":"n.d."},{"$f":"'Datos mensuales'!G6","v":"n.d."},{"$f":"'Datos mensuales'!I6","v":"n.d."},{"$f":"'Datos mensuales'!J6","v":"n.d."},{"$f":"'Datos mensuales'!H6","v":"n.d."},null,{"$f":"'Datos mensuales'!AW6","v":"n.d."},{"$f":"'Datos mensuales'!AX6","v":"n.d."},{"$f":"'Datos mensuales'!AY6","v":"n.d."},{"$f":"'Datos mensuales'!AU6","v":"n.d."},{"$f":"'Datos mensuales'!AV6","v":"n.d."},{"$f":"'Datos mensuales'!AZ6","v":"n.d."},{"$f":"'Datos mensuales'!BA6","v":"n.d."},{"$f":"'Datos mensuales'!BB6","v":"n.d."},null,{"$f":"'Datos mensuales'!BC6","v":"n.d."},{"$f":"'Datos mensuales'!BD6","v":"n.d."},{"$f":"'Datos mensuales'!BE6","v":"n.d."},null,{"$f":"'Datos mensuales'!T6","v":22.11},{"$f":"'Datos mensuales'!U6","v":"n.d."},{"$f":"'Datos mensuales'!W6","v":"n.d."},{"$f":"'Datos mensuales'!AA6","v":"n.d."},{"$f":"'Datos mensuales'!Z6","v":"n.d."},{"$f":"'Datos mensuales'!AC6","v":"n.d."},{"$f":"'Datos mensuales'!AD6","v":"n.d."},null,{"$f":"'Datos mensuales'!AQ6","v":""},{"$f":"'Datos mensuales'!AR6","v":"n.d."},{"$f":"'Datos mensuales'!AO6","v":"n.d."},{"$f":"'Datos mensuales'!AP6","v":"n.d."},{"$f":"'Datos mensuales'!AN6","v":"n.d."},{"$f":"'Datos mensuales'!AS6","v":"n.d."},null,{"$f":"'Datos mensuales'!BJ6","v":2627.25},{"$f":"'Datos mensuales'!BK6","v":425.83},{"$f":"'Datos mensuales'!BL6","v":331.89}]
[null,"marzo",{"$f":"'Datos mensuales'!D7","v":"n.d."},{"$f":"'Datos mensuales'!E7","v":"n.d."},{"$f":"'Datos mensuales'!F7","v":"n.d."},{"$f":"'Datos mensuales'!G7","v":"n.d."},{"$f":"'Datos mensuales'!I7","v":"n.d."},{"$f":"'Datos mensuales'!J7","v":"n.d."},{"$f":"'Datos mensuales'!H7","v":"n.d."},null,{"$f":"'Datos mensuales'!AW7","v":"n.d."},{"$f":"'Datos mensuales'!AX7","v":"n.d."},{"$f":"'Datos mensuales'!AY7","v":"n.d."},{"$f":"'Datos mensuales'!AU7","v":"n.d."},{"$f":"'Datos mensuales'!AV7","v":"n.d."},{"$f":"'Datos mensuales'!AZ7","v":"n.d."},{"$f":"'Datos mensuales'!BA7","v":"n.d."},{"$f":"'Datos mensuales'!BB7","v":"n.d."},null,{"$f":"'Datos mensuales'!BC7","v":"n.d."},{"$f":"'Datos mensuales'!BD7","v":"n.d."},{"$f":"'Datos mensuales'!BE7","v":"n.d."},null,{"$f":"'Datos mensuales'!T7","v":20.39},{"$f":"'Datos mensuales'!U7","v":"n.d."},{"$f":"'Datos mensuales'!W7","v":"n.d."},{"$f":"'Datos mensuales'!AA7","v":"n.d."},{"$f":"'Datos mensuales'!Z7","v":"n.d."},{"$f":"'Datos mensuales'!AC7","v":"n.d."},{"$f":"'Datos mensuales'!AD7","v":"n.d."},null,{"$f":"'Datos mensuales'!AQ7","v":""},{"$f":"'Datos mensuales'!AR7","v":"n.d."},{"$f":"'Datos mensuales'!AO7","v":"n.d."},{"$f":"'Datos mensuales'!AP7","v":"n.d."},{"$f":"'Datos mensuales'!AN7","v":"n.d."},{"$f":"'Datos mensuales'!AS7","v":"n.d."},null,{"$f":"'Datos mensuales'!BJ7","v":2707.21},{"$f":"'Datos mensuales'!BK7","v":435.54},{"$f":"'Datos mensuales'!BL7","v":339.94}]
[null,"abril ",{"$f":"'Datos mensuales'!D8","v":"n.d."},{"$f":"'Datos mensuales'!E8","v":"n.d."},{"$f":"'Datos mensuales'!F8","v":"n.d."},{"$f":"'Datos mensuales'!G8","v":"n.d."},{"$f":"'Datos mensuales'!I8","v":"n.d."},{"$f":"'Datos mensuales'!J8","v":"n.d."},{"$f":"'Datos mensuales'!H8","v":"n.d."},null,{"$f":"'Datos mensuales'!AW8","v":"n.d."},{"$f":"'Datos mensuales'!AX8","v":"n.d."},{"$f":"'Datos mensuales'!AY8","v":"n.d."},{"$f":"'Datos mensuales'!AU8","v":"n.d."},{"$f":"'Datos mensuales'!AV8","v":"n.d."},{"$f":"'Datos mensuales'!AZ8","v":"n.d."},{"$f":"'Datos mensuales'!BA8","v":"n.d."},{"$f":"'Datos mensuales'!BB8","v":"n.d."},null,{"$f":"'Datos mensuales'!BC8","v":"n.d."},{"$f":"'Datos mensuales'!BD8","v":"n.d."},{"$f":"'Datos mensuales'!BE8","v":"n.d."},null,{"$f":"'Datos mensuales'!T8","v":18.43},{"$f":"'Datos mensuales'!U8","v":"n.d."},{"$f":"'Datos mensuales'!W8","v":"n.d."},{"$f":"'Datos mensuales'!AA8","v":"n.d."},{"$f":"'Datos mensuales'!Z8","v":"n.d."},{"$f":"'Datos mensuales'!AC8","v":"n.d."},{"$f":"'Datos mensuales'!AD8","v":"n.d."},null,{"$f":"'Datos mensuales'!AQ8","v":""},{"$f":"'Datos mensuales'!AR8","v":"n.d."},{"$f":"'Datos mensuales'!AO8","v":"n.d."},{"$f":"'Datos mensuales'!AP8","v":"n.d."},{"$f":"'Datos mensuales'!AN8","v":"n.d."},{"$f":"'Datos mensuales'!AS8","v":"n.d."},null,{"$f":"'Datos mensuales'!BJ8","v":2656.76},{"$f":"'Datos mensuales'!BK8","v":420.07},{"$f":"'Datos mensuales'!BL8","v":330.8}]
[null,"mayo",{"$f":"'Datos mensuales'!D9","v":"n.d."},{"$f":"'Datos mensuales'!E9","v":"n.d."},{"$f":"'Datos mensuales'!F9","v":"n.d."},{"$f":"'Datos mensuales'!G9","v":"n.d."},{"$f":"'Datos mensuales'!I9","v":"n.d."},{"$f":"'Datos mensuales'!J9","v":"n.d."},{"$f":"'Datos mensuales'!H9","v":"n.d."},null,{"$f":"'Datos mensuales'!AW9","v":"n.d."},{"$f":"'Datos mensuales'!AX9","v":"n.d."},{"$f":"'Datos mensuales'!AY9","v":"n.d."},{"$f":"'Datos mensuales'!AU9","v":"n.d."},{"$f":"'Datos mensuales'!AV9","v":"n.d."},{"$f":"'Datos mensuales'!AZ9","v":"n.d."},{"$f":"'Datos mensuales'!BA9","v":"n.d."},{"$f":"'Datos mensuales'!BB9","v":"n.d."},null,{"$f":"'Datos mensuales'!BC9","v":"n.d."},{"$f":"'Datos mensuales'!BD9","v":"n.d."},{"$f":"'Datos mensuales'!BE9","v":"n.d."},null,{"$f":"'Datos mensuales'!T9","v":18.2},{"$f":"'Datos mensuales'!U9","v":"n.d."},{"$f":"'Datos mensuales'!W9","v":"n.d."},{"$f":"'Datos mensuales'!AA9","v":"n.d."},{"$f":"'Datos mensuales'!Z9","v":"n.d."},{"$f":"'Datos mensuales'!AC9","v":"n.d."},{"$f":"'Datos mensuales'!AD9","v":"n.d."},null,{"$f":"'Datos mensuales'!AQ9","v":""},{"$f":"'Datos mensuales'!AR9","v":"n.d."},{"$f":"'Datos mensuales'!AO9","v":"n.d."},{"$f":"'Datos mensuales'!AP9","v":"n.d."},{"$f":"'Datos mensuales'!AN9","v":"n.d."},{"$f":"'Datos mensuales'!AS9","v":"n.d."},null,{"$f":"'Datos mensuales'!BJ9","v":2876.66},{"$f":"'Datos mensuales'!BK9","v":458.97},{"$f":"'Datos mensuales'!BL9","v":361.23}]
[null,"junio",{"$f":"'Datos mensuales'!D10","v":"n.d."},{"$f":"'Datos mensuales'!E10","v":"n.d."},{"$f":"'Datos mensuales'!F10","v":"n.d."},{"$f":"'Datos mensuales'!G10","v":"n.d."},{"$f":"'Datos mensuales'!I10","v":"n.d."},{"$f":"'Datos mensuales'!J10","v":"n.d."},{"$f":"'Datos mensuales'!H10","v":"n.d."},null,{"$f":"'Datos mensuales'!AW10","v":"n.d."},{"$f":"'Datos mensuales'!AX10","v":"n.d."},{"$f":"'Datos mensuales'!AY10","v":"n.d."},{"$f":"'Datos mensuales'!AU10","v":"n.d."},{"$f":"'Datos mensuales'!AV10","v":"n.d."},{"$f":"'Datos mensuales'!AZ10","v":"n.d."},{"$f":"'Datos mensuales'!BA10","v":"n.d."},{"$f":"'Datos mensuales'!BB10","v":"n.d."},null,{"$f":"'Datos mensuales'!BC10","v":"n.d."},{"$f":"'Datos mensuales'!BD10","v":"n.d."},{"$f":"'Datos mensuales'!BE10","v":"n.d."},null,{"$f":"'Datos mensuales'!T10","v":16.7},{"$f":"'Datos mensuales'!U10","v":"n.d."},{"$f":"'Datos mensuales'!W10","v":"n.d."},{"$f":"'Datos mensuales'!AA10","v":"n.d."},{"$f":"'Datos mensuales'!Z10","v":"n.d."},{"$f":"'Datos mensuales'!AC10","v":"n.d."},{"$f":"'Datos mensuales'!AD10","v":"n.d."},null,{"$f":"'Datos mensuales'!AQ10","v":""},{"$f":"'Datos mensuales'!AR10","v":"n.d."},{"$f":"'Datos mensuales'!AO10","v":"n.d."},{"$f":"'Datos mensuales'!AP10","v":"n.d."},{"$f":"'Datos mensuales'!AN10","v":"n.d."},{"$f":"'Datos mensuales'!AS10","v":"n.d."},null,{"$f":"'Datos mensuales'!BJ10","v":2880.69},{"$f":"'Datos mensuales'!BK10","v":462.29},{"$f":"'Datos mensuales'!BL10","v":358.02}]
[null,"julio",{"$f":"'Datos mensuales'!D11","v":"n.d."},{"$f":"'Datos mensuales'!E11","v":"n.d."},{"$f":"'Datos mensuales'!F11","v":"n.d."},{"$f":"'Datos mensuales'!G11","v":"n.d."},{"$f":"'Datos mensuales'!I11","v":"n.d."},{"$f":"'Datos mensuales'!J11","v":"n.d."},{"$f":"'Datos mensuales'!H11","v":"n.d."},null,{"$f":"'Datos mensuales'!AW11","v":"n.d."},{"$f":"'Datos mensuales'!AX11","v":"n.d."},{"$f":"'Datos mensuales'!AY11","v":"n.d."},{"$f":"'Datos mensuales'!AU11","v":"n.d."},{"$f":"'Datos mensuales'!AV11","v":"n.d."},{"$f":"'Datos mensuales'!AZ11","v":"n.d."},{"$f":"'Datos mensuales'!BA11","v":"n.d."},{"$f":"'Datos mensuales'!BB11","v":"n.d."},null,{"$f":"'Datos mensuales'!BC11","v":"n.d."},{"$f":"'Datos mensuales'!BD11","v":"n.d."},{"$f":"'Datos mensuales'!BE11","v":"n.d."},null,{"$f":"'Datos mensuales'!T11","v":18.45},{"$f":"'Datos mensuales'!U11","v":"n.d."},{"$f":"'Datos mensuales'!W11","v":"n.d."},{"$f":"'Datos mensuales'!AA11","v":"n.d."},{"$f":"'Datos mensuales'!Z11","v":"n.d."},{"$f":"'Datos mensuales'!AC11","v":"n.d."},{"$f":"'Datos mensuales'!AD11","v":"n.d."},null,{"$f":"'Datos mensuales'!AQ11","v":""},{"$f":"'Datos mensuales'!AR11","v":"n.d."},{"$f":"'Datos mensuales'!AO11","v":"n.d."},{"$f":"'Datos mensuales'!AP11","v":"n.d."},{"$f":"'Datos mensuales'!AN11","v":"n.d."},{"$f":"'Datos mensuales'!AS11","v":"n.d."},null,{"$f":"'Datos mensuales'!BJ11","v":2905.2},{"$f":"'Datos mensuales'!BK11","v":438.24},{"$f":"'Datos mensuales'!BL11","v":356.15}]
[null,"agosto",{"$f":"'Datos mensuales'!D12","v":"n.d."},{"$f":"'Datos mensuales'!E12","v":"n.d."},{"$f":"'Datos mensuales'!F12","v":"n.d."},{"$f":"'Datos mensuales'!G12","v":"n.d."},{"$f":"'Datos mensuales'!I12","v":"n.d."},{"$f":"'Datos mensuales'!J12","v":"n.d."},{"$f":"'Datos mensuales'!H12","v":"n.d."},null,{"$f":"'Datos mensuales'!AW12","v":"n.d."},{"$f":"'Datos mensuales'!AX12","v":"n.d."},{"$f":"'Datos mensuales'!AY12","v":"n.d."},{"$f":"'Datos mensuales'!AU12","v":"n.d."},{"$f":"'Datos mensuales'!AV12","v":"n.d."},{"$f":"'Datos mensuales'!AZ12","v":"n.d."},{"$f":"'Datos mensuales'!BA12","v":"n.d."},{"$f":"'Datos mensuales'!BB12","v":"n.d."},null,{"$f":"'Datos mensuales'!BC12","v":"n.d."},{"$f":"'Datos mensuales'!BD12","v":"n.d."},{"$f":"'Datos mensuales'!BE12","v":"n.d."},null,{"$f":"'Datos mensuales'!T12","v":27.31},{"$f":"'Datos mensuales'!U12","v":"n.d."},{"$f":"'Datos mensuales'!W12","v":"n.d."},{"$f":"'Datos mensuales'!AA12","v":"n.d."},{"$f":"'Datos mensuales'!Z12","v":"n.d."},{"$f":"'Datos mensuales'!AC12","v":"n.d."},{"$f":"'Datos mensuales'!AD12","v":"n.d."},null,{"$f":"'Datos mensuales'!AQ12","v":""},{"$f":"'Datos mensuales'!AR12","v":"n.d."},{"$f":"'Datos mensuales'!AO12","v":"n.d."},{"$f":"'Datos mensuales'!AP12","v":"n.d."},{"$f":"'Datos mensuales'!AN12","v":"n.d."},{"$f":"'Datos mensuales'!AS12","v":"n.d."},null,{"$f":"'Datos mensuales'!BJ12","v":2614.36},{"$f":"'Datos mensuales'!BK12","v":381.21},{"$f":"'Datos mensuales'!BL12","v":322.56}]
[null,"septiembre",{"$f":"'Datos mensuales'!D13","v":"n.d."},{"$f":"'Datos mensuales'!E13","v":"n.d."},{"$f":"'Datos mensuales'!F13","v":"n.d."},{"$f":"'Datos mensuales'!G13","v":"n.d."},{"$f":"'Datos mensuales'!I13","v":"n.d."},{"$f":"'Datos mensuales'!J13","v":"n.d."},{"$f":"'Datos mensuales'!H13","v":"n.d."},null,{"$f":"'Datos mensuales'!AW13","v":"n.d."},{"$f":"'Datos mensuales'!AX13","v":"n.d."},{"$f":"'Datos mensuales'!AY13","v":"n.d."},{"$f":"'Datos mensuales'!AU13","v":"n.d."},{"$f":"'Datos mensuales'!AV13","v":"n.d."},{"$f":"'Datos mensuales'!AZ13","v":"n.d."},{"$f":"'Datos mensuales'!BA13","v":"n.d."},{"$f":"'Datos mensuales'!BB13","v":"n.d."},null,{"$f":"'Datos mensuales'!BC13","v":"n.d."},{"$f":"'Datos mensuales'!BD13","v":"n.d."},{"$f":"'Datos mensuales'!BE13","v":"n.d."},null,{"$f":"'Datos mensuales'!T13","v":33.51},{"$f":"'Datos mensuales'!U13","v":"n.d."},{"$f":"'Datos mensuales'!W13","v":"n.d."},{"$f":"'Datos mensuales'!AA13","v":"n.d."},{"$f":"'Datos mensuales'!Z13","v":"n.d."},{"$f":"'Datos mensuales'!AC13","v":"n.d."},{"$f":"'Datos mensuales'!AD13","v":"n.d."},null,{"$f":"'Datos mensuales'!AQ13","v":""},{"$f":"'Datos mensuales'!AR13","v":"n.d."},{"$f":"'Datos mensuales'!AO13","v":"n.d."},{"$f":"'Datos mensuales'!AP13","v":"n.d."},{"$f":"'Datos mensuales'!AN13","v":"n.d."},{"$f":"'Datos mensuales'!AS13","v":"n.d."},null,{"$f":"'Datos mensuales'!BJ13","v":2452.48},{"$f":"'Datos mensuales'!BK13","v":344.51},{"$f":"'Datos mensuales'!BL13","v":306.05}]
[null,"octubre",{"$f":"'Datos mensuales'!D14","v":"n.d."},{"$f":"'Datos mensuales'!E14","v":"n.d."},{"$f":"'Datos mensuales'!F14","v":"n.d."},{"$f":"'Datos mensuales'!G14","v":"n.d."},{"$f":"'Datos mensuales'!I14","v":"n.d."},{"$f":"'Datos mensuales'!J14","v":"n.d."},{"$f":"'Datos mensuales'!H14","v":"n.d."},null,{"$f":"'Datos mensuales'!AW14","v":"n.d."},{"$f":"'Datos mensuales'!AX14","v":"n.d."},{"$f":"'Datos mensuales'!AY14","v":"n.d."},{"$f":"'Datos mensuales'!AU14","v":"n.d."},{"$f":"'Datos mensuales'!AV14","v":"n.d."},{"$f":"'Datos mensuales'!AZ14","v":"n.d."},{"$f":"'Datos mensuales'!BA14","v":"n.d."},{"$f":"'Datos mensuales'!BB14","v":"n.d."},null,{"$f":"'Datos mensuales'!BC14","v":"n.d."},{"$f":"'Datos mensuales'!BD14","v":"n.d."},{"$f":"'Datos mensuales'!BE14","v":"n.d."},null,{"$f":"'Datos mensuales'!T14","v":36.04},{"$f":"'Datos mensuales'!U14","v":"n.d."},{"$f":"'Datos mensuales'!W14","v":"n.d."},{"$f":"'Datos mensuales'!AA14","v":"n.d."},{"$f":"'Datos mensuales'!Z14","v":"n.d."},{"$f":"'Datos mensuales'!AC14","v":"n.d."},{"$f":"'Datos mensuales'!AD14","v":"n.d."},null,{"$f":"'Datos mensuales'!AQ14","v":""},{"$f":"'Datos mensuales'!AR14","v":"n.d."},{"$f":"'Datos mensuales'!AO14","v":"n.d."},{"$f":"'Datos mensuales'!AP14","v":"n.d."},{"$f":"'Datos mensuales'!AN14","v":"n.d."},{"$f":"'Datos mensuales'!AS14","v":"n.d."},null,{"$f":"'Datos mensuales'!BJ14","v":2442.33},{"$f":"'Datos mensuales'!BK14","v":329.84},{"$f":"'Datos mensuales'!BL14","v":304}]
[null,"noviembre",{"$f":"'Datos mensuales'!D15","v":"n.d."},{"$f":"'Datos mensuales'!E15","v":"n.d."},{"$f":"'Datos mensuales'!F15","v":"n.d."},{"$f":"'Datos mensuales'!G15","v":"n.d."},{"$f":"'Datos mensuales'!I15","v":"n.d."},{"$f":"'Datos mensuales'!J15","v":"n.d."},{"$f":"'Datos mensuales'!H15","v":"n.d."},null,{"$f":"'Datos mensuales'!AW15","v":"n.d."},{"$f":"'Datos mensuales'!AX15","v":"n.d."},{"$f":"'Datos mensuales'!AY15","v":"n.d."},{"$f":"'Datos mensuales'!AU15","v":"n.d."},{"$f":"'Datos mensuales'!AV15","v":"n.d."},{"$f":"'Datos mensuales'!AZ15","v":"n.d."},{"$f":"'Datos mensuales'!BA15","v":"n.d."},{"$f":"'Datos mensuales'!BB15","v":"n.d."},null,{"$f":"'Datos mensuales'!BC15","v":"n.d."},{"$f":"'Datos mensuales'!BD15","v":"n.d."},{"$f":"'Datos mensuales'!BE15","v":"n.d."},null,{"$f":"'Datos mensuales'!T15","v":32.33},{"$f":"'Datos mensuales'!U15","v":"n.d."},{"$f":"'Datos mensuales'!W15","v":"n.d."},{"$f":"'Datos mensuales'!AA15","v":"n.d."},{"$f":"'Datos mensuales'!Z15","v":"n.d."},{"$f":"'Datos mensuales'!AC15","v":"n.d."},{"$f":"'Datos mensuales'!AD15","v":"n.d."},null,{"$f":"'Datos mensuales'!AQ15","v":""},{"$f":"'Datos mensuales'!AR15","v":"n.d."},{"$f":"'Datos mensuales'!AO15","v":"n.d."},{"$f":"'Datos mensuales'!AP15","v":"n.d."},{"$f":"'Datos mensuales'!AN15","v":"n.d."},{"$f":"'Datos mensuales'!AS15","v":"n.d."},null,{"$f":"'Datos mensuales'!BJ15","v":2559.65},{"$f":"'Datos mensuales'!BK15","v":359.06},{"$f":"'Datos mensuales'!BL15","v":322.22000000000003}]
[null,"diciembre",{"$f":"'Datos mensuales'!D16","v":"n.d."},{"$f":"'Datos mensuales'!E16","v":"n.d."},{"$f":"'Datos mensuales'!F16","v":"n.d."},{"$f":"'Datos mensuales'!G16","v":"n.d."},{"$f":"'Datos mensuales'!I16","v":"n.d."},{"$f":"'Datos mensuales'!J16","v":"n.d."},{"$f":"'Datos mensuales'!H16","v":"n.d."},null,{"$f":"'Datos mensuales'!AW16","v":"n.d."},{"$f":"'Datos mensuales'!AX16","v":"n.d."},{"$f":"'Datos mensuales'!AY16","v":"n.d."},{"$f":"'Datos mensuales'!AU16","v":"n.d."},{"$f":"'Datos mensuales'!AV16","v":"n.d."},{"$f":"'Datos mensuales'!AZ16","v":"n.d."},{"$f":"'Datos mensuales'!BA16","v":"n.d."},{"$f":"'Datos mensuales'!BB16","v":"n.d."},null,{"$f":"'Datos mensuales'!BC16","v":"n.d."},{"$f":"'Datos mensuales'!BD16","v":"n.d."},{"$f":"'Datos mensuales'!BE16","v":"n.d."},null,{"$f":"'Datos mensuales'!T16","v":27.28},{"$f":"'Datos mensuales'!U16","v":"n.d."},{"$f":"'Datos mensuales'!W16","v":"n.d."},{"$f":"'Datos mensuales'!AA16","v":"n.d."},{"$f":"'Datos mensuales'!Z16","v":"n.d."},{"$f":"'Datos mensuales'!AC16","v":"n.d."},{"$f":"'Datos mensuales'!AD16","v":"n.d."},null,{"$f":"'Datos mensuales'!AQ16","v":0.67024128686327078},{"$f":"'Datos mensuales'!AR16","v":133.55000000000001},{"$f":"'Datos mensuales'!AO16","v":"n.d."},{"$f":"'Datos mensuales'!AP16","v":"n.d."},{"$f":"'Datos mensuales'!AN16","v":1.1599999999999999},{"$f":"'Datos mensuales'!AS16","v":2.9409000000000001},null,{"$f":"'Datos mensuales'!BJ16","v":2633.66},{"$f":"'Datos mensuales'!BK16","v":373.84},{"$f":"'Datos mensuales'!BL16","v":330.22}]
[1991,"enero",{"$f":"'Datos mensuales'!D17","v":"n.d."},{"$f":"'Datos mensuales'!E17","v":"n.d."},{"$f":"'Datos mensuales'!F17","v":"n.d."},{"$f":"'Datos mensuales'!G17","v":5.6514913657770709},{"$f":"'Datos mensuales'!I17","v":"n.d."},{"$f":"'Datos mensuales'!J17","v":27.10689919922492},{"$f":"'Datos mensuales'!H17","v":3.9015260581629829},null,{"$f":"'Datos mensuales'!AW17","v":"n.d."},{"$f":"'Datos mensuales'!AX17","v":"n.d."},{"$f":"'Datos mensuales'!AY17","v":"n.d."},{"$f":"'Datos mensuales'!AU17","v":"n.d."},{"$f":"'Datos mensuales'!AV17","v":"n.d."},{"$f":"'Datos mensuales'!AZ17","v":"n.d."},{"$f":"'Datos mensuales'!BA17","v":"n.d."},{"$f":"'Datos mensuales'!BB17","v":"n.d."},null,{"$f":"'Datos mensuales'!BC17","v":"n.d."},{"$f":"'Datos mensuales'!BD17","v":"n.d."},{"$f":"'Datos mensuales'!BE17","v":"n.d."},null,{"$f":"'Datos mensuales'!T17","v":25.23},{"$f":"'Datos mensuales'!U17","v":"n.d."},{"$f":"'Datos mensuales'!W17","v":"n.d."},{"$f":"'Datos mensuales'!AA17","v":"n.d."},{"$f":"'Datos mensuales'!Z17","v":"n.d."},{"$f":"'Datos mensuales'!AC17","v":"n.d."},{"$f":"'Datos mensuales'!AD17","v":"n.d."},null,{"$f":"'Datos mensuales'!AQ17","v":0.66225165562913912},{"$f":"'Datos mensuales'!AR17","v":133.69999999999999},{"$f":"'Datos mensuales'!AO17","v":"n.d."},{"$f":"'Datos mensuales'!AP17","v":"n.d."},{"$f":"'Datos mensuales'!AN17","v":1.1558999999999999},{"$f":"'Datos mensuales'!AS17","v":2.9531999999999998},null,{"$f":"'Datos mensuales'!BJ17","v":2736.39},{"$f":"'Datos mensuales'!BK17","v":414.2},{"$f":"'Datos mensuales'!BL17","v":343.93}]
[null,"febrero",{"$f":"'Datos mensuales'!D18","v":"n.d."},{"$f":"'Datos mensuales'!E18","v":"n.d."},{"$f":"'Datos mensuales'!F18","v":"n.d."},{"$f":"'Datos mensuales'!G18","v":5.3125000000000089},{"$f":"'Datos mensuales'!I18","v":"n.d."},{"$f":"'Datos mensuales'!J18","v":26.462187527699939},{"$f":"'Datos mensuales'!H18","v":4.1314015205852961},null,{"$f":"'Datos mensuales'!AW18","v":"n.d."},{"$f":"'Datos mensuales'!AX18","v":"n.d."},{"$f":"'Datos mensuales'!AY18","v":"n.d."},{"$f":"'Datos mensuales'!AU18","v":"n.d."},{"$f":"'Datos mensuales'!AV18","v":"n.d."},{"$f":"'Datos mensuales'!AZ18","v":"n.d."},{"$f":"'Datos mensuales'!BA18","v":"n.d."},{"$f":"'Datos mensuales'!BB18","v":"n.d."},null,{"$f":"'Datos mensuales'!BC18","v":"n.d."},{"$f":"'Datos mensuales'!BD18","v":"n.d."},{"$f":"'Datos mensuales'!BE18","v":"n.d."},null,{"$f":"'Datos mensuales'!T18","v":20.48},{"$f":"'Datos mensuales'!U18","v":"n.d."},{"$f":"'Datos mensuales'!W18","v":"n.d."},{"$f":"'Datos mensuales'!AA18","v":"n.d."},{"$f":"'Datos mensuales'!Z18","v":"n.d."},{"$f":"'Datos mensuales'!AC18","v":"n.d."},{"$f":"'Datos mensuales'!AD18","v":"n.d."},null,{"$f":"'Datos mensuales'!AQ18","v":0.67572133252246769},{"$f":"'Datos mensuales'!AR18","v":130.54},{"$f":"'Datos mensuales'!AO18","v":"n.d."},{"$f":"'Datos mensuales'!AP18","v":"n.d."},{"$f":"'Datos mensuales'!AN18","v":1.1546000000000001},{"$f":"'Datos mensuales'!AS18","v":2.9649999999999999},null,{"$f":"'Datos mensuales'!BJ18","v":2882.18},{"$f":"'Datos mensuales'!BK18","v":453.05},{"$f":"'Datos mensuales'!BL18","v":367.07}]
[null,"marzo",{"$f":"'Datos mensuales'!D19","v":"n.d."},{"$f":"'Datos mensuales'!E19","v":"n.d."},{"$f":"'Datos mensuales'!F19","v":"n.d."},{"$f":"'Datos mensuales'!G19","v":4.8951048951049039},{"$f":"'Datos mensuales'!I19","v":"n.d."},{"$f":"'Datos mensuales'!J19","v":26.043611095629149},{"$f":"'Datos mensuales'!H19","v":3.8780767029193015},null,{"$f":"'Datos mensuales'!AW19","v":"n.d."},{"$f":"'Datos mensuales'!AX19","v":"n.d."},{"$f":"'Datos mensuales'!AY19","v":"n.d."},{"$f":"'Datos mensuales'!AU19","v":"n.d."},{"$f":"'Datos mensuales'!AV19","v":"n.d."},{"$f":"'Datos mensuales'!AZ19","v":"n.d."},{"$f":"'Datos mensuales'!BA19","v":"n.d."},{"$f":"'Datos mensuales'!BB19","v":"n.d."},null,{"$f":"'Datos mensuales'!BC19","v":"n.d."},{"$f":"'Datos mensuales'!BD19","v":"n.d."},{"$f":"'Datos mensuales'!BE19","v":"n.d."},null,{"$f":"'Datos mensuales'!T19","v":19.899999999999999},{"$f":"'Datos mensuales'!U19","v":"n.d."},{"$f":"'Datos mensuales'!W19","v":"n.d."},{"$f":"'Datos mensuales'!AA19","v":"n.d."},{"$f":"'Datos mensuales'!Z19","v":"n.d."},{"$f":"'Datos mensuales'!AC19","v":"n.d."},{"$f":"'Datos mensuales'!AD19","v":"n.d."},null,{"$f":"'Datos mensuales'!AQ19","v":0.62414180501810013},{"$f":"'Datos mensuales'!AR19","v":137.38999999999999},{"$f":"'Datos mensuales'!AO19","v":"n.d."},{"$f":"'Datos mensuales'!AP19","v":"n.d."},{"$f":"'Datos mensuales'!AN19","v":1.1569},{"$f":"'Datos mensuales'!AS19","v":2.9769000000000001},null,{"$f":"'Datos mensuales'!BJ19","v":2913.86},{"$f":"'Datos mensuales'!BK19","v":482.3},{"$f":"'Datos mensuales'!BL19","v":375.22}]
[null,"abril ",{"$f":"'Datos mensuales'!D20","v":"n.d."},{"$f":"'Datos mensuales'!E20","v":"n.d."},{"$f":"'Datos mensuales'!F20","v":"n.d."},{"$f":"'Datos mensuales'!G20","v":4.887509697439862},{"$f":"'Datos mensuales'!I20","v":"n.d."},{"$f":"'Datos mensuales'!J20","v":25.454607069542902},{"$f":"'Datos mensuales'!H20","v":3.8494439692044526},null,{"$f":"'Datos mensuales'!AW20","v":"n.d."},{"$f":"'Datos mensuales'!AX20","v":"n.d."},{"$f":"'Datos mensuales'!AY20","v":"n.d."},{"$f":"'Datos mensuales'!AU20","v":"n.d."},{"$f":"'Datos mensuales'!AV20","v":"n.d."},{"$f":"'Datos mensuales'!AZ20","v":"n.d."},{"$f":"'Datos mensuales'!BA20","v":"n.d."},{"$f":"'Datos mensuales'!BB20","v":"n.d."},null,{"$f":"'Datos mensuales'!BC20","v":"n.d."},{"$f":"'Datos mensuales'!BD20","v":"n.d."},{"$f":"'Datos mensuales'!BE20","v":"n.d."},null,{"$f":"'Datos mensuales'!T20","v":20.83},{"$f":"'Datos mensuales'!U20","v":"n.d."},{"$f":"'Datos mensuales'!W20","v":"n.d."},{"$f":"'Datos mensuales'!AA20","v":"n.d."},{"$f":"'Datos mensuales'!Z20","v":"n.d."},{"$f":"'Datos mensuales'!AC20","v":"n.d."},{"$f":"'Datos mensuales'!AD20","v":"n.d."},null,{"$f":"'Datos mensuales'!AQ20","v":0.58716458223239976},{"$f":"'Datos mensuales'!AR20","v":137.11000000000001},{"$f":"'Datos mensuales'!AO20","v":"n.d."},{"$f":"'Datos mensuales'!AP20","v":"n.d."},{"$f":"'Datos mensuales'!AN20","v":1.1533},{"$f":"'Datos mensuales'!AS20","v":2.9889999999999999},null,{"$f":"'Datos mensuales'!BJ20","v":2887.87},{"$f":"'Datos mensuales'!BK20","v":484.72},{"$f":"'Datos mensuales'!BL20","v":375.35}]
[null,"mayo",{"$f":"'Datos mensuales'!D21","v":"n.d."},{"$f":"'Datos mensuales'!E21","v":"n.d."},{"$f":"'Datos mensuales'!F21","v":"n.d."},{"$f":"'Datos mensuales'!G21","v":4.9535603715170327},{"$f":"'Datos mensuales'!I21","v":"n.d."},{"$f":"'Datos mensuales'!J21","v":24.508239960212446},{"$f":"'Datos mensuales'!H21","v":4.0967283072546374},null,{"$f":"'Datos mensuales'!AW21","v":"n.d."},{"$f":"'Datos mensuales'!AX21","v":"n.d."},{"$f":"'Datos mensuales'!AY21","v":"n.d."},{"$f":"'Datos mensuales'!AU21","v":"n.d."},{"$f":"'Datos mensuales'!AV21","v":"n.d."},{"$f":"'Datos mensuales'!AZ21","v":"n.d."},{"$f":"'Datos mensuales'!BA21","v":"n.d."},{"$f":"'Datos mensuales'!BB21","v":"n.d."},null,{"$f":"'Datos mensuales'!BC21","v":"n.d."},{"$f":"'Datos mensuales'!BD21","v":"n.d."},{"$f":"'Datos mensuales'!BE21","v":"n.d."},null,{"$f":"'Datos mensuales'!T21","v":21.23},{"$f":"'Datos mensuales'!U21","v":"n.d."},{"$f":"'Datos mensuales'!W21","v":"n.d."},{"$f":"'Datos mensuales'!AA21","v":"n.d."},{"$f":"'Datos mensuales'!Z21","v":"n.d."},{"$f":"'Datos mensuales'!AC21","v":"n.d."},{"$f":"'Datos mensuales'!AD21","v":"n.d."},null,{"$f":"'Datos mensuales'!AQ21","v":0.58241118229470001},{"$f":"'Datos mensuales'!AR21","v":138.22},{"$f":"'Datos mensuales'!AO21","v":"n.d."},{"$f":"'Datos mensuales'!AP21","v":"n.d."},{"$f":"'Datos mensuales'!AN21","v":1.1496999999999999},{"$f":"'Datos mensuales'!AS21","v":3.0011999999999999},null,{"$f":"'Datos mensuales'!BJ21","v":3027.5},{"$f":"'Datos mensuales'!BK21","v":506.11},{"$f":"'Datos mensuales'!BL21","v":389.83}]
[null,"junio",{"$f":"'Datos mensuales'!D22","v":"n.d."},{"$f":"'Datos mensuales'!E22","v":"n.d."},{"$f":"'Datos mensuales'!F22","v":"n.d."},{"$f":"'Datos mensuales'!G22","v":4.6959199384141597},{"$f":"'Datos mensuales'!I22","v":"n.d."},{"$f":"'Datos mensuales'!J22","v":23.103396721552201},{"$f":"'Datos mensuales'!H22","v":4.3187952834209495},null,{"$f":"'Datos mensuales'!AW22","v":"n.d."},{"$f":"'Datos mensuales'!AX22","v":"n.d."},{"$f":"'Datos mensuales'!AY22","v":"n.d."},{"$f":"'Datos mensuales'!AU22","v":"n.d."},{"$f":"'Datos mensuales'!AV22","v":"n.d."},{"$f":"'Datos mensuales'!AZ22","v":"n.d."},{"$f":"'Datos mensuales'!BA22","v":"n.d."},{"$f":"'Datos mensuales'!BB22","v":"n.d."},null,{"$f":"'Datos mensuales'!BC22","v":"n.d."},{"$f":"'Datos mensuales'!BD22","v":"n.d."},{"$f":"'Datos mensuales'!BE22","v":"n.d."},null,{"$f":"'Datos mensuales'!T22","v":20.190000000000001},{"$f":"'Datos mensuales'!U22","v":"n.d."},{"$f":"'Datos mensuales'!W22","v":"n.d."},{"$f":"'Datos mensuales'!AA22","v":"n.d."},{"$f":"'Datos mensuales'!Z22","v":"n.d."},{"$f":"'Datos mensuales'!AC22","v":"n.d."},{"$f":"'Datos mensuales'!AD22","v":"n.d."},null,{"$f":"'Datos mensuales'!AQ22","v":0.56044387154626463},{"$f":"'Datos mensuales'!AR22","v":139.75},{"$f":"'Datos mensuales'!AO22","v":"n.d."},{"$f":"'Datos mensuales'!AP22","v":"n.d."},{"$f":"'Datos mensuales'!AN22","v":1.1436999999999999},{"$f":"'Datos mensuales'!AS22","v":3.0133999999999999},null,{"$f":"'Datos mensuales'!BJ22","v":2906.75},{"$f":"'Datos mensuales'!BK22","v":475.92},{"$f":"'Datos mensuales'!BL22","v":371.16}]
[null,"julio",{"$f":"'Datos mensuales'!D23","v":"n.d."},{"$f":"'Datos mensuales'!E23","v":"n.d."},{"$f":"'Datos mensuales'!F23","v":"n.d."},{"$f":"'Datos mensuales'!G23","v":4.4478527607361835},{"$f":"'Datos mensuales'!I23","v":"n.d."},{"$f":"'Datos mensuales'!J23","v":21.966981084729667},{"$f":"'Datos mensuales'!H23","v":5.0433300184685281},null,{"$f":"'Datos mensuales'!AW23","v":"n.d."},{"$f":"'Datos mensuales'!AX23","v":"n.d."},{"$f":"'Datos mensuales'!AY23","v":"n.d."},{"$f":"'Datos mensuales'!AU23","v":"n.d."},{"$f":"'Datos mensuales'!AV23","v":"n.d."},{"$f":"'Datos mensuales'!AZ23","v":"n.d."},{"$f":"'Datos mensuales'!BA23","v":"n.d."},{"$f":"'Datos mensuales'!BB23","v":"n.d."},null,{"$f":"'Datos mensuales'!BC23","v":"n.d."},{"$f":"'Datos mensuales'!BD23","v":"n.d."},{"$f":"'Datos mensuales'!BE23","v":"n.d."},null,{"$f":"'Datos mensuales'!T23","v":21.4},{"$f":"'Datos mensuales'!U23","v":"n.d."},{"$f":"'Datos mensuales'!W23","v":"n.d."},{"$f":"'Datos mensuales'!AA23","v":"n.d."},{"$f":"'Datos mensuales'!Z23","v":"n.d."},{"$f":"'Datos mensuales'!AC23","v":"n.d."},{"$f":"'Datos mensuales'!AD23","v":"n.d."},null,{"$f":"'Datos mensuales'!AQ23","v":0.55906524291384807},{"$f":"'Datos mensuales'!AR23","v":137.83000000000001},{"$f":"'Datos mensuales'!AO23","v":"n.d."},{"$f":"'Datos mensuales'!AP23","v":"n.d."},{"$f":"'Datos mensuales'!AN23","v":1.1491},{"$f":"'Datos mensuales'!AS23","v":3.0322},null,{"$f":"'Datos mensuales'!BJ23","v":3024.82},{"$f":"'Datos mensuales'!BK23","v":502.04},{"$f":"'Datos mensuales'!BL23","v":387.81}]
[null,"agosto",{"$f":"'Datos mensuales'!D24","v":"n.d."},{"$f":"'Datos mensuales'!E24","v":"n.d."},{"$f":"'Datos mensuales'!F24","v":"n.d."},{"$f":"'Datos mensuales'!G24","v":3.7993920972644375},{"$f":"'Datos mensuales'!I24","v":"n.d."},{"$f":"'Datos mensuales'!J24","v":20.758255037468501},{"$f":"'Datos mensuales'!H24","v":4.5473803135150384},null,{"$f":"'Datos mensuales'!AW24","v":"n.d."},{"$f":"'Datos mensuales'!AX24","v":"n.d."},{"$f":"'Datos mensuales'!AY24","v":"n.d."},{"$f":"'Datos mensuales'!AU24","v":"n.d."},{"$f":"'Datos mensuales'!AV24","v":"n.d."},{"$f":"'Datos mensuales'!AZ24","v":"n.d."},{"$f":"'Datos mensuales'!BA24","v":"n.d."},{"$f":"'Datos mensuales'!BB24","v":"n.d."},null,{"$f":"'Datos mensuales'!BC24","v":"n.d."},{"$f":"'Datos mensuales'!BD24","v":"n.d."},{"$f":"'Datos mensuales'!BE24","v":"n.d."},null,{"$f":"'Datos mensuales'!T24","v":21.69},{"$f":"'Datos mensuales'!U24","v":"n.d."},{"$f":"'Datos mensuales'!W24","v":"n.d."},{"$f":"'Datos mensuales'!AA24","v":"n.d."},{"$f":"'Datos mensuales'!Z24","v":"n.d."},{"$f":"'Datos mensuales'!AC24","v":"n.d."},{"$f":"'Datos mensuales'!AD24","v":"n.d."},null,{"$f":"'Datos mensuales'!AQ24","v":0.57300022920009164},{"$f":"'Datos mensuales'!AR24","v":136.82},{"$f":"'Datos mensuales'!AO24","v":"n.d."},{"$f":"'Datos mensuales'!AP24","v":"n.d."},{"$f":"'Datos mensuales'!AN24","v":1.1447000000000001},{"$f":"'Datos mensuales'!AS24","v":3.0379999999999998},null,{"$f":"'Datos mensuales'!BJ24","v":3043.6},{"$f":"'Datos mensuales'!BK24","v":525.67999999999995},{"$f":"'Datos mensuales'!BL24","v":395.43}]
[null,"septiembre",{"$f":"'Datos mensuales'!D25","v":"n.d."},{"$f":"'Datos mensuales'!E25","v":"n.d."},{"$f":"'Datos mensuales'!F25","v":"n.d."},{"$f":"'Datos mensuales'!G25","v":3.3911077618688772},{"$f":"'Datos mensuales'!I25","v":"n.d."},{"$f":"'Datos mensuales'!J25","v":20.247147890271215},{"$f":"'Datos mensuales'!H25","v":3.9119461581604127},null,{"$f":"'Datos mensuales'!AW25","v":"n.d."},{"$f":"'Datos mensuales'!AX25","v":"n.d."},{"$f":"'Datos mensuales'!AY25","v":"n.d."},{"$f":"'Datos mensuales'!AU25","v":"n.d."},{"$f":"'Datos mensuales'!AV25","v":"n.d."},{"$f":"'Datos mensuales'!AZ25","v":"n.d."},{"$f":"'Datos mensuales'!BA25","v":"n.d."},{"$f":"'Datos mensuales'!BB25","v":"n.d."},null,{"$f":"'Datos mensuales'!BC25","v":"n.d."},{"$f":"'Datos mensuales'!BD25","v":"n.d."},{"$f":"'Datos mensuales'!BE25","v":"n.d."},null,{"$f":"'Datos mensuales'!T25","v":21.89},{"$f":"'Datos mensuales'!U25","v":"n.d."},{"$f":"'Datos mensuales'!W25","v":"n.d."},{"$f":"'Datos mensuales'!AA25","v":"n.d."},{"$f":"'Datos mensuales'!Z25","v":"n.d."},{"$f":"'Datos mensuales'!AC25","v":"n.d."},{"$f":"'Datos mensuales'!AD25","v":"n.d."},null,{"$f":"'Datos mensuales'!AQ25","v":0.58889346917142693},{"$f":"'Datos mensuales'!AR25","v":134.30000000000001},{"$f":"'Datos mensuales'!AO25","v":"n.d."},{"$f":"'Datos mensuales'!AP25","v":"n.d."},{"$f":"'Datos mensuales'!AN25","v":1.1368},{"$f":"'Datos mensuales'!AS25","v":3.0501999999999998},null,{"$f":"'Datos mensuales'!BJ25","v":3016.77},{"$f":"'Datos mensuales'!BK25","v":526.88},{"$f":"'Datos mensuales'!BL25","v":387.86}]
[null,"octubre",{"$f":"'Datos mensuales'!D26","v":"n.d."},{"$f":"'Datos mensuales'!E26","v":"n.d."},{"$f":"'Datos mensuales'!F26","v":"n.d."},{"$f":"'Datos mensuales'!G26","v":2.921348314606746},{"$f":"'Datos mensuales'!I26","v":"n.d."},{"$f":"'Datos mensuales'!J26","v":19.921675679124903},{"$f":"'Datos mensuales'!H26","v":3.6660161695009892},null,{"$f":"'Datos mensuales'!AW26","v":"n.d."},{"$f":"'Datos mensuales'!AX26","v":"n.d."},{"$f":"'Datos mensuales'!AY26","v":"n.d."},{"$f":"'Datos mensuales'!AU26","v":"n.d."},{"$f":"'Datos mensuales'!AV26","v":"n.d."},{"$f":"'Datos mensuales'!AZ26","v":"n.d."},{"$f":"'Datos mensuales'!BA26","v":"n.d."},{"$f":"'Datos mensuales'!BB26","v":"n.d."},null,{"$f":"'Datos mensuales'!BC26","v":"n.d."},{"$f":"'Datos mensuales'!BD26","v":"n.d."},{"$f":"'Datos mensuales'!BE26","v":"n.d."},null,{"$f":"'Datos mensuales'!T26","v":23.23},{"$f":"'Datos mensuales'!U26","v":"n.d."},{"$f":"'Datos mensuales'!W26","v":"n.d."},{"$f":"'Datos mensuales'!AA26","v":"n.d."},{"$f":"'Datos mensuales'!Z26","v":"n.d."},{"$f":"'Datos mensuales'!AC26","v":"n.d."},{"$f":"'Datos mensuales'!AD26","v":"n.d."},null,{"$f":"'Datos mensuales'!AQ26","v":0.5891016200294551},{"$f":"'Datos mensuales'!AR26","v":130.77000000000001},{"$f":"'Datos mensuales'!AO26","v":"n.d."},{"$f":"'Datos mensuales'!AP26","v":"n.d."},{"$f":"'Datos mensuales'!AN26","v":1.1278999999999999},{"$f":"'Datos mensuales'!AS26","v":3.0623999999999998},null,{"$f":"'Datos mensuales'!BJ26","v":3069.1},{"$f":"'Datos mensuales'!BK26","v":542.98},{"$f":"'Datos mensuales'!BL26","v":392.46}]
[null,"noviembre",{"$f":"'Datos mensuales'!D27","v":"n.d."},{"$f":"'Datos mensuales'!E27","v":"n.d."},{"$f":"'Datos mensuales'!F27","v":"n.d."},{"$f":"'Datos mensuales'!G27","v":2.9895366218236172},{"$f":"'Datos mensuales'!I27","v":"n.d."},{"$f":"'Datos mensuales'!J27","v":19.720736304578683},{"$f":"'Datos mensuales'!H27","v":4.1260105938109959},null,{"$f":"'Datos mensuales'!AW27","v":"n.d."},{"$f":"'Datos mensuales'!AX27","v":"n.d."},{"$f":"'Datos mensuales'!AY27","v":"n.d."},{"$f":"'Datos mensuales'!AU27","v":"n.d."},{"$f":"'Datos mensuales'!AV27","v":"n.d."},{"$f":"'Datos mensuales'!AZ27","v":"n.d."},{"$f":"'Datos mensuales'!BA27","v":"n.d."},{"$f":"'Datos mensuales'!BB27","v":"n.d."},null,{"$f":"'Datos mensuales'!BC27","v":"n.d."},{"$f":"'Datos mensuales'!BD27","v":"n.d."},{"$f":"'Datos mensuales'!BE27","v":"n.d."},null,{"$f":"'Datos mensuales'!T27","v":22.46},{"$f":"'Datos mensuales'!U27","v":"n.d."},{"$f":"'Datos mensuales'!W27","v":"n.d."},{"$f":"'Datos mensuales'!AA27","v":"n.d."},{"$f":"'Datos mensuales'!Z27","v":"n.d."},{"$f":"'Datos mensuales'!AC27","v":"n.d."},{"$f":"'Datos mensuales'!AD27","v":"n.d."},null,{"$f":"'Datos mensuales'!AQ27","v":0.61538461538461542},{"$f":"'Datos mensuales'!AR27","v":127},{"$f":"'Datos mensuales'!AO27","v":"n.d."},{"$f":"'Datos mensuales'!AP27","v":"n.d."},{"$f":"'Datos mensuales'!AN27","v":1.1303000000000001},{"$f":"'Datos mensuales'!AS27","v":3.0697999999999999},null,{"$f":"'Datos mensuales'!BJ27","v":2894.68},{"$f":"'Datos mensuales'!BK27","v":523.9},{"$f":"'Datos mensuales'!BL27","v":375.22}]
[null,"diciembre",{"$f":"'Datos mensuales'!D28","v":"n.d."},{"$f":"'Datos mensuales'!E28","v":"n.d."},{"$f":"'Datos mensuales'!F28","v":"n.d."},{"$f":"'Datos mensuales'!G28","v":3.0642750373692031},{"$f":"'Datos mensuales'!I28","v":"n.d."},{"$f":"'Datos mensuales'!J28","v":18.794622340153929},{"$f":"'Datos mensuales'!H28","v":4.1260105938109959},null,{"$f":"'Datos mensuales'!AW28","v":"n.d."},{"$f":"'Datos mensuales'!AX28","v":"n.d."},{"$f":"'Datos mensuales'!AY28","v":"n.d."},{"$f":"'Datos mensuales'!AU28","v":"n.d."},{"$f":"'Datos mensuales'!AV28","v":"n.d."},{"$f":"'Datos mensuales'!AZ28","v":"n.d."},{"$f":"'Datos mensuales'!BA28","v":"n.d."},{"$f":"'Datos mensuales'!BB28","v":"n.d."},null,{"$f":"'Datos mensuales'!BC28","v":"n.d."},{"$f":"'Datos mensuales'!BD28","v":"n.d."},{"$f":"'Datos mensuales'!BE28","v":"n.d."},null,{"$f":"'Datos mensuales'!T28","v":19.5},{"$f":"'Datos mensuales'!U28","v":"n.d."},{"$f":"'Datos mensuales'!W28","v":"n.d."},{"$f":"'Datos mensuales'!AA28","v":"n.d."},{"$f":"'Datos mensuales'!Z28","v":"n.d."},{"$f":"'Datos mensuales'!AC28","v":"n.d."},{"$f":"'Datos mensuales'!AD28","v":"n.d."},null,{"$f":"'Datos mensuales'!AQ28","v":0.63714558776680474},{"$f":"'Datos mensuales'!AR28","v":128.11000000000001},{"$f":"'Datos mensuales'!AO28","v":"n.d."},{"$f":"'Datos mensuales'!AP28","v":"n.d."},{"$f":"'Datos mensuales'!AN28","v":1.1456999999999999},{"$f":"'Datos mensuales'!AS28","v":3.07},null,{"$f":"'Datos mensuales'!BJ28","v":3168.83},{"$f":"'Datos mensuales'!BK28","v":586.34},{"$f":"'Datos mensuales'!BL28","v":417.09}]
[1992,"enero",{"$f":"'Datos mensuales'!D29","v":"n.d."},{"$f":"'Datos mensuales'!E29","v":"n.d."},{"$f":"'Datos mensuales'!F29","v":"n.d."},{"$f":"'Datos mensuales'!G29","v":2.6002971768202081},{"$f":"'Datos mensuales'!I29","v":"n.d."},{"$f":"'Datos mensuales'!J29","v":17.947390998963321},{"$f":"'Datos mensuales'!H29","v":3.8658722460856199},null,{"$f":"'Datos mensuales'!AW29","v":"n.d."},{"$f":"'Datos mensuales'!AX29","v":"n.d."},{"$f":"'Datos mensuales'!AY29","v":"n.d."},{"$f":"'Datos mensuales'!AU29","v":"n.d."},{"$f":"'Datos mensuales'!AV29","v":"n.d."},{"$f":"'Datos mensuales'!AZ29","v":"n.d."},{"$f":"'Datos mensuales'!BA29","v":"n.d."},{"$f":"'Datos mensuales'!BB29","v":"n.d."},null,{"$f":"'Datos mensuales'!BC29","v":"n.d."},{"$f":"'Datos mensuales'!BD29","v":"n.d."},{"$f":"'Datos mensuales'!BE29","v":"n.d."},null,{"$f":"'Datos mensuales'!T29","v":18.79},{"$f":"'Datos mensuales'!U29","v":"n.d."},{"$f":"'Datos mensuales'!W29","v":"n.d."},{"$f":"'Datos mensuales'!AA29","v":"n.d."},{"$f":"'Datos mensuales'!Z29","v":"n.d."},{"$f":"'Datos mensuales'!AC29","v":"n.d."},{"$f":"'Datos mensuales'!AD29","v":"n.d."},null,{"$f":"'Datos mensuales'!AQ29","v":0.63395460885000643},{"$f":"'Datos mensuales'!AR29","v":130},{"$f":"'Datos mensuales'!AO29","v":"n.d."},{"$f":"'Datos mensuales'!AP29","v":"n.d."},{"$f":"'Datos mensuales'!AN29","v":1.1565000000000001},{"$f":"'Datos mensuales'!AS29","v":3.0684999999999998},null,{"$f":"'Datos mensuales'!BJ29","v":3223.39},{"$f":"'Datos mensuales'!BK29","v":620.21},{"$f":"'Datos mensuales'!BL29","v":408.79}]
[null,"febrero",{"$f":"'Datos mensuales'!D30","v":"n.d."},{"$f":"'Datos mensuales'!E30","v":"n.d."},{"$f":"'Datos mensuales'!F30","v":"n.d."},{"$f":"'Datos mensuales'!G30","v":2.8189910979228356},{"$f":"'Datos mensuales'!I30","v":"n.d."},{"$f":"'Datos mensuales'!J30","v":17.297158396332367},{"$f":"'Datos mensuales'!H30","v":3.843504614960727},null,{"$f":"'Datos mensuales'!AW30","v":"n.d."},{"$f":"'Datos mensuales'!AX30","v":"n.d."},{"$f":"'Datos mensuales'!AY30","v":"n.d."},{"$f":"'Datos mensuales'!AU30","v":"n.d."},{"$f":"'Datos mensuales'!AV30","v":"n.d."},{"$f":"'Datos mensuales'!AZ30","v":"n.d."},{"$f":"'Datos mensuales'!BA30","v":"n.d."},{"$f":"'Datos mensuales'!BB30","v":"n.d."},null,{"$f":"'Datos mensuales'!BC30","v":"n.d."},{"$f":"'Datos mensuales'!BD30","v":"n.d."},{"$f":"'Datos mensuales'!BE30","v":"n.d."},null,{"$f":"'Datos mensuales'!T30","v":19.010000000000002},{"$f":"'Datos mensuales'!U30","v":"n.d."},{"$f":"'Datos mensuales'!W30","v":"n.d."},{"$f":"'Datos mensuales'!AA30","v":"n.d."},{"$f":"'Datos mensuales'!Z30","v":"n.d."},{"$f":"'Datos mensuales'!AC30","v":"n.d."},{"$f":"'Datos mensuales'!AD30","v":"n.d."},null,{"$f":"'Datos mensuales'!AQ30","v":0.61739828363277149},{"$f":"'Datos mensuales'!AR30","v":130.5},{"$f":"'Datos mensuales'!AO30","v":"n.d."},{"$f":"'Datos mensuales'!AP30","v":"n.d."},{"$f":"'Datos mensuales'!AN30","v":1.1825000000000001},{"$f":"'Datos mensuales'!AS30","v":3.0636000000000001},null,{"$f":"'Datos mensuales'!BJ30","v":3267.67},{"$f":"'Datos mensuales'!BK30","v":633.47},{"$f":"'Datos mensuales'!BL30","v":412.7}]
[null,"marzo",{"$f":"'Datos mensuales'!D31","v":"n.d."},{"$f":"'Datos mensuales'!E31","v":"n.d."},{"$f":"'Datos mensuales'!F31","v":"n.d."},{"$f":"'Datos mensuales'!G31","v":3.1851851851851936},{"$f":"'Datos mensuales'!I31","v":"n.d."},{"$f":"'Datos mensuales'!J31","v":16.824853492142001},{"$f":"'Datos mensuales'!H31","v":4.311888689902184},null,{"$f":"'Datos mensuales'!AW31","v":"n.d."},{"$f":"'Datos mensuales'!AX31","v":"n.d."},{"$f":"'Datos mensuales'!AY31","v":"n.d."},{"$f":"'Datos mensuales'!AU31","v":"n.d."},{"$f":"'Datos mensuales'!AV31","v":"n.d."},{"$f":"'Datos mensuales'!AZ31","v":"n.d."},{"$f":"'Datos mensuales'!BA31","v":"n.d."},{"$f":"'Datos mensuales'!BB31","v":"n.d."},null,{"$f":"'Datos mensuales'!BC31","v":"n.d."},{"$f":"'Datos mensuales'!BD31","v":"n.d."},{"$f":"'Datos mensuales'!BE31","v":"n.d."},null,{"$f":"'Datos mensuales'!T31","v":18.920000000000002},{"$f":"'Datos mensuales'!U31","v":"n.d."},{"$f":"'Datos mensuales'!W31","v":"n.d."},{"$f":"'Datos mensuales'!AA31","v":"n.d."},{"$f":"'Datos mensuales'!Z31","v":"n.d."},{"$f":"'Datos mensuales'!AC31","v":"n.d."},{"$f":"'Datos mensuales'!AD31","v":"n.d."},null,{"$f":"'Datos mensuales'!AQ31","v":0.60201071579074106},{"$f":"'Datos mensuales'!AR31","v":132.86000000000001},{"$f":"'Datos mensuales'!AO31","v":"n.d."},{"$f":"'Datos mensuales'!AP31","v":"n.d."},{"$f":"'Datos mensuales'!AN31","v":1.1926000000000001},{"$f":"'Datos mensuales'!AS31","v":3.0672000000000001},null,{"$f":"'Datos mensuales'!BJ31","v":3235.47},{"$f":"'Datos mensuales'!BK31","v":603.77},{"$f":"'Datos mensuales'!BL31","v":403.69}]
[null,"abril ",{"$f":"'Datos mensuales'!D32","v":"n.d."},{"$f":"'Datos mensuales'!E32","v":"n.d."},{"$f":"'Datos mensuales'!F32","v":"n.d."},{"$f":"'Datos mensuales'!G32","v":3.1804733727810737},{"$f":"'Datos mensuales'!I32","v":"n.d."},{"$f":"'Datos mensuales'!J32","v":16.644375410826594},{"$f":"'Datos mensuales'!H32","v":4.1872597473915389},null,{"$f":"'Datos mensuales'!AW32","v":"n.d."},{"$f":"'Datos mensuales'!AX32","v":"n.d."},{"$f":"'Datos mensuales'!AY32","v":"n.d."},{"$f":"'Datos mensuales'!AU32","v":"n.d."},{"$f":"'Datos mensuales'!AV32","v":"n.d."},{"$f":"'Datos mensuales'!AZ32","v":"n.d."},{"$f":"'Datos mensuales'!BA32","v":"n.d."},{"$f":"'Datos mensuales'!BB32","v":"n.d."},null,{"$f":"'Datos mensuales'!BC32","v":"n.d."},{"$f":"'Datos mensuales'!BD32","v":"n.d."},{"$f":"'Datos mensuales'!BE32","v":"n.d."},null,{"$f":"'Datos mensuales'!T32","v":20.23},{"$f":"'Datos mensuales'!U32","v":"n.d."},{"$f":"'Datos mensuales'!W32","v":"n.d."},{"$f":"'Datos mensuales'!AA32","v":"n.d."},{"$f":"'Datos mensuales'!Z32","v":"n.d."},{"$f":"'Datos mensuales'!AC32","v":"n.d."},{"$f":"'Datos mensuales'!AD32","v":"n.d."},null,{"$f":"'Datos mensuales'!AQ32","v":0.60668567615118607},{"$f":"'Datos mensuales'!AR32","v":133.54},{"$f":"'Datos mensuales'!AO32","v":"n.d."},{"$f":"'Datos mensuales'!AP32","v":"n.d."},{"$f":"'Datos mensuales'!AN32","v":1.1875},{"$f":"'Datos mensuales'!AS32","v":3.0674999999999999},null,{"$f":"'Datos mensuales'!BJ32","v":3359.12},{"$f":"'Datos mensuales'!BK32","v":578.67999999999995},{"$f":"'Datos mensuales'!BL32","v":414.95}]
[null,"mayo",{"$f":"'Datos mensuales'!D33","v":"n.d."},{"$f":"'Datos mensuales'!E33","v":"n.d."},{"$f":"'Datos mensuales'!F33","v":"n.d."},{"$f":"'Datos mensuales'!G33","v":3.0235988200589929},{"$f":"'Datos mensuales'!I33","v":"n.d."},{"$f":"'Datos mensuales'!J33","v":16.276778426380996},{"$f":"'Datos mensuales'!H33","v":4.0448209893413409},null,{"$f":"'Datos mensuales'!AW33","v":"n.d."},{"$f":"'Datos mensuales'!AX33","v":"n.d."},{"$f":"'Datos mensuales'!AY33","v":"n.d."},{"$f":"'Datos mensuales'!AU33","v":"n.d."},{"$f":"'Datos mensuales'!AV33","v":"n.d."},{"$f":"'Datos mensuales'!AZ33","v":"n.d."},{"$f":"'Datos mensuales'!BA33","v":"n.d."},{"$f":"'Datos mensuales'!BB33","v":"n.d."},null,{"$f":"'Datos mensuales'!BC33","v":"n.d."},{"$f":"'Datos mensuales'!BD33","v":"n.d."},{"$f":"'Datos mensuales'!BE33","v":"n.d."},null,{"$f":"'Datos mensuales'!T33","v":20.98},{"$f":"'Datos mensuales'!U33","v":"n.d."},{"$f":"'Datos mensuales'!W33","v":"n.d."},{"$f":"'Datos mensuales'!AA33","v":"n.d."},{"$f":"'Datos mensuales'!Z33","v":"n.d."},{"$f":"'Datos mensuales'!AC33","v":"n.d."},{"$f":"'Datos mensuales'!AD33","v":"n.d."},null,{"$f":"'Datos mensuales'!AQ33","v":0.61705541157595956},{"$f":"'Datos mensuales'!AR33","v":130.77000000000001},{"$f":"'Datos mensuales'!AO33","v":"n.d."},{"$f":"'Datos mensuales'!AP33","v":"n.d."},{"$f":"'Datos mensuales'!AN33","v":1.2},{"$f":"'Datos mensuales'!AS33","v":3.0981999999999998},null,{"$f":"'Datos mensuales'!BJ33","v":3396.88},{"$f":"'Datos mensuales'!BK33","v":585.30999999999995},{"$f":"'Datos mensuales'!BL33","v":415.35}]
[null,"junio",{"$f":"'Datos mensuales'!D34","v":"n.d."},{"$f":"'Datos mensuales'!E34","v":"n.d."},{"$f":"'Datos mensuales'!F34","v":"n.d."},{"$f":"'Datos mensuales'!G34","v":3.0882352941176388},{"$f":"'Datos mensuales'!I34","v":"n.d."},{"$f":"'Datos mensuales'!J34","v":15.848183515514105},{"$f":"'Datos mensuales'!H34","v":3.9221026828271754},null,{"$f":"'Datos mensuales'!AW34","v":"n.d."},{"$f":"'Datos mensuales'!AX34","v":"n.d."},{"$f":"'Datos mensuales'!AY34","v":"n.d."},{"$f":"'Datos mensuales'!AU34","v":"n.d."},{"$f":"'Datos mensuales'!AV34","v":"n.d."},{"$f":"'Datos mensuales'!AZ34","v":"n.d."},{"$f":"'Datos mensuales'!BA34","v":"n.d."},{"$f":"'Datos mensuales'!BB34","v":"n.d."},null,{"$f":"'Datos mensuales'!BC34","v":"n.d."},{"$f":"'Datos mensuales'!BD34","v":"n.d."},{"$f":"'Datos mensuales'!BE34","v":"n.d."},null,{"$f":"'Datos mensuales'!T34","v":22.39},{"$f":"'Datos mensuales'!U34","v":"n.d."},{"$f":"'Datos mensuales'!W34","v":"n.d."},{"$f":"'Datos mensuales'!AA34","v":"n.d."},{"$f":"'Datos mensuales'!Z34","v":"n.d."},{"$f":"'Datos mensuales'!AC34","v":"n.d."},{"$f":"'Datos mensuales'!AD34","v":"n.d."},null,{"$f":"'Datos mensuales'!AQ34","v":0.63532401524777637},{"$f":"'Datos mensuales'!AR34","v":126.84},{"$f":"'Datos mensuales'!AO34","v":"n.d."},{"$f":"'Datos mensuales'!AP34","v":"n.d."},{"$f":"'Datos mensuales'!AN34","v":1.2},{"$f":"'Datos mensuales'!AS34","v":3.1185},null,{"$f":"'Datos mensuales'!BJ34","v":3318.52},{"$f":"'Datos mensuales'!BK34","v":563.6},{"$f":"'Datos mensuales'!BL34","v":408.14}]
[null,"julio",{"$f":"'Datos mensuales'!D35","v":"n.d."},{"$f":"'Datos mensuales'!E35","v":"n.d."},{"$f":"'Datos mensuales'!F35","v":"n.d."},{"$f":"'Datos mensuales'!G35","v":3.1571218795888485},{"$f":"'Datos mensuales'!I35","v":"n.d."},{"$f":"'Datos mensuales'!J35","v":15.558462078862897},{"$f":"'Datos mensuales'!H35","v":3.327021909656489},null,{"$f":"'Datos mensuales'!AW35","v":"n.d."},{"$f":"'Datos mensuales'!AX35","v":"n.d."},{"$f":"'Datos mensuales'!AY35","v":"n.d."},{"$f":"'Datos mensuales'!AU35","v":"n.d."},{"$f":"'Datos mensuales'!AV35","v":"n.d."},{"$f":"'Datos mensuales'!AZ35","v":"n.d."},{"$f":"'Datos mensuales'!BA35","v":"n.d."},{"$f":"'Datos mensuales'!BB35","v":"n.d."},null,{"$f":"'Datos mensuales'!BC35","v":"n.d."},{"$f":"'Datos mensuales'!BD35","v":"n.d."},{"$f":"'Datos mensuales'!BE35","v":"n.d."},null,{"$f":"'Datos mensuales'!T35","v":21.78},{"$f":"'Datos mensuales'!U35","v":"n.d."},{"$f":"'Datos mensuales'!W35","v":"n.d."},{"$f":"'Datos mensuales'!AA35","v":"n.d."},{"$f":"'Datos mensuales'!Z35","v":"n.d."},{"$f":"'Datos mensuales'!AC35","v":"n.d."},{"$f":"'Datos mensuales'!AD35","v":"n.d."},null,{"$f":"'Datos mensuales'!AQ35","v":0.67073579716949494},{"$f":"'Datos mensuales'!AR35","v":125.88},{"$f":"'Datos mensuales'!AO35","v":"n.d."},{"$f":"'Datos mensuales'!AP35","v":"n.d."},{"$f":"'Datos mensuales'!AN35","v":1.1917},{"$f":"'Datos mensuales'!AS35","v":3.1164999999999998},null,{"$f":"'Datos mensuales'!BJ35","v":3393.78},{"$f":"'Datos mensuales'!BK35","v":580.83000000000004},{"$f":"'Datos mensuales'!BL35","v":424.21}]
[null,"agosto",{"$f":"'Datos mensuales'!D36","v":"n.d."},{"$f":"'Datos mensuales'!E36","v":"n.d."},{"$f":"'Datos mensuales'!F36","v":"n.d."},{"$f":"'Datos mensuales'!G36","v":3.1478770131771681},{"$f":"'Datos mensuales'!I36","v":"n.d."},{"$f":"'Datos mensuales'!J36","v":15.464793049928897},{"$f":"'Datos mensuales'!H36","v":3.3094691341348139},null,{"$f":"'Datos mensuales'!AW36","v":"n.d."},{"$f":"'Datos mensuales'!AX36","v":"n.d."},{"$f":"'Datos mensuales'!AY36","v":"n.d."},{"$f":"'Datos mensuales'!AU36","v":"n.d."},{"$f":"'Datos mensuales'!AV36","v":"n.d."},{"$f":"'Datos mensuales'!AZ36","v":"n.d."},{"$f":"'Datos mensuales'!BA36","v":"n.d."},{"$f":"'Datos mensuales'!BB36","v":"n.d."},null,{"$f":"'Datos mensuales'!BC36","v":"n.d."},{"$f":"'Datos mensuales'!BD36","v":"n.d."},{"$f":"'Datos mensuales'!BE36","v":"n.d."},null,{"$f":"'Datos mensuales'!T36","v":21.34},{"$f":"'Datos mensuales'!U36","v":"n.d."},{"$f":"'Datos mensuales'!W36","v":"n.d."},{"$f":"'Datos mensuales'!AA36","v":"n.d."},{"$f":"'Datos mensuales'!Z36","v":"n.d."},{"$f":"'Datos mensuales'!AC36","v":"n.d."},{"$f":"'Datos mensuales'!AD36","v":"n.d."},null,{"$f":"'Datos mensuales'!AQ36","v":0.68917987594762231},{"$f":"'Datos mensuales'!AR36","v":126.23},{"$f":"'Datos mensuales'!AO36","v":"n.d."},{"$f":"'Datos mensuales'!AP36","v":"n.d."},{"$f":"'Datos mensuales'!AN36","v":1.1909000000000001},{"$f":"'Datos mensuales'!AS36","v":3.0912999999999999},null,{"$f":"'Datos mensuales'!BJ36","v":3257.35},{"$f":"'Datos mensuales'!BK36","v":563.12},{"$f":"'Datos mensuales'!BL36","v":414.03}]
[null,"septiembre",{"$f":"'Datos mensuales'!D37","v":"n.d."},{"$f":"'Datos mensuales'!E37","v":"n.d."},{"$f":"'Datos mensuales'!F37","v":"n.d."},{"$f":"'Datos mensuales'!G37","v":2.988338192419842},{"$f":"'Datos mensuales'!I37","v":"n.d."},{"$f":"'Datos mensuales'!J37","v":15.320380662093136},{"$f":"'Datos mensuales'!H37","v":3.3193900958035267},null,{"$f":"'Datos mensuales'!AW37","v":"n.d."},{"$f":"'Datos mensuales'!AX37","v":"n.d."},{"$f":"'Datos mensuales'!AY37","v":"n.d."},{"$f":"'Datos mensuales'!AU37","v":"n.d."},{"$f":"'Datos mensuales'!AV37","v":"n.d."},{"$f":"'Datos mensuales'!AZ37","v":"n.d."},{"$f":"'Datos mensuales'!BA37","v":"n.d."},{"$f":"'Datos mensuales'!BB37","v":"n.d."},null,{"$f":"'Datos mensuales'!BC37","v":"n.d."},{"$f":"'Datos mensuales'!BD37","v":"n.d."},{"$f":"'Datos mensuales'!BE37","v":"n.d."},null,{"$f":"'Datos mensuales'!T37","v":21.88},{"$f":"'Datos mensuales'!U37","v":"n.d."},{"$f":"'Datos mensuales'!W37","v":"n.d."},{"$f":"'Datos mensuales'!AA37","v":"n.d."},{"$f":"'Datos mensuales'!Z37","v":"n.d."},{"$f":"'Datos mensuales'!AC37","v":"n.d."},{"$f":"'Datos mensuales'!AD37","v":"n.d."},null,{"$f":"'Datos mensuales'!AQ37","v":0.69075084616978655},{"$f":"'Datos mensuales'!AR37","v":123.35307692307693},{"$f":"'Datos mensuales'!AO37","v":"n.d."},{"$f":"'Datos mensuales'!AP37","v":"n.d."},{"$f":"'Datos mensuales'!AN37","v":1.2222999999999999},{"$f":"'Datos mensuales'!AS37","v":3.0857000000000001},null,{"$f":"'Datos mensuales'!BJ37","v":3271.66},{"$f":"'Datos mensuales'!BK37","v":583.27},{"$f":"'Datos mensuales'!BL37","v":417.8}]
[null,"octubre",{"$f":"'Datos mensuales'!D38","v":"n.d."},{"$f":"'Datos mensuales'!E38","v":"n.d."},{"$f":"'Datos mensuales'!F38","v":"n.d."},{"$f":"'Datos mensuales'!G38","v":3.2023289665211103},{"$f":"'Datos mensuales'!I38","v":"n.d."},{"$f":"'Datos mensuales'!J38","v":14.815391856556712},{"$f":"'Datos mensuales'!H38","v":3.1733225763076502},null,{"$f":"'Datos mensuales'!AW38","v":"n.d."},{"$f":"'Datos mensuales'!AX38","v":"n.d."},{"$f":"'Datos mensuales'!AY38","v":"n.d."},{"$f":"'Datos mensuales'!AU38","v":"n.d."},{"$f":"'Datos mensuales'!AV38","v":"n.d."},{"$f":"'Datos mensuales'!AZ38","v":"n.d."},{"$f":"'Datos mensuales'!BA38","v":"n.d."},{"$f":"'Datos mensuales'!BB38","v":"n.d."},null,{"$f":"'Datos mensuales'!BC38","v":"n.d."},{"$f":"'Datos mensuales'!BD38","v":"n.d."},{"$f":"'Datos mensuales'!BE38","v":"n.d."},null,{"$f":"'Datos mensuales'!T38","v":21.69},{"$f":"'Datos mensuales'!U38","v":"n.d."},{"$f":"'Datos mensuales'!W38","v":"n.d."},{"$f":"'Datos mensuales'!AA38","v":"n.d."},{"$f":"'Datos mensuales'!Z38","v":"n.d."},{"$f":"'Datos mensuales'!AC38","v":"n.d."},{"$f":"'Datos mensuales'!AD38","v":"n.d."},null,{"$f":"'Datos mensuales'!AQ38","v":0.67494600431965446},{"$f":"'Datos mensuales'!AR38","v":121.05083333333333},{"$f":"'Datos mensuales'!AO38","v":"n.d."},{"$f":"'Datos mensuales'!AP38","v":"n.d."},{"$f":"'Datos mensuales'!AN38","v":1.2451000000000001},{"$f":"'Datos mensuales'!AS38","v":3.1238000000000001},null,{"$f":"'Datos mensuales'!BJ38","v":3226.28},{"$f":"'Datos mensuales'!BK38","v":605.16999999999996},{"$f":"'Datos mensuales'!BL38","v":418.68}]
[null,"noviembre",{"$f":"'Datos mensuales'!D39","v":"n.d."},{"$f":"'Datos mensuales'!E39","v":"n.d."},{"$f":"'Datos mensuales'!F39","v":"n.d."},{"$f":"'Datos mensuales'!G39","v":3.0478955007256809},{"$f":"'Datos mensuales'!I39","v":"n.d."},{"$f":"'Datos mensuales'!J39","v":12.964399646892538},{"$f":"'Datos mensuales'!H39","v":3.0655957161981151},null,{"$f":"'Datos mensuales'!AW39","v":"n.d."},{"$f":"'Datos mensuales'!AX39","v":"n.d."},{"$f":"'Datos mensuales'!AY39","v":"n.d."},{"$f":"'Datos mensuales'!AU39","v":"n.d."},{"$f":"'Datos mensuales'!AV39","v":"n.d."},{"$f":"'Datos mensuales'!AZ39","v":"n.d."},{"$f":"'Datos mensuales'!BA39","v":"n.d."},{"$f":"'Datos mensuales'!BB39","v":"n.d."},null,{"$f":"'Datos mensuales'!BC39","v":"n.d."},{"$f":"'Datos mensuales'!BD39","v":"n.d."},{"$f":"'Datos mensuales'!BE39","v":"n.d."},null,{"$f":"'Datos mensuales'!T39","v":20.34},{"$f":"'Datos mensuales'!U39","v":"n.d."},{"$f":"'Datos mensuales'!W39","v":"n.d."},{"$f":"'Datos mensuales'!AA39","v":"n.d."},{"$f":"'Datos mensuales'!Z39","v":"n.d."},{"$f":"'Datos mensuales'!AC39","v":"n.d."},{"$f":"'Datos mensuales'!AD39","v":"n.d."},null,{"$f":"'Datos mensuales'!AQ39","v":0.62984190968067022},{"$f":"'Datos mensuales'!AR39","v":123.83428571428571},{"$f":"'Datos mensuales'!AO39","v":"n.d."},{"$f":"'Datos mensuales'!AP39","v":"n.d."},{"$f":"'Datos mensuales'!AN39","v":1.268},{"$f":"'Datos mensuales'!AS39","v":3.1198000000000001},null,{"$f":"'Datos mensuales'!BJ39","v":3305.16},{"$f":"'Datos mensuales'!BK39","v":652.73},{"$f":"'Datos mensuales'!BL39","v":431.35}]
[null,"diciembre",{"$f":"'Datos mensuales'!D40","v":"n.d."},{"$f":"'Datos mensuales'!E40","v":"n.d."},{"$f":"'Datos mensuales'!F40","v":"n.d."},{"$f":"'Datos mensuales'!G40","v":2.9006526468455403},{"$f":"'Datos mensuales'!I40","v":"n.d."},{"$f":"'Datos mensuales'!J40","v":11.938094606259627},{"$f":"'Datos mensuales'!H40","v":3.1726907630521959},null,{"$f":"'Datos mensuales'!AW40","v":"n.d."},{"$f":"'Datos mensuales'!AX40","v":"n.d."},{"$f":"'Datos mensuales'!AY40","v":"n.d."},{"$f":"'Datos mensuales'!AU40","v":"n.d."},{"$f":"'Datos mensuales'!AV40","v":"n.d."},{"$f":"'Datos mensuales'!AZ40","v":"n.d."},{"$f":"'Datos mensuales'!BA40","v":"n.d."},{"$f":"'Datos mensuales'!BB40","v":"n.d."},null,{"$f":"'Datos mensuales'!BC40","v":"n.d."},{"$f":"'Datos mensuales'!BD40","v":"n.d."},{"$f":"'Datos mensuales'!BE40","v":"n.d."},null,{"$f":"'Datos mensuales'!T40","v":19.41},{"$f":"'Datos mensuales'!U40","v":"n.d."},{"$f":"'Datos mensuales'!W40","v":"n.d."},{"$f":"'Datos mensuales'!AA40","v":"n.d."},{"$f":"'Datos mensuales'!Z40","v":"n.d."},{"$f":"'Datos mensuales'!AC40","v":"n.d."},{"$f":"'Datos mensuales'!AD40","v":"n.d."},null,{"$f":"'Datos mensuales'!AQ40","v":0.63299151791365993},{"$f":"'Datos mensuales'!AR40","v":123.81538461538462},{"$f":"'Datos mensuales'!AO40","v":"n.d."},{"$f":"'Datos mensuales'!AP40","v":"n.d."},{"$f":"'Datos mensuales'!AN40","v":1.2726999999999999},{"$f":"'Datos mensuales'!AS40","v":3.1181999999999999},null,{"$f":"'Datos mensuales'!BJ40","v":3301.11},{"$f":"'Datos mensuales'!BK40","v":676.95},{"$f":"'Datos mensuales'!BL40","v":435.71}]
[1993,"enero",{"$f":"'Datos mensuales'!D41","v":"n.d."},{"$f":"'Datos mensuales'!E41","v":"n.d."},{"$f":"'Datos mensuales'!F41","v":"n.d."},{"$f":"'Datos mensuales'!G41","v":3.2585083272990589},{"$f":"'Datos mensuales'!I41","v":"n.d."},{"$f":"'Datos mensuales'!J41","v":11.318977302541395},{"$f":"'Datos mensuales'!H41","v":3.3884738527214604},null,{"$f":"'Datos mensuales'!AW41","v":"n.d."},{"$f":"'Datos mensuales'!AX41","v":"n.d."},{"$f":"'Datos mensuales'!AY41","v":"n.d."},{"$f":"'Datos mensuales'!AU41","v":"n.d."},{"$f":"'Datos mensuales'!AV41","v":"n.d."},{"$f":"'Datos mensuales'!AZ41","v":"n.d."},{"$f":"'Datos mensuales'!BA41","v":"n.d."},{"$f":"'Datos mensuales'!BB41","v":"n.d."},null,{"$f":"'Datos mensuales'!BC41","v":"n.d."},{"$f":"'Datos mensuales'!BD41","v":"n.d."},{"$f":"'Datos mensuales'!BE41","v":"n.d."},null,{"$f":"'Datos mensuales'!T41","v":19.03},{"$f":"'Datos mensuales'!U41","v":"n.d."},{"$f":"'Datos mensuales'!W41","v":"n.d."},{"$f":"'Datos mensuales'!AA41","v":"n.d."},{"$f":"'Datos mensuales'!Z41","v":"n.d."},{"$f":"'Datos mensuales'!AC41","v":"n.d."},{"$f":"'Datos mensuales'!AD41","v":"n.d."},null,{"$f":"'Datos mensuales'!AQ41","v":0.6188884762965714},{"$f":"'Datos mensuales'!AR41","v":124.78571428571429},{"$f":"'Datos mensuales'!AO41","v":"n.d."},{"$f":"'Datos mensuales'!AP41","v":"n.d."},{"$f":"'Datos mensuales'!AN41","v":1.2776000000000001},{"$f":"'Datos mensuales'!AS41","v":3.1145999999999998},null,{"$f":"'Datos mensuales'!BJ41","v":3310.03},{"$f":"'Datos mensuales'!BK41","v":696.34},{"$f":"'Datos mensuales'!BL41","v":438.78}]
[null,"febrero",{"$f":"'Datos mensuales'!D42","v":"n.d."},{"$f":"'Datos mensuales'!E42","v":"n.d."},{"$f":"'Datos mensuales'!F42","v":"n.d."},{"$f":"'Datos mensuales'!G42","v":3.2467532467532472},{"$f":"'Datos mensuales'!I42","v":"n.d."},{"$f":"'Datos mensuales'!J42","v":10.914341663193422},{"$f":"'Datos mensuales'!H42","v":3.3695940567789946},null,{"$f":"'Datos mensuales'!AW42","v":"n.d."},{"$f":"'Datos mensuales'!AX42","v":"n.d."},{"$f":"'Datos mensuales'!AY42","v":"n.d."},{"$f":"'Datos mensuales'!AU42","v":"n.d."},{"$f":"'Datos mensuales'!AV42","v":"n.d."},{"$f":"'Datos mensuales'!AZ42","v":"n.d."},{"$f":"'Datos mensuales'!BA42","v":"n.d."},{"$f":"'Datos mensuales'!BB42","v":"n.d."},null,{"$f":"'Datos mensuales'!BC42","v":"n.d."},{"$f":"'Datos mensuales'!BD42","v":"n.d."},{"$f":"'Datos mensuales'!BE42","v":"n.d."},null,{"$f":"'Datos mensuales'!T42","v":20.09},{"$f":"'Datos mensuales'!U42","v":"n.d."},{"$f":"'Datos mensuales'!W42","v":"n.d."},{"$f":"'Datos mensuales'!AA42","v":"n.d."},{"$f":"'Datos mensuales'!Z42","v":"n.d."},{"$f":"'Datos mensuales'!AC42","v":"n.d."},{"$f":"'Datos mensuales'!AD42","v":"n.d."},null,{"$f":"'Datos mensuales'!AQ42","v":0.60916179337231968},{"$f":"'Datos mensuales'!AR42","v":120.98571428571428},{"$f":"'Datos mensuales'!AO42","v":"n.d."},{"$f":"'Datos mensuales'!AP42","v":"n.d."},{"$f":"'Datos mensuales'!AN42","v":1.2597},{"$f":"'Datos mensuales'!AS42","v":3.1049000000000002},null,{"$f":"'Datos mensuales'!BJ42","v":3370.81},{"$f":"'Datos mensuales'!BK42","v":670.77},{"$f":"'Datos mensuales'!BL42","v":443.38}]
[null,"marzo",{"$f":"'Datos mensuales'!D43","v":"n.d."},{"$f":"'Datos mensuales'!E43","v":"n.d."},{"$f":"'Datos mensuales'!F43","v":"n.d."},{"$f":"'Datos mensuales'!G43","v":3.086862885857848},{"$f":"'Datos mensuales'!I43","v":"n.d."},{"$f":"'Datos mensuales'!J43","v":10.43681961628905},{"$f":"'Datos mensuales'!H43","v":3.2356048600105694},null,{"$f":"'Datos mensuales'!AW43","v":"n.d."},{"$f":"'Datos mensuales'!AX43","v":"n.d."},{"$f":"'Datos mensuales'!AY43","v":"n.d."},{"$f":"'Datos mensuales'!AU43","v":"n.d."},{"$f":"'Datos mensuales'!AV43","v":"n.d."},{"$f":"'Datos mensuales'!AZ43","v":"n.d."},{"$f":"'Datos mensuales'!BA43","v":"n.d."},{"$f":"'Datos mensuales'!BB43","v":"n.d."},null,{"$f":"'Datos mensuales'!BC43","v":"n.d."},{"$f":"'Datos mensuales'!BD43","v":"n.d."},{"$f":"'Datos mensuales'!BE43","v":"n.d."},null,{"$f":"'Datos mensuales'!T43","v":20.32},{"$f":"'Datos mensuales'!U43","v":"n.d."},{"$f":"'Datos mensuales'!W43","v":"n.d."},{"$f":"'Datos mensuales'!AA43","v":"n.d."},{"$f":"'Datos mensuales'!Z43","v":"n.d."},{"$f":"'Datos mensuales'!AC43","v":"n.d."},{"$f":"'Datos mensuales'!AD43","v":"n.d."},null,{"$f":"'Datos mensuales'!AQ43","v":0.60701711788272428},{"$f":"'Datos mensuales'!AR43","v":121},{"$f":"'Datos mensuales'!AO43","v":"n.d."},{"$f":"'Datos mensuales'!AP43","v":"n.d."},{"$f":"'Datos mensuales'!AN43","v":1.2468999999999999},{"$f":"'Datos mensuales'!AS43","v":3.1082999999999998},null,{"$f":"'Datos mensuales'!BJ43","v":3435.11},{"$f":"'Datos mensuales'!BK43","v":690.13},{"$f":"'Datos mensuales'!BL43","v":451.67}]
[null,"abril ",{"$f":"'Datos mensuales'!D44","v":"n.d."},{"$f":"'Datos mensuales'!E44","v":"n.d."},{"$f":"'Datos mensuales'!F44","v":"n.d."},{"$f":"'Datos mensuales'!G44","v":3.225806451612903},{"$f":"'Datos mensuales'!I44","v":"n.d."},{"$f":"'Datos mensuales'!J44","v":10.092262467525718},{"$f":"'Datos mensuales'!H44","v":3.2283568322572185},null,{"$f":"'Datos mensuales'!AW44","v":"n.d."},{"$f":"'Datos mensuales'!AX44","v":"n.d."},{"$f":"'Datos mensuales'!AY44","v":"n.d."},{"$f":"'Datos mensuales'!AU44","v":"n.d."},{"$f":"'Datos mensuales'!AV44","v":"n.d."},{"$f":"'Datos mensuales'!AZ44","v":"n.d."},{"$f":"'Datos mensuales'!BA44","v":"n.d."},{"$f":"'Datos mensuales'!BB44","v":"n.d."},null,{"$f":"'Datos mensuales'!BC44","v":"n.d."},{"$f":"'Datos mensuales'!BD44","v":"n.d."},{"$f":"'Datos mensuales'!BE44","v":"n.d."},null,{"$f":"'Datos mensuales'!T44","v":20.25},{"$f":"'Datos mensuales'!U44","v":"n.d."},{"$f":"'Datos mensuales'!W44","v":"n.d."},{"$f":"'Datos mensuales'!AA44","v":"n.d."},{"$f":"'Datos mensuales'!Z44","v":"n.d."},{"$f":"'Datos mensuales'!AC44","v":"n.d."},{"$f":"'Datos mensuales'!AD44","v":"n.d."},null,{"$f":"'Datos mensuales'!AQ44","v":0.62656641604010022},{"$f":"'Datos mensuales'!AR44","v":112.42},{"$f":"'Datos mensuales'!AO44","v":"n.d."},{"$f":"'Datos mensuales'!AP44","v":"n.d."},{"$f":"'Datos mensuales'!AN44","v":1.262},{"$f":"'Datos mensuales'!AS44","v":3.0954999999999999},null,{"$f":"'Datos mensuales'!BJ44","v":3427.55},{"$f":"'Datos mensuales'!BK44","v":661.42},{"$f":"'Datos mensuales'!BL44","v":440.19}]
[null,"mayo",{"$f":"'Datos mensuales'!D45","v":"n.d."},{"$f":"'Datos mensuales'!E45","v":"n.d."},{"$f":"'Datos mensuales'!F45","v":"n.d."},{"$f":"'Datos mensuales'!G45","v":3.2211882605583395},{"$f":"'Datos mensuales'!I45","v":"n.d."},{"$f":"'Datos mensuales'!J45","v":9.9963294343709741},{"$f":"'Datos mensuales'!H45","v":3.1126871552403528},null,{"$f":"'Datos mensuales'!AW45","v":"n.d."},{"$f":"'Datos mensuales'!AX45","v":"n.d."},{"$f":"'Datos mensuales'!AY45","v":"n.d."},{"$f":"'Datos mensuales'!AU45","v":"n.d."},{"$f":"'Datos mensuales'!AV45","v":"n.d."},{"$f":"'Datos mensuales'!AZ45","v":"n.d."},{"$f":"'Datos mensuales'!BA45","v":"n.d."},{"$f":"'Datos mensuales'!BB45","v":"n.d."},null,{"$f":"'Datos mensuales'!BC45","v":"n.d."},{"$f":"'Datos mensuales'!BD45","v":"n.d."},{"$f":"'Datos mensuales'!BE45","v":"n.d."},null,{"$f":"'Datos mensuales'!T45","v":19.95},{"$f":"'Datos mensuales'!U45","v":"n.d."},{"$f":"'Datos mensuales'!W45","v":"n.d."},{"$f":"'Datos mensuales'!AA45","v":"n.d."},{"$f":"'Datos mensuales'!Z45","v":"n.d."},{"$f":"'Datos mensuales'!AC45","v":"n.d."},{"$f":"'Datos mensuales'!AD45","v":"n.d."},null,{"$f":"'Datos mensuales'!AQ45","v":0.62262623746964696},{"$f":"'Datos mensuales'!AR45","v":110.4},{"$f":"'Datos mensuales'!AO45","v":"n.d."},{"$f":"'Datos mensuales'!AP45","v":"n.d."},{"$f":"'Datos mensuales'!AN45","v":1.27},{"$f":"'Datos mensuales'!AS45","v":3.1227},null,{"$f":"'Datos mensuales'!BJ45","v":3527.43},{"$f":"'Datos mensuales'!BK45","v":700.53},{"$f":"'Datos mensuales'!BL45","v":450.19}]
[null,"junio",{"$f":"'Datos mensuales'!D46","v":"n.d."},{"$f":"'Datos mensuales'!E46","v":"n.d."},{"$f":"'Datos mensuales'!F46","v":"n.d."},{"$f":"'Datos mensuales'!G46","v":2.9957203994293988},{"$f":"'Datos mensuales'!I46","v":"n.d."},{"$f":"'Datos mensuales'!J46","v":9.8696368861818708},{"$f":"'Datos mensuales'!H46","v":3.1057528502162293},null,{"$f":"'Datos mensuales'!AW46","v":"n.d."},{"$f":"'Datos mensuales'!AX46","v":"n.d."},{"$f":"'Datos mensuales'!AY46","v":"n.d."},{"$f":"'Datos mensuales'!AU46","v":"n.d."},{"$f":"'Datos mensuales'!AV46","v":"n.d."},{"$f":"'Datos mensuales'!AZ46","v":"n.d."},{"$f":"'Datos mensuales'!BA46","v":"n.d."},{"$f":"'Datos mensuales'!BB46","v":"n.d."},null,{"$f":"'Datos mensuales'!BC46","v":"n.d."},{"$f":"'Datos mensuales'!BD46","v":"n.d."},{"$f":"'Datos mensuales'!BE46","v":"n.d."},null,{"$f":"'Datos mensuales'!T46","v":19.09},{"$f":"'Datos mensuales'!U46","v":"n.d."},{"$f":"'Datos mensuales'!W46","v":"n.d."},{"$f":"'Datos mensuales'!AA46","v":"n.d."},{"$f":"'Datos mensuales'!Z46","v":"n.d."},{"$f":"'Datos mensuales'!AC46","v":"n.d."},{"$f":"'Datos mensuales'!AD46","v":"n.d."},null,{"$f":"'Datos mensuales'!AQ46","v":0.60525360125892758},{"$f":"'Datos mensuales'!AR46","v":107.34},{"$f":"'Datos mensuales'!AO46","v":"n.d."},{"$f":"'Datos mensuales'!AP46","v":"n.d."},{"$f":"'Datos mensuales'!AN46","v":1.28},{"$f":"'Datos mensuales'!AS46","v":3.1213000000000002},null,{"$f":"'Datos mensuales'!BJ46","v":3516.08},{"$f":"'Datos mensuales'!BK46","v":703.95},{"$f":"'Datos mensuales'!BL46","v":450.53}]
[null,"julio",{"$f":"'Datos mensuales'!D47","v":"n.d."},{"$f":"'Datos mensuales'!E47","v":"n.d."},{"$f":"'Datos mensuales'!F47","v":"n.d."},{"$f":"'Datos mensuales'!G47","v":2.7758007117437762},{"$f":"'Datos mensuales'!I47","v":"n.d."},{"$f":"'Datos mensuales'!J47","v":9.7049313887314739},{"$f":"'Datos mensuales'!H47","v":3.3115183246073312},null,{"$f":"'Datos mensuales'!AW47","v":"n.d."},{"$f":"'Datos mensuales'!AX47","v":"n.d."},{"$f":"'Datos mensuales'!AY47","v":"n.d."},{"$f":"'Datos mensuales'!AU47","v":"n.d."},{"$f":"'Datos mensuales'!AV47","v":"n.d."},{"$f":"'Datos mensuales'!AZ47","v":"n.d."},{"$f":"'Datos mensuales'!BA47","v":"n.d."},{"$f":"'Datos mensuales'!BB47","v":"n.d."},null,{"$f":"'Datos mensuales'!BC47","v":"n.d."},{"$f":"'Datos mensuales'!BD47","v":"n.d."},{"$f":"'Datos mensuales'!BE47","v":"n.d."},null,{"$f":"'Datos mensuales'!T47","v":17.89},{"$f":"'Datos mensuales'!U47","v":"n.d."},{"$f":"'Datos mensuales'!W47","v":"n.d."},{"$f":"'Datos mensuales'!AA47","v":"n.d."},{"$f":"'Datos mensuales'!Z47","v":"n.d."},{"$f":"'Datos mensuales'!AC47","v":"n.d."},{"$f":"'Datos mensuales'!AD47","v":"n.d."},null,{"$f":"'Datos mensuales'!AQ47","v":0.58319239517116706},{"$f":"'Datos mensuales'!AR47","v":107.73},{"$f":"'Datos mensuales'!AO47","v":"n.d."},{"$f":"'Datos mensuales'!AP47","v":"n.d."},{"$f":"'Datos mensuales'!AN47","v":1.28},{"$f":"'Datos mensuales'!AS47","v":3.1236000000000002},null,{"$f":"'Datos mensuales'!BJ47","v":3539.47},{"$f":"'Datos mensuales'!BK47","v":704.7},{"$f":"'Datos mensuales'!BL47","v":448.13}]
[null,"agosto",{"$f":"'Datos mensuales'!D48","v":"n.d."},{"$f":"'Datos mensuales'!E48","v":"n.d."},{"$f":"'Datos mensuales'!F48","v":"n.d."},{"$f":"'Datos mensuales'!G48","v":2.7679205110007139},{"$f":"'Datos mensuales'!I48","v":"n.d."},{"$f":"'Datos mensuales'!J48","v":9.6186704391292892},{"$f":"'Datos mensuales'!H48","v":3.3211297071129602},null,{"$f":"'Datos mensuales'!AW48","v":"n.d."},{"$f":"'Datos mensuales'!AX48","v":"n.d."},{"$f":"'Datos mensuales'!AY48","v":"n.d."},{"$f":"'Datos mensuales'!AU48","v":"n.d."},{"$f":"'Datos mensuales'!AV48","v":"n.d."},{"$f":"'Datos mensuales'!AZ48","v":"n.d."},{"$f":"'Datos mensuales'!BA48","v":"n.d."},{"$f":"'Datos mensuales'!BB48","v":"n.d."},null,{"$f":"'Datos mensuales'!BC48","v":"n.d."},{"$f":"'Datos mensuales'!BD48","v":"n.d."},{"$f":"'Datos mensuales'!BE48","v":"n.d."},null,{"$f":"'Datos mensuales'!T48","v":18.010000000000002},{"$f":"'Datos mensuales'!U48","v":"n.d."},{"$f":"'Datos mensuales'!W48","v":"n.d."},{"$f":"'Datos mensuales'!AA48","v":"n.d."},{"$f":"'Datos mensuales'!Z48","v":"n.d."},{"$f":"'Datos mensuales'!AC48","v":"n.d."},{"$f":"'Datos mensuales'!AD48","v":"n.d."},null,{"$f":"'Datos mensuales'!AQ48","v":0.58972695641917794},{"$f":"'Datos mensuales'!AR48","v":103.71},{"$f":"'Datos mensuales'!AO48","v":"n.d."},{"$f":"'Datos mensuales'!AP48","v":"n.d."},{"$f":"'Datos mensuales'!AN48","v":1.31},{"$f":"'Datos mensuales'!AS48","v":3.1126},null,{"$f":"'Datos mensuales'!BJ48","v":3651.25},{"$f":"'Datos mensuales'!BK48","v":742.84},{"$f":"'Datos mensuales'!BL48","v":463.56}]
[null,"septiembre",{"$f":"'Datos mensuales'!D49","v":"n.d."},{"$f":"'Datos mensuales'!E49","v":"n.d."},{"$f":"'Datos mensuales'!F49","v":"n.d."},{"$f":"'Datos mensuales'!G49","v":2.6893135173389831},{"$f":"'Datos mensuales'!I49","v":"n.d."},{"$f":"'Datos mensuales'!J49","v":9.4782122906792221},{"$f":"'Datos mensuales'!H49","v":3.3041661225022874},null,{"$f":"'Datos mensuales'!AW49","v":"n.d."},{"$f":"'Datos mensuales'!AX49","v":"n.d."},{"$f":"'Datos mensuales'!AY49","v":"n.d."},{"$f":"'Datos mensuales'!AU49","v":"n.d."},{"$f":"'Datos mensuales'!AV49","v":"n.d."},{"$f":"'Datos mensuales'!AZ49","v":"n.d."},{"$f":"'Datos mensuales'!BA49","v":"n.d."},{"$f":"'Datos mensuales'!BB49","v":"n.d."},null,{"$f":"'Datos mensuales'!BC49","v":"n.d."},{"$f":"'Datos mensuales'!BD49","v":"n.d."},{"$f":"'Datos mensuales'!BE49","v":"n.d."},null,{"$f":"'Datos mensuales'!T49","v":17.5},{"$f":"'Datos mensuales'!U49","v":"n.d."},{"$f":"'Datos mensuales'!W49","v":"n.d."},{"$f":"'Datos mensuales'!AA49","v":"n.d."},{"$f":"'Datos mensuales'!Z49","v":"n.d."},{"$f":"'Datos mensuales'!AC49","v":"n.d."},{"$f":"'Datos mensuales'!AD49","v":"n.d."},null,{"$f":"'Datos mensuales'!AQ49","v":0.61629483544927888},{"$f":"'Datos mensuales'!AR49","v":105.28},{"$f":"'Datos mensuales'!AO49","v":"n.d."},{"$f":"'Datos mensuales'!AP49","v":"n.d."},{"$f":"'Datos mensuales'!AN49","v":1.32},{"$f":"'Datos mensuales'!AS49","v":3.1126999999999998},null,{"$f":"'Datos mensuales'!BJ49","v":3555.12},{"$f":"'Datos mensuales'!BK49","v":762.78},{"$f":"'Datos mensuales'!BL49","v":458.93}]
[null,"octubre",{"$f":"'Datos mensuales'!D50","v":"n.d."},{"$f":"'Datos mensuales'!E50","v":"n.d."},{"$f":"'Datos mensuales'!F50","v":"n.d."},{"$f":"'Datos mensuales'!G50","v":2.7503526093088695},{"$f":"'Datos mensuales'!I50","v":"n.d."},{"$f":"'Datos mensuales'!J50","v":9.1400764243634782},{"$f":"'Datos mensuales'!H50","v":3.3103088752769341},null,{"$f":"'Datos mensuales'!AW50","v":"n.d."},{"$f":"'Datos mensuales'!AX50","v":"n.d."},{"$f":"'Datos mensuales'!AY50","v":"n.d."},{"$f":"'Datos mensuales'!AU50","v":"n.d."},{"$f":"'Datos mensuales'!AV50","v":"n.d."},{"$f":"'Datos mensuales'!AZ50","v":"n.d."},{"$f":"'Datos mensuales'!BA50","v":"n.d."},{"$f":"'Datos mensuales'!BB50","v":"n.d."},null,{"$f":"'Datos mensuales'!BC50","v":"n.d."},{"$f":"'Datos mensuales'!BD50","v":"n.d."},{"$f":"'Datos mensuales'!BE50","v":"n.d."},null,{"$f":"'Datos mensuales'!T50","v":18.149999999999999},{"$f":"'Datos mensuales'!U50","v":"n.d."},{"$f":"'Datos mensuales'!W50","v":"n.d."},{"$f":"'Datos mensuales'!AA50","v":"n.d."},{"$f":"'Datos mensuales'!Z50","v":"n.d."},{"$f":"'Datos mensuales'!AC50","v":"n.d."},{"$f":"'Datos mensuales'!AD50","v":"n.d."},null,{"$f":"'Datos mensuales'!AQ50","v":0.61050061050061055},{"$f":"'Datos mensuales'!AR50","v":106.92},{"$f":"'Datos mensuales'!AO50","v":"n.d."},{"$f":"'Datos mensuales'!AP50","v":"n.d."},{"$f":"'Datos mensuales'!AN50","v":1.33},{"$f":"'Datos mensuales'!AS50","v":3.1141999999999999},null,{"$f":"'Datos mensuales'!BJ50","v":3680.59},{"$f":"'Datos mensuales'!BK50","v":779.26},{"$f":"'Datos mensuales'!BL50","v":467.83}]
[null,"noviembre",{"$f":"'Datos mensuales'!D51","v":"n.d."},{"$f":"'Datos mensuales'!E51","v":"n.d."},{"$f":"'Datos mensuales'!F51","v":"n.d."},{"$f":"'Datos mensuales'!G51","v":2.676056338028177},{"$f":"'Datos mensuales'!I51","v":"n.d."},{"$f":"'Datos mensuales'!J51","v":8.718169779167189},{"$f":"'Datos mensuales'!H51","v":3.1822314586309948},null,{"$f":"'Datos mensuales'!AW51","v":"n.d."},{"$f":"'Datos mensuales'!AX51","v":"n.d."},{"$f":"'Datos mensuales'!AY51","v":"n.d."},{"$f":"'Datos mensuales'!AU51","v":"n.d."},{"$f":"'Datos mensuales'!AV51","v":"n.d."},{"$f":"'Datos mensuales'!AZ51","v":"n.d."},{"$f":"'Datos mensuales'!BA51","v":"n.d."},{"$f":"'Datos mensuales'!BB51","v":"n.d."},null,{"$f":"'Datos mensuales'!BC51","v":"n.d."},{"$f":"'Datos mensuales'!BD51","v":"n.d."},{"$f":"'Datos mensuales'!BE51","v":"n.d."},null,{"$f":"'Datos mensuales'!T51","v":16.61},{"$f":"'Datos mensuales'!U51","v":"n.d."},{"$f":"'Datos mensuales'!W51","v":"n.d."},{"$f":"'Datos mensuales'!AA51","v":"n.d."},{"$f":"'Datos mensuales'!Z51","v":"n.d."},{"$f":"'Datos mensuales'!AC51","v":"n.d."},{"$f":"'Datos mensuales'!AD51","v":"n.d."},null,{"$f":"'Datos mensuales'!AQ51","v":0.58823529411764708},{"$f":"'Datos mensuales'!AR51","v":107.8},{"$f":"'Datos mensuales'!AO51","v":"n.d."},{"$f":"'Datos mensuales'!AP51","v":"n.d."},{"$f":"'Datos mensuales'!AN51","v":1.32},{"$f":"'Datos mensuales'!AS51","v":3.1553},null,{"$f":"'Datos mensuales'!BJ51","v":3683.95},{"$f":"'Datos mensuales'!BK51","v":754.4},{"$f":"'Datos mensuales'!BL51","v":461.79}]
[null,"diciembre",{"$f":"'Datos mensuales'!D52","v":"n.d."},{"$f":"'Datos mensuales'!E52","v":"n.d."},{"$f":"'Datos mensuales'!F52","v":"n.d."},{"$f":"'Datos mensuales'!G52","v":2.7484143763213571},{"$f":"'Datos mensuales'!I52","v":"n.d."},{"$f":"'Datos mensuales'!J52","v":8.0091845063569362},{"$f":"'Datos mensuales'!H52","v":3.1919034643830391},null,{"$f":"'Datos mensuales'!AW52","v":"n.d."},{"$f":"'Datos mensuales'!AX52","v":"n.d."},{"$f":"'Datos mensuales'!AY52","v":"n.d."},{"$f":"'Datos mensuales'!AU52","v":"n.d."},{"$f":"'Datos mensuales'!AV52","v":"n.d."},{"$f":"'Datos mensuales'!AZ52","v":"n.d."},{"$f":"'Datos mensuales'!BA52","v":"n.d."},{"$f":"'Datos mensuales'!BB52","v":"n.d."},null,{"$f":"'Datos mensuales'!BC52","v":"n.d."},{"$f":"'Datos mensuales'!BD52","v":"n.d."},{"$f":"'Datos mensuales'!BE52","v":"n.d."},null,{"$f":"'Datos mensuales'!T52","v":14.52},{"$f":"'Datos mensuales'!U52","v":"n.d."},{"$f":"'Datos mensuales'!W52","v":"n.d."},{"$f":"'Datos mensuales'!AA52","v":"n.d."},{"$f":"'Datos mensuales'!Z52","v":"n.d."},{"$f":"'Datos mensuales'!AC52","v":"n.d."},{"$f":"'Datos mensuales'!AD52","v":"n.d."},null,{"$f":"'Datos mensuales'!AQ52","v":0.58489793531028833},{"$f":"'Datos mensuales'!AR52","v":109.7},{"$f":"'Datos mensuales'!AO52","v":"n.d."},{"$f":"'Datos mensuales'!AP52","v":"n.d."},{"$f":"'Datos mensuales'!AN52","v":1.33},{"$f":"'Datos mensuales'!AS52","v":3.1076999999999999},null,{"$f":"'Datos mensuales'!BJ52","v":3754.09},{"$f":"'Datos mensuales'!BK52","v":776.82},{"$f":"'Datos mensuales'!BL52","v":466.45}]
[1994,"enero",{"$f":"'Datos mensuales'!D53","v":"n.d."},{"$f":"'Datos mensuales'!E53","v":"n.d."},{"$f":"'Datos mensuales'!F53","v":"n.d."},{"$f":"'Datos mensuales'!G53","v":2.5245441795231378},{"$f":"'Datos mensuales'!I53","v":"n.d."},{"$f":"'Datos mensuales'!J53","v":7.4981216029580011},{"$f":"'Datos mensuales'!H53","v":2.9419354838709695},null,{"$f":"'Datos mensuales'!AW53","v":"n.d."},{"$f":"'Datos mensuales'!AX53","v":"n.d."},{"$f":"'Datos mensuales'!AY53","v":"n.d."},{"$f":"'Datos mensuales'!AU53","v":"n.d."},{"$f":"'Datos mensuales'!AV53","v":"n.d."},{"$f":"'Datos mensuales'!AZ53","v":"n.d."},{"$f":"'Datos mensuales'!BA53","v":"n.d."},{"$f":"'Datos mensuales'!BB53","v":"n.d."},null,{"$f":"'Datos mensuales'!BC53","v":"n.d."},{"$f":"'Datos mensuales'!BD53","v":"n.d."},{"$f":"'Datos mensuales'!BE53","v":"n.d."},null,{"$f":"'Datos mensuales'!T53","v":15.03},{"$f":"'Datos mensuales'!U53","v":"n.d."},{"$f":"'Datos mensuales'!W53","v":"n.d."},{"$f":"'Datos mensuales'!AA53","v":"n.d."},{"$f":"'Datos mensuales'!Z53","v":"n.d."},{"$f":"'Datos mensuales'!AC53","v":"n.d."},{"$f":"'Datos mensuales'!AD53","v":"n.d."},null,{"$f":"'Datos mensuales'!AQ53","v":0.57369055131661983},{"$f":"'Datos mensuales'!AR53","v":111.51},{"$f":"'Datos mensuales'!AO53","v":"n.d."},{"$f":"'Datos mensuales'!AP53","v":"n.d."},{"$f":"'Datos mensuales'!AN53","v":1.32},{"$f":"'Datos mensuales'!AS53","v":3.1074999999999999},null,{"$f":"'Datos mensuales'!BJ53","v":3978.36},{"$f":"'Datos mensuales'!BK53","v":800.47},{"$f":"'Datos mensuales'!BL53","v":481.61}]
[null,"febrero",{"$f":"'Datos mensuales'!D54","v":"n.d."},{"$f":"'Datos mensuales'!E54","v":"n.d."},{"$f":"'Datos mensuales'!F54","v":"n.d."},{"$f":"'Datos mensuales'!G54","v":2.5157232704402475},{"$f":"'Datos mensuales'!I54","v":"n.d."},{"$f":"'Datos mensuales'!J54","v":7.1753724215314705},{"$f":"'Datos mensuales'!H54","v":2.9260780287474346},null,{"$f":"'Datos mensuales'!AW54","v":"n.d."},{"$f":"'Datos mensuales'!AX54","v":"n.d."},{"$f":"'Datos mensuales'!AY54","v":"n.d."},{"$f":"'Datos mensuales'!AU54","v":"n.d."},{"$f":"'Datos mensuales'!AV54","v":"n.d."},{"$f":"'Datos mensuales'!AZ54","v":"n.d."},{"$f":"'Datos mensuales'!BA54","v":"n.d."},{"$f":"'Datos mensuales'!BB54","v":"n.d."},null,{"$f":"'Datos mensuales'!BC54","v":"n.d."},{"$f":"'Datos mensuales'!BD54","v":"n.d."},{"$f":"'Datos mensuales'!BE54","v":"n.d."},null,{"$f":"'Datos mensuales'!T54","v":14.78},{"$f":"'Datos mensuales'!U54","v":"n.d."},{"$f":"'Datos mensuales'!W54","v":"n.d."},{"$f":"'Datos mensuales'!AA54","v":"n.d."},{"$f":"'Datos mensuales'!Z54","v":"n.d."},{"$f":"'Datos mensuales'!AC54","v":"n.d."},{"$f":"'Datos mensuales'!AD54","v":"n.d."},null,{"$f":"'Datos mensuales'!AQ54","v":0.57563895924476161},{"$f":"'Datos mensuales'!AR54","v":106.21},{"$f":"'Datos mensuales'!AO54","v":"n.d."},{"$f":"'Datos mensuales'!AP54","v":"n.d."},{"$f":"'Datos mensuales'!AN54","v":1.34},{"$f":"'Datos mensuales'!AS54","v":3.1114999999999999},null,{"$f":"'Datos mensuales'!BJ54","v":3832.02},{"$f":"'Datos mensuales'!BK54","v":792.5},{"$f":"'Datos mensuales'!BL54","v":467.14}]
[null,"marzo",{"$f":"'Datos mensuales'!D55","v":"n.d."},{"$f":"'Datos mensuales'!E55","v":"n.d."},{"$f":"'Datos mensuales'!F55","v":"n.d."},{"$f":"'Datos mensuales'!G55","v":2.506963788300832},{"$f":"'Datos mensuales'!I55","v":"n.d."},{"$f":"'Datos mensuales'!J55","v":7.1022791098855409},{"$f":"'Datos mensuales'!H55","v":2.8143789177433836},null,{"$f":"'Datos mensuales'!AW55","v":"n.d."},{"$f":"'Datos mensuales'!AX55","v":"n.d."},{"$f":"'Datos mensuales'!AY55","v":"n.d."},{"$f":"'Datos mensuales'!AU55","v":"n.d."},{"$f":"'Datos mensuales'!AV55","v":"n.d."},{"$f":"'Datos mensuales'!AZ55","v":"n.d."},{"$f":"'Datos mensuales'!BA55","v":"n.d."},{"$f":"'Datos mensuales'!BB55","v":"n.d."},null,{"$f":"'Datos mensuales'!BC55","v":"n.d."},{"$f":"'Datos mensuales'!BD55","v":"n.d."},{"$f":"'Datos mensuales'!BE55","v":"n.d."},null,{"$f":"'Datos mensuales'!T55","v":14.68},{"$f":"'Datos mensuales'!U55","v":"n.d."},{"$f":"'Datos mensuales'!W55","v":"n.d."},{"$f":"'Datos mensuales'!AA55","v":"n.d."},{"$f":"'Datos mensuales'!Z55","v":"n.d."},{"$f":"'Datos mensuales'!AC55","v":"n.d."},{"$f":"'Datos mensuales'!AD55","v":"n.d."},null,{"$f":"'Datos mensuales'!AQ55","v":0.59091177687171303},{"$f":"'Datos mensuales'!AR55","v":105.14},{"$f":"'Datos mensuales'!AO55","v":"n.d."},{"$f":"'Datos mensuales'!AP55","v":"n.d."},{"$f":"'Datos mensuales'!AN55","v":1.36},{"$f":"'Datos mensuales'!AS55","v":3.2841},null,{"$f":"'Datos mensuales'!BJ55","v":3635.96},{"$f":"'Datos mensuales'!BK55","v":743.46},{"$f":"'Datos mensuales'!BL55","v":445.77}]
[null,"abril ",{"$f":"'Datos mensuales'!D56","v":"n.d."},{"$f":"'Datos mensuales'!E56","v":"n.d."},{"$f":"'Datos mensuales'!F56","v":"n.d."},{"$f":"'Datos mensuales'!G56","v":2.3611111111111152},{"$f":"'Datos mensuales'!I56","v":"n.d."},{"$f":"'Datos mensuales'!J56","v":7.0097259270714458},{"$f":"'Datos mensuales'!H56","v":2.7061526678580425},null,{"$f":"'Datos mensuales'!AW56","v":"n.d."},{"$f":"'Datos mensuales'!AX56","v":"n.d."},{"$f":"'Datos mensuales'!AY56","v":"n.d."},{"$f":"'Datos mensuales'!AU56","v":"n.d."},{"$f":"'Datos mensuales'!AV56","v":"n.d."},{"$f":"'Datos mensuales'!AZ56","v":"n.d."},{"$f":"'Datos mensuales'!BA56","v":"n.d."},{"$f":"'Datos mensuales'!BB56","v":"n.d."},null,{"$f":"'Datos mensuales'!BC56","v":"n.d."},{"$f":"'Datos mensuales'!BD56","v":"n.d."},{"$f":"'Datos mensuales'!BE56","v":"n.d."},null,{"$f":"'Datos mensuales'!T56","v":16.420000000000002},{"$f":"'Datos mensuales'!U56","v":"n.d."},{"$f":"'Datos mensuales'!W56","v":"n.d."},{"$f":"'Datos mensuales'!AA56","v":"n.d."},{"$f":"'Datos mensuales'!Z56","v":"n.d."},{"$f":"'Datos mensuales'!AC56","v":"n.d."},{"$f":"'Datos mensuales'!AD56","v":"n.d."},null,{"$f":"'Datos mensuales'!AQ56","v":0.58885879166175958},{"$f":"'Datos mensuales'!AR56","v":103.53},{"$f":"'Datos mensuales'!AO56","v":"n.d."},{"$f":"'Datos mensuales'!AP56","v":"n.d."},{"$f":"'Datos mensuales'!AN56","v":1.38},{"$f":"'Datos mensuales'!AS56","v":3.3536000000000001},null,{"$f":"'Datos mensuales'!BJ56","v":3681.69},{"$f":"'Datos mensuales'!BK56","v":733.84},{"$f":"'Datos mensuales'!BL56","v":450.91}]
[null,"mayo",{"$f":"'Datos mensuales'!D57","v":"n.d."},{"$f":"'Datos mensuales'!E57","v":"n.d."},{"$f":"'Datos mensuales'!F57","v":"n.d."},{"$f":"'Datos mensuales'!G57","v":2.2884882108183158},{"$f":"'Datos mensuales'!I57","v":"n.d."},{"$f":"'Datos mensuales'!J57","v":6.9155979737532682},{"$f":"'Datos mensuales'!H57","v":2.8021908037192569},null,{"$f":"'Datos mensuales'!AW57","v":"n.d."},{"$f":"'Datos mensuales'!AX57","v":"n.d."},{"$f":"'Datos mensuales'!AY57","v":"n.d."},{"$f":"'Datos mensuales'!AU57","v":"n.d."},{"$f":"'Datos mensuales'!AV57","v":"n.d."},{"$f":"'Datos mensuales'!AZ57","v":"n.d."},{"$f":"'Datos mensuales'!BA57","v":"n.d."},{"$f":"'Datos mensuales'!BB57","v":"n.d."},null,{"$f":"'Datos mensuales'!BC57","v":"n.d."},{"$f":"'Datos mensuales'!BD57","v":"n.d."},{"$f":"'Datos mensuales'!BE57","v":"n.d."},null,{"$f":"'Datos mensuales'!T57","v":17.89},{"$f":"'Datos mensuales'!U57","v":"n.d."},{"$f":"'Datos mensuales'!W57","v":"n.d."},{"$f":"'Datos mensuales'!AA57","v":"n.d."},{"$f":"'Datos mensuales'!Z57","v":"n.d."},{"$f":"'Datos mensuales'!AC57","v":"n.d."},{"$f":"'Datos mensuales'!AD57","v":"n.d."},null,{"$f":"'Datos mensuales'!AQ57","v":0.60320907226444687},{"$f":"'Datos mensuales'!AR57","v":103.73},{"$f":"'Datos mensuales'!AO57","v":"n.d."},{"$f":"'Datos mensuales'!AP57","v":"n.d."},{"$f":"'Datos mensuales'!AN57","v":1.38},{"$f":"'Datos mensuales'!AS57","v":3.3119999999999998},null,{"$f":"'Datos mensuales'!BJ57","v":3758.37},{"$f":"'Datos mensuales'!BK57","v":735.19},{"$f":"'Datos mensuales'!BL57","v":456.5}]
[null,"junio",{"$f":"'Datos mensuales'!D58","v":"n.d."},{"$f":"'Datos mensuales'!E58","v":"n.d."},{"$f":"'Datos mensuales'!F58","v":"n.d."},{"$f":"'Datos mensuales'!G58","v":2.4930747922437635},{"$f":"'Datos mensuales'!I58","v":"n.d."},{"$f":"'Datos mensuales'!J58","v":6.8512725635712242},{"$f":"'Datos mensuales'!H58","v":2.6944585663446747},null,{"$f":"'Datos mensuales'!AW58","v":"n.d."},{"$f":"'Datos mensuales'!AX58","v":"n.d."},{"$f":"'Datos mensuales'!AY58","v":"n.d."},{"$f":"'Datos mensuales'!AU58","v":"n.d."},{"$f":"'Datos mensuales'!AV58","v":"n.d."},{"$f":"'Datos mensuales'!AZ58","v":"n.d."},{"$f":"'Datos mensuales'!BA58","v":"n.d."},{"$f":"'Datos mensuales'!BB58","v":"n.d."},null,{"$f":"'Datos mensuales'!BC58","v":"n.d."},{"$f":"'Datos mensuales'!BD58","v":"n.d."},{"$f":"'Datos mensuales'!BE58","v":"n.d."},null,{"$f":"'Datos mensuales'!T58","v":19.059999999999999},{"$f":"'Datos mensuales'!U58","v":"n.d."},{"$f":"'Datos mensuales'!W58","v":"n.d."},{"$f":"'Datos mensuales'!AA58","v":"n.d."},{"$f":"'Datos mensuales'!Z58","v":"n.d."},{"$f":"'Datos mensuales'!AC58","v":"n.d."},{"$f":"'Datos mensuales'!AD58","v":"n.d."},null,{"$f":"'Datos mensuales'!AQ58","v":0.61383586029095816},{"$f":"'Datos mensuales'!AR58","v":102.72},{"$f":"'Datos mensuales'!AO58","v":"n.d."},{"$f":"'Datos mensuales'!AP58","v":"n.d."},{"$f":"'Datos mensuales'!AN58","v":1.38},{"$f":"'Datos mensuales'!AS58","v":3.3607},null,{"$f":"'Datos mensuales'!BJ58","v":3624.96},{"$f":"'Datos mensuales'!BK58","v":705.93},{"$f":"'Datos mensuales'!BL58","v":444.27}]
[null,"julio",{"$f":"'Datos mensuales'!D59","v":"n.d."},{"$f":"'Datos mensuales'!E59","v":"n.d."},{"$f":"'Datos mensuales'!F59","v":"n.d."},{"$f":"'Datos mensuales'!G59","v":2.7700831024930745},{"$f":"'Datos mensuales'!I59","v":"n.d."},{"$f":"'Datos mensuales'!J59","v":6.8118581476599562},{"$f":"'Datos mensuales'!H59","v":2.5718991511465688},null,{"$f":"'Datos mensuales'!AW59","v":"n.d."},{"$f":"'Datos mensuales'!AX59","v":"n.d."},{"$f":"'Datos mensuales'!AY59","v":"n.d."},{"$f":"'Datos mensuales'!AU59","v":"n.d."},{"$f":"'Datos mensuales'!AV59","v":"n.d."},{"$f":"'Datos mensuales'!AZ59","v":"n.d."},{"$f":"'Datos mensuales'!BA59","v":"n.d."},{"$f":"'Datos mensuales'!BB59","v":"n.d."},null,{"$f":"'Datos mensuales'!BC59","v":"n.d."},{"$f":"'Datos mensuales'!BD59","v":"n.d."},{"$f":"'Datos mensuales'!BE59","v":"n.d."},null,{"$f":"'Datos mensuales'!T59","v":19.66},{"$f":"'Datos mensuales'!U59","v":"n.d."},{"$f":"'Datos mensuales'!W59","v":"n.d."},{"$f":"'Datos mensuales'!AA59","v":"n.d."},{"$f":"'Datos mensuales'!Z59","v":"n.d."},{"$f":"'Datos mensuales'!AC59","v":"n.d."},{"$f":"'Datos mensuales'!AD59","v":"n.d."},null,{"$f":"'Datos mensuales'!AQ59","v":0.63657775797313643},{"$f":"'Datos mensuales'!AR59","v":98.5},{"$f":"'Datos mensuales'!AO59","v":"n.d."},{"$f":"'Datos mensuales'!AP59","v":"n.d."},{"$f":"'Datos mensuales'!AN59","v":1.38},{"$f":"'Datos mensuales'!AS59","v":3.4009},null,{"$f":"'Datos mensuales'!BJ59","v":3764.5},{"$f":"'Datos mensuales'!BK59","v":722.16},{"$f":"'Datos mensuales'!BL59","v":458.26}]
[null,"agosto",{"$f":"'Datos mensuales'!D60","v":"n.d."},{"$f":"'Datos mensuales'!E60","v":"n.d."},{"$f":"'Datos mensuales'!F60","v":"n.d."},{"$f":"'Datos mensuales'!G60","v":2.9005524861878373},{"$f":"'Datos mensuales'!I60","v":"n.d."},{"$f":"'Datos mensuales'!J60","v":6.7384032720601059},{"$f":"'Datos mensuales'!H60","v":2.6702100733991387},null,{"$f":"'Datos mensuales'!AW60","v":"n.d."},{"$f":"'Datos mensuales'!AX60","v":"n.d."},{"$f":"'Datos mensuales'!AY60","v":"n.d."},{"$f":"'Datos mensuales'!AU60","v":"n.d."},{"$f":"'Datos mensuales'!AV60","v":"n.d."},{"$f":"'Datos mensuales'!AZ60","v":"n.d."},{"$f":"'Datos mensuales'!BA60","v":"n.d."},{"$f":"'Datos mensuales'!BB60","v":"n.d."},null,{"$f":"'Datos mensuales'!BC60","v":"n.d."},{"$f":"'Datos mensuales'!BD60","v":"n.d."},{"$f":"'Datos mensuales'!BE60","v":"n.d."},null,{"$f":"'Datos mensuales'!T60","v":18.38},{"$f":"'Datos mensuales'!U60","v":"n.d."},{"$f":"'Datos mensuales'!W60","v":"n.d."},{"$f":"'Datos mensuales'!AA60","v":"n.d."},{"$f":"'Datos mensuales'!Z60","v":"n.d."},{"$f":"'Datos mensuales'!AC60","v":"n.d."},{"$f":"'Datos mensuales'!AD60","v":"n.d."},null,{"$f":"'Datos mensuales'!AQ60","v":0.63914099450338746},{"$f":"'Datos mensuales'!AR60","v":99.81},{"$f":"'Datos mensuales'!AO60","v":"n.d."},{"$f":"'Datos mensuales'!AP60","v":"n.d."},{"$f":"'Datos mensuales'!AN60","v":1.38},{"$f":"'Datos mensuales'!AS60","v":3.3820999999999999},null,{"$f":"'Datos mensuales'!BJ60","v":3913.42},{"$f":"'Datos mensuales'!BK60","v":765.62},{"$f":"'Datos mensuales'!BL60","v":475.49}]
[null,"septiembre",{"$f":"'Datos mensuales'!D61","v":"n.d."},{"$f":"'Datos mensuales'!E61","v":"n.d."},{"$f":"'Datos mensuales'!F61","v":"n.d."},{"$f":"'Datos mensuales'!G61","v":2.9634734665747837},{"$f":"'Datos mensuales'!I61","v":"n.d."},{"$f":"'Datos mensuales'!J61","v":6.7072271945274933},{"$f":"'Datos mensuales'!H61","v":2.6801517067003853},null,{"$f":"'Datos mensuales'!AW61","v":"n.d."},{"$f":"'Datos mensuales'!AX61","v":"n.d."},{"$f":"'Datos mensuales'!AY61","v":"n.d."},{"$f":"'Datos mensuales'!AU61","v":"n.d."},{"$f":"'Datos mensuales'!AV61","v":"n.d."},{"$f":"'Datos mensuales'!AZ61","v":"n.d."},{"$f":"'Datos mensuales'!BA61","v":"n.d."},{"$f":"'Datos mensuales'!BB61","v":"n.d."},null,{"$f":"'Datos mensuales'!BC61","v":"n.d."},{"$f":"'Datos mensuales'!BD61","v":"n.d."},{"$f":"'Datos mensuales'!BE61","v":"n.d."},null,{"$f":"'Datos mensuales'!T61","v":17.45},{"$f":"'Datos mensuales'!U61","v":"n.d."},{"$f":"'Datos mensuales'!W61","v":"n.d."},{"$f":"'Datos mensuales'!AA61","v":"n.d."},{"$f":"'Datos mensuales'!Z61","v":"n.d."},{"$f":"'Datos mensuales'!AC61","v":"n.d."},{"$f":"'Datos mensuales'!AD61","v":"n.d."},null,{"$f":"'Datos mensuales'!AQ61","v":0.64478689793023403},{"$f":"'Datos mensuales'!AR61","v":98.31},{"$f":"'Datos mensuales'!AO61","v":"n.d."},{"$f":"'Datos mensuales'!AP61","v":"n.d."},{"$f":"'Datos mensuales'!AN61","v":1.35},{"$f":"'Datos mensuales'!AS61","v":3.3997999999999999},null,{"$f":"'Datos mensuales'!BJ61","v":3843.18},{"$f":"'Datos mensuales'!BK61","v":764.42},{"$f":"'Datos mensuales'!BL61","v":462.69}]
[null,"octubre",{"$f":"'Datos mensuales'!D62","v":"n.d."},{"$f":"'Datos mensuales'!E62","v":"n.d."},{"$f":"'Datos mensuales'!F62","v":"n.d."},{"$f":"'Datos mensuales'!G62","v":2.6080988332189512},{"$f":"'Datos mensuales'!I62","v":"n.d."},{"$f":"'Datos mensuales'!J62","v":6.830487801971298},{"$f":"'Datos mensuales'!H62","v":2.5608679197678832},null,{"$f":"'Datos mensuales'!AW62","v":"n.d."},{"$f":"'Datos mensuales'!AX62","v":"n.d."},{"$f":"'Datos mensuales'!AY62","v":"n.d."},{"$f":"'Datos mensuales'!AU62","v":"n.d."},{"$f":"'Datos mensuales'!AV62","v":"n.d."},{"$f":"'Datos mensuales'!AZ62","v":"n.d."},{"$f":"'Datos mensuales'!BA62","v":"n.d."},{"$f":"'Datos mensuales'!BB62","v":"n.d."},null,{"$f":"'Datos mensuales'!BC62","v":"n.d."},{"$f":"'Datos mensuales'!BD62","v":"n.d."},{"$f":"'Datos mensuales'!BE62","v":"n.d."},null,{"$f":"'Datos mensuales'!T62","v":17.72},{"$f":"'Datos mensuales'!U62","v":"n.d."},{"$f":"'Datos mensuales'!W62","v":"n.d."},{"$f":"'Datos mensuales'!AA62","v":"n.d."},{"$f":"'Datos mensuales'!Z62","v":"n.d."},{"$f":"'Datos mensuales'!AC62","v":"n.d."},{"$f":"'Datos mensuales'!AD62","v":"n.d."},null,{"$f":"'Datos mensuales'!AQ62","v":0.6585879873551107},{"$f":"'Datos mensuales'!AR62","v":98.42},{"$f":"'Datos mensuales'!AO62","v":"n.d."},{"$f":"'Datos mensuales'!AP62","v":"n.d."},{"$f":"'Datos mensuales'!AN62","v":1.35},{"$f":"'Datos mensuales'!AS62","v":3.4157999999999999},null,{"$f":"'Datos mensuales'!BJ62","v":3908.12},{"$f":"'Datos mensuales'!BK62","v":777.49},{"$f":"'Datos mensuales'!BL62","v":472.35}]
[null,"noviembre",{"$f":"'Datos mensuales'!D63","v":"n.d."},{"$f":"'Datos mensuales'!E63","v":"n.d."},{"$f":"'Datos mensuales'!F63","v":"n.d."},{"$f":"'Datos mensuales'!G63","v":2.6748971193415483},{"$f":"'Datos mensuales'!I63","v":"n.d."},{"$f":"'Datos mensuales'!J63","v":6.9299573951394553},{"$f":"'Datos mensuales'!H63","v":2.454682779456197},null,{"$f":"'Datos mensuales'!AW63","v":"n.d."},{"$f":"'Datos mensuales'!AX63","v":"n.d."},{"$f":"'Datos mensuales'!AY63","v":"n.d."},{"$f":"'Datos mensuales'!AU63","v":"n.d."},{"$f":"'Datos mensuales'!AV63","v":"n.d."},{"$f":"'Datos mensuales'!AZ63","v":"n.d."},{"$f":"'Datos mensuales'!BA63","v":"n.d."},{"$f":"'Datos mensuales'!BB63","v":"n.d."},null,{"$f":"'Datos mensuales'!BC63","v":"n.d."},{"$f":"'Datos mensuales'!BD63","v":"n.d."},{"$f":"'Datos mensuales'!BE63","v":"n.d."},null,{"$f":"'Datos mensuales'!T63","v":18.07},{"$f":"'Datos mensuales'!U63","v":"n.d."},{"$f":"'Datos mensuales'!W63","v":"n.d."},{"$f":"'Datos mensuales'!AA63","v":"n.d."},{"$f":"'Datos mensuales'!Z63","v":"n.d."},{"$f":"'Datos mensuales'!AC63","v":"n.d."},{"$f":"'Datos mensuales'!AD63","v":"n.d."},null,{"$f":"'Datos mensuales'!AQ63","v":0.64989926561382982},{"$f":"'Datos mensuales'!AR63","v":97.96},{"$f":"'Datos mensuales'!AO63","v":"n.d."},{"$f":"'Datos mensuales'!AP63","v":"n.d."},{"$f":"'Datos mensuales'!AN63","v":1.36},{"$f":"'Datos mensuales'!AS63","v":3.4426000000000001},null,{"$f":"'Datos mensuales'!BJ63","v":3739.22},{"$f":"'Datos mensuales'!BK63","v":750.32},{"$f":"'Datos mensuales'!BL63","v":453.69}]
[null,"diciembre",{"$f":"'Datos mensuales'!D64","v":"n.d."},{"$f":"'Datos mensuales'!E64","v":"n.d."},{"$f":"'Datos mensuales'!F64","v":"n.d."},{"$f":"'Datos mensuales'!G64","v":2.6748971193415483},{"$f":"'Datos mensuales'!I64","v":"n.d."},{"$f":"'Datos mensuales'!J64","v":7.0515466296105975},{"$f":"'Datos mensuales'!H64","v":2.5524959134917657},null,{"$f":"'Datos mensuales'!AW64","v":"n.d."},{"$f":"'Datos mensuales'!AX64","v":"n.d."},{"$f":"'Datos mensuales'!AY64","v":"n.d."},{"$f":"'Datos mensuales'!AU64","v":"n.d."},{"$f":"'Datos mensuales'!AV64","v":"n.d."},{"$f":"'Datos mensuales'!AZ64","v":"n.d."},{"$f":"'Datos mensuales'!BA64","v":"n.d."},{"$f":"'Datos mensuales'!BB64","v":"n.d."},null,{"$f":"'Datos mensuales'!BC64","v":"n.d."},{"$f":"'Datos mensuales'!BD64","v":"n.d."},{"$f":"'Datos mensuales'!BE64","v":"n.d."},null,{"$f":"'Datos mensuales'!T64","v":17.16},{"$f":"'Datos mensuales'!U64","v":"n.d."},{"$f":"'Datos mensuales'!W64","v":"n.d."},{"$f":"'Datos mensuales'!AA64","v":"n.d."},{"$f":"'Datos mensuales'!Z64","v":"n.d."},{"$f":"'Datos mensuales'!AC64","v":"n.d."},{"$f":"'Datos mensuales'!AD64","v":"n.d."},null,{"$f":"'Datos mensuales'!AQ64","v":1.2408150003475398},{"$f":"'Datos mensuales'!AR64","v":100.12},{"$f":"'Datos mensuales'!AO64","v":"n.d."},{"$f":"'Datos mensuales'!AP64","v":"n.d."},{"$f":"'Datos mensuales'!AN64","v":1.39},{"$f":"'Datos mensuales'!AS64","v":3.9308000000000001},null,{"$f":"'Datos mensuales'!BJ64","v":3834.44},{"$f":"'Datos mensuales'!BK64","v":751.96},{"$f":"'Datos mensuales'!BL64","v":459.27}]
[1995,"enero",{"$f":"'Datos mensuales'!D65","v":"n.d."},{"$f":"'Datos mensuales'!E65","v":"n.d."},{"$f":"'Datos mensuales'!F65","v":"n.d."},{"$f":"'Datos mensuales'!G65","v":2.8043775649794962},{"$f":"'Datos mensuales'!I65","v":"n.d."},{"$f":"'Datos mensuales'!J65","v":10.226362844870573},{"$f":"'Datos mensuales'!H65","v":2.444221609425925},null,{"$f":"'Datos mensuales'!AW65","v":"n.d."},{"$f":"'Datos mensuales'!AX65","v":"n.d."},{"$f":"'Datos mensuales'!AY65","v":"n.d."},{"$f":"'Datos mensuales'!AU65","v":6.7950100000000004},{"$f":"'Datos mensuales'!AV65","v":"n.d."},{"$f":"'Datos mensuales'!AZ65","v":"n.d."},{"$f":"'Datos mensuales'!BA65","v":"n.d."},{"$f":"'Datos mensuales'!BB65","v":"n.d."},null,{"$f":"'Datos mensuales'!BC65","v":"n.d."},{"$f":"'Datos mensuales'!BD65","v":"n.d."},{"$f":"'Datos mensuales'!BE65","v":"n.d."},null,{"$f":"'Datos mensuales'!T65","v":18.04},{"$f":"'Datos mensuales'!U65","v":"n.d."},{"$f":"'Datos mensuales'!W65","v":"n.d."},{"$f":"'Datos mensuales'!AA65","v":"n.d."},{"$f":"'Datos mensuales'!Z65","v":"n.d."},{"$f":"'Datos mensuales'!AC65","v":"n.d."},{"$f":"'Datos mensuales'!AD65","v":"n.d."},null,{"$f":"'Datos mensuales'!AQ65","v":1.2408150003475398},{"$f":"'Datos mensuales'!AR65","v":99.75},{"$f":"'Datos mensuales'!AO65","v":"n.d."},{"$f":"'Datos mensuales'!AP65","v":"n.d."},{"$f":"'Datos mensuales'!AN65","v":1.41},{"$f":"'Datos mensuales'!AS65","v":5.5133000000000001},null,{"$f":"'Datos mensuales'!BJ65","v":3843.86},{"$f":"'Datos mensuales'!BK65","v":755.2},{"$f":"'Datos mensuales'!BL65","v":470.42}]
[null,"febrero",{"$f":"'Datos mensuales'!D66","v":"n.d."},{"$f":"'Datos mensuales'!E66","v":"n.d."},{"$f":"'Datos mensuales'!F66","v":"n.d."},{"$f":"'Datos mensuales'!G66","v":2.8629856850715862},{"$f":"'Datos mensuales'!I66","v":"n.d."},{"$f":"'Datos mensuales'!J66","v":14.310123614559334},{"$f":"'Datos mensuales'!H66","v":2.4314214463840433},null,{"$f":"'Datos mensuales'!AW66","v":"n.d."},{"$f":"'Datos mensuales'!AX66","v":"n.d."},{"$f":"'Datos mensuales'!AY66","v":"n.d."},{"$f":"'Datos mensuales'!AU66","v":6.5444100000000001},{"$f":"'Datos mensuales'!AV66","v":"n.d."},{"$f":"'Datos mensuales'!AZ66","v":"n.d."},{"$f":"'Datos mensuales'!BA66","v":"n.d."},{"$f":"'Datos mensuales'!BB66","v":"n.d."},null,{"$f":"'Datos mensuales'!BC66","v":"n.d."},{"$f":"'Datos mensuales'!BD66","v":"n.d."},{"$f":"'Datos mensuales'!BE66","v":"n.d."},null,{"$f":"'Datos mensuales'!T66","v":18.57},{"$f":"'Datos mensuales'!U66","v":"n.d."},{"$f":"'Datos mensuales'!W66","v":"n.d."},{"$f":"'Datos mensuales'!AA66","v":"n.d."},{"$f":"'Datos mensuales'!Z66","v":"n.d."},{"$f":"'Datos mensuales'!AC66","v":"n.d."},{"$f":"'Datos mensuales'!AD66","v":"n.d."},null,{"$f":"'Datos mensuales'!AQ66","v":1.2586939992706347},{"$f":"'Datos mensuales'!AR66","v":98.24},{"$f":"'Datos mensuales'!AO66","v":"n.d."},{"$f":"'Datos mensuales'!AP66","v":"n.d."},{"$f":"'Datos mensuales'!AN66","v":1.4},{"$f":"'Datos mensuales'!AS66","v":5.6851000000000003},null,{"$f":"'Datos mensuales'!BJ66","v":4011.05},{"$f":"'Datos mensuales'!BK66","v":793.74},{"$f":"'Datos mensuales'!BL66","v":487.39}]
[null,"marzo",{"$f":"'Datos mensuales'!D67","v":"n.d."},{"$f":"'Datos mensuales'!E67","v":"n.d."},{"$f":"'Datos mensuales'!F67","v":"n.d."},{"$f":"'Datos mensuales'!G67","v":2.8532608695652293},{"$f":"'Datos mensuales'!I67","v":"n.d."},{"$f":"'Datos mensuales'!J67","v":20.429590760713108},{"$f":"'Datos mensuales'!H67","v":2.5258180913276109},null,{"$f":"'Datos mensuales'!AW67","v":"n.d."},{"$f":"'Datos mensuales'!AX67","v":"n.d."},{"$f":"'Datos mensuales'!AY67","v":"n.d."},{"$f":"'Datos mensuales'!AU67","v":6.4639899999999999},{"$f":"'Datos mensuales'!AV67","v":"n.d."},{"$f":"'Datos mensuales'!AZ67","v":"n.d."},{"$f":"'Datos mensuales'!BA67","v":"n.d."},{"$f":"'Datos mensuales'!BB67","v":"n.d."},null,{"$f":"'Datos mensuales'!BC67","v":"n.d."},{"$f":"'Datos mensuales'!BD67","v":"n.d."},{"$f":"'Datos mensuales'!BE67","v":"n.d."},null,{"$f":"'Datos mensuales'!T67","v":18.54},{"$f":"'Datos mensuales'!U67","v":"n.d."},{"$f":"'Datos mensuales'!W67","v":"n.d."},{"$f":"'Datos mensuales'!AA67","v":"n.d."},{"$f":"'Datos mensuales'!Z67","v":"n.d."},{"$f":"'Datos mensuales'!AC67","v":"n.d."},{"$f":"'Datos mensuales'!AD67","v":"n.d."},null,{"$f":"'Datos mensuales'!AQ67","v":1.3170630008209439},{"$f":"'Datos mensuales'!AR67","v":90.79},{"$f":"'Datos mensuales'!AO67","v":"n.d."},{"$f":"'Datos mensuales'!AP67","v":"n.d."},{"$f":"'Datos mensuales'!AN67","v":1.41},{"$f":"'Datos mensuales'!AS67","v":6.7019000000000002},null,{"$f":"'Datos mensuales'!BJ67","v":4157.6899999999996},{"$f":"'Datos mensuales'!BK67","v":817.21},{"$f":"'Datos mensuales'!BL67","v":500.71}]
[null,"abril ",{"$f":"'Datos mensuales'!D68","v":"n.d."},{"$f":"'Datos mensuales'!E68","v":"n.d."},{"$f":"'Datos mensuales'!F68","v":"n.d."},{"$f":"'Datos mensuales'!G68","v":3.0529172320217097},{"$f":"'Datos mensuales'!I68","v":"n.d."},{"$f":"'Datos mensuales'!J68","v":29.392135045501711},{"$f":"'Datos mensuales'!H68","v":2.6224210787969175},null,{"$f":"'Datos mensuales'!AW68","v":"n.d."},{"$f":"'Datos mensuales'!AX68","v":"n.d."},{"$f":"'Datos mensuales'!AY68","v":"n.d."},{"$f":"'Datos mensuales'!AU68","v":6.3958300000000001},{"$f":"'Datos mensuales'!AV68","v":"n.d."},{"$f":"'Datos mensuales'!AZ68","v":"n.d."},{"$f":"'Datos mensuales'!BA68","v":"n.d."},{"$f":"'Datos mensuales'!BB68","v":"n.d."},null,{"$f":"'Datos mensuales'!BC68","v":"n.d."},{"$f":"'Datos mensuales'!BD68","v":"n.d."},{"$f":"'Datos mensuales'!BE68","v":"n.d."},null,{"$f":"'Datos mensuales'!T68","v":19.899999999999999},{"$f":"'Datos mensuales'!U68","v":"n.d."},{"$f":"'Datos mensuales'!W68","v":"n.d."},{"$f":"'Datos mensuales'!AA68","v":"n.d."},{"$f":"'Datos mensuales'!Z68","v":"n.d."},{"$f":"'Datos mensuales'!AC68","v":"n.d."},{"$f":"'Datos mensuales'!AD68","v":"n.d."},null,{"$f":"'Datos mensuales'!AQ68","v":1.3414320000961859},{"$f":"'Datos mensuales'!AR68","v":83.67},{"$f":"'Datos mensuales'!AO68","v":"n.d."},{"$f":"'Datos mensuales'!AP68","v":"n.d."},{"$f":"'Datos mensuales'!AN68","v":1.38},{"$f":"'Datos mensuales'!AS68","v":6.2995999999999999},null,{"$f":"'Datos mensuales'!BJ68","v":4321.2700000000004},{"$f":"'Datos mensuales'!BK68","v":843.98},{"$f":"'Datos mensuales'!BL68","v":514.71}]
[null,"mayo",{"$f":"'Datos mensuales'!D69","v":"n.d."},{"$f":"'Datos mensuales'!E69","v":"n.d."},{"$f":"'Datos mensuales'!F69","v":"n.d."},{"$f":"'Datos mensuales'!G69","v":3.1864406779660936},{"$f":"'Datos mensuales'!I69","v":"n.d."},{"$f":"'Datos mensuales'!J69","v":34.152026888469685},{"$f":"'Datos mensuales'!H69","v":2.4160574897782219},null,{"$f":"'Datos mensuales'!AW69","v":"n.d."},{"$f":"'Datos mensuales'!AX69","v":"n.d."},{"$f":"'Datos mensuales'!AY69","v":"n.d."},{"$f":"'Datos mensuales'!AU69","v":6.1754100000000003},{"$f":"'Datos mensuales'!AV69","v":"n.d."},{"$f":"'Datos mensuales'!AZ69","v":"n.d."},{"$f":"'Datos mensuales'!BA69","v":"n.d."},{"$f":"'Datos mensuales'!BB69","v":"n.d."},null,{"$f":"'Datos mensuales'!BC69","v":"n.d."},{"$f":"'Datos mensuales'!BD69","v":"n.d."},{"$f":"'Datos mensuales'!BE69","v":"n.d."},null,{"$f":"'Datos mensuales'!T69","v":19.739999999999998},{"$f":"'Datos mensuales'!U69","v":"n.d."},{"$f":"'Datos mensuales'!W69","v":"n.d."},{"$f":"'Datos mensuales'!AA69","v":"n.d."},{"$f":"'Datos mensuales'!Z69","v":"n.d."},{"$f":"'Datos mensuales'!AC69","v":"n.d."},{"$f":"'Datos mensuales'!AD69","v":"n.d."},null,{"$f":"'Datos mensuales'!AQ69","v":1.3216429992257102},{"$f":"'Datos mensuales'!AR69","v":85},{"$f":"'Datos mensuales'!AO69","v":"n.d."},{"$f":"'Datos mensuales'!AP69","v":"n.d."},{"$f":"'Datos mensuales'!AN69","v":1.36},{"$f":"'Datos mensuales'!AS69","v":5.9626999999999999},null,{"$f":"'Datos mensuales'!BJ69","v":4465.1400000000003},{"$f":"'Datos mensuales'!BK69","v":864.58},{"$f":"'Datos mensuales'!BL69","v":533.4}]
[null,"junio",{"$f":"'Datos mensuales'!D70","v":"n.d."},{"$f":"'Datos mensuales'!E70","v":"n.d."},{"$f":"'Datos mensuales'!F70","v":"n.d."},{"$f":"'Datos mensuales'!G70","v":3.0405405405405408},{"$f":"'Datos mensuales'!I70","v":"n.d."},{"$f":"'Datos mensuales'!J70","v":37.720544423415546},{"$f":"'Datos mensuales'!H70","v":2.6113861386138608},null,{"$f":"'Datos mensuales'!AW70","v":"n.d."},{"$f":"'Datos mensuales'!AX70","v":"n.d."},{"$f":"'Datos mensuales'!AY70","v":"n.d."},{"$f":"'Datos mensuales'!AU70","v":5.9023399999999997},{"$f":"'Datos mensuales'!AV70","v":"n.d."},{"$f":"'Datos mensuales'!AZ70","v":"n.d."},{"$f":"'Datos mensuales'!BA70","v":"n.d."},{"$f":"'Datos mensuales'!BB70","v":"n.d."},null,{"$f":"'Datos mensuales'!BC70","v":"n.d."},{"$f":"'Datos mensuales'!BD70","v":"n.d."},{"$f":"'Datos mensuales'!BE70","v":"n.d."},null,{"$f":"'Datos mensuales'!T70","v":18.45},{"$f":"'Datos mensuales'!U70","v":"n.d."},{"$f":"'Datos mensuales'!W70","v":"n.d."},{"$f":"'Datos mensuales'!AA70","v":"n.d."},{"$f":"'Datos mensuales'!Z70","v":"n.d."},{"$f":"'Datos mensuales'!AC70","v":"n.d."},{"$f":"'Datos mensuales'!AD70","v":"n.d."},null,{"$f":"'Datos mensuales'!AQ70","v":1.3314410006205182},{"$f":"'Datos mensuales'!AR70","v":84.53},{"$f":"'Datos mensuales'!AO70","v":"n.d."},{"$f":"'Datos mensuales'!AP70","v":"n.d."},{"$f":"'Datos mensuales'!AN70","v":1.38},{"$f":"'Datos mensuales'!AS70","v":6.2232000000000003},null,{"$f":"'Datos mensuales'!BJ70","v":4556.09},{"$f":"'Datos mensuales'!BK70","v":933.45},{"$f":"'Datos mensuales'!BL70","v":544.75}]
[null,"julio",{"$f":"'Datos mensuales'!D71","v":"n.d."},{"$f":"'Datos mensuales'!E71","v":"n.d."},{"$f":"'Datos mensuales'!F71","v":"n.d."},{"$f":"'Datos mensuales'!G71","v":2.762803234501344},{"$f":"'Datos mensuales'!I71","v":"n.d."},{"$f":"'Datos mensuales'!J71","v":39.90763733323773},{"$f":"'Datos mensuales'!H71","v":2.4085968379446676},null,{"$f":"'Datos mensuales'!AW71","v":"n.d."},{"$f":"'Datos mensuales'!AX71","v":"n.d."},{"$f":"'Datos mensuales'!AY71","v":"n.d."},{"$f":"'Datos mensuales'!AU71","v":5.8573300000000001},{"$f":"'Datos mensuales'!AV71","v":"n.d."},{"$f":"'Datos mensuales'!AZ71","v":"n.d."},{"$f":"'Datos mensuales'!BA71","v":"n.d."},{"$f":"'Datos mensuales'!BB71","v":"n.d."},null,{"$f":"'Datos mensuales'!BC71","v":"n.d."},{"$f":"'Datos mensuales'!BD71","v":"n.d."},{"$f":"'Datos mensuales'!BE71","v":"n.d."},null,{"$f":"'Datos mensuales'!T71","v":17.329999999999998},{"$f":"'Datos mensuales'!U71","v":"n.d."},{"$f":"'Datos mensuales'!W71","v":"n.d."},{"$f":"'Datos mensuales'!AA71","v":"n.d."},{"$f":"'Datos mensuales'!Z71","v":"n.d."},{"$f":"'Datos mensuales'!AC71","v":"n.d."},{"$f":"'Datos mensuales'!AD71","v":"n.d."},null,{"$f":"'Datos mensuales'!AQ71","v":1.3448149998050758},{"$f":"'Datos mensuales'!AR71","v":87.22},{"$f":"'Datos mensuales'!AO71","v":"n.d."},{"$f":"'Datos mensuales'!AP71","v":"n.d."},{"$f":"'Datos mensuales'!AN71","v":1.36},{"$f":"'Datos mensuales'!AS71","v":6.1394000000000002},null,{"$f":"'Datos mensuales'!BJ71","v":4708.47},{"$f":"'Datos mensuales'!BK71","v":1001.21},{"$f":"'Datos mensuales'!BL71","v":562.05999999999995}]
[null,"agosto",{"$f":"'Datos mensuales'!D72","v":"n.d."},{"$f":"'Datos mensuales'!E72","v":"n.d."},{"$f":"'Datos mensuales'!F72","v":"n.d."},{"$f":"'Datos mensuales'!G72","v":2.6174496644295342},{"$f":"'Datos mensuales'!I72","v":"n.d."},{"$f":"'Datos mensuales'!J72","v":41.568457466749734},{"$f":"'Datos mensuales'!H72","v":2.2926167878713168},null,{"$f":"'Datos mensuales'!AW72","v":"n.d."},{"$f":"'Datos mensuales'!AX72","v":"n.d."},{"$f":"'Datos mensuales'!AY72","v":"n.d."},{"$f":"'Datos mensuales'!AU72","v":5.9321700000000002},{"$f":"'Datos mensuales'!AV72","v":"n.d."},{"$f":"'Datos mensuales'!AZ72","v":"n.d."},{"$f":"'Datos mensuales'!BA72","v":"n.d."},{"$f":"'Datos mensuales'!BB72","v":"n.d."},null,{"$f":"'Datos mensuales'!BC72","v":"n.d."},{"$f":"'Datos mensuales'!BD72","v":"n.d."},{"$f":"'Datos mensuales'!BE72","v":"n.d."},null,{"$f":"'Datos mensuales'!T72","v":18.02},{"$f":"'Datos mensuales'!U72","v":"n.d."},{"$f":"'Datos mensuales'!W72","v":"n.d."},{"$f":"'Datos mensuales'!AA72","v":"n.d."},{"$f":"'Datos mensuales'!Z72","v":"n.d."},{"$f":"'Datos mensuales'!AC72","v":"n.d."},{"$f":"'Datos mensuales'!AD72","v":"n.d."},null,{"$f":"'Datos mensuales'!AQ72","v":1.3044110004131122},{"$f":"'Datos mensuales'!AR72","v":94.55},{"$f":"'Datos mensuales'!AO72","v":"n.d."},{"$f":"'Datos mensuales'!AP72","v":"n.d."},{"$f":"'Datos mensuales'!AN72","v":1.35},{"$f":"'Datos mensuales'!AS72","v":6.1909000000000001},null,{"$f":"'Datos mensuales'!BJ72","v":4610.5600000000004},{"$f":"'Datos mensuales'!BK72","v":1020.11},{"$f":"'Datos mensuales'!BL72","v":561.88}]
[null,"septiembre",{"$f":"'Datos mensuales'!D73","v":"n.d."},{"$f":"'Datos mensuales'!E73","v":"n.d."},{"$f":"'Datos mensuales'!F73","v":"n.d."},{"$f":"'Datos mensuales'!G73","v":2.5435073627844598},{"$f":"'Datos mensuales'!I73","v":"n.d."},{"$f":"'Datos mensuales'!J73","v":43.476427010655115},{"$f":"'Datos mensuales'!H73","v":2.3885742427973375},null,{"$f":"'Datos mensuales'!AW73","v":"n.d."},{"$f":"'Datos mensuales'!AX73","v":"n.d."},{"$f":"'Datos mensuales'!AY73","v":"n.d."},{"$f":"'Datos mensuales'!AU73","v":5.8679300000000003},{"$f":"'Datos mensuales'!AV73","v":"n.d."},{"$f":"'Datos mensuales'!AZ73","v":"n.d."},{"$f":"'Datos mensuales'!BA73","v":"n.d."},{"$f":"'Datos mensuales'!BB73","v":"n.d."},null,{"$f":"'Datos mensuales'!BC73","v":"n.d."},{"$f":"'Datos mensuales'!BD73","v":"n.d."},{"$f":"'Datos mensuales'!BE73","v":"n.d."},null,{"$f":"'Datos mensuales'!T73","v":18.23},{"$f":"'Datos mensuales'!U73","v":"n.d."},{"$f":"'Datos mensuales'!W73","v":"n.d."},{"$f":"'Datos mensuales'!AA73","v":"n.d."},{"$f":"'Datos mensuales'!Z73","v":"n.d."},{"$f":"'Datos mensuales'!AC73","v":"n.d."},{"$f":"'Datos mensuales'!AD73","v":"n.d."},null,{"$f":"'Datos mensuales'!AQ73","v":1.2888020004928997},{"$f":"'Datos mensuales'!AR73","v":100.49},{"$f":"'Datos mensuales'!AO73","v":"n.d."},{"$f":"'Datos mensuales'!AP73","v":"n.d."},{"$f":"'Datos mensuales'!AN73","v":1.35},{"$f":"'Datos mensuales'!AS73","v":6.3025000000000002},null,{"$f":"'Datos mensuales'!BJ73","v":4789.08},{"$f":"'Datos mensuales'!BK73","v":1043.54},{"$f":"'Datos mensuales'!BL73","v":584.41}]
[null,"octubre",{"$f":"'Datos mensuales'!D74","v":"n.d."},{"$f":"'Datos mensuales'!E74","v":"n.d."},{"$f":"'Datos mensuales'!F74","v":"n.d."},{"$f":"'Datos mensuales'!G74","v":2.8093645484949756},{"$f":"'Datos mensuales'!I74","v":"n.d."},{"$f":"'Datos mensuales'!J74","v":45.663870772191132},{"$f":"'Datos mensuales'!H74","v":2.3985239852398559},null,{"$f":"'Datos mensuales'!AW74","v":"n.d."},{"$f":"'Datos mensuales'!AX74","v":"n.d."},{"$f":"'Datos mensuales'!AY74","v":"n.d."},{"$f":"'Datos mensuales'!AU74","v":5.8963099999999997},{"$f":"'Datos mensuales'!AV74","v":"n.d."},{"$f":"'Datos mensuales'!AZ74","v":"n.d."},{"$f":"'Datos mensuales'!BA74","v":"n.d."},{"$f":"'Datos mensuales'!BB74","v":"n.d."},null,{"$f":"'Datos mensuales'!BC74","v":"n.d."},{"$f":"'Datos mensuales'!BD74","v":"n.d."},{"$f":"'Datos mensuales'!BE74","v":"n.d."},null,{"$f":"'Datos mensuales'!T74","v":17.43},{"$f":"'Datos mensuales'!U74","v":"n.d."},{"$f":"'Datos mensuales'!W74","v":"n.d."},{"$f":"'Datos mensuales'!AA74","v":"n.d."},{"$f":"'Datos mensuales'!Z74","v":"n.d."},{"$f":"'Datos mensuales'!AC74","v":"n.d."},{"$f":"'Datos mensuales'!AD74","v":"n.d."},null,{"$f":"'Datos mensuales'!AQ74","v":1.3221719997979351},{"$f":"'Datos mensuales'!AR74","v":100.65},{"$f":"'Datos mensuales'!AO74","v":"n.d."},{"$f":"'Datos mensuales'!AP74","v":"n.d."},{"$f":"'Datos mensuales'!AN74","v":1.35},{"$f":"'Datos mensuales'!AS74","v":6.6910999999999996},null,{"$f":"'Datos mensuales'!BJ74","v":4755.4799999999996},{"$f":"'Datos mensuales'!BK74","v":1036.06},{"$f":"'Datos mensuales'!BL74","v":581.5}]
[null,"noviembre",{"$f":"'Datos mensuales'!D75","v":"n.d."},{"$f":"'Datos mensuales'!E75","v":"n.d."},{"$f":"'Datos mensuales'!F75","v":"n.d."},{"$f":"'Datos mensuales'!G75","v":2.6052104208416873},{"$f":"'Datos mensuales'!I75","v":"n.d."},{"$f":"'Datos mensuales'!J75","v":48.462033012449815},{"$f":"'Datos mensuales'!H75","v":2.3835852070278878},null,{"$f":"'Datos mensuales'!AW75","v":"n.d."},{"$f":"'Datos mensuales'!AX75","v":"n.d."},{"$f":"'Datos mensuales'!AY75","v":"n.d."},{"$f":"'Datos mensuales'!AU75","v":5.7342000000000004},{"$f":"'Datos mensuales'!AV75","v":"n.d."},{"$f":"'Datos mensuales'!AZ75","v":"n.d."},{"$f":"'Datos mensuales'!BA75","v":"n.d."},{"$f":"'Datos mensuales'!BB75","v":"n.d."},null,{"$f":"'Datos mensuales'!BC75","v":"n.d."},{"$f":"'Datos mensuales'!BD75","v":"n.d."},{"$f":"'Datos mensuales'!BE75","v":"n.d."},null,{"$f":"'Datos mensuales'!T75","v":17.989999999999998},{"$f":"'Datos mensuales'!U75","v":"n.d."},{"$f":"'Datos mensuales'!W75","v":"n.d."},{"$f":"'Datos mensuales'!AA75","v":"n.d."},{"$f":"'Datos mensuales'!Z75","v":"n.d."},{"$f":"'Datos mensuales'!AC75","v":"n.d."},{"$f":"'Datos mensuales'!AD75","v":"n.d."},null,{"$f":"'Datos mensuales'!AQ75","v":1.3238049997374564},{"$f":"'Datos mensuales'!AR75","v":101.92},{"$f":"'Datos mensuales'!AO75","v":"n.d."},{"$f":"'Datos mensuales'!AP75","v":"n.d."},{"$f":"'Datos mensuales'!AN75","v":1.35},{"$f":"'Datos mensuales'!AS75","v":7.6584000000000003},null,{"$f":"'Datos mensuales'!BJ75","v":5074.49},{"$f":"'Datos mensuales'!BK75","v":1059.22},{"$f":"'Datos mensuales'!BL75","v":605.37}]
[null,"diciembre",{"$f":"'Datos mensuales'!D76","v":"n.d."},{"$f":"'Datos mensuales'!E76","v":"n.d."},{"$f":"'Datos mensuales'!F76","v":"n.d."},{"$f":"'Datos mensuales'!G76","v":2.5384101536406223},{"$f":"'Datos mensuales'!I76","v":"n.d."},{"$f":"'Datos mensuales'!J76","v":51.966102306944592},{"$f":"'Datos mensuales'!H76","v":2.3786169691024983},null,{"$f":"'Datos mensuales'!AW76","v":"n.d."},{"$f":"'Datos mensuales'!AX76","v":"n.d."},{"$f":"'Datos mensuales'!AY76","v":"n.d."},{"$f":"'Datos mensuales'!AU76","v":5.6140999999999996},{"$f":"'Datos mensuales'!AV76","v":"n.d."},{"$f":"'Datos mensuales'!AZ76","v":"n.d."},{"$f":"'Datos mensuales'!BA76","v":"n.d."},{"$f":"'Datos mensuales'!BB76","v":"n.d."},null,{"$f":"'Datos mensuales'!BC76","v":"n.d."},{"$f":"'Datos mensuales'!BD76","v":"n.d."},{"$f":"'Datos mensuales'!BE76","v":"n.d."},null,{"$f":"'Datos mensuales'!T76","v":19.03},{"$f":"'Datos mensuales'!U76","v":"n.d."},{"$f":"'Datos mensuales'!W76","v":"n.d."},{"$f":"'Datos mensuales'!AA76","v":"n.d."},{"$f":"'Datos mensuales'!Z76","v":"n.d."},{"$f":"'Datos mensuales'!AC76","v":"n.d."},{"$f":"'Datos mensuales'!AD76","v":"n.d."},null,{"$f":"'Datos mensuales'!AQ76","v":1.3043039992042285},{"$f":"'Datos mensuales'!AR76","v":101.81},{"$f":"'Datos mensuales'!AO76","v":"n.d."},{"$f":"'Datos mensuales'!AP76","v":"n.d."},{"$f":"'Datos mensuales'!AN76","v":1.37},{"$f":"'Datos mensuales'!AS76","v":7.6646999999999998},null,{"$f":"'Datos mensuales'!BJ76","v":5117.12},{"$f":"'Datos mensuales'!BK76","v":1052.1400000000001},{"$f":"'Datos mensuales'!BL76","v":615.92999999999995}]
[1996,"enero",{"$f":"'Datos mensuales'!D77","v":"n.d."},{"$f":"'Datos mensuales'!E77","v":6.5082810785867746},{"$f":"'Datos mensuales'!F77","v":"n.d."},{"$f":"'Datos mensuales'!G77","v":2.7278775781769755},{"$f":"'Datos mensuales'!I77","v":-0.49554013875123881},{"$f":"'Datos mensuales'!J77","v":51.718589454864436},{"$f":"'Datos mensuales'!H77","v":2.3736693992414017},null,{"$f":"'Datos mensuales'!AW77","v":"n.d."},{"$f":"'Datos mensuales'!AX77","v":"n.d."},{"$f":"'Datos mensuales'!AY77","v":"n.d."},{"$f":"'Datos mensuales'!AU77","v":5.4247199999999998},{"$f":"'Datos mensuales'!AV77","v":"n.d."},{"$f":"'Datos mensuales'!AZ77","v":"n.d."},{"$f":"'Datos mensuales'!BA77","v":"n.d."},{"$f":"'Datos mensuales'!BB77","v":"n.d."},null,{"$f":"'Datos mensuales'!BC77","v":"n.d."},{"$f":"'Datos mensuales'!BD77","v":"n.d."},{"$f":"'Datos mensuales'!BE77","v":"n.d."},null,{"$f":"'Datos mensuales'!T77","v":18.86},{"$f":"'Datos mensuales'!U77","v":"n.d."},{"$f":"'Datos mensuales'!W77","v":"n.d."},{"$f":"'Datos mensuales'!AA77","v":"n.d."},{"$f":"'Datos mensuales'!Z77","v":"n.d."},{"$f":"'Datos mensuales'!AC77","v":"n.d."},{"$f":"'Datos mensuales'!AD77","v":"n.d."},null,{"$f":"'Datos mensuales'!AQ77","v":1.2918379999648335},{"$f":"'Datos mensuales'!AR77","v":105.84},{"$f":"'Datos mensuales'!AO77","v":"n.d."},{"$f":"'Datos mensuales'!AP77","v":"n.d."},{"$f":"'Datos mensuales'!AN77","v":1.37},{"$f":"'Datos mensuales'!AS77","v":7.5048000000000004},null,{"$f":"'Datos mensuales'!BJ77","v":5395.3},{"$f":"'Datos mensuales'!BK77","v":1059.79},{"$f":"'Datos mensuales'!BL77","v":636.02}]
[null,"febrero",{"$f":"'Datos mensuales'!D78","v":"n.d."},{"$f":"'Datos mensuales'!E78","v":6.9815819848065415},{"$f":"'Datos mensuales'!F78","v":"n.d."},{"$f":"'Datos mensuales'!G78","v":2.650762094102054},{"$f":"'Datos mensuales'!I78","v":-0.39761431411529968},{"$f":"'Datos mensuales'!J78","v":48.946895775002211},{"$f":"'Datos mensuales'!H78","v":2.3615337796713298},null,{"$f":"'Datos mensuales'!AW78","v":"n.d."},{"$f":"'Datos mensuales'!AX78","v":"n.d."},{"$f":"'Datos mensuales'!AY78","v":"n.d."},{"$f":"'Datos mensuales'!AU78","v":5.1804300000000003},{"$f":"'Datos mensuales'!AV78","v":"n.d."},{"$f":"'Datos mensuales'!AZ78","v":"n.d."},{"$f":"'Datos mensuales'!BA78","v":"n.d."},{"$f":"'Datos mensuales'!BB78","v":"n.d."},null,{"$f":"'Datos mensuales'!BC78","v":"n.d."},{"$f":"'Datos mensuales'!BD78","v":"n.d."},{"$f":"'Datos mensuales'!BE78","v":"n.d."},null,{"$f":"'Datos mensuales'!T78","v":19.09},{"$f":"'Datos mensuales'!U78","v":"n.d."},{"$f":"'Datos mensuales'!W78","v":"n.d."},{"$f":"'Datos mensuales'!AA78","v":"n.d."},{"$f":"'Datos mensuales'!Z78","v":"n.d."},{"$f":"'Datos mensuales'!AC78","v":"n.d."},{"$f":"'Datos mensuales'!AD78","v":"n.d."},null,{"$f":"'Datos mensuales'!AQ78","v":1.2886030006298652},{"$f":"'Datos mensuales'!AR78","v":105.73},{"$f":"'Datos mensuales'!AO78","v":"n.d."},{"$f":"'Datos mensuales'!AP78","v":"n.d."},{"$f":"'Datos mensuales'!AN78","v":1.38},{"$f":"'Datos mensuales'!AS78","v":7.5042},null,{"$f":"'Datos mensuales'!BJ78","v":5485.62},{"$f":"'Datos mensuales'!BK78","v":1100.05},{"$f":"'Datos mensuales'!BL78","v":640.42999999999995}]
[null,"marzo",{"$f":"'Datos mensuales'!D79","v":"n.d."},{"$f":"'Datos mensuales'!E79","v":7.0551268243036285},{"$f":"'Datos mensuales'!F79","v":"n.d."},{"$f":"'Datos mensuales'!G79","v":2.84015852047555},{"$f":"'Datos mensuales'!I79","v":-9.9502487562183384E-2},{"$f":"'Datos mensuales'!J79","v":43.751479655806676},{"$f":"'Datos mensuales'!H79","v":2.3665048543689182},null,{"$f":"'Datos mensuales'!AW79","v":"n.d."},{"$f":"'Datos mensuales'!AX79","v":"n.d."},{"$f":"'Datos mensuales'!AY79","v":"n.d."},{"$f":"'Datos mensuales'!AU79","v":5.40848},{"$f":"'Datos mensuales'!AV79","v":"n.d."},{"$f":"'Datos mensuales'!AZ79","v":"n.d."},{"$f":"'Datos mensuales'!BA79","v":"n.d."},{"$f":"'Datos mensuales'!BB79","v":"n.d."},null,{"$f":"'Datos mensuales'!BC79","v":"n.d."},{"$f":"'Datos mensuales'!BD79","v":"n.d."},{"$f":"'Datos mensuales'!BE79","v":"n.d."},null,{"$f":"'Datos mensuales'!T79","v":21.33},{"$f":"'Datos mensuales'!U79","v":"n.d."},{"$f":"'Datos mensuales'!W79","v":"n.d."},{"$f":"'Datos mensuales'!AA79","v":"n.d."},{"$f":"'Datos mensuales'!Z79","v":"n.d."},{"$f":"'Datos mensuales'!AC79","v":"n.d."},{"$f":"'Datos mensuales'!AD79","v":"n.d."},null,{"$f":"'Datos mensuales'!AQ79","v":1.2813370007402194},{"$f":"'Datos mensuales'!AR79","v":105.82},{"$f":"'Datos mensuales'!AO79","v":"n.d."},{"$f":"'Datos mensuales'!AP79","v":"n.d."},{"$f":"'Datos mensuales'!AN79","v":1.37},{"$f":"'Datos mensuales'!AS79","v":7.5735999999999999},null,{"$f":"'Datos mensuales'!BJ79","v":5587.14},{"$f":"'Datos mensuales'!BK79","v":1101.3800000000001},{"$f":"'Datos mensuales'!BL79","v":645.5}]
[null,"abril ",{"$f":"'Datos mensuales'!D80","v":"n.d."},{"$f":"'Datos mensuales'!E80","v":7.0707004973958822},{"$f":"'Datos mensuales'!F80","v":"n.d."},{"$f":"'Datos mensuales'!G80","v":2.8966425279789374},{"$f":"'Datos mensuales'!I80","v":0.19841269841270123},{"$f":"'Datos mensuales'!J80","v":36.927137152246367},{"$f":"'Datos mensuales'!H80","v":2.3616325541964427},null,{"$f":"'Datos mensuales'!AW80","v":"n.d."},{"$f":"'Datos mensuales'!AX80","v":"n.d."},{"$f":"'Datos mensuales'!AY80","v":"n.d."},{"$f":"'Datos mensuales'!AU80","v":5.5598299999999998},{"$f":"'Datos mensuales'!AV80","v":"n.d."},{"$f":"'Datos mensuales'!AZ80","v":"n.d."},{"$f":"'Datos mensuales'!BA80","v":"n.d."},{"$f":"'Datos mensuales'!BB80","v":"n.d."},null,{"$f":"'Datos mensuales'!BC80","v":"n.d."},{"$f":"'Datos mensuales'!BD80","v":"n.d."},{"$f":"'Datos mensuales'!BE80","v":"n.d."},null,{"$f":"'Datos mensuales'!T80","v":23.5},{"$f":"'Datos mensuales'!U80","v":"n.d."},{"$f":"'Datos mensuales'!W80","v":"n.d."},{"$f":"'Datos mensuales'!AA80","v":"n.d."},{"$f":"'Datos mensuales'!Z80","v":"n.d."},{"$f":"'Datos mensuales'!AC80","v":"n.d."},{"$f":"'Datos mensuales'!AD80","v":"n.d."},null,{"$f":"'Datos mensuales'!AQ80","v":1.2639049993592886},{"$f":"'Datos mensuales'!AR80","v":107.46},{"$f":"'Datos mensuales'!AO80","v":"n.d."},{"$f":"'Datos mensuales'!AP80","v":"n.d."},{"$f":"'Datos mensuales'!AN80","v":1.36},{"$f":"'Datos mensuales'!AS80","v":7.4713000000000003},null,{"$f":"'Datos mensuales'!BJ80","v":5569.07},{"$f":"'Datos mensuales'!BK80","v":1190.58},{"$f":"'Datos mensuales'!BL80","v":654.16999999999996}]
[null,"mayo",{"$f":"'Datos mensuales'!D81","v":"n.d."},{"$f":"'Datos mensuales'!E81","v":6.5195008842009123},{"$f":"'Datos mensuales'!F81","v":"n.d."},{"$f":"'Datos mensuales'!G81","v":2.8909329829172181},{"$f":"'Datos mensuales'!I81","v":0.19801980198020083},{"$f":"'Datos mensuales'!J81","v":33.829465749212723},{"$f":"'Datos mensuales'!H81","v":2.4558432131623533},null,{"$f":"'Datos mensuales'!AW81","v":"n.d."},{"$f":"'Datos mensuales'!AX81","v":"n.d."},{"$f":"'Datos mensuales'!AY81","v":"n.d."},{"$f":"'Datos mensuales'!AU81","v":5.5998900000000003},{"$f":"'Datos mensuales'!AV81","v":"n.d."},{"$f":"'Datos mensuales'!AZ81","v":"n.d."},{"$f":"'Datos mensuales'!BA81","v":"n.d."},{"$f":"'Datos mensuales'!BB81","v":"n.d."},null,{"$f":"'Datos mensuales'!BC81","v":"n.d."},{"$f":"'Datos mensuales'!BD81","v":"n.d."},{"$f":"'Datos mensuales'!BE81","v":"n.d."},null,{"$f":"'Datos mensuales'!T81","v":21.17},{"$f":"'Datos mensuales'!U81","v":"n.d."},{"$f":"'Datos mensuales'!W81","v":"n.d."},{"$f":"'Datos mensuales'!AA81","v":"n.d."},{"$f":"'Datos mensuales'!Z81","v":"n.d."},{"$f":"'Datos mensuales'!AC81","v":"n.d."},{"$f":"'Datos mensuales'!AD81","v":"n.d."},null,{"$f":"'Datos mensuales'!AQ81","v":1.2466800007736396},{"$f":"'Datos mensuales'!AR81","v":106.45},{"$f":"'Datos mensuales'!AO81","v":"n.d."},{"$f":"'Datos mensuales'!AP81","v":"n.d."},{"$f":"'Datos mensuales'!AN81","v":1.37},{"$f":"'Datos mensuales'!AS81","v":7.4344999999999999},null,{"$f":"'Datos mensuales'!BJ81","v":5643.17},{"$f":"'Datos mensuales'!BK81","v":1243.44},{"$f":"'Datos mensuales'!BL81","v":669.12}]
[null,"junio",{"$f":"'Datos mensuales'!D82","v":"n.d."},{"$f":"'Datos mensuales'!E82","v":6.3744798356435792},{"$f":"'Datos mensuales'!F82","v":"n.d."},{"$f":"'Datos mensuales'!G82","v":2.7540983606557301},{"$f":"'Datos mensuales'!I82","v":0},{"$f":"'Datos mensuales'!J82","v":31.824904743509393},{"$f":"'Datos mensuales'!H82","v":2.146906283922327},null,{"$f":"'Datos mensuales'!AW82","v":"n.d."},{"$f":"'Datos mensuales'!AX82","v":"n.d."},{"$f":"'Datos mensuales'!AY82","v":"n.d."},{"$f":"'Datos mensuales'!AU82","v":5.7562499999999996},{"$f":"'Datos mensuales'!AV82","v":"n.d."},{"$f":"'Datos mensuales'!AZ82","v":"n.d."},{"$f":"'Datos mensuales'!BA82","v":"n.d."},{"$f":"'Datos mensuales'!BB82","v":"n.d."},null,{"$f":"'Datos mensuales'!BC82","v":"n.d."},{"$f":"'Datos mensuales'!BD82","v":"n.d."},{"$f":"'Datos mensuales'!BE82","v":"n.d."},null,{"$f":"'Datos mensuales'!T82","v":20.420000000000002},{"$f":"'Datos mensuales'!U82","v":"n.d."},{"$f":"'Datos mensuales'!W82","v":"n.d."},{"$f":"'Datos mensuales'!AA82","v":"n.d."},{"$f":"'Datos mensuales'!Z82","v":"n.d."},{"$f":"'Datos mensuales'!AC82","v":"n.d."},{"$f":"'Datos mensuales'!AD82","v":"n.d."},null,{"$f":"'Datos mensuales'!AQ82","v":1.2529220004772605},{"$f":"'Datos mensuales'!AR82","v":108.86},{"$f":"'Datos mensuales'!AO82","v":"n.d."},{"$f":"'Datos mensuales'!AP82","v":"n.d."},{"$f":"'Datos mensuales'!AN82","v":1.37},{"$f":"'Datos mensuales'!AS82","v":7.5426000000000002},null,{"$f":"'Datos mensuales'!BJ82","v":5654.62},{"$f":"'Datos mensuales'!BK82","v":1185.02},{"$f":"'Datos mensuales'!BL82","v":670.63}]
[null,"julio",{"$f":"'Datos mensuales'!D83","v":"n.d."},{"$f":"'Datos mensuales'!E83","v":6.2686704303120173},{"$f":"'Datos mensuales'!F83","v":"n.d."},{"$f":"'Datos mensuales'!G83","v":2.9508196721311477},{"$f":"'Datos mensuales'!I83","v":0.39840637450198352},{"$f":"'Datos mensuales'!J83","v":31.027711724886025},{"$f":"'Datos mensuales'!H83","v":2.146906283922327},null,{"$f":"'Datos mensuales'!AW83","v":"n.d."},{"$f":"'Datos mensuales'!AX83","v":"n.d."},{"$f":"'Datos mensuales'!AY83","v":"n.d."},{"$f":"'Datos mensuales'!AU83","v":5.8490200000000003},{"$f":"'Datos mensuales'!AV83","v":"n.d."},{"$f":"'Datos mensuales'!AZ83","v":"n.d."},{"$f":"'Datos mensuales'!BA83","v":"n.d."},{"$f":"'Datos mensuales'!BB83","v":"n.d."},null,{"$f":"'Datos mensuales'!BC83","v":"n.d."},{"$f":"'Datos mensuales'!BD83","v":"n.d."},{"$f":"'Datos mensuales'!BE83","v":"n.d."},null,{"$f":"'Datos mensuales'!T83","v":21.3},{"$f":"'Datos mensuales'!U83","v":"n.d."},{"$f":"'Datos mensuales'!W83","v":"n.d."},{"$f":"'Datos mensuales'!AA83","v":"n.d."},{"$f":"'Datos mensuales'!Z83","v":"n.d."},{"$f":"'Datos mensuales'!AC83","v":"n.d."},{"$f":"'Datos mensuales'!AD83","v":"n.d."},null,{"$f":"'Datos mensuales'!AQ83","v":1.2706379993978523},{"$f":"'Datos mensuales'!AR83","v":109.32},{"$f":"'Datos mensuales'!AO83","v":"n.d."},{"$f":"'Datos mensuales'!AP83","v":"n.d."},{"$f":"'Datos mensuales'!AN83","v":1.37},{"$f":"'Datos mensuales'!AS83","v":7.6193999999999997},null,{"$f":"'Datos mensuales'!BJ83","v":5528.91},{"$f":"'Datos mensuales'!BK83","v":1080.5999999999999},{"$f":"'Datos mensuales'!BL83","v":639.95000000000005}]
[null,"agosto",{"$f":"'Datos mensuales'!D84","v":"n.d."},{"$f":"'Datos mensuales'!E84","v":5.4187890424581049},{"$f":"'Datos mensuales'!F84","v":"n.d."},{"$f":"'Datos mensuales'!G84","v":2.8776978417266221},{"$f":"'Datos mensuales'!I84","v":0.19900497512438092},{"$f":"'Datos mensuales'!J84","v":30.602927531255197},{"$f":"'Datos mensuales'!H84","v":2.0484395710326582},null,{"$f":"'Datos mensuales'!AW84","v":"n.d."},{"$f":"'Datos mensuales'!AX84","v":"n.d."},{"$f":"'Datos mensuales'!AY84","v":"n.d."},{"$f":"'Datos mensuales'!AU84","v":5.7049899999999996},{"$f":"'Datos mensuales'!AV84","v":"n.d."},{"$f":"'Datos mensuales'!AZ84","v":"n.d."},{"$f":"'Datos mensuales'!BA84","v":"n.d."},{"$f":"'Datos mensuales'!BB84","v":"n.d."},null,{"$f":"'Datos mensuales'!BC84","v":"n.d."},{"$f":"'Datos mensuales'!BD84","v":"n.d."},{"$f":"'Datos mensuales'!BE84","v":"n.d."},null,{"$f":"'Datos mensuales'!T84","v":21.9},{"$f":"'Datos mensuales'!U84","v":"n.d."},{"$f":"'Datos mensuales'!W84","v":"n.d."},{"$f":"'Datos mensuales'!AA84","v":"n.d."},{"$f":"'Datos mensuales'!Z84","v":"n.d."},{"$f":"'Datos mensuales'!AC84","v":"n.d."},{"$f":"'Datos mensuales'!AD84","v":"n.d."},null,{"$f":"'Datos mensuales'!AQ84","v":1.2832489992143166},{"$f":"'Datos mensuales'!AR84","v":107.75},{"$f":"'Datos mensuales'!AO84","v":"n.d."},{"$f":"'Datos mensuales'!AP84","v":"n.d."},{"$f":"'Datos mensuales'!AN84","v":1.37},{"$f":"'Datos mensuales'!AS84","v":7.5114999999999998},null,{"$f":"'Datos mensuales'!BJ84","v":5616.2},{"$f":"'Datos mensuales'!BK84","v":1141.5},{"$f":"'Datos mensuales'!BL84","v":651.99}]
[null,"septiembre",{"$f":"'Datos mensuales'!D85","v":"n.d."},{"$f":"'Datos mensuales'!E85","v":5.5661986836075936},{"$f":"'Datos mensuales'!F85","v":"n.d."},{"$f":"'Datos mensuales'!G85","v":3.002610966057456},{"$f":"'Datos mensuales'!I85","v":0},{"$f":"'Datos mensuales'!J85","v":30.001995628889684},{"$f":"'Datos mensuales'!H85","v":2.0442520442520475},null,{"$f":"'Datos mensuales'!AW85","v":"n.d."},{"$f":"'Datos mensuales'!AX85","v":"n.d."},{"$f":"'Datos mensuales'!AY85","v":"n.d."},{"$f":"'Datos mensuales'!AU85","v":5.8320299999999996},{"$f":"'Datos mensuales'!AV85","v":"n.d."},{"$f":"'Datos mensuales'!AZ85","v":"n.d."},{"$f":"'Datos mensuales'!BA85","v":"n.d."},{"$f":"'Datos mensuales'!BB85","v":"n.d."},null,{"$f":"'Datos mensuales'!BC85","v":"n.d."},{"$f":"'Datos mensuales'!BD85","v":"n.d."},{"$f":"'Datos mensuales'!BE85","v":"n.d."},null,{"$f":"'Datos mensuales'!T85","v":23.97},{"$f":"'Datos mensuales'!U85","v":"n.d."},{"$f":"'Datos mensuales'!W85","v":"n.d."},{"$f":"'Datos mensuales'!AA85","v":"n.d."},{"$f":"'Datos mensuales'!Z85","v":"n.d."},{"$f":"'Datos mensuales'!AC85","v":"n.d."},{"$f":"'Datos mensuales'!AD85","v":"n.d."},null,{"$f":"'Datos mensuales'!AQ85","v":1.2690680005214348},{"$f":"'Datos mensuales'!AR85","v":109.75},{"$f":"'Datos mensuales'!AO85","v":"n.d."},{"$f":"'Datos mensuales'!AP85","v":"n.d."},{"$f":"'Datos mensuales'!AN85","v":1.37},{"$f":"'Datos mensuales'!AS85","v":7.5439999999999996},null,{"$f":"'Datos mensuales'!BJ85","v":5882.16},{"$f":"'Datos mensuales'!BK85","v":1226.9100000000001},{"$f":"'Datos mensuales'!BL85","v":687.31}]
[null,"octubre",{"$f":"'Datos mensuales'!D86","v":"n.d."},{"$f":"'Datos mensuales'!E86","v":5.727882575540395},{"$f":"'Datos mensuales'!F86","v":"n.d."},{"$f":"'Datos mensuales'!G86","v":2.992843201041004},{"$f":"'Datos mensuales'!I86","v":0.49603174603174599},{"$f":"'Datos mensuales'!J86","v":28.970985859375801},{"$f":"'Datos mensuales'!H86","v":2.0300300300300274},null,{"$f":"'Datos mensuales'!AW86","v":"n.d."},{"$f":"'Datos mensuales'!AX86","v":"n.d."},{"$f":"'Datos mensuales'!AY86","v":"n.d."},{"$f":"'Datos mensuales'!AU86","v":5.63706},{"$f":"'Datos mensuales'!AV86","v":"n.d."},{"$f":"'Datos mensuales'!AZ86","v":"n.d."},{"$f":"'Datos mensuales'!BA86","v":"n.d."},{"$f":"'Datos mensuales'!BB86","v":"n.d."},null,{"$f":"'Datos mensuales'!BC86","v":"n.d."},{"$f":"'Datos mensuales'!BD86","v":"n.d."},{"$f":"'Datos mensuales'!BE86","v":"n.d."},null,{"$f":"'Datos mensuales'!T86","v":24.88},{"$f":"'Datos mensuales'!U86","v":"n.d."},{"$f":"'Datos mensuales'!W86","v":"n.d."},{"$f":"'Datos mensuales'!AA86","v":"n.d."},{"$f":"'Datos mensuales'!Z86","v":"n.d."},{"$f":"'Datos mensuales'!AC86","v":"n.d."},{"$f":"'Datos mensuales'!AD86","v":"n.d."},null,{"$f":"'Datos mensuales'!AQ86","v":1.2584110004782856},{"$f":"'Datos mensuales'!AR86","v":112.36},{"$f":"'Datos mensuales'!AO86","v":"n.d."},{"$f":"'Datos mensuales'!AP86","v":"n.d."},{"$f":"'Datos mensuales'!AN86","v":1.35},{"$f":"'Datos mensuales'!AS86","v":7.7263000000000002},null,{"$f":"'Datos mensuales'!BJ86","v":6029.38},{"$f":"'Datos mensuales'!BK86","v":1221.51},{"$f":"'Datos mensuales'!BL86","v":705.27}]
[null,"noviembre",{"$f":"'Datos mensuales'!D87","v":"n.d."},{"$f":"'Datos mensuales'!E87","v":5.9110327764124744},{"$f":"'Datos mensuales'!F87","v":"n.d."},{"$f":"'Datos mensuales'!G87","v":3.2552083333333335},{"$f":"'Datos mensuales'!I87","v":0.49751243781094528},{"$f":"'Datos mensuales'!J87","v":27.774341278100106},{"$f":"'Datos mensuales'!H87","v":1.9320772830913231},null,{"$f":"'Datos mensuales'!AW87","v":"n.d."},{"$f":"'Datos mensuales'!AX87","v":"n.d."},{"$f":"'Datos mensuales'!AY87","v":"n.d."},{"$f":"'Datos mensuales'!AU87","v":5.5487399999999996},{"$f":"'Datos mensuales'!AV87","v":"n.d."},{"$f":"'Datos mensuales'!AZ87","v":"n.d."},{"$f":"'Datos mensuales'!BA87","v":"n.d."},{"$f":"'Datos mensuales'!BB87","v":"n.d."},null,{"$f":"'Datos mensuales'!BC87","v":"n.d."},{"$f":"'Datos mensuales'!BD87","v":"n.d."},{"$f":"'Datos mensuales'!BE87","v":"n.d."},null,{"$f":"'Datos mensuales'!T87","v":23.71},{"$f":"'Datos mensuales'!U87","v":"n.d."},{"$f":"'Datos mensuales'!W87","v":"n.d."},{"$f":"'Datos mensuales'!AA87","v":"n.d."},{"$f":"'Datos mensuales'!Z87","v":"n.d."},{"$f":"'Datos mensuales'!AC87","v":"n.d."},{"$f":"'Datos mensuales'!AD87","v":"n.d."},null,{"$f":"'Datos mensuales'!AQ87","v":1.2769000006094644},{"$f":"'Datos mensuales'!AR87","v":112.26},{"$f":"'Datos mensuales'!AO87","v":"n.d."},{"$f":"'Datos mensuales'!AP87","v":"n.d."},{"$f":"'Datos mensuales'!AN87","v":1.34},{"$f":"'Datos mensuales'!AS87","v":7.9059999999999997},null,{"$f":"'Datos mensuales'!BJ87","v":6521.7},{"$f":"'Datos mensuales'!BK87","v":1292.6099999999999},{"$f":"'Datos mensuales'!BL87","v":757.02}]
[null,"diciembre",{"$f":"'Datos mensuales'!D88","v":"n.d."},{"$f":"'Datos mensuales'!E88","v":6.7050392142949446},{"$f":"'Datos mensuales'!F88","v":"n.d."},{"$f":"'Datos mensuales'!G88","v":3.3224755700325694},{"$f":"'Datos mensuales'!I88","v":0.59701492537312872},{"$f":"'Datos mensuales'!J88","v":27.704808349682825},{"$f":"'Datos mensuales'!H88","v":1.9281437125748497},null,{"$f":"'Datos mensuales'!AW88","v":"n.d."},{"$f":"'Datos mensuales'!AX88","v":"n.d."},{"$f":"'Datos mensuales'!AY88","v":"n.d."},{"$f":"'Datos mensuales'!AU88","v":5.59551},{"$f":"'Datos mensuales'!AV88","v":"n.d."},{"$f":"'Datos mensuales'!AZ88","v":"n.d."},{"$f":"'Datos mensuales'!BA88","v":"n.d."},{"$f":"'Datos mensuales'!BB88","v":"n.d."},null,{"$f":"'Datos mensuales'!BC88","v":"n.d."},{"$f":"'Datos mensuales'!BD88","v":"n.d."},{"$f":"'Datos mensuales'!BE88","v":"n.d."},null,{"$f":"'Datos mensuales'!T88","v":25.23},{"$f":"'Datos mensuales'!U88","v":"n.d."},{"$f":"'Datos mensuales'!W88","v":"n.d."},{"$f":"'Datos mensuales'!AA88","v":"n.d."},{"$f":"'Datos mensuales'!Z88","v":"n.d."},{"$f":"'Datos mensuales'!AC88","v":"n.d."},{"$f":"'Datos mensuales'!AD88","v":"n.d."},null,{"$f":"'Datos mensuales'!AQ88","v":1.25025199923015},{"$f":"'Datos mensuales'!AR88","v":113.76},{"$f":"'Datos mensuales'!AO88","v":"n.d."},{"$f":"'Datos mensuales'!AP88","v":"n.d."},{"$f":"'Datos mensuales'!AN88","v":1.36},{"$f":"'Datos mensuales'!AS88","v":7.8727},null,{"$f":"'Datos mensuales'!BJ88","v":6448.26},{"$f":"'Datos mensuales'!BK88","v":1291.03},{"$f":"'Datos mensuales'!BL88","v":740.74}]
[1997,"enero",{"$f":"'Datos mensuales'!D89","v":"n.d."},{"$f":"'Datos mensuales'!E89","v":6.3044035218176431},{"$f":"'Datos mensuales'!F89","v":"n.d."},{"$f":"'Datos mensuales'!G89","v":3.0440414507771947},{"$f":"'Datos mensuales'!I89","v":0.5976095617529823},{"$f":"'Datos mensuales'!J89","v":26.443194946196325},{"$f":"'Datos mensuales'!H89","v":2.0198398470180443},null,{"$f":"'Datos mensuales'!AW89","v":"n.d."},{"$f":"'Datos mensuales'!AX89","v":"n.d."},{"$f":"'Datos mensuales'!AY89","v":"n.d."},{"$f":"'Datos mensuales'!AU89","v":5.6795099999999996},{"$f":"'Datos mensuales'!AV89","v":"n.d."},{"$f":"'Datos mensuales'!AZ89","v":"n.d."},{"$f":"'Datos mensuales'!BA89","v":"n.d."},{"$f":"'Datos mensuales'!BB89","v":"n.d."},null,{"$f":"'Datos mensuales'!BC89","v":"n.d."},{"$f":"'Datos mensuales'!BD89","v":"n.d."},{"$f":"'Datos mensuales'!BE89","v":"n.d."},null,{"$f":"'Datos mensuales'!T89","v":25.13},{"$f":"'Datos mensuales'!U89","v":"n.d."},{"$f":"'Datos mensuales'!W89","v":"n.d."},{"$f":"'Datos mensuales'!AA89","v":"n.d."},{"$f":"'Datos mensuales'!Z89","v":"n.d."},{"$f":"'Datos mensuales'!AC89","v":"n.d."},{"$f":"'Datos mensuales'!AD89","v":"n.d."},null,{"$f":"'Datos mensuales'!AQ89","v":1.2162059999214647},{"$f":"'Datos mensuales'!AR89","v":118.02},{"$f":"'Datos mensuales'!AO89","v":"n.d."},{"$f":"'Datos mensuales'!AP89","v":"n.d."},{"$f":"'Datos mensuales'!AN89","v":1.35},{"$f":"'Datos mensuales'!AS89","v":7.827},null,{"$f":"'Datos mensuales'!BJ89","v":6813.08},{"$f":"'Datos mensuales'!BK89","v":1379.85},{"$f":"'Datos mensuales'!BL89","v":786.16}]
[null,"febrero",{"$f":"'Datos mensuales'!D90","v":"n.d."},{"$f":"'Datos mensuales'!E90","v":6.2383621298165446},{"$f":"'Datos mensuales'!F90","v":"n.d."},{"$f":"'Datos mensuales'!G90","v":3.0342156229825621},{"$f":"'Datos mensuales'!I90","v":0.59880239520957512},{"$f":"'Datos mensuales'!J90","v":25.635707840408863},{"$f":"'Datos mensuales'!H90","v":1.819479129504104},null,{"$f":"'Datos mensuales'!AW90","v":"n.d."},{"$f":"'Datos mensuales'!AX90","v":"n.d."},{"$f":"'Datos mensuales'!AY90","v":"n.d."},{"$f":"'Datos mensuales'!AU90","v":5.6011699999999998},{"$f":"'Datos mensuales'!AV90","v":"n.d."},{"$f":"'Datos mensuales'!AZ90","v":"n.d."},{"$f":"'Datos mensuales'!BA90","v":"n.d."},{"$f":"'Datos mensuales'!BB90","v":"n.d."},null,{"$f":"'Datos mensuales'!BC90","v":"n.d."},{"$f":"'Datos mensuales'!BD90","v":"n.d."},{"$f":"'Datos mensuales'!BE90","v":"n.d."},null,{"$f":"'Datos mensuales'!T90","v":22.18},{"$f":"'Datos mensuales'!U90","v":"n.d."},{"$f":"'Datos mensuales'!W90","v":"n.d."},{"$f":"'Datos mensuales'!AA90","v":"n.d."},{"$f":"'Datos mensuales'!Z90","v":"n.d."},{"$f":"'Datos mensuales'!AC90","v":"n.d."},{"$f":"'Datos mensuales'!AD90","v":"n.d."},null,{"$f":"'Datos mensuales'!AQ90","v":1.1657609997693168},{"$f":"'Datos mensuales'!AR90","v":123.01},{"$f":"'Datos mensuales'!AO90","v":"n.d."},{"$f":"'Datos mensuales'!AP90","v":"n.d."},{"$f":"'Datos mensuales'!AN90","v":1.36},{"$f":"'Datos mensuales'!AS90","v":7.8003},null,{"$f":"'Datos mensuales'!BJ90","v":6877.73},{"$f":"'Datos mensuales'!BK90","v":1309},{"$f":"'Datos mensuales'!BL90","v":790.82}]
[null,"marzo",{"$f":"'Datos mensuales'!D91","v":"n.d."},{"$f":"'Datos mensuales'!E91","v":5.9218305648624137},{"$f":"'Datos mensuales'!F91","v":"n.d."},{"$f":"'Datos mensuales'!G91","v":2.7617212588310931},{"$f":"'Datos mensuales'!I91","v":0.49800796812749004},{"$f":"'Datos mensuales'!J91","v":24.459449926299889},{"$f":"'Datos mensuales'!H91","v":1.6004742145821087},null,{"$f":"'Datos mensuales'!AW91","v":"n.d."},{"$f":"'Datos mensuales'!AX91","v":"n.d."},{"$f":"'Datos mensuales'!AY91","v":"n.d."},{"$f":"'Datos mensuales'!AU91","v":5.7841300000000002},{"$f":"'Datos mensuales'!AV91","v":"n.d."},{"$f":"'Datos mensuales'!AZ91","v":"n.d."},{"$f":"'Datos mensuales'!BA91","v":"n.d."},{"$f":"'Datos mensuales'!BB91","v":"n.d."},null,{"$f":"'Datos mensuales'!BC91","v":"n.d."},{"$f":"'Datos mensuales'!BD91","v":"n.d."},{"$f":"'Datos mensuales'!BE91","v":"n.d."},null,{"$f":"'Datos mensuales'!T91","v":20.97},{"$f":"'Datos mensuales'!U91","v":"n.d."},{"$f":"'Datos mensuales'!W91","v":"n.d."},{"$f":"'Datos mensuales'!AA91","v":"n.d."},{"$f":"'Datos mensuales'!Z91","v":"n.d."},{"$f":"'Datos mensuales'!AC91","v":"n.d."},{"$f":"'Datos mensuales'!AD91","v":"n.d."},null,{"$f":"'Datos mensuales'!AQ91","v":1.1497559994716458},{"$f":"'Datos mensuales'!AR91","v":122.64},{"$f":"'Datos mensuales'!AO91","v":"n.d."},{"$f":"'Datos mensuales'!AP91","v":"n.d."},{"$f":"'Datos mensuales'!AN91","v":1.37},{"$f":"'Datos mensuales'!AS91","v":7.9646999999999997},null,{"$f":"'Datos mensuales'!BJ91","v":6583.47},{"$f":"'Datos mensuales'!BK91","v":1221.7},{"$f":"'Datos mensuales'!BL91","v":757.12}]
[null,"abril ",{"$f":"'Datos mensuales'!D92","v":"n.d."},{"$f":"'Datos mensuales'!E92","v":5.5658766159437825},{"$f":"'Datos mensuales'!F92","v":"n.d."},{"$f":"'Datos mensuales'!G92","v":2.4952015355086226},{"$f":"'Datos mensuales'!I92","v":1.9801980198019802},{"$f":"'Datos mensuales'!J92","v":22.326632168914461},{"$f":"'Datos mensuales'!H92","v":1.3014671083767257},null,{"$f":"'Datos mensuales'!AW92","v":"n.d."},{"$f":"'Datos mensuales'!AX92","v":"n.d."},{"$f":"'Datos mensuales'!AY92","v":"n.d."},{"$f":"'Datos mensuales'!AU92","v":6.00746},{"$f":"'Datos mensuales'!AV92","v":"n.d."},{"$f":"'Datos mensuales'!AZ92","v":"n.d."},{"$f":"'Datos mensuales'!BA92","v":"n.d."},{"$f":"'Datos mensuales'!BB92","v":"n.d."},null,{"$f":"'Datos mensuales'!BC92","v":"n.d."},{"$f":"'Datos mensuales'!BD92","v":"n.d."},{"$f":"'Datos mensuales'!BE92","v":"n.d."},null,{"$f":"'Datos mensuales'!T92","v":19.7},{"$f":"'Datos mensuales'!U92","v":"n.d."},{"$f":"'Datos mensuales'!W92","v":"n.d."},{"$f":"'Datos mensuales'!AA92","v":"n.d."},{"$f":"'Datos mensuales'!Z92","v":"n.d."},{"$f":"'Datos mensuales'!AC92","v":"n.d."},{"$f":"'Datos mensuales'!AD92","v":"n.d."},null,{"$f":"'Datos mensuales'!AQ92","v":1.1450150001774086},{"$f":"'Datos mensuales'!AR92","v":125.51},{"$f":"'Datos mensuales'!AO92","v":"n.d."},{"$f":"'Datos mensuales'!AP92","v":"n.d."},{"$f":"'Datos mensuales'!AN92","v":1.39},{"$f":"'Datos mensuales'!AS92","v":7.9036999999999997},null,{"$f":"'Datos mensuales'!BJ92","v":7008.99},{"$f":"'Datos mensuales'!BK92","v":1260.76},{"$f":"'Datos mensuales'!BL92","v":801.34}]
[null,"mayo",{"$f":"'Datos mensuales'!D93","v":"n.d."},{"$f":"'Datos mensuales'!E93","v":5.7441583245455092},{"$f":"'Datos mensuales'!F93","v":"n.d."},{"$f":"'Datos mensuales'!G93","v":2.234993614303959},{"$f":"'Datos mensuales'!I93","v":1.9762845849802373},{"$f":"'Datos mensuales'!J93","v":21.233261425639256},{"$f":"'Datos mensuales'!H93","v":1.3933168024560243},null,{"$f":"'Datos mensuales'!AW93","v":"n.d."},{"$f":"'Datos mensuales'!AX93","v":"n.d."},{"$f":"'Datos mensuales'!AY93","v":"n.d."},{"$f":"'Datos mensuales'!AU93","v":5.9957000000000003},{"$f":"'Datos mensuales'!AV93","v":"n.d."},{"$f":"'Datos mensuales'!AZ93","v":"n.d."},{"$f":"'Datos mensuales'!BA93","v":"n.d."},{"$f":"'Datos mensuales'!BB93","v":"n.d."},null,{"$f":"'Datos mensuales'!BC93","v":"n.d."},{"$f":"'Datos mensuales'!BD93","v":"n.d."},{"$f":"'Datos mensuales'!BE93","v":"n.d."},null,{"$f":"'Datos mensuales'!T93","v":20.82},{"$f":"'Datos mensuales'!U93","v":"n.d."},{"$f":"'Datos mensuales'!W93","v":"n.d."},{"$f":"'Datos mensuales'!AA93","v":"n.d."},{"$f":"'Datos mensuales'!Z93","v":"n.d."},{"$f":"'Datos mensuales'!AC93","v":"n.d."},{"$f":"'Datos mensuales'!AD93","v":"n.d."},null,{"$f":"'Datos mensuales'!AQ93","v":1.1493409997075135},{"$f":"'Datos mensuales'!AR93","v":118.99},{"$f":"'Datos mensuales'!AO93","v":"n.d."},{"$f":"'Datos mensuales'!AP93","v":"n.d."},{"$f":"'Datos mensuales'!AN93","v":1.38},{"$f":"'Datos mensuales'!AS93","v":7.9057000000000004},null,{"$f":"'Datos mensuales'!BJ93","v":7331.04},{"$f":"'Datos mensuales'!BK93","v":1400.32},{"$f":"'Datos mensuales'!BL93","v":848.28}]
[null,"junio",{"$f":"'Datos mensuales'!D94","v":"n.d."},{"$f":"'Datos mensuales'!E94","v":5.5240814561979423},{"$f":"'Datos mensuales'!F94","v":"n.d."},{"$f":"'Datos mensuales'!G94","v":2.2973835354180108},{"$f":"'Datos mensuales'!I94","v":2.2794846382556959},{"$f":"'Datos mensuales'!J94","v":20.349193904604839},{"$f":"'Datos mensuales'!H94","v":1.3933168024560243},null,{"$f":"'Datos mensuales'!AW94","v":"n.d."},{"$f":"'Datos mensuales'!AX94","v":"n.d."},{"$f":"'Datos mensuales'!AY94","v":"n.d."},{"$f":"'Datos mensuales'!AU94","v":5.9107099999999999},{"$f":"'Datos mensuales'!AV94","v":"n.d."},{"$f":"'Datos mensuales'!AZ94","v":"n.d."},{"$f":"'Datos mensuales'!BA94","v":"n.d."},{"$f":"'Datos mensuales'!BB94","v":"n.d."},null,{"$f":"'Datos mensuales'!BC94","v":"n.d."},{"$f":"'Datos mensuales'!BD94","v":"n.d."},{"$f":"'Datos mensuales'!BE94","v":"n.d."},null,{"$f":"'Datos mensuales'!T94","v":19.260000000000002},{"$f":"'Datos mensuales'!U94","v":"n.d."},{"$f":"'Datos mensuales'!W94","v":"n.d."},{"$f":"'Datos mensuales'!AA94","v":"n.d."},{"$f":"'Datos mensuales'!Z94","v":"n.d."},{"$f":"'Datos mensuales'!AC94","v":"n.d."},{"$f":"'Datos mensuales'!AD94","v":"n.d."},null,{"$f":"'Datos mensuales'!AQ94","v":1.1366270005894024},{"$f":"'Datos mensuales'!AR94","v":117.2},{"$f":"'Datos mensuales'!AO94","v":"n.d."},{"$f":"'Datos mensuales'!AP94","v":"n.d."},{"$f":"'Datos mensuales'!AN94","v":1.38},{"$f":"'Datos mensuales'!AS94","v":7.9465000000000003},null,{"$f":"'Datos mensuales'!BJ94","v":7672.79},{"$f":"'Datos mensuales'!BK94","v":1442.07},{"$f":"'Datos mensuales'!BL94","v":885.14}]
[null,"julio",{"$f":"'Datos mensuales'!D95","v":"n.d."},{"$f":"'Datos mensuales'!E95","v":6.3665931060830712},{"$f":"'Datos mensuales'!F95","v":"n.d."},{"$f":"'Datos mensuales'!G95","v":2.2292993630573248},{"$f":"'Datos mensuales'!I95","v":1.984126984126984},{"$f":"'Datos mensuales'!J95","v":19.69613573980488},{"$f":"'Datos mensuales'!H95","v":1.4995867280670636},null,{"$f":"'Datos mensuales'!AW95","v":"n.d."},{"$f":"'Datos mensuales'!AX95","v":"n.d."},{"$f":"'Datos mensuales'!AY95","v":"n.d."},{"$f":"'Datos mensuales'!AU95","v":5.8432399999999998},{"$f":"'Datos mensuales'!AV95","v":"n.d."},{"$f":"'Datos mensuales'!AZ95","v":"n.d."},{"$f":"'Datos mensuales'!BA95","v":"n.d."},{"$f":"'Datos mensuales'!BB95","v":"n.d."},null,{"$f":"'Datos mensuales'!BC95","v":"n.d."},{"$f":"'Datos mensuales'!BD95","v":"n.d."},{"$f":"'Datos mensuales'!BE95","v":"n.d."},null,{"$f":"'Datos mensuales'!T95","v":19.66},{"$f":"'Datos mensuales'!U95","v":"n.d."},{"$f":"'Datos mensuales'!W95","v":"n.d."},{"$f":"'Datos mensuales'!AA95","v":"n.d."},{"$f":"'Datos mensuales'!Z95","v":"n.d."},{"$f":"'Datos mensuales'!AC95","v":"n.d."},{"$f":"'Datos mensuales'!AD95","v":"n.d."},null,{"$f":"'Datos mensuales'!AQ95","v":1.1049129997415288},{"$f":"'Datos mensuales'!AR95","v":115.16},{"$f":"'Datos mensuales'!AO95","v":"n.d."},{"$f":"'Datos mensuales'!AP95","v":"n.d."},{"$f":"'Datos mensuales'!AN95","v":1.38},{"$f":"'Datos mensuales'!AS95","v":7.8856999999999999},null,{"$f":"'Datos mensuales'!BJ95","v":8222.61},{"$f":"'Datos mensuales'!BK95","v":1593.81},{"$f":"'Datos mensuales'!BL95","v":954.29}]
[null,"agosto",{"$f":"'Datos mensuales'!D96","v":"n.d."},{"$f":"'Datos mensuales'!E96","v":6.2620671384474598},{"$f":"'Datos mensuales'!F96","v":"n.d."},{"$f":"'Datos mensuales'!G96","v":2.2250476795931338},{"$f":"'Datos mensuales'!I96","v":2.1847070506454842},{"$f":"'Datos mensuales'!J96","v":19.176409838149297},{"$f":"'Datos mensuales'!H96","v":1.7003188097768307},null,{"$f":"'Datos mensuales'!AW96","v":"n.d."},{"$f":"'Datos mensuales'!AX96","v":"n.d."},{"$f":"'Datos mensuales'!AY96","v":"n.d."},{"$f":"'Datos mensuales'!AU96","v":5.8350600000000004},{"$f":"'Datos mensuales'!AV96","v":"n.d."},{"$f":"'Datos mensuales'!AZ96","v":"n.d."},{"$f":"'Datos mensuales'!BA96","v":"n.d."},{"$f":"'Datos mensuales'!BB96","v":"n.d."},null,{"$f":"'Datos mensuales'!BC96","v":"n.d."},{"$f":"'Datos mensuales'!BD96","v":"n.d."},{"$f":"'Datos mensuales'!BE96","v":"n.d."},null,{"$f":"'Datos mensuales'!T96","v":19.95},{"$f":"'Datos mensuales'!U96","v":"n.d."},{"$f":"'Datos mensuales'!W96","v":"n.d."},{"$f":"'Datos mensuales'!AA96","v":"n.d."},{"$f":"'Datos mensuales'!Z96","v":"n.d."},{"$f":"'Datos mensuales'!AC96","v":"n.d."},{"$f":"'Datos mensuales'!AD96","v":"n.d."},null,{"$f":"'Datos mensuales'!AQ96","v":1.0727329998147079},{"$f":"'Datos mensuales'!AR96","v":117.9},{"$f":"'Datos mensuales'!AO96","v":"n.d."},{"$f":"'Datos mensuales'!AP96","v":"n.d."},{"$f":"'Datos mensuales'!AN96","v":1.39},{"$f":"'Datos mensuales'!AS96","v":7.7843},null,{"$f":"'Datos mensuales'!BJ96","v":7622.42},{"$f":"'Datos mensuales'!BK96","v":1587.32},{"$f":"'Datos mensuales'!BL96","v":899.47}]
[null,"septiembre",{"$f":"'Datos mensuales'!D97","v":"n.d."},{"$f":"'Datos mensuales'!E97","v":5.5505338962006538},{"$f":"'Datos mensuales'!F97","v":"n.d."},{"$f":"'Datos mensuales'!G97","v":2.154626108998718},{"$f":"'Datos mensuales'!I97","v":2.4727992087042532},{"$f":"'Datos mensuales'!J97","v":18.761877046669952},{"$f":"'Datos mensuales'!H97","v":1.5908555267499342},null,{"$f":"'Datos mensuales'!AW97","v":"n.d."},{"$f":"'Datos mensuales'!AX97","v":"n.d."},{"$f":"'Datos mensuales'!AY97","v":"n.d."},{"$f":"'Datos mensuales'!AU97","v":5.8359399999999999},{"$f":"'Datos mensuales'!AV97","v":"n.d."},{"$f":"'Datos mensuales'!AZ97","v":"n.d."},{"$f":"'Datos mensuales'!BA97","v":"n.d."},{"$f":"'Datos mensuales'!BB97","v":"n.d."},null,{"$f":"'Datos mensuales'!BC97","v":"n.d."},{"$f":"'Datos mensuales'!BD97","v":"n.d."},{"$f":"'Datos mensuales'!BE97","v":"n.d."},null,{"$f":"'Datos mensuales'!T97","v":19.8},{"$f":"'Datos mensuales'!U97","v":"n.d."},{"$f":"'Datos mensuales'!W97","v":"n.d."},{"$f":"'Datos mensuales'!AA97","v":"n.d."},{"$f":"'Datos mensuales'!Z97","v":"n.d."},{"$f":"'Datos mensuales'!AC97","v":"n.d."},{"$f":"'Datos mensuales'!AD97","v":"n.d."},null,{"$f":"'Datos mensuales'!AQ97","v":1.0999150005486047},{"$f":"'Datos mensuales'!AR97","v":120.75},{"$f":"'Datos mensuales'!AO97","v":"n.d."},{"$f":"'Datos mensuales'!AP97","v":"n.d."},{"$f":"'Datos mensuales'!AN97","v":1.39},{"$f":"'Datos mensuales'!AS97","v":7.7792000000000003},null,{"$f":"'Datos mensuales'!BJ97","v":7945.25},{"$f":"'Datos mensuales'!BK97","v":1685.69},{"$f":"'Datos mensuales'!BL97","v":947.28}]
[null,"octubre",{"$f":"'Datos mensuales'!D98","v":"n.d."},{"$f":"'Datos mensuales'!E98","v":5.6014592782488632},{"$f":"'Datos mensuales'!F98","v":"n.d."},{"$f":"'Datos mensuales'!G98","v":2.0846493998736464},{"$f":"'Datos mensuales'!I98","v":2.5666337611056353},{"$f":"'Datos mensuales'!J98","v":18.235192642469098},{"$f":"'Datos mensuales'!H98","v":1.4951730633388227},null,{"$f":"'Datos mensuales'!AW98","v":"n.d."},{"$f":"'Datos mensuales'!AX98","v":"n.d."},{"$f":"'Datos mensuales'!AY98","v":"n.d."},{"$f":"'Datos mensuales'!AU98","v":5.8367899999999997},{"$f":"'Datos mensuales'!AV98","v":"n.d."},{"$f":"'Datos mensuales'!AZ98","v":"n.d."},{"$f":"'Datos mensuales'!BA98","v":"n.d."},{"$f":"'Datos mensuales'!BB98","v":"n.d."},null,{"$f":"'Datos mensuales'!BC98","v":"n.d."},{"$f":"'Datos mensuales'!BD98","v":"n.d."},{"$f":"'Datos mensuales'!BE98","v":"n.d."},null,{"$f":"'Datos mensuales'!T98","v":21.33},{"$f":"'Datos mensuales'!U98","v":"n.d."},{"$f":"'Datos mensuales'!W98","v":"n.d."},{"$f":"'Datos mensuales'!AA98","v":"n.d."},{"$f":"'Datos mensuales'!Z98","v":"n.d."},{"$f":"'Datos mensuales'!AC98","v":"n.d."},{"$f":"'Datos mensuales'!AD98","v":"n.d."},null,{"$f":"'Datos mensuales'!AQ98","v":1.1203180002029725},{"$f":"'Datos mensuales'!AR98","v":121.06},{"$f":"'Datos mensuales'!AO98","v":"n.d."},{"$f":"'Datos mensuales'!AP98","v":"n.d."},{"$f":"'Datos mensuales'!AN98","v":1.39},{"$f":"'Datos mensuales'!AS98","v":7.8113999999999999},null,{"$f":"'Datos mensuales'!BJ98","v":7442.08},{"$f":"'Datos mensuales'!BK98","v":1593.61},{"$f":"'Datos mensuales'!BL98","v":914.62}]
[null,"noviembre",{"$f":"'Datos mensuales'!D99","v":"n.d."},{"$f":"'Datos mensuales'!E99","v":5.3982100930319277},{"$f":"'Datos mensuales'!F99","v":"n.d."},{"$f":"'Datos mensuales'!G99","v":1.8284993694829796},{"$f":"'Datos mensuales'!I99","v":2.178217821782181},{"$f":"'Datos mensuales'!J99","v":17.773508919854322},{"$f":"'Datos mensuales'!H99","v":1.5893571933129367},null,{"$f":"'Datos mensuales'!AW99","v":"n.d."},{"$f":"'Datos mensuales'!AX99","v":"n.d."},{"$f":"'Datos mensuales'!AY99","v":"n.d."},{"$f":"'Datos mensuales'!AU99","v":5.88164},{"$f":"'Datos mensuales'!AV99","v":"n.d."},{"$f":"'Datos mensuales'!AZ99","v":"n.d."},{"$f":"'Datos mensuales'!BA99","v":"n.d."},{"$f":"'Datos mensuales'!BB99","v":"n.d."},null,{"$f":"'Datos mensuales'!BC99","v":"n.d."},{"$f":"'Datos mensuales'!BD99","v":"n.d."},{"$f":"'Datos mensuales'!BE99","v":"n.d."},null,{"$f":"'Datos mensuales'!T99","v":20.190000000000001},{"$f":"'Datos mensuales'!U99","v":"n.d."},{"$f":"'Datos mensuales'!W99","v":"n.d."},{"$f":"'Datos mensuales'!AA99","v":"n.d."},{"$f":"'Datos mensuales'!Z99","v":"n.d."},{"$f":"'Datos mensuales'!AC99","v":"n.d."},{"$f":"'Datos mensuales'!AD99","v":"n.d."},null,{"$f":"'Datos mensuales'!AQ99","v":1.1393679995891348},{"$f":"'Datos mensuales'!AR99","v":125.27},{"$f":"'Datos mensuales'!AO99","v":"n.d."},{"$f":"'Datos mensuales'!AP99","v":"n.d."},{"$f":"'Datos mensuales'!AN99","v":1.41},{"$f":"'Datos mensuales'!AS99","v":8.2837999999999994},null,{"$f":"'Datos mensuales'!BJ99","v":7823.12},{"$f":"'Datos mensuales'!BK99","v":1600.55},{"$f":"'Datos mensuales'!BL99","v":955.4}]
[null,"diciembre",{"$f":"'Datos mensuales'!D100","v":"n.d."},{"$f":"'Datos mensuales'!E100","v":5.1917698370787591},{"$f":"'Datos mensuales'!F100","v":"n.d."},{"$f":"'Datos mensuales'!G100","v":1.7023959646910576},{"$f":"'Datos mensuales'!I100","v":1.8793273986152381},{"$f":"'Datos mensuales'!J100","v":15.718506096949939},{"$f":"'Datos mensuales'!H100","v":1.4921865820702573},null,{"$f":"'Datos mensuales'!AW100","v":"n.d."},{"$f":"'Datos mensuales'!AX100","v":"n.d."},{"$f":"'Datos mensuales'!AY100","v":"n.d."},{"$f":"'Datos mensuales'!AU100","v":5.9185299999999996},{"$f":"'Datos mensuales'!AV100","v":"n.d."},{"$f":"'Datos mensuales'!AZ100","v":"n.d."},{"$f":"'Datos mensuales'!BA100","v":"n.d."},{"$f":"'Datos mensuales'!BB100","v":"n.d."},null,{"$f":"'Datos mensuales'!BC100","v":"n.d."},{"$f":"'Datos mensuales'!BD100","v":"n.d."},{"$f":"'Datos mensuales'!BE100","v":"n.d."},null,{"$f":"'Datos mensuales'!T100","v":18.329999999999998},{"$f":"'Datos mensuales'!U100","v":"n.d."},{"$f":"'Datos mensuales'!W100","v":"n.d."},{"$f":"'Datos mensuales'!AA100","v":"n.d."},{"$f":"'Datos mensuales'!Z100","v":"n.d."},{"$f":"'Datos mensuales'!AC100","v":"n.d."},{"$f":"'Datos mensuales'!AD100","v":"n.d."},null,{"$f":"'Datos mensuales'!AQ100","v":1.1115809998664647},{"$f":"'Datos mensuales'!AR100","v":129.38},{"$f":"'Datos mensuales'!AO100","v":"n.d."},{"$f":"'Datos mensuales'!AP100","v":"n.d."},{"$f":"'Datos mensuales'!AN100","v":1.43},{"$f":"'Datos mensuales'!AS100","v":8.0832999999999995},null,{"$f":"'Datos mensuales'!BJ100","v":7908.24},{"$f":"'Datos mensuales'!BK100","v":1570.35},{"$f":"'Datos mensuales'!BL100","v":970.43}]
[1998,"enero",{"$f":"'Datos mensuales'!D101","v":"n.d."},{"$f":"'Datos mensuales'!E101","v":5.3834548162081575},{"$f":"'Datos mensuales'!F101","v":"n.d."},{"$f":"'Datos mensuales'!G101","v":1.5713387806411061},{"$f":"'Datos mensuales'!I101","v":1.8811881188118866},{"$f":"'Datos mensuales'!J101","v":15.271892225329006},{"$f":"'Datos mensuales'!H101","v":1.0895032802249376},null,{"$f":"'Datos mensuales'!AW101","v":"n.d."},{"$f":"'Datos mensuales'!AX101","v":"n.d."},{"$f":"'Datos mensuales'!AY101","v":"n.d."},{"$f":"'Datos mensuales'!AU101","v":5.6599700000000004},{"$f":"'Datos mensuales'!AV101","v":"n.d."},{"$f":"'Datos mensuales'!AZ101","v":"n.d."},{"$f":"'Datos mensuales'!BA101","v":"n.d."},{"$f":"'Datos mensuales'!BB101","v":"n.d."},null,{"$f":"'Datos mensuales'!BC101","v":128.30000000000001},{"$f":"'Datos mensuales'!BD101","v":159.30000000000001},{"$f":"'Datos mensuales'!BE101","v":107.7},null,{"$f":"'Datos mensuales'!T101","v":16.72},{"$f":"'Datos mensuales'!U101","v":"n.d."},{"$f":"'Datos mensuales'!W101","v":"n.d."},{"$f":"'Datos mensuales'!AA101","v":"n.d."},{"$f":"'Datos mensuales'!Z101","v":"n.d."},{"$f":"'Datos mensuales'!AC101","v":"n.d."},{"$f":"'Datos mensuales'!AD101","v":"n.d."},null,{"$f":"'Datos mensuales'!AQ101","v":1.0877239996940669},{"$f":"'Datos mensuales'!AR101","v":129.44999999999999},{"$f":"'Datos mensuales'!AO101","v":"n.d."},{"$f":"'Datos mensuales'!AP101","v":"n.d."},{"$f":"'Datos mensuales'!AN101","v":1.44},{"$f":"'Datos mensuales'!AS101","v":8.1798000000000002},null,{"$f":"'Datos mensuales'!BJ101","v":7906.5},{"$f":"'Datos mensuales'!BK101","v":1619.36},{"$f":"'Datos mensuales'!BL101","v":980.28}]
[null,"febrero",{"$f":"'Datos mensuales'!D102","v":"n.d."},{"$f":"'Datos mensuales'!E102","v":4.6965479111904314},{"$f":"'Datos mensuales'!F102","v":"n.d."},{"$f":"'Datos mensuales'!G102","v":1.4411027568922379},{"$f":"'Datos mensuales'!I102","v":1.984126984126984},{"$f":"'Datos mensuales'!J102","v":15.351563432505463},{"$f":"'Datos mensuales'!H102","v":1.0861948142957167},null,{"$f":"'Datos mensuales'!AW102","v":"n.d."},{"$f":"'Datos mensuales'!AX102","v":"n.d."},{"$f":"'Datos mensuales'!AY102","v":"n.d."},{"$f":"'Datos mensuales'!AU102","v":5.6412100000000001},{"$f":"'Datos mensuales'!AV102","v":"n.d."},{"$f":"'Datos mensuales'!AZ102","v":"n.d."},{"$f":"'Datos mensuales'!BA102","v":"n.d."},{"$f":"'Datos mensuales'!BB102","v":"n.d."},null,{"$f":"'Datos mensuales'!BC102","v":137.4},{"$f":"'Datos mensuales'!BD102","v":171.8},{"$f":"'Datos mensuales'!BE102","v":114.5},null,{"$f":"'Datos mensuales'!T102","v":16.059999999999999},{"$f":"'Datos mensuales'!U102","v":"n.d."},{"$f":"'Datos mensuales'!W102","v":"n.d."},{"$f":"'Datos mensuales'!AA102","v":"n.d."},{"$f":"'Datos mensuales'!Z102","v":"n.d."},{"$f":"'Datos mensuales'!AC102","v":"n.d."},{"$f":"'Datos mensuales'!AD102","v":"n.d."},null,{"$f":"'Datos mensuales'!AQ102","v":1.0884459997520237},{"$f":"'Datos mensuales'!AR102","v":126},{"$f":"'Datos mensuales'!AO102","v":"n.d."},{"$f":"'Datos mensuales'!AP102","v":"n.d."},{"$f":"'Datos mensuales'!AN102","v":1.43},{"$f":"'Datos mensuales'!AS102","v":8.4931999999999999},null,{"$f":"'Datos mensuales'!BJ102","v":8545.7099999999991},{"$f":"'Datos mensuales'!BK102","v":1770.51},{"$f":"'Datos mensuales'!BL102","v":1049.3399999999999}]
[null,"marzo",{"$f":"'Datos mensuales'!D103","v":"n.d."},{"$f":"'Datos mensuales'!E103","v":4.7791020787544829},{"$f":"'Datos mensuales'!F103","v":"n.d."},{"$f":"'Datos mensuales'!G103","v":1.3749999999999929},{"$f":"'Datos mensuales'!I103","v":2.2794846382556959},{"$f":"'Datos mensuales'!J103","v":15.268247037829081},{"$f":"'Datos mensuales'!H103","v":1.0851808634772375},null,{"$f":"'Datos mensuales'!AW103","v":"n.d."},{"$f":"'Datos mensuales'!AX103","v":"n.d."},{"$f":"'Datos mensuales'!AY103","v":"n.d."},{"$f":"'Datos mensuales'!AU103","v":5.7137799999999999},{"$f":"'Datos mensuales'!AV103","v":"n.d."},{"$f":"'Datos mensuales'!AZ103","v":"n.d."},{"$f":"'Datos mensuales'!BA103","v":"n.d."},{"$f":"'Datos mensuales'!BB103","v":"n.d."},null,{"$f":"'Datos mensuales'!BC103","v":133.80000000000001},{"$f":"'Datos mensuales'!BD103","v":172.7},{"$f":"'Datos mensuales'!BE103","v":107.9},null,{"$f":"'Datos mensuales'!T103","v":15.12},{"$f":"'Datos mensuales'!U103","v":"n.d."},{"$f":"'Datos mensuales'!W103","v":"n.d."},{"$f":"'Datos mensuales'!AA103","v":"n.d."},{"$f":"'Datos mensuales'!Z103","v":"n.d."},{"$f":"'Datos mensuales'!AC103","v":"n.d."},{"$f":"'Datos mensuales'!AD103","v":"n.d."},null,{"$f":"'Datos mensuales'!AQ103","v":1.0843299998611082},{"$f":"'Datos mensuales'!AR103","v":128.69},{"$f":"'Datos mensuales'!AO103","v":"n.d."},{"$f":"'Datos mensuales'!AP103","v":"n.d."},{"$f":"'Datos mensuales'!AN103","v":1.42},{"$f":"'Datos mensuales'!AS103","v":8.5688999999999993},null,{"$f":"'Datos mensuales'!BJ103","v":8799.7999999999993},{"$f":"'Datos mensuales'!BK103","v":1835.68},{"$f":"'Datos mensuales'!BL103","v":1101.75}]
[null,"abril ",{"$f":"'Datos mensuales'!D104","v":"n.d."},{"$f":"'Datos mensuales'!E104","v":4.7364077763064536},{"$f":"'Datos mensuales'!F104","v":"n.d."},{"$f":"'Datos mensuales'!G104","v":1.435705368289645},{"$f":"'Datos mensuales'!I104","v":0.38834951456311234},{"$f":"'Datos mensuales'!J104","v":15.103187741078141},{"$f":"'Datos mensuales'!H104","v":1.3781826676010192},null,{"$f":"'Datos mensuales'!AW104","v":"n.d."},{"$f":"'Datos mensuales'!AX104","v":"n.d."},{"$f":"'Datos mensuales'!AY104","v":"n.d."},{"$f":"'Datos mensuales'!AU104","v":5.6689499999999997},{"$f":"'Datos mensuales'!AV104","v":"n.d."},{"$f":"'Datos mensuales'!AZ104","v":"n.d."},{"$f":"'Datos mensuales'!BA104","v":"n.d."},{"$f":"'Datos mensuales'!BB104","v":"n.d."},null,{"$f":"'Datos mensuales'!BC104","v":137.19999999999999},{"$f":"'Datos mensuales'!BD104","v":169.3},{"$f":"'Datos mensuales'!BE104","v":115.8},null,{"$f":"'Datos mensuales'!T104","v":15.35},{"$f":"'Datos mensuales'!U104","v":"n.d."},{"$f":"'Datos mensuales'!W104","v":"n.d."},{"$f":"'Datos mensuales'!AA104","v":"n.d."},{"$f":"'Datos mensuales'!Z104","v":"n.d."},{"$f":"'Datos mensuales'!AC104","v":"n.d."},{"$f":"'Datos mensuales'!AD104","v":"n.d."},null,{"$f":"'Datos mensuales'!AQ104","v":1.0910609995304303},{"$f":"'Datos mensuales'!AR104","v":131.66999999999999},{"$f":"'Datos mensuales'!AO104","v":"n.d."},{"$f":"'Datos mensuales'!AP104","v":"n.d."},{"$f":"'Datos mensuales'!AN104","v":1.43},{"$f":"'Datos mensuales'!AS104","v":8.4995999999999992},null,{"$f":"'Datos mensuales'!BJ104","v":9063.36},{"$f":"'Datos mensuales'!BK104","v":1868.41},{"$f":"'Datos mensuales'!BL104","v":1111.75}]
[null,"mayo",{"$f":"'Datos mensuales'!D105","v":"n.d."},{"$f":"'Datos mensuales'!E105","v":4.5407172975608781},{"$f":"'Datos mensuales'!F105","v":"n.d."},{"$f":"'Datos mensuales'!G105","v":1.686445971267968},{"$f":"'Datos mensuales'!I105","v":0.48449612403100772},{"$f":"'Datos mensuales'!J105","v":14.970764579800889},{"$f":"'Datos mensuales'!H105","v":1.2810061721206407},null,{"$f":"'Datos mensuales'!AW105","v":"n.d."},{"$f":"'Datos mensuales'!AX105","v":"n.d."},{"$f":"'Datos mensuales'!AY105","v":"n.d."},{"$f":"'Datos mensuales'!AU105","v":5.7654199999999998},{"$f":"'Datos mensuales'!AV105","v":"n.d."},{"$f":"'Datos mensuales'!AZ105","v":"n.d."},{"$f":"'Datos mensuales'!BA105","v":"n.d."},{"$f":"'Datos mensuales'!BB105","v":"n.d."},null,{"$f":"'Datos mensuales'!BC105","v":136.30000000000001},{"$f":"'Datos mensuales'!BD105","v":170.9},{"$f":"'Datos mensuales'!BE105","v":113.3},null,{"$f":"'Datos mensuales'!T105","v":14.91},{"$f":"'Datos mensuales'!U105","v":"n.d."},{"$f":"'Datos mensuales'!W105","v":"n.d."},{"$f":"'Datos mensuales'!AA105","v":"n.d."},{"$f":"'Datos mensuales'!Z105","v":"n.d."},{"$f":"'Datos mensuales'!AC105","v":"n.d."},{"$f":"'Datos mensuales'!AD105","v":"n.d."},null,{"$f":"'Datos mensuales'!AQ105","v":1.1090449997093637},{"$f":"'Datos mensuales'!AR105","v":135},{"$f":"'Datos mensuales'!AO105","v":"n.d."},{"$f":"'Datos mensuales'!AP105","v":"n.d."},{"$f":"'Datos mensuales'!AN105","v":1.45},{"$f":"'Datos mensuales'!AS105","v":8.5611999999999995},null,{"$f":"'Datos mensuales'!BJ105","v":8899.9500000000007},{"$f":"'Datos mensuales'!BK105","v":1778.87},{"$f":"'Datos mensuales'!BL105","v":1090.82}]
[null,"junio",{"$f":"'Datos mensuales'!D106","v":"n.d."},{"$f":"'Datos mensuales'!E106","v":3.9929877380691527},{"$f":"'Datos mensuales'!F106","v":"n.d."},{"$f":"'Datos mensuales'!G106","v":1.6843418590143409},{"$f":"'Datos mensuales'!I106","v":9.6899224806196046E-2},{"$f":"'Datos mensuales'!J106","v":15.306614490228867},{"$f":"'Datos mensuales'!H106","v":1.3858157680214251},null,{"$f":"'Datos mensuales'!AW106","v":"n.d."},{"$f":"'Datos mensuales'!AX106","v":"n.d."},{"$f":"'Datos mensuales'!AY106","v":"n.d."},{"$f":"'Datos mensuales'!AU106","v":5.7460899999999997},{"$f":"'Datos mensuales'!AV106","v":"n.d."},{"$f":"'Datos mensuales'!AZ106","v":"n.d."},{"$f":"'Datos mensuales'!BA106","v":"n.d."},{"$f":"'Datos mensuales'!BB106","v":"n.d."},null,{"$f":"'Datos mensuales'!BC106","v":138.19999999999999},{"$f":"'Datos mensuales'!BD106","v":171.3},{"$f":"'Datos mensuales'!BE106","v":116.2},null,{"$f":"'Datos mensuales'!T106","v":13.72},{"$f":"'Datos mensuales'!U106","v":"n.d."},{"$f":"'Datos mensuales'!W106","v":"n.d."},{"$f":"'Datos mensuales'!AA106","v":"n.d."},{"$f":"'Datos mensuales'!Z106","v":"n.d."},{"$f":"'Datos mensuales'!AC106","v":"n.d."},{"$f":"'Datos mensuales'!AD106","v":"n.d."},null,{"$f":"'Datos mensuales'!AQ106","v":1.1014059999393633},{"$f":"'Datos mensuales'!AR106","v":140.57},{"$f":"'Datos mensuales'!AO106","v":"n.d."},{"$f":"'Datos mensuales'!AP106","v":"n.d."},{"$f":"'Datos mensuales'!AN106","v":1.47},{"$f":"'Datos mensuales'!AS106","v":8.8994},null,{"$f":"'Datos mensuales'!BJ106","v":8952.01},{"$f":"'Datos mensuales'!BK106","v":1894.74},{"$f":"'Datos mensuales'!BL106","v":1133.8399999999999}]
[null,"julio",{"$f":"'Datos mensuales'!D107","v":"n.d."},{"$f":"'Datos mensuales'!E107","v":3.1692770116354989},{"$f":"'Datos mensuales'!F107","v":"n.d."},{"$f":"'Datos mensuales'!G107","v":1.6822429906541985},{"$f":"'Datos mensuales'!I107","v":-9.7276264591434167E-2},{"$f":"'Datos mensuales'!J107","v":15.412982717086225},{"$f":"'Datos mensuales'!H107","v":1.2796649604467294},null,{"$f":"'Datos mensuales'!AW107","v":"n.d."},{"$f":"'Datos mensuales'!AX107","v":"n.d."},{"$f":"'Datos mensuales'!AY107","v":"n.d."},{"$f":"'Datos mensuales'!AU107","v":5.75136},{"$f":"'Datos mensuales'!AV107","v":"n.d."},{"$f":"'Datos mensuales'!AZ107","v":"n.d."},{"$f":"'Datos mensuales'!BA107","v":"n.d."},{"$f":"'Datos mensuales'!BB107","v":"n.d."},null,{"$f":"'Datos mensuales'!BC107","v":137.19999999999999},{"$f":"'Datos mensuales'!BD107","v":172.9},{"$f":"'Datos mensuales'!BE107","v":113.4},null,{"$f":"'Datos mensuales'!T107","v":14.17},{"$f":"'Datos mensuales'!U107","v":"n.d."},{"$f":"'Datos mensuales'!W107","v":"n.d."},{"$f":"'Datos mensuales'!AA107","v":"n.d."},{"$f":"'Datos mensuales'!Z107","v":"n.d."},{"$f":"'Datos mensuales'!AC107","v":"n.d."},{"$f":"'Datos mensuales'!AD107","v":"n.d."},null,{"$f":"'Datos mensuales'!AQ107","v":1.0975000002496813},{"$f":"'Datos mensuales'!AR107","v":140.72999999999999},{"$f":"'Datos mensuales'!AO107","v":"n.d."},{"$f":"'Datos mensuales'!AP107","v":"n.d."},{"$f":"'Datos mensuales'!AN107","v":1.49},{"$f":"'Datos mensuales'!AS107","v":8.9039999999999999},null,{"$f":"'Datos mensuales'!BJ107","v":8883.2900000000009},{"$f":"'Datos mensuales'!BK107","v":1872.39},{"$f":"'Datos mensuales'!BL107","v":1120.67}]
[null,"agosto",{"$f":"'Datos mensuales'!D108","v":"n.d."},{"$f":"'Datos mensuales'!E108","v":2.8142146169173863},{"$f":"'Datos mensuales'!F108","v":"n.d."},{"$f":"'Datos mensuales'!G108","v":1.6169154228855687},{"$f":"'Datos mensuales'!I108","v":-0.29154518950438418},{"$f":"'Datos mensuales'!J108","v":15.495557302521004},{"$f":"'Datos mensuales'!H108","v":1.0797631487286738},null,{"$f":"'Datos mensuales'!AW108","v":"n.d."},{"$f":"'Datos mensuales'!AX108","v":"n.d."},{"$f":"'Datos mensuales'!AY108","v":"n.d."},{"$f":"'Datos mensuales'!AU108","v":5.7140599999999999},{"$f":"'Datos mensuales'!AV108","v":"n.d."},{"$f":"'Datos mensuales'!AZ108","v":"n.d."},{"$f":"'Datos mensuales'!BA108","v":"n.d."},{"$f":"'Datos mensuales'!BB108","v":"n.d."},null,{"$f":"'Datos mensuales'!BC108","v":133.1},{"$f":"'Datos mensuales'!BD108","v":172.6},{"$f":"'Datos mensuales'!BE108","v":106.8},null,{"$f":"'Datos mensuales'!T108","v":13.47},{"$f":"'Datos mensuales'!U108","v":"n.d."},{"$f":"'Datos mensuales'!W108","v":"n.d."},{"$f":"'Datos mensuales'!AA108","v":"n.d."},{"$f":"'Datos mensuales'!Z108","v":"n.d."},{"$f":"'Datos mensuales'!AC108","v":"n.d."},{"$f":"'Datos mensuales'!AD108","v":"n.d."},null,{"$f":"'Datos mensuales'!AQ108","v":1.1015660001054817},{"$f":"'Datos mensuales'!AR108","v":144.65},{"$f":"'Datos mensuales'!AO108","v":"n.d."},{"$f":"'Datos mensuales'!AP108","v":"n.d."},{"$f":"'Datos mensuales'!AN108","v":1.54},{"$f":"'Datos mensuales'!AS108","v":9.2596000000000007},null,{"$f":"'Datos mensuales'!BJ108","v":7539.06},{"$f":"'Datos mensuales'!BK108","v":1499.25},{"$f":"'Datos mensuales'!BL108","v":957.28}]
[null,"septiembre",{"$f":"'Datos mensuales'!D109","v":"n.d."},{"$f":"'Datos mensuales'!E109","v":2.5418066495393443},{"$f":"'Datos mensuales'!F109","v":"n.d."},{"$f":"'Datos mensuales'!G109","v":1.4888337468982666},{"$f":"'Datos mensuales'!I109","v":-0.19305019305018209},{"$f":"'Datos mensuales'!J109","v":15.924923891317253},{"$f":"'Datos mensuales'!H109","v":0.98596450527782009},null,{"$f":"'Datos mensuales'!AW109","v":"n.d."},{"$f":"'Datos mensuales'!AX109","v":"n.d."},{"$f":"'Datos mensuales'!AY109","v":"n.d."},{"$f":"'Datos mensuales'!AU109","v":5.4114599999999999},{"$f":"'Datos mensuales'!AV109","v":"n.d."},{"$f":"'Datos mensuales'!AZ109","v":"n.d."},{"$f":"'Datos mensuales'!BA109","v":"n.d."},{"$f":"'Datos mensuales'!BB109","v":"n.d."},null,{"$f":"'Datos mensuales'!BC109","v":126.4},{"$f":"'Datos mensuales'!BD109","v":170.7},{"$f":"'Datos mensuales'!BE109","v":96.8},null,{"$f":"'Datos mensuales'!T109","v":15.03},{"$f":"'Datos mensuales'!U109","v":"n.d."},{"$f":"'Datos mensuales'!W109","v":"n.d."},{"$f":"'Datos mensuales'!AA109","v":"n.d."},{"$f":"'Datos mensuales'!Z109","v":"n.d."},{"$f":"'Datos mensuales'!AC109","v":"n.d."},{"$f":"'Datos mensuales'!AD109","v":"n.d."},null,{"$f":"'Datos mensuales'!AQ109","v":1.1541249997678766},{"$f":"'Datos mensuales'!AR109","v":134.59},{"$f":"'Datos mensuales'!AO109","v":"n.d."},{"$f":"'Datos mensuales'!AP109","v":"n.d."},{"$f":"'Datos mensuales'!AN109","v":1.52},{"$f":"'Datos mensuales'!AS109","v":10.215400000000001},null,{"$f":"'Datos mensuales'!BJ109","v":7842.62},{"$f":"'Datos mensuales'!BK109","v":1693.84},{"$f":"'Datos mensuales'!BL109","v":1017.01}]
[null,"octubre",{"$f":"'Datos mensuales'!D110","v":"n.d."},{"$f":"'Datos mensuales'!E110","v":8.6833923119301895E-2},{"$f":"'Datos mensuales'!F110","v":"n.d."},{"$f":"'Datos mensuales'!G110","v":1.4851485148514887},{"$f":"'Datos mensuales'!I110","v":0.192492781520682},{"$f":"'Datos mensuales'!J110","v":16.653843421797131},{"$f":"'Datos mensuales'!H110","v":0.88156826354251849},null,{"$f":"'Datos mensuales'!AW110","v":"n.d."},{"$f":"'Datos mensuales'!AX110","v":"n.d."},{"$f":"'Datos mensuales'!AY110","v":"n.d."},{"$f":"'Datos mensuales'!AU110","v":5.0594599999999996},{"$f":"'Datos mensuales'!AV110","v":"n.d."},{"$f":"'Datos mensuales'!AZ110","v":"n.d."},{"$f":"'Datos mensuales'!BA110","v":"n.d."},{"$f":"'Datos mensuales'!BB110","v":"n.d."},null,{"$f":"'Datos mensuales'!BC110","v":119.3},{"$f":"'Datos mensuales'!BD110","v":165.2},{"$f":"'Datos mensuales'!BE110","v":88.7},null,{"$f":"'Datos mensuales'!T110","v":14.46},{"$f":"'Datos mensuales'!U110","v":"n.d."},{"$f":"'Datos mensuales'!W110","v":"n.d."},{"$f":"'Datos mensuales'!AA110","v":"n.d."},{"$f":"'Datos mensuales'!Z110","v":"n.d."},{"$f":"'Datos mensuales'!AC110","v":"n.d."},{"$f":"'Datos mensuales'!AD110","v":"n.d."},null,{"$f":"'Datos mensuales'!AQ110","v":1.1937550005949318},{"$f":"'Datos mensuales'!AR110","v":121.3},{"$f":"'Datos mensuales'!AO110","v":"n.d."},{"$f":"'Datos mensuales'!AP110","v":"n.d."},{"$f":"'Datos mensuales'!AN110","v":1.55},{"$f":"'Datos mensuales'!AS110","v":10.1523},null,{"$f":"'Datos mensuales'!BJ110","v":8592.11},{"$f":"'Datos mensuales'!BK110","v":1771.39},{"$f":"'Datos mensuales'!BL110","v":1098.67}]
[null,"noviembre",{"$f":"'Datos mensuales'!D111","v":"n.d."},{"$f":"'Datos mensuales'!E111","v":-0.69532473342777856},{"$f":"'Datos mensuales'!F111","v":"n.d."},{"$f":"'Datos mensuales'!G111","v":1.5479876160990713},{"$f":"'Datos mensuales'!I111","v":0.77519379844960956},{"$f":"'Datos mensuales'!J111","v":17.406267221905601},{"$f":"'Datos mensuales'!H111","v":0.78804032912271704},null,{"$f":"'Datos mensuales'!AW111","v":"n.d."},{"$f":"'Datos mensuales'!AX111","v":"n.d."},{"$f":"'Datos mensuales'!AY111","v":"n.d."},{"$f":"'Datos mensuales'!AU111","v":5.1502100000000004},{"$f":"'Datos mensuales'!AV111","v":"n.d."},{"$f":"'Datos mensuales'!AZ111","v":"n.d."},{"$f":"'Datos mensuales'!BA111","v":"n.d."},{"$f":"'Datos mensuales'!BB111","v":"n.d."},null,{"$f":"'Datos mensuales'!BC111","v":126.4},{"$f":"'Datos mensuales'!BD111","v":166.7},{"$f":"'Datos mensuales'!BE111","v":99.5},null,{"$f":"'Datos mensuales'!T111","v":13},{"$f":"'Datos mensuales'!U111","v":"n.d."},{"$f":"'Datos mensuales'!W111","v":"n.d."},{"$f":"'Datos mensuales'!AA111","v":"n.d."},{"$f":"'Datos mensuales'!Z111","v":"n.d."},{"$f":"'Datos mensuales'!AC111","v":"n.d."},{"$f":"'Datos mensuales'!AD111","v":"n.d."},null,{"$f":"'Datos mensuales'!AQ111","v":1.1644229993747444},{"$f":"'Datos mensuales'!AR111","v":120.58},{"$f":"'Datos mensuales'!AO111","v":"n.d."},{"$f":"'Datos mensuales'!AP111","v":"n.d."},{"$f":"'Datos mensuales'!AN111","v":1.54},{"$f":"'Datos mensuales'!AS111","v":9.9873999999999992},null,{"$f":"'Datos mensuales'!BJ111","v":9116.5499999999993},{"$f":"'Datos mensuales'!BK111","v":1949.54},{"$f":"'Datos mensuales'!BL111","v":1163.6300000000001}]
[null,"diciembre",{"$f":"'Datos mensuales'!D112","v":"n.d."},{"$f":"'Datos mensuales'!E112","v":-1.6454860691475974},{"$f":"'Datos mensuales'!F112","v":"n.d."},{"$f":"'Datos mensuales'!G112","v":1.6119032858028484},{"$f":"'Datos mensuales'!I112","v":0.58252427184465461},{"$f":"'Datos mensuales'!J112","v":18.609144141014742},{"$f":"'Datos mensuales'!H112","v":0.78721926371846129},null,{"$f":"'Datos mensuales'!AW112","v":"n.d."},{"$f":"'Datos mensuales'!AX112","v":"n.d."},{"$f":"'Datos mensuales'!AY112","v":"n.d."},{"$f":"'Datos mensuales'!AU112","v":5.0925599999999998},{"$f":"'Datos mensuales'!AV112","v":"n.d."},{"$f":"'Datos mensuales'!AZ112","v":"n.d."},{"$f":"'Datos mensuales'!BA112","v":"n.d."},{"$f":"'Datos mensuales'!BB112","v":"n.d."},null,{"$f":"'Datos mensuales'!BC112","v":126.7},{"$f":"'Datos mensuales'!BD112","v":168.6},{"$f":"'Datos mensuales'!BE112","v":98.7},null,{"$f":"'Datos mensuales'!T112","v":11.35},{"$f":"'Datos mensuales'!U112","v":"n.d."},{"$f":"'Datos mensuales'!W112","v":"n.d."},{"$f":"'Datos mensuales'!AA112","v":"n.d."},{"$f":"'Datos mensuales'!Z112","v":"n.d."},{"$f":"'Datos mensuales'!AC112","v":"n.d."},{"$f":"'Datos mensuales'!AD112","v":"n.d."},null,{"$f":"'Datos mensuales'!AQ112","v":1.1721220004450055},{"$f":"'Datos mensuales'!AR112","v":117.62},{"$f":"'Datos mensuales'!AO112","v":"n.d."},{"$f":"'Datos mensuales'!AP112","v":"n.d."},{"$f":"'Datos mensuales'!AN112","v":1.54},{"$f":"'Datos mensuales'!AS112","v":9.9116999999999997},null,{"$f":"'Datos mensuales'!BJ112","v":9181.43},{"$f":"'Datos mensuales'!BK112","v":2192.69},{"$f":"'Datos mensuales'!BL112","v":1229.23}]
[1999,"enero",{"$f":"'Datos mensuales'!D113","v":"n.d."},{"$f":"'Datos mensuales'!E113","v":-1.039352217687576},{"$f":"'Datos mensuales'!F113","v":"n.d."},{"$f":"'Datos mensuales'!G113","v":1.6707920792079314},{"$f":"'Datos mensuales'!I113","v":0.19436345966957105},{"$f":"'Datos mensuales'!J113","v":19.015000000001137},{"$f":"'Datos mensuales'!H113","v":0.78804032912271704},null,{"$f":"'Datos mensuales'!AW113","v":"n.d."},{"$f":"'Datos mensuales'!AX113","v":"n.d."},{"$f":"'Datos mensuales'!AY113","v":"n.d."},{"$f":"'Datos mensuales'!AU113","v":5.0120399999999998},{"$f":"'Datos mensuales'!AV113","v":"n.d."},{"$f":"'Datos mensuales'!AZ113","v":"n.d."},{"$f":"'Datos mensuales'!BA113","v":"n.d."},{"$f":"'Datos mensuales'!BB113","v":"n.d."},null,{"$f":"'Datos mensuales'!BC113","v":128.9},{"$f":"'Datos mensuales'!BD113","v":172.9},{"$f":"'Datos mensuales'!BE113","v":99.6},null,{"$f":"'Datos mensuales'!T113","v":12.52},{"$f":"'Datos mensuales'!U113","v":"n.d."},{"$f":"'Datos mensuales'!W113","v":"n.d."},{"$f":"'Datos mensuales'!AA113","v":"n.d."},{"$f":"'Datos mensuales'!Z113","v":"n.d."},{"$f":"'Datos mensuales'!AC113","v":"n.d."},{"$f":"'Datos mensuales'!AD113","v":"n.d."},null,{"$f":"'Datos mensuales'!AQ113","v":1.1607799999574691},{"$f":"'Datos mensuales'!AR113","v":113.18349999999998},{"$f":"'Datos mensuales'!AO113","v":"n.d."},{"$f":"'Datos mensuales'!AP113","v":"n.d."},{"$f":"'Datos mensuales'!AN113","v":1.52},{"$f":"'Datos mensuales'!AS113","v":10.1104},null,{"$f":"'Datos mensuales'!BJ113","v":9358.82},{"$f":"'Datos mensuales'!BK113","v":2505.89},{"$f":"'Datos mensuales'!BL113","v":1279.6400000000001}]
[null,"febrero",{"$f":"'Datos mensuales'!D114","v":"n.d."},{"$f":"'Datos mensuales'!E114","v":-1.7250484069705991},{"$f":"'Datos mensuales'!F114","v":"n.d."},{"$f":"'Datos mensuales'!G114","v":1.6059295861642953},{"$f":"'Datos mensuales'!I114","v":-9.7276264591434167E-2},{"$f":"'Datos mensuales'!J114","v":18.53915105719927},{"$f":"'Datos mensuales'!H114","v":0.78567302137493578},null,{"$f":"'Datos mensuales'!AW114","v":"n.d."},{"$f":"'Datos mensuales'!AX114","v":"n.d."},{"$f":"'Datos mensuales'!AY114","v":"n.d."},{"$f":"'Datos mensuales'!AU114","v":5.0485499999999996},{"$f":"'Datos mensuales'!AV114","v":"n.d."},{"$f":"'Datos mensuales'!AZ114","v":"n.d."},{"$f":"'Datos mensuales'!BA114","v":"n.d."},{"$f":"'Datos mensuales'!BB114","v":"n.d."},null,{"$f":"'Datos mensuales'!BC114","v":133.1},{"$f":"'Datos mensuales'!BD114","v":177.7},{"$f":"'Datos mensuales'!BE114","v":103.4},null,{"$f":"'Datos mensuales'!T114","v":12.01},{"$f":"'Datos mensuales'!U114","v":"n.d."},{"$f":"'Datos mensuales'!W114","v":"n.d."},{"$f":"'Datos mensuales'!AA114","v":"n.d."},{"$f":"'Datos mensuales'!Z114","v":"n.d."},{"$f":"'Datos mensuales'!AC114","v":"n.d."},{"$f":"'Datos mensuales'!AD114","v":"n.d."},null,{"$f":"'Datos mensuales'!AQ114","v":1.1207649997589346},{"$f":"'Datos mensuales'!AR114","v":116.66349999999997},{"$f":"'Datos mensuales'!AO114","v":"n.d."},{"$f":"'Datos mensuales'!AP114","v":"n.d."},{"$f":"'Datos mensuales'!AN114","v":1.5},{"$f":"'Datos mensuales'!AS114","v":10.015000000000001},null,{"$f":"'Datos mensuales'!BJ114","v":9306.57},{"$f":"'Datos mensuales'!BK114","v":2288.0300000000002},{"$f":"'Datos mensuales'!BL114","v":1238.33}]
[null,"marzo",{"$f":"'Datos mensuales'!D115","v":"n.d."},{"$f":"'Datos mensuales'!E115","v":-2.5818017168888985},{"$f":"'Datos mensuales'!F115","v":"n.d."},{"$f":"'Datos mensuales'!G115","v":1.7262638717632623},{"$f":"'Datos mensuales'!I115","v":-0.38759689922481172},{"$f":"'Datos mensuales'!J115","v":18.255208012288076},{"$f":"'Datos mensuales'!H115","v":0.9811843472238353},null,{"$f":"'Datos mensuales'!AW115","v":"n.d."},{"$f":"'Datos mensuales'!AX115","v":"n.d."},{"$f":"'Datos mensuales'!AY115","v":"n.d."},{"$f":"'Datos mensuales'!AU115","v":5.0946100000000003},{"$f":"'Datos mensuales'!AV115","v":"n.d."},{"$f":"'Datos mensuales'!AZ115","v":"n.d."},{"$f":"'Datos mensuales'!BA115","v":"n.d."},{"$f":"'Datos mensuales'!BB115","v":"n.d."},null,{"$f":"'Datos mensuales'!BC115","v":134},{"$f":"'Datos mensuales'!BD115","v":176.6},{"$f":"'Datos mensuales'!BE115","v":105.5},null,{"$f":"'Datos mensuales'!T115","v":14.68},{"$f":"'Datos mensuales'!U115","v":"n.d."},{"$f":"'Datos mensuales'!W115","v":"n.d."},{"$f":"'Datos mensuales'!AA115","v":"n.d."},{"$f":"'Datos mensuales'!Z115","v":"n.d."},{"$f":"'Datos mensuales'!AC115","v":"n.d."},{"$f":"'Datos mensuales'!AD115","v":"n.d."},null,{"$f":"'Datos mensuales'!AQ115","v":1.0882960000047277},{"$f":"'Datos mensuales'!AR115","v":119.78},{"$f":"'Datos mensuales'!AO115","v":"n.d."},{"$f":"'Datos mensuales'!AP115","v":"n.d."},{"$f":"'Datos mensuales'!AN115","v":1.52},{"$f":"'Datos mensuales'!AS115","v":9.7693999999999992},null,{"$f":"'Datos mensuales'!BJ115","v":9786.16},{"$f":"'Datos mensuales'!BK115","v":2461.4},{"$f":"'Datos mensuales'!BL115","v":1286.3699999999999}]
[null,"abril ",{"$f":"'Datos mensuales'!D116","v":"n.d."},{"$f":"'Datos mensuales'!E116","v":-3.7544663307375159},{"$f":"'Datos mensuales'!F116","v":"n.d."},{"$f":"'Datos mensuales'!G116","v":2.2769230769230697},{"$f":"'Datos mensuales'!I116","v":-9.6711798839466651E-2},{"$f":"'Datos mensuales'!J116","v":18.234254714950826},{"$f":"'Datos mensuales'!H116","v":1.0714285714285792},null,{"$f":"'Datos mensuales'!AW116","v":"n.d."},{"$f":"'Datos mensuales'!AX116","v":"n.d."},{"$f":"'Datos mensuales'!AY116","v":"n.d."},{"$f":"'Datos mensuales'!AU116","v":5.0511799999999996},{"$f":"'Datos mensuales'!AV116","v":"n.d."},{"$f":"'Datos mensuales'!AZ116","v":"n.d."},{"$f":"'Datos mensuales'!BA116","v":"n.d."},{"$f":"'Datos mensuales'!BB116","v":"n.d."},null,{"$f":"'Datos mensuales'!BC116","v":135.5},{"$f":"'Datos mensuales'!BD116","v":175.5},{"$f":"'Datos mensuales'!BE116","v":108.8},null,{"$f":"'Datos mensuales'!T116","v":17.309999999999999},{"$f":"'Datos mensuales'!U116","v":"n.d."},{"$f":"'Datos mensuales'!W116","v":"n.d."},{"$f":"'Datos mensuales'!AA116","v":"n.d."},{"$f":"'Datos mensuales'!Z116","v":"n.d."},{"$f":"'Datos mensuales'!AC116","v":"n.d."},{"$f":"'Datos mensuales'!AD116","v":"n.d."},null,{"$f":"'Datos mensuales'!AQ116","v":1.0704410005295997},{"$f":"'Datos mensuales'!AR116","v":119.81},{"$f":"'Datos mensuales'!AO116","v":"n.d."},{"$f":"'Datos mensuales'!AP116","v":"n.d."},{"$f":"'Datos mensuales'!AN116","v":1.49},{"$f":"'Datos mensuales'!AS116","v":9.4460999999999995},null,{"$f":"'Datos mensuales'!BJ116","v":10789.04},{"$f":"'Datos mensuales'!BK116","v":2542.85},{"$f":"'Datos mensuales'!BL116","v":1335.18}]
[null,"mayo",{"$f":"'Datos mensuales'!D117","v":"n.d."},{"$f":"'Datos mensuales'!E117","v":-4.0032560181458949},{"$f":"'Datos mensuales'!F117","v":"n.d."},{"$f":"'Datos mensuales'!G117","v":2.0884520884520743},{"$f":"'Datos mensuales'!I117","v":-0.38572806171649537},{"$f":"'Datos mensuales'!J117","v":18.005528994739439},{"$f":"'Datos mensuales'!H117","v":0.97734851098079145},null,{"$f":"'Datos mensuales'!AW117","v":"n.d."},{"$f":"'Datos mensuales'!AX117","v":"n.d."},{"$f":"'Datos mensuales'!AY117","v":"n.d."},{"$f":"'Datos mensuales'!AU117","v":5.1306599999999998},{"$f":"'Datos mensuales'!AV117","v":"n.d."},{"$f":"'Datos mensuales'!AZ117","v":"n.d."},{"$f":"'Datos mensuales'!BA117","v":"n.d."},{"$f":"'Datos mensuales'!BB117","v":"n.d."},null,{"$f":"'Datos mensuales'!BC117","v":137.69999999999999},{"$f":"'Datos mensuales'!BD117","v":177.2},{"$f":"'Datos mensuales'!BE117","v":111.3},null,{"$f":"'Datos mensuales'!T117","v":17.72},{"$f":"'Datos mensuales'!U117","v":"n.d."},{"$f":"'Datos mensuales'!W117","v":"n.d."},{"$f":"'Datos mensuales'!AA117","v":"n.d."},{"$f":"'Datos mensuales'!Z117","v":"n.d."},{"$f":"'Datos mensuales'!AC117","v":"n.d."},{"$f":"'Datos mensuales'!AD117","v":"n.d."},null,{"$f":"'Datos mensuales'!AQ117","v":1.0628099995571376},{"$f":"'Datos mensuales'!AR117","v":122.11},{"$f":"'Datos mensuales'!AO117","v":"n.d."},{"$f":"'Datos mensuales'!AP117","v":"n.d."},{"$f":"'Datos mensuales'!AN117","v":1.46},{"$f":"'Datos mensuales'!AS117","v":9.3622999999999994},null,{"$f":"'Datos mensuales'!BJ117","v":10559.75},{"$f":"'Datos mensuales'!BK117","v":2470.52},{"$f":"'Datos mensuales'!BL117","v":1301.8399999999999}]
[null,"junio",{"$f":"'Datos mensuales'!D118","v":"n.d."},{"$f":"'Datos mensuales'!E118","v":-4.0952817224003653},{"$f":"'Datos mensuales'!F118","v":"n.d."},{"$f":"'Datos mensuales'!G118","v":1.9631901840490729},{"$f":"'Datos mensuales'!I118","v":-0.29041626331074266},{"$f":"'Datos mensuales'!J118","v":17.393330381962432},{"$f":"'Datos mensuales'!H118","v":0.87296117620031111},null,{"$f":"'Datos mensuales'!AW118","v":"n.d."},{"$f":"'Datos mensuales'!AX118","v":"n.d."},{"$f":"'Datos mensuales'!AY118","v":"n.d."},{"$f":"'Datos mensuales'!AU118","v":5.3723299999999998},{"$f":"'Datos mensuales'!AV118","v":"n.d."},{"$f":"'Datos mensuales'!AZ118","v":"n.d."},{"$f":"'Datos mensuales'!BA118","v":"n.d."},{"$f":"'Datos mensuales'!BB118","v":"n.d."},null,{"$f":"'Datos mensuales'!BC118","v":139},{"$f":"'Datos mensuales'!BD118","v":175},{"$f":"'Datos mensuales'!BE118","v":114.9},null,{"$f":"'Datos mensuales'!T118","v":17.920000000000002},{"$f":"'Datos mensuales'!U118","v":"n.d."},{"$f":"'Datos mensuales'!W118","v":"n.d."},{"$f":"'Datos mensuales'!AA118","v":"n.d."},{"$f":"'Datos mensuales'!Z118","v":"n.d."},{"$f":"'Datos mensuales'!AC118","v":"n.d."},{"$f":"'Datos mensuales'!AD118","v":"n.d."},null,{"$f":"'Datos mensuales'!AQ118","v":1.0377550005314344},{"$f":"'Datos mensuales'!AR118","v":120.9},{"$f":"'Datos mensuales'!AO118","v":"n.d."},{"$f":"'Datos mensuales'!AP118","v":"n.d."},{"$f":"'Datos mensuales'!AN118","v":1.47},{"$f":"'Datos mensuales'!AS118","v":9.5418000000000003},null,{"$f":"'Datos mensuales'!BJ118","v":10970.81},{"$f":"'Datos mensuales'!BK118","v":2686.12},{"$f":"'Datos mensuales'!BL118","v":1372.71}]
[null,"julio",{"$f":"'Datos mensuales'!D119","v":"n.d."},{"$f":"'Datos mensuales'!E119","v":-5.4603756298671628},{"$f":"'Datos mensuales'!F119","v":"n.d."},{"$f":"'Datos mensuales'!G119","v":2.1446078431372548},{"$f":"'Datos mensuales'!I119","v":-9.7370983446941117E-2},{"$f":"'Datos mensuales'!J119","v":17.040631168807156},{"$f":"'Datos mensuales'!H119","v":1.0682288077188062},null,{"$f":"'Datos mensuales'!AW119","v":"n.d."},{"$f":"'Datos mensuales'!AX119","v":"n.d."},{"$f":"'Datos mensuales'!AY119","v":"n.d."},{"$f":"'Datos mensuales'!AU119","v":5.6097799999999998},{"$f":"'Datos mensuales'!AV119","v":"n.d."},{"$f":"'Datos mensuales'!AZ119","v":"n.d."},{"$f":"'Datos mensuales'!BA119","v":"n.d."},{"$f":"'Datos mensuales'!BB119","v":"n.d."},null,{"$f":"'Datos mensuales'!BC119","v":136.19999999999999},{"$f":"'Datos mensuales'!BD119","v":179.2},{"$f":"'Datos mensuales'!BE119","v":107.6},null,{"$f":"'Datos mensuales'!T119","v":20.100000000000001},{"$f":"'Datos mensuales'!U119","v":"n.d."},{"$f":"'Datos mensuales'!W119","v":"n.d."},{"$f":"'Datos mensuales'!AA119","v":"n.d."},{"$f":"'Datos mensuales'!Z119","v":"n.d."},{"$f":"'Datos mensuales'!AC119","v":"n.d."},{"$f":"'Datos mensuales'!AD119","v":"n.d."},null,{"$f":"'Datos mensuales'!AQ119","v":1.0352679997598053},{"$f":"'Datos mensuales'!AR119","v":119.86},{"$f":"'Datos mensuales'!AO119","v":"n.d."},{"$f":"'Datos mensuales'!AP119","v":"n.d."},{"$f":"'Datos mensuales'!AN119","v":1.49},{"$f":"'Datos mensuales'!AS119","v":9.3671000000000006},null,{"$f":"'Datos mensuales'!BJ119","v":10655.15},{"$f":"'Datos mensuales'!BK119","v":2638.49},{"$f":"'Datos mensuales'!BL119","v":1328.72}]
[null,"agosto",{"$f":"'Datos mensuales'!D120","v":"n.d."},{"$f":"'Datos mensuales'!E120","v":-6.1595833601234391},{"$f":"'Datos mensuales'!F120","v":"n.d."},{"$f":"'Datos mensuales'!G120","v":2.2643818849449135},{"$f":"'Datos mensuales'!I120","v":0.29239766081872454},{"$f":"'Datos mensuales'!J120","v":16.578689275903375},{"$f":"'Datos mensuales'!H120","v":1.1601194578451537},null,{"$f":"'Datos mensuales'!AW120","v":"n.d."},{"$f":"'Datos mensuales'!AX120","v":"n.d."},{"$f":"'Datos mensuales'!AY120","v":"n.d."},{"$f":"'Datos mensuales'!AU120","v":5.8553899999999999},{"$f":"'Datos mensuales'!AV120","v":"n.d."},{"$f":"'Datos mensuales'!AZ120","v":"n.d."},{"$f":"'Datos mensuales'!BA120","v":"n.d."},{"$f":"'Datos mensuales'!BB120","v":"n.d."},null,{"$f":"'Datos mensuales'!BC120","v":136},{"$f":"'Datos mensuales'!BD120","v":176.3},{"$f":"'Datos mensuales'!BE120","v":109.2},null,{"$f":"'Datos mensuales'!T120","v":21.28},{"$f":"'Datos mensuales'!U120","v":"n.d."},{"$f":"'Datos mensuales'!W120","v":"n.d."},{"$f":"'Datos mensuales'!AA120","v":"n.d."},{"$f":"'Datos mensuales'!Z120","v":"n.d."},{"$f":"'Datos mensuales'!AC120","v":"n.d."},{"$f":"'Datos mensuales'!AD120","v":"n.d."},null,{"$f":"'Datos mensuales'!AQ120","v":1.0603550005132489},{"$f":"'Datos mensuales'!AR120","v":113.4},{"$f":"'Datos mensuales'!AO120","v":"n.d."},{"$f":"'Datos mensuales'!AP120","v":"n.d."},{"$f":"'Datos mensuales'!AN120","v":1.49},{"$f":"'Datos mensuales'!AS120","v":9.3980999999999995},null,{"$f":"'Datos mensuales'!BJ120","v":10829.28},{"$f":"'Datos mensuales'!BK120","v":2739.35},{"$f":"'Datos mensuales'!BL120","v":1320.41}]
[null,"septiembre",{"$f":"'Datos mensuales'!D121","v":"n.d."},{"$f":"'Datos mensuales'!E121","v":-5.9827098858338585},{"$f":"'Datos mensuales'!F121","v":"n.d."},{"$f":"'Datos mensuales'!G121","v":2.6283618581907158},{"$f":"'Datos mensuales'!I121","v":-0.19342359767891956},{"$f":"'Datos mensuales'!J121","v":15.826566390315666},{"$f":"'Datos mensuales'!H121","v":1.1601194578451537},null,{"$f":"'Datos mensuales'!AW121","v":"n.d."},{"$f":"'Datos mensuales'!AX121","v":"n.d."},{"$f":"'Datos mensuales'!AY121","v":"n.d."},{"$f":"'Datos mensuales'!AU121","v":5.9426699999999997},{"$f":"'Datos mensuales'!AV121","v":"n.d."},{"$f":"'Datos mensuales'!AZ121","v":"n.d."},{"$f":"'Datos mensuales'!BA121","v":"n.d."},{"$f":"'Datos mensuales'!BB121","v":"n.d."},null,{"$f":"'Datos mensuales'!BC121","v":134.19999999999999},{"$f":"'Datos mensuales'!BD121","v":176.3},{"$f":"'Datos mensuales'!BE121","v":106.2},null,{"$f":"'Datos mensuales'!T121","v":23.8},{"$f":"'Datos mensuales'!U121","v":"n.d."},{"$f":"'Datos mensuales'!W121","v":"n.d."},{"$f":"'Datos mensuales'!AA121","v":"n.d."},{"$f":"'Datos mensuales'!Z121","v":"n.d."},{"$f":"'Datos mensuales'!AC121","v":"n.d."},{"$f":"'Datos mensuales'!AD121","v":"n.d."},null,{"$f":"'Datos mensuales'!AQ121","v":1.0500770002562902},{"$f":"'Datos mensuales'!AR121","v":107.57},{"$f":"'Datos mensuales'!AO121","v":"n.d."},{"$f":"'Datos mensuales'!AP121","v":"n.d."},{"$f":"'Datos mensuales'!AN121","v":1.48},{"$f":"'Datos mensuales'!AS121","v":9.3402999999999992},null,{"$f":"'Datos mensuales'!BJ121","v":10336.959999999999},{"$f":"'Datos mensuales'!BK121","v":2746.16},{"$f":"'Datos mensuales'!BL121","v":1282.71}]
[null,"octubre",{"$f":"'Datos mensuales'!D122","v":"n.d."},{"$f":"'Datos mensuales'!E122","v":-4.170009515457954},{"$f":"'Datos mensuales'!F122","v":"n.d."},{"$f":"'Datos mensuales'!G122","v":2.5609756097560905},{"$f":"'Datos mensuales'!I122","v":-0.67243035542746266},{"$f":"'Datos mensuales'!J122","v":14.913481043909698},{"$f":"'Datos mensuales'!H122","v":1.3682879153731147},null,{"$f":"'Datos mensuales'!AW122","v":"n.d."},{"$f":"'Datos mensuales'!AX122","v":"n.d."},{"$f":"'Datos mensuales'!AY122","v":"n.d."},{"$f":"'Datos mensuales'!AU122","v":6.0913700000000004},{"$f":"'Datos mensuales'!AV122","v":"n.d."},{"$f":"'Datos mensuales'!AZ122","v":"n.d."},{"$f":"'Datos mensuales'!BA122","v":"n.d."},{"$f":"'Datos mensuales'!BB122","v":"n.d."},null,{"$f":"'Datos mensuales'!BC122","v":130.5},{"$f":"'Datos mensuales'!BD122","v":173.9},{"$f":"'Datos mensuales'!BE122","v":101.5},null,{"$f":"'Datos mensuales'!T122","v":22.69},{"$f":"'Datos mensuales'!U122","v":"n.d."},{"$f":"'Datos mensuales'!W122","v":"n.d."},{"$f":"'Datos mensuales'!AA122","v":"n.d."},{"$f":"'Datos mensuales'!Z122","v":"n.d."},{"$f":"'Datos mensuales'!AC122","v":"n.d."},{"$f":"'Datos mensuales'!AD122","v":"n.d."},null,{"$f":"'Datos mensuales'!AQ122","v":1.0706330004877729},{"$f":"'Datos mensuales'!AR122","v":105.97},{"$f":"'Datos mensuales'!AO122","v":"n.d."},{"$f":"'Datos mensuales'!AP122","v":"n.d."},{"$f":"'Datos mensuales'!AN122","v":1.48},{"$f":"'Datos mensuales'!AS122","v":9.5403000000000002},null,{"$f":"'Datos mensuales'!BJ122","v":10729.87},{"$f":"'Datos mensuales'!BK122","v":2966.43},{"$f":"'Datos mensuales'!BL122","v":1362.93}]
[null,"noviembre",{"$f":"'Datos mensuales'!D123","v":"n.d."},{"$f":"'Datos mensuales'!E123","v":-4.2828180435884464},{"$f":"'Datos mensuales'!F123","v":"n.d."},{"$f":"'Datos mensuales'!G123","v":2.6219512195122019},{"$f":"'Datos mensuales'!I123","v":-1.1538461538461564},{"$f":"'Datos mensuales'!J123","v":13.917992304081594},{"$f":"'Datos mensuales'!H123","v":1.4602736575830702},null,{"$f":"'Datos mensuales'!AW123","v":"n.d."},{"$f":"'Datos mensuales'!AX123","v":"n.d."},{"$f":"'Datos mensuales'!AY123","v":"n.d."},{"$f":"'Datos mensuales'!AU123","v":6.0432399999999999},{"$f":"'Datos mensuales'!AV123","v":"n.d."},{"$f":"'Datos mensuales'!AZ123","v":"n.d."},{"$f":"'Datos mensuales'!BA123","v":"n.d."},{"$f":"'Datos mensuales'!BB123","v":"n.d."},null,{"$f":"'Datos mensuales'!BC123","v":137},{"$f":"'Datos mensuales'!BD123","v":176.8},{"$f":"'Datos mensuales'!BE123","v":110.4},null,{"$f":"'Datos mensuales'!T123","v":25},{"$f":"'Datos mensuales'!U123","v":"n.d."},{"$f":"'Datos mensuales'!W123","v":"n.d."},{"$f":"'Datos mensuales'!AA123","v":"n.d."},{"$f":"'Datos mensuales'!Z123","v":"n.d."},{"$f":"'Datos mensuales'!AC123","v":"n.d."},{"$f":"'Datos mensuales'!AD123","v":"n.d."},null,{"$f":"'Datos mensuales'!AQ123","v":1.0338229998754616},{"$f":"'Datos mensuales'!AR123","v":104.96},{"$f":"'Datos mensuales'!AO123","v":"n.d."},{"$f":"'Datos mensuales'!AP123","v":"n.d."},{"$f":"'Datos mensuales'!AN123","v":1.47},{"$f":"'Datos mensuales'!AS123","v":9.4205000000000005},null,{"$f":"'Datos mensuales'!BJ123","v":10877.81},{"$f":"'Datos mensuales'!BK123","v":3336.16},{"$f":"'Datos mensuales'!BL123","v":1388.91}]
[null,"diciembre",{"$f":"'Datos mensuales'!D124","v":"n.d."},{"$f":"'Datos mensuales'!E124","v":-4.0492641568286363},{"$f":"'Datos mensuales'!F124","v":"n.d."},{"$f":"'Datos mensuales'!G124","v":2.684563758389265},{"$f":"'Datos mensuales'!I124","v":-1.0617760617760563},{"$f":"'Datos mensuales'!J124","v":12.318661431172224},{"$f":"'Datos mensuales'!H124","v":1.7459223524006386},null,{"$f":"'Datos mensuales'!AW124","v":"n.d."},{"$f":"'Datos mensuales'!AX124","v":"n.d."},{"$f":"'Datos mensuales'!AY124","v":"n.d."},{"$f":"'Datos mensuales'!AU124","v":6.1137499999999996},{"$f":"'Datos mensuales'!AV124","v":"n.d."},{"$f":"'Datos mensuales'!AZ124","v":"n.d."},{"$f":"'Datos mensuales'!BA124","v":"n.d."},{"$f":"'Datos mensuales'!BB124","v":"n.d."},null,{"$f":"'Datos mensuales'!BC124","v":141.69999999999999},{"$f":"'Datos mensuales'!BD124","v":181.7},{"$f":"'Datos mensuales'!BE124","v":115},null,{"$f":"'Datos mensuales'!T124","v":26.1},{"$f":"'Datos mensuales'!U124","v":"n.d."},{"$f":"'Datos mensuales'!W124","v":"n.d."},{"$f":"'Datos mensuales'!AA124","v":"n.d."},{"$f":"'Datos mensuales'!Z124","v":"n.d."},{"$f":"'Datos mensuales'!AC124","v":"n.d."},{"$f":"'Datos mensuales'!AD124","v":"n.d."},null,{"$f":"'Datos mensuales'!AQ124","v":1.0110139996554284},{"$f":"'Datos mensuales'!AR124","v":102.68},{"$f":"'Datos mensuales'!AO124","v":"n.d."},{"$f":"'Datos mensuales'!AP124","v":"n.d."},{"$f":"'Datos mensuales'!AN124","v":1.47},{"$f":"'Datos mensuales'!AS124","v":9.4135000000000009},null,{"$f":"'Datos mensuales'!BJ124","v":11497.12},{"$f":"'Datos mensuales'!BK124","v":4069.31},{"$f":"'Datos mensuales'!BL124","v":1469.25}]
[2000,"enero",{"$f":"'Datos mensuales'!D125","v":"n.d."},{"$f":"'Datos mensuales'!E125","v":-5.2494621837687472},{"$f":"'Datos mensuales'!F125","v":"n.d."},{"$f":"'Datos mensuales'!G125","v":2.7388922702373706},{"$f":"'Datos mensuales'!I125","v":-0.67895247332685615},{"$f":"'Datos mensuales'!J125","v":11.023190408329423},{"$f":"'Datos mensuales'!H125","v":1.851213061975393},null,{"$f":"'Datos mensuales'!AW125","v":"n.d."},{"$f":"'Datos mensuales'!AX125","v":"n.d."},{"$f":"'Datos mensuales'!AY125","v":"n.d."},{"$f":"'Datos mensuales'!AU125","v":6.2149700000000001},{"$f":"'Datos mensuales'!AV125","v":5.52},{"$f":"'Datos mensuales'!AZ125","v":"n.d."},{"$f":"'Datos mensuales'!BA125","v":"n.d."},{"$f":"'Datos mensuales'!BB125","v":"n.d."},null,{"$f":"'Datos mensuales'!BC125","v":144.69999999999999},{"$f":"'Datos mensuales'!BD125","v":183.1},{"$f":"'Datos mensuales'!BE125","v":119.1},null,{"$f":"'Datos mensuales'!T125","v":27.26},{"$f":"'Datos mensuales'!U125","v":25.306999999999999},{"$f":"'Datos mensuales'!W125","v":284.315},{"$f":"'Datos mensuales'!AA125","v":105.8265947},{"$f":"'Datos mensuales'!Z125","v":111.11},{"$f":"'Datos mensuales'!AC125","v":92.953274960000002},{"$f":"'Datos mensuales'!AD125","v":247.5},null,{"$f":"'Datos mensuales'!AQ125","v":1.0136950001923943},{"$f":"'Datos mensuales'!AR125","v":105.16},{"$f":"'Datos mensuales'!AO125","v":"n.d."},{"$f":"'Datos mensuales'!AP125","v":"n.d."},{"$f":"'Datos mensuales'!AN125","v":1.45},{"$f":"'Datos mensuales'!AS125","v":9.4793000000000003},null,{"$f":"'Datos mensuales'!BJ125","v":10940.54},{"$f":"'Datos mensuales'!BK125","v":3940.35},{"$f":"'Datos mensuales'!BL125","v":1394.46}]
[null,"febrero",{"$f":"'Datos mensuales'!D126","v":"n.d."},{"$f":"'Datos mensuales'!E126","v":-5.0048549638470146},{"$f":"'Datos mensuales'!F126","v":"n.d."},{"$f":"'Datos mensuales'!G126","v":3.2218844984802502},{"$f":"'Datos mensuales'!I126","v":-0.68159688412853248},{"$f":"'Datos mensuales'!J126","v":10.522687589351507},{"$f":"'Datos mensuales'!H126","v":1.9374068554396395},null,{"$f":"'Datos mensuales'!AW126","v":"n.d."},{"$f":"'Datos mensuales'!AX126","v":"n.d."},{"$f":"'Datos mensuales'!AY126","v":"n.d."},{"$f":"'Datos mensuales'!AU126","v":6.3298800000000002},{"$f":"'Datos mensuales'!AV126","v":5.75},{"$f":"'Datos mensuales'!AZ126","v":"n.d."},{"$f":"'Datos mensuales'!BA126","v":"n.d."},{"$f":"'Datos mensuales'!BB126","v":"n.d."},null,{"$f":"'Datos mensuales'!BC126","v":140.80000000000001},{"$f":"'Datos mensuales'!BD126","v":180.1},{"$f":"'Datos mensuales'!BE126","v":114.6},null,{"$f":"'Datos mensuales'!T126","v":29.37},{"$f":"'Datos mensuales'!U126","v":27.753500000000003},{"$f":"'Datos mensuales'!W126","v":299.8642857142857},{"$f":"'Datos mensuales'!AA126","v":108.41211199999999},{"$f":"'Datos mensuales'!Z126","v":103.44},{"$f":"'Datos mensuales'!AC126","v":95.081619040000007},{"$f":"'Datos mensuales'!AD126","v":243},null,{"$f":"'Datos mensuales'!AQ126","v":0.98342400002706376},{"$f":"'Datos mensuales'!AR126","v":109.31},{"$f":"'Datos mensuales'!AO126","v":"n.d."},{"$f":"'Datos mensuales'!AP126","v":"n.d."},{"$f":"'Datos mensuales'!AN126","v":1.45},{"$f":"'Datos mensuales'!AS126","v":9.4456000000000007},null,{"$f":"'Datos mensuales'!BJ126","v":10128.31},{"$f":"'Datos mensuales'!BK126","v":4696.6899999999996},{"$f":"'Datos mensuales'!BL126","v":1366.42}]
[null,"marzo",{"$f":"'Datos mensuales'!D127","v":"n.d."},{"$f":"'Datos mensuales'!E127","v":-4.7702157932179237},{"$f":"'Datos mensuales'!F127","v":"n.d."},{"$f":"'Datos mensuales'!G127","v":3.7575757575757507},{"$f":"'Datos mensuales'!I127","v":-0.58365758754863262},{"$f":"'Datos mensuales'!J127","v":10.112402406322721},{"$f":"'Datos mensuales'!H127","v":1.9318701417466821},null,{"$f":"'Datos mensuales'!AW127","v":"n.d."},{"$f":"'Datos mensuales'!AX127","v":"n.d."},{"$f":"'Datos mensuales'!AY127","v":"n.d."},{"$f":"'Datos mensuales'!AU127","v":6.4110899999999997},{"$f":"'Datos mensuales'!AV127","v":5.85},{"$f":"'Datos mensuales'!AZ127","v":"n.d."},{"$f":"'Datos mensuales'!BA127","v":"n.d."},{"$f":"'Datos mensuales'!BB127","v":"n.d."},null,{"$f":"'Datos mensuales'!BC127","v":137.1},{"$f":"'Datos mensuales'!BD127","v":182.5},{"$f":"'Datos mensuales'!BE127","v":106.8},null,{"$f":"'Datos mensuales'!T127","v":29.84},{"$f":"'Datos mensuales'!U127","v":27.559565217391309},{"$f":"'Datos mensuales'!W127","v":286.3891304347826},{"$f":"'Datos mensuales'!AA127","v":105.7005059},{"$f":"'Datos mensuales'!Z127","v":100.73},{"$f":"'Datos mensuales'!AC127","v":95.169351109999994},{"$f":"'Datos mensuales'!AD127","v":228.8},null,{"$f":"'Datos mensuales'!AQ127","v":0.96434300001396456},{"$f":"'Datos mensuales'!AR127","v":106.71},{"$f":"'Datos mensuales'!AO127","v":"n.d."},{"$f":"'Datos mensuales'!AP127","v":"n.d."},{"$f":"'Datos mensuales'!AN127","v":1.46},{"$f":"'Datos mensuales'!AS127","v":9.2958999999999996},null,{"$f":"'Datos mensuales'!BJ127","v":10921.93},{"$f":"'Datos mensuales'!BK127","v":4572.83},{"$f":"'Datos mensuales'!BL127","v":1498.58}]
[null,"abril ",{"$f":"'Datos mensuales'!D128","v":"n.d."},{"$f":"'Datos mensuales'!E128","v":-4.3435631877546381},{"$f":"'Datos mensuales'!F128","v":"n.d."},{"$f":"'Datos mensuales'!G128","v":3.0685920577617467},{"$f":"'Datos mensuales'!I128","v":-0.77444336882865161},{"$f":"'Datos mensuales'!J128","v":9.7318560531058758},{"$f":"'Datos mensuales'!H128","v":1.7439872335575073},null,{"$f":"'Datos mensuales'!AW128","v":"n.d."},{"$f":"'Datos mensuales'!AX128","v":"n.d."},{"$f":"'Datos mensuales'!AY128","v":"n.d."},{"$f":"'Datos mensuales'!AU128","v":6.53573},{"$f":"'Datos mensuales'!AV128","v":5.82},{"$f":"'Datos mensuales'!AZ128","v":"n.d."},{"$f":"'Datos mensuales'!BA128","v":"n.d."},{"$f":"'Datos mensuales'!BB128","v":"n.d."},null,{"$f":"'Datos mensuales'!BC128","v":137.69999999999999},{"$f":"'Datos mensuales'!BD128","v":179.8},{"$f":"'Datos mensuales'!BE128","v":109.7},null,{"$f":"'Datos mensuales'!T128","v":25.72},{"$f":"'Datos mensuales'!U128","v":22.804210526315781},{"$f":"'Datos mensuales'!W128","v":279.69444444444446},{"$f":"'Datos mensuales'!AA128","v":105.10525850000001},{"$f":"'Datos mensuales'!Z128","v":94.61},{"$f":"'Datos mensuales'!AC128","v":95.539372950000001},{"$f":"'Datos mensuales'!AD128","v":217},null,{"$f":"'Datos mensuales'!AQ128","v":0.94695000023034559},{"$f":"'Datos mensuales'!AR128","v":105.48},{"$f":"'Datos mensuales'!AO128","v":"n.d."},{"$f":"'Datos mensuales'!AP128","v":"n.d."},{"$f":"'Datos mensuales'!AN128","v":1.47},{"$f":"'Datos mensuales'!AS128","v":9.3748000000000005},null,{"$f":"'Datos mensuales'!BJ128","v":10733.92},{"$f":"'Datos mensuales'!BK128","v":3860.66},{"$f":"'Datos mensuales'!BL128","v":1452.43}]
[null,"mayo",{"$f":"'Datos mensuales'!D129","v":"n.d."},{"$f":"'Datos mensuales'!E129","v":-4.5246239007612585},{"$f":"'Datos mensuales'!F129","v":"n.d."},{"$f":"'Datos mensuales'!G129","v":3.1889290012033764},{"$f":"'Datos mensuales'!I129","v":-0.67763794772507535},{"$f":"'Datos mensuales'!J129","v":9.4834475190128646},{"$f":"'Datos mensuales'!H129","v":1.7308130266454229},null,{"$f":"'Datos mensuales'!AW129","v":"n.d."},{"$f":"'Datos mensuales'!AX129","v":"n.d."},{"$f":"'Datos mensuales'!AY129","v":"n.d."},{"$f":"'Datos mensuales'!AU129","v":6.9574999999999996},{"$f":"'Datos mensuales'!AV129","v":6.12},{"$f":"'Datos mensuales'!AZ129","v":"n.d."},{"$f":"'Datos mensuales'!BA129","v":"n.d."},{"$f":"'Datos mensuales'!BB129","v":"n.d."},null,{"$f":"'Datos mensuales'!BC129","v":144.69999999999999},{"$f":"'Datos mensuales'!BD129","v":183.6},{"$f":"'Datos mensuales'!BE129","v":118.7},null,{"$f":"'Datos mensuales'!T129","v":28.79},{"$f":"'Datos mensuales'!U129","v":27.516363636363632},{"$f":"'Datos mensuales'!W129","v":275.18571428571431},{"$f":"'Datos mensuales'!AA129","v":110.782155},{"$f":"'Datos mensuales'!Z129","v":94.15},{"$f":"'Datos mensuales'!AC129","v":95.530550890000001},{"$f":"'Datos mensuales'!AD129","v":198.7826087},null,{"$f":"'Datos mensuales'!AQ129","v":0.9059680003314392},{"$f":"'Datos mensuales'!AR129","v":108.11},{"$f":"'Datos mensuales'!AO129","v":"n.d."},{"$f":"'Datos mensuales'!AP129","v":"n.d."},{"$f":"'Datos mensuales'!AN129","v":1.4955000000000001},{"$f":"'Datos mensuales'!AS129","v":9.5077999999999996},null,{"$f":"'Datos mensuales'!BJ129","v":10522.34},{"$f":"'Datos mensuales'!BK129","v":3400.91},{"$f":"'Datos mensuales'!BL129","v":1420.6}]
[null,"junio",{"$f":"'Datos mensuales'!D130","v":"n.d."},{"$f":"'Datos mensuales'!E130","v":-4.5374474589224372},{"$f":"'Datos mensuales'!F130","v":"n.d."},{"$f":"'Datos mensuales'!G130","v":3.7304452466907447},{"$f":"'Datos mensuales'!I130","v":-0.58252427184465461},{"$f":"'Datos mensuales'!J130","v":9.4130619171412668},{"$f":"'Datos mensuales'!H130","v":2.1179685720792687},null,{"$f":"'Datos mensuales'!AW130","v":"n.d."},{"$f":"'Datos mensuales'!AX130","v":"n.d."},{"$f":"'Datos mensuales'!AY130","v":"n.d."},{"$f":"'Datos mensuales'!AU130","v":6.9693199999999997},{"$f":"'Datos mensuales'!AV130","v":6.02},{"$f":"'Datos mensuales'!AZ130","v":"n.d."},{"$f":"'Datos mensuales'!BA130","v":"n.d."},{"$f":"'Datos mensuales'!BB130","v":"n.d."},null,{"$f":"'Datos mensuales'!BC130","v":139.19999999999999},{"$f":"'Datos mensuales'!BD130","v":180.1},{"$f":"'Datos mensuales'!BE130","v":111.9},null,{"$f":"'Datos mensuales'!T130","v":31.82},{"$f":"'Datos mensuales'!U130","v":29.602272727272734},{"$f":"'Datos mensuales'!W130","v":285.73181818181814},{"$f":"'Datos mensuales'!AA130","v":113.5089218},{"$f":"'Datos mensuales'!Z130","v":86.44},{"$f":"'Datos mensuales'!AC130","v":84.039514499999996},{"$f":"'Datos mensuales'!AD130","v":197.86363639999999},null,{"$f":"'Datos mensuales'!AQ130","v":0.94917699999360539},{"$f":"'Datos mensuales'!AR130","v":106.23},{"$f":"'Datos mensuales'!AO130","v":"n.d."},{"$f":"'Datos mensuales'!AP130","v":"n.d."},{"$f":"'Datos mensuales'!AN130","v":1.4767999999999999},{"$f":"'Datos mensuales'!AS130","v":9.7978000000000005},null,{"$f":"'Datos mensuales'!BJ130","v":10447.9},{"$f":"'Datos mensuales'!BK130","v":3966.11},{"$f":"'Datos mensuales'!BL130","v":1454.6}]
[null,"julio",{"$f":"'Datos mensuales'!D131","v":"n.d."},{"$f":"'Datos mensuales'!E131","v":-3.3395677875763168},{"$f":"'Datos mensuales'!F131","v":"n.d."},{"$f":"'Datos mensuales'!G131","v":3.6592681463707399},{"$f":"'Datos mensuales'!I131","v":-0.58479532163742143},{"$f":"'Datos mensuales'!J131","v":9.1186998204433927},{"$f":"'Datos mensuales'!H131","v":2.0115922263893742},null,{"$f":"'Datos mensuales'!AW131","v":"n.d."},{"$f":"'Datos mensuales'!AX131","v":"n.d."},{"$f":"'Datos mensuales'!AY131","v":"n.d."},{"$f":"'Datos mensuales'!AU131","v":6.9191700000000003},{"$f":"'Datos mensuales'!AV131","v":6.27},{"$f":"'Datos mensuales'!AZ131","v":"n.d."},{"$f":"'Datos mensuales'!BA131","v":"n.d."},{"$f":"'Datos mensuales'!BB131","v":"n.d."},null,{"$f":"'Datos mensuales'!BC131","v":143},{"$f":"'Datos mensuales'!BD131","v":186.8},{"$f":"'Datos mensuales'!BE131","v":113.7},null,{"$f":"'Datos mensuales'!T131","v":29.7},{"$f":"'Datos mensuales'!U131","v":28.482500000000002},{"$f":"'Datos mensuales'!W131","v":281.58571428571423},{"$f":"'Datos mensuales'!AA131","v":108.97786600000001},{"$f":"'Datos mensuales'!Z131","v":87.35},{"$f":"'Datos mensuales'!AC131","v":75.057375210000004},{"$f":"'Datos mensuales'!AD131","v":191},null,{"$f":"'Datos mensuales'!AQ131","v":0.93965699967403482},{"$f":"'Datos mensuales'!AR131","v":107.9},{"$f":"'Datos mensuales'!AO131","v":"n.d."},{"$f":"'Datos mensuales'!AP131","v":"n.d."},{"$f":"'Datos mensuales'!AN131","v":1.47786},{"$f":"'Datos mensuales'!AS131","v":9.4687999999999999},null,{"$f":"'Datos mensuales'!BJ131","v":10521.98},{"$f":"'Datos mensuales'!BK131","v":3766.99},{"$f":"'Datos mensuales'!BL131","v":1430.83}]
[null,"agosto",{"$f":"'Datos mensuales'!D132","v":"n.d."},{"$f":"'Datos mensuales'!E132","v":-2.6432731365927715},{"$f":"'Datos mensuales'!F132","v":"n.d."},{"$f":"'Datos mensuales'!G132","v":3.4111310592459705},{"$f":"'Datos mensuales'!I132","v":-0.48590864917395532},{"$f":"'Datos mensuales'!J132","v":9.1041934868828633},{"$f":"'Datos mensuales'!H132","v":2.0211195639831967},null,{"$f":"'Datos mensuales'!AW132","v":"n.d."},{"$f":"'Datos mensuales'!AX132","v":"n.d."},{"$f":"'Datos mensuales'!AY132","v":"n.d."},{"$f":"'Datos mensuales'!AU132","v":6.84009},{"$f":"'Datos mensuales'!AV132","v":6.35},{"$f":"'Datos mensuales'!AZ132","v":"n.d."},{"$f":"'Datos mensuales'!BA132","v":"n.d."},{"$f":"'Datos mensuales'!BB132","v":"n.d."},null,{"$f":"'Datos mensuales'!BC132","v":140.80000000000001},{"$f":"'Datos mensuales'!BD132","v":181.3},{"$f":"'Datos mensuales'!BE132","v":113.9},null,{"$f":"'Datos mensuales'!T132","v":31.26},{"$f":"'Datos mensuales'!U132","v":29.787826086956521},{"$f":"'Datos mensuales'!W132","v":274.46818181818179},{"$f":"'Datos mensuales'!AA132","v":108.28198810000001},{"$f":"'Datos mensuales'!Z132","v":76.92},{"$f":"'Datos mensuales'!AC132","v":75.240531140000002},{"$f":"'Datos mensuales'!AD132","v":187.08695650000001},null,{"$f":"'Datos mensuales'!AQ132","v":0.90405699972342912},{"$f":"'Datos mensuales'!AR132","v":108.08043478260868},{"$f":"'Datos mensuales'!AO132","v":"n.d."},{"$f":"'Datos mensuales'!AP132","v":"n.d."},{"$f":"'Datos mensuales'!AN132","v":1.47902},{"$f":"'Datos mensuales'!AS132","v":9.2724782608695637},null,{"$f":"'Datos mensuales'!BJ132","v":11215.1},{"$f":"'Datos mensuales'!BK132","v":4206.3500000000004},{"$f":"'Datos mensuales'!BL132","v":1517.68}]
[null,"septiembre",{"$f":"'Datos mensuales'!D133","v":"n.d."},{"$f":"'Datos mensuales'!E133","v":-2.8184879691541798},{"$f":"'Datos mensuales'!F133","v":"n.d."},{"$f":"'Datos mensuales'!G133","v":3.4544371649791441},{"$f":"'Datos mensuales'!I133","v":-0.96899224806201545},{"$f":"'Datos mensuales'!J133","v":8.8494312099083103},{"$f":"'Datos mensuales'!H133","v":2.4980129442488961},null,{"$f":"'Datos mensuales'!AW133","v":"n.d."},{"$f":"'Datos mensuales'!AX133","v":"n.d."},{"$f":"'Datos mensuales'!AY133","v":"n.d."},{"$f":"'Datos mensuales'!AU133","v":6.7655700000000003},{"$f":"'Datos mensuales'!AV133","v":6.25},{"$f":"'Datos mensuales'!AZ133","v":"n.d."},{"$f":"'Datos mensuales'!BA133","v":"n.d."},{"$f":"'Datos mensuales'!BB133","v":"n.d."},null,{"$f":"'Datos mensuales'!BC133","v":142.5},{"$f":"'Datos mensuales'!BD133","v":182.5},{"$f":"'Datos mensuales'!BE133","v":115.9},null,{"$f":"'Datos mensuales'!T133","v":33.880000000000003},{"$f":"'Datos mensuales'!U133","v":32.930999999999997},{"$f":"'Datos mensuales'!W133","v":273.67857142857139},{"$f":"'Datos mensuales'!AA133","v":117.49386920000001},{"$f":"'Datos mensuales'!Z133","v":75.78},{"$f":"'Datos mensuales'!AC133","v":80.150576270000002},{"$f":"'Datos mensuales'!AD133","v":178.14285709999999},null,{"$f":"'Datos mensuales'!AQ133","v":0.87211400013273233},{"$f":"'Datos mensuales'!AR133","v":106.83750000000001},{"$f":"'Datos mensuales'!AO133","v":"n.d."},{"$f":"'Datos mensuales'!AP133","v":"n.d."},{"$f":"'Datos mensuales'!AN133","v":1.48617},{"$f":"'Datos mensuales'!AS133","v":9.3615999999999993},null,{"$f":"'Datos mensuales'!BJ133","v":10650.92},{"$f":"'Datos mensuales'!BK133","v":3672.82},{"$f":"'Datos mensuales'!BL133","v":1436.51}]
[null,"octubre",{"$f":"'Datos mensuales'!D134","v":"n.d."},{"$f":"'Datos mensuales'!E134","v":-3.0824344846384584},{"$f":"'Datos mensuales'!F134","v":"n.d."},{"$f":"'Datos mensuales'!G134","v":3.4482758620689724},{"$f":"'Datos mensuales'!I134","v":-1.1605415860735036},{"$f":"'Datos mensuales'!J134","v":8.9091862691418644},{"$f":"'Datos mensuales'!H134","v":2.3933756805807613},null,{"$f":"'Datos mensuales'!AW134","v":"n.d."},{"$f":"'Datos mensuales'!AX134","v":"n.d."},{"$f":"'Datos mensuales'!AY134","v":"n.d."},{"$f":"'Datos mensuales'!AU134","v":6.7261699999999998},{"$f":"'Datos mensuales'!AV134","v":6.32},{"$f":"'Datos mensuales'!AZ134","v":"n.d."},{"$f":"'Datos mensuales'!BA134","v":"n.d."},{"$f":"'Datos mensuales'!BB134","v":"n.d."},null,{"$f":"'Datos mensuales'!BC134","v":135.80000000000001},{"$f":"'Datos mensuales'!BD134","v":176.8},{"$f":"'Datos mensuales'!BE134","v":108.4},null,{"$f":"'Datos mensuales'!T134","v":33.11},{"$f":"'Datos mensuales'!U134","v":30.837272727272726},{"$f":"'Datos mensuales'!W134","v":269.99772727272727},{"$f":"'Datos mensuales'!AA134","v":128.21702479999999},{"$f":"'Datos mensuales'!Z134","v":76.66},{"$f":"'Datos mensuales'!AC134","v":84.707274400000003},{"$f":"'Datos mensuales'!AD134","v":186.72727269999999},null,{"$f":"'Datos mensuales'!AQ134","v":0.85515899992236943},{"$f":"'Datos mensuales'!AR134","v":108.44285714285714},{"$f":"'Datos mensuales'!AO134","v":"n.d."},{"$f":"'Datos mensuales'!AP134","v":"n.d."},{"$f":"'Datos mensuales'!AN134","v":1.5123},{"$f":"'Datos mensuales'!AS134","v":9.5379047619047608},null,{"$f":"'Datos mensuales'!BJ134","v":10971.14},{"$f":"'Datos mensuales'!BK134","v":3369.63},{"$f":"'Datos mensuales'!BL134","v":1429.4}]
[null,"noviembre",{"$f":"'Datos mensuales'!D135","v":"n.d."},{"$f":"'Datos mensuales'!E135","v":-2.2830190529422678},{"$f":"'Datos mensuales'!F135","v":"n.d."},{"$f":"'Datos mensuales'!G135","v":3.4462269756387296},{"$f":"'Datos mensuales'!I135","v":-0.87548638132294887},{"$f":"'Datos mensuales'!J135","v":8.8721779884984997},{"$f":"'Datos mensuales'!H135","v":2.4932003626473289},null,{"$f":"'Datos mensuales'!AW135","v":"n.d."},{"$f":"'Datos mensuales'!AX135","v":"n.d."},{"$f":"'Datos mensuales'!AY135","v":"n.d."},{"$f":"'Datos mensuales'!AU135","v":6.7053399999999996},{"$f":"'Datos mensuales'!AV135","v":6.34},{"$f":"'Datos mensuales'!AZ135","v":"n.d."},{"$f":"'Datos mensuales'!BA135","v":"n.d."},{"$f":"'Datos mensuales'!BB135","v":"n.d."},null,{"$f":"'Datos mensuales'!BC135","v":132.6},{"$f":"'Datos mensuales'!BD135","v":179.7},{"$f":"'Datos mensuales'!BE135","v":101.2},null,{"$f":"'Datos mensuales'!T135","v":34.42},{"$f":"'Datos mensuales'!U135","v":32.444761904761904},{"$f":"'Datos mensuales'!W135","v":266.00681818181818},{"$f":"'Datos mensuales'!AA135","v":127.72506799999999},{"$f":"'Datos mensuales'!Z135","v":71.540000000000006},{"$f":"'Datos mensuales'!AC135","v":88.937107830000002},{"$f":"'Datos mensuales'!AD135","v":184.86363639999999},null,{"$f":"'Datos mensuales'!AQ135","v":0.85638599983455987},{"$f":"'Datos mensuales'!AR135","v":109.0095238095238},{"$f":"'Datos mensuales'!AO135","v":"n.d."},{"$f":"'Datos mensuales'!AP135","v":"n.d."},{"$f":"'Datos mensuales'!AN135","v":1.5422199999999999},{"$f":"'Datos mensuales'!AS135","v":9.5081428571428575},null,{"$f":"'Datos mensuales'!BJ135","v":10414.49},{"$f":"'Datos mensuales'!BK135","v":2597.9299999999998},{"$f":"'Datos mensuales'!BL135","v":1314.95}]
[null,"diciembre",{"$f":"'Datos mensuales'!D136","v":"n.d."},{"$f":"'Datos mensuales'!E136","v":-2.1096805335277367},{"$f":"'Datos mensuales'!F136","v":"n.d."},{"$f":"'Datos mensuales'!G136","v":3.3868092691622032},{"$f":"'Datos mensuales'!I136","v":-0.48780487804878048},{"$f":"'Datos mensuales'!J136","v":8.959306478720567},{"$f":"'Datos mensuales'!H136","v":2.4836306163919653},null,{"$f":"'Datos mensuales'!AW136","v":"n.d."},{"$f":"'Datos mensuales'!AX136","v":"n.d."},{"$f":"'Datos mensuales'!AY136","v":"n.d."},{"$f":"'Datos mensuales'!AU136","v":6.3986499999999999},{"$f":"'Datos mensuales'!AV136","v":5.92},{"$f":"'Datos mensuales'!AZ136","v":"n.d."},{"$f":"'Datos mensuales'!BA136","v":"n.d."},{"$f":"'Datos mensuales'!BB136","v":"n.d."},null,{"$f":"'Datos mensuales'!BC136","v":128.6},{"$f":"'Datos mensuales'!BD136","v":176.1},{"$f":"'Datos mensuales'!BE136","v":96.9},null,{"$f":"'Datos mensuales'!T136","v":28.44},{"$f":"'Datos mensuales'!U136","v":25.567499999999999},{"$f":"'Datos mensuales'!W136","v":271.45},{"$f":"'Datos mensuales'!AA136","v":128.0149347},{"$f":"'Datos mensuales'!Z136","v":66.16},{"$f":"'Datos mensuales'!AC136","v":96.224203759999995},{"$f":"'Datos mensuales'!AD136","v":183.57142859999999},null,{"$f":"'Datos mensuales'!AQ136","v":0.89731599979761212},{"$f":"'Datos mensuales'!AR136","v":112.20899999999999},{"$f":"'Datos mensuales'!AO136","v":"n.d."},{"$f":"'Datos mensuales'!AP136","v":"n.d."},{"$f":"'Datos mensuales'!AN136","v":1.52244},{"$f":"'Datos mensuales'!AS136","v":9.4672500000000017},null,{"$f":"'Datos mensuales'!BJ136","v":10786.85},{"$f":"'Datos mensuales'!BK136","v":2470.52},{"$f":"'Datos mensuales'!BL136","v":1320.28}]
[2001,"enero",{"$f":"'Datos mensuales'!D137","v":"n.d."},{"$f":"'Datos mensuales'!E137","v":-1.5692884266465787},{"$f":"'Datos mensuales'!F137","v":"n.d."},{"$f":"'Datos mensuales'!G137","v":3.7322274881516488},{"$f":"'Datos mensuales'!I137","v":-0.39062500000000555},{"$f":"'Datos mensuales'!J137","v":8.1116821614822658},{"$f":"'Datos mensuales'!H137","v":2.0094829532625891},null,{"$f":"'Datos mensuales'!AW137","v":"n.d."},{"$f":"'Datos mensuales'!AX137","v":"n.d."},{"$f":"'Datos mensuales'!AY137","v":"n.d."},{"$f":"'Datos mensuales'!AU137","v":5.5309100000000004},{"$f":"'Datos mensuales'!AV137","v":5.15},{"$f":"'Datos mensuales'!AZ137","v":"n.d."},{"$f":"'Datos mensuales'!BA137","v":"n.d."},{"$f":"'Datos mensuales'!BB137","v":"n.d."},null,{"$f":"'Datos mensuales'!BC137","v":115.7},{"$f":"'Datos mensuales'!BD137","v":170.4},{"$f":"'Datos mensuales'!BE137","v":79.3},null,{"$f":"'Datos mensuales'!T137","v":29.59},{"$f":"'Datos mensuales'!U137","v":25.62},{"$f":"'Datos mensuales'!W137","v":265.48599999999999},{"$f":"'Datos mensuales'!AA137","v":132.84147770000001},{"$f":"'Datos mensuales'!Z137","v":65.98},{"$f":"'Datos mensuales'!AC137","v":94.297233270000007},{"$f":"'Datos mensuales'!AD137","v":184.43478260000001},null,{"$f":"'Datos mensuales'!AQ137","v":0.93828199999079354},{"$f":"'Datos mensuales'!AR137","v":116.72136363636361},{"$f":"'Datos mensuales'!AO137","v":"n.d."},{"$f":"'Datos mensuales'!AP137","v":"n.d."},{"$f":"'Datos mensuales'!AN137","v":1.5032000000000001},{"$f":"'Datos mensuales'!AS137","v":9.7737272727272728},null,{"$f":"'Datos mensuales'!BJ137","v":10887.36},{"$f":"'Datos mensuales'!BK137","v":2772.73},{"$f":"'Datos mensuales'!BL137","v":1366.01}]
[null,"febrero",{"$f":"'Datos mensuales'!D138","v":"n.d."},{"$f":"'Datos mensuales'!E138","v":-2.4026476659256861},{"$f":"'Datos mensuales'!F138","v":"n.d."},{"$f":"'Datos mensuales'!G138","v":3.5335689045936389},{"$f":"'Datos mensuales'!I138","v":-0.29411764705882076},{"$f":"'Datos mensuales'!J138","v":7.0902090934026125},{"$f":"'Datos mensuales'!H138","v":1.9005847953216348},null,{"$f":"'Datos mensuales'!AW138","v":"n.d."},{"$f":"'Datos mensuales'!AX138","v":"n.d."},{"$f":"'Datos mensuales'!AY138","v":"n.d."},{"$f":"'Datos mensuales'!AU138","v":5.2024699999999999},{"$f":"'Datos mensuales'!AV138","v":4.8899999999999997},{"$f":"'Datos mensuales'!AZ138","v":"n.d."},{"$f":"'Datos mensuales'!BA138","v":"n.d."},{"$f":"'Datos mensuales'!BB138","v":"n.d."},null,{"$f":"'Datos mensuales'!BC138","v":109.2},{"$f":"'Datos mensuales'!BD138","v":167.1},{"$f":"'Datos mensuales'!BE138","v":70.7},null,{"$f":"'Datos mensuales'!T138","v":29.61},{"$f":"'Datos mensuales'!U138","v":27.5},{"$f":"'Datos mensuales'!W138","v":261.86500000000001},{"$f":"'Datos mensuales'!AA138","v":128.11597979999999},{"$f":"'Datos mensuales'!Z138","v":67.19},{"$f":"'Datos mensuales'!AC138","v":92.377514820000002},{"$f":"'Datos mensuales'!AD138","v":185.1},null,{"$f":"'Datos mensuales'!AQ138","v":0.92170500006731215},{"$f":"'Datos mensuales'!AR138","v":115.49697792693513},{"$f":"'Datos mensuales'!AO138","v":"n.d."},{"$f":"'Datos mensuales'!AP138","v":"n.d."},{"$f":"'Datos mensuales'!AN138","v":1.5213000000000001},{"$f":"'Datos mensuales'!AS138","v":9.5345218025779719},null,{"$f":"'Datos mensuales'!BJ138","v":10495.28},{"$f":"'Datos mensuales'!BK138","v":2151.83},{"$f":"'Datos mensuales'!BL138","v":1239.94}]
[null,"marzo",{"$f":"'Datos mensuales'!D139","v":"n.d."},{"$f":"'Datos mensuales'!E139","v":-1.9482847922228006},{"$f":"'Datos mensuales'!F139","v":"n.d."},{"$f":"'Datos mensuales'!G139","v":2.9205607476635516},{"$f":"'Datos mensuales'!I139","v":-0.68493150684931781},{"$f":"'Datos mensuales'!J139","v":7.1745461971639894},{"$f":"'Datos mensuales'!H139","v":2.1868341370416089},null,{"$f":"'Datos mensuales'!AW139","v":"n.d."},{"$f":"'Datos mensuales'!AX139","v":"n.d."},{"$f":"'Datos mensuales'!AY139","v":"n.d."},{"$f":"'Datos mensuales'!AU139","v":4.8085800000000001},{"$f":"'Datos mensuales'!AV139","v":4.4400000000000004},{"$f":"'Datos mensuales'!AZ139","v":"n.d."},{"$f":"'Datos mensuales'!BA139","v":"n.d."},{"$f":"'Datos mensuales'!BB139","v":"n.d."},null,{"$f":"'Datos mensuales'!BC139","v":116.9},{"$f":"'Datos mensuales'!BD139","v":167.5},{"$f":"'Datos mensuales'!BE139","v":83.1},null,{"$f":"'Datos mensuales'!T139","v":27.25},{"$f":"'Datos mensuales'!U139","v":24.52},{"$f":"'Datos mensuales'!W139","v":263.02999999999997},{"$f":"'Datos mensuales'!AA139","v":130.28385610000001},{"$f":"'Datos mensuales'!Z139","v":66.5},{"$f":"'Datos mensuales'!AC139","v":91.012153569999995},{"$f":"'Datos mensuales'!AD139","v":177.0909091},null,{"$f":"'Datos mensuales'!AQ139","v":0.90952300031686506},{"$f":"'Datos mensuales'!AR139","v":121.44666666666663},{"$f":"'Datos mensuales'!AO139","v":"n.d."},{"$f":"'Datos mensuales'!AP139","v":"n.d."},{"$f":"'Datos mensuales'!AN139","v":1.5579700000000001},{"$f":"'Datos mensuales'!AS139","v":9.6029761904761912},null,{"$f":"'Datos mensuales'!BJ139","v":9878.7800000000007},{"$f":"'Datos mensuales'!BK139","v":1840.26},{"$f":"'Datos mensuales'!BL139","v":1160.33}]
[null,"abril ",{"$f":"'Datos mensuales'!D140","v":"n.d."},{"$f":"'Datos mensuales'!E140","v":-1.4829483824100165},{"$f":"'Datos mensuales'!F140","v":"n.d."},{"$f":"'Datos mensuales'!G140","v":3.2691185055458227},{"$f":"'Datos mensuales'!I140","v":-0.78048780487804603},{"$f":"'Datos mensuales'!J140","v":7.1057789319330196},{"$f":"'Datos mensuales'!H140","v":2.7447904996638903},null,{"$f":"'Datos mensuales'!AW140","v":"n.d."},{"$f":"'Datos mensuales'!AX140","v":"n.d."},{"$f":"'Datos mensuales'!AY140","v":"n.d."},{"$f":"'Datos mensuales'!AU140","v":4.47553},{"$f":"'Datos mensuales'!AV140","v":3.99},{"$f":"'Datos mensuales'!AZ140","v":"n.d."},{"$f":"'Datos mensuales'!BA140","v":"n.d."},{"$f":"'Datos mensuales'!BB140","v":"n.d."},null,{"$f":"'Datos mensuales'!BC140","v":109.9},{"$f":"'Datos mensuales'!BD140","v":156},{"$f":"'Datos mensuales'!BE140","v":79.099999999999994},null,{"$f":"'Datos mensuales'!T140","v":27.49},{"$f":"'Datos mensuales'!U140","v":25.64},{"$f":"'Datos mensuales'!W140","v":260.47890000000001},{"$f":"'Datos mensuales'!AA140","v":129.3026921},{"$f":"'Datos mensuales'!Z140","v":66.13},{"$f":"'Datos mensuales'!AC140","v":87.545066520000006},{"$f":"'Datos mensuales'!AD140","v":162.09523809999999},null,{"$f":"'Datos mensuales'!AQ140","v":0.89200000014628811},{"$f":"'Datos mensuales'!AR140","v":123.77095238095242},{"$f":"'Datos mensuales'!AO140","v":"n.d."},{"$f":"'Datos mensuales'!AP140","v":"n.d."},{"$f":"'Datos mensuales'!AN140","v":1.55749},{"$f":"'Datos mensuales'!AS140","v":9.3275952380952365},null,{"$f":"'Datos mensuales'!BJ140","v":10734.97},{"$f":"'Datos mensuales'!BK140","v":2116.2399999999998},{"$f":"'Datos mensuales'!BL140","v":1249.46}]
[null,"mayo",{"$f":"'Datos mensuales'!D141","v":"n.d."},{"$f":"'Datos mensuales'!E141","v":-1.4874762997704827},{"$f":"'Datos mensuales'!F141","v":"n.d."},{"$f":"'Datos mensuales'!G141","v":3.6151603498542206},{"$f":"'Datos mensuales'!I141","v":-0.77972709551656649},{"$f":"'Datos mensuales'!J141","v":6.9517398832385373},{"$f":"'Datos mensuales'!H141","v":3.1229012760241681},null,{"$f":"'Datos mensuales'!AW141","v":"n.d."},{"$f":"'Datos mensuales'!AX141","v":"n.d."},{"$f":"'Datos mensuales'!AY141","v":"n.d."},{"$f":"'Datos mensuales'!AU141","v":4.0844800000000001},{"$f":"'Datos mensuales'!AV141","v":3.74},{"$f":"'Datos mensuales'!AZ141","v":"n.d."},{"$f":"'Datos mensuales'!BA141","v":"n.d."},{"$f":"'Datos mensuales'!BB141","v":"n.d."},null,{"$f":"'Datos mensuales'!BC141","v":116.1},{"$f":"'Datos mensuales'!BD141","v":159.6},{"$f":"'Datos mensuales'!BE141","v":87.1},null,{"$f":"'Datos mensuales'!T141","v":28.63},{"$f":"'Datos mensuales'!U141","v":28.29},{"$f":"'Datos mensuales'!W141","v":272.35480000000001},{"$f":"'Datos mensuales'!AA141","v":135.0002556},{"$f":"'Datos mensuales'!Z141","v":69.22},{"$f":"'Datos mensuales'!AC141","v":85.07752309},{"$f":"'Datos mensuales'!AD141","v":164.26086960000001},null,{"$f":"'Datos mensuales'!AQ141","v":0.87416400036083741},{"$f":"'Datos mensuales'!AR141","v":121.72391304347826},{"$f":"'Datos mensuales'!AO141","v":"n.d."},{"$f":"'Datos mensuales'!AP141","v":"n.d."},{"$f":"'Datos mensuales'!AN141","v":1.54745},{"$f":"'Datos mensuales'!AS141","v":9.1883043478260849},null,{"$f":"'Datos mensuales'!BJ141","v":10911.94},{"$f":"'Datos mensuales'!BK141","v":2110.4899999999998},{"$f":"'Datos mensuales'!BL141","v":1255.82}]
[null,"junio",{"$f":"'Datos mensuales'!D142","v":"n.d."},{"$f":"'Datos mensuales'!E142","v":-1.1183806296795122},{"$f":"'Datos mensuales'!F142","v":"n.d."},{"$f":"'Datos mensuales'!G142","v":3.2482598607888593},{"$f":"'Datos mensuales'!I142","v":-0.87890625000000555},{"$f":"'Datos mensuales'!J142","v":6.5734352456384162},{"$f":"'Datos mensuales'!H142","v":2.8322925958965119},null,{"$f":"'Datos mensuales'!AW142","v":"n.d."},{"$f":"'Datos mensuales'!AX142","v":"n.d."},{"$f":"'Datos mensuales'!AY142","v":"n.d."},{"$f":"'Datos mensuales'!AU142","v":3.83006},{"$f":"'Datos mensuales'!AV142","v":3.56},{"$f":"'Datos mensuales'!AZ142","v":"n.d."},{"$f":"'Datos mensuales'!BA142","v":"n.d."},{"$f":"'Datos mensuales'!BB142","v":"n.d."},null,{"$f":"'Datos mensuales'!BC142","v":118.9},{"$f":"'Datos mensuales'!BD142","v":156.80000000000001},{"$f":"'Datos mensuales'!BE142","v":93.5},null,{"$f":"'Datos mensuales'!T142","v":27.6},{"$f":"'Datos mensuales'!U142","v":27.82},{"$f":"'Datos mensuales'!W142","v":270.23099999999999},{"$f":"'Datos mensuales'!AA142","v":127.2295388},{"$f":"'Datos mensuales'!Z142","v":63.9},{"$f":"'Datos mensuales'!AC142","v":83.160665989999998},{"$f":"'Datos mensuales'!AD142","v":167.7619048},null,{"$f":"'Datos mensuales'!AQ142","v":0.85316699971306031},{"$f":"'Datos mensuales'!AR142","v":122.35095238095242},{"$f":"'Datos mensuales'!AO142","v":"n.d."},{"$f":"'Datos mensuales'!AP142","v":"n.d."},{"$f":"'Datos mensuales'!AN142","v":1.5245333333333331},{"$f":"'Datos mensuales'!AS142","v":9.0880952380952387},null,{"$f":"'Datos mensuales'!BJ142","v":10502.4},{"$f":"'Datos mensuales'!BK142","v":2161.2399999999998},{"$f":"'Datos mensuales'!BL142","v":1224.42}]
[null,"julio",{"$f":"'Datos mensuales'!D143","v":"n.d."},{"$f":"'Datos mensuales'!E143","v":-0.84035214183524054},{"$f":"'Datos mensuales'!F143","v":"n.d."},{"$f":"'Datos mensuales'!G143","v":2.7199074074074008},{"$f":"'Datos mensuales'!I143","v":-0.78431372549019329},{"$f":"'Datos mensuales'!J143","v":5.8834976000227748},{"$f":"'Datos mensuales'!H143","v":2.5512477718359983},null,{"$f":"'Datos mensuales'!AW143","v":"n.d."},{"$f":"'Datos mensuales'!AX143","v":"n.d."},{"$f":"'Datos mensuales'!AY143","v":"n.d."},{"$f":"'Datos mensuales'!AU143","v":3.7911100000000002},{"$f":"'Datos mensuales'!AV143","v":3.56},{"$f":"'Datos mensuales'!AZ143","v":"n.d."},{"$f":"'Datos mensuales'!BA143","v":"n.d."},{"$f":"'Datos mensuales'!BB143","v":"n.d."},null,{"$f":"'Datos mensuales'!BC143","v":116.3},{"$f":"'Datos mensuales'!BD143","v":151.30000000000001},{"$f":"'Datos mensuales'!BE143","v":92.9},null,{"$f":"'Datos mensuales'!T143","v":26.43},{"$f":"'Datos mensuales'!U143","v":24.62},{"$f":"'Datos mensuales'!W143","v":267.53179999999998},{"$f":"'Datos mensuales'!AA143","v":123.78533040000001},{"$f":"'Datos mensuales'!Z143","v":58.72},{"$f":"'Datos mensuales'!AC143","v":90.754669539999995},{"$f":"'Datos mensuales'!AD143","v":169.72727269999999},null,{"$f":"'Datos mensuales'!AQ143","v":0.86066399979713115},{"$f":"'Datos mensuales'!AR143","v":124.45181818181817},{"$f":"'Datos mensuales'!AO143","v":"n.d."},{"$f":"'Datos mensuales'!AP143","v":"n.d."},{"$f":"'Datos mensuales'!AN143","v":1.53037},{"$f":"'Datos mensuales'!AS143","v":9.1619545454545452},null,{"$f":"'Datos mensuales'!BJ143","v":10522.81},{"$f":"'Datos mensuales'!BK143","v":2027.13},{"$f":"'Datos mensuales'!BL143","v":1211.23}]
[null,"agosto",{"$f":"'Datos mensuales'!D144","v":"n.d."},{"$f":"'Datos mensuales'!E144","v":-1.1236169688682855},{"$f":"'Datos mensuales'!F144","v":"n.d."},{"$f":"'Datos mensuales'!G144","v":2.7199074074074008},{"$f":"'Datos mensuales'!I144","v":-0.7812500000000111},{"$f":"'Datos mensuales'!J144","v":5.9287566236552154},{"$f":"'Datos mensuales'!H144","v":2.34835837506956},null,{"$f":"'Datos mensuales'!AW144","v":"n.d."},{"$f":"'Datos mensuales'!AX144","v":"n.d."},{"$f":"'Datos mensuales'!AY144","v":"n.d."},{"$f":"'Datos mensuales'!AU144","v":3.5710500000000001},{"$f":"'Datos mensuales'!AV144","v":3.39},{"$f":"'Datos mensuales'!AZ144","v":"n.d."},{"$f":"'Datos mensuales'!BA144","v":"n.d."},{"$f":"'Datos mensuales'!BB144","v":"n.d."},null,{"$f":"'Datos mensuales'!BC144","v":114},{"$f":"'Datos mensuales'!BD144","v":144.5},{"$f":"'Datos mensuales'!BE144","v":93.7},null,{"$f":"'Datos mensuales'!T144","v":27.37},{"$f":"'Datos mensuales'!U144","v":25.66},{"$f":"'Datos mensuales'!W144","v":272.38639999999998},{"$f":"'Datos mensuales'!AA144","v":121.9231542},{"$f":"'Datos mensuales'!Z144","v":59.72},{"$f":"'Datos mensuales'!AC144","v":92.879031639999994},{"$f":"'Datos mensuales'!AD144","v":168.73913039999999},null,{"$f":"'Datos mensuales'!AQ144","v":0.9004829997206657},{"$f":"'Datos mensuales'!AR144","v":121.355},{"$f":"'Datos mensuales'!AO144","v":"n.d."},{"$f":"'Datos mensuales'!AP144","v":"n.d."},{"$f":"'Datos mensuales'!AN144","v":1.54016},{"$f":"'Datos mensuales'!AS144","v":9.1336700000000004},null,{"$f":"'Datos mensuales'!BJ144","v":9949.75},{"$f":"'Datos mensuales'!BK144","v":1805.43},{"$f":"'Datos mensuales'!BL144","v":1133.58}]
[null,"septiembre",{"$f":"'Datos mensuales'!D145","v":"n.d."},{"$f":"'Datos mensuales'!E145","v":-1.1225662330148538},{"$f":"'Datos mensuales'!F145","v":"n.d."},{"$f":"'Datos mensuales'!G145","v":2.6482440990213143},{"$f":"'Datos mensuales'!I145","v":-0.78277886497064297},{"$f":"'Datos mensuales'!J145","v":6.1394894915891118},{"$f":"'Datos mensuales'!H145","v":2.1601861083416449},null,{"$f":"'Datos mensuales'!AW145","v":"n.d."},{"$f":"'Datos mensuales'!AX145","v":"n.d."},{"$f":"'Datos mensuales'!AY145","v":"n.d."},{"$f":"'Datos mensuales'!AU145","v":3.0011299999999999},{"$f":"'Datos mensuales'!AV145","v":2.71},{"$f":"'Datos mensuales'!AZ145","v":"n.d."},{"$f":"'Datos mensuales'!BA145","v":"n.d."},{"$f":"'Datos mensuales'!BB145","v":"n.d."},null,{"$f":"'Datos mensuales'!BC145","v":97},{"$f":"'Datos mensuales'!BD145","v":125.4},{"$f":"'Datos mensuales'!BE145","v":78.099999999999994},null,{"$f":"'Datos mensuales'!T145","v":26.2},{"$f":"'Datos mensuales'!U145","v":25.62},{"$f":"'Datos mensuales'!W145","v":283.42},{"$f":"'Datos mensuales'!AA145","v":122.03122860000001},{"$f":"'Datos mensuales'!Z145","v":58.07},{"$f":"'Datos mensuales'!AC145","v":89.743988490000007},{"$f":"'Datos mensuales'!AD145","v":173},null,{"$f":"'Datos mensuales'!AQ145","v":0.91109500003600641},{"$f":"'Datos mensuales'!AR145","v":118.926},{"$f":"'Datos mensuales'!AO145","v":"n.d."},{"$f":"'Datos mensuales'!AP145","v":"n.d."},{"$f":"'Datos mensuales'!AN145","v":1.5679388888888885},{"$f":"'Datos mensuales'!AS145","v":9.4173899999999993},null,{"$f":"'Datos mensuales'!BJ145","v":8847.56},{"$f":"'Datos mensuales'!BK145","v":1498.8},{"$f":"'Datos mensuales'!BL145","v":1040.94}]
[null,"octubre",{"$f":"'Datos mensuales'!D146","v":"n.d."},{"$f":"'Datos mensuales'!E146","v":-1.2160799376441263},{"$f":"'Datos mensuales'!F146","v":"n.d."},{"$f":"'Datos mensuales'!G146","v":2.1264367816091889},{"$f":"'Datos mensuales'!I146","v":-0.78277886497064297},{"$f":"'Datos mensuales'!J146","v":5.8900317436196419},{"$f":"'Datos mensuales'!H146","v":2.2488091281710436},null,{"$f":"'Datos mensuales'!AW146","v":"n.d."},{"$f":"'Datos mensuales'!AX146","v":"n.d."},{"$f":"'Datos mensuales'!AY146","v":"n.d."},{"$f":"'Datos mensuales'!AU146","v":2.3425500000000001},{"$f":"'Datos mensuales'!AV146","v":2.17},{"$f":"'Datos mensuales'!AZ146","v":"n.d."},{"$f":"'Datos mensuales'!BA146","v":"n.d."},{"$f":"'Datos mensuales'!BB146","v":"n.d."},null,{"$f":"'Datos mensuales'!BC146","v":85.3},{"$f":"'Datos mensuales'!BD146","v":107.2},{"$f":"'Datos mensuales'!BE146","v":70.7},null,{"$f":"'Datos mensuales'!T146","v":22.17},{"$f":"'Datos mensuales'!U146","v":20.55},{"$f":"'Datos mensuales'!W146","v":283.0609},{"$f":"'Datos mensuales'!AA146","v":123.3369866},{"$f":"'Datos mensuales'!Z146","v":56.4},{"$f":"'Datos mensuales'!AC146","v":86.267739129999995},{"$f":"'Datos mensuales'!AD146","v":170.86956520000001},null,{"$f":"'Datos mensuales'!AQ146","v":0.90586500029780304},{"$f":"'Datos mensuales'!AR146","v":121.417},{"$f":"'Datos mensuales'!AO146","v":"n.d."},{"$f":"'Datos mensuales'!AP146","v":"n.d."},{"$f":"'Datos mensuales'!AN146","v":1.5716772727272728},{"$f":"'Datos mensuales'!AS146","v":9.3390799999999992},null,{"$f":"'Datos mensuales'!BJ146","v":9075.14},{"$f":"'Datos mensuales'!BK146","v":1690.2},{"$f":"'Datos mensuales'!BL146","v":1059.78}]
[null,"noviembre",{"$f":"'Datos mensuales'!D147","v":"n.d."},{"$f":"'Datos mensuales'!E147","v":-1.4018954188024637},{"$f":"'Datos mensuales'!F147","v":"n.d."},{"$f":"'Datos mensuales'!G147","v":1.8954623779437172},{"$f":"'Datos mensuales'!I147","v":-0.98135426889106958},{"$f":"'Datos mensuales'!J147","v":5.3878333050216494},{"$f":"'Datos mensuales'!H147","v":1.9681556833259635},null,{"$f":"'Datos mensuales'!AW147","v":"n.d."},{"$f":"'Datos mensuales'!AX147","v":"n.d."},{"$f":"'Datos mensuales'!AY147","v":"n.d."},{"$f":"'Datos mensuales'!AU147","v":2.1065100000000001},{"$f":"'Datos mensuales'!AV147","v":1.92},{"$f":"'Datos mensuales'!AZ147","v":"n.d."},{"$f":"'Datos mensuales'!BA147","v":"n.d."},{"$f":"'Datos mensuales'!BB147","v":"n.d."},null,{"$f":"'Datos mensuales'!BC147","v":84.9},{"$f":"'Datos mensuales'!BD147","v":96.2},{"$f":"'Datos mensuales'!BE147","v":77.3},null,{"$f":"'Datos mensuales'!T147","v":19.64},{"$f":"'Datos mensuales'!U147","v":18.760000000000002},{"$f":"'Datos mensuales'!W147","v":276.16359999999997},{"$f":"'Datos mensuales'!AA147","v":125.27147960000001},{"$f":"'Datos mensuales'!Z147","v":58.85},{"$f":"'Datos mensuales'!AC147","v":89.882554240000005},{"$f":"'Datos mensuales'!AD147","v":170},null,{"$f":"'Datos mensuales'!AQ147","v":0.88830899998409119},{"$f":"'Datos mensuales'!AR147","v":122.312},{"$f":"'Datos mensuales'!AO147","v":"n.d."},{"$f":"'Datos mensuales'!AP147","v":"n.d."},{"$f":"'Datos mensuales'!AN147","v":1.5922449999999999},{"$f":"'Datos mensuales'!AS147","v":9.2249800000000004},null,{"$f":"'Datos mensuales'!BJ147","v":9851.56},{"$f":"'Datos mensuales'!BK147","v":1930.58},{"$f":"'Datos mensuales'!BL147","v":1139.45}]
[null,"diciembre",{"$f":"'Datos mensuales'!D148","v":"n.d."},{"$f":"'Datos mensuales'!E148","v":-3.5613868779145581},{"$f":"'Datos mensuales'!F148","v":"n.d."},{"$f":"'Datos mensuales'!G148","v":1.5517241379310278},{"$f":"'Datos mensuales'!I148","v":-1.1764705882352968},{"$f":"'Datos mensuales'!J148","v":4.4034985590446762},{"$f":"'Datos mensuales'!H148","v":2.0489094514210171},null,{"$f":"'Datos mensuales'!AW148","v":"n.d."},{"$f":"'Datos mensuales'!AX148","v":"n.d."},{"$f":"'Datos mensuales'!AY148","v":"n.d."},{"$f":"'Datos mensuales'!AU148","v":1.9882899999999999},{"$f":"'Datos mensuales'!AV148","v":1.82},{"$f":"'Datos mensuales'!AZ148","v":"n.d."},{"$f":"'Datos mensuales'!BA148","v":"n.d."},{"$f":"'Datos mensuales'!BB148","v":"n.d."},null,{"$f":"'Datos mensuales'!BC148","v":94.6},{"$f":"'Datos mensuales'!BD148","v":97.8},{"$f":"'Datos mensuales'!BE148","v":92.4},null,{"$f":"'Datos mensuales'!T148","v":19.39},{"$f":"'Datos mensuales'!U148","v":18.71},{"$f":"'Datos mensuales'!W148","v":275.84710000000001},{"$f":"'Datos mensuales'!AA148","v":122.5330622},{"$f":"'Datos mensuales'!Z148","v":56.72},{"$f":"'Datos mensuales'!AC148","v":92.311515170000007},{"$f":"'Datos mensuales'!AD148","v":179.38095240000001},null,{"$f":"'Datos mensuales'!AQ148","v":0.89237200003875738},{"$f":"'Datos mensuales'!AR148","v":127.59399999999999},{"$f":"'Datos mensuales'!AO148","v":"n.d."},{"$f":"'Datos mensuales'!AP148","v":"n.d."},{"$f":"'Datos mensuales'!AN148","v":1.5780315789473685},{"$f":"'Datos mensuales'!AS148","v":9.1573799999999999},null,{"$f":"'Datos mensuales'!BJ148","v":10021.5},{"$f":"'Datos mensuales'!BK148","v":1950.4},{"$f":"'Datos mensuales'!BL148","v":1148.08}]
[2002,"enero",{"$f":"'Datos mensuales'!D149","v":"n.d."},{"$f":"'Datos mensuales'!E149","v":-1},{"$f":"'Datos mensuales'!F149","v":"n.d."},{"$f":"'Datos mensuales'!G149","v":1.1422044545973729},{"$f":"'Datos mensuales'!I149","v":-1.3725490196078487},{"$f":"'Datos mensuales'!J149","v":4.7863571113843619},{"$f":"'Datos mensuales'!H149","v":2.6117751217352803},null,{"$f":"'Datos mensuales'!AW149","v":1.82},{"$f":"'Datos mensuales'!AX149","v":3.34},{"$f":"'Datos mensuales'!AY149","v":0.09},{"$f":"'Datos mensuales'!AU149","v":1.93418},{"$f":"'Datos mensuales'!AV149","v":1.77},{"$f":"'Datos mensuales'!AZ149","v":5},{"$f":"'Datos mensuales'!BA149","v":5.0199999999999996},{"$f":"'Datos mensuales'!BB149","v":1.42},null,{"$f":"'Datos mensuales'!BC149","v":97.8},{"$f":"'Datos mensuales'!BD149","v":98.1},{"$f":"'Datos mensuales'!BE149","v":97.6},null,{"$f":"'Datos mensuales'!T149","v":19.72},{"$f":"'Datos mensuales'!U149","v":19.420000000000002},{"$f":"'Datos mensuales'!W149","v":281.51139999999998},{"$f":"'Datos mensuales'!AA149","v":125.3104074},{"$f":"'Datos mensuales'!Z149","v":58.25},{"$f":"'Datos mensuales'!AC149","v":91.966960589999999},{"$f":"'Datos mensuales'!AD149","v":191.13043479999999},null,{"$f":"'Datos mensuales'!AQ149","v":0.88328600008286806},{"$f":"'Datos mensuales'!AR149","v":132.62799999999999},{"$f":"'Datos mensuales'!AO149","v":"n.d."},{"$f":"'Datos mensuales'!AP149","v":"n.d."},{"$f":"'Datos mensuales'!AN149","v":1.59971},{"$f":"'Datos mensuales'!AS149","v":9.1636199999999999},null,{"$f":"'Datos mensuales'!BJ149","v":9920},{"$f":"'Datos mensuales'!BK149","v":1934.03},{"$f":"'Datos mensuales'!BL149","v":1130.2}]
[null,"febrero",{"$f":"'Datos mensuales'!D150","v":"n.d."},{"$f":"'Datos mensuales'!E150","v":0},{"$f":"'Datos mensuales'!F150","v":"n.d."},{"$f":"'Datos mensuales'!G150","v":1.1376564277588168},{"$f":"'Datos mensuales'!I150","v":-1.5732546705998118},{"$f":"'Datos mensuales'!J150","v":4.7883443052670041},{"$f":"'Datos mensuales'!H150","v":2.5162785564507244},null,{"$f":"'Datos mensuales'!AW150","v":1.9},{"$f":"'Datos mensuales'!AX150","v":3.36},{"$f":"'Datos mensuales'!AY150","v":0.1},{"$f":"'Datos mensuales'!AU150","v":2.03559},{"$f":"'Datos mensuales'!AV150","v":1.86},{"$f":"'Datos mensuales'!AZ150","v":4.9000000000000004},{"$f":"'Datos mensuales'!BA150","v":5.07},{"$f":"'Datos mensuales'!BB150","v":1.52},null,{"$f":"'Datos mensuales'!BC150","v":95},{"$f":"'Datos mensuales'!BD150","v":96.4},{"$f":"'Datos mensuales'!BE150","v":94},null,{"$f":"'Datos mensuales'!T150","v":20.72},{"$f":"'Datos mensuales'!U150","v":20.28},{"$f":"'Datos mensuales'!W150","v":295.495},{"$f":"'Datos mensuales'!AA150","v":123.2846711},{"$f":"'Datos mensuales'!Z150","v":59.12},{"$f":"'Datos mensuales'!AC150","v":90.728193840000003},{"$f":"'Datos mensuales'!AD150","v":194.35},null,{"$f":"'Datos mensuales'!AQ150","v":0.87003499997678757},{"$f":"'Datos mensuales'!AR150","v":133.64699999999999},{"$f":"'Datos mensuales'!AO150","v":"n.d."},{"$f":"'Datos mensuales'!AP150","v":"n.d."},{"$f":"'Datos mensuales'!AN150","v":1.59612},{"$f":"'Datos mensuales'!AS150","v":9.1058400000000006},null,{"$f":"'Datos mensuales'!BJ150","v":10106.129999999999},{"$f":"'Datos mensuales'!BK150","v":1731.49},{"$f":"'Datos mensuales'!BL150","v":1106.73}]
[null,"marzo",{"$f":"'Datos mensuales'!D151","v":"n.d."},{"$f":"'Datos mensuales'!E151","v":-0.79999999999999716},{"$f":"'Datos mensuales'!F151","v":"n.d."},{"$f":"'Datos mensuales'!G151","v":1.4755959137344057},{"$f":"'Datos mensuales'!I151","v":-1.1822660098522195},{"$f":"'Datos mensuales'!J151","v":4.6612472488653998},{"$f":"'Datos mensuales'!H151","v":2.5021949078138728},null,{"$f":"'Datos mensuales'!AW151","v":1.99},{"$f":"'Datos mensuales'!AX151","v":3.39},{"$f":"'Datos mensuales'!AY151","v":0.1},{"$f":"'Datos mensuales'!AU151","v":2.2353100000000001},{"$f":"'Datos mensuales'!AV151","v":2.06},{"$f":"'Datos mensuales'!AZ151","v":5.28},{"$f":"'Datos mensuales'!BA151","v":5.32},{"$f":"'Datos mensuales'!BB151","v":1.45},null,{"$f":"'Datos mensuales'!BC151","v":110.7},{"$f":"'Datos mensuales'!BD151","v":111.5},{"$f":"'Datos mensuales'!BE151","v":110.2},null,{"$f":"'Datos mensuales'!T151","v":24.53},{"$f":"'Datos mensuales'!U151","v":23.7},{"$f":"'Datos mensuales'!W151","v":294.05500000000001},{"$f":"'Datos mensuales'!AA151","v":122.5562955},{"$f":"'Datos mensuales'!Z151","v":64.47},{"$f":"'Datos mensuales'!AC151","v":89.857949110000007},{"$f":"'Datos mensuales'!AD151","v":189.2857143},null,{"$f":"'Datos mensuales'!AQ151","v":0.87580000027657767},{"$f":"'Datos mensuales'!AR151","v":131.06100000000001},{"$f":"'Datos mensuales'!AO151","v":"n.d."},{"$f":"'Datos mensuales'!AP151","v":"n.d."},{"$f":"'Datos mensuales'!AN151","v":1.5877399999999999},{"$f":"'Datos mensuales'!AS151","v":9.0730000000000004},null,{"$f":"'Datos mensuales'!BJ151","v":10403.94},{"$f":"'Datos mensuales'!BK151","v":1845.35},{"$f":"'Datos mensuales'!BL151","v":1147.3900000000001}]
[null,"abril ",{"$f":"'Datos mensuales'!D152","v":"n.d."},{"$f":"'Datos mensuales'!E152","v":-1.2999999999999972},{"$f":"'Datos mensuales'!F152","v":"n.d."},{"$f":"'Datos mensuales'!G152","v":1.6393442622950851},{"$f":"'Datos mensuales'!I152","v":-1.0816125860373731},{"$f":"'Datos mensuales'!J152","v":4.7047921862165438},{"$f":"'Datos mensuales'!H152","v":2.3007305637335072},null,{"$f":"'Datos mensuales'!AW152","v":1.97},{"$f":"'Datos mensuales'!AX152","v":3.41},{"$f":"'Datos mensuales'!AY152","v":0.08},{"$f":"'Datos mensuales'!AU152","v":2.20696},{"$f":"'Datos mensuales'!AV152","v":1.98},{"$f":"'Datos mensuales'!AZ152","v":5.21},{"$f":"'Datos mensuales'!BA152","v":5.3},{"$f":"'Datos mensuales'!BB152","v":1.39},null,{"$f":"'Datos mensuales'!BC152","v":108.5},{"$f":"'Datos mensuales'!BD152","v":106.8},{"$f":"'Datos mensuales'!BE152","v":109.6},null,{"$f":"'Datos mensuales'!T152","v":26.18},{"$f":"'Datos mensuales'!U152","v":25.73},{"$f":"'Datos mensuales'!W152","v":302.68329999999997},{"$f":"'Datos mensuales'!AA152","v":123.7217713},{"$f":"'Datos mensuales'!Z152","v":65.430000000000007},{"$f":"'Datos mensuales'!AC152","v":87.106647769999995},{"$f":"'Datos mensuales'!AD152","v":189.5},null,{"$f":"'Datos mensuales'!AQ152","v":0.88584300001829785},{"$f":"'Datos mensuales'!AR152","v":130.816},{"$f":"'Datos mensuales'!AO152","v":"n.d."},{"$f":"'Datos mensuales'!AP152","v":"n.d."},{"$f":"'Datos mensuales'!AN152","v":1.5813299999999999},{"$f":"'Datos mensuales'!AS152","v":9.1661999999999999},null,{"$f":"'Datos mensuales'!BJ152","v":9946.2199999999993},{"$f":"'Datos mensuales'!BK152","v":1688.23},{"$f":"'Datos mensuales'!BL152","v":1076.92}]
[null,"mayo",{"$f":"'Datos mensuales'!D153","v":"n.d."},{"$f":"'Datos mensuales'!E153","v":-1.0999999999999943},{"$f":"'Datos mensuales'!F153","v":"n.d."},{"$f":"'Datos mensuales'!G153","v":1.1817670230726072},{"$f":"'Datos mensuales'!I153","v":-0.88408644400785019},{"$f":"'Datos mensuales'!J153","v":4.6768139588163757},{"$f":"'Datos mensuales'!H153","v":2.0188863562357535},null,{"$f":"'Datos mensuales'!AW153","v":1.91},{"$f":"'Datos mensuales'!AX153","v":3.46},{"$f":"'Datos mensuales'!AY153","v":0.08},{"$f":"'Datos mensuales'!AU153","v":2.1005099999999999},{"$f":"'Datos mensuales'!AV153","v":1.91},{"$f":"'Datos mensuales'!AZ153","v":5.15},{"$f":"'Datos mensuales'!BA153","v":5.3},{"$f":"'Datos mensuales'!BB153","v":1.38},null,{"$f":"'Datos mensuales'!BC153","v":110.3},{"$f":"'Datos mensuales'!BD153","v":111.2},{"$f":"'Datos mensuales'!BE153","v":109.7},null,{"$f":"'Datos mensuales'!T153","v":27.04},{"$f":"'Datos mensuales'!U153","v":25.35},{"$f":"'Datos mensuales'!W153","v":314.4932},{"$f":"'Datos mensuales'!AA153","v":121.46406380000001},{"$f":"'Datos mensuales'!Z153","v":61.4},{"$f":"'Datos mensuales'!AC153","v":90.331305020000002},{"$f":"'Datos mensuales'!AD153","v":198.30434779999999},null,{"$f":"'Datos mensuales'!AQ153","v":0.91699999991105097},{"$f":"'Datos mensuales'!AR153","v":126.375},{"$f":"'Datos mensuales'!AO153","v":"n.d."},{"$f":"'Datos mensuales'!AP153","v":"n.d."},{"$f":"'Datos mensuales'!AN153","v":1.5501499999999999},{"$f":"'Datos mensuales'!AS153","v":9.5098900000000004},null,{"$f":"'Datos mensuales'!BJ153","v":9925.25},{"$f":"'Datos mensuales'!BK153","v":1615.73},{"$f":"'Datos mensuales'!BL153","v":1067.1400000000001}]
[null,"junio",{"$f":"'Datos mensuales'!D154","v":"n.d."},{"$f":"'Datos mensuales'!E154","v":-0.79999999999999716},{"$f":"'Datos mensuales'!F154","v":"n.d."},{"$f":"'Datos mensuales'!G154","v":1.0674157303370819},{"$f":"'Datos mensuales'!I154","v":-0.68965517241379581},{"$f":"'Datos mensuales'!J154","v":4.938986423702536},{"$f":"'Datos mensuales'!H154","v":1.9193233571893256},null,{"$f":"'Datos mensuales'!AW154","v":1.88},{"$f":"'Datos mensuales'!AX154","v":3.46},{"$f":"'Datos mensuales'!AY154","v":7.0000000000000007E-2},{"$f":"'Datos mensuales'!AU154","v":2.00177},{"$f":"'Datos mensuales'!AV154","v":1.83},{"$f":"'Datos mensuales'!AZ154","v":4.9000000000000004},{"$f":"'Datos mensuales'!BA154","v":5.16},{"$f":"'Datos mensuales'!BB154","v":1.36},null,{"$f":"'Datos mensuales'!BC154","v":106.3},{"$f":"'Datos mensuales'!BD154","v":104.9},{"$f":"'Datos mensuales'!BE154","v":107.2},null,{"$f":"'Datos mensuales'!T154","v":25.52},{"$f":"'Datos mensuales'!U154","v":24.08},{"$f":"'Datos mensuales'!W154","v":321.17779999999999},{"$f":"'Datos mensuales'!AA154","v":132.0341406},{"$f":"'Datos mensuales'!Z154","v":58.57},{"$f":"'Datos mensuales'!AC154","v":93.169800129999999},{"$f":"'Datos mensuales'!AD154","v":202},null,{"$f":"'Datos mensuales'!AQ154","v":0.95544000009829577},{"$f":"'Datos mensuales'!AR154","v":123.29},{"$f":"'Datos mensuales'!AO154","v":"n.d."},{"$f":"'Datos mensuales'!AP154","v":"n.d."},{"$f":"'Datos mensuales'!AN154","v":1.5318400000000001},{"$f":"'Datos mensuales'!AS154","v":9.76708},null,{"$f":"'Datos mensuales'!BJ154","v":9243.26},{"$f":"'Datos mensuales'!BK154","v":1463.21},{"$f":"'Datos mensuales'!BL154","v":989.81}]
[null,"julio",{"$f":"'Datos mensuales'!D155","v":"n.d."},{"$f":"'Datos mensuales'!E155","v":-0.90000000000000568},{"$f":"'Datos mensuales'!F155","v":"n.d."},{"$f":"'Datos mensuales'!G155","v":1.4647887323943631},{"$f":"'Datos mensuales'!I155","v":-0.79051383399209207},{"$f":"'Datos mensuales'!J155","v":5.5143872764192556},{"$f":"'Datos mensuales'!H155","v":2.0206409560021723},null,{"$f":"'Datos mensuales'!AW155","v":1.85},{"$f":"'Datos mensuales'!AX155","v":3.41},{"$f":"'Datos mensuales'!AY155","v":7.0000000000000007E-2},{"$f":"'Datos mensuales'!AU155","v":1.90524},{"$f":"'Datos mensuales'!AV155","v":1.74},{"$f":"'Datos mensuales'!AZ155","v":4.62},{"$f":"'Datos mensuales'!BA155","v":5.03},{"$f":"'Datos mensuales'!BB155","v":1.3},null,{"$f":"'Datos mensuales'!BC155","v":97.4},{"$f":"'Datos mensuales'!BD155","v":99.4},{"$f":"'Datos mensuales'!BE155","v":96.1},null,{"$f":"'Datos mensuales'!T155","v":26.97},{"$f":"'Datos mensuales'!U155","v":25.74},{"$f":"'Datos mensuales'!W155","v":313.29129999999998},{"$f":"'Datos mensuales'!AA155","v":149.3049887},{"$f":"'Datos mensuales'!Z155","v":56.48},{"$f":"'Datos mensuales'!AC155","v":99.700002679999997},{"$f":"'Datos mensuales'!AD155","v":199.6086957},null,{"$f":"'Datos mensuales'!AQ155","v":0.99218299991524672},{"$f":"'Datos mensuales'!AR155","v":117.899},{"$f":"'Datos mensuales'!AO155","v":"n.d."},{"$f":"'Datos mensuales'!AP155","v":"n.d."},{"$f":"'Datos mensuales'!AN155","v":1.54555},{"$f":"'Datos mensuales'!AS155","v":9.7791700000000006},null,{"$f":"'Datos mensuales'!BJ155","v":8736.59},{"$f":"'Datos mensuales'!BK155","v":1328.26},{"$f":"'Datos mensuales'!BL155","v":911.62}]
[null,"agosto",{"$f":"'Datos mensuales'!D156","v":"n.d."},{"$f":"'Datos mensuales'!E156","v":-0.70000000000000284},{"$f":"'Datos mensuales'!F156","v":"n.d."},{"$f":"'Datos mensuales'!G156","v":1.8028169014084443},{"$f":"'Datos mensuales'!I156","v":-0.88582677165353496},{"$f":"'Datos mensuales'!J156","v":5.2917544722454766},{"$f":"'Datos mensuales'!H156","v":2.1204871683340616},null,{"$f":"'Datos mensuales'!AW156","v":1.78},{"$f":"'Datos mensuales'!AX156","v":3.35},{"$f":"'Datos mensuales'!AY156","v":7.0000000000000007E-2},{"$f":"'Datos mensuales'!AU156","v":1.7638499999999999},{"$f":"'Datos mensuales'!AV156","v":1.64},{"$f":"'Datos mensuales'!AZ156","v":4.24},{"$f":"'Datos mensuales'!BA156","v":4.7300000000000004},{"$f":"'Datos mensuales'!BB156","v":1.26},null,{"$f":"'Datos mensuales'!BC156","v":94.5},{"$f":"'Datos mensuales'!BD156","v":93.1},{"$f":"'Datos mensuales'!BE156","v":95.5},null,{"$f":"'Datos mensuales'!T156","v":28.39},{"$f":"'Datos mensuales'!U156","v":26.65},{"$f":"'Datos mensuales'!W156","v":310.25479999999999},{"$f":"'Datos mensuales'!AA156","v":161.2589341},{"$f":"'Datos mensuales'!Z156","v":54.27},{"$f":"'Datos mensuales'!AC156","v":109.8910018},{"$f":"'Datos mensuales'!AD156","v":191.31818179999999},null,{"$f":"'Datos mensuales'!AQ156","v":0.97775900011173233},{"$f":"'Datos mensuales'!AR156","v":119},{"$f":"'Datos mensuales'!AO156","v":"n.d."},{"$f":"'Datos mensuales'!AP156","v":"n.d."},{"$f":"'Datos mensuales'!AN156","v":1.5691999999999999},{"$f":"'Datos mensuales'!AS156","v":9.8387100000000007},null,{"$f":"'Datos mensuales'!BJ156","v":8663.5},{"$f":"'Datos mensuales'!BK156","v":1314.85},{"$f":"'Datos mensuales'!BL156","v":916.07}]
[null,"septiembre",{"$f":"'Datos mensuales'!D157","v":"n.d."},{"$f":"'Datos mensuales'!E157","v":-0.70000000000000284},{"$f":"'Datos mensuales'!F157","v":"n.d."},{"$f":"'Datos mensuales'!G157","v":1.5143017386427304},{"$f":"'Datos mensuales'!I157","v":-0.69033530571992385},{"$f":"'Datos mensuales'!J157","v":4.9481152262099073},{"$f":"'Datos mensuales'!H157","v":2.1036651485577944},null,{"$f":"'Datos mensuales'!AW157","v":1.8},{"$f":"'Datos mensuales'!AX157","v":3.31},{"$f":"'Datos mensuales'!AY157","v":7.0000000000000007E-2},{"$f":"'Datos mensuales'!AU157","v":1.7799400000000001},{"$f":"'Datos mensuales'!AV157","v":1.64},{"$f":"'Datos mensuales'!AZ157","v":3.88},{"$f":"'Datos mensuales'!BA157","v":4.5199999999999996},{"$f":"'Datos mensuales'!BB157","v":1.1599999999999999},null,{"$f":"'Datos mensuales'!BC157","v":93.7},{"$f":"'Datos mensuales'!BD157","v":88.5},{"$f":"'Datos mensuales'!BE157","v":97.2},null,{"$f":"'Datos mensuales'!T157","v":29.66},{"$f":"'Datos mensuales'!U157","v":28.4},{"$f":"'Datos mensuales'!W157","v":319.13569999999999},{"$f":"'Datos mensuales'!AA157","v":187.84280989999999},{"$f":"'Datos mensuales'!Z157","v":60.67},{"$f":"'Datos mensuales'!AC157","v":113.9414542},{"$f":"'Datos mensuales'!AD157","v":188.4761905},null,{"$f":"'Datos mensuales'!AQ157","v":0.9807950001393414},{"$f":"'Datos mensuales'!AR157","v":121.078},{"$f":"'Datos mensuales'!AO157","v":"n.d."},{"$f":"'Datos mensuales'!AP157","v":"n.d."},{"$f":"'Datos mensuales'!AN157","v":1.5761400000000001},{"$f":"'Datos mensuales'!AS157","v":10.0708},null,{"$f":"'Datos mensuales'!BJ157","v":7591.93},{"$f":"'Datos mensuales'!BK157","v":1172.06},{"$f":"'Datos mensuales'!BL157","v":815.28}]
[null,"octubre",{"$f":"'Datos mensuales'!D158","v":"n.d."},{"$f":"'Datos mensuales'!E158","v":-0.79999999999999716},{"$f":"'Datos mensuales'!F158","v":"n.d."},{"$f":"'Datos mensuales'!G158","v":2.0258863252673174},{"$f":"'Datos mensuales'!I158","v":-0.88757396449704695},{"$f":"'Datos mensuales'!J158","v":4.9364119033448084},{"$f":"'Datos mensuales'!H158","v":2.2968580715059641},null,{"$f":"'Datos mensuales'!AW158","v":1.78},{"$f":"'Datos mensuales'!AX158","v":3.26},{"$f":"'Datos mensuales'!AY158","v":7.0000000000000007E-2},{"$f":"'Datos mensuales'!AU158","v":1.7367699999999999},{"$f":"'Datos mensuales'!AV158","v":1.59},{"$f":"'Datos mensuales'!AZ158","v":3.91},{"$f":"'Datos mensuales'!BA158","v":4.62},{"$f":"'Datos mensuales'!BB158","v":1.0900000000000001},null,{"$f":"'Datos mensuales'!BC158","v":79.400000000000006},{"$f":"'Datos mensuales'!BD158","v":77.5},{"$f":"'Datos mensuales'!BE158","v":80.7},null,{"$f":"'Datos mensuales'!T158","v":28.84},{"$f":"'Datos mensuales'!U158","v":27.54},{"$f":"'Datos mensuales'!W158","v":316.55650000000003},{"$f":"'Datos mensuales'!AA158","v":190.3162178},{"$f":"'Datos mensuales'!Z158","v":65.73},{"$f":"'Datos mensuales'!AC158","v":109.64680989999999},{"$f":"'Datos mensuales'!AD158","v":185.47826090000001},null,{"$f":"'Datos mensuales'!AQ158","v":0.98112318982771485},{"$f":"'Datos mensuales'!AR158","v":123.908},{"$f":"'Datos mensuales'!AO158","v":"n.d."},{"$f":"'Datos mensuales'!AP158","v":"n.d."},{"$f":"'Datos mensuales'!AN158","v":1.5780099999999999},{"$f":"'Datos mensuales'!AS158","v":10.094099999999999},null,{"$f":"'Datos mensuales'!BJ158","v":8397.0300000000007},{"$f":"'Datos mensuales'!BK158","v":1329.75},{"$f":"'Datos mensuales'!BL158","v":885.76}]
[null,"noviembre",{"$f":"'Datos mensuales'!D159","v":"n.d."},{"$f":"'Datos mensuales'!E159","v":-0.70000000000000284},{"$f":"'Datos mensuales'!F159","v":"n.d."},{"$f":"'Datos mensuales'!G159","v":2.1984216459977484},{"$f":"'Datos mensuales'!I159","v":-0.39643211100099673},{"$f":"'Datos mensuales'!J159","v":5.3881075134145107},{"$f":"'Datos mensuales'!H159","v":2.2880069399262624},null,{"$f":"'Datos mensuales'!AW159","v":1.46},{"$f":"'Datos mensuales'!AX159","v":3.12},{"$f":"'Datos mensuales'!AY159","v":7.0000000000000007E-2},{"$f":"'Datos mensuales'!AU159","v":1.4616400000000001},{"$f":"'Datos mensuales'!AV159","v":1.3},{"$f":"'Datos mensuales'!AZ159","v":4.04},{"$f":"'Datos mensuales'!BA159","v":4.59},{"$f":"'Datos mensuales'!BB159","v":0.99},null,{"$f":"'Datos mensuales'!BC159","v":84.9},{"$f":"'Datos mensuales'!BD159","v":78.3},{"$f":"'Datos mensuales'!BE159","v":89.3},null,{"$f":"'Datos mensuales'!T159","v":26.35},{"$f":"'Datos mensuales'!U159","v":29.6},{"$f":"'Datos mensuales'!W159","v":319.06670000000003},{"$f":"'Datos mensuales'!AA159","v":176.26157359999999},{"$f":"'Datos mensuales'!Z159","v":69.87},{"$f":"'Datos mensuales'!AC159","v":108.6464294},{"$f":"'Datos mensuales'!AD159","v":187.19047620000001},null,{"$f":"'Datos mensuales'!AQ159","v":1.0017992314196296},{"$f":"'Datos mensuales'!AR159","v":121.505},{"$f":"'Datos mensuales'!AO159","v":"n.d."},{"$f":"'Datos mensuales'!AP159","v":"n.d."},{"$f":"'Datos mensuales'!AN159","v":1.57145},{"$f":"'Datos mensuales'!AS159","v":10.1952},null,{"$f":"'Datos mensuales'!BJ159","v":8896.09},{"$f":"'Datos mensuales'!BK159","v":1478.78},{"$f":"'Datos mensuales'!BL159","v":936.31}]
[null,"diciembre",{"$f":"'Datos mensuales'!D160","v":"n.d."},{"$f":"'Datos mensuales'!E160","v":-0.40000000000000568},{"$f":"'Datos mensuales'!F160","v":"n.d."},{"$f":"'Datos mensuales'!G160","v":2.3769100169779387},{"$f":"'Datos mensuales'!I160","v":-0.29761904761904484},{"$f":"'Datos mensuales'!J160","v":5.7004794045940432},{"$f":"'Datos mensuales'!H160","v":2.2776338514680479},null,{"$f":"'Datos mensuales'!AW160","v":1.41},{"$f":"'Datos mensuales'!AX160","v":2.94},{"$f":"'Datos mensuales'!AY160","v":0.06},{"$f":"'Datos mensuales'!AU160","v":1.42222},{"$f":"'Datos mensuales'!AV160","v":1.27},{"$f":"'Datos mensuales'!AZ160","v":4.03},{"$f":"'Datos mensuales'!BA160","v":4.41},{"$f":"'Datos mensuales'!BB160","v":0.97},null,{"$f":"'Datos mensuales'!BC160","v":80.7},{"$f":"'Datos mensuales'!BD160","v":69.599999999999994},{"$f":"'Datos mensuales'!BE160","v":88.1},null,{"$f":"'Datos mensuales'!T160","v":29.46},{"$f":"'Datos mensuales'!U160","v":28.33},{"$f":"'Datos mensuales'!W160","v":331.9194},{"$f":"'Datos mensuales'!AA160","v":168.97712419999999},{"$f":"'Datos mensuales'!Z160","v":64.16},{"$f":"'Datos mensuales'!AC160","v":107.0126485},{"$f":"'Datos mensuales'!AD160","v":185.27272730000001},null,{"$f":"'Datos mensuales'!AQ160","v":1.0191664441486596},{"$f":"'Datos mensuales'!AR160","v":121.893},{"$f":"'Datos mensuales'!AO160","v":"n.d."},{"$f":"'Datos mensuales'!AP160","v":"n.d."},{"$f":"'Datos mensuales'!AN160","v":1.5592200000000001},{"$f":"'Datos mensuales'!AS160","v":10.225099999999999},null,{"$f":"'Datos mensuales'!BJ160","v":8341.6299999999992},{"$f":"'Datos mensuales'!BK160","v":1335.51},{"$f":"'Datos mensuales'!BL160","v":879.82}]
[2003,"enero",{"$f":"'Datos mensuales'!D161","v":"n.d."},{"$f":"'Datos mensuales'!E161","v":0.40000000000000568},{"$f":"'Datos mensuales'!F161","v":"n.d."},{"$f":"'Datos mensuales'!G161","v":2.5974025974025943},{"$f":"'Datos mensuales'!I161","v":-0.39761431411529968},{"$f":"'Datos mensuales'!J161","v":5.1570615398194857},{"$f":"'Datos mensuales'!H161","v":2.1031061259706672},null,{"$f":"'Datos mensuales'!AW161","v":1.37},{"$f":"'Datos mensuales'!AX161","v":2.83},{"$f":"'Datos mensuales'!AY161","v":0.06},{"$f":"'Datos mensuales'!AU161","v":1.37293},{"$f":"'Datos mensuales'!AV161","v":1.22},{"$f":"'Datos mensuales'!AZ161","v":4.0199999999999996},{"$f":"'Datos mensuales'!BA161","v":4.2699999999999996},{"$f":"'Datos mensuales'!BB161","v":0.84},null,{"$f":"'Datos mensuales'!BC161","v":79},{"$f":"'Datos mensuales'!BD161","v":69.599999999999994},{"$f":"'Datos mensuales'!BE161","v":81.400000000000006},null,{"$f":"'Datos mensuales'!T161","v":32.950000000000003},{"$f":"'Datos mensuales'!U161","v":31.18},{"$f":"'Datos mensuales'!W161","v":356.85910000000001},{"$f":"'Datos mensuales'!AA161","v":149.5992143},{"$f":"'Datos mensuales'!Z161","v":65.569999999999993},{"$f":"'Datos mensuales'!AC161","v":105.75286560000001},{"$f":"'Datos mensuales'!AD161","v":199.73913039999999},null,{"$f":"'Datos mensuales'!AQ161","v":1.0618399999999999},{"$f":"'Datos mensuales'!AR161","v":118.813},{"$f":"'Datos mensuales'!AO161","v":"n.d."},{"$f":"'Datos mensuales'!AP161","v":"n.d."},{"$f":"'Datos mensuales'!AN161","v":1.5414479999999999},{"$f":"'Datos mensuales'!AS161","v":10.622299999999999},null,{"$f":"'Datos mensuales'!BJ161","v":8053.81},{"$f":"'Datos mensuales'!BK161","v":1320.91},{"$f":"'Datos mensuales'!BL161","v":855.7}]
[null,"febrero",{"$f":"'Datos mensuales'!D162","v":"n.d."},{"$f":"'Datos mensuales'!E162","v":0.20000000000000284},{"$f":"'Datos mensuales'!F162","v":"n.d."},{"$f":"'Datos mensuales'!G162","v":2.9808773903261994},{"$f":"'Datos mensuales'!I162","v":-0.19980019980018843},{"$f":"'Datos mensuales'!J162","v":5.5169977327781474},{"$f":"'Datos mensuales'!H162","v":2.3683927225750918},null,{"$f":"'Datos mensuales'!AW162","v":1.34},{"$f":"'Datos mensuales'!AX162","v":2.69},{"$f":"'Datos mensuales'!AY162","v":0.06},{"$f":"'Datos mensuales'!AU162","v":1.34338},{"$f":"'Datos mensuales'!AV162","v":1.2},{"$f":"'Datos mensuales'!AZ162","v":3.9},{"$f":"'Datos mensuales'!BA162","v":4.0599999999999996},{"$f":"'Datos mensuales'!BB162","v":0.83},null,{"$f":"'Datos mensuales'!BC162","v":64},{"$f":"'Datos mensuales'!BD162","v":61.6},{"$f":"'Datos mensuales'!BE162","v":65.599999999999994},null,{"$f":"'Datos mensuales'!T162","v":35.83},{"$f":"'Datos mensuales'!U162","v":32.770000000000003},{"$f":"'Datos mensuales'!W162","v":358.97},{"$f":"'Datos mensuales'!AA162","v":150.83815509999999},{"$f":"'Datos mensuales'!Z162","v":66.41},{"$f":"'Datos mensuales'!AC162","v":106.0371916},{"$f":"'Datos mensuales'!AD162","v":198.75},null,{"$f":"'Datos mensuales'!AQ162","v":1.078422},{"$f":"'Datos mensuales'!AR162","v":119.33799999999999},{"$f":"'Datos mensuales'!AO162","v":"n.d."},{"$f":"'Datos mensuales'!AP162","v":"n.d."},{"$f":"'Datos mensuales'!AN162","v":1.5121500000000001},{"$f":"'Datos mensuales'!AS162","v":10.944699999999999},null,{"$f":"'Datos mensuales'!BJ162","v":7891.08},{"$f":"'Datos mensuales'!BK162","v":1337.52},{"$f":"'Datos mensuales'!BL162","v":841.15}]
[null,"marzo",{"$f":"'Datos mensuales'!D163","v":"n.d."},{"$f":"'Datos mensuales'!E163","v":0.90000000000000568},{"$f":"'Datos mensuales'!F163","v":"n.d."},{"$f":"'Datos mensuales'!G163","v":3.0201342281879064},{"$f":"'Datos mensuales'!I163","v":-9.9700897308070108E-2},{"$f":"'Datos mensuales'!J163","v":5.6426710948939114},{"$f":"'Datos mensuales'!H163","v":2.4518201284796488},null,{"$f":"'Datos mensuales'!AW163","v":1.29},{"$f":"'Datos mensuales'!AX163","v":2.5299999999999998},{"$f":"'Datos mensuales'!AY163","v":0.06},{"$f":"'Datos mensuales'!AU163","v":1.2642899999999999},{"$f":"'Datos mensuales'!AV163","v":1.1599999999999999},{"$f":"'Datos mensuales'!AZ163","v":3.79},{"$f":"'Datos mensuales'!BA163","v":4.13},{"$f":"'Datos mensuales'!BB163","v":0.74},null,{"$f":"'Datos mensuales'!BC163","v":62.5},{"$f":"'Datos mensuales'!BD163","v":63.5},{"$f":"'Datos mensuales'!BE163","v":62.5},null,{"$f":"'Datos mensuales'!T163","v":33.51},{"$f":"'Datos mensuales'!U163","v":30.61},{"$f":"'Datos mensuales'!W163","v":340.55},{"$f":"'Datos mensuales'!AA163","v":141.8086821},{"$f":"'Datos mensuales'!Z163","v":61.75},{"$f":"'Datos mensuales'!AC163","v":105.0640156},{"$f":"'Datos mensuales'!AD163","v":196.952381},null,{"$f":"'Datos mensuales'!AQ163","v":1.078454},{"$f":"'Datos mensuales'!AR163","v":118.687},{"$f":"'Datos mensuales'!AO163","v":"n.d."},{"$f":"'Datos mensuales'!AP163","v":"n.d."},{"$f":"'Datos mensuales'!AN163","v":1.4760800000000001},{"$f":"'Datos mensuales'!AS163","v":10.9053},null,{"$f":"'Datos mensuales'!BJ163","v":7992.13},{"$f":"'Datos mensuales'!BK163","v":1341.17},{"$f":"'Datos mensuales'!BL163","v":848.18}]
[null,"abril ",{"$f":"'Datos mensuales'!D164","v":"n.d."},{"$f":"'Datos mensuales'!E164","v":1},{"$f":"'Datos mensuales'!F164","v":"n.d."},{"$f":"'Datos mensuales'!G164","v":2.2246941045606228},{"$f":"'Datos mensuales'!I164","v":-9.9403578528821396E-2},{"$f":"'Datos mensuales'!J164","v":5.2481119211117244},{"$f":"'Datos mensuales'!H164","v":2.0784480920912416},null,{"$f":"'Datos mensuales'!AW164","v":1.3},{"$f":"'Datos mensuales'!AX164","v":2.54},{"$f":"'Datos mensuales'!AY164","v":0.06},{"$f":"'Datos mensuales'!AU164","v":1.2793099999999999},{"$f":"'Datos mensuales'!AV164","v":1.17},{"$f":"'Datos mensuales'!AZ164","v":3.94},{"$f":"'Datos mensuales'!BA164","v":4.2300000000000004},{"$f":"'Datos mensuales'!BB164","v":0.66},null,{"$f":"'Datos mensuales'!BC164","v":81},{"$f":"'Datos mensuales'!BD164","v":84.8},{"$f":"'Datos mensuales'!BE164","v":75.2},null,{"$f":"'Datos mensuales'!T164","v":28.17},{"$f":"'Datos mensuales'!U164","v":25},{"$f":"'Datos mensuales'!W164","v":328.18},{"$f":"'Datos mensuales'!AA164","v":138.61548250000001},{"$f":"'Datos mensuales'!Z164","v":64.69},{"$f":"'Datos mensuales'!AC164","v":105.2537329},{"$f":"'Datos mensuales'!AD164","v":195.18181820000001},null,{"$f":"'Datos mensuales'!AQ164","v":1.0854779999999999},{"$f":"'Datos mensuales'!AR164","v":119.895},{"$f":"'Datos mensuales'!AO164","v":"n.d."},{"$f":"'Datos mensuales'!AP164","v":"n.d."},{"$f":"'Datos mensuales'!AN164","v":1.4581999999999999},{"$f":"'Datos mensuales'!AS164","v":10.588699999999999},null,{"$f":"'Datos mensuales'!BJ164","v":8480.09},{"$f":"'Datos mensuales'!BK164","v":1464.31},{"$f":"'Datos mensuales'!BL164","v":916.92}]
[null,"mayo",{"$f":"'Datos mensuales'!D165","v":"n.d."},{"$f":"'Datos mensuales'!E165","v":0.70000000000000284},{"$f":"'Datos mensuales'!F165","v":"n.d."},{"$f":"'Datos mensuales'!G165","v":2.0578420467185699},{"$f":"'Datos mensuales'!I165","v":-0.19821605550049837},{"$f":"'Datos mensuales'!J165","v":4.6962984243437624},{"$f":"'Datos mensuales'!H165","v":1.8087030535163349},null,{"$f":"'Datos mensuales'!AW165","v":1.28},{"$f":"'Datos mensuales'!AX165","v":2.41},{"$f":"'Datos mensuales'!AY165","v":0.06},{"$f":"'Datos mensuales'!AU165","v":1.2333400000000001},{"$f":"'Datos mensuales'!AV165","v":1.1100000000000001},{"$f":"'Datos mensuales'!AZ165","v":3.56},{"$f":"'Datos mensuales'!BA165","v":3.92},{"$f":"'Datos mensuales'!BB165","v":0.56999999999999995},null,{"$f":"'Datos mensuales'!BC165","v":83.6},{"$f":"'Datos mensuales'!BD165","v":67.3},{"$f":"'Datos mensuales'!BE165","v":94.5},null,{"$f":"'Datos mensuales'!T165","v":28.11},{"$f":"'Datos mensuales'!U165","v":25.81},{"$f":"'Datos mensuales'!W165","v":355.6825},{"$f":"'Datos mensuales'!AA165","v":141.96178069999999},{"$f":"'Datos mensuales'!Z165","v":66.260000000000005},{"$f":"'Datos mensuales'!AC165","v":107.8173535},{"$f":"'Datos mensuales'!AD165","v":197.72727269999999},null,{"$f":"'Datos mensuales'!AQ165","v":1.1548099999999999},{"$f":"'Datos mensuales'!AR165","v":117.36799999999999},{"$f":"'Datos mensuales'!AO165","v":"n.d."},{"$f":"'Datos mensuales'!AP165","v":"n.d."},{"$f":"'Datos mensuales'!AN165","v":1.3839600000000001},{"$f":"'Datos mensuales'!AS165","v":10.252800000000001},null,{"$f":"'Datos mensuales'!BJ165","v":8850.26},{"$f":"'Datos mensuales'!BK165","v":1595.91},{"$f":"'Datos mensuales'!BL165","v":963.59}]
[null,"junio",{"$f":"'Datos mensuales'!D166","v":"n.d."},{"$f":"'Datos mensuales'!E166","v":0.29999999999999716},{"$f":"'Datos mensuales'!F166","v":"n.d."},{"$f":"'Datos mensuales'!G166","v":2.1122846025569664},{"$f":"'Datos mensuales'!I166","v":-0.39682539682538837},{"$f":"'Datos mensuales'!J166","v":4.2743734144647032},{"$f":"'Datos mensuales'!H166","v":1.893818491328866},null,{"$f":"'Datos mensuales'!AW166","v":1.1200000000000001},{"$f":"'Datos mensuales'!AX166","v":2.15},{"$f":"'Datos mensuales'!AY166","v":0.06},{"$f":"'Datos mensuales'!AU166","v":1.0814600000000001},{"$f":"'Datos mensuales'!AV166","v":0.94},{"$f":"'Datos mensuales'!AZ166","v":3.32},{"$f":"'Datos mensuales'!BA166","v":3.72},{"$f":"'Datos mensuales'!BB166","v":0.56000000000000005},null,{"$f":"'Datos mensuales'!BC166","v":83.5},{"$f":"'Datos mensuales'!BD166","v":64.900000000000006},{"$f":"'Datos mensuales'!BE166","v":95.9},null,{"$f":"'Datos mensuales'!T166","v":30.66},{"$f":"'Datos mensuales'!U166","v":27.65},{"$f":"'Datos mensuales'!W166","v":356.35239999999999},{"$f":"'Datos mensuales'!AA166","v":131.3475852},{"$f":"'Datos mensuales'!Z166","v":61.04},{"$f":"'Datos mensuales'!AC166","v":106.99249570000001},{"$f":"'Datos mensuales'!AD166","v":203.66666670000001},null,{"$f":"'Datos mensuales'!AQ166","v":1.1676420000000001},{"$f":"'Datos mensuales'!AR166","v":118.32899999999999},{"$f":"'Datos mensuales'!AO166","v":"n.d."},{"$f":"'Datos mensuales'!AP166","v":"n.d."},{"$f":"'Datos mensuales'!AN166","v":1.3525100000000001},{"$f":"'Datos mensuales'!AS166","v":10.502800000000001},null,{"$f":"'Datos mensuales'!BJ166","v":8985.44},{"$f":"'Datos mensuales'!BK166","v":1622.8},{"$f":"'Datos mensuales'!BL166","v":974.5}]
[null,"julio",{"$f":"'Datos mensuales'!D167","v":"n.d."},{"$f":"'Datos mensuales'!E167","v":0.5},{"$f":"'Datos mensuales'!F167","v":"n.d."},{"$f":"'Datos mensuales'!G167","v":2.1099389228206618},{"$f":"'Datos mensuales'!I167","v":-0.19920318725099884},{"$f":"'Datos mensuales'!J167","v":4.1265817731826777},{"$f":"'Datos mensuales'!H167","v":1.8954317964008105},null,{"$f":"'Datos mensuales'!AW167","v":1.1100000000000001},{"$f":"'Datos mensuales'!AX167","v":2.13},{"$f":"'Datos mensuales'!AY167","v":0.05},{"$f":"'Datos mensuales'!AU167","v":1.1233200000000001},{"$f":"'Datos mensuales'!AV167","v":0.97},{"$f":"'Datos mensuales'!AZ167","v":3.93},{"$f":"'Datos mensuales'!BA167","v":4.05},{"$f":"'Datos mensuales'!BB167","v":1},null,{"$f":"'Datos mensuales'!BC167","v":77},{"$f":"'Datos mensuales'!BD167","v":63},{"$f":"'Datos mensuales'!BE167","v":86.3},null,{"$f":"'Datos mensuales'!T167","v":30.76},{"$f":"'Datos mensuales'!U167","v":28.35},{"$f":"'Datos mensuales'!W167","v":351.01960000000003},{"$f":"'Datos mensuales'!AA167","v":131.61736110000001},{"$f":"'Datos mensuales'!Z167","v":62.95},{"$f":"'Datos mensuales'!AC167","v":97.614424659999997},{"$f":"'Datos mensuales'!AD167","v":199.47826090000001},null,{"$f":"'Datos mensuales'!AQ167","v":1.1373009999999999},{"$f":"'Datos mensuales'!AR167","v":118.696},{"$f":"'Datos mensuales'!AO167","v":"n.d."},{"$f":"'Datos mensuales'!AP167","v":"n.d."},{"$f":"'Datos mensuales'!AN167","v":1.38209},{"$f":"'Datos mensuales'!AS167","v":10.4581},null,{"$f":"'Datos mensuales'!BJ167","v":9233.7999999999993},{"$f":"'Datos mensuales'!BK167","v":1735.02},{"$f":"'Datos mensuales'!BL167","v":990.31}]
[null,"agosto",{"$f":"'Datos mensuales'!D168","v":"n.d."},{"$f":"'Datos mensuales'!E168","v":0.90000000000000568},{"$f":"'Datos mensuales'!F168","v":"n.d."},{"$f":"'Datos mensuales'!G168","v":2.1582733812949675},{"$f":"'Datos mensuales'!I168","v":-0.29791459781529012},{"$f":"'Datos mensuales'!J168","v":4.043346423422423},{"$f":"'Datos mensuales'!H168","v":2.0658076882121157},null,{"$f":"'Datos mensuales'!AW168","v":1.1399999999999999},{"$f":"'Datos mensuales'!AX168","v":2.14},{"$f":"'Datos mensuales'!AY168","v":0.05},{"$f":"'Datos mensuales'!AU168","v":1.1952499999999999},{"$f":"'Datos mensuales'!AV168","v":1.05},{"$f":"'Datos mensuales'!AZ168","v":4.4400000000000004},{"$f":"'Datos mensuales'!BA168","v":4.2},{"$f":"'Datos mensuales'!BB168","v":1.1499999999999999},null,{"$f":"'Datos mensuales'!BC168","v":81.7},{"$f":"'Datos mensuales'!BD168","v":62},{"$f":"'Datos mensuales'!BE168","v":94.9},null,{"$f":"'Datos mensuales'!T168","v":31.57},{"$f":"'Datos mensuales'!U168","v":29.89},{"$f":"'Datos mensuales'!W168","v":359.76749999999998},{"$f":"'Datos mensuales'!AA168","v":148.71718100000001},{"$f":"'Datos mensuales'!Z168","v":63.89},{"$f":"'Datos mensuales'!AC168","v":100.3078479},{"$f":"'Datos mensuales'!AD168","v":196.42857140000001},null,{"$f":"'Datos mensuales'!AQ168","v":1.114004},{"$f":"'Datos mensuales'!AR168","v":118.66200000000001},{"$f":"'Datos mensuales'!AO168","v":"n.d."},{"$f":"'Datos mensuales'!AP168","v":"n.d."},{"$f":"'Datos mensuales'!AN168","v":1.3962699999999999},{"$f":"'Datos mensuales'!AS168","v":10.782999999999999},null,{"$f":"'Datos mensuales'!BJ168","v":9415.82},{"$f":"'Datos mensuales'!BK168","v":1810.45},{"$f":"'Datos mensuales'!BL168","v":1008.01}]
[null,"septiembre",{"$f":"'Datos mensuales'!D169","v":"n.d."},{"$f":"'Datos mensuales'!E169","v":1.0999999999999943},{"$f":"'Datos mensuales'!F169","v":"n.d."},{"$f":"'Datos mensuales'!G169","v":2.3204419889502703},{"$f":"'Datos mensuales'!I169","v":-0.19860973187686479},{"$f":"'Datos mensuales'!J169","v":4.0369601739304395},{"$f":"'Datos mensuales'!H169","v":2.1559048428207319},null,{"$f":"'Datos mensuales'!AW169","v":1.1399999999999999},{"$f":"'Datos mensuales'!AX169","v":2.15},{"$f":"'Datos mensuales'!AY169","v":0.05},{"$f":"'Datos mensuales'!AU169","v":1.18557},{"$f":"'Datos mensuales'!AV169","v":1.03},{"$f":"'Datos mensuales'!AZ169","v":4.29},{"$f":"'Datos mensuales'!BA169","v":4.2300000000000004},{"$f":"'Datos mensuales'!BB169","v":1.45},null,{"$f":"'Datos mensuales'!BC169","v":77},{"$f":"'Datos mensuales'!BD169","v":59.7},{"$f":"'Datos mensuales'!BE169","v":88.5},null,{"$f":"'Datos mensuales'!T169","v":28.31},{"$f":"'Datos mensuales'!U169","v":27.11},{"$f":"'Datos mensuales'!W169","v":378.94549999999998},{"$f":"'Datos mensuales'!AA169","v":145.62302460000001},{"$f":"'Datos mensuales'!Z169","v":66.41},{"$f":"'Datos mensuales'!AC169","v":103.2150218},{"$f":"'Datos mensuales'!AD169","v":202.86363639999999},null,{"$f":"'Datos mensuales'!AQ169","v":1.1266099999999999},{"$f":"'Datos mensuales'!AR169","v":114.8},{"$f":"'Datos mensuales'!AO169","v":"n.d."},{"$f":"'Datos mensuales'!AP169","v":"n.d."},{"$f":"'Datos mensuales'!AN169","v":1.36337},{"$f":"'Datos mensuales'!AS169","v":10.9229},null,{"$f":"'Datos mensuales'!BJ169","v":9275.06},{"$f":"'Datos mensuales'!BK169","v":1786.94},{"$f":"'Datos mensuales'!BL169","v":995.97}]
[null,"octubre",{"$f":"'Datos mensuales'!D170","v":"n.d."},{"$f":"'Datos mensuales'!E170","v":1.7999999999999972},{"$f":"'Datos mensuales'!F170","v":"n.d."},{"$f":"'Datos mensuales'!G170","v":2.0408163265306056},{"$f":"'Datos mensuales'!I170","v":0},{"$f":"'Datos mensuales'!J170","v":3.9602109488769042},{"$f":"'Datos mensuales'!H170","v":1.9699216267739881},null,{"$f":"'Datos mensuales'!AW170","v":1.1599999999999999},{"$f":"'Datos mensuales'!AX170","v":2.14},{"$f":"'Datos mensuales'!AY170","v":0.06},{"$f":"'Datos mensuales'!AU170","v":1.2039899999999999},{"$f":"'Datos mensuales'!AV170","v":1.02},{"$f":"'Datos mensuales'!AZ170","v":4.2699999999999996},{"$f":"'Datos mensuales'!BA170","v":4.3099999999999996},{"$f":"'Datos mensuales'!BB170","v":1.4},null,{"$f":"'Datos mensuales'!BC170","v":81.7},{"$f":"'Datos mensuales'!BD170","v":67},{"$f":"'Datos mensuales'!BE170","v":91.5},null,{"$f":"'Datos mensuales'!T170","v":30.34},{"$f":"'Datos mensuales'!U170","v":29.61},{"$f":"'Datos mensuales'!W170","v":378.9196},{"$f":"'Datos mensuales'!AA170","v":147.4558337},{"$f":"'Datos mensuales'!Z170","v":64.3},{"$f":"'Datos mensuales'!AC170","v":104.17171829999999},{"$f":"'Datos mensuales'!AD170","v":204},null,{"$f":"'Datos mensuales'!AQ170","v":1.171173},{"$f":"'Datos mensuales'!AR170","v":109.509},{"$f":"'Datos mensuales'!AO170","v":"n.d."},{"$f":"'Datos mensuales'!AP170","v":"n.d."},{"$f":"'Datos mensuales'!AN170","v":1.3221000000000001},{"$f":"'Datos mensuales'!AS170","v":11.179600000000001},null,{"$f":"'Datos mensuales'!BJ170","v":9801.1200000000008},{"$f":"'Datos mensuales'!BK170","v":1932.21},{"$f":"'Datos mensuales'!BL170","v":1050.71}]
[null,"noviembre",{"$f":"'Datos mensuales'!D171","v":"n.d."},{"$f":"'Datos mensuales'!E171","v":3},{"$f":"'Datos mensuales'!F171","v":"n.d."},{"$f":"'Datos mensuales'!G171","v":1.7650303364589015},{"$f":"'Datos mensuales'!I171","v":-0.49751243781094528},{"$f":"'Datos mensuales'!J171","v":3.9821195026256992},{"$f":"'Datos mensuales'!H171","v":2.1520195059896121},null,{"$f":"'Datos mensuales'!AW171","v":1.17},{"$f":"'Datos mensuales'!AX171","v":2.16},{"$f":"'Datos mensuales'!AY171","v":0.06},{"$f":"'Datos mensuales'!AU171","v":1.2433099999999999},{"$f":"'Datos mensuales'!AV171","v":1.04},{"$f":"'Datos mensuales'!AZ171","v":4.29},{"$f":"'Datos mensuales'!BA171","v":4.4400000000000004},{"$f":"'Datos mensuales'!BB171","v":1.38},null,{"$f":"'Datos mensuales'!BC171","v":92.5},{"$f":"'Datos mensuales'!BD171","v":81},{"$f":"'Datos mensuales'!BE171","v":100.1},null,{"$f":"'Datos mensuales'!T171","v":31.11},{"$f":"'Datos mensuales'!U171","v":28.73},{"$f":"'Datos mensuales'!W171","v":389.91},{"$f":"'Datos mensuales'!AA171","v":160.54532760000001},{"$f":"'Datos mensuales'!Z171","v":62.28},{"$f":"'Datos mensuales'!AC171","v":108.0310116},{"$f":"'Datos mensuales'!AD171","v":201.75},null,{"$f":"'Datos mensuales'!AQ171","v":1.1720470000000001},{"$f":"'Datos mensuales'!AR171","v":109.158},{"$f":"'Datos mensuales'!AO171","v":"n.d."},{"$f":"'Datos mensuales'!AP171","v":"n.d."},{"$f":"'Datos mensuales'!AN171","v":1.31304},{"$f":"'Datos mensuales'!AS171","v":11.1494},null,{"$f":"'Datos mensuales'!BJ171","v":9782.4599999999991},{"$f":"'Datos mensuales'!BK171","v":1960.26},{"$f":"'Datos mensuales'!BL171","v":1058.2}]
[null,"diciembre",{"$f":"'Datos mensuales'!D172","v":"n.d."},{"$f":"'Datos mensuales'!E172","v":3.2000000000000028},{"$f":"'Datos mensuales'!F172","v":"n.d."},{"$f":"'Datos mensuales'!G172","v":1.8794914317302409},{"$f":"'Datos mensuales'!I172","v":-0.39800995024876185},{"$f":"'Datos mensuales'!J172","v":3.9765218067332402},{"$f":"'Datos mensuales'!H172","v":1.9736147757255986},null,{"$f":"'Datos mensuales'!AW172","v":1.17},{"$f":"'Datos mensuales'!AX172","v":2.15},{"$f":"'Datos mensuales'!AY172","v":0.06},{"$f":"'Datos mensuales'!AU172","v":1.2350300000000001},{"$f":"'Datos mensuales'!AV172","v":1.01},{"$f":"'Datos mensuales'!AZ172","v":4.26},{"$f":"'Datos mensuales'!BA172","v":4.3600000000000003},{"$f":"'Datos mensuales'!BB172","v":1.35},null,{"$f":"'Datos mensuales'!BC172","v":91.3},{"$f":"'Datos mensuales'!BD172","v":73.900000000000006},{"$f":"'Datos mensuales'!BE172","v":102.9},null,{"$f":"'Datos mensuales'!T172","v":32.130000000000003},{"$f":"'Datos mensuales'!U172","v":29.81},{"$f":"'Datos mensuales'!W172","v":406.95260000000002},{"$f":"'Datos mensuales'!AA172","v":165.57344620000001},{"$f":"'Datos mensuales'!Z172","v":64.86},{"$f":"'Datos mensuales'!AC172","v":111.9818495},{"$f":"'Datos mensuales'!AD172","v":197},null,{"$f":"'Datos mensuales'!AQ172","v":1.230189},{"$f":"'Datos mensuales'!AR172","v":107.742},{"$f":"'Datos mensuales'!AO172","v":"n.d."},{"$f":"'Datos mensuales'!AP172","v":"n.d."},{"$f":"'Datos mensuales'!AN172","v":1.3127500000000001},{"$f":"'Datos mensuales'!AS172","v":11.2515},null,{"$f":"'Datos mensuales'!BJ172","v":10453.92},{"$f":"'Datos mensuales'!BK172","v":2003.37},{"$f":"'Datos mensuales'!BL172","v":1111.92}]
[2004,"enero",{"$f":"'Datos mensuales'!D173","v":"n.d."},{"$f":"'Datos mensuales'!E173","v":3.2},{"$f":"'Datos mensuales'!F173","v":"n.d."},{"$f":"'Datos mensuales'!G173","v":1.9262520638414973},{"$f":"'Datos mensuales'!I173","v":-0.29940119760478756},{"$f":"'Datos mensuales'!J173","v":4.2015098722422834},{"$f":"'Datos mensuales'!H173","v":1.8802154853702346},null,{"$f":"'Datos mensuales'!AW173","v":1.1299999999999999},{"$f":"'Datos mensuales'!AX173","v":2.09},{"$f":"'Datos mensuales'!AY173","v":0.06},{"$f":"'Datos mensuales'!AU173","v":1.18801},{"$f":"'Datos mensuales'!AV173","v":0.99},{"$f":"'Datos mensuales'!AZ173","v":4.13},{"$f":"'Datos mensuales'!BA173","v":4.26},{"$f":"'Datos mensuales'!BB173","v":1.33},null,{"$f":"'Datos mensuales'!BC173","v":96.4},{"$f":"'Datos mensuales'!BD173","v":79.400000000000006},{"$f":"'Datos mensuales'!BE173","v":107.8},null,{"$f":"'Datos mensuales'!T173","v":34.31},{"$f":"'Datos mensuales'!U173","v":31.28},{"$f":"'Datos mensuales'!W173","v":413.78809999999999},{"$f":"'Datos mensuales'!AA173","v":166.32712359999999},{"$f":"'Datos mensuales'!Z173","v":72.73},{"$f":"'Datos mensuales'!AC173","v":115.0864131},{"$f":"'Datos mensuales'!AD173","v":207.45454549999999},null,{"$f":"'Datos mensuales'!AQ173","v":1.260893},{"$f":"'Datos mensuales'!AR173","v":106.26900000000001},{"$f":"'Datos mensuales'!AO173","v":8.2768999999999995},{"$f":"'Datos mensuales'!AP173","v":"n.d."},{"$f":"'Datos mensuales'!AN173","v":1.29575},{"$f":"'Datos mensuales'!AS173","v":10.920299999999999},null,{"$f":"'Datos mensuales'!BJ173","v":10488.07},{"$f":"'Datos mensuales'!BK173","v":2066.15},{"$f":"'Datos mensuales'!BL173","v":1131.1300000000001}]
[null,"febrero",{"$f":"'Datos mensuales'!D174","v":"n.d."},{"$f":"'Datos mensuales'!E174","v":2.1},{"$f":"'Datos mensuales'!F174","v":"n.d."},{"$f":"'Datos mensuales'!G174","v":1.6930638995084624},{"$f":"'Datos mensuales'!I174","v":0},{"$f":"'Datos mensuales'!J174","v":4.5344426534882016},{"$f":"'Datos mensuales'!H174","v":1.6090019981070576},null,{"$f":"'Datos mensuales'!AW174","v":1.1200000000000001},{"$f":"'Datos mensuales'!AX174","v":2.0699999999999998},{"$f":"'Datos mensuales'!AY174","v":0.05},{"$f":"'Datos mensuales'!AU174","v":1.1857500000000001},{"$f":"'Datos mensuales'!AV174","v":1.01},{"$f":"'Datos mensuales'!AZ174","v":4.0599999999999996},{"$f":"'Datos mensuales'!BA174","v":4.18},{"$f":"'Datos mensuales'!BB174","v":1.25},null,{"$f":"'Datos mensuales'!BC174","v":87.3},{"$f":"'Datos mensuales'!BD174","v":73.099999999999994},{"$f":"'Datos mensuales'!BE174","v":96.8},null,{"$f":"'Datos mensuales'!T174","v":34.69},{"$f":"'Datos mensuales'!U174","v":30.86},{"$f":"'Datos mensuales'!W174","v":404.8775},{"$f":"'Datos mensuales'!AA174","v":161.39145250000001},{"$f":"'Datos mensuales'!Z174","v":76.209999999999994},{"$f":"'Datos mensuales'!AC174","v":122.90652900000001},{"$f":"'Datos mensuales'!AD174","v":213.25},null,{"$f":"'Datos mensuales'!AQ174","v":1.263703},{"$f":"'Datos mensuales'!AR174","v":106.708},{"$f":"'Datos mensuales'!AO174","v":8.2771000000000008},{"$f":"'Datos mensuales'!AP174","v":"n.d."},{"$f":"'Datos mensuales'!AN174","v":1.32989},{"$f":"'Datos mensuales'!AS174","v":11.0319},null,{"$f":"'Datos mensuales'!BJ174","v":10583.92},{"$f":"'Datos mensuales'!BK174","v":2029.82},{"$f":"'Datos mensuales'!BL174","v":1144.94}]
[null,"marzo",{"$f":"'Datos mensuales'!D175","v":"n.d."},{"$f":"'Datos mensuales'!E175","v":3},{"$f":"'Datos mensuales'!F175","v":"n.d."},{"$f":"'Datos mensuales'!G175","v":1.7372421281216164},{"$f":"'Datos mensuales'!I175","v":-9.9800399201605314E-2},{"$f":"'Datos mensuales'!J175","v":4.2307286521329912},{"$f":"'Datos mensuales'!H175","v":1.6720660466088499},null,{"$f":"'Datos mensuales'!AW175","v":1.1100000000000001},{"$f":"'Datos mensuales'!AX175","v":2.0299999999999998},{"$f":"'Datos mensuales'!AY175","v":0.05},{"$f":"'Datos mensuales'!AU175","v":1.1585300000000001},{"$f":"'Datos mensuales'!AV175","v":1.01},{"$f":"'Datos mensuales'!AZ175","v":3.81},{"$f":"'Datos mensuales'!BA175","v":4.0199999999999996},{"$f":"'Datos mensuales'!BB175","v":1.35},null,{"$f":"'Datos mensuales'!BC175","v":88.5},{"$f":"'Datos mensuales'!BD175","v":84.4},{"$f":"'Datos mensuales'!BE175","v":91.3},null,{"$f":"'Datos mensuales'!T175","v":36.74},{"$f":"'Datos mensuales'!U175","v":33.630000000000003},{"$f":"'Datos mensuales'!W175","v":406.66739999999999},{"$f":"'Datos mensuales'!AA175","v":166.27978909999999},{"$f":"'Datos mensuales'!Z175","v":78.06},{"$f":"'Datos mensuales'!AC175","v":128.43024080000001},{"$f":"'Datos mensuales'!AD175","v":240.34782609999999},null,{"$f":"'Datos mensuales'!AQ175","v":1.2263390000000001},{"$f":"'Datos mensuales'!AR175","v":108.51600000000001},{"$f":"'Datos mensuales'!AO175","v":8.2771000000000008},{"$f":"'Datos mensuales'!AP175","v":"n.d."},{"$f":"'Datos mensuales'!AN175","v":1.3285800000000001},{"$f":"'Datos mensuales'!AS175","v":11.019},null,{"$f":"'Datos mensuales'!BJ175","v":10357.700000000001},{"$f":"'Datos mensuales'!BK175","v":1994.22},{"$f":"'Datos mensuales'!BL175","v":1126.21}]
[null,"abril ",{"$f":"'Datos mensuales'!D176","v":"n.d."},{"$f":"'Datos mensuales'!E176","v":3.8},{"$f":"'Datos mensuales'!F176","v":"n.d."},{"$f":"'Datos mensuales'!G176","v":2.2850924918389492},{"$f":"'Datos mensuales'!I176","v":-0.39800995024876185},{"$f":"'Datos mensuales'!J176","v":4.210113080363409},{"$f":"'Datos mensuales'!H176","v":2.0361282238696909},null,{"$f":"'Datos mensuales'!AW176","v":1.1499999999999999},{"$f":"'Datos mensuales'!AX176","v":2.0499999999999998},{"$f":"'Datos mensuales'!AY176","v":0.05},{"$f":"'Datos mensuales'!AU176","v":1.2802800000000001},{"$f":"'Datos mensuales'!AV176","v":1.1100000000000001},{"$f":"'Datos mensuales'!AZ176","v":4.32},{"$f":"'Datos mensuales'!BA176","v":4.24},{"$f":"'Datos mensuales'!BB176","v":1.51},null,{"$f":"'Datos mensuales'!BC176","v":92.9},{"$f":"'Datos mensuales'!BD176","v":90.6},{"$f":"'Datos mensuales'!BE176","v":94.5},null,{"$f":"'Datos mensuales'!T176","v":36.75},{"$f":"'Datos mensuales'!U176","v":33.590000000000003},{"$f":"'Datos mensuales'!W176","v":403.26},{"$f":"'Datos mensuales'!AA176","v":166.58441160000001},{"$f":"'Datos mensuales'!Z176","v":75.44},{"$f":"'Datos mensuales'!AC176","v":133.39263270000001},{"$f":"'Datos mensuales'!AD176","v":253.4090909},null,{"$f":"'Datos mensuales'!AQ176","v":1.1991449999999999},{"$f":"'Datos mensuales'!AR176","v":107.65600000000001},{"$f":"'Datos mensuales'!AO176","v":8.2768999999999995},{"$f":"'Datos mensuales'!AP176","v":"n.d."},{"$f":"'Datos mensuales'!AN176","v":1.3419700000000001},{"$f":"'Datos mensuales'!AS176","v":11.270099999999999},null,{"$f":"'Datos mensuales'!BJ176","v":10225.57},{"$f":"'Datos mensuales'!BK176","v":1920.15},{"$f":"'Datos mensuales'!BL176","v":1107.3}]
[null,"mayo",{"$f":"'Datos mensuales'!D177","v":"n.d."},{"$f":"'Datos mensuales'!E177","v":4.4000000000000004},{"$f":"'Datos mensuales'!F177","v":"n.d."},{"$f":"'Datos mensuales'!G177","v":3.0517711171662092},{"$f":"'Datos mensuales'!I177","v":-0.49652432969215493},{"$f":"'Datos mensuales'!J177","v":4.2852202647390394},{"$f":"'Datos mensuales'!H177","v":2.4662974187480402},null,{"$f":"'Datos mensuales'!AW177","v":1.25},{"$f":"'Datos mensuales'!AX177","v":2.09},{"$f":"'Datos mensuales'!AY177","v":0.05},{"$f":"'Datos mensuales'!AU177","v":1.52145},{"$f":"'Datos mensuales'!AV177","v":1.33},{"$f":"'Datos mensuales'!AZ177","v":4.7},{"$f":"'Datos mensuales'!BA177","v":4.3899999999999997},{"$f":"'Datos mensuales'!BB177","v":1.49},null,{"$f":"'Datos mensuales'!BC177","v":93.2},{"$f":"'Datos mensuales'!BD177","v":90.3},{"$f":"'Datos mensuales'!BE177","v":95.2},null,{"$f":"'Datos mensuales'!T177","v":40.28},{"$f":"'Datos mensuales'!U177","v":37.57},{"$f":"'Datos mensuales'!W177","v":383.77890000000002},{"$f":"'Datos mensuales'!AA177","v":163.7343716},{"$f":"'Datos mensuales'!Z177","v":76.989999999999995},{"$f":"'Datos mensuales'!AC177","v":129.30489979999999},{"$f":"'Datos mensuales'!AD177","v":251.57142859999999},null,{"$f":"'Datos mensuales'!AQ177","v":1.1997869999999999},{"$f":"'Datos mensuales'!AR177","v":112.196},{"$f":"'Datos mensuales'!AO177","v":8.2771000000000008},{"$f":"'Datos mensuales'!AP177","v":"n.d."},{"$f":"'Datos mensuales'!AN177","v":1.37886},{"$f":"'Datos mensuales'!AS177","v":11.5199},null,{"$f":"'Datos mensuales'!BJ177","v":10188.450000000001},{"$f":"'Datos mensuales'!BK177","v":1986.74},{"$f":"'Datos mensuales'!BL177","v":1120.68}]
[null,"junio",{"$f":"'Datos mensuales'!D178","v":"n.d."},{"$f":"'Datos mensuales'!E178","v":5},{"$f":"'Datos mensuales'!F178","v":"n.d."},{"$f":"'Datos mensuales'!G178","v":3.2661948829613499},{"$f":"'Datos mensuales'!I178","v":0},{"$f":"'Datos mensuales'!J178","v":4.3661458133365443},{"$f":"'Datos mensuales'!H178","v":2.3807037694476363},null,{"$f":"'Datos mensuales'!AW178","v":1.5},{"$f":"'Datos mensuales'!AX178","v":2.11},{"$f":"'Datos mensuales'!AY178","v":0.05},{"$f":"'Datos mensuales'!AU178","v":1.8112200000000001},{"$f":"'Datos mensuales'!AV178","v":1.64},{"$f":"'Datos mensuales'!AZ178","v":4.7300000000000004},{"$f":"'Datos mensuales'!BA178","v":4.4400000000000004},{"$f":"'Datos mensuales'!BB178","v":1.77},null,{"$f":"'Datos mensuales'!BC178","v":102.1},{"$f":"'Datos mensuales'!BD178","v":105.9},{"$f":"'Datos mensuales'!BE178","v":100.8},null,{"$f":"'Datos mensuales'!T178","v":38.03},{"$f":"'Datos mensuales'!U178","v":35.18},{"$f":"'Datos mensuales'!W178","v":392.37270000000001},{"$f":"'Datos mensuales'!AA178","v":154.74332759999999},{"$f":"'Datos mensuales'!Z178","v":82.21},{"$f":"'Datos mensuales'!AC178","v":123.22719739999999},{"$f":"'Datos mensuales'!AD178","v":244.22727269999999},null,{"$f":"'Datos mensuales'!AQ178","v":1.2132449999999999},{"$f":"'Datos mensuales'!AR178","v":109.434},{"$f":"'Datos mensuales'!AO178","v":8.2766999999999999},{"$f":"'Datos mensuales'!AP178","v":"n.d."},{"$f":"'Datos mensuales'!AN178","v":1.3578399999999999},{"$f":"'Datos mensuales'!AS178","v":11.3926},null,{"$f":"'Datos mensuales'!BJ178","v":10435.48},{"$f":"'Datos mensuales'!BK178","v":2047.79},{"$f":"'Datos mensuales'!BL178","v":1140.8399999999999}]
[null,"julio",{"$f":"'Datos mensuales'!D179","v":"n.d."},{"$f":"'Datos mensuales'!E179","v":5.3},{"$f":"'Datos mensuales'!F179","v":"n.d."},{"$f":"'Datos mensuales'!G179","v":2.9907558455682435},{"$f":"'Datos mensuales'!I179","v":-9.9800399201605314E-2},{"$f":"'Datos mensuales'!J179","v":4.4882546315371981},{"$f":"'Datos mensuales'!H179","v":2.2886404012958486},null,{"$f":"'Datos mensuales'!AW179","v":1.63},{"$f":"'Datos mensuales'!AX179","v":2.12},{"$f":"'Datos mensuales'!AY179","v":0.05},{"$f":"'Datos mensuales'!AU179","v":1.89381},{"$f":"'Datos mensuales'!AV179","v":1.7},{"$f":"'Datos mensuales'!AZ179","v":4.4800000000000004},{"$f":"'Datos mensuales'!BA179","v":4.34},{"$f":"'Datos mensuales'!BB179","v":1.79},null,{"$f":"'Datos mensuales'!BC179","v":106.1},{"$f":"'Datos mensuales'!BD179","v":106.5},{"$f":"'Datos mensuales'!BE179","v":105.8},null,{"$f":"'Datos mensuales'!T179","v":40.78},{"$f":"'Datos mensuales'!U179","v":38.22},{"$f":"'Datos mensuales'!W179","v":398.09089999999998},{"$f":"'Datos mensuales'!AA179","v":150.60091660000001},{"$f":"'Datos mensuales'!Z179","v":74.94},{"$f":"'Datos mensuales'!AC179","v":104.4804287},{"$f":"'Datos mensuales'!AD179","v":240.31818179999999},null,{"$f":"'Datos mensuales'!AQ179","v":1.227406},{"$f":"'Datos mensuales'!AR179","v":109.48699999999999},{"$f":"'Datos mensuales'!AO179","v":8.2766999999999999},{"$f":"'Datos mensuales'!AP179","v":"n.d."},{"$f":"'Datos mensuales'!AN179","v":1.3225},{"$f":"'Datos mensuales'!AS179","v":11.4678},null,{"$f":"'Datos mensuales'!BJ179","v":10139.709999999999},{"$f":"'Datos mensuales'!BK179","v":1887.36},{"$f":"'Datos mensuales'!BL179","v":1101.72}]
[null,"agosto",{"$f":"'Datos mensuales'!D180","v":"n.d."},{"$f":"'Datos mensuales'!E180","v":5.3},{"$f":"'Datos mensuales'!F180","v":"n.d."},{"$f":"'Datos mensuales'!G180","v":2.6543878656554742},{"$f":"'Datos mensuales'!I180","v":-0.19920318725099884},{"$f":"'Datos mensuales'!J180","v":4.8188281160424529},{"$f":"'Datos mensuales'!H180","v":2.2952529994783548},null,{"$f":"'Datos mensuales'!AW180","v":1.73},{"$f":"'Datos mensuales'!AX180","v":2.11},{"$f":"'Datos mensuales'!AY180","v":0.05},{"$f":"'Datos mensuales'!AU180","v":1.9396100000000001},{"$f":"'Datos mensuales'!AV180","v":1.76},{"$f":"'Datos mensuales'!AZ180","v":4.2699999999999996},{"$f":"'Datos mensuales'!BA180","v":4.17},{"$f":"'Datos mensuales'!BB180","v":1.63},null,{"$f":"'Datos mensuales'!BC180","v":98.7},{"$f":"'Datos mensuales'!BD180","v":100.7},{"$f":"'Datos mensuales'!BE180","v":97.3},null,{"$f":"'Datos mensuales'!T180","v":44.9},{"$f":"'Datos mensuales'!U180","v":42.74},{"$f":"'Datos mensuales'!W180","v":400.5095},{"$f":"'Datos mensuales'!AA180","v":141.29479570000001},{"$f":"'Datos mensuales'!Z180","v":73.61},{"$f":"'Datos mensuales'!AC180","v":104.0394536},{"$f":"'Datos mensuales'!AD180","v":252.54545450000001},null,{"$f":"'Datos mensuales'!AQ180","v":1.2198899999999999},{"$f":"'Datos mensuales'!AR180","v":110.23399999999999},{"$f":"'Datos mensuales'!AO180","v":8.2767999999999997},{"$f":"'Datos mensuales'!AP180","v":"n.d."},{"$f":"'Datos mensuales'!AN180","v":1.3126800000000001},{"$f":"'Datos mensuales'!AS180","v":11.395300000000001},null,{"$f":"'Datos mensuales'!BJ180","v":10173.92},{"$f":"'Datos mensuales'!BK180","v":1838.1},{"$f":"'Datos mensuales'!BL180","v":1104.24}]
[null,"septiembre",{"$f":"'Datos mensuales'!D181","v":"n.d."},{"$f":"'Datos mensuales'!E181","v":5.2},{"$f":"'Datos mensuales'!F181","v":"n.d."},{"$f":"'Datos mensuales'!G181","v":2.5377969762419101},{"$f":"'Datos mensuales'!I181","v":0},{"$f":"'Datos mensuales'!J181","v":5.0600807409171127},{"$f":"'Datos mensuales'!H181","v":2.1104064871608288},null,{"$f":"'Datos mensuales'!AW181","v":1.9},{"$f":"'Datos mensuales'!AX181","v":2.12},{"$f":"'Datos mensuales'!AY181","v":0.05},{"$f":"'Datos mensuales'!AU181","v":2.0871599999999999},{"$f":"'Datos mensuales'!AV181","v":1.91},{"$f":"'Datos mensuales'!AZ181","v":4.13},{"$f":"'Datos mensuales'!BA181","v":4.1100000000000003},{"$f":"'Datos mensuales'!BB181","v":1.5},null,{"$f":"'Datos mensuales'!BC181","v":96.8},{"$f":"'Datos mensuales'!BD181","v":95.5},{"$f":"'Datos mensuales'!BE181","v":97.6},null,{"$f":"'Datos mensuales'!T181","v":45.94},{"$f":"'Datos mensuales'!U181","v":43.2},{"$f":"'Datos mensuales'!W181","v":405.27499999999998},{"$f":"'Datos mensuales'!AA181","v":151.03484180000001},{"$f":"'Datos mensuales'!Z181","v":80.47},{"$f":"'Datos mensuales'!AC181","v":97.755025430000003},{"$f":"'Datos mensuales'!AD181","v":252},null,{"$f":"'Datos mensuales'!AQ181","v":1.2209890000000001},{"$f":"'Datos mensuales'!AR181","v":110.09099999999999},{"$f":"'Datos mensuales'!AO181","v":8.2766999999999999},{"$f":"'Datos mensuales'!AP181","v":"n.d."},{"$f":"'Datos mensuales'!AN181","v":1.2881},{"$f":"'Datos mensuales'!AS181","v":11.487},null,{"$f":"'Datos mensuales'!BJ181","v":10080.27},{"$f":"'Datos mensuales'!BK181","v":1896.84},{"$f":"'Datos mensuales'!BL181","v":1114.58}]
[null,"octubre",{"$f":"'Datos mensuales'!D182","v":"n.d."},{"$f":"'Datos mensuales'!E182","v":4.3},{"$f":"'Datos mensuales'!F182","v":"n.d."},{"$f":"'Datos mensuales'!G182","v":3.1891891891891921},{"$f":"'Datos mensuales'!I182","v":0.49751243781094528},{"$f":"'Datos mensuales'!J182","v":5.4012360284306231},{"$f":"'Datos mensuales'!H182","v":2.3680930619027847},null,{"$f":"'Datos mensuales'!AW182","v":2.08},{"$f":"'Datos mensuales'!AX182","v":2.15},{"$f":"'Datos mensuales'!AY182","v":0.05},{"$f":"'Datos mensuales'!AU182","v":2.2268500000000002},{"$f":"'Datos mensuales'!AV182","v":2.0499999999999998},{"$f":"'Datos mensuales'!AZ182","v":4.08},{"$f":"'Datos mensuales'!BA182","v":3.98},{"$f":"'Datos mensuales'!BB182","v":1.49},null,{"$f":"'Datos mensuales'!BC182","v":92.8},{"$f":"'Datos mensuales'!BD182","v":94.2},{"$f":"'Datos mensuales'!BE182","v":92},null,{"$f":"'Datos mensuales'!T182","v":53.28},{"$f":"'Datos mensuales'!U182","v":49.78},{"$f":"'Datos mensuales'!W182","v":420.46429999999998},{"$f":"'Datos mensuales'!AA182","v":150.145995},{"$f":"'Datos mensuales'!Z182","v":80.55},{"$f":"'Datos mensuales'!AC182","v":93.368281550000006},{"$f":"'Datos mensuales'!AD182","v":253.5238095},null,{"$f":"'Datos mensuales'!AQ182","v":1.2510490000000001},{"$f":"'Datos mensuales'!AR182","v":108.78400000000001},{"$f":"'Datos mensuales'!AO182","v":8.2765000000000004},{"$f":"'Datos mensuales'!AP182","v":"n.d."},{"$f":"'Datos mensuales'!AN182","v":1.2469300000000001},{"$f":"'Datos mensuales'!AS182","v":11.403700000000001},null,{"$f":"'Datos mensuales'!BJ182","v":10027.469999999999},{"$f":"'Datos mensuales'!BK182","v":1974.99},{"$f":"'Datos mensuales'!BL182","v":1130.2}]
[null,"noviembre",{"$f":"'Datos mensuales'!D183","v":"n.d."},{"$f":"'Datos mensuales'!E183","v":2.8},{"$f":"'Datos mensuales'!F183","v":"n.d."},{"$f":"'Datos mensuales'!G183","v":3.5230352303523031},{"$f":"'Datos mensuales'!I183","v":0.79999999999999727},{"$f":"'Datos mensuales'!J183","v":5.425294261201743},{"$f":"'Datos mensuales'!H183","v":2.2000830220008352},null,{"$f":"'Datos mensuales'!AW183","v":2.31},{"$f":"'Datos mensuales'!AX183","v":2.17},{"$f":"'Datos mensuales'!AY183","v":0.05},{"$f":"'Datos mensuales'!AU183","v":2.5001099999999998},{"$f":"'Datos mensuales'!AV183","v":2.3199999999999998},{"$f":"'Datos mensuales'!AZ183","v":4.1900000000000004},{"$f":"'Datos mensuales'!BA183","v":3.87},{"$f":"'Datos mensuales'!BB183","v":1.46},null,{"$f":"'Datos mensuales'!BC183","v":92.6},{"$f":"'Datos mensuales'!BD183","v":96.3},{"$f":"'Datos mensuales'!BE183","v":90.2},null,{"$f":"'Datos mensuales'!T183","v":48.47},{"$f":"'Datos mensuales'!U183","v":43.11},{"$f":"'Datos mensuales'!W183","v":439.375},{"$f":"'Datos mensuales'!AA183","v":156.5686542},{"$f":"'Datos mensuales'!Z183","v":90.27},{"$f":"'Datos mensuales'!AC183","v":93.753330309999996},{"$f":"'Datos mensuales'!AD183","v":262.31818179999999},null,{"$f":"'Datos mensuales'!AQ183","v":1.3017289999999999},{"$f":"'Datos mensuales'!AR183","v":104.77800000000001},{"$f":"'Datos mensuales'!AO183","v":8.2765000000000004},{"$f":"'Datos mensuales'!AP183","v":"n.d."},{"$f":"'Datos mensuales'!AN183","v":1.1974},{"$f":"'Datos mensuales'!AS183","v":11.37},null,{"$f":"'Datos mensuales'!BJ183","v":10428.02},{"$f":"'Datos mensuales'!BK183","v":2096.81},{"$f":"'Datos mensuales'!BL183","v":1173.82}]
[null,"diciembre",{"$f":"'Datos mensuales'!D184","v":"n.d."},{"$f":"'Datos mensuales'!E184","v":2.4},{"$f":"'Datos mensuales'!F184","v":"n.d."},{"$f":"'Datos mensuales'!G184","v":3.2555615843733046},{"$f":"'Datos mensuales'!I184","v":0.19980019980020267},{"$f":"'Datos mensuales'!J184","v":5.1908482560095077},{"$f":"'Datos mensuales'!H184","v":2.3597598840819716},null,{"$f":"'Datos mensuales'!AW184","v":2.5},{"$f":"'Datos mensuales'!AX184","v":2.17},{"$f":"'Datos mensuales'!AY184","v":0.05},{"$f":"'Datos mensuales'!AU184","v":2.7103899999999999},{"$f":"'Datos mensuales'!AV184","v":2.5},{"$f":"'Datos mensuales'!AZ184","v":4.2300000000000004},{"$f":"'Datos mensuales'!BA184","v":3.69},{"$f":"'Datos mensuales'!BB184","v":1.4},null,{"$f":"'Datos mensuales'!BC184","v":102.3},{"$f":"'Datos mensuales'!BD184","v":105.9},{"$f":"'Datos mensuales'!BE184","v":99.9},null,{"$f":"'Datos mensuales'!T184","v":43.15},{"$f":"'Datos mensuales'!U184","v":39.6},{"$f":"'Datos mensuales'!W184","v":442.07889999999998},{"$f":"'Datos mensuales'!AA184","v":153.8743107},{"$f":"'Datos mensuales'!Z184","v":104.12},{"$f":"'Datos mensuales'!AC184","v":95.589773640000004},{"$f":"'Datos mensuales'!AD184","v":278.43478260000001},null,{"$f":"'Datos mensuales'!AQ184","v":1.339426},{"$f":"'Datos mensuales'!AR184","v":103.81},{"$f":"'Datos mensuales'!AO184","v":8.2765000000000004},{"$f":"'Datos mensuales'!AP184","v":"n.d."},{"$f":"'Datos mensuales'!AN184","v":1.21888},{"$f":"'Datos mensuales'!AS184","v":11.2012},null,{"$f":"'Datos mensuales'!BJ184","v":10783.01},{"$f":"'Datos mensuales'!BK184","v":2175.44},{"$f":"'Datos mensuales'!BL184","v":1211.92}]
[2005,"enero",{"$f":"'Datos mensuales'!D185","v":"n.d."},{"$f":"'Datos mensuales'!E185","v":1.9},{"$f":"'Datos mensuales'!F185","v":"n.d."},{"$f":"'Datos mensuales'!G185","v":2.9697624190064795},{"$f":"'Datos mensuales'!I185","v":0.2002002002001888},{"$f":"'Datos mensuales'!J185","v":4.5448212444617893},{"$f":"'Datos mensuales'!H185","v":1.928460342146189},null,{"$f":"'Datos mensuales'!AW185","v":2.66},{"$f":"'Datos mensuales'!AX185","v":2.15},{"$f":"'Datos mensuales'!AY185","v":0.05},{"$f":"'Datos mensuales'!AU185","v":2.8911899999999999},{"$f":"'Datos mensuales'!AV185","v":2.68},{"$f":"'Datos mensuales'!AZ185","v":4.21},{"$f":"'Datos mensuales'!BA185","v":3.63},{"$f":"'Datos mensuales'!BB185","v":1.37},null,{"$f":"'Datos mensuales'!BC185","v":105.1},{"$f":"'Datos mensuales'!BD185","v":112.1},{"$f":"'Datos mensuales'!BE185","v":100.4},null,{"$f":"'Datos mensuales'!T185","v":46.84},{"$f":"'Datos mensuales'!U185","v":44.51},{"$f":"'Datos mensuales'!W185","v":424.03},{"$f":"'Datos mensuales'!AA185","v":153.59311959999999},{"$f":"'Datos mensuales'!Z185","v":107.16},{"$f":"'Datos mensuales'!AC185","v":95.984627459999999},{"$f":"'Datos mensuales'!AD185","v":288.38095240000001},null,{"$f":"'Datos mensuales'!AQ185","v":1.312845},{"$f":"'Datos mensuales'!AR185","v":103.34099999999999},{"$f":"'Datos mensuales'!AO185","v":8.2765000000000004},{"$f":"'Datos mensuales'!AP185","v":"n.d."},{"$f":"'Datos mensuales'!AN185","v":1.2248399999999999},{"$f":"'Datos mensuales'!AS185","v":11.262700000000001},null,{"$f":"'Datos mensuales'!BJ185","v":10489.94},{"$f":"'Datos mensuales'!BK185","v":2062.41},{"$f":"'Datos mensuales'!BL185","v":1181.27}]
[null,"febrero",{"$f":"'Datos mensuales'!D186","v":"n.d."},{"$f":"'Datos mensuales'!E186","v":3.9},{"$f":"'Datos mensuales'!F186","v":"n.d."},{"$f":"'Datos mensuales'!G186","v":3.0075187969924935},{"$f":"'Datos mensuales'!I186","v":-0.10010010010010863},{"$f":"'Datos mensuales'!J186","v":4.2694243109738093},{"$f":"'Datos mensuales'!H186","v":2.1010142827571943},null,{"$f":"'Datos mensuales'!AW186","v":2.82},{"$f":"'Datos mensuales'!AX186","v":2.14},{"$f":"'Datos mensuales'!AY186","v":0.05},{"$f":"'Datos mensuales'!AU186","v":3.0467200000000001},{"$f":"'Datos mensuales'!AV186","v":2.85},{"$f":"'Datos mensuales'!AZ186","v":4.16},{"$f":"'Datos mensuales'!BA186","v":3.62},{"$f":"'Datos mensuales'!BB186","v":1.4},null,{"$f":"'Datos mensuales'!BC186","v":104.4},{"$f":"'Datos mensuales'!BD186","v":116.8},{"$f":"'Datos mensuales'!BE186","v":96.1},null,{"$f":"'Datos mensuales'!T186","v":48.15},{"$f":"'Datos mensuales'!U186","v":45.48},{"$f":"'Datos mensuales'!W186","v":423.35},{"$f":"'Datos mensuales'!AA186","v":151.3047037},{"$f":"'Datos mensuales'!Z186","v":120.86},{"$f":"'Datos mensuales'!AC186","v":94.359393609999998},{"$f":"'Datos mensuales'!AD186","v":292.35000000000002},null,{"$f":"'Datos mensuales'!AQ186","v":1.3009500000000001},{"$f":"'Datos mensuales'!AR186","v":104.994},{"$f":"'Datos mensuales'!AO186","v":8.2765000000000004},{"$f":"'Datos mensuales'!AP186","v":"n.d."},{"$f":"'Datos mensuales'!AN186","v":1.2400500000000001},{"$f":"'Datos mensuales'!AS186","v":11.1373},null,{"$f":"'Datos mensuales'!BJ186","v":10766.23},{"$f":"'Datos mensuales'!BK186","v":2051.7199999999998},{"$f":"'Datos mensuales'!BL186","v":1203.5999999999999}]
[null,"marzo",{"$f":"'Datos mensuales'!D187","v":"n.d."},{"$f":"'Datos mensuales'!E187","v":2.7},{"$f":"'Datos mensuales'!F187","v":"n.d."},{"$f":"'Datos mensuales'!G187","v":3.1483457844183591},{"$f":"'Datos mensuales'!I187","v":0},{"$f":"'Datos mensuales'!J187","v":4.3856743227326849},{"$f":"'Datos mensuales'!H187","v":2.0865453797923599},null,{"$f":"'Datos mensuales'!AW187","v":3.03},{"$f":"'Datos mensuales'!AX187","v":2.14},{"$f":"'Datos mensuales'!AY187","v":0.05},{"$f":"'Datos mensuales'!AU187","v":3.28152},{"$f":"'Datos mensuales'!AV187","v":3.09},{"$f":"'Datos mensuales'!AZ187","v":4.49},{"$f":"'Datos mensuales'!BA187","v":3.76},{"$f":"'Datos mensuales'!BB187","v":1.45},null,{"$f":"'Datos mensuales'!BC187","v":103},{"$f":"'Datos mensuales'!BD187","v":117},{"$f":"'Datos mensuales'!BE187","v":93.7},null,{"$f":"'Datos mensuales'!T187","v":54.19},{"$f":"'Datos mensuales'!U187","v":53.1},{"$f":"'Datos mensuales'!W187","v":434.32139999999998},{"$f":"'Datos mensuales'!AA187","v":150.98585030000001},{"$f":"'Datos mensuales'!Z187","v":135.03},{"$f":"'Datos mensuales'!AC187","v":99.943710670000002},{"$f":"'Datos mensuales'!AD187","v":295},null,{"$f":"'Datos mensuales'!AQ187","v":1.3196699999999999},{"$f":"'Datos mensuales'!AR187","v":105.254},{"$f":"'Datos mensuales'!AO187","v":8.2765000000000004},{"$f":"'Datos mensuales'!AP187","v":"n.d."},{"$f":"'Datos mensuales'!AN187","v":1.2160299999999999},{"$f":"'Datos mensuales'!AS187","v":11.155200000000001},null,{"$f":"'Datos mensuales'!BJ187","v":10503.76},{"$f":"'Datos mensuales'!BK187","v":1999.23},{"$f":"'Datos mensuales'!BL187","v":1180.5899999999999}]
[null,"abril ",{"$f":"'Datos mensuales'!D188","v":"n.d."},{"$f":"'Datos mensuales'!E188","v":1.8},{"$f":"'Datos mensuales'!F188","v":"n.d."},{"$f":"'Datos mensuales'!G188","v":3.5106382978723372},{"$f":"'Datos mensuales'!I188","v":9.9900099900108424E-2},{"$f":"'Datos mensuales'!J188","v":4.5995810209859842},{"$f":"'Datos mensuales'!H188","v":2.0773638968481385},null,{"$f":"'Datos mensuales'!AW188","v":3.15},{"$f":"'Datos mensuales'!AX188","v":2.14},{"$f":"'Datos mensuales'!AY188","v":0.05},{"$f":"'Datos mensuales'!AU188","v":3.3836599999999999},{"$f":"'Datos mensuales'!AV188","v":3.14},{"$f":"'Datos mensuales'!AZ188","v":4.34},{"$f":"'Datos mensuales'!BA188","v":3.57},{"$f":"'Datos mensuales'!BB188","v":1.32},null,{"$f":"'Datos mensuales'!BC188","v":97.7},{"$f":"'Datos mensuales'!BD188","v":113.6},{"$f":"'Datos mensuales'!BE188","v":87.2},null,{"$f":"'Datos mensuales'!T188","v":52.98},{"$f":"'Datos mensuales'!U188","v":51.88},{"$f":"'Datos mensuales'!W188","v":429.23329999999999},{"$f":"'Datos mensuales'!AA188","v":140.87696769999999},{"$f":"'Datos mensuales'!Z188","v":129.53},{"$f":"'Datos mensuales'!AC188","v":96.391198000000003},{"$f":"'Datos mensuales'!AD188","v":299.14285710000001},null,{"$f":"'Datos mensuales'!AQ188","v":1.2940179999999999},{"$f":"'Datos mensuales'!AR188","v":107.167},{"$f":"'Datos mensuales'!AO188","v":8.2765000000000004},{"$f":"'Datos mensuales'!AP188","v":"n.d."},{"$f":"'Datos mensuales'!AN188","v":1.2368600000000001},{"$f":"'Datos mensuales'!AS188","v":11.1097},null,{"$f":"'Datos mensuales'!BJ188","v":10192.51},{"$f":"'Datos mensuales'!BK188","v":1921.65},{"$f":"'Datos mensuales'!BL188","v":1156.8499999999999}]
[null,"mayo",{"$f":"'Datos mensuales'!D189","v":"n.d."},{"$f":"'Datos mensuales'!E189","v":1.8},{"$f":"'Datos mensuales'!F189","v":"n.d."},{"$f":"'Datos mensuales'!G189","v":2.8027498677948239},{"$f":"'Datos mensuales'!I189","v":9.9800399201591145E-2},{"$f":"'Datos mensuales'!J189","v":4.5991728305232948},{"$f":"'Datos mensuales'!H189","v":1.9887812340642561},null,{"$f":"'Datos mensuales'!AW189","v":3.27},{"$f":"'Datos mensuales'!AX189","v":2.13},{"$f":"'Datos mensuales'!AY189","v":0.05},{"$f":"'Datos mensuales'!AU189","v":3.4859100000000001},{"$f":"'Datos mensuales'!AV189","v":3.17},{"$f":"'Datos mensuales'!AZ189","v":4.1399999999999997},{"$f":"'Datos mensuales'!BA189","v":3.41},{"$f":"'Datos mensuales'!BB189","v":1.27},null,{"$f":"'Datos mensuales'!BC189","v":103.1},{"$f":"'Datos mensuales'!BD189","v":117.8},{"$f":"'Datos mensuales'!BE189","v":93.4},null,{"$f":"'Datos mensuales'!T189","v":49.83},{"$f":"'Datos mensuales'!U189","v":48.65},{"$f":"'Datos mensuales'!W189","v":421.8725},{"$f":"'Datos mensuales'!AA189","v":144.25388559999999},{"$f":"'Datos mensuales'!Z189","v":128.37},{"$f":"'Datos mensuales'!AC189","v":95.268641489999993},{"$f":"'Datos mensuales'!AD189","v":295.27272729999999},null,{"$f":"'Datos mensuales'!AQ189","v":1.2684580000000001},{"$f":"'Datos mensuales'!AR189","v":106.654},{"$f":"'Datos mensuales'!AO189","v":8.2765000000000004},{"$f":"'Datos mensuales'!AP189","v":"n.d."},{"$f":"'Datos mensuales'!AN189","v":1.25566},{"$f":"'Datos mensuales'!AS189","v":10.972300000000001},null,{"$f":"'Datos mensuales'!BJ189","v":10467.48},{"$f":"'Datos mensuales'!BK189","v":2068.2199999999998},{"$f":"'Datos mensuales'!BL189","v":1191.5}]
[null,"junio",{"$f":"'Datos mensuales'!D190","v":"n.d."},{"$f":"'Datos mensuales'!E190","v":1.6},{"$f":"'Datos mensuales'!F190","v":"n.d."},{"$f":"'Datos mensuales'!G190","v":2.5303110173958943},{"$f":"'Datos mensuales'!I190","v":-0.49800796812749004},{"$f":"'Datos mensuales'!J190","v":4.3315522775136923},{"$f":"'Datos mensuales'!H190","v":2.0703722590515055},null,{"$f":"'Datos mensuales'!AW190","v":3.43},{"$f":"'Datos mensuales'!AX190","v":2.11},{"$f":"'Datos mensuales'!AY190","v":0.05},{"$f":"'Datos mensuales'!AU190","v":3.61307},{"$f":"'Datos mensuales'!AV190","v":3.22},{"$f":"'Datos mensuales'!AZ190","v":4},{"$f":"'Datos mensuales'!BA190","v":3.25},{"$f":"'Datos mensuales'!BB190","v":1.24},null,{"$f":"'Datos mensuales'!BC190","v":106.2},{"$f":"'Datos mensuales'!BD190","v":120.8},{"$f":"'Datos mensuales'!BE190","v":96.4},null,{"$f":"'Datos mensuales'!T190","v":56.35},{"$f":"'Datos mensuales'!U190","v":54.35},{"$f":"'Datos mensuales'!W190","v":430.65679999999998},{"$f":"'Datos mensuales'!AA190","v":141.9307633},{"$f":"'Datos mensuales'!Z190","v":121.16},{"$f":"'Datos mensuales'!AC190","v":97.561592860000005},{"$f":"'Datos mensuales'!AD190","v":287.04545450000001},null,{"$f":"'Datos mensuales'!AQ190","v":1.215957},{"$f":"'Datos mensuales'!AR190","v":108.747},{"$f":"'Datos mensuales'!AO190","v":8.2765000000000004},{"$f":"'Datos mensuales'!AP190","v":"n.d."},{"$f":"'Datos mensuales'!AN190","v":1.24017},{"$f":"'Datos mensuales'!AS190","v":10.819699999999999},null,{"$f":"'Datos mensuales'!BJ190","v":10274.969999999999},{"$f":"'Datos mensuales'!BK190","v":2056.96},{"$f":"'Datos mensuales'!BL190","v":1191.33}]
[null,"julio",{"$f":"'Datos mensuales'!D191","v":"n.d."},{"$f":"'Datos mensuales'!E191","v":1.8},{"$f":"'Datos mensuales'!F191","v":"n.d."},{"$f":"'Datos mensuales'!G191","v":3.167898627243928},{"$f":"'Datos mensuales'!I191","v":-0.29970029970029688},{"$f":"'Datos mensuales'!J191","v":4.4660710682251681},{"$f":"'Datos mensuales'!H191","v":2.1659174499387053},null,{"$f":"'Datos mensuales'!AW191","v":3.61},{"$f":"'Datos mensuales'!AX191","v":2.13},{"$f":"'Datos mensuales'!AY191","v":0.06},{"$f":"'Datos mensuales'!AU191","v":3.8332999999999999},{"$f":"'Datos mensuales'!AV191","v":3.53},{"$f":"'Datos mensuales'!AZ191","v":4.16},{"$f":"'Datos mensuales'!BA191","v":3.32},{"$f":"'Datos mensuales'!BB191","v":1.26},null,{"$f":"'Datos mensuales'!BC191","v":103.2},{"$f":"'Datos mensuales'!BD191","v":118.5},{"$f":"'Datos mensuales'!BE191","v":93},null,{"$f":"'Datos mensuales'!T191","v":59},{"$f":"'Datos mensuales'!U191","v":57.52},{"$f":"'Datos mensuales'!W191","v":424.47859999999997},{"$f":"'Datos mensuales'!AA191","v":143.8698268},{"$f":"'Datos mensuales'!Z191","v":109.93},{"$f":"'Datos mensuales'!AC191","v":105.5953928},{"$f":"'Datos mensuales'!AD191","v":278.7142857},null,{"$f":"'Datos mensuales'!AQ191","v":1.2030099999999999},{"$f":"'Datos mensuales'!AR191","v":111.94},{"$f":"'Datos mensuales'!AO191","v":8.2369000000000003},{"$f":"'Datos mensuales'!AP191","v":"n.d."},{"$f":"'Datos mensuales'!AN191","v":1.22376},{"$f":"'Datos mensuales'!AS191","v":10.6755},null,{"$f":"'Datos mensuales'!BJ191","v":10640.91},{"$f":"'Datos mensuales'!BK191","v":2184.83},{"$f":"'Datos mensuales'!BL191","v":1234.18}]
[null,"agosto",{"$f":"'Datos mensuales'!D192","v":"n.d."},{"$f":"'Datos mensuales'!E192","v":1.3},{"$f":"'Datos mensuales'!F192","v":"n.d."},{"$f":"'Datos mensuales'!G192","v":3.6411609498680768},{"$f":"'Datos mensuales'!I192","v":-0.29940119760478756},{"$f":"'Datos mensuales'!J192","v":3.9491316833033223},{"$f":"'Datos mensuales'!H192","v":2.2437531871494167},null,{"$f":"'Datos mensuales'!AW192","v":3.8},{"$f":"'Datos mensuales'!AX192","v":2.16},{"$f":"'Datos mensuales'!AY192","v":0.06},{"$f":"'Datos mensuales'!AU192","v":4.0246899999999997},{"$f":"'Datos mensuales'!AV192","v":3.78},{"$f":"'Datos mensuales'!AZ192","v":4.26},{"$f":"'Datos mensuales'!BA192","v":3.32},{"$f":"'Datos mensuales'!BB192","v":1.43},null,{"$f":"'Datos mensuales'!BC192","v":105.5},{"$f":"'Datos mensuales'!BD192","v":123.8},{"$f":"'Datos mensuales'!BE192","v":93.3},null,{"$f":"'Datos mensuales'!T192","v":64.989999999999995},{"$f":"'Datos mensuales'!U192","v":63.98},{"$f":"'Datos mensuales'!W192","v":437.92950000000002},{"$f":"'Datos mensuales'!AA192","v":149.3590111},{"$f":"'Datos mensuales'!Z192","v":108.2},{"$f":"'Datos mensuales'!AC192","v":98.638263260000002},{"$f":"'Datos mensuales'!AD192","v":283.47826090000001},null,{"$f":"'Datos mensuales'!AQ192","v":1.2294369999999999},{"$f":"'Datos mensuales'!AR192","v":110.607},{"$f":"'Datos mensuales'!AO192","v":8.1019000000000005},{"$f":"'Datos mensuales'!AP192","v":"n.d."},{"$f":"'Datos mensuales'!AN192","v":1.20428},{"$f":"'Datos mensuales'!AS192","v":10.686199999999999},null,{"$f":"'Datos mensuales'!BJ192","v":10481.6},{"$f":"'Datos mensuales'!BK192","v":2152.09},{"$f":"'Datos mensuales'!BL192","v":1220.33}]
[null,"septiembre",{"$f":"'Datos mensuales'!D193","v":"n.d."},{"$f":"'Datos mensuales'!E193","v":0.9},{"$f":"'Datos mensuales'!F193","v":"n.d."},{"$f":"'Datos mensuales'!G193","v":4.6866771985255431},{"$f":"'Datos mensuales'!I193","v":-0.29850746268656436},{"$f":"'Datos mensuales'!J193","v":3.5098822806087462},{"$f":"'Datos mensuales'!H193","v":2.5860313581755308},null,{"$f":"'Datos mensuales'!AW193","v":3.91},{"$f":"'Datos mensuales'!AX193","v":2.14},{"$f":"'Datos mensuales'!AY193","v":0.06},{"$f":"'Datos mensuales'!AU193","v":4.0451199999999998},{"$f":"'Datos mensuales'!AV193","v":3.79},{"$f":"'Datos mensuales'!AZ193","v":4.1900000000000004},{"$f":"'Datos mensuales'!BA193","v":3.16},{"$f":"'Datos mensuales'!BB193","v":1.38},null,{"$f":"'Datos mensuales'!BC193","v":87.5},{"$f":"'Datos mensuales'!BD193","v":110.4},{"$f":"'Datos mensuales'!BE193","v":72.3},null,{"$f":"'Datos mensuales'!T193","v":65.59},{"$f":"'Datos mensuales'!U193","v":62.91},{"$f":"'Datos mensuales'!W193","v":456.04770000000002},{"$f":"'Datos mensuales'!AA193","v":159.70864359999999},{"$f":"'Datos mensuales'!Z193","v":99.49},{"$f":"'Datos mensuales'!AC193","v":96.993437950000001},{"$f":"'Datos mensuales'!AD193","v":287.40909090000002},null,{"$f":"'Datos mensuales'!AQ193","v":1.2261919999999999},{"$f":"'Datos mensuales'!AR193","v":111.15600000000001},{"$f":"'Datos mensuales'!AO193","v":8.0922000000000001},{"$f":"'Datos mensuales'!AP193","v":"n.d."},{"$f":"'Datos mensuales'!AN193","v":1.1778900000000001},{"$f":"'Datos mensuales'!AS193","v":10.7791},null,{"$f":"'Datos mensuales'!BJ193","v":10568.7},{"$f":"'Datos mensuales'!BK193","v":2151.69},{"$f":"'Datos mensuales'!BL193","v":1228.81}]
[null,"octubre",{"$f":"'Datos mensuales'!D194","v":"n.d."},{"$f":"'Datos mensuales'!E194","v":1.2},{"$f":"'Datos mensuales'!F194","v":"n.d."},{"$f":"'Datos mensuales'!G194","v":4.3478260869565126},{"$f":"'Datos mensuales'!I194","v":-0.79207920792078934},{"$f":"'Datos mensuales'!J194","v":3.0502478270237532},{"$f":"'Datos mensuales'!H194","v":2.4959415584415523},null,{"$f":"'Datos mensuales'!AW194","v":4.17},{"$f":"'Datos mensuales'!AX194","v":2.2000000000000002},{"$f":"'Datos mensuales'!AY194","v":0.06},{"$f":"'Datos mensuales'!AU194","v":4.3530100000000003},{"$f":"'Datos mensuales'!AV194","v":4.13},{"$f":"'Datos mensuales'!AZ194","v":4.45},{"$f":"'Datos mensuales'!BA194","v":3.32},{"$f":"'Datos mensuales'!BB194","v":1.54},null,{"$f":"'Datos mensuales'!BC194","v":85.2},{"$f":"'Datos mensuales'!BD194","v":107.8},{"$f":"'Datos mensuales'!BE194","v":70.099999999999994},null,{"$f":"'Datos mensuales'!T194","v":62.26},{"$f":"'Datos mensuales'!U194","v":58.54},{"$f":"'Datos mensuales'!W194","v":469.89760000000001},{"$f":"'Datos mensuales'!AA194","v":167.82669749999999},{"$f":"'Datos mensuales'!Z194","v":105.05},{"$f":"'Datos mensuales'!AC194","v":101.49969249999999},{"$f":"'Datos mensuales'!AD194","v":290.7142857},null,{"$f":"'Datos mensuales'!AQ194","v":1.2030799999999999},{"$f":"'Datos mensuales'!AR194","v":114.82},{"$f":"'Datos mensuales'!AO194","v":8.0889000000000006},{"$f":"'Datos mensuales'!AP194","v":"n.d."},{"$f":"'Datos mensuales'!AN194","v":1.1772800000000001},{"$f":"'Datos mensuales'!AS194","v":10.8332},null,{"$f":"'Datos mensuales'!BJ194","v":10440.07},{"$f":"'Datos mensuales'!BK194","v":2117.34},{"$f":"'Datos mensuales'!BL194","v":1207.01}]
[null,"noviembre",{"$f":"'Datos mensuales'!D195","v":"n.d."},{"$f":"'Datos mensuales'!E195","v":1.3},{"$f":"'Datos mensuales'!F195","v":"n.d."},{"$f":"'Datos mensuales'!G195","v":3.4554973821989501},{"$f":"'Datos mensuales'!I195","v":-0.99206349206349198},{"$f":"'Datos mensuales'!J195","v":2.914047614808597},{"$f":"'Datos mensuales'!H195","v":2.3151909017059311},null,{"$f":"'Datos mensuales'!AW195","v":4.3499999999999996},{"$f":"'Datos mensuales'!AX195","v":2.36},{"$f":"'Datos mensuales'!AY195","v":0.06},{"$f":"'Datos mensuales'!AU195","v":4.5549200000000001},{"$f":"'Datos mensuales'!AV195","v":4.3},{"$f":"'Datos mensuales'!AZ195","v":4.53},{"$f":"'Datos mensuales'!BA195","v":3.53},{"$f":"'Datos mensuales'!BB195","v":1.52},null,{"$f":"'Datos mensuales'!BC195","v":98.9},{"$f":"'Datos mensuales'!BD195","v":114},{"$f":"'Datos mensuales'!BE195","v":88.8},null,{"$f":"'Datos mensuales'!T195","v":58.32},{"$f":"'Datos mensuales'!U195","v":55.24},{"$f":"'Datos mensuales'!W195","v":476.66590000000002},{"$f":"'Datos mensuales'!AA195","v":161.11633699999999},{"$f":"'Datos mensuales'!Z195","v":107.74},{"$f":"'Datos mensuales'!AC195","v":95.969864380000004},{"$f":"'Datos mensuales'!AD195","v":278.95454549999999},null,{"$f":"'Datos mensuales'!AQ195","v":1.1774770000000001},{"$f":"'Datos mensuales'!AR195","v":118.45},{"$f":"'Datos mensuales'!AO195","v":8.0839999999999996},{"$f":"'Datos mensuales'!AP195","v":"n.d."},{"$f":"'Datos mensuales'!AN195","v":1.1813899999999999},{"$f":"'Datos mensuales'!AS195","v":10.6714},null,{"$f":"'Datos mensuales'!BJ195","v":10805.87},{"$f":"'Datos mensuales'!BK195","v":2232.8200000000002},{"$f":"'Datos mensuales'!BL195","v":1249.48}]
[null,"diciembre",{"$f":"'Datos mensuales'!D196","v":"n.d."},{"$f":"'Datos mensuales'!E196","v":1.6},{"$f":"'Datos mensuales'!F196","v":"n.d."},{"$f":"'Datos mensuales'!G196","v":3.4156594850236468},{"$f":"'Datos mensuales'!I196","v":-0.39880358923229453},{"$f":"'Datos mensuales'!J196","v":3.3327410039975325},{"$f":"'Datos mensuales'!H196","v":2.2244691607684413},null,{"$f":"'Datos mensuales'!AW196","v":4.49},{"$f":"'Datos mensuales'!AX196","v":2.4700000000000002},{"$f":"'Datos mensuales'!AY196","v":7.0000000000000007E-2},{"$f":"'Datos mensuales'!AU196","v":4.6661900000000003},{"$f":"'Datos mensuales'!AV196","v":4.33},{"$f":"'Datos mensuales'!AZ196","v":4.46},{"$f":"'Datos mensuales'!BA196","v":3.41},{"$f":"'Datos mensuales'!BB196","v":1.54},null,{"$f":"'Datos mensuales'!BC196","v":103.8},{"$f":"'Datos mensuales'!BD196","v":120.7},{"$f":"'Datos mensuales'!BE196","v":92.6},null,{"$f":"'Datos mensuales'!T196","v":59.41},{"$f":"'Datos mensuales'!U196","v":56.86},{"$f":"'Datos mensuales'!W196","v":510.09719999999999},{"$f":"'Datos mensuales'!AA196","v":164.4410311},{"$f":"'Datos mensuales'!Z196","v":105.77},{"$f":"'Datos mensuales'!AC196","v":102.66199210000001},{"$f":"'Datos mensuales'!AD196","v":277.27272729999999},null,{"$f":"'Datos mensuales'!AQ196","v":1.185659},{"$f":"'Datos mensuales'!AR196","v":118.36799999999999},{"$f":"'Datos mensuales'!AO196","v":8.0759000000000007},{"$f":"'Datos mensuales'!AP196","v":"n.d."},{"$f":"'Datos mensuales'!AN196","v":1.1616599999999999},{"$f":"'Datos mensuales'!AS196","v":10.629},null,{"$f":"'Datos mensuales'!BJ196","v":10717.5},{"$f":"'Datos mensuales'!BK196","v":2205.3200000000002},{"$f":"'Datos mensuales'!BL196","v":1248.29}]
[2006,"enero",{"$f":"'Datos mensuales'!D197","v":"n.d."},{"$f":"'Datos mensuales'!E197","v":1.9},{"$f":"'Datos mensuales'!F197","v":"n.d."},{"$f":"'Datos mensuales'!G197","v":3.9853172522286435},{"$f":"'Datos mensuales'!I197","v":-9.9900099900094214E-2},{"$f":"'Datos mensuales'!J197","v":3.9350000888459511},{"$f":"'Datos mensuales'!H197","v":2.3903977214932297},null,{"$f":"'Datos mensuales'!AW197","v":4.5999999999999996},{"$f":"'Datos mensuales'!AX197","v":2.5099999999999998},{"$f":"'Datos mensuales'!AY197","v":7.0000000000000007E-2},{"$f":"'Datos mensuales'!AU197","v":4.7325900000000001},{"$f":"'Datos mensuales'!AV197","v":4.47},{"$f":"'Datos mensuales'!AZ197","v":4.41},{"$f":"'Datos mensuales'!BA197","v":3.39},{"$f":"'Datos mensuales'!BB197","v":1.47},null,{"$f":"'Datos mensuales'!BC197","v":106.3},{"$f":"'Datos mensuales'!BD197","v":129.4},{"$f":"'Datos mensuales'!BE197","v":91.5},null,{"$f":"'Datos mensuales'!T197","v":65.489999999999995},{"$f":"'Datos mensuales'!U197","v":62.99},{"$f":"'Datos mensuales'!W197","v":549.86400000000003},{"$f":"'Datos mensuales'!AA197","v":167.1607185},{"$f":"'Datos mensuales'!Z197","v":124.2},{"$f":"'Datos mensuales'!AC197","v":102.69690799999999},{"$f":"'Datos mensuales'!AD197","v":284.45454549999999},null,{"$f":"'Datos mensuales'!AQ197","v":1.2105870000000001},{"$f":"'Datos mensuales'!AR197","v":115.586},{"$f":"'Datos mensuales'!AO197","v":8.0659399999999994},{"$f":"'Datos mensuales'!AP197","v":"n.d."},{"$f":"'Datos mensuales'!AN197","v":1.15788},{"$f":"'Datos mensuales'!AS197","v":10.5496},null,{"$f":"'Datos mensuales'!BJ197","v":10864.86},{"$f":"'Datos mensuales'!BK197","v":2305.8200000000002},{"$f":"'Datos mensuales'!BL197","v":1280.08}]
[null,"febrero",{"$f":"'Datos mensuales'!D198","v":"n.d."},{"$f":"'Datos mensuales'!E198","v":1.4},{"$f":"'Datos mensuales'!F198","v":"n.d."},{"$f":"'Datos mensuales'!G198","v":3.5974973931178189},{"$f":"'Datos mensuales'!I198","v":-0.10020040080159752},{"$f":"'Datos mensuales'!J198","v":3.7483728714505298},{"$f":"'Datos mensuales'!H198","v":2.3314749113025819},null,{"$f":"'Datos mensuales'!AW198","v":4.76},{"$f":"'Datos mensuales'!AX198","v":2.6},{"$f":"'Datos mensuales'!AY198","v":7.0000000000000007E-2},{"$f":"'Datos mensuales'!AU198","v":4.9227499999999997},{"$f":"'Datos mensuales'!AV198","v":4.6900000000000004},{"$f":"'Datos mensuales'!AZ198","v":4.5599999999999996},{"$f":"'Datos mensuales'!BA198","v":3.55},{"$f":"'Datos mensuales'!BB198","v":1.57},null,{"$f":"'Datos mensuales'!BC198","v":102.7},{"$f":"'Datos mensuales'!BD198","v":130.30000000000001},{"$f":"'Datos mensuales'!BE198","v":84.2},null,{"$f":"'Datos mensuales'!T198","v":61.63},{"$f":"'Datos mensuales'!U198","v":60.21},{"$f":"'Datos mensuales'!W198","v":554.995},{"$f":"'Datos mensuales'!AA198","v":179.8409096},{"$f":"'Datos mensuales'!Z198","v":119.12},{"$f":"'Datos mensuales'!AC198","v":106.920962},{"$f":"'Datos mensuales'!AD198","v":296.39999999999998},null,{"$f":"'Datos mensuales'!AQ198","v":1.193584},{"$f":"'Datos mensuales'!AR198","v":117.839},{"$f":"'Datos mensuales'!AO198","v":8.05124},{"$f":"'Datos mensuales'!AP198","v":"n.d."},{"$f":"'Datos mensuales'!AN198","v":1.14873},{"$f":"'Datos mensuales'!AS198","v":10.481299999999999},null,{"$f":"'Datos mensuales'!BJ198","v":10993.41},{"$f":"'Datos mensuales'!BK198","v":2281.39},{"$f":"'Datos mensuales'!BL198","v":1280.6600000000001}]
[null,"marzo",{"$f":"'Datos mensuales'!D199","v":"n.d."},{"$f":"'Datos mensuales'!E199","v":1.2},{"$f":"'Datos mensuales'!F199","v":"n.d."},{"$f":"'Datos mensuales'!G199","v":3.3626487325400931},{"$f":"'Datos mensuales'!I199","v":-0.19980019980018843},{"$f":"'Datos mensuales'!J199","v":3.4124367495901762},{"$f":"'Datos mensuales'!H199","v":2.2251308900523643},null,{"$f":"'Datos mensuales'!AW199","v":4.92},{"$f":"'Datos mensuales'!AX199","v":2.72},{"$f":"'Datos mensuales'!AY199","v":0.1},{"$f":"'Datos mensuales'!AU199","v":5.0527499999999996},{"$f":"'Datos mensuales'!AV199","v":4.79},{"$f":"'Datos mensuales'!AZ199","v":4.72},{"$f":"'Datos mensuales'!BA199","v":3.73},{"$f":"'Datos mensuales'!BB199","v":1.7},null,{"$f":"'Datos mensuales'!BC199","v":107.5},{"$f":"'Datos mensuales'!BD199","v":133.33000000000001},{"$f":"'Datos mensuales'!BE199","v":90.3},null,{"$f":"'Datos mensuales'!T199","v":62.69},{"$f":"'Datos mensuales'!U199","v":62.06},{"$f":"'Datos mensuales'!W199","v":557.09349999999995},{"$f":"'Datos mensuales'!AA199","v":174.43596450000001},{"$f":"'Datos mensuales'!Z199","v":113.66},{"$f":"'Datos mensuales'!AC199","v":104.8939228},{"$f":"'Datos mensuales'!AD199","v":297.73913040000002},null,{"$f":"'Datos mensuales'!AQ199","v":1.20299},{"$f":"'Datos mensuales'!AR199","v":117.27800000000001},{"$f":"'Datos mensuales'!AO199","v":8.0449900000000003},{"$f":"'Datos mensuales'!AP199","v":"n.d."},{"$f":"'Datos mensuales'!AN199","v":1.1573100000000001},{"$f":"'Datos mensuales'!AS199","v":10.7493},null,{"$f":"'Datos mensuales'!BJ199","v":11109.32},{"$f":"'Datos mensuales'!BK199","v":2339.79},{"$f":"'Datos mensuales'!BL199","v":1294.83}]
[null,"abril ",{"$f":"'Datos mensuales'!D200","v":"n.d."},{"$f":"'Datos mensuales'!E200","v":1.2},{"$f":"'Datos mensuales'!F200","v":"n.d."},{"$f":"'Datos mensuales'!G200","v":3.5457348406988727},{"$f":"'Datos mensuales'!I200","v":-9.9800399201605314E-2},{"$f":"'Datos mensuales'!J200","v":3.1965355492693517},{"$f":"'Datos mensuales'!H200","v":2.4561403508771957},null,{"$f":"'Datos mensuales'!AW200","v":5.07},{"$f":"'Datos mensuales'!AX200","v":2.79},{"$f":"'Datos mensuales'!AY200","v":0.11},{"$f":"'Datos mensuales'!AU200","v":5.20472},{"$f":"'Datos mensuales'!AV200","v":4.9000000000000004},{"$f":"'Datos mensuales'!AZ200","v":4.99},{"$f":"'Datos mensuales'!BA200","v":4.01},{"$f":"'Datos mensuales'!BB200","v":1.91},null,{"$f":"'Datos mensuales'!BC200","v":109.8},{"$f":"'Datos mensuales'!BD200","v":136.19999999999999},{"$f":"'Datos mensuales'!BE200","v":92.3},null,{"$f":"'Datos mensuales'!T200","v":69.44},{"$f":"'Datos mensuales'!U200","v":70.260000000000005},{"$f":"'Datos mensuales'!W200","v":610.65279999999996},{"$f":"'Datos mensuales'!AA200","v":180.3460383},{"$f":"'Datos mensuales'!Z200","v":115.42},{"$f":"'Datos mensuales'!AC200","v":107.82228689999999},{"$f":"'Datos mensuales'!AD200","v":298.5},null,{"$f":"'Datos mensuales'!AQ200","v":1.226288},{"$f":"'Datos mensuales'!AR200","v":117.07},{"$f":"'Datos mensuales'!AO200","v":8.0143400000000007},{"$f":"'Datos mensuales'!AP200","v":"n.d."},{"$f":"'Datos mensuales'!AN200","v":1.1440999999999999},{"$f":"'Datos mensuales'!AS200","v":11.0489},null,{"$f":"'Datos mensuales'!BJ200","v":11367.14},{"$f":"'Datos mensuales'!BK200","v":2322.5700000000002},{"$f":"'Datos mensuales'!BL200","v":1310.6099999999999}]
[null,"mayo",{"$f":"'Datos mensuales'!D201","v":"n.d."},{"$f":"'Datos mensuales'!E201","v":1.2},{"$f":"'Datos mensuales'!F201","v":"n.d."},{"$f":"'Datos mensuales'!G201","v":4.1666666666666634},{"$f":"'Datos mensuales'!I201","v":9.9700897308084291E-2},{"$f":"'Datos mensuales'!J201","v":2.9958786854061272},{"$f":"'Datos mensuales'!H201","v":2.480000000000004},null,{"$f":"'Datos mensuales'!AW201","v":5.18},{"$f":"'Datos mensuales'!AX201","v":2.89},{"$f":"'Datos mensuales'!AY201","v":0.19},{"$f":"'Datos mensuales'!AU201","v":5.2887399999999998},{"$f":"'Datos mensuales'!AV201","v":5.01},{"$f":"'Datos mensuales'!AZ201","v":5.0999999999999996},{"$f":"'Datos mensuales'!BA201","v":4.0599999999999996},{"$f":"'Datos mensuales'!BB201","v":1.91},null,{"$f":"'Datos mensuales'!BC201","v":103.2},{"$f":"'Datos mensuales'!BD201","v":132.5},{"$f":"'Datos mensuales'!BE201","v":83.7},null,{"$f":"'Datos mensuales'!T201","v":70.84},{"$f":"'Datos mensuales'!U201","v":69.78},{"$f":"'Datos mensuales'!W201","v":675.39300000000003},{"$f":"'Datos mensuales'!AA201","v":193.16670479999999},{"$f":"'Datos mensuales'!Z201","v":109.36},{"$f":"'Datos mensuales'!AC201","v":110.56652459999999},{"$f":"'Datos mensuales'!AD201","v":301.26086959999998},null,{"$f":"'Datos mensuales'!AQ201","v":1.277083},{"$f":"'Datos mensuales'!AR201","v":111.767},{"$f":"'Datos mensuales'!AO201","v":8.0135900000000007},{"$f":"'Datos mensuales'!AP201","v":"n.d."},{"$f":"'Datos mensuales'!AN201","v":1.1098699999999999},{"$f":"'Datos mensuales'!AS201","v":11.093},null,{"$f":"'Datos mensuales'!BJ201","v":11168.31},{"$f":"'Datos mensuales'!BK201","v":2178.88},{"$f":"'Datos mensuales'!BL201","v":1270.0899999999999}]
[null,"junio",{"$f":"'Datos mensuales'!D202","v":"n.d."},{"$f":"'Datos mensuales'!E202","v":1.5},{"$f":"'Datos mensuales'!F202","v":"n.d."},{"$f":"'Datos mensuales'!G202","v":4.318766066838049},{"$f":"'Datos mensuales'!I202","v":0.50050050050050054},{"$f":"'Datos mensuales'!J202","v":3.1838655936254305},{"$f":"'Datos mensuales'!H202","v":2.478017585931259},null,{"$f":"'Datos mensuales'!AW202","v":5.38},{"$f":"'Datos mensuales'!AX202","v":2.99},{"$f":"'Datos mensuales'!AY202","v":0.32},{"$f":"'Datos mensuales'!AU202","v":5.4896599999999998},{"$f":"'Datos mensuales'!AV202","v":5.17},{"$f":"'Datos mensuales'!AZ202","v":5.0999999999999996},{"$f":"'Datos mensuales'!BA202","v":4.07},{"$f":"'Datos mensuales'!BB202","v":1.87},null,{"$f":"'Datos mensuales'!BC202","v":105.4},{"$f":"'Datos mensuales'!BD202","v":132.19999999999999},{"$f":"'Datos mensuales'!BE202","v":87.5},null,{"$f":"'Datos mensuales'!T202","v":70.95},{"$f":"'Datos mensuales'!U202","v":68.56},{"$f":"'Datos mensuales'!W202","v":596.14499999999998},{"$f":"'Datos mensuales'!AA202","v":195.1639855},{"$f":"'Datos mensuales'!Z202","v":103.15},{"$f":"'Datos mensuales'!AC202","v":109.55142960000001},{"$f":"'Datos mensuales'!AD202","v":305.59090909999998},null,{"$f":"'Datos mensuales'!AQ202","v":1.2662070000000001},{"$f":"'Datos mensuales'!AR202","v":114.625},{"$f":"'Datos mensuales'!AO202","v":8.0041899999999995},{"$f":"'Datos mensuales'!AP202","v":"n.d."},{"$f":"'Datos mensuales'!AN202","v":1.1137300000000001},{"$f":"'Datos mensuales'!AS202","v":11.3934},null,{"$f":"'Datos mensuales'!BJ202","v":11150.22},{"$f":"'Datos mensuales'!BK202","v":2172.09},{"$f":"'Datos mensuales'!BL202","v":1270.2}]
[null,"julio",{"$f":"'Datos mensuales'!D203","v":"n.d."},{"$f":"'Datos mensuales'!E203","v":1},{"$f":"'Datos mensuales'!F203","v":"n.d."},{"$f":"'Datos mensuales'!G203","v":4.1453428863868957},{"$f":"'Datos mensuales'!I203","v":0.30060120240480681},{"$f":"'Datos mensuales'!J203","v":3.0634554091192054},{"$f":"'Datos mensuales'!H203","v":2.4300000000000068},null,{"$f":"'Datos mensuales'!AW203","v":5.5},{"$f":"'Datos mensuales'!AX203","v":3.1},{"$f":"'Datos mensuales'!AY203","v":0.4},{"$f":"'Datos mensuales'!AU203","v":5.5822500000000002},{"$f":"'Datos mensuales'!AV203","v":5.27},{"$f":"'Datos mensuales'!AZ203","v":5.0999999999999996},{"$f":"'Datos mensuales'!BA203","v":4.0999999999999996},{"$f":"'Datos mensuales'!BB203","v":1.91},null,{"$f":"'Datos mensuales'!BC203","v":106.5},{"$f":"'Datos mensuales'!BD203","v":134.19999999999999},{"$f":"'Datos mensuales'!BE203","v":88.9},null,{"$f":"'Datos mensuales'!T203","v":74.41},{"$f":"'Datos mensuales'!U203","v":73.67},{"$f":"'Datos mensuales'!W203","v":633.71},{"$f":"'Datos mensuales'!AA203","v":202.42859519999999},{"$f":"'Datos mensuales'!Z203","v":105},{"$f":"'Datos mensuales'!AC203","v":114.2367158},{"$f":"'Datos mensuales'!AD203","v":312.42857140000001},null,{"$f":"'Datos mensuales'!AQ203","v":1.270119},{"$f":"'Datos mensuales'!AR203","v":115.767},{"$f":"'Datos mensuales'!AO203","v":7.9897},{"$f":"'Datos mensuales'!AP203","v":"n.d."},{"$f":"'Datos mensuales'!AN203","v":1.1294500000000001},{"$f":"'Datos mensuales'!AS203","v":10.983000000000001},null,{"$f":"'Datos mensuales'!BJ203","v":11185.68},{"$f":"'Datos mensuales'!BK203","v":2091.4699999999998},{"$f":"'Datos mensuales'!BL203","v":1276.6600000000001}]
[null,"agosto",{"$f":"'Datos mensuales'!D204","v":"n.d."},{"$f":"'Datos mensuales'!E204","v":1.3},{"$f":"'Datos mensuales'!F204","v":"n.d."},{"$f":"'Datos mensuales'!G204","v":3.8187372708757632},{"$f":"'Datos mensuales'!I204","v":0.90090090090089237},{"$f":"'Datos mensuales'!J204","v":3.4658458084488855},{"$f":"'Datos mensuales'!H204","v":2.2643391521196965},null,{"$f":"'Datos mensuales'!AW204","v":5.42},{"$f":"'Datos mensuales'!AX204","v":3.23},{"$f":"'Datos mensuales'!AY204","v":0.41},{"$f":"'Datos mensuales'!AU204","v":5.47926},{"$f":"'Datos mensuales'!AV204","v":5.17},{"$f":"'Datos mensuales'!AZ204","v":4.88},{"$f":"'Datos mensuales'!BA204","v":3.97},{"$f":"'Datos mensuales'!BB204","v":1.81},null,{"$f":"'Datos mensuales'!BC204","v":99.6},{"$f":"'Datos mensuales'!BD204","v":123.9},{"$f":"'Datos mensuales'!BE204","v":84.4},null,{"$f":"'Datos mensuales'!T204","v":73.040000000000006},{"$f":"'Datos mensuales'!U204","v":73.23},{"$f":"'Datos mensuales'!W204","v":632.59320000000002},{"$f":"'Datos mensuales'!AA204","v":189.91465170000001},{"$f":"'Datos mensuales'!Z204","v":111.73},{"$f":"'Datos mensuales'!AC204","v":115.2057107},{"$f":"'Datos mensuales'!AD204","v":313.3913043},null,{"$f":"'Datos mensuales'!AQ204","v":1.2804580000000001},{"$f":"'Datos mensuales'!AR204","v":115.92400000000001},{"$f":"'Datos mensuales'!AO204","v":7.9721799999999998},{"$f":"'Datos mensuales'!AP204","v":"n.d."},{"$f":"'Datos mensuales'!AN204","v":1.1182099999999999},{"$f":"'Datos mensuales'!AS204","v":10.8735},null,{"$f":"'Datos mensuales'!BJ204","v":11381.15},{"$f":"'Datos mensuales'!BK204","v":2183.75},{"$f":"'Datos mensuales'!BL204","v":1303.82}]
[null,"septiembre",{"$f":"'Datos mensuales'!D205","v":"n.d."},{"$f":"'Datos mensuales'!E205","v":1.5},{"$f":"'Datos mensuales'!F205","v":"n.d."},{"$f":"'Datos mensuales'!G205","v":2.0623742454728338},{"$f":"'Datos mensuales'!I205","v":0.59880239520957512},{"$f":"'Datos mensuales'!J205","v":4.0931483875480028},{"$f":"'Datos mensuales'!H205","v":1.7467248908296853},null,{"$f":"'Datos mensuales'!AW205","v":5.38},{"$f":"'Datos mensuales'!AX205","v":3.34},{"$f":"'Datos mensuales'!AY205","v":0.42},{"$f":"'Datos mensuales'!AU205","v":5.4091500000000003},{"$f":"'Datos mensuales'!AV205","v":5.08},{"$f":"'Datos mensuales'!AZ205","v":4.72},{"$f":"'Datos mensuales'!BA205","v":3.84},{"$f":"'Datos mensuales'!BB205","v":1.68},null,{"$f":"'Datos mensuales'!BC205","v":105.9},{"$f":"'Datos mensuales'!BD205","v":128.30000000000001},{"$f":"'Datos mensuales'!BE205","v":91},null,{"$f":"'Datos mensuales'!T205","v":63.8},{"$f":"'Datos mensuales'!U205","v":61.96},{"$f":"'Datos mensuales'!W205","v":598.1857},{"$f":"'Datos mensuales'!AA205","v":195.98153210000001},{"$f":"'Datos mensuales'!Z205","v":109.83},{"$f":"'Datos mensuales'!AC205","v":120.26005259999999},{"$f":"'Datos mensuales'!AD205","v":312.90476189999998},null,{"$f":"'Datos mensuales'!AQ205","v":1.272829},{"$f":"'Datos mensuales'!AR205","v":117.214},{"$f":"'Datos mensuales'!AO205","v":7.9343599999999999},{"$f":"'Datos mensuales'!AP205","v":"n.d."},{"$f":"'Datos mensuales'!AN205","v":1.1156200000000001},{"$f":"'Datos mensuales'!AS205","v":10.9842},null,{"$f":"'Datos mensuales'!BJ205","v":11679.07},{"$f":"'Datos mensuales'!BK205","v":2258.4299999999998},{"$f":"'Datos mensuales'!BL205","v":1335.85}]
[null,"octubre",{"$f":"'Datos mensuales'!D206","v":"n.d."},{"$f":"'Datos mensuales'!E206","v":1.4},{"$f":"'Datos mensuales'!F206","v":"n.d."},{"$f":"'Datos mensuales'!G206","v":1.3052208835341481},{"$f":"'Datos mensuales'!I206","v":0.39920159680637868},{"$f":"'Datos mensuales'!J206","v":4.2922493791667673},{"$f":"'Datos mensuales'!H206","v":1.5640467234211031},null,{"$f":"'Datos mensuales'!AW206","v":5.37},{"$f":"'Datos mensuales'!AX206","v":3.5},{"$f":"'Datos mensuales'!AY206","v":0.44},{"$f":"'Datos mensuales'!AU206","v":5.3944900000000002},{"$f":"'Datos mensuales'!AV206","v":5.12},{"$f":"'Datos mensuales'!AZ206","v":4.7300000000000004},{"$f":"'Datos mensuales'!BA206","v":3.88},{"$f":"'Datos mensuales'!BB206","v":1.76},null,{"$f":"'Datos mensuales'!BC206","v":105.1},{"$f":"'Datos mensuales'!BD206","v":125.1},{"$f":"'Datos mensuales'!BE206","v":91.9},null,{"$f":"'Datos mensuales'!T206","v":58.89},{"$f":"'Datos mensuales'!U206","v":57.81},{"$f":"'Datos mensuales'!W206","v":585.77949999999998},{"$f":"'Datos mensuales'!AA206","v":212.09406730000001},{"$f":"'Datos mensuales'!Z206","v":110.63},{"$f":"'Datos mensuales'!AC206","v":142.17293749999999},{"$f":"'Datos mensuales'!AD206","v":309.63636359999998},null,{"$f":"'Datos mensuales'!AQ206","v":1.261477},{"$f":"'Datos mensuales'!AR206","v":118.622},{"$f":"'Datos mensuales'!AO206","v":7.9018600000000001},{"$f":"'Datos mensuales'!AP206","v":"n.d."},{"$f":"'Datos mensuales'!AN206","v":1.12843},{"$f":"'Datos mensuales'!AS206","v":10.8932},null,{"$f":"'Datos mensuales'!BJ206","v":12080.73},{"$f":"'Datos mensuales'!BK206","v":2366.71},{"$f":"'Datos mensuales'!BL206","v":1377.94}]
[null,"noviembre",{"$f":"'Datos mensuales'!D207","v":"n.d."},{"$f":"'Datos mensuales'!E207","v":1.9},{"$f":"'Datos mensuales'!F207","v":"n.d."},{"$f":"'Datos mensuales'!G207","v":1.9736842105263188},{"$f":"'Datos mensuales'!I207","v":0.30060120240480681},{"$f":"'Datos mensuales'!J207","v":4.0902838456275763},{"$f":"'Datos mensuales'!H207","v":1.8658197697498964},null,{"$f":"'Datos mensuales'!AW207","v":5.37},{"$f":"'Datos mensuales'!AX207","v":3.6},{"$f":"'Datos mensuales'!AY207","v":0.48},{"$f":"'Datos mensuales'!AU207","v":5.37296},{"$f":"'Datos mensuales'!AV207","v":5.15},{"$f":"'Datos mensuales'!AZ207","v":4.5999999999999996},{"$f":"'Datos mensuales'!BA207","v":3.8},{"$f":"'Datos mensuales'!BB207","v":1.7},null,{"$f":"'Datos mensuales'!BC207","v":102.9},{"$f":"'Datos mensuales'!BD207","v":123.6},{"$f":"'Datos mensuales'!BE207","v":89.2},null,{"$f":"'Datos mensuales'!T207","v":59.08},{"$f":"'Datos mensuales'!U207","v":58.76},{"$f":"'Datos mensuales'!W207","v":627.82730000000004},{"$f":"'Datos mensuales'!AA207","v":205.81288029999999},{"$f":"'Datos mensuales'!Z207","v":122.27},{"$f":"'Datos mensuales'!AC207","v":164.08179609999999},{"$f":"'Datos mensuales'!AD207","v":300.59090909999998},null,{"$f":"'Datos mensuales'!AQ207","v":1.288151},{"$f":"'Datos mensuales'!AR207","v":117.288},{"$f":"'Datos mensuales'!AO207","v":7.8627399999999996},{"$f":"'Datos mensuales'!AP207","v":"n.d."},{"$f":"'Datos mensuales'!AN207","v":1.1361300000000001},{"$f":"'Datos mensuales'!AS207","v":10.915900000000001},null,{"$f":"'Datos mensuales'!BJ207","v":12221.93},{"$f":"'Datos mensuales'!BK207","v":2431.77},{"$f":"'Datos mensuales'!BL207","v":1400.63}]
[null,"diciembre",{"$f":"'Datos mensuales'!D208","v":"n.d."},{"$f":"'Datos mensuales'!E208","v":2},{"$f":"'Datos mensuales'!F208","v":"n.d."},{"$f":"'Datos mensuales'!G208","v":2.5406504065040649},{"$f":"'Datos mensuales'!I208","v":0.30030030030029742},{"$f":"'Datos mensuales'!J208","v":4.0532755522306241},{"$f":"'Datos mensuales'!H208","v":1.9188921859545123},null,{"$f":"'Datos mensuales'!AW208","v":5.36},{"$f":"'Datos mensuales'!AX208","v":3.68},{"$f":"'Datos mensuales'!AY208","v":0.56000000000000005},{"$f":"'Datos mensuales'!AU208","v":5.3492100000000002},{"$f":"'Datos mensuales'!AV208","v":5.07},{"$f":"'Datos mensuales'!AZ208","v":4.57},{"$f":"'Datos mensuales'!BA208","v":3.9},{"$f":"'Datos mensuales'!BB208","v":1.64},null,{"$f":"'Datos mensuales'!BC208","v":110},{"$f":"'Datos mensuales'!BD208","v":130.5},{"$f":"'Datos mensuales'!BE208","v":96.3},null,{"$f":"'Datos mensuales'!T208","v":61.96},{"$f":"'Datos mensuales'!U208","v":62.47},{"$f":"'Datos mensuales'!W208","v":629.7912},{"$f":"'Datos mensuales'!AA208","v":204.30626910000001},{"$f":"'Datos mensuales'!Z208","v":128.44},{"$f":"'Datos mensuales'!AC208","v":160.65676149999999},{"$f":"'Datos mensuales'!AD208","v":309.2857143},null,{"$f":"'Datos mensuales'!AQ208","v":1.3191470000000001},{"$f":"'Datos mensuales'!AR208","v":117.39700000000001},{"$f":"'Datos mensuales'!AO208","v":7.8216099999999997},{"$f":"'Datos mensuales'!AP208","v":"n.d."},{"$f":"'Datos mensuales'!AN208","v":1.15344},{"$f":"'Datos mensuales'!AS208","v":10.854699999999999},null,{"$f":"'Datos mensuales'!BJ208","v":12463.15},{"$f":"'Datos mensuales'!BK208","v":2415.29},{"$f":"'Datos mensuales'!BL208","v":1418.3}]
[2007,"enero",{"$f":"'Datos mensuales'!D209","v":2.9878134851550295},{"$f":"'Datos mensuales'!E209","v":2.2000000000000002},{"$f":"'Datos mensuales'!F209","v":4.7117530008910409},{"$f":"'Datos mensuales'!G209","v":2.0756429652042283},{"$f":"'Datos mensuales'!I209","v":0},{"$f":"'Datos mensuales'!J209","v":3.9809203046591781},{"$f":"'Datos mensuales'!H209","v":1.8378700576197184},null,{"$f":"'Datos mensuales'!AW209","v":5.36},{"$f":"'Datos mensuales'!AX209","v":3.75},{"$f":"'Datos mensuales'!AY209","v":0.56000000000000005},{"$f":"'Datos mensuales'!AU209","v":5.3841799999999997},{"$f":"'Datos mensuales'!AV209","v":5.15},{"$f":"'Datos mensuales'!AZ209","v":4.76},{"$f":"'Datos mensuales'!BA209","v":4.0999999999999996},{"$f":"'Datos mensuales'!BB209","v":1.71},null,{"$f":"'Datos mensuales'!BC209","v":110.2},{"$f":"'Datos mensuales'!BD209","v":133.9},{"$f":"'Datos mensuales'!BE209","v":94.4},null,{"$f":"'Datos mensuales'!T209","v":54.51},{"$f":"'Datos mensuales'!U209","v":53.68},{"$f":"'Datos mensuales'!W209","v":631.16589999999997},{"$f":"'Datos mensuales'!AA209","v":196.06613920000001},{"$f":"'Datos mensuales'!Z209","v":124.53},{"$f":"'Datos mensuales'!AC209","v":165.10303870000001},{"$f":"'Datos mensuales'!AD209","v":313.47826090000001},null,{"$f":"'Datos mensuales'!AQ209","v":1.298481},{"$f":"'Datos mensuales'!AR209","v":120.381},{"$f":"'Datos mensuales'!AO209","v":7.7888099999999998},{"$f":"'Datos mensuales'!AP209","v":2236.8293119999998},{"$f":"'Datos mensuales'!AN209","v":1.17553},{"$f":"'Datos mensuales'!AS209","v":10.950100000000001},null,{"$f":"'Datos mensuales'!BJ209","v":12621.69},{"$f":"'Datos mensuales'!BK209","v":2463.9299999999998},{"$f":"'Datos mensuales'!BL209","v":1438.24}]
[null,"febrero",{"$f":"'Datos mensuales'!D210","v":3.0185643661014723},{"$f":"'Datos mensuales'!E210","v":2.7},{"$f":"'Datos mensuales'!F210","v":5.2467675725839129},{"$f":"'Datos mensuales'!G210","v":2.4151987921489719},{"$f":"'Datos mensuales'!I210","v":-0.20060180541625161},{"$f":"'Datos mensuales'!J210","v":4.1122548266505854},{"$f":"'Datos mensuales'!H210","v":1.8424962852897468},null,{"$f":"'Datos mensuales'!AW210","v":5.36},{"$f":"'Datos mensuales'!AX210","v":3.82},{"$f":"'Datos mensuales'!AY210","v":0.59},{"$f":"'Datos mensuales'!AU210","v":5.38931},{"$f":"'Datos mensuales'!AV210","v":5.16},{"$f":"'Datos mensuales'!AZ210","v":4.72},{"$f":"'Datos mensuales'!BA210","v":4.12},{"$f":"'Datos mensuales'!BB210","v":1.71},null,{"$f":"'Datos mensuales'!BC210","v":111.2},{"$f":"'Datos mensuales'!BD210","v":137.1},{"$f":"'Datos mensuales'!BE210","v":93.8},null,{"$f":"'Datos mensuales'!T210","v":59.28},{"$f":"'Datos mensuales'!U210","v":57.56},{"$f":"'Datos mensuales'!W210","v":664.745},{"$f":"'Datos mensuales'!AA210","v":199.98224049999999},{"$f":"'Datos mensuales'!Z210","v":122.03},{"$f":"'Datos mensuales'!AC210","v":177.34862530000001},{"$f":"'Datos mensuales'!AD210","v":316.05},null,{"$f":"'Datos mensuales'!AQ210","v":1.3076840000000001},{"$f":"'Datos mensuales'!AR210","v":120.441},{"$f":"'Datos mensuales'!AO210","v":7.7498199999999997},{"$f":"'Datos mensuales'!AP210","v":2226.745692},{"$f":"'Datos mensuales'!AN210","v":1.1706300000000001},{"$f":"'Datos mensuales'!AS210","v":10.994899999999999},null,{"$f":"'Datos mensuales'!BJ210","v":12268.63},{"$f":"'Datos mensuales'!BK210","v":2416.13},{"$f":"'Datos mensuales'!BL210","v":1406.82}]
[null,"marzo",{"$f":"'Datos mensuales'!D211","v":2.9570383734539289},{"$f":"'Datos mensuales'!E211","v":3.3},{"$f":"'Datos mensuales'!F211","v":5.7804615188500081},{"$f":"'Datos mensuales'!G211","v":2.7787787787787748},{"$f":"'Datos mensuales'!I211","v":-0.10010010010010863},{"$f":"'Datos mensuales'!J211","v":4.2068383499990549},{"$f":"'Datos mensuales'!H211","v":1.9403132079188405},null,{"$f":"'Datos mensuales'!AW211","v":5.35},{"$f":"'Datos mensuales'!AX211","v":3.89},{"$f":"'Datos mensuales'!AY211","v":0.71},{"$f":"'Datos mensuales'!AU211","v":5.3156699999999999},{"$f":"'Datos mensuales'!AV211","v":5.0999999999999996},{"$f":"'Datos mensuales'!AZ211","v":4.5599999999999996},{"$f":"'Datos mensuales'!BA211","v":4.0199999999999996},{"$f":"'Datos mensuales'!BB211","v":1.62},null,{"$f":"'Datos mensuales'!BC211","v":108.2},{"$f":"'Datos mensuales'!BD211","v":138.5},{"$f":"'Datos mensuales'!BE211","v":87.9},null,{"$f":"'Datos mensuales'!T211","v":60.44},{"$f":"'Datos mensuales'!U211","v":62.05},{"$f":"'Datos mensuales'!W211","v":654.89549999999997},{"$f":"'Datos mensuales'!AA211","v":199.09818240000001},{"$f":"'Datos mensuales'!Z211","v":117.08},{"$f":"'Datos mensuales'!AC211","v":169.5223427},{"$f":"'Datos mensuales'!AD211","v":326.18181820000001},null,{"$f":"'Datos mensuales'!AQ211","v":1.3244130000000001},{"$f":"'Datos mensuales'!AR211","v":117.26},{"$f":"'Datos mensuales'!AO211","v":7.7369500000000002},{"$f":"'Datos mensuales'!AP211","v":2200.36},{"$f":"'Datos mensuales'!AN211","v":1.1681600000000001},{"$f":"'Datos mensuales'!AS211","v":11.1144},null,{"$f":"'Datos mensuales'!BJ211","v":12354.35},{"$f":"'Datos mensuales'!BK211","v":2421.64},{"$f":"'Datos mensuales'!BL211","v":1420.86}]
[null,"abril ",{"$f":"'Datos mensuales'!D212","v":2.9981802167443332},{"$f":"'Datos mensuales'!E212","v":3},{"$f":"'Datos mensuales'!F212","v":6.2563363764654918},{"$f":"'Datos mensuales'!G212","v":2.5736972704714676},{"$f":"'Datos mensuales'!I212","v":0},{"$f":"'Datos mensuales'!J212","v":3.9921348984092289},{"$f":"'Datos mensuales'!H212","v":1.9080234833659517},null,{"$f":"'Datos mensuales'!AW212","v":5.35},{"$f":"'Datos mensuales'!AX212","v":3.98},{"$f":"'Datos mensuales'!AY212","v":0.66},{"$f":"'Datos mensuales'!AU212","v":5.3546399999999998},{"$f":"'Datos mensuales'!AV212","v":5.07},{"$f":"'Datos mensuales'!AZ212","v":4.6900000000000004},{"$f":"'Datos mensuales'!BA212","v":4.25},{"$f":"'Datos mensuales'!BB212","v":1.67},null,{"$f":"'Datos mensuales'!BC212","v":106.3},{"$f":"'Datos mensuales'!BD212","v":133.5},{"$f":"'Datos mensuales'!BE212","v":88.2},null,{"$f":"'Datos mensuales'!T212","v":63.98},{"$f":"'Datos mensuales'!U212","v":67.489999999999995},{"$f":"'Datos mensuales'!W212","v":679.36839999999995},{"$f":"'Datos mensuales'!AA212","v":198.30777359999999},{"$f":"'Datos mensuales'!Z212","v":114.6},{"$f":"'Datos mensuales'!AC212","v":152.5813565},{"$f":"'Datos mensuales'!AD212","v":322.2857143},null,{"$f":"'Datos mensuales'!AQ212","v":1.351135},{"$f":"'Datos mensuales'!AR212","v":118.932},{"$f":"'Datos mensuales'!AO212","v":7.72471},{"$f":"'Datos mensuales'!AP212","v":2141.9299999999998},{"$f":"'Datos mensuales'!AN212","v":1.1349899999999999},{"$f":"'Datos mensuales'!AS212","v":10.9802},null,{"$f":"'Datos mensuales'!BJ212","v":13062.91},{"$f":"'Datos mensuales'!BK212","v":2525.09},{"$f":"'Datos mensuales'!BL212","v":1482.37}]
[null,"mayo",{"$f":"'Datos mensuales'!D213","v":3.1831801566782012},{"$f":"'Datos mensuales'!E213","v":3.4},{"$f":"'Datos mensuales'!F213","v":6.2264350053381756},{"$f":"'Datos mensuales'!G213","v":2.6908641975308702},{"$f":"'Datos mensuales'!I213","v":0},{"$f":"'Datos mensuales'!J213","v":3.9475709228950806},{"$f":"'Datos mensuales'!H213","v":1.8735362997658096},null,{"$f":"'Datos mensuales'!AW213","v":5.36},{"$f":"'Datos mensuales'!AX213","v":4.07},{"$f":"'Datos mensuales'!AY213","v":0.67},{"$f":"'Datos mensuales'!AU213","v":5.3691000000000004},{"$f":"'Datos mensuales'!AV213","v":4.9800000000000004},{"$f":"'Datos mensuales'!AZ213","v":4.75},{"$f":"'Datos mensuales'!BA213","v":4.37},{"$f":"'Datos mensuales'!BB213","v":1.67},null,{"$f":"'Datos mensuales'!BC213","v":108.5},{"$f":"'Datos mensuales'!BD213","v":136.1},{"$f":"'Datos mensuales'!BE213","v":90.1},null,{"$f":"'Datos mensuales'!T213","v":63.46},{"$f":"'Datos mensuales'!U213","v":67.209999999999994},{"$f":"'Datos mensuales'!W213","v":666.85950000000003},{"$f":"'Datos mensuales'!AA213","v":195.7212644},{"$f":"'Datos mensuales'!Z213","v":113.24},{"$f":"'Datos mensuales'!AC213","v":156.4442731},{"$f":"'Datos mensuales'!AD213","v":320.6086957},null,{"$f":"'Datos mensuales'!AQ213","v":1.351523},{"$f":"'Datos mensuales'!AR213","v":120.81399999999999},{"$f":"'Datos mensuales'!AO213","v":7.6761799999999996},{"$f":"'Datos mensuales'!AP213","v":2004.673},{"$f":"'Datos mensuales'!AN213","v":1.0944},{"$f":"'Datos mensuales'!AS213","v":10.82},null,{"$f":"'Datos mensuales'!BJ213","v":13627.64},{"$f":"'Datos mensuales'!BK213","v":2604.52},{"$f":"'Datos mensuales'!BL213","v":1530.62}]
[null,"junio",{"$f":"'Datos mensuales'!D214","v":3.6898061288305284},{"$f":"'Datos mensuales'!E214","v":4.4000000000000004},{"$f":"'Datos mensuales'!F214","v":6.0338175585322711},{"$f":"'Datos mensuales'!G214","v":2.6870379497289298},{"$f":"'Datos mensuales'!I214","v":-0.19920318725099884},{"$f":"'Datos mensuales'!J214","v":3.9826070613958819},{"$f":"'Datos mensuales'!H214","v":1.891575663026519},null,{"$f":"'Datos mensuales'!AW214","v":5.36},{"$f":"'Datos mensuales'!AX214","v":4.1500000000000004},{"$f":"'Datos mensuales'!AY214","v":0.73},{"$f":"'Datos mensuales'!AU214","v":5.3929900000000002},{"$f":"'Datos mensuales'!AV214","v":4.95},{"$f":"'Datos mensuales'!AZ214","v":5.0999999999999996},{"$f":"'Datos mensuales'!BA214","v":4.66},{"$f":"'Datos mensuales'!BB214","v":1.89},null,{"$f":"'Datos mensuales'!BC214","v":105.3},{"$f":"'Datos mensuales'!BD214","v":129.9},{"$f":"'Datos mensuales'!BE214","v":88.8},null,{"$f":"'Datos mensuales'!T214","v":67.489999999999995},{"$f":"'Datos mensuales'!U214","v":71.05},{"$f":"'Datos mensuales'!W214","v":655.4905},{"$f":"'Datos mensuales'!AA214","v":223.03916000000001},{"$f":"'Datos mensuales'!Z214","v":119.33},{"$f":"'Datos mensuales'!AC214","v":164.50445759999999},{"$f":"'Datos mensuales'!AD214","v":326.2857143},null,{"$f":"'Datos mensuales'!AQ214","v":1.342177},{"$f":"'Datos mensuales'!AR214","v":122.68899999999999},{"$f":"'Datos mensuales'!AO214","v":7.6332899999999997},{"$f":"'Datos mensuales'!AP214","v":1920.9179999999999},{"$f":"'Datos mensuales'!AN214","v":1.0650999999999999},{"$f":"'Datos mensuales'!AS214","v":10.833},null,{"$f":"'Datos mensuales'!BJ214","v":13408.62},{"$f":"'Datos mensuales'!BK214","v":2603.23},{"$f":"'Datos mensuales'!BL214","v":1503.35}]
[null,"julio",{"$f":"'Datos mensuales'!D215","v":3.7417418814552801},{"$f":"'Datos mensuales'!E215","v":5.6},{"$f":"'Datos mensuales'!F215","v":5.7717747168589817},{"$f":"'Datos mensuales'!G215","v":2.3582309582309615},{"$f":"'Datos mensuales'!I215","v":0},{"$f":"'Datos mensuales'!J215","v":4.1386948372807808},{"$f":"'Datos mensuales'!H215","v":1.7768231963291938},null,{"$f":"'Datos mensuales'!AW215","v":5.36},{"$f":"'Datos mensuales'!AX215","v":4.22},{"$f":"'Datos mensuales'!AY215","v":0.77},{"$f":"'Datos mensuales'!AU215","v":5.37425},{"$f":"'Datos mensuales'!AV215","v":5.04},{"$f":"'Datos mensuales'!AZ215","v":5},{"$f":"'Datos mensuales'!BA215","v":4.63},{"$f":"'Datos mensuales'!BB215","v":1.89},null,{"$f":"'Datos mensuales'!BC215","v":111.9},{"$f":"'Datos mensuales'!BD215","v":138.30000000000001},{"$f":"'Datos mensuales'!BE215","v":94.4},null,{"$f":"'Datos mensuales'!T215","v":74.12},{"$f":"'Datos mensuales'!U215","v":76.930000000000007},{"$f":"'Datos mensuales'!W215","v":665.29549999999995},{"$f":"'Datos mensuales'!AA215","v":238.40668819999999},{"$f":"'Datos mensuales'!Z215","v":117.63},{"$f":"'Datos mensuales'!AC215","v":147.13352090000001},{"$f":"'Datos mensuales'!AD215","v":332.54545450000001},null,{"$f":"'Datos mensuales'!AQ215","v":1.371367},{"$f":"'Datos mensuales'!AR215","v":121.46},{"$f":"'Datos mensuales'!AO215","v":7.5520100000000001},{"$f":"'Datos mensuales'!AP215","v":1952.1724999999999},{"$f":"'Datos mensuales'!AN215","v":1.0506},{"$f":"'Datos mensuales'!AS215","v":10.8124},null,{"$f":"'Datos mensuales'!BJ215","v":13211.99},{"$f":"'Datos mensuales'!BK215","v":2546.27},{"$f":"'Datos mensuales'!BL215","v":1455.27}]
[null,"agosto",{"$f":"'Datos mensuales'!D216","v":4.1773716659497602},{"$f":"'Datos mensuales'!E216","v":6.5},{"$f":"'Datos mensuales'!F216","v":5.2177577397641581},{"$f":"'Datos mensuales'!G216","v":1.9700833742030386},{"$f":"'Datos mensuales'!I216","v":-0.19841269841270123},{"$f":"'Datos mensuales'!J216","v":4.0320735046071006},{"$f":"'Datos mensuales'!H216","v":1.7460007803355504},null,{"$f":"'Datos mensuales'!AW216","v":5.48},{"$f":"'Datos mensuales'!AX216","v":4.54},{"$f":"'Datos mensuales'!AY216","v":0.92},{"$f":"'Datos mensuales'!AU216","v":5.3773099999999996},{"$f":"'Datos mensuales'!AV216","v":4.55},{"$f":"'Datos mensuales'!AZ216","v":4.67},{"$f":"'Datos mensuales'!BA216","v":4.43},{"$f":"'Datos mensuales'!BB216","v":1.65},null,{"$f":"'Datos mensuales'!BC216","v":105.6},{"$f":"'Datos mensuales'!BD216","v":130.1},{"$f":"'Datos mensuales'!BE216","v":89.2},null,{"$f":"'Datos mensuales'!T216","v":72.36},{"$f":"'Datos mensuales'!U216","v":70.760000000000005},{"$f":"'Datos mensuales'!W216","v":665.41139999999996},{"$f":"'Datos mensuales'!AA216","v":259.72728430000001},{"$f":"'Datos mensuales'!Z216","v":123.19},{"$f":"'Datos mensuales'!AC216","v":151.00841740000001},{"$f":"'Datos mensuales'!AD216","v":331.47826090000001},null,{"$f":"'Datos mensuales'!AQ216","v":1.362981},{"$f":"'Datos mensuales'!AR216","v":116.733},{"$f":"'Datos mensuales'!AO216","v":7.5733499999999996},{"$f":"'Datos mensuales'!AP216","v":2061.5680000000002},{"$f":"'Datos mensuales'!AN216","v":1.05785},{"$f":"'Datos mensuales'!AS216","v":11.043799999999999},null,{"$f":"'Datos mensuales'!BJ216","v":13357.74},{"$f":"'Datos mensuales'!BK216","v":2596.36},{"$f":"'Datos mensuales'!BL216","v":1473.99}]
[null,"septiembre",{"$f":"'Datos mensuales'!D217","v":4.146187726944043},{"$f":"'Datos mensuales'!E217","v":6.2},{"$f":"'Datos mensuales'!F217","v":5.0050019346623449},{"$f":"'Datos mensuales'!G217","v":2.7550517496303613},{"$f":"'Datos mensuales'!I217","v":-0.19841269841270123},{"$f":"'Datos mensuales'!J217","v":3.7920617605107885},{"$f":"'Datos mensuales'!H217","v":2.1361685524775629},null,{"$f":"'Datos mensuales'!AW217","v":5.49},{"$f":"'Datos mensuales'!AX217","v":4.74},{"$f":"'Datos mensuales'!AY217","v":0.99},{"$f":"'Datos mensuales'!AU217","v":5.3538399999999999},{"$f":"'Datos mensuales'!AV217","v":4.2},{"$f":"'Datos mensuales'!AZ217","v":4.5199999999999996},{"$f":"'Datos mensuales'!BA217","v":4.37},{"$f":"'Datos mensuales'!BB217","v":1.61},null,{"$f":"'Datos mensuales'!BC217","v":99.5},{"$f":"'Datos mensuales'!BD217","v":121.2},{"$f":"'Datos mensuales'!BE217","v":85},null,{"$f":"'Datos mensuales'!T217","v":79.92},{"$f":"'Datos mensuales'!U217","v":77.17},{"$f":"'Datos mensuales'!W217","v":712.65250000000003},{"$f":"'Datos mensuales'!AA217","v":326.54483340000002},{"$f":"'Datos mensuales'!Z217","v":128.04},{"$f":"'Datos mensuales'!AC217","v":160.0525112},{"$f":"'Datos mensuales'!AD217","v":330},null,{"$f":"'Datos mensuales'!AQ217","v":1.3908020000000001},{"$f":"'Datos mensuales'!AR217","v":115.04300000000001},{"$f":"'Datos mensuales'!AO217","v":7.5209700000000002},{"$f":"'Datos mensuales'!AP217","v":2109.2928099999999},{"$f":"'Datos mensuales'!AN217","v":1.0267500000000001},{"$f":"'Datos mensuales'!AS217","v":11.0319},null,{"$f":"'Datos mensuales'!BJ217","v":13895.63},{"$f":"'Datos mensuales'!BK217","v":2701.5},{"$f":"'Datos mensuales'!BL217","v":1526.75}]
[null,"octubre",{"$f":"'Datos mensuales'!D218","v":4.1152120623467914},{"$f":"'Datos mensuales'!E218","v":6.5},{"$f":"'Datos mensuales'!F218","v":5.1633001912599914},{"$f":"'Datos mensuales'!G218","v":3.5361744301288383},{"$f":"'Datos mensuales'!I218","v":0.29821073558649241},{"$f":"'Datos mensuales'!J218","v":3.7429714849067173},{"$f":"'Datos mensuales'!H218","v":2.5536062378167688},null,{"$f":"'Datos mensuales'!AW218","v":5.15},{"$f":"'Datos mensuales'!AX218","v":4.6900000000000004},{"$f":"'Datos mensuales'!AY218","v":0.97},{"$f":"'Datos mensuales'!AU218","v":5.0512800000000002},{"$f":"'Datos mensuales'!AV218","v":4.16},{"$f":"'Datos mensuales'!AZ218","v":4.53},{"$f":"'Datos mensuales'!BA218","v":4.4000000000000004},{"$f":"'Datos mensuales'!BB218","v":1.66},null,{"$f":"'Datos mensuales'!BC218","v":95.2},{"$f":"'Datos mensuales'!BD218","v":118},{"$f":"'Datos mensuales'!BE218","v":80},null,{"$f":"'Datos mensuales'!T218","v":85.8},{"$f":"'Datos mensuales'!U218","v":82.34},{"$f":"'Datos mensuales'!W218","v":754.60429999999997},{"$f":"'Datos mensuales'!AA218","v":335.1461726},{"$f":"'Datos mensuales'!Z218","v":134.29},{"$f":"'Datos mensuales'!AC218","v":164.09270799999999},{"$f":"'Datos mensuales'!AD218","v":335.30434780000002},null,{"$f":"'Datos mensuales'!AQ218","v":1.4231149999999999},{"$f":"'Datos mensuales'!AR218","v":115.866},{"$f":"'Datos mensuales'!AO218","v":7.5019200000000001},{"$f":"'Datos mensuales'!AP218","v":1998.3786500000001},{"$f":"'Datos mensuales'!AN218","v":0.97541299999999997},{"$f":"'Datos mensuales'!AS218","v":10.821400000000001},null,{"$f":"'Datos mensuales'!BJ218","v":13930.01},{"$f":"'Datos mensuales'!BK218","v":2859.12},{"$f":"'Datos mensuales'!BL218","v":1549.38}]
[null,"noviembre",{"$f":"'Datos mensuales'!D219","v":4.1877997049059479},{"$f":"'Datos mensuales'!E219","v":6.9},{"$f":"'Datos mensuales'!F219","v":5.4120754089973238},{"$f":"'Datos mensuales'!G219","v":4.3062034739454056},{"$f":"'Datos mensuales'!I219","v":0.59940059940060797},{"$f":"'Datos mensuales'!J219","v":3.9295539357880624},{"$f":"'Datos mensuales'!H219","v":3.0592361652377247},null,{"$f":"'Datos mensuales'!AW219","v":4.96},{"$f":"'Datos mensuales'!AX219","v":4.6399999999999997},{"$f":"'Datos mensuales'!AY219","v":0.91},{"$f":"'Datos mensuales'!AU219","v":4.8324400000000001},{"$f":"'Datos mensuales'!AV219","v":3.58},{"$f":"'Datos mensuales'!AZ219","v":4.1500000000000004},{"$f":"'Datos mensuales'!BA219","v":4.25},{"$f":"'Datos mensuales'!BB219","v":1.51},null,{"$f":"'Datos mensuales'!BC219","v":87.7},{"$f":"'Datos mensuales'!BD219","v":115.7},{"$f":"'Datos mensuales'!BE219","v":69.099999999999994},null,{"$f":"'Datos mensuales'!T219","v":94.77},{"$f":"'Datos mensuales'!U219","v":92.41},{"$f":"'Datos mensuales'!W219","v":806.24770000000001},{"$f":"'Datos mensuales'!AA219","v":321.81328059999998},{"$f":"'Datos mensuales'!Z219","v":131},{"$f":"'Datos mensuales'!AC219","v":171.05981209999999},{"$f":"'Datos mensuales'!AD219","v":356.5},null,{"$f":"'Datos mensuales'!AQ219","v":1.4673309999999999},{"$f":"'Datos mensuales'!AR219","v":111.065},{"$f":"'Datos mensuales'!AO219","v":7.4208800000000004},{"$f":"'Datos mensuales'!AP219","v":2044.9333300000001},{"$f":"'Datos mensuales'!AN219","v":0.96593200000000001},{"$f":"'Datos mensuales'!AS219","v":10.8811},null,{"$f":"'Datos mensuales'!BJ219","v":13371.72},{"$f":"'Datos mensuales'!BK219","v":2660.96},{"$f":"'Datos mensuales'!BL219","v":1481.14}]
[null,"diciembre",{"$f":"'Datos mensuales'!D220","v":4.4576585533737294},{"$f":"'Datos mensuales'!E220","v":6.5},{"$f":"'Datos mensuales'!F220","v":5.6940627563197133},{"$f":"'Datos mensuales'!G220","v":4.0812685827551975},{"$f":"'Datos mensuales'!I220","v":0.69860279441118045},{"$f":"'Datos mensuales'!J220","v":3.7590381357687561},{"$f":"'Datos mensuales'!H220","v":3.0667701863354},null,{"$f":"'Datos mensuales'!AW220","v":4.97},{"$f":"'Datos mensuales'!AX220","v":4.8499999999999996},{"$f":"'Datos mensuales'!AY220","v":0.99},{"$f":"'Datos mensuales'!AU220","v":4.8249700000000004},{"$f":"'Datos mensuales'!AV220","v":3.34},{"$f":"'Datos mensuales'!AZ220","v":4.0999999999999996},{"$f":"'Datos mensuales'!BA220","v":4.38},{"$f":"'Datos mensuales'!BB220","v":1.53},null,{"$f":"'Datos mensuales'!BC220","v":88.6},{"$f":"'Datos mensuales'!BD220","v":108.3},{"$f":"'Datos mensuales'!BE220","v":75.5},null,{"$f":"'Datos mensuales'!T220","v":91.69},{"$f":"'Datos mensuales'!U220","v":90.93},{"$f":"'Datos mensuales'!W220","v":803.2029},{"$f":"'Datos mensuales'!AA220","v":368.62002890000002},{"$f":"'Datos mensuales'!Z220","v":137.58000000000001},{"$f":"'Datos mensuales'!AC220","v":180.25431639999999},{"$f":"'Datos mensuales'!AD220","v":378},null,{"$f":"'Datos mensuales'!AQ220","v":1.4550240000000001},{"$f":"'Datos mensuales'!AR220","v":112.544},{"$f":"'Datos mensuales'!AO220","v":7.3671800000000003},{"$f":"'Datos mensuales'!AP220","v":2015.04303},{"$f":"'Datos mensuales'!AN220","v":1.00136},{"$f":"'Datos mensuales'!AS220","v":10.8447},null,{"$f":"'Datos mensuales'!BJ220","v":13264.82},{"$f":"'Datos mensuales'!BK220","v":2652.28},{"$f":"'Datos mensuales'!BL220","v":1468.36}]
[2008,"enero",{"$f":"'Datos mensuales'!D221","v":4.5614796539960993},{"$f":"'Datos mensuales'!E221","v":7.1},{"$f":"'Datos mensuales'!F221","v":5.997045202001857},{"$f":"'Datos mensuales'!G221","v":4.2802940479013598},{"$f":"'Datos mensuales'!I221","v":0.70000000000000284},{"$f":"'Datos mensuales'!J221","v":3.7043735613284259},{"$f":"'Datos mensuales'!H221","v":3.2094429811725602},null,{"$f":"'Datos mensuales'!AW221","v":3.9176000000000002},{"$f":"'Datos mensuales'!AX221","v":4.4800000000000004},{"$f":"'Datos mensuales'!AY221","v":0.89429999999999998},{"$f":"'Datos mensuales'!AU221","v":3.7795000000000001},{"$f":"'Datos mensuales'!AV221","v":2.84},{"$f":"'Datos mensuales'!AZ221","v":3.74},{"$f":"'Datos mensuales'!BA221","v":4.05},{"$f":"'Datos mensuales'!BB221","v":1.444},null,{"$f":"'Datos mensuales'!BC221","v":87.3},{"$f":"'Datos mensuales'!BD221","v":114.3},{"$f":"'Datos mensuales'!BE221","v":69.3},null,{"$f":"'Datos mensuales'!T221","v":92.97},{"$f":"'Datos mensuales'!U221","v":92.18},{"$f":"'Datos mensuales'!W221","v":889.59550000000002},{"$f":"'Datos mensuales'!AA221","v":369.58617120000002},{"$f":"'Datos mensuales'!Z221","v":139.86000000000001},{"$f":"'Datos mensuales'!AC221","v":206.52772419999999},{"$f":"'Datos mensuales'!AD221","v":393.47826090000001},null,{"$f":"'Datos mensuales'!AQ221","v":1.4707539999999999},{"$f":"'Datos mensuales'!AR221","v":107.944},{"$f":"'Datos mensuales'!AO221","v":7.2428900000000001},{"$f":"'Datos mensuales'!AP221","v":1984.3062709999999},{"$f":"'Datos mensuales'!AN221","v":1.0098400000000001},{"$f":"'Datos mensuales'!AS221","v":10.9076},null,{"$f":"'Datos mensuales'!BJ221","v":12650.36},{"$f":"'Datos mensuales'!BK221","v":2389.86},{"$f":"'Datos mensuales'!BL221","v":1378.55}]
[null,"febrero",{"$f":"'Datos mensuales'!D222","v":4.6135126529498294},{"$f":"'Datos mensuales'!E222","v":8.6999999999999993},{"$f":"'Datos mensuales'!F222","v":6.3520075542030536},{"$f":"'Datos mensuales'!G222","v":4.0265554130487216},{"$f":"'Datos mensuales'!I222","v":1.0050251256281406},{"$f":"'Datos mensuales'!J222","v":3.722741433021568},{"$f":"'Datos mensuales'!H222","v":3.2681645754304052},null,{"$f":"'Datos mensuales'!AW222","v":3.0876000000000001},{"$f":"'Datos mensuales'!AX222","v":4.3600000000000003},{"$f":"'Datos mensuales'!AY222","v":0.89570000000000005},{"$f":"'Datos mensuales'!AU222","v":3.00393},{"$f":"'Datos mensuales'!AV222","v":2.1},{"$f":"'Datos mensuales'!AZ222","v":3.74},{"$f":"'Datos mensuales'!BA222","v":4.0599999999999996},{"$f":"'Datos mensuales'!BB222","v":1.46},null,{"$f":"'Datos mensuales'!BC222","v":76.400000000000006},{"$f":"'Datos mensuales'!BD222","v":104},{"$f":"'Datos mensuales'!BE222","v":58},null,{"$f":"'Datos mensuales'!T222","v":95.39},{"$f":"'Datos mensuales'!U222","v":94.99},{"$f":"'Datos mensuales'!W222","v":922.29759999999999},{"$f":"'Datos mensuales'!AA222","v":424.99562049999997},{"$f":"'Datos mensuales'!Z222","v":157.29},{"$f":"'Datos mensuales'!AC222","v":219.9543572},{"$f":"'Datos mensuales'!AD222","v":481.14285710000001},null,{"$f":"'Datos mensuales'!AQ222","v":1.473821},{"$f":"'Datos mensuales'!AR222","v":107.06},{"$f":"'Datos mensuales'!AO222","v":7.1639200000000001},{"$f":"'Datos mensuales'!AP222","v":1905.3051720000001},{"$f":"'Datos mensuales'!AN222","v":0.99868599999999996},{"$f":"'Datos mensuales'!AS222","v":10.767799999999999},null,{"$f":"'Datos mensuales'!BJ222","v":12266.39},{"$f":"'Datos mensuales'!BK222","v":2279.64},{"$f":"'Datos mensuales'!BL222","v":1330.63}]
[null,"marzo",{"$f":"'Datos mensuales'!D223","v":4.7283109506473036},{"$f":"'Datos mensuales'!E223","v":8.3000000000000007},{"$f":"'Datos mensuales'!F223","v":5.9259516550345541},{"$f":"'Datos mensuales'!G223","v":3.9814562312516983},{"$f":"'Datos mensuales'!I223","v":1.2024048096192415},{"$f":"'Datos mensuales'!J223","v":4.2488792905981514},{"$f":"'Datos mensuales'!H223","v":3.5845410628019261},null,{"$f":"'Datos mensuales'!AW223","v":2.7825000000000002},{"$f":"'Datos mensuales'!AX223","v":4.5999999999999996},{"$f":"'Datos mensuales'!AY223","v":0.96630000000000005},{"$f":"'Datos mensuales'!AU223","v":2.6798000000000002},{"$f":"'Datos mensuales'!AV223","v":1.51},{"$f":"'Datos mensuales'!AZ223","v":3.51},{"$f":"'Datos mensuales'!BA223","v":4.13},{"$f":"'Datos mensuales'!BB223","v":1.371},null,{"$f":"'Datos mensuales'!BC223","v":65.900000000000006},{"$f":"'Datos mensuales'!BD223","v":90.6},{"$f":"'Datos mensuales'!BE223","v":49.4},null,{"$f":"'Datos mensuales'!T223","v":105.45},{"$f":"'Datos mensuales'!U223","v":103.64},{"$f":"'Datos mensuales'!W223","v":968.43420000000003},{"$f":"'Datos mensuales'!AA223","v":439.71605199999999},{"$f":"'Datos mensuales'!Z223","v":149.88999999999999},{"$f":"'Datos mensuales'!AC223","v":233.85211390000001},{"$f":"'Datos mensuales'!AD223","v":672.64474829999995},null,{"$f":"'Datos mensuales'!AQ223","v":1.5513209999999999},{"$f":"'Datos mensuales'!AR223","v":100.756},{"$f":"'Datos mensuales'!AO223","v":7.0722399999999999},{"$f":"'Datos mensuales'!AP223","v":1842.826575},{"$f":"'Datos mensuales'!AN223","v":1.0029399999999999},{"$f":"'Datos mensuales'!AS223","v":10.732799999999999},null,{"$f":"'Datos mensuales'!BJ223","v":12262.89},{"$f":"'Datos mensuales'!BK223","v":2279.1},{"$f":"'Datos mensuales'!BL223","v":1322.7}]
[null,"abril ",{"$f":"'Datos mensuales'!D224","v":5.0416274251271398},{"$f":"'Datos mensuales'!E224","v":8.5},{"$f":"'Datos mensuales'!F224","v":5.7279999672342239},{"$f":"'Datos mensuales'!G224","v":3.9368897748275162},{"$f":"'Datos mensuales'!I224","v":0.79920079920081066},{"$f":"'Datos mensuales'!J224","v":4.5485426164960252},{"$f":"'Datos mensuales'!H224","v":3.2645223235717635},null,{"$f":"'Datos mensuales'!AW224","v":2.7947000000000002},{"$f":"'Datos mensuales'!AX224","v":4.78},{"$f":"'Datos mensuales'!AY224","v":0.92059999999999997},{"$f":"'Datos mensuales'!AU224","v":2.8386100000000001},{"$f":"'Datos mensuales'!AV224","v":1.58},{"$f":"'Datos mensuales'!AZ224","v":3.68},{"$f":"'Datos mensuales'!BA224","v":4.32},{"$f":"'Datos mensuales'!BB224","v":1.3220000000000001},null,{"$f":"'Datos mensuales'!BC224","v":62.8},{"$f":"'Datos mensuales'!BD224","v":81.900000000000006},{"$f":"'Datos mensuales'!BE224","v":50},null,{"$f":"'Datos mensuales'!T224","v":112.58},{"$f":"'Datos mensuales'!U224","v":109.07},{"$f":"'Datos mensuales'!W224","v":909.70450000000005},{"$f":"'Datos mensuales'!AA224","v":362.22921430000002},{"$f":"'Datos mensuales'!Z224","v":140.69999999999999},{"$f":"'Datos mensuales'!AC224","v":246.66998269999999},{"$f":"'Datos mensuales'!AD224","v":1015.211265},null,{"$f":"'Datos mensuales'!AQ224","v":1.574603},{"$f":"'Datos mensuales'!AR224","v":102.678},{"$f":"'Datos mensuales'!AO224","v":6.9996900000000002},{"$f":"'Datos mensuales'!AP224","v":1793.286364},{"$f":"'Datos mensuales'!AN224","v":1.01372},{"$f":"'Datos mensuales'!AS224","v":10.5146},null,{"$f":"'Datos mensuales'!BJ224","v":12820.13},{"$f":"'Datos mensuales'!BK224","v":2412.8000000000002},{"$f":"'Datos mensuales'!BL224","v":1385.59}]
[null,"mayo",{"$f":"'Datos mensuales'!D225","v":5.5760294222613025},{"$f":"'Datos mensuales'!E225","v":7.7},{"$f":"'Datos mensuales'!F225","v":6.3943198523017148},{"$f":"'Datos mensuales'!G225","v":4.1755430418035155},{"$f":"'Datos mensuales'!I225","v":1.2948207171314712},{"$f":"'Datos mensuales'!J225","v":4.9475632325732288},{"$f":"'Datos mensuales'!H225","v":3.6685823754789251},null,{"$f":"'Datos mensuales'!AW225","v":2.6938},{"$f":"'Datos mensuales'!AX225","v":4.8600000000000003},{"$f":"'Datos mensuales'!AY225","v":0.91649999999999998},{"$f":"'Datos mensuales'!AU225","v":2.8543799999999999},{"$f":"'Datos mensuales'!AV225","v":1.86},{"$f":"'Datos mensuales'!AZ225","v":3.88},{"$f":"'Datos mensuales'!BA225","v":4.5199999999999996},{"$f":"'Datos mensuales'!BB225","v":1.663},null,{"$f":"'Datos mensuales'!BC225","v":58.1},{"$f":"'Datos mensuales'!BD225","v":74.2},{"$f":"'Datos mensuales'!BE225","v":47.3},null,{"$f":"'Datos mensuales'!T225","v":125.4},{"$f":"'Datos mensuales'!U225","v":122.8},{"$f":"'Datos mensuales'!W225","v":888.66250000000002},{"$f":"'Datos mensuales'!AA225","v":328.76168289999998},{"$f":"'Datos mensuales'!Z225","v":141.94999999999999},{"$f":"'Datos mensuales'!AC225","v":243.45795820000001},{"$f":"'Datos mensuales'!AD225","v":1009.318182},null,{"$f":"'Datos mensuales'!AQ225","v":1.5554859999999999},{"$f":"'Datos mensuales'!AR225","v":104.30800000000001},{"$f":"'Datos mensuales'!AO225","v":6.9710700000000001},{"$f":"'Datos mensuales'!AP225","v":1775.645076},{"$f":"'Datos mensuales'!AN225","v":0.99880500000000005},{"$f":"'Datos mensuales'!AS225","v":10.4361},null,{"$f":"'Datos mensuales'!BJ225","v":12638.32},{"$f":"'Datos mensuales'!BK225","v":2522.66},{"$f":"'Datos mensuales'!BL225","v":1400.38}]
[null,"junio",{"$f":"'Datos mensuales'!D226","v":6.0605833564348179},{"$f":"'Datos mensuales'!E226","v":7.1},{"$f":"'Datos mensuales'!F226","v":7.1804021356146608},{"$f":"'Datos mensuales'!G226","v":5.0217900476117308},{"$f":"'Datos mensuales'!I226","v":1.996007984031936},{"$f":"'Datos mensuales'!J226","v":5.2554612597670678},{"$f":"'Datos mensuales'!H226","v":3.9617224880382782},null,{"$f":"'Datos mensuales'!AW226","v":2.7654000000000001},{"$f":"'Datos mensuales'!AX226","v":4.9405000000000001},{"$f":"'Datos mensuales'!AY226","v":0.92400000000000004},{"$f":"'Datos mensuales'!AU226","v":3.10351},{"$f":"'Datos mensuales'!AV226","v":2.19},{"$f":"'Datos mensuales'!AZ226","v":4.0999999999999996},{"$f":"'Datos mensuales'!BA226","v":4.7300000000000004},{"$f":"'Datos mensuales'!BB226","v":1.8009999999999999},null,{"$f":"'Datos mensuales'!BC226","v":51},{"$f":"'Datos mensuales'!BD226","v":65.400000000000006},{"$f":"'Datos mensuales'!BE226","v":41.4},null,{"$f":"'Datos mensuales'!T226","v":133.88},{"$f":"'Datos mensuales'!U226","v":132.32},{"$f":"'Datos mensuales'!W226","v":889.48810000000003},{"$f":"'Datos mensuales'!AA226","v":348.55304649999999},{"$f":"'Datos mensuales'!Z226","v":146.15},{"$f":"'Datos mensuales'!AC226","v":287.11238680000002},{"$f":"'Datos mensuales'!AD226","v":834.6},null,{"$f":"'Datos mensuales'!AQ226","v":1.5573269999999999},{"$f":"'Datos mensuales'!AR226","v":106.91500000000001},{"$f":"'Datos mensuales'!AO226","v":6.89933},{"$f":"'Datos mensuales'!AP226","v":1731.661556},{"$f":"'Datos mensuales'!AN226","v":1.0166200000000001},{"$f":"'Datos mensuales'!AS226","v":10.3269},null,{"$f":"'Datos mensuales'!BJ226","v":11350.01},{"$f":"'Datos mensuales'!BK226","v":2292.98},{"$f":"'Datos mensuales'!BL226","v":1280}]
[null,"julio",{"$f":"'Datos mensuales'!D227","v":6.3670915879048762},{"$f":"'Datos mensuales'!E227","v":6.3},{"$f":"'Datos mensuales'!F227","v":7.5195900243574103},{"$f":"'Datos mensuales'!G227","v":5.6001229002539583},{"$f":"'Datos mensuales'!I227","v":2.2977022977023092},{"$f":"'Datos mensuales'!J227","v":5.3943945417948527},{"$f":"'Datos mensuales'!H227","v":4.0479616306954425},null,{"$f":"'Datos mensuales'!AW227","v":2.7923},{"$f":"'Datos mensuales'!AX227","v":4.9610000000000003},{"$f":"'Datos mensuales'!AY227","v":0.91579999999999995},{"$f":"'Datos mensuales'!AU227","v":3.11565},{"$f":"'Datos mensuales'!AV227","v":1.98},{"$f":"'Datos mensuales'!AZ227","v":4.01},{"$f":"'Datos mensuales'!BA227","v":4.53},{"$f":"'Datos mensuales'!BB227","v":1.704},null,{"$f":"'Datos mensuales'!BC227","v":51.9},{"$f":"'Datos mensuales'!BD227","v":65.8},{"$f":"'Datos mensuales'!BE227","v":42.7},null,{"$f":"'Datos mensuales'!T227","v":133.37},{"$f":"'Datos mensuales'!U227","v":132.72},{"$f":"'Datos mensuales'!W227","v":939.77170000000001},{"$f":"'Datos mensuales'!AA227","v":328.18357459999999},{"$f":"'Datos mensuales'!Z227","v":147.36000000000001},{"$f":"'Datos mensuales'!AC227","v":266.94365690000001},{"$f":"'Datos mensuales'!AD227","v":799},null,{"$f":"'Datos mensuales'!AQ227","v":1.5764210000000001},{"$f":"'Datos mensuales'!AR227","v":106.849},{"$f":"'Datos mensuales'!AO227","v":6.8362699999999998},{"$f":"'Datos mensuales'!AP227","v":1770.1390710000001},{"$f":"'Datos mensuales'!AN227","v":1.01329},{"$f":"'Datos mensuales'!AS227","v":10.2163},null,{"$f":"'Datos mensuales'!BJ227","v":11378.02},{"$f":"'Datos mensuales'!BK227","v":2325.5500000000002},{"$f":"'Datos mensuales'!BL227","v":1267.3800000000001}]
[null,"agosto",{"$f":"'Datos mensuales'!D228","v":6.1658179491662315},{"$f":"'Datos mensuales'!E228","v":4.9000000000000004},{"$f":"'Datos mensuales'!F228","v":7.8692665188365982},{"$f":"'Datos mensuales'!G228","v":5.3718551152623455},{"$f":"'Datos mensuales'!I228","v":2.0874751491053765},{"$f":"'Datos mensuales'!J228","v":5.5729370355883558},{"$f":"'Datos mensuales'!H228","v":3.8443102291247158},null,{"$f":"'Datos mensuales'!AW228","v":2.81},{"$f":"'Datos mensuales'!AX228","v":4.97},{"$f":"'Datos mensuales'!AY228","v":0.89},{"$f":"'Datos mensuales'!AU228","v":3.11164},{"$f":"'Datos mensuales'!AV228","v":1.97},{"$f":"'Datos mensuales'!AZ228","v":3.89},{"$f":"'Datos mensuales'!BA228","v":4.34},{"$f":"'Datos mensuales'!BB228","v":1.53},null,{"$f":"'Datos mensuales'!BC228","v":58.5},{"$f":"'Datos mensuales'!BD228","v":65},{"$f":"'Datos mensuales'!BE228","v":54.1},null,{"$f":"'Datos mensuales'!T228","v":116.67},{"$f":"'Datos mensuales'!U228","v":113.24},{"$f":"'Datos mensuales'!W228","v":839.02499999999998},{"$f":"'Datos mensuales'!AA228","v":329.34412070000002},{"$f":"'Datos mensuales'!Z228","v":146.43},{"$f":"'Datos mensuales'!AC228","v":235.1641534},{"$f":"'Datos mensuales'!AD228","v":737},null,{"$f":"'Datos mensuales'!AQ228","v":1.4947839999999999},{"$f":"'Datos mensuales'!AR228","v":109.404},{"$f":"'Datos mensuales'!AO228","v":6.8469199999999999},{"$f":"'Datos mensuales'!AP228","v":1848.1423239999999},{"$f":"'Datos mensuales'!AN228","v":1.0529599999999999},{"$f":"'Datos mensuales'!AS228","v":10.111000000000001},null,{"$f":"'Datos mensuales'!BJ228","v":11543.55},{"$f":"'Datos mensuales'!BK228","v":2367.52},{"$f":"'Datos mensuales'!BL228","v":1282.83}]
[null,"septiembre",{"$f":"'Datos mensuales'!D229","v":6.2505337496890387},{"$f":"'Datos mensuales'!E229","v":4.5999999999999996},{"$f":"'Datos mensuales'!F229","v":7.5737182010219382},{"$f":"'Datos mensuales'!G229","v":4.9369274305721991},{"$f":"'Datos mensuales'!I229","v":2.0874751491053765},{"$f":"'Datos mensuales'!J229","v":5.473405072398176},{"$f":"'Datos mensuales'!H229","v":3.638620953108588},null,{"$f":"'Datos mensuales'!AW229","v":3.12},{"$f":"'Datos mensuales'!AX229","v":5.0199999999999996},{"$f":"'Datos mensuales'!AY229","v":0.91},{"$f":"'Datos mensuales'!AU229","v":3.3368500000000001},{"$f":"'Datos mensuales'!AV229","v":1.64},{"$f":"'Datos mensuales'!AZ229","v":3.69},{"$f":"'Datos mensuales'!BA229","v":4.34},{"$f":"'Datos mensuales'!BB229","v":1.4850000000000001},null,{"$f":"'Datos mensuales'!BC229","v":61.4},{"$f":"'Datos mensuales'!BD229","v":61.1},{"$f":"'Datos mensuales'!BE229","v":61.5},null,{"$f":"'Datos mensuales'!T229","v":104.11},{"$f":"'Datos mensuales'!U229","v":97.23},{"$f":"'Datos mensuales'!W229","v":829.93179999999995},{"$f":"'Datos mensuales'!AA229","v":295.55030740000001},{"$f":"'Datos mensuales'!Z229","v":143.27000000000001},{"$f":"'Datos mensuales'!AC229","v":233.9062452},{"$f":"'Datos mensuales'!AD229","v":722},null,{"$f":"'Datos mensuales'!AQ229","v":1.4348939999999999},{"$f":"'Datos mensuales'!AR229","v":106.67100000000001},{"$f":"'Datos mensuales'!AO229","v":6.8304900000000002},{"$f":"'Datos mensuales'!AP229","v":2072.656352},{"$f":"'Datos mensuales'!AN229","v":1.05843},{"$f":"'Datos mensuales'!AS229","v":10.646599999999999},null,{"$f":"'Datos mensuales'!BJ229","v":10850.66},{"$f":"'Datos mensuales'!BK229","v":2091.88},{"$f":"'Datos mensuales'!BL229","v":1166.3599999999999}]
[null,"octubre",{"$f":"'Datos mensuales'!D230","v":6.4095302614676646},{"$f":"'Datos mensuales'!E230","v":4},{"$f":"'Datos mensuales'!F230","v":7.9396795066713972},{"$f":"'Datos mensuales'!G230","v":3.655186277137497},{"$f":"'Datos mensuales'!I230","v":1.6848364717542006},{"$f":"'Datos mensuales'!J230","v":5.7799325124224419},{"$f":"'Datos mensuales'!H230","v":3.1647975670024699},null,{"$f":"'Datos mensuales'!AW230","v":4.0599999999999996},{"$f":"'Datos mensuales'!AX230","v":5.1100000000000003},{"$f":"'Datos mensuales'!AY230","v":1.04},{"$f":"'Datos mensuales'!AU230","v":3.8783699999999999},{"$f":"'Datos mensuales'!AV230","v":1.23},{"$f":"'Datos mensuales'!AZ230","v":3.81},{"$f":"'Datos mensuales'!BA230","v":4.25},{"$f":"'Datos mensuales'!BB230","v":1.5249999999999999},null,{"$f":"'Datos mensuales'!BC230","v":38.799999999999997},{"$f":"'Datos mensuales'!BD230","v":43.5},{"$f":"'Datos mensuales'!BE230","v":35.700000000000003},null,{"$f":"'Datos mensuales'!T230","v":76.61},{"$f":"'Datos mensuales'!U230","v":71.58},{"$f":"'Datos mensuales'!W230","v":806.61959999999999},{"$f":"'Datos mensuales'!AA230","v":237.38405610000001},{"$f":"'Datos mensuales'!Z230","v":123.59},{"$f":"'Datos mensuales'!AC230","v":182.95908919999999},{"$f":"'Datos mensuales'!AD230","v":624},null,{"$f":"'Datos mensuales'!AQ230","v":1.3285720000000001},{"$f":"'Datos mensuales'!AR230","v":99.975200000000001},{"$f":"'Datos mensuales'!AO230","v":6.8358400000000001},{"$f":"'Datos mensuales'!AP230","v":2286.9772520000001},{"$f":"'Datos mensuales'!AN230","v":1.18523},{"$f":"'Datos mensuales'!AS230","v":12.6686},null,{"$f":"'Datos mensuales'!BJ230","v":9325.01},{"$f":"'Datos mensuales'!BK230","v":1720.95},{"$f":"'Datos mensuales'!BL230","v":968.75}]
[null,"noviembre",{"$f":"'Datos mensuales'!D231","v":6.3885969279563346},{"$f":"'Datos mensuales'!E231","v":2.4},{"$f":"'Datos mensuales'!F231","v":7.7300937323852601},{"$f":"'Datos mensuales'!G231","v":1.0695746918073905},{"$f":"'Datos mensuales'!I231","v":0.99304865938430986},{"$f":"'Datos mensuales'!J231","v":6.232856445975556},{"$f":"'Datos mensuales'!H231","v":2.1176025713745461},null,{"$f":"'Datos mensuales'!AW231","v":2.2790599999999999},{"$f":"'Datos mensuales'!AX231","v":4.24},{"$f":"'Datos mensuales'!AY231","v":0.91},{"$f":"'Datos mensuales'!AU231","v":2.6577500000000001},{"$f":"'Datos mensuales'!AV231","v":0.74},{"$f":"'Datos mensuales'!AZ231","v":3.53},{"$f":"'Datos mensuales'!BA231","v":3.77},{"$f":"'Datos mensuales'!BB231","v":1.4970000000000001},null,{"$f":"'Datos mensuales'!BC231","v":44.9},{"$f":"'Datos mensuales'!BD231","v":42.2},{"$f":"'Datos mensuales'!BE231","v":46.7},null,{"$f":"'Datos mensuales'!T231","v":57.31},{"$f":"'Datos mensuales'!U231","v":52.45},{"$f":"'Datos mensuales'!W231","v":760.86249999999995},{"$f":"'Datos mensuales'!AA231","v":226.8462121},{"$f":"'Datos mensuales'!Z231","v":121.89},{"$f":"'Datos mensuales'!AC231","v":164.2696636},{"$f":"'Datos mensuales'!AD231","v":563.25},null,{"$f":"'Datos mensuales'!AQ231","v":1.271746},{"$f":"'Datos mensuales'!AR231","v":96.94},{"$f":"'Datos mensuales'!AO231","v":6.8279899999999998},{"$f":"'Datos mensuales'!AP231","v":2329.9220679999999},{"$f":"'Datos mensuales'!AN231","v":1.2168099999999999},{"$f":"'Datos mensuales'!AS231","v":13.108499999999999},null,{"$f":"'Datos mensuales'!BJ231","v":8829.0400000000009},{"$f":"'Datos mensuales'!BK231","v":1535.57},{"$f":"'Datos mensuales'!BL231","v":896.24}]
[null,"diciembre",{"$f":"'Datos mensuales'!D232","v":5.9027243906546385},{"$f":"'Datos mensuales'!E232","v":1.2},{"$f":"'Datos mensuales'!F232","v":7.6747584329872502},{"$f":"'Datos mensuales'!G232","v":9.1412900645607073E-2},{"$f":"'Datos mensuales'!I232","v":0.39643211100098258},{"$f":"'Datos mensuales'!J232","v":6.5281450097157077},{"$f":"'Datos mensuales'!H232","v":1.5819209039547952},null,{"$f":"'Datos mensuales'!AW232","v":1.82935},{"$f":"'Datos mensuales'!AX232","v":3.29},{"$f":"'Datos mensuales'!AY232","v":0.92},{"$f":"'Datos mensuales'!AU232","v":2.1778300000000002},{"$f":"'Datos mensuales'!AV232","v":0.26},{"$f":"'Datos mensuales'!AZ232","v":2.42},{"$f":"'Datos mensuales'!BA232","v":3.69},{"$f":"'Datos mensuales'!BB232","v":1.3819999999999999},null,{"$f":"'Datos mensuales'!BC232","v":38.6},{"$f":"'Datos mensuales'!BD232","v":30.2},{"$f":"'Datos mensuales'!BE232","v":44.2},null,{"$f":"'Datos mensuales'!T232","v":41.12},{"$f":"'Datos mensuales'!U232","v":39.950000000000003},{"$f":"'Datos mensuales'!W232","v":816.09209999999996},{"$f":"'Datos mensuales'!AA232","v":220.1353896},{"$f":"'Datos mensuales'!Z232","v":118.97},{"$f":"'Datos mensuales'!AC232","v":158.15662090000001},{"$f":"'Datos mensuales'!AD232","v":550.75},null,{"$f":"'Datos mensuales'!AQ232","v":1.3502559999999999},{"$f":"'Datos mensuales'!AR232","v":91.249099999999999},{"$f":"'Datos mensuales'!AO232","v":6.8530899999999999},{"$f":"'Datos mensuales'!AP232","v":2243.6690720000001},{"$f":"'Datos mensuales'!AN232","v":1.2327699999999999},{"$f":"'Datos mensuales'!AS232","v":13.4133},null,{"$f":"'Datos mensuales'!BJ232","v":8776.39},{"$f":"'Datos mensuales'!BK232","v":1577.03},{"$f":"'Datos mensuales'!BL232","v":903.25}]
[2009,"enero",{"$f":"'Datos mensuales'!D233","v":5.8393442981098653},{"$f":"'Datos mensuales'!E233","v":1},{"$f":"'Datos mensuales'!F233","v":7.1781555123625589},{"$f":"'Datos mensuales'!G233","v":2.9846503695275806E-2},{"$f":"'Datos mensuales'!I233","v":0},{"$f":"'Datos mensuales'!J233","v":6.2824029299385202},{"$f":"'Datos mensuales'!H233","v":1.1153119092627664},null,{"$f":"'Datos mensuales'!AW233","v":1.2108099999999999},{"$f":"'Datos mensuales'!AX233","v":2.46},{"$f":"'Datos mensuales'!AY233","v":0.73},{"$f":"'Datos mensuales'!AU233","v":1.6211},{"$f":"'Datos mensuales'!AV233","v":0.3},{"$f":"'Datos mensuales'!AZ233","v":2.52},{"$f":"'Datos mensuales'!BA233","v":4.0199999999999996},{"$f":"'Datos mensuales'!BB233","v":1.284},null,{"$f":"'Datos mensuales'!BC233","v":37.4},{"$f":"'Datos mensuales'!BD233","v":29.7},{"$f":"'Datos mensuales'!BE233","v":42.5},null,{"$f":"'Datos mensuales'!T233","v":41.71},{"$f":"'Datos mensuales'!U233","v":43.44},{"$f":"'Datos mensuales'!W233","v":858.69050000000004},{"$f":"'Datos mensuales'!AA233","v":239.36},{"$f":"'Datos mensuales'!Z233","v":128.30000000000001},{"$f":"'Datos mensuales'!AC233","v":173.24},{"$f":"'Datos mensuales'!AD233","v":615.25},null,{"$f":"'Datos mensuales'!AQ233","v":1.3279749999999999},{"$f":"'Datos mensuales'!AR233","v":90.421199999999999},{"$f":"'Datos mensuales'!AO233","v":6.8357999999999999},{"$f":"'Datos mensuales'!AP233","v":2265.8208140000002},{"$f":"'Datos mensuales'!AN233","v":1.22664},{"$f":"'Datos mensuales'!AS233","v":13.884499999999999},null,{"$f":"'Datos mensuales'!BJ233","v":8000.86},{"$f":"'Datos mensuales'!BK233","v":1476.42},{"$f":"'Datos mensuales'!BL233","v":825.88}]
[null,"febrero",{"$f":"'Datos mensuales'!D234","v":5.9025374751343413},{"$f":"'Datos mensuales'!E234","v":-1.6},{"$f":"'Datos mensuales'!F234","v":6.4667477114956196},{"$f":"'Datos mensuales'!G234","v":0.23619108803786615},{"$f":"'Datos mensuales'!I234","v":-9.9502487562183384E-2},{"$f":"'Datos mensuales'!J234","v":6.2013420696954507},{"$f":"'Datos mensuales'!H234","v":1.1773570688518413},null,{"$f":"'Datos mensuales'!AW234","v":1.2426299999999999},{"$f":"'Datos mensuales'!AX234","v":1.94},{"$f":"'Datos mensuales'!AY234","v":0.64},{"$f":"'Datos mensuales'!AU234","v":1.7569399999999999},{"$f":"'Datos mensuales'!AV234","v":0.46},{"$f":"'Datos mensuales'!AZ234","v":2.87},{"$f":"'Datos mensuales'!BA234","v":3.85},{"$f":"'Datos mensuales'!BB234","v":1.3029999999999999},null,{"$f":"'Datos mensuales'!BC234","v":25.3},{"$f":"'Datos mensuales'!BD234","v":22.3},{"$f":"'Datos mensuales'!BE234","v":27.3},null,{"$f":"'Datos mensuales'!T234","v":39.090000000000003},{"$f":"'Datos mensuales'!U234","v":43.32},{"$f":"'Datos mensuales'!W234","v":943.16300000000001},{"$f":"'Datos mensuales'!AA234","v":224.69},{"$f":"'Datos mensuales'!Z234","v":129.47999999999999},{"$f":"'Datos mensuales'!AC234","v":163.13},{"$f":"'Datos mensuales'!AD234","v":634},null,{"$f":"'Datos mensuales'!AQ234","v":1.2806029999999999},{"$f":"'Datos mensuales'!AR234","v":92.542199999999994},{"$f":"'Datos mensuales'!AO234","v":6.8367899999999997},{"$f":"'Datos mensuales'!AP234","v":2511.6799999999998},{"$f":"'Datos mensuales'!AN234","v":1.2468399999999999},{"$f":"'Datos mensuales'!AS234","v":14.591799999999999},null,{"$f":"'Datos mensuales'!BJ234","v":7062.93},{"$f":"'Datos mensuales'!BK234","v":1377.84},{"$f":"'Datos mensuales'!BL234","v":735.09}]
[null,"marzo",{"$f":"'Datos mensuales'!D235","v":5.607122766021905},{"$f":"'Datos mensuales'!E235","v":-1.2},{"$f":"'Datos mensuales'!F235","v":6.1407954518252374},{"$f":"'Datos mensuales'!G235","v":-0.38355625491738249},{"$f":"'Datos mensuales'!I235","v":-0.29702970297029424},{"$f":"'Datos mensuales'!J235","v":6.0437232222731492},{"$f":"'Datos mensuales'!H235","v":0.56897677455461193},null,{"$f":"'Datos mensuales'!AW235","v":1.26674},{"$f":"'Datos mensuales'!AX235","v":1.64},{"$f":"'Datos mensuales'!AY235","v":0.62},{"$f":"'Datos mensuales'!AU235","v":1.8271999999999999},{"$f":"'Datos mensuales'!AV235","v":0.43},{"$f":"'Datos mensuales'!AZ235","v":2.82},{"$f":"'Datos mensuales'!BA235","v":3.77},{"$f":"'Datos mensuales'!BB235","v":1.296},null,{"$f":"'Datos mensuales'!BC235","v":26.9},{"$f":"'Datos mensuales'!BD235","v":21.9},{"$f":"'Datos mensuales'!BE235","v":30.2},null,{"$f":"'Datos mensuales'!T235","v":47.94},{"$f":"'Datos mensuales'!U235","v":46.54},{"$f":"'Datos mensuales'!W235","v":924.27269999999999},{"$f":"'Datos mensuales'!AA235","v":230.98},{"$f":"'Datos mensuales'!Z235","v":128.52000000000001},{"$f":"'Datos mensuales'!AC235","v":164.52},{"$f":"'Datos mensuales'!AD235","v":625.25},null,{"$f":"'Datos mensuales'!AQ235","v":1.3041069999999999},{"$f":"'Datos mensuales'!AR235","v":97.835700000000003},{"$f":"'Datos mensuales'!AO235","v":6.8362999999999996},{"$f":"'Datos mensuales'!AP235","v":2471.7068049999998},{"$f":"'Datos mensuales'!AN235","v":1.26275},{"$f":"'Datos mensuales'!AS235","v":14.6716},null,{"$f":"'Datos mensuales'!BJ235","v":7608.92},{"$f":"'Datos mensuales'!BK235","v":1528.59},{"$f":"'Datos mensuales'!BL235","v":797.87}]
[null,"abril ",{"$f":"'Datos mensuales'!D236","v":5.5337782830583251},{"$f":"'Datos mensuales'!E236","v":-1.5},{"$f":"'Datos mensuales'!F236","v":5.7298665442913945},{"$f":"'Datos mensuales'!G236","v":-0.73688571521671253},{"$f":"'Datos mensuales'!I236","v":-9.910802775025622E-2},{"$f":"'Datos mensuales'!J236","v":6.1732744582240606},{"$f":"'Datos mensuales'!H236","v":0.61366806136680296},null,{"$f":"'Datos mensuales'!AW236","v":1.10622},{"$f":"'Datos mensuales'!AX236","v":1.42},{"$f":"'Datos mensuales'!AY236","v":0.56999999999999995},{"$f":"'Datos mensuales'!AU236","v":1.6518900000000001},{"$f":"'Datos mensuales'!AV236","v":0.35},{"$f":"'Datos mensuales'!AZ236","v":2.93},{"$f":"'Datos mensuales'!BA236","v":3.79},{"$f":"'Datos mensuales'!BB236","v":1.353},null,{"$f":"'Datos mensuales'!BC236","v":40.799999999999997},{"$f":"'Datos mensuales'!BD236","v":25.5},{"$f":"'Datos mensuales'!BE236","v":51},null,{"$f":"'Datos mensuales'!T236","v":49.65},{"$f":"'Datos mensuales'!U236","v":50.18},{"$f":"'Datos mensuales'!W236","v":890.2},{"$f":"'Datos mensuales'!AA236","v":233.47},{"$f":"'Datos mensuales'!Z236","v":134.88},{"$f":"'Datos mensuales'!AC236","v":168.72},{"$f":"'Datos mensuales'!AD236","v":577.25},null,{"$f":"'Datos mensuales'!AQ236","v":1.3208880000000001},{"$f":"'Datos mensuales'!AR236","v":98.888099999999994},{"$f":"'Datos mensuales'!AO236","v":6.8318000000000003},{"$f":"'Datos mensuales'!AP236","v":2375.0380580000001},{"$f":"'Datos mensuales'!AN236","v":1.2269699999999999},{"$f":"'Datos mensuales'!AS236","v":13.4491},null,{"$f":"'Datos mensuales'!BJ236","v":8168.12},{"$f":"'Datos mensuales'!BK236","v":1717.3},{"$f":"'Datos mensuales'!BL236","v":872.81}]
[null,"mayo",{"$f":"'Datos mensuales'!D237","v":5.1986222405670413},{"$f":"'Datos mensuales'!E237","v":-1.4},{"$f":"'Datos mensuales'!F237","v":4.7686231834316244},{"$f":"'Datos mensuales'!G237","v":-1.2814357989586074},{"$f":"'Datos mensuales'!I237","v":-1.0816125860373731},{"$f":"'Datos mensuales'!J237","v":5.9785249627710471},{"$f":"'Datos mensuales'!H237","v":3.6958329483499995E-2},null,{"$f":"'Datos mensuales'!AW237","v":0.81655},{"$f":"'Datos mensuales'!AX237","v":1.28},{"$f":"'Datos mensuales'!AY237","v":0.53},{"$f":"'Datos mensuales'!AU237","v":1.35701},{"$f":"'Datos mensuales'!AV237","v":0.3},{"$f":"'Datos mensuales'!AZ237","v":3.29},{"$f":"'Datos mensuales'!BA237","v":4.18},{"$f":"'Datos mensuales'!BB237","v":1.4510000000000001},null,{"$f":"'Datos mensuales'!BC237","v":54.8},{"$f":"'Datos mensuales'!BD237","v":29.7},{"$f":"'Datos mensuales'!BE237","v":71.5},null,{"$f":"'Datos mensuales'!T237","v":59.03},{"$f":"'Datos mensuales'!U237","v":57.3},{"$f":"'Datos mensuales'!W237","v":928.64499999999998},{"$f":"'Datos mensuales'!AA237","v":256.7},{"$f":"'Datos mensuales'!Z237","v":150.99},{"$f":"'Datos mensuales'!AC237","v":180.31},{"$f":"'Datos mensuales'!AD237","v":540.75},null,{"$f":"'Datos mensuales'!AQ237","v":1.3654820000000001},{"$f":"'Datos mensuales'!AR237","v":96.735699999999994},{"$f":"'Datos mensuales'!AO237","v":6.8242000000000003},{"$f":"'Datos mensuales'!AP237","v":2227.2468720000002},{"$f":"'Datos mensuales'!AN237","v":1.1531100000000001},{"$f":"'Datos mensuales'!AS237","v":13.215999999999999},null,{"$f":"'Datos mensuales'!BJ237","v":8500.33},{"$f":"'Datos mensuales'!BK237","v":1774.33},{"$f":"'Datos mensuales'!BL237","v":919.14}]
[null,"junio",{"$f":"'Datos mensuales'!D238","v":4.8015654360756743},{"$f":"'Datos mensuales'!E238","v":-1.7},{"$f":"'Datos mensuales'!F238","v":3.8148622001712971},{"$f":"'Datos mensuales'!G238","v":-1.4267760436898684},{"$f":"'Datos mensuales'!I238","v":-1.76125244618395},{"$f":"'Datos mensuales'!J238","v":5.7361182659734125},{"$f":"'Datos mensuales'!H238","v":-0.14727540500736061},null,{"$f":"'Datos mensuales'!AW238","v":0.62},{"$f":"'Datos mensuales'!AX238","v":1.23},{"$f":"'Datos mensuales'!AY238","v":0.49},{"$f":"'Datos mensuales'!AU238","v":1.1795500000000001},{"$f":"'Datos mensuales'!AV238","v":0.31},{"$f":"'Datos mensuales'!AZ238","v":3.72},{"$f":"'Datos mensuales'!BA238","v":3.99},{"$f":"'Datos mensuales'!BB238","v":1.5269999999999999},null,{"$f":"'Datos mensuales'!BC238","v":49.3},{"$f":"'Datos mensuales'!BD238","v":25},{"$f":"'Datos mensuales'!BE238","v":65.5},null,{"$f":"'Datos mensuales'!T238","v":69.64},{"$f":"'Datos mensuales'!U238","v":68.61},{"$f":"'Datos mensuales'!W238","v":945.67049999999995},{"$f":"'Datos mensuales'!AA238","v":253.41},{"$f":"'Datos mensuales'!Z238","v":149.79},{"$f":"'Datos mensuales'!AC238","v":178.83},{"$f":"'Datos mensuales'!AD238","v":548.6},null,{"$f":"'Datos mensuales'!AQ238","v":1.4005650000000001},{"$f":"'Datos mensuales'!AR238","v":96.599199999999996},{"$f":"'Datos mensuales'!AO238","v":6.8338200000000002},{"$f":"'Datos mensuales'!AP238","v":2090.0410569999999},{"$f":"'Datos mensuales'!AN238","v":1.1245799999999999},{"$f":"'Datos mensuales'!AS238","v":13.328900000000001},null,{"$f":"'Datos mensuales'!BJ238","v":8447},{"$f":"'Datos mensuales'!BK238","v":1835.04},{"$f":"'Datos mensuales'!BL238","v":919.32}]
[null,"julio",{"$f":"'Datos mensuales'!D239","v":4.4993956769823189},{"$f":"'Datos mensuales'!E239","v":-1.8},{"$f":"'Datos mensuales'!F239","v":3.2767571627968679},{"$f":"'Datos mensuales'!G239","v":-2.0971613536760558},{"$f":"'Datos mensuales'!I239","v":-2.2460937500000111},{"$f":"'Datos mensuales'!J239","v":5.4365375062097137},{"$f":"'Datos mensuales'!H239","v":-0.64533972526966243},null,{"$f":"'Datos mensuales'!AW239","v":0.52},{"$f":"'Datos mensuales'!AX239","v":0.97},{"$f":"'Datos mensuales'!AY239","v":0.43},{"$f":"'Datos mensuales'!AU239","v":0.98141},{"$f":"'Datos mensuales'!AV239","v":0.28000000000000003},{"$f":"'Datos mensuales'!AZ239","v":3.56},{"$f":"'Datos mensuales'!BA239","v":3.74},{"$f":"'Datos mensuales'!BB239","v":1.3540000000000001},null,{"$f":"'Datos mensuales'!BC239","v":47.4},{"$f":"'Datos mensuales'!BD239","v":23.3},{"$f":"'Datos mensuales'!BE239","v":63.4},null,{"$f":"'Datos mensuales'!T239","v":64.150000000000006},{"$f":"'Datos mensuales'!U239","v":64.44},{"$f":"'Datos mensuales'!W239","v":934.22829999999999},{"$f":"'Datos mensuales'!AA239","v":224.95},{"$f":"'Datos mensuales'!Z239","v":140.9},{"$f":"'Datos mensuales'!AC239","v":151.76},{"$f":"'Datos mensuales'!AD239","v":623},null,{"$f":"'Datos mensuales'!AQ239","v":1.407815},{"$f":"'Datos mensuales'!AR239","v":94.473399999999998},{"$f":"'Datos mensuales'!AO239","v":6.8319000000000001},{"$f":"'Datos mensuales'!AP239","v":2049.3521059999998},{"$f":"'Datos mensuales'!AN239","v":1.1234999999999999},{"$f":"'Datos mensuales'!AS239","v":13.356},null,{"$f":"'Datos mensuales'!BJ239","v":9171.61},{"$f":"'Datos mensuales'!BK239","v":1978.5},{"$f":"'Datos mensuales'!BL239","v":987.48}]
[null,"agosto",{"$f":"'Datos mensuales'!D240","v":4.3638516815982351},{"$f":"'Datos mensuales'!E240","v":-1.2},{"$f":"'Datos mensuales'!F240","v":3.125020938675068},{"$f":"'Datos mensuales'!G240","v":-1.4843486119606042},{"$f":"'Datos mensuales'!I240","v":-2.2395326192794518},{"$f":"'Datos mensuales'!J240","v":5.0819596221518877},{"$f":"'Datos mensuales'!H240","v":-0.16617429837517783},null,{"$f":"'Datos mensuales'!AW240","v":0.42452000000000001},{"$f":"'Datos mensuales'!AX240","v":0.86},{"$f":"'Datos mensuales'!AY240","v":0.4},{"$f":"'Datos mensuales'!AU240","v":0.84280999999999995},{"$f":"'Datos mensuales'!AV240","v":0.27},{"$f":"'Datos mensuales'!AZ240","v":3.59},{"$f":"'Datos mensuales'!BA240","v":3.68},{"$f":"'Datos mensuales'!BB240","v":1.452},null,{"$f":"'Datos mensuales'!BC240","v":54.5},{"$f":"'Datos mensuales'!BD240","v":25.4},{"$f":"'Datos mensuales'!BE240","v":73.8},null,{"$f":"'Datos mensuales'!T240","v":71.05},{"$f":"'Datos mensuales'!U240","v":72.510000000000005},{"$f":"'Datos mensuales'!W240","v":949.375},{"$f":"'Datos mensuales'!AA240","v":210.37},{"$f":"'Datos mensuales'!Z240","v":149.76},{"$f":"'Datos mensuales'!AC240","v":152.01},{"$f":"'Datos mensuales'!AD240","v":576.25},null,{"$f":"'Datos mensuales'!AQ240","v":1.4261090000000001},{"$f":"'Datos mensuales'!AR240","v":94.838399999999993},{"$f":"'Datos mensuales'!AO240","v":6.8324600000000002},{"$f":"'Datos mensuales'!AP240","v":2016.95569},{"$f":"'Datos mensuales'!AN240","v":1.08796},{"$f":"'Datos mensuales'!AS240","v":13.0059},null,{"$f":"'Datos mensuales'!BJ240","v":9496.2800000000007},{"$f":"'Datos mensuales'!BK240","v":2009.06},{"$f":"'Datos mensuales'!BL240","v":1020.62}]
[null,"septiembre",{"$f":"'Datos mensuales'!D241","v":4.3431007670667903},{"$f":"'Datos mensuales'!E241","v":-0.8},{"$f":"'Datos mensuales'!F241","v":3.2138903764545916},{"$f":"'Datos mensuales'!G241","v":-1.2862059666427432},{"$f":"'Datos mensuales'!I241","v":-2.2395326192794518},{"$f":"'Datos mensuales'!J241","v":4.8942579661047185},{"$f":"'Datos mensuales'!H241","v":-0.33173608551419043},null,{"$f":"'Datos mensuales'!AW241","v":0.29794999999999999},{"$f":"'Datos mensuales'!AX241","v":0.77},{"$f":"'Datos mensuales'!AY241","v":0.36},{"$f":"'Datos mensuales'!AU241","v":0.67735999999999996},{"$f":"'Datos mensuales'!AV241","v":0.21},{"$f":"'Datos mensuales'!AZ241","v":3.4},{"$f":"'Datos mensuales'!BA241","v":3.64},{"$f":"'Datos mensuales'!BB241","v":1.329},null,{"$f":"'Datos mensuales'!BC241","v":53.4},{"$f":"'Datos mensuales'!BD241","v":23},{"$f":"'Datos mensuales'!BE241","v":73.7},null,{"$f":"'Datos mensuales'!T241","v":69.41},{"$f":"'Datos mensuales'!U241","v":67.650000000000006},{"$f":"'Datos mensuales'!W241","v":996.59},{"$f":"'Datos mensuales'!AA241","v":191.09},{"$f":"'Datos mensuales'!Z241","v":148.53},{"$f":"'Datos mensuales'!AC241","v":150.57},{"$f":"'Datos mensuales'!AD241","v":593.66999999999996},null,{"$f":"'Datos mensuales'!AQ241","v":1.4561299999999999},{"$f":"'Datos mensuales'!AR241","v":91.443200000000004},{"$f":"'Datos mensuales'!AO241","v":6.8282999999999996},{"$f":"'Datos mensuales'!AP241","v":1973.81},{"$f":"'Datos mensuales'!AN241","v":1.08182},{"$f":"'Datos mensuales'!AS241","v":13.409599999999999},null,{"$f":"'Datos mensuales'!BJ241","v":9712.2800000000007},{"$f":"'Datos mensuales'!BK241","v":2122.42},{"$f":"'Datos mensuales'!BL241","v":1057.08}]
[null,"octubre",{"$f":"'Datos mensuales'!D242","v":4.1663912497434357},{"$f":"'Datos mensuales'!E242","v":-0.5},{"$f":"'Datos mensuales'!F242","v":2.7168356170803416},{"$f":"'Datos mensuales'!G242","v":-0.18284827748612015},{"$f":"'Datos mensuales'!I242","v":-2.5341130604288447},{"$f":"'Datos mensuales'!J242","v":4.4994975180436247},{"$f":"'Datos mensuales'!H242","v":-0.12897282358360257},null,{"$f":"'Datos mensuales'!AW242","v":0.28000000000000003},{"$f":"'Datos mensuales'!AX242","v":0.74},{"$f":"'Datos mensuales'!AY242","v":0.33},{"$f":"'Datos mensuales'!AU242","v":0.59660000000000002},{"$f":"'Datos mensuales'!AV242","v":0.16},{"$f":"'Datos mensuales'!AZ242","v":3.39},{"$f":"'Datos mensuales'!BA242","v":3.68},{"$f":"'Datos mensuales'!BB242","v":1.2569999999999999},null,{"$f":"'Datos mensuales'!BC242","v":48.7},{"$f":"'Datos mensuales'!BD242","v":21.1},{"$f":"'Datos mensuales'!BE242","v":67},null,{"$f":"'Datos mensuales'!T242","v":75.72},{"$f":"'Datos mensuales'!U242","v":72.77},{"$f":"'Datos mensuales'!W242","v":1043.1591000000001},{"$f":"'Datos mensuales'!AA242","v":198.85},{"$f":"'Datos mensuales'!Z242","v":154.57},{"$f":"'Datos mensuales'!AC242","v":167.22},{"$f":"'Datos mensuales'!AD242","v":566.25},null,{"$f":"'Datos mensuales'!AQ242","v":1.481225},{"$f":"'Datos mensuales'!AR242","v":90.3767},{"$f":"'Datos mensuales'!AO242","v":6.8270299999999997},{"$f":"'Datos mensuales'!AP242","v":1902.1233629999999},{"$f":"'Datos mensuales'!AN242","v":1.05427},{"$f":"'Datos mensuales'!AS242","v":13.2209},null,{"$f":"'Datos mensuales'!BJ242","v":9712.73},{"$f":"'Datos mensuales'!BK242","v":2045.11},{"$f":"'Datos mensuales'!BL242","v":1036.19}]
[null,"noviembre",{"$f":"'Datos mensuales'!D243","v":4.2183459397250251},{"$f":"'Datos mensuales'!E243","v":0.6},{"$f":"'Datos mensuales'!F243","v":2.3707721050746522},{"$f":"'Datos mensuales'!G243","v":1.8382958691302818},{"$f":"'Datos mensuales'!I243","v":-1.868239921337272},{"$f":"'Datos mensuales'!J243","v":3.8610067674894069},{"$f":"'Datos mensuales'!H243","v":0.48139233475283305},null,{"$f":"'Datos mensuales'!AW243","v":0.27},{"$f":"'Datos mensuales'!AX243","v":0.72},{"$f":"'Datos mensuales'!AY243","v":0.31},{"$f":"'Datos mensuales'!AU243","v":0.51167899999999999},{"$f":"'Datos mensuales'!AV243","v":0.15},{"$f":"'Datos mensuales'!AZ243","v":3.4},{"$f":"'Datos mensuales'!BA243","v":3.57},{"$f":"'Datos mensuales'!BB243","v":1.4410000000000001},null,{"$f":"'Datos mensuales'!BC243","v":49.5},{"$f":"'Datos mensuales'!BD243","v":21},{"$f":"'Datos mensuales'!BE243","v":68.5},null,{"$f":"'Datos mensuales'!T243","v":77.989999999999995},{"$f":"'Datos mensuales'!U243","v":76.66},{"$f":"'Datos mensuales'!W243","v":1127.0356999999999},{"$f":"'Datos mensuales'!AA243","v":211.04},{"$f":"'Datos mensuales'!Z243","v":152.21},{"$f":"'Datos mensuales'!AC243","v":171.61},{"$f":"'Datos mensuales'!AD243","v":566.25},null,{"$f":"'Datos mensuales'!AQ243","v":1.490246},{"$f":"'Datos mensuales'!AR243","v":89.157300000000006},{"$f":"'Datos mensuales'!AO243","v":6.8274100000000004},{"$f":"'Datos mensuales'!AP243","v":1974.9528720000001},{"$f":"'Datos mensuales'!AN243","v":1.0597799999999999},{"$f":"'Datos mensuales'!AS243","v":13.1073},null,{"$f":"'Datos mensuales'!BJ243","v":10344.84},{"$f":"'Datos mensuales'!BK243","v":2144.6},{"$f":"'Datos mensuales'!BL243","v":1095.6300000000001}]
[null,"diciembre",{"$f":"'Datos mensuales'!D244","v":4.31165006256784},{"$f":"'Datos mensuales'!E244","v":1.9},{"$f":"'Datos mensuales'!F244","v":2},{"$f":"'Datos mensuales'!G244","v":2.7213311262058353},{"$f":"'Datos mensuales'!I244","v":-1.6781836130306049},{"$f":"'Datos mensuales'!J244","v":3.5735378772584792},{"$f":"'Datos mensuales'!H244","v":0.92695587690025971},null,{"$f":"'Datos mensuales'!AW244","v":0.25},{"$f":"'Datos mensuales'!AX244","v":0.71},{"$f":"'Datos mensuales'!AY244","v":0.28000000000000003},{"$f":"'Datos mensuales'!AU244","v":0.45288},{"$f":"'Datos mensuales'!AV244","v":0.17},{"$f":"'Datos mensuales'!AZ244","v":3.59},{"$f":"'Datos mensuales'!BA244","v":3.76},{"$f":"'Datos mensuales'!BB244","v":1.246},null,{"$f":"'Datos mensuales'!BC244","v":53.6},{"$f":"'Datos mensuales'!BD244","v":20.2},{"$f":"'Datos mensuales'!BE244","v":75.900000000000006},null,{"$f":"'Datos mensuales'!T244","v":74.47},{"$f":"'Datos mensuales'!U244","v":74.459999999999994},{"$f":"'Datos mensuales'!W244","v":1134.7237},{"$f":"'Datos mensuales'!AA244","v":206.25},{"$f":"'Datos mensuales'!Z244","v":158.16},{"$f":"'Datos mensuales'!AC244","v":164.58},{"$f":"'Datos mensuales'!AD244","v":606},null,{"$f":"'Datos mensuales'!AQ244","v":1.4560059999999999},{"$f":"'Datos mensuales'!AR244","v":89.814099999999996},{"$f":"'Datos mensuales'!AO244","v":6.8277200000000002},{"$f":"'Datos mensuales'!AP244","v":2020.0741889999999},{"$f":"'Datos mensuales'!AN244","v":1.05366},{"$f":"'Datos mensuales'!AS244","v":12.8514},null,{"$f":"'Datos mensuales'!BJ244","v":10428.049999999999},{"$f":"'Datos mensuales'!BK244","v":2269.15},{"$f":"'Datos mensuales'!BL244","v":1115.0999999999999}]
[2010,"enero",{"$f":"'Datos mensuales'!D245","v":4.59208597948217},{"$f":"'Datos mensuales'!E245","v":1.5},{"$f":"'Datos mensuales'!F245","v":2.0995986201474541},{"$f":"'Datos mensuales'!G245","v":2.6257086429576217},{"$f":"'Datos mensuales'!I245","v":-0.59582919563059433},{"$f":"'Datos mensuales'!J245","v":4.4573397677349513},{"$f":"'Datos mensuales'!H245","v":0.9441017012525621},null,{"$f":"'Datos mensuales'!AW245","v":0.25012000000000001},{"$f":"'Datos mensuales'!AX245","v":0.68},{"$f":"'Datos mensuales'!AY245","v":0.26},{"$f":"'Datos mensuales'!AU245","v":0.39924999999999999},{"$f":"'Datos mensuales'!AV245","v":0.15},{"$f":"'Datos mensuales'!AZ245","v":3.73},{"$f":"'Datos mensuales'!BA245","v":3.66},{"$f":"'Datos mensuales'!BB245","v":1.339},null,{"$f":"'Datos mensuales'!BC245","v":56.5},{"$f":"'Datos mensuales'!BD245","v":25.2},{"$f":"'Datos mensuales'!BE245","v":77.3},null,{"$f":"'Datos mensuales'!T245","v":78.33},{"$f":"'Datos mensuales'!U245","v":76.17},{"$f":"'Datos mensuales'!W245","v":1117.9625000000001},{"$f":"'Datos mensuales'!AA245","v":201.51},{"$f":"'Datos mensuales'!Z245","v":158.9},{"$f":"'Datos mensuales'!AC245","v":167.21},{"$f":"'Datos mensuales'!AD245","v":598},null,{"$f":"'Datos mensuales'!AQ245","v":1.4257379999999999},{"$f":"'Datos mensuales'!AR245","v":91.316599999999994},{"$f":"'Datos mensuales'!AO245","v":6.8270499999999998},{"$f":"'Datos mensuales'!AP245","v":1982.18751},{"$f":"'Datos mensuales'!AN245","v":1.0427},{"$f":"'Datos mensuales'!AS245","v":12.8104},null,{"$f":"'Datos mensuales'!BJ245","v":10067.33},{"$f":"'Datos mensuales'!BK245","v":2147.35},{"$f":"'Datos mensuales'!BL245","v":1073.8699999999999}]
[null,"febrero",{"$f":"'Datos mensuales'!D246","v":4.8310996910422723},{"$f":"'Datos mensuales'!E246","v":2.7},{"$f":"'Datos mensuales'!F246","v":2.0888177674193589},{"$f":"'Datos mensuales'!G246","v":2.1433317781453685},{"$f":"'Datos mensuales'!I246","v":-0.39840637450199767},{"$f":"'Datos mensuales'!J246","v":4.8300549986231882},{"$f":"'Datos mensuales'!H246","v":0.84714205920684849},null,{"$f":"'Datos mensuales'!AW246","v":0.25052000000000002},{"$f":"'Datos mensuales'!AX246","v":0.66},{"$f":"'Datos mensuales'!AY246","v":0.25},{"$f":"'Datos mensuales'!AU246","v":0.38779999999999998},{"$f":"'Datos mensuales'!AV246","v":0.18},{"$f":"'Datos mensuales'!AZ246","v":3.69},{"$f":"'Datos mensuales'!BA246","v":3.49},{"$f":"'Datos mensuales'!BB246","v":1.3480000000000001},null,{"$f":"'Datos mensuales'!BC246","v":52.3},{"$f":"'Datos mensuales'!BD246","v":25.2},{"$f":"'Datos mensuales'!BE246","v":70.400000000000006},null,{"$f":"'Datos mensuales'!T246","v":76.39},{"$f":"'Datos mensuales'!U246","v":73.75},{"$f":"'Datos mensuales'!W246","v":1095.4124999999999},{"$f":"'Datos mensuales'!AA246","v":194.54},{"$f":"'Datos mensuales'!Z246","v":157.86000000000001},{"$f":"'Datos mensuales'!AC246","v":161.63},{"$f":"'Datos mensuales'!AD246","v":584.75},null,{"$f":"'Datos mensuales'!AQ246","v":1.365829},{"$f":"'Datos mensuales'!AR246","v":90.207300000000004},{"$f":"'Datos mensuales'!AO246","v":6.8292000000000002},{"$f":"'Datos mensuales'!AP246","v":1951.677306},{"$f":"'Datos mensuales'!AN246","v":1.0561100000000001},{"$f":"'Datos mensuales'!AS246","v":12.944100000000001},null,{"$f":"'Datos mensuales'!BJ246","v":10325.26},{"$f":"'Datos mensuales'!BK246","v":2238.2600000000002},{"$f":"'Datos mensuales'!BL246","v":1104.49}]
[null,"marzo",{"$f":"'Datos mensuales'!D247","v":5.1660025200012276},{"$f":"'Datos mensuales'!E247","v":2.4},{"$f":"'Datos mensuales'!F247","v":1.8395082212911751},{"$f":"'Datos mensuales'!G247","v":2.3139594469439455},{"$f":"'Datos mensuales'!I247","v":-0.39721946375372957},{"$f":"'Datos mensuales'!J247","v":4.9704010655623145},{"$f":"'Datos mensuales'!H247","v":1.5859766277128622},null,{"$f":"'Datos mensuales'!AW247","v":0.26841999999999999},{"$f":"'Datos mensuales'!AX247","v":0.64},{"$f":"'Datos mensuales'!AY247","v":0.25},{"$f":"'Datos mensuales'!AU247","v":0.41060999999999998},{"$f":"'Datos mensuales'!AV247","v":0.23},{"$f":"'Datos mensuales'!AZ247","v":3.73},{"$f":"'Datos mensuales'!BA247","v":3.46},{"$f":"'Datos mensuales'!BB247","v":1.329},null,{"$f":"'Datos mensuales'!BC247","v":57.9},{"$f":"'Datos mensuales'!BD247","v":28.6},{"$f":"'Datos mensuales'!BE247","v":77.400000000000006},null,{"$f":"'Datos mensuales'!T247","v":81.2},{"$f":"'Datos mensuales'!U247","v":78.83},{"$f":"'Datos mensuales'!W247","v":1113.337},{"$f":"'Datos mensuales'!AA247","v":191.07},{"$f":"'Datos mensuales'!Z247","v":164.5},{"$f":"'Datos mensuales'!AC247","v":159.01},{"$f":"'Datos mensuales'!AD247","v":540.13},null,{"$f":"'Datos mensuales'!AQ247","v":1.357183},{"$f":"'Datos mensuales'!AR247","v":90.6785},{"$f":"'Datos mensuales'!AO247","v":6.8262999999999998},{"$f":"'Datos mensuales'!AP247","v":1910.294664},{"$f":"'Datos mensuales'!AN247","v":1.02363},{"$f":"'Datos mensuales'!AS247","v":12.572100000000001},null,{"$f":"'Datos mensuales'!BJ247","v":10856.63},{"$f":"'Datos mensuales'!BK247","v":2397.96},{"$f":"'Datos mensuales'!BL247","v":1169.43}]
[null,"abril ",{"$f":"'Datos mensuales'!D248","v":5.2602603793205382},{"$f":"'Datos mensuales'!E248","v":2.8},{"$f":"'Datos mensuales'!F248","v":1.9808412692803787},{"$f":"'Datos mensuales'!G248","v":2.2364471956480854},{"$f":"'Datos mensuales'!I248","v":-0.39682539682538837},{"$f":"'Datos mensuales'!J248","v":4.270976971234079},{"$f":"'Datos mensuales'!H248","v":1.6357083448849556},null,{"$f":"'Datos mensuales'!AW248","v":0.31161},{"$f":"'Datos mensuales'!AX248","v":0.64},{"$f":"'Datos mensuales'!AY248","v":0.24},{"$f":"'Datos mensuales'!AU248","v":0.47586000000000001},{"$f":"'Datos mensuales'!AV248","v":0.24},{"$f":"'Datos mensuales'!AZ248","v":3.85},{"$f":"'Datos mensuales'!BA248","v":3.4},{"$f":"'Datos mensuales'!BB248","v":1.397},null,{"$f":"'Datos mensuales'!BC248","v":57.7},{"$f":"'Datos mensuales'!BD248","v":28.2},{"$f":"'Datos mensuales'!BE248","v":77.400000000000006},null,{"$f":"'Datos mensuales'!T248","v":84.29},{"$f":"'Datos mensuales'!U248","v":84.82},{"$f":"'Datos mensuales'!W248","v":1148.6875},{"$f":"'Datos mensuales'!AA248","v":192.82},{"$f":"'Datos mensuales'!Z248","v":169.24},{"$f":"'Datos mensuales'!AC248","v":157.66},{"$f":"'Datos mensuales'!AD248","v":502.23},null,{"$f":"'Datos mensuales'!AQ248","v":1.3432869999999999},{"$f":"'Datos mensuales'!AR248","v":93.538200000000003},{"$f":"'Datos mensuales'!AO248","v":6.8257899999999996},{"$f":"'Datos mensuales'!AP248","v":1936.5212779999999},{"$f":"'Datos mensuales'!AN248","v":1.00447},{"$f":"'Datos mensuales'!AS248","v":12.2326},null,{"$f":"'Datos mensuales'!BJ248","v":11008.61},{"$f":"'Datos mensuales'!BK248","v":2461.19},{"$f":"'Datos mensuales'!BL248","v":1186.69}]
[null,"mayo",{"$f":"'Datos mensuales'!D249","v":5.2184030901821687},{"$f":"'Datos mensuales'!E249","v":3.1},{"$f":"'Datos mensuales'!F249","v":2.0717969266309266},{"$f":"'Datos mensuales'!G249","v":2.0209860840939711},{"$f":"'Datos mensuales'!I249","v":-0.29821073558647826},{"$f":"'Datos mensuales'!J249","v":3.9166383173840433},{"$f":"'Datos mensuales'!H249","v":1.6902188972014394},null,{"$f":"'Datos mensuales'!AW249","v":0.45850999999999997},{"$f":"'Datos mensuales'!AX249","v":0.69},{"$f":"'Datos mensuales'!AY249","v":0.24},{"$f":"'Datos mensuales'!AU249","v":0.65925},{"$f":"'Datos mensuales'!AV249","v":0.22},{"$f":"'Datos mensuales'!AZ249","v":3.42},{"$f":"'Datos mensuales'!BA249","v":3},{"$f":"'Datos mensuales'!BB249","v":1.321},null,{"$f":"'Datos mensuales'!BC249","v":62.7},{"$f":"'Datos mensuales'!BD249","v":29.8},{"$f":"'Datos mensuales'!BE249","v":84.6},null,{"$f":"'Datos mensuales'!T249","v":73.739999999999995},{"$f":"'Datos mensuales'!U249","v":75.95},{"$f":"'Datos mensuales'!W249","v":1205.4341999999999},{"$f":"'Datos mensuales'!AA249","v":181.88},{"$f":"'Datos mensuales'!Z249","v":173.28},{"$f":"'Datos mensuales'!AC249","v":163.77000000000001},{"$f":"'Datos mensuales'!AD249","v":472.48},null,{"$f":"'Datos mensuales'!AQ249","v":1.2574350000000001},{"$f":"'Datos mensuales'!AR249","v":92.150999999999996},{"$f":"'Datos mensuales'!AO249","v":6.8278600000000003},{"$f":"'Datos mensuales'!AP249","v":1985.691771},{"$f":"'Datos mensuales'!AN249","v":1.0396700000000001},{"$f":"'Datos mensuales'!AS249","v":12.7263},null,{"$f":"'Datos mensuales'!BJ249","v":10136.629999999999},{"$f":"'Datos mensuales'!BK249","v":2257.04},{"$f":"'Datos mensuales'!BL249","v":1089.4100000000001}]
[null,"junio",{"$f":"'Datos mensuales'!D250","v":4.8410906272117513},{"$f":"'Datos mensuales'!E250","v":2.9},{"$f":"'Datos mensuales'!F250","v":2.2451342870110311},{"$f":"'Datos mensuales'!G250","v":1.0533489728456606},{"$f":"'Datos mensuales'!I250","v":-0.29880478087650536},{"$f":"'Datos mensuales'!J250","v":3.6931503613422145},{"$f":"'Datos mensuales'!H250","v":1.493362831858398},null,{"$f":"'Datos mensuales'!AW250","v":0.53690000000000004},{"$f":"'Datos mensuales'!AX250","v":0.73},{"$f":"'Datos mensuales'!AY250","v":0.24},{"$f":"'Datos mensuales'!AU250","v":0.75182000000000004},{"$f":"'Datos mensuales'!AV250","v":0.19},{"$f":"'Datos mensuales'!AZ250","v":3.2},{"$f":"'Datos mensuales'!BA250","v":3.03},{"$f":"'Datos mensuales'!BB250","v":1.2829999999999999},null,{"$f":"'Datos mensuales'!BC250","v":54.3},{"$f":"'Datos mensuales'!BD250","v":26.8},{"$f":"'Datos mensuales'!BE250","v":72.7},null,{"$f":"'Datos mensuales'!T250","v":75.34},{"$f":"'Datos mensuales'!U250","v":74.760000000000005},{"$f":"'Datos mensuales'!W250","v":1227.75},{"$f":"'Datos mensuales'!AA250","v":157.66999999999999},{"$f":"'Datos mensuales'!Z250","v":190.9},{"$f":"'Datos mensuales'!AC250","v":152.87},{"$f":"'Datos mensuales'!AD250","v":458.55},null,{"$f":"'Datos mensuales'!AQ250","v":1.221776},{"$f":"'Datos mensuales'!AR250","v":90.919600000000003},{"$f":"'Datos mensuales'!AO250","v":6.8187199999999999},{"$f":"'Datos mensuales'!AP250","v":1926.1785420000001},{"$f":"'Datos mensuales'!AN250","v":1.0381899999999999},{"$f":"'Datos mensuales'!AS250","v":12.7256},null,{"$f":"'Datos mensuales'!BJ250","v":9774.02},{"$f":"'Datos mensuales'!BK250","v":2109.2399999999998},{"$f":"'Datos mensuales'!BL250","v":1030.71}]
[null,"julio",{"$f":"'Datos mensuales'!D251","v":4.6005339214987586},{"$f":"'Datos mensuales'!E251","v":3.3},{"$f":"'Datos mensuales'!F251","v":2.241803439338752},{"$f":"'Datos mensuales'!G251","v":1.2351927783014689},{"$f":"'Datos mensuales'!I251","v":-0.59940059940059376},{"$f":"'Datos mensuales'!J251","v":3.6360022379929462},{"$f":"'Datos mensuales'!H251","v":1.7258977451981066},null,{"$f":"'Datos mensuales'!AW251","v":0.51032999999999995},{"$f":"'Datos mensuales'!AX251","v":0.85},{"$f":"'Datos mensuales'!AY251","v":0.24},{"$f":"'Datos mensuales'!AU251","v":0.71850000000000003},{"$f":"'Datos mensuales'!AV251","v":0.2},{"$f":"'Datos mensuales'!AZ251","v":3.01},{"$f":"'Datos mensuales'!BA251","v":3.01},{"$f":"'Datos mensuales'!BB251","v":1.1160000000000001},null,{"$f":"'Datos mensuales'!BC251","v":51},{"$f":"'Datos mensuales'!BD251","v":26.4},{"$f":"'Datos mensuales'!BE251","v":67.5},null,{"$f":"'Datos mensuales'!T251","v":76.319999999999993},{"$f":"'Datos mensuales'!U251","v":75.58},{"$f":"'Datos mensuales'!W251","v":1192.96},{"$f":"'Datos mensuales'!AA251","v":195.82},{"$f":"'Datos mensuales'!Z251","v":203.21},{"$f":"'Datos mensuales'!AC251","v":163.92},{"$f":"'Datos mensuales'!AD251","v":470.68},null,{"$f":"'Datos mensuales'!AQ251","v":1.279202},{"$f":"'Datos mensuales'!AR251","v":87.499300000000005},{"$f":"'Datos mensuales'!AO251","v":6.7766599999999997},{"$f":"'Datos mensuales'!AP251","v":1872.9649959999999},{"$f":"'Datos mensuales'!AN251","v":1.0433399999999999},{"$f":"'Datos mensuales'!AS251","v":12.820399999999999},null,{"$f":"'Datos mensuales'!BJ251","v":10465.94},{"$f":"'Datos mensuales'!BK251","v":2254.6999999999998},{"$f":"'Datos mensuales'!BL251","v":1101.5999999999999}]
[null,"agosto",{"$f":"'Datos mensuales'!D252","v":4.4855439322115878},{"$f":"'Datos mensuales'!E252","v":3.5},{"$f":"'Datos mensuales'!F252","v":2.3114364687831714},{"$f":"'Datos mensuales'!G252","v":1.1481045618391952},{"$f":"'Datos mensuales'!I252","v":-0.69721115537848877},{"$f":"'Datos mensuales'!J252","v":3.6757955655437837},{"$f":"'Datos mensuales'!H252","v":1.5812835213611927},null,{"$f":"'Datos mensuales'!AW252","v":0.36254999999999998},{"$f":"'Datos mensuales'!AX252","v":0.9},{"$f":"'Datos mensuales'!AY252","v":0.24},{"$f":"'Datos mensuales'!AU252","v":0.57909999999999995},{"$f":"'Datos mensuales'!AV252","v":0.19},{"$f":"'Datos mensuales'!AZ252","v":2.7},{"$f":"'Datos mensuales'!BA252","v":2.48},{"$f":"'Datos mensuales'!BB252","v":1.06},null,{"$f":"'Datos mensuales'!BC252","v":53.2},{"$f":"'Datos mensuales'!BD252","v":24.9},{"$f":"'Datos mensuales'!BE252","v":72},null,{"$f":"'Datos mensuales'!T252","v":76.599999999999994},{"$f":"'Datos mensuales'!U252","v":77.040000000000006},{"$f":"'Datos mensuales'!W252","v":1215.81},{"$f":"'Datos mensuales'!AA252","v":246.25},{"$f":"'Datos mensuales'!Z252","v":211.59},{"$f":"'Datos mensuales'!AC252","v":175.6},{"$f":"'Datos mensuales'!AD252","v":486.86},null,{"$f":"'Datos mensuales'!AQ252","v":1.289676},{"$f":"'Datos mensuales'!AR252","v":85.338999999999999},{"$f":"'Datos mensuales'!AO252","v":6.7876700000000003},{"$f":"'Datos mensuales'!AP252","v":1821.4239070000001},{"$f":"'Datos mensuales'!AN252","v":1.0399099999999999},{"$f":"'Datos mensuales'!AS252","v":12.766},null,{"$f":"'Datos mensuales'!BJ252","v":10014.719999999999},{"$f":"'Datos mensuales'!BK252","v":2114.0300000000002},{"$f":"'Datos mensuales'!BL252","v":1049.33}]
[null,"septiembre",{"$f":"'Datos mensuales'!D253","v":4.7042195972309218},{"$f":"'Datos mensuales'!E253","v":3.6},{"$f":"'Datos mensuales'!F253","v":2.279749314531923},{"$f":"'Datos mensuales'!G253","v":1.1436826581592725},{"$f":"'Datos mensuales'!I253","v":-0.49800796812749004},{"$f":"'Datos mensuales'!J253","v":3.6991026278100185},{"$f":"'Datos mensuales'!H253","v":1.8768491124260367},null,{"$f":"'Datos mensuales'!AW253","v":0.29137000000000002},{"$f":"'Datos mensuales'!AX253","v":0.88},{"$f":"'Datos mensuales'!AY253","v":0.22},{"$f":"'Datos mensuales'!AU253","v":0.47776999999999997},{"$f":"'Datos mensuales'!AV253","v":0.19},{"$f":"'Datos mensuales'!AZ253","v":2.65},{"$f":"'Datos mensuales'!BA253","v":2.67},{"$f":"'Datos mensuales'!BB253","v":1.0489999999999999},null,{"$f":"'Datos mensuales'!BC253","v":48.6},{"$f":"'Datos mensuales'!BD253","v":23.3},{"$f":"'Datos mensuales'!BE253","v":65.5},null,{"$f":"'Datos mensuales'!T253","v":75.239999999999995},{"$f":"'Datos mensuales'!U253","v":77.84},{"$f":"'Datos mensuales'!W253","v":1270.98},{"$f":"'Datos mensuales'!AA253","v":271.69},{"$f":"'Datos mensuales'!Z253","v":222.71},{"$f":"'Datos mensuales'!AC253","v":205.84},{"$f":"'Datos mensuales'!AD253","v":519.95000000000005},null,{"$f":"'Datos mensuales'!AQ253","v":1.306792},{"$f":"'Datos mensuales'!AR253","v":84.376599999999996},{"$f":"'Datos mensuales'!AO253","v":6.7433800000000002},{"$f":"'Datos mensuales'!AP253","v":1806.7016289999999},{"$f":"'Datos mensuales'!AN253","v":1.0344},{"$f":"'Datos mensuales'!AS253","v":12.8124},null,{"$f":"'Datos mensuales'!BJ253","v":10788.05},{"$f":"'Datos mensuales'!BK253","v":2368.62},{"$f":"'Datos mensuales'!BL253","v":1141.2}]
[null,"octubre",{"$f":"'Datos mensuales'!D254","v":5.1950611016668855},{"$f":"'Datos mensuales'!E254","v":4.4000000000000004},{"$f":"'Datos mensuales'!F254","v":2.3298146695430488},{"$f":"'Datos mensuales'!G254","v":1.1721876055269618},{"$f":"'Datos mensuales'!I254","v":0.20000000000000281},{"$f":"'Datos mensuales'!J254","v":4.0245377318626909},{"$f":"'Datos mensuales'!H254","v":1.9463149155981918},null,{"$f":"'Datos mensuales'!AW254","v":0.28883999999999999},{"$f":"'Datos mensuales'!AX254","v":1},{"$f":"'Datos mensuales'!AY254","v":0.2},{"$f":"'Datos mensuales'!AU254","v":0.45499000000000001},{"$f":"'Datos mensuales'!AV254","v":0.18},{"$f":"'Datos mensuales'!AZ254","v":2.54},{"$f":"'Datos mensuales'!BA254","v":2.86},{"$f":"'Datos mensuales'!BB254","v":0.83899999999999997},null,{"$f":"'Datos mensuales'!BC254","v":49.9},{"$f":"'Datos mensuales'!BD254","v":23.5},{"$f":"'Datos mensuales'!BE254","v":67.5},null,{"$f":"'Datos mensuales'!T254","v":81.89},{"$f":"'Datos mensuales'!U254","v":82.66},{"$f":"'Datos mensuales'!W254","v":1342.0238095238096},{"$f":"'Datos mensuales'!AA254","v":270.23},{"$f":"'Datos mensuales'!Z254","v":217.64},{"$f":"'Datos mensuales'!AC254","v":235.7},{"$f":"'Datos mensuales'!AD254","v":533.13},null,{"$f":"'Datos mensuales'!AQ254","v":1.3904529999999999},{"$f":"'Datos mensuales'!AR254","v":81.794799999999995},{"$f":"'Datos mensuales'!AO254","v":6.6676599999999997},{"$f":"'Datos mensuales'!AP254","v":1807.8968219999999},{"$f":"'Datos mensuales'!AN254","v":1.01833},{"$f":"'Datos mensuales'!AS254","v":12.437200000000001},null,{"$f":"'Datos mensuales'!BJ254","v":11118.49},{"$f":"'Datos mensuales'!BK254","v":2507.41},{"$f":"'Datos mensuales'!BL254","v":1183.26}]
[null,"noviembre",{"$f":"'Datos mensuales'!D255","v":5.6348475121987018},{"$f":"'Datos mensuales'!E255","v":5.0999999999999996},{"$f":"'Datos mensuales'!F255","v":2.588724489795923},{"$f":"'Datos mensuales'!G255","v":1.143160911570279},{"$f":"'Datos mensuales'!I255","v":0.10020040080161176},{"$f":"'Datos mensuales'!J255","v":4.3168804812640316},{"$f":"'Datos mensuales'!H255","v":1.916344204901417},null,{"$f":"'Datos mensuales'!AW255","v":0.28883999999999999},{"$f":"'Datos mensuales'!AX255","v":1.04},{"$f":"'Datos mensuales'!AY255","v":0.19},{"$f":"'Datos mensuales'!AU255","v":0.44596999999999998},{"$f":"'Datos mensuales'!AV255","v":0.18},{"$f":"'Datos mensuales'!AZ255","v":2.76},{"$f":"'Datos mensuales'!BA255","v":3.11},{"$f":"'Datos mensuales'!BB255","v":0.96799999999999997},null,{"$f":"'Datos mensuales'!BC255","v":54.1},{"$f":"'Datos mensuales'!BD255","v":24},{"$f":"'Datos mensuales'!BE255","v":74.2},null,{"$f":"'Datos mensuales'!T255","v":84.25},{"$f":"'Datos mensuales'!U255","v":85.27},{"$f":"'Datos mensuales'!W255","v":1369.8863636363637},{"$f":"'Datos mensuales'!AA255","v":274.08},{"$f":"'Datos mensuales'!Z255","v":233.48},{"$f":"'Datos mensuales'!AC255","v":238.24},{"$f":"'Datos mensuales'!AD255","v":543.14},null,{"$f":"'Datos mensuales'!AQ255","v":1.364098},{"$f":"'Datos mensuales'!AR255","v":82.513000000000005},{"$f":"'Datos mensuales'!AO255","v":6.6535599999999997},{"$f":"'Datos mensuales'!AP255","v":1866.059614},{"$f":"'Datos mensuales'!AN255","v":1.0125599999999999},{"$f":"'Datos mensuales'!AS255","v":12.327999999999999},null,{"$f":"'Datos mensuales'!BJ255","v":11006.02},{"$f":"'Datos mensuales'!BK255","v":2498.23},{"$f":"'Datos mensuales'!BL255","v":1180.55}]
[null,"diciembre",{"$f":"'Datos mensuales'!D256","v":5.908688721794535},{"$f":"'Datos mensuales'!E256","v":4.5999999999999996},{"$f":"'Datos mensuales'!F256","v":3.1730509803921612},{"$f":"'Datos mensuales'!G256","v":1.4957235273143148},{"$f":"'Datos mensuales'!I256","v":0},{"$f":"'Datos mensuales'!J256","v":4.4015850903352671},{"$f":"'Datos mensuales'!H256","v":2.2134459955914871},null,{"$f":"'Datos mensuales'!AW256","v":0.3},{"$f":"'Datos mensuales'!AX256","v":1.02},{"$f":"'Datos mensuales'!AY256","v":0.18},{"$f":"'Datos mensuales'!AU256","v":0.45839000000000002},{"$f":"'Datos mensuales'!AV256","v":0.19},{"$f":"'Datos mensuales'!AZ256","v":3.29},{"$f":"'Datos mensuales'!BA256","v":3.36},{"$f":"'Datos mensuales'!BB256","v":1.1890000000000001},null,{"$f":"'Datos mensuales'!BC256","v":53.3},{"$f":"'Datos mensuales'!BD256","v":24.9},{"$f":"'Datos mensuales'!BE256","v":72.3},null,{"$f":"'Datos mensuales'!T256","v":89.15},{"$f":"'Datos mensuales'!U256","v":91.45},{"$f":"'Datos mensuales'!W256","v":1390.5526315789473},{"$f":"'Datos mensuales'!AA256","v":306.52},{"$f":"'Datos mensuales'!Z256","v":248.17},{"$f":"'Datos mensuales'!AC256","v":250.63},{"$f":"'Datos mensuales'!AD256","v":536.78},null,{"$f":"'Datos mensuales'!AQ256","v":1.322336},{"$f":"'Datos mensuales'!AR256","v":83.290899999999993},{"$f":"'Datos mensuales'!AO256","v":6.6469199999999997},{"$f":"'Datos mensuales'!AP256","v":1918.793154},{"$f":"'Datos mensuales'!AN256","v":1.0080800000000001},{"$f":"'Datos mensuales'!AS256","v":12.389900000000001},null,{"$f":"'Datos mensuales'!BJ256","v":11577.51},{"$f":"'Datos mensuales'!BK256","v":2652.87},{"$f":"'Datos mensuales'!BL256","v":1257.6400000000001}]
[2011,"enero",{"$f":"'Datos mensuales'!D257","v":5.9929873495997095},{"$f":"'Datos mensuales'!E257","v":4.9000000000000057},{"$f":"'Datos mensuales'!F257","v":3.3994000075948336},{"$f":"'Datos mensuales'!G257","v":1.631846857448763},{"$f":"'Datos mensuales'!I257","v":-0.59940059940059376},{"$f":"'Datos mensuales'!J257","v":3.7820372017969262},{"$f":"'Datos mensuales'!H257","v":2.3242892860450093},null,{"$f":"'Datos mensuales'!AW257","v":0.3},{"$f":"'Datos mensuales'!AX257","v":1.02},{"$f":"'Datos mensuales'!AY257","v":0.19},{"$f":"'Datos mensuales'!AU257","v":0.45540000000000003},{"$f":"'Datos mensuales'!AV257","v":0.18},{"$f":"'Datos mensuales'!AZ257","v":3.39},{"$f":"'Datos mensuales'!BA257","v":3.49},{"$f":"'Datos mensuales'!BB257","v":1.214},null,{"$f":"'Datos mensuales'!BC257","v":64.8},{"$f":"'Datos mensuales'!BD257","v":31.1},{"$f":"'Datos mensuales'!BE257","v":87.3},null,{"$f":"'Datos mensuales'!T257","v":89.17},{"$f":"'Datos mensuales'!U257","v":96.52},{"$f":"'Datos mensuales'!W257","v":1356.4},{"$f":"'Datos mensuales'!AA257","v":326.55},{"$f":"'Datos mensuales'!Z257","v":263.77},{"$f":"'Datos mensuales'!AC257","v":265.29000000000002},{"$f":"'Datos mensuales'!AD257","v":528.38},null,{"$f":"'Datos mensuales'!AQ257","v":1.336525},{"$f":"'Datos mensuales'!AR257","v":82.688100000000006},{"$f":"'Datos mensuales'!AO257","v":6.5973300000000004},{"$f":"'Datos mensuales'!AP257","v":1867.7322380000001},{"$f":"'Datos mensuales'!AN257","v":0.99384499999999998},{"$f":"'Datos mensuales'!AS257","v":12.117800000000001},null,{"$f":"'Datos mensuales'!BJ257","v":11891.93},{"$f":"'Datos mensuales'!BK257","v":2700.08},{"$f":"'Datos mensuales'!BL257","v":1286.1199999999999}]
[null,"febrero",{"$f":"'Datos mensuales'!D258","v":6.0141713420345768},{"$f":"'Datos mensuales'!E258","v":4.9000000000000057},{"$f":"'Datos mensuales'!F258","v":3.1675519072911649},{"$f":"'Datos mensuales'!G258","v":2.1075846286581603},{"$f":"'Datos mensuales'!I258","v":-0.5},{"$f":"'Datos mensuales'!J258","v":3.5723311727497804},{"$f":"'Datos mensuales'!H258","v":2.4277670082156333},null,{"$f":"'Datos mensuales'!AW258","v":0.31190000000000001},{"$f":"'Datos mensuales'!AX258","v":1.0900000000000001},{"$f":"'Datos mensuales'!AY258","v":0.19},{"$f":"'Datos mensuales'!AU258","v":0.46405000000000002},{"$f":"'Datos mensuales'!AV258","v":0.17},{"$f":"'Datos mensuales'!AZ258","v":3.58},{"$f":"'Datos mensuales'!BA258","v":3.49},{"$f":"'Datos mensuales'!BB258","v":1.236},null,{"$f":"'Datos mensuales'!BC258","v":72},{"$f":"'Datos mensuales'!BD258","v":33.799999999999997},{"$f":"'Datos mensuales'!BE258","v":97.5},null,{"$f":"'Datos mensuales'!T258","v":88.58},{"$f":"'Datos mensuales'!U258","v":103.72},{"$f":"'Datos mensuales'!W258","v":1372.7249999999999},{"$f":"'Datos mensuales'!AA258","v":348.15},{"$f":"'Datos mensuales'!Z258","v":287.89},{"$f":"'Datos mensuales'!AC258","v":293.39999999999998},{"$f":"'Datos mensuales'!AD258","v":532.79999999999995},null,{"$f":"'Datos mensuales'!AQ258","v":1.3651040000000001},{"$f":"'Datos mensuales'!AR258","v":82.630399999999995},{"$f":"'Datos mensuales'!AO258","v":6.5762200000000002},{"$f":"'Datos mensuales'!AP258","v":1882.6582209999999},{"$f":"'Datos mensuales'!AN258","v":0.98797800000000002},{"$f":"'Datos mensuales'!AS258","v":12.0632},null,{"$f":"'Datos mensuales'!BJ258","v":12226.34},{"$f":"'Datos mensuales'!BK258","v":2782.27},{"$f":"'Datos mensuales'!BL258","v":1327.22}]
[null,"marzo",{"$f":"'Datos mensuales'!D259","v":6.2989876163202219},{"$f":"'Datos mensuales'!E259","v":5.4000000000000057},{"$f":"'Datos mensuales'!F259","v":3.186064317438257},{"$f":"'Datos mensuales'!G259","v":2.681603264240854},{"$f":"'Datos mensuales'!I259","v":-0.49850448654037888},{"$f":"'Datos mensuales'!J259","v":3.039507116320844},{"$f":"'Datos mensuales'!H259","v":2.6841961106546131},null,{"$f":"'Datos mensuales'!AW259","v":0.31},{"$f":"'Datos mensuales'!AX259","v":1.18},{"$f":"'Datos mensuales'!AY259","v":0.2},{"$f":"'Datos mensuales'!AU259","v":0.46078000000000002},{"$f":"'Datos mensuales'!AV259","v":0.16},{"$f":"'Datos mensuales'!AZ259","v":3.41},{"$f":"'Datos mensuales'!BA259","v":3.66},{"$f":"'Datos mensuales'!BB259","v":1.31},null,{"$f":"'Datos mensuales'!BC259","v":63.8},{"$f":"'Datos mensuales'!BD259","v":37.5},{"$f":"'Datos mensuales'!BE259","v":81.3},null,{"$f":"'Datos mensuales'!T259","v":102.86},{"$f":"'Datos mensuales'!U259","v":114.64},{"$f":"'Datos mensuales'!W259","v":1424.0109},{"$f":"'Datos mensuales'!AA259","v":316.75},{"$f":"'Datos mensuales'!Z259","v":292.07},{"$f":"'Datos mensuales'!AC259","v":290.36},{"$f":"'Datos mensuales'!AD259","v":508.96},null,{"$f":"'Datos mensuales'!AQ259","v":1.402045},{"$f":"'Datos mensuales'!AR259","v":81.719800000000006},{"$f":"'Datos mensuales'!AO259","v":6.5648900000000001},{"$f":"'Datos mensuales'!AP259","v":1882.028552},{"$f":"'Datos mensuales'!AN259","v":0.97659799999999997},{"$f":"'Datos mensuales'!AS259","v":12.0055},null,{"$f":"'Datos mensuales'!BJ259","v":12319.73},{"$f":"'Datos mensuales'!BK259","v":2781.07},{"$f":"'Datos mensuales'!BL259","v":1325.83}]
[null,"abril ",{"$f":"'Datos mensuales'!D260","v":6.5102569235040804},{"$f":"'Datos mensuales'!E260","v":5.2999999999999972},{"$f":"'Datos mensuales'!F260","v":2.8399999999999972},{"$f":"'Datos mensuales'!G260","v":3.163630859276461},{"$f":"'Datos mensuales'!I260","v":-0.44820717131474386},{"$f":"'Datos mensuales'!J260","v":3.3606679891096829},{"$f":"'Datos mensuales'!H260","v":2.8368794326241047},null,{"$f":"'Datos mensuales'!AW260","v":0.28000000000000003},{"$f":"'Datos mensuales'!AX260","v":1.32},{"$f":"'Datos mensuales'!AY260","v":0.2},{"$f":"'Datos mensuales'!AU260","v":0.44230000000000003},{"$f":"'Datos mensuales'!AV260","v":0.12},{"$f":"'Datos mensuales'!AZ260","v":3.46},{"$f":"'Datos mensuales'!BA260","v":3.55},{"$f":"'Datos mensuales'!BB260","v":1.3029999999999999},null,{"$f":"'Datos mensuales'!BC260","v":66},{"$f":"'Datos mensuales'!BD260","v":39.299999999999997},{"$f":"'Datos mensuales'!BE260","v":83.2},null,{"$f":"'Datos mensuales'!T260","v":109.53},{"$f":"'Datos mensuales'!U260","v":123.26},{"$f":"'Datos mensuales'!W260","v":1473.8055999999999},{"$f":"'Datos mensuales'!AA260","v":336.12},{"$f":"'Datos mensuales'!Z260","v":300.12},{"$f":"'Datos mensuales'!AC260","v":318.7},{"$f":"'Datos mensuales'!AD260","v":500.57},null,{"$f":"'Datos mensuales'!AQ260","v":1.445945},{"$f":"'Datos mensuales'!AR260","v":83.25},{"$f":"'Datos mensuales'!AO260","v":6.5279400000000001},{"$f":"'Datos mensuales'!AP260","v":1809.4825169999999},{"$f":"'Datos mensuales'!AN260","v":0.95779199999999998},{"$f":"'Datos mensuales'!AS260","v":11.713100000000001},null,{"$f":"'Datos mensuales'!BJ260","v":12810.54},{"$f":"'Datos mensuales'!BK260","v":2873.54},{"$f":"'Datos mensuales'!BL260","v":1363.61}]
[null,"mayo",{"$f":"'Datos mensuales'!D261","v":6.5527816532400696},{"$f":"'Datos mensuales'!E261","v":5.5},{"$f":"'Datos mensuales'!F261","v":3.0200000000000045},{"$f":"'Datos mensuales'!G261","v":3.5686457846345649},{"$f":"'Datos mensuales'!I261","v":-0.39880358923229453},{"$f":"'Datos mensuales'!J261","v":3.2492890245807002},{"$f":"'Datos mensuales'!H261","v":2.7338782924614033},null,{"$f":"'Datos mensuales'!AW261","v":0.26},{"$f":"'Datos mensuales'!AX261","v":1.43},{"$f":"'Datos mensuales'!AY261","v":0.2},{"$f":"'Datos mensuales'!AU261","v":0.41408},{"$f":"'Datos mensuales'!AV261","v":0.09},{"$f":"'Datos mensuales'!AZ261","v":3.17},{"$f":"'Datos mensuales'!BA261","v":3.37},{"$f":"'Datos mensuales'!BB261","v":1.1279999999999999},null,{"$f":"'Datos mensuales'!BC261","v":61.7},{"$f":"'Datos mensuales'!BD261","v":39.299999999999997},{"$f":"'Datos mensuales'!BE261","v":76.7},null,{"$f":"'Datos mensuales'!T261","v":100.9},{"$f":"'Datos mensuales'!U261","v":114.99},{"$f":"'Datos mensuales'!W261","v":1510.4375},{"$f":"'Datos mensuales'!AA261","v":354.47},{"$f":"'Datos mensuales'!Z261","v":291.08999999999997},{"$f":"'Datos mensuales'!AC261","v":308.47000000000003},{"$f":"'Datos mensuales'!AD261","v":500.55},null,{"$f":"'Datos mensuales'!AQ261","v":1.43144},{"$f":"'Datos mensuales'!AR261","v":81.174899999999994},{"$f":"'Datos mensuales'!AO261","v":6.4952800000000002},{"$f":"'Datos mensuales'!AP261","v":1802.460654},{"$f":"'Datos mensuales'!AN261","v":0.967781},{"$f":"'Datos mensuales'!AS261","v":11.6518},null,{"$f":"'Datos mensuales'!BJ261","v":12569.79},{"$f":"'Datos mensuales'!BK261","v":2835.3},{"$f":"'Datos mensuales'!BL261","v":1345.2}]
[null,"junio",{"$f":"'Datos mensuales'!D262","v":6.7125507114063021},{"$f":"'Datos mensuales'!E262","v":6.4000000000000057},{"$f":"'Datos mensuales'!F262","v":3.23695304256188},{"$f":"'Datos mensuales'!G262","v":3.5588282522423347},{"$f":"'Datos mensuales'!I262","v":-0.39960039960039112},{"$f":"'Datos mensuales'!J262","v":3.2764685199688928},{"$f":"'Datos mensuales'!H262","v":2.7247956403269753},null,{"$f":"'Datos mensuales'!AW262","v":0.24782000000000001},{"$f":"'Datos mensuales'!AX262","v":1.49},{"$f":"'Datos mensuales'!AY262","v":0.2},{"$f":"'Datos mensuales'!AU262","v":0.39757999999999999},{"$f":"'Datos mensuales'!AV262","v":0.1},{"$f":"'Datos mensuales'!AZ262","v":3},{"$f":"'Datos mensuales'!BA262","v":3.41},{"$f":"'Datos mensuales'!BB262","v":1.173},null,{"$f":"'Datos mensuales'!BC262","v":57.6},{"$f":"'Datos mensuales'!BD262","v":36.6},{"$f":"'Datos mensuales'!BE262","v":71.599999999999994},null,{"$f":"'Datos mensuales'!T262","v":96.26},{"$f":"'Datos mensuales'!U262","v":113.83},{"$f":"'Datos mensuales'!W262","v":1528.6591000000001},{"$f":"'Datos mensuales'!AA262","v":326.43},{"$f":"'Datos mensuales'!Z262","v":274.98},{"$f":"'Datos mensuales'!AC262","v":310.45999999999998},{"$f":"'Datos mensuales'!AD262","v":518.09},null,{"$f":"'Datos mensuales'!AQ262","v":1.4391430000000001},{"$f":"'Datos mensuales'!AR262","v":80.448599999999999},{"$f":"'Datos mensuales'!AO262","v":6.4747199999999996},{"$f":"'Datos mensuales'!AP262","v":1781.8953449999999},{"$f":"'Datos mensuales'!AN262","v":0.97743999999999998},{"$f":"'Datos mensuales'!AS262","v":11.8109},null,{"$f":"'Datos mensuales'!BJ262","v":12414.34},{"$f":"'Datos mensuales'!BK262","v":2773.52},{"$f":"'Datos mensuales'!BL262","v":1320.64}]
[null,"julio",{"$f":"'Datos mensuales'!D263","v":6.8725992832002039},{"$f":"'Datos mensuales'!E263","v":6.5},{"$f":"'Datos mensuales'!F263","v":3.4240560602223025},{"$f":"'Datos mensuales'!G263","v":3.628715982221081},{"$f":"'Datos mensuales'!I263","v":0.20100502512563098},{"$f":"'Datos mensuales'!J263","v":3.5471623015452725},{"$f":"'Datos mensuales'!H263","v":2.5358022439113395},null,{"$f":"'Datos mensuales'!AW263","v":0.24990999999999999},{"$f":"'Datos mensuales'!AX263","v":1.6},{"$f":"'Datos mensuales'!AY263","v":0.2},{"$f":"'Datos mensuales'!AU263","v":0.41393000000000002},{"$f":"'Datos mensuales'!AV263","v":0.08},{"$f":"'Datos mensuales'!AZ263","v":3},{"$f":"'Datos mensuales'!BA263","v":3.06},{"$f":"'Datos mensuales'!BB263","v":1.169},null,{"$f":"'Datos mensuales'!BC263","v":59.2},{"$f":"'Datos mensuales'!BD263","v":35.700000000000003},{"$f":"'Datos mensuales'!BE263","v":74.900000000000006},null,{"$f":"'Datos mensuales'!T263","v":97.3},{"$f":"'Datos mensuales'!U263","v":116.97},{"$f":"'Datos mensuales'!W263","v":1572.8095000000001},{"$f":"'Datos mensuales'!AA263","v":303.88},{"$f":"'Datos mensuales'!Z263","v":268.02},{"$f":"'Datos mensuales'!AC263","v":300.8},{"$f":"'Datos mensuales'!AD263","v":546.19000000000005},null,{"$f":"'Datos mensuales'!AQ263","v":1.4302189999999999},{"$f":"'Datos mensuales'!AR263","v":79.402500000000003},{"$f":"'Datos mensuales'!AO263","v":6.4581999999999997},{"$f":"'Datos mensuales'!AP263","v":1760.766779},{"$f":"'Datos mensuales'!AN263","v":0.95614200000000005},{"$f":"'Datos mensuales'!AS263","v":11.6723},null,{"$f":"'Datos mensuales'!BJ263","v":12143.24},{"$f":"'Datos mensuales'!BK263","v":2756.38},{"$f":"'Datos mensuales'!BL263","v":1292.28}]
[null,"agosto",{"$f":"'Datos mensuales'!D264","v":7.2252264409807534},{"$f":"'Datos mensuales'!E264","v":6.2000000000000028},{"$f":"'Datos mensuales'!F264","v":3.2699999999999938},{"$f":"'Datos mensuales'!G264","v":3.7712081791197805},{"$f":"'Datos mensuales'!I264","v":0.20060180541625161},{"$f":"'Datos mensuales'!J264","v":3.4236915404563013},{"$f":"'Datos mensuales'!H264","v":2.5216203914428861},null,{"$f":"'Datos mensuales'!AW264","v":0.28999999999999998},{"$f":"'Datos mensuales'!AX264","v":1.55},{"$f":"'Datos mensuales'!AY264","v":0.19},{"$f":"'Datos mensuales'!AU264","v":0.45918999999999999},{"$f":"'Datos mensuales'!AV264","v":0.06},{"$f":"'Datos mensuales'!AZ264","v":2.2999999999999998},{"$f":"'Datos mensuales'!BA264","v":2.76},{"$f":"'Datos mensuales'!BB264","v":1.0429999999999999},null,{"$f":"'Datos mensuales'!BC264","v":45.2},{"$f":"'Datos mensuales'!BD264","v":34.299999999999997},{"$f":"'Datos mensuales'!BE264","v":52.4},null,{"$f":"'Datos mensuales'!T264","v":86.33},{"$f":"'Datos mensuales'!U264","v":110.22},{"$f":"'Datos mensuales'!W264","v":1755.8068000000001},{"$f":"'Datos mensuales'!AA264","v":327.07},{"$f":"'Datos mensuales'!Z264","v":270.44},{"$f":"'Datos mensuales'!AC264","v":310.24},{"$f":"'Datos mensuales'!AD264","v":577.29999999999995},null,{"$f":"'Datos mensuales'!AQ264","v":1.4337200000000001},{"$f":"'Datos mensuales'!AR264","v":76.995599999999996},{"$f":"'Datos mensuales'!AO264","v":6.4043099999999997},{"$f":"'Datos mensuales'!AP264","v":1785.6536000000001},{"$f":"'Datos mensuales'!AN264","v":0.981016},{"$f":"'Datos mensuales'!AS264","v":12.232200000000001},null,{"$f":"'Datos mensuales'!BJ264","v":11613.53},{"$f":"'Datos mensuales'!BK264","v":2579.46},{"$f":"'Datos mensuales'!BL264","v":1218.8900000000001}]
[null,"septiembre",{"$f":"'Datos mensuales'!D265","v":7.3109020596297825},{"$f":"'Datos mensuales'!E265","v":6.0999999999999943},{"$f":"'Datos mensuales'!F265","v":3.7300000000000098},{"$f":"'Datos mensuales'!G265","v":3.8683568410402982},{"$f":"'Datos mensuales'!I265","v":0},{"$f":"'Datos mensuales'!J265","v":3.1400000000000117},{"$f":"'Datos mensuales'!H265","v":2.9857518831109959},null,{"$f":"'Datos mensuales'!AW265","v":0.35},{"$f":"'Datos mensuales'!AX265","v":1.54},{"$f":"'Datos mensuales'!AY265","v":0.19},{"$f":"'Datos mensuales'!AU265","v":0.5222},{"$f":"'Datos mensuales'!AV265","v":0.04},{"$f":"'Datos mensuales'!AZ265","v":1.98},{"$f":"'Datos mensuales'!BA265","v":2.48},{"$f":"'Datos mensuales'!BB265","v":1.0840000000000001},null,{"$f":"'Datos mensuales'!BC265","v":46.4},{"$f":"'Datos mensuales'!BD265","v":33.299999999999997},{"$f":"'Datos mensuales'!BE265","v":55.1},null,{"$f":"'Datos mensuales'!T265","v":85.52},{"$f":"'Datos mensuales'!U265","v":112.83},{"$f":"'Datos mensuales'!W265","v":1771.8523},{"$f":"'Datos mensuales'!AA265","v":315.92},{"$f":"'Datos mensuales'!Z265","v":274.88},{"$f":"'Datos mensuales'!AC265","v":296.20999999999998},{"$f":"'Datos mensuales'!AD265","v":615.54999999999995},null,{"$f":"'Datos mensuales'!AQ265","v":1.376425},{"$f":"'Datos mensuales'!AR265","v":76.793499999999995},{"$f":"'Datos mensuales'!AO265","v":6.3903400000000001},{"$f":"'Datos mensuales'!AP265","v":1835.400132},{"$f":"'Datos mensuales'!AN265","v":1.0020500000000001},{"$f":"'Datos mensuales'!AS265","v":13.0344},null,{"$f":"'Datos mensuales'!BJ265","v":10913.38},{"$f":"'Datos mensuales'!BK265","v":2415.4},{"$f":"'Datos mensuales'!BL265","v":1131.42}]
[null,"octubre",{"$f":"'Datos mensuales'!D266","v":6.9700991192924002},{"$f":"'Datos mensuales'!E266","v":5.5},{"$f":"'Datos mensuales'!F266","v":4.020000000000004},{"$f":"'Datos mensuales'!G266","v":3.5251999213573986},{"$f":"'Datos mensuales'!I266","v":-0.19960079840319644},{"$f":"'Datos mensuales'!J266","v":3.1956472384470436},{"$f":"'Datos mensuales'!H266","v":3.0311255881288535},null,{"$f":"'Datos mensuales'!AW266","v":0.40648000000000001},{"$f":"'Datos mensuales'!AX266","v":1.58},{"$f":"'Datos mensuales'!AY266","v":0.19},{"$f":"'Datos mensuales'!AU266","v":0.59521000000000002},{"$f":"'Datos mensuales'!AV266","v":0.05},{"$f":"'Datos mensuales'!AZ266","v":2.15},{"$f":"'Datos mensuales'!BA266","v":2.79},{"$f":"'Datos mensuales'!BB266","v":0.995},null,{"$f":"'Datos mensuales'!BC266","v":40.9},{"$f":"'Datos mensuales'!BD266","v":27.1},{"$f":"'Datos mensuales'!BE266","v":50},null,{"$f":"'Datos mensuales'!T266","v":86.32},{"$f":"'Datos mensuales'!U266","v":109.55},{"$f":"'Datos mensuales'!W266","v":1665.2143000000001},{"$f":"'Datos mensuales'!AA266","v":289.01},{"$f":"'Datos mensuales'!Z266","v":247.82},{"$f":"'Datos mensuales'!AC266","v":274.77999999999997},{"$f":"'Datos mensuales'!AD266","v":602.14},null,{"$f":"'Datos mensuales'!AQ266","v":1.3726210000000001},{"$f":"'Datos mensuales'!AR266","v":76.653700000000001},{"$f":"'Datos mensuales'!AO266","v":6.3699199999999996},{"$f":"'Datos mensuales'!AP266","v":1904.7413630000001},{"$f":"'Datos mensuales'!AN266","v":1.0203599999999999},{"$f":"'Datos mensuales'!AS266","v":13.450799999999999},null,{"$f":"'Datos mensuales'!BJ266","v":11955.01},{"$f":"'Datos mensuales'!BK266","v":2684.41},{"$f":"'Datos mensuales'!BL266","v":1253.3}]
[null,"noviembre",{"$f":"'Datos mensuales'!D267","v":6.6413088655742678},{"$f":"'Datos mensuales'!E267","v":4.2000000000000028},{"$f":"'Datos mensuales'!F267","v":3.9600000000000031},{"$f":"'Datos mensuales'!G267","v":3.394377590800854},{"$f":"'Datos mensuales'!I267","v":-0.50050050050050054},{"$f":"'Datos mensuales'!J267","v":3.4826938218248045},{"$f":"'Datos mensuales'!H267","v":3.0555053335743945},null,{"$f":"'Datos mensuales'!AW267","v":0.47528999999999999},{"$f":"'Datos mensuales'!AX267","v":1.48},{"$f":"'Datos mensuales'!AY267","v":0.2},{"$f":"'Datos mensuales'!AU267","v":0.68054000000000003},{"$f":"'Datos mensuales'!AV267","v":0.05},{"$f":"'Datos mensuales'!AZ267","v":2.0099999999999998},{"$f":"'Datos mensuales'!BA267","v":3.07},{"$f":"'Datos mensuales'!BB267","v":1.0249999999999999},null,{"$f":"'Datos mensuales'!BC267","v":55.2},{"$f":"'Datos mensuales'!BD267","v":38.299999999999997},{"$f":"'Datos mensuales'!BE267","v":66.400000000000006},null,{"$f":"'Datos mensuales'!T267","v":97.16},{"$f":"'Datos mensuales'!U267","v":110.77},{"$f":"'Datos mensuales'!W267","v":1738.9773},{"$f":"'Datos mensuales'!AA267","v":281.01},{"$f":"'Datos mensuales'!Z267","v":245.09},{"$f":"'Datos mensuales'!AC267","v":274.23},{"$f":"'Datos mensuales'!AD267","v":609.09},null,{"$f":"'Datos mensuales'!AQ267","v":1.3558250000000001},{"$f":"'Datos mensuales'!AR267","v":77.470699999999994},{"$f":"'Datos mensuales'!AO267","v":6.35562},{"$f":"'Datos mensuales'!AP267","v":1920.130107},{"$f":"'Datos mensuales'!AN267","v":1.02525},{"$f":"'Datos mensuales'!AS267","v":13.697800000000001},null,{"$f":"'Datos mensuales'!BJ267","v":12045.68},{"$f":"'Datos mensuales'!BK267","v":2620.34},{"$f":"'Datos mensuales'!BL267","v":1246.96}]
[null,"diciembre",{"$f":"'Datos mensuales'!D268","v":6.5033527436801686},{"$f":"'Datos mensuales'!E268","v":4.0999999999999943},{"$f":"'Datos mensuales'!F268","v":3.7300000000000133},{"$f":"'Datos mensuales'!G268","v":2.9624188448710851},{"$f":"'Datos mensuales'!I268","v":-0.20080321285139419},{"$f":"'Datos mensuales'!J268","v":3.8187567875879203},{"$f":"'Datos mensuales'!H268","v":2.699999999999986},null,{"$f":"'Datos mensuales'!AW268","v":0.55574000000000001},{"$f":"'Datos mensuales'!AX268","v":1.43},{"$f":"'Datos mensuales'!AY268","v":0.2},{"$f":"'Datos mensuales'!AU268","v":0.77985000000000004},{"$f":"'Datos mensuales'!AV268","v":0.05},{"$f":"'Datos mensuales'!AZ268","v":1.98},{"$f":"'Datos mensuales'!BA268","v":2.65},{"$f":"'Datos mensuales'!BB268","v":1.085},null,{"$f":"'Datos mensuales'!BC268","v":64.8},{"$f":"'Datos mensuales'!BD268","v":46.5},{"$f":"'Datos mensuales'!BE268","v":77},null,{"$f":"'Datos mensuales'!T268","v":98.56},{"$f":"'Datos mensuales'!U268","v":107.87},{"$f":"'Datos mensuales'!W268","v":1652.3055999999999},{"$f":"'Datos mensuales'!AA268","v":269.02999999999997},{"$f":"'Datos mensuales'!Z268","v":236.71},{"$f":"'Datos mensuales'!AC268","v":258.44},{"$f":"'Datos mensuales'!AD268","v":580.91},null,{"$f":"'Datos mensuales'!AQ268","v":1.3158080000000001},{"$f":"'Datos mensuales'!AR268","v":77.811300000000003},{"$f":"'Datos mensuales'!AO268","v":6.3405100000000001},{"$f":"'Datos mensuales'!AP268","v":1933.2295449999999},{"$f":"'Datos mensuales'!AN268","v":1.0229600000000001},{"$f":"'Datos mensuales'!AS268","v":13.7494},null,{"$f":"'Datos mensuales'!BJ268","v":12217.56},{"$f":"'Datos mensuales'!BK268","v":2605.15},{"$f":"'Datos mensuales'!BL268","v":1257.5999999999999}]
[2012,"enero",{"$f":"'Datos mensuales'!D269","v":6.2179976539370996},{"$f":"'Datos mensuales'!E269","v":4.5},{"$f":"'Datos mensuales'!F269","v":3.539999999999996},{"$f":"'Datos mensuales'!G269","v":2.9252167121508554},{"$f":"'Datos mensuales'!I269","v":0.10050251256280836},{"$f":"'Datos mensuales'!J269","v":4.0467733567466295},{"$f":"'Datos mensuales'!H269","v":2.6999999999999931},null,{"$f":"'Datos mensuales'!AW269","v":0.56589999999999996},{"$f":"'Datos mensuales'!AX269","v":1.22},{"$f":"'Datos mensuales'!AY269","v":0.2},{"$f":"'Datos mensuales'!AU269","v":0.79698000000000002},{"$f":"'Datos mensuales'!AV269","v":7.0000000000000007E-2},{"$f":"'Datos mensuales'!AZ269","v":1.97},{"$f":"'Datos mensuales'!BA269","v":2.67},{"$f":"'Datos mensuales'!BB269","v":0.97899999999999998},null,{"$f":"'Datos mensuales'!BC269","v":61.5},{"$f":"'Datos mensuales'!BD269","v":38.799999999999997},{"$f":"'Datos mensuales'!BE269","v":76.7},null,{"$f":"'Datos mensuales'!T269","v":100.27},{"$f":"'Datos mensuales'!U269","v":110.69},{"$f":"'Datos mensuales'!W269","v":1656.1189999999999},{"$f":"'Datos mensuales'!AA269","v":274.89},{"$f":"'Datos mensuales'!Z269","v":237.21},{"$f":"'Datos mensuales'!AC269","v":272.85000000000002},{"$f":"'Datos mensuales'!AD269","v":541.05882352941171},null,{"$f":"'Datos mensuales'!AQ269","v":1.289469},{"$f":"'Datos mensuales'!AR269","v":76.967699999999994},{"$f":"'Datos mensuales'!AO269","v":6.3127599999999999},{"$f":"'Datos mensuales'!AP269","v":1847.872001},{"$f":"'Datos mensuales'!AN269","v":1.0130699999999999},{"$f":"'Datos mensuales'!AS269","v":13.4192},null,{"$f":"'Datos mensuales'!BJ269","v":12632.91},{"$f":"'Datos mensuales'!BK269","v":2813.84},{"$f":"'Datos mensuales'!BL269","v":1312.41}]
[null,"febrero",{"$f":"'Datos mensuales'!D270","v":5.8490856474355102},{"$f":"'Datos mensuales'!E270","v":3.2000000000000028},{"$f":"'Datos mensuales'!F270","v":3.5499999999999936},{"$f":"'Datos mensuales'!G270","v":2.8710987804382171},{"$f":"'Datos mensuales'!I270","v":0.30150753768843935},{"$f":"'Datos mensuales'!J270","v":3.8686334539382092},{"$f":"'Datos mensuales'!H270","v":2.6999999999999984},null,{"$f":"'Datos mensuales'!AW270","v":0.50324000000000002},{"$f":"'Datos mensuales'!AX270","v":1.05},{"$f":"'Datos mensuales'!AY270","v":0.2},{"$f":"'Datos mensuales'!AU270","v":0.75729000000000002},{"$f":"'Datos mensuales'!AV270","v":0.12},{"$f":"'Datos mensuales'!AZ270","v":1.97},{"$f":"'Datos mensuales'!BA270","v":2.59},{"$f":"'Datos mensuales'!BB270","v":1.0058},null,{"$f":"'Datos mensuales'!BC270","v":71.599999999999994},{"$f":"'Datos mensuales'!BD270","v":46.4},{"$f":"'Datos mensuales'!BE270","v":88.4},null,{"$f":"'Datos mensuales'!T270","v":102.2},{"$f":"'Datos mensuales'!U270","v":119.33},{"$f":"'Datos mensuales'!W270","v":1742.6189999999999},{"$f":"'Datos mensuales'!AA270","v":277.77},{"$f":"'Datos mensuales'!Z270","v":224.16},{"$f":"'Datos mensuales'!AC270","v":279.45999999999998},{"$f":"'Datos mensuales'!AD270","v":547.47619047619048},null,{"$f":"'Datos mensuales'!AQ270","v":1.3237380000000001},{"$f":"'Datos mensuales'!AR270","v":78.458500000000001},{"$f":"'Datos mensuales'!AO270","v":6.3002200000000004},{"$f":"'Datos mensuales'!AP270","v":1781.6219229999999},{"$f":"'Datos mensuales'!AN270","v":0.99767499999999998},{"$f":"'Datos mensuales'!AS270","v":12.7918},null,{"$f":"'Datos mensuales'!BJ270","v":12952.07},{"$f":"'Datos mensuales'!BK270","v":2966.89},{"$f":"'Datos mensuales'!BL270","v":1365.68}]
[null,"marzo",{"$f":"'Datos mensuales'!D271","v":5.2399919361243219},{"$f":"'Datos mensuales'!E271","v":3.5999999999999943},{"$f":"'Datos mensuales'!F271","v":3.4000000000000066},{"$f":"'Datos mensuales'!G271","v":2.6513981930217807},{"$f":"'Datos mensuales'!I271","v":0.50100200400801598},{"$f":"'Datos mensuales'!J271","v":3.7292776570731276},{"$f":"'Datos mensuales'!H271","v":2.6999999999999935},null,{"$f":"'Datos mensuales'!AW271","v":0.47328999999999999},{"$f":"'Datos mensuales'!AX271","v":0.86},{"$f":"'Datos mensuales'!AY271","v":0.2},{"$f":"'Datos mensuales'!AU271","v":0.74128000000000005},{"$f":"'Datos mensuales'!AV271","v":0.14000000000000001},{"$f":"'Datos mensuales'!AZ271","v":2.17},{"$f":"'Datos mensuales'!BA271","v":2.6},{"$f":"'Datos mensuales'!BB271","v":1.0489999999999999},null,{"$f":"'Datos mensuales'!BC271","v":69.5},{"$f":"'Datos mensuales'!BD271","v":49.9},{"$f":"'Datos mensuales'!BE271","v":82.5},null,{"$f":"'Datos mensuales'!T271","v":106.16},{"$f":"'Datos mensuales'!U271","v":125.45},{"$f":"'Datos mensuales'!W271","v":1673.7727},{"$f":"'Datos mensuales'!AA271","v":283.88},{"$f":"'Datos mensuales'!Z271","v":201.26},{"$f":"'Datos mensuales'!AC271","v":280.66000000000003},{"$f":"'Datos mensuales'!AD271","v":577.0454545454545},null,{"$f":"'Datos mensuales'!AQ271","v":1.320784},{"$f":"'Datos mensuales'!AR271","v":82.477099999999993},{"$f":"'Datos mensuales'!AO271","v":6.3121799999999997},{"$f":"'Datos mensuales'!AP271","v":1766.2085850000001},{"$f":"'Datos mensuales'!AN271","v":0.99394400000000005},{"$f":"'Datos mensuales'!AS271","v":12.744300000000001},null,{"$f":"'Datos mensuales'!BJ271","v":13212.04},{"$f":"'Datos mensuales'!BK271","v":3091.57},{"$f":"'Datos mensuales'!BL271","v":1408.47}]
[null,"abril ",{"$f":"'Datos mensuales'!D272","v":5.104165719430017},{"$f":"'Datos mensuales'!E272","v":3.4000000000000057},{"$f":"'Datos mensuales'!F272","v":3.430000000000001},{"$f":"'Datos mensuales'!G272","v":2.3027398112989435},{"$f":"'Datos mensuales'!I272","v":0.450225112556281},{"$f":"'Datos mensuales'!J272","v":3.4120786990643746},{"$f":"'Datos mensuales'!H272","v":2.6000000000000032},null,{"$f":"'Datos mensuales'!AW272","v":0.46682000000000001},{"$f":"'Datos mensuales'!AX272","v":0.74},{"$f":"'Datos mensuales'!AY272","v":0.2},{"$f":"'Datos mensuales'!AU272","v":0.73140000000000005},{"$f":"'Datos mensuales'!AV272","v":0.14000000000000001},{"$f":"'Datos mensuales'!AZ272","v":2.0499999999999998},{"$f":"'Datos mensuales'!BA272","v":2.4700000000000002},{"$f":"'Datos mensuales'!BB272","v":0.93559999999999999},null,{"$f":"'Datos mensuales'!BC272","v":68.7},{"$f":"'Datos mensuales'!BD272","v":51.2},{"$f":"'Datos mensuales'!BE272","v":80.400000000000006},null,{"$f":"'Datos mensuales'!T272","v":103.32},{"$f":"'Datos mensuales'!U272","v":119.75},{"$f":"'Datos mensuales'!W272","v":1650.0658000000001},{"$f":"'Datos mensuales'!AA272","v":266.32},{"$f":"'Datos mensuales'!Z272","v":191.45},{"$f":"'Datos mensuales'!AC272","v":274.20999999999998},{"$f":"'Datos mensuales'!AD272","v":585.95238095238096},null,{"$f":"'Datos mensuales'!AQ272","v":1.316589},{"$f":"'Datos mensuales'!AR272","v":81.344099999999997},{"$f":"'Datos mensuales'!AO272","v":6.3008899999999999},{"$f":"'Datos mensuales'!AP272","v":1772.1225440000001},{"$f":"'Datos mensuales'!AN272","v":0.993089},{"$f":"'Datos mensuales'!AS272","v":13.0572},null,{"$f":"'Datos mensuales'!BJ272","v":13213.63},{"$f":"'Datos mensuales'!BK272","v":3046.36},{"$f":"'Datos mensuales'!BL272","v":1397.91}]
[null,"mayo",{"$f":"'Datos mensuales'!D273","v":4.9888673678113102},{"$f":"'Datos mensuales'!E273","v":3},{"$f":"'Datos mensuales'!F273","v":3.4399999999999924},{"$f":"'Datos mensuales'!G273","v":1.7042537749376003},{"$f":"'Datos mensuales'!I273","v":0.2002002002001888},{"$f":"'Datos mensuales'!J273","v":3.8512284349199311},{"$f":"'Datos mensuales'!H273","v":2.4000000000000026},null,{"$f":"'Datos mensuales'!AW273","v":0.46653},{"$f":"'Datos mensuales'!AX273","v":0.68},{"$f":"'Datos mensuales'!AY273","v":0.2},{"$f":"'Datos mensuales'!AU273","v":0.73299000000000003},{"$f":"'Datos mensuales'!AV273","v":0.15},{"$f":"'Datos mensuales'!AZ273","v":1.8},{"$f":"'Datos mensuales'!BA273","v":1.89},{"$f":"'Datos mensuales'!BB273","v":0.84689999999999999},null,{"$f":"'Datos mensuales'!BC273","v":64.400000000000006},{"$f":"'Datos mensuales'!BD273","v":44.9},{"$f":"'Datos mensuales'!BE273","v":77.3},null,{"$f":"'Datos mensuales'!T273","v":94.65},{"$f":"'Datos mensuales'!U273","v":110.34},{"$f":"'Datos mensuales'!W273","v":1585.5045},{"$f":"'Datos mensuales'!AA273","v":264.35872401848002},{"$f":"'Datos mensuales'!Z273","v":184.65},{"$f":"'Datos mensuales'!AC273","v":268.79000000000002},{"$f":"'Datos mensuales'!AD273","v":612.43478260869563},null,{"$f":"'Datos mensuales'!AQ273","v":1.279814},{"$f":"'Datos mensuales'!AR273","v":79.651383999999993},{"$f":"'Datos mensuales'!AO273","v":6.3184399999999998},{"$f":"'Datos mensuales'!AP273","v":1794.6508510000001},{"$f":"'Datos mensuales'!AN273","v":1.00905},{"$f":"'Datos mensuales'!AS273","v":13.634099000000001},null,{"$f":"'Datos mensuales'!BJ273","v":12393.45},{"$f":"'Datos mensuales'!BK273","v":2827.34},{"$f":"'Datos mensuales'!BL273","v":1310.33}]
[null,"junio",{"$f":"'Datos mensuales'!D274","v":4.9154252835474566},{"$f":"'Datos mensuales'!E274","v":2.2000000000000028},{"$f":"'Datos mensuales'!F274","v":3.1999999999999966},{"$f":"'Datos mensuales'!G274","v":1.6639937622385057},{"$f":"'Datos mensuales'!I274","v":-0.10030090270813291},{"$f":"'Datos mensuales'!J274","v":4.3352225587509157},{"$f":"'Datos mensuales'!H274","v":2.3999999999999981},null,{"$f":"'Datos mensuales'!AW274","v":0.46559},{"$f":"'Datos mensuales'!AX274","v":0.66},{"$f":"'Datos mensuales'!AY274","v":0.2},{"$f":"'Datos mensuales'!AU274","v":0.73640000000000005},{"$f":"'Datos mensuales'!AV274","v":0.15},{"$f":"'Datos mensuales'!AZ274","v":1.62},{"$f":"'Datos mensuales'!BA274","v":2.3199999999999998},{"$f":"'Datos mensuales'!BB274","v":0.83740000000000003},null,{"$f":"'Datos mensuales'!BC274","v":62.7},{"$f":"'Datos mensuales'!BD274","v":46.6},{"$f":"'Datos mensuales'!BE274","v":73.400000000000006},null,{"$f":"'Datos mensuales'!T274","v":82.3},{"$f":"'Datos mensuales'!U274","v":95.16},{"$f":"'Datos mensuales'!W274","v":1596.6974},{"$f":"'Datos mensuales'!AA274","v":276.19},{"$f":"'Datos mensuales'!Z274","v":168.69},{"$f":"'Datos mensuales'!AC274","v":267.23},{"$f":"'Datos mensuales'!AD274","v":606.14285714285711},null,{"$f":"'Datos mensuales'!AQ274","v":1.254464},{"$f":"'Datos mensuales'!AR274","v":79.28895},{"$f":"'Datos mensuales'!AO274","v":6.3607100000000001},{"$f":"'Datos mensuales'!AP274","v":1790.8693760000001},{"$f":"'Datos mensuales'!AN274","v":1.02783},{"$f":"'Datos mensuales'!AS274","v":13.92196},null,{"$f":"'Datos mensuales'!BJ274","v":12880.09},{"$f":"'Datos mensuales'!BK274","v":2935.05},{"$f":"'Datos mensuales'!BL274","v":1362.16}]
[null,"julio",{"$f":"'Datos mensuales'!D275","v":5.1984143693268194},{"$f":"'Datos mensuales'!E275","v":1.7999999999999972},{"$f":"'Datos mensuales'!F275","v":3.030000000000002},{"$f":"'Datos mensuales'!G275","v":1.4084507042253593},{"$f":"'Datos mensuales'!I275","v":-0.40120361083250322},{"$f":"'Datos mensuales'!J275","v":4.4199719461605014},{"$f":"'Datos mensuales'!H275","v":2.3999999999999995},null,{"$f":"'Datos mensuales'!AW275","v":0.45355000000000001},{"$f":"'Datos mensuales'!AX275","v":0.5},{"$f":"'Datos mensuales'!AY275","v":0.2},{"$f":"'Datos mensuales'!AU275","v":0.73021999999999998},{"$f":"'Datos mensuales'!AV275","v":0.15},{"$f":"'Datos mensuales'!AZ275","v":1.53},{"$f":"'Datos mensuales'!BA275","v":1.87},{"$f":"'Datos mensuales'!BB275","v":0.7782},null,{"$f":"'Datos mensuales'!BC275","v":65.400000000000006},{"$f":"'Datos mensuales'!BD275","v":45.9},{"$f":"'Datos mensuales'!BE275","v":78.400000000000006},null,{"$f":"'Datos mensuales'!T275","v":87.9},{"$f":"'Datos mensuales'!U275","v":102.61857142857141},{"$f":"'Datos mensuales'!W275","v":1593.9091000000001},{"$f":"'Datos mensuales'!AA275","v":345.69},{"$f":"'Datos mensuales'!Z275","v":190.45},{"$f":"'Datos mensuales'!AC275","v":332.95},{"$f":"'Datos mensuales'!AD275","v":578.36363636363637},null,{"$f":"'Datos mensuales'!AQ275","v":1.229053},{"$f":"'Datos mensuales'!AR275","v":79.004897},{"$f":"'Datos mensuales'!AO275","v":6.3739689999999998},{"$f":"'Datos mensuales'!AP275","v":1783.200902},{"$f":"'Datos mensuales'!AN275","v":1.0137879999999999},{"$f":"'Datos mensuales'!AS275","v":13.352648},null,{"$f":"'Datos mensuales'!BJ275","v":13008.68},{"$f":"'Datos mensuales'!BK275","v":2939.52},{"$f":"'Datos mensuales'!BL275","v":1379.32}]
[null,"agosto",{"$f":"'Datos mensuales'!D276","v":5.2403840391230903},{"$f":"'Datos mensuales'!E276","v":2},{"$f":"'Datos mensuales'!F276","v":3.1099999999999879},{"$f":"'Datos mensuales'!G276","v":1.6923789975501571},{"$f":"'Datos mensuales'!I276","v":-0.50050050050050054},{"$f":"'Datos mensuales'!J276","v":4.5679380214541014},{"$f":"'Datos mensuales'!H276","v":2.6000000000000063},null,{"$f":"'Datos mensuales'!AW276","v":0.43225999999999998},{"$f":"'Datos mensuales'!AX276","v":0.33},{"$f":"'Datos mensuales'!AY276","v":0.19},{"$f":"'Datos mensuales'!AU276","v":0.71753},{"$f":"'Datos mensuales'!AV276","v":0.14000000000000001},{"$f":"'Datos mensuales'!AZ276","v":1.68},{"$f":"'Datos mensuales'!BA276","v":1.91},{"$f":"'Datos mensuales'!BB276","v":0.81289999999999996},null,{"$f":"'Datos mensuales'!BC276","v":61.3},{"$f":"'Datos mensuales'!BD276","v":46.5},{"$f":"'Datos mensuales'!BE276","v":71.099999999999994},null,{"$f":"'Datos mensuales'!T276","v":94.13},{"$f":"'Datos mensuales'!U276","v":113.36},{"$f":"'Datos mensuales'!W276","v":1626.0341000000001},{"$f":"'Datos mensuales'!AA276","v":349.4},{"$f":"'Datos mensuales'!Z276","v":174.82},{"$f":"'Datos mensuales'!AC276","v":332.17},{"$f":"'Datos mensuales'!AD276","v":582.86956521739125},null,{"$f":"'Datos mensuales'!AQ276","v":1.239916},{"$f":"'Datos mensuales'!AR276","v":78.711049000000003},{"$f":"'Datos mensuales'!AO276","v":6.3613419999999996},{"$f":"'Datos mensuales'!AP276","v":1804.7576879999999},{"$f":"'Datos mensuales'!AN276","v":0.99263400000000002},{"$f":"'Datos mensuales'!AS276","v":13.167642000000001},null,{"$f":"'Datos mensuales'!BJ276","v":13090.84},{"$f":"'Datos mensuales'!BK276","v":3066.97},{"$f":"'Datos mensuales'!BL276","v":1406.58}]
[null,"septiembre",{"$f":"'Datos mensuales'!D277","v":5.2822033772001742},{"$f":"'Datos mensuales'!E277","v":1.9000000000000057},{"$f":"'Datos mensuales'!F277","v":3.0799999999999907},{"$f":"'Datos mensuales'!G277","v":1.9912820806649949},{"$f":"'Datos mensuales'!I277","v":-0.30030030030031168},{"$f":"'Datos mensuales'!J277","v":4.7684886917564864},{"$f":"'Datos mensuales'!H277","v":2.5999999999999988},null,{"$f":"'Datos mensuales'!AW277","v":0.37197999999999998},{"$f":"'Datos mensuales'!AX277","v":0.25},{"$f":"'Datos mensuales'!AY277","v":0.19},{"$f":"'Datos mensuales'!AU277","v":0.67168000000000005},{"$f":"'Datos mensuales'!AV277","v":0.14000000000000001},{"$f":"'Datos mensuales'!AZ277","v":1.72},{"$f":"'Datos mensuales'!BA277","v":1.94},{"$f":"'Datos mensuales'!BB277","v":0.78010000000000002},null,{"$f":"'Datos mensuales'!BC277","v":68.400000000000006},{"$f":"'Datos mensuales'!BD277","v":48.7},{"$f":"'Datos mensuales'!BE277","v":81.5},null,{"$f":"'Datos mensuales'!T277","v":94.51},{"$f":"'Datos mensuales'!U277","v":112.86},{"$f":"'Datos mensuales'!W277","v":1744.45},{"$f":"'Datos mensuales'!AA277","v":353.42},{"$f":"'Datos mensuales'!Z277","v":178.98},{"$f":"'Datos mensuales'!AC277","v":320.72000000000003},{"$f":"'Datos mensuales'!AD277","v":590.5},null,{"$f":"'Datos mensuales'!AQ277","v":1.286853},{"$f":"'Datos mensuales'!AR277","v":78.177893999999995},{"$f":"'Datos mensuales'!AO277","v":6.3219409999999998},{"$f":"'Datos mensuales'!AP277","v":1801.477654},{"$f":"'Datos mensuales'!AN277","v":0.97891600000000001},{"$f":"'Datos mensuales'!AS277","v":12.932541000000001},null,{"$f":"'Datos mensuales'!BJ277","v":13437.13},{"$f":"'Datos mensuales'!BK277","v":3116.23},{"$f":"'Datos mensuales'!BL277","v":1440.67}]
[null,"octubre",{"$f":"'Datos mensuales'!D278","v":5.4498290435938799},{"$f":"'Datos mensuales'!E278","v":1.7000000000000028},{"$f":"'Datos mensuales'!F278","v":3.0599999999999907},{"$f":"'Datos mensuales'!G278","v":2.1623435988711361},{"$f":"'Datos mensuales'!I278","v":-0.40000000000000563},{"$f":"'Datos mensuales'!J278","v":4.5960947956853806},{"$f":"'Datos mensuales'!H278","v":2.4999999999999876},null,{"$f":"'Datos mensuales'!AW278","v":0.33050000000000002},{"$f":"'Datos mensuales'!AX278","v":0.21},{"$f":"'Datos mensuales'!AY278","v":0.19},{"$f":"'Datos mensuales'!AU278","v":0.58230000000000004},{"$f":"'Datos mensuales'!AV278","v":0.15},{"$f":"'Datos mensuales'!AZ278","v":1.75},{"$f":"'Datos mensuales'!BA278","v":1.95},{"$f":"'Datos mensuales'!BB278","v":0.78390000000000004},null,{"$f":"'Datos mensuales'!BC278","v":49.9},{"$f":"'Datos mensuales'!BD278","v":23.5},{"$f":"'Datos mensuales'!BE278","v":67.5},null,{"$f":"'Datos mensuales'!T278","v":89.491304347826073},{"$f":"'Datos mensuales'!U278","v":111.71086956521739},{"$f":"'Datos mensuales'!W278","v":1747.0109},{"$f":"'Datos mensuales'!AA278","v":358.2},{"$f":"'Datos mensuales'!Z278","v":173.32},{"$f":"'Datos mensuales'!AC278","v":321.63},{"$f":"'Datos mensuales'!AD278","v":584.73913043478262},null,{"$f":"'Datos mensuales'!AQ278","v":1.297785},{"$f":"'Datos mensuales'!AR278","v":78.986170000000001},{"$f":"'Datos mensuales'!AO278","v":6.27332},{"$f":"'Datos mensuales'!AP278","v":1805.396438},{"$f":"'Datos mensuales'!AN278","v":0.98690500000000003},{"$f":"'Datos mensuales'!AS278","v":12.894469000000001},null,{"$f":"'Datos mensuales'!BJ278","v":13096.46},{"$f":"'Datos mensuales'!BK278","v":2977.23},{"$f":"'Datos mensuales'!BL278","v":1412.16}]
[null,"noviembre",{"$f":"'Datos mensuales'!D279","v":5.5338372505019366},{"$f":"'Datos mensuales'!E279","v":2},{"$f":"'Datos mensuales'!F279","v":2.7700000000000022},{"$f":"'Datos mensuales'!G279","v":1.7999999999999956},{"$f":"'Datos mensuales'!I279","v":-0.20120724346076743},{"$f":"'Datos mensuales'!J279","v":4.1798514220062959},{"$f":"'Datos mensuales'!H279","v":2.219298245614036},null,{"$f":"'Datos mensuales'!AW279","v":0.31102000000000002},{"$f":"'Datos mensuales'!AX279","v":0.19},{"$f":"'Datos mensuales'!AY279","v":0.19},{"$f":"'Datos mensuales'!AU279","v":0.52834999999999999},{"$f":"'Datos mensuales'!AV279","v":0.14000000000000001},{"$f":"'Datos mensuales'!AZ279","v":1.65},{"$f":"'Datos mensuales'!BA279","v":1.8},{"$f":"'Datos mensuales'!BB279","v":0.74050000000000005},null,{"$f":"'Datos mensuales'!BC279","v":54.1},{"$f":"'Datos mensuales'!BD279","v":24},{"$f":"'Datos mensuales'!BE279","v":74.2},null,{"$f":"'Datos mensuales'!T279","v":86.53},{"$f":"'Datos mensuales'!U279","v":109.06},{"$f":"'Datos mensuales'!W279","v":1721.1364000000001},{"$f":"'Datos mensuales'!AA279","v":361},{"$f":"'Datos mensuales'!Z279","v":159.91},{"$f":"'Datos mensuales'!AC279","v":321.54000000000002},{"$f":"'Datos mensuales'!AD279","v":590.72727272727275},null,{"$f":"'Datos mensuales'!AQ279","v":1.282848},{"$f":"'Datos mensuales'!AR279","v":81.005720999999994},{"$f":"'Datos mensuales'!AO279","v":6.2393270000000003},{"$f":"'Datos mensuales'!AP279","v":1820.8119549999999},{"$f":"'Datos mensuales'!AN279","v":0.98999599999999999},{"$f":"'Datos mensuales'!AS279","v":13.073363000000001},null,{"$f":"'Datos mensuales'!BJ279","v":13025.58},{"$f":"'Datos mensuales'!BK279","v":3010.24},{"$f":"'Datos mensuales'!BL279","v":1416.18}]
[null,"diciembre",{"$f":"'Datos mensuales'!D280","v":5.8385947181474451},{"$f":"'Datos mensuales'!E280","v":2.5},{"$f":"'Datos mensuales'!F280","v":2.4400000000000035},{"$f":"'Datos mensuales'!G280","v":1.6999999999999849},{"$f":"'Datos mensuales'!I280","v":-0.10060362173039086},{"$f":"'Datos mensuales'!J280","v":3.5700000000000016},{"$f":"'Datos mensuales'!H280","v":2.1999999999999984},null,{"$f":"'Datos mensuales'!AW280","v":0.3095},{"$f":"'Datos mensuales'!AX280","v":0.19},{"$f":"'Datos mensuales'!AY280","v":0.18},{"$f":"'Datos mensuales'!AU280","v":0.51490000000000002},{"$f":"'Datos mensuales'!AV280","v":0.12},{"$f":"'Datos mensuales'!AZ280","v":1.72},{"$f":"'Datos mensuales'!BA280","v":1.72},{"$f":"'Datos mensuales'!BB280","v":0.83550000000000002},null,{"$f":"'Datos mensuales'!BC280","v":64.599999999999994},{"$f":"'Datos mensuales'!BD280","v":66.7},{"$f":"'Datos mensuales'!BE280","v":68.099999999999994},null,{"$f":"'Datos mensuales'!T280","v":87.859500000000011},{"$f":"'Datos mensuales'!U280","v":109.494},{"$f":"'Datos mensuales'!W280","v":1688.5293999999999},{"$f":"'Datos mensuales'!AA280","v":347.9},{"$f":"'Datos mensuales'!Z280","v":152.74},{"$f":"'Datos mensuales'!AC280","v":308.7},{"$f":"'Datos mensuales'!AD280","v":565.52380952380952},null,{"$f":"'Datos mensuales'!AQ280","v":1.311272},{"$f":"'Datos mensuales'!AR280","v":83.805363},{"$f":"'Datos mensuales'!AO280","v":6.2355660000000004},{"$f":"'Datos mensuales'!AP280","v":1792.146291},{"$f":"'Datos mensuales'!AN280","v":0.99059200000000003},{"$f":"'Datos mensuales'!AS280","v":12.881966},null,{"$f":"'Datos mensuales'!BJ280","v":13104.14},{"$f":"'Datos mensuales'!BK280","v":3019.51},{"$f":"'Datos mensuales'!BL280","v":1426.19}]
[2013,"enero",{"$f":"'Datos mensuales'!D281","v":6.1543360825525406},{"$f":"'Datos mensuales'!E281","v":3.5},{"$f":"'Datos mensuales'!F281","v":2.000000000000004},{"$f":"'Datos mensuales'!G281","v":1.5948646681225638},{"$f":"'Datos mensuales'!I281","v":-0.30120481927710557},{"$f":"'Datos mensuales'!J281","v":3.2545740477925578},{"$f":"'Datos mensuales'!H281","v":2.0000000000000044},null,{"$f":"'Datos mensuales'!AW281","v":0.30260999999999999},{"$f":"'Datos mensuales'!AX281","v":0.2},{"$f":"'Datos mensuales'!AY281","v":0.17},{"$f":"'Datos mensuales'!AU281","v":0.48809999999999998},{"$f":"'Datos mensuales'!AV281","v":0.1075},{"$f":"'Datos mensuales'!AZ281","v":1.91},{"$f":"'Datos mensuales'!BA281","v":2.02},{"$f":"'Datos mensuales'!BB281","v":0.79810000000000003},null,{"$f":"'Datos mensuales'!BC281","v":58.4},{"$f":"'Datos mensuales'!BD281","v":56.2},{"$f":"'Datos mensuales'!BE281","v":59.9},null,{"$f":"'Datos mensuales'!T281","v":94.76},{"$f":"'Datos mensuales'!U281","v":112.96},{"$f":"'Datos mensuales'!W281","v":1670.9545000000001},{"$f":"'Datos mensuales'!AA281","v":335.5},{"$f":"'Datos mensuales'!Z281","v":157.29},{"$f":"'Datos mensuales'!AC281","v":303.28522414965983},{"$f":"'Datos mensuales'!AD281","v":573.39130434782612},null,{"$f":"'Datos mensuales'!AQ281","v":1.330433},{"$f":"'Datos mensuales'!AR281","v":89.19162},{"$f":"'Datos mensuales'!AO281","v":6.2243620000000002},{"$f":"'Datos mensuales'!AP281","v":1770.638385},{"$f":"'Datos mensuales'!AN281","v":0.99248400000000003},{"$f":"'Datos mensuales'!AS281","v":12.698509},null,{"$f":"'Datos mensuales'!BJ281","v":13860.58},{"$f":"'Datos mensuales'!BK281","v":3142.13},{"$f":"'Datos mensuales'!BL281","v":1498.11}]
[null,"febrero",{"$f":"'Datos mensuales'!D282","v":6.3129146440423511},{"$f":"'Datos mensuales'!E282","v":4.6384999999999934},{"$f":"'Datos mensuales'!F282","v":1.8300000000000014},{"$f":"'Datos mensuales'!G282","v":1.9779235097490526},{"$f":"'Datos mensuales'!I282","v":-0.60120240480961362},{"$f":"'Datos mensuales'!J282","v":3.5522890828357099},{"$f":"'Datos mensuales'!H282","v":1.7999999999999974},null,{"$f":"'Datos mensuales'!AW282","v":0.29049999999999998},{"$f":"'Datos mensuales'!AX282","v":0.22},{"$f":"'Datos mensuales'!AY282","v":0.16},{"$f":"'Datos mensuales'!AU282","v":0.46343000000000001},{"$f":"'Datos mensuales'!AV282","v":0.12},{"$f":"'Datos mensuales'!AZ282","v":1.98},{"$f":"'Datos mensuales'!BA282","v":1.88},{"$f":"'Datos mensuales'!BB282","v":0.74209999999999998},null,{"$f":"'Datos mensuales'!BC282","v":68},{"$f":"'Datos mensuales'!BD282","v":61.4},{"$f":"'Datos mensuales'!BE282","v":72.400000000000006},null,{"$f":"'Datos mensuales'!T282","v":95.31},{"$f":"'Datos mensuales'!U282","v":116.02},{"$f":"'Datos mensuales'!W282","v":1627.5875000000001},{"$f":"'Datos mensuales'!AA282","v":318.92},{"$f":"'Datos mensuales'!Z282","v":149.46},{"$f":"'Datos mensuales'!AC282","v":302.50420068277316},{"$f":"'Datos mensuales'!AD282","v":574.06666666666672},null,{"$f":"'Datos mensuales'!AQ282","v":1.3356969999999999},{"$f":"'Datos mensuales'!AR282","v":93.073352999999997},{"$f":"'Datos mensuales'!AO282","v":6.2350310000000002},{"$f":"'Datos mensuales'!AP282","v":1792.3274240000001},{"$f":"'Datos mensuales'!AN282","v":1.0090699999999999},{"$f":"'Datos mensuales'!AS282","v":12.712196},null,{"$f":"'Datos mensuales'!BJ282","v":14054.49},{"$f":"'Datos mensuales'!BK282","v":3160.19},{"$f":"'Datos mensuales'!BL282","v":1514.68}]
[null,"marzo",{"$f":"'Datos mensuales'!D283","v":6.5887659233589106},{"$f":"'Datos mensuales'!E283","v":5.8791999999999973},{"$f":"'Datos mensuales'!F283","v":1.9099999999999906},{"$f":"'Datos mensuales'!G283","v":1.4999999999999845},{"$f":"'Datos mensuales'!I283","v":-0.89730807577267346},{"$f":"'Datos mensuales'!J283","v":4.2522667278778821},{"$f":"'Datos mensuales'!H283","v":1.6999999999999929},null,{"$f":"'Datos mensuales'!AW283","v":0.28189999999999998},{"$f":"'Datos mensuales'!AX283","v":0.21},{"$f":"'Datos mensuales'!AY283","v":0.16},{"$f":"'Datos mensuales'!AU283","v":0.44783000000000001},{"$f":"'Datos mensuales'!AV283","v":0.11},{"$f":"'Datos mensuales'!AZ283","v":1.96},{"$f":"'Datos mensuales'!BA283","v":1.76},{"$f":"'Datos mensuales'!BB283","v":0.69730000000000003},null,{"$f":"'Datos mensuales'!BC283","v":61.9},{"$f":"'Datos mensuales'!BD283","v":59.2},{"$f":"'Datos mensuales'!BE283","v":63.7},null,{"$f":"'Datos mensuales'!T283","v":92.94},{"$f":"'Datos mensuales'!U283","v":108.47},{"$f":"'Datos mensuales'!W283","v":1592.8625},{"$f":"'Datos mensuales'!AA283","v":309.92799364035079},{"$f":"'Datos mensuales'!Z283","v":149.78},{"$f":"'Datos mensuales'!AC283","v":309.49114459586463},{"$f":"'Datos mensuales'!AD283","v":564.52380952380952},null,{"$f":"'Datos mensuales'!AQ283","v":1.29623},{"$f":"'Datos mensuales'!AR283","v":94.760086000000001},{"$f":"'Datos mensuales'!AO283","v":6.216863},{"$f":"'Datos mensuales'!AP283","v":1812.395771},{"$f":"'Datos mensuales'!AN283","v":1.024019},{"$f":"'Datos mensuales'!AS283","v":12.499313000000001},null,{"$f":"'Datos mensuales'!BJ283","v":14578.54},{"$f":"'Datos mensuales'!BK283","v":3267.52},{"$f":"'Datos mensuales'!BL283","v":1569.19}]
[null,"abril ",{"$f":"'Datos mensuales'!D284","v":6.4935139842997422},{"$f":"'Datos mensuales'!E284","v":5.8816000000000059},{"$f":"'Datos mensuales'!F284","v":2.0093234443733143},{"$f":"'Datos mensuales'!G284","v":1.0630853814894485},{"$f":"'Datos mensuales'!I284","v":-0.69721115537848877},{"$f":"'Datos mensuales'!J284","v":4.6494224200790617},{"$f":"'Datos mensuales'!H284","v":1.2000000000000044},null,{"$f":"'Datos mensuales'!AW284","v":0.27714},{"$f":"'Datos mensuales'!AX284","v":0.21},{"$f":"'Datos mensuales'!AY284","v":0.16},{"$f":"'Datos mensuales'!AU284","v":0.43602000000000002},{"$f":"'Datos mensuales'!AV284","v":0.09},{"$f":"'Datos mensuales'!AZ284","v":1.76},{"$f":"'Datos mensuales'!BA284","v":1.55},{"$f":"'Datos mensuales'!BB284","v":0.75760000000000005},null,{"$f":"'Datos mensuales'!BC284","v":69},{"$f":"'Datos mensuales'!BD284","v":61},{"$f":"'Datos mensuales'!BE284","v":74.3},null,{"$f":"'Datos mensuales'!T284","v":92.02},{"$f":"'Datos mensuales'!U284","v":102.25},{"$f":"'Datos mensuales'!W284","v":1485.0833},{"$f":"'Datos mensuales'!AA284","v":308.74},{"$f":"'Datos mensuales'!Z284","v":149.81},{"$f":"'Datos mensuales'!AC284","v":280.27060554511269},{"$f":"'Datos mensuales'!AD284","v":553.72727272727275},null,{"$f":"'Datos mensuales'!AQ284","v":1.302513},{"$f":"'Datos mensuales'!AR284","v":97.927200999999997},{"$f":"'Datos mensuales'!AO284","v":6.18771},{"$f":"'Datos mensuales'!AP284","v":1830.331862},{"$f":"'Datos mensuales'!AN284","v":1.018519},{"$f":"'Datos mensuales'!AS284","v":12.196878},null,{"$f":"'Datos mensuales'!BJ284","v":14839.8},{"$f":"'Datos mensuales'!BK284","v":3328.79},{"$f":"'Datos mensuales'!BL284","v":1597.57}]
[null,"mayo",{"$f":"'Datos mensuales'!D285","v":6.5041351287665918},{"$f":"'Datos mensuales'!E285","v":5.1629999999999967},{"$f":"'Datos mensuales'!F285","v":1.9999999999999998},{"$f":"'Datos mensuales'!G285","v":1.3619650588516832},{"$f":"'Datos mensuales'!I285","v":-0.29970029970029688},{"$f":"'Datos mensuales'!J285","v":4.6314208991424337},{"$f":"'Datos mensuales'!H285","v":1.4000000000000072},null,{"$f":"'Datos mensuales'!AW285","v":0.27417000000000002},{"$f":"'Datos mensuales'!AX285","v":0.2},{"$f":"'Datos mensuales'!AY285","v":0.16},{"$f":"'Datos mensuales'!AU285","v":0.42137000000000002},{"$f":"'Datos mensuales'!AV285","v":0.08},{"$f":"'Datos mensuales'!AZ285","v":1.93},{"$f":"'Datos mensuales'!BA285","v":1.84},{"$f":"'Datos mensuales'!BB285","v":1.0538000000000001},null,{"$f":"'Datos mensuales'!BC285","v":74.3},{"$f":"'Datos mensuales'!BD285","v":64.8},{"$f":"'Datos mensuales'!BE285","v":80.599999999999994},null,{"$f":"'Datos mensuales'!T285","v":94.51},{"$f":"'Datos mensuales'!U285","v":102.56},{"$f":"'Datos mensuales'!W285","v":1413.5},{"$f":"'Datos mensuales'!AA285","v":319.11456958333332},{"$f":"'Datos mensuales'!Z285","v":147.19},{"$f":"'Datos mensuales'!AC285","v":295.29292276785714},{"$f":"'Datos mensuales'!AD285","v":552.08695652173913},null,{"$f":"'Datos mensuales'!AQ285","v":1.297779},{"$f":"'Datos mensuales'!AR285","v":101.022645},{"$f":"'Datos mensuales'!AO285","v":6.1429359999999997},{"$f":"'Datos mensuales'!AP285","v":1850.797793},{"$f":"'Datos mensuales'!AN285","v":1.0200800000000001},{"$f":"'Datos mensuales'!AS285","v":12.294669000000001},null,{"$f":"'Datos mensuales'!BJ285","v":15115.57},{"$f":"'Datos mensuales'!BK285","v":3455.91},{"$f":"'Datos mensuales'!BL285","v":1630.74}]
[null,"junio",{"$f":"'Datos mensuales'!D286","v":6.6959158358983863},{"$f":"'Datos mensuales'!E286","v":4.959399999999988},{"$f":"'Datos mensuales'!F286","v":2.1600000000000104},{"$f":"'Datos mensuales'!G286","v":1.7544165453768907},{"$f":"'Datos mensuales'!I286","v":0.20080321285140845},{"$f":"'Datos mensuales'!J286","v":4.088026212420238},{"$f":"'Datos mensuales'!H286","v":1.6000000000000076},null,{"$f":"'Datos mensuales'!AW286","v":0.27373999999999998},{"$f":"'Datos mensuales'!AX286","v":0.21},{"$f":"'Datos mensuales'!AY286","v":0.15},{"$f":"'Datos mensuales'!AU286","v":0.41399000000000002},{"$f":"'Datos mensuales'!AV286","v":0.09},{"$f":"'Datos mensuales'!AZ286","v":2.2999999999999998},{"$f":"'Datos mensuales'!BA286","v":2.14},{"$f":"'Datos mensuales'!BB286","v":1.024},null,{"$f":"'Datos mensuales'!BC286","v":82.1},{"$f":"'Datos mensuales'!BD286","v":68.7},{"$f":"'Datos mensuales'!BE286","v":91.1},null,{"$f":"'Datos mensuales'!T286","v":95.77},{"$f":"'Datos mensuales'!U286","v":102.92},{"$f":"'Datos mensuales'!W286","v":1342.3625},{"$f":"'Datos mensuales'!AA286","v":313.51533583333332},{"$f":"'Datos mensuales'!Z286","v":138.26},{"$f":"'Datos mensuales'!AC286","v":297.05778191964288},{"$f":"'Datos mensuales'!AD286","v":546.25},null,{"$f":"'Datos mensuales'!AQ286","v":1.3175699999999999},{"$f":"'Datos mensuales'!AR286","v":97.432698000000002},{"$f":"'Datos mensuales'!AO286","v":6.1373620000000004},{"$f":"'Datos mensuales'!AP286","v":1908.5430919999999},{"$f":"'Datos mensuales'!AN286","v":1.0323599999999999},{"$f":"'Datos mensuales'!AS286","v":12.948024},null,{"$f":"'Datos mensuales'!BJ286","v":14909.6},{"$f":"'Datos mensuales'!BK286","v":3403.25},{"$f":"'Datos mensuales'!BL286","v":1606.28}]
[null,"julio",{"$f":"'Datos mensuales'!D287","v":6.270692169139731},{"$f":"'Datos mensuales'!E287","v":4.5485999999999933},{"$f":"'Datos mensuales'!F287","v":2.2199999999999944},{"$f":"'Datos mensuales'!G287","v":1.9606816118443984},{"$f":"'Datos mensuales'!I287","v":0.70493454179255066},{"$f":"'Datos mensuales'!J287","v":3.4726191837191811},{"$f":"'Datos mensuales'!H287","v":1.6000000000000041},null,{"$f":"'Datos mensuales'!AW287","v":0.26757999999999998},{"$f":"'Datos mensuales'!AX287","v":0.22},{"$f":"'Datos mensuales'!AY287","v":0.16},{"$f":"'Datos mensuales'!AU287","v":0.40307999999999999},{"$f":"'Datos mensuales'!AV287","v":7.0000000000000007E-2},{"$f":"'Datos mensuales'!AZ287","v":2.58},{"$f":"'Datos mensuales'!BA287","v":1.95},{"$f":"'Datos mensuales'!BB287","v":1.0085},null,{"$f":"'Datos mensuales'!BC287","v":81},{"$f":"'Datos mensuales'!BD287","v":73.599999999999994},{"$f":"'Datos mensuales'!BE287","v":86},null,{"$f":"'Datos mensuales'!T287","v":104.67},{"$f":"'Datos mensuales'!U287","v":107.93},{"$f":"'Datos mensuales'!W287","v":1286.7239},{"$f":"'Datos mensuales'!AA287","v":304.67597875000001},{"$f":"'Datos mensuales'!Z287","v":138.38999999999999},{"$f":"'Datos mensuales'!AC287","v":278.92827187500001},{"$f":"'Datos mensuales'!AD287","v":538.26086956521738},null,{"$f":"'Datos mensuales'!AQ287","v":1.3077559999999999},{"$f":"'Datos mensuales'!AR287","v":99.730260999999999},{"$f":"'Datos mensuales'!AO287","v":6.1377750000000004},{"$f":"'Datos mensuales'!AP287","v":1900.077571},{"$f":"'Datos mensuales'!AN287","v":1.0407249999999999},{"$f":"'Datos mensuales'!AS287","v":12.770222},null,{"$f":"'Datos mensuales'!BJ287","v":15499.54},{"$f":"'Datos mensuales'!BK287","v":3626.37},{"$f":"'Datos mensuales'!BL287","v":1685.73}]
[null,"agosto",{"$f":"'Datos mensuales'!D288","v":6.0907620642133873},{"$f":"'Datos mensuales'!E288","v":5.0624999999999858},{"$f":"'Datos mensuales'!F288","v":2.2699999999999885},{"$f":"'Datos mensuales'!G288","v":1.5183675595431958},{"$f":"'Datos mensuales'!I288","v":0.90543259557343203},{"$f":"'Datos mensuales'!J288","v":3.4600000000000004},{"$f":"'Datos mensuales'!H288","v":1.2999999999999841},null,{"$f":"'Datos mensuales'!AW288","v":0.26334000000000002},{"$f":"'Datos mensuales'!AX288","v":0.23},{"$f":"'Datos mensuales'!AY288","v":0.16},{"$f":"'Datos mensuales'!AU288","v":0.39498},{"$f":"'Datos mensuales'!AV288","v":7.0000000000000007E-2},{"$f":"'Datos mensuales'!AZ288","v":2.74},{"$f":"'Datos mensuales'!BA288","v":2.17},{"$f":"'Datos mensuales'!BB288","v":0.93369999999999997},null,{"$f":"'Datos mensuales'!BC288","v":81.8},{"$f":"'Datos mensuales'!BD288","v":70.900000000000006},{"$f":"'Datos mensuales'!BE288","v":89},null,{"$f":"'Datos mensuales'!T288","v":106.57},{"$f":"'Datos mensuales'!U288","v":111.28},{"$f":"'Datos mensuales'!W288","v":1347.0952},{"$f":"'Datos mensuales'!AA288","v":305.490185},{"$f":"'Datos mensuales'!Z288","v":135.15},{"$f":"'Datos mensuales'!AC288","v":234.8895558035714},{"$f":"'Datos mensuales'!AD288","v":503.8235294117647},null,{"$f":"'Datos mensuales'!AQ288","v":1.3314919999999999},{"$f":"'Datos mensuales'!AR288","v":97.833687999999995},{"$f":"'Datos mensuales'!AO288","v":6.1220369999999997},{"$f":"'Datos mensuales'!AP288","v":1904.2727319999999},{"$f":"'Datos mensuales'!AN288","v":1.0404709999999999},{"$f":"'Datos mensuales'!AS288","v":12.897019},null,{"$f":"'Datos mensuales'!BJ288","v":14810.31},{"$f":"'Datos mensuales'!BK288","v":3589.87},{"$f":"'Datos mensuales'!BL288","v":1632.97}]
[null,"septiembre",{"$f":"'Datos mensuales'!D289","v":5.858620748231905},{"$f":"'Datos mensuales'!E289","v":5.0588999999999942},{"$f":"'Datos mensuales'!F289","v":2.2699999999999996},{"$f":"'Datos mensuales'!G289","v":1.1849252615521526},{"$f":"'Datos mensuales'!I289","v":1.0040160642570282},{"$f":"'Datos mensuales'!J289","v":3.3902953386985506},{"$f":"'Datos mensuales'!H289","v":1.0999999999999894},null,{"$f":"'Datos mensuales'!AW289","v":0.24110999999999999},{"$f":"'Datos mensuales'!AX289","v":0.22},{"$f":"'Datos mensuales'!AY289","v":0.15},{"$f":"'Datos mensuales'!AU289","v":0.38034000000000001},{"$f":"'Datos mensuales'!AV289","v":0.05},{"$f":"'Datos mensuales'!AZ289","v":2.81},{"$f":"'Datos mensuales'!BA289","v":2.0499999999999998},{"$f":"'Datos mensuales'!BB289","v":0.87719999999999998},null,{"$f":"'Datos mensuales'!BC289","v":79.7},{"$f":"'Datos mensuales'!BD289","v":73.2},{"$f":"'Datos mensuales'!BE289","v":84.1},null,{"$f":"'Datos mensuales'!T289","v":107.43800000000002},{"$f":"'Datos mensuales'!U289","v":112.57533333333332},{"$f":"'Datos mensuales'!W289","v":1350.3815789473683},{"$f":"'Datos mensuales'!AA289","v":307.50774633333339},{"$f":"'Datos mensuales'!Z289","v":132.28},{"$f":"'Datos mensuales'!AC289","v":207.40651593749993},{"$f":"'Datos mensuales'!AD289","v":470},null,{"$f":"'Datos mensuales'!AQ289","v":1.3355379999999999},{"$f":"'Datos mensuales'!AR289","v":99.120112000000006},{"$f":"'Datos mensuales'!AO289","v":6.1201309999999998},{"$f":"'Datos mensuales'!AP289","v":1920.0784510000001},{"$f":"'Datos mensuales'!AN289","v":1.035633},{"$f":"'Datos mensuales'!AS289","v":13.074903000000001},null,{"$f":"'Datos mensuales'!BJ289","v":15618.76},{"$f":"'Datos mensuales'!BK289","v":3930.62},{"$f":"'Datos mensuales'!BL289","v":1763.31}]
[null,"octubre",{"$f":"'Datos mensuales'!D290","v":5.8374848715134142},{"$f":"'Datos mensuales'!E290","v":4.9544000000000068},{"$f":"'Datos mensuales'!F290","v":1.8399999999999965},{"$f":"'Datos mensuales'!G290","v":0.96361270464340487},{"$f":"'Datos mensuales'!I290","v":1.1044176706827395},{"$f":"'Datos mensuales'!J290","v":3.3600000000000021},{"$f":"'Datos mensuales'!H290","v":0.69999999999999329},null,{"$f":"'Datos mensuales'!AW290","v":0.24177000000000001},{"$f":"'Datos mensuales'!AX290","v":0.23},{"$f":"'Datos mensuales'!AY290","v":0.15},{"$f":"'Datos mensuales'!AU290","v":0.36121999999999999},{"$f":"'Datos mensuales'!AV290","v":0.05},{"$f":"'Datos mensuales'!AZ290","v":2.62},{"$f":"'Datos mensuales'!BA290","v":1.95},{"$f":"'Datos mensuales'!BB290","v":0.75680000000000003},null,{"$f":"'Datos mensuales'!BC290","v":72.400000000000006},{"$f":"'Datos mensuales'!BD290","v":72.599999999999994},{"$f":"'Datos mensuales'!BE290","v":72.2},null,{"$f":"'Datos mensuales'!T290","v":101.04949999999999},{"$f":"'Datos mensuales'!U290","v":109.23899999999999},{"$f":"'Datos mensuales'!W290","v":1316.1847826086957},{"$f":"'Datos mensuales'!AA290","v":325.68667541666662},{"$f":"'Datos mensuales'!Z290","v":128.69999999999999},{"$f":"'Datos mensuales'!AC290","v":201.75225616071427},{"$f":"'Datos mensuales'!AD290","v":453.26086956521738},null,{"$f":"'Datos mensuales'!AQ290","v":1.3643179999999999},{"$f":"'Datos mensuales'!AR290","v":97.793898999999996},{"$f":"'Datos mensuales'!AO290","v":6.1045350000000003},{"$f":"'Datos mensuales'!AP290","v":1884.2854600000001},{"$f":"'Datos mensuales'!AN290","v":1.0359350000000001},{"$f":"'Datos mensuales'!AS290","v":12.983955},null,{"$f":"'Datos mensuales'!BJ290","v":15545.75},{"$f":"'Datos mensuales'!BK290","v":3919.71},{"$f":"'Datos mensuales'!BL290","v":1756.54}]
[null,"noviembre",{"$f":"'Datos mensuales'!D291","v":5.7744067237047618},{"$f":"'Datos mensuales'!E291","v":5.0600000000000023},{"$f":"'Datos mensuales'!F291","v":1.7661975543322859},{"$f":"'Datos mensuales'!G291","v":1.1999999999999957},{"$f":"'Datos mensuales'!I291","v":0.91185410334344708},{"$f":"'Datos mensuales'!J291","v":3.6186915887850466},{"$f":"'Datos mensuales'!H291","v":0.89999999999999181},null,{"$f":"'Datos mensuales'!AW291","v":0.23824999999999999},{"$f":"'Datos mensuales'!AX291","v":0.22},{"$f":"'Datos mensuales'!AY291","v":0.14000000000000001},{"$f":"'Datos mensuales'!AU291","v":0.35064000000000001},{"$f":"'Datos mensuales'!AV291","v":0.05},{"$f":"'Datos mensuales'!AZ291","v":2.72},{"$f":"'Datos mensuales'!BA291","v":1.99},{"$f":"'Datos mensuales'!BB291","v":0.7903},null,{"$f":"'Datos mensuales'!BC291","v":70.400000000000006},{"$f":"'Datos mensuales'!BD291","v":72},{"$f":"'Datos mensuales'!BE291","v":69.3},null,{"$f":"'Datos mensuales'!T291","v":94.074705882352916},{"$f":"'Datos mensuales'!U291","v":107.14176470588234},{"$f":"'Datos mensuales'!W291","v":1275.8214285714287},{"$f":"'Datos mensuales'!AA291","v":306.7516003508772},{"$f":"'Datos mensuales'!Z291","v":122.02},{"$f":"'Datos mensuales'!AC291","v":199.13582391917294},{"$f":"'Datos mensuales'!AD291","v":448.8095238095238},null,{"$f":"'Datos mensuales'!AQ291","v":1.349056},{"$f":"'Datos mensuales'!AR291","v":100.145934},{"$f":"'Datos mensuales'!AO291","v":6.093928},{"$f":"'Datos mensuales'!AP291","v":1922.3106359999999},{"$f":"'Datos mensuales'!AN291","v":1.0488310000000001},{"$f":"'Datos mensuales'!AS291","v":13.065780999999999},null,{"$f":"'Datos mensuales'!BJ291","v":16086.41},{"$f":"'Datos mensuales'!BK291","v":4059.89},{"$f":"'Datos mensuales'!BL291","v":1805.81}]
[null,"diciembre",{"$f":"'Datos mensuales'!D292","v":5.9106832553310751},{"$f":"'Datos mensuales'!E292","v":5.0624999999999858},{"$f":"'Datos mensuales'!F292","v":1.9400000000000119},{"$f":"'Datos mensuales'!G292","v":1.4999999999999842},{"$f":"'Datos mensuales'!I292","v":1.6112789526686895},{"$f":"'Datos mensuales'!J292","v":3.970000000000002},{"$f":"'Datos mensuales'!H292","v":0.79999999999999638},null,{"$f":"'Datos mensuales'!AW292","v":0.24390000000000001},{"$f":"'Datos mensuales'!AX292","v":0.27},{"$f":"'Datos mensuales'!AY292","v":0.15},{"$f":"'Datos mensuales'!AU292","v":0.34639999999999999},{"$f":"'Datos mensuales'!AV292","v":0.05},{"$f":"'Datos mensuales'!AZ292","v":2.9},{"$f":"'Datos mensuales'!BA292","v":2.2400000000000002},{"$f":"'Datos mensuales'!BB292","v":0.94679999999999997},null,{"$f":"'Datos mensuales'!BC292","v":77.5},{"$f":"'Datos mensuales'!BD292","v":75.3},{"$f":"'Datos mensuales'!BE292","v":79},null,{"$f":"'Datos mensuales'!T292","v":97.625238095238103},{"$f":"'Datos mensuales'!U292","v":110.75666666666666},{"$f":"'Datos mensuales'!W292","v":1225.4028000000001},{"$f":"'Datos mensuales'!AA292","v":291.55662075396822},{"$f":"'Datos mensuales'!Z292","v":125.97},{"$f":"'Datos mensuales'!AC292","v":197.4972083333333},{"$f":"'Datos mensuales'!AD292","v":447.54545454545456},null,{"$f":"'Datos mensuales'!AQ292","v":1.370576},{"$f":"'Datos mensuales'!AR292","v":103.555729},{"$f":"'Datos mensuales'!AO292","v":6.0736369999999997},{"$f":"'Datos mensuales'!AP292","v":1932.6848339999999},{"$f":"'Datos mensuales'!AN292","v":1.0640559999999999},{"$f":"'Datos mensuales'!AS292","v":13.002203},null,{"$f":"'Datos mensuales'!BJ292","v":16576.66},{"$f":"'Datos mensuales'!BK292","v":4176.59},{"$f":"'Datos mensuales'!BL292","v":1848.36}]
[2014,"enero",{"$f":"'Datos mensuales'!D293","v":5.58534061385354},{"$f":"'Datos mensuales'!E293","v":2.5},{"$f":"'Datos mensuales'!F293","v":2.1300000000000066},{"$f":"'Datos mensuales'!G293","v":1.6000000000000034},{"$f":"'Datos mensuales'!I293","v":1.4098690835851013},{"$f":"'Datos mensuales'!J293","v":4.4828098590241261},{"$f":"'Datos mensuales'!H293","v":0.79999999999999738},null,{"$f":"'Datos mensuales'!AW293","v":0.23823},{"$f":"'Datos mensuales'!AX293","v":0.28999999999999998},{"$f":"'Datos mensuales'!AY293","v":0.14000000000000001},{"$f":"'Datos mensuales'!AU293","v":0.33795999999999998},{"$f":"'Datos mensuales'!AV293","v":7.0000000000000007E-2},{"$f":"'Datos mensuales'!AZ293","v":2.86},{"$f":"'Datos mensuales'!BA293","v":1.89},{"$f":"'Datos mensuales'!BB293","v":0.82289999999999996},null,{"$f":"'Datos mensuales'!BC293","v":79.400000000000006},{"$f":"'Datos mensuales'!BD293","v":77.3},{"$f":"'Datos mensuales'!BE293","v":80.8},null,{"$f":"'Datos mensuales'!T293","v":94.62},{"$f":"'Datos mensuales'!U293","v":108.12},{"$f":"'Datos mensuales'!W293","v":1300.9749999999999},{"$f":"'Datos mensuales'!AA293","v":275.5337575396826},{"$f":"'Datos mensuales'!Z293","v":132.72999999999999},{"$f":"'Datos mensuales'!AC293","v":198.71574829931973},{"$f":"'Datos mensuales'!AD293","v":441.04347826086956},null,{"$f":"'Datos mensuales'!AQ293","v":1.362031},{"$f":"'Datos mensuales'!AR293","v":103.853908},{"$f":"'Datos mensuales'!AO293","v":6.0509649999999997},{"$f":"'Datos mensuales'!AP293","v":1961.295901},{"$f":"'Datos mensuales'!AN293","v":1.09202},{"$f":"'Datos mensuales'!AS293","v":13.211736999999999},null,{"$f":"'Datos mensuales'!BJ293","v":15698.85},{"$f":"'Datos mensuales'!BK293","v":4103.88},{"$f":"'Datos mensuales'!BL293","v":1782.59}]
[null,"febrero",{"$f":"'Datos mensuales'!D294","v":5.679517624013755},{"$f":"'Datos mensuales'!E294","v":2},{"$f":"'Datos mensuales'!F294","v":2.3200000000000158},{"$f":"'Datos mensuales'!G294","v":1.0999999999999943},{"$f":"'Datos mensuales'!I294","v":1.5120967741935483},{"$f":"'Datos mensuales'!J294","v":4.2344373798610153},{"$f":"'Datos mensuales'!H294","v":0.6999999999999913},null,{"$f":"'Datos mensuales'!AW294","v":0.23519999999999999},{"$f":"'Datos mensuales'!AX294","v":0.28999999999999998},{"$f":"'Datos mensuales'!AY294","v":0.14000000000000001},{"$f":"'Datos mensuales'!AU294","v":0.33079999999999998},{"$f":"'Datos mensuales'!AV294","v":0.08},{"$f":"'Datos mensuales'!AZ294","v":2.71},{"$f":"'Datos mensuales'!BA294","v":1.88},{"$f":"'Datos mensuales'!BB294","v":0.80759999999999998},null,{"$f":"'Datos mensuales'!BC294","v":78.3},{"$f":"'Datos mensuales'!BD294","v":81.7},{"$f":"'Datos mensuales'!BE294","v":76.5},null,{"$f":"'Datos mensuales'!T294","v":100.32187500000001},{"$f":"'Datos mensuales'!U294","v":108.8673333},{"$f":"'Datos mensuales'!W294","v":1327.125},{"$f":"'Datos mensuales'!AA294","v":292.26686017543858},{"$f":"'Datos mensuales'!Z294","v":173.64},{"$f":"'Datos mensuales'!AC294","v":209.32493937969923},{"$f":"'Datos mensuales'!AD294","v":447},null,{"$f":"'Datos mensuales'!AQ294","v":1.3657840000000001},{"$f":"'Datos mensuales'!AR294","v":102.14137700000001},{"$f":"'Datos mensuales'!AO294","v":6.0784320000000003},{"$f":"'Datos mensuales'!AP294","v":2038.394992},{"$f":"'Datos mensuales'!AN294","v":1.105469},{"$f":"'Datos mensuales'!AS294","v":13.286837999999999},null,{"$f":"'Datos mensuales'!BJ294","v":16321.71},{"$f":"'Datos mensuales'!BK294","v":4308.12},{"$f":"'Datos mensuales'!BL294","v":1859.45}]
[null,"marzo",{"$f":"'Datos mensuales'!D295","v":6.1528910091982958},{"$f":"'Datos mensuales'!E295","v":2.3089999999999975},{"$f":"'Datos mensuales'!F295","v":2.5099999999999905},{"$f":"'Datos mensuales'!G295","v":1.4999999999999936},{"$f":"'Datos mensuales'!I295","v":1.609657947686111},{"$f":"'Datos mensuales'!J295","v":3.7586466303370663},{"$f":"'Datos mensuales'!H295","v":0.4999999999999844},null,{"$f":"'Datos mensuales'!AW295","v":0.2341},{"$f":"'Datos mensuales'!AX295","v":0.31},{"$f":"'Datos mensuales'!AY295","v":0.14000000000000001},{"$f":"'Datos mensuales'!AU295","v":0.33106999999999998},{"$f":"'Datos mensuales'!AV295","v":0.08},{"$f":"'Datos mensuales'!AZ295","v":2.72},{"$f":"'Datos mensuales'!BA295","v":1.82},{"$f":"'Datos mensuales'!BB295","v":0.83889999999999998},null,{"$f":"'Datos mensuales'!BC295","v":83.9},{"$f":"'Datos mensuales'!BD295","v":82.5},{"$f":"'Datos mensuales'!BE295","v":84.8},null,{"$f":"'Datos mensuales'!T295","v":100.75375},{"$f":"'Datos mensuales'!U295","v":107.81375},{"$f":"'Datos mensuales'!W295","v":1292.875},{"$f":"'Datos mensuales'!AA295","v":323.55423047619041},{"$f":"'Datos mensuales'!Z295","v":214.09},{"$f":"'Datos mensuales'!AC295","v":222.33199017857137},{"$f":"'Datos mensuales'!AD295","v":434.14285714285717},null,{"$f":"'Datos mensuales'!AQ295","v":1.382771},{"$f":"'Datos mensuales'!AR295","v":102.335055},{"$f":"'Datos mensuales'!AO295","v":6.1730020000000003},{"$f":"'Datos mensuales'!AP295","v":2017.7256259999999},{"$f":"'Datos mensuales'!AN295","v":1.110684},{"$f":"'Datos mensuales'!AS295","v":13.193948000000001},null,{"$f":"'Datos mensuales'!BJ295","v":16323.06},{"$f":"'Datos mensuales'!BK295","v":4198.99},{"$f":"'Datos mensuales'!BL295","v":1872.34}]
[null,"abril ",{"$f":"'Datos mensuales'!D296","v":6.279552187877445},{"$f":"'Datos mensuales'!E296","v":1.7999999999999972},{"$f":"'Datos mensuales'!F296","v":2.7199999999999842},{"$f":"'Datos mensuales'!G296","v":2.0000000000000013},{"$f":"'Datos mensuales'!I296","v":3.4102306920762202},{"$f":"'Datos mensuales'!J296","v":3.499999999999996},{"$f":"'Datos mensuales'!H296","v":0.69999999999999074},null,{"$f":"'Datos mensuales'!AW296","v":0.22735},{"$f":"'Datos mensuales'!AX296","v":0.33},{"$f":"'Datos mensuales'!AY296","v":0.14000000000000001},{"$f":"'Datos mensuales'!AU296","v":0.32382},{"$f":"'Datos mensuales'!AV296","v":0.05},{"$f":"'Datos mensuales'!AZ296","v":2.71},{"$f":"'Datos mensuales'!BA296","v":1.72},{"$f":"'Datos mensuales'!BB296","v":0.8054},null,{"$f":"'Datos mensuales'!BC296","v":82.3},{"$f":"'Datos mensuales'!BD296","v":80.3},{"$f":"'Datos mensuales'!BE296","v":83.5},null,{"$f":"'Datos mensuales'!T296","v":102.46285714285713},{"$f":"'Datos mensuales'!U296","v":107.06285714285715},{"$f":"'Datos mensuales'!W296","v":1290.25},{"$f":"'Datos mensuales'!AA296","v":324.93211797619045},{"$f":"'Datos mensuales'!Z296","v":223.48},{"$f":"'Datos mensuales'!AC296","v":222.36011033163265},{"$f":"'Datos mensuales'!AD296","v":409.94117647058823},null,{"$f":"'Datos mensuales'!AQ296","v":1.380905},{"$f":"'Datos mensuales'!AR296","v":102.437209},{"$f":"'Datos mensuales'!AO296","v":6.2260499999999999},{"$f":"'Datos mensuales'!AP296","v":1937.212084},{"$f":"'Datos mensuales'!AN296","v":1.0996159999999999},{"$f":"'Datos mensuales'!AS296","v":13.065564999999999},null,{"$f":"'Datos mensuales'!BJ296","v":16580.84},{"$f":"'Datos mensuales'!BK296","v":4114.5600000000004},{"$f":"'Datos mensuales'!BL296","v":1883.95}]
[null,"mayo",{"$f":"'Datos mensuales'!D297","v":6.3748556504095752},{"$f":"'Datos mensuales'!E297","v":2.519999999999996},{"$f":"'Datos mensuales'!F297","v":2.9300000000000148},{"$f":"'Datos mensuales'!G297","v":2.0999999999999956},{"$f":"'Datos mensuales'!I297","v":3.7074148296593217},{"$f":"'Datos mensuales'!J297","v":3.5102243563208901},{"$f":"'Datos mensuales'!H297","v":0.4999999999999849},null,{"$f":"'Datos mensuales'!AW297","v":0.22609000000000001},{"$f":"'Datos mensuales'!AX297","v":0.32},{"$f":"'Datos mensuales'!AY297","v":0.14000000000000001},{"$f":"'Datos mensuales'!AU297","v":0.32312000000000002},{"$f":"'Datos mensuales'!AV297","v":0.05},{"$f":"'Datos mensuales'!AZ297","v":2.56},{"$f":"'Datos mensuales'!BA297","v":1.56},{"$f":"'Datos mensuales'!BB297","v":0.75439999999999996},null,{"$f":"'Datos mensuales'!BC297","v":85.2},{"$f":"'Datos mensuales'!BD297","v":85.1},{"$f":"'Datos mensuales'!BE297","v":85.2},null,{"$f":"'Datos mensuales'!T297","v":101.05846153846154},{"$f":"'Datos mensuales'!U297","v":109.15461538461538},{"$f":"'Datos mensuales'!W297","v":1252.25},{"$f":"'Datos mensuales'!AA297","v":334.74792607142859},{"$f":"'Datos mensuales'!Z297","v":214.2},{"$f":"'Datos mensuales'!AC297","v":216.92354740646255},{"$f":"'Datos mensuales'!AD297","v":403.59090909090907},null,{"$f":"'Datos mensuales'!AQ297","v":1.3731709999999999},{"$f":"'Datos mensuales'!AR297","v":101.80688600000001},{"$f":"'Datos mensuales'!AO297","v":6.2390610000000004},{"$f":"'Datos mensuales'!AP297","v":1915.2974549999999},{"$f":"'Datos mensuales'!AN297","v":1.0893550000000001},{"$f":"'Datos mensuales'!AS297","v":12.928070999999999},null,{"$f":"'Datos mensuales'!BJ297","v":16717.169999999998},{"$f":"'Datos mensuales'!BK297","v":4242.62},{"$f":"'Datos mensuales'!BL297","v":1923.57}]
[null,"junio"]
[null,"julio"]
[null,"agosto"]
[null,"septiembre"]
[null,"octubre"]
[null,"noviembre"]
[null,"diciembre"]

{"sheet":"Series Trimestrales","index":12,"n_rows":83,"n_cols":9,"rows_kept":83,"cut":false,"hidden":false,"merged":[[19,0,22,0],[27,0,30,0],[31,0,34,0],[35,0,38,0],[39,0,42,0],[23,0,26,0],[43,0,46,0],[79,0,82,0],[0,2,1,8],[3,0,6,0],[7,0,10,0],[11,0,14,0],[15,0,18,0],[71,0,74,0],[75,0,78,0],[0,0,1,1],[47,0,50,0],[51,0,54,0],[55,0,58,0],[59,0,62,0],[63,0,66,0],[67,0,70,0]]}
["Series Históricas Trimestrales",null,"Tasas de Crecimiento del PIB Trimestral a precios constantes"]
[]
[null,null,"Estados Unidos","EuroZona","China","Japón","Colombia","Brasil","México"]
[1995,"I",{"$f":"'Datos trimestrales'!F5","v":"n.d."},{"$f":"'Datos trimestrales'!G5","v":"n.d."},{"$f":"'Datos trimestrales'!D5","v":"n.d."},{"$f":"'Datos trimestrales'!H5","v":"n.d."},{"$f":"'Datos trimestrales'!E5","v":"n.d."},null,{"$f":"'Datos trimestrales'!I5","v":"n.d."}]
[null,"II",{"$f":"'Datos trimestrales'!F6","v":"n.d."},{"$f":"'Datos trimestrales'!G6","v":"n.d."},{"$f":"'Datos trimestrales'!D6","v":"n.d."},{"$f":"'Datos trimestrales'!H6","v":"n.d."},{"$f":"'Datos trimestrales'!E6","v":"n.d."},null,{"$f":"'Datos trimestrales'!I6","v":"n.d."}]
[null,"III",{"$f":"'Datos trimestrales'!F7","v":"n.d."},{"$f":"'Datos trimestrales'!G7","v":"n.d."},{"$f":"'Datos trimestrales'!D7","v":"n.d."},{"$f":"'Datos trimestrales'!H7","v":"n.d."},{"$f":"'Datos trimestrales'!E7","v":"n.d."},null,{"$f":"'Datos trimestrales'!I7","v":"n.d."}]
[null,"IV",{"$f":"'Datos trimestrales'!F8","v":"n.d."},{"$f":"'Datos trimestrales'!G8","v":"n.d."},{"$f":"'Datos trimestrales'!D8","v":"n.d."},{"$f":"'Datos trimestrales'!H8","v":"n.d."},{"$f":"'Datos trimestrales'!E8","v":"n.d."},"n.d.",{"$f":"'Datos trimestrales'!I8","v":"n.d."}]
[1996,"I",{"$f":"'Datos trimestrales'!F9","v":2.5953016603975825},{"$f":"'Datos trimestrales'!G9","v":1.2454578620208749},{"$f":"'Datos trimestrales'!D9","v":"n.d."},{"$f":"'Datos trimestrales'!H9","v":3.285449993565468},{"$f":"'Datos trimestrales'!E9","v":"n.d."},"n.d.",{"$f":"'Datos trimestrales'!I9","v":1.6405059108849622}]
[null,"II",{"$f":"'Datos trimestrales'!F10","v":4.0233011245067232},{"$f":"'Datos trimestrales'!G10","v":1.4013683994083403},{"$f":"'Datos trimestrales'!D10","v":"n.d."},{"$f":"'Datos trimestrales'!H10","v":2.2510707556798399},{"$f":"'Datos trimestrales'!E10","v":"n.d."},"n.d.",{"$f":"'Datos trimestrales'!I10","v":6.7027465274333284}]
[null,"III",{"$f":"'Datos trimestrales'!F11","v":4.0940604253900386},{"$f":"'Datos trimestrales'!G11","v":1.6425140626377466},{"$f":"'Datos trimestrales'!D11","v":"n.d."},{"$f":"'Datos trimestrales'!H11","v":1.8938317567431688},{"$f":"'Datos trimestrales'!E11","v":"n.d."},"n.d.",{"$f":"'Datos trimestrales'!I11","v":6.8867552931343736}]
[null,"IV",{"$f":"'Datos trimestrales'!F12","v":4.2954049598538546},{"$f":"'Datos trimestrales'!G12","v":1.6193286917099183},{"$f":"'Datos trimestrales'!D12","v":"n.d."},{"$f":"'Datos trimestrales'!H12","v":3.0046645227245472},{"$f":"'Datos trimestrales'!E12","v":"n.d."},"n.d.",{"$f":"'Datos trimestrales'!I12","v":8.3505066264545977}]
[1997,"I",{"$f":"'Datos trimestrales'!F13","v":3.0813837503401054},{"$f":"'Datos trimestrales'!G13","v":1.9800901120480077},{"$f":"'Datos trimestrales'!D13","v":"n.d."},{"$f":"'Datos trimestrales'!H13","v":3.5043644390560269},{"$f":"'Datos trimestrales'!E13","v":"n.d."},"n.d.",{"$f":"'Datos trimestrales'!I13","v":4.3491677384939571}]
[null,"II",{"$f":"'Datos trimestrales'!F14","v":6.1736437856074522},{"$f":"'Datos trimestrales'!G14","v":2.489046394127596},{"$f":"'Datos trimestrales'!D14","v":"n.d."},{"$f":"'Datos trimestrales'!H14","v":1.4987390522796407},{"$f":"'Datos trimestrales'!E14","v":"n.d."},"n.d.",{"$f":"'Datos trimestrales'!I14","v":8.5034218102355545}]
[null,"III",{"$f":"'Datos trimestrales'!F15","v":5.1947509651502966},{"$f":"'Datos trimestrales'!G15","v":2.6016303548167015},{"$f":"'Datos trimestrales'!D15","v":"n.d."},{"$f":"'Datos trimestrales'!H15","v":1.7093239675194123},{"$f":"'Datos trimestrales'!E15","v":"n.d."},"n.d.",{"$f":"'Datos trimestrales'!I15","v":7.9327609448679057}]
[null,"IV",{"$f":"'Datos trimestrales'!F16","v":3.1392450132959437},{"$f":"'Datos trimestrales'!G16","v":3.2996474886252147},{"$f":"'Datos trimestrales'!D16","v":"n.d."},{"$f":"'Datos trimestrales'!H16","v":-0.15863665696149623},{"$f":"'Datos trimestrales'!E16","v":"n.d."},"n.d.",{"$f":"'Datos trimestrales'!I16","v":7.0535519534187729}]
[1998,"I",{"$f":"'Datos trimestrales'!F17","v":4.0169074067871291},{"$f":"'Datos trimestrales'!G17","v":3.5721143933928756},{"$f":"'Datos trimestrales'!D17","v":"n.d."},{"$f":"'Datos trimestrales'!H17","v":-2.388109652241988},{"$f":"'Datos trimestrales'!E17","v":"n.d."},"n.d.",{"$f":"'Datos trimestrales'!I17","v":8.1958894293706681}]
[null,"II",{"$f":"'Datos trimestrales'!F18","v":3.9369182597569052},{"$f":"'Datos trimestrales'!G18","v":2.7162993060193106},{"$f":"'Datos trimestrales'!D18","v":"n.d."},{"$f":"'Datos trimestrales'!H18","v":-1.8309876315432148},{"$f":"'Datos trimestrales'!E18","v":"n.d."},"n.d.",{"$f":"'Datos trimestrales'!I18","v":4.4376075218464521}]
[null,"III",{"$f":"'Datos trimestrales'!F19","v":5.3371307996656903},{"$f":"'Datos trimestrales'!G19","v":2.6144375923065635},{"$f":"'Datos trimestrales'!D19","v":"n.d."},{"$f":"'Datos trimestrales'!H19","v":-2.2891386349198068},{"$f":"'Datos trimestrales'!E19","v":"n.d."},"n.d.",{"$f":"'Datos trimestrales'!I19","v":4.5266326507350536}]
[null,"IV",{"$f":"'Datos trimestrales'!F20","v":6.7261669445530803},{"$f":"'Datos trimestrales'!G20","v":1.874908287557876},{"$f":"'Datos trimestrales'!D20","v":"n.d."},{"$f":"'Datos trimestrales'!H20","v":-1.5265872974349948},{"$f":"'Datos trimestrales'!E20","v":"n.d."},"n.d.",{"$f":"'Datos trimestrales'!I20","v":1.9256719372843893}]
[1999,"I",{"$f":"'Datos trimestrales'!F21","v":3.7915090777449256},{"$f":"'Datos trimestrales'!G21","v":2.09381360427213},{"$f":"'Datos trimestrales'!D21","v":"n.d."},{"$f":"'Datos trimestrales'!H21","v":-0.28102098167547535},{"$f":"'Datos trimestrales'!E21","v":"n.d."},"n.d.",{"$f":"'Datos trimestrales'!I21","v":2.2594160200152733}]
[null,"II",{"$f":"'Datos trimestrales'!F22","v":3.4098482038873001},{"$f":"'Datos trimestrales'!G22","v":2.3692527284043003},{"$f":"'Datos trimestrales'!D22","v":"n.d."},{"$f":"'Datos trimestrales'!H22","v":0.14618625849169661},{"$f":"'Datos trimestrales'!E22","v":"n.d."},"n.d.",{"$f":"'Datos trimestrales'!I22","v":2.1054837114399803}]
[null,"III",{"$f":"'Datos trimestrales'!F23","v":5.1918362835308152},{"$f":"'Datos trimestrales'!G23","v":2.9033587226814515},{"$f":"'Datos trimestrales'!D23","v":"n.d."},{"$f":"'Datos trimestrales'!H23","v":-0.13789113766664113},{"$f":"'Datos trimestrales'!E23","v":"n.d."},"n.d.",{"$f":"'Datos trimestrales'!I23","v":2.7756181685066572}]
[null,"IV",{"$f":"'Datos trimestrales'!F24","v":7.1024278328294832},{"$f":"'Datos trimestrales'!G24","v":3.841401883050056},{"$f":"'Datos trimestrales'!D24","v":"n.d."},{"$f":"'Datos trimestrales'!H24","v":-0.49966773280977311},{"$f":"'Datos trimestrales'!E24","v":"n.d."},"n.d.",{"$f":"'Datos trimestrales'!I24","v":3.5030971161675071}]
[2000,"I",{"$f":"'Datos trimestrales'!F25","v":1.1533924977036536},{"$f":"'Datos trimestrales'!G25","v":4.3187314359061331},{"$f":"'Datos trimestrales'!D25","v":"n.d."},{"$f":"'Datos trimestrales'!H25","v":3.2928996693318995},{"$f":"'Datos trimestrales'!E25","v":"n.d."},"n.d.",{"$f":"'Datos trimestrales'!I25","v":5.4338489541834827}]
[null,"II",{"$f":"'Datos trimestrales'!F26","v":7.7701178345080724},{"$f":"'Datos trimestrales'!G26","v":4.4922817799922239},{"$f":"'Datos trimestrales'!D26","v":"n.d."},{"$f":"'Datos trimestrales'!H26","v":2.5385462831235572},{"$f":"'Datos trimestrales'!E26","v":"n.d."},"n.d.",{"$f":"'Datos trimestrales'!I26","v":6.1168504586423946}]
[null,"III",{"$f":"'Datos trimestrales'!F27","v":0.5121445170695349},{"$f":"'Datos trimestrales'!G27","v":3.8123679666841106},{"$f":"'Datos trimestrales'!D27","v":"n.d."},{"$f":"'Datos trimestrales'!H27","v":3.0330456953958711},{"$f":"'Datos trimestrales'!E27","v":"n.d."},"n.d.",{"$f":"'Datos trimestrales'!I27","v":5.7741243009044574}]
[null,"IV",{"$f":"'Datos trimestrales'!F28","v":2.1479176458757854},{"$f":"'Datos trimestrales'!G28","v":3.2032436242097164},{"$f":"'Datos trimestrales'!D28","v":"n.d."},{"$f":"'Datos trimestrales'!H28","v":2.5964748623392602},{"$f":"'Datos trimestrales'!E28","v":"n.d."},"n.d.",{"$f":"'Datos trimestrales'!I28","v":3.9134819881080891}]
[2001,"I",{"$f":"'Datos trimestrales'!F29","v":-1.1400234542668364},{"$f":"'Datos trimestrales'!G29","v":2.9340948057011884},{"$f":"'Datos trimestrales'!D29","v":"n.d."},{"$f":"'Datos trimestrales'!H29","v":2.0356312759263946},{"$f":"'Datos trimestrales'!E29","v":1.2045137568150066},"n.d.",{"$f":"'Datos trimestrales'!I29","v":7.6084605293563035E-2}]
[null,"II",{"$f":"'Datos trimestrales'!F30","v":2.1394135831549921},{"$f":"'Datos trimestrales'!G30","v":2.0679366315479548},{"$f":"'Datos trimestrales'!D30","v":"n.d."},{"$f":"'Datos trimestrales'!H30","v":1.001203204632827},{"$f":"'Datos trimestrales'!E30","v":1.4307038048835485},"n.d.",{"$f":"'Datos trimestrales'!I30","v":-0.55841499696602104}]
[null,"III",{"$f":"'Datos trimestrales'!F31","v":-1.2121214507086808},{"$f":"'Datos trimestrales'!G31","v":1.716820210660891},{"$f":"'Datos trimestrales'!D31","v":"n.d."},{"$f":"'Datos trimestrales'!H31","v":-0.29102692298776983},{"$f":"'Datos trimestrales'!E31","v":1.7015615153000541},"n.d.",{"$f":"'Datos trimestrales'!I31","v":-1.039797977320013}]
[null,"IV",{"$f":"'Datos trimestrales'!F32","v":0.9851479229512794},{"$f":"'Datos trimestrales'!G32","v":1.2848206535391888},{"$f":"'Datos trimestrales'!D32","v":"n.d."},{"$f":"'Datos trimestrales'!H32","v":-1.8415100609053869},{"$f":"'Datos trimestrales'!E32","v":2.3711094606146288},"n.d.",{"$f":"'Datos trimestrales'!I32","v":-0.88578057104399066}]
[2002,"I",{"$f":"'Datos trimestrales'!F33","v":3.8124139013190783},{"$f":"'Datos trimestrales'!G33","v":0.41296000414402051},{"$f":"'Datos trimestrales'!D33","v":7.6},{"$f":"'Datos trimestrales'!H33","v":-1.9374545037046842},{"$f":"'Datos trimestrales'!E33","v":0.75169130543724094},"n.d.",{"$f":"'Datos trimestrales'!I33","v":-2.2465243799299039}]
[null,"II",{"$f":"'Datos trimestrales'!F34","v":2.2044150533355733},{"$f":"'Datos trimestrales'!G34","v":0.97020788173232486},{"$f":"'Datos trimestrales'!D34","v":7.8},{"$f":"'Datos trimestrales'!H34","v":-0.21444609630623257},{"$f":"'Datos trimestrales'!E34","v":3.9761210606691577},"n.d.",{"$f":"'Datos trimestrales'!I34","v":1.4307030763843531}]
[null,"III",{"$f":"'Datos trimestrales'!F35","v":1.9371864575468356},{"$f":"'Datos trimestrales'!G35","v":1.1890771453806455},{"$f":"'Datos trimestrales'!D35","v":7.9},{"$f":"'Datos trimestrales'!H35","v":1.4665163862804482},{"$f":"'Datos trimestrales'!E35","v":2.8146516111264175},"n.d.",{"$f":"'Datos trimestrales'!I35","v":0.31884120424452839}]
[null,"IV",{"$f":"'Datos trimestrales'!F36","v":0.19154419341536055},{"$f":"'Datos trimestrales'!G36","v":1.0810886978848853},{"$f":"'Datos trimestrales'!D36","v":9.1},{"$f":"'Datos trimestrales'!H36","v":1.6835667025696259},{"$f":"'Datos trimestrales'!E36","v":2.4667697909679598},"n.d.",{"$f":"'Datos trimestrales'!I36","v":1.0057599377977307}]
[2003,"I",{"$f":"'Datos trimestrales'!F37","v":2.0427889379102337},{"$f":"'Datos trimestrales'!G37","v":0.84435948626009927},{"$f":"'Datos trimestrales'!D37","v":9.9},{"$f":"'Datos trimestrales'!H37","v":1.3378073261496859},{"$f":"'Datos trimestrales'!E37","v":4.2582000055265468},"n.d.",{"$f":"'Datos trimestrales'!I37","v":3.1841412743218425}]
[null,"II",{"$f":"'Datos trimestrales'!F38","v":3.8364377836314523},{"$f":"'Datos trimestrales'!G38","v":0.35085169410121764},{"$f":"'Datos trimestrales'!D38","v":8.1999999999999993},{"$f":"'Datos trimestrales'!H38","v":1.3037580812537559},{"$f":"'Datos trimestrales'!E38","v":2.4421181937137826},"n.d.",{"$f":"'Datos trimestrales'!I38","v":0.40159494532953555}]
[null,"III",{"$f":"'Datos trimestrales'!F39","v":6.9312126149411624},{"$f":"'Datos trimestrales'!G39","v":0.51192564476258151},{"$f":"'Datos trimestrales'!D39","v":8.5},{"$f":"'Datos trimestrales'!H39","v":1.0882961745698168},{"$f":"'Datos trimestrales'!E39","v":3.9336226293796184},"n.d.",{"$f":"'Datos trimestrales'!I39","v":0.4038890981120315}]
[null,"IV",{"$f":"'Datos trimestrales'!F40","v":4.6149439548618831},{"$f":"'Datos trimestrales'!G40","v":1.1879272096289619},{"$f":"'Datos trimestrales'!D40","v":10},{"$f":"'Datos trimestrales'!H40","v":1.8980345514015087},{"$f":"'Datos trimestrales'!E40","v":5.0512337514862393},"n.d.",{"$f":"'Datos trimestrales'!I40","v":1.7549203862077465}]
[2004,"I",{"$f":"'Datos trimestrales'!F41","v":2.4140330741410532},{"$f":"'Datos trimestrales'!G41","v":1.7821055180439769},{"$f":"'Datos trimestrales'!D41","v":9.5},{"$f":"'Datos trimestrales'!H41","v":4.1720923925906854},{"$f":"'Datos trimestrales'!E41","v":6.1158229525576369},"n.d.",{"$f":"'Datos trimestrales'!I41","v":4.1960084920091445}]
[null,"II",{"$f":"'Datos trimestrales'!F42","v":3.095578957189371},{"$f":"'Datos trimestrales'!G42","v":2.2453763326271194},{"$f":"'Datos trimestrales'!D42","v":9.5},{"$f":"'Datos trimestrales'!H42","v":3.2218787226499996},{"$f":"'Datos trimestrales'!E42","v":4.3976382571067285},"n.d.",{"$f":"'Datos trimestrales'!I42","v":4.1267364621106397}]
[null,"III",{"$f":"'Datos trimestrales'!F43","v":3.5561300457807032},{"$f":"'Datos trimestrales'!G43","v":2.1546905606472411},{"$f":"'Datos trimestrales'!D43","v":9.6999999999999993},{"$f":"'Datos trimestrales'!H43","v":2.8950031848004909},{"$f":"'Datos trimestrales'!E43","v":4.4471076403654664},"n.d.",{"$f":"'Datos trimestrales'!I43","v":4.1248788735888722}]
[null,"IV",{"$f":"'Datos trimestrales'!F44","v":3.4179834266825138},{"$f":"'Datos trimestrales'!G44","v":1.7529835814071217},{"$f":"'Datos trimestrales'!D44","v":9.8000000000000007},{"$f":"'Datos trimestrales'!H44","v":0.83555531794984894},{"$f":"'Datos trimestrales'!E44","v":6.3687463438207415},"n.d.",{"$f":"'Datos trimestrales'!I44","v":4.7216646454148314}]
[2005,"I",{"$f":"'Datos trimestrales'!F45","v":4.4457327009377323},{"$f":"'Datos trimestrales'!G45","v":1.4591164602870079},{"$f":"'Datos trimestrales'!D45","v":9.4},{"$f":"'Datos trimestrales'!H45","v":1.0802717546598561},{"$f":"'Datos trimestrales'!E45","v":4.1998126756165988},"n.d.",{"$f":"'Datos trimestrales'!I45","v":1.4777828983968579}]
[null,"II",{"$f":"'Datos trimestrales'!F46","v":2.2023243679431426},{"$f":"'Datos trimestrales'!G46","v":1.6212845667410172},{"$f":"'Datos trimestrales'!D46","v":9.5},{"$f":"'Datos trimestrales'!H46","v":2.0007410151908114},{"$f":"'Datos trimestrales'!E46","v":6.0376793138319895},"n.d.",{"$f":"'Datos trimestrales'!I46","v":3.5183055115568207}]
[null,"III",{"$f":"'Datos trimestrales'!F47","v":3.3045752762249858},{"$f":"'Datos trimestrales'!G47","v":1.897356814294755},{"$f":"'Datos trimestrales'!D47","v":9.4},{"$f":"'Datos trimestrales'!H47","v":1.9824436009986655},{"$f":"'Datos trimestrales'!E47","v":5.3866653506390971},"n.d.",{"$f":"'Datos trimestrales'!I47","v":3.401953957609317}]
[null,"IV",{"$f":"'Datos trimestrales'!F48","v":2.2321309392430155},{"$f":"'Datos trimestrales'!G48","v":2.2204909304094302},{"$f":"'Datos trimestrales'!D48","v":9.9},{"$f":"'Datos trimestrales'!H48","v":2.6400897776324683},{"$f":"'Datos trimestrales'!E48","v":3.2579326175844692},"n.d.",{"$f":"'Datos trimestrales'!I48","v":3.6979794603055858}]
[2006,"I",{"$f":"'Datos trimestrales'!F49","v":4.9429501164916179},{"$f":"'Datos trimestrales'!G49","v":2.9253127413165649},{"$f":"'Datos trimestrales'!D49","v":10.199999999999999},{"$f":"'Datos trimestrales'!H49","v":2.4863551820591692},{"$f":"'Datos trimestrales'!E49","v":5.382439655792326},"n.d.",{"$f":"'Datos trimestrales'!I49","v":5.7797268645799971}]
[null,"II",{"$f":"'Datos trimestrales'!F50","v":1.2487244009449894},{"$f":"'Datos trimestrales'!G50","v":3.3537338044614535},{"$f":"'Datos trimestrales'!D50","v":10.9},{"$f":"'Datos trimestrales'!H50","v":2.0132146597335079},{"$f":"'Datos trimestrales'!E50","v":5.8057527698303302},"n.d.",{"$f":"'Datos trimestrales'!I50","v":4.8786528834773035}]
[null,"III",{"$f":"'Datos trimestrales'!F51","v":0.35134878748976917},{"$f":"'Datos trimestrales'!G51","v":3.3557197198650779},{"$f":"'Datos trimestrales'!D51","v":10.7},{"$f":"'Datos trimestrales'!H51","v":1.6374248970511456},{"$f":"'Datos trimestrales'!E51","v":7.6342222950666061},"n.d.",{"$f":"'Datos trimestrales'!I51","v":5.400583020026251}]
[null,"IV",{"$f":"'Datos trimestrales'!F52","v":3.1590962439421721},{"$f":"'Datos trimestrales'!G52","v":3.8072979824638531},{"$f":"'Datos trimestrales'!D52","v":10.7},{"$f":"'Datos trimestrales'!H52","v":2.0308133799659225},{"$f":"'Datos trimestrales'!E52","v":7.9185336992138255},"n.d.",{"$f":"'Datos trimestrales'!I52","v":4.0071620622300772}]
[2007,"I",{"$f":"'Datos trimestrales'!F53","v":0.26387632437077091},{"$f":"'Datos trimestrales'!G53","v":3.6882059789096941},{"$f":"'Datos trimestrales'!D53","v":11.1},{"$f":"'Datos trimestrales'!H53","v":3.5422896372879791},{"$f":"'Datos trimestrales'!E53","v":7.9734786020539294},{"$f":"+'Datos trimestrales'!C53","v":-1.313542569210191},{"$f":"'Datos trimestrales'!I53","v":2.9229513192072378}]
[null,"II",{"$f":"'Datos trimestrales'!F54","v":3.1155799350050417},{"$f":"'Datos trimestrales'!G54","v":3.0328107650055784},{"$f":"'Datos trimestrales'!D54","v":11.5},{"$f":"'Datos trimestrales'!H54","v":2.3136478013135253},{"$f":"'Datos trimestrales'!E54","v":6.3217751268583644},{"$f":"+'Datos trimestrales'!C54","v":5.1855892870081188},{"$f":"'Datos trimestrales'!I54","v":2.7471756699524277}]
[null,"III",{"$f":"'Datos trimestrales'!F55","v":2.7225072139918982},{"$f":"'Datos trimestrales'!G55","v":2.9865791590613999},{"$f":"'Datos trimestrales'!D55","v":11.5},{"$f":"'Datos trimestrales'!H55","v":1.74052975065988},{"$f":"'Datos trimestrales'!E55","v":6.1355899020002491},{"$f":"+'Datos trimestrales'!C55","v":1.7848604931968604},{"$f":"'Datos trimestrales'!I55","v":3.1572203324391444}]
[null,"IV",{"$f":"'Datos trimestrales'!F56","v":1.4697323019686959},{"$f":"'Datos trimestrales'!G56","v":2.2907218133840459},{"$f":"'Datos trimestrales'!D56","v":11.4},{"$f":"'Datos trimestrales'!H56","v":1.8937801209690459},{"$f":"'Datos trimestrales'!E56","v":7.2012531382099843},{"$f":"+'Datos trimestrales'!C56","v":0.96057770010709032},{"$f":"'Datos trimestrales'!I56","v":3.7459048812767355}]
[2008,"I",{"$f":"'Datos trimestrales'!F57","v":-2.6590972439311078},{"$f":"'Datos trimestrales'!G57","v":2.0695522641712243},{"$f":"'Datos trimestrales'!D57","v":10.6},{"$f":"'Datos trimestrales'!H57","v":1.2810946792092714},{"$f":"'Datos trimestrales'!E57","v":5.0505582473140853},{"$f":"+'Datos trimestrales'!C57","v":-1.663932874897478},{"$f":"'Datos trimestrales'!I57","v":2.1499715729706428}]
[null,"II",{"$f":"'Datos trimestrales'!F58","v":1.9965971376084024},{"$f":"'Datos trimestrales'!G58","v":1.1741754761229588},{"$f":"'Datos trimestrales'!D58","v":10.4},{"$f":"'Datos trimestrales'!H58","v":-0.32317196773803403},{"$f":"'Datos trimestrales'!E58","v":5.2938405986707737},{"$f":"+'Datos trimestrales'!C58","v":5.3465171855202165},{"$f":"'Datos trimestrales'!I58","v":3.0825159886695066}]
[null,"III",{"$f":"'Datos trimestrales'!F59","v":-1.965411718532184},{"$f":"'Datos trimestrales'!G59","v":-3.9203871256453658E-2},{"$f":"'Datos trimestrales'!D59","v":9.9},{"$f":"'Datos trimestrales'!H59","v":-1.3831522619815018},{"$f":"'Datos trimestrales'!E59","v":3.606271777003478},{"$f":"+'Datos trimestrales'!C59","v":2.4157880714041013},{"$f":"'Datos trimestrales'!I59","v":1.5899349012533166}]
[null,"IV",{"$f":"'Datos trimestrales'!F60","v":-8.3330282483786267},{"$f":"'Datos trimestrales'!G60","v":-2.1374644865052259},{"$f":"'Datos trimestrales'!D60","v":9},{"$f":"'Datos trimestrales'!H60","v":-4.1202063242879561},{"$f":"'Datos trimestrales'!E60","v":0.38931924177825206},{"$f":"+'Datos trimestrales'!C60","v":-4.8409934702705932},{"$f":"'Datos trimestrales'!I60","v":-1.1185732327870468}]
[2009,"I",{"$f":"'Datos trimestrales'!F61","v":-5.4428565473592201},{"$f":"'Datos trimestrales'!G61","v":-5.4628319872162532},{"$f":"'Datos trimestrales'!D61","v":6.1},{"$f":"'Datos trimestrales'!H61","v":-9.3000000000000007},{"$f":"'Datos trimestrales'!E61","v":1.0768536622048464},{"$f":"+'Datos trimestrales'!C61","v":-5.2415339131657408},{"$f":"'Datos trimestrales'!I61","v":-5.238050746959293}]
[null,"II",{"$f":"'Datos trimestrales'!F62","v":-0.42237122232027247},{"$f":"'Datos trimestrales'!G62","v":-5.3213933822746826},{"$f":"'Datos trimestrales'!D62","v":7.1},{"$f":"'Datos trimestrales'!H62","v":-6.6},{"$f":"'Datos trimestrales'!E62","v":1.1828673101199838},{"$f":"+'Datos trimestrales'!C62","v":5.6856118369533748},{"$f":"'Datos trimestrales'!I62","v":-7.9466729707955226}]
[null,"III",{"$f":"'Datos trimestrales'!F63","v":1.2765349239340251},{"$f":"'Datos trimestrales'!G63","v":-4.3538620587256958},{"$f":"'Datos trimestrales'!D63","v":7.7},{"$f":"'Datos trimestrales'!H63","v":-5.6},{"$f":"'Datos trimestrales'!E63","v":1.3353247806605406},{"$f":"+'Datos trimestrales'!C63","v":3.3943648240226221},{"$f":"'Datos trimestrales'!I63","v":-4.5736812634877069}]
[null,"IV",{"$f":"'Datos trimestrales'!F64","v":3.8795322680319044},{"$f":"'Datos trimestrales'!G64","v":-2.2436936054530876},{"$f":"'Datos trimestrales'!D64","v":8.6999999999999993},{"$f":"'Datos trimestrales'!H64","v":-0.5},{"$f":"'Datos trimestrales'!E64","v":3.0117539154794759},{"$f":"+'Datos trimestrales'!C64","v":1.7052076536327565},{"$f":"'Datos trimestrales'!I64","v":-1.0291115808333215}]
[2010,"I",{"$f":"'Datos trimestrales'!F65","v":1.5912292911759662},{"$f":"'Datos trimestrales'!G65","v":1.0230829087002384},{"$f":"'Datos trimestrales'!D65","v":11.9},{"$f":"'Datos trimestrales'!H65","v":4.9023698852762223},{"$f":"'Datos trimestrales'!E65","v":3.6345961174101493},{"$f":"+'Datos trimestrales'!C65","v":-1.6128314481735573},{"$f":"'Datos trimestrales'!I65","v":3.6542650204263132}]
[null,"II",{"$f":"'Datos trimestrales'!F66","v":3.9002212065116115},{"$f":"'Datos trimestrales'!G66","v":2.1896522916793777},{"$f":"'Datos trimestrales'!D66","v":11.1},{"$f":"'Datos trimestrales'!H66","v":4.4489916993046794},{"$f":"'Datos trimestrales'!E66","v":3.548377589814633},{"$f":"+'Datos trimestrales'!C66","v":5.1262528222660197},{"$f":"'Datos trimestrales'!I66","v":6.7077166104918708}]
[null,"III",{"$f":"'Datos trimestrales'!F67","v":2.7778316019166915},{"$f":"'Datos trimestrales'!G67","v":2.1888020496700178},{"$f":"'Datos trimestrales'!D67","v":10.6},{"$f":"'Datos trimestrales'!H67","v":6.0091989186054295},{"$f":"'Datos trimestrales'!E67","v":3.4104774082714284},{"$f":"+'Datos trimestrales'!C67","v":1.6446696139490458},{"$f":"'Datos trimestrales'!I67","v":5.4019421402115402}]
[null,"IV",{"$f":"'Datos trimestrales'!F68","v":2.8082040961846744},{"$f":"'Datos trimestrales'!G68","v":2.2137138980258215},{"$f":"'Datos trimestrales'!D68","v":10.3},{"$f":"'Datos trimestrales'!H68","v":3.3146162237176418},{"$f":"'Datos trimestrales'!E68","v":5.2744657788789118},{"$f":"+'Datos trimestrales'!C68","v":0.19083700191895314},{"$f":"'Datos trimestrales'!I68","v":4.5303962078440376}]
[2011,"I",{"$f":"'Datos trimestrales'!F69","v":-1.2893604342359311},{"$f":"'Datos trimestrales'!G69","v":2.5785206845203383},{"$f":"'Datos trimestrales'!D69","v":9.6999999999999993},{"$f":"'Datos trimestrales'!H69","v":4.7132844237805178E-2},{"$f":"'Datos trimestrales'!E69","v":5.6416490385075679},{"$f":"+'Datos trimestrales'!C69","v":-2.6381108971266998},{"$f":"'Datos trimestrales'!I69","v":4.4331554957769113}]
[null,"II",{"$f":"'Datos trimestrales'!F70","v":3.1876731945435388},{"$f":"'Datos trimestrales'!G70","v":1.7197392856154397},{"$f":"'Datos trimestrales'!D70","v":9.6},{"$f":"'Datos trimestrales'!H70","v":-1.4868975874617394},{"$f":"'Datos trimestrales'!E70","v":6.3061524595607432},{"$f":"+'Datos trimestrales'!C70","v":4.1990916191743555},{"$f":"'Datos trimestrales'!I70","v":3.1972529018388531}]
[null,"III",{"$f":"'Datos trimestrales'!F71","v":1.3605337846721799},{"$f":"'Datos trimestrales'!G71","v":1.3858817544857653},{"$f":"'Datos trimestrales'!D71","v":9.4},{"$f":"'Datos trimestrales'!H71","v":-0.50214340843786909},{"$f":"'Datos trimestrales'!E71","v":7.9420065506923487},{"$f":"+'Datos trimestrales'!C71","v":0.4716326332301346},{"$f":"'Datos trimestrales'!I71","v":4.1266785103988495}]
[null,"IV",{"$f":"'Datos trimestrales'!F72","v":4.8665836825772857},{"$f":"'Datos trimestrales'!G72","v":0.67921346369230917},{"$f":"'Datos trimestrales'!D72","v":9.1999999999999993},{"$f":"'Datos trimestrales'!H72","v":9.234783595212874E-2},{"$f":"'Datos trimestrales'!E72","v":6.4571880343451848},{"$f":"+'Datos trimestrales'!C72","v":-0.55162742178945789},{"$f":"'Datos trimestrales'!I72","v":4.2747104433320606}]
[2012,"I",{"$f":"'Datos trimestrales'!F73","v":3.7114787829780171},{"$f":"'Datos trimestrales'!G73","v":-0.17198192190245004},{"$f":"'Datos trimestrales'!D73","v":8.1},{"$f":"'Datos trimestrales'!H73","v":3.243520113318485},{"$f":"'Datos trimestrales'!E73","v":6.0615944983554826},{"$f":"+'Datos trimestrales'!C73","v":-3.1846757667326586},{"$f":"'Datos trimestrales'!I73","v":4.8174011676720658}]
[null,"II",{"$f":"'Datos trimestrales'!F74","v":1.2042352681324919},{"$f":"'Datos trimestrales'!G74","v":-0.50958006685865564},{"$f":"'Datos trimestrales'!D74","v":7.8},{"$f":"'Datos trimestrales'!H74","v":3.2355446539528403},{"$f":"'Datos trimestrales'!E74","v":5.1708135508513831},{"$f":"+'Datos trimestrales'!C74","v":3.9441632196196563},{"$f":"'Datos trimestrales'!I74","v":4.427886812141379}]
[null,"III",{"$f":"'Datos trimestrales'!F75","v":2.7846976101748577},{"$f":"'Datos trimestrales'!G75","v":-0.68672506903691333},{"$f":"'Datos trimestrales'!D75","v":7.7},{"$f":"'Datos trimestrales'!H75","v":-0.22064069134602729},{"$f":"'Datos trimestrales'!E75","v":2.5105590387995536},{"$f":"+'Datos trimestrales'!C75","v":0.86665401142422827},{"$f":"'Datos trimestrales'!I75","v":3.1130416173973625}]
[null,"IV",{"$f":"'Datos trimestrales'!F76","v":0.14427781444716903},{"$f":"'Datos trimestrales'!G76","v":-0.96175941097115936},{"$f":"'Datos trimestrales'!D76","v":7.8},{"$f":"'Datos trimestrales'!H76","v":-0.30127036805310853},{"$f":"'Datos trimestrales'!E76","v":2.5647225436520982},{"$f":"+'Datos trimestrales'!C76","v":0.31069715239899764},{"$f":"'Datos trimestrales'!I76","v":3.344841395933885}]
[2013,"I",{"$f":"'Datos trimestrales'!F77","v":1.1451979379999422},{"$f":"'Datos trimestrales'!G77","v":-1.2000000000000062},{"$f":"'Datos trimestrales'!D77","v":7.7},{"$f":"'Datos trimestrales'!H77","v":6.5995937651445818E-2},{"$f":"'Datos trimestrales'!E77","v":2.638031044704725},{"$f":"+'Datos trimestrales'!C77","v":-3.118156327391064},{"$f":"'Datos trimestrales'!I77","v":0.61408005385608955}]
[null,"II",{"$f":"'Datos trimestrales'!F78","v":2.4817151787694947},{"$f":"'Datos trimestrales'!G78","v":-0.59999999999999831},{"$f":"'Datos trimestrales'!D78","v":7.5},{"$f":"'Datos trimestrales'!H78","v":1.2826530250022679},{"$f":"'Datos trimestrales'!E78","v":4.0459582845408404},{"$f":"+'Datos trimestrales'!C78","v":5.5430561277124646},{"$f":"'Datos trimestrales'!I78","v":1.5853621800635516}]
[null,"III",{"$f":"'Datos trimestrales'!F79","v":4.1340937498222319},{"$f":"'Datos trimestrales'!G79","v":-0.30000000000000643},{"$f":"'Datos trimestrales'!D79","v":7.8},{"$f":"'Datos trimestrales'!H79","v":2.3678633732842678},{"$f":"'Datos trimestrales'!E79","v":5.4270310847237768},{"$f":"+'Datos trimestrales'!C79","v":-0.13944675002335316},{"$f":"'Datos trimestrales'!I79","v":1.3934243760986194}]
[null,"IV",{"$f":"'Datos trimestrales'!F80","v":2.6266071644112765},{"$f":"'Datos trimestrales'!G80","v":0.49999999999997979},{"$f":"'Datos trimestrales'!D80","v":7.7},{"$f":"'Datos trimestrales'!H80","v":2.5387881998682831},{"$f":"'Datos trimestrales'!E80","v":4.9077223588051},{"$f":"+'Datos trimestrales'!C80","v":6.5477821058479435E-2},{"$f":"'Datos trimestrales'!I80","v":0.6708574150725034}]
[2014,"I",{"$f":"'Datos trimestrales'!F81","v":-0.98490631894200265},{"$f":"'Datos trimestrales'!G81","v":0.1999999999999944},{"$f":"'Datos trimestrales'!D81","v":7.4},{"$f":"'Datos trimestrales'!H81","v":2.9793351660248564},"n.d.",{"$f":"+'Datos trimestrales'!C81","v":-3.3628903563535317},{"$f":"'Datos trimestrales'!I81","v":1.8000000000000085}]
[null,"II",{"$f":"'Datos trimestrales'!F82","v":""},{"$f":"'Datos trimestrales'!G82","v":""},{"$f":"'Datos trimestrales'!D82","v":""},{"$f":"'Datos trimestrales'!H82","v":""}]
[null,"III",{"$f":"'Datos trimestrales'!F83","v":""},{"$f":"'Datos trimestrales'!G83","v":""},{"$f":"'Datos trimestrales'!D83","v":""},{"$f":"'Datos trimestrales'!H83","v":""}]
[null,"IV",{"$f":"'Datos trimestrales'!F84","v":""},{"$f":"'Datos trimestrales'!G84","v":""},{"$f":"'Datos trimestrales'!D84","v":""},{"$f":"'Datos trimestrales'!H84","v":""}]

{"sheet":" Nota Técnica","index":13,"n_rows":44,"n_cols":6,"rows_kept":44,"cut":false,"hidden":false,"merged":[[5,1,6,8],[19,1,19,8],[20,1,20,2],[21,1,21,2],[22,1,22,2],[21,5,21,7],[22,5,22,7],[9,3,9,8],[8,1,8,8],[11,3,11,8],[15,3,15,8],[16,3,16,8],[12,3,12,8],[10,3,10,8],[43,1,43,7],[32,1,32,7],[33,1,33,7],[23,5,23,7],[26,1,26,2],[27,1,27,2],[41,1,41,7],[42,1,42,8],[35,1,35,8],[26,5,26,7],[27,5,27,7],[30,1,30,8],[24,1,24,2],[25,1,25,2],[24,5,24,7],[25,5,25,7],[34,1,34,8],[38,1,39,7],[23,1,23,2],[40,1,40,8],[13,3,13,8],[14,3,14,8]]}
[null,"Consejo Monetario Centroamericano"]
[null,"Secretaría Ejecutiva"]
[]
[]
[]
[null,"NOTAS TÉCNICAS\nReporte mensual de Indicadores de Coyuntura de la Economía Internacional"]
[]
[]
[null,"Producto Interno Bruto a Precios Constantes"]
[null,"País","Año de referencia","Metodología tasa de crecimiento"]
[null,"Brasil",1995,"Variación del trimestre respecto al trimestre anterior, con ajuste estacional"]
[null,"China","Mismo trimestre, año anterior"," Variación interanual"]
[null,"Colombia",2005," Variación interanual"]
[null,"Estados Unidos",2005,"Variación del trimestre respecto al trimestre anterior, anualizado."]
[null,"Eurozona",2005,"Variación interanual."]
[null,"Japón",2005," Variación interanual"]
[null,"México",2008," Variación interanual"]
[]
[]
[null,"Indice de Precios al Consumidor"]
[null,"País",null,null,null,"Año base"]
[null,"Brasil",null,null,null,"1993-12-01"]
[null,"China",null,null,null,"Mismo mes del año anterior"]
[null,"Colombia",null,null,null,"1905-06-30"]
[null,"Estados Unidos",null,null,null,"1982-1984"]
[null,"Eurozona ",null,null,null,"1905-06-27"]
[null,"Japón",null,null,null,"1905-07-02"]
[null,"México",null,null,null,"Segunda Quincena diciembre 2010"]
[]
[]
[null,"Glosario de términos"]
[null,"Índices bursátiles"]
[null,"Dow Jones: Comportamiento del precio de las acciones de las 30 compañías industriales más importantes y representativas de Estados Unidos."]
[null,"Nasdaq Composite: Índice que reune los valores de las empresas del sector tecnológico que cotizan en el mercado Nasdaq. Año base: 1971"]
[null,"Standard & Poor´s 500: índice bursátil compuesto de las 500 empresas más grandes de Estados Unidos. Año base: 1941"]
[null,"Metodología de compilación: Se toma el valor de cierre al mes correspondiente"]
[]
[null,"Indice de Confianza del Consumidor EEUU"]
[null,"Mide el estado de la economía estadounidense según la perspectiva de los consumidores. Está elaborado con base en encuestas de publicación mensual. El indicador se dividide en :"]
[]
[null,"Situación presente: Evaluación de los consumidores de la situación presente."]
[null,"Expectativas: Expectativa de los consumidores de la evolución de la economía en los próximos seis meses."]
[null,"Confianza: Se elabora tomando en cuenta tanto la situación presente como las expectativas de los consumidores."]
[null,"Año base: 1985"]