{"text_format":"1","workbook":"xlsx","n_sheets":12,"sheets":["PORTADA","INDICE","PRECIOS","TIPO CAMBIO","ITCER GLOBAL","ITCER RESTOM","ITCER REGION","ITCER BILATERAL","GRAFICOS","EFECTOS","GEfectos","METODOLOGIA"],"not_rendered":{"charts":5,"images":6,"macros":1,"external_links":2,"defined_names":53,"comments":4,"pivot_tables":0},"unopened":[],"bounds":{"document_bytes":16777216,"sheet_cells":100000,"rows_first":2000,"rows_last":500,"rows_between":2000,"halvings":0,"cell_chars":16384,"cell_head_chars":4096},"cells_cut":0,"cells_raw":0,"read":"whole","date_system":"1900"}

{"sheet":"PORTADA","index":0,"n_rows":0,"n_cols":0,"rows_kept":0,"cut":false,"hidden":false,"merged":[]}

{"sheet":"INDICE","index":1,"n_rows":42,"n_cols":14,"rows_kept":42,"cut":false,"hidden":false,"merged":[[10,1,10,11],[3,1,3,11],[4,1,4,11],[9,0,9,11],[41,1,41,10],[14,8,14,10],[11,1,11,11],[39,2,40,10]]}
[null,null,null,null,null,null,null,null,null,null,null,null,{"$f":"INDEX('ITCER GLOBAL'!B6:B10030,COUNT('ITCER GLOBAL'!C:C))","v":"Abril"},{"$f":"YEAR(TODAY())","v":2019}]
[]
[null,null,null,null,null,null,null,null,null,null,null,null,2017]
[null,"Secretaría Ejecutiva"]
[null,"Consejo Monetario Centroamericano"]
[]
[]
[]
[]
["  ÍNDICE DEL TIPO DE CAMBIO EFECTIVO REAL (ITCER)"]
[null,"Periodo de referencia Diciembre 2000=100"]
[null,"Ponderaciones móviles"]
[]
[]
[null,"REPORTE CORRESPONDIENTE AL MES DE",null,null,null,null,null,null,{"$f":"CONCATENATE( INDEX('ITCER GLOBAL'!B6:B10030,COUNT('ITCER GLOBAL'!C:C)), \" 2019\")","v":"Abril 2019"}]
[]
[]
[]
[null,"CONTENIDO:"]
[]
[null,null,null,"Índices de Precios"]
[]
[null,null,null,"Tipos de cambio (moneda nacional por US$)"]
[]
[null,null,null,"ITCER (incluye efecto tipo de cambio y efecto precio)"]
[null,null,null,null,"Global"]
[]
[null,null,null,null,"Resto del Mundo"]
[]
[null,null,null,null,"Región CAPARD"]
[]
[null,null,null,null,"Bilateral con USA"]
[]
[null,null,null,"Gráficos"]
[null,null,null,null,"ITCER Global, Resto del Mundo, CAPARD y Bilateral"]
[null,null,null,null,"Efecto Precio y Efecto Tipo de Cambio"]
[]
[null,null,null,"Metodología"]
[]
[null,null,"Nota: Las ponderaciones del aporte de los socios comerciales al total del comercio de cada país para 2019, están con base a la última información disponible de 2017, provenientes de la biblioteca electrónica del Fondo Monetario Internacional; por lo tanto, los datos estimados del ITCER de enero de 2019 están sujetos a cambios."]
[]
[null,"ADVERTENCIA\n\n   El Consejo Monetario Centroamericano y su Secretaría Ejecutiva autorizan la reproducción total de los gráficos y cifras de esta publicación, siempre que se mencione la fuente. No  obstante, no asumen responsabilidad legal alguna o de cualquier otra índole, por la manipulación, interpretación personal y uso de dicha información.   \nDerechos Reservados © 2019"]

{"sheet":"PRECIOS","index":2,"n_rows":304,"n_cols":19,"rows_kept":304,"cut":false,"hidden":false,"merged":[[3,0,3,18],[302,0,302,18],[300,0,300,18],[305,0,305,1],[304,0,304,18],[4,2,4,8],[4,9,4,18],[301,0,301,18]]}
[]
["Secretaría Ejecutiva"]
["Consejo Monetario Centroamericano"]
["ÍNDICE DE PRECIOS AL CONSUMIDOR (NIVEL)"]
[null,null,"REGIÓN CAPARD 1/",null,null,null,null,null,null,"RESTO DEL MUNDO"]
["Año","MES","COSTA RICA ","EL SALVADOR ","GUATEMALA ","HONDURAS","NICARAGUA ","REPÚBLICA\nDOMINICANA","PANAMÁ","BRASIL","CANADÁ","CHINA","COLOMBIA","COREA DEL SUR","HAITÍ","JAPÓN","MÉXICO","ESTADOS UNIDOS","ZONA \nEURO"]
[null,"periodo base","Junio 2015","Diciembre 2009","Diciembre 2010","Diciembre 1999",2006,"Diciembre 2010",2013,"Diciembre 1993",2002,"Mes anterior =100 (total)","Diciembre 2008",2010,2004,2010,"2º Q de diciembre 2010","1982-84",2015]
["Año","MES","2006=100","2009=100","2010=100","1999=100","2006=100","2010=100","2015=100",null,"2002=100",null,null,null,null,"2005=100","2010=100","1982-84=100","2015=100"]
[1995,"Enero",15.69875,56.55,34.050545768222676,44.74710931403844,35.130000000000003,21.861608871493008,62.108547346853165,1033.7122222991832,86.6,71.371548919640702,26.63043,53.600999999999999,1,97.8,20.468620185776,150.30000000000001,69.426976744186035]
[null,"Febrero",15.9312,57.17,33.938049357674089,46.960346172944597,35.42,21.947226293050324,62.108547346853165,1044.2560869666347,87,72.020212025572505,27.569849999999999,53.82,1,97.5,21.336132926013999,150.9,69.786329625884733]
[null,"Marzo",16.06295866,57.81,34.100917638324049,47.62006100588777,35.619999999999997,22.126693580545474,62.283173065729045,1060.4420563146177,87.2,72.221958404143393,28.29186,54.368000000000002,1,97.4,22.593921331191002,151.4,70.001941354903934]
[null,"Abril",16.154018659999998,58.17,34.362748653518686,48.840178761438601,35.61,22.095880717292701,62.399590211646291,1086.210798283063,87.5,73.518305413935394,28.92475,54.695999999999998,1,97.7,24.39428249881,151.9,70.14568250758343]
[null,"Mayo",16.295308649999999,58.58,34.869639937849023,49.726892246577286,35.86,22.189965795927115,62.574215930522172,1115.2126265972208,87.7,74.127217771303705,29.40409,54.805999999999997,1,97.9,25.413863095033001,152.19999999999999,70.217553083923164]
[null,"Junio",16.538638630000001,59.09,35.310052524258055,50.1879832588494,36.520000000000003,22.330152563092401,62.690633076439418,1140.4164319583181,87.7,73.511945456016804,29.75967,54.643000000000001,1,97.8,26.220434064532,152.5,70.43316481294238]
[null,"Julio",16.8180686,60.63,35.384468703517065,50.861885507554796,36.96,22.477630923851848,62.748841649398038,1167.3302597525344,87.9,72.899234442016706,29.991510000000002,54.805999999999997,1,97.3,26.754964051499002,152.5,70.43316481294238]
[null,"Agosto",17.00488859,61.05,35.599627809580525,51.500319216854649,36.369999999999997,22.730719785378426,62.865258795315285,1178.8868293240846,87.7,74.118329691672699,30.18243,55.134999999999998,1,97.4,27.198750022412,152.9,70.505035389282099]
[null,"Septiembre",17.32042856,61.86,35.800002603690245,52.592750230545505,36.75,23.082597979471146,62.807050222356665,1190.5578089343931,87.8,76.0970097920207,30.436859999999999,55.628,1,98,20.855640000000001,153.19999999999999,70.092169999999996]
[null,"Octubre",17.836918520000001,62.14,36.301435675146031,53.571681918138616,38.159999999999997,23.24983420674382,62.690633076439418,1207.3446740403681,87.7,76.143661892045003,30.707149999999999,55.354999999999997,1,97.7,21.284759999999999,153.69999999999999,70.092169999999996]
[null,"Noviembre",18.259218480000001,62.41,36.778196516696518,54.316521245655103,39.25,23.463407335243943,62.690633076439418,1225.0926407487614,88,76.067730031560998,30.95091,55.244999999999997,1,97.4,21.809609999999999,153.6,70.163480000000007]
[null,"Diciembre",18.469578460000001,62.48,36.960883290715785,55.153578775626023,38.880000000000003,23.514448490403119,62.923467368273911,1244.2040859444421,87.8,76.374699360686193,31.237089999999998,55.628,1,97.4,22.52017,153.5,70.306079999999994]
[1996,"Enero",18.703488449999998,63.45,37.373812776918172,55.430233382989279,39.06,23.496337112765993,62.923467368273911,1260.8764206960977,88,77.794988265760296,32.022440000000003,56.176000000000002,1,97.3,23.329750000000001,154.4,70.97]
[null,"Febrero",18.89501843,63.6,37.613463488843799,57.005036532595589,39.46,23.525973912535832,62.923467368273911,1273.8634478292674,88.1,78.718091769847007,33.307290000000002,56.396999999999998,1,97.1,23.87426,154.9,71.290000000000006]
[null,"Marzo",19.00019842,63.91,38.014137695180906,57.884656309853156,39.78,23.559138902754466,63.098093087149799,1278.32196989667,88.5,79.299710285667999,34.009390000000003,56.78,1,97.3,24.399830000000001,155.69999999999999,71.540000000000006]
[null,"Abril",19.144628409999999,64.150000000000006,38.467849539665167,59.076399233879542,40.11,23.58807006443455,63.214510233067038,1294.4288267173679,88.7,80.649581613660303,34.681759999999997,57.162999999999997,1,97.9,25.093450000000001,156.30000000000001,71.66]
[null,"Mayo",19.464878379999998,64.63,38.710684004637017,60.310704405192595,40.799999999999997,23.641698559256163,63.098093087149799,1310.2208584033197,89,80.724539936877903,35.220390000000002,57.491999999999997,1,98.1,25.550840000000001,156.6,71.83]
[null,"Junio",19.73018836,65.69,38.959603474207029,61.828757891750016,40.950000000000003,23.72284693957835,63.039884514191165,1325.8124866183191,89,79.833973456340502,35.624160000000003,57.491999999999997,1,97.8,25.966899999999999,156.69999999999999,71.84]
[null,"Julio",19.960958340000001,65.69,39.48919130180392,63.240405760090802,41.06,23.783767027994134,63.214510233067045,1340.5290052197827,89,78.949870518734301,36.162280000000003,57.765999999999998,1,97.7,26.336030000000001,157,71.84]
[null,"Agosto",20.152488330000001,67.66,39.880694001019094,65.013832730368165,40.74,23.822106697537656,63.330927378984306,1346.4273328427496,89,80.121914704216195,36.561300000000003,58.039000000000001,1,97.6,26.686070000000001,157.30000000000001,71.8]
[null,"Septiembre",20.336158309999998,67.25,40.013594581626023,66.120451159821243,41.16,23.952179318749739,63.505553097860172,1348.4469738420139,89.1,81.728188880796296,36.996609999999997,58.15,1,98,27.112749999999998,157.80000000000001,71.930000000000007]
[null,"Octubre",20.599898289999999,67.28,40.162960131678034,67.092289139533221,42.22,24.006748664357701,63.796595962653299,1352.4923147635398,89.3,81.473718540098702,37.423439999999999,58.15,1,98.2,27.451170000000001,158.30000000000001,72]
[null,"Noviembre",20.810268270000002,66.89,40.619072212036251,68.418812513300693,42.82,24.16410595837376,63.854804535611926,1356.8202901707832,89.7,81.316402848587899,37.723979999999997,58.15,1,97.9,27.867080000000001,158.6,72.010000000000005]
[null,"Diciembre",21.034758249999999,67.08,40.97274387199095,69.177839256579404,43.59,24.443068216524807,64.378681692239553,1363.1973455345858,89.7,81.720928218823403,37.996510000000001,58.368000000000002,1,98,28.759340000000002,158.6,72.19]
[1997,"Enero",21.46803822,67.61,41.411426899632318,70.589487124920197,43.49,25.129183652466285,64.20405597336368,1379.283074211894,89.9,82.384892773326897,38.62612,58.808,1,97.9,29.498889999999999,159.1,72.42]
[null,"Febrero",21.6030482,68.540000000000006,42.375971940500321,72.29907072426758,43.48,25.097900363820344,64.20405597336368,1386.1794895829532,90.1,83.126304928380705,39.831029999999998,59.136000000000003,1,97.7,29.994599999999998,159.6,72.59]
[null,"Marzo",21.83853818,68.67,42.388041065609535,72.845286231113008,43.45,25.132947055611666,64.14584740040506,1393.2490049798264,90.2,82.471698632354105,40.450159999999997,59.354999999999997,1,97.8,30.367889999999999,160,72.650000000000006]
[null,"Abril",22.130528160000001,68.709999999999994,42.365883546308673,73.270908703979572,43.6,25.350283587257167,63.971221681529194,1405.5095962236487,90.2,83.230368212349305,41.10718,59.628999999999998,1,99.8,30.695969999999999,160.19999999999999,72.599999999999994]
[null,"Mayo",22.243558149999998,68.56,42.432666058573098,74.193090728523799,43.93,25.397561339270961,64.145847400405074,1411.2721855681657,90.3,82.984827223436099,41.774349999999998,59.683999999999997,1,100,30.976120000000002,160.1,72.8]
[null,"Junio",22.417818140000001,68.819999999999993,42.45385438373264,75.150741292473583,44.83,25.507876093969813,64.204055973363694,1418.8930553702339,90.5,82.069324269644696,42.276919999999997,59.792999999999999,1,100,31.250959999999999,160.30000000000001,72.83]
[null,"Julio",22.610908120000001,69.36,42.641494028609358,76.200610058877771,45.59,25.991943823543888,64.320473119280948,1422.0146200920485,90.5,81.081517358582204,42.630099999999999,59.902999999999999,1,99.6,31.523209999999999,160.5,72.900000000000006]
[null,"Agosto",22.862088100000001,68.900000000000006,43.090199489159261,77.144073207065333,45.33,26.151888457222395,64.320473119280948,1421.7302171680301,90.6,81.644230800356098,43.119900000000001,60.341000000000001,1,99.7,31.8035,160.80000000000001,73.02]
[null,"Septiembre",22.771038109999999,68.67,43.34719806294131,77.38525927502306,44.95,26.317007770225793,64.378681692239581,1422.5832552983309,90.6,83.199295945617905,43.66319,60.616999999999997,1,100.4,32.19961,161.19999999999999,73.069999999999993]
[null,"Octubre",22.810288100000001,68.45,43.568969638914048,77.179541746470875,45.18,26.401919553693357,64.087638827446455,1425.8551967855169,90.6,82.695824229181795,44.084960000000002,60.616999999999997,1,100.7,32.456940000000003,161.6,73.09]
[null,"Noviembre",23.193338069999999,68.37,43.730077997614664,77.775413208484082,46.49,26.443787413685673,64.029430254487835,1428.2791506200524,90.5,82.210883709638196,44.443390000000001,60.67,1,100,32.820039999999999,161.5,73.180000000000007]
[null,"Diciembre",23.391138059999999,68.38,43.892343056299588,77.945662197630696,46.75,26.488007400643848,64.087638827446455,1434.4207509677185,90.4,82.047812575867894,44.715890000000002,62.204999999999998,1,99.8,33.279870000000003,161.30000000000001,73.260000000000005]
[1998,"Enero",23.763198020000001,69.22,44.429284634943016,78.591189614811668,47.04,26.512704733785384,64.320473119280962,1444.6051382995895,90.9,82.632047422513594,45.517780000000002,63.685000000000002,1,99.7,34.003929999999997,161.6,73.2]
[null,"Febrero",24.003388009999998,69.400000000000006,44.684753211629463,80.541959282116764,47.69,26.49671027041753,64.145847400405074,1451.2503219357675,91,83.043178765072398,47.012819999999998,64.781999999999996,1,99.6,34.599240000000002,161.9,73.400000000000006]
[null,"Marzo",24.256137979999998,69.7,44.976149568821739,81.903951195289764,48.2,26.453195921549117,64.262264546322342,1456.1845730303492,91.1,83.049000566480501,48.235880000000002,64.671999999999997,1,100,35.004530000000003,162.19999999999999,73.459999999999994]
[null,"Abril",24.45080797,70.56,45.306233235250915,83.322692771511669,49.2,26.421912632903169,64.204055973363708,1459.679416005622,91,82.980676539613199,49.636809999999997,64.891000000000005,1,100.2,35.332039999999999,162.5,73.61]
[null,"Mayo",24.636047949999998,70.930000000000007,45.538631611231864,84.315811874866981,50.19,26.538578130409846,64.320473119280962,1466.97781308565,91.3,82.154979363923303,50.41245,64.561999999999998,1,100.5,35.613480000000003,162.80000000000001,73.760000000000005]
[null,"Junio",24.833857940000001,71,45.606445204326853,85.798396822018859,51.15,26.677824046788785,64.495098838156849,1467.2712086482672,91.4,81.002422918183996,51.027990000000003,64.287999999999997,1,100.1,36.034419999999997,163,73.8]
[null,"Julio",25.256147899999998,71.31,45.742034805877751,87.493793005604033,50.69,26.846706762937561,64.553307411115469,1465.5104831978895,91.4,79.946376143076805,51.271970000000003,64.287999999999997,1,99.5,36.381880000000002,163.19999999999999,73.83]
[null,"Agosto",25.766357859999999,70.44,45.807925910568272,87.621479747464008,50.43,26.908332489443104,64.553307411115469,1458.0363797335801,91.4,80.501211459092005,51.288609999999998,64.507000000000005,1,99.4,36.731630000000003,163.4,73.849999999999994]
[null,"Septiembre",25.665887869999999,69.709999999999994,45.728343406737949,87.883946939065055,50.57,27.084036373792877,64.902558848867216,1454.8286996981662,91.2,81.951306951525396,51.437350000000002,64.781999999999996,1,100.2,37.327379999999998,163.6,73.790000000000006]
[null,"Octubre",25.745947860000001,69.760000000000005,45.732665648070046,88.373412782861593,51.77,27.67959492154873,65.018975994784469,1455.1196654381058,91.6,81.786169782309599,51.620890000000003,65,1,100.9,37.862270000000002,164,73.77]
[null,"Noviembre",26.085047830000001,71.3,46.944611429967729,89.487124920195782,54.83,28.18318530493945,65.018975994784469,1453.37352183958,91.6,81.224352998300603,51.712470000000003,64.781999999999996,1,100.8,38.532789999999999,164,73.77]
[null,"Diciembre",26.28127782,71.260000000000005,47.174303841497597,90.139746045257851,55.38,28.55929040678053,64.960767421825835,1458.1696544616507,91.3,81.227334304442806,52.184809999999999,64.671999999999997,1,100.4,39.472969999999997,163.9,73.81]
[1999,"Enero",26.753807779999999,71.39,47.224555950668204,91.686174363339717,55.2,28.408283855572286,65.018975994784469,1468.3768420428821,91.5,81.640462895524806,53.337609999999998,64.617000000000004,1,99.9,40.469769999999997,164.3,73.760000000000005]
[null,"Febrero",26.948477759999999,71.22,46.993534482758598,92.473575938142858,55,28.331581489162243,65.018975994784469,1483.7947988843323,91.6,81.963617382859894,54.24344,64.891000000000005,1,99.5,41.013640000000002,164.5,73.94]
[null,"Marzo",26.848007769999999,71.069999999999993,46.772296870051008,92.750230545506128,53.95,28.479304565211216,65.135393140701737,1500.1165416720598,92,81.554118313506507,54.752220000000001,65,1,99.6,41.394680000000001,165,74.150000000000006]
[null,"Abril",26.880967770000002,70.67,46.879941519473526,93.069447400156065,54.15,28.553166103235707,65.193601713660357,1508.5171943054233,92.5,81.155101561867795,55.181370000000001,65.164000000000001,1,100.1,41.77458,166.2,74.400000000000006]
[null,"Mayo",27.099187749999999,70.2,47.236559446685312,93.80009931191033,54.88,28.538961961307916,65.193601713660357,1513.0427458883394,92.7,80.347569798494803,55.445430000000002,65.055000000000007,1,100.1,42.025880000000001,166.2,74.45]
[null,"Junio",27.47595772,70.150000000000006,47.532165705576517,94.920905157125617,55.31,28.382716400102272,65.310018859577596,1515.9175271055271,92.9,79.301372501416196,55.60033,64.671999999999997,1,99.8,42.302010000000003,166.2,74.45]
[null,"Julio",27.545027709999999,70.55,48.128260679535053,95.65155706887991,55.76,28.311695690463338,65.42643600549485,1532.4410281509772,93.1,78.827126325159796,55.773820000000001,64.451999999999998,1,99.4,42.581580000000002,166.7,74.58]
[null,"Agosto",27.708297699999999,70.540000000000006,48.572241927772865,96.438958643683051,56.66,28.391238885258943,65.484644578453469,1541.0226979086228,93.3,79.4546961236546,56.049959999999999,65.111000000000004,1,99.7,42.821249999999999,167.1,74.67]
[null,"Septiembre",27.89039768,70.72,48.834185159516167,97.141235723912885,57.41,28.504872020681233,65.484644578453469,1545.7998682721397,93.6,81.295696366431997,56.235390000000002,65.275000000000006,1,100,43.235019999999999,167.9,74.709999999999994]
[null,"Octubre",28.30013765,71.12,49.195614523968054,98.027949209051584,58.45,29.504843612397377,65.542853151412103,1564.1948867045783,93.7,81.295452779800897,56.432020000000001,65.768000000000001,1,100.2,43.508850000000002,168.2,74.739999999999995]
[null,"Noviembre",28.565447630000001,70.8,49.361981982155953,98.964318649358006,59.06,29.928127041845404,65.659270297329343,1579.0547381282718,93.6,80.493333333333297,56.702249999999999,65.658000000000001,1,99.6,43.895769999999999,168.3,74.84]
[null,"Diciembre",28.93907759,70.53,49.493418087189575,100,59.37,30.016192721797676,65.95031316212247,1588.5290665570415,93.7,80.415061098972203,57.002360000000003,65.548000000000002,1,99.3,44.335520000000002,168.3,75.09]
[2000,"Enero",29.45399755,71,49.714417993008603,100.49655955167766,59.89,30.109940058521065,65.948683322079674,1598.3779467696952,93.5,81.477181354697805,57.737290000000002,65.838999999999999,1,99.2,44.93083,168.8,75.13]
[null,"Febrero",29.881007520000001,71.349999999999994,50.104694895199444,102.01461303823507,61.16,30.124144200448853,65.89210458916385,1600.4558381004958,94.1,82.537362628469694,59.066429999999997,66.040000000000006,1,98.9,45.32938,169.8,75.37]
[null,"Marzo",30.083517499999999,71.41,50.644107190856467,102.97935731006598,61.76,30.109940058521065,66.29956459987423,1603.9768409443168,94.8,81.391010763130197,60.076970000000003,66.372,1,99.1,45.580680000000001,171.2,75.599999999999994]
[null,"Abril",29.978337509999999,71.47,51.129989221272098,104.3,62.13,30.129825857219966,66.241356026915597,1610.7135436762828,94.5,80.911636319495003,60.675409999999999,66.105999999999995,1,99.3,45.840020000000003,171.3,75.67]
[null,"Mayo",29.954787509999999,71.900000000000006,50.715240865663127,105.3,62.62,30.152552484304426,66.29956459987423,1610.8746150306504,94.9,80.427916970138398,60.991700000000002,65.772999999999996,1,99.4,46.011380000000003,171.5,75.760000000000005]
[null,"Junio",30.35981748,72.7,50.969473266946899,106.3,63.03,30.447998636402378,66.474190318750104,1614.5796266452207,95.5,79.697878935016604,60.979889999999997,66.105999999999995,1,99.2,46.283920000000002,172.4,76.040000000000006]
[null,"Julio",30.760137440000001,72.61,51.083867998099748,107,62.84,30.587199227294683,66.590607464667357,1640.5743586342087,95.8,79.221262442340404,60.956200000000003,66.372,1,98.9,46.464469999999999,172.8,76.14]
[null,"Agosto",30.962647430000001,72.92,50.860308743511503,107.5,62.92,30.936621118718222,66.415981745791484,1662.065882732317,95.7,79.693059804159603,61.148600000000002,66.703999999999994,1,99.2,46.71978,172.8,76.2]
[null,"Septiembre",31.080387420000001,73.06,50.930628342641455,107.7,63.18,32.126928212266698,66.707024610584625,1665.8886342626013,96.1,81.295696366431997,61.40907,67.569999999999993,1,99.1,47.061070000000001,173.7,76.5]
[null,"Octubre",31.276627399999999,73.05,51.084966302298056,108.3,63.87,32.212153063833412,66.532398891708738,1668.2208783505691,96.3,81.295452779800897,61.503050000000002,67.504000000000005,1,99.1,47.38514,174,76.52]
[null,"Noviembre",31.53565738,73.209999999999994,51.422182152971608,109.5,64.52,32.365557796653505,66.357773172832879,1673.559185161291,96.6,81.539746702274002,61.705030000000001,67.103999999999999,1,98.8,47.790289999999999,174.1,76.680000000000007]
[null,"Diciembre",31.90457735,73.56,52.009242916221488,110.1,65.22,32.723502173233719,66.415981745791498,1683.4331843537427,96.7,81.621286720077705,61.98903,67.37,1,98.9,48.307670000000002,174,76.959999999999994]
[2001,"Enero",32.347887309999997,74.89,52.720079545454531,111.1,65.69,33.541660748274197,66.415981745791498,1693.0287535045591,96.3,82.454908149227194,62.640439999999998,68.102999999999994,52.03,98.9,48.575479999999999,175.1,76.63]
[null,"Febrero",32.721027280000001,74.75,53.107102909482748,112.5,66.48,33.587114002443116,66.415981745791498,1700.8166857706799,96.8,82.537362628469694,63.826160000000002,68.435000000000002,52.47,98.6,48.543329999999997,175.8,76.86]
[null,"Marzo",33.280207230000002,74.900000000000006,53.388797293756411,113.5,66.489999999999995,33.445072583165256,66.532398891708752,1707.2797891766086,97.1,82.042138868657403,64.771569999999997,69.034999999999997,52.88,98.4,48.85089,176.2,77.27]
[null,"Abril",33.697757199999998,75,53.622334186393687,114.2,66.95,33.652453055310929,66.648816037626005,1717.1820119538329,97.8,82.206223193331695,65.514840000000007,69.301000000000002,53.17,98.6,49.09731,176.9,77.73]
[null,"Mayo",33.928377179999998,75.12,53.78291348668408,115.6,67.45,33.740518735263201,66.707024610584625,1724.2224582028437,98.6,81.795191389495798,65.78895,69.233999999999995,53.72,98.7,49.209969999999998,177.7,78.099999999999994]
[null,"Junio",34.022747170000002,75.23,54.178799851308987,116.3,67.88,33.550183233430872,66.241356026915639,1733.1884149854986,98.7,80.813649753176406,65.815470000000005,69.433999999999997,53.71,98.4,49.326360000000001,178,78.209999999999994]
[null,"Julio",34.22971716,75.2,54.64709641941181,116.9,67.61,33.470640038635267,66.299564599874259,1756.239820904806,98.4,80.409580804402395,65.887259999999998,69.566999999999993,53.69,98.1,49.1982,177.5,78.03]
[null,"Agosto",34.501907129999999,75.459999999999994,55.332927022739284,117.7,67.760000000000005,33.717792108178749,66.357773172832879,1768.5334996511394,98.4,80.489991098163003,66.058980000000005,69.832999999999998,54.19,98.5,49.489690000000003,177.5,77.97]
[null,"Septiembre",34.71161712,75.459999999999994,55.507412796384493,118.6,67.790000000000006,34.024601573818927,66.939858902419132,1773.4853934501625,98.6,81.214400744517306,66.304079999999999,69.766999999999996,55,98.3,49.950380000000003,178.3,78.180000000000007]
[null,"Octubre",34.70850712,74.459999999999994,55.922426879021131,118.8,67.91,34.109826425385641,66.939858902419132,1788.2053222157988,98.1,81.458044023630407,66.426910000000007,69.766999999999996,55.3,98.3,50.176139999999997,177.7,78.239999999999995]
[null,"Noviembre",35.017137089999999,75.42,56.313302343228585,119.4,68.23,34.075736484758956,66.648816037626005,1800.9015800035311,97.2,81.295127458120902,66.504549999999995,69.367999999999995,55.66,97.8,50.36515,177.4,78.19]
[null,"Diciembre",35.400057060000002,74.599999999999994,56.643266460056822,119.8,68.260000000000005,34.158120507940119,66.415981745791498,1812.6074402735539,97.4,81.376423080035593,66.728930000000005,69.501000000000005,56.28,97.7,50.434899999999999,176.7,78.540000000000006]
[2002,"Enero",35.79632702,75.52,57.385159090909077,120.2,68.430000000000007,34.351296838158007,66.939858902419132,1822.0329989629765,97.6,81.620551913895,67.260019999999997,69.900000000000006,56.55,97.5,50.900469999999999,177.1,78.63]
[null,"Febrero",35.956627009999998,75.760000000000005,57.891995150862058,121.5,68.98,34.365500980085791,66.881650329460513,1828.5923177592433,98.2,82.518378247147396,68.105199999999996,70.233000000000004,56.97,97,50.867750000000001,177.8,78.760000000000005]
[null,"Marzo",36.237636989999999,76.2,58.261708170850675,122.2,69.180000000000007,34.757535297292691,67.11448462129502,1839.5638716657988,98.9,81.445639718378203,68.587609999999998,70.632000000000005,57.66,97.2,51.127949999999998,178.8,79.209999999999994]
[null,"Abril",36.300806979999997,76.48,58.58409042439753,123.1,69.569999999999993,34.993324053293946,67.11448462129502,1854.2803826391253,99.5,81.201302095977994,69.215180000000004,71.031999999999996,57.85,97.5,51.407229999999998,179.8,79.56]
[null,"Mayo",36.528486960000002,76.459999999999994,58.791418049847877,123.7,69.89,34.868327604329423,66.998067475377766,1858.1743714426675,99.7,80.957698470502606,69.62961,71.298000000000002,58.12,97.8,51.511429999999997,179.8,79.709999999999994]
[null,"Junio",36.761036939999997,76.959999999999994,59.130150284105966,125.1,70.010000000000005,34.908099201727225,67.0562760483364,1865.9787038027266,99.9,80.229079064497896,69.928200000000004,71.230999999999995,58.62,97.7,51.76258,179.9,79.67]
[null,"Julio",37.300156899999998,77.09,59.61879647431833,126.1,70.12,35.047299792619533,67.172693194253654,1888.1838503779791,100.5,79.667475924577204,69.944000000000003,71.031999999999996,59.21,97.3,51.911180000000002,180.1,79.59]
[null,"Agosto",37.742206860000003,76.8,59.608109465891054,126.9,70.2,35.359790915030821,67.405527486088147,1900.4570454054358,100.9,79.906478109573499,70.010009999999994,71.498000000000005,60.07,97.6,52.108559999999997,180.7,79.64]
[null,"Septiembre",37.89213685,76.53,59.449567663775056,127.1,70.53,35.856935882503336,67.347318913129527,1914.1403361323551,100.9,80.705542607428995,70.262200000000007,71.897999999999996,60.8,97.6,52.421979999999998,181,79.84]
[null,"Octubre",38.141466829999999,76.63,59.614877644770687,127.8,70.58,36.899519900002836,67.5219446320054,1939.215574535689,101.2,80.866953953224893,70.655050000000003,71.697000000000003,62.15,97.4,52.653030000000001,181.3,80.03]
[null,"Noviembre",38.535456799999999,76.48,59.886191030871551,128.6,70.44,37.075651259907389,67.589466576637406,1997.7798848866669,101.5,80.786087238002807,71.204920000000001,71.763999999999996,63.1,97.4,53.078879999999998,181.3,79.97]
[null,"Diciembre",38.827826770000001,76.69,60.226703296984489,129.5,70.900000000000006,37.748927587284456,67.454422687373395,2039.7332624692867,101.1,81.028445415553904,71.395129999999995,72.096000000000004,64.83,97.4,53.309930000000001,180.9,80.36]
[2003,"Enero",39.079356750000002,77.599999999999994,60.94247727272726,130.6,71.569999999999993,38.990369591772961,67.589466576637406,2085.6272608748454,102,81.919758031884797,72.233410000000006,72.563999999999993,69.260000000000005,97.1,53.525440000000003,181.7,80.3]
[null,"Febrero",39.397016729999997,77.790000000000006,61.366242995689639,132.30000000000001,72.62,40.541461890287209,67.589466576637406,2118.3716088705805,102.8,82.657035688273893,73.035579999999996,72.962000000000003,71.75,96.8,53.674120000000002,183.1,80.62]
[null,"Marzo",39.652066699999999,78.02,61.626460932302109,132.80000000000001,72.77,41.260191471833188,67.656988521269412,2144.4275796596885,103.1,82.161094116694997,73.800349999999995,73.828000000000003,74.069999999999993,97.1,54.012929999999997,184.2,81.08]
[null,"Abril",40.033806669999997,77.989999999999995,61.907530923437832,133.5,72.62,41.379506264026588,67.656988521269412,2165.2285271823876,102.4,81.996771870195005,74.647279999999995,73.694999999999993,75.67,97.4,54.105139999999999,183.8,81.209999999999994]
[null,"Mayo",40.24390666,77.89,62.062808880824015,133.69999999999999,73.17,41.873810403113552,67.5219446320054,2178.4364211982002,102.5,81.422794367564904,75.012960000000007,73.561999999999998,76.709999999999994,97.6,53.93056,183.5,81.150000000000006]
[null,"Junio",40.51354663,78.150000000000006,62.229945302957866,134.1,73.98,44.024317490980373,67.589466576637406,2175.1687665664031,102.5,80.445720644169299,74.971950000000007,73.361999999999995,77.900000000000006,97.3,53.975110000000001,183.7,81.25]
[null,"Julio",40.83858661,77.86,62.390675270620804,134.6,73.92,45.635067185591318,67.656988521269412,2179.519104099536,102.6,80.043491947883794,74.864649999999997,73.296000000000006,78.7,97.1,54.053339999999999,183.9,81.13]
[null,"Agosto",41.00802659,78.11,62.567451084082485,135.80000000000001,73.87,47.032754751285481,67.724510465901417,2186.9294690534743,102.9,80.603796228858101,75.095910000000003,73.628,81.37,97.3,54.215490000000003,184.6,81.25]
[null,"Septiembre",41.06161659,78.16,62.824842741527654,136.4,74.03,47.740121019289226,67.589466576637406,2203.9875189120917,103.1,81.571042324188696,75.261219999999994,74.293999999999997,84.15,97.4,54.538240000000002,185.2,81.540000000000006]
[null,"Octubre",41.540746550000001,78.41,63.094102380385415,137,74.319999999999993,48.97872219539218,67.386900742741389,2210.3790827169364,102.8,82.305181678400899,75.306579999999997,74.36,85.44,97.4,54.738210000000002,185,81.66]
[null,"Noviembre",42.130716499999998,78.459999999999994,63.381069048478651,137.9,74.930000000000007,51.924661231215026,67.454422687373395,2217.8943715981741,103.1,83.128233389981403,75.568889999999996,74.227000000000004,86.72,96.9,55.192540000000001,184.5,81.7]
[null,"Diciembre",42.659306450000003,78.62,63.752929966704301,138.30000000000001,75.5,53.850742876622824,67.319378798109383,2229.4274223304847,103.2,83.627002508699505,76.029129999999995,74.561000000000007,88.05,97,55.429810000000003,184.3,81.95]
[2004,"Enero",43.385546390000002,79.489999999999995,64.728628787878762,139.6,76.69,58.822192551347975,67.589466576637406,2246.3710707401965,103.3,84.546899732944894,76.702879999999993,75.027000000000001,89.24,96.8,55.774320000000003,185.2,81.75]
[null,"Febrero",43.94632635,79.84,65.209759698275846,141.19999999999999,77.650000000000006,65.441322689696321,67.589466576637406,2260.0739342717116,103.5,84.377806101804595,77.622879999999995,75.358999999999995,90.63,96.8,56.107939999999999,186.2,81.94]
[null,"Marzo",44.149206329999998,80.349999999999994,65.672485118406001,141.69999999999999,78.02,66.97537001789722,67.454422687373395,2270.6962817627882,103.9,84.6309395484341,78.38691,76.090999999999994,93.29,97,56.298070000000003,187.4,82.46]
[null,"Abril",44.552576299999998,81.03,66.026724781403288,143.19999999999999,78.67,67.441265873128614,67.454422687373395,2279.0978580053106,104.1,85.054094035769197,78.744450000000001,76.090999999999994,97.44,97,56.383029999999998,188,82.88]
[null,"Mayo",44.851326270000001,81.599999999999994,66.572023269466811,144.30000000000001,79.37,69.213942785716313,67.656988521269412,2290.721257081138,105,84.969040220118202,79.044330000000002,76.025000000000006,98.81,97.1,56.241599999999998,189.1,83.14]
[null,"Junio",45.329526229999999,81.73,66.838029844405469,145.19999999999999,79.62,70.591744552711575,67.92707629979742,2306.9853780064145,105.1,84.374256696609194,79.521330000000006,76.025000000000006,99.34,97.3,56.33175,189.7,83.18]
[null,"Julio",45.91731618,81.99,67.15435440272789,147.1,80.11,71.026391295701828,67.99459824442944,2327.9789449462733,105,84.205507809338798,79.496750000000006,76.491,99.57,97,56.479390000000002,189.4,83]
[null,"Agosto",46.361066149999999,82.17,67.357527763088299,147.6,80.290000000000006,71.412743956137618,68.197164078325457,2344.0419996664023,104.8,84.794946993606899,79.520740000000004,77.156000000000006,100,97.1,56.828040000000001,189.5,83.17]
[null,"Septiembre",46.721066120000003,82.34,67.879954260134028,147.80000000000001,80.77,70.603107866253808,68.062120189061446,2351.7773382653018,105,85.727691187181406,79.756299999999996,77.156000000000006,102.4,97.4,57.297919999999998,189.9,83.26]
[null,"Octubre",47.071746089999998,82.69,68.544367736027027,149.1,81.87,71.554785375415477,68.129642133693451,2362.1251585536688,105.2,85.727691187181406,79.748369999999994,77.156000000000006,103,97.9,57.694749999999999,190.9,83.59]
[null,"Noviembre",47.730356030000003,82.71,69.22666858983338,150.4,82.57,70.373000767023669,68.129642133693451,2378.423822147689,105.6,85.470508213967804,79.96987,76.691000000000003,103.6,97.7,58.186900000000001,191,83.53]
[null,"Diciembre",48.260025990000003,82.84,69.635175340528946,151,82.48,69.327575921138603,68.39972991222146,2398.878267018159,105.4,85.555978797442805,80.208849999999998,76.823999999999998,104.9,97.2,58.307090000000002,190.3,83.85]
[2005,"Enero",49.206205910000001,84.03,70.579481060606042,152.19999999999999,82.97,69.873014971165603,68.669817690749497,2412.7917609668643,105.3,86.069314558549806,56.445903162217,77.58,107,97,58.309159999999999,190.7,83.32]
[null,"Febrero",49.744285869999999,84.11,71.102458512931022,154,83.99,69.901423255021172,69.007427413909525,2427.0272323565687,105.7,87.618561948693099,57.023042594540001,77.894999999999996,108.1,96.7,58.503430000000002,191.8,83.62]
[null,"Marzo",50.159195830000002,84.17,71.429488683980551,155.19999999999999,84.81,69.850288344081136,69.480081026333565,2441.8320984739439,106.3,86.829995144452496,57.464121860613503,78.364999999999995,109.2,97,58.767119999999998,193.3,84.25]
[null,"Abril",50.639825790000003,84.59,71.88825442525058,156.6,86.24,70.069032129769042,69.682646860229568,2463.0760377306669,106.6,86.569504734158798,57.716212425706601,78.444000000000003,110.32,97.1,58.976410000000001,194.6,84.6]
[null,"Mayo",51.334385730000001,85.2,72.246248065325275,157.19999999999999,86.96,69.858810829237811,69.480081026333565,2475.1451103155468,106.7,86.396365622724005,57.951608958633102,78.364999999999995,112.31,97.2,58.828249999999997,194.4,84.78]
[null,"Junio",51.568855710000001,85.23,72.720358982528779,158.30000000000001,87.59,69.898582426635613,69.547602970965556,2474.6500812934837,106.9,85.705195435785399,58.1839838556836,78.129000000000005,113.71,96.8,58.77178,194.5,84.87]
[null,"Julio",52.230205660000003,85.37,73.400182609780956,159.69999999999999,88.32,70.316184199312531,69.817690749493579,2480.8367064967174,107.1,85.705195435785399,58.212300262295301,78.444000000000003,114.79,96.7,59.001800000000003,195.4,84.78]
[null,"Agosto",52.882815600000001,85.6,73.671483342147013,161,88.9,71.256498394931967,69.817690749493579,2485.054128897762,107.5,85.876605163065506,58.213195794480299,78.679000000000002,116,96.8,59.072249999999997,196.4,84.98]
[null,"Septiembre",52.973555599999997,85.95,74.29245683466246,161.6,89.5,73.580296014317781,70.42538825118163,2493.7518183489042,108.4,86.477741361171795,58.462238199751098,79.070999999999998,117.6,97.1,59.309010000000001,198.8,85.42]
[null,"Octubre",53.631405540000003,87.59,75.597583176064205,161.69999999999999,90.33,74.398454589358252,70.830519918973664,2512.4549569865212,107.9,86.823652990208004,58.596748809141097,78.914000000000001,118.7,97.1,59.45458,199.2,85.64]
[null,"Noviembre",54.502535469999998,86.47,75.628744244110635,162,90.07,73.773472344535662,70.42538825118163,2526.2734592499473,107.7,86.563182002104099,58.663731545388501,78.599999999999994,120.1,96.7,59.882489999999997,197.6,85.45]
[null,"Diciembre",55.052605419999999,86.37,75.600635503019575,162.69999999999999,90.39,74.483679440924973,70.695476029709653,2535.3680437032472,107.6,86.909434328720593,58.7037122063605,78.835999999999999,121,96.8,60.250309999999999,196.8,85.74]
[2006,"Enero",55.69915537,86.83,76.284712121212095,163.30000000000001,91.49,75.637055765461213,70.762997974341658,2550.36,108.2,88.039257101238206,59.021600306103103,79.305999999999997,122.5,96.9,60.603630000000003,198.3,85.35]
[null,"Febrero",56.192365330000001,87.26,76.267021551724127,164.44309999999999,92.8,75.546149257123389,70.627954085077647,2560.8200000000002,108,88.479452941652497,59.4097908233651,79.463999999999999,124.6,96.6,60.696359999999999,198.7,85.59]
[null,"Marzo",56.286945320000001,87.57,76.630033910335158,164.8,93.41,75.617169966762319,70.89804186360567,2571.83,108.6,87.6831383021769,59.827050887712502,79.933999999999997,125.9,96.8,60.772509999999997,199.8,86.09]
[null,"Abril",56.528745299999997,88.16,77.266090850927711,165.7,94.73,76.066020851680349,71.708305199189738,2577.23,109.2,87.858504491381396,60.094937858791297,80.013000000000005,127,97,60.861620000000002,201.5,86.66]
[null,"Mayo",57.424705230000001,88.27,77.748841863692149,166.8,95.58,76.500667594670617,71.640783254557718,2579.81,109.7,87.770645787812597,60.291943073524799,80.168999999999997,128.30000000000001,97.3,60.590679999999999,202.5,86.89]
[null,"Junio",57.973635180000002,89,78.212613244118714,167.3,95.91,77.080196585324273,71.775827143821729,2574.39,109.5,87.331792506271796,60.475413397689103,80.013000000000005,128.5,97.3,60.643000000000001,202.9,86.96]
[null,"Julio",58.511415139999997,90.11,78.564302018276962,168.2,96.42,77.770517883014691,71.775827143821729,2579.2800000000002,109.6,87.069797685522403,60.725243145364203,80.325999999999993,129.30000000000001,97,60.809289999999997,203.5,86.85]
[null,"Agosto",59.024660500000003,89.63,78.825626652564779,168.8,96.59,77.918240959063652,71.843349088453749,2580.5700000000002,109.8,87.331006716840605,60.963500076493602,80.796999999999997,130.19999999999999,97.7,61.119610000000002,203.9,86.93]
[null,"Septiembre",58.927597710000001,89.59,78.525852694894553,168.8,96.2,77.060310786625379,71.573261309925726,2585.9899999999998,109.2,87.767662053896601,61.137972500893902,81.031999999999996,132.19999999999999,97.7,61.736609999999999,202.9,86.93]
[null,"Octubre",59.04034644,89.24,78.508784168669493,169,96.63,77.139853981420998,71.775827143821729,2594.52,109,87.855429311321501,61.049566792063899,80.64,132.69999999999999,97.5,62.006520000000002,201.8,87]
[null,"Noviembre",59.639277659999998,89.8,78.957199498974546,169.9,97.36,77.634158120507934,71.843349088453749,2602.56,109.2,88.118995710933106,61.1942444488486,80.248000000000005,133,97,62.331859999999999,201.5,87.03]
[null,"Diciembre",60.246111669999998,90.59,79.97981375656542,171.3,98.93,78.208005454390502,72.248480756245769,2615.0500000000002,109.4,89.352661649267603,61.3324118728275,80.483000000000004,133.5,97.1,62.692419999999998,201.8,87.37]
[2007,"Enero",60.819777950000002,91.64,81.033003787878769,172.4,99.8,78.938098349478707,72.383524645509794,2626.56,109.4,89.978130614226799,61.8025523100032,80.64,134.19999999999999,96.9,63.016210000000001,202.416,86.92]
[null,"Febrero",61.034674459999998,91.44,81.317163254310344,173.9807998,100.98,79.17956876225108,72.586090479405797,2638.12,110.2,90.877911305333001,62.526884986012703,81.188999999999993,135.30000000000001,96.4,63.192349999999998,203.499,87.17]
[null,"Marzo",61.475766579999998,92,82.012598219612187,175.2,102.11,79.80455100707367,73.193787981093848,2647.88,111.1,90.605277980092197,63.285330248886801,81.66,136,96.7,63.32911,205.352,87.75]
[null,"Abril",62.044130039999999,92.07,82.2122440818938,176.2,103.14,80.452259878980712,73.666441593517888,2654.5,111.6,90.514672655175204,63.8546793189985,81.972999999999999,137.19999999999999,97,63.291289999999996,206.68600000000001,88.31]
[null,"Mayo",62.690111039999998,91.69,81.998009286438588,176.9,103.93,81.307349223033441,74.071573261309922,2661.93,112.1,90.786216719268396,64.045981187290806,82.052000000000007,139,97.3,62.982529999999997,207.94900000000001,88.52]
[null,"Junio",63.046767809999999,92.3,82.368210928787619,177.6,104.98,81.63404448737252,74.40918298446995,2669.38,111.9,91.1493614955086,64.124389462382297,82.052000000000007,140.19999999999999,97.1,63.058169999999997,208.352,88.61]
[null,"Julio",63.632575320000001,92.96,82.953543489345066,178.8,105.83,81.844265787903765,74.746792707629979,2675.79,112,91.969705430120598,64.230167658003793,82.366,139.5,97,63.326000000000001,208.29900000000001,88.39]
[null,"Agosto",64.078774490000001,92.82,83.719722369116866,180.1,106.12,81.318712536575674,74.88183659689399,2688.37,111.7,93.073342235170401,64.144427605771398,82.444000000000003,140.1,97.5,63.584000000000003,207.917,88.45]
[null,"Septiembre",64.484519820000003,93.45,84.28306303552958,180.8,107.32,82.310161643135146,75.286968264686024,2693.21,111.9,93.352562110544596,64.197929197340798,82.915000000000006,142.6,97.5,64.077709999999996,208.49,88.78]
[null,"Octubre",64.852267810000001,94.11,84.56752380542757,183,109.53,82.702195960342038,75.692099932478044,2701.29,111.6,93.632620377114193,64.201739571618404,83.072000000000003,143.5,97.8,64.32741,208.93600000000001,89.21]
[null,"Noviembre",65.657271850000001,95.39,86.165385410289176,186.2,114.24,84.190790034374032,76.502363268062112,2711.55,111.9,94.288048069919896,64.506122794730999,83.072000000000003,145.30000000000001,97.6,64.781220000000005,210.17699999999999,89.69]
[null,"Diciembre",66.756019910000006,94.99,86.975056928797201,186.5,115.62,85.150990028692377,76.83997299122214,2731.62,112,95.230929028081206,64.824717967040598,83.385999999999996,146.80000000000001,97.8,65.049059999999997,210.036,90.05]
[2008,"Enero",67.243977920000006,95.99,87.830393939393915,187.7,117.05,86.079940910769579,77.920324105334231,2746.37,111.8,96.373699927166797,65.508879428464198,83.777000000000001,149,97.6,65.350560000000002,211.08,89.7]
[null,"Febrero",67.992150679999995,96.76,88.442491918103457,189.7,119.51,86.051532626914025,78.663065496286293,2759.83,112.2,98.879416525046494,66.498597448622505,84.091999999999999,151.4,97.4,65.544839999999994,211.69300000000001,90.02]
[null,"Marzo",68.259944270000005,97.51,89.475380619431064,191.4,121.42,87.523081730632654,79.608372721134373,2773.08,112.6,98.187259852715101,67.035588700313099,84.876000000000005,158.19999999999999,97.9,66.019890000000004,213.52799999999999,90.9]
[null,"Abril",68.835622259999994,98.32,90.736686926850098,193.3,123.1,89.167921365870285,79.945982444294401,2788.33,113.5,98.285447114995605,67.5122756662211,85.346999999999994,159.9,97.8,66.17013,214.82300000000001,91.19]
[null,"Mayo",70.147572589999996,99.39,92.035822170037889,196.8,126.53,89.46620834635381,80.621201890614444,2810.36,114.6,97.892305575787006,68.141286165418094,86.052000000000007,160.69999999999999,98.6,66.09863,216.63200000000001,91.76]
[null,"Junio",71.128081989999998,100.63,93.534754394349733,199.2,129.22,91.596829635521729,81.566509115462523,2831.16,115.4,97.696521000242797,68.728779010758103,86.600999999999999,162.30000000000001,99,66.372169999999997,218.815,92.11]
[null,"Julio",72.649185660000001,101.92,94.696324581373233,203.4,130.84,93.079742052782592,81.904118838622551,2846.16,115.8,97.794217852229494,69.060012843453194,87.228999999999999,165,99.2,66.742059999999995,219.964,91.97]
[null,"Agosto",73.948599549999997,102,95.177419354838705,205.3,131.5,93.164966904349313,82.241728561782566,2854.13,115.6,97.696423080035601,69.192123733706694,87.072000000000003,166.5,99.5,67.127489999999995,219.08600000000001,91.84]
[null,"Septiembre",74.65167855,101.56,95.027775378575626,205.6,131.78,94.309820743728878,82.849426063470631,2861.55,115.7,97.696423080035601,69.060099395277803,87.150999999999996,170.9,99.5,67.584940000000003,218.78299999999999,92.01]
[null,"Octubre",75.425670659999994,101.08,95.499258325998781,206.9,131.75,93.324053293940509,82.849426063470631,2874.43,114.5,97.403334142591206,69.299152044794496,87.072000000000003,169.4,99.4,68.045490000000001,216.57300000000001,92.04]
[null,"Noviembre",76.357747989999993,100.44,95.511063680586716,206.5,131.86000000000001,90.264481122695386,82.376772451046591,2884.78,114.1,96.624107793153698,69.492506726926507,86.837000000000003,165.4,98.6,68.818939999999998,212.42500000000001,91.59]
[null,"Diciembre",76.036663840000003,100.19,95.150909915227217,206.7,131.55000000000001,88.997471662736857,82.039162727886563,2892.86,113.3,96.430859431900899,69.799858538022704,86.837000000000003,161.69999999999999,98.2,69.295559999999995,210.22800000000001,91.47]
[2009,"Enero",76.322566910000006,99.65,94.752602272727259,206.6,131.63,89.247464560665904,81.769074949358526,2906.74,113,97.298736748401694,70.211208648347693,86.915999999999997,161,97.6,69.456149999999994,211.143,90.71]
[null,"Febrero",76.660065059999994,99.53,94.189563577586213,208.2,132.38999999999999,89.520184085679389,82.039162727886563,2922.73,113.8,97.298736748401694,70.798893443298596,87.543000000000006,160.30000000000001,97.3,69.609499999999997,212.19300000000001,91.08]
[null,"Marzo",76.670879690000007,100,93.947849514096035,208.2,131.69,89.65938467657169,82.579338284942594,2928.57,114,97.006840657117394,71.152107251447305,88.17,159.80000000000001,97.6,70.009950000000003,212.709,91.42]
[null,"Abril",76.924310689999999,100.08,94.023720409468979,208.9,131.57,89.787221953921772,82.916948008102622,2942.63,113.9,96.812826737881394,71.380638968286604,88.405000000000001,160,97.7,70.254990000000006,213.24,91.75]
[null,"Mayo",76.82823741,100.36,94.14740353311629,208.9,131.71,89.889491775801829,82.646860229574614,2956.46,114.7,96.522388929351806,71.390687355921699,88.405000000000001,160.1,97.5,70.050359999999998,213.85599999999999,91.8]
[null,"Junio",76.957789959999999,100.4,94.112065211619125,210,131.75,91.832618391522971,83.051991897366634,2967.1,115.1,96.039776644816698,71.350687150989302,88.326999999999998,160.6,97.3,70.179349999999999,215.69300000000001,91.98]
[null,"Julio",77.663953250000006,99.99,94.410295812524012,211.5,130.94,91.943410698559703,83.457123565158668,2974.22,114.7,96.039776644816698,71.322941707220494,88.641000000000005,160.9,97,70.370509999999996,215.351,91.38]
[null,"Agosto",78.172289750000004,99.8,94.480491803278682,211.7,131.34,92.727479332973502,83.72721134368669,2978.68,114.7,96.519975560411098,71.354392127480594,88.954999999999998,161.9,97.3,70.538889999999995,215.834,91.69]
[null,"Septiembre",78.260210720000003,99.73,95.058979770665786,211.9,131.79,92.829749154853559,83.254557731262651,2985.83,114.7,96.906045156591404,71.276208607933498,89.034000000000006,162.9,97.3,70.892719999999997,215.96899999999999,91.71]
[null,"Octubre",78.442808009999993,99.03,94.875182140238294,212.4,132.31,93.042811283770348,83.457123565158668,2994.19,114.6,96.811523832645406,71.185193780391401,88.798000000000002,163.5,96.9,71.107190000000003,216.17699999999999,91.92]
[null,"Noviembre",78.317506699999996,100.41,94.928584010985531,212.9,132.47,94.037101218715378,83.524645509790673,3006.47,115.2,97.102856680423997,71.138450211125701,88.954999999999998,164.1,96.7,71.476039999999998,216.33,92.03]
[null,"Diciembre",79.113899050000001,100,94.885662776354494,212.8,132.77841100000001,94.128007727053202,83.592167454422679,3017.59,114.8,98.073966173019301,71.197117690225497,89.269000000000005,165,96.5,71.771860000000004,215.94900000000001,92.32]
[2010,"Enero",80.400520540000002,100.44,96.11,214,134.06576799999999,95.363768074770604,84.267386900742736,3040.22,115.1,98.656631868576497,71.685380264673498,89.974000000000004,170.8,96.6,72.552049999999994,216.68700000000001,91.57]
[null,"Febrero",80.952606700000004,100.57,96.53,215.5,136.02094099999999,95.497287008891803,84.469952734638753,3063.93,115.6,99.846240997005694,72.279252817083901,90.156000000000006,168.6,96.6,72.971670000000003,216.74100000000001,91.85]
[null,"Marzo",81.149703770000002,100.89,97.64,216.5,137.51636999999999,96.318286412317846,84.807562457798781,3079.86,115.6,99.142186614874205,72.460955808829993,90.337999999999994,169.5,96.8,73.489720000000005,217.631,92.87]
[null,"Abril",81.198251279999994,100.71,97.55,217.6,137.94896,96.662026646970261,85.077650236326804,3097.42,116,99.344501092498206,72.794576098688495,90.701999999999998,170.1,96.9,73.255560000000003,218.00899999999999,93.25]
[null,"Mayo",81.616930089999997,100.5,97.45,218,137.86851999999999,96.991562739694899,85.280216070222821,3110.74,116.3,99.247390143238604,72.869757526319802,90.793000000000006,170.4,96.8,72.793980000000005,218.178,93.35]
[null,"Junio",81.815291970000004,100.96,97.94,218.9,137.85341599999998,96.826794693332573,85.347738014854826,3110.74,116.2,98.6485392894716,72.952605770412902,90.701999999999998,170.8,96.6,72.771190000000004,217.965,93.35]
[null,"Julio",82.076876150000004,100.98,98.3,220.3,139.055419,97.159171614442769,86.293045239702892,3111.05,116.8,99.045075665614604,72.921861724721296,90.884,170.6,96.1,72.929190000000006,218.011,92.95]
[null,"Agosto",82.242129079999998,100.81,98.35,221.3,138.35443699999999,97.372233743359558,86.765698852126931,3112.29,116.7,99.635833940276797,73.003703454854303,91.34,170.6,96.2,73.131749999999997,218.31200000000001,93.14]
[null,"Septiembre",82.173794409999999,101.11,98.63,222.6,138.94101800000001,98.122212437146672,86.765698852126931,3126.29,116.9,100.234684794044,72.904612085680796,92.067999999999998,170.5,96.4,73.515110000000007,218.43899999999999,93.43]
[null,"Octubre",82.563335640000005,101.78,99.15,224.7,141.915796,98.78412545098152,86.900742741390943,3149.74,117.4,100.93873917617501,72.840301986016797,92.067999999999998,171,96.7,73.96893,218.71100000000001,93.71]
[null,"Noviembre",83.104950029999998,102.24,99.92,226.6,144.11400699999999,99.090934916621691,87.10330857528696,3175.88,117.5,102.04742251355501,72.981634833580301,91.613,172.5,96.4,74.561580000000006,218.803,93.79]
[null,"Diciembre",83.721742340000006,102.13,100,226.6,145.034368,100,87.711006076975011,3195.89,117.5,102.557254997168,73.454936506349298,91.977000000000004,175.2,96.2,74.930949999999996,219.179,94.36]
[2011,"Enero",84.28810387,102.77,100.82,227.6,144.81706599999998,101.2437,88.318703578663062,3222.42,117.8,90.184229999999999,74.122234321950103,93.07,177.2,96.1,75.295990000000003,220.22300000000001,93.68]
[null,"Febrero",84.655649780000005,102.96,101.58,229.2,145.84598699999998,102.461,88.65631330182309,3248.2,118.1,91.33717,74.568876636749096,93.706999999999994,179.4,96.1,75.578460000000007,221.309,94.08]
[null,"Marzo",84.868862379999996,103.63,102.52,230.8,146.78625400000001,103.645,89.466576637407158,3273.86,119.4,91.153829999999999,74.769883477372602,94.072000000000003,181.7,96.3,75.72345,223.46700000000001,95.35]
[null,"Abril",84.999873640000004,106.71,103.17,233.4,147.761551,104.55,90.411883862255237,3299.07,119.8,91.245500000000007,74.858994862772306,94.162999999999997,183.5,96.5,75.717439999999996,224.90600000000001,95.88]
[null,"Mayo",85.571383990000001,107.23,103.68,234.8,149.29660237392181,104.78,90.749493585415252,3314.58,120.6,91.33717,75.072202718668194,94.344999999999999,184.7,96.4,75.159260000000003,225.964,95.89]
[null,"Junio",86.050021670000007,107.29,104.23,235.8,150.28055699999999,105.85,90.884537474679263,3319.55,119.8,91.612170000000006,75.310864488977103,94.527000000000001,186.7,96.3,75.155510000000007,225.72200000000001,95.88]
[null,"Julio",86.339839900000001,107.57,105.22,237.4,150.81451099999998,106.75,90.952059419311269,3324.86,120,92.014049999999997,75.415515416883196,94.981999999999999,186.8,96.3,75.516109999999998,225.922,95.33]
[null,"Agosto",86.561332840000006,107.69,105.85,238.3,151.76786899999999,107.28,91.357191087103317,3337.16,120.3,92.275450000000006,75.392161082214997,95.62,187,96.4,75.635549999999995,226.54499999999999,95.51]
[null,"Septiembre",86.426049500000005,107.4,105.78,237.8,152.13466099999999,107.51,92.032410533423359,3354.85,120.6,92.711129999999997,75.624934536457701,95.528999999999996,188.2,96.4,75.821110000000004,226.88900000000001,96.21]
[null,"Octubre",86.630673349999995,107.32,105.74,238,152.78457599999999,107.54,92.234976367319362,3369.28,120.8,92.798259999999999,75.768445139607607,95.346999999999994,188.8,96.5,76.332710000000006,226.42099999999999,96.55]
[null,"Noviembre",86.890740910000005,107.48,105.97,238.9,154.69540000000001,107.64,93.045239702903444,3386.8,120.9,92.623990000000006,75.873877825929299,95.438000000000002,189.2,95.9,77.158330000000007,226.23,96.63]
[null,"Diciembre",87.686593630000004,107.29,106.2,239.3,156.56521100000001,107.76,93.247805536799447,3403.7,120.2,92.885390000000001,76.191710783783606,95.802000000000007,189.7,96,77.792389999999997,225.672,96.96]
[2012,"Enero",87.839881399999996,107.65,106.3,239.8,156.77046999999999,108.23,93.720459149223501,3422.8,120.7,94.27955,76.748456093439003,96.183999999999997,190.9,96.2,78.343050000000005,226.66499999999999,96.17]
[null,"Febrero",88.087022329999996,108,106.83,242.1,158.692902,108.61,94.328156650911538,3438.2,121.2,94.192409999999995,77.217211003422804,96.549000000000007,191.4,96.4,78.502309999999994,227.66300000000001,96.65]
[null,"Marzo",88.440195399999993,108.16,107.18,243.9,159.334327,108.77,95.138419986495606,3445.4,121.7,94.366680000000002,77.311465242399606,96.575999999999993,192.1,96.8,78.547389999999993,229.392,97.9]
[null,"Abril",89.001154900000003,108.83,107.58,246.6,161.02553,108.78,95.813639432815663,3467.5,122.2,94.27955,77.423080102192003,96.566999999999993,193.4,96.9,78.300979999999996,230.08500000000001,98.36]
[null,"Mayo",89.880157159999996,108.53,107.72,246.9,160.53411600000001,108.49,96.218771100607697,3479.9,122.1,94.018140000000002,77.655383105388196,96.74,194.3,96.6,78.053820000000002,229.815,98.22]
[null,"Junio",90.021152760000007,107.94,107.85,246.9,159.99524500000001,108.72,96.151249155975691,3482.7,121.6,93.495339999999999,77.719670171098898,96.602999999999994,195.9,96.1,78.413669999999996,229.47800000000001,98.15]
[null,"Julio",89.749094249999999,107.61,108.23,247.1,160.42083500000001,108.5,96.421336934503714,3497.7,121.5,93.582470000000001,77.702887493112001,96.385000000000005,196.7,95.8,78.853899999999996,229.10400000000001,97.63]
[null,"Agosto",90.223629529999997,107.8,108.72,248.6,160.823025,109.6,96.893990546927739,3512.04,121.8,94.192999999999998,77.734755316526105,96.831000000000003,198.4,96,79.090540000000004,230.37899999999999,98.01]
[null,"Septiembre",90.286100739999995,108.24,109.25,250.4,161.879638,110.31,96.961512491559745,3532.06,122,94.482110000000006,77.957328917440606,97.522999999999996,200.5,96.1,79.439120000000003,231.40700000000001,98.72]
[null,"Octubre",90.688474119999995,108.33,109.28,251.5,162.66734,110.57,97.09655638082377,3552.9,122.2,94.383380000000002,78.084697605305095,97.340999999999994,201.7,96.1,79.841030000000003,231.31700000000001,98.95]
[null,"Noviembre",91.423280250000005,108.18,109.27,251.9,164.23005599999999,111.27,97.231600270087768,3574.22,121.9,94.540949999999995,77.977945003658405,96.995000000000005,203.3,95.8,80.383439999999993,230.221,98.76]
[null,"Diciembre",91.6767988,108.13,109.86,252.2,166.92765299999999,111.97,97.569209993247796,3602.46,121.2,95.236609999999999,78.047241605216399,97.168000000000006,204.1,95.8,80.568240000000003,229.601,99.11]
[2013,"Enero",92.878994199999994,108.59,110.4,253.4,168.90939899999998,113.38,98.109385550303855,3633.44,121.3,96.188550000000006,78.279811941870705,97.751000000000005,204.7,95.9,80.892780000000002,230.28,98.08]
[null,"Febrero",93.826583580000005,109.05,111.3,256.10000000000002,169.93,113.75,98.649561107359887,3655.24,122.7,97.246269999999996,78.627482245254299,98.078000000000003,205.6,95.7,81.290940000000006,232.166,98.44]
[null,"Marzo",93.928685599999994,109.54,111.83,257.5,170.16,114.18,99.054692775151906,3672.4,122.9,96.371889999999993,78.789250397402,97.986999999999995,206.8,95.9,81.887439999999998,232.773,99.6]
[null,"Abril",94.614697370000002,108.85,112.02,258.10000000000002,171.240678,114.11,99.392302498311935,3692.62,122.7,96.562420000000003,78.988538067509694,97.850999999999999,207.5,96.2,81.941519999999997,232.53100000000001,99.51]
[null,"Mayo",94.629457810000005,108.69,112.32,258.8,172.94097400000001,113.9,99.797434166103983,3706.3,123,95.984059999999999,79.208688915334406,97.850999999999999,208.5,96.3,81.668819999999997,232.94499999999999,99.62]
[null,"Junio",94.646352800000003,108.91,113.02,259.89999999999998,173.251283,113.94,100.13504388926401,3715.92,123,95.984059999999999,79.394698558352303,97.731999999999999,208.6,96.3,81.619240000000005,233.50399999999999,99.73]
[null,"Julio",94.967246849999995,108.78,113.36,261,172.70246599999999,114.65,100.40513166779202,3717.03,123.1,96.078969999999998,79.430333480131793,97.941999999999993,208.8,96.5,81.592190000000002,233.596,99.2]
[null,"Agosto",95.011798040000002,108.87,113.52,262,173.58552800000001,115.41,100.67521944632004,3725.95,123.1,96.562280000000001,79.496581921867403,98.287999999999997,209.4,96.8,81.824330000000003,233.87700000000001,99.32]
[null,"Septiembre",95.136124300000006,109.06,113.85,262.8,173.78078099999999,115.97,100.74274139095205,3738.99,123.3,97.331869999999995,79.729436343946006,98.478999999999999,209.6,97.1,82.132339999999999,234.149,99.8]
[null,"Octubre",94.412287899999995,108.91,113.82,263.10000000000002,173.778493,115.81,100.87778528021607,3760.3,123,97.429599999999994,79.522476273387795,98.179000000000002,210.1,97.2,82.522989999999993,233.54599999999999,99.68]
[null,"Noviembre",94.571112760000005,109,114.33,263.8,174.567453,115.88,100.94530722484807,3780.61,123,97.331800000000001,79.350515247897803,98.16,210.3,97.3,83.292270000000002,233.06899999999999,99.6]
[null,"Diciembre",95.050083900000004,108.98,114.68,264.60000000000002,176.400474,116.31,101.21539500337609,3815.39,122.7,97.623800000000003,79.559653074042302,98.278999999999996,211.1,97.4,83.770060000000001,233.04900000000001,99.95]
[2014,"Enero",95.761988919999993,109.51,114.97,268.60000000000002,177.67956799999999,116.58,101.41796083727201,3836.38,123.1,98.6,79.946510414006298,98.807000000000002,211.6,97.2,84.519049999999993,233.916,98.83]
[null,"Febrero",96.397115459999995,109.72,115.2,270.8,178.85615200000001,116.98,101.95813639432816,3862.84,124.1,99.1,80.450785774001503,99.070999999999998,212.2,97.2,84.733149999999995,234.78100000000001,99.14]
[null,"Marzo",96.989998790000001,109.99,115.46,272.39999999999998,178.840341,117.59,102.4,3898.38,124.8,98.6,80.767915149281706,99.253,213.5,97.5,84.965289999999996,236.29300000000001,100.07]
[null,"Abril",98.095849110000003,109.47,115.68,273.5,179.632701,118.09,102.9,3924.5,125.2,98.2,81.137598234052405,99.316999999999993,214.7,99.5,84.806780000000003,237.072,100.22]
[null,"Mayo",98.613640770000003,109.72,115.94,274.89999999999998,181.32398000000001,118.11,103.03848750844024,3942.55,125.8,98.3,81.530110060556595,99.480999999999995,215.9,99.9,84.535579999999996,237.9,100.11]
[null,"Junio",98.989801490000005,110.15,116.56,276.10000000000002,183.73790399999999,118.13,103.5,3958.32,125.9,98.2,81.606092092565305,99.352999999999994,217.3,99.8,84.682079999999999,238.34299999999999,100.22]
[null,"Julio",99.892248409999993,110.77,117.23,278.2,184.68213899999998,118.56,102.6,3958.72,125.7,98.2,81.7295589683374,99.498999999999995,218.9,99.9,84.914959999999994,238.25,99.57]
[null,"Agosto",100.22390496,111.04,117.72,278.60000000000002,185.266569,119.02,102.76839972991222,3968.62,125.7,98.4,81.895607247810702,99.671999999999997,220,100,85.21996,237.852,99.68]
[null,"Septiembre",100.08606064,110.91,117.78,278.89999999999998,185.06719699999999,119.25,103.10600945307201,3991.24,125.8,98.9,82.006862638331697,99.608000000000004,220.8,100.3,85.596339999999998,238.03100000000001,100.12]
[null,"Octubre",99.796214620000001,110.97,117.96,279.7,185.39045200000001,119.15,103,4008,125.9,98.9,82.142004936441495,99.308000000000007,222.2,100,86.069630000000004,237.43299999999999,100.06]
[null,"Noviembre",100.13775427,110.4,118.19,280.7,187.95816099999999,118.98,102.6,4028.44,125.4,98.6,82.250267309028303,99.108000000000004,223.4,99.6,86.763779999999997,236.15100000000001,99.88]
[null,"Diciembre",99.923477800000001,109.5,118.06,280,187.830682,118.15,102.23465399719004,4059.9,124.5,99,82.469690144328396,99.097999999999999,224.7,99.7,87.188980000000001,234.81200000000001,99.78]
[2015,"Enero",99.962039439999998,108.69,117.64,278.89999999999998,187.36179999999999,117.93,102.3,4110.2,124.3,99.3,83.001032493467505,99.77,225.6,99.6,87.110100000000003,233.70699999999999,98.24]
[null,"Febrero",99.797134270000001,108.56,118.01,280.7,188.70971351426607,118.17,101.5,4160.34,125.4,100.5,83.955218895637003,99.71,226.2,99.4,87.275379999999998,234.72200000000001,98.85]
[null,"Marzo",99.944618640000002,109.1,118.26,282.60000000000002,189.43524003284833,118.34,102.4,4215.26,126.3,99.9,84.447054524843594,99.72,227.2,99.7,87.630709999999993,236.119,100]
[null,"Abril",99.866527739999995,109.11,118.66,283.3,189.81524999999999,118.04,102.9,4245.1899999999996,126.2,99.7,84.900615401620797,99.75,228.3,100.2,87.403840000000002,236.59899999999999,100.43]
[null,"Mayo",99.572661609999997,109.33,118.9,284.5,190.79101399999999,118.38,103.4,4276.6000000000004,126.9,99.5,85.123952612987694,100.03,230.2,100.4,86.967370000000003,237.80500000000001,100.71]
[null,"Junio",100,109.24,119.34,286.10000000000002,190.76076899999998,118.86,103.5,4310.3999999999996,127.2,99.5,85.213311787885303,100.05,234.6,100.2,87.113110000000006,238.63800000000001,100.72]
[null,"Julio",99.570894920000001,109.16,119.95,287.10000000000002,190.367524,119.15,103.6,4337.1099999999997,127.3,99.9,85.371164167968999,100.23,239.3,100.1,87.240819999999999,238.654,100.11]
[null,"Agosto",99.483966550000005,108.82,120.03,287.2,190.355672,119.53,103.2,4346.6499999999996,127.3,100.4,85.780961929440096,100.37,242.8,100.2,87.424869999999999,238.316,100.12]
[null,"Septiembre",99.221124570000001,108.41,119.99,286.60000000000002,190.19427099999999,119.72,102.7,4370.12,127.1,100.5,86.394781885423498,100.11,245.7,100.3,87.752420000000001,237.94499999999999,100.32]
[null,"Octubre",98.941517250000004,110.76,120.59,286.8,191.008512,120.61,102.6,4405.95,127.2,100.1,86.984086735091097,100.11,248.2,100.2,88.203919999999997,237.83799999999999,100.45]
[null,"Noviembre",98.932322339999999,110.69,121.16,286.60000000000002,191.69115099999999,120.81,102.6,4450.45,127.1,100.1,87.5086026580652,99.92,250.1,99.9,88.685469999999995,237.33600000000001,100.01]
[null,"Diciembre",99.116514440000003,110.61,121.68,286.60000000000002,193.56365099999999,120.92,102.5,4493.17,126.5,100.6,88.052136948495104,100.22,252.8,99.8,89.046809999999994,236.52500000000001,100.03]
[2016,"Enero",99.789404829999995,110.67,122.79,287.5,193.34200099999998,120.91,102.6,4550.2299999999996,126.8,101.1,89.188544257361102,100.39,255.5,99.5,89.386380000000003,236.916,98.56]
[null,"Febrero",99.764862690000001,110.37,123.05,288.89999999999998,195.13298699999999,120.23,102.7,4591.18,127.1,102.7,90.329817314365897,100.82,258.7,99.6,89.777780000000007,237.11099999999999,98.73]
[null,"Marzo",98.859127540000003,110.32,123.3,289.60000000000002,196.36460015172148,120.22,103,4610.92,127.9,102.2,91.182242502772795,100.56,260.89999999999998,99.7,89.91,238.13200000000001,99.96]
[null,"Abril",98.949696169999996,110.05,123.51,290.2,196.64172600000001,120.11,103.5,4639.05,128.30000000000001,102,91.634595841997296,100.75,263.10000000000002,99.9,89.62527,239.261,100.17]
[null,"Mayo",99.141787730000004,110.13,124.08,291.2,197.75736999999998,120.41,103.7,4675.2299999999996,128.80000000000001,101.6,92.101740469244703,100.81,264.89999999999998,100,89.225620000000006,240.22900000000001,100.59]
[null,"Junio",99.121605729999999,110.24,124.63,293.10000000000002,197.55970299999998,121.13,103.6,4691.5929999999998,129.1,101.4,92.543524713889397,100.79,267.2,99.9,89.324029999999993,241.018,100.77]
[null,"Julio",100.04438152,110.12,125.49,294,198.20091600000001,121.36,103.7,4715.99,128.9,101.6,93.024731220637804,100.6,270.2,99.6,89.556920000000005,240.62799999999999,100.28]
[null,"Agosto",100.07675842,109.85,125.72,294.39999999999998,197.49490700000001,121.29,103.7,4736.74,128.69999999999999,101.7,92.727131147777897,100.86,272.8,99.7,89.809330000000003,240.84899999999999,100.34]
[null,"Septiembre",99.603874739999995,109.51,125.46,294.89999999999998,196.89452800000001,121.34,103.9,4740.53,128.80000000000001,102.4,92.678143513060107,101.46,276.39999999999998,99.8,90.357740000000007,241.428,100.72]
[null,"Octubre",99.487477519999999,109.79,126.33,294.89999999999998,197.49535700000001,121.71,104,4752.8599999999997,129.1,102.3,92.622628195571906,101.6,281.3,100.4,90.906149999999997,241.72900000000001,100.96]
[null,"Noviembre",99.486711709999994,109.78,126.82,295.3,198.029144,121.87,103.9,4761.42,128.6,102.4,92.726306113449994,101.45,285.5,100.4,91.616839999999996,241.35300000000001,100.6]
[null,"Diciembre",99.874945190000005,109.58,126.83,296.10000000000002,199.621522,122.97,104,4775.7,128.4,102.6,93.112852844043502,101.56,288.89999999999998,100.1,92.039029999999997,241.43199999999999,101.13]
[2017,"Enero",100.44373847,110.39,127.49,297.39999999999998,200.84660099999999,123.73,104.3,4793.8500000000004,129.5,103.7,94.066435477436599,102.64,291.60000000000002,100,93.603880000000004,242.839,100.26]
[null,"Febrero",100.84777574,110.69,127.92,300,202.33540940213342,124.25,104.6,4809.67,129.69999999999999,103.5,95.012497176072301,102.92,294.7,99.8,94.144779999999997,243.60300000000001,100.66]
[null,"Marzo",100.42274322999999,110.92,128.22999999999999,301,202.58063099999998,124,104.5,4821.6899999999996,129.9,103.2,95.455093891070305,102.85,298.3,99.9,94.722489999999993,243.80099999999999,101.49]
[null,"Abril",100.57628551000001,111,128.56,302.10000000000002,203.23883900000001,124.33,104.5,4828.4399999999996,130.4,103.2,95.907287388618798,102.72,301.5,100.3,94.838939999999994,244.524,102.07]
[null,"Mayo",100.79860558,111.19,128.96,303,203.506574,124.15,104.5,4843.41,130.5,103.3,96.123383562661004,102.83,306.5,100.4,94.725489999999994,244.733,101.98]
[null,"Junio",100.88033727,111.26,130.07,303.8,203.60713899999999,124.22,104.3,4832.2700000000004,130.4,103.1,96.233580089327901,102.61,309.3,100.2,94.963639999999998,244.95500000000001,102.08]
[null,"Julio",101.20800585000001,111.24,132.04,304.7,204.40227300000001,124.44,104.1,4843.87,130.4,103,96.184355135091195,102.78,312.39999999999998,100.1,95.322739999999996,244.786,101.62]
[null,"Agosto",100.98689862000001,111.1,131.65,305.7,204.348885,125.15,104.4,4853.07,130.5,103.5,96.319067466072397,103.37,315.3,100.3,95.793769999999995,245.51900000000001,101.89]
[null,"Septiembre",101.2385738,111.22,130.93,305.7,205.01219,125.95,104.7,4860.83,130.80000000000001,104.1,96.357860133452107,103.49,318.89999999999998,100.5,96.093509999999995,246.81899999999999,102.29]
[null,"Octubre",101.80099077,111.36,131.63999999999999,306.60000000000002,206.13243799999998,125.95,104.5,4881.25,130.9,104.2,96.373970638801197,103.39,321.8,100.6,96.698269999999994,246.66300000000001,102.34]
[null,"Noviembre",101.96524085999999,111.62,132.77000000000001,308.10000000000002,208.61722499999999,126.91,104.3,4894.92,131.30000000000001,104.2,96.548251811589097,102.62,324.60000000000002,100.9,97.695179999999993,246.66900000000001,102.14]
[null,"Diciembre",102.44583608000001,111.81,134.03,310.10000000000002,210.95702699999998,128.13999999999999,104.5,4916.46,130.80000000000001,104.5,96.9198851044073,102.99,327.2,101.2,98.272880000000001,246.524,102.49]
[2018,"Enero",102.86224808999999,111.96,133.5,311,211.610163,128.51,104.7,4930.72,131.69999999999999,105.2,97.527634566693607,103.42,330.1,101.3,98.795000000000002,247.86699999999999,101.56]
[null,"Febrero",103.07902082,112.05,133.22999999999999,313,212.08009300000001,128.37,105,4946.5,132.5,106.5,98.216431436722701,104.21,333.5,101.3,99.171369999999996,248.99100000000001,101.78]
[null,"Marzo",103.04675707,111.93,133.54,314.10000000000002,212.38235299999999,128.85,105.1,4950.95,132.9,105.3,98.452250258793498,104.1,336.8,101,99.492159999999998,249.554,102.91]
[null,"Abril",102.96540496,111.97,133.6,314.8,213.043272,129.36000000000001,105.3,4961.84,133.30000000000001,105.1,98.906895825372402,104.29,340.7,100.9,99.154849999999996,250.54599999999999,103.32]
[null,"Mayo",102.85076754000001,112.11,134.22999999999999,315.10000000000002,214.22060500000001,129.69999999999999,105.3,4981.6899999999996,133.4,104.9,99.157791416887306,104.34,344.9,101,98.994079999999997,251.58799999999999,103.97]
[null,"Junio",103.03325644,112.26,135,316.39999999999998,215.15319299999999,129.97,105.51649999999999,5044.46,133.6,104.9,99.3111507800769,104.13,349.5,100.9,99.376459999999994,251.989,104.09]
[null,"Julio",103.31752499,112.42,135.47999999999999,317.60000000000002,214.97380699999999,129.94999999999999,105.4581,5061.1099999999997,134.30000000000001,105.2,99.184494050769601,103.94,354.9,101,99.909099999999995,252.006,103.85]
[null,"Agosto",103.24934463,112.71,136.08000000000001,319,214.466511,129.99,105.527,5056.5600000000004,134.19999999999999,105.9,99.303264094060694,104.85,359.9,101.6,100.492,252.14599999999999,104.01]
[null,"Septiembre",103.47772084,112.76,136.88999999999999,319.10000000000002,215.54450399999999,130.09,105.4892,5080.83,133.69999999999999,106.6,99.467112979991498,105.65,365.5,101.7,100.917,252.43899999999999,104.42]
[null,"Octubre",103.86439546,113.02,137.35,320.89999999999998,216.65405299999998,130.38,105.57429999999999,5103.7,134.1,106.8,99.586837885347407,105.46,365.5,102,101.44,252.88499999999999,104.68]
[null,"Noviembre",104.30270534,112.82,136.94999999999999,322.60000000000002,217.78748199999998,129.91999999999999,105.1135,5092.97,133.5,106.4,99.703542550824395,104.71,365.5,101.8,102.303,252.03800000000001,104.1]
[null,"Diciembre",104.52268175,112.3,137.13,323.2,219.15282299999998,129.63999999999999,104.66549999999999,5100.6099999999997,133.4,106.5,100,104.35,365.5,101.5,103.02,251.233,104.05]
[2019,"Enero",104.57631953000001,112.24,138.97999999999999,323.3,218.60355899999999,129.41999999999999,104.38089999999998,5116.93,133.6,107.0325,100.598577066,104.24,365.5,101.5,103.108,251.71199999999999,102.97]
[null,"Febrero",104.66177552000001,112.44,139.16999999999999,325.8,219.2,129.9,104.47450000000001,5138,134.5,108.0975,101.17675,104.24,365.5,101.5,103.07899999999999,252.77600000000001,103.3]
[null,"Marzo",104.51016242999999,112.69,139.11000000000001,327.10000000000002,223.18733800000001,101.5,104.90659999999998,5177.47,135.39851999999999,103.5,104.90659999999998,104.24,365.5,101.5,103.5,254.2,104.34971089999999]
[null,"Abril",105.09686331,112.87,139.94999999999999,330.1,225.33578199999999,101.8,105.2011,5206.9799999999996,136,103.527578885,105.2011,104.24,365.5,101.8,103.527578885,255.548,105.1]
["FUENTE: Bancos Centrales Centroamericanos y de República Dominicana,  Contraloría General de la República de Panamá, Instituto Brasileiro de Geografia e Estatística, Statistics Canada, National Bureau of Statistic of China, Banco Central de Colombia,  Statistics Korea, Banque de la République d'Haïti, Statistics Bureau de Japón, Banco Central Europeo, Banco de México, Bureau of Labor Statistics (U.S.A.) y Banco Central Europeo."]
["Aclaración: para efectos de la actualización del cálculo de los diferentes índices de tipo de cambio real, los datos no disponibles son estimados por esta Secretaría."]
["NOTAS:"]
["1/ La Región CAPARD incluye a Centroamérica, República Dominicana y Panamá."]

{"sheet":"TIPO CAMBIO","index":3,"n_rows":305,"n_cols":19,"rows_kept":305,"cut":false,"hidden":false,"merged":[[305,0,305,1],[4,2,4,8],[4,9,4,18],[3,0,3,18],[302,0,302,18],[303,0,303,18],[304,0,304,18],[301,0,301,18]]}
[]
["Secretaría Ejecutiva"]
["Consejo Monetario Centroamericano"]
["TIPO DE CAMBIO PROMEDIO de COMPRA  (moneda nacional por US$)"]
[null,null,"REGIÓN CAPARD 1/",null,null,null,null,null,null,"RESTO DEL MUNDO"]
["Año","MES","COSTA RICA ","EL SALVADOR ","GUATEMALA ","HONDURAS","NICARAGUA ","REPÚBLICA\nDOMINICANA","PANAMÁ","BRASIL","CANADÁ","CHINA","COLOMBIA","COREA DEL SUR","HAITÍ","JAPÓN","MÉXICO","ESTADOS UNIDOS","ZONA \nEURO"]
[null,"moneda","Colón","Colón","Quetzal","Lempira","Córdoba","Peso dominicano","Balboa","Euro","Dólar canadiense","Reminbi","Peso Colombiano","Won surcoreano","Gourde","Yen\n japonés","Peso mexicano","Dólar estadounidense","Euro"]
[]
[1995,"Enero",165.56709677419352,8.7200000000000006,5.72614,9.2100000000000009,7.1471064516129026,12.87,1,0.84099999999999997,1.4132,8.4608000000000008,846.63,793.07500000000005,14.056900000000001,99.766000000000005,5.6405000000000003,1,0.80592191400000002]
[null,"Febrero",167.71071428571432,8.7200000000000006,5.70749,9.08,7.212860714285716,12.87,1,0.85050000000000003,1.4005000000000001,8.4552999999999994,850.9,793.19470000000001,14.0815,98.236800000000002,5.6779000000000002,1,0.79447427299999995]
[null,"Marzo",170.26193548387096,8.7200000000000006,5.6863099999999998,9.1300000000000008,7.2792354838709672,12.87,1,0.89500000000000002,1.4077,8.4482999999999997,865.83,781.81299999999999,14.288500000000001,90.519599999999997,6.7770000000000001,1,0.75926512199999996]
[null,"Abril",172.85300000000001,8.7200000000000006,5.7202200000000003,9.1199999999999992,7.3484966666666667,12.87,1,0.91200000000000003,1.3762000000000001,8.4420999999999999,873.39,770.61,14.321999999999999,83.689499999999995,6.2285000000000004,1,0.74547200300000005]
[null,"Mayo",175.24870967741941,8.7200000000000006,5.7286700000000002,9.15,7.4184193548387105,12.87,1,0.90500000000000003,1.3609,8.3369999999999997,876.95,764.43179999999995,14.4087,85.112700000000004,5.9741,1,0.75663397799999998]
[null,"Junio",177.86600000000001,8.7200000000000006,5.7468399999999997,9.2799999999999994,7.4890033333333328,12.87,1,0.92100000000000004,1.3774999999999999,8.3206000000000007,874.86,763.8818,14.9452,84.635499999999993,6.2329999999999997,1,0.75106594999999998]
[null,"Julio",180.27967741935487,8.7200000000000006,5.75962,9.41,7.5602580645161268,12.87,1,0.93500000000000005,1.3612,8.3207000000000004,893.22,760.04499999999996,14.952299999999999,87.397000000000006,6.1219999999999999,1,0.74359670300000003]
[null,"Agosto",182.66290322580645,8.7200000000000006,5.8017099999999999,9.5500000000000007,7.6333806451612896,12.87,1,0.95,1.3552,8.3253000000000004,935.1,767.42169999999999,15.2639,94.738299999999995,6.2046999999999999,1,0.76662953599999994]
[null,"Septiembre",185.2703333333333,8.7200000000000006,5.87913,9.67,7.7060133333333338,12.87,1,0.95299999999999996,1.3509,8.3374000000000006,964.17,772.04,15.430899999999999,100.5455,6.3167,1,0.77591437600000002]
[null,"Octubre",187.89161290322573,8.7200000000000006,5.9458700000000002,9.81,7.7793387096774174,12.87,1,0.96140000000000003,1.3458000000000001,8.3353000000000002,984.96,767.1952,15.8088,100.839,6.7451999999999996,1,0.75633124900000004]
[null,"Noviembre",190.65400000000002,8.7200000000000006,5.9872800000000002,10.039999999999999,7.8533533333333345,12.87,1,0.96609999999999996,1.3533999999999999,8.3333999999999993,1000.58,769.78099999999995,17.4361,101.94,7.6936,1,0.75539826499999996]
[null,"Diciembre",193.38774193548394,8.7200000000000006,5.9245200000000002,10.25,7.928080645161292,12.87,1,0.97199999999999998,1.3693,8.3350000000000009,988.15,771.30499999999995,16.046500000000002,101.84950000000001,7.6870000000000003,1,0.76669242800000004]
[1996,"Enero",195.70903225806452,8.7200000000000006,6.0907,10.45,8.0047548387096779,12.87,1,0.97809999999999997,1.3669,8.3384,1011.19,787.13329999999996,16.4419,105.7514,7.4805999999999999,1,0.77409086900000001]
[null,"Febrero",198.01551724137931,8.7200000000000006,6.1587199999999998,10.67,8.0796620689655168,12.87,1,0.98370000000000002,1.3752,8.3338000000000001,1029.6400000000001,780.11500000000001,16.552800000000001,105.788,7.5183,1,0.77603420099999998]
[null,"Marzo",200.13774193548386,8.7200000000000006,6.1739800000000002,10.9,8.1552774193548387,12.87,1,0.98760000000000003,1.3655999999999999,8.3495000000000008,1044.98,781.3143,16.701599999999999,105.94,7.5682,1,0.78043481100000001]
[null,"Abril",201.99600000000001,8.7200000000000006,6.1278199999999998,11.05,8.2328733333333393,12.87,1,0.99209999999999998,1.3592,8.3514999999999997,1050.93,780.41819999999996,16.457100000000001,107.1995,7.4694000000000003,1,0.79119870599999997]
[null,"Mayo",204.0116129032258,8.7200000000000006,6.0805699999999998,11.18,8.3112741935483854,12.87,1,0.998,1.3693,8.3478999999999992,1066.24,780.85910000000001,15.946099999999999,106.34229999999999,7.4367999999999999,1,0.80213045800000005]
[null,"Junio",206.23133333333331,8.7200000000000006,6.1228600000000002,11.46,8.3902866666666647,12.87,1,1.004,1.3657999999999999,8.3423999999999996,1071.96,798.45,15.630699999999999,108.96,7.5648,1,0.79813428099999995]
[null,"Julio",208.34548387096774,8.7200000000000006,6.08948,12,8.4701258064516125,12.87,1,1.0108000000000001,1.3696999999999999,8.3408999999999995,1064.0999999999999,813.03179999999998,15.166499999999999,109.1909,7.6178999999999997,1,0.78700621299999995]
[null,"Agosto",210.34516129032261,8.7200000000000006,6.0686799999999996,12.27,8.5520419354838726,12.87,1,1.0165,1.3722000000000001,8.3378999999999994,1044.8399999999999,817.52269999999999,14.914099999999999,107.8659,7.5143000000000004,1,0.77927198900000005]
[null,"Septiembre",212.49366666666671,8.7200000000000006,6.0430900000000003,12.42,8.6334166666666672,12.87,1,1.0211000000000001,1.3694,8.3340999999999994,1040.8399999999999,822.4,15.0548,109.931,7.5441000000000003,1,0.78797983999999999]
[null,"Octubre",214.67129032258063,8.7200000000000006,6.0505199999999997,12.56,8.7155516129032229,12.87,1,1.0272000000000001,1.3508,8.3299000000000003,1015.78,828.2364,15.158300000000001,112.4123,7.7344999999999997,1,0.794652939]
[null,"Noviembre",216.84866666666667,8.7200000000000006,6.0066199999999998,12.61,8.7984899999999993,12.87,1,1.0327999999999999,1.3381000000000001,8.3293999999999997,998.18,830.56320000000005,15.27,112.2958,7.9119000000000002,1,0.78314668300000001]
[null,"Diciembre",219.01225806451606,8.7200000000000006,5.9946999999999999,12.78,8.882200000000001,13.19,1,1.0390000000000001,1.3622000000000001,8.3290000000000006,1000.79,841.91899999999998,15.045299999999999,113.98099999999999,7.8769,1,0.79983875299999996]
[1997,"Enero",220.87548387096777,8.7200000000000006,6.0530400000000002,12.93,8.9681129032258067,13.91,1,1.0457000000000001,1.3493999999999999,8.3260000000000005,1027.06,854.07140000000004,15.641,117.91240000000001,7.8289,1,0.822229129]
[null,"Febrero",223.01250000000002,8.7200000000000006,6.0906799999999999,12.73,9.0506214285714286,13.96,1,1.0510999999999999,1.3555999999999999,8.3226999999999993,1074.24,868.39469999999994,16.088699999999999,122.96210000000001,7.8022999999999998,1,0.857808762]
[null,"Marzo",225.16870967741937,8.7200000000000006,5.9953900000000004,12.79,9.1339064516129014,14.02,1,1.0589,1.3725000000000001,8.3257999999999992,1062.1600000000001,882.61900000000003,16.518999999999998,122.77379999999999,7.9561999999999999,1,0.86974975600000004]
[null,"Abril",227.17566666666661,8.7200000000000006,5.9967699999999997,12.76,9.2208200000000016,14.02,1,1.0634000000000001,1.3942000000000001,8.3256999999999994,1060.6500000000001,895.56820000000005,16.7499,125.6377,7.9058999999999999,1,0.87335100399999999]
[null,"Mayo",229.27548387096775,8.7200000000000006,5.9756499999999999,13.05,9.3085645161290316,14.02,1,1.0712999999999999,1.3804000000000001,8.3229000000000006,1075.18,894.66669999999999,16.775700000000001,119.19240000000001,7.9036999999999997,1,0.870063802]
[null,"Junio",231.52500000000009,8.7200000000000006,5.92258,13.07,9.397120000000001,14.02,1,1.0765,1.3843000000000001,8.3224,1082.3699999999999,891.40480000000002,16.832899999999999,114.28570000000001,7.9497999999999998,1,0.87979609800000003]
[null,"Julio",233.69483870967741,8.7200000000000006,5.9535099999999996,13.08,9.4865354838709681,14.02,1,1.083,1.3774999999999999,8.3162000000000003,1102.4000000000001,893.09090000000003,16.606200000000001,115.3759,7.8678999999999997,1,0.90504863300000005]
[null,"Agosto",235.58419354838702,8.7200000000000006,6.0721699999999998,13.08,9.5782935483870979,14.02,1,1.0911999999999999,1.3905000000000001,8.3186999999999998,1132.7,898.70950000000005,16.709099999999999,117.9295,7.7817999999999996,1,0.93219841299999995]
[null,"Septiembre",237.47466666666671,8.7200000000000006,6.1045800000000003,13.09,9.6694233333333326,14.02,1,1.0960000000000001,1.3872,8.3170999999999999,1222.49,912.50480000000005,16.697600000000001,120.89,7.7808999999999999,1,0.90916116199999997]
[null,"Octubre",239.3864516129033,8.7200000000000006,6.1467999999999998,13.09,9.7614322580645165,14.02,1,1.1027,1.3869,8.3134999999999994,1262.8900000000001,929.41819999999996,17.202200000000001,121.0605,7.8708,1,0.89260370700000002]
[null,"Noviembre",241.34033333333329,8.7200000000000006,6.2105899999999998,13.09,9.8543000000000003,14.02,1,1.1093999999999999,1.4128000000000001,8.3109000000000002,1294.56,1035.2235000000001,17.1843,125.3817,8.2715999999999994,1,0.87767955600000003]
[null,"Diciembre",243.2551612903226,8.7200000000000006,6.1818600000000004,13.1,9.9480806451612906,14.02,1,1.1160000000000001,1.4271,8.3099000000000007,1296.7,1496.9,16.844100000000001,129.73410000000001,8.1271000000000004,1,0.89961955100000002]
[1998,"Enero",244.89225806451608,8.7200000000000006,6.2517399999999999,13.11,10.044287096774195,14.02,1,1.1233,1.4409000000000001,8.3094000000000001,1323.16,1707.3,17.308900000000001,129.54750000000001,8.2271999999999998,1,0.91935086499999996]
[null,"Febrero",246.83892857142854,8.7200000000000006,6.2101300000000004,13.16,10.136696428571423,14.02,1,1.1299999999999999,1.4334,8.3071999999999999,1346.12,1628.4211,17.4239,125.8516,8.5021000000000004,1,0.91874103100000004]
[null,"Marzo",248.88290322580647,8.7200000000000006,6.2676499999999997,13.21,10.229980645161286,14.02,1,1.137,1.4166000000000001,8.3076000000000008,1357.1,1489.3570999999999,17.4209,129.0823,8.5680999999999994,1,0.92222847299999999]
[null,"Abril",250.93199999999996,8.7200000000000006,6.2801299999999998,13.21,10.327333333333319,14.02,1,1.1438999999999999,1.4298,8.3057999999999996,1360.65,1391.5454999999999,17.167300000000001,131.75360000000001,8.5016999999999996,1,0.916539039]
[null,"Mayo",252.94322580645158,8.7200000000000006,6.2756400000000001,13.27,10.425580645161284,14.02,1,1.1501000000000001,1.4452,8.3084000000000007,1386.28,1399.05,16.784700000000001,134.89599999999999,8.5847999999999995,1,0.90167666800000001]
[null,"Junio",255.27700000000002,8.7200000000000006,6.3063900000000004,13.32,10.524776666666659,14.02,1,1.1564999999999999,1.4655,8.31,1386.61,1397.7727,16.438099999999999,140.3305,8.92,1,0.90793040899999999]
[null,"Julio",257.68419354838704,8.7200000000000006,6.34077,13.37,10.624925806451587,15.22,1,1.163,1.4869000000000001,8.31,1371.54,1295.7609,16.062899999999999,140.78739999999999,8.8989999999999991,1,0.91116173099999997]
[null,"Agosto",260.12322580645167,8.7200000000000006,6.3963999999999999,13.42,10.727680645161279,15.33,1,1.1764999999999999,1.5346,8.31,1390.46,1314.2856999999999,16.4145,144.68,9.3712,1,0.90779853399999999]
[null,"Septiembre",262.49500000000006,8.7200000000000006,6.4817799999999997,13.51,10.829759999999995,15.36,1,1.1852,1.5218,8.3055000000000003,1520.52,1375.5381,16.780100000000001,134.48050000000001,10.219200000000001,1,0.86645727299999997]
[null,"Octubre",264.92516129032265,8.7200000000000006,6.5621799999999997,13.57,10.932799999999986,15.44,1,1.1928000000000001,1.5451999999999999,8.2777999999999992,1587.38,1344.1429000000001,16.6143,121.04859999999999,10.1594,1,0.83769282599999995]
[null,"Noviembre",267.5306666666666,8.7200000000000006,6.5590599999999997,13.67,11.036819999999997,15.49,1,1.2008000000000001,1.5404,8.2777999999999992,1562.71,1294.0105000000001,16.648800000000001,120.2895,9.9685000000000006,1,0.85879444199999999]
[null,"Diciembre",270.08096774193547,8.7200000000000006,6.7195299999999998,13.75,11.141841935483866,15.48,1,1.2082999999999999,1.5432999999999999,8.2780000000000005,1524.56,1213.2182,16.400600000000001,117.07089999999999,9.9067000000000007,1,0.85315351100000003]
[1999,"Enero",272.26129032258063,8.7200000000000006,6.97126,13.84,11.249590322580655,15.49,1,1.9828000000000001,1.5194000000000001,8.2789000000000001,1570.01,1175.1052999999999,16.742000000000001,113.29,10.1279,1,0.86148968800000003]
[null,"Febrero",274.78857142857134,8.7200000000000006,6.8733700000000004,13.9,11.353103571428582,15.75,1,2.0644,1.4977,8.2781000000000002,1567.07,1188.8368,16.8081,116.66840000000001,10.005699999999999,1,0.89224770600000003]
[null,"Marzo",277.30806451612904,8.7200000000000006,6.9680299999999997,13.96,11.457580645161295,15.88,1,1.7216,1.5176000000000001,8.2791999999999994,1550.15,1229.7217000000001,16.788499999999999,119.473,9.7324000000000002,1,0.91886766099999995]
[null,"Abril",279.73666666666662,8.7200000000000006,7.0647000000000002,14.03,11.566580000000011,15.88,1,1.6602999999999999,1.4881,8.2791999999999994,1574.67,1209.9636,16.698399999999999,119.7723,9.4304000000000006,1,0.934194411]
[null,"Mayo",282.30709677419361,8.7200000000000006,7.2618999999999998,14.09,11.676654838709684,15.88,1,1.7236,1.4611000000000001,8.2784999999999993,1641.33,1197.92,16.6891,121.9995,9.3955000000000002,1,0.94090194900000002]
[null,"Junio",284.90866666666665,8.7200000000000006,7.3519399999999999,14.17,11.787727666666672,15.85,1,1.7690999999999999,1.4695,8.2780000000000005,1693.99,1168.9136000000001,16.693999999999999,120.72450000000001,9.5145999999999997,1,0.96361858]
[null,"Julio",287.32677419354837,8.7200000000000006,7.3805899999999998,14.22,11.893300000000005,15.85,1,1.7887999999999999,1.4890000000000001,8.2775999999999996,1818.63,1189.0952,16.788699999999999,119.3305,9.3698999999999995,1,0.96593345900000005]
[null,"Agosto",289.33322580645154,8.7200000000000006,7.6613699999999998,14.27,11.981964516129041,15.85,1,1.9155,1.4932000000000001,8.2772000000000006,1876.93,1198.3090999999999,16.747,113.2268,9.3978999999999999,1,0.94308038299999997]
[null,"Septiembre",291.23300000000006,8.7200000000000006,7.7744099999999996,14.35,12.068560000000009,15.85,1,1.9218999999999999,1.4771000000000001,8.2774000000000001,1975.64,1201,16.901599999999998,106.87520000000001,9.3413000000000004,1,0.95231111599999996]
[null,"Octubre",293.11838709677409,8.7200000000000006,7.7969900000000001,14.39,12.155777419354846,15.89,1,1.9525999999999999,1.4776,8.2774999999999999,1978.71,1205.2850000000001,17.1158,105.965,9.5752000000000006,1,0.93402687900000003]
[null,"Noviembre",295.04933333333338,8.7200000000000006,7.7574300000000003,14.44,12.229113333333332,15.93,1,1.9222999999999999,1.4674,8.2782,1944.64,1176.9749999999999,17.544,104.6485,9.4161000000000001,1,0.96728356800000004]
[null,"Diciembre",297.02225806451611,8.7200000000000006,7.66364,14.49,12.288806451612908,15.92,1,1.7886,1.4722,8.2794000000000008,1888.46,1136.8043,17.9375,102.5843,9.4270999999999994,1,0.98910598699999996]
[2000,"Enero",298.73645161290324,8.7200000000000006,7.8733199999999997,14.54,12.349770967741941,15.98,1,1.802,1.4486000000000001,8.2791999999999994,1923.57,1130.99,18.537600000000001,105.29600000000001,9.4934999999999992,1,0.986490019]
[null,"Febrero",300.41448275862075,8.7200000000000006,7.7813499999999998,14.61,12.40880344827587,16.05,1,1.7681,1.4512,8.2781000000000002,1950.64,1129.7455,18.994399999999999,109.38849999999999,9.4265000000000008,1,1.0168553950000001]
[null,"Marzo",302.14354838709681,8.7200000000000006,7.7170800000000002,14.65,12.468215167695766,16.05,1,1.7469000000000001,1.4608000000000001,8.2786000000000008,1956.25,1116.3904,19.922499999999999,106.3074,9.2886000000000006,1,1.0369754330000001]
[null,"Abril",303.75166666666667,8.7200000000000006,7.7060899999999997,14.7,12.528913333333342,16.05,1,1.8063,1.4689000000000001,8.2792999999999992,1986.77,1110.32,19.521599999999999,105.627,9.3937000000000008,1,1.056021965]
[null,"Mayo",305.26806451612913,8.7200000000000006,7.6951599999999996,14.76,12.589893548387106,16.05,1,1.8262,1.4957,8.2781000000000002,2055.69,1119.4864,19.942699999999999,108.3205,9.5059000000000005,1,1.1037917450000001]
[null,"Junio",307.01433333333341,8.7200000000000006,7.7240000000000002,14.8,12.65117333333334,16.05,1,1.7995999999999999,1.4770000000000001,8.2772000000000006,2120.17,1117.9349999999999,19.824000000000002,106.1255,9.8343000000000007,1,1.053544281]
[null,"Julio",308.72870967741943,8.7100000000000009,7.7418899999999997,14.8499,12.712748387096781,16.05,1,1.7744,1.4778,8.2794000000000008,2161.34,1115.075,20.2654,108.2115,9.4192,1,1.064218114]
[null,"Agosto",310.34451612903223,8.7100000000000009,7.7401600000000004,14.9107,12.775648387096783,16.05,1,1.823,1.4827999999999999,8.2796000000000003,2187.38,1114.4670000000001,21.5975,108.0804,9.2723999999999993,1,1.106124946]
[null,"Septiembre",311.9903333333333,8.7100000000000009,7.7925399999999998,14.979100000000001,12.837833333333343,16.38,1,1.8432999999999999,1.4863999999999999,8.2784999999999993,2213.7600000000002,1117.57,24.2546,106.83750000000001,9.3614999999999995,1,1.146639086]
[null,"Octubre",313.66774193548389,8.7100000000000009,7.8104399999999998,15.0326,12.90032258064517,16.45,1,1.9085999999999999,1.5125,8.2784999999999993,2176.61,1131.0989999999999,24.434899999999999,108.44289999999999,9.5370000000000008,1,1.1693731810000001]
[null,"Noviembre",315.34766666666656,8.7100000000000009,7.7614000000000001,15.09,12.963120000000007,16.489999999999998,1,1.9592000000000001,1.5426,8.2774000000000001,2136.63,1156.5428999999999,23.873999999999999,109.0095,9.5081000000000007,1,1.167697744]
[null,"Diciembre",317.08096774193547,8.7100000000000009,7.7229200000000002,15.130100000000001,13.026219354838716,16.53,1,1.9550000000000001,1.5219,8.2771000000000008,2186.21,1216.9349999999999,22.879200000000001,112.209,9.4672999999999998,1,1.1144346030000001]
[2001,"Enero",318.62709677419349,8.75,7.7930599999999997,15.146100000000001,13.09075161290323,16.62,1,1.9706999999999999,1.5032000000000001,8.2775999999999996,2241.4,1272.6342999999999,23.4207,116.67189999999999,9.7688000000000006,1,1.065777666]
[null,"Febrero",320.28964285714284,8.75,7.72851,15.199199999999999,13.152550000000005,16.66,1,2.0448,1.5216000000000001,8.2771000000000008,2243.42,1252.8525999999999,23.445499999999999,116.2337,9.7108000000000008,1,1.084945834]
[null,"Marzo",321.98387096774201,8.75,7.6924799999999998,15.2479,13.214635483870973,16.66,1,2.1612,1.5587,8.2774999999999999,2278.7800000000002,1291.405,23.6632,121.505,9.5990000000000002,1,1.099477418]
[null,"Abril",323.5533333333334,8.75,7.7382400000000002,15.31,13.279136666666687,16.66,1,2.1842999999999999,1.5578000000000001,8.2771000000000008,2323.1,1327.7571,23.395499999999998,123.771,9.3276000000000003,1,1.1210762329999999]
[null,"Mayo",325.14935483870966,8.75,7.7602099999999998,15.37,13.343951612903231,16.66,1,2.3595999999999999,1.5410999999999999,8.2769999999999992,2346.9299999999998,1298.8955000000001,23.3644,121.76819999999999,9.1475000000000009,1,1.1439501050000001]
[null,"Junio",326.88,8.75,7.7891000000000004,15.43,13.409088333333345,16.66,1,2.3045,1.5245,8.2769999999999992,2305.66,1295.0476000000001,23.820399999999999,122.351,9.0881000000000007,1,1.1721034690000001]
[null,"Julio",328.8070967741935,8.75,7.7904200000000001,15.49,13.474532258064515,16.66,1,2.4308999999999998,1.5307999999999999,8.2768999999999995,2304.2800000000002,1305.2381,24.0899,124.49809999999999,9.1682000000000006,1,1.161893608]
[null,"Agosto",330.79935483870969,8.75,7.8394000000000004,15.52,13.541377419354843,16.66,1,2.5512999999999999,1.5399,8.2769999999999992,2288.9,1285.6522,24.561800000000002,121.367,9.1332000000000004,1,1.110515135]
[null,"Septiembre",332.9223333333332,8.75,7.9433699999999998,15.59,13.607470000000005,16.66,1,2.6709000000000001,1.5679000000000001,8.2767999999999997,2328.23,1293.8333,24.999300000000002,118.6117,9.4253,1,1.097580384]
[null,"Octubre",335.16870967741926,8.75,8.0989500000000003,15.68,13.673893548387101,16.66,1,2.7067000000000001,1.5717000000000001,8.2767999999999997,2320.65,1302.3635999999999,25.696899999999999,121.45359999999999,9.3391000000000002,1,1.1039172500000001]
[null,"Noviembre",337.73233333333332,8.75,8.0732300000000006,15.8,13.740633333333337,16.760000000000002,1,2.5282999999999998,1.5922000000000001,8.2768999999999995,2310.4699999999998,1282.0999999999999,26.520900000000001,122.4055,9.2249999999999996,1,1.1257344010000001]
[null,"Diciembre",340.3132258064515,8.75,7.9464499999999996,15.88,13.80771612903226,16.97,1,2.3199999999999998,1.5788,8.2764000000000006,2306.9,1292.2850000000001,26.170500000000001,127.5945,9.1574000000000009,1,1.1206088940000001]
[2002,"Enero",342.67096774193539,8.75,8.0050299999999996,15.97,13.8621,17.05,1,2.4178999999999999,1.5996999999999999,8.2771000000000008,2274.96,1316.3380999999999,26.632899999999999,132.6833,9.1636000000000006,1,1.132136137]
[null,"Febrero",345.52428571428572,8.75,7.9290200000000004,16.07,13.914899999999999,17.149999999999999,1,2.3477999999999999,1.5964,8.2766999999999999,2286.6999999999998,1320.5526,26.752400000000002,133.64259999999999,9.1050000000000004,1,1.1493790479999999]
[null,"Marzo",348.52677419354831,8.75,7.9018699999999997,16.149999999999999,13.983000000000001,17.149999999999999,1,2.3231999999999999,1.5876999999999999,8.2773000000000003,2282.33,1322.9048,26.926200000000001,131.06100000000001,9.0640000000000001,1,1.141813199]
[null,"Abril",351.33499999999992,8.75,7.8154700000000004,16.23,14.0527,17.559999999999999,1,2.3620999999999999,1.5814999999999999,8.2772000000000006,2263.11,1318.0908999999999,26.663,130.77180000000001,9.1648999999999994,1,1.1288682080000001]
[null,"Mayo",354.3854838709679,8.75,7.8587199999999999,16.309999999999999,14.146599999999999,17.559999999999999,1,2.5215999999999998,1.5502,8.2769999999999992,2310.2399999999998,1262.2,26.8032,126.375,9.5099,1,1.0905125410000001]
[null,"Junio",357.64099999999996,8.75,7.8892899999999999,16.39,14.243600000000001,17.559999999999999,1,2.8439999999999999,1.5318000000000001,8.2766999999999999,2364.25,1219.6949999999999,27.0976,123.29049999999999,9.7670999999999992,1,1.0466381979999999]
[null,"Julio",360.85999999999996,8.75,7.8441799999999997,16.47,14.264799999999999,17.559999999999999,1,3.4281000000000001,1.5456000000000001,8.2767999999999997,2506.7199999999998,1179.9867999999999,27.9664,117.8991,9.7791999999999994,1,1.007878587]
[null,"Agosto",363.87354838709678,8.75,7.7598200000000004,16.55,14.329499999999999,17.559999999999999,1,3.0219,1.5693999999999999,8.2766999999999999,2647.22,1197.5091,28.670400000000001,118.9927,9.8389000000000006,1,1.0227469140000001]
[null,"Septiembre",367.05633333333327,8.75,7.7714499999999997,16.64,14.4255,17.559999999999999,1,3.8944999999999999,1.5761000000000001,8.2769999999999992,2751.23,1211.605,29.061399999999999,121.078,10.0708,1,1.0195810540000001]
[null,"Octubre",370.27741935483874,8.75,7.7172599999999996,16.73,14.489699999999999,17.559999999999999,1,3.6446000000000001,1.5780000000000001,8.2772000000000006,2827.86,1240.1909000000001,31.0806,123.90770000000001,10.094099999999999,1,1.0192399999999999]
[null,"Noviembre",373.57633333333342,8.75,7.6006600000000004,16.8,14.551,17.559999999999999,1,3.6360999999999999,1.5714999999999999,8.2772000000000006,2726.66,1210.2,36.144500000000001,121.6079,10.1952,1,0.99820399999999998]
[null,"Diciembre",376.9258064516128,8.75,7.6367000000000003,16.88,14.604900000000001,17.559999999999999,1,3.5329000000000002,1.5591999999999999,8.2776999999999994,2814.89,1206.6143,37.205399999999997,121.8929,10.225099999999999,1,0.98119400000000001]
[2003,"Enero",379.88322580645161,8.75,7.7846500000000001,16.96,14.6928,17.559999999999999,1,3.4375,1.5414000000000001,8.2774999999999999,2913,1176.4523999999999,39.429600000000001,118.8133,10.622299999999999,1,0.94159999999999999]
[null,"Febrero",383.21142857142837,8.75,7.8144200000000001,17.04,14.7624,18.170000000000002,1,3.5954999999999999,1.5121,8.2780000000000005,2951.86,1190.3684000000001,45.252800000000001,119.3379,10.944699999999999,1,0.92726399999999998]
[null,"Marzo",386.59451612903223,8.75,7.8924500000000002,17.11,14.8422,22.72,1,3.4567000000000001,1.4761,8.2773000000000003,2959.01,1237.2,43.910400000000003,118.6871,10.9053,1,0.926369]
[null,"Abril",389.82866666666672,8.75,7.8945699999999999,17.18,14.919499999999999,23.78,1,3.109,1.4581999999999999,8.2772000000000006,2926.62,1231.1044999999999,42.806800000000003,119.895,10.588699999999999,1,0.92075600000000002]
[null,"Mayo",392.92645161290324,8.75,7.8905399999999997,17.23,14.991199999999999,25.6,1,2.9517000000000002,1.3839999999999999,8.2768999999999995,2858.94,1201.2333000000001,41.499200000000002,117.3681,10.252800000000001,1,0.86563199999999996]
[null,"Junio",396.35833333333329,8.75,7.9082699999999999,17.3,15.072100000000001,28.89,1,2.8887,1.3525,8.2771000000000008,2826.95,1194.1429000000001,41.590400000000002,118.32899999999999,10.502800000000001,1,0.85668900000000003]
[null,"Julio",399.85935483870969,8.75,7.9074400000000002,17.38,15.1853,34.450000000000003,1,2.8833000000000002,1.3821000000000001,8.2773000000000003,2858.82,1181.1636000000001,43.185099999999998,118.69589999999999,10.4581,1,0.87998399999999999]
[null,"Agosto",403.03516129032266,8.75,7.9105699999999999,17.45,15.165100000000001,33.72,1,3.0053000000000001,1.3963000000000001,8.2769999999999992,2867.29,1178.5999999999999,41.528599999999997,118.66240000000001,10.782999999999999,1,0.89669299999999996]
[null,"Septiembre",406.25733333333329,8.75,7.97079,17.53,15.3093,31.7,1,2.9203999999999999,1.3633999999999999,8.2772000000000006,2840.08,1165.4048,41.597999999999999,114.8,10.9229,1,0.88789399999999996]
[null,"Octubre",409.64967741935482,8.75,8.0822000000000003,17.600000000000001,15.444699999999999,34.909999999999997,1,2.8628,1.3221000000000001,8.2767999999999997,2876.2,1169.3408999999999,41.857300000000002,109.49550000000001,11.179600000000001,1,0.85415600000000003]
[null,"Noviembre",413.16599999999994,8.75,8.0663999999999998,17.670000000000002,15.4718,39.74,1,2.915,1.3129999999999999,8.2768999999999995,2844.55,1186.3888999999999,42.584600000000002,109.1778,11.1494,1,0.85499999999999998]
[null,"Diciembre",416.62967741935495,8.75,8.0174599999999998,17.73,15.5284,37.44,1,2.9255,1.3128,8.2769999999999992,2807.2,1192.3363999999999,42.934699999999999,107.7377,11.2515,1,0.81334300000000004]
[2004,"Enero",419.3096774193549,8.75,8.0986899999999995,17.78,15.6318,46.09,1,2.8532999999999999,1.2958000000000001,8.2769999999999992,2749.14,1183.345,43.442799999999998,106.2685,10.920299999999999,1,0.79132800000000003]
[null,"Febrero",422.44999999999993,8.75,8.0934799999999996,17.86,15.682600000000001,49.23,1,2.9342000000000001,1.3299000000000001,8.2771000000000008,2717.94,1167.5316,43.929900000000004,106.7079,11.0319,1,0.79119899999999999]
[null,"Marzo",425.66677419354841,8.75,8.08826,17.940000000000001,15.7525,46.52,1,2.9066999999999998,1.3286,8.2771000000000008,2670.8,1166.287,40.670200000000001,108.5157,11.019,1,0.81565200000000004]
[null,"Abril",428.71766666666662,8.75,8.0346899999999994,18.0243,15.8154,44.35,1,2.9079000000000002,1.3420000000000001,8.2768999999999995,2639.6,1152.8635999999999,38.161799999999999,107.6564,11.270099999999999,1,0.83416100000000004]
[null,"Mayo",431.89225806451617,8.75,7.9736700000000003,18.099299999999999,15.890650715057401,46.92,1,3.1023000000000001,1.3789,8.2771000000000008,2719.43,1177.875,37.397100000000002,112.196,11.5199,1,0.83343299999999998]
[null,"Junio",435.10100000000006,8.75,7.9268000000000001,18.1691,15.9534,48.12,1,3.1293000000000002,1.3577999999999999,8.2766999999999999,2716.56,1159.0227,36.321300000000001,109.4336,11.3926,1,0.82335100000000006]
[null,"Julio",438.35903225806459,8.75,7.8822700000000001,18.241,15.986958963873708,44.84,1,3.0384000000000002,1.3225,8.2766999999999999,2653.32,1158.7,36.0411,109.4871,11.4678,1,0.81535599999999997]
[null,"Agosto",441.69516129032257,8.75,7.8972600000000002,18.329999999999998,16.03618051718901,41.25,1,3.0017999999999998,1.3127,8.2767999999999997,2598.59,1158.0318,36.261800000000001,110.2336,11.395300000000001,1,0.82033100000000003]
[null,"Septiembre",445.21366666666682,8.75,7.88727,18.411000000000001,16.051542371951133,36.950000000000003,1,2.8914,1.2881,8.2766999999999999,2552.7800000000002,1148.7190000000001,36.608199999999997,110.09139999999999,11.487,1,0.81810000000000005]
[null,"Octubre",448.85838709677392,8.75,7.8180500000000004,18.486699999999999,16.084469555548353,32.270000000000003,1,2.8519999999999999,1.2468999999999999,8.2765000000000004,2580.6999999999998,1141.57,36.776600000000002,108.7835,11.403700000000001,1,0.79969500000000004]
[null,"Noviembre",452.44166666666672,8.75,7.7589499999999996,18.54,16.107368057139297,29.56,1,2.7877000000000001,1.1968000000000001,8.2765000000000004,2530.19,1086.4349999999999,37.174599999999998,104.699,11.371,1,0.76967600000000003]
[null,"Diciembre",456.04161290322583,8.75,7.7658500000000004,18.59,16.135477468171569,28.86,1,2.7149999999999999,1.2189000000000001,8.2765000000000004,2411.37,1050.3739,37.483499999999999,103.8104,11.2012,1,0.74597400000000003]
[2005,"Enero",459.51967741935471,8.75,7.7515900000000002,18.66,16.287199999999999,29.835599999999999,1,2.6894999999999998,1.2248000000000001,8.2765000000000004,2362.96,1037.9825000000001,37.6008,103.34099999999999,11.262700000000001,1,0.76211300000000004]
[null,"Febrero",462.80464285714282,8.75,7.7064199999999996,18.73,16.4573,28.8475,1,2.5971000000000002,1.2401,8.2765000000000004,2340.4899999999998,1023.1105,37.7423,104.9442,11.1373,1,0.76856400000000002]
[null,"Marzo",465.91419354838695,8.75,7.6037400000000002,18.77,16.524699999999999,28.298100000000002,1,2.7061000000000002,1.216,8.2765000000000004,2353.71,1007.7761,38.079000000000001,105.2543,11.155200000000001,1,0.75849999999999995]
[null,"Abril",468.81533333333334,8.75,7.5947899999999997,18.809999999999999,16.569400000000002,28.2471,1,2.5760000000000001,1.2359,8.2765000000000004,2350.0100000000002,1010.0667,38.621200000000002,107.1938,11.1121,1,0.77267799999999998]
[null,"Mayo",471.98387096774195,8.75,7.5822500000000002,18.850000000000001,16.657399999999999,28.699000000000002,1,2.4554,1.2555000000000001,8.2765000000000004,2339.2199999999998,1001.8386,38.655099999999997,106.59520000000001,10.9764,1,0.78807499999999997]
[null,"Junio",475.28000000000009,8.75,7.60466,18.86,16.6816,28.898599999999998,1,2.4148000000000001,1.2402,8.2765000000000004,2331.79,1012.46,39.1768,108.7473,10.819699999999999,1,0.82272699999999999]
[null,"Julio",478.4996774193549,8.75,7.5801600000000002,18.87,16.808900000000001,28.927,1,2.3702000000000001,1.2229000000000001,8.2263999999999999,2323.38,1036.56,41.544800000000002,111.95350000000001,10.6724,1,0.83083499999999999]
[null,"Agosto",481.45677419354826,8.75,7.5792999999999999,18.87,16.887499999999999,29.001000000000001,1,2.3609,1.2042999999999999,8.1016999999999992,2306.19,1021.6804,42.595700000000001,110.6065,10.686199999999999,1,0.813361]
[null,"Septiembre",484.56200000000001,8.75,7.6124299999999998,18.88,16.952100000000002,30.422799999999999,1,2.2949000000000002,1.1777,8.0919000000000008,2294.52,1029.8433,42.386200000000002,111.239,10.7858,1,0.81651200000000002]
[null,"Octubre",487.71967741935481,8.75,7.6658400000000002,18.89,17.009399999999999,32.406500000000001,1,2.2536,1.1774,8.0894999999999992,2292.5500000000002,1045.8775000000001,42.988500000000002,114.8695,10.8354,1,0.83150500000000005]
[null,"Noviembre",490.91433333333333,8.75,7.6008100000000001,18.899999999999999,17.080500000000001,33.251600000000003,1,2.2109000000000001,1.1815,8.0839999999999996,2279.85,1040.76,43.008400000000002,118.45399999999999,10.6715,1,0.84845199999999998]
[null,"Diciembre",494.14677419354837,8.75,7.6023399999999999,18.899999999999999,17.105799999999999,33.122700000000002,1,2.2808999999999999,1.1615,8.0754999999999999,2278.91,1022.381,42.983800000000002,118.4624,10.6266,1,0.843167]
[2006,"Enero",497.28709677419357,8.75,7.6114600000000001,18.899999999999999,17.2182,34.564900000000002,1,2.2665999999999999,1.1572,8.0654000000000003,2273.66,981.43499999999995,43.367400000000004,115.4765,10.542199999999999,1,0.82626999999999995]
[null,"Febrero",500.23214285714295,8.75,7.5989500000000003,18.899999999999999,17.309000000000001,34.173699999999997,1,2.1587000000000001,1.1489,8.0511999999999997,2256.2399999999998,969.84469999999999,43.052599999999998,117.8605,10.4842,1,0.83759300000000003]
[null,"Marzo",502.98709677419367,8.75,7.6090799999999996,18.899999999999999,17.362098756424462,32.561100000000003,1,2.1528,1.1573,8.0350000000000001,2262.36,974.71090000000004,42.689,117.2778,10.7493,1,0.83140999999999998]
[null,"Abril",505.56166666666661,8.75,7.5841099999999999,18.899999999999999,17.4192,32.106299999999997,1,2.1280999999999999,1.1440999999999999,8.0143000000000004,2334.29,952.59500000000003,42.145899999999997,117.06950000000001,11.0489,1,0.81490200000000002]
[null,"Mayo",507.63032258064516,8.75,7.5749000000000004,18.899999999999999,17.4924,32.4925,1,2.1697000000000002,1.1100000000000001,8.0130999999999997,2417.9899999999998,940.81679999999994,39.487400000000001,111.73050000000001,11.0908,1,0.78334499999999996]
[null,"Junio",510.39433333333329,8.75,7.6012399999999998,18.899999999999999,17.590900035500571,32.7652,1,2.2492999999999999,1.1136999999999999,8.0042000000000009,2542.2399999999998,954.45,39.580500000000001,114.625,11.3934,1,0.78992899999999999]
[null,"Julio",513.26935483870955,8.75,7.5741199999999997,18.899999999999999,17.629068677734224,32.754399999999997,1,2.1882999999999999,1.1294,7.9897,2511.7399999999998,950.81,39.901000000000003,115.767,10.983000000000001,1,0.78864100000000004]
[null,"Agosto",515.88225806451624,8.75,7.5738300000000001,18.899999999999999,17.7196,32.634399999999999,1,2.1553,1.1182000000000001,7.9722,2389.65,960.95219999999995,39.103000000000002,115.9243,10.8735,1,0.78062200000000004]
[null,"Septiembre",518.49866666666662,8.75,7.5976400000000002,18.899999999999999,17.748595450452004,32.9495,1,2.1678999999999999,1.1161000000000001,7.9333999999999998,2398.88,952.29,39.075699999999998,117.2145,10.988799999999999,1,0.78572200000000003]
[null,"Octubre",518.01870967741934,8.75,7.6049600000000002,18.899999999999999,17.8292,33.473700000000001,1,2.1457999999999999,1.1285000000000001,7.9017999999999997,2364.29,952.64290000000005,39.102400000000003,118.60899999999999,10.885400000000001,1,0.79265200000000002]
[null,"Noviembre",514.76266666666663,8.75,7.5991299999999997,18.899999999999999,17.915461851624741,33.558999999999997,1,2.1555,1.1358999999999999,7.8621999999999996,2290.46,935.41430000000003,39.082900000000002,117.3205,10.9133,1,0.77593599999999996]
[null,"Diciembre",515.19096774193542,8.75,7.5950499999999996,18.899999999999999,17.9846,33.085599999999999,1,2.1476000000000002,1.1532,7.8219000000000003,2261.33526315789,924.98,38.314399999999999,117.322,10.8546,1,0.75752699999999995]
[2007,"Enero",516.15193548387094,8.75,7.66913,18.899999999999999,18.059999999999999,33.7012,1,2.1375999999999999,1.1762999999999999,7.7876000000000003,2236.8293119999998,936.76189999999997,38.398699999999998,120.44710000000001,10.9559,1,0.76933399999999996]
[null,"Febrero",517.18750000000011,8.75,7.6863000000000001,18.899999999999999,18.1479,33.361800000000002,1,2.0939000000000001,1.171,7.7502000000000004,2226.745692,936.9,38.459299999999999,120.5047,10.995100000000001,1,0.76438399999999995]
[null,"Marzo",516.91580645161309,8.75,7.6832700000000003,18.899999999999999,18.194253496415492,32.7913,1,2.0882999999999998,1.1681999999999999,7.7369000000000003,2200.36,942.88409999999999,37.997900000000001,117.26,11.1144,1,0.75498500000000002]
[null,"Abril",516.73399999999992,8.75,7.6525800000000004,18.899999999999999,18.219006574985084,32.228099999999998,1,2.0301999999999998,1.135,7.7247000000000003,2141.9299999999998,930.69050000000004,36.9313,118.9324,10.9802,1,0.74007599999999996]
[null,"Mayo",516.76774193548397,8.75,7.63443,18.899999999999999,18.258881125759629,32.139800000000001,1,1.9836,1.0951,7.6772999999999998,2004.673,927.56359999999995,36.858400000000003,120.7732,10.822100000000001,1,0.73993500000000001]
[null,"Junio",516.67633333333333,8.75,7.6696200000000001,18.899999999999999,18.2928,32.415399999999998,1,1.9322999999999999,1.0650999999999999,7.6333000000000002,1920.9179999999999,927.86670000000004,36.280500000000004,122.68859999999999,10.833,1,0.745139]
[null,"Julio",516.595483870968,8.75,7.6701499999999996,18.899999999999999,18.364899999999999,32.992699999999999,1,1.8812,1.0502,7.5757000000000003,1952.1724999999999,918.11900000000003,35.615200000000002,121.4148,10.8146,1,0.72881200000000002]
[null,"Agosto",516.5754838709679,8.75,7.65421,18.899999999999999,18.510100000000001,32.903500000000001,1,1.962,1.0579000000000001,7.5734000000000004,2061.5680000000002,934.48479999999995,35.689700000000002,116.73350000000001,11.043799999999999,1,0.73394499999999996]
[null,"Septiembre",516.36666666666656,8.75,7.6902451506296448,18.899999999999999,18.594799999999999,33.306199999999997,1,1.9023000000000001,1.0266999999999999,7.5209999999999999,2109.2928099999999,928.59500000000003,36.088799999999999,115.04349999999999,11.0319,1,0.71903600000000001]
[null,"Octubre",516.58225806451605,8.75,7.7108800000000004,18.899999999999999,18.714300000000001,33.455100000000002,1,1.7987,0.97540000000000004,7.5019,1998.3786500000001,914.94349999999997,36.216000000000001,115.8661,10.821400000000001,1,0.70262599999999997]
[null,"Noviembre",511.29133333333328,8.75,7.6298724282510353,18.899999999999999,18.792999999999999,33.407899999999998,1,1.7668999999999999,0.96719999999999995,7.4210000000000003,2044.9333300000001,918.80949999999996,36.764299999999999,111.0729,10.8811,1,0.68116399999999999]
[null,"Diciembre",495.75483870967741,8.75,7.6145193141472056,18.899999999999999,18.840599999999998,33.518900000000002,1,1.7851999999999999,1.0021,7.3681999999999999,2015.04303,931.09500000000003,37.058500000000002,112.449,10.846299999999999,1,0.68727300000000002]
[2008,"Enero",494.60806451612893,8.75,7.6950003532170266,18.895099999999999,18.902887099781676,33.756999999999998,1,1.7709999999999999,1.0099,7.2404999999999999,1984.3062709999999,942.05709999999999,37.191099999999999,107.8181,10.9057,1,0.67947000000000002]
[null,"Febrero",493.50827586206896,8.75,7.713841628737506,18.895100000000006,18.995517022688951,33.834400000000002,1,1.7290000000000001,0.99860000000000004,7.1643999999999997,1905.3051720000001,944.005,37.6004,107.03,10.767899999999999,1,0.67784500000000003]
[null,"Marzo",492.35935483870969,8.75,7.6284180629053724,18.896999999999998,19.063788688146566,33.916899999999998,1,1.7090000000000001,1.0028999999999999,7.0721999999999996,1842.826575,981.73479999999995,38.2881,100.75620000000001,10.732799999999999,1,0.64442999999999995]
[null,"Abril",491.27700000000016,8.75,7.5304171142075269,18.903600000000001,19.124891060491503,34.025799999999997,1,1.6862999999999999,1.0137,6.9996999999999998,1793.286364,986.86360000000002,38.626100000000001,102.6777,10.5146,1,0.63481299999999996]
[null,"Mayo",507.55483870967743,8.75,7.424087050067028,18.911909523809499,19.213895973053184,34.011400000000002,1,1.6585000000000001,0.99929999999999997,6.9725000000000001,1775.645076,1034.1333,38.680100000000003,104.3595,10.4381,1,0.64252399999999998]
[null,"Junio",516.46166666666682,8.75,7.4820833829284314,18.898909523809525,19.301721574842208,34.157200000000003,1,1.6178999999999999,1.0165999999999999,6.8993000000000002,1731.661556,1031.4857,39.239899999999999,106.9152,10.3269,1,0.64263700000000001]
[null,"Julio",532.26032258064504,8.75,7.4317652507534779,18.895413043478253,19.375599999999999,34.273600000000002,1,1.59,1.0129999999999999,6.8354999999999997,1770.1390710000001,1015.0545,39.669499999999999,106.8518,10.2094,1,0.63469200000000003]
[null,"Agosto",547.15096774193546,8.75,7.3971985268438409,18.895199999999999,19.475583578006948,34.6753,1,1.6127,1.0535000000000001,6.8461999999999996,1848.1423239999999,1046.1143,39.855600000000003,109.36239999999999,10.115399999999999,1,0.66889799999999999]
[null,"Septiembre",548.97400000000005,8.75,7.4503711040300944,18.895123809523813,19.432961117318836,34.831699999999998,1,1.8030999999999999,1.0582,6.8307000000000002,2072.656352,1134.8667,40.009500000000003,106.5748,10.6633,1,0.69673399999999996]
[null,"Octubre",550.25193548387085,8.75,7.5129466599303756,18.895119047619055,19.646979296253114,34.99,1,2.181,1.1847000000000001,6.8357999999999999,2286.9772520000001,1329.1876999999999,39.817300000000003,99.965900000000005,12.6593,1,0.75371600000000005]
[null,"Noviembre",548.65333333333331,8.75,7.6208658613064024,18.895115000000004,19.731587721498521,35.194099999999999,1,2.2704,1.2171000000000001,6.8281000000000001,2329.9220679999999,1398.7044000000001,40.107599999999998,96.965599999999995,13.118600000000001,1,0.78447999999999996]
[null,"Diciembre",544.48258064516153,8.75,7.689267774777468,18.895099999999999,19.795882421365235,35.256900000000002,1,2.3954,1.2337,6.8539000000000003,2243.6690720000001,1361.5726999999999,40.2059,91.275000000000006,13.416700000000001,1,0.74045300000000003]
[2009,"Enero",551.30838709677414,8.75,7.8455114061778559,18.895099999999999,19.916042247334367,35.369300000000003,1,2.3079000000000001,1.2248000000000001,6.8360000000000003,2265.8208140000002,1354.3975,40.194899999999997,90.120500000000007,13.883900000000001,1,0.75572399999999995]
[null,"Febrero",557.78392857142865,8.75,7.9324462749767868,18.895100000000006,19.997926553964621,35.558,1,2.323,1.2452000000000001,6.8362999999999996,2511.6799999999998,1439.5842,40.455500000000001,92.915800000000004,14.6066,1,0.78224300000000002]
[null,"Marzo",560.71161290322596,8.75,8.0635843305283821,18.89510000000001,20.028700000000001,35.666899999999998,1,2.3161,1.2645,6.8360000000000003,2471.7068049999998,1449.6159,40.582900000000002,97.855000000000004,14.646599999999999,1,0.76696299999999995]
[null,"Abril",565.09633333333329,8.75,8.0795614352258323,18.895100000000006,20.006554991448645,35.825600000000001,1,2.2027000000000001,1.2242,6.8305999999999996,2375.0380580000001,1332.125,40.751100000000001,98.92,13.403499999999999,1,0.75779300000000005]
[null,"Mayo",569.73709677419345,8.75,8.0886278204663729,18.895099999999999,20.164880683483393,35.948300000000003,1,2.0689000000000002,1.1528,6.8235000000000001,2227.2468720000002,1254.345,40.809699999999999,96.644499999999994,13.189500000000001,1,0.73380800000000002]
[null,"Junio",571.89400000000001,8.75,8.1190835347620904,18.89510000000001,20.273522255211812,35.923200000000001,1,1.9585999999999999,1.1264000000000001,6.8334000000000001,2090.0410569999999,1259.2932000000001,40.969499999999996,96.614500000000007,13.3414,1,0.713503]
[null,"Julio",577.19870967741929,8.75,8.1651316546808221,18.895099999999999,20.370698516606893,35.979900000000001,1,1.9328000000000001,1.1229,6.8316999999999997,2049.3521059999998,1259.6739,41.280299999999997,94.367000000000004,13.362299999999999,1,0.70988499999999999]
[null,"Agosto",582.20838709677423,8.75,8.2493711388796154,18.895100000000006,20.495326714118363,36.026899999999998,1,1.8452999999999999,1.0871999999999999,6.8323,2016.95569,1238.9952000000001,41.454099999999997,94.897099999999995,13.0063,1,0.70089999999999997]
[null,"Septiembre",582.15566666666689,8.75,8.3031278533496931,18.895110000000006,20.578071655346612,36.055900000000001,1,1.8187,1.0815999999999999,6.8277000000000001,1973.81,1211.8643,41.561700000000002,91.274799999999999,13.406000000000001,1,0.68682699999999997]
[null,"Octubre",577.49129032258054,8.75,8.3356649668472524,18.895110000000006,20.657870755391759,36.094900000000003,1,1.7378,1.0547,6.8266999999999998,1902.1233629999999,1173.7405000000001,41.881700000000002,90.367099999999994,13.227499999999999,1,0.674987]
[null,"Noviembre",562.38366666666673,8.75,8.2926075535514752,18.895110000000006,20.725083123577612,36.0931,1,1.7267999999999999,1.0592999999999999,6.8270999999999997,1974.9528720000001,1162.8368,42.174399999999999,89.267399999999995,13.111499999999999,1,0.67052199999999995]
[null,"Diciembre",562.63612903225794,8.75,8.3141321336488225,18.895110000000006,20.781463455802157,36.089500000000001,1,1.7507999999999999,1.0537000000000001,6.8274999999999997,2020.0741889999999,1163.3108999999999,42.255499999999998,89.950900000000004,12.8622,1,0.68454000000000004]
[2010,"Enero",559.05064516129028,8.75,8.3563405085440845,18.895110000000006,20.918234696806792,36.11,1,1.7817000000000001,1.0438000000000001,6.8269000000000002,1982.18751,1138.1947,40.577100000000002,91.101100000000002,12.8096,1,0.70077999999999996]
[null,"Febrero",548.63857142857148,8.75,8.1361262190342583,18.895100000126963,21.038769555912207,36.192,1,1.8420000000000001,1.0571999999999999,6.8285,1951.677306,1155.6552999999999,38.572800000000001,90.139499999999998,12.9396,1,0.730765]
[null,"Marzo",532.64677419354837,8.75,8.0103276904942504,18.895103607623714,21.121796362445124,36.2973,1,1.7855000000000001,1.0228999999999999,6.8262,1910.294664,1136.0822000000001,39.4833,90.716099999999997,12.567299999999999,1,0.73706000000000005]
[null,"Abril",511.28833333333336,8.75,7.9928449678823039,18.895103607623714,21.184484763543033,36.421599999999998,1,1.7567999999999999,1.0052000000000001,6.8255999999999997,1936.5212779999999,1115.4591,39.6312,93.452699999999993,12.239599999999999,1,0.74579099999999998]
[null,"Mayo",522.39548387096761,8.75,7.9879061949656069,18.895099999999999,21.262304728708429,36.6982,1,1.8142,1.0403,6.8274999999999997,1985.691771,1164.8409999999999,39.759799999999998,91.972999999999999,12.7262,1,0.79625299999999999]
[null,"Junio",529.91333333333341,8.75,7.998232545050775,18.895099999999999,21.338955733031167,36.726900000000001,1,1.8042,1.0376000000000001,6.8183999999999996,1926.1785420000001,1214.1114,39.817100000000003,90.805899999999994,12.7102,1,0.81919299999999995]
[null,"Julio",518.70451612903219,8.75,7.9928699999999999,18.89510000000001,21.423151353151844,36.796199999999999,1,1.7688999999999999,1.0422,6.7762000000000002,1872.9649959999999,1203.8095000000001,39.826300000000003,87.500500000000002,12.803800000000001,1,0.78328600000000004]
[null,"Agosto",506.84580645161299,8.75,8,18.895099705569017,21.530391152863562,36.893099999999997,1,1.7588999999999999,1.0404,6.7873000000000001,1821.4239070000001,1179.5159000000001,39.832999999999998,85.372699999999995,12.766,1,0.77523600000000004]
[null,"Septiembre",505.0586666666668,8.75,8.0662800000000008,18.895099999999999,21.619256082981003,36.984699999999997,1,1.718,1.0329999999999999,6.7396000000000003,1806.7016289999999,1159.931,39.899500000000003,84.357100000000003,12.797700000000001,1,0.76570199999999999]
[null,"Octubre",505.05806451612915,8.75,8.0445899999999995,18.895100000000006,21.720137161989317,37.188600000000001,1,1.6837,1.0179,6.6677999999999997,1807.8968219999999,1121.94,39.966099999999997,81.728499999999997,12.439299999999999,1,0.71957800000000005]
[null,"Noviembre",507.39699999999999,8.75,7.9917899999999999,18.89510000000001,21.741055878191414,37.215699999999998,1,1.7131000000000001,1.0128999999999999,6.6538000000000004,1866.059614,1129.623,40.137900000000002,82.518000000000001,12.3376,1,0.73240499999999997]
[null,"Diciembre",501.12129032258042,8.75,7.96,18.89510000000001,21.799978904160877,37.309699999999999,1,1.6955,1.0081,6.6497000000000002,1918.793154,1145.4833000000001,40.061100000000003,83.337599999999995,12.3902,1,0.75646199999999997]
[2011,"Enero",501.86741935483877,8.75,7.94,18.895100000000006,21.959545617601595,37.4465,1,1.6745000000000001,0.99390000000000001,6.5964,1867.7322380000001,1118.8675000000001,40.2057,82.625,12.128,1,0.748475]
[null,"Febrero",497.19785714285723,8.75,7.7936800000000002,18.895100000000006,22.064175783052654,37.627600000000001,1,1.6664000000000001,0.98760000000000003,6.5761000000000003,1882.6582209999999,1117.4367999999999,40.4101,82.536799999999999,12.0649,1,0.73290200000000005]
[null,"Marzo",495.12,8.75,7.6911800000000001,18.895099999999999,22.129389726415965,37.762999999999998,1,1.6574,0.97660000000000002,6.5644999999999998,1882.028552,1119.2674,40.235399999999998,81.647000000000006,11.9963,1,0.71439399999999997]
[null,"Abril",494.49866666666662,8.75,7.6033400000000002,18.895100000000006,22.164416689609169,37.835299999999997,1,1.5832999999999999,0.95799999999999996,6.5266999999999999,1809.4825169999999,1083.1762000000001,40.253700000000002,83.177099999999996,11.7059,1,0.69223599999999996]
[null,"Mayo",497.77870967741922,8.75,7.65,18.895099999999999,22.251683335038216,37.891100000000002,1,1.6135999999999999,0.96799999999999997,6.4957000000000003,1802.460654,1084.3619000000001,40.275700000000001,81.125699999999995,11.654199999999999,1,0.69714299999999996]
[null,"Junio",500.2146666666668,8.75,7.76492,18.895099999999999,22.402375882596033,38.03,1,1.5853999999999999,0.97660000000000002,6.4745999999999997,1781.8953449999999,1080.4522999999999,40.299100000000003,80.425899999999999,11.8055,1,0.695079]
[null,"Julio",499.40903225806443,8.75,7.7444499999999996,18.872410000000009,22.513748801950989,38.044400000000003,1,1.5625,0.95530000000000004,6.4574999999999996,1760.766779,1057.425,40.358199999999997,79.242500000000007,11.674099999999999,1,0.70113300000000001]
[null,"Agosto",500.19096774193548,8.75,7.8148499999999999,18.848513043478263,22.604635227635427,38.061999999999998,1,1.5966,0.98170000000000002,6.4036,1785.6536000000001,1073.8869999999999,40.529499999999999,76.965699999999998,12.236599999999999,1,0.69723100000000005]
[null,"Septiembre",505.49799999999988,8.75,7.8399099999999997,18.924095416770832,22.676129355315798,38.145600000000002,1,1.7492000000000001,1.0024999999999999,6.3884999999999996,1835.400132,1121.9095,40.749000000000002,76.795699999999997,13.063700000000001,1,0.72645700000000002]
[null,"Octubre",509.52096774193552,8.75,7.8299174515732988,18.99443888888889,22.724166452708364,38.3001,1,1.7703,1.0198,6.3710000000000004,1904.7413630000001,1150.6849999999999,40.896299999999997,76.643000000000001,13.437900000000001,1,0.729854]
[null,"Noviembre",502.21600000000001,8.75,7.8008899999999999,18.983940909090908,22.759988452761522,38.441600000000001,1,1.7864,1.0247999999999999,6.3563999999999998,1920.130107,1133.4775,41.0471,77.5595,13.695499999999999,1,0.73780199999999996]
[null,"Diciembre",499.80580645161302,8.75,7.7856076542219848,19.010026469856818,22.83322030305397,38.5473,1,1.8391,1.0235000000000001,6.3482000000000003,1933.2295449999999,1148.1261999999999,41.0139,77.796700000000001,13.7746,1,0.75894200000000001]
[2012,"Enero",504.09741935483879,8.75,7.7961200000000002,19.087711479177649,23.013784602379719,38.858400000000003,1,1.7849999999999999,1.0129999999999999,6.3171999999999997,1847.872001,1140.3275000000001,41.173299999999998,76.963999999999999,13.382899999999999,1,0.77500400000000003]
[null,"Febrero",505.04931034482757,8.75,7.7717200000000002,19.162914048967881,23.128224881342625,38.942500000000003,1,1.7168000000000001,0.99670000000000003,6.2996999999999996,1781.6219229999999,1122.69,41.435600000000001,78.47,12.783300000000001,1,0.75626400000000005]
[null,"Marzo",503.25677419354849,8.75,7.7114099999999999,19.240354545454544,23.161915703074222,38.994399999999999,1,1.7952999999999999,0.99380000000000002,6.3125,1766.2085850000001,1126.17,41.578499999999998,82.465900000000005,12.7523,1,0.75755300000000003]
[null,"Abril",499.63499999999999,8.75,7.7361700000000004,19.30468947368421,23.2158340866951,39.017600000000002,1,1.8522000000000001,0.99280000000000002,6.3042999999999996,1772.1225440000001,1135.0237999999999,41.632399999999997,81.252399999999994,13.055899999999999,1,0.76002199999999998]
[null,"Mayo",499.32580645161295,8.75,7.7713799999999997,19.377786363636368,23.29195380026535,39.022199999999998,1,1.9810000000000001,1.0097,6.3242000000000003,1794.6508510000001,1156.6913999999999,41.807499999999997,79.666799999999995,13.619899999999999,1,0.78103199999999995]
[null,"Junio",494.77800000000002,8.75,7.8366899999999999,19.456114285714285,23.424567576646083,39.065399999999997,1,2.0482,1.028,6.3632999999999997,1790.8693760000001,1163.3886,41.991700000000002,79.315200000000004,13.9193,1,0.79836200000000002]
[null,"Julio",495.24806451612903,8.75,7.8116199999999996,19.534649999999999,23.604695946842575,39.0807,1,2.0295999999999998,1.0142,6.3716999999999997,1783.200902,1142.2781,41.994,78.934799999999996,13.363799999999999,1,0.813635]
[null,"Agosto",494.00354838709666,8.75,7.8730200000000004,19.617239130434779,23.733739868233521,39.110900000000001,1,2.0278999999999998,0.99239999999999995,6.3593000000000002,1804.7576879999999,1131.7456999999999,42.107399999999998,78.690899999999999,13.1793,1,0.80650699999999997]
[null,"Septiembre",492.61766666666665,8.75,7.9600799999999996,19.696496460991842,23.813753992857396,39.204599999999999,1,2.0268999999999999,0.97829999999999995,6.32,1801.477654,1122.9911,42.260599999999997,78.135300000000001,12.923500000000001,1,0.77708999999999995]
[null,"Octubre",492.40451612903229,8.75,7.8591300000000004,19.770308695652176,23.861465954030169,39.4283,1,2.0297000000000001,0.98719999999999997,6.2626999999999997,1805.396438,1105.3823,42.3568,79.013199999999998,12.897600000000001,1,0.77054400000000001]
[null,"Noviembre",494.43333333333345,8.75,7.8577599999999999,19.848518181818182,23.974316587035641,39.935499999999998,1,2.0661999999999998,0.997,6.2337999999999996,1820.8119549999999,1086.9525000000001,42.499200000000002,81.030500000000004,13.0639,1,0.76965099999999997]
[null,"Diciembre",494.33129032258068,8.75,7.8761000000000001,19.926769525306661,24.070408755498978,40.170400000000001,1,2.0775000000000001,0.98980000000000001,6.2328000000000001,1792.146291,1075.2225000000001,42.558700000000002,83.790499999999994,12.8651,1,0.76261800000000002]
[2013,"Enero",495.34322580645164,8.75,7.8676199999999996,20.001634609414715,24.226022614155656,40.575600000000001,1,2.0280999999999998,0.99209999999999998,6.2214999999999998,1770.638385,1066.5205000000001,42.645699999999998,89.058099999999996,12.696400000000001,1,0.75163500000000005]
[null,"Febrero",496.21857142857158,8.75,7.8144,20.080485000000003,24.356957650813889,40.757926315789469,1,1.9729000000000001,1.0098,6.2323000000000004,1792.3274240000001,1087.3083999999999,42.828400000000002,93.001599999999996,12.7249,1,0.74867300000000003]
[null,"Marzo",493.5019354838708,8.75,7.7964500000000001,20.151966666666663,24.4090695256725,40.991199999999999,1,1.9842,1.0244,6.2153999999999998,1812.395771,1102.8710000000001,42.941400000000002,94.77,12.5,1,0.77146800000000004]
[null,"Abril",493.49333333333351,8.75,7.7833199999999998,20.218299999999999,24.411461072966144,41.052700000000002,1,2.0011000000000001,1.0186999999999999,6.1860999999999997,1830.331862,1120.8977,43.183399999999999,97.758200000000002,12.206099999999999,1,0.76774600000000004]
[null,"Mayo",493.59483870967745,8.75,7.7759099999999997,20.3003,24.537025632561676,41.094900000000003,1,2.0365000000000002,1.0196000000000001,6.1416000000000004,1850.797793,1111.4945,43.5715,100.9186,12.299300000000001,1,0.77054699999999998]
[null,"Junio",493.33000000000004,8.75,7.8050800000000002,20.380034999999999,24.682677784300466,41.462600000000002,1,2.1734,1.0314000000000001,6.1341999999999999,1908.5430919999999,1135.0084999999999,43.723999999999997,97.234999999999999,12.9636,1,0.75897300000000001]
[null,"Julio",493.06677419354855,8.75,7.8101500000000001,20.45634347826087,24.825860099273971,41.907699999999998,1,2.2517999999999998,1.0402,6.1342999999999996,1900.077571,1125.03,43.753399999999999,99.672700000000006,12.7615,1,0.76466800000000001]
[null,"Agosto",493.1432258064516,8.75,7.8872658086161449,20.459227272727276,24.927736938926625,42.37,1,2.3408000000000002,1.0407,6.1212999999999997,1904.2727319999999,1115.9418000000001,43.774099999999997,97.812299999999993,12.912000000000001,1,0.75103699999999995]
[null,"Septiembre",495.12099999999998,8.75,7.9287700000000001,20.525571428571428,25.039504053469503,42.613700000000001,1,2.2641,1.0342,6.1197999999999997,1920.0784510000001,1082.3115,43.759,99.21,13.055300000000001,1,0.74876200000000004]
[null,"Octubre",493.96322580645176,8.75,7.9452600000000002,20.531204761904764,25.171504138764977,42.439,1,2.1882000000000001,1.0363,6.1032000000000002,1884.2854600000001,1065.8572999999999,43.7744,97.77,12.9916,1,0.73296700000000004]
[null,"Noviembre",493.58833333333331,8.75,7.8807799999999997,20.550342857142855,25.236673905645056,42.460999999999999,1,2.2959000000000001,1.0486,6.0929000000000002,1922.3106359999999,1061.5636999999999,43.805599999999998,100.0737,13.059699999999999,1,0.741259]
[null,"Diciembre",493.50612903225806,8.75,7.8451700000000004,20.59389047619047,25.25307800585588,42.604766666666663,1,2.3471000000000002,1.0639000000000001,6.0738000000000003,1932.6848339999999,1055.6348,43.886299999999999,103.46,13.0099,1,0.72962000000000005]
[2014,"Enero",496.41580645161287,8.75,7.8320800000000004,20.626459090909091,25.421351943528666,42.863799999999998,1,2.3858000000000001,1.0940000000000001,6.0509000000000004,1961.295901,1067.1267,43.8994,103.76139999999999,13.222,1,0.73419800000000002]
[null,"Febrero",518.76392857142855,8.75,7.7452699999999997,20.673604999999995,25.577839605967768,43.086500000000001,1,2.3792,1.1053999999999999,6.0815999999999999,2038.394992,1071.3063,44.148400000000002,102.1253,13.2928,1,0.73218000000000005]
[null,"Marzo",541.9990322580644,8.75,7.7161799999999996,20.730138095238093,25.65854239381266,43.115200000000002,1,2.3250999999999999,1.1107,6.1729000000000003,2017.7256259999999,1070.491,44.5122,102.3395,13.1929,1,0.723186]
[null,"Abril",540.12033333333352,8.75,7.7358900000000004,20.774422222222221,25.65793088764207,43.11,1,2.2324999999999999,1.0992,6.2245999999999997,1937.212084,1042.635,44.842799999999997,102.45820000000001,13.0669,1,0.724163]
[null,"Mayo",545.72774193548378,8.75,7.72384,20.821080952380953,25.798448197519736,43.173466666666663,1,2.2195,1.0893999999999999,6.2380000000000004,1915.2974549999999,1024.7867000000001,45.193899999999999,101.77379999999999,12.933,1,0.72824100000000003]
[null,"Junio",544.76266666666675,8.75,7.79406,20.919928571428564,25.977480477756416,43.362299999999998,1,2.2360000000000002,1.083,6.2305999999999999,1886.712088,1018.7443,45.3264,102.0629,12.9932,1,0.73534100000000002]
[null,"Julio",533.02290322580643,8.75,7.7608600000000001,20.964939130434782,26.11124710506866,43.469700000000003,1,2.2242000000000002,1.0739000000000001,6.1984000000000004,1858.0021380000001,1021.0341,45.320599999999999,101.74,12.991400000000001,1,0.73876500000000001]
[null,"Agosto",534.17161290322576,8.75,7.7919600000000004,21.048950000000005,26.185360498351528,43.492899999999999,1,2.2685,1.0926,6.1540999999999997,1899.4888980000001,1024.55,45.361899999999999,102.9438,13.143599999999999,1,0.75093500000000002]
[null,"Septiembre",534.25599999999997,8.75,7.7074100000000003,21.165080632488042,26.241220743874365,43.650766666666655,1,2.3378999999999999,1.1011,6.1382000000000003,1978.1368210000001,1035.8914,45.486699999999999,107.42570000000001,13.237,1,0.77596600000000004]
[null,"Octubre",533.83516129032239,8.75,7.6263300000000003,21.288829999999997,26.363768538015751,43.803800000000003,1,2.4495,1.1212,6.1250999999999998,2049.0839599999999,1060.3359,45.680999999999997,108.0264,13.4795,1,0.78941799999999995]
[null,"Noviembre",531.39433333333329,8.75,7.6028599999999997,21.354580000000006,26.438178876818817,44.023499999999999,1,2.5527000000000002,1.1325000000000001,6.1249000000000002,2134.5411829999998,1097.8728000000001,46.176400000000001,116.29940000000001,13.614800000000001,1,0.801875]
[null,"Diciembre",529.30741935483866,8.75,7.6081700000000003,21.475268181818187,26.491787829600035,44.143500000000003,1,2.6419000000000001,1.1532,6.1886000000000001,2351.057933,1102.6224,46.714500000000001,119.3233,14.5205,1,0.81232000000000004]
[2015,"Enero",531.4951612903227,8.75,7.6262100000000004,21.606090476190474,26.665335763898828,44.462299999999999,1,2.6345999999999998,1.2121999999999999,6.2180999999999997,2398.4480960000001,1088.1300000000001,46.777099999999997,118.25,14.6972,1,0.860294]
[null,"Febrero",530.87535714285707,8.75,7.6279399999999997,21.775469999999999,26.735556252641352,44.748800000000003,1,2.8170000000000002,1.2499,6.2518000000000002,2422.7252990000002,1101.4604999999999,46.999299999999998,118.76,14.917,1,0.88146100000000005]
[null,"Marzo",527.3925806451615,8.75,7.6120000000000001,21.835825,26.815441002766644,44.656799999999997,1,3.1414,1.2618,6.2385999999999999,2589.4611460000001,1112.9005,47.130200000000002,120.39449999999999,15.237500000000001,1,0.92481500000000005]
[null,"Abril",526.16600000000017,8.75,7.6911699999999996,21.940305555555558,26.901468609906921,44.696399999999997,1,3.0421,1.2337,6.2009999999999996,2496.0099489999998,1084.6709000000001,47.256799999999998,119.5095,15.1943,1,0.92443200000000003]
[null,"Mayo",526.91516129032266,8.75,7.6642000000000001,21.93779,27.030531121199854,44.7605,1,3.0562,1.2176,6.2035,2443.2824380000002,1092.6365000000001,47.729199999999999,120.798,15.2796,1,0.89604700000000004]
[null,"Junio",529.67066666666653,8.75,7.63225,21.924704545454542,27.165561681121606,44.812600000000003,1,3.1116999999999999,1.2364999999999999,6.2051999999999996,2563.5386560000002,1112.8832,49.4114,123.7186,15.479200000000001,1,0.89099799999999996]
[null,"Julio",528.33967741935476,8.75,7.6319800000000004,21.919126086956521,27.369750313341896,44.938000000000002,1,3.2288000000000001,1.2863,6.2084999999999999,2740.0791359999998,1146.5468000000001,54.947600000000001,123.3109,15.951499999999999,1,0.90869800000000001]
[null,"Agosto",528.0190322580645,8.75,7.6324800000000002,21.980742857142857,27.481611702601846,45.017000000000003,1,3.5154000000000001,1.3147,6.3383000000000003,3021.6412030000001,1178.1438000000001,52.0505,123.0038,16.533999999999999,1,0.89844599999999997]
[null,"Septiembre",528.78433333333328,8.75,7.6731100000000003,21.948009523809521,27.563860015561662,45.104900000000001,1,3.9032,1.3266,6.3676000000000004,3072.57854,1184.33,51.811199999999999,120.1476,16.838699999999999,1,0.89039100000000004]
[null,"Octubre",528.3567741935484,8.75,7.6631099999999996,22.084533333333336,27.72120380087468,45.226900000000001,1,3.8752,1.3071999999999999,6.3505000000000003,2923.814965,1143.1990000000001,52.851300000000002,120.04810000000001,16.569700000000001,1,0.89086399999999999]
[null,"Noviembre",527.24633333333338,8.75,7.6253399999999996,22.145080952380948,27.807767540305683,45.329500000000003,1,3.7858000000000001,1.3279000000000001,6.3639999999999999,3012.3208410000002,1153.4721,54.969900000000003,122.64319999999999,16.630600000000001,1,0.93280200000000002]
[null,"Diciembre",528.05999999999995,8.75,7.5987999999999998,22.290499999999994,27.880180930628832,45.439,1,3.8807999999999998,1.3713,6.4490999999999996,3249.2237709999999,1169.9464,56.5426,121.63500000000001,17.069600000000001,1,0.91735999999999995]
[2016,"Enero",530.06387096774199,8.75,7.6329700000000003,22.454819999999994,28.074363903224899,45.525399999999998,1,4.0556000000000001,1.4208000000000001,6.5726000000000004,3277.9121190000001,1203.3179,58.156399999999998,118.22580000000001,18.064800000000002,1,0.92086900000000005]
[null,"Febrero",530.38413793103462,8.75,7.6478799999999998,22.587499999999999,28.203694295794183,45.662500000000001,1,3.9643999999999999,1.3796999999999999,6.5500999999999996,3356.6389429999999,1216.2284999999999,60.462000000000003,114.6155,18.433199999999999,1,0.90081]
[null,"Marzo",529.09645161290337,8.75,7.7004700000000001,22.626094444444441,28.247724633349844,45.715200000000003,1,3.698,1.3226,6.5026999999999999,3123.5571399999999,1181.5730000000001,61.6736,112.93170000000001,17.630299999999998,1,0.89801600000000004]
[null,"Abril",529.80399999999986,8.75,7.7148000000000003,22.590244999999999,28.281513875542299,45.7682,1,3.5634000000000001,1.2818000000000001,6.4753999999999996,2993.677874,1145.7967000000001,61.824800000000003,109.5519,17.479500000000002,1,0.88155799999999995]
[null,"Mayo",531.25322580645184,8.75,7.6298599999999999,22.608000000000001,28.431792842135117,45.811500000000002,1,3.5402999999999998,1.2945,6.5259,2999.8198219999999,1173.7905000000001,62.070099999999996,108.8481,18.135999999999999,1,0.88521499999999997]
[null,"Junio",537.13233333333312,8.75,7.62439,22.741709090909094,28.54596112443053,45.865200000000002,1,3.4234,1.2894000000000001,6.5891999999999999,2985.4863839999998,1165.2022999999999,62.584899999999998,105.3509,18.6538,1,0.88988]
[null,"Julio",541.87258064516129,8.75,7.5793299999999997,22.839438095238094,28.7362,45.9255,1,3.2780999999999998,1.3051999999999999,6.6771000000000003,3018.18,1140.865,63.331299999999999,104.191,18.615500000000001,1,0.88988]
[null,"Agosto",544.30548387096792,8.75,7.5175099999999997,22.888999999999999,28.870924697396262,45.942100000000003,1,3.2086000000000001,1.2998000000000001,6.6466000000000003,2950.3817989999998,1110.0183,64.361400000000003,101.2383,18.4742,1,0.89265300000000003]
[null,"Septiembre",545.88833333333343,8.75,7.5067199999999996,22.965619047619043,29.011285472743189,46.080300000000001,1,3.2532000000000001,1.3108,6.6702000000000004,2922.2362440000002,1108.3638000000001,65.201599999999999,101.7843,19.243600000000001,1,0.89216799999999996]
[null,"Octubre",547.14451612903224,8.75,7.4790999999999999,23.081483333333335,29.123567808052513,46.344700000000003,1,3.1854,1.3250999999999999,6.7302999999999997,2934.7622959999999,1128.1659999999999,65.898799999999994,103.9075,18.891200000000001,1,0.90651400000000004]
[null,"Noviembre",548.04800000000012,8.75,7.4871699999999999,23.180459090909093,29.220847856347248,46.489699999999999,1,3.3369,1.3433999999999999,6.8402000000000003,3115.3507629999999,1162.7080000000001,66.763999999999996,108.443,20.008600000000001,1,0.92753300000000005]
[null,"Diciembre",546.17870967741931,8.75,7.4869700000000003,23.456028571428583,29.322151283359602,46.585799999999999,1,3.3540000000000001,1.3339000000000001,6.9198000000000004,3007.4485359999999,1183.07,67.255899999999997,115.99809999999999,20.499199999999998,1,0.94899999999999995]
[2017,"Enero",548.44967741935477,8.75,7.49892,23.587390476190478,29.453600000000002,46.687199999999997,1,3.1901000000000002,1.3183,6.8906999999999998,2939.6604459999999,1179.1074000000001,67.613600000000005,114.8721,21.391100000000002,1,0.94095300000000004]
[null,"Febrero",553.99285714285702,8.75,7.3861100000000004,23.567299999999999,29.5809,47.022100000000002,1,3.1057000000000001,1.3109,6.8693999999999997,2877.1758920000002,1140.4874,68.107600000000005,112.91160000000001,20.300799999999999,1,0.93908400000000003]
[null,"Marzo",553.5877419354839,8.75,7.34063,23.494,29.6478,47.214500000000001,1,3.1274999999999999,1.3387,6.8940000000000001,2939.9100039999998,1133.8616999999999,69.999700000000004,112.9165,19.28,1,0.93499200000000005]
[null,"Abril",555.71433333333334,8.75,7.3209200000000001,23.462326666666666,29.683299999999999,47.284100000000002,1,3.1389999999999998,1.3436999999999999,6.8875999999999999,2878.3500610000001,1134.1755000000001,68.841300000000004,110.09099999999999,18.767199999999999,1,0.934006]
[null,"Mayo",567.81935483870961,8.75,7.3227900000000004,23.47046666666667,29.876000000000001,47.338299999999997,1,3.2042999999999999,1.3606,6.8842999999999996,2920.6605079999999,1125.1359,64.138000000000005,112.2436,18.7666,1,0.90505400000000003]
[null,"Junio",564.16566666666688,8.75,7.32477,23.44368636363636,30.0517,47.4114,1,3.2953999999999999,1.3294999999999999,6.8066000000000004,2959.1342690000001,1130.8463999999999,62.202100000000002,110.9141,18.129300000000001,1,0.89094799999999996]
[null,"Julio",568.69516129032252,8.75,7.2821800000000003,23.434961904761906,30.159558935250928,47.440199999999997,1,3.1993999999999998,1.2689999999999999,6.7694000000000001,3036.5614300000002,1131.7460000000001,62.478999999999999,112.417,17.8081,1,0.86793600000000004]
[null,"Agosto",571.78096774193557,8.75,7.2568000000000001,23.372326086956527,30.277211689496212,47.476799999999997,1,3.1478000000000002,1.2607999999999999,6.6669999999999998,2970.2736500000001,1130.27,62.051000000000002,109.827,17.796900000000001,1,0.84622200000000003]
[null,"Septiembre",572.98466666666661,8.75,7.2866200000000001,23.382875000000006,30.425898344937345,47.6218,1,3.1324999999999998,1.2279,6.569,2914.3755200000001,1131.5989999999999,62.64,110.776,17.830500000000001,1,0.83914999999999995]
[null,"Octubre",568.42387096774178,8.75,7.32409,23.466164705882356,30.501995483373374,47.7346,1,3.1922999999999999,1.2606999999999999,6.6254,2953.2526400000002,1130.8838000000001,62.8461,112.9148,18.8215,1,0.85059700000000005]
[null,"Noviembre",564.96233333333328,8.75,7.3118999999999996,23.568261904761901,30.570122737046365,47.876199999999997,1,3.2629000000000001,1.2773000000000001,6.62,3010.6113169999999,1099.7945,63.133699999999997,112.819,18.930599999999998,1,0.85213499999999998]
[null,"Diciembre",563.62806451612914,8.75,7.3228799999999996,23.557952631578946,30.682788376160424,48.113500000000002,1,3.2949999999999999,1.2768999999999999,6.5932000000000004,2988.9482889999999,1082.902,63.517899999999997,112.9405,19.176500000000001,1,0.84467899999999996]
[2018,"Enero",566.15419354838718,8.75,7.3250900000000003,23.59,30.865200000000002,48.334600000000002,1,3.2115,1.2428999999999999,6.4233000000000002,2867.8325559999998,1065.6410000000001,63.760399999999997,110.871,18.911799999999999,1,0.82062800000000002]
[null,"Febrero",567.5839285714286,8.75,7.3437000000000001,23.563805000000002,30.956700000000001,48.744100000000003,1,3.2507000000000001,1.2587999999999999,6.3182999999999998,2858.537468,1078.4747,64.048900000000003,107.97,18.647300000000001,1,0.80940199999999995]
[null,"Marzo",564.26419354838708,8.75,7.3760000000000003,23.616310526315797,31.037500000000001,49.1068,1,3.2789999999999999,1.2932999999999999,6.3174000000000001,2847.3771969999998,1069.9418000000001,64.804599999999994,106.0468,18.5901,1,0.81107499999999999]
[null,"Abril",562.16666666666674,8.75,7.3936799999999998,23.651419047619044,31.1325,49.28,1,3.4089,1.2732000000000001,6.2967000000000004,2768.7010460000001,1068.0452,65.4084,107.6562,18.387599999999999,1,0.81421500000000002]
[null,"Mayo",562.10129032258067,8.75,7.4281600000000001,23.801586363636364,31.3916,49.3108,1,3.6316000000000002,1.2866,6.3700999999999999,2859.374973,1076.6595,65.857299999999995,109.68819999999999,19.552499999999998,1,0.84516599999999997]
[null,"Junio",564.20000000000005,8.75,7.46997,23.9526,31.6175,49.320599999999999,1,3.7709999999999999,1.3125,6.4650999999999996,2892.123564,1094.3552,66.458200000000005,110.0638,20.287800000000001,1,0.85650700000000002]
[null,"Julio",563.8848387096773,8.75,7.4656900000000004,23.986168181818179,31.772099999999998,49.489600000000003,1,3.8220999999999998,1.3132999999999999,6.7164000000000001,2884.5690599999998,1122.2029,67.2744,111.521,18.985600000000002,1,0.85522200000000004]
[null,"Agosto",564.65645161290331,8.75,7.49099,23.997621739130437,31.892294956461864,49.642800000000001,1,3.9333,1.3042,6.8452999999999999,2961.6159290000001,1120.4269999999999,68.422600000000003,110.9965,18.863299999999999,1,0.86602580756906555]
[null,"Septiembre",575.87133333333361,8.75,7.6479100000000004,24.039300000000001,32.036644858253105,49.749699999999997,1,4.1086999999999998,1.3033999999999999,6.8551000000000002,3031.1236560000002,1119.82,69.509,112.09739999999999,18.999099999999999,1,0.85711836804662722]
[null,"Octubre",588.9751612903226,8.75,7.70871,24.074044444444443,32.181762536757972,49.899099999999997,1,3.7610999999999999,1.3004,6.9191000000000003,3087.4656030000001,1131.615,71.061499999999995,112.7218,19.195799999999998,1,0.87047353760445678]
[null,"Noviembre",607.72766666666678,8.75,7.67943,24.222409090909085,32.392070047256716,50.066547619047611,1,3.771827,1.3189850000000001,6.9387259999999999,3194.7858219999998,1125.345,73.583799999999997,113.266778,20.228774999999999,1,0.87981932030438226]
[null,"Diciembre",597.92258064516102,8.75,7.71333,24.328657894736846,32.442911284768371,50.147174999999997,1,3.889319,1.3444,6.8941540000000003,3219.882928,1122.4244000000001,76.317899999999995,112.276652,20.11816,1,0.87938450119992018]
[2019,"Enero",602.63258064516117,8.75,7.7131499999999997,24.337213636363639,32.695103932403732,50.289995238095237,1,3.7476919999999998,1.3316870000000001,6.796138,3161.4808840000001,1120.33,78.295100000000005,108.970758,19.198509000000001,1,0.87565597578285825]
[null,"Febrero",606.81749999999988,8.75,7.7141200000000003,24.38353,32.80874790474693,50.39727894736842,1,3.716243,1.319928,6.7410170000000003,3113.3546200000001,1121.3553846153848,80.600846153846149,110.268331,19.179172000000001,1,0.88085859048531778]
[null,"Marzo",600.59354838709692,8.75,7.6695599999999997,24.422923809523809,"n.d.",50.437985714285723,1,3.8345172413793107,1.3357445282888916,6.7121172413793113,3125.0189655172408,1131.3617241379311,82.39537931034485,111.15257692307692,19.247072413793109,1,0.88442894803979932]
[null,"Abril",596.69733333333318,8.75,7.6245700000000003,24.433088235294115,"n.d.",50.455536842105261,1,3.8960518518518517,1.337838747474005,6.7152333333333338,3149.3648148148145,1141.0733333333333,83.763703703703698,111.69138461538461,18.941903703703701,1,0.890160982189933]
[]
["FUENTE: Bancos Centrales de Centroamérica y República Dominicana y el sitio web x-rates.com que contiene datos de la Brasil, China, Colombia, Corea del Sur, Haití, Japón, zona Euro, Japón, México y Canadá.  Este sitio contiene datos oficiales del Federal Reserve Bank of New York, U.S.A."]
["Aclaración: para efectos de la actualización del cálculo de los diferentes índices de tipo de cambio real, los datos no disponibles son estimados por esta Secretaría."]
[]
["1/ La Región CAPARD incluye a los seis países miembros del Consejo Monetario Centroamericano y Panamá.",{"$f":"TODAY()","v":43656}]

{"sheet":"ITCER GLOBAL","index":4,"n_rows":303,"n_cols":54,"rows_kept":303,"cut":false,"hidden":false,"merged":[[302,1,302,2],[299,1,299,31],[3,26,3,32],[3,18,3,24],[3,10,3,16],[3,2,3,8]]}
[]
["Secretaría Ejecutiva"]
["Consejo Monetario Centroamericano"]
[null,null,"ITCER GLOBAL\nPeriodo de referencia Diciembre 2000=100",null,null,null,null,null,null,null,"VARIACION INTERANUAL",null,null,null,null,null,null,null,"EFECTO TIPO DE CAMBIO",null,null,null,null,null,null,null,"EFECTO PRECIO"]
["Año","MES","COSTA RICA","EL SALVADOR","GUATEMALA","HONDURAS","NICARAGUA","REPÚBLICA \nDOMINICANA","PANAMÁ",null,"COSTA RICA","EL\nSALVADOR","GUATEMALA","HONDURAS","NICARAGUA","REPÚBLICA\nDOMINICANA","PANAMÁ",null,"COSTA\n RICA","EL\nSALVADOR","GUATEMALA","HONDURAS","NICARAGUA","REPÚBLICA \nDOMINICANA","PANAMÁ",null,"COSTA\n RICA","EL\nSALVADOR","GUATEMALA","HONDURAS","NICARAGUA","REPÚBLICA\nDOMINICANA","PANAMÁ"]
[1995,"Enero",99.890230784525372,118.50106903178003,101.69908521826592,138.61487166824989,92.87145730262047,106.46550565381786,101.12999365648908,null,null,null,null,null,null,null,null,null,60.66291634254101,120.21891221603782,87.039105765887598,70.078491601715996,66.668854683884945,85.608943543628229,118.2462462156914,null,60.72957872466813,101.44964361781166,85.584944622741517,50.55625760664153,71.786161884641615,80.41002859836442,116.92500112018354]
[null,"Febrero",100.61788547647355,118.23077472049773,102.81115664265488,131.16353729087186,93.920339575122696,106.86856006154389,102.03763972857159,null,null,null,null,null,null,null,null,null,61.615157745868018,120.44155587093644,86.871202164516376,69.215355059427424,67.422653760873189,85.744754965249243,118.50999544433485,null,61.236784547887225,101.86988637743859,84.495890330714118,52.770271745518386,71.787063447470601,80.233845123271252,116.14341115649194]
[null,"Marzo",102.30568471352952,117.57532710542702,102.25122566074093,131.32366945726832,95.047852657122547,106.51471473360371,102.8897444200406,null,null,null,null,null,null,null,null,null,62.79138632458956,120.30681748224299,86.06772417786766,69.893527683177808,68.130132585730081,85.624477053182417,119.09598843349529,null,61.376243656854825,102.32318331070149,84.172804405720797,53.222338343142781,71.679823037669294,80.387463147539421,115.75107811259961]
[null,"Abril",104.8703964176858,118.71601488907662,104.15462011635566,129.50882491721322,97.749983954299012,108.54429101033523,104.61445207260259,null,null,null,null,null,null,null,null,null,64.284345391138501,121.21681700060944,87.470728406919889,70.289809276840032,69.457857665132693,86.463095818421706,120.44047070343586,null,61.298848471118497,102.10654149220682,83.981611482239131,54.274146431157767,71.056643546464699,79.656972295474276,115.1279467772292]
[null,"Mayo",105.76823075134544,118.54562072438767,103.48307905675485,127.91035961969803,98.423459677242377,108.65281940393162,104.62360900213413,null,null,null,null,null,null,null,null,null,65.075326638917801,121.06493395485951,87.603440803850887,70.351095493067334,69.959541596397997,86.524321142243309,120.18789055395642,null,61.526345081734291,102.12518456192414,84.654845606019478,55.000310922613771,71.080148803765468,79.633756046934593,114.8764525524108]
[null,"Junio",106.13336183185768,117.88557102454081,102.76464657114926,129.02731797814849,97.829373737373501,108.1545832909429,104.72788408141889,null,null,null,null,null,null,null,null,null,65.984750930650279,120.6913456564553,87.567130807264775,71.274043552014774,70.389276327662671,86.382727140192543,120.02386164423815,null,62.171545112447255,102.38008316669256,85.211338460291927,55.239498633991168,71.95106504169722,79.869686990349138,114.6054488706443]
[null,"Julio",106.01470373771207,115.05453511468518,103.29815187372405,129.36276546682478,97.829169684723141,107.56966070136231,104.61111615790897,null,null,null,null,null,null,null,null,null,66.868633577610865,120.52117198803292,87.705233606789434,72.20287215042849,70.89590164135511,86.38817717740821,119.73730958078417,null,63.074867183564109,104.75134410642627,84.904939745682924,55.814261460686687,72.469082452435558,80.309054257632454,114.45945132641778]
[null,"Agosto",105.42565527174452,113.56957224931486,102.89436541360355,128.76921431258708,99.606472650624895,105.90470463881809,103.35389512778275,null,null,null,null,null,null,null,null,null,67.025238792006647,119.30601787781372,87.495717500112562,72.553034192412312,70.679741989698769,85.692902212260591,118.06173181697916,null,63.57583324404559,105.0510409741668,85.03450810781213,56.343462666697583,70.958985002522667,80.915104295424186,114.23055867513479]
[null,"Septiembre",103.71918597145401,110.23996546831064,101.61966995536642,126.41977657460883,97.90609076512095,102.67130358495827,101.8987980084276,null,null,null,null,null,null,null,null,null,67.533684008440673,118.34165838682884,88.070108682748796,72.972136892462117,70.662997576869145,85.238179280162612,116.9448548996743,null,65.112045930468014,107.34914319330686,86.666399055843343,57.722089747086635,72.174261095146122,83.02045099644603,114.76568633322081]
[null,"Octubre",102.67010638785924,110.15791044379466,101.6479233646418,126.61393810822372,95.570263102588569,102.14972104810728,102.47425865076553,null,null,null,null,null,null,null,null,null,68.538290505288941,117.90684442765615,88.768139931132993,74.023496562224437,71.103062625427853,85.125411677924831,116.83733471102531,null,66.75583859470278,107.03438722888194,87.329024531760339,58.46393980649475,74.398730648154924,83.333963915413065,114.01627711131772]
[null,"Noviembre",101.45016734193788,109.2193789817224,100.32795215376898,127.58435332508186,93.385219629053609,100.57602143400358,102.01000625527961,null,null,null,null,null,null,null,null,null,69.158369580633632,116.81707988626077,88.390885690696138,75.389139675126827,71.07722216029137,84.495263826090351,116.01325817946149,null,68.16979349825543,106.95636706175544,88.101953436887328,59.089643604680198,76.111854148467557,84.011340497829124,113.72733169836182]
[null,"Diciembre",101.66312178362828,109.27043399845442,98.824329093208092,128.2028672872454,95.238490647849062,100.42041797283288,101.64437388954298,null,null,null,null,null,null,null,null,null,69.968284580444234,116.62286909962505,87.183840000423061,76.806748328456067,71.517664559271907,84.387085849468349,115.72928708440115,null,68.823663244730156,106.7286591918127,88.221028971715981,59.910320224247741,75.093236014956858,84.033792681781023,113.85705145880898]
[1996,"Enero",101.66058967336707,108.75311671665929,100.73981549138998,130.55426234198856,96.992264856017599,97.389668238181855,105.14597064716055,null,{"$f":"(C18/C6-1)*100","v":1.7723043334042954},{"$f":"(D18/D6-1)*100","v":-8.2260458869839468},-0.94324322074005318,-5.8151114878589372,4.4371087447993007,-8.5246741279254366,3.9711037699781349,null,70.816708430496178,116.94547782494091,89.44050496854571,78.259655892540479,71.297003403226825,79.824664121333768,119.92162143857061,null,69.659942616926074,107.53298972536633,88.78366962682199,59.944159990378807,73.507927162094106,81.964201711941271,114.05251261695312]
[null,"Febrero",102.17128763305668,108.75393961607969,101.62857369700841,129.94088985859403,97.13075573651804,97.603528936198401,105.57724470736153,null,{"$f":"(C19/C7-1)*100","v":1.5438628522424613},{"$f":"(D19/D7-1)*100","v":-8.0155400544584587},{"$f":"(E19/E7-1)*100","v":-1.1502476815398843},{"$f":"(F19/F7-1)*100","v":-0.93215497045222584},{"$f":"(G19/G7-1)*100","v":3.4182331281154221},{"$f":"(H19/H7-1)*100","v":-8.6695573702966549},{"$f":"(I19/I7-1)*100","v":3.4689208690102724},null,71.49277096586215,116.50025565244042,90.223835974000977,79.729035598604582,71.717260344429462,79.801778295471905,119.67359438587341,null,69.973446182478426,107.12279119607673,88.778020483679057,61.357926427445854,73.835789499026902,81.761160856834223,113.35169308271311]
[null,"Marzo",103.09329411864434,108.63924151742201,101.19588741145336,131.22370805168558,97.548564874900833,97.963818530717603,105.64069145499299,null,0.76985888645411116,-7.6003068058592245,-1.0321032755040815,-7.6118346369591361E-2,2.6310033818432554,-8.0279013320104564,2.6736843894973994,null,72.096567788210635,116.15070202830175,90.197362243725166,81.28606873914211,72.164779674180025,79.772951967880132,119.34264495436877,null,69.933324378245899,106.9141319526565,89.13145044816973,61.94465157708062,73.97830994923018,81.431035625531962,112.97033681875639]
[null,"Abril",103.63599383203045,108.79813989454875,99.732935909807225,130.7578443694195,98.003742347567211,98.258451504710294,105.73646860750678,null,-1.1770743964186758,-8.3542856486504498,-4.2453077949002882,0.96442806349659183,0.25959942191584595,-9.4761681244438289,1.0725253659269907,null,72.589328428187301,115.93961240605952,89.333823137582428,82.220723935238098,72.643085304179536,79.759064365134307,118.94556048832447,null,70.042584380324001,106.56396563253061,89.573040563421131,62.880146374198823,74.1227667067581,81.172726766725845,112.49246551806999]
[null,"Mayo",103.1157023571362,108.40262254806575,98.67514867736017,129.90693196230831,97.539584903679852,98.244176391386119,106.11686124823149,null,-2.5078687384354259,-8.5561981238462259,-4.6461029409047505,1.5609152757809941,-0.89803261992719152,-9.5797265728098218,1.4272612657310502,null,73.136880056653453,115.77596176092639,88.448801133761677,83.041805992302216,73.165202978921073,79.740326080697315,118.60117277368434,null,70.927005669172914,106.80180888575023,89.636349495620465,63.924076058078462,75.010779522151509,81.165448181912609,111.76468223673636]
[null,"Junio",102.8839053450592,106.5985960371186,98.83909586059336,129.97606452832153,98.166741538913584,97.943360817954456,106.04095168925909,null,-3.0616730033921402,-9.5745178051286235,-3.8199427931064123,0.73530672809436481,0.34485327734568028,-9.4413220062247287,1.2537898758838484,null,73.790508167036577,115.31257015245995,88.750288857983847,84.9390786422465,73.593721263128913,79.691746717920765,118.13219316337592,null,71.722110391856575,108.17456743267716,89.792695982529864,65.349784939625124,74.96807993158879,81.365133943118778,111.40242640366793]
[null,"Julio",103.16467134031737,107.08382417096217,97.156527333780048,133.66199126382807,99.211905717939018,97.920048339087529,106.11061502785932,null,-2.688336897536292,-6.927767719697342,-5.9455318691972181,3.3233873607207531,1.4134189604921188,-8.9705706045353111,1.4334029929351733,null,74.636989359765778,115.26378229065021,88.121764467001142,89.065827058621991,74.266885485235974,79.703235466514158,118.15500117912821,null,72.347430947126185,107.63883638170087,90.700817418329407,66.635119091425054,74.856827865375223,81.396237867969248,111.35078347072687]
[null,"Agosto",103.82117093463793,104.55739886040323,96.645478291837307,133.73894927297576,101.73609642694208,98.038921668869307,106.55093977432793,null,-1.5219107085186034,-7.9353767126352786,-6.0731091509701685,3.859412350163649,2.1380375387721529,-7.4272271442279987,3.0932986537106189,null,75.536924175376782,115.42006112482466,87.923948759042219,91.255348575568377,75.093116939633489,79.759480299527695,118.45284555501475,null,72.756763861709956,110.38918563661323,90.975750043412319,68.233935642268492,73.811675085802761,81.354913887077203,111.17015561373248]
[null,"Septiembre",104.05526147295112,105.38023546374269,96.018707692585153,133.17397329539327,101.6998247474973,97.779361031789833,106.28253258450735,null,0.32402443033983097,-4.4083195998142033,-5.511691058671353,5.3426741478207918,3.8748702483460518,-4.7646639151907255,4.3020473859928909,null,76.089341382085834,115.07407836024252,87.257715005265396,92.10478097679146,75.522053330249889,79.709793324582407,117.97914873656801,null,73.123973074504306,109.19891937405578,90.875744010876431,69.161247275016564,74.259767426106976,81.520059533491235,111.00521023316831]
[null,"Octubre",103.85082291816165,105.38625806759487,95.780366495032396,132.80072519813928,100.07449717206823,97.791934730346512,105.82923291449542,null,1.1500100387955126,-4.3316475021867973,-5.7724316202316324,4.8863396734626363,4.7130079203032693,-4.2660775507242672,3.2739678314372744,null,76.640764021525314,114.58622534163909,86.976643562857035,92.827549375514167,75.903928042261924,79.639211327072275,117.56791431614273,null,73.79889910157101,108.72975987831673,90.808426346299314,69.899881372646902,75.847423856402301,81.437402324303193,111.09209721961375]
[null,"Noviembre",104.34047024422735,106.61759339116948,94.232212613543879,131.30442362617933,100.06183277965913,97.361833762207908,106.2107643591187,null,2.8489878114717149,-2.3821647905435617,-6.0758137780808852,2.9157731368664175,7.1495394850774829,-3.1957792980554234,4.1179863211915801,null,77.579829389000835,114.71303892368535,86.288492654669284,93.339972250723648,76.714906430546108,79.640648693040987,117.80188307565489,null,74.352577870706838,107.59297342495293,91.570058965448879,71.086692796017587,76.667500783716349,81.798632601304178,110.91331823707098]
[null,"Diciembre",104.10976074781411,106.34171602694231,93.282245631895066,131.46210742522518,99.158219528835232,98.647712673608282,105.01526060723046,null,2.4066140418086412,-2.680247404850189,-5.6080152652348447,2.542252140646184,4.1156982374696005,-1.7652837291557311,3.3163534671880823,null,77.9782231195219,114.21600088793447,85.752457874021687,94.191053113618551,77.034031782298811,81.552461810043226,117.0673440389818,null,74.900011833097153,107.40469982541674,91.927951876730134,71.648823344166928,77.687994145454894,82.670403195127889,111.4765067115603]
[1997,"Enero",102.0955255386462,105.83708744137817,92.897219865845329,129.23841875287758,99.90632324562965,101.27873079766914,107.81210963572123,null,0.42783134219126495,-2.6813293846818298,-7.7850009822729271,-1.0078901795363193,3.0044234908194856,3.9933009628659644,2.5356549301422726,null,78.023549037603885,115.05097084409111,86.006154421444023,94.535086631594055,76.554486964971574,85.91622890075233,119.98856607900777,null,76.42210432431699,108.70572275320443,92.582054173038941,73.147820550450021,76.626267965797069,84.831462859060267,111.29414542061065]
[null,"Febrero",102.02410902472955,104.28797850555647,91.339654835067279,123.8315806950534,100.58188580030273,101.94064608395423,106.79434099846544,null,-0.14405085003500462,-4.1064821433493321,-10.124041386840787,-4.7016063767063461,3.553076507657793,4.4436069013354285,1.1528017182845129,null,78.010239101224172,114.04753095122251,85.997329946791055,92.254015019951069,76.563432196860703,86.065890978972661,118.17606727364279,null,76.462553652211085,109.35827176393688,94.151143993347802,74.499586052394022,76.120497828874733,84.427452920096499,110.65761178800746]
[null,"Marzo",101.85557408959033,104.2018297711134,89.803992914549625,123.57298667360581,101.60364331970635,102.40445600277977,106.70068773128023,null,-1.2005824817563626,-4.0845385924357718,-11.257270219475735,-5.8302889711562944,4.1569842160219084,4.5329362806225904,1.0033977075385225,null,78.535630797339238,113.85068495913664,84.299230039782572,92.510933905930344,77.073217374097467,86.344601036023832,117.59037182843608,null,77.104892392301196,109.25977519705521,93.870247083551234,74.863395630535436,75.856745738515144,84.31723032997705,110.20582371931933]
[null,"Abril",101.50138563321644,104.23827325721624,90.043858579375836,122.63947858138854,102.28752521133239,101.65376059438563,106.96199841197615,null,-2.0597170151846145,-4.1911255484258447,-9.7150226673299205,-6.2087026802727046,4.3710400859723109,3.4554880905207197,1.1590417389657048,null,79.10403028934455,113.60108553136472,84.185788434652352,92.100862977856096,77.617058873995646,86.3052074468591,117.07317991001712,null,77.933941291396195,108.9821252612704,93.494203561301788,75.09887031746814,75.881256012044446,84.901145754194317,109.45305963627999]
[null,"Mayo",102.24112911923433,104.84230471027436,89.81602897767705,124.28468686123794,102.87894010989055,101.52026322240231,107.15281186711736,null,-0.84814748666777184,-3.2843465906119973,-8.9780657221505074,-4.3279023037058773,5.4740392954135464,3.3346371778464334,0.97623563936983793,null,79.966492474721534,113.75453674294025,83.961737257064286,94.41615706724545,78.519511120933544,86.365097791072301,117.36873288348566,null,78.213624168277761,108.50060675153443,93.481907642490185,75.967650924413348,76.322239553656573,85.071782765053214,109.53397380652716]
[null,"Junio",102.56618304541767,104.77069022602508,89.151154971008737,123.1979597526208,102.02149766074123,101.22846677952994,107.29298518370894,null,-0.30881632902243217,-1.714755990273098,-9.8017295739419641,-5.2148869103693984,3.9267434788997413,3.3540874380259877,1.1807075233715159,null,80.678994828519706,113.79017331054197,83.138903867805723,94.570984587465503,79.279200229398754,86.365576597559809,117.33012588076861,null,78.660424355261398,108.60878463724815,93.256115296365877,76.763434051474775,77.70832819278057,85.317479702285041,109.35488995843848]
[null,"Julio",102.31017692809641,103.73430599958941,89.219587953248535,121.32557703173731,101.03076684686027,99.423750138214388,106.55780468450583,null,-0.82828200886926329,-3.1279403750329005,-8.1692291792853524,-9.2295604123842416,1.8333093349625962,1.5356424191292239,0.42143724878900279,null,80.99274347449095,113.1815945241962,83.308570098619924,94.175601492760691,79.614063557024977,86.315503947560288,116.45763375858603,null,79.163916930192244,109.10719788749941,93.374753246197457,77.622216021379799,78.801800720469473,86.815779758426316,109.29057153851041]
[null,"Agosto",101.52752022542724,104.00446016215624,89.905972303390897,119.29822738188396,102.16871807948621,98.924350560919862,105.86335309014432,null,-2.20923217159118,-0.52883746561563916,-6.9734312536540388,-10.797693543723529,0.42523909186431563,0.90314017838866167,-0.64531264167158042,null,81.061960387030055,112.24070062775711,84.626322029090957,93.527593340951483,79.799815688567506,86.230000209286644,115.31548394478477,null,79.842352307082493,107.91912236529042,94.127586700821652,78.398141693724895,78.105918512635213,87.167618205574414,108.92861465156108]
[null,"Septiembre",103.17453933433656,104.67351638629503,90.14360665533529,119.34924853745677,104.32955258050956,98.577198633357156,105.77843527714285,null,-0.84639846764836824,-0.67063721611327898,-6.1187045508461431,-10.380950883902717,2.5857742031919928,0.81595706205108698,-0.47429929933565651,null,81.795558481950508,112.24354317601828,85.119502112000831,93.652011883892328,80.615057793853111,86.231514828894888,114.98255241352436,null,79.278821121645549,107.23203638424283,94.426554772160216,78.46887435952344,77.269628595065299,87.476126350090183,108.70131715624873]
[null,"Octubre",104.13217688593001,105.20250563176933,90.44683699989524,120.01485067574653,104.98946462351402,98.488792864328417,106.31152682579994,null,0.27092126943477624,-0.17436090738479626,-5.5684997774713807,-9.6278649859149255,4.9113086653785443,0.71259264468326311,0.45572843913004313,null,82.537977498307342,112.19448321060554,85.705670779093822,93.701688912924013,81.443474150622023,86.216197938184706,114.80825231829624,null,79.26270242935793,106.64620822179806,94.758062992510276,78.07507853014387,77.572996912283983,87.539094988147909,107.99228996721952]
[null,"Noviembre",103.07744081375331,105.05581606008361,90.702768123494479,118.95913254769177,102.84307924844796,98.099041042567151,104.99700390358953,null,-1.2104885357691941,-1.4648401651272125,-3.7454755567759235,-9.4020374466852079,2.7795278094828291,0.75718302734495424,-1.1427847853775153,null,82.983064360033993,111.58567090968243,86.110032978337173,93.440397474194043,81.959541149047055,86.036571966436838,113.07726516691289,null,80.505553596322713,106.21560527963942,94.936499469449302,78.548317790341116,79.693783721750961,87.703784921917659,107.69570650867604]
[null,"Diciembre",102.47855250745467,104.49291552684024,89.545690053080591,118.34023568665822,102.83931569045643,97.613042183621516,100.17002967161596,null,-1.5668158572669566,-1.738546799107199,-4.0056449686679425,-9.9814859167921099,3.712345964976449,-1.0488540098340993,-4.6138350822517493,null,83.140580972975684,110.79410445379165,85.206387207892305,93.093707171394428,82.317663552609005,85.803945249797835,107.5582267784124,null,81.12973782189961,106.03025467820628,95.154090785814432,78.666149878126276,80.044935149493753,87.902132061810562,107.37565630260559]
[1998,"Enero",100.37746157180841,103.02432764789168,89.235301172257124,117.09420589310946,102.68574408966717,97.891063331212635,97.573538835898006,null,-1.6828004535688001,-2.6576315179161036,-3.9419034271170328,-9.3967513506874383,2.7820269565961731,-3.3448952606093152,-9.4966797648405326,null,82.309792550231293,110.65560152675305,85.553232724209238,92.490792996299021,82.944658963384839,85.96462328871975,104.5042239163509,null,82.000273030762187,107.40725424090407,95.873753548564693,78.988360090788873,80.775242657788965,87.816620193265251,107.10303752752999]
[null,"Febrero",100.49703899935957,103.27326163557899,88.412273665303871,115.0948337130377,102.62685019971994,98.171025212730186,98.746176237012662,null,-1.4967736939509368,-0.9729950513168828,-3.2049400395144922,-7.0553464091932643,2.0331338820563705,-3.6978585245766804,-7.536134111795711,null,82.906125899963058,110.57793983836508,84.81505307888014,92.832644779622157,83.661299767162262,85.937447184320376,104.8865912286453,null,82.496088168817963,107.07315532316792,95.931310849394634,80.657525437743672,81.519894261931242,87.538504358184653,106.21838254971441]
[null,"Marzo",100.39738762386469,102.96163199805763,88.905782148355314,113.63899385552276,102.56980676571158,98.52376835397915,99.283977702230104,null,-1.4316216650480551,-1.1901880953337884,-1.0001902332438362,-8.0389679698539496,0.95091417437176418,-3.7895691264599574,-6.9509486646690544,null,83.416994244547851,110.19101245833414,85.4973556283839,92.89542415381824,84.145050169730439,85.911424673779919,105.27665669945594,null,83.086817514681471,107.02143149830114,96.166248766268282,81.746081166402007,82.036861356220854,87.198679170608642,106.03589736825303]
[null,"Abril",100.82879524697819,102.2095264801907,88.925631163631252,112.09416452812994,101.82195553071797,98.898229491309209,100.24704050465525,null,-0.66264158074522683,-1.9462590022183535,-1.2418697214744978,-8.5986292303585685,-0.45515783049059344,-2.7107025721079037,-6.2778912202607673,null,84.131534031124914,110.18607421291158,85.744444305374472,92.838817398697088,84.881644423421648,85.949415761541715,105.75288178963321,null,83.439987381626779,107.804113772376,96.422643486889513,82.822168120445966,83.36281107645226,86.906930693935848,105.49227314568182]
[null,"Mayo",101.20850350896181,102.06442454240407,88.627752077155691,111.66267882949127,101.07071046418295,98.637599016848242,100.19517810019396,null,-1.0099904208493826,-2.6495794570205233,-1.323012065938356,-10.155722599871829,-1.7576285717719631,-2.8394963862918288,-6.4931882287435734,null,84.829781204313718,110.14888742476217,85.595127137539293,93.258783681496865,85.639226039210541,85.929667719291345,105.59438555737259,null,83.816851611487579,107.92094103171013,96.578244546949222,83.518311273816806,84.731991737170034,87.116544376362768,105.38868991457801]
[null,"Junio",101.02536873755353,101.6460112617406,88.6073123881839,109.81717942366498,99.79167946450066,98.034399321333709,99.456933789974158,null,-1.5022634772143606,-2.9823979946524304,-0.61002303671970903,-10.861202860683871,-2.1856356232443641,-3.1553055773853922,-7.3034144593122736,null,85.185626419927644,109.43652687568492,85.460384873391376,93.126884236160606,85.937050805644233,85.738078416561052,104.93059725997638,null,84.321024990490457,107.66435939515971,96.4484561939922,84.801744795215797,86.116449053465431,87.457136484849357,105.50355139799615]
[null,"Julio",100.29213967780825,101.29522675023419,89.028256944900491,108.03975674532184,101.78219795350675,105.91107528682734,99.960758660907786,null,-1.9724697101310196,-2.3512754299092498,-0.21444955388978393,-10.950551904599692,0.74376462744807359,6.5249250200224429,-6.191049114732083,null,85.897980606833642,109.20381775099956,85.8885099587133,93.27598528257495,86.56193249870779,93.099989010779566,105.39297879252199,null,85.647769488998534,107.80746660478459,96.473314098320074,86.334871618094255,85.046240147268733,87.903922001213829,105.43435264436283]
[null,"Agosto",98.871185340205713,102.13412929203334,89.176101520835658,107.90442676183348,102.94260631648494,106.32225409942775,99.473854359048147,null,-2.6163693147665978,-1.7983179444485464,-0.81181568238010149,-9.5506872734813957,0.75746104242655488,7.4783443070996825,-6.0356096274934767,null,86.316694794342254,108.49750944962977,86.046196389752566,93.212728451105477,86.930647706473735,93.539612952878244,104.69417481878993,null,87.302174538856065,106.23041504510363,96.49019739851289,86.384526796888977,84.445741969283034,87.977454715552071,105.24793222639106]
[null,"Septiembre",100.58413070421102,103.32304367508893,90.472605121354448,108.78854433558864,104.02977291436599,106.00463404251428,99.175563384444715,null,-2.5107053027213722,-1.2901761188782723,0.36497149185197308,-8.8485720113719353,-0.28733916587271313,7.5346383465230593,-6.2421720224905997,null,87.306626392442041,108.41975212235342,86.983004564936735,94.181580422817618,88.001465652723624,93.689967311534758,104.7459188463006,null,86.799603258674765,104.93278969141838,96.142920222384475,86.573067962273882,84.592576901195045,88.382897745733828,105.61666127397021]
[null,"Octubre",102.22623697898166,104.13954831693287,92.53134955905908,109.80724086253328,103.61435636452565,104.87544622098784,100.49731856270256,null,-1.8303083292267819,-1.0103916332154905,2.3046826492851835,-8.5052889336103448,-1.3097583304376603,6.484649847883972,-5.4690290288318728,null,88.735388782663932,108.9796539955484,88.640160654558386,95.280013877010845,89.479301063439848,94.470729035949546,105.98133281218385,null,86.802949423745758,104.6477114188026,95.794734516416938,86.77024677843518,86.358014664148214,90.078976957948726,105.45687619123858]
[null,"Noviembre",102.02804873753726,102.42645292156726,90.489543774858703,109.61308267191178,99.029322069060257,103.39044658776663,100.90032804069465,null,-1.0180618260712926,-2.5028249145316872,-0.23508031016811204,-7.8565215428357931,-3.7083265176983349,5.3939421720783587,-3.9017073922000045,null,89.392982536346295,108.66510652029442,88.51420382735455,95.720657876684271,90.062974150126578,94.775662236220185,106.04285939088716,null,87.616085618089073,106.09086170689166,97.81705171105861,87.325942801180389,90.94576461638222,91.66771724480995,105.09664482767435]
[null,"Diciembre",102.54937622886926,102.60051624736225,92.70899906124157,109.62517846480478,99.180170085093806,102.11875519899355,101.93322571527207,null,6.9110774578362566E-2,-1.811031178464817,3.5326200583030154,-7.3644075248668672,-3.5581193639760866,4.6158924202938545,1.7602031759762271,null,90.393358898745305,108.44951034772659,90.898625299514691,96.283360731632584,90.922166613226025,94.838862305270993,106.87494370929251,null,88.14618111084927,105.70074529280421,98.04725131318591,87.829604548871416,91.673735319487122,92.871149986565527,104.84799530216384]
[1999,"Enero",100.15692155075689,101.4364512401871,95.921025493510143,108.23050900795666,100.50852269270074,103.49976274219033,99.959767978358926,null,-0.21971069759892936,-1.5412635480927417,7.4922415607104886,-7.5697143317613129,-2.120276204129401,5.7295316039225774,2.4455699474773995,null,89.410310262614942,107.11535223452692,93.415996489204346,96.447978966380461,91.8356838620101,95.262712971496853,104.57534232446352,null,89.270226039549499,105.59848153687179,97.388446389707042,89.113485513858208,91.371041382025524,92.041479562410871,104.61743203235912]
[null,"Febrero",100.04574464295611,101.47307688250771,94.825874548756573,107.22869088848771,101.49535260050912,105.44497909307837,99.552121874603088,null,-0.44906234143509138,-1.7431276252546368,7.2541974293435896,-6.8344881961968866,-1.1025356395610197,7.4094712412201114,0.81617908490549951,null,89.808114769998298,106.69495443245809,91.656545160752586,96.262821395424439,92.197116390867777,96.621053340467284,103.90583605942261,null,89.767051152956157,105.14607195364403,96.657737771377583,89.77338117046753,90.838756680574647,91.631725067893427,104.37330124445113]
[null,"Marzo",101.34035874253665,101.26115852695057,96.695812722882636,107.02710530617827,104.02404407241299,106.00823123817187,99.280224985122814,null,0.93923870031835666,-1.6515603318517091,8.7621191628776796,-5.8183272528359753,1.4178025215774825,7.5966063917717097,-3.7797811833661932E-3,null,90.403431485880702,106.14366720246279,92.802680994473022,96.253464657608006,92.530900860892828,97.349058628751735,103.53512481542531,null,89.207727905875984,104.82169940235551,95.973836282273354,89.933726958465783,88.951455104437599,91.831603538440973,104.28574757051577]
[null,"Abril",102.58763998634127,102.01260922369953,98.447656303619439,107.52095966211172,104.791967155902,106.47224716927941,99.715795900127063,null,1.7443873400002641,-0.19266037449976459,10.70785218545911,-4.0797885289296847,2.916867594718342,7.6583956223764238,-0.52993544931984049,null,91.09172810191896,105.81613657275048,94.238794253990974,96.509276802775005,93.15630015047519,97.38613385537856,103.49064961351948,null,88.794057562925815,103.72848746639774,95.724771713561125,89.758570892650795,88.896413225914444,91.466214384059256,103.7856125795488]
[null,"Mayo",102.45066408403105,102.2602367221259,100.30854491503172,106.82421596959273,104.04301358845785,106.43278852595338,99.385287603882759,null,1.2273282698614718,0.19185154925405179,13.179610860159485,-4.3331065586263318,2.9408155049312823,7.9028581259096287,-0.80831284665348058,null,91.643683379385436,105.06231647300149,96.699804876706651,96.502844282448763,93.582098328787012,97.288604161286273,103.03394610366054,null,89.451526936144006,102.74014596552298,96.402360296042659,90.337985078138161,89.945586062079101,91.408489346835694,103.6712259809723]
[null,"Junio",101.57909652948841,101.90501109177602,100.63054851718074,105.73518953032611,103.87455336972779,106.62657368466935,98.927533321309625,null,0.54810766726658411,0.25480569952567311,13.569124042859681,-3.7170777056574344,4.0913971256286485,8.7644484209797859,-0.53229116210488092,null,92.078608669296131,104.32494878029053,97.535193252512954,96.547671232231721,93.920400584714187,96.934608330466205,102.6497321188351,null,90.64720185079193,102.37469940151924,96.924040154526907,91.310822500148547,90.417140231079387,90.910365944173023,103.76255090222055]
[null,"Julio",102.40654343302097,101.62788593266279,100.01497205584792,105.58995942695009,104.16303923352578,107.16025361139879,98.826927798117694,null,2.1082447358340417,0.32840558543676401,12.34070562310019,-2.2674961441708663,2.3391529441195269,1.1794595807741892,-1.1342759678688807,null,92.770616558006395,104.16537940319921,97.870682900105166,96.814941404421575,94.606636906438666,96.913196721906004,102.47333111438321,null,90.590516433828313,102.49684763906014,97.856031840367464,91.689533673323083,90.825534280290739,90.437632849720316,103.68968599703345]
[null,"Agosto",103.0470683233598,101.83085991951494,103.45517029073254,105.75775734180642,103.75122650727471,107.32004511298749,99.460488511504664,null,4.2235591378674053,-0.29693245012277769,16.012214625193756,-1.9894173802203485,0.78550584614476282,0.93845923603788073,-1.3436543330513917E-2,null,93.627528235272607,103.87251318178581,101.83651175048911,97.426203998023382,95.436215686158548,97.07118320051039,102.88640648262258,null,90.85899265127189,102.00494551836698,98.435401018919961,92.12204045055941,91.985626482658361,90.450188590876024,103.44450145217378]
[null,"Septiembre",103.49879598656881,101.83615015635908,105.03825045933736,106.08825305403646,103.47173449218084,107.47664160902028,100.15037192022858,null,2.8977387008781497,-1.4390725106836255,16.09950914804039,-2.4821467168660516,-0.53642184016349237,1.388625676416777,0.98291202239517705,null,94.222748554176022,103.59995781383799,103.42557380875326,97.982387050037531,96.020656060255234,97.126944583307989,103.13177383394931,null,91.03753107079956,101.73200543694038,98.464676778667013,92.359318048276123,92.798923813837618,90.370282443916949,102.97692545375214]
[null,"Octubre",103.06063415233959,101.71969598572586,104.88617537730443,105.95074313870222,102.86430701947009,104.33664700662072,100.45355802503661,null,0.81622604726170334,-2.32366317149999,13.352043255739776,-3.5120614028167463,-0.72388554190001564,-0.51375153458874667,-4.3543985343885705E-2,null,94.955877625247226,103.58282335263146,103.66535814470382,98.387952388028253,96.781152566588176,97.403274919768933,103.20436474863098,null,92.135933769714356,101.83162891793054,98.836055153876103,92.861974794482222,94.086233962835635,93.354806498227006,102.73838655163291]
[null,"Noviembre",102.60873058960109,102.1999250063549,104.03059554434218,105.08433834678455,102.28649064659344,103.10144071421873,100.33741762548892,null,0.56913942709775345,-0.22116153469242672,14.964217084765185,-4.131572814791129,3.2890950977749078,-0.27952860548152714,-0.55788759673673916,null,95.325272011975571,103.31926759036799,103.03999895777474,98.370839208562629,97.042728422275928,97.56850559132279,103.14790878056066,null,92.90171651498467,101.09524795046912,99.047783412769945,93.611322825227319,94.873455730889191,94.633503581940843,102.80103995257474]
[null,"Diciembre",101.99428291352756,102.89635608627005,102.67444105862529,104.35487585270366,102.36454704484363,102.78967969572594,100.22576610818631,null,-0.54129370236524199,0.28834147207850158,10.749163617655677,-4.8075658219276285,3.2106992325358297,0.65700418637593128,-1.675076595589331,null,95.886257898449202,103.30076183810928,101.79108786982525,98.576878634170626,97.352222443389351,97.502618314012722,103.32276388391905,null,94.011404521313366,100.3930224229711,99.139656199057697,94.463126738142421,95.103456473794111,94.856427807379333,103.09002155432742]
[2000,"Enero",100.55371666373972,101.68593033792854,105.4552125842695,103.95805753181706,101.87575319210093,103.26852718153509,100.44473580511122,null,0.39617343149045414,0.24594620049425142,9.9396217270471432,-3.9475481685348979,1.360312999107971,-0.22341651278102725,0.48516301764254255,null,95.888147201674471,102.36494127347311,104.41772904976804,98.137080286144936,97.28962367566227,97.918469766894532,103.11620079011929,null,95.360122313860046,100.66775308372362,99.016185630774388,94.40064831541261,95.498311057596922,94.819275958844912,102.65963662863469]
[null,"Febrero",99.887860922939595,101.64988315912495,103.64947914245107,103.07663876792267,100.3854115685491,104.00148615276568,100.42772594890735,null,-0.15781152969570611,0.17423959344602391,9.3050600753043167,-3.8721466112861092,-1.0935880348421523,-1.3689536976800865,0.8795433566018751,null,96.063158346682258,102.07543010315814,102.79267484282124,98.151190166375159,97.255988225802042,98.098027210299577,102.40992461537104,null,96.171003622544305,100.41863987523432,99.173363622549161,95.221566534937978,96.882591510211512,94.32367828494813,101.97375639818046]
[null,"Marzo",100.45434780230221,102.40549239429579,102.34686576938896,103.06563206671078,100.50895953044238,104.7802057579854,100.59979463317393,null,-0.87429228712858631,1.1300817450559331,5.8441548681135602,-3.7013738044532674,-3.3791077565910599,-1.1584246485798144,1.3291364400602967,null,96.569376026954671,102.17479315265365,102.00757075033944,98.395978909844914,97.684410491495726,98.077979773241992,102.55424971738405,null,96.132599673044211,99.774719855109069,99.668485188580149,95.469243177159811,97.189753976021265,93.60353805734664,101.94280226051835]
[null,"Abril",101.21073366858562,102.31320583800913,100.98824566371242,101.97062480097473,100.26109055922716,104.62278429146187,100.5004785231563,null,-1.3421756441019395,0.29466613646793594,2.5806499163957941,-5.1620957240142822,-4.3236869386506838,-1.7370375163370921,0.78691907931534022,null,96.829288892236036,101.84477088768529,101.5403107159586,98.487496441063527,97.856582309052115,97.930497426555021,102.23424609013362,null,95.67096826834927,99.542155925535653,100.54666268199621,96.584184546569617,97.601753345427028,93.603413529634949,101.72513364359537]
[null,"Mayo",101.27869065010879,100.98722043319128,101.03437807492422,100.87531114057502,99.296096980046769,104.20906617336847,99.513182175775867,null,-1.1439393237714812,-1.2448790749368333,0.72360052726050395,-5.5688729142754028,-4.5624558965463251,-2.0893207660745095,0.12868561834107339,null,96.693708534179763,101.09750791886954,100.61976876168333,98.219740524146076,97.556438837702302,97.515908942860818,101.21658419004902,null,95.472905419197275,100.1092093486732,99.589635408124721,97.367472192746689,98.248009543925932,93.577183371576794,101.71173504557854]
[null,"Junio",101.37386512118437,100.5750783366564,101.66254238384691,101.10519015572319,100.06696692681852,103.93796937699558,100.14321777757475,null,-0.20204098610432375,-1.3050710076679906,1.0255274187340513,-4.3788632669684464,-3.6655622762166495,-2.5215143043279986,1.2288636089981875,null,97.620753438208823,101.27492501040913,101.22752603856671,98.884568284336922,98.36176716564762,97.756736052334347,101.66290956117527,null,96.297752208136686,100.69584501978723,99.572097711625474,97.803651951036287,98.295941394508375,94.052959316300317,101.51751842743447]
[null,"Julio",100.78201471559908,100.87011665248197,102.08951670943186,100.87702751746481,101.0389166513139,103.68690015681662,100.08348405084291,null,-1.5863524565541298,-0.74563125388922291,2.0742340980963503,-4.4634280901924228,-2.9992621233025152,-3.2412702821493666,1.2714715318198344,null,98.13233081467682,101.16714461142486,101.65565393283262,99.134746721770441,98.715334773506086,97.754748805776259,101.54617243669588,null,97.370876233820582,100.29446576330056,99.575017307767155,98.272866639143658,97.700309984689852,94.278784164567995,101.46146829292026]
[null,"Agosto",100.32075603086379,100.13795052630881,102.39020933208718,100.51908878064661,101.09995886331595,102.31021419375371,100.05183513912799,null,-2.6456961239701537,-1.6624718622077483,-1.029393654906352,-4.9534603350452784,-2.5554084835545221,-4.6681222636082431,0.59455431646600054,null,98.270226421350827,100.78350142953036,101.31515376424535,99.155055479634086,98.764536193174962,97.506992613508714,101.09769904325975,null,97.956026558569675,100.64466158916639,98.950040658325989,98.643010678310944,97.689986527790381,95.305237489632532,101.04532205998764]
[null,"Septiembre",100.53813839419779,99.775989054576598,103.0300048559441,100.87499338903277,101.04451113008142,100.77979875983992,99.60526893878928,null,-2.8605720135674084,-2.023015499524794,-1.9119183674624285,-4.91407815184618,-2.3457839708706629,-6.2309751671830282,-0.54428453033952273,null,98.373490731146518,100.17174124846888,101.52011844217905,99.204290088222351,98.717549385589066,99.215048372437877,100.60936222264105,null,97.846938785991881,100.39664071250229,98.534517768997347,98.343788440840626,97.697092381894251,98.447357102656184,101.00807245896684]
[null,"Octubre",100.26677596336904,99.530591233973567,102.58348014037928,100.48490125603863,100.17901015873589,100.84828726618798,99.491777639760798,null,-2.7108878302075978,-2.1520952560254325,-2.1954230179923262,-5.1588518595930495,-2.6105234541908939,-3.3433696026396009,-0.95743784907659224,null,98.548938626410589,99.639573582248289,101.18914327617048,99.164604521056859,98.733419680982109,99.384220630359863,100.04359936049975,null,98.286733246927142,100.10949633366342,98.640778357001807,98.686074506240885,98.556992651990456,98.548248388231187,100.5546405279208]
[null,"Noviembre",100.10628958472419,99.675578527957228,101.27683128959106,99.857817047566556,99.893796221500864,100.65375159965765,99.798275071304261,null,-2.438818792998998,-2.4700081514156813,-2.6470715084749741,-4.9736443902517298,-2.3392086383718924,-2.3740590796841432,-0.53732950971194793,null,99.065524801360482,99.647118965860315,100.38015942406315,99.479026251789421,99.179190560819066,99.583606748301378,99.935385304043933,null,98.960340266649411,99.971447808462983,99.114632780162765,99.620669861432376,99.284634594227199,98.936805797748406,100.13738737732862]
[null,"Diciembre",100,100,100,100,100,100,100,null,-1.9552889206724822,-2.8148286260416211,-2.6047778113525211,-4.17314075372055,-2.3099277172669685,-2.7139686629862436,-0.22525755297555516,null,100,100,100,100,100,100,100,null,100,100,100,100,100,100,100]
[2001,"Enero",99.837965799477089,99.175724159917877,99.9514078601362,99.698314698470256,100.34481527792035,101.57931520195835,100.309870925792,null,-0.71180945668688489,-2.4685875122237633,-5.2190921522586642,-4.0975590872723622,-1.5027500324770959,-1.6357471396946432,-0.13426774259319707,null,100.6813022136504,100.29104432305822,100.66324459356983,99.929374888703961,100.37313665940009,100.55663646320538,99.768252650412364,null,100.84470512536998,101.12458988586958,100.71218279829506,100.23175937420056,100.02822406060672,98.993221467658373,99.460054857631789]
[null,"Febrero",99.398246717757374,99.804242471028431,98.595130028987427,99.102775409739806,99.862044133133438,101.95850981927661,100.54125994691952,null,-0.49016387042259968,-1.8156840231752347,-4.876386408577293,-3.8552512050087584,-0.52135806113449146,-1.9643722499197547,0.11305045189407004,null,101.0057011056458,100.23609787221174,99.679807754395355,100.22593576708765,100.68752135181667,100.69386955193194,99.589773564149738,null,101.61718585686205,100.43270244880489,101.10013316589675,101.13332886259153,100.82661758613986,98.759652068683366,99.053635907017551]
[null,"Marzo",98.224090328896338,99.767358744098146,97.550525436255256,98.517543065845345,100.35831019525848,102.38031081604205,100.04542860169524,null,-2.220170178990255,-2.5761642159191411,-4.6863578059546658,-4.4128085276007534,-0.14988647369120756,-2.2904086936863521,-0.55106079838446176,null,101.22933841217174,99.996093754111683,98.784513608086925,100.2305716260493,100.73673143462581,100.41823757496485,98.879243159392814,null,103.05958352295505,100.22926838285882,101.26497337283746,101.73880560445872,100.37707015854598,98.083544359810858,98.834344098874027]
[null,"Abril",97.69042905370145,99.886293067153659,98.007383003731519,98.522762776056481,100.39287891348425,102.0242920190065,99.91201169226801,null,-3.478192961639226,-2.3720425442420034,-2.9516926850151171,-3.381230655051648,0.1314451633450453,-2.4836772315449007,-0.58553634722515735,null,101.50531128537337,99.770893947069311,99.233450285524697,100.43874960124603,100.96970320613462,100.27404841046841,98.443787777706319,null,103.90507265514704,99.884469513743241,101.25099481714199,101.94471487725592,100.5745669402981,98.284483455947893,98.530483082370651]
[null,"Mayo",97.723070697194132,100.04114987704369,98.395044048474801,98.048288469685772,100.49659189471846,102.11642565417687,100.12373846953925,null,-3.5107285946244904,-0.93682205737454227,-2.6123128352333325,-2.8024921449309237,1.2090051383519373,-2.0081175237768312,0.61354313108481495,null,101.79949248971548,99.634386282941151,99.536892272813361,100.79287013952725,101.39794687225556,100.21005673183529,98.351562291013778,null,104.17140165923826,99.593403719766826,101.16047330978989,102.7992142572586,100.89690103967044,98.133141744700694,98.230013975092817]
[null,"Junio",97.9050919155749,99.907751091626153,98.026373930068019,97.852641393750346,100.19973893655434,102.69269483921815,100.74440748805986,null,{"$f":"(C83/C71-1)*100","v":-3.4217627999710065},{"$f":"(D83/D71-1)*100","v":-0.6635115339373554},{"$f":"(E83/E71-1)*100","v":-3.5767042300101304},{"$f":"(F83/F71-1)*100","v":-3.2169948515632485},{"$f":"(G83/G71-1)*100","v":0.13268315590391211},{"$f":"(H83/H71-1)*100","v":-1.1980939643535526},{"$f":"(I83/I71-1)*100","v":0.60032993129939261},null,102.11262115259765,99.402856379038568,99.765600336002862,101.0523103285468,101.58275828615871,100.08017115678216,98.132047128828219,null,104.29755915111237,99.494639097496503,101.77424333493718,103.26988509377205,101.38026242810881,97.455979038697635,97.406942554561894]
[null,"Julio",97.635957669770605,99.797883720431258,96.861791210759819,97.45754124254573,100.90735877176196,102.60977900497937,100.30935452763036,null,-3.1216453200568206,-1.0629837335717318,-5.1207270512909187,-3.3897571717476205,-0.13020515650018494,-1.0388208637814422,0.22568206825483994,null,102.66107027967408,99.259924312209506,99.589846106056484,101.32631915326496,101.91698321660849,100.00891324827927,97.927664489954282,null,105.14678478076659,99.460951086168564,102.81644068439817,103.96970604982828,101.00054590382268,97.465284710754617,97.625655105755826]
[null,"Agosto",98.034897422446704,100.02729546549381,96.906115278606961,97.431252633606547,101.99166635042067,102.25247595602065,101.13575101234154,null,-2.2785500218058918,-0.11050262186655946,-5.3560727038787341,-3.0718903090917959,0.8820057862835462,-5.6434480357669958E-2,1.0833543149971314,null,103.80125353094498,99.520255131011794,100.70606309048213,101.83320647634446,102.93373302827693,100.34571368769798,98.644390743058679,null,105.88194230841104,99.493098026771193,103.92126730181089,104.5180101084111,100.9236702483314,98.135240980235267,97.536617621024206]
[null,"Septiembre",98.410286145763564,100.12707816716829,98.013558926428757,97.415977409199812,102.70557911282857,101.73379809216978,100.53073633493941,null,-2.1164627497787691,0.35187735638446682,-4.8689174930441892,-3.4290123484746804,1.643897292559271,0.94661761986969406,0.92913498051880872,null,104.38793996612952,99.175260456964438,101.75082216907103,102.18924211190685,103.26383092464788,100.29633746249986,98.54244556857364,null,106.0742164813056,99.049390307170711,103.8130063672594,104.89987867457999,100.54354575149809,98.587037290824824,98.02220610446804]
[null,"Octubre",98.725509649158127,101.03250395437414,98.841800330546491,97.354205949154135,102.46499053231463,101.12613888990461,100.09386703401452,null,-1.5371655260701611,1.5089960802803892,-3.6474486971123654,-3.1155877825937095,2.2818955487347692,0.27551446955489389,0.60516497798819291,null,104.91591586311159,98.753603078805256,103.60074402488448,102.53682877474218,103.36567007597586,100.18424215645352,98.224024763872791,null,106.2703208481297,97.744388403361725,104.81470762210235,105.32347090201199,100.8790119815384,99.068592211874602,98.131911249361252]
[null,"Noviembre",98.404323029695078,99.732889100837397,97.841102255835509,97.563306985203411,102.35186823914428,101.61670325541409,100.34787200491607,null,-1.7001594625966732,5.7497105837311935E-2,-3.3924136349916201,-2.2977771096980515,2.4606853584710819,0.95669723229643289,0.55070784862676359,null,105.58022732673737,98.66113502951886,103.2104177933052,103.27220495783979,103.57060703783401,100.71744420977573,98.087123707931397,null,107.29226529496765,98.925375489488815,105.48779134093355,105.85148059147093,101.19073429694723,99.115048002120233,97.74708894985443]
[null,"Diciembre",97.977147501034963,100.998294137081,95.585134425787146,97.494648378272927,102.64052946153402,102.4003913005504,100.51193692832567,null,-2.0228524989650332,0.99829413708101278,-4.4148655742128557,-2.5053516217270699,2.6405294615340136,2.4003913005503863,0.51193692832567361,null,106.49443413875936,98.830858047548105,101.58422917737953,103.79220490307439,103.94166566632028,102.00875087445296,97.952777174500028,null,108.69313595564152,97.853987428152863,106.27617964616674,106.45938687872112,101.26766318491556,99.617540107881069,97.453874801307862]
[2002,"Enero",97.553854596816578,99.783851576533067,95.088439514374755,97.980517606709171,102.90086113079695,101.89543737248832,99.864142659058629,null,-2.2878182506724021,0.61318172543374239,-4.8653325149419446,-1.7229951147684219,2.5472625025989126,0.3112072274768396,-0.4443513510879793,null,106.76668147115306,98.894032051956515,101.64216671871654,103.77301049777464,103.90025696778511,102.1580914295489,97.576018821342345,null,109.44383685546049,99.108252978294729,106.89224393397585,105.91188231349864,100.97122203449575,100.25776822184925,97.708763349095136]
[null,"Febrero",98.151277976880635,99.889238177192937,93.550122055199907,97.86595619043085,102.64277697613282,102.7174621770458,100.09950806445426,null,-1.2545178431743631,8.5162418009621099E-2,-5.1168936764972699,-1.2480167323219105,2.7845743266502687,0.74437372526769963,-0.43937372845584965,null,107.50580300606052,98.875612376043833,100.52311697482044,104.38762636025885,104.11389332239631,102.65564459572722,97.361879723156562,null,109.53072157795371,98.985250243523694,107.45375288287285,106.66388029473491,101.4332390350327,99.939817845954934,97.265093111611563]
[null,"Marzo",98.916061879169774,99.92557071858397,93.222632055302626,98.466216478392042,103.57411102867782,102.20526490582533,100.47771640356036,null,0.70448252354022856,0.15858089908107331,-4.436565935035075,-5.2098931678590255E-2,3.2043194302122435,-0.17097614650852799,0.43209150873466662,null,108.62082238999588,98.948829121203701,100.30194684570894,105.07443706267301,104.78999607061353,102.7776238424041,97.554886348940826,null,109.81110683791768,99.022530879377186,107.59398724786773,106.71115517648747,101.17392756728469,100.56000924913815,97.091066398364163]
[null,"Abril",100.15989753132624,100.15055098413929,92.058933256614438,98.816442057602529,104.01779078057491,104.54194765416163,101.0886300368454,null,2.5278509896474066,0.26455873861288559,-6.0693894325191788,0.29808266970099417,3.6107260856763634,2.4677021377282449,1.1776545428805907,null,109.60895896370776,99.017289800557251,99.122172455234647,105.71060442597154,105.3507805227725,105.29428065800406,97.650106063184367,null,109.43397673647401,98.868442387539631,107.67251905790762,106.97673608239226,101.28150168561983,100.71964701320779,96.598505714828917]
[null,"Mayo",100.71333194931536,100.2498070439996,92.367034651422045,99.02890365073759,104.56325999546443,105.1866151083148,101.70221007386853,null,3.0599337810279126,0.20857134010590084,-6.1263343650550421,1.0001349297953377,4.046573146486665,3.0065578916121716,1.5765208415679632,null,110.82507975240783,98.97216058571739,99.682001779708813,106.35645198710368,106.21897370198351,105.52185602678006,97.927054929661466,null,110.0401283597501,98.72553723946676,107.91945649862231,107.39940367532436,101.58345647083966,100.31871062503537,96.288030376660373]
[null,"Junio",101.37279809335035,99.770016835787033,92.424936143711719,98.685547682678845,105.6159267464154,105.34050674406829,101.99542120577181,null,3.5419058497649036,-0.13786143150474883,-5.7142150237571414,0.85118426755284027,5.4053911390832488,2.5783838947801563,1.2417698896687757,null,112.14359391633889,98.955525058088725,100.09233880594748,107.00186203843253,107.19522604315641,105.7383977916037,98.164579990032436,null,110.62493689191663,99.183630710377756,108.2958160234092,108.42708436142505,101.49532304965037,100.37771894196608,96.244104715239331]
[null,"Julio",101.21333709965067,100.00771302502157,91.477802334306958,98.837772539989317,106.48941017240638,105.24444734811732,102.15931312838816,null,3.6639978910020687,0.21025426268368452,-5.5584238213579384,1.4162385792276133,5.531857605420254,2.5676581400785325,1.8442533196125988,null,113.47101080730422,99.106539931346077,99.683283840543069,107.8072583142152,107.92383360348907,105.96383033484014,98.336821872927942,null,112.11072973079143,99.098896408669972,108.9699154295914,109.07495742136122,101.34701040109091,100.68353533592449,96.258303684308899]
[null,"Agosto",100.97694619540449,100.68463618934609,90.509124437640423,98.874330354122577,106.81900432566474,104.52011822354291,101.6365544094492,null,3.0010219323024057,0.65716134860314135,-6.6012251369019008,1.4811240556895866,4.733070992936228,2.217689348175389,0.49517939214842599,null,114.23021999109433,99.082274379764115,98.31375048618645,108.25798012542509,108.04384543198292,105.82408002014951,97.855962368881876,null,113.12504912759285,98.408533942985514,108.62302679098758,109.49048123784462,101.1466509298139,101.24757015086583,96.280283149567452]
[null,"Septiembre",101.13904113948861,100.7973732549809,90.403680335935661,98.92121557390729,106.74166333032028,102.90071225000841,101.11278191634558,null,2.7728351380700733,0.66944437017677494,-7.7641080212231151,1.5451655926878027,3.9297614135039405,1.1470270251597414,0.57897276258573882,null,114.64430833917218,98.681468326661033,97.740885749296169,108.34853889865816,108.31739061255152,105.42397770203102,97.049544380305335,null,113.35316911009411,97.900833265796109,108.11604725172231,109.53013291441754,101.47620641562895,102.45213604148051,95.981479829719333]
[null,"Octubre",101.55687145167043,100.88031712796933,89.559116958536251,99.062875466044545,107.17491197601778,100.08223370466848,100.77139494773265,null,2.8679130779614592,-0.15063154969763293,-9.391455174801667,1.7551060072153568,4.5966153114685326,-1.032280275599784,0.67689253477225542,null,115.61898495918311,98.660573692032074,96.855018219679749,108.87324082621703,108.55496745233049,105.31049871202785,96.744815631351443,null,113.84654066879627,97.799626825992775,108.14646404399157,109.9031703996268,101.28766653582278,105.22396914400152,96.004243745489802]
[null,"Noviembre",101.88937352613816,101.4982503858084,88.134453841456121,99.322354923911917,108.38989822167585,99.812710201053264,101.4383506136907,null,3.5415623919199168,1.7700893866476664,-9.9208289671536836,1.8029810520622025,5.8992865361517044,-1.7752918531774076,1.0866982896470478,null,117.08149153824561,98.906137820643849,95.565889481444827,109.70620512141468,109.32952629978483,105.45203182589178,97.296325498618756,null,114.9104047717107,97.446150494898603,108.43193021126223,110.45469592969029,100.86689635614132,105.64990331740236,95.916706955492529]
[null,"Diciembre",102.22457157777836,101.26571739034064,88.217996618950835,99.184355792853353,108.2668372193021,98.06382662195719,101.72652576950898,null,4.335117101361341,0.26477997033957923,-7.7074095790033104,1.7331283744154602,5.4815654082110088,-4.2349102610996558,1.2084025821225808,null,118.32494752798235,98.885831652315531,96.058168802503332,110.25703267277338,109.73233783118219,105.55739864663359,97.276249349760718,null,115.75000579772924,97.649860387744496,108.8872707203014,111.16373322325683,101.3536006495799,107.64152520130041,95.625254685457691]
[2003,"Enero",102.95283151618284,100.14467942935443,89.56486558771725,99.646184274195477,108.47200576160446,95.794580438918004,101.85893489314768,null,5.5343552970611665,0.36160946598118304,-5.8088806114254261,1.6999978242330238,5.4140894153704267,-5.9873700833807275,1.9975059926157668,null,119.30080277172021,98.405730039392211,98.329597125183639,110.89461146763848,110.17326847842624,105.36200189364919,96.906930519903312,null,115.87908852508606,98.263562877357927,109.78590374691343,111.288367211825,101.56838873299783,109.98743499986591,95.138370160222934]
[null,"Febrero",103.64688540432088,100.41287579299279,89.586708909634424,99.318061073532959,107.7943991489626,95.843304823544443,102.30183482619636,null,5.5991195842959085,0.52421824948847284,-4.2366734093910008,1.4837691671622411,5.0189816805401355,-6.692296721323709,2.2001374475526969,null,120.23561894916057,98.18033510363307,98.393553280961669,111.26602191893913,110.43122955137675,108.8293972645761,96.662798344571712,null,116.00504779292491,97.776639029876762,109.83052561983348,112.02999808520238,102.44616642722808,113.54929534717124,94.487844239348235]
[null,"Marzo",104.34251262101714,100.49339817158229,90.390674226823208,99.784320907586761,108.56731466346162,118.53285935319381,102.62874882460792,null,5.4859146621465849,0.56825039768595431,-3.0378436716948842,1.3386362108104066,4.82089933979859,15.975296832715191,2.1408054422814793,null,121.15695759604836,98.017214565672134,99.172885084743641,111.62673884568524,110.88518274496282,136.17210919074267,96.494755656284539,null,116.11466367127177,97.535973854041316,109.71583731733503,111.8680147646303,102.13495939241581,114.881316399353,94.02312389211103]
[null,"Abril",104.48191758750559,100.7134468920156,90.295736027146432,99.925464032014673,109.64309330122632,123.91954423950291,103.04467318561773,null,4.3151202853692894,0.56204973646669654,-1.9152918321930668,1.1223051056277411,5.4080196074515419,18.535714151265758,1.9349783927820274,null,122.55527379738722,98.198823464739419,99.518684845118429,112.36856124789863,111.63694752046469,142.91295324228736,96.803856972403977,null,117.29807092671787,97.503189986167058,110.21415763774185,112.4523787168978,101.81849504533824,115.32721018249981,93.943581923956472]
[null,"Mayo",105.7888912581367,101.325741350021,90.824279593807091,100.93699833683957,110.36860075045965,132.73706666520269,104.49472787959468,null,5.0396101594331499,1.073253243818395,-1.6702442201777523,1.9268058271467714,5.5519890592996335,26.191974642893602,2.7457788810074879,null,124.85250113542861,98.713223219692253,100.43105669508287,113.74126615173523,113.24732014178369,155.10236606846215,97.981809786879708,null,118.02042695652663,97.421663937000929,110.57732265451499,112.68540577377404,102.60827750986239,116.84932473283483,93.767228045974178]
[null,"Junio",106.09720266477674,101.00409708439769,90.741395545461671,101.12693129391644,109.68715068202657,142.62227308242194,104.47899579986267,null,4.6604263276583069,1.2369249677905092,-1.8215220572425417,2.4739018717186534,3.8547443184267172,35.391671723140796,2.4349863599076205,null,125.89896884142773,98.56752367874077,100.47708615448192,114.12864737868725,113.58394634939619,175.08151445864397,97.945897457319546,null,118.66379666881168,97.587648940992011,110.72905100312529,112.85682846143376,103.55264554064867,122.75888658531176,93.74697441095455]
[null,"Julio",105.74696965717251,101.27703458458696,90.249272318072258,100.91890408895367,110.25253186751844,163.78249989364315,103.91315143221738,null,4.479283746032614,1.2692236640265975,-1.3429815593350436,2.1056034504645771,3.5337989843493123,55.621036568228035,1.7167679089865162,null,126.4001910076322,98.332075677145497,100.12739886486874,114.23341825687237,113.93977318656174,208.25609761572372,97.425195768472221,null,119.53079262452306,97.09217502317189,110.94538082476969,113.19328057326385,103.34435976805862,127.15405965286939,93.756367144752346]
[null,"Agosto",106.07149681686272,101.00384514920839,89.933779660855151,100.34853058651436,109.97593315228373,155.71449315700076,103.67502487809692,null,5.045261134754031,0.31703840024013275,-0.63567599439289246,1.4909837842763229,2.9553999745160597,48.980402819642464,2.005646964807184,null,126.86361374553286,98.023360610978969,99.683181776662892,114.22421431147534,113.17931718632852,203.28766568957727,96.961473725160403,null,119.60198314592346,97.049137551321451,110.84064536437059,113.82749069055696,102.9128045948099,130.55153798985836,93.524427738666631]
[null,"Septiembre",107.4055459341686,101.25234107032199,90.71360471672935,100.81416780987998,111.19244071058354,145.05472312852214,104.59768313163235,null,6.1959305962149491,0.45136872187154786,0.34282274752757136,1.9135958095444217,4.1696721237048706,40.965713411289116,3.4465486452246452,null,128.17225071042725,97.989048744613399,100.60653468743321,114.90291230133248,114.33611897515374,191.50541454461856,97.29760450948767,null,119.33485333149095,96.777069753436933,110.90567396323453,113.97496482639396,102.82724099271523,132.02287413622506,93.020802752430185]
[null,"Octubre",107.51218422419204,100.97184176005103,91.884132316036002,101.15767759022232,112.23443773602526,156.28460125948217,105.44760580905881,null,5.8640175572518105,9.0725955951942439E-2,2.5960677555320055,2.1146187351444246,4.7208116775870446,56.156188240822644,4.6404149349640322,null,129.7469583520955,97.947394886955166,102.19445052494491,115.68928662453062,115.61056758449621,211.72077540273003,97.689602151703269,null,120.68116677969999,97.00466306212067,111.22099969714738,114.36530511621088,103.00810510265272,135.47129640188041,92.642788237977186]
[null,"Noviembre",106.79713659249188,100.88704240818169,91.259367685084456,100.89357262542407,111.65499506268708,167.53049128593702,105.32708725524748,null,4.8167565434041215,-0.60218572763908185,3.5456211588372755,1.5819376239274874,3.012362678239211,67.844847563481125,3.8335960886886955,null,130.73548836428523,97.880340244462076,101.83769812431822,116.09523993610485,115.73008838378993,240.93590563069526,97.610839096220261,null,122.414788013592,97.019734059053192,111.59150091389765,115.06703243339223,103.64971877775369,143.81615178306356,92.674013532408978]
[null,"Diciembre",107.16027775002961,101.06336773461773,90.603283336071641,101.61522175280618,111.97171679574969,152.79499571382547,106.44479830148815,null,4.8282972440690353,-0.19982049299362981,2.7038550052590926,2.450856226792153,3.4219892920147821,55.8117819559099,4.638192935704688,null,132.7030478981747,98.122786503592692,101.50999951680049,117.089284642379,116.63747329910616,227.86966457970036,98.254218549629499,null,123.83604324703987,97.090358953061312,112.03788182849064,115.22809538044973,104.16690628390329,149.13424586658883,92.305326439099346]
[2004,"Enero",107.33061761793007,100.60851087926515,90.866649254318347,102.0108612443745,111.67658548712497,176.22035888617336,106.92188622332614,null,4.2522250600354861,0.46316135071153841,1.4534534921242903,2.3730732766165552,2.9542919419812463,83.956501587830076,4.9705520045832063,null,134.40623486167277,98.098244959651055,103.22171153291066,117.72662869713014,116.89106819136134,279.21908214823134,98.506846090191473,null,125.22636862123076,97.504916932299551,113.59691633837281,115.40597467862503,104.66927125457069,158.44882164187865,92.129730936883874]
[null,"Febrero",107.18950728183506,100.63625048119988,90.539384111509747,101.68529608666327,110.99540010609175,169.8855190995871,107.39655120081487,null,3.4179723430131093,0.22245622032337486,1.0634113178956905,2.3834889521027414,2.9695429283906005,77.253402741444049,4.9800830877315905,null,135.21629621069661,97.950217171464033,103.0190785600284,118.05752741867241,116.93134502686868,297.94585957556461,98.347934208073752,null,126.14695191682361,97.330948543002776,113.78371917479409,116.1008837679497,105.34791974721765,175.38037447494767,91.574573958318638]
[null,"Marzo",107.75167237729701,100.41341467710849,90.168524220820643,102.00908530681941,111.14820588477605,157.66379586588656,107.91367319370205,null,3.2672778052243112,-7.9590794946782228E-2,-0.24576651065253419,2.2295731223075377,2.3772267273209469,33.012733115712514,5.1495554896864526,null,135.74566017145895,97.783059294257583,102.7351591405171,118.17437634039474,117.00485906439772,281.21028203350147,98.034790184884372,null,125.98009587836354,97.38047412160104,113.9368310929888,115.84691303225976,105.26922871404068,178.36072034743293,90.845568762092483]
[null,"Abril",107.61464915345623,99.818063821722902,89.235354779143265,101.52429271509973,110.77456046970697,149.66256552003549,108.09759550516854,null,2.9983480761892833,-0.8890402403292974,-1.1743425488933146,1.6000212744299303,1.031954803912849,20.773979954911947,4.9036230242089474,null,136.30794823350135,97.638774985883572,101.82016680740813,118.38276276909674,117.03727804008115,267.78750280202757,97.830796086726821,null,126.66300480999485,97.816739022576542,114.10294390537491,116.60535582484255,105.6535702275134,178.92751061131489,90.502286965346215]
[null,"Mayo",107.73580928824262,99.376642263538542,87.750349397307801,101.25744470901132,110.22017381352269,154.48522860927653,107.39464523467771,null,1.8403804094658804,-1.9235971634783966,-3.3844806809883998,0.31747166792337467,-0.13448293801653355,16.384392461322307,2.7751805415719089,null,136.7044872405304,97.350530809777283,100.48408652719702,118.37396830024214,116.90739954030616,282.24679214358235,97.03087643302274,null,126.88862518754864,97.961179400297922,114.51132356434799,116.90396557055082,106.06715222396339,182.70147552905522,90.349827238585149]
[null,"Junio",107.97964550881082,99.714575298909253,87.342685917528414,101.61192918015549,111.0023190886948,156.16171274924693,107.65609861488987,null,1.7742624656955419,-1.2767024533776317,-3.7454897045643198,0.47959320038046815,1.1990177504754396,9.4932154524002712,3.0409009875182802,null,138.11640988981478,97.507308677269208,100.13471357894583,119.17479538641436,117.71703335586945,290.1669614348948,97.343612388853302,null,127.90967153021897,97.786415260734501,114.64579149019534,117.28425623641132,106.04916574923931,185.81184614747642,90.420899179221934]
[null,"Julio",107.64331671896849,99.591317952143541,86.598712846695051,100.94378035413536,110.88534569806356,144.73797684804475,107.91510506834804,null,1.7932873801905336,-1.6644608912156689,-4.0449738569761191,2.4649757551631346E-2,0.57396761763759407,-11.627935254355926,3.8512484521664669,null,139.52820794611648,97.621354240383511,99.658807276380657,119.88444920960207,118.08422422808087,270.86103505465138,97.637823604724971,null,129.62087401152081,98.021952362648079,115.08116460438134,118.76358185617602,106.49218206851208,187.13888431577203,90.476512572439276]
[null,"Agosto",107.6362831256735,99.53309664739929,86.73612819413205,101.27100608948983,111.21681197791531,132.62173342598305,107.89518003816407,null,1.4752184665711487,-1.4561311993978365,-3.5555621911829038,0.91927156041429203,1.1283185239386206,-14.830192914499097,4.0705610295529659,null,140.63021754217431,97.596845425619733,99.872320831994202,120.43340031619177,118.35293470037523,249.20888605437278,97.699150263319893,null,130.65317145704287,98.054665948313826,115.14500694388946,118.92189577910261,106.41640647268056,187.90953761244393,90.550060001533254]
[null,"Septiembre",108.15800384767184,99.698770387872514,86.274139537059668,101.99665160603061,111.09218781622117,120.61698227033609,108.69828077749069,null,0.70057640595619919,-1.5343553206048743,-4.8939353623227326,1.172934143919746,-9.0161609657724018E-2,-16.84725621552743,3.9203522708030736,null,142.03110148350987,97.65227724725284,99.842434903284399,121.0855747276033,118.47215020883166,223.46332063296219,97.935471165639299,null,131.31816086726639,97.947323590192838,115.72695530668997,118.71524488402329,106.64309753699253,185.26688068859073,90.098454607683024]
[null,"Octubre",109.34116802037461,100.13906699900998,85.368761666148487,102.50828795510512,110.892683673053,104.7091548963255,109.58180999045288,null,1.7011874601753352,-0.82475940472597209,-7.090855064591417,1.3351535909651435,-1.195492301683776,-33.000977669914533,3.9206240385202706,null,143.93118087539463,97.920151789328656,99.277392932366752,122.10950995269452,119.20280363594769,195.64780358756678,98.341877535175954,null,131.63493996019369,97.784166283770887,116.29241304988203,119.12159727628466,107.49383970848389,186.84880398593734,89.742884830743165]
[null,"Noviembre",109.76181913366709,100.80781197307428,84.601976611725476,102.88020495527826,111.23795258059123,98.141372070772974,110.8735998685701,null,2.7759944093703748,-7.8533806935132677E-2,-7.2950221355161489,1.9690375493290668,-0.37350991942788347,-41.41880005397487,5.2659887953431239,null,146.34777701701236,98.334473553219894,99.228736340250805,123.35314941806563,120.18715879921888,180.18723645735963,99.323321899701227,null,133.33213513780342,97.546481397180784,117.28891015827416,119.89978973281295,108.04510152426978,183.59967122471113,89.582481327781721]
[null,"Diciembre",110.01156421616884,100.83150792046187,84.570435367426114,103.23925125873721,112.09027078889154,97.495394701129243,111.26804976323186,null,2.6607680812384293,-0.22942023341701034,-6.658531287732794,1.5982147929389123,0.10587851694559003,-36.192023668280726,4.5312232619226789,null,148.48528639236994,98.590358611418665,99.839486472452705,124.29808841725323,120.85022483953556,176.69328076074004,100.11905423670937,null,134.97243444389318,97.777332348524354,118.05483327440425,120.39809171585193,107.81508866825946,181.23243800631897,89.980056673729322]
[2005,"Enero",107.75229889797275,99.567546582949447,82.985822019152337,103.344926391771,112.38188964387612,98.926198809529652,109.34633841656625,null,0.39288069835183848,-1.0346682275865438,-8.6729590007320283,1.3077677524951481,0.63155956432108251,-43.862219192602261,2.2674985252095103,null,148.92984234240177,98.522154350087504,99.311779760253359,125.33400713640215,120.94909340660406,182.18050051588432,99.881871739861921,null,138.21500224641957,98.950067297288456,119.67318915914717,121.27736843245947,107.62329570171522,184.1579912179287,91.344505162442246]
[null,"Febrero",107.98382544438526,100.15785239794779,82.413118028302762,103.0649403181329,112.88074975474835,96.216200797396397,109.47046492285256,null,0.74104096818141674,-0.47537351696291807,-8.9753935957842863,1.3567784965623719,1.6985835871167199,-43.364095240516441,1.931080373484062,null,150.00028235543726,98.578382524357991,98.787470073561721,125.78088381998072,122.24066334605084,176.22874312961108,99.915219290195196,null,138.90995409557118,98.423019428058183,119.86862339031461,122.04041784891156,108.29185987126984,183.15911631212506,91.271393942291866]
[null,"Marzo",108.61607608432766,100.88968396803897,81.489171433298736,103.31242279799734,112.91904233590613,95.130139566374396,109.42332764198662,null,0.80221836743648023,0.47430843026499137,-9.6257012771622676,1.2776680501131787,1.5932209044974277,-39.662660635612959,1.3989464018843822,null,151.19650194532736,98.684604362943034,97.539420130125691,126.26765724477616,122.82083211683386,172.88849371135547,99.922585389690838,null,139.20269208394251,97.814365633463083,119.69617363205678,122.21923929870687,108.76892823043289,181.73892574889723,91.317443494882099]
[null,"Abril",108.64513316966656,100.98144626972304,81.213151867334787,102.98746318010566,111.77384304540632,95.144791288587058,109.5107106624456,null,0.95756853208794901,1.1655029194695299,-8.9899378241542927,1.4412023229867899,0.90208669884330739,-36.427127947469316,1.3072586403732656,null,151.84464940314254,98.62836765307533,97.294002683022711,126.26449536808263,122.95024621080415,172.42794807999334,99.739965242312394,null,139.76203532836863,97.669791131370218,119.80079635618218,122.60181139452851,109.99912221042412,181.22689192411593,91.077817538550704]
[null,"Mayo",107.83013402740413,100.34474125515231,80.746231152833218,102.82537405220349,111.69939255136121,96.951194538904119,109.97846452370132,null,8.7551891784798386E-2,0.97417156543331274,-7.9818693516102046,1.5484583357776804,1.3420580703684681,-37.2424176656315,2.4059107261609425,null,152.73717360411337,98.642542126989682,97.146329210388274,126.38302375485884,123.61031985073731,175.20605580687493,99.758076104553624,null,141.64609455580987,98.303648893932206,120.31066691708942,122.91034671140156,110.66337696858939,180.71572675318515,90.7069184286119]
[null,"Junio",107.54482363714098,100.24184148350561,80.27367649968123,101.71639567641051,110.76517048545169,97.350852474787544,109.33638974252905,null,-0.40268873788288362,0.52877544031633139,-8.0934188633973942,0.10280928341575013,-0.21364292673347052,-37.660230051967716,1.5607951144969157,null,152.96346509006455,98.432392021102189,97.174813891597552,125.76932074276661,123.35361648841344,175.94358038982102,99.223546560448554,null,142.23228967873641,98.194915979570112,121.05439557385094,123.64704815423804,111.36498589564773,180.73142239343807,90.750706872712058]
[null,"Julio",107.15912858345703,100.57142089521878,79.488803075523393,101.18574207138023,111.1504346159833,97.153295271121962,109.08348131004232,null,-0.44980789357834672,0.98412488480794647,-8.2101795020421022,0.23969948063764512,0.2390657811912833,-32.876431336939483,1.0826809101045498,null,153.8354146847087,98.420927103199602,96.731719898153827,125.71245139531644,124.24759230006627,175.95213222681778,99.002951626904121,null,143.55791869369256,97.861724759502309,121.69225872761939,124.23929381931511,111.78327167980287,181.10773467415072,90.758885248182693]
[null,"Agosto",107.38285365710988,100.92303920635972,79.74970606358184,101.1266682905766,111.77908678701624,96.773612616972301,109.99963760139234,null,-0.23544985129941853,1.3964626900782262,-8.0548005496778217,-0.14252628120005051,0.50556637895049494,-27.030351574327593,1.9504648516123657,null,155.46606630757233,98.565286281519832,96.990826028723546,126.1378247392333,125.20244985432529,176.82886602008514,99.407939836659338,null,144.77736529893275,97.663811015422425,121.61903888573072,124.7325031778856,112.0088322897877,182.72425844012835,90.371152127687623]
[null,"Septiembre",108.81787065708016,101.38773868353056,80.014652432338579,101.56764137165446,112.11160876875815,99.360689284213549,109.87006973052499,null,0.610095218045692,1.6940713401852436,-7.2553457366355767,-0.42061207659368494,0.91763513940636976,-17.622968661644421,1.0780197668746938,null,156.35848986629017,98.465144673510636,97.289718716056498,126.06301425600077,125.50514163319188,185.54253826955249,99.318919908698419,null,143.68824616962564,97.117408822833653,121.58987855171395,124.11730011009439,111.94660661061361,186.7363638539407,90.396702352419496]
[null,"Octubre",108.09588390265901,99.641542865913848,79.230693484614221,101.65459814310755,111.62641774877243,104.71008763571487,109.0823044279319,null,-1.1388977640000686,-0.49683320207193349,-7.1900635100441086,-0.83280077057911184,0.66166139317425099,8.9079067659980637E-4,-0.45582890314048718,null,156.72508667943757,98.199160098915499,97.642129639583558,125.59850457690902,125.36860433795893,197.23522343556391,98.819013910052675,null,144.98709943532117,98.552428309004256,123.23775716862133,123.55417941851844,112.31087305884418,188.36315381736938,90.591241565986593]
[null,"Noviembre",106.26426495988383,100.49649566554457,78.08508139211196,100.88520828178238,112.06108247750238,107.6299127239819,109.03135036595792,null,-3.1864943578640559,-0.30882160959198046,-7.7030058641801347,-1.9391453140699899,0.73997217479779831,9.6682372102627987,-1.6615763399005612,null,157.37003416257542,98.199444754137332,96.726162685395934,125.42256476268466,125.7456785225358,202.19521638577524,98.541032105625902,null,148.09309058128309,97.714297502420493,123.87278204869374,124.32205563016436,112.21172930199097,187.86154449860709,90.378622088856261]
[null,"Diciembre",105.87055554144159,100.49313939933813,78.194162194598078,100.44920268719774,111.94506257669697,106.00374137664517,108.6010749491185,null,-3.7641576176394631,-0.33557816212631542,-7.5396007424173401,-2.7025075613412608,-0.12954577696404623,8.7269216167575223,-2.3968918479190027,null,158.5091462314719,98.198495162846498,96.855114417001275,125.48287124176976,125.93255898006419,201.4774999341665,98.545630321207483,null,149.71976431107481,97.716616029505047,123.86489182653122,124.92171952078874,112.49496501356096,190.0664045604679,90.740934532533714]
[2006,"Enero",106.34419541775462,101.35652982415066,78.348277467795171,101.11548818506913,112.46934608014011,109.80721613702738,110.19597138532563,null,-1.3067966944736997,1.7967533625133703,-5.5883576718525063,-2.1572788181688507,7.7820756121060874E-2,10.999126074224087,0.77701090046802257,null,160.11357165783096,97.983746816836842,97.228301266830726,125.41047200669794,127.01433289630788,210.60952801961204,99.167347591425283,null,150.56164657492843,96.672357456233499,124.09756080061381,124.02696585627152,112.93240098133381,191.79935110712069,89.991808543221396]
[null,"Febrero",106.24942970862224,101.17487111626534,78.483071684644742,100.5910803948628,111.7896606083937,109.00008350126188,110.68255655860384,null,-1.6061625235311516,1.0154158600333307,-4.7687145416684062,-2.4002923939352994,-0.96658566560304804,13.286621793334641,1.1072316506607338,null,160.98717449611121,98.036257944297276,97.098783968211279,125.30519936050865,127.67635230794174,208.30915808342945,99.148462218849659,null,151.51815396807439,96.897833288701378,123.71939818865259,124.56889703205536,114.21123529053384,191.10917294023716,89.579121861314121]
[null,"Marzo",107.11090744328439,101.15242356161093,78.414441139561376,100.77064721976009,111.53834777376429,104.23283553196175,110.69459941801648,null,-1.3857696717700208,0.26042265496162287,-3.7731765333435918,-2.4602806800950616,-1.2227296066102067,9.5686771900888488,1.1617922827107163,null,161.92656950829178,97.931237987445456,97.089331726553098,125.24207034291392,127.8129116722119,198.41663928556861,99.12132010934333,null,151.17654529631585,96.815513202010933,123.81562670803751,124.28427701747979,114.59100320497633,190.35905362540632,89.544856416193426]
[null,"Abril",108.1325965162787,101.24182328154754,78.048730676573285,101.09110025652731,110.98203447932393,102.93781862309653,110.21945775300749,null,-0.471752980032214,0.25784638806720661,-3.8964393303325018,-1.841353175446192,-0.70840238154891155,8.1907030631578781,0.6471943121130197,null,163.05799557648342,97.960247376932458,96.789977893795211,125.41575445896389,128.21629820763866,195.68064320336512,99.208148776573907,null,150.79448827619342,96.758675616213267,124.01223832182988,124.06211243196552,115.5288770918373,190.09596844075688,90.009650563597418]
[null,"Mayo",107.89592549181113,101.80927169704093,78.002320863739229,101.35467339406479,111.44371518545643,104.35796338440268,111.3665996149462,null,6.1013987416802529E-2,1.4594989469001396,-3.3981899215833722,-1.4302896261695452,-0.22889772277608911,7.639688072668771,1.26218809951264,null,164.71124520412181,98.186739833461061,96.984653437674979,126.05944569270493,129.36513029315094,198.70289229912896,99.722550997555246,null,152.65752108185285,96.441844830832679,124.33559971516186,124.37457639727032,116.08113573553341,190.40510743507576,89.544397819767639]
[null,"Junio",106.95779551112811,100.74682312365327,77.571046412883604,100.80877732027248,111.24956597843514,104.05812651723913,110.43336772380572,null,-0.54584507757762246,0.50376333143355989,-3.3667700355151431,-0.8923029076113087,0.43731751674329633,6.8897948728170233,1.0033054720938628,null,164.61957977900752,97.745948443138644,96.822404921240434,125.43390530922389,129.22996459881057,199.32886501803742,98.882049609006913,null,153.91078227849243,97.021370414001581,124.81771150267662,124.42756339630689,116.16221911720608,191.5553082584232,89.540011001304691]
[null,"Julio",107.07207401282635,100.0799965167885,77.422654363726224,100.83526217949473,111.69857178701486,103.57199234511887,111.03151703861282,null,-8.1238595144872416E-2,-0.48863223175724668,-2.5992952867010644,-0.3463728038267111,0.49314892283176537,6.6067723756404684,1.7858210108216976,null,165.99206827172654,98.021633722613032,96.749615865776747,125.74373447210611,129.96804519271657,199.69604175110732,99.160449427413909,null,155.02834871008668,97.943282508178186,124.96292804849314,124.7021446210675,116.35604924343855,192.80892182288756,89.308380243899052]
[null,"Agosto",107.2774269898197,101.03944586647488,77.458068920526131,100.91034579965357,112.6092751470138,103.60467681522297,111.68234818165116,null,-9.8178306591500952E-2,0.11534200815845885,-2.8735367892499308,-0.21391240765635811,0.74270454685267939,7.0588087119242582,1.5297419309293403,null,167.40128044449142,98.175644688186296,96.908064095989559,126.03500193309407,130.90879937358289,199.67181336663222,99.552868480354249,null,156.04520460802746,97.165660249094074,125.11035382952758,124.89799825215417,116.25045912308616,192.72471041316331,89.139304555480578]
[null,"Septiembre",107.60057551082708,100.65434226622075,77.771277595215409,100.46537593795939,112.85761126397885,105.35721500903531,111.64973583926054,null,-1.1186537090853044,-0.72335809717486432,-2.8037050326753521,-1.0852525654914791,0.66541057024649408,6.0351088222316607,1.6197915529684082,null,167.95146147859774,98.014192531026808,97.09757152979499,125.77104723337831,130.78706831582889,201.36023237955573,99.316431769949915,null,156.0878839924959,97.377013573631018,124.85016902405697,125.18845030853814,115.88679474166102,191.12144560985908,88.953575235442926]
[null,"Octubre",106.97294363739695,100.80501036946254,77.674663110578706,100.04682241292139,112.70418849606904,106.5568287291632,111.04651586759988,null,{"$f":"(C147/C135-1)*100","v":-1.0388372107427046},{"$f":"(D147/D135-1)*100","v":1.1676530391689699},{"$f":"(E147/E135-1)*100","v":-1.9639237088561856},{"$f":"(F147/F135-1)*100","v":-1.5816064984318423},{"$f":"(G147/G135-1)*100","v":0.96551584206729935},{"$f":"(H147/H135-1)*100","v":1.7636706597678797},{"$f":"(I147/I135-1)*100","v":1.8006691827506138},null,167.6854807063788,98.006174375114455,97.198592529874517,125.6803049922127,131.37385967643945,204.60296576291549,99.287768711981641,null,156.75504011068193,97.223514997825987,125.13551863302101,125.62148598132853,116.56519729168858,192.01300207887883,89.410971552103319]
[null,"Noviembre",105.71071691803569,100.46370042149006,77.459356716335719,99.978932087072678,113.02256633309197,106.42661543636761,111.61730281898902,null,-0.52091645489394933,-3.2633221524114298E-2,-0.80133703470718354,-0.89832415489333739,0.85799979290992479,-1.1179952274979144,2.3717512847006628,null,167.33472408531321,98.181883037252419,97.395641831120926,126.10656643021818,132.41636540707469,205.78249650393627,99.830505905459233,null,158.29494772517583,97.728714575847405,125.73773648520472,126.13314005033649,117.15922731468218,193.35623486680683,89.439991277477333]
[null,"Diciembre",105.62359092895269,100.2592643550137,76.95320612877677,99.986161222390592,112.6199537467984,104.7280919597049,111.90623066432511,null,-0.23327034719509143,-0.23272737395043652,-1.5870188144391117,-0.46097077171342038,0.60287712076541045,-1.2034003709432528,3.0433913446576311,null,168.1920813253229,98.376398061637076,97.593178728775598,126.54906207955196,133.29531866369175,203.47357237745928,100.26506818424991,null,159.23723085542193,98.122002684251214,126.8214589596943,126.56657734671882,118.35852726718166,194.28748158206454,89.597395595430143]
[2007,"Enero",105.22963921569622,99.725015165868527,76.951771777363064,98.862146071763362,112.0902968109599,109.1215710330471,111.9362435910846,null,-1.0480649157013744,-1.6096788841456378,-1.7824331760275647,-2.2284836415777609,-0.33702451591576255,-0.62440805631996943,1.5792521122879322,null,168.88989421277992,97.774213491554946,98.184684481170052,124.58981163464922,133.13739451650065,206.39745811896611,100.21361765172136,null,160.49650599542113,98.043819124951852,127.59249360136641,126.02377814478186,118.77691317120576,189.1445075112228,89.527408135842677]
[null,"Febrero",105.79006313080542,100.53364007745375,77.277968013106943,98.444256332158517,111.84942357849323,108.38471499049655,112.30327153451283,null,-0.43234733501777978,-0.63378488327868743,-1.535495038191248,-2.1342091707108435,5.3460194596066657E-2,-0.56455783426827555,1.4642912363980853,null,169.54034608165958,97.837129571488873,98.488832996275718,124.68024456024725,133.89436750689333,204.56047054322838,100.37843895771535,null,160.26112572787611,97.317802773392643,127.44749315816797,126.65060330139167,119.70948371757098,188.73553393683304,89.381580417153955]
[null,"Marzo",105.98264753183022,100.74948537128579,77.184611359102007,98.657580464262281,111.72276866514972,106.73229057845811,112.52402701848504,null,-1.0533566920358561,-0.3983475394237268,-1.5683715430306111,-2.0969070000013468,0.16534303678183981,2.3979536138877489,1.6526800856472512,null,169.93973066578823,97.917474770679419,98.525245234092665,124.88408365715611,134.40573620193567,201.47184634214472,100.70660256806192,null,160.34674979670564,97.189057005929385,127.64881949810332,126.58336345719941,120.30290495643756,188.76372393979898,89.497865688292691]
[null,"Abril",106.0239871119914,101.58431446060585,77.378548597994453,98.993578904016729,111.74635777116522,105.13301170423343,113.03605836650927,null,-1.9500219843235245,0.33829021244102808,-0.85867133618867664,-2.0748823063434285,0.68869100789794579,2.1325428404253666,2.5554477139722032,null,170.73224438651121,98.291325370178654,98.528138761317521,125.37764833944701,135.21751794820872,198.92236283877293,101.27382485821077,null,161.03171464978914,96.758368545466524,127.33262712538294,126.65230384388062,121.00395990096418,189.21018204861608,89.594264274360569]
[null,"Mayo",105.66945042126146,102.67732678806742,77.930248600940644,99.159025353430778,111.81753315357896,104.6980009467114,113.38540190794255,null,-2.0635395270034107,0.85262872089844066,-9.2397587662151892E-2,-2.1663017274964558,0.33543207663209174,0.32583767570875111,1.8127538238362551,null,171.26155953972417,98.556788084266657,98.608096440386532,125.64444135741365,135.97144269638812,199.22566387455657,101.72886683002017,null,162.07291592506013,95.986904964612279,126.53378913922302,126.71004067414071,121.60118262458381,190.28602463571136,89.719545125053841]
[null,"Junio",105.33533864234309,102.29790346903046,78.209145557191832,99.019435421410819,111.23673437346334,105.6131792932796,113.2506010147479,null,-1.5169131534841895,1.5395823880951953,0.82259963454902607,-1.7749862129334937,-1.1534071939023338E-2,1.4944078161765129,2.5510707035468538,null,171.30568740253321,98.577830961104141,99.15160503302495,125.60231812071963,136.2491377013331,201.3773603123303,101.86627726582853,null,162.62888562421264,96.363490959467683,126.77750706344003,126.8461263045748,122.48574040648637,190.67446095256824,89.947670346193689]
[null,"Julio",105.03082213517668,102.09883164215096,78.082136114027932,98.89643419758886,111.60814379122833,107.59929788468143,113.40089680794104,null,-1.9064278865142281,2.0172214184917436,0.85179429163395604,-1.9227678294271744,-8.0957163856087977E-2,3.8884117688331443,2.1339704549873328,null,172.12564528751025,98.84522505061166,99.464292027701077,126.00993978741386,137.34073675238236,205.5847923560215,102.31219145684169,null,163.88107965677088,96.813277351749761,127.38418411408155,127.41605985070596,123.05619651670654,191.06518016163557,90.221677549976093]
[null,"Agosto",104.1359001912309,102.14720536930392,76.98730504513442,98.058578117285506,112.14902029673091,107.57587258697339,112.82207880018923,null,-2.9284136343864065,1.0963633987986832,-0.60776608809435251,-2.8260409373979667,-0.40871842011417359,3.8330275175057604,1.0205109733941953,null,171.61478744864752,98.544141522747921,98.886508344373084,125.70130160705075,138.01101904497895,204.23138787953184,101.86098575156002,null,164.7988706425941,96.472675063865466,128.44521351461788,128.1900105227943,123.06038758057873,189.84869280461936,90.28462055902942]
[null,"Septiembre",104.29916652012858,102.10750451276631,77.38092152533001,98.370644776604735,112.34659292234831,108.18955320785197,113.06195043070704,null,-3.0682075583938762,1.443715406437307,-0.50192832361213302,-2.0850279430081664,-0.45279918288829712,2.6883191612209645,1.26486156087251,null,172.35697711605681,98.767579346920385,99.659070315890986,126.05373563120077,139.19945632141946,207.21424958847123,102.2756290450202,null,165.25249708759065,96.729011073394375,128.79023453251125,128.14161777374042,123.90180485280162,191.52888929153323,90.459813098397305]
[null,"Octubre",104.85901629627612,102.29929831432609,78.102804652018833,98.045298830625683,111.99023868101771,109.17299749153642,113.81165218577127,null,-1.9761327203319246,1.4823548347317361,0.55119845300213299,-2.0005868592556153,-0.63347229999018984,2.4551863954423547,2.4900703066345953,null,173.6626760539981,99.244588589568878,100.5417431884733,126.67626885095081,141.05072408729382,209.55318158067615,103.18796942708013,null,165.61539692811846,97.013948506888809,128.73000353371364,129.20177750672721,125.94912355624959,191.94598151151951,90.665557915501992]
[null,"Noviembre",104.02138112396594,102.35535200375023,76.71041992189825,97.800186432897107,109.4846380715631,108.07017416751236,114.12594957208297,null,-1.5980742949455173,1.8829204720947512,-0.96687711618901329,-2.1792047671384207,-3.130284841614861,1.5443117536021234,2.2475428896201244,null,173.14848082266539,99.696864004840123,99.839511354027891,127.41245036923804,142.60681620263549,209.9189177396886,103.91386675454012,null,166.45470282337268,97.402687844976882,130.15117301623201,130.27833076438822,130.25280871771486,194.2431566866056,91.051918642663466]
[null,"Diciembre",99.318434326953522,103.14476954585119,75.987194151513137,97.951868058602997,109.04979456886434,107.2822706189896,114.01379403007495,null,-5.969458665953054,2.8780434500497165,-1.2553238855923299,-2.0345747240589573,-3.1700946938415409,2.4388667944675646,1.8833297781887692,null,167.6461683783557,99.720053694108159,99.620712763137789,127.45618475074001,143.2090411983165,210.46211852315179,103.94774177768895,null,168.79662825379341,96.679699933576728,131.10197563618559,130.1212394177976,131.32444839947019,196.17604783049654,91.171197890554595]
[2008,"Enero",99.018804466184648,102.63544659473065,76.757549443763722,97.877371004498585,108.59959406044362,113.36302406473523,112.40879507957862,null,-5.9021724257562251,2.9184567422941177,-0.25239488203243621,-0.99610933647944488,-3.1141881588585107,3.8869061282151174,0.42216128872458736,null,167.34112514410279,99.590740508349867,100.73910021905337,127.43655870924988,143.80309793761285,213.32812355103277,104.44503578170541,null,168.99933911164368,97.033475093255845,131.24324701488769,130.20022646847832,132.41587059485315,188.18139804493316,92.915359254375645]
[null,"Febrero",98.73759329898877,102.68931143342012,77.139446542971839,97.600674344338202,108.01700833139252,114.69619566989647,112.34527454209295,null,-6.6664766265396196,2.1442288912502994,-0.17925092195955061,-0.85691336320730116,-3.4264058986510748,5.8232202575366099,3.7401410489823483E-2,null,167.58096579500776,99.827715286915989,101.32040168328476,127.69757990641412,145.07848080894846,214.59642281807868,104.87747823046847,null,169.72356748412264,97.213345667080958,131.34706848958595,130.83678034425574,134.31077480303156,187.09986112852596,93.352816714310066]
[null,"Marzo",99.928411971985668,103.40708812616288,76.372061886744845,98.37952173856236,108.299996374514,114.86356801354844,113.01275955722679,null,-5.7124781281070236,2.6378325855295426,-1.0527350699179761,-0.28184223086703541,-3.0636300295191377,7.6183855804285328,0.43433616063301983,null,169.09207268753431,100.47500724121672,100.73590130322729,128.79461882336895,146.7835663274567,216.74092369708032,105.99655419693146,null,169.21320908705951,97.164526206009356,131.90150797894205,130.91608553010951,135.53423013964107,188.69422867964121,93.791669730228548]
[null,"Abril",99.83314903749671,103.70772774184535,75.016480610836894,98.484526228779188,108.37322336424988,114.10347837722982,113.5371054531826,null,-5.8390919292210857,2.0902964129003943,-3.0526134567724128,-0.51422797404983012,-3.0185631766387111,8.5324928179862916,0.44326305597877091,null,169.4666077218555,100.92083607979285,99.777734910523719,129.37285462277976,148.03424392433487,218.17511903847227,106.37955251391575,null,169.74983695866882,97.312744457202101,133.00775256058841,131.36363607237863,136.59669734726037,191.20812278586129,93.695846912163631]
[null,"Mayo",101.78788629450723,103.55326894290108,73.302116961723144,97.530719440730508,106.541338058653,114.38740724887158,112.92947941843845,null,-3.6733077642402745,0.85310183098326053,-5.9388128772909337,-1.6421156893147382,-4.7185758316445998,9.2546239799667696,-0.40209981340831868,null,174.86242007402109,100.92928160322055,98.10711268172949,129.26703077868683,148.37564091164597,217.8874033144663,105.85089886736509,null,171.79099246454945,97.466050694037108,133.83939884431851,132.5398105539891,139.2657944937414,190.48198447265332,93.731857626966431]
[null,"Junio",103.07857480591761,103.29127288390673,73.398045162661631,97.161096611361913,105.66223140723386,113.26268645250173,112.49250187830148,null,-2.1424565255238059,0.97105549692619864,-6.1515828618943225,-1.8767414721565623,-5.0113867488358448,7.2429475283383393,-0.66939965850397742,null,178.17106212681378,100.932370050233,98.972626509858571,129.07565810232609,148.99056154924034,219.07457010766089,105.81620724539584,null,172.84975317352294,97.716261240845597,134.8436818589918,132.84705772581009,141.00645004837568,193.42166159861731,94.065120322305305]
[null,"Julio",104.89111672106239,102.94734454395027,72.62939476490034,95.915238516203885,105.73917353542187,112.54752167012271,112.7342887852884,null,-0.13301372994537486,0.83107013875858282,-6.9833403906427893,-3.0144622559684309,-5.2585501885819568,4.5987509981194163,-0.58783311368483249,null,184.32368852372738,101.15048389720076,98.50032447221453,129.25665879156648,149.78971014437533,220.13696624252881,105.89010861278922,null,175.72859769803054,98.254582811524202,135.62046715528581,134.76133802214329,141.65961879226987,195.59468122963318,93.928927705806998]
[null,"Agosto",104.77490391285451,102.39444811458773,71.406345220934767,94.32071615603941,105.13794964969154,112.62029731510241,110.79553403707772,null,0.61362481185658346,0.24204553065345635,-7.2491949431503944,-3.8118663690751564,-6.2515665571478474,4.6891785368049721,-1.7962306533108485,null,187.61875370650199,100.62537049103524,97.329664913638439,128.27979675719573,149.36574329503651,220.84287267160084,104.49400058788625,null,179.06840922760668,98.2722914609855,136.30394415579684,136.00384092183538,142.06644108307921,196.09508937247827,94.31246619824708]
[null,"Septiembre",102.80248629706448,101.71132204391699,71.0842670776576,93.203654478421811,103.29267540027513,110.29325642230999,108.07608102152541,null,-1.4349877117908361,-0.38800524088783428,-8.1372182232428596,-5.2525733768614806,-8.0589159729401505,1.9444605806037796,-4.4098561807823682,null,185.78873529754333,99.461954244627009,96.679068222132386,126.90530139256961,146.86221215538603,218.80975899853502,102.62013871433891,null,180.72397078089787,97.788478456391744,136.00628127249757,136.1591475170647,142.18066439490718,198.38906393398901,94.951757821326026]
[null,"Octubre",98.814516440190019,99.240939513070956,68.784501878938769,90.152566668461517,100.42979203841097,108.4694441746459,104.34069364096557,null,-5.7644064092758125,-2.9896185522778396,-11.930817100099112,-8.05008731300717,-10.322727032964385,-0.64443894832608706,-8.3216071139592511,null,181.25516159617817,96.883356695992092,94.384455271987349,123.99111819330852,142.93120550007836,214.26106317739402,99.407207111878492,null,183.42969041991662,97.624384826820048,137.21761834970425,137.53476220958763,142.31952750177163,197.53126311997485,95.271752221560718]
[null,"Noviembre",95.431055561063488,98.169925854626257,68.540730347477833,88.775955686957829,99.265347416610027,110.50930108392299,103.06353457370702,null,-8.2582306349740282,-4.0891131408259174,-10.650038916145011,-9.227212212045222,-9.333995010581642,2.256984348549218,-9.6931635967583691,null,179.14294722742412,96.090063199751,94.929563928840452,123.00084518728671,142.11078221032108,213.91704041627969,98.483311874584984,null,187.71975870349237,97.881364749164433,138.50095183926453,138.55198092264175,143.16252943123408,193.57378819528211,95.555923132204995]
[null,"Diciembre",95.360721526017088,98.005301725505092,69.328009972767703,88.619948899848595,99.7106311312602,112.14325213703451,104.07936120146262,null,-3.98487232280339,-4.9827711506606587,-8.7635610882900732,-9.5270456232353524,-8.5641274928826334,4.5310203540606997,-8.7133604430283178,null,179.21926555741049,96.199302696022599,96.126641962275841,123.59752322704425,142.91138665380549,215.5561048446574,99.547710937580973,null,187.93824405839302,98.157243539190603,138.65484095105967,139.46918810202044,143.32612784856946,192.2149578659058,95.645966489830869]
[2009,"Enero",95.353403009754828,98.270007718642759,70.810771164436346,87.766848721591245,100.09878176932578,115.90962534252451,102.92729618146058,null,-3.7017225931884168,-4.2533442596351616,-7.7474832409602516,-10.329785300876793,-7.8276648864695764,2.2464126189285949,-8.4348372308463269,null,179.02913583521078,95.353188420183614,97.201025449336512,122.609712865281,143.50645750284764,216.08526626771996,98.646261114236438,null,187.75327380491683,97.031831617628143,137.26870058174748,139.69934508440224,143.36483917811643,186.4256446599378,95.840719395099356]
[null,"Febrero",95.201646676857692,97.683447214949936,71.42811413919857,86.444351592415714,98.842607789145674,115.17080976869178,101.34339470830294,null,-3.5811553674635621,-4.8747665639142905,-7.4039063795870996,-11.430579580385514,-8.4934777253782947,0.4138010820875726,-9.7929173066089952,null,178.91814109653856,94.357112505163641,97.094810313318192,121.35107685412653,142.13328749055685,214.52397598243289,97.087531221484369,null,187.93597310752324,96.594781608733797,135.93360469254523,140.38057388213829,143.79758959188965,186.26592659483882,95.800551679694337]
[null,"Marzo",95.840403074961785,97.195877024083728,72.939449445644357,86.511536496246507,99.465081826271643,115.69558456788778,100.77692163706151,null,-4.090937518520688,-6.0065622334332547,-4.4945918131565454,-12.063471170203799,-8.1578161071124917,0.72435200188207816,-10.826952609691265,null,179.77632527871413,94.180444153351047,98.639388223804744,121.18742918606364,141.9769539747827,215.35088994935242,96.942754707029238,null,187.57884932735692,96.897571210777286,135.23462128311292,140.08239142917273,142.74049884437176,186.13578967051154,96.195391893552113]
[null,"Abril",97.397808455569646,98.294160484768156,74.146353014113501,87.106236954441584,101.04495291762957,117.38998299284752,101.67716498535654,null,-2.4394107622633054,-5.2200230155971861,-1.1599152474738861,-11.553377682810684,-6.7620674361502431,2.8802843369528208,-10.445871788334916,null,182.93493318402022,95.105284211809035,100.12699115843233,122.16621312146555,143.79837025514126,218.31721401350467,97.979995550724354,null,187.82243264484788,96.755782584405637,135.03967098607467,140.24967372354874,142.31128433734207,185.97601639213676,96.363815380607193]
[null,"Mayo",99.413612881519796,98.770601155775793,74.833008236775186,87.784054870368621,102.68075426878463,119.03027463128551,103.38476619853938,null,-2.3325697186773797,-4.6185580000979387,2.088468025898127,-9.9934304045454567,-3.6235548193913725,4.0588972982948057,-8.4519235093017393,null,186.3036125122994,95.719460477669017,101.07773514080966,122.94887127271754,146.17591319258568,221.29142724251955,99.178582461893413,null,187.40251673011252,96.910881737679532,135.07105690712703,140.05831862549195,142.35960208272812,185.91188496204316,95.931524642065298]
[null,"Junio",100.5441452921164,99.429676086779395,75.673534895239712,87.947834460499081,103.7210815160367,117.76252418175284,103.95219399600651,null,-2.4587355020897261,-3.738550885579206,3.100204818173613,-9.4824600299801887,-1.8371274819246941,3.9729215950905283,-7.5918907835601175,null,187.95785379429176,95.950656885129618,101.72019152534327,123.28198612516492,147.24283513570307,222.52278844741187,99.780140435562828,null,186.94062518330389,96.50102530896973,134.41976995809938,140.17626116824493,141.96037390232698,188.95891540501773,95.986565169943447]
[null,"Julio",100.62756258926125,99.862001869561055,75.895359288620114,87.273657920242172,104.9213597535627,117.87558407687447,103.60338940961763,null,-4.0647428162474792,-2.9970104503977968,4.4967530492187491,-9.0096013205470005,-0.77342554751972381,4.7340557372452352,-8.0994872758378804,null,190.07593464772273,95.956620648319273,102.38980670678586,123.30786332650628,147.96208896846539,223.28121379233724,99.993884879799538,null,188.89052835709572,96.089221978202517,134.90917977924161,141.28875340505965,141.02189422248813,189.4210879555182,96.516036250950094]
[null,"Agosto",101.54186845825924,100.5828817022004,77.167467262705628,87.606000195065917,105.97334663325611,117.87502405703084,103.95687130376953,null,-3.0856964157030542,-1.7692037466328747,8.0680813784064433,-7.1190256336317592,0.7945722608706296,4.6658789465154227,-6.1723270642114691,null,192.54259279859775,96.23473737609487,103.94218730092133,123.6142927484089,149.53796358791502,224.58569587799383,100.40518455362843,null,189.61891850330304,95.677053338977473,134.69690141191884,141.10254146196144,141.10903197709115,190.52865327037705,96.583499767165165]
[null,"Septiembre",101.89923803788791,100.79295123738812,77.320823399227805,87.701290402235628,106.19363696126152,118.3262293913122,105.19134668046951,null,-0.87862491629481232,-0.90291895540629552,8.7734692611473939,-5.903592629471488,2.8084871940287304,7.2832856963114478,-2.6691700085621717,null,193.20117432744283,96.202524711148456,104.67973696170527,123.70733703550674,150.10744631086934,225.43511079433239,100.93288739083953,null,189.6002149256575,95.445686955401996,135.3836293506811,141.05532138481885,141.35258063119844,190.51998187891584,95.951701899429509]
[null,"Octubre",101.48186634975406,102.02312948735663,78.235036470003678,87.876268304113665,106.85258648175076,118.97403975142673,105.80191338419576,null,2.6993502631554422,2.8034700073745533,13.739337107794892,-2.5249401636217472,6.3953079190717688,9.6843822301398106,1.4004313103938237,null,192.74362080839876,96.599555036781211,105.66652909636613,124.20726872906826,151.60935446391522,226.98377755977612,101.71333905292725,null,189.92912501639842,94.683975606484864,135.06292559457046,141.34335825370258,141.88646195270942,190.78429045026533,96.135632900681316]
[null,"Noviembre",99.293644213225804,101.01160492199239,78.16480218811968,88.093223307795739,107.88440025390025,117.87731365355269,106.12754241008844,null,4.0475174768351607,2.8946533702940647,14.041390851616441,-0.76905100472197674,8.6828415571011277,6.6673234717449459,2.972931065342177,null,187.96332674440058,96.842753178530728,105.35860224774152,124.54931280484249,152.85531637877668,226.99630566372079,102.0040148979546,null,189.30046150865724,95.872898221267633,134.79033951134986,141.38353454234499,141.68435475290195,192.56996840874254,96.114554790875999]
[null,"Diciembre",98.175096593722841,101.38972250227829,78.427873944253562,88.026741896529543,108.09492144167099,117.51407700368739,105.78537493997273,null,2.95129380594914,3.4533037674352896,13.125811594852244,-0.66938314756810335,8.4086222454791368,4.7892537128225499,1.6391470112963491,null,187.54471310293653,96.747159191640321,105.59959218360164,124.35533592317078,153.26671580729774,226.37062033853255,101.68204149991418,null,191.03084143532979,95.421071094721995,134.64548619367361,141.26995188501175,141.78900707190195,192.6327688651543,96.121076810110125]
[2010,"Enero",95.786623005054665,101.75329642726045,77.975809207002172,88.258982721333737,109.15831429418139,120.3556761513416,104.87046809661545,null,0.45433092225928284,3.5446101913319428,10.118570839918139,0.56072880240192191,9.0505921897561024,3.8357908548824815,1.8879072775107808,null,184.93962354016426,96.153680591406243,105.44863161294667,124.11707468956648,155.02521262209444,225.12517234545419,100.07162243770313,null,193.07458362991355,94.496870339864472,135.23249413547279,140.6282633932571,142.01869424650684,187.0499003822386,95.42402570903829]
[null,"Febrero",93.194164032788748,101.94597020174758,75.552276640443679,87.779638394158255,108.47362944574063,120.444542265777,104.5783409954222,null,-2.1086637827630539,4.3636082758403028,5.7738644663192007,1.5446779079776096,9.7437955877693661,4.5790530670722474,3.1920642647016217,null,180.57142506535246,96.12156116531483,102.29543551500156,123.9358695223675,155.715040751065,225.13168482405362,99.788493810418245,null,193.75829692707103,94.286768741416211,135.39689346732681,141.18976996220511,143.55105618454013,186.9172986911025,95.419847800785419]
[null,"Marzo",90.847609551877625,102.7353498328811,74.214057680660417,88.27478897297587,109.01178514615964,120.48513218534713,105.21044260339491,null,-5.2094871921386172,5.6992878488300258,1.7474881490104011,2.0381703390574657,9.5980450069528054,4.1397842755606096,4.3993415300978445,null,175.72355089346576,96.651427314511764,101.22281613579869,124.57527574265283,157.55601418192001,226.26650607696854,100.36228777809212,null,193.42671949240511,94.078063170791737,136.39304910581185,141.12214505637601,144.53117520337253,187.79620520222667,95.391945223936972]
[null,"Abril",87.257784599446168,103.37148905110502,74.487017575850075,88.155029766294263,109.78857561519138,120.72115969300445,105.32423423915378,null,-10.410936361826961,5.1654427295542593,0.45944884392592478,1.2040387101112104,8.6532008230925541,2.8377009819993804,3.5869108411141104,null,168.55113954462689,96.908974009464146,101.34782839391978,124.87786378711886,158.9833697019339,227.05143773731021,100.61804323483372,null,193.16458734123842,93.748261632909333,136.0610636487323,141.65710580346877,144.8086641174489,188.07923839922108,95.53171116000334]
[null,"Mayo",87.682994066216793,102.67167405147619,73.685177482288481,87.037367169920287,108.83524407499168,119.95864333032337,103.7420419164864,null,-11.79981138929479,3.949629596308557,-1.5338562240541198,-0.85059604680026712,5.9938104760085986,0.77994333955258011,0.34557868734830244,null,170.2109348202859,96.019199154997622,100.14787374113365,123.5061574323816,157.47937932274036,226.27538382421335,99.279575175806343,null,194.1208060159822,93.520632678938085,135.91318792060446,141.9001532884887,144.69520481272684,188.6278283434163,95.698497293631064]
[null,"Junio",88.41633832384646,102.01358422458087,73.235511373797337,86.447183962055831,108.83495607427395,119.9827477701978,103.28909830915913,null,-12.062171231387319,2.5987293125105948,-3.2217650791885211,-1.7062961329846638,4.9304099836700699,1.8853396731020267,-0.6378852252727385,null,172.20361869482718,95.810831704280986,100.05100727133612,123.14864326996329,157.40268495504549,226.14213100823659,98.9551589171882,null,194.76447674646892,93.91967984710287,136.61542794542842,142.45535554289054,144.62511920124882,188.47887318047191,95.804068906673152]
[null,"Julio",87.054367840320822,102.66664271072591,73.388366171626188,86.53952104459546,109.27341181529593,120.71800785372514,103.17938976884568,null,-13.488545682402254,2.8085165414851732,-3.3032232016455221,-0.84118953317806611,4.1479180902299184,2.411376197293702,-0.40925267328425496,null,169.9397489109632,96.2640862940425,100.49510241096993,123.92266134789813,159.20398454607002,228.23390508962177,99.928020383749939,null,195.21105388149459,93.763742294833492,136.93601268619588,143.19776658347624,145.69324953006077,189.0636775303436,96.848818943027453]
[null,"Agosto",85.323891643639996,103.25517147474125,73.791294389798409,86.528698710564498,111.11481269290803,121.38496563980512,103.43363600091226,null,-15.971713994297797,2.6568037496209396,-4.375124638228078,-1.2297119855976368,4.8516596134734469,2.9776804805368151,-0.50331959426552775,null,166.5618054964998,96.485737307113098,100.91846748869035,124.29548128076735,160.7707357480767,229.57162417464323,100.56358209847585,null,195.21121492225703,93.443975666357673,136.76202365497772,143.64653939444003,144.68884197501598,189.12690131318953,97.225221878102502]
[null,"Septiembre",85.564155773086028,103.27240466862095,74.530867412564291,86.315231568728791,111.66764188541799,121.30663906721053,103.96898939294357,null,-16.030622582995392,2.4599472490821395,-3.6082854061941783,-1.5804315160584004,5.1547390981187879,2.5188072764846803,-1.1620321690898994,null,166.49803638203679,96.568604432577956,101.9837343269739,124.470553699853,161.84303986128882,230.81967457419745,100.91788362976392,null,194.58853403940003,93.508623859825803,136.83422435223349,144.20462233336292,144.93279980547609,190.27785811979402,97.065369413519818]
[null,"Octubre",86.528230669310943,103.83452408437081,74.918590930154622,86.646531655971415,111.52364371162301,122.66039637624444,105.27018664829147,null,-14.735278546125553,1.7754744498782227,-4.239079687935754,-1.3993956182646428,4.3714966419367007,3.0984546145693903,-0.50256816620455336,null,168.57923116052405,97.328463256737123,102.6604597887506,125.6636133063362,164.41074708524997,234.37114159097084,102.08387076817804,null,194.82570007098761,93.734202679691407,137.02935214633075,145.03017132328094,147.4223237454311,191.07319763753947,96.973202022754137]
[null,"Noviembre",86.387955970066571,103.68904231695869,73.973220162027346,86.077752847052395,110.21698373606768,122.2764059382507,104.79838754980914,null,-12.997496814040998,2.6506235566042147,-5.3624929747847716,-2.2878836589976248,2.1621137779677335,3.7319244461467393,-1.2524127385738382,null,168.90413510290389,97.248327741291263,101.82319157096455,125.47702435024151,164.34617248286068,233.76518889627343,101.67914043805284,null,195.5181520459046,93.788432768064993,137.64872118306596,145.77172405185325,149.11147711718741,191.17767414126016,97.023573372945492]
[null,"Diciembre",84.532970722317089,103.89457428672391,73.612831238096859,86.071416779209088,109.92368276752795,121.38583642208356,103.92132998805543,null,-13.895709140843371,2.4705184338475128,-6.139453314237775,-2.2212853448771663,1.6918105878302336,3.2947196770942488,-1.7621008130613847,null,165.98734720080409,97.065743790625987,101.12075237796299,125.11095631882137,164.48410151617452,233.36351219441505,101.23440650357043,null,196.35811421564375,93.427153878842603,137.36837814442049,145.35714758798119,149.6348169702735,192.24937527551572,97.414463917278738]
[2011,"Enero",83.377506862397638,103.0334814944526,72.860935121251586,85.966185231745698,110.68352140099127,127.26925511460338,104.71696026602135,null,-12.954957334702355,1.2581263822811994,-6.5595652520541892,-2.5978063862657996,1.3972431845177047,5.7442899116517676,-0.14637851187303541,null,166.46450281689985,96.873019678057886,101.30716416908282,126.67240014537265,167.70114513483139,232.77098363926564,102.18705898795952,null,199.65157160626683,94.02091269067094,139.04181163814658,147.3514263822363,151.51410346556744,182.89647678825503,97.584057757563897]
[null,"Febrero",83.014221329867013,103.87900274743183,71.515648517916645,86.234089964433807,111.57341335470011,127.4403248204228,105.19413468091901,null,-10.923369299541219,1.8961343365106353,-5.3428279093924669,-1.7607140539636856,2.857638234101878,5.808301831733198,0.58883481955767092,null,165.51788334642222,97.287698761716683,99.675557902548235,127.2757910491237,169.34349459740915,234.47512236792312,102.55575523646918,null,199.38497367663905,93.654825507190282,139.37587083137024,147.59336023794887,151.77764084267432,183.98817069740204,97.491894911771723]
[null,"Marzo",83.476770231939014,104.44151182424372,70.634919248338676,86.721333741073693,112.47218636632658,127.94062589225591,105.43089602261014,null,-8.1134103101849533,1.6607350772037233,-4.8227230044779468,-1.7597948972472133,3.1743368072794542,6.1878951964294604,0.20953568273280876,null,165.57043026725958,97.672369114727502,98.645454504673907,127.8951548117429,170.65307596314867,236.19819592218741,102.99891590514582,null,198.3431196573903,93.518723933346095,139.65536529865014,147.47830700298388,151.72913542137832,184.61547633907912,97.693294651557579]
[null,"Abril",84.377356719436037,102.67025567787697,70.387138996693551,87.040661942507199,113.57096716281526,128.71742651024243,105.79039801026346,null,-3.3010554797289871,-0.67836245725488853,-5.5041518812075196,-1.2641001049416456,3.445159504465356,6.6237491733616594,0.44259877555927751,null,166.64863366334527,98.289325997253556,98.212372148865455,128.94376900123515,172.27491003820168,238.39536090120598,103.95301441196192,null,197.50397516891911,95.733009865711864,139.5317007464659,148.14199033367433,151.68921630404756,185.208302686378,98.263184908215109]
[null,"Mayo",84.622989609959674,102.4455220764016,70.685337228684602,86.719612434028789,113.09959250274601,129.0287564563867,105.65301014467383,null,-3.4898494158927207,-0.22026715465961466,-4.0711583470433244,-0.3650785245734256,3.9181686630996415,7.5610334314030858,1.8420383798940287,null,167.76578869706026,98.183201766430855,98.820295783268278,128.82050000432591,172.80202101082804,238.70975865507341,103.90828311538303,null,198.25084113704619,95.839427411193228,139.80310437447599,148.5482884305151,152.78748330294158,185.00508352629146,98.348625347350065]
[null,"Junio",84.60558804272452,102.26317430756184,71.360427679608435,86.282751084269307,113.04190358481245,128.33403965120036,105.57104333179772,null,-4.3100068984582185,0.24466357581507392,-2.5603476496782962,-0.19021195399343549,3.8654377805486417,6.9604105891938106,2.20927964324793,null,168.59355275483196,97.940137970276865,100.24150327242008,128.61304373701114,173.66896295324602,239.72263395381589,103.93545880636445,null,199.26999700031021,95.772636272483368,140.47211673461499,149.05997099165202,153.63237653101501,186.79582954402363,98.450726189857917]
[null,"Julio",84.40886160819224,102.44118550976928,70.79255435157468,85.894489497116226,113.79572411774919,127.58868456477211,105.95812757981491,null,-3.0389126907234498,-0.21960122100405099,-3.5370889903461489,-0.74536066261198242,4.1385294257099803,5.6915093557311058,2.6931132440252581,null,168.54250555495034,98.091059294122857,100.20471693368445,128.65212879590678,175.01478741623885,240.12222226299394,104.25958908256337,null,199.67394695747507,95.753537804156323,141.54697178468959,149.77925772552157,153.79733181814788,188.20024916950427,98.396971958595543]
[null,"Agosto",84.422120684172796,102.25400150244472,70.865630532518722,85.392469801311393,113.36626519318646,127.05313246332513,105.3750602227904,null,-1.0568797813788167,-0.96960758284289073,-3.9647818641383781,-1.313123768397062,2.0262397476211058,4.6695789660966769,1.8769757082319094,null,168.53083406104057,97.696478441272873,100.6423151095626,128.01614053266238,174.96996495762562,239.71046372751817,103.88853689719369,null,199.62876162697037,95.542939157189963,142.01851356332742,149.91502275379369,154.34041569549888,188.66946377470265,98.589302513845482]
[null,"Septiembre",84.700922771312179,101.68924007170456,70.341614558506237,85.063939608625461,112.10501892460748,126.05360496215819,103.22066025304233,null,-1.0088722245599202,-1.5329986766517423,-5.6208293281608039,-1.4496768847882757,0.39167750997937123,3.9131954618885967,-0.71976186771709472,null,168.37904765895252,96.739433763598754,99.657824867161764,127.01232068537753,173.21162612892965,237.67410212949324,102.33191872876634,null,198.79245957398444,95.132418823647882,141.67690845974533,149.31394110095803,154.50835992045762,188.5500237782521,99.138988723674842]
[null,"Octubre",84.901108974181284,101.44243465550747,69.93184056372364,84.993047923361701,111.38938890680005,126.05536345752533,102.39759105062492,null,-1.8804518277371285,-2.30375152191159,-6.6562255169481883,-1.9083091971584532,-0.12038236947324865,2.7677776866685599,-2.7287836082820927,null,169.13485037263698,96.414681230135812,98.999135897182924,126.97881355304814,172.74174440550169,237.73692747324918,101.7093368158518,null,199.21394716301228,95.043737423647599,141.56517989394609,149.39905869424172,155.07917414829828,188.59723295578394,99.327860911852056]
[null,"Noviembre",83.276525486812005,101.3576451576843,69.487642242865704,84.590447006823126,110.25054263727888,126.14406337902811,101.41317609657457,null,-3.6016947597795612,-2.2484508557304661,-6.0637862044354058,-1.7278632295059992,3.0448030851193408E-2,3.1630447518473659,-3.2302133003960787,null,166.25717013073432,96.309565002922909,98.41747485806836,126.69590826172798,172.88197775022505,238.04477130931284,101.54553892503928,null,199.64470078313178,95.019536861863756,141.63306119106795,149.77566941041059,156.80827832204128,188.7086597123909,100.13051837400168]
[null,"Diciembre",81.806167948119509,101.41081694460543,69.0453650690703,84.346291992789205,109.12496197536315,125.91075119194169,100.84991040588602,null,-3.2257268979164033,-2.3906516381345444,-6.204714711017334,-2.0042946322647248,-0.72661393073408798,3.7277123124349165,-2.9555237433185666,null,164.70931661399985,96.080454637186676,97.905500156611282,126.41227133980779,172.92796769456919,237.82545938264624,101.08775184659875,null,201.34095111074822,94.743793149472012,141.79880149619083,149.87294444504425,158.46783775614114,188.88415574623869,100.2358370371927]
[2012,"Enero",82.392023843086633,101.23678579953912,69.397582852766433,84.449674138898871,110.5075649276673,134.40360596048404,101.06021888986436,null,-1.1819530907027476,-1.7437979080714761,-4.7533733443327559,-1.7640786185389667,-0.15897260142861969,5.6057143097571593,-3.492023991975568,null,165.20720672866528,96.715408598253532,98.62017708236327,128.12908699407797,176.31409320885172,238.05884664683524,102.35409446746773,null,200.51359224200863,95.53385939154721,142.10895110222404,151.72241728646253,159.54934245837202,177.12236583654371,101.28030157842171,null,null,null,null,null,null,null,null,null,null,null,null,null,null,null,null,null,null,null,null,100]
[null,"Febrero",83.236170833777038,101.89793006744236,69.646138029708013,84.924702378517452,110.91165186976475,135.62850408099246,101.66942865156598,null,{"$f":"(C211/C199-1)*100","v":0.26736323048563992},{"$f":"(D211/D199-1)*100","v":-1.9070963597967783},{"$f":"(E211/E199-1)*100","v":-2.6141278544656865},{"$f":"(F211/F199-1)*100","v":-1.5184106267676634},{"$f":"(G211/G199-1)*100","v":-0.5931175403154243},{"$f":"(H211/H199-1)*100","v":6.4251085926747997},{"$f":"(I211/I199-1)*100","v":-3.3506678295746939},null,166.67997618408361,97.204952698749707,99.053800800811501,129.55634028697156,178.47822921703323,240.1818471575572,103.25414927083985,null,200.24945226870682,95.394433070832207,142.22439837017157,152.55436481782024,160.91927782899387,177.08803085679486,101.55869924744528,null,null,null,null,null,null,null,null,null,null,null,null,null,null,null,null,null,null,null,null,100]
[null,"Marzo",82.968979091801714,102.29277498576224,69.158105265531987,85.107468170198587,111.01064767871937,136.21616375710789,101.06192779742589,null,-0.60830233216547791,-2.0573589954322236,-2.0907703987237514,-1.8609787249048382,-1.2994667702527996,6.4682643274085239,-4.1439164324727944,null,165.75518254747936,97.146454606045722,98.132303005317581,130.02345306745286,178.46439858594206,240.07702867072487,102.966465110587,null,199.77970605625771,94.969028476905805,141.89559217757542,152.77560931248823,160.76331623831567,176.24709289186498,101.88452501814398,null,null,null,null,null,null,null,null,null,null,null,null,null,null,null,null,null,null,null,null,100]
[null,"Abril",81.919430467675767,101.79919522957356,69.153727663063137,84.551438796324589,110.22344540212937,136.38679103192104,100.39799723954341,null,-2.9130164149762883,-0.84840584310642564,-1.7523248582221207,-2.8598394022173346,-2.9475154120039204,5.9582954146992106,-5.0972497241166366,null,164.21249916653332,96.919752809206699,98.176164165752766,130.19789958863853,178.51013667999834,239.72574403150762,102.7412771261003,null,200.45610452739808,95.206796665373503,141.96800011142611,153.98661624466428,161.952963844251,175.76903321627407,102.33399066812655,null,null,null,null,null,null,null,null,null,null,null,null,null,null,null,null,null,null,null,null,100]
[null,"Mayo",80.376820803135033,101.4077029444378,68.783085972492032,84.096216048718858,109.99862399972434,135.67659973173409,99.098954629446624,null,-5.0177485177442698,-1.0130448954028592,-2.691153965975035,-3.0251477280363259,-2.7418034268747449,5.152218356529259,-6.2033779314498823,null,162.8893913133175,96.313988087418679,97.853527514998845,129.73562498877999,177.63082443204578,237.99394392429224,101.83849106800926,null,202.65717116664578,94.97699414431068,142.26393906509628,154.27046671591165,161.48458769128871,175.41266835612382,102.76444534536857,null,null,null,null,null,null,null,null,null,null,null,null,null,null,null,null,null,null,null,null,100]
[null,"Junio",78.97131331800675,101.40628701035116,68.873248635534082,83.909515252734039,110.2601329696395,134.7697691341111,98.613297207084202,null,-6.6594593277604197,-0.83792362501240447,-3.4853757536897123,-2.7505333357039308,-2.4608313616072963,5.0148265420479676,-6.5905819485425727,null,160.51495628677003,95.862441728318743,98.220719874910799,129.59967754599722,177.67597385889974,237.07649137699502,101.35083471449553,null,203.25729627972385,94.533035923634074,142.6108421205434,154.45170569231058,161.14253545098066,175.91221896438597,102.7760328322281,null,null,null,null,null,null,null,null,null,null,null,null,null,null,null,null,null,null,null,null,100]
[null,"Julio",79.274331314135665,101.89509123113547,68.58353178841152,84.198595458139295,111.12323718004326,135.1360973421325,98.45520169029453,null,-6.0829280199156788,-0.53308078768937728,-3.1204165231735637,-1.9743921279535281,-2.3484950409389693,5.9154248694592182,-7.0810291394293179,null,160.77841145385347,96.039201357602138,98.223370946259919,130.26769513370155,179.65760112277644,237.40339606307273,101.58592303570228,null,202.81269963255374,94.253020628589439,143.21713738699091,154.71480780040596,161.67419675840881,175.6772622062806,103.17984351426742,null,null,null,null,null,null,null,null,null,null,null,null,null,null,null,null,null,null,null,null,100]
[null,"Agosto",79.174983649805185,102.25312803575459,69.27382189878621,84.553596375405363,112.27589728472273,134.78243467494514,98.59485835813166,null,-6.2153580031439892,-8.5421272253416447E-4,-2.2462350532562736,-0.98237400541042463,-0.96180985287435128,6.0835195966940203,-6.4343515916608922,null,160.64225502093669,96.065992606812216,99.20218871555717,131.00167355860148,181.14260339076006,237.939445627076,101.80326980333388,null,202.89521717044519,93.949196911825595,143.20299645152878,154.93329577251046,161.3370347256249,176.53594565264729,103.25413667470175,null,null,null,null,null,null,null,null,null,null,null,null,null,null,null,null,null,null,null,null,100]
[null,"Septiembre",79.727387607598516,102.5340617863245,70.368558074650693,85.099219000380927,112.96528636262829,135.59801682484272,99.521957579848461,null,-5.8718783703713973,0.83078771561693188,3.8303806805628504E-2,4.1473968779004444E-2,0.76737638178301371,7.5717087706851371,-3.5832968556165024,null,161.14474444511512,96.279772777325817,100.81895542372578,132.21596280985057,182.7080029841203,239.77202845072472,102.42438955279457,null,202.11968469133313,93.900281623454759,143.27273171744076,155.3668345760714,161.73818423972466,176.82561593835672,102.91637347528804,null,null,null,null,null,null,null,null,null,null,null,null,null,null,null,null,null,null,null,null,100]
[null,"Octubre",79.54548891461657,102.77843569792371,69.607233704561864,85.328841997104547,113.00846486828229,136.36914393192592,99.625414155053491,null,-6.3080684390039892,1.3170041185951664,-0.46417605563517927,0.39508416505504851,1.4535280042131449,8.1819449736272745,-2.7072676877729296,null,161.37751474040854,96.484837518618249,99.641732001794736,133.04702818520983,183.43561267409339,241.48903377365741,102.57194652261114,null,202.87450230349302,93.876538267421211,143.14853025866549,155.92269280968856,162.32024113228854,177.08480585183275,102.95761116031275,null,null,null,null,null,null,null,null,null,null,null,null,null,null,null,null,null,null,null,null,100]
[null,"Noviembre",78.962330853831446,102.63310179618865,69.3797321238184,85.289002550770505,112.15115371242007,136.82150929193361,99.11636126168581,null,-5.1805651205558139,1.2583724064623825,-0.15529397107783005,0.82580902296334191,1.7239017873990292,8.4644854675584025,-2.2648090941373655,null,161.77188206721917,96.305292178527651,99.405261393116135,133.38987933562311,183.84592535703246,244.20816213153077,102.31533074595932,null,204.87222238497233,93.83453339427767,143.277090225302,156.39751356714399,163.92691405427121,178.48667464299652,103.22748882581317,null,null,null,null,null,null,null,null,null,null,null,null,null,null,null,null,null,null,null,null,100]
[null,"Diciembre",78.886147899456574,102.84568579398892,69.324550362270131,85.736807336501442,111.01656849952478,137.02732347504048,98.972964919171162,null,-3.5694375154142088,1.4149071002625524,0.40435052073450883,1.6485791027199159,1.7334315539910161,8.8289301571653702,-1.861127569832044,null,161.93299077982911,96.345592908640143,99.812832262843088,134.14166383879552,184.79784919702828,246.04432638588781,102.48757831867164,null,205.27430365368951,93.679761250881072,143.97905466569921,156.4574982507965,166.45970209196236,179.55858740151541,103.55108428081425,null,null,null,null,null,null,null,null,null,null,null,null,null,null,null,null,null,null,null,null,100]
[2013,"Enero",78.176613685346467,103.11114901595468,69.159038795344685,86.168463323491281,111.32709273079205,139.97147477800718,98.49721720843948,null,-5.1162842725751005,1.8514645655849149,-0.34373539771239692,2.0352821986801661,0.74160334965407415,4.1426483893297839,-2.5361133288441029,null,162.11726912892544,96.536163689992733,99.783225605858689,134.84139133199037,187.67214568393965,248.41217817242938,102.93342130268424,null,207.37310237231844,93.623400196088795,144.28081613617715,156.48577928768731,168.57724483811231,177.47343061606495,104.50388774421604,null,null,null,null,null,null,null,null,null,null,null,null,null,null,null,null,null,null,null,null,100]
[null,"Febrero",77.981362348439575,103.39264519085046,68.480762909379067,86.15468463953178,111.83874566310951,141.02377366096772,98.29150297937197,null,-6.3131309774344775,1.4668748643066776,-1.6732803186184531,1.4483209555827159,0.83588493879198644,3.9779761758290899,-3.3224595800283141,null,162.20421274405584,96.463170150149111,98.913601634786531,135.31326917404419,188.26267239901259,249.28073236062573,102.6594148948634,null,208.00382021961633,93.297903319998852,144.43998202192839,157.05851601708048,168.33403422291047,176.76504172971309,104.44383469892419,null,null,null,null,null,null,null,null,null,null,null,null,null,null,null,null,null,null,null,null,100]
[null,"Marzo",77.447669135366382,103.12357148131507,68.124277741759798,86.032895897208618,112.03309573393039,141.30093709951302,97.7828171036914,null,-6.6546678250991036,0.8121751469431393,-1.4948754304398792,1.0873637142622572,0.92103602365256609,3.732870756419171,-3.2446548024566924,null,160.80035341476787,96.350556970375706,98.562257166523963,135.37024275220179,188.34387315145261,250.0199847210225,102.21692814123134,null,207.62452273897884,93.432137373009283,144.68007652153918,157.34707211755492,168.1144950227513,176.94149087273405,104.53465257892691,null,null,null,null,null,null,null,null,null,null,null,null,null,null,null,null,null,null,null,null,100]
[null,"Abril",76.971951654378501,103.94409762235257,67.999552177722208,86.2219463375109,111.56937787594212,141.74098139530398,97.458727243207463,null,-6.0394448362888316,2.1069934668362711,-1.6689996683395103,1.9757292897290446,1.2210945401882167,3.9257396723483273,-2.9276181568871684,null,160.97453205967349,96.431679112669073,98.554253667936365,135.99643350111853,188.68620040703755,250.60075619345886,102.18229833441551,null,209.13401388402568,92.772635790271181,144.93368046065513,157.72832704189747,169.12006143553501,176.80190564968214,104.8467399737536,null,null,null,null,null,null,null,null,null,null,null,null,null,null,null,null,null,null,null,null,100]
[null,"Mayo",76.923947860958521,104.09058121983806,67.672534388439502,86.320531783874927,110.88625047966687,142.01516784737859,96.891230335518301,null,-4.295856576155888,2.6456355853659685,-1.6145707456287517,2.6449653024429365,0.80694325771271114,4.6718211748948635,-2.2277977625329126,null,160.75691129975371,96.28661733550706,98.278810134615171,136.37446252924153,189.36317515983751,250.39564101823436,101.90716519622751,null,208.98161855957375,92.502718504521454,145.22702751236716,157.98612417111741,170.772457667834,176.31612511089696,105.17687188338908,null,null,null,null,null,null,null,null,null,null,null,null,null,null,null,null,null,null,null,null,100]
[null,"Junio",76.794551708013003,103.67261854830686,67.213942802354964,86.253197093073368,110.97328921098804,142.94423541014598,96.224885552081787,null,-2.7563953523581652,2.2349023958685654,-2.4092167366169925,2.7931061611787378,0.64679428741929446,6.0655043995069491,-2.4219975628508195,null,160.21566634488062,95.859875826092207,98.056639607296162,136.56332287220769,189.54557566370298,251.70472206935202,101.40568438403818,null,208.62894929584326,92.464024897206329,145.88734943824863,158.32841851050009,170.80288149640162,176.08595502095105,105.38405299443279,null,null,null,null,null,null,null,null,null,null,null,null,null,null,null,null,null,null,null,null,100]
[null,"Julio",76.390633844499035,103.78833717690915,67.073436686636981,86.145506364423454,111.91674472033321,143.44822583767521,95.849727396392311,null,-3.6376181568906207,1.8580344969505003,-2.2018333882736774,2.3122843031889939,0.7140788555361377,6.1509312900300595,-2.6463551434266819,null,159.90480311645535,95.768562626518104,98.119541708626045,136.96765036725412,190.43485116342848,254.15568346275413,101.27072699053869,null,209.32514245392696,92.272952078689542,146.2867366809227,158.9956994249201,170.15760388608763,177.17589881547542,105.65572771190837,null,null,null,null,null,null,null,null,null,null,null,null,null,null,null,null,null,null,null,null,100]
[null,"Agosto",76.582437098257572,103.78080378801194,67.770519129996046,86.0259423498443,111.98419070692559,144.43113199928473,95.825338034859584,null,-3.274451641208509,1.4940137104883178,-2.1700878161256765,1.7413167949733799,-0.25981228816849278,7.1587201608350304,-2.8089906201925752,null,160.05933360310806,95.646646995551706,99.084906908968662,137.07470021845614,191.17034423050191,257.10920473997743,101.37069371008769,null,209.00266388460204,92.162175955896927,146.20650421594968,159.34112021814343,170.71190408547471,178.01508662360322,105.78694089574807,null,null,null,null,null,null,null,null,null,null,null,null,null,null,null,null,null,null,null,null,100]
[null,"Septiembre",76.973903817577153,103.72116376069091,68.039978542766974,86.192026284505147,112.61349434093316,144.94882518489371,96.017289413024002,null,-3.4536234945680588,1.1577635311476042,-3.3091192936104186,1.2841566549739225,-0.31141604029210068,6.8959772266653507,-3.5215024423254415,null,160.66346977433867,95.527420884825844,99.527382139531355,137.43162200777007,191.92306075642759,258.63061264781095,101.42012642155962,null,208.72459600736897,92.100220843289065,146.27779765828816,159.44818555968482,170.4263435564726,178.42891263030737,105.62694181596292,null,null,null,null,null,null,null,null,null,null,null,null,null,null,null,null,null,null,null,null,100]
[null,"Octubre",77.626422394654512,104.00162317601601,68.370450909433146,86.327071314477081,113.48874748673714,145.00569875385821,96.32113386626736,null,-2.4125397255675529,1.1901207386414869,-1.7768021070598383,1.1698615544394775,0.42499702921781068,6.3332177448027105,-3.3167041932126495,null,160.95825409139715,95.758889845950392,100.09054267764965,138.008519178288,193.65273351622398,258.65138610831008,102.03772254322755,null,207.34982899647454,92.074418573145422,146.39444576756483,159.86702326034302,170.63606551729299,178.37325590034996,105.93492668483029,null,null,null,null,null,null,null,null,null,null,null,null,null,null,null,null,null,null,null,null,100]
[null,"Noviembre",77.183141963720644,103.83037509756447,67.342260071646663,85.996204348870577,113.04568308439228,144.43917281761287,95.805595365952428,null,-2.2532122226790574,1.1665566765714619,-2.9366963373908206,0.82918286877500247,0.79761049473103807,5.5675920877510388,-3.3402819207540735,null,160.34661005387773,95.624645127594334,98.995608153807126,137.84152105676102,193.61467420060973,257.94109797937824,101.55882720938516,null,207.74822840102499,92.096985143066675,147.00369136480401,160.28791282178418,171.27117897644095,178.58112376833338,106.00511047549664,null,null,null,null,null,null,null,null,null,null,null,null,null,null,null,null,null,null,null,null,100]
[null,"Diciembre",76.981586127444885,104.12608964879134,66.982936856552925,86.2248829896931,112.15136002096409,144.72253250471505,95.718184228082023,null,-2.4143171174223488,1.2449757565593966,-3.3777550571631676,0.56927201788148363,1.0221821272057952,5.6158208702633328,-3.2885553077522167,null,160.45989593347792,95.67553459953011,98.586300654817748,138.38363972871272,193.71587900223696,258.98840928500636,101.55919034716953,null,208.43932166821384,91.884305770278857,147.18121551753529,160.49153670090155,172.72717777655686,178.95513905311773,106.1022951555049,null,null,null,null,null,null,null,null,null,null,null,null,null,null,null,null,null,null,null,null,100]
[2014,"Enero",76.976287301232304,103.74668191165919,66.999578932027603,84.957713960949448,112.88363226783581,144.88052753855249,95.211585099212613,null,-1.5354033994684935,0.61635710761613893,-3.1224549978309479,-1.4050956879623988,1.39816777647086,3.5071808511919933,-3.3357613568653632,null,161.76408405426048,95.398675273925932,98.306274223858452,137.34961737231606,195.12318579028809,262.01345826330851,102.08269586613619,null,210.14794260111168,91.953471201284643,146.72670454181824,161.66821230082579,172.8533905848501,180.84794603856415,107.21667511339477,null,null,null,null,null,null,null,null,null,null,null,null,null,null,null,null,null,null,null,null,100]
[null,"Febrero",80.160062011177658,103.7935859178266,66.145108913450159,84.590610776304999,112.76092691464771,145.3692096165646,94.600421470548994,null,2.7938722755356915,0.38778457233206165,-3.4106716933333336,-1.8154252084733535,0.82456329966009712,3.0813499332698724,-3.7552396666450494,null,168.91803844361775,95.225060839268764,96.856874228282166,137.36819702805136,195.39400161608842,262.76840585668492,101.61605157814493,null,210.72593284678786,91.744648763420173,146.43089386248931,162.39177819783529,173.28165612188369,180.75932761124596,107.41606643875264,null,null,null,null,null,null,null,null,null,null,null,null,null,null,null,null,null,null,null,null,100]
[null,"Marzo",83.682159690698171,103.91426087833683,65.987309261448971,84.723260889419933,113.13364592089063,145.35809770757825,94.649573841379151,null,8.0499395591039367,0.76673973337417767,-3.1368677234443254,-1.5222491282327888,0.98234381523647496,2.8712906590335763,-3.2042881920549271,null,176.59215734416017,95.12793107284655,96.402254062725021,137.72289655700081,195.22128877607724,262.78312255467932,101.59388170724894,null,211.02724642489071,91.544635229829183,146.09211247085207,162.55618009882261,172.55811671851086,180.78327021266395,107.33686120711707,null,null,null,null,null,null,null,null,null,null,null,null,null,null,null,null,null,null,null,null,100]
[null,"Abril",82.741436650036761,104.8541443553511,66.346466372314723,84.890588305445348,113.11256936914334,145.31792842643318,94.926681357986993,null,7.4955680240051059,0.87551554519706976,-2.4310245471720338,-1.5441057510509282,1.3831676061841547,2.5235799808337678,-2.5980699285162778,null,176.1784869721173,95.249469958010096,96.895952694250568,138.22750352192307,195.57740314497266,263.12181493202758,102.06051000117542,null,212.92655059554014,90.839966835463628,146.04538567359725,162.8301868100688,172.90510173692985,181.06631286395765,107.51509327107452,null,null,null,null,null,null,null,null,null,null,null,null,null,null,null,null,null,null,null,null,100]
[null,"Mayo",83.39016036793798,104.95150362155309,66.311192198250296,84.860566234930829,112.98029982637722,145.91336763153765,95.087992730688356,null,8.4059810849376415,0.82708962869251224,-2.0116613076364476,-1.6913305777581211,1.8884661873334263,2.7449179149289238,-1.861094753968584,null,178.07095530159776,95.272815402465895,96.824942340692488,138.5460398771196,196.72014202436986,263.52847451714769,102.15373964494174,null,213.5395285437811,90.777942301819905,146.01598784593611,163.26315746416788,174.11897678327998,180.60612183430189,107.43074568233367,null,null,null,null,null,null,null,null,null,null,null,null,null,null,null,null,null,null,null,null,100]
[null,"Junio",82.953256166049414,104.60354403863521,66.640726467666468,84.946785578722952,112.33333490732004,146.65569140336083,94.717131990337748,null,8.0197153587834524,0.89794731083654433,-0.8528235523603489,-1.5146238729454864,1.2255613093941964,2.5964362833979848,-1.5669060587533368,null,177.47464415749178,95.072324010246192,97.616899916047785,138.95701766897045,197.7967576670772,264.42736556480861,102.05375636873906,null,213.94536195449248,90.888243686209464,146.48234659238105,163.581254690555,176.08019723643767,180.304878068134,107.74582615017283,null,null,null,null,null,null,null,null,null,null,null,null,null,null,null,null,null,null,null,null,100]
[null,"Julio",80.436383720276368,104.31586648940706,66.112595507392925,84.639238680987845,112.89400095453664,146.66810180952652,95.763114854268736,null,5.2961334029677953,0.508274173040002,-1.4325211688988704,-1.7485156765619458,0.87319930243277,2.2446258592942803,-9.0362846589420176E-2,null,173.73102627975931,95.208615917913761,97.324623836448268,139.44835294096208,199.47545422938015,265.39216902080045,102.2645170663933,null,215.98562521647185,91.269544242899897,147.21041140423102,164.75615224583277,176.69269628393329,180.94743556813557,106.78904630662687,null,null,null,null,null,null,null,null,null,null,null,null,null,null,null,null,null,null,null,null,100]
[null,"Agosto",80.108863203894089,103.81801856072829,65.914318887616204,84.604236346700617,112.53592389703657,145.73944672738389,95.119279211319594,null,4.6047452121587673,3.5859013765571213E-2,-2.7389494225642852,-1.6526479853739784,0.49268846488779161,0.90583983521339562,-0.73681850543865224,null,173.56489259444129,94.922640472830693,97.383178207781341,139.50745723336144,199.23005372791908,264.68002935213792,101.69590241183506,null,216.66128522218787,91.431758945876766,147.74206856907603,164.89417463881162,177.03684906004088,181.61179783208655,106.91408014762673,null,null,null,null,null,null,null,null,null,null,null,null,null,null,null,null,null,null,null,null,100]
[null,"Septiembre",79.91645438378815,103.7622201919376,64.899213097240192,84.687029731620783,112.50387308899676,145.43099460738333,94.043190741596845,null,3.8227898291148588,3.9583465667059059E-2,-4.6160588418655006,-1.7460971945555959,-9.7342909549125167E-2,0.33264803759158745,-2.0559825042919644,null,172.57234999503845,94.625256183489185,95.777990253294107,139.58945988066711,198.62934138948989,264.09002494378137,100.72613922047307,null,215.94094898940673,91.194324878990614,147.57958638078929,164.82979781323778,176.55333628591004,181.59129397192055,107.10625450516562,null,null,null,null,null,null,null,null,null,null,null,null,null,null,null,null,null,null,null,null,100]
[null,"Octubre",79.649606760037699,103.34608591077409,63.730563083054612,84.556646795327509,112.25442606821278,145.20382944376195,93.347158348381768,null,2.6063089125726746,-0.63031445589312174,-6.7863934852861458,-2.0508335243995091,-1.0876156851309049,0.13663648505295445,-3.0875628208599237,null,171.65941783521234,94.343009271579632,94.246469707070574,139.8905462171156,198.591372477774,263.61903831023346,99.964047141598698,null,215.51822390332046,91.288420301696334,147.88268790948416,165.44003519407036,176.91184163829544,181.55102335805421,107.08847372570463,null,null,null,null,null,null,null,null,null,null,null,null,null,null,null,null,null,null,null,null,100]
[null,"Noviembre",78.332018700881591,103.32104222256405,62.911928147250343,83.942103424322937,110.20635406072314,144.83107640068482,92.658764464938614,null,1.4885073449082631,-0.49054322930243144,-6.5788286874880804,-2.3885948689252978,-2.5116651482830044,0.27132776754876797,-3.2846003294418669,null,169.85479143216202,93.952071173699096,93.392084215007415,139.68737159634793,197.95390162542563,263.25174742767837,99.007121615937862,null,216.83954307467678,90.932175240080099,148.44893006047417,166.40918668696636,179.62113283990325,181.7646833607553,106.85132937791482,null,null,null,null,null,null,null,null,null,null,null,null,null,null,null,null,null,null,null,null,100]
[null,"Diciembre",77.269631579937311,103.05129936464678,62.090563252136697,83.637776249666317,109.09017635344927,144.45034533751939,91.618672324946502,null,0.37417448377272677,-1.0322007556124779,-7.3039102703028274,-3.0004178032181694,-2.7295109635251946,-0.18807518254753131,-4.2828976920069923,null,167.637282695972,93.182103220715305,92.318739032817859,139.26191172901369,196.23484721015996,261.29216486298799,97.744624865924123,null,216.95105731486137,90.423026002797556,148.68400961017363,166.50599522553574,179.8831515079454,180.88718601015364,106.68635812495791,null,null,null,null,null,null,null,null,null,null,null,null,null,null,null,null,null,null,null,null,100]
[2015,"Enero",76.82022932011202,103.02463377238938,62.150394265609442,83.655865560918002,106.85095577195911,140.7924397871426,89.442646954351318,null,-0.20273513648375596,-0.6959722720430217,-7.2376345399689068,-1.5323486701040889,-5.3441551929894864,-2.8216957936752718,-6.0590716338247415,null,167.39236557320885,93.150789840050848,92.735510983208485,139.03251758125498,193.60178524336942,263.7755906776261,97.796804027543345,null,217.9014135400198,90.416035883075637,149.21146048871188,166.1957791590977,181.18863218832931,187.350678116251,109.34023908914024,null,null,null,null,null,null,null,null,null,null,null,null,null,null,null,null,null,null,null,null,100]
[null,"Febrero",76.75487650818441,103.14789273974796,61.868494035294226,83.68874694603646,106.05648788323934,141.15702494051786,89.801516059759663,null,-4.2479826207200588,-0.62209352569226883,-6.4655043258781468,-1.0661512217395641,-5.9457111739451785,-2.8975769264736884,-5.0728160997499661,null,166.17516666954918,92.725800532362186,92.234409115089136,139.41703234735238,192.71049330431322,263.60277255898438,97.064980074762843,null,216.50111918534566,89.895971763881107,149.08138714750677,166.58993883281607,181.70552047364964,186.74435273063025,108.08835344179448,null,null,null,null,null,null,null,null,null,null,null,null,null,null,null,null,null,null,null,null,100]
[null,"Marzo",75.789980413832737,102.54404497555106,61.386362547093746,83.072790124109787,105.53812973483836,140.06110436740593,88.205574888310394,null,-9.4311371814925877,-1.3186023662238533,-6.9724720796324196,-1.948072758276298,-6.7137553326651167,-3.6440992443561471,-6.8082704353937151,null,163.51689870159279,92.212527080669531,91.267351080571103,138.63279832776527,191.726064866651,260.63918728377962,95.693879112641795,null,215.75002105654147,89.924799731330268,148.67691665319569,166.88111488809932,181.66520986145713,186.08962742438135,108.4896042385228,null,null,null,null,null,null,null,null,null,null,null,null,null,null,null,null,null,null,null,null,100]
[null,"Abril",75.973042460060711,102.75406916815359,62.07420807270713,83.51834736295767,106.05111910552061,141.28362567081746,88.291257247051931,null,-8.1801748483092638,-2.0028537737910912,-6.4393155102384414,-1.6164818384226676,-6.2428519686239863,-2.7761906595427988,-6.9900517072872148,null,163.4924699592255,92.24419209050707,92.477809130013682,139.47342629537599,192.86359534138745,261.78538760321891,96.080789167576626,null,215.19800269309215,89.771814233023264,148.97944251128425,166.99734932403095,181.85908547507984,185.29067778396592,108.82254049087605,null,null,null,null,null,null,null,null,null,null,null,null,null,null,null,null,null,null,null,null,100]
[null,"Mayo",76.791800536947221,103.00844477729265,61.99986606043413,83.676500675812605,106.3909432139093,141.94236326211703,88.512742560381952,null,-7.9126359775268051,-1.8513873333982467,-6.5016568016551641,-1.395307162858439,-5.8323058290641221,-2.7214808580446559,-6.9149111065253681,null,164.25011831719223,92.371919635310533,92.311907605647647,139.92252200678399,194.13586407103142,262.80776080844947,96.553190639480263,null,213.8901772959025,89.674123160505331,148.89049520795251,167.21841960012765,182.47405108600501,185.1510393152586,109.08394412659086,null,null,null,null,null,null,null,null,null,null,null,null,null,null,null,null,null,null,null,null,100]
[null,"Junio",76.873032437757558,103.21857467758144,61.430227207748977,83.189681069602329,106.83730553597175,141.31167116716242,88.219896616737785,null,-7.3296986873196746,-1.3240176265368442,-7.8187912048731656,-2.0684767494730694,-4.8926076804207348,-3.6439228406760282,-6.8596200466276347,null,164.76194765121468,92.213015114334652,91.600914892740988,139.57130310232304,194.46287296074982,261.76562699826212,96.139624643003245,null,214.32997037630705,89.3376171899057,149.11374913681939,167.77477844343201,182.01776241471649,185.23992026717352,108.97725833965993,null,null,null,null,null,null,null,null,null,null,null,null,null,null,null,null,null,null,null,null,100]
[null,"Julio",76.528925192658576,102.90743792215773,60.670177319058183,82.371744622100181,107.09515389243248,139.53683538460257,87.190557473838069,null,-4.8578247142565196,-1.3501575691674428,-8.2320443579108176,-2.6790104616063903,-5.1365413689602573,-4.8621795311601606,-8.9518364074479884,null,163.28255639096881,91.782315228056689,90.913436108421706,138.66398395920245,194.43432995711368,258.72005533972992,95.174950109347606,null,213.36057703660592,89.189194757218218,149.84864084098083,168.33925831649699,181.55287414069699,185.41344629654603,109.15740519024124,null,null,null,null,null,null,null,null,null,null,null,null,null,null,null,null,null,null,null,null,100]
[null,"Agosto",76.051110515575246,102.62232400459675,60.09907683408975,82.071327188939378,106.5834409649427,138.86316077057893,86.843592985527721,null,-5.0652980532141623,-1.151721611246237,-8.8224260701857951,-2.9938325397579457,-5.2894069075578258,-4.7182050647327838,-8.7003247863205342,null,162.12264909236214,91.246979243974906,90.132112917005827,138.24834637150215,193.44520936113426,258.04405838934616,94.433366251874176,null,213.17591287396058,88.915331170913333,149.97254145155279,168.44902002527095,181.49649477423236,185.82614493103068,108.73958919181439,null,null,null,null,null,null,null,null,null,null,null,null,null,null,null,null,null,null,null,null,100]
[null,"Septiembre",76.173236134319737,102.65809318635803,60.233366245505159,81.879485823852463,106.47508808399576,138.58064884976642,87.087523302737793,null,-4.683914318185467,-1.0640934663282753,-7.1893735363849025,-3.3151994073539082,-5.3587355168047353,-4.7103753750090345,-7.3962478133809739,null,162.0152143415331,90.997061170520439,90.358564321594358,137.71737858386319,193.16101224520449,257.81342058611136,94.236186894075232,null,212.69309611035078,88.640903358034322,150.01413660545205,168.19521666285854,181.41427795093645,186.03854342290151,108.20859673145937,null,null,null,null,null,null,null,null,null,null,null,null,null,null,null,null,null,null,null,null,100]
[null,"Octubre",76.574293823621417,100.72617970055286,60.197584180951537,82.725643035307698,107.19588545938549,138.31720633225899,87.69614573753347,null,-3.8610522531283165,-2.5350802472414724,-5.5436178988389706,-2.1654167110621403,-4.5063172883298197,-4.742728299855326,-6.0537596546411221,null,162.28716036077481,91.15213658889158,90.569989204962042,138.93871355383155,194.93441759947362,259.03848184599036,94.711529239965373,null,211.93425659867194,90.49498041112669,150.45452477413755,167.95120407167079,181.84878716574491,187.27856693674138,107.99964860876361,null,null,null,null,null,null,null,null,null,null,null,null,null,null,null,null,null,null,null,null,100]
[null,"Noviembre",75.854771041269274,100.47974881904632,59.277496026531594,82.525876014745378,106.67108266772864,137.18472128567024,86.792965647225444,null,-3.1624968955184518,-2.7499658756802825,-5.7770159455486247,-1.6871478695483777,-3.2078653024367187,-5.2794989204253628,-6.3305385643607881,null,160.8872500475922,90.886484959671449,89.656608119644687,138.56372893966466,194.68307031541278,257.47740723347522,93.812588739250742,null,212.09905169980732,90.452539967380545,151.24898001682783,167.90337241001438,182.50782259502699,187.68664966509672,108.08777881903116,null,null,null,null,null,null,null,null,null,null,null,null,null,null,null,null,null,null,null,null,100]
[null,"Diciembre",75.575148293502465,100.21980523005119,58.482903403676168,82.830579296635676,105.3375132707921,136.43888942682904,86.542324192704044,null,-2.1929485773228508,-2.7476549563692054,-5.8103190879596038,-0.96511049100718171,-3.439964264516937,-5.5461659797150116,-5.5407353145634275,null,160.64668178655376,90.578712416278933,88.84946714076348,139.08802053931774,194.05672784004258,256.3710217473477,93.46811625652029,null,212.56548668971024,90.380052334325072,151.92383067489516,167.91868621516096,184.22376019185037,187.90172129394031,108.0027802909413,null,null,null,null,null,null,null,null,null,null,null,null,null,null,null,null,null,null,null,null,100]
[2016,"Enero",75.059251577011125,99.953847168580154,58.052807813179619,83.245542017294042,103.26993365752928,129.84099086737174,85.409076993058292,null,-2.2923359623971629,-2.9806333605547852,-6.5930176322263501,-0.49048986687629803,-3.3514179527532106,-7.7784353594041233,-4.5096719502852327,null,159.08814612899064,89.958265449803349,88.924931522719746,140.57765739407179,192.76878055924897,257.9816175817781,92.832592972232135,null,211.95008314966412,89.999802907117257,153.17938076120288,168.87109385973744,186.66496019889178,198.69042577262655,108.69171783670862,null,null,null,null,null,null,null,null,null,null,null,null,null,null,null,null,null,null,null,null,100]
[null,"Febrero",75.54253770675129,100.5172463129702,58.221697896885217,83.72429144741875,103.13556930972753,131.64598360970874,85.69536481247944,null,-1.5794941723394573,-2.5503637126306877,-5.8944317221114488,4.2472259030490456E-2,-2.7541158790092446,-6.7379156898616843,-4.5724743049412764,null,159.53946617764842,89.928797813006753,89.100832701440595,141.65831391346848,193.6896364125131,259.06863984298599,93.04105753504129,null,211.19156308590661,89.466038029936385,153.03715954702065,169.19619320091104,187.80100571398569,196.79190563917817,108.57186702995649,null,null,null,null,null,null,null,null,null,null,null,null,null,null,null,null,null,null,null,null,100]
[null,"Marzo",76.866232750376383,101.30831155685797,59.152916967661028,84.39915944013373,103.79973111433696,133.30894208198913,86.598172114036487,null,1.4200456718250098,-1.2050757496329667,-3.6383416230588494,1.5966350883873881,-1.6471758831325456,-4.8208689456743397,-1.8223369399374856,null,160.2610530451793,90.336976784514476,90.472306784069545,142.70150713086295,195.79578479679901,261.29982804581243,93.961780727278267,null,208.49344024134518,89.170350779969354,152.94648416667408,169.079298985299,188.62841232327185,196.01072813638035,108.503191734284,null,null,null,null,null,null,null,null,null,null,null,null,null,null,null,null,null,null,null,null,100]
[null,"Abril",77.558105943726588,102.16422067322372,59.598104185195439,84.67183931585383,104.46233021473142,134.88627659283927,87.12832153236603,null,2.086349884564842,-0.57403906210721223,-3.9889415658939109,1.3811240156408555,-1.4981349599982541,-4.5280187619785695,-1.3171584038404127,null,161.42864962162332,90.632904854088821,91.121706346292385,143.13916774519305,196.98884761121931,263.27927753118121,94.769514506445361,null,208.13897871455268,88.712960620510898,152.89363242686437,169.05168105683501,188.5740507667133,195.18611098288557,108.77004496321075,null,null,null,null,null,null,null,null,null,null,null,null,null,null,null,null,null,null,null,null,100]
[null,"Mayo",77.530688896852837,102.1612334689014,58.471684392098012,84.423300481743951,103.99699256287813,134.5645624693139,86.810829565964269,null,0.96219694646970666,-0.82246781826766924,-5.6906278876425853,0.89248450867307483,-2.2501451521281246,-5.1977440865761508,-1.9227886801232774,null,161.281113759411,90.435187815226143,89.634067141663181,142.85303077279778,196.89786263298009,262.56017184578479,94.370880260668358,null,208.02228904992722,88.522020285468912,153.29482650199918,169.21043119332791,189.33034290768811,195.1183632805695,108.70864929237831,null,null,null,null,null,null,null,null,null,null,null,null,null,null,null,null,null,null,null,null,100]
[null,"Junio",78.40057034527743,102.06506186329943,58.074530947500861,84.315242761177046,104.23228700584521,134.01367558346661,86.944166613654161,null,1.9870920387545343,-1.1175438315101482,-5.4626141116157605,1.3530063790399671,-2.438304220663301,-5.1644676787260924,-1.4460796849784407,null,162.72116260122937,90.198791354886012,89.247846043475505,143.31076330808568,196.75772203403855,262.38393912608814,94.245206323544579,null,207.55099342339301,88.373817355534968,153.67811773487281,169.97017219533302,188.76849744552246,195.78892824461769,108.39738880048549,null,null,null,null,null,null,null,null,null,null,null,null,null,null,null,null,null,null,null,null,100]
[null,"Julio",78.287514733976266,102.22493508087098,57.275885537621242,84.38710000312048,104.56414804369012,133.71141553591633,86.910830586239825,null,{"$f":"(C264/C252-1)*100","v":2.2979409901426218},{"$f":"(D264/D252-1)*100","v":-0.66322012778416983},{"$f":"(E264/E252-1)*100","v":-5.5946627015555084},{"$f":"(F264/F252-1)*100","v":2.4466586088059961},{"$f":"(G264/G252-1)*100","v":-2.3633243491899991},{"$f":"(H264/H252-1)*100","v":-4.1748258319244114},{"$f":"(I264/I252-1)*100","v":-0.32082245566806833},null,164.08045280844081,90.158060240425414,88.63130146743417,143.84432135126428,197.88902280119723,262.3203982074026,94.336647268229186,null,209.58699910961789,88.195761796376431,154.74453277412422,170.45771373343223,189.25131271429007,196.18399607544393,108.54417870810803,null,null,null,null,null,null,null,null,null,null,null,null,null,null,null,null,null,null,null,null,100]
[null,"Agosto",78.877775706192537,102.80252971415783,56.87145370956604,84.695023467300388,105.81309048391344,134.23246348729384,87.27940744026192,null,{"$f":"(C265/C253-1)*100","v":3.7167967324269302},{"$f":"(D265/D253-1)*100","v":0.17560088539119167},{"$f":"(E265/E253-1)*100","v":-5.370503665861504},{"$f":"(F265/F253-1)*100","v":3.1968488487104763},{"$f":"(G265/G253-1)*100","v":-0.72276750877524609},{"$f":"(H265/H253-1)*100","v":-3.3347197756326774},{"$f":"(I265/I253-1)*100","v":0.50183835070807259},null,165.24378497502897,90.359646424137821,88.112495956418158,144.47048540057355,199.34777389454382,262.84061472288369,94.668841247809553,null,209.49346440819579,87.896325776595745,154.93273023474205,170.57730134091253,188.39613603843307,195.81002083580444,108.4664115216471,null,null,null,null,null,null,null,null,null,null,null,null,null,null,null,null,null,null,null,null,100]
[null,"Septiembre",79.446040568606904,102.99314404651834,56.772091005984706,84.749319394637126,106.22122907845581,134.57419135491941,87.034238084028118,null,{"$f":"(C266/C254-1)*100","v":4.2965280200464084},{"$f":"(D266/D254-1)*100","v":0.32637549535630139},{"$f":"(E266/E254-1)*100","v":-5.7464416406890599},{"$f":"(F266/F254-1)*100","v":3.5049482076115357},{"$f":"(G266/G254-1)*100","v":-0.23842103360336431},{"$f":"(H266/H254-1)*100","v":-2.8910656199844786},{"$f":"(I266/I254-1)*100","v":-6.1185823972098596E-2},null,165.19992229995077,90.074721739886186,87.573840085317642,144.52762050383717,199.05138994547372,262.70139967527155,94.401304605547836,null,207.93978040641275,87.457007525862736,154.2550900161242,170.53543501729024,187.39322795677015,195.20934662905438,108.46456139985634,null,null,null,null,null,null,null,null,null,null,null,null,null,null,null,null,null,null,null,null,100]
[null,"Octubre",79.658586549930646,102.8303162703825,56.178845619796505,85.198898024225159,106.48735499572058,134.84230515353306,86.827750470705737,null,{"$f":"(C267/C255-1)*100","v":4.0278435128810797},{"$f":"(D267/D255-1)*100","v":2.0889669161334057},{"$f":"(E267/E255-1)*100","v":-6.6759133540556403},{"$f":"(F267/F255-1)*100","v":2.9897077836697594},{"$f":"(G267/G255-1)*100","v":-0.66096796591448292},{"$f":"(H267/H255-1)*100","v":-2.5122696379354936},{"$f":"(I267/I255-1)*100","v":-0.99023196461422991},null,165.14546524100649,89.981066355092707,87.115171603398238,144.99361383902183,199.75860282710448,263.41039607592705,94.112302210625671,null,207.31658995416896,87.504414669401669,155.06757150720142,170.18249907151949,187.58903612089173,195.34699868561637,108.38965849101163,null,null,null,null,null,null,null,null,null,null,null,null,null,null,null,null,null,null,null,null,100]
[null,"Noviembre",78.846284118608992,102.02099225141671,55.345969060004528,84.584550998326819,105.19093999629496,133.5824461947409,85.661787243160816,null,{"$f":"(C268/C256-1)*100","v":3.9437375346003778},{"$f":"(D268/D256-1)*100","v":1.5338846389296057},{"$f":"(E268/E256-1)*100","v":-6.6324106618258387},{"$f":"(F268/F256-1)*100","v":2.4945811944045326},{"$f":"(G268/G256-1)*100","v":-1.3875763087960791},{"$f":"(H268/H256-1)*100","v":-2.6258573528957663},{"$f":"(I268/I256-1)*100","v":-1.3033065475171801},null,163.52376432430714,89.239151255739415,86.159332483454733,144.15871229525297,197.76716471139903,261.29397067319843,92.810350050095309,null,207.3956511106056,87.471361811323874,155.67408782750417,170.43149203227975,188.00779298898252,195.60502005800632,108.34510116703785,null,null,null,null,null,null,null,null,null,null,null,null,null,null,null,null,null,null,null,null,100]
[null,"Diciembre",77.852655271691276,101.84906505459527,55.067200573690513,85.016754204136916,104.1102684378375,132.17808190209135,85.143933347337637,null,{"$f":"(C269/C257-1)*100","v":3.0135660063066227},{"$f":"(D269/D257-1)*100","v":1.6256864806354132},{"$f":"(E269/E257-1)*100","v":-5.8405151440736214},{"$f":"(F269/F257-1)*100","v":2.6393331135256659},{"$f":"(G269/G257-1)*100","v":-1.1650596210674768},{"$f":"(H269/H257-1)*100","v":-3.1228688115515046},{"$f":"(I269/I257-1)*100","v":-1.6158461867196938},null,161.81633602263926,88.782809270920254,85.591907711314647,145.05687749283021,197.00006888575115,260.39961777023649,92.179668151694401,null,207.84947598502632,87.170961484358273,155.43173943766436,170.62151907673245,189.2225155517456,197.00665497863938,108.26334246933962,null,null,null,null,null,null,null,null,null,null,null,null,null,null,null,null,null,null,null,null,100]
[2017,"Enero",78.367968085180124,101.61795313495854,55.034206044381968,85.540375987401816,106.27298755509219,126.02478105870085,85.378649205972025,null,4.4081394880073344,1.6648743530318866,-5.1997515408933275,2.7567049411859612,2.9079653595225796,-2.9391410086888725,-3.5625940658201571E-2,null,162.16180040799725,88.0863869899012,85.20072622281765,145.7123234535581,198.84159777365934,264.7909001087861,91.444635245541406,null,206.92357396805221,86.683882397152701,154.8141280608429,170.34332824889415,187.10455248148489,210.11018458778329,107.10480441654151,null,null,null,null,null,null,null,null,null,null,null,null,null,null,null,null,null,null,null,null,100]
[null,"Febrero",79.563470347088327,102.3038219623846,54.570217756855456,85.481069614597786,107.12031423190776,127.38407210697271,86.034658100552164,null,5.3227396939534932,1.7773822054891308,-6.2716826748968941,2.0982896801011952,3.8635990947154086,-3.2374033645958589,0.39592956843719218,null,164.7909609666211,88.59648025115122,84.483466321799227,146.44971599311012,201.30643176878391,267.95316691904299,92.123967796303887,null,207.11887031540445,86.601339570408868,154.81606963385423,171.32415007603109,187.92554261273915,210.35060544620151,107.07774033184963,null,null,null,null,null,null,null,null,null,null,null,null,null,null,null,null,null,null,null,null,100]
[null,"Marzo",80.223359071518232,102.58263368135054,54.429274227376183,85.361227641283577,108.00403853658163,128.38939912776186,86.584754931961427,null,4.3674916813526421,1.2578653270490792,-7.9854772721812957,1.1399025861534406,4.0504029992270096,-3.6903323043412928,-1.5493608869010522E-2,null,165.15356984157378,88.900118656046914,84.337041630717351,146.49050783803187,202.94510216071507,268.99931635374685,92.432896451898969,null,205.86718351489273,86.661957746371357,154.9479445167735,171.6124660878051,187.90510513361619,209.51832330491894,106.75423927056562,null,null,null,null,null,null,null,null,null,null,null,null,null,null,null,null,null,null,null,null,100]
[null,"Abril",80.85416377214051,103.01984003919218,54.457434075217044,85.360711764398516,108.4142983125514,128.97145699486325,87.120925670982018,null,4.2497915444265955,0.83749414455496218,-8.6255597896272906,0.81357917119877499,3.7831513902632175,-4.3850417903002707,-8.4884699417364651E-3,null,166.25717608942767,89.109596609549982,84.39708926273353,146.65586588151322,203.92608487776113,270.10387880847071,92.763457870968509,null,205.62599170274765,86.497510164692287,154.9780864558613,171.8072200314983,188.09888368216474,209.42919084742027,106.47666695059679,null,null,null,null,null,null,null,null,null,null,null,null,null,null,null,null,null,null,null,null,100]
[null,"Mayo",82.732164849790919,102.92829630141689,54.374800368487598,85.388718710063117,109.02603721286974,130.06125794272856,87.35102047006626,null,{"$f":"(C274/C262-1)*100","v":6.7089252358613072},{"$f":"(D274/D262-1)*100","v":0.7508355238770692},{"$f":"(E274/E262-1)*100","v":-7.0066119459422875},{"$f":"(F274/F262-1)*100","v":1.1435447593380221},{"$f":"(G274/G262-1)*100","v":4.8357596946382531},{"$f":"(H274/H262-1)*100","v":-3.3465753865266512},{"$f":"(I274/I262-1)*100","v":0.62226211499514239},null,170.37856350489264,89.073425653645117,84.46485878156291,147.01268782940485,205.15025118333904,271.6163732652405,92.952880335206345,null,205.93993136071455,86.539298574224006,155.33824162877062,172.16874787474626,188.1662916747033,208.83726450258123,106.41304455860336,null,null,null,null,null,null,null,null,null,null,null,null,null,null,null,null,null,null,null,null,100]
[null,"Junio",82.610511081235131,103.38192304681775,54.269892468335136,85.60415952813311,110.47636582378388,131.06280011052479,88.002565174545467,null,5.3697833031278286,1.2902173961174324,-6.5513029844444297,1.5286877256665443,5.9905418918693609,-2.2019211547585238,1.2173313082571857,null,170.13901880804931,89.373590953538198,84.978565968876424,147.59813968212384,207.75816892528636,273.64838399095981,93.401354437008607,null,205.95323353071007,86.449921146334546,156.58510106401792,172.41935496559242,188.05666476816637,208.79180344094061,106.13480897034661,null,null,null,null,null,null,null,null,null,null,null,null,null,null,null,null,null,null,null,null,100]
[null,"Julio",83.462249117177279,103.92657467297543,53.371756578445755,85.843061431727321,111.10275319707766,131.69372755337295,88.583273390680915,null,6.609910150788334,1.6646032504283648,-6.8163572200225282,1.7253364892892531,6.2531998545577006,-1.5089870782210135,1.924320355886544,null,172.45078623875662,89.647390144945021,84.83849325284568,148.31119601976718,209.51200080196708,275.49157970410795,93.845048624911286,null,206.6213025204286,86.260314483602912,158.9576560556896,172.77016167197391,188.57498556343413,209.19111701235468,105.93991961780891,null,null,null,null,null,null,null,null,null,null,null,null,null,null,null,null,null,null,null,null,100]
[null,"Agosto",84.874313864706536,104.63830361292055,53.721643185406293,85.998583811537273,112.32456508097366,132.32085420790781,89.078334226662406,null,{"$f":"(C277/C265-1)*100","v":7.6023165014821981},{"$f":"(D277/D265-1)*100","v":1.7857283316539796},{"$f":"(E277/E265-1)*100","v":-5.5384737310309573},{"$f":"(F277/F265-1)*100","v":1.5391227145006514},{"$f":"(G277/G265-1)*100","v":6.1537514567256091},{"$f":"(H277/H265-1)*100","v":-1.4241035512001732},{"$f":"(I277/I265-1)*100","v":2.0611125111404505},null,174.49394136938571,89.947664482468085,84.915932617903067,148.74694161823413,211.27700007838902,277.48042149126354,94.433351194328878,null,205.59098910364906,85.960553044899996,158.06652139220273,172.9644082793358,188.09509738682857,209.70271326640261,106.0115818444028,null,null,null,null,null,null,null,null,null,null,null,null,null,null,null,null,null,null,null,null,100]
[null,"Septiembre",85.404928042072825,104.92477752093006,54.569682127919954,86.524477648952669,113.11185125877962,132.97793614887203,89.292767241317705,null,7.5005468250114005,1.8754971433237122,-3.87938657716973,2.0945988321740661,6.4870480600769165,-1.1861525527116057,2.5949892904319594,null,175.33484642024683,90.027330472738782,85.455836494338229,149.15609701452698,212.74179785982628,279.31699051829025,94.63459126049878,null,205.29827779243845,85.801783525135832,156.59947641625664,172.38601268381356,188.08090884580363,210.04762038537586,105.98237033548814,null,null,null,null,null,null,null,null,null,null,null,null,null,null,null,null,null,null,null,null,100]
[null,"Octubre",83.67588547023712,104.34007856084608,54.166610918540258,86.079183831107088,111.96369184806039,132.4458579758099,88.85172215253408,null,5.0431461243520825,1.4682073781566496,-3.5818370403594924,1.0332126674122311,5.1427109374252877,-1.7772220483731282,2.3310193697937631,null,172.6090922308787,89.499962553193967,85.190393203269977,148.63658618467466,211.37087466836891,277.98166996385277,93.901881115813197,null,206.28295865751488,85.77716615480783,157.27473393413067,172.67425127578954,188.78519561074171,209.88324905911648,105.68380537926927,null,null,null,null,null,null,null,null,null,null,null,null,null,null,null,null,null,null,null,null,100]
[null,"Noviembre",83.063593675050782,104.30070569126785,53.660948685694201,86.148724899868071,111.0628594445465,131.74452370562494,89.047387232731779,null,{"$f":"(C280/C268-1)*100","v":5.348774014635449},{"$f":"(D280/D268-1)*100","v":2.2345532909865184},{"$f":"(E280/E268-1)*100","v":-3.0445223074574312},{"$f":"(F280/F268-1)*100","v":1.8492430155149675},{"$f":"(G280/G268-1)*100","v":5.5821532238977678},{"$f":"(H280/H268-1)*100","v":-1.3758712626332437},{"$f":"(I280/I268-1)*100","v":3.9522873600110087},null,171.39430465476545,89.441192817661488,84.97524178619858,149.21240027254282,211.73975007217817,278.35339369936901,93.85085215843759,null,206.34106600933876,85.753200062144529,158.35583206685394,173.20326034537899,190.64856706476161,211.28270524650614,105.39427946734877,null,null,null,null,null,null,null,null,null,null,null,null,null,null,null,null,null,null,null,null,100]
[null,"Diciembre",82.722639628830862,104.42341375589486,53.35740458544705,85.831738830330337,110.49724706105317,131.39076206593688,89.161925210626848,null,6.2553863322249548,2.5276115199679428,-3.104926290842458,0.95861649132891191,6.1348210114636537,-0.59565082563208804,4.7190583114103291,null,171.12289008066347,89.424035620588811,85.11283925045754,149.23831550008288,212.46549031892778,279.91974841421791,93.97466198371302,null,206.86343043268045,85.636000973527544,159.51457892626138,173.87311213057538,192.28125222118339,213.04370567067986,105.39774882800823,null,null,null,null,null,null,null,null,null,null,null,null,null,null,null,null,null,null,null,null,100]
[2018,"Enero",83.884155428830667,105.3461204970658,54.22367985703692,86.89422446016809,113.48245083443521,130.08432209694587,90.276631552965114,null,7.0388291012660531,3.66880777174865,-1.472768021203763,1.5827011012503167,6.7839094818009427,3.2212244323234662,5.7367765741724641,null,174.1320179824254,89.602336287595946,85.86288785463293,150.97008246160655,217.06949000810849,285.90078868097413,94.635153966054546,null,207.58630410264209,85.055183679110087,158.34942977129947,173.74006546408677,191.28022739375024,219.78112663561825,104.82796304881212,null,null,null,null,null,null,null,null,null,null,null,null,null,null,null,null,null,null,null,null,100]
[null,"Febrero",84.676176037895502,105.94033534490094,54.928997413695051,86.885614419893543,114.5594654735946,132.46647191860086,90.632272090216588,null,6.4259460635684551,3.5546212377612019,0.65746422057206821,1.643106259231808,6.9446689874169021,3.9898236314506619,5.3439091770330682,null,175.36517329154074,89.806408061116642,86.409916211881523,151.35278136932504,218.65751226019395,289.28281130838843,94.948221833488105,null,207.10095979423872,84.770741728107197,157.31202148309657,174.19774536884776,190.86813242035723,218.38190986633163,104.76204517853789,null,null,null,null,null,null,null,null,null,null,null,null,null,null,null,null,null,null,null,null,100]
[null,"Marzo",84.32981892941001,106.14910758795909,55.120264602672357,86.898694157112928,114.78112684548121,133.00198711327246,90.825117546610429,null,5.118783238970237,3.476683897283217,1.2695197301540118,1.8011298083601801,6.2748471267619621,3.5926548584595874,4.8973547571753206,null,174.28458860517765,89.761375929588354,86.803482704578727,151.64183553620029,219.31019471072503,291.04403569785734,95.009995158719036,null,206.67018003568356,84.561592621217969,157.48016329437266,174.50415913273872,191.0681666385461,218.82683260212255,104.60762146546188,null,null,null,null,null,null,null,null,null,null,null,null,null,null,null,null,null,null,null,null,100]
[null,"Abril",84.26834059809299,106.34267610992802,55.391306429499551,87.020712136265004,114.99613251658974,133.30515274473566,90.857082735387678,null,4.2226357514180135,{"$f":"(D285/D273-1)*100","v":3.2254331490630728},1.7148666112190236,1.9446889998389505,6.0710019863462472,3.3601975590963784,4.2884726437773413,null,173.61359499463717,89.769797560554835,87.104463633814532,151.87854416690919,220.14731651726191,292.01386153369072,95.027588324195406,null,206.02469891114254,84.41559009457167,157.25295041502326,174.5314884680372,191.43888729084233,219.05669474972532,104.59018214458186,null,null,null,null,null,null,null,null,null,null,null,null,null,null,null,null,null,null,null,null,100]
[null,"Mayo",83.518141812633573,105.55653434558607,54.831278419795218,86.734669259297647,114.02815199889972,131.91978988925172,89.771239540442949,null,{"$f":"(C286/C274-1)*100","v":0.95002586269763434},{"$f":"(D286/D274-1)*100","v":2.5534650223614008},{"$f":"(E286/E274-1)*100","v":0.83950294661159219},{"$f":"(F286/F274-1)*100","v":1.5762627306830757},{"$f":"(G286/G274-1)*100","v":4.5880001822532712},{"$f":"(H286/H274-1)*100","v":1.4289666084434938},{"$f":"(I286/I274-1)*100","v":2.7706820794452636},null,171.36053692087313,88.969213814136623,86.433475842394586,151.07117086004678,219.09189576683838,288.7785847427682,93.644500688838008,null,205.17762153438125,84.285842052048139,157.63534670968079,174.17622289930216,192.13842540301141,218.90467304807063,104.31459024986518,null,null,null,null,null,null,null,null,null,null,null,null,null,null,null,null,null,null,null,null,100]
[null,"Junio",83.207052570767345,104.99228935723713,54.494406975724083,86.496295219275311,113.55879863448764,130.94349882573638,89.013015181805315,null,0.72211330219904557,{"$f":"(D287/D275-1)*100","v":1.5576865499881576},{"$f":"(E287/E275-1)*100","v":0.41369993043554043},{"$f":"(F287/F275-1)*100","v":1.0421639509806901},{"$f":"(G287/G275-1)*100","v":2.7901287191329338},{"$f":"(H287/H275-1)*100","v":-9.1026046054110132E-2},1.1482051747647493,null,170.70460863130265,88.38965043926747,86.235777884977054,150.9676397660534,218.68602618386154,286.61830546441223,92.893017800483719,null,205.15641806458521,84.186801697904656,158.24702510001248,174.53653868450417,192.57514944988762,218.88700701808244,104.35891606497505,null,null,null,null,null,null,null,null,null,null,null,null,null,null,null,null,null,null,null,null,100]
[null,"Julio",82.901078430133651,104.97955512873583,54.433712981211031,86.358505179897634,114.44745623805893,131.18672599398511,89.282034571842459,null,-0.67236468341006494,{"$f":"(D288/D276-1)*100","v":1.0131965371453777},{"$f":"(E288/E276-1)*100","v":1.9897347789264108},{"$f":"(F288/F276-1)*100","v":0.60044893503741203},{"$f":"(G288/G276-1)*100","v":3.0104591873149511},{"$f":"(H288/H276-1)*100","v":-0.38498535109227072},0.7888184240830487,null,170.43738448983817,88.381988069488969,86.352271537861554,151.17164404375296,219.84932480143007,286.74239034166862,93.078510499757158,null,205.59127543012278,84.189714807903925,158.63748182613944,175.05125144169637,192.09629643854004,218.57576532157356,104.25222828547862,null,null,null,null,null,null,null,null,null,null,null,null,null,null,null,null,null,null,null,null,100]
[null,"Agosto",82.873850976149498,104.64646553648512,54.334346198802727,85.847857291330541,115.00197560564314,131.19427466084841,89.049488509394294,null,-2.3569709108292369,{"$f":"(D289/D277-1)*100","v":7.8001298594809754E-3},{"$f":"(E289/E277-1)*100","v":1.1405142826362402},{"$f":"(F289/F277-1)*100","v":-0.17526628175301706},{"$f":"(G289/G277-1)*100","v":2.3836375620411854},{"$f":"(H289/H277-1)*100","v":-0.85139984456968909},-3.2382416575860162E-2,null,169.91501690104286,88.131530265239704,86.390433262550175,150.63056532310378,219.80498444295839,286.20051278318471,92.735300192672526,null,205.02850404519415,84.218353494712673,158.99783342649997,175.46223059700691,191.13148559873312,218.15015443550752,104.1390599148578,null,null,null,null,null,null,null,null,null,null,null,null,null,null,null,null,null,null,null,null,100]
[null,"Septiembre",84.431525827707716,104.39973643416225,55.154798647234301,85.95709125156921,114.70610473615949,131.44940799957695,89.012294768747793,null,-1.1397494695921773,{"$f":"(D290/D278-1)*100","v":-0.50039761739125721},{"$f":"(E290/E278-1)*100","v":1.0722373605599245},{"$f":"(F290/F278-1)*100","v":-0.65575246774151053},{"$f":"(G290/G278-1)*100","v":1.4094486648728699},{"$f":"(H290/H278-1)*100","v":-1.1494599732574162},-0.31410435720053975,null,173.03437113517069,87.729678573581822,88.018370568329772,150.44967804291829,219.71053547825255,286.17379061959718,92.449631092457523,null,204.94047624848957,84.03247131654102,159.58424783904707,175.02881478690298,191.54214676160288,217.70641266069313,103.86164218397005,null,null,null,null,null,null,null,null,null,null,null,null,null,null,null,null,null,null,null,null,100]
[null,"Octubre",85.933081404822744,104.08238367967098,55.33874443802862,85.413398017603598,114.4119159999391,131.55236089660499,88.800934975062177,null,2.6975465176146685,{"$f":"(D291/D279-1)*100","v":-0.24697593171240095},{"$f":"(E291/E279-1)*100","v":2.1639410323291308},{"$f":"(F291/F279-1)*100","v":-0.77345739570418015},{"$f":"(G291/G279-1)*100","v":2.1866232806980523},{"$f":"(H291/H279-1)*100","v":-0.67461307802324511},-5.7159474505985575E-2,null,176.35662075219088,87.421698489715624,88.383539105237048,149.98036768767332,219.68828509144504,286.43641746634029,92.115941438494531,null,205.22552882910281,83.992790517527837,159.7136689724029,175.59349138265469,192.01521377507737,217.7356723316187,103.73307608119589,null,null,null,null,null,null,null,null,null,null,null,null,null,null,null,null,null,null,null,null,100]
[null,"Noviembre",87.555018734248407,103.5438554739319,54.735781667155251,84.756119832315122,113.32048840305569,131.21741313373093,88.258322053679507,null,{"$f":"(C292/C280-1)*100","v":5.4072125470134624},{"$f":"(D292/D280-1)*100","v":-0.72564247031677853},{"$f":"(E292/E280-1)*100","v":2.0030077883203656},{"$f":"(F292/F280-1)*100","v":-1.6165126868350033},{"$f":"(G292/G280-1)*100","v":2.032748814320251},{"$f":"(H292/H280-1)*100","v":-0.40010055603663108},{"$f":"(I292/I280-1)*100","v":-0.88611828327987974},null,180.89320996727446,86.923280631555599,87.281393354223709,149.96109459686431,218.99782662963636,285.5034063147948,91.31677559170042,null,206.60518675272181,83.948275089524088,159.45948097530828,176.93246799588428,193.25527953136768,217.58042587215348,103.46534294653907,null,null,null,null,null,null,null,null,null,null,null,null,null,null,null,null,null,null,null,null,100]
[null,"Diciembre",85.889700017880543,103.98334115105931,54.912507532922213,84.94632010823932,112.94603470058811,131.29604311257498,88.613501644605151,null,{"$f":"(C293/C281-1)*100","v":3.828529170804984},{"$f":"(D293/D281-1)*100","v":-0.42143096936505531},{"$f":"(E293/E281-1)*100","v":2.9145026066341062},{"$f":"(F293/F281-1)*100","v":-1.0315749560209753},{"$f":"(G293/G281-1)*100","v":2.2161526234059981},{"$f":"(H293/H281-1)*100","v":-7.2089507567030253E-2},{"$f":"(I293/I281-1)*100","v":-0.61508717395475365},null,178.01175140122621,86.924409007926357,87.752203341149652,150.72256323875484,219.72500344567064,285.45176751388266,91.355533411817873,null,207.25622672353924,83.594552786728599,159.80367184750895,177.43271638689336,194.53981189171091,217.41079224233175,103.09437243345823,null,null,null,null,null,null,null,null,null,null,null,null,null,null,null,null,null,null,null,null,100]
[2019,"Enero",87.239946066750349,104.9556289527566,54.548691537614971,85.003235808017237,114.98864469898373,132.3410059082934,89.198065102540355,null,{"$f":"(C294/C282-1)*100","v":4.0005059605884963},{"$f":"(D294/D282-1)*100","v":-0.37067482168939847},{"$f":"(E294/E282-1)*100","v":0.59939067476599828},{"$f":"(F294/F282-1)*100","v":-2.1761960175128436},{"$f":"(G294/G282-1)*100","v":1.3272482692024079},{"$f":"(H294/H282-1)*100","v":1.7347853876393593},{"$f":"(I294/I282-1)*100","v":-1.1947349295946763},null,181.87809579299611,87.858746653024156,88.49762605969326,151.90780914560585,227.35892546846043,290.85088023297703,92.027527985367513,null,208.4802937106756,83.710371258478943,162.23601990282066,178.70826645787335,197.72293695924375,219.77381706961191,103.1721123990464,null,null,null,null,null,null,null,null,null,null,null,null,null,null,null,null,null,null,null,null,100]
[null,"Febrero",88.12896791840241,105.21518507157572,54.703393730792818,84.795282311112047,115.50697552301061,132.69111883973179,89.33457024855818,null,{"$f":"(C295/C283-1)*100","v":4.0776426641676133},-0.68448931274799341,-0.41071873422904304,-2.4058437322886594,0.82709014527866387,0.16958775898323619,-1.4318319641889343,null,183.13879228589582,87.868560606546694,88.528065368092854,152.16328678392193,228.15724760557981,291.41740051475409,91.986829836281089,null,207.80771250545214,83.513193030807798,161.83285776337485,179.44782143143075,197.52681305392477,219.62087821923978,102.96890619201891,null,null,null,null,null,null,null,null,null,null,null,null,null,null,null,null,null,null,null,null,100]
[null,"Marzo",87.693971753647006,105.42801358581917,54.611000713893269,84.971838923182375,113.91545721643404,132.2009330116262,89.180617099656018,null,{"$f":"(C296/C284-1)*100","v":3.9892802652084836},-0.67932177530780624,-0.92391408577235934,-2.2173581002803089,-0.75419161044876226,-0.6022873184323374,-1.8106229767448134,null,181.06950359951566,87.88934371617276,87.949820469384917,152.39213780586093,228.31995780958005,290.96938482150154,91.817254489721122,null,206.47884909145463,83.364317250111313,161.04780963482716,179.34428598588877,200.42930379130448,220.09631716889069,102.95651395540216,null,null,null,null,null,null,null,null,null,null,null,null,null,null,null,null,null,null,null,null,100]
[null,"Abril",87.004398609984563,105.89890062550528,54.228365341975866,84.646978851435023,113.91905983664306,131.9294725081559,89.241383827459842,null,{"$f":"(C297/C285-1)*100","v":3.2468397887895462},-0.41730704986585598,-2.0995010995161212,-2.7277796590689518,-0.93661643776697945,-1.0319782906021979,-1.7782861382787285,null,179.7960696985073,87.97058738554307,87.48079760486533,152.48610714638221,229.52168233147873,290.61470865186789,91.760735680123787,null,206.65170103006039,83.070349990352724,161.31925986186823,180.14359072875183,201.47785863103755,220.28035368207969,102.82307573528317,null,null,null,null,null,null,null,null,null,null,null,null,null,null,null,null,null,null,null,null,100]
[null,"Notas:",null,null,null,null,null,null,null,null,null,null,null,null,null,null,null,null,null,null,null,null,null,null,null,null,null,null,null,null,null,null,null,null,null,null,null,null,null,null,null,null,null,null,null,null,null,null,null,null,null,null,null,100]
[null,"El ITCER GLOBAL incluye dentro de los socios comerciales al resto de países centroamericanos, República Dominicana, Panamá, Brasil, Canadá, China, Colombia, Corea del Sur, Haití, Japón, México, \nEstados Unidos y Zona Euro.",null,null,null,null,null,null,null,null,null,null,null,null,null,null,null,null,null,null,null,null,null,null,null,null,null,null,null,null,null,null,null,null,null,null,null,null,null,null,null,null,null,null,null,null,null,null,null,null,null,null,null,100]
[null,"Valores sobre (bajo) 100 significan una depreciación (apreciación) real de la moneda. El índice se descompone en efecto precio y efecto tipo de cambio, los cuales divididos generan el índice.",null,null,null,null,null,null,null,null,null,null,null,null,null,null,null,null,null,null,null,null,null,null,null,null,null,null,null,null,null,null,null,null,null,null,null,null,null,null,null,null,null,null,null,null,null,null,null,null,null,null,null,100]
[null,null,null,null,null,null,null,null,null,null,null,null,null,null,null,null,null,null,null,null,null,null,null,null,null,null,null,null,null,null,null,null,null,null,null,null,null,null,null,null,null,null,null,null,null,null,null,null,null,null,null,null,null,100]
[null,"Fuente: Cálculos de la Secretaría Ejecutiva del Consejo Monetario Centroamericano"]
[null,{"$f":"TODAY()","v":"2019-07-10"}]

{"sheet":"ITCER RESTOM","index":5,"n_rows":303,"n_cols":54,"rows_kept":303,"cut":false,"hidden":false,"merged":[[302,1,302,2],[299,1,299,31],[3,2,3,8],[3,10,3,16],[3,18,3,24],[3,26,3,32]]}
[]
["Secretaría Ejecutiva"]
["Consejo Monetario Centroamericano"]
[null,null,"ITCER RESTO DEL MUNDO\nPeriodo de referencia Diciembre 2000=100",null,null,null,null,null,null,null,"VARIACION INTERANUAL",null,null,null,null,null,null,null,"EFECTO TIPO DE CAMBIO",null,null,null,null,null,null,null,"EFECTO PRECIO"]
["Año","MES","COSTA RICA ","EL SALVADOR ","GUATEMALA ","HONDURAS","NICARAGUA ","REPÚBLICA\nDOMINICANA","PANAMÁ",null,"COSTA RICA","EL\nSALVADOR","GUATEMALA","HONDURAS","NICARAGUA","REPÚBLICA\nDOMINICANA","PANAMÁ",null,"COSTA\n RICA","EL\nSALVADOR","GUATEMALA","HONDURAS","NICARAGUA","REPÚBLICA\nDOMINICANA","PANAMÁ",null,"COSTA\n RICA","EL\nSALVADOR","GUATEMALA","HONDURAS","NICARAGUA","REPÚBLICA\nDOMINICANA","PANAMÁ"]
[1995,"Enero",101.30977788174872,120.22078630612882,104.5696299132826,140.34310057407851,95.951077696251829,106.48696558530629,101.94629751116584,null,null,null,null,null,null,null,null,null,59.779419083507733,111.3777109988273,84.494671356198538,67.271049690457176,61.881776612026314,85.437179133463147,114.45589121666886,null,59.006564157394315,92.644304218087868,80.802305053836562,47.933278811200928,64.493050101972557,80.232522979556364,112.27076805230016]
[null,"Febrero",102.05540759937584,119.97340432719838,105.60780791024062,132.92375075170571,97.069207776292288,106.89632537567078,102.8722943645212,null,null,null,null,null,null,null,null,null,60.735145437571724,111.64715455601662,84.402220825720349,66.512284000780539,62.705732128848588,85.576578589714501,114.80043754196106,null,59.51193265132104,93.059920389960809,79.920436278211952,50.037922963084178,64.598994434323103,80.055678517450161,111.5950978357431]
[null,"Marzo",103.82742480860699,119.36673638154788,104.97358988087952,133.25393943143146,98.48890860571656,106.54508166143792,103.85054210117251,null,null,null,null,null,null,null,null,null,61.93960063764721,111.57136657012012,83.598602889394201,67.276568197975564,63.554268935748539,85.458192369799633,115.52673436289287,null,59.656300589006428,93.469395203609849,79.637747917603917,50.487489139181584,64.529366641859284,80.208481740485354,111.2432655867557]
[null,"Abril",106.6241163241038,121.14079318060026,107.45726298926085,131.8190621168053,102.16318952009628,108.59886637300708,105.82168463097787,null,null,null,null,null,null,null,null,null,63.523504548345123,112.99102789237688,85.324311333222994,67.862565436768222,65.334704741265952,86.311343735489316,117.08993310954214,null,59.577051363552357,93.272484788775103,79.403019358263563,51.481602392706293,63.951316563402827,79.477205074161375,110.6483359415974]
[null,"Mayo",107.47821030774121,120.8685546238034,106.84148826693063,130.10572844370188,102.83298115856586,108.70881942364663,105.83636785282772,null,null,null,null,null,null,null,null,null,64.313632588290076,112.9851400048685,85.561714059851411,67.955743338232281,65.90440570179635,86.377455555484275,116.91942119022013,null,59.838763972847651,93.477695961971577,80.08285493560868,52.231169335205294,64.088782566921225,79.457633716786759,110.4718761256094]
[null,"Junio",107.80456721383956,120.10168390796224,106.04311125266945,131.14818967969225,102.15632845094167,108.20733986956603,105.93999707827457,null,null,null,null,null,null,null,null,null,65.242331642159584,112.79623621437923,85.58560366085004,68.915405349507921,66.438141615177642,86.23961868090575,116.86783062663207,null,60.519079412234774,93.917281210493769,80.708310657657719,52.547736661727761,65.035757081934577,79.698492528196027,110.31511596161683]
[null,"Julio",107.61672313068611,117.24274243099724,106.35176391998827,131.31077418609848,101.96247547908355,107.61893633988812,105.7626949713746,null,null,null,null,null,null,null,null,null,66.151287515191967,112.83315337018678,85.848690177626011,69.874909259065106,67.058952927437502,86.249769540409176,116.67211339175645,null,61.469338213225541,96.238923647315985,80.721453987554582,53.213386100394011,65.768266818113773,80.143674035218424,110.3149966283807]
[null,"Agosto",106.9439171599893,115.60855623287188,105.74727968395156,130.57874513706815,103.37765655387706,105.94719242988462,104.38885806906231,null,null,null,null,null,null,null,null,null,66.251941070542998,111.64974588228418,85.537558508759176,70.158067922437141,66.679822634677478,85.552988463625397,114.98890192264118,null,61.950172417407678,96.575677026349666,80.88866093237246,53.728551188627527,64.501193833820494,80.750595179994022,110.15438242131744]
[null,"Septiembre",104.99432133131461,111.63526676381207,103.53945327458146,127.84808864504252,100.60298474449,102.69237469822028,102.71525846282947,null,null,null,null,null,null,null,null,null,66.756790685515739,110.90472949675714,86.067058850969175,70.595415213218686,66.647229129951796,85.101185922816384,113.92730240997307,null,63.58133453223769,99.345603510223583,83.124892134328391,55.218201508838995,66.247765212156935,82.870014616860587,110.9156556824525]
[null,"Octubre",103.90561246859035,111.42072006519487,103.40915171536287,127.93904604237188,98.066278090336738,102.16755219980071,103.22177062362793,null,null,null,null,null,null,null,null,null,67.822570722775666,110.79738136215416,86.811058314311765,71.743298067056074,67.258966417843808,84.994456706476285,113.95012140101724,null,65.2732505121201,99.440554052535305,83.949105929484944,56.07615523668634,68.585213722382903,83.191243086904521,110.39349617098462]
[null,"Noviembre",102.54174898561435,110.09179710105438,101.72346846336968,128.63877027313043,95.394626462166002,100.58045419307788,102.63415699277634,null,null,null,null,null,null,null,null,null,68.440823366185015,109.80610912035154,86.334015044664454,73.095943111204164,67.203741270284027,84.363872320794528,113.19973982492843,null,66.744349538826995,99.740500211436625,84.871285209620112,56.822638273052704,70.448141328943066,83.877004729812199,110.29441186221827]
[null,"Diciembre",102.71963252570539,109.97823346219229,100.26864500173595,129.17204998561013,97.168805450079162,100.41998477511017,102.25526167336002,null,null,null,null,null,null,null,null,null,69.221683842330478,109.57608567278552,85.244746352302002,74.444726105428799,67.65173773478945,84.255916398746677,112.98128766834768,null,67.388951985403452,99.634338744361614,85.016354166176427,57.632224706290572,69.622897411809575,83.903534328786435,110.48946119687261]
[1996,"Enero",103.04154223975985,110.3892114546242,102.30740266113921,131.8738232463912,99.665905358923226,97.351117590097161,106.19634335197833,null,{"$f":"(C18/C6-1)*100","v":1.7093753379189947},{"$f":"(D18/D6-1)*100","v":-8.1779325802025618},-2.1633692822853101,-6.0346944688006943,3.8715851367832066,-8.5793110405521293,4.1689065170287254,null,70.282834105004028,110.52005503522422,87.614387616318808,76.018995953693576,68.773356017866419,79.781503904863484,117.55745423160452,null,68.208251329806416,100.11852931901213,85.638365687489554,57.645250651193116,69.003894330960435,81.952324616126532,110.6982128772276]
[null,"Febrero",103.62531571336629,110.55064525338447,103.27649075450203,131.37366723837846,99.941911719529045,97.569195807806295,106.69351607216478,null,{"$f":"(C19/C7-1)*100","v":1.5382899847435905},-7.8540399238114622,-2.2075234794382337,-1.166144879723352,2.959438949844162,-8.7253977487867012,3.7145294865334133,null,71.011490027174304,110.41089045489163,88.48808944377457,77.545605000999075,69.331313644425194,79.761088147042258,117.42417226216257,null,68.527163983361234,99.8735830096943,85.680767033534394,59.026749143184091,69.371610420053216,81.748227487861229,110.05745858327496]
[null,"Marzo",104.56858068626634,110.48369714069099,102.94487520222772,132.68721923448285,100.45464404558889,97.931162041610392,106.80449432851061,null,0.71383440264032316,-7.441804568119248,-1.9325953136916763,-0.42529339047437942,1.9958952410995101,-8.0847651393233466,2.8444263915929469,null,71.635490469637588,110.23882686271027,88.554775496253015,79.101363009153729,69.850496015650151,79.733210555532736,117.16763397142407,null,68.505750005886739,99.778365239109533,86.021548253172966,59.614907498639333,69.534362178367999,81.417608954394467,109.70290595734518]
[null,"Abril",105.04107739803713,110.42535648203122,101.5276766527702,132.06927444660712,100.80007257356591,98.224529360789532,106.8824899064814,null,-1.4846912505747989,-8.8454404311140262,-5.5180880021886036,0.18981498258583418,-1.3342544931628564,-9.5528962305965308,1.0024460290939174,null,72.097879135590688,109.98729745410745,87.776372157496823,79.97170699886972,70.283938393828223,79.718542589550111,116.79341460698001,null,68.637794776596564,99.603298515957192,86.455609988689545,60.552847991302194,69.72607915786331,81.159505785703601,109.27272999456726]
[null,"Mayo",104.40272230333454,109.76136632621053,100.35653964792375,130.98622329743685,100.10496978161049,98.210355740942092,107.18122420725358,null,-2.8614990848848887,-9.1894772235536095,-6.0696913944188076,0.6767533330524822,-2.6528564534649024,-9.6574167012072998,1.2706939794985939,null,72.611032960006014,109.7866197945865,86.967915688584696,80.741067442376476,70.776982530816923,79.698917322460389,116.47869761863822,null,69.548984315791998,100.02300761116705,86.658942201166212,61.640885132655335,70.702765991762789,81.151235754291633,108.67453556362294]
[null,"Junio",104.1283465823238,107.92770358800135,100.33440744009003,130.94938844807663,100.58235065791746,97.910621778993146,107.04801777763431,null,-3.410078743903,-10.136394365036717,-5.3833801603361708,-0.15158518931992493,-1.5407540745555282,-9.5157298044519223,1.0458945912005913,null,73.311847023352399,109.5775512584041,87.351052670243362,82.659720212850019,71.31220002111327,79.651912951444032,116.08655943685606,null,70.405273328134626,101.52866003403611,87.059917827691294,63.123410649318011,70.89931737989248,81.351656750006924,108.44344607855987]
[null,"Julio",104.43019665984555,108.33958198029512,98.792532273376452,134.60493985242937,101.70176015078194,97.884326967546897,107.12928696467792,null,-2.9609956316649311,-7.5937838591092603,-7.1077633016964903,2.5086788854525199,-0.25569733088237623,-9.0454428406510523,1.2921304564650127,null,74.224702432764289,109.75448548774402,86.957608157664367,86.73127811086934,72.178160644664459,79.663946394210072,116.21195268744135,null,71.075900272918304,101.30598944687293,88.020426399272012,64.433948862467389,70.970414413333557,81.385803899558198,108.47822848457689]
[null,"Agosto",105.03858223631826,105.76594897757514,98.128131570185005,134.53197063932129,104.16293943823742,98.001693475808921,107.5805087317969,null,-1.7816206608746499,-8.5137359863491806,-7.2050535356918965,3.0274647670288424,0.75962534897575651,-7.4994898607945615,3.0574629532042819,null,75.18588034072333,110.10948256120659,86.958251197724337,88.948823841347362,73.186892288961062,79.720976990962626,116.62235170212615,null,71.579298520583961,104.10674099331571,88.61704569961006,66.117238466548727,70.261930667151191,81.346530007301595,108.40472226513724]
[null,"Septiembre",105.25534031244378,106.48766375153996,97.57346798555244,133.94240418925892,104.08082953270119,97.741427801229861,107.30314749558197,null,0.24860295092103968,-4.6110903493991273,-5.7620405558908345,4.7668413417870203,3.4569996079581111,-4.8211436453189922,4.4666090524542401,null,75.712725781176246,109.74837182994585,86.332025360472059,89.748212886233659,73.570882014458164,79.670700962229517,116.17635815340405,null,71.932431700308825,103.06205241389638,88.478996537516849,67.005078361457933,70.686294819876423,81.511701593157028,108.26929206171462]
[null,"Octubre",104.97921191432754,106.35882390382427,97.239804054823423,133.45346346191496,102.26788030579418,97.752355108810136,106.80056287971284,null,1.0332449039379243,-4.5430474317602387,-5.9659590647458183,4.3101911340786225,4.2844515946521389,-4.3215257642231997,3.4670905512113936,null,76.258560943750197,109.3109874589221,86.05407875723769,90.456626197772422,73.928035949959451,79.600212431835843,115.81418720716701,null,72.641582607787186,102.77566397101884,88.496762816100215,67.781400235885968,72.288616649631408,81.430480465898981,108.43967867248605]
[null,"Noviembre",105.43419531259885,107.34634102833249,95.720128316858251,131.89765990563257,102.23799779301703,97.319724898693849,107.18207838194188,null,2.8207499438987371,-2.4937880432652104,-5.9016274584396626,2.5333650388469575,7.1737492819526238,-3.2419114832436757,4.4311967111354766,null,77.214194694170146,109.4550186931265,85.442600982392136,91.002070884590992,74.816639655699618,79.600875306901898,116.13074989236263,null,73.234489498629912,101.96436845876048,89.262940287287478,68.994454450290689,73.178897543717028,81.793156926577211,108.34903712030317]
[null,"Diciembre",105.05443215348025,106.82862377747117,94.70094604954582,131.8158079305185,101.0362707933744,98.596864489679348,105.89077578228557,null,2.2729828469650881,-2.8638482230248563,-5.5527816817448112,2.046695043705582,3.9801511661910594,-1.815495480818563,3.555332067447714,null,77.577667403630699,108.95681769238239,84.936846473805232,91.792835452437942,75.061552223712695,81.511326380576719,115.40787387712396,null,73.845211299883928,101.99215700779254,89.689543786994292,69.637198218913852,74.291689147176015,82.671316986057846,108.98765546340485]
[1997,"Enero",102.94277280229078,106.76879123532511,94.101673841483461,129.25573378606308,101.45075718929417,101.24351315644981,109.25058724405653,null,-9.5853997642281197E-2,-3.2796866392937996,-8.0206598996893863,-1.9852988226757629,1.7908349138486379,3.9983059904271645,2.8760348950577219,null,77.620663412568661,109.98029067991526,85.230912032570743,91.868612350886806,74.835838319132009,85.877987212960377,118.86042072608107,null,75.401760900344982,103.00790091133634,90.573215707240536,71.075077027486174,73.765677450290383,84.823199566627679,108.79613897228488]
[null,"Febrero",102.58969578120306,104.55684116859517,92.218570677576068,123.49001843360544,101.47020155802092,101.90156322850346,107.98671214547855,null,-0.99938892830765402,-5.4217721398652881,-10.707102842225424,-6.0009353247847503,1.5291781117623415,4.4403024795153012,1.2120662256918102,null,77.487434453380573,108.7276572374974,85.060307436259308,89.572321029345105,74.554989401678938,86.02677495381927,116.89410485647713,null,75.531400949507599,103.98904177123799,92.237720462677515,72.534057542070713,73.4747623015691,84.421447746501528,108.24860071579793]
[null,"Marzo",102.34042210975279,104.17780630920004,90.631595532761921,123.09214188384961,102.29660091871078,102.3639901797691,107.8270686291017,null,-2.1308107673361443,-5.7075306083041122,-11.961041912263493,-7.2313500923378076,1.8336204270316792,4.5264735409503487,0.95742628343506997,null,77.927175390083747,108.23822202315709,83.361521338292917,89.713413453362108,74.928008686259972,86.302519554632951,116.26078997227106,null,76.145059580184665,103.89758227573513,91.978432960676528,72.88313622653196,73.245843960935659,84.309452379758369,107.82152519807366]
[null,"Abril",102.01163197672071,104.22719827755265,90.876664967936051,122.18275603005934,102.95809028475566,101.61591904816102,108.07290360257294,null,-2.8840578337147149,-5.612984555306511,-10.490746992331113,-7.4858580528847423,2.1408890451093399,3.4526912059965609,1.1137593230968967,null,78.483187741375232,108.00096747257861,83.256525058405487,89.336610704390836,75.430097456328255,86.262959485979536,115.75280811094044,null,76.935528057511405,103.62071441753291,91.614855241200601,73.117200501200259,73.262914305916098,84.8911866309993,107.10622575350577]
[null,"Mayo",102.8088098443195,104.99202268150586,90.796347132743421,123.91792553415061,103.80174237791618,101.48099588111519,108.36382498417883,null,-1.5266962621760416,-4.3451933994063108,-9.5262277363487353,-5.3962146440667329,3.6928961712596076,3.3302395816591446,1.1033656180661655,null,79.401589770190398,108.42719694685512,83.209209797582218,91.677260775703601,76.544808782480018,86.323943549018978,116.17188490206792,null,77.232281835015897,103.27184311494777,91.643785708615695,73.982242989080873,73.741352533177633,85.064147035123042,107.2054118789449]
[null,"Junio",103.03376520435138,104.73527082951635,90.061382025246346,122.72378535920447,102.86628967530014,101.1877604321823,108.46632986113882,null,{"$f":"(C35/C23-1)*100","v":-1.0511848251686606},-2.9579363336327935,-10.238786152175905,-6.281513175705844,2.2707154907826821,3.3470716390571198,1.3249307301053337,null,80.0788141625913,108.40937247538199,82.436322378369681,91.824067112549983,77.313162827384048,86.323317753930624,116.18484249572509,null,77.720943230374502,103.50798887210229,91.533485856635892,74.82173634376332,75.158891286372693,85.310038867582136,107.11604480806874]
[null,"Julio",102.62427313774971,103.46996682918943,89.95805101886944,120.68355834175775,101.56085614714176,99.382874174170112,107.57459003951931,null,-1.7293116166181011,-4.4947701127288635,-8.94245855553174,-10.342400157032849,-0.13854627828591148,1.5309368241557708,0.41566884972192852,null,80.351642770977293,107.80946860772448,82.589746637393489,91.439522434096844,77.556019166865909,86.27391998340515,115.2909815458268,null,78.296917789735303,104.19397232986343,91.809177390992616,75.768003272785364,76.364085641915466,86.809644720285206,107.17306150409007]
[null,"Agosto",101.84245587008228,103.70872756426567,90.639777315925201,118.74167572216291,102.54314826199719,98.885656235034332,106.84390534067995,null,-3.0428117918092856,-1.9450696875472073,-7.6312002831765424,-11.737206287932834,-1.5550551712307126,0.90198722886722926,-0.68469967264547238,null,80.417613929129104,107.06712409828872,83.852211398960392,90.886207659630287,77.677107618065662,86.191030577886323,114.13176186901646,null,78.962759923735263,103.23829692341171,92.511493167832128,76.541119288471137,75.750656123411659,87.162318438808711,106.82103158350364]
[null,"Septiembre",103.62090508027947,104.68264911415811,91.074354601582243,119.03899000281899,105.0325325834559,98.540585390318256,106.88436145624591,null,-1.5528287945415276,-1.6950457675485864,-6.6607383319946312,-11.126733372190035,0.91438841814350802,0.81762422246745015,-0.39028308964870195,null,81.204927978919002,107.32143714522637,84.407673679568944,91.131944650693626,78.624057488689715,86.193620948321652,113.84617667929307,null,78.367321648084555,102.52075014665574,92.679958094484832,76.556382617607483,74.856861540701445,87.470173438598522,106.51340862984623]
[null,"Octubre",104.69999394911288,105.47113736110734,91.519412844708782,119.891284653122,106.02390764291592,98.457444939672243,107.49563692107877,null,-0.26597452974073121,-0.8346148538833309,-5.8827671093305671,-10.162477958216009,3.6727341232562161,0.72130214159777939,0.65081496073084999,null,82.00787551604536,107.53459276839621,85.040494457802083,91.318389409028356,79.600238483356307,86.179458844882774,113.74693531175943,null,78.326533195315619,101.95641713829644,92.92071683425219,76.167662789866014,75.077631312596566,87.52965191985983,105.815397321912]
[null,"Noviembre",103.58708567064311,105.13066336334977,91.577512586875116,118.75368286901623,103.7205574483116,98.06694072756197,105.86610198068796,null,-1.7519075632713821,-2.0640458200600675,-4.3278418059261359,-9.9652844834550613,1.4501063081223897,0.76779484287070598,-1.2277951884497429,null,82.473611594945311,107.03244474851562,85.358894954815383,91.153955378694604,80.138215806889249,86.000193113858032,111.87940960111995,null,79.617657993749873,101.80896926198683,93.209449070632473,76.758845011346921,77.263579929008344,87.695397119375485,105.68010676498596]
[null,"Diciembre",102.84029793788419,104.10641002132733,90.288285298803032,117.93816101594669,103.37359203796866,97.576252993339352,100.26089843761349,null,-2.1076066665719595,-2.5482063326157989,-4.6595740959484822,-10.528059670875646,2.313348687793737,-1.0351358551030088,-5.3166834439359212,null,82.537976980932399,105.9184799034911,84.376673270591667,90.734860457175913,80.307273471308989,85.765171264825298,105.65322582966117,null,80.25839932006572,101.74059395746386,93.452514898641297,76.93426764972827,77.686449593250558,87.895536704693626,105.37829550310983]
[1998,"Enero",100.43669411392375,102.58699521522244,89.668877282004772,116.51165592743297,102.86358955929376,97.848356184680355,97.295372443773132,null,-2.4344386887461544,-3.9166838658739933,-4.7106458137459288,-9.8595841633790862,1.3926287088852574,-3.353456301464941,-10.94292955476428,null,81.614739207195242,105.84605807791804,84.606258171363663,90.262178180784076,80.780745936890696,85.895819068381414,102.38135930520214,null,81.259882085148021,103.17687720149932,94.354095574633561,77.470513539866033,78.531914240000518,87.784631666433356,105.22736768839462]
[null,"Febrero",100.50706370551525,102.61278954667549,88.789056723080989,114.44213837267374,102.71603746899326,98.128428892287374,98.519478065657779,null,-2.0300597051477021,-1.8593251289841017,-3.7188973211108367,-7.3268108432555712,1.2277849968199472,-3.7027246851505491,-8.7670361396563479,null,82.19445636019185,105.72650344892445,83.896861092662505,90.598192567646663,81.501315952994375,85.868685131588919,102.8559019735457,null,81.779780773439796,103.03443061630502,94.490091672359512,79.165064421130666,79.346242282367115,87.506430196538034,104.40159041950865]
[null,"Marzo",100.39393182123258,102.28768141782149,89.236650133044193,112.97896477985785,102.55428363968521,98.48023127211178,99.133499930059088,null,-1.9019760211978931,-1.8143258706836751,-1.539138080398772,-8.2159404728976213,0.25189763751700678,-3.7940675239767074,-8.0625104712308655,null,82.730605840089908,105.54294450452011,84.610693018732434,90.726023517944384,82.011987827871707,85.845356699908876,103.39053233633442,null,82.405982452609734,103.18245857328765,94.816079371631673,80.303465069560659,79.969343958379227,87.170141246631175,104.29424201635042]
[null,"Abril",100.7709902779436,101.48824704370419,89.173816649742918,111.34060005505674,101.71013665643677,98.855151245284787,100.13564203387295,null,-1.2161766993985856,-2.6278661223865352,-1.8738015075640657,-8.8737202591298683,-1.2120986557417335,-2.7168654564525108,-7.3443585802861815,null,83.468771794942185,105.70784295119407,84.924853125966223,90.735643704442282,82.797901497332475,85.885306344547502,103.99828150600652,null,82.830159319384535,104.15771878065129,95.235189337621634,81.493762077422318,81.405751893749496,86.879950374507246,103.85740720654384]
[null,"Mayo",101.11378641654154,101.2876786239781,88.825499200382524,110.8597244371433,100.93526177833702,98.593063768579057,100.04101628288772,null,-1.6487141815421102,-3.5282147756738769,-2.1706246942727048,-10.537782197950529,-2.761495649218515,-2.8457861370609128,-7.6804309025694124,null,84.186611635764891,105.79820466100587,84.822417596174176,91.201640265296746,83.613032890904734,85.866785844669309,103.88288726025851,null,83.259281072667378,104.45318334698213,95.493319328070712,82.267605055258315,82.838278137650761,87.092116384798331,103.84029583076911]
[null,"Junio",100.84147764955408,100.62153459774683,88.632703520766469,108.93147770635876,99.414532494153505,97.984781624442661,99.21309157406894,null,-2.1277370097552373,-3.9277467840472702,-1.5863386418824676,-11.238495954534422,-3.3555766345244709,-3.1653816568915305,-8.5309775843951723,null,84.516342619110617,105.04541132675173,84.618186463090396,91.060817532372354,83.808875709753877,85.674861898422009,103.21836706178011,null,83.81109102032714,104.39655064563482,95.470614233565058,83.594585743012246,84.302439097304628,87.436906505336438,104.03704332176866]
[null,"Julio",100.15080239473707,100.30592398932916,89.028824836016497,107.2611317948444,101.27657852926812,105.85569322342184,99.835772739654814,null,-2.4102199873246022,-3.0579335596807034,-1.0329549966106244,-11.122000984511116,-0.27990864655746961,6.5130125316239074,-7.1939082426635377,null,85.280664540478725,105.05260546821206,85.133710048268725,91.335389707069467,84.528016422811888,93.034515149825069,103.89391614995165,null,85.152252903927035,104.73220453000151,95.624883519554231,85.152364308223326,83.462551411513132,87.888059977524264,104.06481895109823]
[null,"Agosto",98.789253565929968,101.09162586478872,89.162187490568741,107.22100911211811,102.34741801603683,106.26601394142449,99.317739367075561,null,-2.9979661017279446,-2.5235115317128853,-1.6301781283137085,-9.7022941102847255,-0.19087598662396177,7.4635270547715349,-7.0440760749119313,null,85.695972667318514,104.40314696531468,85.213093278564173,91.318317383495724,84.856556143543187,93.473652557887519,103.20699287562701,null,86.746249793381367,103.27576203488424,95.570886803980343,85.168306229991387,82.910304713546367,87.961944831591865,103.91597063458811]
[null,"Septiembre",100.67337552440858,102.82255048071998,90.615792555840613,108.53125729833248,104.02195201593709,105.95162500828525,99.214223932214665,null,-2.8445317608327358,-1.7768929704956693,-0.5035029320248019,-8.827135297634559,-0.96215957347866032,7.520799261149036,-7.1761082908008866,null,86.790360567205525,104.79390101904818,86.170151333623195,92.532359675162098,86.267979548414019,93.627989517459127,103.38167525667288,null,86.209844574212099,101.91723559580232,95.093966408252896,85.258718988952324,82.932475190618419,88.368620594670034,104.20045751434341]
[null,"Octubre",102.48395296276301,104.33934533908345,92.895894716490957,109.9033202576133,104.28219384313761,104.833592440117,100.79062118884156,null,{"$f":"(C51/C39-1)*100","v":-2.1165626689786832},-1.0730822197819956,1.504032673502631,-8.3308510909751217,-1.6427557128382064,6.4760440455788881,-6.2374770960796351,null,88.382349110350617,106.08595471192059,88.035887563252942,93.95834028860375,88.266117750978637,94.416919001729795,104.90184241947671,null,86.240183516792982,101.67397003226442,94.768329463782791,85.491812320469904,84.641600351973295,90.063611104105362,104.07897201360863]
[null,"Noviembre",101.98061796664811,101.96701536701028,90.595504195239897,109.13047353881299,99.229940583039109,103.34189914592423,100.97586049383442,null,-1.5508378226826269,-3.0092533378253128,-1.0723248141334185,-8.103503906331488,-4.3295340632066637,5.3789364481314106,-4.6192703758428877,null,89.033120343983256,105.81605071143223,87.980316548682737,94.397497230766476,88.857143493477764,94.724023701438966,105.0522513766049,null,87.303962379499183,103.77478474835033,97.113336175135984,86.499667938482233,89.546706338213497,91.660811814270645,104.036995439142]
[null,"Diciembre",102.63581493856475,102.64979310270077,92.938298148185709,109.37447487957219,99.693844058756952,102.0779645836808,102.21103400292938,null,-0.19883547930106271,-1.3991616062144163,2.9350572342941694,-7.2611664134873077,-3.5596595868122249,4.6135319324556612,1.9450609317343659,null,90.177994297379954,106.26601151893746,90.490116242359704,95.23212100502387,90.059628426544478,94.79566109903071,106.15435338273878,null,87.862111633603007,103.52286965899549,97.365798648558751,87.069785806862242,90.336198064010517,92.865939760505071,103.85801730534922]
[1999,"Enero",100.1867989766447,101.72284844380036,95.946538046636618,108.30502354548257,101.27888225598468,103.46348314792007,100.02819861306892,null,-0.24880860474718602,-0.84235508566085082,7.0009360604447846,-7.0436149212931509,-1.5405910974899406,5.738601221508155,2.8087935743039472,null,89.154485064949782,105.16005588128503,92.943842922908516,95.597515872760866,91.092065559342117,95.210059261475649,103.75679472388126,null,88.988255913569276,103.37899251748112,96.870449747474368,88.266926817678765,89.941815638431748,92.0228629122754,103.72754499482228]
[null,"Febrero",100.03868913464595,101.48537276540212,94.857730501463138,107.25017694822897,102.05314972390522,105.40398055470482,99.570359142665879,null,-0.46601159520651692,-1.0987098063059086,6.8349343965995457,-6.2843647687048527,-0.64535953822025816,7.414315855809317,1.0666734108231379,null,89.481877407327076,104.36883920830357,91.172971966336931,95.293531548525053,91.235276687423308,96.562064826646051,103.04610855884715,null,89.447271032200305,102.84126309469937,96.115489464436038,88.851631074254044,89.399765645892742,91.611402452234898,103.49074709191434]
[null,"Marzo",101.45627557540151,101.75448739724872,96.878767800026381,107.35640766548516,104.80412443390549,105.9803920118085,99.423395240205821,null,1.0581752650753673,-0.52126904548240871,8.5638777963857216,-4.9766406740656244,2.1938047971987951,7.615904880414992,0.29242920945116158,null,90.114388299881185,104.0652022768852,92.35693608905234,95.355572816286298,91.589041174235575,97.295288894390751,102.736852767134,null,88.820911066175384,102.27087270423314,95.332484285609567,88.821501100714357,87.390683972553035,91.804990571793653,103.33267388316693]
[null,"Abril",102.82881688618586,102.98495654389218,98.864233940346054,108.10123237291242,105.97019070044756,106.46571985312877,100.0018916063602,null,2.0420823518419562,1.4747614071444648,10.866886329050129,-2.9094217927175592,4.1884262316947529,7.6987071609047719,-0.13356925146343901,null,90.853741853821006,104.09156711390517,93.882108779736683,95.722882845419406,92.360755270651822,97.340376909353495,102.78451434828952,null,88.354358831513892,101.07453613338309,94.960639493130003,88.549298416143927,87.157298349810134,91.428843991884122,102.78257010665621]
[null,"Mayo",102.74092892418832,103.4577569826908,100.76062402425534,107.47464601878551,105.31423815589507,106.43046576596349,99.692190342376975,null,1.6092192423135199,2.1424899733055724,13.43659752133588,-3.053479011917537,4.3384009714807936,7.9492427740968097,-0.34868292373636534,null,91.479998545745616,103.81646909954034,96.366386577289305,95.866607719478509,92.963856647351562,97.251750917107017,102.4134514455212,null,89.039489426115608,100.3467232688116,95.63893386973443,89.199277476775293,88.272828323306641,91.375857671204685,102.72966327031085]
[null,"Junio",101.8366612056048,102.92986360262198,100.99553379224919,106.32681300948599,104.9072597362638,106.61715122571155,99.186305324489695,null,0.98687918825346443,2.2940705626316671,13.948384490591703,-2.3911037945285596,5.5250747595009031,8.8099084961531524,-2.6998704661118644E-2,null,91.927866045164251,103.19809422487884,97.195283852138814,95.956333236742537,93.300350289852673,96.90129591742695,102.08276124563287,null,90.269913562430119,100.26059552871109,96.237209906798839,90.246599630689346,88.936028378216321,90.887155399870082,102.92021757607299]
[null,"Julio",102.63935497049899,102.61028643736799,100.38891267433208,106.17917317085265,105.19384194672375,107.15146753730531,99.091771276520049,null,2.4848054296694233,2.2973343511435873,12.760010995584725,-1.0087145323631197,3.8678868049670356,1.2240950622736779,-0.74522532627150362,null,92.640159208095511,103.20690575570495,97.582585086154424,96.310330310973498,94.081233407150535,96.883553790577039,101.9531366957398,null,90.257931993748912,100.58144201624575,97.204544293370787,90.705481531675488,89.436065520640184,90.417383930692836,102.8875913533072]
[null,"Agosto",103.42116979908464,103.52009246428774,103.93724875788749,106.61186688772071,105.30083834537912,107.32736761326656,99.878285758416254,null,4.6886843112580179,2.4022430925654703,16.570994592165643,-0.56811834680686735,2.8856813260101255,0.99877056876067627,0.56439705022779396,null,93.659726053062215,103.81405187775678,101.64157806611134,97.26149495857122,95.455035463479604,97.057734784129863,102.55841415632045,null,90.561464577333751,100.28396363108973,97.79129165028823,91.229520500755399,90.649834287542902,90.43148727345914,102.68339447113344]
[null,"Septiembre",103.93952954230025,103.8437361872421,105.61201512858158,107.05389925241602,105.24801444191682,107.49841576408627,100.66543163627804,null,3.2443076442785657,0.99315344907107139,16.549237334650879,-1.3612281684487249,1.1786573912705434,1.4599028147799231,1.4627012605116674,null,94.320313935507954,103.90889232950522,103.30472874846146,97.970510739811601,96.261868114490383,97.121662968801203,102.91818939707144,null,90.745373151917576,100.06274441257163,97.815318288065015,91.515125954275391,91.461932678658172,90.347064445993624,102.23786629051868]
[null,"Octubre",103.47208723847963,103.64286683619908,105.37286103339288,106.84956523275547,104.57952645737321,104.35586765404767,100.92697864145788,null,0.96418438901908488,-0.66751281658989914,13.431127774785301,-2.7785830470815953,0.28512309079615772,-0.45569819267828882,0.1352878383007905,null,95.095114919409596,104.07601670680862,103.58439972277897,98.490826967995332,97.200605900308219,97.401825146847216,103.0509328268268,null,91.904123573188372,100.41792540464371,98.302730614814422,92.177096606287634,92.944201597553942,93.336222808041867,102.10444641656642]
[null,"Noviembre",102.95613602259118,103.81607491160523,104.51773857250829,105.85576931640408,103.77294485287207,103.11368742097117,100.77161825593133,null,0.95657201867722641,1.8133898868566645,15.367467183873673,-3.0007239190108059,4.5782595889304334,-0.22083175056692994,-0.20226838068446718,null,95.433590901017482,103.67434010008856,102.99162927698436,98.424315221280352,97.367018972796444,97.566456962514778,103.01953016128232,null,92.693446537345707,99.863475081640914,98.539856184828182,92.979641881482124,93.826978805354472,94.620277290822386,102.23069942138065]
[null,"Diciembre",102.28030624537595,104.16840464768725,103.17155857839937,105.03213867854919,103.6086490528336,102.79045548992192,100.61869974522047,null,-0.34637878931598198,1.4794102346286531,11.010811080161176,-3.9701550163364629,3.9268272088789802,0.69798698391663194,-1.5578888064700314,null,95.957833201576591,103.46382171134438,101.79130732498017,98.581164043924019,97.591548109574333,97.499629886598427,103.2255442211026,null,93.818484441539098,99.32361166639167,98.662178537924888,93.858094564399607,94.192472348335571,94.852804593474886,102.59081510940113]
[2000,"Enero",100.82284002828986,103.25378138418257,105.8495596625981,104.31461713781688,103.19429863414473,103.28155113179292,100.85656774984558,null,0.63485514872416715,1.5050040023486089,10.321395453734805,-3.684414884033449,1.8912297761331853,-0.17584176618821168,0.82813561401917646,null,95.972317325675462,102.90566138035477,104.44091915959784,98.064378615635803,97.671719992498737,97.927769138289761,103.1104987573779,null,95.189063607756552,99.662850116324037,98.669205136525477,94.008281203847517,94.648368451802526,94.816323017194577,102.23478852970958]
[null,"Febrero",100.06933939244634,102.67685659275254,103.95221288267314,103.28134500866393,101.24743847564029,104.01071858948637,100.69828360519712,null,{"$f":"(C67/C55-1)*100","v":3.0638404066984926E-2},1.1740448843841955,9.5874973321965697,-3.7005364956002262,-0.78950159837760658,-1.3218305019280896,1.1327913972019932,null,96.09102537871496,102.2602404281018,102.78425224435352,98.027084736196016,97.342747332264452,98.100889478256846,102.33124757704476,null,96.024442613606695,99.594245306609679,98.876444660550092,94.912672494701582,96.143417352415,94.318057608509861,101.62164032333453]
[null,"Marzo",100.61814871906766,103.26482952355131,102.72817689176701,103.29509606463218,101.38089360197132,104.78894799729089,100.89392186370596,null,-0.82609661312764704,1.4843002652121129,6.037864874391019,-3.7830174175608966,-3.2663130868413659,-1.1242117451168321,1.4790549245953244,null,96.579767115201946,102.30001624889664,102.04888021372214,98.289822226494678,97.776705526043614,98.079853804685214,102.50750483038877,null,95.986428238566461,99.065690342872614,99.33874356715144,95.154393549326215,96.444904017044863,93.597517371031216,101.59928659415436]
[null,"Abril",101.31501445368299,102.84852472748426,101.33916918743741,102.16238903605534,100.99200439197983,104.62740062859537,100.77549921069915,null,-1.4721577845035361,-0.13247742290377618,2.5033676471763355,-5.4937794939932676,-4.6977232706317151,-1.7266771192355646,0.77359297100509927,null,96.821758390473065,101.85326694068692,101.55977698422387,98.379808811598721,97.870185045528856,97.930886688481067,102.18282632133354,null,95.565063986380764,99.032307182398142,100.21769252556079,96.297482605735013,96.908845046451148,93.599655635252304,101.39649728521016]
[null,"Mayo",101.32380901955135,101.25923426238111,101.22579166756249,100.96387170923305,99.666828350915878,104.20735008477025,99.712023466458163,null,-1.379313891236722,-2.1250438675927463,0.46165617552664795,-6.0579630180074613,-5.3624371251866361,-2.0887963471679094,1.9894360845196246E-2,null,96.631614214135837,100.75542883208455,100.53414392158042,98.04789588981123,97.207903391402965,97.509351151675588,101.07837245665183,null,95.369109342790196,99.502459766789158,99.316727748345485,97.11186212448392,97.532855213516655,93.572431380659822,101.37029511857543]
[null,"Junio",101.4626284757273,101.04735350535731,101.83582843981681,101.2464551944354,100.63369981012711,103.94340031988062,100.37523163894176,null,-0.36728691362174493,-1.8289250868265161,0.83201169003783715,-4.778058959217879,-4.0736550901056656,-2.5078056157873951,1.1986799090484057,null,97.619310197128868,101.241555595611,101.22107744465953,98.815558490930215,98.373437038727005,97.758252500023957,101.62445385970584,null,96.212084847064787,100.19218919003497,99.396331326041491,97.599030307938335,97.753970314452616,94.049504056224677,101.24455226689552]
[null,"Julio",100.89387039083242,101.44325300074308,102.31462374688422,101.06195494269119,101.54134169438834,103.69279631958996,100.28809118428278,null,-1.7005997165203013,-1.1373454622770618,1.9182507522511827,-4.8194180415469638,-3.4721616634035057,-3.2278337359319842,1.2072848152288485,null,98.144382644720281,101.31359108590739,101.71171216765073,99.090399353412394,98.789316913915286,97.758844228658674,101.53664768774233,null,97.274871371807379,99.872182810585983,99.410727853796317,98.049161437262129,97.289749441408915,94.277372872998484,101.24496985506015]
[null,"Agosto",100.40911128398605,100.65289316476819,102.55004891527993,100.66398468412692,101.40309050404011,102.31550995194851,100.21670344777073,null,-2.912419692167556,-2.7697031863729071,-1.3346513008429928,-5.5790057685209282,-3.7015354318022387,-4.6696921510059886,0.33883009383344209,null,98.256474613346896,100.82039067968263,101.35060049554576,99.091337511184818,98.697136660975133,97.507990824470653,101.07175218367108,null,97.856134126562594,100.16641102868276,98.830377525489936,98.43772608656721,97.33148779823712,95.301280197170826,100.8531998224687]
[null,"Septiembre",100.636326281207,100.34305983291073,103.18648775282519,101.03542928008362,101.3080617590492,100.78699982435359,99.783828488958875,null,-3.1780048222644131,-3.3711001576630983,-2.2966396132138356,-5.6219063615252418,-3.7434935982017636,-6.2432696259091092,-0.87577546034328657,null,98.357571398665613,100.17337992761193,101.5168907988573,99.136149693448189,98.549323121243788,99.21427131144354,100.59192664951055,null,97.735653747759144,99.830900208164536,98.381961640203059,98.120184572710272,97.276881434799549,98.439552208468427,100.80984882298949]
[null,"Octubre",100.33664738778032,99.879976416629574,102.65850181197392,100.58090263167193,100.26893434974173,100.85559672863086,99.613660303596063,null,-3.0302277013827261,-3.6306313540289348,-2.5759566503169906,-5.8668115190063759,-4.1218317328951422,-3.3541678145215914,-1.3012559729221329,null,98.517691223282938,99.511390959160337,101.12287404628751,99.081551547405795,98.437332292496833,99.380971503871507,100.00463244113007,null,98.187146758584134,99.630971621447173,98.504139707299615,98.509308382569614,98.173310538181042,98.537884586884076,100.39248847632184]
[null,"Noviembre",100.13195522229434,99.776263349889746,101.30167918328186,99.896900466278382,99.864221883592819,100.65844382015121,99.858919402752932,null,-2.7430912905250682,-3.891316027074998,-3.0770464737861825,-5.6292338987349533,-3.7666108202104032,-2.3811034812441623,-0.90571022771550602,null,99.027999877884994,99.471806268345375,100.32112558020356,99.41240177042296,98.914980306028184,99.579621541775424,99.904349083789029,null,98.897499462625532,99.694860208908878,99.032046051967001,99.515001272718209,99.04946780772886,98.928234694047788,100.04549386405121]
[null,"Diciembre",100,100,100,100,100,100,100,null,-2.2294675574253575,-4.0016016965848777,-3.0740628736255049,-4.7910465709453458,-3.4829612062535653,-2.7147029134388045,-0.61489538901525753,null,100,100,100,100,100,100,100,null,100,100,100,100,100,100,100]
[2001,"Enero",99.853484447548681,99.165967719089707,99.816007135989167,99.638378297085382,100.2171676788944,101.64948667930719,100.24283951263256,null,-0.96144443111222389,-3.9589965716442799,-5.7001205728594906,-4.4828222247639715,-2.8849761999014789,-1.5802090834239446,-0.60851588637762521,null,100.75582310367186,100.46891867941379,100.69626754137427,100.0077784193558,100.56432352649776,100.56153971131327,99.808603472492706,null,100.90366266246538,101.31390938876834,100.88188300718726,100.37074080147011,100.34640357100861,98.929707366426484,99.566815902012493]
[null,"Febrero",99.362097563699805,99.522393009522474,98.450856750253138,98.995648848822853,99.549192469887913,102.02713676599181,100.40580335234679,null,-0.70675177136216849,-3.0722245381367919,-5.2921972316540948,-4.1495355811657646,-1.6773224402718778,-1.9070936634169811,-0.29045207363914693,null,101.0469141778096,100.30207023426394,99.726608796349055,100.26294009585686,100.80717441691583,100.69649700573035,99.621822429709709,null,101.69563309895877,100.78341888811582,101.29582625099161,101.28014843255315,101.26367870579003,98.695798194049686,99.219187640094958]
[null,"Marzo",98.150671496831393,99.249896284208248,97.297229056405698,98.300719299827065,99.675961691622405,102.43961710065568,99.769608029853956,null,-2.4523182483963457,-3.8879967728290166,-5.2867168479815208,-4.8350569921345565,-1.681709294300171,-2.2419643879772022,-1.1143523941618549,null,101.23519998786696,99.939949177000173,98.772060459586626,100.19237624337636,100.6748838622953,100.41584725990711,98.844146040507923,null,103.14264634565966,100.695268124831,101.51580000528683,101.92435717360271,101.00216958404012,98.024426586093099,99.072400896805064]
[null,"Abril",97.63029295519263,99.428399883202616,97.756394190645338,98.320892526292326,99.685121481935923,102.08471182815283,99.593326143355853,null,-3.6368957931451118,-3.3254000029109609,-3.5354296127742546,-3.7601866459948119,-1.2940459177060326,-2.4302322194436732,-1.1730758732056867,null,101.52193111832344,99.823882613396265,99.236898399010059,100.41676654514413,100.94286024497148,100.27237927780841,98.407292657767272,null,103.98609698417771,100.39775630570162,101.51448324237229,102.13166699874223,101.26171162189283,98.224677801515213,98.809123531147662]
[null,"Mayo",97.664565375537649,99.621716458597433,98.179398122626608,97.894366475738494,99.871922573979262,102.1812532105447,99.814912402198786,null,-3.6114351398965017,-1.6171540459614553,-3.0095033041980024,-3.0402015904604562,0.20577982309346599,-1.9442936343524453,0.10318608745838453,null,101.81797909385151,99.770979297026969,99.596647505650765,100.80216588661195,101.4801044447543,100.20999049966433,98.348447545416221,null,104.25273352965145,100.14982961921919,101.44353032318858,102.97034396927643,101.61024423013765,98.07081764125698,98.530815865595784]
[null,"Junio",97.835037611083806,99.443215926594362,97.815119760988054,97.6917090910719,99.512680260217152,102.76639417297649,100.4238907293584,null,{"$f":"(C83/C71-1)*100","v":-3.5752975446632695},-1.5875107294897162,-3.9482260226369359,-3.5109832700185972,-1.113960385064916,-1.1323529375428909,4.8477188667095383E-2,null,102.13342804500043,99.600453440482667,99.842717023569705,101.07950047308307,101.6529849083246,100.08062339246062,98.150623500266605,null,104.39350823475296,100.15811788911209,102.07288736908579,103.46783919897742,102.1507858521253,97.386528152388834,97.736328265533714]
[null,"Julio",97.528231802804342,99.1212272508035,96.584794216331758,97.202739073564715,100.00361378871351,102.67301217366102,99.927569439098221,null,-3.3358206747254426,-2.2889898354527038,-5.600205836389005,-3.8186633845692985,-1.514386042192517,-0.98346672297839888,-0.35948609742914028,null,102.69234163756444,99.488424115872192,99.674133536332548,101.35363151344691,102.02774788009594,100.01034717410084,97.962441512700579,null,105.29498970636686,100.37045229892037,103.19857731754468,104.27034513578957,102.0240609460964,97.406655416852331,98.033447688732878]
[null,"Agosto",97.959806815223345,99.430366043064566,96.728373632826546,97.203826262218641,101.33754758476732,102.31957642977348,100.82578888076124,null,-2.4393249152812047,-1.2145971002565759,-5.6769112682363172,-3.4373350436761374,-6.4636017449759553E-2,3.9744490614168626E-3,0.60776837796101546,null,103.92509780540821,100.07325632767359,100.96593443968173,101.99321481429047,103.5309383082225,100.35834526946022,98.831472520437941,null,106.089529148865,100.64657338617317,104.3808870631286,104.92716052056625,102.16444030443941,98.083229789697825,98.022017598412432]
[null,"Septiembre",98.388559348162261,99.736438769562042,97.841274986855879,97.296151277786095,102.22984936422,101.80016900610813,100.2846327348888,null,-2.2335542404080089,-0.6045471050601936,-5.180147984853722,-3.700957207725375,0.90988573778381099,1.0052578045980587,0.50188918737001931,null,104.56437944411205,99.943875025914224,102.00222749091377,102.43917443579198,104.0688093562961,100.31418252788984,98.801435174734806,null,106.27696973801164,100.20798442265566,104.25275785154768,105.28594717310273,101.79884838284789,98.540290755186149,98.521012123487594]
[null,"Octubre",98.740334104122368,100.78258931704484,98.781087963611228,97.334829009985015,102.14831919331832,101.19178141236199,99.892587465550733,null,-1.5909573672404309,0.90369755059831469,-3.7770021770475837,-3.2273260000201698,1.8743440884902762,0.33333270005402316,0.2800089476730161,null,105.15725021396685,99.841852544806514,103.89039681189625,102.88893158931607,104.33701956981398,100.20790181035962,98.54808904783188,null,106.49877901271611,99.066568165579753,105.17235530972,105.70618208900464,102.14266900696964,99.027707993406096,98.654055869578372]
[null,"Noviembre",98.353310745671465,99.307768351543999,97.659428174521892,97.383001819813984,101.69651588934907,101.67979491096156,100.07488102100673,null,-1.7763005552765443,-0.46954554381621882,-3.595449787332905,-2.5164931391570056,1.8347852425987687,1.0146700585151436,0.21626672864623053,null,105.8210928285678,99.777906414523144,103.56790609910973,103.62674957104727,104.52802547658419,100.74249396396901,98.443817098823487,null,107.59281210391282,100.47341519277211,106.05008449776004,106.41153757283635,102.78427393748271,99.078183676694749,98.370156521254444]
[null,"Diciembre",97.891968775239803,100.22741795344731,95.4949216750625,97.224699316905244,101.77087930196444,102.45812372842484,100.15745557720528,null,-2.1080312247601984,0.22741795344731752,-4.5050783249374948,-2.7753006830947502,1.7708793019644453,2.4581237284248436,0.15745557720527881,null,106.71910403042311,99.81788696665113,102.01185308050444,104.07675072979561,104.81207838438287,102.0336206706771,98.305371970478973,null,109.0172210913956,99.591398246948359,106.82437483703782,107.04764474565872,102.98828024605633,99.58568140592449,98.150828017691936]
[2002,"Enero",97.382530802849686,99.165918273150012,94.712321903777948,97.261692566186625,101.7554662754162,101.9323994904597,99.46663247508728,null,-2.4745792882139628,-4.9861803230744073E-5,-5.1130929583848905,-2.385311535091772,1.5349651483373083,0.27832192802417222,-0.7743266664423043,null,107.02273126643085,99.801061770759375,102.15678619131432,104.14834641300097,104.71523833614154,102.20184262425846,97.995176290902691,null,109.89931190338203,100.64048567155892,107.8600800169375,107.08054082251135,102.90871062662548,100.26433512322446,98.520653461799725]
[null,"Febrero",97.921548088946409,99.124120721401979,93.191934241060579,97.019225734325303,101.36258096723664,102.75865739575271,99.673635095554147,null,-1.4497977700499765,-0.40018359293509942,-5.3416726707957611,-1.9964747314457854,1.8216004091617721,0.71698633613397345,-0.72920910181187848,null,107.72921024039972,99.73052823866341,101.0961324304527,104.67444227886919,104.88857350739988,102.70078751764737,97.786118851172915,null,110.01583649652331,100.61176584755371,108.48163336640941,107.89041191228088,103.47859388199967,99.943683695785893,98.106303394501737]
[null,"Marzo",98.713173874264697,99.207828557876766,92.986330416845419,97.654529954366978,102.43734042812936,102.25513428184442,100.11317342981104,null,0.57310089564843736,-4.2385662762833842E-2,-4.4306489314933533,-0.65735973252559754,2.7703557504166421,-0.18008932875061001,0.34435877492300371,null,108.87860763254325,99.86486525308419,101.03189977499957,105.42518223781066,105.78217855360063,102.8313523895586,98.061267419051873,null,110.29795047541143,100.66228311289377,108.65242162163722,107.95728809208836,103.26525279892249,100.56351019610025,97.950413576493261]
[null,"Abril",99.971583973042129,99.399714138817998,91.936783429950907,97.992644007449044,102.97280465470644,104.60663819478034,100.79277084027656,null,2.3981194227533864,-2.8850654760925742E-2,-5.9531765761991817,-0.33385429119807686,3.2980680806676599,2.4704251219054951,1.2043424427799598,null,109.87664404107996,99.888694523070356,99.932323093572379,106.01058980960734,106.39726395681961,105.35397053586965,98.209686028880029,null,109.90787549260877,100.49193339084404,108.6967798582093,108.18219151383322,103.32559583435281,100.71442152619201,97.437232065492196]
[null,"Mayo",100.58641100775456,99.574149866287854,92.32185208588659,98.325191514073012,103.75546394881763,105.26324651225083,101.49231761945283,null,2.9917151845010537,-4.7747212154636287E-2,-5.9661661700389672,0.44009175792694144,3.8885216933334465,3.0162022923673426,1.6805156432888824,null,111.18160658895215,99.999024180783451,100.61852824863087,106.82806075076034,107.60293171180318,105.59555671435265,98.612253185428983,null,110.53342640924009,100.42669138030919,108.98668730673418,108.64770167823201,103.70820737198332,100.31569442622421,97.162283312099845]
[null,"Junio",101.27043850366101,99.114348780810289,92.358001192299497,98.005647880024057,104.9508308060751,105.42221593435194,101.83939463145688,null,3.51142185505533,-0.33070847791852875,-5.5790133284333354,0.3213566349417496,5.4647815048671777,2.5843290335799463,1.4095290391737958,null,112.58922150449426,100.12680241742054,101.16320501287055,107.6274835586232,108.95452158697292,105.82572709595188,98.968370319634701,null,111.17678877279087,101.0215005688523,109.5337747752224,109.81763386777254,103.81482523782562,100.38275723766914,97.18083132542958]
[null,"Julio",101.09583208648016,99.230983871527158,91.445174514084158,98.092535454402821,105.94616626169139,105.32387268252859,101.9614964526121,null,3.6580180094818893,0.11072968300316344,-5.3213549233597002,0.91540257951443493,5.9423377294476998,2.5818474132071945,2.0354012660674936,null,113.95396009641097,100.3212880160184,100.91437316227048,108.50441231015682,110.09736347922892,106.06208413612104,99.210683921110729,null,112.71875184620038,101.09875373794826,110.35505558221436,110.61434165966058,103.91821371552408,100.70089661041766,97.302106552761487]
[null,"Agosto",100.83477669780848,99.819889491164545,90.490394292773743,98.075033849699921,106.09830362154558,104.59483078187424,101.3638887819847,null,2.9348464192135992,0.39175501770885024,-6.4489653922350509,0.89626882087037174,4.6979191328820669,2.2236745220132637,0.5336927260344293,null,114.66529975751752,100.21713801950234,99.526523977257142,108.83365932295162,110.05622314398289,105.92193530256652,98.686831595115905,null,113.71602488014399,100.39796530567484,109.98573357438116,110.96979022177989,103.73042677152999,101.26880507456421,97.358963612153175]
[null,"Septiembre",100.98343063255405,99.965298133858937,90.3164996122009,98.120089210908532,106.07937429857795,102.9763535690708,100.80462516898365,null,2.6373709520529198,0.22946414281510563,-7.6907985670320311,0.84683507240697065,3.7655586487690407,1.1553856682616104,0.51851656621157982,null,115.03663936197512,99.79953935808723,98.803709191003989,108.82516588447402,110.30292831169109,105.51829979070915,97.833752648678995,null,113.91635107006428,99.834183682871895,109.39718613458813,110.9101782923933,103.98150351191293,102.46847565828145,97.052841062278205]
[null,"Octubre",101.37026490908511,99.982482329391118,89.47074783788716,98.175572824004092,106.39807156311144,100.15326773764797,100.42346620223199,null,{"$f":"(C99/C87-1)*100","v":2.6634817765447849},-0.79389405757052112,-9.425225331749532,0.86376461804111848,4.1603742512398734,-1.0262826291020821,0.53144958014461618,null,116.00228820782013,99.759387819494364,97.945876114757937,109.28538390951384,110.50723388162569,105.40649966108869,97.527100442053893,null,114.43423602755493,99.776866402294587,109.47251306340587,111.31626815707602,103.86206465788888,105.24519273520019,97.115847650243978]
[null,"Noviembre",101.70077338843724,100.44290740676286,88.181205263198109,98.370601993721209,107.61653823582034,99.881771342285305,101.12945547965062,null,3.4035078406479569,1.1430516202927121,-9.7053844042438655,1.0141402046063064,5.8212636831261211,-1.7683194289000448,1.0537853733970648,null,117.48065266883626,99.949591645093022,96.808742948587877,110.09514536587581,111.43500780644919,105.55408897225472,98.17759626700321,null,115.51598749414535,99.508859535823632,109.78387362662916,111.91874720142809,103.5482181765236,105.6790318731242,97.081108368825952]
[null,"Diciembre",102.03458244999689,100.19820949845082,88.273767643988464,98.227622940749086,107.5438421840864,98.134764910384405,101.41351858092288,null,4.2318217996703433,-2.9142180446128929E-2,-7.5618199422637584,1.0315523019256645,5.6725095839970097,-4.2196349695997837,1.2540883716333884,null,118.79596130613206,100.07161883235935,97.428112673649522,110.77338913124785,112.0924325008684,105.67008285659449,98.234122445307676,null,116.42715484659259,99.873659752279892,110.3704025261286,112.7721366097461,104.22952186234522,107.67854078327008,96.864918819399605]
[2003,"Enero",102.773424335637,99.260422479199804,89.657445814317782,99.028630947013724,107.80844567824039,95.885757762870767,101.56762441762886,null,5.5357911612516464,9.5299078247301772E-2,-5.3370839061422366,1.8166847956349264,5.9485545341032786,-5.9320115663075939,2.1122580409745018,null,119.92251736214425,99.815942149025389,99.807832122098716,111.99621240420687,112.97703584352128,105.52836545686029,98.004661731519889,null,116.6863108214647,100.55965878035829,111.32129765195695,113.09478009862781,104.79423493471633,110.05635030578375,96.492029121938813]
[null,"Febrero",103.49357508234388,99.561808729304445,89.680028681750429,98.794286638126636,107.223687689092,95.94630281859834,102.03474440504954,null,5.6902970818395904,0.44155550103959218,-3.7684651444467976,1.8295970621968305,5.782317957895966,-6.6294702069900175,2.3688403731155772,null,120.92054365893947,99.662899809033888,99.887938726668963,112.4449791861561,113.36050242810811,109.00613760412345,97.823889926842455,null,116.83869608594537,100.10153600162516,111.38259007603976,113.81728945321561,105.72337593611829,113.61160816192866,95.873117041886076]
[null,"Marzo",104.44076670158623,99.925332163725443,90.685703622002293,99.530852290865383,108.37836284523047,118.6864419850727,102.59768544076842,null,5.8022577965297861,0.72323284994599835,-2.4741559157455906,1.9213879144932555,5.7996648412298013,16.068931715388391,2.4817033821220802,null,122.11090610183264,99.735910823405419,100.85260293006033,113.06129460679664,114.19213119305751,136.41237943768019,97.871890253087159,null,116.91881432729663,99.810437117177003,111.21113792140366,113.59421928427818,105.36432567829925,114.93509886734736,95.393857895157339]
[null,"Abril",104.65160408785465,100.17119008398754,90.720573570415397,99.736682474690838,109.53976392154716,124.08348397644812,103.09181385683239,null,4.6813503685952496,0.77613497368023143,-1.322876235345094,1.7797646802031553,6.3773724420359112,18.619129835146197,2.2809602289821429,null,123.64462189801215,100.07902287193372,101.43755991786519,113.99717471409774,115.27222788640439,143.18821905729507,98.32912537034052,null,118.14880715465472,99.907990299429855,111.81318186787199,114.2981417524346,105.23322651029525,115.39667848500541,95.380148715681727]
[null,"Mayo",106.15127775141404,100.92820487400121,91.598489865020866,101.06863624042099,110.89118870843606,132.9454221978587,104.77993468657442,null,5.5324240003259195,1.3598459133536522,-0.78352221551273304,2.7901748108523305,6.8774447995707089,26.298044761887663,3.2392767691526769,null,126.2435284838859,100.85808581410016,102.83080379294725,115.84293782397341,117.73757707957057,155.44976136556713,99.814511494161934,null,118.92794053739424,99.930525802981848,112.2625536124867,114.61808740389796,106.17396968224011,116.92750212505693,95.261093445738979]
[null,"Junio",106.50723136353105,100.62052412274463,91.502232507880578,101.26830808398783,110.17955787988765,142.84970575177189,104.82547752317382,null,5.1710972493524965,1.5196339989734575,-0.92657774461479825,3.3290532479901991,4.9820730656949586,35.502469271492679,2.9321490986107701,null,127.45136051809487,100.81683341547367,102.995493539354,116.35749199905186,118.22226707362688,175.4909038060853,99.928912386814801,null,119.66451374843949,100.19509865848997,112.56063455116636,114.90020343042531,107.29963828907989,122.85002820449178,95.328840610073513]
[null,"Julio",106.22623826750937,100.9056751528194,91.076423925684011,101.02711273190913,110.66345307517761,164.03450823538051,104.30101966183682,null,5.0747949496479094,1.6876697337400604,-0.40324772778835838,2.9916417838647957,4.4525318658858559,55.742951771076491,2.2945163523684142,null,128.0779650436653,100.65184242000258,102.74581279873176,116.45726049485896,118.59781322650524,208.74517537844491,99.507243704902137,null,120.5709315631857,99.74844553348224,112.81274381454598,115.27327402090177,107.16981074676708,127.25686663376163,95.403903075466573]
[null,"Agosto",106.46586798340483,100.58250884793391,90.644622653377624,100.36246401718815,110.20258134920269,155.9572632316756,104.01046127735646,null,5.5844734029333543,0.76399539275873174,0.17043616818033236,2.3323266663294984,3.8683726200723578,49.106090679485305,2.6109618791994693,null,128.45633703072994,100.28975565918891,102.18602962233749,116.32574208004061,117.64056789103306,203.76342693051214,99.005410743497038,null,120.65494741540344,99.708942248410608,112.73258868658307,115.90562589228438,106.74937596811944,130.65337433359559,95.187935451499598]
[null,"Septiembre",107.86802723576125,101.01774447420662,91.599246176377747,101.05264327381154,111.78300555971823,145.3199017150333,105.05881161347621,null,6.8175507210267217,1.0528116856495684,1.4202793173835104,2.988739703038279,5.3767580162063178,41.119681051398672,4.2202294164191967,null,129.84026948251682,100.42614160059647,103.25702073599254,117.22185757896413,119.16437350900702,191.98628470138823,99.456231854070538,null,120.36955973870927,99.41435747086868,112.72693285834177,116.00078313769644,106.60330066482729,132.1128644016467,94.667196712620154]
[null,"Octubre",108.15327645902276,100.91744184612018,92.882107675692836,101.64554267807428,113.16607078119627,156.59503105573523,106.05371893541411,null,6.6913227029850031,0.9351233285535443,3.812821419562451,3.5344533820960589,6.361016810413056,56.355388688801234,5.6065110537451002,null,131.71579593184705,100.68619301183202,105.12151672781469,118.44593729620058,121.10413800179607,212.30539444185777,100.09742821662471,null,121.78622806841335,99.770853452031844,113.17735929815136,116.52841253584086,107.01452932473714,135.57607352579032,94.383704052455968]
[null,"Noviembre",107.42257297351975,100.69177395131662,92.207410300550009,101.27251191589737,112.45854969727577,167.83916844331736,105.90391400116927,null,5.6261121665502012,0.24776915660746912,4.5658312622681052,2.9499767850982295,4.4993191017212553,68.03783732283695,4.721135399052323,null,132.83935563851742,100.68029672593497,104.87732434531691,118.92785743953979,121.41113069352836,241.61606686601633,100.14716549945473,null,123.66056031004122,99.98860162560328,113.74066791754514,117.43350213165884,107.96078290210198,143.95690178101358,94.564177768112529]
[null,"Diciembre",107.76346845078101,100.76888847511427,91.582906393575627,102.01364650454002,112.85965768750187,153.08628171188877,107.01857240986922,null,5.6146512909891255,0.56955007431771509,3.7487226816159458,3.8543369476370826,4.9429287585952109,55.995973345109128,5.5269296513696942,null,134.88984351335219,100.97785941176909,104.68920321331913,120.11123711251537,122.70061948840339,228.55158260199099,100.91243936968171,null,125.1721436332208,100.20737644308385,114.31085487003376,117.74036242020809,108.7196452678868,149.2959264842093,94.294323963880117]
[2004,"Enero",108.1064871397879,100.37493654463452,91.906042032867887,102.63961105956871,112.49095185035097,176.63127739989352,107.57739759679289,null,5.1891457724851264,1.1228181762658496,2.5079860329804582,3.6464001148183822,4.3433574639279549,84.210128303631478,5.9170165824228294,null,137.02961136822,101.1419567689192,106.2960808870681,121.18879657142914,123.22304673048062,280.0452698384089,101.48402387000229,null,126.75429106398846,100.76415512745416,115.65733714117945,118.0721510149674,109.54040720928984,158.54795026159832,94.335823450917673]
[null,"Febrero",107.9096853511622,100.3263224279971,91.547849698908735,102.24233645306674,111.63202787201512,170.2838506548749,107.99957881828892,null,{"$f":"(C115/C103-1)*100","v":4.2670380893738313},0.76787847514026009,2.0827613958361635,3.4901307882002852,4.1113491598103069,77.478282802437363,5.8458855834054413,null,137.91594186655593,101.03072808321383,106.16960156567356,121.5365917326956,123.28827747413007,298.83865242952254,101.40053861180634,null,127.80682421392173,100.70211449813908,115.97170432167903,118.87110168739707,110.44167146679331,175.49441786772709,93.889753757664579]
[null,"Marzo",108.4007377190656,100.11725710935379,91.178475434982744,102.49685585736475,111.68390102589085,158.05835176904907,108.48943195729426,null,3.7915951237642798,0.19206835891611984,0.54338423069906217,2.9799840936070909,3.0499982596903008,33.173047506915921,5.7425725455836574,null,138.346933308785,100.84787701496489,105.84381981709979,121.54871292628557,123.25678884478091,282.06238161003773,101.05146435528663,null,127.62545368217771,100.72976420519899,116.08421758770749,118.58774779924323,110.36218086276124,178.45458873453282,93.144062543404672]
[null,"Abril",108.13193887811561,99.362171968446646,90.11904018959217,101.79231699321481,110.94712221056064,150.03323306191578,108.57338765484512,null,3.325639220340304,-0.80763552360971769,-0.66306170381112972,2.0610616550692074,1.2847921509320015,20.913137070194686,5.3171765952485961,null,138.79987271722584,100.61696149596457,104.86718480787572,121.59888601583766,123.09087456582837,268.59994635980132,100.81495560900629,null,128.36158692546758,101.26284430247398,116.36518163892606,119.4578231517641,110.94553163102397,179.02696681138332,92.854204687337472]
[null,"Mayo",108.17411478950108,98.764708831897366,88.518959008434607,101.3017233006975,109.9969781953502,154.85354300264271,107.75635401148566,null,1.9056172294262153,-2.1435990512312708,-3.3619886759314932,0.23062254419070616,-0.80638554199017332,16.479033608377126,2.8406386526337535,null,139.16171727071733,100.2239377239849,103.44107613966027,121.40293364047817,122.66519788460559,283.08088882175031,99.940503550749398,null,128.64604211600516,101.47748007293902,116.85753797647325,119.84291054961969,111.51687973351154,182.80556152139138,92.746738201718316]
[null,"Junio",108.44578441452332,99.085547753657821,88.185490542833804,101.69952814498791,110.89566000394463,156.53869270538266,108.06362958762409,null,1.8201140205922561,-1.5255102102373463,-3.6247661659633557,0.42581935963859063,0.64994100342790073,9.5827897450471156,3.0890887797142774,null,140.67341664903762,100.43279869981718,103.23708418666342,122.33741864286844,123.80431737926246,291.05797630962189,100.37051346149184,null,129.71773629422731,101.35968461264284,117.06810672728378,120.29300516366028,111.6403629996509,185.93356778404581,92.88093861413914]
[null,"Julio",107.99544890496293,98.765239982918402,87.3276322226817,100.90235219850702,110.55525182779061,145.07136774926479,108.22180310916826,null,1.6655118982921602,-2.1212237732509687,-4.1160945296460305,-0.12349213001184856,-9.7775050732873403E-2,-11.560458034174525,3.7591036598140226,null,142.07452971191822,100.54294606558972,102.78188084472499,123.10463265729167,124.3014905880399,271.71855494979815,100.71296888501028,null,131.55603421487254,101.79993090988164,117.69685977816921,122.00372932348071,112.43381796249849,187.29991945717711,93.061625283970301]
[null,"Agosto",107.93042333317399,98.697702487972421,87.440985493933454,101.2032128752042,110.87274099270955,132.9252457288608,108.16143887767436,null,1.3756102096471379,-1.8738907803652394,-3.5342826365936664,0.83771245181074594,0.60811610336359845,-14.768159574973161,3.9909231718998184,null,143.14458404483685,100.571496530831,103.01680199117796,123.70990928009032,124.69895146996389,250.01913845794269,100.79776173116261,null,132.62672342436673,101.89851840075703,117.81294710856744,122.23911253947995,112.47034244256979,188.09003292567047,93.191957112516107]
[null,"Septiembre",108.39817144199415,98.821320695501996,86.996070419185259,101.918135454124,110.78077767758936,120.90497289626184,108.94701307966417,null,0.49147483255089774,-2.1742950113734283,-5.0253424011032832,0.85647653764713283,-0.89658340917793122,-16.800815669864811,3.7009760594790553,null,144.49660048212795,100.64563008691836,102.99693882607252,124.41998701976075,124.93200116821485,224.21172660972792,101.06157277792256,null,133.30169555438556,101.84606862018939,118.39263351756929,122.07835873897577,112.77407848842739,185.44458613964929,92.762132637839628]
[null,"Octubre",109.48338515190072,99.146170468702408,86.1051773242569,102.44168799013092,110.70946403009516,104.96965607709201,109.78295593559828,null,1.229836706224896,-1.7551687250640269,-7.2962710698795341,0.78325649219872506,-2.1707979557325952,-32.967441323389593,3.5163660809058861,null,146.35056925356363,100.89644365592842,102.47059159166712,125.54702169472741,125.94232086508374,196.324338455571,101.48752544915658,null,133.67377072832761,101.76534623470759,119.00630690972385,122.55462025071515,113.75930862681052,187.0296100726348,92.44379018970119]
[null,"Noviembre",109.88941604959631,99.673146239978621,85.426790247829459,102.87223238822472,111.21253210928043,98.389763147382482,111.09528242255777,null,2.2963917245629961,-1.0116295218221993,-7.353660655493,1.5796196243812455,-1.1079794211729221,-41.378544674683212,4.9019608674058857,null,148.85744153202,101.36945544920002,102.6185956043782,127.05874810985503,127.44378642580965,180.84593692355617,102.63118139208211,null,135.4611270887419,101.70187184132553,120.12460646908778,123.5112188781458,114.5948069059159,183.80564312636758,92.381223715439219]
[null,"Diciembre",110.18160816198385,99.658299801983503,85.455262142700661,103.2918899480924,112.1683572607117,97.739370595020304,111.5670346449092,null,2.2439327036947398,-1.1021146406760551,-6.6908165422721382,1.253012207043791,-0.61253103274893084,-36.154063249790326,4.2501615678630644,null,151.16156195802176,101.77050908876753,103.44402880005778,128.30911119081472,128.58705752631255,177.37564774991108,103.62817135681497,null,137.19309826717279,102.11945145660812,121.05050784036902,124.21992787167927,114.63755079111932,181.47819724035355,92.884221299453102]
[2005,"Enero",107.7062242107589,98.144505022796125,83.619799879221901,103.15231073698909,111.75709777251383,99.100387379184284,109.28212794538086,null,-0.37024876084580383,-2.2221000566676086,-9.0159928230644777,0.49951443904325821,-0.65236720444271645,-43.894202183217622,1.5846547571055858,null,151.64720959191399,101.6623036884428,102.85273328986374,129.65085423701589,128.2243765581355,182.8007915505965,103.53646795209761,null,140.79707157422177,103.58430526989729,123.00045376623876,125.68875414491781,114.7348840600187,184.46021896075172,94.742360803813298]
[null,"Febrero",107.90715607781721,98.660920192652313,83.092902770595231,102.84274875586061,112.25920282842442,96.38721714522265,109.39207606145078,null,-2.3438798257613414E-3,-1.6599853309085644,-9.2355494488630114,0.5872443095717772,0.56182349130875497,-43.396148974469249,1.2893543274874686,null,152.71559006302112,101.73037179199696,102.38284424076407,130.10433848808984,129.66617891140149,176.83833263647364,103.60021279941027,null,141.52498834543496,103.11111187018227,123.21490864680098,126.50803295519238,115.50605709322707,183.46658184978887,94.705408773130031]
[null,"Marzo",108.51532922287163,99.295273559457911,82.234163748573536,103.0980901655531,112.2873597913874,95.30031964058719,109.34875083523229,null,0.10571099995924094,-0.82102084458631763,-9.809674535287872,0.58658805010081139,0.54032744196199634,-39.705609622047909,0.7920761150969069,null,153.88096010554787,101.73652126206065,101.15140191308156,130.55545380380468,130.25276820986619,173.48606618585023,103.60754394059251,null,141.80573492018175,102.4585739230991,123.0041108247254,126.63227184340759,115.99949313249127,182.04143159239177,94.749636506327633]
[null,"Abril",108.4905074184926,99.349398763049663,81.930168095312496,102.69505753573463,111.0693641489496,95.316152365292268,109.40751139196367,null,0.33160280310997603,-1.2855199462669109E-2,-9.0867280399923764,0.88684546062547387,0.11018035975458584,-36.469973738446896,0.76825800054265425,null,154.50578945746631,101.69179730533418,100.90542239869676,130.50125501846875,130.40600597239239,173.02719610873899,103.43611533934553,null,142.41410897035794,102.35773801497399,123.16027751988696,127.07647101035843,117.40951879179877,181.52977414113903,94.542060251032495]
[null,"Mayo",107.63033445887007,98.630047725559479,81.39999424776272,102.36991045082672,110.81219886688906,97.119583858084198,109.81105307333922,null,-0.50268988259267733,-0.13634536863474933,-8.042305106630943,1.0544609857805476,0.74113006094682632,-37.282943628595724,1.9068008385237034,null,155.42873216224638,101.75363863626556,100.82270691911035,130.62622609172104,131.25006328481342,175.82385510486029,103.52342439948161,null,144.40978274729977,103.16697698392842,123.86082806373351,127.60216895419401,118.44369539356848,181.03851779449815,94.274138624589725]
[null,"Junio",107.22552987035151,98.419278451809831,80.842017277117193,101.08052253797925,109.68872379019426,97.510725041082324,109.08671810513215,null,{"$f":"(C131/C119-1)*100","v":-1.1252208195640878},-0.67241824559969299,-8.3273033018393292,-0.60866123796186056,-1.0883529740545628,-37.708228326267758,0.94674639507501546,null,155.57021720992017,101.55319905967619,100.82188323757164,129.86739023892218,130.94443978769533,176.56132076556003,102.95359841758585,null,145.08691857062695,103.18425480979407,124.71470484459306,128.47914412999475,119.37821433510128,181.06861649441416,94.377757627985915]
[null,"Julio",106.78605239217802,98.63886637109276,80.022801685587581,100.45658828513099,109.94039622309339,97.305288312472328,108.75201994069576,null,-1.1198587765019474,-0.12795353086521022,-8.3648558321919424,-0.44177752417413618,-0.55615232612826748,-32.925917896734333,0.48993531459888828,null,156.44448049259313,101.55276829592465,100.37800173699169,129.80184092719745,131.96068743349417,176.57242010720148,102.73927808676868,null,146.50272857549001,102.9541113275465,125.43675005454122,129.21187464457219,120.02929948125414,181.46230607752992,94.471144667284406]
[null,"Agosto",107.08166384131371,99.034774585772851,80.359798570337333,100.52909580071906,110.71457690878533,96.93553412975777,109.71767280764018,null,-0.78639503640248742,0.34151970036131463,-8.0982469303109603,-0.66610244411549058,-0.14265371497816925,-27.075151452053269,1.4388066080794903,null,158.22115285034931,101.78746907262497,100.77067350316,130.43917053511234,133.30023572033764,177.47226904287513,103.27808328212245,null,147.75746582049766,102.77952315069699,125.39936049610358,129.75265468783749,120.39989623964331,183.082778298112,94.130763658460211]
[null,"Septiembre",108.58984633873415,99.666225355826072,80.733832977345898,101.11830577771177,111.30674375248827,99.545815669763158,109.73594274100604,null,0.17682484325167724,0.85498215807848776,-7.1982992009468338,-0.78477659824561785,0.4747809917255319,-17.666070067130434,0.72414069834569883,null,159.21145262717121,101.77675933638785,101.11865281397728,130.45087510973755,133.77316315944742,186.23130082362559,103.27558966733696,null,146.61725565991549,102.11760199909929,125.2494141363899,129.00816929874946,120.18423920199974,187.08099338041083,94.112819453406871]
[null,"Octubre",107.76985525781447,97.820149841013375,79.765610540439567,100.89829766909267,110.39976134553807,104.88534112860442,108.83067366300649,null,-1.5651049624642588,-1.337440086107633,-7.3625849000271355,-1.5066037580198199,-0.27974364004951235,-8.0323163510853668E-2,-0.86742269278158313,null,159.62087754520459,101.5848368354504,101.4709962232001,129.97194098358977,133.62989697668294,197.97147226624335,102.79982951592945,null,148.11273260351749,103.84858027774008,127.21145809039641,128.81480063206556,121.0418350076295,188.75037267934519,94.458507014528351]
[null,"Noviembre",105.88564312839897,98.426074437536556,78.600600768314905,99.96386438498952,110.59481099297858,107.78985348328503,108.63161326209672,null,-3.6434563628860439,-1.2511612700973118,-7.9906894075163937,-2.8271652473326747,-0.55544200333004223,9.5539312578908575,-2.2176181622999391,null,160.2167220701742,101.5264571226091,100.55458110809474,129.66933118768472,133.97727353378204,202.94723361410325,102.5118530990393,null,151.3110912268742,103.14996072208503,127.93105920970238,129.71620493610664,121.14245897331293,188.28046152375026,94.366501629417769]
[null,"Diciembre",105.45995386718089,98.3361731410657,78.681474846066067,99.506097413972327,110.45860648961563,106.14823606983788,108.16072119641687,null,-4.2853379738852615,-1.3266598602874158,-7.9267058888932258,-3.6651401538132067,-1.5242719184360598,8.6033554581187222,-3.0531540605464702,null,161.39373097428529,101.55896198008413,100.75593144987461,129.80361666713455,134.31356204941574,202.23792188591614,102.56664725518011,null,153.03793056608853,103.27731773169093,128.05546877075631,130.44790222966571,121.59628508625333,190.52405331809581,94.827998667762145]
[2006,"Enero",106.06159011495625,99.322506892108919,78.965434685509692,100.32900994666602,111.17454274358055,109.98964742482461,109.9317439348451,null,-1.5269629103183968,1.2002728721686173,-5.5661042007214112,-2.7370213717477831,-0.52126893105178818,10.988110474255897,0.59443936687333387,null,163.4416940681734,102.10593653259853,101.344185132584,130.45910356400029,135.97945672989246,211.48818106617276,103.68687584883618,null,154.10073891125427,102.80241581448723,128.33993194136224,130.03128769371008,122.31168518814908,192.28007909628045,94.319322279004169]
[null,"Febrero",105.93512478296219,99.129763189961665,79.078999569145211,99.762286057455256,110.46167541412844,109.18579929100639,110.39334988512388,null,-1.8275259644808806,0.4752063901227066,-4.8306209888126066,-2.9953134622238586,-1.6012294484607281,13.278298227555062,0.91530745162076155,null,164.3185311155529,102.19644021840683,101.25343431010958,130.34999357883251,136.77244665594594,209.18927772077689,103.7002874952545,null,155.11241569045723,103.09359866276337,128.04086402430454,130.66059202348384,123.81891379356379,191.59018762434224,93.937078277963096]
[null,"Marzo",106.76865924136004,99.118622816611079,78.998548556841413,99.977407746918416,110.19296757284432,104.41904406430582,110.43183562026394,null,-1.6096066740250436,-0.17790448277585913,-3.9346362195946227,-3.0269061372752426,-1.8652074663026541,9.5684090652672804,0.99048665554821724,null,165.24125770799057,102.07888338556481,101.20679889475196,130.30855437367467,136.88085879404719,199.26269530713643,103.67391302982578,null,154.76569517881461,102.98658363568146,128.11222578593475,130.3380006646463,124.21923268702291,190.82984056473617,93.880457974386786]
[null,"Abril",107.76537263684311,99.171536746898212,78.635896970313269,100.3119396165026,109.64804745172096,103.12125604613776,109.99530853994197,null,-0.66838546422530731,-0.17902676650882743,-4.020827982638675,-2.3205770330308129,-1.2796658269535022,8.1886474507835807,0.53725483789908157,null,166.4142617148496,102.09939971328426,100.92531572959305,130.54982951526927,137.34597620846876,196.52119975644104,103.79918930894854,null,154.42275903934978,102.95232186817718,128.34509380327219,130.14385925979261,125.26075876448547,190.57293063664292,94.366924086818244]
[null,"Mayo",107.62183102334136,99.739472934705802,78.659821059554758,100.72159213863335,110.23466355599884,104.55396256675169,111.17114750302133,null,-7.9005937977050245E-3,1.1248349105876132,-3.3663063659040482,-1.6101589861067023,-0.52118387397399601,7.6548708441038782,1.2385769843894945,null,168.27393020979727,102.44010416567973,101.2602582025512,131.49290076552373,138.98367280495521,199.58217929319176,104.4681966232128,null,156.35668768105376,102.70768548450411,128.73186950919356,130.55085605133871,126.07982672741771,190.8891584723726,93.970602057852858]
[null,"Junio",106.57640022205962,98.551115134191321,78.056631606041321,99.965239843891311,109.57338403008504,104.23290567707886,110.05978488721367,null,-0.60538721429194142,0.13395412408561125,-3.4454677961930247,-1.103360633764916,-0.10515188446338364,6.8937859226914977,0.89201215233529751,null,168.09211123650098,101.92648419718793,100.98691857427325,130.73735825172065,138.55558842498746,200.19183382960017,103.51609763386993,null,157.71982435723945,103.42499327217209,129.37647512637119,130.7828185636167,126.45004044681592,192.06202928834111,94.054424820065279]
[null,"Julio",106.66718674696619,97.904443815431605,77.898287730828798,99.941839852772205,110.00624906761375,103.74891561163592,110.64275946661145,null,-0.11131195745984757,-0.74455697097952633,-2.6548857450730989,-0.51240883365235579,5.9898678540992734E-2,6.6220730763074664,1.7385787656603924,null,169.54497752864944,102.293099330901,101.02650621150239,131.17288266224779,139.65494666019674,200.57899820805764,103.88932580557857,null,158.94764144369972,104.48259072258541,129.69027838017604,131.24921740032315,126.95183032225728,193.3311755844143,93.896181102505068]
[null,"Agosto",106.95153021975466,98.901433090813612,78.034323689544806,100.16358815850559,111.11104304589061,103.79547415526413,111.37544626678481,null,-0.12152745567336476,-0.13464108492896587,-2.8938286583148676,-0.36358393488192808,0.358097504569721,7.0768063405145742,1.5109447883123295,null,171.08453645261278,102.54949896343027,101.27621526641599,131.6421659118821,140.92082261694802,200.58425181270673,104.40904397691256,null,159.964552261275,103.68858747402265,129.78419044078316,131.42716663021568,126.82881804893643,193.24951636394044,93.745118405016143]
[null,"Septiembre",107.28976774859323,98.553504710363455,78.350052015399257,99.734266330658826,111.39663074748566,105.55290474653268,111.38213047555367,null,-1.1972377104996212,-1.1164470626734424,-2.9526418776816055,-1.3687328287476208,8.0756108719937103E-2,6.0344968157151291,1.5001354099931419,null,171.64378757165781,102.40412945002537,101.47538051796236,131.36877489180893,140.77999854244976,202.28358461528893,104.18405832595894,null,159.98150725226859,103.90714135532615,129.51539649012352,131.71879608184923,126.37725000998499,191.64189285083012,93.537498233458038]
[null,"Octubre",106.63518436372766,98.615038499287976,78.209965435178674,99.244751867561277,111.18937598913439,106.73926967761211,110.73744680876808,null,{"$f":"(C147/C135-1)*100","v":-1.0528648214033209},0.81260216792402584,-1.950270416938904,-1.6388242812127363,0.71523220156692879,1.7675764115926418,1.7520548955397564,null,171.40345846152761,102.43042469302081,101.59875023673648,131.27827623676384,141.41719906069602,205.54294088221167,104.1639288163537,null,160.73818363447319,103.86896993784612,129.90512100525436,132.27729806000241,127.18589146009376,192.56543679099482,94.0638707304078]
[null,"Noviembre",105.37781881029541,98.160546687064198,77.928535203601911,99.096194241367499,111.3009150957831,106.59726622698827,111.22091489801507,null,-0.4795969529955646,-0.2697737890998253,-0.85503871235538265,-0.86798379490450328,0.63846042727027097,-1.1064002944226048,2.3835617995206615,null,171.16845037830862,102.65860744037664,101.86681856601072,131.84250801457216,142.60987418019428,206.73884798262293,104.77723430015129,null,162.4330929514224,104.58235095985383,130.71825140799305,133.04497617077487,128.13001048326277,193.94385550413006,94.20641288217027]
[null,"Diciembre",105.25760119414529,97.819078522323437,77.377618973135341,99.027952560824843,110.82276269799412,104.88713007209454,111.46144457829745,null,-0.19187631476724754,-0.52584374826186719,-1.6571319684609565,-0.48051814469044496,0.32967662724654456,-1.1880611910626837,3.051683961950058,null,172.14519929885651,102.93489607837607,102.15302091501563,132.47401652560532,143.7533419391556,204.43864505150526,105.30155680311508,null,163.54657273761973,105.22987706829107,132.01882181265108,133.77436683267513,129.71463482723439,194.91299353026784,94.473525981573587]
[2007,"Enero",104.91397291476278,97.261416012690347,77.23497337452045,97.416545402647074,110.03163860737185,109.44182806727069,111.38101999104114,null,-1.0820290351574058,-2.0751498768123877,-2.1914161783330055,-2.9029136693038082,-1.0280268378029311,-0.49806447277535026,1.3183417312609969,null,173.20584191210378,103.08446760435352,102.80329250356168,130.8195330741911,143.09737756932611,207.63937061156298,105.41627652048466,null,165.09320646242674,105.98701091386886,133.1045872250875,134.28882386814385,130.05111927846809,189.72578791715094,94.644739767119873]
[null,"Febrero",105.5163269330271,98.108983628504689,77.627836734544147,97.145096242630586,109.95783549256005,108.71959623131707,111.81602028458701,null,-0.39533426782959458,-1.0297407444632589,-1.8350799106053306,-2.6234260643519858,-0.45612192616077962,-0.42698140483157232,1.2887283526983984,null,173.93733697056052,103.23660434707742,103.16154506423145,131.02853891043745,144.03955071836978,205.80842015661872,105.63925861835213,null,164.84400284418666,105.22645381587965,132.89246410021997,134.87921056064343,130.99525838530693,189.3020460807551,94.475960018507024]
[null,"Marzo",105.71557009819037,98.310499243102356,77.536476198919544,97.39771541719243,109.82134682607281,107.06918510197772,112.06644453059134,null,-0.98632796426624259,-0.81530952564172754,-1.8507585071260824,-2.5802752720456512,-0.33724542950152037,2.5379863045287276,1.4801971742534947,null,174.39889490385073,103.34460507098294,103.21301868622845,131.32051413982282,144.64686900760782,202.71588025436989,106.02267120279328,null,164.96992329688632,105.12061871991132,133.11543643205533,134.82915238548028,131.71106819213315,189.33167377830861,94.606973253132637]
[null,"Abril",105.80109864354822,99.192633314376735,77.809079027781053,97.855012340758705,110.00547640397326,105.47917597603502,112.62644353153162,null,-1.8227320569050298,2.1272804849603588E-2,-1.051451022227623,-2.4492869793335093,0.32597840140262679,2.2865508240534904,2.3920429212071603,null,175.28955864743111,103.81996927602309,103.32285022887579,131.9749535515293,145.76474378593892,200.18080532231681,106.68615555791452,null,165.67839171310945,104.66499961441762,132.790223865759,134.86785234051717,132.50680652538318,189.78229917893756,94.72567206478999]
[null,"Mayo",105.51155124307022,100.37631840180882,78.456655886571156,98.163062840329886,110.25417127485606,105.05984109536107,113.02757862278058,null,-1.9608287279682668,0.63850895574706357,-0.25828328903746423,-2.5401994189904187,1.7696537756761721E-2,0.48384443419482448,1.6698857225601715,null,175.89953083561383,104.17957349355976,103.50368620172871,132.34038189963891,146.77962912495931,200.51663261621039,107.23550021204477,null,166.71115983347516,103.78899640104993,131.92467233292399,134.81688332698133,133.12841358087741,190.85944784002174,94.875517567206884]
[null,"Junio",105.16362287299224,100.00337900357718,78.692097695521937,97.963590008485482,109.61435762685497,105.97713493633998,112.87796796865727,null,-1.3256005514576952,1.473614851956162,0.814109033922783,-2.0023458539504935,3.7393749524694542E-2,1.6733959855871783,2.5605929398568206,null,176.00853797464742,104.29795520354035,104.11053431470094,132.3725282918171,147.17399885433454,202.70480675093668,107.4289729909671,null,167.3663698208797,104.29443109098298,132.30112980026135,135.12421123026544,134.26525688846226,191.27220873889505,95.172667371897404]
[null,"Julio",104.88947227082014,99.768033626958669,78.545471622407902,97.801851013798029,109.9844296351758,107.95812098735811,113.00726258549918,null,-1.6665991954612269,1.9034782680960705,0.83080631222010037,-2.1412341839280424,-1.9834720866207523E-2,4.057107827014339,2.1370608707578898,null,177.02542563371185,104.72271370650452,104.55182553128344,133.01305919064018,148.66146077978487,206.96467595842017,107.99445452802325,null,168.77330183971159,104.96619999354886,133.10993412057672,136.0025989404582,135.16591509625758,191.70829768578108,95.564171768444226]
[null,"Agosto",103.92806419630354,99.521601551397396,77.342434211428468,96.763066170747649,110.2077944033081,107.90040719525075,112.26508397425702,null,-2.8269497568092494,0.62705710241259816,-0.88664762556152077,-3.3949682217621069,-0.81292427631108888,3.9548285446879827,0.79877364113201121,null,176.44127759402076,104.2837885260258,103.85149556390219,132.55945464616187,149.12761724846752,205.57110804450457,107.43690333338132,null,169.77250462469053,104.78507871697482,134.27492504309703,136.99385508541872,135.31494578571403,190.51930700550014,95.699303407653574]
[null,"Septiembre",104.14994503019378,99.578546040755853,77.766189023199303,97.154991930586021,110.58373107045821,108.51744510616369,112.54613447348514,null,-2.9264885033182697,1.0400861272309658,-0.745197963729749,-2.5861466624935936,-0.72973452749224288,2.808582451378161,1.0450545280124235,null,177.39727619237865,104.71563330558386,104.77246025655272,133.19619080664563,150.79144016890106,208.59815179377966,107.97507475428657,null,170.32872762530019,105.15882935539697,134.72752306956545,137.09660014362396,136.35951573457453,192.22545424812208,95.938501361612296]
[null,"Octubre",104.76957200457628,99.871912452626731,78.539755670305837,96.979562280517484,110.51238304720728,109.51998415457895,113.42013884149925,null,-1.7495279539142206,1.274525642808344,0.42167290740013907,-2.2824275787062365,-0.60886477318954357,2.6051466207006158,2.4225698804162477,null,178.9795770308113,105.4963873188355,105.90580748119818,134.21419172022223,153.36926982768483,211.01296126604439,109.12067594302141,null,170.83163900201248,105.63168835770188,134.84356626441462,138.39430552594371,138.78016707156746,192.67073757809897,96.209259711376134]
[null,"Noviembre",103.8192428914774,99.522642416025334,77.003139915852103,96.444983454127851,107.76344338414791,108.37690272031159,113.55144754248198,null,-1.4790360404249858,1.3876203575999835,-1.18749221364427,-2.6753911263051378,-3.1782952625240557,1.6694954348395408,2.0954086258001992,null,178.58549159083168,105.96135867826557,105.22741006337586,135.05712930810211,155.1526791074734,211.37441249531221,109.88400672300578,null,172.01579073111495,106.46959938555997,136.65340163838357,140.03541135173646,143.97524265663591,195.03640276637765,96.770238602106645]
[null,"Diciembre",99.064332796514464,99.951321257162974,76.128448912534822,96.245614053298482,106.77358629955729,107.52646378141547,113.01103801993517,null,-5.8839155817426274,2.1797820701745074,-1.6143816224614249,-2.8096496348517297,-3.6537407116183696,2.51635611300145,1.3902506355452759,null,172.87802042497106,105.82749875808612,104.83913077566982,134.82456125482713,155.19639779428962,211.85175547152556,109.64619484762304,null,174.51086132087053,105.87903934336637,137.71347278613433,140.08384961850265,145.35092729664461,197.02289838358968,97.022553521082983]
[2008,"Enero",98.8336464785868,99.437864161123798,76.824591335119422,96.001342474339708,106.39705878325771,113.8812375423496,111.4011934229901,null,-5.7955353965252421,2.2377302713230796,-0.53134224234278049,-1.4527336423786896,-3.3032133939979613,4.0564101984390533,1.8112091225752636E-2,null,173.14871056344464,105.89586085410043,106.28439723357484,134.92996398881613,155.49884571742652,214.99025215411899,110.00454796127681,null,175.19206943453091,106.49450463106531,138.34684361671083,140.55008035422182,146.14957170403972,188.78461175324816,98.746292190595994]
[null,"Febrero",98.585170873921442,99.480766080064427,77.194242249271113,95.697736215728867,105.89443905242086,115.21692246784066,111.31775058416804,null,{"$f":"(C163/C151-1)*100","v":-6.5687995977200542},1.3982230788916139,-0.55855541454252755,-1.4898950980364201,-3.6954132663098105,5.9762236632111554,-0.44561566325720392,null,173.535455691019,106.30161294739749,107.00198015349112,135.37457493535175,157.1591893890452,216.30178882660101,110.52233402440754,null,176.02592170068857,106.85644787037877,138.61393937641958,141.46058233831198,148.41118267905151,187.73439195702798,99.285453976938669]
[null,"Marzo",99.843145570921649,100.16687068309716,76.510986741074277,96.587893522927331,106.3618273050359,115.4068787409922,112.10553167192033,null,-5.5549286844069563,1.888273840827881,-1.3225897127622566,-0.83145881892230378,-3.1501339411870943,7.7872019209572318,3.4878541469485214E-2,null,175.3514471641615,107.08353145793322,106.54739888535562,136.80648353883174,159.37071110829407,218.51339280008756,111.82765697153081,null,175.6269257758951,106.90513812368027,139.2576457626007,141.63936964455863,149.838259783967,189.34174044382351,99.75213114264271]
[null,"Abril",99.695488273700676,100.25531518324013,75.158263815668207,96.532625800674424,106.32762327937594,114.63616429133728,112.54311617237062,null,-5.7708383449001754,1.0713314420188524,-3.4068199305718472,-1.3513733312703113,-3.3433363909003311,8.6813233328469899,-7.398560812912347E-2,null,175.7971796764088,107.53883184653239,105.63755527707492,137.41438204633965,160.86279964318547,219.96853856631051,112.23444315331732,null,176.3341378034892,107.26496809668389,140.55347996882907,142.3501960156766,151.28975395276004,191.88407072595405,99.725729098721132]
[null,"Mayo",101.47268309575981,99.785643842707344,73.373876934981453,95.371354326597626,104.40111565227292,114.91681562400069,111.96390542322172,null,-3.8278919224739139,-0.58846007554987922,-6.4784547520584379,-2.8439500897330383,-5.3086931359647815,9.3822477036612071,-0.94107403920310473,null,181.2878959911028,107.50724657260504,103.97004596629142,137.28867840487374,161.55260447113164,219.7280169189701,111.84453334389617,null,178.65684680873309,107.73819001666141,141.69899466866394,143.9516921765952,154.74222038892023,191.20614831331901,99.893383426672784]
[null,"Junio",102.70469013517641,99.546349547488347,73.459072011721503,95.012806672941736,103.60398748202189,113.79540417993428,111.6023320306936,null,-2.3381970596291879,-0.4570140135689682,-6.6500015084719593,-3.0121224990715012,-5.4831960656954726,7.3773170488999451,-1.1301017912706213,null,184.83726207212877,107.75056527971883,105.01798950862644,137.37153544677136,162.70995911796021,220.98957278818037,111.99268093973049,null,179.96964094711961,108.24160380518693,142.96122539074446,144.58212556507161,157.04990036816372,194.1990314817545,100.34976769923547]
[null,"Julio",104.43781528963828,99.063969591071469,72.676807900477954,93.73121863017694,103.70429084237993,113.08222071441962,111.90331103956943,null,-0.43060277776562073,-0.70570102495931541,-7.4716767252253735,-4.162122026756732,-5.7100253314286586,4.7463772805582005,-0.97688548565143529,null,191.30972199681827,108.13514470090367,104.74167821515272,137.82521762929304,164.26903180930114,222.138008408704,112.3406379342712,null,183.18050934544866,109.1568863505847,144.11981103873427,147.04302327818019,158.40138385303027,196.43937570849118,100.39080782386065]
[null,"Agosto",104.08869352301932,98.16330323483291,71.28911755684328,91.8090181633264,102.78802276625285,113.09932186428949,109.81117043136373,null,0.15455818210217132,-1.3648276307762219,-7.8266435706399351,-5.1197716272026401,-6.7325289261324084,4.8182530577767668,-2.1858207877490932,null,194.45868268052203,107.45577295915521,103.44410208439427,136.56018568657092,163.75237387322974,222.83002140335677,110.88174777430409,null,186.82017815654234,109.46633764156472,145.10503935178019,148.7437600559382,159.31075378851688,197.0215362305494,100.97492571906382]
[null,"Septiembre",101.92523491799004,97.131664294828497,70.671427446452256,90.391034554500649,100.39573461715648,110.68518965250254,106.8050198054418,null,-2.1360646052753784,-2.4572378722279131,-9.1231956533584615,-6.9620276237766454,-9.2129252238834951,1.9976000579613018,-5.1011211490305737,null,192.22897049325238,105.86299514404752,102.36128924140277,134.65333815975177,160.10790678394025,220.6658293567057,108.6489172726254,null,188.59801564148614,108.98917043438728,144.84112312428095,148.96758160076539,159.47680187259635,199.36346502137155,101.72641461098222]
[null,"Octubre",97.558315827760651,93.722836728270195,67.688423520782933,86.559860995122762,95.792665518282305,108.7009566786038,102.52773395463977,null,-6.882968059181005,-6.1569620260083502,-13.816355878511544,-10.744223876011416,-13.319518702838206,-0.74783381525982406,-9.6035898017028938,null,186.89029005662653,102.27556962114375,99.053537564851496,130.54987823249124,153.27514666681324,215.86134743921099,104.79558895304686,null,191.56776997522346,109.12555913951945,146.33748640111003,150.82034182084359,160.00718409653214,198.58274851936071,102.21194296502294]
[null,"Noviembre",94.07525228895571,92.312179115029025,67.153349040078183,84.826619889823348,94.07374510645765,110.65464169690701,100.95581104691874,null,-9.3855342527464973,-7.2450480875046246,-12.791414592362893,-12.046623005364033,-12.703471462850469,2.1016830333983494,-11.092449077631484,null,184.59559686247715,101.35140224676979,99.385024516814354,129.33529358422157,151.85504380970696,215.46048546602893,103.70081864077582,null,196.22120841673086,109.79201576476395,147.99712290968512,152.47017239659922,161.42128033476467,194.71436729802488,102.71901891074042]
[null,"Diciembre",94.135765391556177,92.217500243766679,67.93131400351173,84.845032417507156,94.562074842825965,112.29960427925154,102.06797840462669,null,-4.9751179519695876,-7.737587573753113,-10.76750548069213,-11.845299910994346,-11.436828039541048,4.4390379167858818,-9.6831776851550764,null,184.98040174794065,101.63288328857401,100.71356188271142,130.33146587111119,152.8613750278638,217.16173818877456,104.95915482672721,null,196.50384843477684,110.20997426726902,148.25793282536091,153.61119226140838,161.65188346590173,193.37711791821275,102.83259888879066]
[2009,"Enero",94.146204976244974,92.522614463665107,69.240837061378343,84.17775219791298,95.127640175983203,116.25292070375507,101.04839091598402,null,-4.7427588370498981,-6.9543425492864515,-9.8715191866881487,-12.316067642061434,-10.591851632131599,2.0825934215225717,-9.2932599632900903,null,185.17995245301256,101.03323163478599,102.06678144006727,128.7842067343305,154.28342264722633,218.03717138770531,104.17299929240889,null,196.69401703418345,109.1984183763669,147.4083586678631,152.99078838734238,162.18569320316024,187.55414493483994,103.09219013593479]
[null,"Febrero",93.895613110276742,91.899830591398342,69.652717654116827,82.880719485649948,93.667579980397207,115.48243346460214,99.416246345450318,null,-4.7568591929937227,-7.6205037288964661,-9.769542877047277,-13.393228760590381,-11.546271155911224,0.23044444433550915,-10.691470296751026,null,184.80979018281619,99.812969742895092,101.65175259666255,127.24624546458966,152.24764128813675,216.39052970752047,102.42273019870815,null,196.8247334044928,108.61061342613337,145.94082760912119,153.52936877752518,162.54038090874047,187.37960676404418,103.02413736564841]
[null,"Marzo",94.60347643218401,91.744397351222034,71.146442468448953,83.158219723771509,94.430100181160768,116.03324370500368,98.960978467734535,null,-5.247900703424591,-8.4084421070931938,-7.0114692034750732,-13.904096372044783,-11.218053907306469,0.54274491334025399,-11.72516022015191,null,185.81176281616314,99.850262126019985,103.28369696734063,127.33276792662321,152.27446294639378,217.27097138527859,102.33879553847942,null,196.41113606365332,108.83526951925633,145.1705712666427,153.12108454171729,161.25627596948502,187.24889906349247,103.41328180364162]
[null,"Abril",96.306316867215187,93.227463061345219,72.646559405361998,84.076776716828178,96.702314078157684,117.79098238054215,100.07341790573439,null,-3.3995233537359004,-7.0099546433521898,-3.3418872161102176,-12.9032531546026,-9.0525010381617861,2.7520269094028604,-11.079929800004551,null,189.39115954437511,101.29815900599581,105.30366228643568,128.85744159315169,155.46571627917331,220.37853869251114,103.67054655725474,null,196.65497103944182,108.65699406551474,144.95340611913863,153.2616337412,160.76731747445186,187.09287777271766,103.59448965249565]
[null,"Mayo",98.500674586992787,94.052563267168637,73.568590415100573,85.04819815719047,98.803234019613498,119.51835767969351,102.03273731492364,null,-2.9288754550447216,-5.7453961860243101,0.26537166666504852,-10.82416858007036,-5.3618982878537391,4.0042373526505637,-8.8699729352584082,null,193.25159393614683,102.31932630579428,106.64665723239122,130.13322433373645,158.89143526336429,223.50830486263229,105.2063267237647,null,196.19316796198481,108.78951381169996,144.96221367114995,153.01114797660676,160.81602676266914,187.00751014470052,103.11036388159008]
[null,"Junio",99.733676888545332,94.962614221126799,74.514481135806292,85.483839731279176,100.05989156485408,118.3006640647988,102.75396018643634,null,{"$f":"(C179/C167-1)*100","v":-2.8927727085498511},-4.6046242249947023,1.4367308151080227,-10.02913951849006,-3.4208103407050827,3.9590877305912597,-7.9284829297507127,null,195.18008933602766,102.77422679789372,107.44526565731805,130.74568428980226,160.34922310498476,224.83230618152027,105.98321368828945,null,195.70128709297049,108.22598729072163,144.1938050423968,152.94783751034689,160.25324492886742,190.05160111220434,103.14270466655881]
[null,"Julio",99.844164108125767,95.390886515771967,74.748682371107591,84.888616778990695,101.26787720498079,118.41094910638047,102.44535809858137,null,-4.3984558359181474,-3.7077891088573511,2.8508055464775195,-9.433998597708781,-2.3493855631318561,4.7122601221443405,-8.4518973148557599,null,197.51405949238031,102.94864694690666,108.24869037701833,130.97974263429373,161.45479846649101,225.65340053139522,106.34367422238222,null,197.8223376966564,107.92293761719583,144.81685421502414,154.29600293205658,159.43337899705671,190.56801945626503,103.80526379735974]
[null,"Agosto",100.88736223049398,96.431670383695476,76.17894568913438,85.498102096870866,102.77312088916706,118.45376751291971,102.93531461049875,null,-3.075580242360676,-1.7640327842217252,6.8591508772599674,-6.8739609601624725,-1.4497678508396117E-2,4.7342862542139263,-6.2615267589399393,null,200.32752981806397,103.61491713179841,110.11937774059044,131.71192910918822,163.91329058053955,227.05963759220072,106.95387895714296,null,198.56553426422462,107.44905353139818,144.55355970658579,154.05245950366975,159.49042819990595,191.68629445866753,103.90397052930787]
[null,"Septiembre",101.34197986363388,96.700482440926095,76.382073425821218,85.690757605322815,103.05265866525995,118.9380133107193,104.24237770025383,null,-0.57223812613770297,-0.44391482122000392,8.0805584176093284,-5.1999371091873474,2.6464511248762257,7.4561227966691845,-2.3993648518170207,null,201.19909635800929,103.695938392299,110.93297228039334,131.98382532869405,164.63328521170831,227.95921286381113,107.61841769161281,null,198.53479932871207,107.23414793266042,145.23430342346802,154.0234081446558,159.75646562062718,191.66219992953782,103.23864446095683]
[null,"Octubre",101.05147586240501,98.092675292467433,77.425349488019066,86.071866525507403,103.98865601587778,119.61120385443898,104.90890097935544,null,3.5805866522045537,4.6625120586849755,14.384920582832784,-0.5637653110866836,8.5559687197880976,10.036937584729365,2.3224613798342064,null,200.95972212838888,104.34369758048932,112.1351438812255,132.75220031059661,166.64249779228268,229.5673928074566,108.5146762544648,null,198.86866610639333,106.37256784911229,144.83001319687617,154.23413673880938,160.25065057753844,191.92800123208272,103.43705371179033]
[null,"Noviembre",98.849773473885378,97.040799952002061,77.236314541995625,86.128456002050171,104.71022562228842,118.46474355994864,105.02434450558876,null,5.0752148612522863,5.1224235873370105,15.014836409573217,1.5347023303742491,11.306534574332193,7.0580878879299203,4.0300141383433408,null,195.99941803198598,104.50831218992624,111.74712093411479,132.97553963632905,167.66998624034878,229.49633711558118,108.61930329337667,null,198.28008820249457,107.69522947215783,144.68209882458157,154.39210896009067,160.12761432218602,193.72543274822135,103.42297664861562]
[null,"Diciembre",97.728215427365029,97.395507051731968,77.501776872842399,86.040436273014649,104.94067437887865,118.07767723065695,104.58020023552919,null,3.8162435083691326,5.6149936772063924,14.088440669403091,1.4089261580160883,10.975435504459075,5.1452300197223133,2.4613222189464157,null,195.51136729556509,104.42344713269682,112.00289084571868,132.75053098876541,168.17687483540016,228.84284047406632,108.23877973488895,null,200.05621349023392,107.21587709095444,144.51654576834082,154.28853773769245,160.25899950691473,193.80703096575735,103.4983481491909]
[2010,"Enero",95.178491693716524,97.198687460339727,76.867675204334404,85.959254152655504,105.90626115089681,121.05271603903152,103.28079781716492,null,1.0964719371662657,5.0539784503289997,11.014942144901084,2.1163572419396148,11.330693113981894,4.1287524702348533,2.2092453733746575,null,193.11068105968215,104.6464932891807,111.98547495520297,132.95124833980282,171.87939568332524,227.9728084735959,106.9917832719963,null,202.89319322385407,107.66245514568284,145.68604378565669,154.66775468257785,162.29389444541803,188.32523212456439,103.59310300972]
[null,"Febrero",92.410690338194698,96.714139903836951,74.290264218699249,84.974337019241517,104.49848367682598,121.05409074130479,102.64190876361812,null,-1.5814612875875933,5.2386487346683053,6.6580985218863464,2.5260610025882535,11.563129632147518,4.8246794854825081,3.244602906208427,null,188.22119792150272,104.0276350776378,108.42104014593174,132.03994173466913,171.50092751406603,227.8451497050653,106.37898994059401,null,203.67903024279013,107.56197096006093,145.94246135234718,155.38802227403096,164.11810150705449,188.21763751212285,103.6408921287525]
[null,"Marzo",90.030354324929831,97.199721472276366,72.982637185937904,85.233628889871426,104.72015059369978,121.03275989910827,103.02667018704378,null,-4.833989489310575,5.9462204543890618,2.5808665251298324,2.4957354462299186,10.897002537112567,4.3086929525258055,4.1083786581948889,null,183.15790446413786,104.43683323379047,107.30496322897008,132.47882194611526,173.1210497000763,228.88927412332319,106.7582037157857,null,203.44016841597673,107.44560956749069,147.0280704650192,155.43022592325426,165.31780055565702,189.11348821106208,103.62191025097418]
[null,"Abril",86.467987942246154,97.693002022943844,73.183308768762828,85.015646850670819,105.13978819420088,121.19926814011087,102.81649861285857,null,-10.215663151705701,4.7899393751176467,0.73885035684320144,1.1166818835179226,8.7252039379572377,2.8935031279030632,2.7410682722039725,null,175.66889409883498,104.60101912590834,107.33484746947144,132.57264067929418,174.07355839742502,229.54155557158992,106.67620190719866,null,203.16061270694544,107.07114835240922,146.66574834518232,155.93910720006252,165.56392340823288,189.39186605172512,103.75397270517183]
[null,"Mayo",86.728016823499928,96.723241436333822,72.209033672672618,83.679438226102789,103.815261106802,120.40099534465857,101.22461064129132,null,-11.951854962267905,2.839559153298965,-1.8480124938602849,-1.6093932155480495,5.0727358642871589,0.73849547642756974,-0.79202684834185355,null,177.07886641816367,103.33594211035206,105.81894465250383,130.71404458680399,171.82737256246321,228.71122098982255,105.24455115642483,null,204.17723465133145,106.83672360005731,146.54529948730061,156.20808093096079,165.51263343227777,189.95791549323684,103.97130746136327]
[null,"Junio",87.379351800191202,95.987636185231139,71.706132363134969,83.006550563454894,103.65881507454434,120.42457825363695,100.81542257805614,null,-12.387315372078756,1.0793952678235019,-3.7688630852209415,-2.8979619722414252,3.5967693482434004,1.795352718962584,-1.8865818941313117,null,179.10015513544252,103.1310319902381,105.73183571776046,130.34013821937475,171.79173814063594,228.61445180459344,104.98795522752708,null,204.96850966002543,107.44199574955888,147.45159477060085,157.02391839513362,165.72805507866849,189.84035910268096,104.13878406970953]
[null,"Julio",86.087442073635671,96.551480063929333,71.831110584227815,83.107681825542286,104.02475284707282,121.13605863647663,100.623700032396,null,-13.778193405067041,1.2166713095443038,-3.903174871223547,-2.0979667486927145,2.7223594669726348,2.3013999555462794,-1.778175312181951,null,177.01388846365148,103.7409073608394,106.26897059132089,131.33081134689525,173.83191829742935,230.73697018860906,105.9836251144099,null,205.6210339160049,107.44621138086102,147.94281993832169,158.02487623536635,167.10630262489576,190.47752814959864,105.32670243718752]
[null,"Agosto",84.451433888628983,97.146416908000489,72.24213101022309,83.148669105305245,105.70976130744623,121.78237039029187,100.77624629705238,null,-16.291364922708929,0.74119479778902431,-5.1678513574818457,-2.7479358417847322,2.8574012279398486,2.8100439076444772,-2.0975000869392191,null,173.62466125908011,104.0137155105479,106.71746579199713,131.74448732645695,175.36056455725239,232.04936610918807,106.55140356830142,null,205.59113476752691,107.0690189315483,147.72192389631388,158.44449315190673,165.88871490044687,190.54430076004363,105.73067313325598]
[null,"Septiembre",84.762434303559047,97.309778084172336,73.002898640390626,83.080097028941438,106.43253287570587,121.72561231767308,101.35808041837592,null,-16.359997685445194,0.63008542239533227,-4.4240417075248617,-3.0466069496148496,3.2797545004875417,2.3437410205190856,-2.7669143255458217,null,173.73680747617527,104.30691101137408,107.91740163879908,132.15978063421014,176.83048396358484,233.34906372837702,106.98461467223346,null,204.96911031834335,107.19057536144958,147.82618724551736,159.07513996784513,166.14326389290309,191.70087484907853,105.5511452373929]
[null,"Octubre",85.845575554661906,98.006035378958003,73.528250022290308,83.6087167377691,106.76976466974925,123.12342467760998,102.76250619853782,null,{"$f":"(C195/C183-1)*100","v":-15.047677609823296},-8.8324549464180446E-2,-5.0333637387478642,-2.8617362294662829,2.6744346551097253,2.9363644123548749,-2.0459606008454867,null,176.30511939771725,105.48808711910785,108.98039810767663,133.92443356159151,180.6211670460066,237.04700794931037,108.4215814221196,null,205.37473044892744,107.63427651288937,148.21568318930329,160.17998934445191,169.16883502055845,192.52795198801633,105.50694551245026]
[null,"Noviembre",85.589294771160482,97.556205055665089,72.509660546086266,82.841529367192621,105.30968143740398,122.70079804373155,102.18169858090852,null,-13.414779049775072,0.53112206815890683,-6.1197301087422273,-3.8163073941315129,0.57249023345429251,3.5757934018902926,-2.7066542886434952,null,176.52364801046551,105.26798632733265,108.06609519898471,133.55991589158779,180.4208553144359,236.40098043093997,107.94795657849747,null,206.24500818990924,107.90496234172626,149.03682403850061,161.22338265821654,171.32409181360779,192.66458262698893,105.64314165615789]
[null,"Diciembre",83.669732853894573,97.551949690260273,72.053342466351779,82.640237342171631,104.70614832215502,121.75110759713957,101.09854931369073,null,-14.385285264846781,0.160626134884434,-7.0300767625365523,-3.9518615643159394,-0.22348441927950713,3.1110286487993966,-3.3291683454394816,null,173.31997696042382,104.85558734181544,107.15921187644875,132.84831016522156,179.96552009244706,235.89731977079745,107.27047003864672,null,207.14775946886067,107.48692125041595,148.72205536681531,160.75499591701748,171.87674551711856,193.75373614780949,106.10485587266503]
[2011,"Enero",82.285360728627396,96.109471040801552,71.273063131008129,82.623186890492718,105.16480445689977,127.87540724990126,101.95101121050281,null,-13.546265270287217,-1.120608156342251,-7.2782376446982822,-3.8809867477889504,-0.70010657154688793,5.6361322852680695,-1.2875448629049102,null,173.82514384866909,104.98739913592665,107.59009433208719,134.72876692917228,183.85858497088259,235.38427412043609,108.08113368529777,null,211.24674220234004,109.23730824754631,150.95477815275621,163.06411311359773,174.8290085455674,184.07313742542772,106.01281184169702]
[null,"Febrero",81.926594611902928,96.693060722836179,70.002916893941787,82.790009817275305,105.92955717074186,128.02969848493169,102.323260115341,null,-11.345111358786742,-2.1795345563457857E-2,-5.7710756178443017,-2.5705728089077007,1.3694681908893891,5.7623891112725145,-0.31044692379109673,null,172.84962878835395,105.26462877242766,105.90495573037617,135.21908985674719,185.47346639118473,237.0636151531078,108.38275027925857,null,210.98109790497878,108.8647189214139,151.28648980560041,163.32778574998045,175.09132610856716,185.16298793049862,105.9219088182757]
[null,"Marzo",82.407137414680776,97.173353185618737,69.214161670519971,83.262789957569794,106.84522316610041,128.54300187785446,102.57695255207648,null,-8.4673852140312533,-2.7127944667160175E-2,-5.1635233539410024,-2.3122785665363521,2.0292871623586839,6.2051315569492616,-0.43650603688427658,null,172.96989332982332,105.61553261469491,104.89622647266388,135.85753549815826,186.95430805766853,238.80551002694963,108.84208203419877,null,209.89673802090937,108.6877514795132,151.55312719382655,163.16716695103588,174.97675845276811,185.77869392988816,106.10773602280842]
[null,"Abril",83.293405404143016,95.53648672941209,68.947193510726464,83.527050278197677,107.86833910096485,129.33194776256946,103.00174883146896,null,-3.6713963325057497,-2.2074409106859871,-5.7883625778949233,-1.7509677660723422,2.5951649262638155,6.7101722207240533,0.18017557601133216,null,174.2622812238962,106.37837895738585,104.6740208927516,137.15884991997055,189.18677620954838,241.08238864262123,109.95946001926077,null,209.21497971942495,111.34843094940391,151.81766735214092,164.20889934834906,175.3867518368568,186.40590574357219,106.75494471377955]
[null,"Mayo",83.532997640351098,95.348016285542982,69.214699883142472,83.234481686885275,107.42651265997465,129.65097848363021,102.89488860867118,null,-3.6839527757806412,-1.4218145818614358,-4.1467578739574629,-0.53173939578231577,3.4785363102419975,7.6826467360114004,1.650071022054922,null,175.50088397186988,106.39519316582711,105.37494391304708,137.16548302202256,190.00412509308339,241.43928455991116,109.99508024501776,null,210.09767269155583,111.58616331062478,152.24359000465967,164.7940615981932,176.86893150342001,186.22249317647487,106.90043182159414]
[null,"Junio",83.533359017209577,95.228625166670341,69.836213857956068,82.881177995034179,107.39049967095507,128.9649125258928,102.84320517845607,null,-4.4014892577552978,-0.79073831664747685,-2.6077525639079835,-0.15103936685680885,3.5999684095628037,7.0918531715911781,2.0113813427999228,null,176.52140503164517,106.37855170555306,106.92213178122884,137.21130118380242,191.25560002165923,242.52678161806944,110.13659060286322,null,211.31845661237941,111.70858711796794,153.10413591249949,165.5518231075618,178.09359357454076,188.0564076445028,107.09175235422845]
[null,"Julio",83.304377685661649,95.25033346933391,69.288938712417064,82.428821353805603,108.04718128590427,128.19795993406478,103.18952824659684,null,-3.2328343378973945,-1.347619522490906,-3.5390958752194779,-0.81684443221714531,3.8667993229888564,5.8297268188166607,2.5499243352955281,null,176.50961265101179,106.57374657865051,106.95879000371467,137.28842419072009,192.87828963141368,242.9358335593177,110.51084491381226,null,211.88515844515172,111.88805613259318,154.36632742730535,166.55390910109344,178.51302304780845,189.50054562823411,107.09501903111654]
[null,"Agosto",83.306103350676153,94.998326699221394,69.256225561667875,81.924429502255222,107.51530203790992,127.65284032910972,102.59542359459911,null,-1.3562002268229567,-2.2111883043647196,-4.1331912649872908,-1.4723502086360085,1.708017034692233,4.8204595788404969,1.8051647728418496,null,176.52927236168449,106.13839990924221,107.27662206921731,136.62635019688634,192.64466527269306,242.52129827507051,110.10488938247877,null,211.904368661425,111.7265994013683,154.898164315488,166.77119514530798,179.17883465998773,189.98503883643426,107.31949391578415]
[null,"Septiembre",83.460601468326388,94.278306352784185,68.568643979250766,81.429931883567278,106.01889149463523,126.62535480068749,100.41762324396663,null,-1.5358606037320865,-3.1152796677492711,-6.0740802676655603,-1.9862340131828637,-0.38864186531547551,4.0252354370806653,-0.92785614183631404,null,176.07963009820173,104.80063587860077,105.88459030113586,135.14605128597444,189.90016750263234,240.39032441855511,108.31687296241128,null,210.9733538944416,111.16092336920289,154.42129836077422,165.96606206083194,179.11917850248574,189.84375190650991,107.86639781271586]
[null,"Octubre",83.607737946454918,93.936338718346519,68.092407955984299,81.271119687911508,105.23383469634456,126.61298298359893,99.577602345410114,null,-2.6068176417339717,-4.1524959609632877,-7.3928620151548774,-2.7958772016430378,-1.4385439343764572,2.8341952923467861,-3.0992858883515884,null,176.79192225215186,104.36631324531147,105.0866518012002,134.97625288072109,189.19281924554639,240.44250642957041,107.63339386212161,null,211.45401920259474,111.10323722349622,154.32946925467729,166.08144861180969,179.78326057533496,189.90351602466916,108.0899633320834]
[null,"Noviembre",81.898536549834844,93.553876941465745,67.508587827832756,80.67195971485782,103.78409870758401,126.63041524756524,98.425326016961847,null,-4.3121727211254512,-4.1025869260859826,-6.8971123028150005,-2.6189396416358313,-1.448663322305066,3.2026011782198438,-3.6761696234402841,null,173.68992533482123,104.05049458344516,104.32013202332362,134.42710151784013,188.78206344909148,240.66514481224672,107.2840681888118,null,212.07940050202455,111.21986387431797,154.52868350523255,166.63423324905534,181.89883209468607,190.05319088762448,109.00047023499144]
[null,"Diciembre",80.361835075685491,93.346160619202664,66.969703768858921,80.242342848918355,102.41047526626429,126.33870495929054,97.69099097843069,null,-3.9535177959578172,-4.311332663684853,-7.0553821980803626,-2.9016064938497177,-2.1924911695037297,3.7680128359331322,-3.370531385853015,null,171.95097837134361,103.65948921712489,103.66480714273266,133.90034825393911,188.40421054634911,240.3828669788175,106.67610759115351,null,213.9709455482178,111.04847647670751,154.79358771023422,166.86993861339388,183.9696672205686,190.26858559004131,109.19748742717397]
[2012,"Enero",80.996056906109118,93.593875038397343,67.55479649040106,80.889960850584629,104.4306280968848,135.07295595518886,98.192614841338866,null,-1.5668690166776189,-2.6174277885019914,-5.2169311620190451,-2.0977477450794479,-0.69811983562986235,5.6285636621447921,-3.6864728701943128,null,172.19605684120631,104.34613226523459,104.48812456805399,135.15128596239251,191.92061219661156,240.39325021596335,107.80524887568133,null,212.59807380600824,111.48820606308487,154.67165915139844,167.08041954926438,183.77808856857445,177.97289510397255,109.78956925617543,null,null,null,null,null,null,null,null,null,null,null,null,null,null,null,null,null,null,null,null,100]
[null,"Febrero",81.898845847597016,94.356841665840051,67.953657039010736,81.498441952206448,105.1321242985582,136.33776944953138,98.922780911883194,null,{"$f":"(C211/C199-1)*100","v":-3.3870276724379256E-2},-2.4161186330555195,-2.9273920942977205,-1.5600527985435209,-0.7527954364033862,6.4891748265559768,-3.3232709743852062,null,173.96519498873019,105.14595974775958,105.24379072586629,136.94643424181234,194.94164657096593,242.61361086065688,108.90870541033965,null,212.41470888668755,111.43437814517854,154.87583054646799,168.03564701534114,185.42538531549428,177.95040350169876,110.09466616931395,null,null,null,null,null,null,null,null,null,null,null,null,null,null,null,null,null,null,null,null,100]
[null,"Marzo",81.616673408468372,94.643933630850299,67.480525074536729,81.644575229020873,105.10143232161097,136.91385394639838,98.266076780511099,null,-0.95921789181283579,-2.602997089064929,-2.5047426048961929,-1.9435028893141304,-1.6320718819395008,6.5121025230904017,-4.202577347359604,null,172.91322731969146,104.94703012224302,104.23027704688374,137.28193250373633,194.57852242349153,242.46644634976096,108.50508016862612,null,211.86017525403128,110.88616681083752,154.45978959374497,168.14581020067445,185.13403492740247,177.0941649518436,110.41967250914581,null,null,null,null,null,null,null,null,null,null,null,null,null,null,null,null,null,null,null,null,100]
[null,"Abril",80.525467501331789,94.015979447401065,67.325965452112712,81.001827977865858,104.07119099663413,137.0441713749133,97.494561107272602,null,-3.3231177058748895,-1.5915461558865474,-2.3514054395289197,-3.0232389290909212,-3.5201692507535354,5.9631233780706117,-5.3466934170284812,null,171.28944659299896,104.66712774214501,104.18231498097097,137.38602556148911,194.3617974477427,242.0789482651688,108.18013176371781,null,212.71462545705316,111.32908294669515,154.74314297813265,169.60854957375838,186.75850212382866,176.64300921117663,110.96017104450364,null,null,null,null,null,null,null,null,null,null,null,null,null,null,null,null,null,null,null,null,100]
[null,"Mayo",78.916592100308549,93.424354064254956,66.78855187492556,80.374578604748052,103.40547263089117,136.27022046406731,96.04074549595326,null,-5.5264454412594528,-2.0175167730046462,-3.5052496251707477,-3.4359595016110189,-3.743061121057556,5.105431565464702,-6.6613057318964941,null,169.75258821080124,103.86410310704559,103.62393264875074,136.66292389169024,192.81959262859723,240.27007625554145,107.10232243980454,null,215.10379971176877,111.17454773688928,155.1522375313759,170.03252304904402,186.46942731635912,176.31884313190611,111.51758754758664,null,null,null,null,null,null,null,null,null,null,null,null,null,null,null,null,null,null,null,null,100]
[null,"Junio",77.504925301609916,93.350073685084212,66.797261583273283,80.114081850438808,103.36382845624065,135.32510564917993,95.438393398350783,null,-7.2167979194487808,-1.9726752101043799,-4.3515421395322047,-3.3386303278184148,-3.7495599955788883,4.9317236748485094,-7.200098214807948,null,167.22012092122677,103.34486329387724,103.86485607462568,136.38667331913373,192.38203467360833,239.28962512873082,106.46367781397883,null,215.75418629266557,110.70678277395942,155.49268579691969,170.24057465171674,186.12123558779925,176.82574418162363,111.5522527392195,null,null,null,null,null,null,null,null,null,null,null,null,null,null,null,null,null,null,null,null,100]
[null,"Julio",77.7960649605686,93.834227893743403,66.620275487178731,80.37797375148871,104.34281152161586,135.69726867759465,95.325138955959233,null,-6.612272821817311,-1.4867198087515576,-3.8514996402450152,-2.4880224764031622,-3.4284742278340996,5.8497878963026606,-7.6213055958969989,null,167.5463067104229,103.65994978299788,104.02620237839596,137.12194958830256,194.83319471461465,239.63531556163537,106.75239880398063,null,215.36604299374881,110.47136222017086,156.1479618894943,170.59642485173106,186.72411819596468,176.59553349669019,111.98766660419015,null,null,null,null,null,null,null,null,null,null,null,null,null,null,null,null,null,null,null,null,100]
[null,"Agosto",77.769914207341273,94.374735796966647,67.366797523849343,80.841471598359263,105.65316066651555,135.36380382477387,95.489404418663653,null,-6.645598486380222,-0.65642303809111402,-2.7281706770694969,-1.3218986210531303,-1.7319779939210744,6.0405733830786845,-6.9262535568979651,null,167.54976870694207,103.91847879519227,105.16343264408832,138.07767142900525,196.84236328575267,240.20896284758106,107.02391288598659,null,215.44291312992837,110.11260367261593,156.10573236297617,170.80054172567492,186.30996180707498,177.45435342414541,112.07935952427879,null,null,null,null,null,null,null,null,null,null,null,null,null,null,null,null,null,null,null,null,100]
[null,"Septiembre",78.445376673322173,94.956379046035352,68.563341734750907,81.609199462764295,106.68911975799691,136.23549485968715,96.509551691724013,null,-6.0090925619647129,0.7192245167343847,-7.7327539122151734E-3,0.22014948932211897,0.63217814666134409,7.5894279420786859,-3.8918184139330569,null,168.35839676703452,104.51877270030843,107.07319063588901,139.74967467813281,199.22699138619316,242.13542710034289,107.79118615903167,null,214.61863516590148,110.07030149036872,156.16682023773006,171.24255059246863,186.73599692086697,177.73299634557435,111.68965586260732,null,null,null,null,null,null,null,null,null,null,null,null,null,null,null,null,null,null,null,null,100]
[null,"Octubre",78.250883938989816,95.04964582994829,67.834080884128937,81.760795010997498,106.64370563611624,136.99481355055988,96.563976482058223,null,-6.4071270662720341,1.1851719225930646,-0.37937720167326994,0.60252070473052477,1.3397506076253007,8.1996571933746978,-3.0264093454453356,null,168.60877633882666,104.66338434206837,105.8925582155519,140.54797280408681,199.95584353642104,243.86047508353963,107.9294730276858,null,215.47204050792135,110.11443906831579,156.10524508533211,171.90142633175469,187.49896427896019,178.00708564309224,111.76991354300669,null,null,null,null,null,null,null,null,null,null,null,null,null,null,null,null,null,null,null,null,100]
[null,"Noviembre",77.630873795159403,94.777662110669709,67.545435977551733,81.63365498433582,105.67990107343914,137.42311328619215,95.988775598191879,null,-5.2109145467801987,1.3081073807017729,5.4582907011702098E-2,1.1921059967765713,1.8266790283515633,8.5229903238704061,-2.4755319767496342,null,169.04146411224127,104.48938109357522,105.64881766699162,140.91148095346065,200.35514386256006,246.61179138936791,107.66840833966695,null,217.75030454801049,110.24684378853462,156.41148234220188,172.61444557456025,189.58680111114896,179.45437669992498,112.16770676434702,null,null,null,null,null,null,null,null,null,null,null,null,null,null,null,null,null,null,null,null,100]
[null,"Diciembre",77.541009241192356,94.933679706899355,67.509631359878966,82.053816446107177,104.65218761048421,137.62691630482311,95.841827188739842,null,-3.5101560732609616,1.7006795749991532,0.80622663776976911,2.2575033739973049,2.1889482871664478,8.9348797339421147,-1.8928703365278854,null,169.31050686113619,104.67403975964721,106.18481360827478,141.83761374516067,201.59997029750429,248.49553107239197,107.89046235395774,null,218.34963010926717,110.26017329447303,157.28839199584269,172.85925248622578,192.63808516632261,180.55736315562822,112.57137464782542,null,null,null,null,null,null,null,null,null,null,null,null,null,null,null,null,null,null,null,null,100]
[2013,"Enero",76.854841810218588,95.28414621484859,67.383279924545747,82.516914011443347,105.30499822683674,140.58936835251055,95.283132340966986,null,-5.1128601244021521,1.8059634519436374,-0.25389250618153003,2.0113165388520038,0.83727364843650953,4.0840243395219522,-2.9630359727898736,null,169.42564625219049,105.34879232419148,106.26285742904575,143.23504552092501,205.17220326278519,250.82550197311994,108.44591377729667,null,220.44889074205821,110.56277094265916,157.69914665483256,173.58264937181406,194.83614901243834,178.41000703851651,113.81438782808608,null,null,null,null,null,null,null,null,null,null,null,null,null,null,null,null,null,null,null,null,100]
[null,"Febrero",76.658285262679883,95.45077545698031,66.723499961516922,82.458442515992061,105.6430171888144,141.63262301125414,95.010023985524498,null,-6.3988210464761996,1.1593582106259603,-1.8102882627606176,1.1779373209963806,0.48595316956152601,3.8836293003038813,-3.9553648717619794,null,169.48822373570803,105.20271769569402,105.3327999157077,143.64741038011135,205.57095830054891,251.68984257924444,108.11614152738728,null,221.09576695452287,110.21672395224165,157.86462037581791,174.20582537955681,194.59019987391554,177.7061225218184,113.79445767097123,null,null,null,null,null,null,null,null,null,null,null,null,null,null,null,null,null,null,null,null,100]
[null,"Marzo",76.087862446529158,95.101462686902508,66.344525718846555,82.217129896768114,105.62410994271956,141.88151465073389,94.422072835258902,null,-6.774119467316531,0.48342142861133031,-1.6834477124109348,0.7012770488929343,0.49730780024879184,3.6283112052929001,-3.9118321105239939,null,167.95168828816352,105.01575979662773,104.92922400052669,143.49437853042443,205.34959032610081,252.39063589263267,107.52892506092549,null,220.73387645262321,110.424968060024,158.15807387815775,174.5309994530289,194.41545158341486,177.88831512966033,113.88113163808056,null,null,null,null,null,null,null,null,null,null,null,null,null,null,null,null,null,null,null,null,100]
[null,"Abril",75.616282049896668,95.804415229768082,66.258334727357791,82.390703053174704,105.22575641887823,142.31084939571696,94.050464312235732,null,-6.0964383117104282,1.9022678834799356,-1.5857637058532825,1.714621891852075,1.1093996438279019,3.8430514541151428,-3.5326040303390371,null,168.17120100781139,105.15776238709782,104.99493998362138,144.1981186979653,205.88128449324995,252.98673480457069,107.4845422197114,null,222.4007798966376,109.76296043861609,158.46299249091965,175.01746356612622,195.65673985149269,177.7705184663065,114.2839038655633,null,null,null,null,null,null,null,null,null,null,null,null,null,null,null,null,null,null,null,null,100]
[null,"Mayo",75.534460353493927,95.857651935556362,65.913875009766315,82.433835592305456,104.50409582540395,142.57324831252157,93.470221875854875,null,-4.2857042566101899,2.604564832878431,-1.3096209464119601,2.5620750034461182,1.0624420222267617,4.6253890446418477,-2.676492781083939,null,167.93514640096768,104.99380547568677,104.68898116061254,144.54554685945823,206.51460603631611,252.76811959316839,107.1569495879491,null,222.3291801054082,109.53095903733643,158.82692550711212,175.34735078243818,197.61388719284471,177.29000537260598,114.64287495783698,null,null,null,null,null,null,null,null,null,null,null,null,null,null,null,null,null,null,null,null,100]
[null,"Junio",75.390517792575935,95.357267458636898,65.371035334693275,82.321188727470314,104.37028146368122,143.48615586140374,92.76780978670304,null,{"$f":"(C227/C215-1)*100","v":-2.7280943769776966},2.1501790992944914,-2.1351567635777946,2.7549549667833073,0.97369942897060913,6.0306993096910677,-2.7982277535844258,null,167.37712662617912,104.47982521699817,104.3180349199411,144.71712289427106,206.38859474807009,254.06861600222163,106.56841766869105,null,222.0134992131087,109.56671473657565,159.57837348887475,175.79571569765176,197.74651543877386,177.06838299273403,114.87650502229076,null,null,null,null,null,null,null,null,null,null,null,null,null,null,null,null,null,null,null,null,100]
[null,"Julio",74.986042423343136,95.43659829352336,65.247299211238371,82.182433488550572,105.16500838133901,143.97624153157656,92.359332718027872,null,-3.61203685385596,1.7076608778562763,-2.0608985266123536,2.2449679344255014,0.78797652443247657,6.1010607911733628,-3.111252992037683,null,167.08358258712119,104.43805435139568,104.43848735584136,145.15461732625593,207.31267209561361,256.54146612172588,106.41341358004195,null,222.81957706719578,109.43187018274432,160.06560979286112,176.6248712341652,197.13084730985497,178.18319424976914,115.21674144714866,null,null,null,null,null,null,null,null,null,null,null,null,null,null,null,null,null,null,null,null,100]
[null,"Agosto",75.221287045072174,95.552067060403999,65.935550419836858,82.194649974688687,105.35803270335094,144.98305104428732,92.388222775944911,null,-3.2771376800985519,1.2475068178947835,-2.124558620299255,1.6738665805743347,-0.27933661549052191,7.1062181674248714,-3.2476709448536534,null,167.37848119710327,104.46680465604349,105.49381996373491,145.49623730562161,208.32495631994217,259.55799612887995,106.5748421743089,null,222.51477975484656,109.3297171582944,159.99535803070637,177.01424283749154,197.73049189947179,179.02644085589975,115.3554413886374,null,null,null,null,null,null,null,null,null,null,null,null,null,null,null,null,null,null,null,null,100]
[null,"Septiembre",75.646981161968768,95.619572939781932,66.232670674887814,82.428795986209948,106.0985081400615,145.5271159636271,92.63758405752543,null,-3.5673173232465216,0.69841952737588198,-3.3992961849492298,1.0042942815774225,-0.55358186408801524,6.8202645085333025,-4.0120045801959936,null,168.08530346915194,104.47146762295385,106.00347473444901,145.98885265483923,209.37202943749759,261.13151462039508,106.69566083013629,null,222.19697453525905,109.25740871980945,160.04710915974033,177.10904412489865,197.33739249293109,179.43839049601038,115.17534909360458,null,null,null,null,null,null,null,null,null,null,null,null,null,null,null,null,null,null,null,null,100]
[null,"Octubre",76.341291466420259,96.012043203088567,66.631669507431539,82.686270854082238,107.15342292995398,145.61698853938933,93.045193034820429,null,-2.4403461998696585,1.0125207355975663,-1.772577089606775,1.1319310715609543,0.47796284909393805,6.2937966521245725,-3.6439918647008018,null,168.54405186201959,104.89256260234558,106.71831133238834,146.82714596831167,211.57866475629982,261.19823704902655,107.42931379608527,null,220.77705082596873,109.24938070578563,160.16154498498028,177.57137243185127,197.45394871296688,179.37346436633149,115.45928413075768,null,null,null,null,null,null,null,null,null,null,null,null,null,null,null,null,null,null,null,null,100]
[null,"Noviembre",75.814465570466666,95.558166115220956,65.55379944112201,82.169701710847221,106.44426243820155,144.99851733689363,92.424000109398662,null,-2.3398013392012085,0.82351050571374262,-2.9485878765985518,0.65664918055459154,0.72327978830264428,5.5124672040613998,-3.7137420147073552,null,167.77982152031839,104.54988857679011,105.47222142511299,146.41436154478711,211.08909448729793,260.42442081121737,106.81879874564291,null,221.30317777466018,109.40968504013277,160.89413935472069,178.18533899516271,198.30950927002772,179.60488534247557,115.57474099714975,null,null,null,null,null,null,null,null,null,null,null,null,null,null,null,null,null,null,null,null,100]
[null,"Diciembre",75.596802893764632,95.720408188410417,65.202141995230747,82.362830351683527,105.52208777570895,145.26980266199286,92.296332437212925,null,-2.5073265958923008,0.8287137757011287,-3.4180150567664991,0.37659906505300711,0.83122979565655175,5.5533369215669204,-3.6993188209411221,null,167.91349531937891,104.58062013561278,105.06784221584751,147.01178845811268,211.11224213522473,261.48040191592361,106.80645919922974,null,222.11719132533409,109.25634576250704,161.14170332553303,178.49288062392054,200.06450458405592,179.99639093908888,115.72123873057222,null,null,null,null,null,null,null,null,null,null,null,null,null,null,null,null,null,null,null,null,100]
[2014,"Enero",75.63170809562618,95.462294201351995,65.178770106888862,80.943022735269921,106.24500174284744,145.40614018878878,91.968116791051457,null,-1.5914855665343119,0.18696498166832498,-3.2715976724870699,-1.9073559585070732,0.89264852745720713,3.4261280868698174,-3.4791210873010292,null,168.96812238924281,104.49514669488048,105.08774031306183,146.24094640660923,213.51165864155223,264.70528013704222,107.12017649543255,null,223.40910531282091,109.46222020861569,161.23001422200034,180.67146674877827,200.96160302988199,182.0454623122248,116.47533975149895,null,null,null,null,null,null,null,null,null,null,null,null,null,null,null,null,null,null,null,null,100]
[null,"Febrero",78.731569934437459,95.493024770836882,64.421068266492838,80.639771683462698,106.44569060140864,145.94987567440288,91.597576393920448,null,2.7045800263509445,4.426293411896598E-2,-3.4507058178183447,-2.2055604945201979,0.75979788721827202,3.0482049766215935,-3.5916711189589501,null,176.39565180715695,104.33504843609798,103.68826640122467,146.33868554786312,214.46766498048345,265.57780297042274,106.91233395366942,null,224.04691276199338,109.25933981720665,160.95396923921516,181.47209806383137,201.48083381183432,181.96507653277882,116.71961001881425,null,null,null,null,null,null,null,null,null,null,null,null,null,null,null,null,null,null,null,null,100]
[null,"Marzo",82.221899881414814,95.808396199477102,64.419285611913779,80.977413702568754,107.24011619393339,146.02526157244284,91.963123183274135,null,8.0617817844421005,0.74334662433319654,-2.9018823875409328,-1.5078563259942945,1.529959639035261,2.920568568717008,-2.6042106237965879,null,184.43056574753319,104.40797456427437,103.42405382811151,147.00264395348947,215.16772959504226,265.74045108442397,107.2539384975525,null,224.30832419772545,108.97580870354263,160.54827812151979,181.53536551986258,200.64108211700577,181.98252016319151,116.62711615807693,null,null,null,null,null,null,null,null,null,null,null,null,null,null,null,null,null,null,null,null,100]
[null,"Abril",81.321362167772506,96.728925839587916,64.814393404875176,81.194033999995355,107.25300594942753,145.97752208970218,92.228150951237154,null,7.5447773458515721,0.96499791539104152,-2.1792599050733719,-1.4524321420185227,1.9265715919202453,2.5765236519595724,-1.9375910308626731,null,184.05809164734833,104.65561292206343,104.03093890513244,147.63833085673281,215.71940230896325,266.09693852875665,107.79501965667502,null,226.33424569010745,108.19474321013433,160.50592073782721,181.83396437322139,201.13133464126901,182.28624155247815,116.87865206542889,null,null,null,null,null,null,null,null,null,null,null,null,null,null,null,null,null,null,null,null,100]
[null,"Mayo",81.962982596598522,96.862737056892129,64.822995453445685,81.191477386340779,107.24266337470752,146.5907174535229,92.445140960526388,null,8.5107144646559227,1.0485184031124195,-1.6550074717333718,-1.507097415809977,2.6205360925555699,2.8178281609990474,-1.096692502442087,null,186.07582984185919,104.78418530412648,104.06870765619578,148.06589846345045,217.32815475630139,266.54928477138742,107.9971731014642,null,227.02422965459698,108.17801405155596,160.54288594382439,182.3663064522093,202.65083681944142,181.83230793989244,116.82298493933658,null,null,null,null,null,null,null,null,null,null,null,null,null,null,null,null,null,null,null,null,100]
[null,"Junio",81.517092589965827,96.564961802349615,65.105041586876411,81.243802796213217,106.56171031389289,147.3290005096473,92.052688137697416,null,8.1264527380566776,1.2664942860664219,-0.40689847798035528,-1.3087589573370417,2.0996674718887665,2.6781989002168549,-0.77087262343464857,null,185.53131020522281,104.72422402520377,104.94255179967737,148.59797180900222,218.59704294857519,267.47916701115287,107.89733303866711,null,227.59804638574707,108.44950598080764,161.18959337371996,182.90376212661528,205.13657514004424,181.55228508024663,117.21258251281964,null,null,null,null,null,null,null,null,null,null,null,null,null,null,null,null,null,null,null,null,100]
[null,"Julio",79.023161946388271,96.060773538768544,64.4950997471514,80.761420600361575,106.65048549073711,147.26976902080915,92.830818249851504,null,5.3838279666142075,0.65402084358190393,-1.1528438313618494,-1.7290956569045446,1.4125203166547751,2.2875492888250415,0.51049040519064448,null,181.64276032965896,104.80794305135343,104.59140471189133,148.97974912070288,220.03847424473014,268.38330286462855,107.95601595089448,null,229.86015220814747,109.10587036763208,162.16953709961646,184.46895561423034,206.3173676446518,182.23923663973841,116.29329352708488,null,null,null,null,null,null,null,null,null,null,null,null,null,null,null,null,null,null,null,null,100]
[null,"Agosto",78.652971571848511,95.514641916817837,64.228626773113788,80.60684571355371,106.13779268612124,146.31570502747587,92.128476614103377,null,4.5621188649964006,-3.9167277838692005E-2,-2.5887759120147402,-1.9317610837492838,0.74010491916247645,0.91917915479753365,-0.28114639944039066,null,181.43360209941855,104.50562859842694,104.5937273839705,148.9550927555388,219.58115685489426,267.65454436636577,107.30702288905727,null,230.67609331667938,109.41320252180728,162.84596548116394,184.79211217973835,206.88310101214969,182.92947043251738,116.47541219913138,null,null,null,null,null,null,null,null,null,null,null,null,null,null,null,null,null,null,null,null,100]
[null,"Septiembre",78.387012457270686,95.277962976575097,63.189427960914898,80.492117255421107,105.88113827627923,145.9713823594229,90.972381327245571,null,3.6221290700751085,-0.35725945295945749,-4.5947757850669957,-2.3495171894938771,-0.20487551389065661,0.30528083570819931,-1.7975455072811619,null,180.18718021528906,103.93246584033299,102.73929459730726,148.60859865766071,218.24960176041097,266.97235226023633,106.11750748740087,null,229.86866646245815,109.08342558277162,162.58937279960105,184.62503376087051,206.12698853966313,182.89362472630069,116.64804849471322,null,null,null,null,null,null,null,null,null,null,null,null,null,null,null,null,null,null,null,null,100]
[null,"Octubre",78.037611911612316,94.624929305414057,61.963547799821598,80.145326388827783,105.31742681020619,145.69679876280915,90.181265237623364,null,{"$f":"(C243/C231-1)*100","v":2.222022201364271},-1.4447290687694569,-7.0058603395631529,-3.0729943907356727,-1.7134274104785074,5.4808318878429851E-2,-3.0779965130764975,null,179.08287494578954,103.40375302099733,100.97875547884006,148.57213298028091,217.55280297589769,266.41686395644058,105.17375417476038,null,229.48277190827423,109.27749566633599,162.96477374901181,185.37841153641094,206.56866538142094,182.85704711341032,116.62483765073878,null,null,null,null,null,null,null,null,null,null,null,null,null,null,null,null,null,null,null,null,100]
[null,"Noviembre",76.626845277227602,94.213875873645975,61.02146451732596,79.318143329988459,102.95081886298908,145.24596340201478,89.309641721336178,null,1.0715365473437988,-1.4067769362108518,-6.9139164509706692,-3.4703282614963249,-3.2819463399830107,0.17065420368831408,-3.3696425001905839,null,177.0416091766385,102.76995683022352,99.892234081434282,148.04923950956709,216.10722948508342,265.95558309228079,103.98537931126086,null,231.04384440742822,109.08155075591249,163.70015841404734,186.65242691528422,209.91307487576884,183.10703916511841,116.43242242054434,null,null,null,null,null,null,null,null,null,null,null,null,null,null,null,null,null,null,null,null,100]
[null,"Diciembre",75.499003889984039,93.669929706656404,60.049736193522037,78.798667942145286,101.47970067179804,144.80386565818824,88.136807977393786,null,-0.12936923260898903,-2.1421539257521438,-7.9022032774407673,-4.327391851784979,-3.8308445076476794,-0.3207390629480833,-4.5067061171133354,null,174.5058664622911,101.63403853838608,98.401690524155029,147.13715244471805,213.17611209668007,263.86095391600219,102.45090701930073,null,231.13664746700272,108.50231110098049,163.86698220794227,186.72543113640893,210.06773836092253,182.21955105732471,116.24077314619603,null,null,null,null,null,null,null,null,null,null,null,null,null,null,null,null,null,null,null,null,100]
[2015,"Enero",74.958089337600754,93.693756872993802,60.110959191813343,78.465382636620021,99.600289403075735,141.01219351162786,86.31368587049343,null,-0.89065654470440458,-1.8526030022156581,-7.7752478403084968,-3.0609680920283933,-6.2541411179552586,-3.0218439685256948,-6.1482512830013825,null,174.435724595907,101.48514880254123,98.823578302508835,146.38428726948462,206.73138802788839,266.25079666890713,101.8928832795492,null,232.71100709394136,108.31580693269566,164.40193207891426,186.55906891756703,207.56103146574225,188.81402383613874,118.04951005386452,null,null,null,null,null,null,null,null,null,null,null,null,null,null,null,null,null,null,null,null,100]
[null,"Febrero",74.892640717844003,93.782215473969174,59.838532382942468,78.464952546064197,98.76057883095514,141.37071827477641,86.617348293055002,null,-4.8759718875036606,-1.791554200920209,-7.113411818310178,-2.6969559709759228,-7.2197490824037143,-3.1374863311579904,-5.4370740983884724,null,173.04441362581372,100.94154100773419,98.178648142210207,146.54312263525557,205.30044721017239,266.01140093442172,101.03862690907251,null,231.05663249043903,107.63399062133716,164.07262048792651,186.76251992789381,207.87691773412712,188.16584097520558,116.64941134797336,null,null,null,null,null,null,null,null,null,null,null,null,null,null,null,null,null,null,null,null,100]
[null,"Marzo",73.833161146012074,93.0137789082913,59.208906525162988,77.651042402982625,97.921991529358394,140.21759810913028,84.918594205208777,null,-10.202560081318312,-2.9168814029276624,-8.0882286061663144,-4.107776659555884,-8.6890288777047413,-3.9771635405914996,-7.6601671781266649,null,170.00633220621071,100.12057295121157,96.890616804025697,145.20834241866871,203.4702499144224,262.90486906300157,99.392175571702694,null,230.25742033448506,107.64058199369293,163.64196282336084,187.00115017785151,207.78810432324505,187.4977696154692,117.04406614588791,null,null,null,null,null,null,null,null,null,null,null,null,null,null,null,null,null,null,null,null,100]
[null,"Abril",74.075392820885497,93.417241544017642,59.944179196152078,78.204910847776887,98.584819360333867,141.47403625092377,85.069205785276822,null,-8.9102901792741598,-3.4236752520773961,-7.5140936339562643,-3.6814566353713163,-8.0819987396725583,-3.0850543113144835,-7.7622126130940323,null,170.14737228705837,100.41148234379102,98.291401151195615,146.3467142215172,205.07252500575225,264.12024137959918,99.856985837481488,null,229.69486331105284,107.48709840300489,163.97155231630083,187.13238418796482,208.01633186160129,186.6916703437692,117.38323511510207,null,null,null,null,null,null,null,null,null,null,null,null,null,null,null,null,null,null,null,null,100]
[null,"Mayo",74.91018453368082,93.698206493764118,59.920424056522734,78.458577974526847,98.98525633868276,142.1604708482061,85.36776250179885,null,-8.6048577534444171,-3.2670257513674583,-7.563012728166596,-3.3659929586078663,-7.6997407339402297,-3.0221876816459603,-7.6557603625154735,null,171.0323896088409,100.58564409656761,98.189614868623039,146.96671385546583,206.53466947262223,265.17669980116494,100.41228725478864,null,228.31660430891344,107.35066108577207,163.86668888725004,187.3175854693435,208.65195192903684,186.53335784481973,117.62319207168252,null,null,null,null,null,null,null,null,null,null,null,null,null,null,null,null,null,null,null,null,100]
[null,"Junio",74.965382332102749,93.764896375156681,59.334223688760304,77.955066264000806,99.277190321111419,141.5099126264785,85.049891374255949,null,-8.0372226850857427,-2.8996702063882607,-8.8638571721292969,-4.0479844849971691,-6.8359638479186025,-3.9497233151919442,-7.6073788882365934,null,171.50192268923888,100.31319316512963,97.364684874390974,146.488756651497,206.67258067182965,264.08406778545117,99.958176944534074,null,228.77482559812927,106.98374023021682,164.09532108336117,187.91435075611588,208.17730639167826,186.61877665242608,117.52887079499644,null,null,null,null,null,null,null,null,null,null,null,null,null,null,null,null,null,null,null,null,100]
[null,"Julio",74.549478795633121,93.256350235219728,58.479348339551223,77.007200678940748,99.212702644906003,139.66052636083666,83.950592768231246,null,-5.6612302527077274,-2.9194261093650198,-9.3274550022939948,-4.6485313080339985,-6.9739793603444067,-5.1668734938379091,-9.5660316789618172,null,169.81744971273875,99.665545352299986,96.424286210406393,145.23624165382523,205.99281462764688,260.8620367561719,98.82115823702982,null,227.7915988900061,106.87266347108202,164.88604772155432,188.60085858638826,207.62746012969683,186.78293971353841,117.7134728635602,null,null,null,null,null,null,null,null,null,null,null,null,null,null,null,null,null,null,null,null,100]
[null,"Agosto",74.029393628588195,92.808594823905082,57.817190977629721,76.599470521424536,98.45370275453331,138.97544175078841,83.543793162460886,null,-5.8784529698750587,-2.8331227952143823,-9.9822090516310187,-4.9715072667275368,-7.2397302950438336,-5.0167295953015278,-9.3181649877930539,null,168.45882082338167,98.887646356455889,95.369226015874517,144.52198201745489,204.26539021924515,260.14070739996333,97.95825623100302,null,227.55666711057231,106.55009543467952,164.94960132666114,188.67229895150871,207.47354797668058,187.18465947850643,117.25378094876717,null,null,null,null,null,null,null,null,null,null,null,null,null,null,null,null,null,null,null,null,100]
[null,"Septiembre",74.165294054037773,92.84661332349495,57.942628674020035,76.463522865938003,98.31447457353903,138.70176824400846,83.799168384498998,null,-5.3857370894626166,-2.551848903064724,-8.3032865721465505,-5.0049551767900375,-7.1463754790737628,-4.9801639183731155,-7.8850447114746984,null,168.33622540145811,98.590476386173123,95.535356580288806,143.97117263145699,203.73979720402065,259.8970964321017,97.751907255234684,null,226.97439219860195,106.18640018959601,164.8792240989998,188.28739147145868,207.23275803261672,187.37835841781239,116.65021161870699,null,null,null,null,null,null,null,null,null,null,null,null,null,null,null,null,null,null,null,null,100]
[null,"Octubre",74.549086972640382,91.181966033261105,57.908472112979858,77.18113230971791,98.970077841508726,138.44119822685443,84.420477048281484,null,-4.4703122680421643,-3.6385372199754573,-6.5442922989851997,-3.6985239347943843,-6.02687433689022,-4.9799313351878594,-6.3880099421564696,null,168.73699918957698,98.92003294000493,95.921328825633836,145.38906206843828,205.90967553936261,261.15769739105366,98.304603157811059,null,226.34348191481365,108.48640059364499,165.64299717404148,188.37383919817444,208.05245386298233,188.64160433161797,116.44639617659234,null,null,null,null,null,null,null,null,null,null,null,null,null,null,null,null,null,null,null,null,100]
[null,"Noviembre",73.73341769643315,90.720436001433313,56.933150118014872,76.736547748260691,98.24143120567615,137.2481176381408,83.417688160621069,null,-3.775997263526043,-3.707988701046383,-6.6997972461809496,-3.2547352640208915,-4.5744052444889878,-5.506415170890067,-6.5972200169598372,null,167.09263436420625,98.468163885672794,94.821477989932831,144.6296828593803,205.20192945703766,259.48768527345811,97.237024784901777,null,226.61723758980094,108.54022337824422,166.54879941366406,188.4756183374935,208.87514253271746,189.06465876465128,116.56643444454076,null,null,null,null,null,null,null,null,null,null,null,null,null,null,null,null,null,null,null,null,100]
[null,"Diciembre",73.397197206974496,90.283556312637273,56.088994265221331,76.853568565411933,96.791306730298103,136.45820021863341,83.121991143052298,null,-2.7838866405075491,-3.6152193181143044,-6.5957690730504499,-2.4684419515333178,-4.6200313072098709,-5.7634272411310583,-5.689809909643806,null,166.77418175300693,98.039599328792718,93.864622023259486,144.99869360215536,204.15225964515446,258.31245746511973,96.844880534123291,null,227.22145817464457,108.59075930648714,167.3494475215816,188.66878442832939,210.92003666611276,189.2978634125698,116.50933670182901,null,null,null,null,null,null,null,null,null,null,null,null,null,null,null,null,null,null,null,null,100]
[2016,"Enero",72.550727373409217,89.786688872429892,55.574196407160969,77.39791489901782,95.563125507262853,129.59799632616853,82.063273220713882,null,-3.2116106286395829,-4.1700409194393995,-7.5473139102232967,-1.360431443437593,-4.0533656277591206,-8.0944753082775929,-4.9243785697634763,null,165.66526178456911,97.413078735883659,93.94334270407937,146.98418203570446,200.1090989101653,260.02586328869006,96.000375655906694,null,228.34403979426895,108.49389810363699,169.04129753997557,189.90715993767643,209.39991010963416,200.64034218111243,116.98336160404934,null,null,null,null,null,null,null,null,null,null,null,null,null,null,null,null,null,null,null,null,100]
[null,"Febrero",73.096502860348124,90.404322318142917,55.805751391547147,77.980010391240114,95.571669433783484,131.42769250468857,82.388133630540352,null,{"$f":"(C259/C247-1)*100","v":-2.3982835166178496},-3.6018483235383258,-6.7394383364671295,-0.61803663812756149,-3.2289294320864581,-7.0332993221142175,-4.8826415791508921,null,166.27506873885221,97.506180860910533,94.186750529790118,148.27413762490468,201.1763556329384,261.15121784808355,96.256257456480782,null,227.47335677128495,107.85566260623622,168.77606372316762,190.1437777207081,210.49789840944732,198.70334240157734,116.83267142344837,null,null,null,null,null,null,null,null,null,null,null,null,null,null,null,null,null,null,null,null,100]
[null,"Marzo",74.523596495533937,91.482747286893485,56.899166039494013,78.899368601606696,96.606080240906124,133.16045378681372,83.429925207076749,null,0.93512906505039961,-1.6460266848284499,-3.9010017600770386,1.6076103552424614,-1.3438363210349302,-5.0329947292522048,-1.7530542186492193,null,167.317062553478,98.281530733311939,95.89590764887663,149.77456044822338,204.01470554265674,263.48804425226075,97.324151234158393,null,224.51555000234725,107.43176571326308,168.53657851912061,189.82985935475963,211.18205503619052,197.87259412174876,116.65376780884742,null,null,null,null,null,null,null,null,null,null,null,null,null,null,null,null,null,null,null,null,100]
[null,"Abril",75.300409299499378,92.449651421558926,57.450501209992858,79.349809328202483,97.422103306187992,134.78350989811383,84.052992287622757,null,1.6537428044100633,-1.035772525998635,-4.1600002195363972,1.4639726175944334,-1.179406790710924,-4.7291549248961617,-1.1945726873471618,null,168.74306464783811,98.772480014652004,96.746919141250132,150.52628502503097,205.60221187883977,265.55817601133293,98.2721551700145,null,224.09315728508261,106.83921301580877,168.40047885330216,189.69961780554777,211.04267399427053,197.0257164337647,116.91690265319154,null,null,null,null,null,null,null,null,null,null,null,null,null,null,null,null,null,null,null,null,100]
[null,"Mayo",75.188137122966467,92.191870080401515,56.285543159699515,78.946213058780003,96.742896888486669,134.43662408435267,83.700373501785009,null,0.37104779679280053,-1.607647008123736,-6.0661801949105865,0.62151914658901131,-2.265346914416988,-5.4331887885350927,-1.9531834396839254,null,168.42227060765674,98.329321638473061,95.041868617723509,149.92743141418649,205.04097535875422,264.78255189501942,97.805726387838604,null,224.00112178894722,106.65725898901823,168.85662513384707,189.9108590586313,211.94421704686005,196.95715635412026,116.85219825901108,null,null,null,null,null,null,null,null,null,null,null,null,null,null,null,null,null,null,null,null,100]
[null,"Junio",76.020307687988577,92.095573725502334,55.906525138304438,78.825710218737711,96.929922020764437,133.90455233633736,83.883431578392845,null,1.4072166686383669,-1.7803279416801487,-5.7769333402522882,1.1168535881791231,-2.3643581096068123,-5.3744364256769872,-1.3715006298246513,null,169.90047874654749,98.09949726040999,94.628245410286311,150.35960269861158,204.85323988417235,264.63248189919835,97.732521993816107,null,223.49354259900244,106.51923137240318,169.26154000126118,190.74944238544836,211.34159154722983,197.62769620744677,116.50992353892993,null,null,null,null,null,null,null,null,null,null,null,null,null,null,null,null,null,null,null,null,100]
[null,"Julio",75.861022277310397,92.08544853455345,55.132742675503337,78.77076946149073,97.150600059233881,133.5797517078276,83.83290346749159,null,{"$f":"(C264/C252-1)*100","v":1.7592926239936357},{"$f":"(D264/D252-1)*100","v":-1.2555731569088069},{"$f":"(E264/E252-1)*100","v":-5.7227136742638463},{"$f":"(F264/F252-1)*100","v":2.2901349055689968},{"$f":"(G264/G252-1)*100","v":-2.0784662958458378},{"$f":"(H264/H252-1)*100","v":-4.3539680190652792},{"$f":"(I264/I252-1)*100","v":-0.14018876681974879},null,171.31563302043017,98.073027211074432,94.035409087293871,150.88260059083694,206.09384384891828,264.57868489971111,97.885932531581062,null,225.82826842773738,106.50219852518201,170.56181957201238,191.54643482897561,212.13851867436784,198.06795679513689,116.76314249277901,null,null,null,null,null,null,null,null,null,null,null,null,null,null,null,null,null,null,null,null,100]
[null,"Agosto",76.474675682551478,92.6520276917758,54.838945174655883,79.095252432528198,98.409203301671951,134.11588342371667,84.240659519283312,null,{"$f":"(C265/C253-1)*100","v":3.3031231705496156},{"$f":"(D265/D253-1)*100","v":-0.1686989577057485},{"$f":"(E265/E253-1)*100","v":-5.1511423377973546},{"$f":"(F265/F253-1)*100","v":3.2582234499983986},{"$f":"(G265/G253-1)*100","v":-4.5198353760556031E-2},{"$f":"(H265/H253-1)*100","v":-3.4967029180493103},{"$f":"(I265/I253-1)*100","v":0.83413301029711118},null,172.58574846411591,98.329333574418115,93.603048074291237,151.55858457476057,207.76565335620379,265.12249952847867,98.284209804396298,null,225.67699297022742,106.12755708005544,170.68717820187103,191.61527388011925,211.12421032339958,197.68165616213298,116.67075063900505]
[null,"Septiembre",77.046856223324014,92.877117375296734,54.758546314725152,79.196409939757672,98.771726294478739,134.47524052107053,84.046649691041381,null,{"$f":"(C266/C254-1)*100","v":3.8853242693094314},{"$f":"(D266/D254-1)*100","v":3.2854242831126257E-2},{"$f":"(E266/E254-1)*100","v":-5.4952328400705515},{"$f":"(F266/F254-1)*100","v":3.5741056276091143},{"$f":"(G266/G254-1)*100","v":0.46509094710940335},{"$f":"(H266/H254-1)*100","v":-3.0472053647524477},{"$f":"(I266/I254-1)*100","v":0.29532668559055786},null,172.47404297259715,97.944489616083615,92.945283815703732,151.49210074064118,207.1257933420701,264.95960324117192,97.994263800764429,null,223.85604218901912,105.45599646499655,169.73658007920812,191.28657581306612,209.70150174812554,197.03225829118796,116.5950863728596]
[null,"Octubre",77.209155559884124,92.684285470663468,54.200833418680027,79.516466893495945,99.030289381923353,134.73461460285515,83.831065716845515,null,{"$f":"(C267/C255-1)*100","v":3.5682108195637552},{"$f":"(D267/D255-1)*100","v":1.647605883880976},{"$f":"(E267/E255-1)*100","v":-6.4025842143895613},{"$f":"(F267/F255-1)*100","v":3.0257842997257978},{"$f":"(G267/G255-1)*100","v":6.0838125752571415E-2},{"$f":"(H267/H255-1)*100","v":-2.6773703720228914},{"$f":"(I267/I255-1)*100","v":-0.69818526504994427},null,172.3593033950628,97.838447332951844,92.471460091648154,151.86477468154163,207.88762578137968,265.65186359929191,97.671725323155158,null,223.236871515036,105.56098785906892,170.60892657746174,190.98531488446127,209.92327405975121,197.1667521240399,116.51017971435429]
[null,"Noviembre",76.252570206999678,91.634174845330207,53.212977559697094,78.654356786610521,97.451632247437004,133.41965999970171,82.570448225075666,null,3.4165682119037255,1.0072028797154964,-6.53428196157485,2.4992120373219517,-0.80393673885474914,-2.7894427292131985,-1.0156598129572258,null,170.34763623404862,96.775797010734578,91.154706321854277,150.52685111453849,205.07037826723206,263.4177295079183,96.180910599929902,null,223.39920578626132,105.61103122725002,171.3016457678809,191.37763915979664,210.4329845872083,197.43546753792302,116.48345463470659]
[null,"Diciembre",75.210712490261045,91.379302025297505,52.87119172779952,78.909807466554625,96.267796547684057,131.99074957677763,81.986912322898519,null,{"$f":"(C269/C257-1)*100","v":2.4708236176547382},{"$f":"(D269/D257-1)*100","v":1.2136714119521885},{"$f":"(E269/E257-1)*100","v":-5.7369588803931393},{"$f":"(F269/F257-1)*100","v":2.6755282019111037},{"$f":"(G269/G257-1)*100","v":-0.54086487753778334},{"$f":"(H269/H257-1)*100","v":-3.2738601525580946},{"$f":"(I269/I257-1)*100","v":-1.3655577838604938},null,168.41224946569622,96.214603414978512,90.434011450759826,151.17151131986904,203.87356597088043,262.46620764716579,95.439525218149996,null,223.92056116674038,105.29146237989693,171.04591081727008,191.57506040544078,211.77753442180042,198.85197143644672,116.40824433327785]
[2017,"Enero",75.572452697845691,90.966490428123279,52.789370573614157,79.416341206811168,97.252058770407018,125.61896668372569,82.188028120736661,null,4.1649828111082199,1.3140049716831248,-5.0110051311294761,2.6078561811733847,1.7673482885569802,-3.0702863896356347,0.15202281742678903,null,169.13964916295055,95.786836535562841,90.176184516133915,152.11531197977791,206.59712294110068,267.07193721107501,94.720273661815654,null,223.81124751793604,105.29903493556051,170.82261738730961,191.54157654234982,212.43470375145051,212.60478752662354,115.24826161137331,null,null,null,null,null,null,null,null,null,null,null,null,null,null,null,null,null,null,null,null,100]
[null,"Febrero",76.755148545495956,91.569099126379214,52.471006587958705,79.410805149260497,98.250259693333859,126.99028731337104,82.910237211906505,null,5.0052267098710912,1.2884083176214922,-5.9756292504531299,1.8348224767370747,2.8027032230573568,-3.3763091375580756,0.63371211163425478,null,172.00052693350386,96.414441177777647,89.673933502678594,153.01927718257588,209.71944510212174,270.31113080781142,95.540010239983729,null,224.08988868225825,105.2914597802378,170.90187388030287,192.69327000898801,213.45434175615816,212.85968913572955,115.23306825886573]
[null,"Marzo",77.429552683218461,91.833117114292989,52.419461003303446,79.361238767333859,99.235368493922394,127.99231871012312,83.492447237993488,null,3.8993772769121193,0.38299005855249035,-7.8730592168629983,0.5853914599232457,2.7216591817612601,-3.8811335721074092,7.4939574453125601E-2,null,172.43876036289734,96.765893478927211,89.635530057750344,153.13714839172792,211.7207900785655,271.3439024553802,95.881543592067203,null,222.70406374215113,105.37145696415273,170.99666486860968,192.96214470729913,213.35214781968813,212.00014593838213,114.83858332569756]
[null,"Abril",78.085813035817878,92.287437593998831,52.524664513683966,79.441283874198717,99.772047008488229,128.59439558742378,84.068721524552728,null,3.6990552405098631,-0.17546180549715684,-8.5740534765815006,0.11528010813217637,2.4121258139075508,-4.5918928178740543,1.8713476465115342E-2,null,173.67143984976869,97.064093810415258,89.813332271108195,153.42730299028659,213.05432790626614,272.49149946705825,96.283616556508051,null,222.41100284133023,105.17584661677404,170.99268144341906,193.13295997739704,213.54110123463767,211.89998072801495,114.52965479960093]
[null,"Mayo",79.954976096699269,92.283812525514023,52.513967778413694,79.60034098656746,100.50836515302043,129.73757042862366,84.415255942444404,null,{"$f":"(C274/C262-1)*100","v":6.3398817368448324},{"$f":"(D274/D262-1)*100","v":9.9729450148178245E-2},{"$f":"(E274/E262-1)*100","v":-6.7007888163834401},{"$f":"(F274/F262-1)*100","v":0.82857416770634185},{"$f":"(G274/G262-1)*100","v":3.892242620018016},{"$f":"(H274/H262-1)*100","v":-3.4953671945678888},{"$f":"(I274/I262-1)*100","v":0.85409707358612419},null,178.1289187573189,97.162608747830276,90.029691820935099,154.11709985761183,214.80809543102902,274.14485706403428,96.641383497058939,null,222.78653243781349,105.28673023881343,171.43951529395298,193.61361766480255,213.72160924515217,211.30722284864865,114.48331515212192]
[null,"Junio",79.911370520895019,92.726316829731218,52.498147491821278,79.878996935330221,101.96110362837364,130.7489883085899,85.04595269743858,null,5.1184518337870966,0.68487884782482134,-6.0965650039084718,1.3362222981178284,5.1905350821714435,-2.356577108611968,1.3858769213075162,null,178.0968036445266,97.637554025470337,90.728784588973937,154.99447653878494,217.92723459953515,276.23972047772077,97.128752371734578,null,222.86791289352038,105.2964868698035,172.82283075437783,194.03658343915856,213.73565687738454,211.27484353894036,114.20737764827216]
[null,"Julio",80.738012727239138,93.074438617791571,51.704930840908517,80.084574757066761,102.61054843528778,131.39165070900049,85.636057893883915,null,6.4288488390004561,1.0739917098487206,-6.2173794885736271,1.6678842983986808,5.6200871355657211,-1.6380484099214665,2.1508910604432829,null,180.68505897269381,98.033454704483063,90.750464817601511,155.99045859575034,220.23184448122873,278.18236724609,97.684175473038067,null,223.79180867766749,105.32801074101086,175.51607427313391,194.78215257924629,214.62885428404061,211.71997287878975,114.0689773390592]
[null,"Agosto",82.238208777463853,93.918091137582422,52.169409295161586,80.478239332251007,104.05639623436622,132.07502723297333,86.242750581339322,null,{"$f":"(C277/C265-1)*100","v":7.5365250567873687},{"$f":"(D277/D265-1)*100","v":1.3664713847584942},{"$f":"(E277/E265-1)*100","v":-4.8679562872555699},{"$f":"(F277/F265-1)*100","v":1.7485081053411733},{"$f":"(G277/G265-1)*100","v":5.7384804908773512},{"$f":"(H277/H265-1)*100","v":-1.5217110297783276},{"$f":"(I277/I265-1)*100","v":2.3766327014542288},null,183.04195461446145,98.470250682870414,90.986136044760684,156.7472731406111,222.48865173235905,280.26986363515391,98.397555719777515,null,222.57531789119091,104.84694640846079,174.40514905964085,194.76975942961008,213.81544987513107,212.20503944381005,114.09371229060517]
[null,"Septiembre",82.889448614083662,94.506458453784887,53.085668068171891,81.209186450505726,105.06566555904182,132.78266116478304,86.521913976875467,null,7.5831677983389856,1.7542976402942445,-3.0550085039481867,2.5414996870175122,6.3722074126742356,-1.2586550131674867,2.945107621699683,null,184.10430080652952,98.719567156657774,91.662722693867011,157.43256386228205,224.3425819120549,282.1856375193243,98.66014107002492,null,222.10824644724272,104.45801141192183,172.66943419861457,193.86053566517614,213.52606554991573,212.51693183730706,114.0290783400765]
[null,"Octubre",81.098227040810571,93.718010996203262,52.529058489610428,80.563789425478063,103.55821952106646,132.19550322924979,85.946356570300011,null,5.0370599868950094,1.1153190859598094,-3.0844081605826967,1.3171140178862561,4.5722679065195448,-1.88452787807325,2.5232780179596848,null,181.0498145293615,97.986317276350817,91.128310414745485,156.5631174875123,222.11072116280133,280.74959008555936,97.771510214218679,null,223.24756179719304,104.55441407129359,173.48171285569393,194.3343512066721,214.47908450919067,212.37453863970788,113.75876083152664]
[null,"Noviembre",80.436464851732097,93.499706826777185,51.999344803197211,80.487072634271797,102.57953378686381,131.46381876324224,86.064386057404974,null,{"$f":"(C280/C268-1)*100","v":5.4868899938383286},{"$f":"(D280/D268-1)*100","v":2.0358474167479823},{"$f":"(E280/E268-1)*100","v":-2.2807082259931222},{"$f":"(F280/F268-1)*100","v":2.3300881509125349},{"$f":"(G280/G268-1)*100","v":5.2619965629787213},{"$f":"(H280/H268-1)*100","v":-1.4659318097976271},{"$f":"(I280/I268-1)*100","v":4.231462838623945},null,179.76776425749907,97.908017860995272,90.879126121448778,157.08285783826062,222.32964262040977,281.08970152546237,97.675214750535105,null,223.49038410485042,104.71478594300319,174.76975232168891,195.16532617857189,216.73879224520417,213.81525667658155,113.49086332340268]
[null,"Diciembre",80.070188725652415,93.427528368235713,51.669162161685911,80.129007740228133,101.93553890227754,131.09055350401587,86.141455324558805,null,6.4611490497721524,2.2414554472862669,-2.2735057161225036,1.5450554409098816,5.8874748959129919,-0.68201451665983459,5.0673246301775166,null,179.56052105543512,97.915532505461144,91.031943752904766,157.18463619959488,223.04458982001347,282.67582465146336,97.812453556859907,null,224.25390012588861,104.80372778303241,176.1823492861036,196.1644610765367,218.80944783530251,215.63401564461603,113.54864297140999]
[2018,"Enero",81.450532398555225,94.365270110259601,52.698538508421976,81.332934362913903,104.66446852404539,129.72699750034204,87.415386888602711,null,7.7780718911047098,3.7362985711995256,-0.17206506576076253,2.4133485967474444,7.6218538171388461,3.2702313393161875,6.3602435627083009,null,183.15460341380876,98.58398889919458,92.043920703940543,159.41306202323088,229.84479298316495,288.58031663602173,98.589456276779302,null,224.86606044217532,104.47062651757972,174.66123977846297,196.00062787839101,219.60154790291693,222.45201245427796,112.78272600041936,null,null,null,null,null,null,null,null,null,null,null,null,null,null,null,null,null,null,null,null,100]
[null,"Febrero",82.370987993479034,95.179103866676357,53.495079524883181,81.584276333573257,106.04572271678737,132.14355370478552,87.840410988247314,null,7.3165638454263826,3.9423831562597211,1.9516929510543957,2.7369967855476407,7.9342925380404106,4.0580004191169916,5.9463993134406312,null,184.67849065899429,98.989515798275548,92.765018119632842,160.12764443066987,232.0711412940403,292.04497583757399,98.980183775948518,null,224.20332104504377,104.00341227937666,173.40850587292479,196.27267854403306,218.84064283650991,221.00584375838361,112.68183136027412]
[null,"Marzo",82.070530954989138,95.406626236637962,53.693211637445522,81.647994398209491,106.23963289402744,132.67293007326359,88.035634074754526,null,5.9938074171214106,3.8913076618073195,2.4299193653704476,2.8814515327561852,7.0582338801251199,3.6569470811300242,5.4414345094123018,null,183.61702210020516,99.020700065662808,93.191695766694721,160.48404552695288,232.76741045332631,293.80451907097239,99.031394432266978,null,223.73075934029026,103.78807423717178,173.56327350272161,196.55601672742651,219.09658769765196,221.45023774535622,112.49012456498639]
[null,"Abril",82.044323819865681,95.685202982200835,53.990186640163415,81.823871805089439,106.49441148684345,132.98442343128053,88.076920163379711,null,{"$f":"(C285/C273-1)*100","v":5.0694365982102862},{"$f":"(D285/D273-1)*100","v":3.6817203692986133},{"$f":"(E285/E273-1)*100","v":2.7901598992557952},{"$f":"(F285/F273-1)*100","v":2.9991810488155357},{"$f":"(G285/G273-1)*100","v":6.7377233202234432},{"$f":"(H285/H273-1)*100","v":3.4138562756198976},{"$f":"(I285/I273-1)*100","v":4.7677644742775804},null,182.96341790613033,99.103308188325158,93.550498491763506,160.78051230258902,233.69827312553576,294.7788168958694,99.038365266216431,null,223.00557721438463,103.57224011612345,173.27315261060994,196.4958498732255,219.44651354255086,221.66416884771155,112.44530926206731]
[null,"Mayo",81.167740918253273,94.783016823534183,53.291518791448546,81.305230406311296,105.13237019536412,131.56631630061716,86.907387767172949,null,{"$f":"(C286/C274-1)*100","v":1.516809685600129},{"$f":"(D286/D274-1)*100","v":2.7081719205404475},{"$f":"(E286/E274-1)*100","v":1.4806556158844852},{"$f":"(F286/F274-1)*100","v":2.1418117040874707},{"$f":"(G286/G274-1)*100","v":4.6006171081419911},{"$f":"(H286/H274-1)*100","v":1.4095730835345099},{"$f":"(I286/I274-1)*100","v":2.9522291876100226},null,180.25269594753647,98.013134941089348,92.530955535010733,159.40812760915543,231.50218899185222,291.41201315144724,97.446152699242688,null,222.07430428435225,103.40790811034107,173.63167279416845,196.06134416265235,220.20067516946406,221.49439259635199,112.12643159900671]
[null,"Junio",80.774047158126294,94.136064758927873,52.867340126738284,80.936961050135508,104.41434837047836,130.56885127452966,86.118248628858453,null,{"$f":"(C287/C275-1)*100","v":1.0795417868671109},{"$f":"(D287/D275-1)*100","v":1.5203320668773168},{"$f":"(E287/E275-1)*100","v":0.70324888125723461},{"$f":"(F287/F275-1)*100","v":1.3244584376313817},{"$f":"(G287/G275-1)*100","v":2.4060594234506238},{"$f":"(H287/H275-1)*100","v":-0.13777317621386231},{"$f":"(I287/I275-1)*100","v":1.2608429883015138},null,179.41879482748072,97.315709389334643,92.168301015692364,159.08928346026161,230.52580186242423,289.18980268437849,96.615499968335413,null,222.12430989899983,103.3777114419957,174.33882770485204,196.55949691725579,220.77981183628404,221.48452702271061,112.18934605221327]
[null,"Julio",80.469726887891738,94.104469618893248,52.846630442943997,80.784823696841073,105.20570182029169,130.79275097173152,86.378518955918366,null,{"$f":"(C288/C276-1)*100","v":-0.33229185396692618},{"$f":"(D288/D276-1)*100","v":1.1066744171635445},{"$f":"(E288/E276-1)*100","v":2.2081058488374827},{"$f":"(F288/F276-1)*100","v":0.87438678659215174},{"$f":"(G288/G276-1)*100","v":2.5291292411720789},{"$f":"(H288/H276-1)*100","v":-0.45581262891306595},{"$f":"(I288/I276-1)*100","v":0.86699584298295385},null,179.14384463267737,97.343926310349332,92.374112105839984,159.31875193633809,231.78189538730877,289.28463475360854,96.831847509822893,null,222.62265768871785,103.44240470678525,174.79659787499969,197.2137149598903,220.31305468902212,221.1778807344852,112.10176868075172]
[null,"Agosto",80.40722860848976,93.753596882999389,52.724955318913935,80.246697372086331,105.62187084113816,130.78613644695429,86.141053613713765,null,{"$f":"(C289/C277-1)*100","v":-2.2264348849434623},{"$f":"(D289/D277-1)*100","v":-0.1751465054182777},{"$f":"(E289/E277-1)*100","v":1.0648884686602633},{"$f":"(F289/F277-1)*100","v":-0.28770753695140927},{"$f":"(G289/G277-1)*100","v":1.5044482256006964},{"$f":"(H289/H277-1)*100","v":-0.97587773633051045},{"$f":"(I289/I277-1)*100","v":-0.1179194389557936},null,178.50324231546116,97.032687405640019,92.352999949360779,158.62630565416677,231.48358562080591,288.70105056446482,96.452093074917926,null,221.99899860323504,103.49756236737542,175.15993971118863,197.67331348061762,219.16255012086614,220.74285425623796,111.96994815903045]
[null,"Septiembre",82.000947430718313,93.803258088040934,53.577001224387118,80.566755123042256,105.65605351322294,131.08753031777698,86.222168595022453,null,{"$f":"(C290/C278-1)*100","v":-1.0719110794210174},{"$f":"(D290/D278-1)*100","v":-0.74407651841892353},{"$f":"(E290/E278-1)*100","v":0.92554765550705298},{"$f":"(F290/F278-1)*100","v":-0.79108208756039078},{"$f":"(G290/G278-1)*100","v":0.56192282325508991},{"$f":"(H290/H278-1)*100","v":-1.2766206311397799},{"$f":"(I290/I278-1)*100","v":-0.34643868596472283},null,181.95741218653794,96.895033455797801,94.15768654900333,158.88153469488412,232.00377072967501,288.77390388708278,96.290521374345417,null,221.89671935226323,103.29602130115249,175.74273363053535,197.20483275296223,219.58398313698089,220.29090271748123,111.6772205378098]
[null,"Octubre",83.441900356728752,93.591159861785641,53.756665961358614,80.099628620751105,105.54722968367459,131.21934739669175,86.106780624480848,null,{"$f":"(C291/C279-1)*100","v":2.8899193008729895},{"$f":"(D291/D279-1)*100","v":-0.13535406168911912},{"$f":"(E291/E279-1)*100","v":2.3370064247220323},{"$f":"(F291/F279-1)*100","v":-0.57614073026729384},{"$f":"(G291/G279-1)*100","v":1.9206685590065664},{"$f":"(H291/H279-1)*100","v":-0.73841833399221901},{"$f":"(I291/I279-1)*100","v":0.18665602659913016},null,185.44148992583231,96.693218013265167,94.574449911920695,158.50467517311338,232.40174747232163,289.1170833731947,96.060411686993703,null,222.2402523588718,103.31447773065385,175.93064640560621,197.88440708456693,220.18744420751779,220.33113950731615,111.55963675604306]
[null,"Noviembre",84.907402569451435,92.945004281175599,53.106295624071514,79.37892918667275,104.45076706152931,130.88472792977549,85.62373390839042,null,{"$f":"(C292/C280-1)*100","v":5.5583468591770879},{"$f":"(D292/D280-1)*100","v":-0.59326661486678312},{"$f":"(E292/E280-1)*100","v":2.1287784010813882},{"$f":"(F292/F280-1)*100","v":-1.3767968088917559},{"$f":"(G292/G280-1)*100","v":1.8241779871543295},{"$f":"(H292/H280-1)*100","v":-0.44049445612838189},{"$f":"(I292/I280-1)*100","v":-0.51200289597214121},null,190.03505313761642,96.091873493532603,93.353487839777728,158.35449107483643,231.6351158355946,288.21276186088494,95.31674424269319,null,223.81447010132482,103.3857324949248,175.7861035923269,199.49184588071162,221.76487770467421,220.20350763575851,111.32047142988814]
[null,"Diciembre",83.314157696032979,93.308937177600029,53.26693103684093,79.541096847017158,104.03573977327262,130.92945753598647,85.878573618661406,null,{"$f":"(C293/C281-1)*100","v":4.0514066745808597},{"$f":"(D293/D281-1)*100","v":-0.126933884163416},{"$f":"(E293/E281-1)*100","v":3.0923065292895568},{"$f":"(F293/F281-1)*100","v":-0.73370544549475891},{"$f":"(G293/G281-1)*100","v":2.060322526973124},{"$f":"(H293/H281-1)*100","v":-0.1228890745544553},{"$f":"(I293/I281-1)*100","v":-0.30517444232504021},null,187.09125294829099,96.162499145107475,93.839207756006786,159.16461499113689,232.25664883040423,288.10540449031896,95.278313767241727,null,224.56117678208173,103.05818719387629,176.16785110278815,200.10362102154699,223.24698160129034,220.04628287040146,110.94538457324559]
[2019,"Enero",84.756498942759137,94.538582466801699,53.150502737115787,80.252994828140984,107.13728658554243,131.90547906750447,86.454330903573805,null,{"$f":"(C294/C282-1)*100","v":4.058864253983141},{"$f":"(D294/D282-1)*100","v":0.18366116722772219},{"$f":"(E294/E282-1)*100","v":0.85764091659121799},{"$f":"(F294/F282-1)*100","v":-1.3278010233273352},{"$f":"(G294/G282-1)*100","v":2.3626146450348884},{"$f":"(H294/H282-1)*100","v":1.6792815752609158},{"$f":"(I294/I282-1)*100","v":-1.0994128370713785},null,191.29789907428571,97.628792380412818,94.680224993411287,160.87178955815699,241.18874000723687,293.45522021280573,95.923976549903671,null,225.70292716252945,103.26872884379907,178.13608548860381,200.45580841270581,225.12119514494398,222.47386711102877,110.95335022243336]
[null,"Febrero",85.661307491719512,94.891431999776202,53.354543394836782,80.148761441974543,107.77981333486935,132.27633073099909,86.635178378767847,null,{"$f":"(C295/C283-1)*100","v":3.9945126049731883},{"$f":"(D295/D283-1)*100","v":-0.30224267219737255},{"$f":"(E295/E283-1)*100","v":-0.26270851692262731},{"$f":"(F295/F283-1)*100","v":-1.7595484768772485},{"$f":"(G295/G283-1)*100","v":1.6352291951587272},{"$f":"(H295/H283-1)*100","v":0.10047938207429219},{"$f":"(I295/I283-1)*100","v":-1.372070776900991},null,192.661743220815,97.730870064011327,94.777662327679863,161.21369602037788,242.24970501811845,294.05148288561969,95.921206780138917,null,224.91104661160898,102.99230183842292,177.6374724572222,201.14309082254761,224.76352252109984,222.30090694276302,110.71854248486991]
[null,"Marzo",85.199611616697098,94.989490410446408,53.235731082934635,80.268518777560345,106.23940290314729,131.76952901340698,86.437169956889562,null,{"$f":"(C296/C284-1)*100","v":3.8126726186578086},{"$f":"(D296/D284-1)*100","v":-0.43721892560892872},{"$f":"(E296/E284-1)*100","v":-0.8520268029410305},{"$f":"(F296/F284-1)*100","v":-1.6895401176925895},{"$f":"(G296/G284-1)*100","v":-2.1648312770183864E-4},{"$f":"(H296/H284-1)*100","v":-0.68092342526673288},{"$f":"(I296/I284-1)*100","v":-1.8157012608185918},null,190.40660495063045,97.640251299165158,94.097723661714639,161.26380962589838,242.05585069605311,293.52763518306574,95.651073810084981,null,223.48294943790012,102.79058333428772,176.75670409244893,200.90542603980484,227.83999540803359,222.75835497082227,110.65965470386274]
[null,"Abril",84.495458974070075,95.260020405284678,52.853176765494368,79.899389285030779,106.13842102457281,131.47075247150789,86.43064386735935,null,2.9875743257827825,-0.444355619954373,-2.1059565551181492,-2.3519817354071493,-0.33428088601120676,-1.1382317723510171,-1.8691347210671894,null,189.02196095976285,97.669677859724771,93.595906753845398,161.23857739021861,243.13411476484919,293.11783463179358,95.535917809835496,null,223.70665033936299,102.52955798685343,177.08662464911714,201.80201480016416,229.07266983796529,222.95288428908742,110.53477509255806]
[null,"Notas:"]
[null,"El ITCER RESTO DEL MUNDO incluye dentro de los socios comerciales a Brasil, Canadá, China, Colombia, Corea del Sur, Haití, Japón, México, \nEstados Unidos y Zona Euro."]
[null,"Valores sobre (bajo) 100 significan una depreciación (apreciación) real de la moneda. El índice se descompone en efecto precio y efecto tipo de cambio, los cuales divididos generan el índice."]
[]
[null,"Fuente: Cálculos de la Secretaría Ejecutiva del Consejo Monetario Centroamericano"]
[null,{"$f":"TODAY()","v":"2019-07-10"}]

{"sheet":"ITCER REGION","index":6,"n_rows":303,"n_cols":33,"rows_kept":303,"cut":false,"hidden":false,"merged":[[302,1,302,2],[299,1,299,31],[3,2,3,8],[3,10,3,16],[3,18,3,24],[3,26,3,32]]}
[]
["Secretaría Ejecutiva"]
["Consejo Monetario Centroamericano"]
[null,null,"ITCER REGIÓN CAPARD\nPeriodo de referencia Diciembre 2000=100",null,null,null,null,null,null,null,"VARIACION INTERANUAL",null,null,null,null,null,null,null,"EFECTO TIPO DE CAMBIO",null,null,null,null,null,null,null,"EFECTO PRECIO"]
["Año","MES","COSTA RICA ","EL SALVADOR ","GUATEMALA ","HONDURAS","NICARAGUA ","REPÚBLICA\nDOMINICANA","PANAMÁ",null,"COSTA RICA","EL\nSALVADOR","GUATEMALA","HONDURAS","NICARAGUA","REPÚBLICA\nDOMINICANA","PANAMÁ",null,"COSTA\n RICA","EL\nSALVADOR","GUATEMALA","HONDURAS","NICARAGUA","REPÚBLICA\nDOMINICANA","PANAMÁ",null,"COSTA\n RICA","EL\nSALVADOR","GUATEMALA","HONDURAS","NICARAGUA","REPÚBLICA\nDOMINICANA","PANAMÁ"]
[1995,"Enero",90.906551413596802,113.83970930416434,92.820875154516287,131.34015760477752,87.220693814447287,104.74900285209249,93.856053001477349,null,null,null,null,null,null,null,null,null,66.907628497318782,148.7215756446802,95.940054136956562,83.721802418311171,76.947374560770157,100.66114028921535,160.01476109643923,null,73.60044733509875,130.64121171226483,103.36042832740789,63.744253048822117,88.22146579625641,96.097468757149628,170.48954860047277]
[null,"Febrero",91.523027677267009,113.50930101776528,94.143209959320757,123.77266515264276,88.145498298192635,104.65296900445369,94.604230509679141,null,null,null,null,null,null,null,null,null,67.828323573398308,148.76230222535062,95.49258127749934,82.313781985562713,77.520869579980697,100.45469145098696,159.2177590662032,null,74.110664053398523,131.05736789099592,101.43331772813107,66.504007071391058,87.946487428922069,95.988381798047143,168.29877290732077]
[null,"Marzo",92.699087240887167,112.726166558678,93.803461426599412,123.24583682747708,88.760849078322025,104.09401303863912,94.382679359714373,null,null,null,null,null,null,null,null,null,68.788274526763985,148.41376673853017,94.694721645364027,82.516746131380486,77.882979944149938,100.15715460623271,157.97649249173782,null,74.205989049289428,131.6586656579646,100.9501357468157,66.952968356156077,87.744744166909086,96.217978039769619,167.37869020400723]
[null,"Abril",93.875262793143492,112.21508450871855,94.012851487651091,119.91976802554406,89.786890310469559,104.23208877757817,94.042815580826684,null,null,null,null,null,null,null,null,null,69.604605351199382,147.42374101170168,94.901385329565457,81.901814965938243,78.138380453698247,99.622206467011495,156.50856797164846,null,74.145843409860674,131.37604597200797,100.94511955318266,68.297175948916419,87.026491488353685,95.577290674464223,166.42267355036228]
[null,"Mayo",95.025161645252396,112.30819991364106,93.185789945423991,118.7820519843909,90.46318274083967,104.23031035264437,94.006331618980127,null,null,null,null,null,null,null,null,null,70.398817673452214,146.74703637620499,94.652418657855762,81.794895674274244,78.478177698289116,99.228990432566462,155.25210695083126,null,74.08439665303051,130.66457880105418,101.57387592388361,68.86132568666423,86.751510747874761,95.201664560762751,165.15069174285858]
[null,"Junio",95.617429461212708,111.92622305374255,92.701119834996106,120.19206476593077,90.011936073315155,103.98355382365837,94.115320793224328,null,null,null,null,null,null,null,null,null,71.164301171676556,145.71782713008207,94.398029452184218,82.512093060977591,78.665687051647566,98.741334104497653,153.71528885047653,null,74.426076472328106,130.19096254156108,101.83051684834933,68.650200178910808,87.394728391992359,94.958606888882841,163.32653127559973]
[null,"Julio",95.910239832956748,109.17261901187777,93.879659468696417,121.21836682179585,90.340984620366299,103.66914496275247,94.499959099268281,null,null,null,null,null,null,null,null,null,71.862988693565029,144.80957321693825,94.084676339505364,83.268220554167755,78.907928371934418,98.313637324564226,152.33474963655704,null,74.927337079675851,132.64275834692879,100.21838263151916,68.692742475718276,87.344552091748582,94.834038961050155,161.20086303586197]
[null,"Agosto",95.824075476967977,108.07796833718459,94.061601439013074,121.18384211286086,92.732299287681897,102.53372286576395,94.221220243493832,null,null,null,null,null,null,null,null,null,72.426276166674555,143.51326224011618,94.24235304056171,83.961515358701405,79.064362940300953,97.763536632956004,150.81693222624878,null,75.582546250689106,132.78678758318216,100.19216300677789,69.284414402793416,85.260867623934217,95.347690399330361,160.06684251859178]
[null,"Septiembre",95.591332395783354,106.44487539599292,95.566023458456755,120.38901732464893,92.918188040002292,100.98615215444346,94.62128273419809,null,null,null,null,null,null,null,null,null,72.959118298185814,141.79102003916375,94.97695939967646,84.279695122792688,79.083971382026803,97.044258939985056,149.07140920827024,null,76.323989288179575,133.20605572760286,99.383605137618432,70.0061326155014,85.11140073887394,96.096600246309151,157.54532690814258]
[null,"Octubre",94.787161929980599,106.71553927972678,96.076065249386531,121.0066722651578,90.944523481531689,100.72190214444643,95.787119699299495,null,null,null,null,null,null,null,null,null,73.515758718587648,140.2067177453352,95.506107939221707,84.818066419882825,79.129298943534351,96.378736749481646,147.39346501545973,null,77.558771907205994,131.38360044999641,99.406764516547014,70.093710398071181,87.008316624588531,95.687963290510339,153.87608008066834]
[null,"Noviembre",94.452110009121753,106.82570012073737,95.881340365161847,123.09655851758932,89.63683289395388,100.21917804048775,96.393105819514588,null,null,null,null,null,null,null,null,null,74.147225617767262,138.79536419746938,95.491577170846071,86.23349634324849,79.170275434420859,95.793943357741995,145.71492593876684,null,78.502455488401964,129.92694083970338,99.59349421604729,70.053539580415276,88.323374307617897,95.584443248019852,151.16737312272301]
[null,"Diciembre",94.880532655862055,107.32291696412112,94.229035048700155,124.07015602607574,91.63121623327018,100.4553599383826,96.143806804352138,null,null,null,null,null,null,null,null,null,75.165154491571457,138.7318707388263,93.862742828107457,87.987076768852489,79.5893790542396,95.66637006910014,144.65936327968421,null,79.2208394995003,129.26584057084978,99.611274571151668,70.917196840117057,86.858368060536179,95.232718421177395,150.46144737544958]
[1996,"Enero",94.32362297890262,104.2974022900399,95.836243940104765,125.39703650842064,92.091515089606332,101.19720890330419,96.641697095872871,null,{"$f":"(C18/C6-1)*100","v":3.7588837241874895},{"$f":"(D18/D6-1)*100","v":-8.3822306578706147},3.2485890491431801,-4.5249839841372985,5.5844789374425163,-3.3907663577509184,2.9679962083550171,null,73.8552949706432,137.00661089441166,95.606249648208305,87.922139667231505,76.368370086091062,84.11804285991964,141.9933122078545,null,78.299892050544344,131.36147965930249,99.760013245051425,70.115005996435471,82.926608397943696,83.122888241212252,146.92758558139849]
[null,"Febrero",94.462044000855144,103.87425928355721,96.480701423866321,124.35385018846715,91.98791496824559,100.98716446792665,96.563827363815747,null,{"$f":"(C19/C7-1)*100","v":3.2112315317537776},-8.4883279588692915,2.4829103081949189,0.46955847246856752,4.3591751640613685,-3.5028194339818852,2.0713628170530018,null,74.224695306050251,135.408629931625,96.069444553876735,89.114138420822513,76.496503904090432,83.843296420394225,140.57877406583779,null,78.576211314438964,130.35821469685274,99.573741832386958,71.661744518375329,83.159297534352405,83.02371579808316,145.58119526082004]
[null,"Marzo",95.273310547008876,103.63413315850924,95.744339257140439,125.51859997578163,92.238410021547125,101.17930145077763,96.262752986111536,null,2.7769672633694453,-8.0655926460836636,2.0690897766707073,1.8440891853296559,3.9178995912449111,-2.8000761069510882,1.9919689069556545,null,74.710891105195159,134.45677981996954,95.716904687277179,90.664192351483962,76.792088663858678,83.717957322048619,139.49925302283731,null,78.417439969541093,129.74179039478895,99.971346013690081,72.231679104911379,83.253916287065067,82.742177620959637,144.91508781487249]
[null,"Abril",96.170196898025551,104.36587839929317,94.147001718547088,125.63141104573941,92.88507965341509,101.60050930524929,96.494198262844634,null,2.4446633080953406,-6.9947869698530063,0.14269350282776205,4.7628869820518061,3.4506032364329142,-2.5247306306452666,2.6066666197494648,null,75.37932703837383,134.38747568839372,94.558475202632394,91.886925169681874,77.362990768123922,83.783493894237992,138.87732697736485,null,78.381171578865121,128.76572089418056,100.43705426256209,73.140088457836413,83.28893193265354,82.463655415858469,143.92298135797864]
[null,"Mayo",96.25361251947713,104.68485854444822,93.431659239402691,125.66996485645883,92.828877240294631,101.57607371427819,97.500932359675346,null,1.2927637827239824,-6.7878760188969096,0.26384848389726656,5.7987825239566249,2.6150909439393022,-2.546511306918342,3.7174099664470273,null,76.126315380891029,134.35341688326915,93.40917171313869,92.939406387714101,77.944470261217901,83.855129355133201,138.23897183436029,null,79.089307287543832,128.34083051869811,99.975931577746707,73.955146318271176,83.965757831426416,82.55401719011904,141.78220504026015]
[null,"Junio",96.240624456698072,102.96147378799868,94.157420797398231,126.14733509460095,93.720440489879891,101.1671166647989,97.868646167732081,null,0.65175878393401998,-8.0095164664310552,1.5709637218992434,4.9547949278247572,4.1200140540740504,-2.7085409714268427,3.9880067802711805,null,76.505355122553411,133.02905784136675,93.427270380873267,94.722450881810786,78.148183354861118,83.646244981935851,137.00499598301732,null,79.493826598117892,129.20275220154508,99.224542887494707,75.088745085876056,83.384353452008909,82.681258238370418,139.98864942732678]
[null,"Julio",96.412549365637986,103.64265317636345,92.052457509117019,129.94876114566796,94.63211072987626,101.44276030910251,97.848085174112711,null,0.52372878386717225,-5.0653413699937584,-1.9463235912020593,7.2022042144048504,4.7499217852697395,-2.1475865885166479,3.5429920888403466,null,76.967935800068858,132.21623352133375,91.99158193556876,99.069807664113114,78.418471853391708,83.602330218337173,136.0045608319692,null,79.8318645305947,127.56932543626425,99.933868605797713,76.23759302565368,82.866662540407916,82.413303781951115,138.99562836611483]
[null,"Agosto",97.314475894271098,101.24454895094047,92.005478070840994,130.6073920675874,97.264360054981793,101.71293052496578,98.20244902890613,null,1.5553506881069268,-6.3226756492359542,-2.1859327682244634,7.7762429301013514,4.8872515855992615,-0.80050964488311838,4.2254056730784084,null,77.515878344151673,131.70209242467968,91.118714978212239,101.11518276210127,78.866429663331701,83.578672539839488,135.18667101141804,null,79.655033469398802,130.08314402042311,99.036184462901232,77.419188272112237,81.084612718111671,82.171138033747667,137.66120127169691]
[null,"Septiembre",97.637229492749995,102.33860057074621,91.161615172123959,130.13831978761351,97.30980484230291,101.52446488598453,98.004348868785897,null,2.1402537716451953,-3.8576538419258566,-4.6087596061244795,8.0981659952202847,4.7263263467965722,0.53305598842681157,3.5753754724412445,null,78.214574032627112,131.41139727027357,90.317662213645107,102.18667445320564,79.386945616539705,83.588886206076936,134.4457464747847,null,80.107326312894713,128.4084368335968,99.074223337437189,78.521587354112825,81.581651247982251,82.333737291745521,137.18344953731466]
[null,"Octubre",97.803233422310441,102.70860712462722,91.212037728721299,130.21662868083195,96.021838298449865,101.70281746850119,97.935250691635261,null,3.1819409199716597,-3.7547785281733304,-5.0626839349005142,7.6111145305216565,5.5828703285792036,0.9738848285927082,2.242609443815935,null,78.797792485480812,130.76076622087126,90.026250576986982,102.96968022763397,79.818934958147409,83.508888471213467,133.55779636092964,null,80.567676270205808,127.31237418321268,98.699966384633299,79.075676640360797,83.125814265353398,82.110693243161492,136.37356867697989]
[null,"Noviembre",98.471434962209301,104.60216459058624,89.580069756205901,128.95356678616486,96.040022226792871,101.52832941500171,98.315696955793186,null,4.2554104431329121,-2.0814612285601886,-6.5719467259820359,4.7580601270332368,7.1434801142677307,1.3062882774642848,1.9945317872405166,null,79.641484562553444,130.8282428725802,89.079831165934479,103.3279995147015,80.468867665108249,83.589067459274474,132.98423713493514,null,80.877753627859406,125.07221373921185,99.441573787972217,80.128066318664509,83.786806582661711,82.33078190186734,135.26246698401616]
[null,"Diciembre",99.017517813467023,104.98937578720418,88.841168524512028,130.05408134086017,95.67348950975493,103.69955669142831,97.872074940975637,null,4.3602043978927529,-2.174317697400141,-5.7178411318799194,4.8230174817599059,4.4114587175118736,3.2294909450681697,1.7975865467241503,null,80.239947560139655,130.34159836544978,88.442191593297451,104.44780738510686,80.939783189055348,85.637101081869886,132.14295509548825,null,81.036112934378664,124.14741719165023,99.550909856499146,80.311056991251547,84.600011564125793,82.581935558986387,135.01599427127766]
[1997,"Enero",97.677581821208491,103.94531326408568,88.76376530057982,129.1713403718783,97.077929396338234,105.47902679201937,98.966204644982867,null,3.5557994237096491,-0.33758177885877538,-7.3797535762618827,3.009882823829102,5.4146294605752265,4.2311620400583783,2.4052842809703323,null,80.215915195939857,126.23300444936274,88.802153474448275,105.62008867652865,79.878774832834978,90.503648060327478,127.53792387465967,null,82.123158354563998,121.44174709315894,100.0432475726311,81.767432599563733,82.283146467530628,85.802505780395634,128.87017778662008]
[null,"Febrero",99.049262350835406,103.73688170338956,88.300808170880217,125.16417197767979,98.939730432451114,106.61181038491686,99.403462712736243,null,4.8561497885211358,-0.13225372783899347,-8.4782688478285184,0.65162581454818458,7.5573138782472737,5.5696641713082196,2.9406822683424094,null,80.869240826366322,125.82793062012585,89.391462541673192,103.42677782775085,80.470018857842561,90.760813513260359,126.80203676654716,null,81.645475096952339,121.2952698731588,101.23515785799191,82.632894216880757,81.33236113148871,85.13204417556814,127.56299761205443]
[null,"Marzo",99.29909488500131,104.2512830776585,86.939956534353016,125.45419662544487,100.31895749208094,107.24429322722287,99.703306004281686,null,4.2255111267557544,0.59550835264412516,-9.1957214296936147,-5.1309806155575011E-2,8.760501691915735,5.9943008989795876,3.5741269716923041,null,81.874231534955413,126.33247499941814,87.697628885170474,104.20110731874952,81.25573571269652,91.40534154686874,126.55241640092771,null,82.452142821416743,121.18073875916807,100.87148922201044,83.0590846074696,80.997388473769533,85.230960824371792,126.92900714394868]
[null,"Abril",98.813247804644959,104.26106723542607,87.162028136511481,124.42558337583148,101.04388454075037,106.17357669867177,100.05645343168669,null,2.7483055997295835,-0.10042665809423257,-7.4192204260707273,-0.95981383944571119,8.783762599739898,4.5010280211126963,3.6916780832135343,null,82.511706447888173,126.05541409005447,87.552918454760871,103.645344177691,81.883152285138678,91.386619343702947,125.97217003258801,null,83.502676291963269,120.90362916141632,100.44846400044432,83.29906227132318,81.0372173014743,86.07284616874567,125.90109454418672]
[null,"Mayo",99.255350541654522,104.53488397164786,86.436354613305284,125.71626641120369,101.17336707363609,106.21442615067438,99.650124908964443,null,3.1185718058841516,-0.14326290820432241,-7.4870816627296888,3.6843771539007975E-2,8.9891099423093479,4.5663828761912439,2.2042789717752198,null,83.059312723101925,125.55501466233159,86.675494220424966,105.82550444788754,82.354319240386914,91.31113355509703,125.40207762968856,null,83.682453661018911,120.10824510637505,100.27666553985246,84.178052267114168,81.399207738581765,85.968673808550506,125.84236873185044]
[null,"Junio",100.09917784858509,104.84361453389003,86.008179105152067,125.05288073304116,100.45857629546062,106.0990864981181,100.01395114647414,null,{"$f":"(C35/C23-1)*100","v":4.0092771775635194},1.8280048610869182,-8.6549117671576461,-0.86760006522454969,7.1896117542344706,4.8750720549449733,2.192024782957902,null,83.968925073532077,125.71785266873302,85.669570572477554,106.01483301082366,83.095204846241586,91.448232048647498,125.00463007072045,null,83.885729012227841,119.90988027992447,99.606306590608611,84.776002271503614,82.715889384942827,86.191347227357653,124.98719292436165]
[null,"Julio",100.64517348034929,104.28039410890405,86.658655386602931,123.84599640429163,100.04581761537165,104.31728213291527,100.21777314070096,null,4.3901174095701601,0.61532671443231823,-5.8594873710784761,-4.6962854340222187,5.7207927031751371,2.8336392021016676,2.4218031066950196,null,84.512372840377779,125.09346831575189,85.8987958129444,105.57449537212582,83.614865888646449,91.314746861212967,124.28295874887138,null,83.970616690206811,119.95876059416494,99.123157900075142,85.246595317850222,83.57657309584458,87.535588537347834,124.01289197913432]
[null,"Agosto",99.858235422714358,104.61567944865108,87.360537778542664,121.47976384462524,101.47142190959278,103.55121026884022,99.742980990731141,null,2.6139580006647511,3.3296908649809387,-5.04854753183489,-6.9886000160226391,4.3253889217312658,1.8073215808320775,1.5687306956790437,null,84.599788023732202,123.6869089951627,87.419095852373744,104.50929155299337,83.930908270039566,90.906639058054125,123.26277387502806,null,84.719890818828375,118.22980039609878,100.06703034953783,86.03020638619499,82.713838724777943,87.789064774850814,123.58039899216824]
[null,"Septiembre",100.81774709876356,104.65472541514734,86.930600242795563,120.55923957573758,103.02613350925829,102.95008685136168,98.905578188887034,null,3.2574844887930166,2.2631976902986795,-4.6412241833799666,-7.3606914761993547,5.8743604267001315,1.4042151977635919,0.91958094768607168,null,85.030866024853708,123.09406464088657,87.682958353480473,104.09390498194414,84.478936075581345,90.775682004446267,122.60089304768016,null,84.341168565843233,117.61921322959239,100.86546982142488,86.342536124367626,81.997579835401439,88.174458886574129,123.95751108551281]
[null,"Octubre",101.14474589199176,104.65186152912023,86.756878109581777,120.49490560977132,103.07994820541317,102.22103649701232,98.971130832884469,null,3.4165664597741952,1.8920073583853059,-4.8843987373572979,-7.4658076848918453,7.3505257054397033,0.50954245065200077,1.057719395144896,null,85.434286062888731,122.42871423821016,88.09782062631615,103.54005838370033,85.009700881830753,90.618399445836033,121.90615093165857,null,84.467349548853903,116.98665694937817,101.54563251462396,85.928992482902046,82.469677528773261,88.649462528669034,123.17344452444472]
[null,"Noviembre",100.39177245869089,104.90196165723789,87.67848988356667,119.75866707345911,101.22026728747707,101.92288886271444,99.552666864791576,null,1.9501467580101517,0.28660694338884518,-2.1227711452049824,-7.130395802043255,5.3938399227473788,0.38862005312818582,1.2581611556439221,null,85.764021345381252,121.57393358135502,88.817289156638267,102.85590639716334,85.481248700742938,90.394754116779538,121.1294928738796,null,85.429332748031072,115.89290768326335,101.29883540944178,85.885981291084562,84.450724140024718,88.689356360902622,121.67378000871921]
[null,"Diciembre",100.56374713199878,105.29279346119888,86.970519729848277,119.91137149626418,101.8465135178859,102.00837199368004,99.585071630531985,null,1.5615714801542557,0.28899845505290234,-2.1056102995174131,-7.798840097922688,6.4521781736638362,-1.6308504604128804,1.7502404956566187,null,86.441764696897778,121.54483084591949,88.203824337319091,102.82875413886639,86.217584469429681,90.457095107109865,120.71815598836646,null,85.95718353994441,115.43508995296017,101.41807202176297,85.753963828251258,84.654428994556085,88.676148181949372,121.22113687505269]
[1998,"Enero",99.994615173158365,103.88084066584777,87.560123270383542,119.44000194898487,102.32929481262266,100.69967315463826,99.440551094018502,null,2.3721239907341651,-6.2025498036755167E-2,-1.3560060528306717,-7.5336668295593707,5.4094328638230271,-4.5310937944136542,0.4793014451117239,null,86.957760750796808,120.65175071161336,89.358581134977271,101.9121797686188,87.469873259955804,90.544436930500851,119.75858137619548,null,86.96244352779803,116.14437266609383,102.05396908709248,85.324998413971429,85.478819550280036,89.915323549717343,120.43233877793658]
[null,"Febrero",100.43212602211347,104.57092207206809,86.954401957078005,117.72768109158939,102.44786346431862,100.97212673434156,100.26450274880834,null,1.3961372739757616,0.80399598964548957,-1.5247948933792776,-5.9413894316470479,3.5457272993710154,-5.2899239120070218,0.86620728551518589,null,87.667737139998437,120.66756461414289,88.502504027296595,102.2780787822927,88.176402131068926,90.514417903249949,119.42350297677218,null,87.290532036228598,115.39303873688837,101.78036078148493,86.876831203973808,86.069537371835708,89.64297458188048,119.10845783174399]
[null,"Marzo",100.41977620953566,104.28606961203145,87.623879268023501,116.3023410558885,102.60100742051675,101.38749092082458,100.28880318527821,null,1.1285916813564167,3.3367967612485394E-2,0.78666100252793303,-7.2949776218966029,2.2747943015814842,-5.4611785206968966,0.58723948528986991,null,88.003253854993901,119.83237563811097,89.054144889328271,102.04894058051217,88.600639605977676,90.304528402680134,118.70163208475195,null,87.635381372854823,114.907365944383,101.63227836207741,87.744528316479077,86.354551318236418,89.068708163614247,118.35980519725319]
[null,"Abril",101.20404327581127,103.62805040610294,87.961881659081243,115.14193875678322,102.04702617488223,101.73117973155064,100.98976031840422,null,2.4195090479091963,-0.6071459329048956,0.91766281679110939,-7.461202404819522,0.99277817622629438,-4.1840890221952032,0.93278030022796443,null,88.554036880192825,119.4530532232118,89.025534874275266,101.696927120834,89.228814286714709,90.209015661710126,118.17653731214857,null,87.500493076997529,115.27096452658623,101.20922062503901,88.323097751246479,87.438916773331115,88.673910889222611,117.01833625464329]
[null,"Mayo",101.82420637042321,103.5932898434001,87.858812004463203,114.91403593570891,101.34344295521198,101.56790905645224,101.22469469037257,null,2.5881283122269672,-0.90074632742036531,1.6456702709428672,-8.5925479525154724,0.16810341149575692,-4.3746572500713459,1.5800981512532841,null,89.116730654079618,119.13602829580201,88.684448937931265,101.90975142620881,89.860518535329931,90.105749399852314,117.69454950508327,null,87.520181920087396,115.00361507574242,100.93973150174864,88.683467251315037,88.669297109871394,88.714782293855066,116.27058976575717]
[null,"Junio",102.22471151290965,103.66990602904883,88.508107328156044,113.4115025009619,100.55388397333061,101.30502912597532,101.09106140748803,null,2.1234276944209762,-1.119484968215978,2.9066168462276165,-9.3091643821711756,9.4872614548791034E-2,-4.5184718647203521,1.0769600127450429,null,89.651291945860663,118.51596878747104,88.834468742116456,101.81821839246498,90.378399326994469,89.937156167198765,117.04116304967589,null,87.700215162298477,114.32051337469358,100.36873618000935,89.777682287210169,89.880565280765353,88.778569971447013,115.77795447007384]
[null,"Julio",101.21252558779803,103.24872458019645,89.026036625390304,111.19272449767122,102.80588025505773,109.56370195214804,100.79451310022397,null,0.56371516668856092,-0.98932262149890038,2.7318462630489426,-10.216940614950653,2.7587986239436812,5.0292911317878053,0.57548670405327407,null,90.006444625032827,117.75930417889026,88.904431991582882,101.41057809746385,90.798246214509746,97.444094942123328,115.90880460127835,null,88.928167835270216,114.05400372517241,99.863405540202677,91.202530161573449,88.320090241183209,88.938300920757541,114.9951530457076]
[null,"Agosto",99.403564234594114,104.19403066233077,89.230523773580103,110.66579265562316,104.14911707564598,110.03221787031599,100.51653754661939,null,-0.45531666586692277,-0.40304549809597745,2.1405385573264324,-8.9018704406055083,2.6388663090174624,6.2587463581060376,0.77554986647143664,null,90.447899403209433,116.93223715286973,89.3824056460695,101.14391894093274,91.253064324699352,97.916275147886722,115.12589876293913,null,90.990599884075436,112.22546666979474,100.17021291153102,91.395829292687395,87.617703238348227,88.988731703373347,114.53428617111283]
[null,"Septiembre",100.00794117168329,104.30412660958191,89.914935832588952,109.8178363927056,104.04549070110386,109.49810811711154,98.919279019212439,null,-0.80323747592472294,-0.3350052318943697,3.4330092987488792,-8.9096474238160912,0.98941613853145149,6.3603844018158329,1.3852434388716972E-2,null,90.726039026731584,115.84019391562673,90.235391078826581,101.03670614094258,91.590925913416598,97.796423155355384,114.2710896804753,null,90.718834888304016,111.06002962780674,100.35639823714524,92.00391253351421,88.029692873989092,89.313345076938816,115.51953351609161]
[null,"Octubre",100.57245037558836,103.75178855958077,91.119720918914609,109.42595963043526,102.28524890732614,107.62455147502737,98.571617184180312,null,{"$f":"(C51/C39-1)*100","v":-0.56581833426575523},-0.86006398394451455,5.0288148956007417,-9.1862356531349008,-0.77095430481144422,5.2861085772427874,-0.40366685248726109,null,91.056683423485595,114.83978007803121,91.042838672624939,100.72295033783514,91.967833186321371,98.02516705996706,113.43522984209436,null,90.538396035329683,110.68703650547964,99.915625020012854,92.046668521808868,89.913095161597838,91.080674173784857,115.07899848101455]
[null,"Noviembre",102.3358264793431,103.32657928076596,90.076445363832789,111.55365496745074,98.62740699916823,106.58665756010843,100.40030128574558,null,1.9364674744159371,-1.5017663650746749,2.7349415842477409,-6.8512887680817869,-2.5616018983083966,4.5757815044625394,0.85144320855334854,null,91.759555890066366,114.43189651685471,90.632888806772527,101.16904936601516,92.535783319046445,98.183866406978964,112.86058395569016,null,89.665133948557497,110.74778369069263,100.61774578325351,90.690931996387178,93.823599478618405,92.116469973372787,112.41060286709879]
[null,"Diciembre",101.99121130230114,102.50467872048416,91.817897063593193,110.62793743394043,98.15593709818701,104.79806003492772,100.10791510273197,null,1.4194619940212538,-2.6479635016447345,5.5735867151329721,-7.7419130033159256,-3.6236649564354129,2.7347638107787064,0.52502193716319479,null,91.800940732955368,112.8286226427164,92.513602364447095,100.58029782995639,92.680487028768354,97.681773603284711,111.78454898619563,null,90.008677768183489,110.07168067945869,100.75770119236347,90.917629093479377,94.421682242265717,93.209524652201353,111.66404661557576]
[1999,"Enero",99.90238665754984,100.87746313837202,95.796943698757914,107.89821152446552,99.02508674173005,105.20504741904183,99.367081725412334,null,-9.223348222183736E-2,-2.8911756087310447,9.4070452629894987,-9.6632537141527095,-3.2289952519882203,4.4740703949306182,-7.3882704588701387E-2,null,91.622925064759102,111.05372449073644,95.748609455632078,100.34113350490314,93.301286239628311,97.749634258200587,111.96586856063462,null,91.712448651330547,110.08774510755272,99.949545109416192,92.996104464763235,94.219848029994537,92.913445368124187,112.67903476328041]
[null,"Febrero",100.10595838722318,101.44898185634557,94.670973041725802,107.13274597416924,100.41782304215148,107.37383569685187,99.393782833465892,null,-0.32476424408108828,-2.9854764152992153,8.8742730798802008,-8.999527570051713,-1.9815351472646126,6.3400753946217803,-0.86842291286663986,null,92.640187631160899,111.40548280628025,94.047142314874392,100.7153632841741,94.099418726246967,99.411032952052224,111.6853008078627,null,92.542131481141539,109.81429361610877,99.341053855465873,94.009877529376098,93.707885587947573,92.584038100975548,112.36648573381215]
[null,"Marzo",100.35679279339753,100.30118434353818,95.810227200147651,105.56811123211875,102.5215259505015,107.31404212865368,98.044741152709136,null,-6.272013194562609E-2,-3.8211098407658683,9.342599301137744,-9.2295905020617575,-7.7466559065542118E-2,5.8454461728984608,-2.2375997731504449,null,92.907380299051539,110.33854418167029,95.003190181021395,100.36955773924848,94.392982880819332,99.888668402222848,110.73842221626455,null,92.577071977895955,110.00721965929483,99.157671323082923,95.07564033097087,92.071379162258353,93.080706327761931,112.94682500490714]
[null,"Abril",100.55292233978734,100.13340402062228,96.444954131586087,104.96617379501862,102.53493731649948,106.77694793604672,97.263868091401591,null,-0.64337442946763579,-3.3722977242027219,9.6440325201126988,-8.8375834831642806,0.47812382183591851,4.9599033627752309,-3.6893762449336509,null,93.147602293377346,109.27952954255275,95.99435434302795,100.10247115639919,94.725278020851547,99.54303145283663,109.83476064954465,null,92.635400469629303,109.13394047809146,99.532790706765908,95.366409517681916,92.383416326143077,93.225207666037804,112.92452459975151]
[null,"Mayo",100.00739946827348,99.95321199295033,98.136911807320502,103.96590967877221,101.61127799768605,106.54111507047573,96.75780632549062,null,-1.7842583477060692,-3.5138162480913615,11.698427930410871,-9.5272315237991183,0.26428453056646095,4.8964343759989593,-4.4128444926856307,null,93.052109208167195,107.54765218338503,98.339215922970041,99.397458250030269,94.797897936493754,99.022022732608946,108.58672945960205,null,93.045224356310968,107.59799514093686,100.20614477460504,95.60581786582037,93.294661581416733,92.942543981360629,112.2252907370794]
[null,"Junio",99.408022538063662,99.925853778021605,98.872782906659225,103.13183026563209,101.89252710704815,107.06670588383224,96.70707125036752,null,-2.7553895072526369,-3.6115131135337597,11.710425057531415,-9.0640473044104386,1.331269445616412,5.6874538288638421,-4.3366743766286913,null,93.37474906056201,106.56934642294308,99.206703471814222,99.234539663602149,95.139748690572773,98.50016691242584,107.71112200342637,null,93.930798215816537,106.64842219880306,100.33772748711871,96.221059403297843,93.372646053443233,91.99887686775277,111.37874470892638]
[null,"Julio",100.44167907755755,99.729626597290149,98.21466493925837,102.99709759591362,102.18453451741297,107.57059729329831,96.555069208556148,null,-0.76161177261779844,-3.4083694469009274,10.32128202284528,-7.3706503179794431,-0.60438735226353568,-1.8191286195497702,-4.206026460440726,null,93.891098962751983,106.06983875804985,99.285148730382105,99.101982435033207,95.638252869246983,98.305047256403995,107.10697663822025,null,93.478225199971575,106.35740088184788,101.08994292429323,96.218228229923497,93.593666909496505,91.386540309308529,110.92838264853012]
[null,"Agosto",99.909974321781732,98.599583329484162,101.14046125155156,102.02449688764921,100.79862638089595,106.97927690760298,95.902678879083211,null,0.50944862096944377,-5.3692589654938612,13.347380441464818,-7.8084614591470869,-3.2170130566891664,-2.7745882267966371,-4.5901488254072369,null,93.353284759829933,103.98719007735137,102.79067459397298,98.165520654425038,95.399576358669037,97.700123290868035,105.78114624456884,null,93.43740241506363,105.46412729743876,101.63160551375883,96.217598370052514,94.643726590256222,91.326213931367988,110.30051243713501]
[null,"Septiembre",99.813893087138581,98.013262003949606,102.28973432156653,101.87913940008461,100.09815197749023,106.46656709167614,95.784076140766246,null,-0.19403267607677188,-6.0312710629172761,13.762784096312974,-7.2289686752090354,-3.7938585295861804,-2.7685784508651778,-3.1694558528244654,null,93.394469933747985,102.99712256399293,104.01579112174046,98.035466757402773,95.55264862021096,97.373454245398108,105.00655745897178,null,93.568607580723878,105.08488388014521,101.68741937949292,96.227223094624364,95.45895376939481,91.459184704952349,109.62840765374402]
[null,"Octubre",99.616217216855006,98.053271014365492,102.54921114375233,102.02636267672939,99.604374656518615,103.4446368573206,96.431971007074083,null,-0.95079035577069204,-5.4924523464410786,12.543377119217226,-6.7621951671217317,-2.6209783712180079,-3.8837928339024552,-2.1706513885313639,null,93.776244309479722,102.62295677715146,104.0603158774087,97.929630421658572,95.969489263649209,97.470876800519832,104.54732394266361,null,94.13752793416937,104.66041134121519,101.47354106072851,95.984633630377161,96.350676960320101,94.225162136689349,108.41562487091983]
[null,"Noviembre",99.69212894855886,99.104963433999202,101.69172491017052,101.70576001825856,99.452573141580828,102.5321989615685,96.64217104398567,null,-2.5833548442762422,-4.0857017392354482,12.894913314376266,-8.827944680132271,0.8366499409434569,-3.8039081920300144,-3.74314637867873,null,94.406142485648431,102.62686591396499,103.27575589561695,98.132268623954829,96.41429562011875,97.66404560034367,104.27026017008139,null,94.697689257255206,103.55370947925455,101.5576793360971,96.486441482112511,96.944998580241077,95.252073582222181,107.89312682413133]
[null,"Diciembre",99.586391006049382,100.44808312808634,100.28878527524417,101.38188393234033,99.984470930202363,102.75352427718224,96.875183111854838,null,-2.3578701199301277,-2.0063431426441292,9.2257484461706127,-8.3577925396297168,1.8628866333233018,-1.9509290124875012,-3.2292471455025895,null,95.277785500850669,102.98191727264113,101.79001971063093,98.557734144429062,96.887838365843464,97.642018880108111,104.17145506749208,null,95.673499700438995,102.52253110825795,101.49691157517424,97.214344734611515,96.902886482721286,95.025469507707001,107.5316213309375]
[2000,"Enero",97.976659400129321,99.012523015234351,103.31492670713554,101.57064653908147,99.726156610018037,102.63980742499312,97.002914445006269,null,-1.9276088608589648,-1.8487183015095887,7.8478317972425105,-5.8643835666815525,0.70797198099554759,-2.4383240699765163,-2.3792258355127327,null,95.074386357948669,101.43018763522376,104.29042608912407,98.631814193590316,96.659260855712773,97.469205452486193,103.16480236502181,null,97.037791388326497,102.44177660195308,100.94419984902447,97.106612544441788,96.924682692527242,94.962381455864005,106.35227091399291]
[null,"Febrero",98.142092791353022,99.886125671039025,102.002069009046,101.69830569871614,98.972004583957428,103.55538726562274,98.151512563592192,null,{"$f":"(C67/C55-1)*100","v":-1.9617869180909908},-1.5405341253395655,7.743763195598552,-5.0726229651234744,-1.4398026310400658,-3.5562187067711193,-1.2498470572904208,null,95.792890220929323,101.75442698820962,102.83895666350378,98.99745252393059,97.112280437018782,97.959522562281094,103.08281460681579,null,97.606325172402791,101.87043125821455,100.82046145003547,97.344249585841766,98.120959401846747,94.596259208622257,105.02417325461857]
[null,"Marzo",98.877066395029175,100.92620842410983,100.27723933164681,101.52203882273967,99.07947409472132,104.35773686428824,98.127976584395867,null,-1.4744656113260257,0.62314725859158315,4.6623541787115919,-3.832665340088115,-3.3573942875587348,-2.7548168028386,8.4895355638803238E-2,null,96.468499648048478,101.95711489402888,101.78093546265976,99.11932669581708,97.531543700596742,97.987273152902929,102.95344306045489,null,97.564079482942901,101.02144575330423,101.49953881961167,97.63330981648447,98.437688120301544,93.895552066571,104.91752367064129]
[null,"Abril",100.20336352614163,101.38772619133927,99.082010986197076,100.67890540582819,99.060610938550283,104.39948300631812,98.18718223607533,null,-0.34763665293037205,1.2526510838068328,2.7342610905419562,-4.0844285679715764,-3.3884317568994349,-2.2265713486702809,0.94928791419859326,null,96.902467409591736,101.82997887732257,101.43343938345883,99.221317665753759,97.834028184062589,97.911649376191946,102.6734608164394,null,96.705803078467795,100.43619943221596,102.37321424328915,98.552241172866331,98.761785594832858,93.785569196991574,104.56910818519829]
[null,"Mayo",100.84147437778515,100.51532072784626,99.989285883751464,100.27644266288668,98.68432654740387,104.29220112027586,97.834799637227292,null,0.83401319696976284,0.56237185748024832,1.8875406229083902,-3.5487276812996016,-2.8805379756652871,-2.1108413861749331,1.1130815720580722,null,97.298945952185207,101.69592521649705,101.09145083744484,99.393753374500335,98.137194327441691,97.833996517993853,102.40202201240281,null,96.487032297516322,101.17455177986983,101.10228305358113,99.119744114423952,99.445573335600201,93.80758625006483,104.66830043308806]
[null,"Junio",100.51568665141201,99.757993888414958,100.7158420364276,100.15184576487384,99.134143880355992,103.67531675377982,98.187786191943246,null,1.1142602830915616,-0.16798444372517762,1.8640712596390774,-2.889490560850938,-2.7071496850737731,-3.1675478404389223,1.5311340964325737,null,97.634773567649262,101.33305555651108,101.26295869011071,99.354100424817872,98.342417316446046,97.68333063291665,101.99119335816169,null,97.133867180598628,101.5788826606296,100.54322799931039,99.203464165873854,99.201358348476305,94.220431334592746,103.87360517405222]
[null,"Julio",99.701928961042924,99.87986366025136,100.86169669850563,99.631131751644162,100.21118674619049,103.40178094379624,98.356811384565972,null,-0.73649716264043708,0.15064436525755731,2.6951492029060331,-3.2680200926390013,-1.9311608948868964,-3.875423632849706,1.8660254617166805,null,98.01534153269867,100.91265058426046,101.34824887048516,99.436185015233747,98.592767540489703,97.556634257830325,101.62737201741557,null,98.308370313473816,101.03402916880444,100.48239538685723,99.804331504638171,98.384991478247002,94.347150858897649,103.32519993969913]
[null,"Agosto",99.46654654624993,99.24758914026215,101.51656444955408,99.541409075361472,100.59925231701402,102.05409630659688,98.657899022180885,null,-0.44382733409944475,0.65720948192304895,0.37186225309679966,-2.4338152973419125,-0.19779442542058323,-4.6038641719928002,2.87293345222559,null,98.403905720210673,100.71930045229591,101.12064829773921,99.588489457030676,98.876410640074468,97.458666748761473,101.31907063550464,null,98.931660077747708,101.48286857623701,99.609998472700866,100.04729728271535,98.287420992443927,95.497065062406165,102.69737308385764]
[null,"Septiembre",99.589354417603374,98.796218049007933,102.17458973305395,99.793083889766592,100.60895861071694,100.43170419568673,98.096612107788644,null,-0.22495733067858792,0.79882663738584103,-0.11256710096694267,-2.0475786530999018,0.51030575803394651,-5.6683173514864187,2.4143219418057082,null,98.528258366986265,100.16888797214534,101.53785131752566,99.667887070829025,98.99716304258223,99.252684621654254,100.75805877519592,null,98.934528638304386,101.38939521192654,99.376813337648954,99.874543591542022,98.397960191227924,98.826048424175681,102.71308724146647]
[null,"Octubre",99.590601836653235,98.925140652139874,102.17232569360722,99.835911566198362,100.03006082451006,100.49496177564326,98.459209067918906,null,-2.5714066361315346E-2,0.88917955388418957,-0.36751667413296163,-2.1469461941630463,0.4273769796350857,-2.8514528846437681,2.1022468375100578,null,98.852978549309995,99.863164997176909,101.5539683606433,99.729992044053887,99.226404834149079,99.541685873039938,100.37626506222992,null,99.259344482571692,100.94821633697293,99.394789803632108,99.893906390513351,99.196585522655127,99.051419209719654,101.9470560574873]
[null,"Noviembre",99.857326742033081,99.500504102164513,101.14043815843672,99.593024905054278,99.942860553987117,100.42679366923211,99.282997782361576,null,0.16570796031396551,0.39911287433018749,-0.54211564630335385,-2.0773013375299465,0.49298615100517029,-2.053408893654507,2.7325821738565459,null,99.430766365387754,99.95311887903263,100.70508173565752,99.932279358124617,99.618903934791774,99.77678025939295,100.20024595809767,null,99.572830166235789,100.45488691836515,99.569552564032577,100.34064077619269,99.675858167957543,99.352749016382958,100.923872361053]
[null,"Diciembre",100,100,100,100,100,100,100,null,0.41532682304501467,-0.44608429960277807,-0.28795370733785131,-1.3630481884343015,1.5531481692265814E-2,-2.6797370664917386,3.2256113359157901,null,100,100,100,100,100,100,100,null,100,100,100,100,100,100,100]
[2001,"Enero",99.699221746751235,99.197530755201541,100.49055158775242,99.977793755425324,100.57131519900589,98.38331495212374,100.83302590425053,null,1.758135414259332,0.18685286904438492,-2.7337532043063884,-1.5682215659061027,0.84747935518347806,-4.1470191533435337,3.9484498802514478,null,100.01698302211157,99.894678476994372,100.53230151301078,99.56521442151724,100.03538119529225,100.32990970213724,99.45480988140261,null,100.31871991555509,100.70278737432814,100.04154612010652,99.587329027366451,99.467110475135797,101.97858219247927,98.633170024911621]
[null,"Febrero",99.722272988235687,100.43699162687058,99.169758198481318,99.602977761212557,100.41860981008433,98.831553911740926,101.60161128210549,null,1.6100942540955065,0.5514939658844753,-2.7767189803899917,-2.0603371148690042,1.4616307229583958,-4.5616490639594058,3.5150744276895241,null,100.63769905855362,100.08882347539307,99.494296735936786,100.05386016059575,100.47592970529959,100.5723106646583,99.340729617485437,null,100.91797553634376,99.653346694442064,100.32725554982791,100.45267963821738,100.05708094876404,101.76133702650463,97.774758061323922]
[null,"Marzo",98.883445801317535,100.93352598930123,98.562236236327379,99.533170188234791,101.57843123651587,99.672077553635063,102.21801088589855,null,6.4518563514859295E-3,7.250411271431112E-3,-1.7102615775524077,-1.9590511159626178,2.5221744106206145,-4.48999705383285,4.1680613866372784,null,101.17690773146124,100.12167641364975,98.833948745889657,100.40856300918675,100.84637460571216,100.52895582053461,99.15278601238002,null,102.31935882852613,99.195659155177523,100.27567608035068,100.87949858252927,99.279318825962989,100.85969740767011,97.001286909270704]
[null,"Abril",98.230141040788126,100.91720228913387,99.009787852389763,99.467938517982489,101.65887743159347,99.266049055712855,102.42703689640533,null,-1.9692178145683914,-0.4640836912718882,-7.289227690118194E-2,-1.2028010067892558,2.6229057830613911,-4.9171066779081674,4.3181345709014662,null,101.35672824719136,99.65257960385776,99.219767811745697,100.54114416544581,101.0172673594292,100.3513487464421,98.728246200887469,null,103.18292040841615,98.746871042210543,100.2120800012914,101.07894630516476,99.368859770661928,101.0933241536793,96.388853170419424]
[null,"Mayo",98.248102540994722,100.9848690820029,99.255503121259224,98.767987432097911,101.61266653297447,99.159929459064927,102.55982063689645,null,-2.5717313761942862,0.46714107934648919,-0.73386138925458644,-1.5042967128979123,2.9673810300199444,-4.9210502857180094,4.8295913286372505,null,101.63423500099556,99.329811701075826,99.300110043545288,100.74960968509939,101.25258531352112,100.21312289559978,98.375803806116906,null,103.44651181287492,98.361083798026101,100.04494151042846,102.00634062161468,99.645633530012219,101.06211595982393,95.920413272179317]
[null,"Junio",98.534131364161951,100.95372560964671,98.869232442869873,98.605278259215098,101.42838143886452,99.338135158313477,103.27379292039508,null,{"$f":"(C83/C71-1)*100","v":-1.9713890968303116},1.1986324851011476,-1.8334847390640285,-1.5442226689357463,2.3142758576474076,-4.1834273878003092,5.1798771779103081,null,101.92664238282647,98.962693709462641,99.460153623938837,100.92583634467849,101.45848572239964,100.05923784286122,97.987610692963926,null,103.44298059129025,98.027777689074398,100.59767954748754,102.35338120476986,100.02968033513702,100.72590720914837,94.881390449650837]
[null,"Julio",98.605133363528736,101.32677889914162,97.968892935805883,98.652465630470175,102.52824406629998,99.724734492805894,103.33058037246826,null,-1.1000746013076101,1.4486556007045071,-2.8680895299103226,-0.98228947515477394,2.3121743144086215,-3.5560765176655851,5.0568627814247868,null,102.3816967911215,98.7511813300532,99.256058011373483,101.1992768595172,101.72108208119455,99.942554372884274,97.65746020410073,null,103.82998663332228,97.458127459423025,101.3138507918131,102.58159916507996,99.21274182304002,100.21842111807686,94.509737438889786]
[null,"Agosto",98.709328821050946,101.3742633956235,97.614699251707322,98.496946802341569,103.16067964887516,99.193860589479144,103.5805825467401,null,-0.76127879321404857,2.1427968918779738,-3.8435749072119996,-1.0492741490419899,2.5461693530180796,-2.8026662531260293,4.9896496614553643,null,102.69971788208142,98.295460288484591,99.681354761432132,101.09166475556182,101.8843526415945,99.762691271803774,97.200617394941474,null,104.04256528606794,96.962934176770716,102.11715604879936,102.63431308020866,98.762777628428921,100.57345351712721,93.840578036023587]
[null,"Septiembre",98.604897832445573,101.00559538597045,98.700254528262178,97.97571376101871,103.55367386968564,98.70816580848232,102.46660192136261,null,-0.98851588195835172,2.2362974824264636,-3.4003906586451471,-1.821138357398977,2.9268916999355854,-1.7161297829280886,4.4547815869239393,null,102.82245775300365,97.478902549616564,100.75922737166711,101.03380847413779,101.85323367154999,99.473693542776786,96.550115371850637,null,104.27723167233009,96.508418347639633,102.08608666030881,103.12127832064419,98.357914176685284,100.77554650927239,94.22593660903037]
[null,"Octubre",98.59296853168415,101.59324084862166,99.083102219513407,97.444456455017956,103.02831830318881,98.133480587062934,101.67409363578628,null,-1.0017343871516982,2.6970901217759025,-3.0235422881120799,-2.3953856619966851,2.9973564486167836,-2.3498503276735194,3.2651943868954758,null,102.78110253601412,96.364327087611642,102.45921185258054,100.91358257052244,101.66727151842724,99.095048482151128,95.738382720141644,null,104.24790334108265,94.853088928621403,103.40735156393018,103.56010617916054,98.678958555106831,100.97985711842259,94.16202229753101]
[null,"Noviembre",98.86192868873303,100.68951354839476,98.565404149532057,98.407032061806518,103.52306895282346,98.738428816899486,102.49781952534653,null,-0.9968202492256939,1.1949783138881287,-2.545998470830102,-1.1908392624668362,3.5822552796579199,-1.6811896413754468,3.2380385512050802,null,103.44936199746444,96.21040982769857,101.80386792950024,101.63769798705493,101.89621536621902,99.564597520225561,95.355228222940809,null,104.6402425782881,95.551568815015315,103.28559884465665,103.28296246473457,98.428511052598509,100.83672457950301,93.031470000550158]
[null,"Diciembre",98.742580376172413,102.74250107981968,95.943979881392167,98.761160954540998,104.19921020865071,99.763067810409083,103.31363158616713,null,-1.2574196238275825,2.7425010798196814,-4.0560201186078277,-1.2388390454590059,4.1992102086507055,-0.23693218959092155,3.3136315861671317,null,104.5051574582553,96.660236551497547,99.904825276417867,102.47784839156178,102.4176166899212,100.86405357312506,95.251838915483276,null,105.83595958311969,94.080089092247349,104.12828965394408,103.76330877553326,98.290204392948851,101.10360054765788,92.196777378830163]
[2002,"Enero",98.826433228993309,101.75332193215458,96.135224858402822,100.07438317969135,105.18734110605882,100.46469932367317,102.76426936697467,null,-0.87542159554155896,2.5764665284463417,-4.3340659002616295,9.6610877913860804E-2,4.5898036611323523,2.1155867461492894,1.915288612441346,null,104.89753844462264,96.09361204705165,100.23398979656658,102.70268840779191,102.31855040098216,100.46677114429568,94.619680016630994,null,106.14319976676869,94.437813156727586,104.26354121936137,102.62635166422282,97.272684455267196,100.00206223741917,92.07449301151641]
[null,"Febrero",99.861889865383475,102.33531034146861,94.546767765003082,100.33875321769237,105.20350657435802,101.1240858230636,103.21007390093349,null,0.14000571082475322,1.8900593136544686,-4.6616937637637967,0.73870829268152249,4.764950215227115,2.3196356027852749,1.5831073922262684,null,105.87277089985699,96.233249976789807,98.957014115584855,103.56835947851715,102.60951230087676,100.91092265462262,94.370447182486089,null,106.01919415161916,94.037189759509531,104.66461884931219,103.21870280151668,97.534308163342615,99.789206333282522,91.435306279373322]
[null,"Marzo",100.4249660503247,102.21789403200208,93.8785282879454,100.8347756058355,105.84284496585551,100.27972061158459,103.13346405901835,null,1.5589265083909787,1.2724890269235178,-4.7520309270902006,1.3077101986595396,4.1981488367450304,0.60964221160388909,0.89558891352492509,null,106.73881504137577,96.121099785509927,98.312781222298455,104.07370129715979,102.86896270919989,100.70450913761067,93.996276726026707,null,106.28713081952858,94.035492215694276,104.72339417246963,103.21211176587062,97.190285032857005,100.42360361939122,91.140424287733723]
[null,"Abril",101.55940339085096,102.55015087069953,92.39720980540001,101.22078269483738,106.10043913809673,102.05063306657006,103.23779326221168,null,3.3892472460977263,1.6181072646932471,-6.6787114591622121,1.7622202721513158,4.3690839587442909,2.8051726016559364,0.79154527005047548,null,107.65523716438415,96.324814381309096,96.91814332987822,104.85386906505003,103.32599138399591,102.9931709645449,93.726212787307929,null,106.00223472175531,93.92947115481121,104.89293295111383,103.58926919303298,97.385074202671589,100.92359828611745,90.786726280805453]
[null,"Mayo",101.65412825275116,102.4057194663028,92.491964067883913,101.077824550016,106.16760657537112,102.24187864595979,103.22150132930591,null,3.4667597883992318,1.406993341889784,-6.8142710889414149,2.3386495745963076,4.4826498484994648,3.1080590755836912,0.64516560998295613,null,108.23131779647248,95.809555258456498,97.139949058232304,105.01370959290419,103.55331612054739,102.68804360418937,93.146800310474404,null,106.47016472107056,93.558793158992643,105.02528520957458,103.89391546603835,97.537581811295922,100.43638180766861,90.239726327279101]
[null,"Junio",102.13073723862388,101.86141228684306,92.610092642912505,100.66429941304391,106.93404462942439,102.20358652761406,103.12233577000607,null,3.650111717298854,0.89911161942259898,-6.3307255910721505,2.0881449656437567,5.4281288062142385,2.8845431462287463,-0.14665593865207383,null,108.91179570127123,95.358892881739109,97.192670513860747,105.22545336429403,103.82328415196443,102.38906018385809,92.583802929459281,null,106.63958632434397,93.616307432698093,104.94824887889685,104.53105418489517,97.090954065900917,100.18147470411316,89.780552620480876]
[null,"Julio",102.08397543890818,102.49146456663385,91.567995489887608,101.00943791425539,107.56411732996143,102.19393429093211,103.5904457919268,null,3.5280537196313633,1.1494352037495714,-6.5336018955654218,2.3891671320348973,4.9116936601440342,2.4760154145151869,0.25148936406029776,null,109.97265068921564,95.379621198205612,96.359953829746118,105.83009293122451,103.78042042364753,102.20308487031527,92.286532068389576,null,107.72763327093232,93.06103840110066,105.23322402573257,104.77247979645354,96.482379997869444,100.00895413161912,89.08788002877948]
[null,"Agosto",102.03142554714312,103.45461107052142,90.560885631007579,101.20600744152819,108.24828142785685,101.64833463754836,103.61525010152917,null,3.3655347126458235,2.0521457865288362,-7.2261797401136469,2.7504006237097034,4.9317257275719895,2.474421333621879,3.3469163753174769E-2,null,111.07275504912597,95.594735078691116,95.039777673730299,106.62171609857789,104.19921282022693,102.07839915678288,92.094186854881514,null,108.86131841586919,92.402585142896626,104.94572464868783,105.35117311112054,96.259461532118209,100.42309057080769,88.880919328613743]
[null,"Septiembre",102.29384660127627,103.46082908507228,90.644950094114407,101.25829771842773,108.05403674592409,99.994401377290174,103.35239007190899,null,3.7411415152005301,2.430789789139598,-8.161381622213737,3.3504057601620119,4.3459229480373729,1.3030690604700856,0.86446523446357393,null,111.792501585344,95.244666789085414,94.863930269359287,106.99141688763456,104.52241304924794,101.81138731754302,91.602368127255573,null,109.28565627323788,92.05867344323039,104.65440178505743,105.66187591376372,96.731613363987194,101.81708767213591,88.631107673002859]
[null,"Octubre",102.94344245320482,103.7581596778994,89.803685867673622,101.65570814798888,108.71667842586626,97.351569672237559,103.3042748548765,null,{"$f":"(C99/C87-1)*100","v":4.4125600296968326},2.1309673864067014,-9.3652864554863555,4.3216944772172861,5.5211617702406013,-0.7967830246596308,1.6033398093813434,null,112.8315610133773,95.281635435415396,93.904305329244792,107.69833977977599,104.82170441453272,101.6348414953937,91.311121623657783,null,109.60538944932536,91.830498662661299,104.56620396139805,105.94421281586112,96.41731694922089,104.39979739163634,88.390457947585517]
[null,"Noviembre",103.29083776419833,104.89161494071986,88.00543425811972,102.10693215928681,109.92449724956643,97.156944546542888,103.68330207194548,null,4.4798934576825156,4.1733257458885564,-10.713667724013964,3.7597923847113801,6.183576628374654,-1.6016907391642854,1.1565929422584276,null,114.17988195209689,95.693583924643974,92.214868126693347,108.5969353837001,105.31070676411416,101.54885549272494,91.198932701892048,null,110.54212011791118,91.230918676126578,104.78315220424612,106.3560848290779,95.802764078167783,104.52042925668388,87.959132164414896]
[null,"Diciembre",103.63640183706818,104.69923683160972,88.064115130116122,101.98385167981115,109.70051658145061,95.337582472012073,104.00165993773884,null,4.9561409497828945,1.9045046900988627,-8.2129850783939631,3.2631154738587353,5.2796046743386782,-4.4359956399970146,0.66596086209385064,null,114.90914125380831,95.245796055184613,92.373050930674992,108.78759092655217,105.24217172247519,101.25630970295461,90.669806081532428,null,110.87720069099134,90.970859900698883,104.89295304244226,106.67138878819958,95.935894380529021,106.20817843024295,87.181114355109727]
[2003,"Enero",104.22327443417501,103.00052661832797,89.288297316159998,101.44837171682239,109.71265100728584,92.797769877418432,103.83340613905327,null,5.4609288515720777,1.2257139742376078,-7.1221839365618989,1.372967280411741,4.3021430655464599,-7.6314660750177898,1.0403779238294053,null,115.01906546368421,94.065187228527492,94.034077083097401,107.77873433206042,105.15951762686339,99.95218637688302,89.859156499447479,null,110.35833031356886,91.324957567536828,105.31511957287429,106.23998444539677,95.849946803199487,107.7096858134794,86.541663074317796]
[null,"Febrero",104.73137590414537,103.15947801046391,89.307935815620908,100.84381657817838,108.86018694836069,92.465074481772703,104.11039952356622,null,4.8762205935878988,0.80536001331823481,-5.5409952907151112,0.5033582183249008,3.4758160569658747,-8.5627585859629267,0.87232339693594785,null,115.52763745244677,93.624270758353276,94.052414370792576,107.93556937018671,105.2008581154749,103.08655581463282,89.227407879558655,null,110.30852641350057,90.75682871219702,105.31249380230531,107.03241213258772,96.638505834440963,111.48701971245791,85.704606156430444]
[null,"Marzo",103.65420822749397,102.31582291620711,89.513227242585671,100.51874674645545,108.91838509570709,113.51448004202017,102.8372231185521,null,3.2155770663154115,9.5804051856496208E-2,-4.6499461857459234,-0.31341256771911796,2.9057610184644478,13.197842345111855,-0.28724036680928267,null,114.65609587157812,92.761654297299998,94.310020134616551,107.59168243844952,105.00730057783625,128.38362225590487,87.750379521062129,null,110.61402892580865,90.662081048078335,105.35875315838106,107.0364344173874,96.409160386986869,113.0988947034603,85.32939422129509]
[null,"Abril",103.29644892519154,102.4520911113423,89.035837794073132,100.47176607260859,109.83485938601513,118.56523239108243,102.7292249298343,null,1.7103739056594902,-9.5621272640411537E-2,-3.6379583522125225,-0.73998303736392268,3.519702913819045,16.182750491846054,-0.49261836804829207,null,115.16140203674948,92.46823120108661,93.988779168054265,107.80199252764902,105.19982088374817,134.01455564419845,87.17252023708059,null,111.48631268065243,90.255094062057267,105.56286265923229,107.29580731142224,95.779993229674858,113.03023065155986,84.856592947742783]
[null,"Mayo",103.27533463846385,102.59646577451407,88.545572786058983,100.55841593948715,109.40655158353356,125.96068346383881,102.60280411101691,null,1.5948259195944781,0.18626528792080599,-4.2667396260809181,-0.51386999358284946,3.0507846156096807,23.198717719195884,-0.59938792821389031,null,115.49435490530533,92.210114577579944,93.576985948132346,107.89270919300438,105.37307673435241,143.93190965004587,86.535576874960768,null,111.83149907924931,89.876501964735127,105.68228653761167,107.29356482497772,96.313315070440254,114.26732984611527,84.34036245376754]
[null,"Junio",103.25816807526189,102.22986400770414,88.501432647826903,100.72041442097377,108.78034606352652,135.22858499697173,102.18576321458083,null,1.1039094273879835,0.36171864554901401,-4.4365142910803961,5.574469623994549E-2,1.7265796318659987,32.312954556085714,-0.90821503259398417,null,115.50384492025454,91.762786533128121,93.300355046940624,107.93853402178925,105.46320028990273,161.93960974828246,85.631482427978767,null,111.85928152053512,89.761233103286528,105.42242340664704,107.16649116498512,96.950601929794729,119.75249889060724,83.799816857227384]
[null,"Julio",102.4373288755806,102.46344592244758,87.817822397148319,100.60756283356231,109.49497038833597,155.58205844970149,101.35008238225971,null,0.34613996482129039,-2.7337539086547125E-2,-4.0955063749904213,-0.39785894169039882,1.7950717268022442,52.241969671879659,-2.1627123935416881,null,115.2068789084425,91.325117012903334,92.68131043337803,108.05647647283089,105.78500879737349,192.55880063897285,84.54947487455668,null,112.46571945308304,89.129460941637078,105.53815604107675,107.40393011168703,96.611751592055157,123.7667135643572,83.423193042570432]
[null,"Agosto",103.33927807382902,102.35134655173998,87.839015209581973,100.30836822741699,109.55710045604047,147.81741224574873,101.45421031660733,null,1.2818134409791515,-1.0664237266615251,-3.0055695706377339,-0.88694262011057567,1.2090898912384906,45.420397464284434,-2.0856387286662059,null,116.20778208340499,91.171106686975762,92.551390617905454,108.37517773674783,105.35345735274282,188.0156733327062,84.30784057024951,null,112.4526745777944,89.076606960796099,105.3647862479786,108.0420105040907,96.163057359313427,127.19453714974205,83.099400514922664]
[null,"Septiembre",104.2089537112483,101.99971020833357,88.113288493448707,100.12973572048479,110.10613904030222,136.4681218903674,101.55836454480749,null,1.8721625724338775,-1.4122435415023449,-2.7929427927723904,-1.1145377943061696,1.8991444986024897,36.475762653408729,-1.7358336133816321,null,117.03271350074249,90.64669249959681,93.072065089373297,108.47051145014817,105.89885401682146,176.11398288477241,83.98842078231489,null,112.30581378355207,88.869558858992534,105.62772843995407,108.32996878464446,96.178882430941684,129.05137144501393,82.699658623647139]
[null,"Octubre",103.11015314496751,101.14450433999814,88.960325636763471,99.764122780327824,110.52800301131096,146.25973190081513,101.4730419193932,null,0.16194396436515213,-2.5189877557725948,-0.9391153857012613,-1.8607763421482515,1.6660963264066631,50.238699173769,-1.7726593967731241,null,116.70891192772605,89.747238990899262,93.910480528710679,108.09518454978675,106.07933024428924,193.08765506953208,82.977884874792792,null,113.18857393572037,88.731700824014254,105.56445230670504,108.35075930833693,95.97507179554627,132.01696226304651,81.773329453065628]
[null,"Noviembre",102.50078729876796,101.50862540119898,88.47926422452224,99.808925120313788,110.18085669221304,157.5378313002231,101.54065350264702,null,-0.76487952129303816,-3.2252240004435051,0.5384098952489369,-2.2505886626660532,0.23321411428844918,62.147782678318841,-2.0665319549831529,null,116.85294845060012,89.507902110136925,93.25507395891772,108.30024255070224,105.89449887237552,219.28023987744405,82.189752559127328,null,114.00200089195283,88.177631956268897,105.3976598655664,108.50757326577023,96.109707304408303,139.1921153589814,80.942705925154172]
[null,"Diciembre",103.0129990717225,102.00268132101728,87.732967214056316,100.47516416459648,110.34445867700776,143.37556392749255,102.67716550145397,null,-0.60152876237999919,-2.5755254691391727,-0.37603048139475126,-1.4793396114821777,0.58700005763330232,50.387245207925034,-1.273532015813772,null,118.294952483796,89.593943586376554,92.558566142316693,108.79526696014754,106.18123578041545,206.22014670945478,82.155181974529029,null,114.83497573100796,87.834890638228799,105.50032568314552,108.28075561232349,96.227066636142922,143.83214340049173,80.013098894286927]
[2004,"Enero",101.93480961858123,101.38988493310521,87.264592984633481,100.16278703559277,110.14390371240938,163.18783081987604,102.72008528652923,null,-2.195732985763299,-1.5637217964826977,-2.2664832820820879,-1.2672304734649975,0.39307472854237524,75.853181639429096,-1.0722183677891572,null,117.03106215663357,88.611828739801311,92.991221161075515,107.99943707756864,105.73178550649406,253.28918427038505,81.030020360020131,null,114.80971279049754,87.397109483125874,106.56237310068065,107.82391372475601,95.994223867863312,155.21327968993063,78.884300119098967]
[null,"Febrero",102.17071856589963,101.67475875126533,87.042153952914674,100.04578112176327,109.79454302013833,157.25491411396112,103.52371085489733,null,{"$f":"(C115/C103-1)*100","v":-2.4449763178795214},-1.4392465799875298,-2.53704426377519,-0.79135784770346662,0.85830834758795493,70.069526245782882,-0.56352551844360832,null,117.36729895244993,88.357517827920177,92.55342000240978,108.28399858548599,105.73106294024058,269.9431079178197,80.480370898772151,null,114.87371391711274,86.902117018124301,106.33172066545644,108.23444764122156,96.299014533761977,171.65956907533874,77.741002746294924]
[null,"Marzo",103.2157734898754,101.40549975292272,86.666631239498855,100.57147421424446,110.13640004395022,145.18590724536412,104.21209355621467,null,-0.42297823225498909,-0.889718850260246,-3.1800842074125923,5.2455357329517227E-2,1.1182822323089425,27.900781637391113,1.3369385091987596,null,118.49283479986286,88.237116522693242,92.401280243821958,108.67843542188847,105.97555573152566,254.49886521655429,80.360705874507872,null,114.80109172604904,87.014133097006948,106.61690540212147,108.06089526974019,96.222098860354819,175.29171394469526,77.112648956773185]
[null,"Abril",103.98184693254991,101.35062044103131,86.162336545226779,100.7309887218299,110.44709012616835,137.93508475984194,105.02799088396343,null,0.66352523682082776,-1.0751080415859371,-3.2273535241981288,0.25800546696270743,0.55741022802382467,16.336873785115081,2.2376942449426895,null,119.7230421316752,88.346464284987732,91.683822986433611,109.30797712533986,106.33286211133152,242.32082505565864,80.330485157767299,null,115.13840700419196,87.169140061051948,106.40823666418167,108.51474656641705,96.274933083219338,175.67743948362534,76.484834644240394]
[null,"Mayo",104.64848724452415,101.44090517688905,85.070625582153326,101.12581409885081,110.64594027921385,142.81413817368309,105.05199198122797,null,1.329603637564869,-1.12631618340997,-3.9244731210917982,0.56424731243291948,1.1328285900081614,13.37993272693112,2.38705744100427,null,120.33073687390289,88.366765437732397,90.636524919585611,109.80132634317911,106.69146037317212,256.06704687087824,79.93617376602046,null,114.98564388488026,87.111570311445433,106.54268062488532,108.57892944708259,96.426005422284248,179.30090826124152,76.092011449249313]
[null,"Junio",104.69957210348173,101.83720014110496,84.410161238272039,101.35173613967048,111.20546679311182,144.22200493265598,105.02080482489224,null,1.3959225261184649,-0.38409898165333578,-4.6228307126227275,0.62680611703802569,2.2293739791644507,6.6505317170076461,2.7743998000563819,null,121.11385724144969,88.369949093815123,89.838001330260582,110.24018307337214,106.95286442408585,262.25452307508698,79.630041895090159,null,115.67750928508534,86.775705706137146,106.4303159860895,108.769901012305,96.175905293453269,181.84085237030638,75.823111456689276]
[null,"Julio",105.15495912564326,102.39101319179326,84.055411445631407,101.06714492309241,111.51590338454359,134.15924779149023,105.92480641692778,null,2.6529686784038109,-7.0691288978452782E-2,-4.2843364237634347,0.45680670178880334,1.8456856867855809,-13.769460869510919,4.513784229018869,null,122.57912546694196,88.494748735832957,89.301418081213484,110.79286404614331,107.10433983191487,244.04045439026441,79.667563076209078,null,116.5699901233185,86.428238159993029,106.24112897118503,109.62302747391522,96.044005008490856,181.90356491082233,75.211431364464076]
[null,"Agosto",105.55318317327588,102.36497615945014,84.275172232217457,101.47298444194321,111.8741810646913,122.98867733957806,106.16487560930835,null,2.1423655561684685,1.3316490861470243E-2,-4.0572437758566231,1.1610359485519917,2.1149524759287885,-16.796894580249123,4.643144210575878,null,123.86944119356869,88.315120191629134,89.447284182485987,111.18891550714753,107.16049884396142,223.90269427367625,79.605956468865173,null,117.35263444421651,86.274743086017949,106.13717161682797,109.57489436093523,95.786621921277629,182.05146938483566,74.983327594918265]
[null,"Septiembre",106.4535969329705,102.67587130866249,83.754942189462682,102.23062384479972,111.68690470646901,111.49171465715453,107.0807821119198,null,2.1539830713029451,0.66290492291387615,-4.9462985419163825,2.0981660534685087,1.4356744137474342,-18.302008474387765,5.4376787100345991,null,125.56235970015261,88.315574079087085,89.386671778916636,111.68370029259684,107.09304753409027,200.12676557572911,79.695009736060229,null,117.95032137731721,86.013951431290295,106.72405644638185,109.24681479215876,95.886843507345716,179.4992266386198,74.42512854712227]
[null,"Octubre",108.32810809976611,103.51610777552028,82.800513555478901,102.70670343967996,111.24200284065992,96.468746330336927,108.27153277969636,null,5.060563674522367,2.3447674700644017,-6.924223846072552,2.9495379474557604,0.64598998434441945,-34.042853028230326,6.6997999978197775,null,127.73539492207679,88.631689766100834,88.706497618023789,112.42831814606275,107.36358790812486,174.59044399960263,79.99172798966822,null,117.91528271170148,85.621157586704243,107.13278675329434,109.46541401953607,96.513533707146209,180.98135472990847,73.880664599465874]
[null,"Noviembre",108.85239249078417,104.67841835027049,81.732695694389292,102.90392991855516,111.28631809958331,90.289702737805072,109.43043657930214,null,6.1966403960416638,3.1226833547822519,-7.6250278404362266,3.1009298963099008,1.0033153131658201,-42.686971127755271,7.7700731721698446,null,129.57012901004913,88.872060864133033,88.055446381350421,112.95459432959123,107.50589198934617,159.75221400848943,80.116957208536348,null,119.03287198856837,84.900079944610084,107.73588908727889,109.76703651550608,96.602973146389601,176.93292719370069,73.212681693431009]
[null,"Diciembre",108.80149161713669,104.83693348881738,81.497312960270833,103.08279045938819,111.94190109118588,89.779610853423947,109.32667448973069,null,5.6191865080871706,2.7786055533974618,-7.1075383083434858,2.5952943859041122,1.447687027813549,-37.381511609030518,6.4761322108980224,null,130.65537053669993,88.703914917746232,88.008490289129611,113.09022806823923,107.3962756445454,155.59635720411836,79.869677355229555,null,120.08601039815264,84.611321569423808,107.98943804691193,109.70815551679665,95.939299402341121,173.3092354990803,73.055983572181106]
[2005,"Enero",108.07623932260519,104.570101105728,80.803860701846077,103.9614056716208,113.64825001828758,92.884280352372642,109.76371543977412,null,6.0248601307089311,3.1366207533631396,-7.4036124639062724,3.792445027191782,3.1816071409891178,-43.081368331382052,6.8571108888755949,null,131.17947136966944,88.538514045587462,87.847998204943679,112.50802608231734,107.55120643743061,161.29545018934215,79.115935775840825,null,121.3767912279975,84.669052730539647,108.71757542512653,108.22095503180522,94.635162811679123,173.65204271103772,72.07840538092087]
[null,"Febrero",108.52348134653779,105.42790017300132,80.076671412654775,103.77651546978113,114.14043137088395,90.286107778381719,109.98024956978075,null,6.2177920149799615,3.6913207051885832,-8.0024243701825917,3.7290271575542766,3.9582006821126781,-42.586145376066121,6.2367728721907545,null,132.25349029156905,88.559251526718796,87.165926110582902,112.9334769337456,108.57751210955296,155.72403036907028,78.997898360926982,null,121.86624373876882,83.999824886389646,108.85308364204533,108.82373186506815,95.12625001104557,172.47839584724809,71.829168118775769]
[null,"Marzo",109.32582705882541,106.51375875230066,78.933686178311959,103.99871240036319,114.19943614359484,89.230279128780452,109.90825867279499,null,5.9196897551219374,5.0374575460151005,-8.9226325641033615,3.4077636953176116,3.6890947025899345,-38.540674627612916,5.4659348279071374,null,133.62775182518212,88.962095082025357,85.880059601346062,113.51563273160367,109.14135788248107,152.78702934374476,79.005238855379801,null,122.22889633689252,83.521693463947727,108.80026482906446,109.15099823025045,95.570837797523168,171.2277837024771,71.882895616228666]
[null,"Abril",109.73662730906213,106.7429305972024,78.75191715294109,103.9252466815489,113.20332623080233,89.205298662924491,110.18241392136149,null,5.5344086937070713,5.3204510566449814,-8.6005320763277382,3.1710777390858258,2.4955262302387649,-35.328057529207037,4.9076660364690383,null,134.41303900890176,88.871948939105636,85.638639525231881,113.65408134069244,109.22942902778591,152.27698693635983,78.772246410889636,null,122.48694196728044,83.257924849811886,108.74483139110933,109.36137749949728,96.489593251955938,170.70397074927251,71.49257636260387]
[null,"Mayo",109.24294737684234,106.41063946101765,78.498462050834902,104.29100267700885,113.50411478822596,91.107884238017689,111.07048500882809,null,4.3903741499699445,4.8991422892594949,-7.7255380295418679,3.1299511468595442,2.5831716028618334,-36.205276730223282,5.7290613096375953,null,135.11291098147379,88.744315446179186,85.299684804151383,113.75392668828491,109.5738868899286,154.45022209919878,78.448909386855007,null,123.68112928644348,83.397972134816158,108.66414777516542,109.07357659661487,96.53736967542514,169.52454048400506,70.629843185270815]
[null,"Junio",109.81277308809899,106.70528155445469,78.315179003627648,103.77044006897924,112.96078987108005,91.793522221901867,110.96965554994485,null,{"$f":"(C131/C119-1)*100","v":4.8836885212515835},4.7802584974886875,-7.2206736075761562,2.3864454832580373,1.5784503483392998,-36.352623675725091,5.6644497582850395,null,135.8560932534281,88.506744890363436,85.414762014076814,113.54797133420675,109.40181880951796,155.18408729559226,78.102917801934097,null,123.7161119175412,82.945046019297521,109.06539843332324,109.42227021368329,96.849374844471356,169.05777612547635,70.382229641851779]
[null,"Julio",109.8145825601673,107.44097612768402,77.647162646048557,103.54586548076908,113.62293580173119,91.862377789135323,111.25795556356584,null,4.431197038416923,4.9320372740442098,-7.6238384767503327,2.4525483128694958,1.8894456783637992,-31.527360728864949,5.034844364639568,null,136.70744590705812,88.462617553222813,84.978318880478469,113.51566005010719,110.08182436497631,155.11238846727935,77.857640763866627,null,124.48933713530828,82.336014378809125,109.44162798046943,109.62838498963508,96.88345366913066,168.8530083810052,69.979391918076033]
[null,"Agosto",109.52079502933962,107.62748264047089,77.650000034228981,103.0555964711442,113.94971460474056,91.148231089002081,111.84609587397317,null,3.7588746608906209,5.1409248343139646,-7.8613570551158691,1.5596387924378563,1.8552390911796612,-25.888924850100526,5.3513181568374479,null,137.43275678694516,88.338478075600761,84.840024004772914,113.349147125172,110.38420633255635,155.25645589572829,77.596026925488601,null,125.48553610310096,82.077993378972764,109.25952861220152,109.98834707332949,96.870980954579863,170.33403066717497,69.3775015740584]
[null,"Septiembre",110.4318405730197,107.476271577437,77.546862249048218,103.01353408274591,113.74696166150167,92.951324843192069,110.74398738007385,null,3.7370683139566818,4.6752953810770492,-7.412195362001583,0.76582750696576607,1.8444928350793033,-16.629387996207225,3.4209735826595811,null,137.72240696398785,87.975292113874247,84.991211066650848,113.03552666500636,110.40074545808396,162.4797764949262,77.089433901787231,null,124.71258855178012,81.855548971558591,109.59980662234207,109.72881153092978,97.058192891889576,174.80092593519018,69.610491481777657]
[null,"Octubre",110.41211195173479,106.10226153579214,77.386023211766499,104.10380083730242,114.13326640634739,98.621590085116324,110.72853023709119,null,1.9237886533099768,2.4983104715258886,-6.5391989870745455,1.3602786875960726,2.5990754318122367,2.2316489398622741,2.2692922085015388,null,137.82609442764812,87.493743358464059,85.340098056563704,112.6142031643206,110.27688179708642,172.59156845100239,76.488443990297398,null,124.82878190745687,82.46171390884939,110.27843855347228,108.17491989588217,96.621156363359376,175.00383871528084,69.077448988549619]
[null,"Noviembre",108.96007833020352,107.87926770448527,76.306712246208491,103.87960321196968,115.06721954122024,102.05437009697961,111.65993921884147,null,9.8928316553514861E-2,3.0577930051486124,-6.638693856947242,0.94813997306684161,3.3974539783530489,13.029910391153132,2.0373697750201814,null,138.76363644184553,87.666307444268256,84.435176665487205,112.79008007802165,110.69909179482799,177.01762598500699,76.267470962058823,null,127.3527319072976,81.263350511808639,110.65235833127194,108.5776962854487,96.203846965444868,173.45423406836156,68.303342716838472]
[null,"Diciembre",108.7977935730562,108.1995737943182,76.511709282312026,103.51598913473103,114.99348511683002,100.95534800126248,111.50099584313537,null,-3.3988909761473174E-3,3.2074958639070728,-6.1175068193834115,0.42024345034925581,2.7260427024178968,12.447967908976864,1.9888296827403451,null,139.66300038504053,87.567064692402468,84.350205178433399,112.64505631917896,110.63615573726513,176.0436165658337,76.030148716495489,null,128.36933158139718,80.93106250017486,110.24483176450677,108.81899237089452,96.210803268430411,174.37770266874043,68.187865176969481]
[2006,"Enero",108.31766028088505,107.58024261578045,76.242649430333088,103.41742278426966,115.08777541164724,103.85456654333842,111.85914927424876,null,0.22338023583445832,2.8785871661431983,-5.6447937411594262,-0.52325464804640065,1.2666498543778992,11.810702682249463,1.9090405477613315,null,138.89611089572583,86.804734691577877,84.192512590139685,111.92340273047996,110.91247081601303,183.13494430679594,75.091965927033755,null,128.23034631245352,80.688361153449279,110.42705522329837,108.22490032840395,96.372069422056384,176.33788325559462,67.130821586107629]
[null,"Febrero",108.44688319570847,107.43434569117122,76.448596572477399,103.01906567626506,114.47668453374938,102.94465804923652,112.50439098515324,null,-7.058209880379529E-2,1.9031447224856279,-4.5307513114287818,-0.72988555270642186,0.29459601547572323,14.020485080525091,2.2950860952274388,null,139.74161916587309,86.761889483850354,83.952848830934713,111.82846068359787,111.35411948629186,180.81329520995985,74.927995647465579,null,128.85720183740887,80.758056397769181,109.81607589269855,108.55122782322266,97.272313519407575,175.6412606892921,66.600063332064551]
[null,"Marzo",109.50598402551,107.37593874126054,76.419684789921533,103.09279801928459,114.26132208852196,98.169916087249476,112.34841988033119,null,0.16478902701340115,0.80945410157282627,-3.1849537378898951,-0.87108230493384564,5.4191112510659778E-2,10.018613687812184,2.2201800274179062,null,140.76940815528357,86.689116064748816,84.050642742933391,111.71221428729797,111.53453664653065,172.00227935248682,74.898405435349261,null,128.54951207277458,80.73421017872549,109.98559202905565,108.36083260287594,97.613553394841006,175.2087464347205,66.666184994081704]
[null,"Abril",110.70450952846809,107.58138112317427,76.043856824567087,103.3713017005216,113.68177706060915,96.964672272960271,111.62849714915833,null,0.88200470812722642,0.78548576592465391,-3.4387230511668476,-0.53302253178644232,0.42264732471848365,8.6983326398084593,1.3124446781760835,null,141.64463602255546,86.73906955822018,83.703412632656125,111.71759031311332,111.83294178330453,169.45188285262435,74.808857222230003,null,127.94838857592427,80.626469610860568,110.07255040437995,108.07408678742564,98.373674897500138,174.75630957180883,67.015913617711945]
[null,"Mayo",109.80906742500936,108.14581236462877,75.761786241704499,103.20207872469864,113.88627819880183,97.986249386651195,112.59400120776216,null,0.51822114082491488,1.6306385455439054,-3.4862795239964828,-1.0441207049112666,0.33669564428471244,7.5496925498389489,1.3716661080691139,null,142.07097928036555,86.678811706038488,83.492907783925162,111.62013829528104,112.17908944209083,171.32527246179734,74.611173611653186,null,129.38000714502783,80.149947381955684,110.20451328530704,108.15687016638336,98.500970631658618,174.84623968588926,66.265673847026875]
[null,"Junio",109.63076717887414,107.48879596498352,75.908375787725276,103.28057633838532,114.65757129184188,98.356942291421419,112.79332852512373,null,-0.16574202081104383,0.73427894019377771,-3.0732269868027573,-0.47206480985172439,1.5020976948712184,7.1501996117472544,1.6433978875946664,null,142.50736417695347,86.42347700513487,83.651478674700982,111.31878632141515,112.51705134256211,172.416057136115,74.302209826996346,null,129.98847663305841,80.402311914712428,110.20059091848967,107.78288645165348,98.133119404883061,175.29627611365154,65.874649501496151]
[null,"Julio",109.91212525219041,106.75932107576679,75.793638580056694,103.45577073379209,115.13983360613354,97.803688975834305,113.48839822720703,null,8.8824898978856481E-2,-0.634446071215089,-2.3871111355878827,-8.7009506906599032E-2,1.335027821362833,6.4676218161225041,2.00474892095861,null,143.39459345269054,86.470272879627615,83.257230535692017,111.31783226587415,112.66416790715216,172.2024913358338,74.146153513024998,null,130.4629431226769,80.995525269648269,109.84725380053094,107.59944223151395,97.849861666944861,176.06952573985447,65.333685796306924]
[null,"Agosto",109.5566471906215,107.59583048512978,75.490088797564852,103.0944039396372,115.64733159649082,97.398194911803401,113.61660252957802,null,3.2735483039791902E-2,-2.9408989752965908E-2,-2.781598500594995,3.7656827791843206E-2,1.4897948605126388,6.8569227818568557,1.5829847629190708,null,144.02782758130428,86.368819112647117,83.152938121569264,111.17193133868028,113.07189552596601,171.33085889245498,73.957815899368214,null,131.46425276296119,80.271529782544562,110.15080184175328,107.83507842362864,97.773025944506145,175.90763262871508,65.094197725296922]
[null,"Septiembre",109.77297672317813,107.09296341882983,75.794703214896785,102.60315251410256,115.81851593959335,98.993305591106022,113.33417005965958,null,-0.59662489226185444,-0.35664445089258479,-2.2594841149397249,-0.39837636122036502,1.8211952634448414,6.5001556009090855,2.3388923776929138,null,144.51884739607084,86.169183438624614,83.312366258520171,110.93348867613354,112.98235396265343,172.68793199693826,73.680655625548511,null,131.65248106600379,80.462040350518265,109.91845435730374,108.11898655929309,97.551201589891591,174.44405049996962,65.011863224270925]
[null,"Octubre",109.33625042056195,107.52842286440993,75.844321697043242,102.39549457483832,115.77649957021656,100.6090299029004,112.99467854747256,null,{"$f":"(C147/C135-1)*100","v":-0.97440535477043566},1.3441384829829373,-1.9922221749325453,-1.640964353581964,1.4397495275556116,2.0152177794626969,2.0465803217374123,null,144.10684963466443,86.076425601096005,83.348340627098708,110.84302759725605,113.48037070524093,175.41868150603906,73.615548203152727,null,131.80152884368846,80.049928482291392,109.89397592614769,108.24990694902463,98.016757395931577,174.35679647775035,65.149570890831427]
[null,"Noviembre",108.03993325046625,107.55183878067938,75.852141246860469,102.56794431182799,116.52390298324502,100.85283842071823,114.12286285027162,null,-0.84447909164379054,-0.30351422546065487,-0.59571561395715955,-1.2626722278339941,1.2659412887811694,-1.1773446596354487,2.2057361383683638,null,143.08983877080382,86.120807775181589,83.340670430212739,110.92985995770061,114.2685716368436,176.11627469915794,73.824589025631354,null,132.44162085798615,80.073766056942887,109.87253498748424,108.15256238386786,98.064490384667508,174.62698864703279,64.688693555198213]
[null,"Diciembre",108.18756464070468,107.79074297746459,75.497591239508608,102.80069258249429,116.27895111074996,99.5260556865165,114.72205672788772,null,-0.56088355499760434,-0.37784882372159379,-1.3254416249695034,-0.69100103106365385,1.1178598445067855,-1.4157668147784519,2.8888180418441101,null,143.24810210450698,86.111890233335885,83.283987720720958,110.91047609602201,114.71420624122257,173.58477099416015,73.846683136947405,null,132.40717875500735,79.888019930745784,110.31343696318837,107.88884131983826,98.654318039008587,174.41138382988979,64.370083001655303]
[2007,"Enero",107.43656144164292,106.41949046389708,75.9596310112384,102.48634869241901,116.40047837067532,101.05829341174426,115.38507481327431,null,-0.81343968929655786,-1.078964058511156,-0.37120748191378228,-0.90030680206842906,1.1406102466858803,-2.6924893383742377,3.1521118852610996,null,141.8707599711272,85.224525259654655,83.468411288800127,110.58362421339139,114.95403869147643,176.38349304694586,73.584233100433266,null,132.05072655660908,80.083568233741133,109.88522479322049,107.90083325660653,98.757359334389733,174.53638597309606,63.772748095465005]
[null,"Febrero",107.70070432909688,107.11513201387613,76.054609479852815,101.69319879065823,115.80089795992679,99.970697577201889,115.32315503064578,null,-0.68805930112808555,-0.29712442072545864,-0.51536209987983472,-1.2870111730321154,1.1567538242138742,-2.8888924674578487,2.505470249480779,null,142.05314172504268,85.095386691485473,83.612928264619399,110.42860570401089,115.39767510579127,174.4337771835763,73.494302965742463,null,131.89620495978966,79.442918186817764,109.93801537666013,108.58996178430284,99.651796435745226,174.48490548830137,63.729008234480077]
[null,"Marzo",107.84631120164291,107.37098621826874,75.954359969042073,101.8059009641769,115.69544483815105,98.275237904553549,115.35726825917777,null,-1.5156001186934831,-4.6123210188930841E-3,-0.60890701415301507,-1.2482899677113801,1.2551252894816178,0.10728522698386644,2.6781403619663635,null,142.09576448650699,85.11557163524661,83.605674972889076,110.44913672397556,115.7451730192502,171.4689654059035,73.573233157009824,null,131.7576492911538,79.272412998256087,110.07356918939948,108.48991627984317,100.04298196974715,174.47830100644154,63.778584797717222]
[null,"Abril",107.57672160473811,108.0693907316178,75.876653619048497,101.83247855363737,115.3755172902316,96.459069423969069,115.56828194904725,null,-2.8253482509903227,0.45361902157101675,-0.21987733460748782,-1.4886367120947819,1.489895982818279,-0.52142995705477535,3.5293718902482007,null,142.32375943970496,85.267950009093241,83.303237913498066,110.60772755987753,116.04744460001355,168.63246081209817,73.707393070236591,null,132.29977388847706,78.901111065620583,109.78770667949587,108.61733813305747,100.5823829227926,174.82281533414292,63.778219964136305]
[null,"Mayo",106.766791517895,108.90345347798163,76.098796044479087,101.63604784875345,115.0685922194891,95.651035339175607,115.59375600833654,null,-2.7705142921753523,0.70057369470615249,0.44482821682612084,-1.5174412136820692,1.0381531817410083,-2.3832058703062486,2.6642225770439953,null,142.39237824880257,85.329494359676247,83.095196510400811,110.66999115894684,116.36757388459537,168.21558213667058,73.74418995201836,null,133.36766631685884,78.353341087505896,109.19383857509702,108.88852282374948,101.12887595133564,175.86383831621197,63.795997723873576]
[null,"Junio",106.52934345807448,108.50671262645814,76.526691384615859,101.64822722267566,114.61366114441496,96.512115429515234,115.55146107222812,null,-2.8289720127009255,0.94699791949126588,0.81455516663888616,-1.5804996191747467,-3.8296770925971835E-2,-1.8756447881839944,2.4452975926586351,null,142.07341623628233,85.143523328990554,83.450176018784049,110.47665378525444,116.45271707684768,169.53790602931963,73.640066460548439,null,133.36552317361884,78.468438742682238,109.04715009743649,108.68527352005736,101.60456957230906,175.66489479047488,63.729238710809554]
[null,"Julio",106.01257337808248,108.41045556799236,76.467145181049602,101.62360051480583,114.98766359146587,98.613226039196419,115.83300192835301,null,-3.5478814236013623,1.5465951596430161,0.88860571099449448,-1.7709695708523876,-0.13216105139443046,0.82771628743179004,2.0659413100994062,null,141.78456474848451,85.074433962712476,83.394262273203239,110.40607831036198,116.89066430563845,172.53978835997179,73.565353237157254,null,133.74315916549358,78.474381015174217,109.05894561089269,108.6421635831301,101.65496076251593,174.96617369701639,63.509839175764562]
[null,"Agosto",105.58316113719013,109.29517438579074,75.745791540389902,101.298480679538,116.20668349041708,99.413854110718873,116.28162393863182,null,-3.6268781085621926,1.5793770938882457,0.33872359524009799,-1.7420181808808333,0.48367038495786829,2.0695036501864328,2.3456267391555041,null,141.68925635477717,85.068900896229692,83.172387375954443,110.39539020565215,117.87736795521782,172.08402239278067,73.579747619969041,null,134.1968310369798,77.834086796872654,109.8046316297381,108.98030203917133,101.4376836293917,173.09863291400796,63.277193014436314]
[null,"Septiembre",105.33593947853748,108.98039689907861,76.035155138806445,101.40629222242848,116.02221322211875,99.944635374997674,116.2614320078861,null,-4.0420123213291586,1.7624252985392053,0.31724106528647766,-1.1664946566915524,0.17587626716926152,0.96100415902984349,2.5828591206743745,null,141.23623216998573,84.849169717186911,83.512802872749688,110.16720396690611,118.28390709218679,174.05847950695531,73.459242854401481,null,134.08171310681959,77.857277209002604,109.83446107302916,108.63941630491836,101.94936280498126,174.15489971410523,63.184532983748809]
[null,"Octubre",105.47904321206845,108.88343984407815,76.578616515949349,100.6996751150355,115.05976598417759,100.46515016771642,116.23038385348019,null,-3.5278392972657779,1.2601477298489261,0.96816057217732343,-1.6561465588345703,-0.61906655383399123,-0.14300876901690573,2.8635908766696527,null,141.00167492387314,84.682855721929698,83.676690062837636,109.98648400012034,118.9482395886204,174.7112178440922,73.361635115521111,null,133.67743072942508,77.773861519434121,109.26900206588341,109.22228286682747,103.37952504177485,173.90231095303145,63.117433396761946]
[null,"Noviembre",105.42867207317248,110.09549383862924,75.685246897113117,101.19320056636174,113.07354531397279,100.33750850126906,117.69547434041795,null,-2.4169407539711751,2.3650502741630497,-0.22002589116659754,-1.340324947223992,-2.9610728622507243,-0.51097215261252105,3.1304958541336081,null,139.84700457965707,85.101710797764625,82.921384385828048,110.49968979053078,120.11630486372388,175.16439813299897,73.895363153131967,null,132.64608367882755,77.298087170126266,109.560829600717,109.19675350921025,106.22847681143752,174.57519201882866,62.785220559458232]
[null,"Diciembre",101.09182319085156,111.9243107698957,75.490297283767475,102.25061540524706,113.83405344604091,101.07952941970137,120.32903344592474,null,-6.5587403445288466,3.834807775000959,-9.6611767625764955E-3,-0.53509092539022474,-2.1026141372572305,1.5608713943994212,4.8874443833728964,null,135.57826020177913,85.453055627704174,83.180080103838151,111.09738581565438,121.59293758270412,177.13578959133332,75.052421944019869,null,134.11397274517498,76.348967476231707,110.18645189747343,108.6520461273951,106.81596051601645,175.24397927876367,62.372662519347877]
[2008,"Enero",100.24681371658531,111.37260273394675,76.523267532123896,102.6233533208304,113.49310316381468,101.95577586352137,119.26777764137982,null,-6.6920865937829976,4.6543281202140463,0.74202114120605067,0.13368085619145376,-2.4977347581013776,0.88808391818024912,3.3649957192373625,null,133.66925167092208,84.996766565655363,83.505422109030391,110.81088812584868,121.54048581150398,178.10184113434113,74.256274301801511,null,133.34014989127499,76.317482468018198,109.12422430730031,107.97823744798289,107.09063583896707,174.68538650792021,62.260130749714229]
[null,"Febrero",99.747238912469228,111.45790042269125,76.94788944189753,102.41753871510636,112.728052747492,103.22937446125619,119.34479409092093,null,{"$f":"(C163/C151-1)*100","v":-7.3847849614098626},4.0542996373776008,1.1745244215360051,0.71227961462716483,-2.6535590540050502,3.25963203521491,3.4872780398753855,null,133.15845006562134,84.881244209830214,83.701024818716462,110.70053375833344,122.14692131614022,178.51935972308769,74.287570729657887,null,133.49587569283128,76.15543078411477,108.77624510015723,108.08747715200204,108.35539010839321,172.93465222933148,62.246176128187948]
[null,"Marzo",100.49173584830368,112.26370912193612,75.887610856444567,102.90435241084965,112.58962205307527,102.92636888322441,119.166247635861,null,-6.8194964402520934,4.5568389338635829,-8.7880554354891061E-2,1.0789663823703943,-2.6844814758442581,4.7327598262220549,3.3018980374305062,null,133.09675393213857,85.240956005265545,82.774082630316968,111.11535166528503,122.97538387205167,179.34524157710069,74.525457687208231,null,132.44547206653237,75.92921761802863,109.07456658096595,107.97925360984991,109.22443972152291,174.24615627952218,62.539065520412592]
[null,"Abril",100.74444207360781,113.1788510057506,74.522140865813157,103.42814018173463,112.90776578224074,102.39116464076918,120.29797739056774,null,-6.351076170766456,4.7279439992603978,-1.7851508845341257,1.5669476484919231,-2.1388866251261351,6.1498573977804227,4.0925549482562662,null,133.10534013141449,85.659992161293914,81.705574721795571,111.62674944453785,123.80081179578922,180.35607340543953,74.782825952789594,null,132.12177008649525,75.685511383166045,109.63932835600781,107.92686521134129,109.64773852186332,176.14417614860002,62.164657773084983]
[null,"Mayo",103.88818038103541,113.94917625387474,73.051406911325657,103.02228740178541,111.29492110572073,102.74159952034107,119.49190444147862,null,-2.6961671283126543,4.6332073178131816,-4.0045168800992066,1.363925086003781,-3.2794970729895012,7.4129507914081127,3.3722828704181529,null,137.87641786675903,85.750663217958504,80.064002387275963,111.56188351017337,123.56016429652148,179.17591726441285,73.679727993305917,null,132.71617364079668,75.253429675445005,109.59953513895033,108.28907639672536,111.02048778950999,174.39471265866274,61.660853375544534]
[null,"Junio",105.57493167129994,113.62206823702549,73.184763053632594,102.62421076823607,110.22924678584209,101.55452587272502,118.52762999746548,null,-0.89591445492214206,4.7143218025389011,-4.3670100856537104,0.96015796067192571,-3.8253854861580949,5.2246398504158353,2.5756220627768833,null,139.88996984401859,85.261064022169549,80.418895429345184,110.82994104215291,123.27346703861065,178.93606364770972,72.859750232969347,null,132.50301717414897,75.039176231423255,109.88475206295487,107.99590097939797,111.83371984579682,176.19703514933883,61.470688509107397]
[null,"Julio",107.92576788961925,113.68960684089183,72.463624515492754,101.47571252209849,110.25264133379569,100.80243184268029,118.35637885081452,null,1.8046864165004006,4.8695960599377086,-5.2356089089998008,-0.14552524409503498,-4.1178523937080875,2.2199920755190838,2.1784611297757106,null,144.2747262499752,85.136177699113631,79.435185277460334,110.4717488528799,122.82350929296221,178.36471139448199,71.766736839789957,null,133.67959206695824,74.884749859555228,109.62077291686821,108.86521129755293,111.40187464634754,176.94484957748949,60.636137685701129]
[null,"Agosto",109.40816855030386,114.17837739390913,71.818331183412639,100.75947034680046,110.37642419867841,102.03582382497085,117.49428365106529,null,3.6227437897447201,4.4679035790561317,-5.1850542150358674,-0.53210110272308153,-5.01714627474027,2.6374288953045166,1.0428644452656233,null,148.20678781310542,84.934475965645376,78.631318901181501,110.07621649802675,122.55907397928998,179.31630433101361,70.727037747467506,null,135.46226920429865,74.38753107571857,109.48641886480148,109.24652156185353,111.03736587686761,175.73857652054375,60.19615214431434]
[null,"Septiembre",108.77104930780673,114.55563015620767,72.548895600300909,100.45965590712413,109.8105682230849,101.56068308583988,116.82255916233251,null,3.2610995319115821,5.1158129496371885,-4.5850627017741674,-0.93350845845734387,-5.3538411537986885,1.61694292522927,0.48264256233172542,null,148.44340916618509,84.67160736282591,79.156286877878387,109.77664372231015,121.96632473093183,179.78911600756578,70.493027143443626,null,136.47327125263925,73.913091174452092,109.1075008418875,109.27435768225173,111.06975103084066,177.02629653997758,60.341964470654162]
[null,"Octubre",107.50075424180274,115.03328184367929,72.764119434154509,99.583956384201727,111.17937550707677,103.22282840803624,117.09211016932228,null,1.9166945093250343,5.6480967247248604,-4.9811517305230701,-1.1079665644990633,-3.372499886393332,2.744910285523039,0.74139505288770557,null,148.15976699123141,84.242414150206557,79.703452217585991,109.30009968434892,122.98557988400232,180.21728320511443,70.245248511850178,null,137.8220720740004,73.233078983771861,109.53675085659629,109.75673557561987,110.61905980590265,174.59053000632943,59.991444692790395]
[null,"Noviembre",104.86071404160208,115.06637747701882,73.628359987192539,99.231280597454145,111.42431198572399,107.18292718112973,118.06845197271839,null,-0.53871306581212419,4.5150654809501756,-2.7176854066641498,-1.9387863590903831,-1.4585492333059391,6.8223925250985085,0.31690057276261285,null,147.04450717839919,83.737291287061055,80.845310909077639,108.78014379254537,123.21742847828163,180.9847288587508,70.127359691026882,null,140.22840538741826,72.773031638877455,109.80186292773662,109.6228358009684,110.58397066348375,168.85593034131503,59.395510417322086]
[null,"Diciembre",103.83528720329284,114.68020020539359,74.448664083267317,98.579187572067354,111.75531952323261,108.56826610271794,118.33511596073421,null,2.7138337462386808,2.4622795678087339,-1.3798239482150532,-3.5906168570515096,-1.8261090243910649,7.4087569718710444,-1.6570543517966385,null,145.5111676300518,83.478948890464437,81.650741188166592,108.55268970740215,123.6487442188165,181.39051046373643,70.276466723076311,null,140.13652925634449,72.792817540388526,109.67388359963599,110.11724927033262,110.64237903513074,167.07507356903014,59.387668784974487]
[2009,"Enero",103.19874693193724,114.08300640179479,76.160452396441244,97.641451712758752,111.33235696887036,108.42903815963706,116.73635478686363,null,2.9446653772932319,2.4336359224025772,-0.47412394606691777,-4.8545496194192577,-1.9038568289260094,6.349088358447541,-2.1224700456210388,null,145.17278802016597,82.626657142191078,82.939162394402842,108.15291201252106,123.36896797056001,176.41043981491313,67.967576475334965,null,140.67301429145442,72.426787957519295,108.90056424911461,110.76536667099633,110.81142206039453,162.69667499511425,58.223144451811656]
[null,"Febrero",103.72254255783118,113.61765503277742,77.513680406994254,96.254975942655989,110.58877430079323,108.36012362954837,115.55090920517387,null,3.985377127932721,1.9377312885812126,0.73529107711778341,-6.0170971200476657,-1.8977338777337871,4.9702414599226641,-3.1789278406704091,null,146.33126875232824,82.098269497155158,83.654758143595856,107.50715604125267,123.12796458504319,176.44129106890577,67.360080521284587,null,141.07952345146217,72.258373466228235,107.92257276955138,111.68997237638933,111.3385742481821,162.82861735384046,58.294721335060252]
[null,"Marzo",103.88624381663847,112.12759633899465,79.081684144512096,95.700735442082291,110.8608222185092,108.33411582225231,114.1104975507525,null,3.3778976347457412,-0.12124379642011185,4.2089522281966607,-7.0003034857132551,-1.5354877323871974,5.2539956453367953,-4.2426024024499576,null,146.46675630410707,81.48981737681099,84.945779249665918,106.80730831015801,122.66510019036498,176.27129712800635,66.951260189825618,null,140.98763312939118,72.675969197130868,107.41523801445338,111.60552509525633,110.6478354892491,162.71079132377932,58.672305902485398]
[null,"Abril",104.45330842975997,112.0551144511445,79.235343241697322,95.346611354244558,110.75172020013791,108.69794268204576,113.34603687995639,null,3.6814600188487923,-0.9928856359824656,6.3245665263037765,-7.8136654234427283,-1.909563586849361,6.1594943893873877,-5.7789338286550755,null,147.50968745465528,81.353218651413954,85.003170327880923,106.61426866459777,122.1823506459409,176.61119389261225,66.618523954114039,null,141.22069436780811,72.601075863327566,107.27936152000954,111.81757500378286,110.32095070410361,162.47887451671531,58.774462511352752]
[null,"Mayo",105.27124308347183,111.49526741935115,79.092302928724607,95.17613875748647,111.2749258992568,108.53412599571777,113.11585468688706,null,1.3312993810881135,-2.1535116928413478,8.2693766934999182,-7.6159720796132868,-1.7965964902333376E-2,5.6379562926990312,-5.3359679757336576,null,148.43631749609088,81.15340549218314,84.916769908407446,106.35185068976899,122.81060292645532,176.72815287053857,66.270122061577908,null,141.00367122899132,72.786412706606171,107.36413881503952,111.74213629401251,110.3668251710564,162.83187545778128,58.586059615620137]
[null,"Junio",105.72297713170819,111.41451973406765,79.564525211147512,94.566793241917566,111.80357551399747,106.25243784986577,112.52284840276978,null,{"$f":"(C179/C167-1)*100","v":0.14022785339722343},-1.9428870968557721,8.7173366303578526,-7.8513807472928354,1.4282314123166051,4.6259996162342221,-5.0661449949046533,null,148.74510854402189,80.942873242642335,85.144909819181237,106.09957136825261,123.22732388072055,176.28514314204159,66.077813395845013,null,140.69326515343712,72.650201639645104,107.01365915679703,112.19537824110444,110.21769501932685,165.91162208544498,58.723907485280556]
[null,"Julio",105.62837572500672,111.85432408700831,79.74306471125108,93.672414927122716,112.98064176830148,106.42115942127529,111.87490652786921,null,-2.128678080810309,-1.6142924625044963,10.045647377467271,-7.6898179880002697,2.4743175324449806,5.5740000274636214,-5.476234053354279,null,149.78676344139811,80.621185396660337,85.458437947441496,105.69489782340685,123.31367395685075,175.91949830652837,65.653680771519802,null,141.80542151983241,72.076950135559727,107.16723549174556,112.83460334148279,109.14584306375252,165.30500068143331,58.684903352446405]
[null,"Agosto",105.6995169269772,111.64582921330582,80.468007426448011,93.227398140467329,112.98058179819456,105.54490560996275,111.21427668995608,null,-3.3897392420214834,-2.2180628577915029,12.043827948251074,-7.4752995231205048,2.3593422403580089,3.4390684109252501,-5.344946805888517,null,150.55799497165654,80.145961776942272,86.168212556042064,105.12412232272506,123.45679813421265,175.40849322353475,65.199377950598475,null,142.43962446457533,71.785898623959127,107.0838154341082,112.76097415518637,109.27258133148108,166.19323520146986,58.625007410120325]
[null,"Septiembre",105.42655640628678,111.6860044770247,80.450653690462929,93.051889548657897,113.06431666778715,105.33120360510203,111.91143849386695,null,-3.074800622779239,-2.5050062360705949,10.891631119646217,-7.373871920599429,2.9630558309216015,3.7125789278861676,-4.2039146408710648,null,150.20671265943818,79.897984970774019,86.69781040357239,104.85197673526162,123.77647892348979,175.36231932190478,65.116995228001656,null,142.47521476522499,71.538045742526407,107.76520317304772,112.68119029483363,109.47439702587846,166.48658072811634,58.186183739895583]
[null,"Octubre",104.1940085104726,112.44529781858836,80.924151295185681,92.657364994334429,113.08953786308531,105.46869048502256,112.11112785121267,null,-3.0760209587853082,-2.2497697915006776,11.214362139591794,-6.9555294259890932,1.7180905606786423,2.1757416567859567,-4.2539008912785059,null,148.75709187324898,79.809956363907361,87.119122595394401,104.80049291572236,124.44859221202125,175.83671309981705,65.356031868895656,null,142.76933386078272,70.976695257339571,107.65528115038417,113.10541037091917,110.044301677745,166.71934798013569,58.295758076426054]
[null,"Noviembre",102.09306319000542,111.55587701571818,81.258663715283021,93.316088249641041,114.82596408062059,105.37273079185258,113.98276538193987,null,-2.6393591507479441,-3.050848161098807,10.363267264703113,-5.9610158331110608,3.0528813992878323,-1.6888850089138541,-3.4604388577251677,null,144.95862412039034,80.196922296305544,87.01999471895715,105.37636931118047,126.00635860938272,177.29935089389369,66.394800390462635,null,141.98675168616285,71.88946422339167,107.09011290643528,112.92411768191089,109.73681746831426,168.25923515650453,58.249859237914784]
[null,"Diciembre",100.99433751622965,111.99779348445188,81.513301147271179,93.309386463583792,114.99024064221554,105.49083717062405,114.40104424031202,null,-2.7360156297358329,-2.3390321224914912,9.4892731132185215,-5.3457542492232673,2.8946462081479885,-2.8345565813700069,-3.3245175690093443,null,144.87255968230053,80.083010519104064,87.218614935341336,105.24850034861184,126.25826593462885,177.17564098472945,66.34278635273202,null,143.44622010023059,71.504096667959459,106.99924270980301,112.79519064214145,109.79911445482841,167.953583208521,57.991416768339697]
[2010,"Enero",99.401181490074876,112.44891744771223,81.517838756453173,94.153250080799751,115.71449196490363,106.60317773745091,115.30541313602538,null,-3.6798561559734599,-1.4323684180686636,7.0343415663091102,-3.5724598219008197,3.9360839160699435,-1.6839219946763628,-1.2257892183209385,null,143.823919906952,79.935184344657898,87.492566880096277,104.88514488974093,127.04717948732069,172.87077820703666,66.064525585272662,null,144.69035251991716,71.085774909151127,107.32935050142029,111.39832645153658,109.79366311857834,162.16287532515568,57.29525075057542]
[null,"Febrero",97.884124804212107,114.36866607424977,79.607285921354844,95.045996705052829,116.57163561182574,108.32341075606386,117.44933629414291,null,-5.6288802893197705,0.66099854046071105,2.7009496947737244,-1.2560173910628913,5.4100077958722848,-3.3880427831567417E-2,1.642935656696709,null,141.85729122937289,80.890655826750404,85.401651129213789,106.13045267548371,129.25817632463526,175.0287752832422,67.079245743038115,null,144.92369576079466,70.727987484120021,107.27868704578533,111.66220183352722,110.88304255681432,161.57982292248329,57.113345940962375]
[null,"Marzo",95.749775912666991,115.93670319958549,78.169849356177977,96.187458326760236,117.79104963714542,109.53463166732793,119.8475627288714,null,-7.8320936488304742,3.397118091316953,-1.1530290461035819,0.50858844754908539,6.2512863245562045,1.1081604681625334,5.0276401393896775,null,138.09281855827521,81.61601319591918,84.455409133894932,107.15645255769897,131.38066591670295,177.60423250406501,68.382507156866339,null,144.22260234241085,70.397045062957233,108.04090046160515,111.40376762392012,111.53705338514281,162.14436457272623,57.057903890433415]
[null,"Abril",91.996154812239141,116.93775464189613,78.683034925724129,96.340370698558559,119.34201914854106,111.10019257802398,122.32683522671427,null,-11.926049834886454,4.3573559445878152,-0.69704792505087543,1.0422597407493184,7.7563571318619129,2.2100233331969088,7.9233457066252289,null,132.51405770324587,82.028457296873853,84.810929637720676,107.86957544528934,133.47687719255029,180.5471637107407,69.982115046669264,null,144.04303959627694,70.147111639071028,107.78807619429169,111.96715838140665,111.84399103086737,162.50841652137117,57.209127430598528]
[null,"Mayo",93.449057808008689,116.95585411267895,78.461556402318891,95.839612561933521,119.21186893446614,111.03086894285231,120.83980065586785,null,-11.230213426936619,4.897595045706904,-0.79748155389295361,0.69710098887034722,7.1327327078115399,2.3004220324518432,6.8283495628099544,null,135.23113374824155,81.799232941953107,84.410612460795591,107.4906095095149,133.10512319348973,180.68815360970797,69.102512400689193,null,144.71107244984131,69.940263839333042,107.58212853690077,112.15676549198514,111.65425421411778,162.736863477767,57.185225418802155]
[null,"Junio",94.695826158113036,116.51198592415579,78.193025950080767,95.486186148320016,119.55815624397573,111.0650078077711,120.06958796353098,null,-10.43023122576059,4.5752261036130282,-1.723757236566259,0.97221537802438807,6.9358969016222627,4.529373683364768,6.7068508022015472,null,137.04458976273062,81.588328830409267,84.291241411734489,107.17045046495379,132.96855115371031,179.9534623990933,68.521748655411272,null,144.72083440500126,70.025695797099957,107.79892501608377,112.23660174099366,111.2166290707668,162.02534529196888,57.068363286316561]
[null,"Julio",92.896959167305639,117.39212342757416,78.439829744449284,95.553064558386168,120.15481288295059,112.26014269966599,120.5699920259929,null,-12.053026916598707,4.9509032268239883,-1.6342925513595397,2.0076877837798879,6.3499118099910934,5.486675121886897,7.7721499556807627,null,134.05525762475875,81.764059471743352,84.497786710737515,107.49962266376656,134.37952222798572,181.48778870277823,69.34354299842191,null,144.30532369022737,69.650379501132562,107.72306236005937,112.50253789409408,111.83865132301625,161.66716373087081,57.513102417285211]
[null,"Agosto",90.579537797429793,117.95511162002445,78.814115522785869,95.396618525243724,122.33107161768343,113.32829594360673,121.57943517759136,null,-14.304681392246177,5.6511581768669439,-2.0553409442552462,2.326805668767018,8.2761919532249095,7.3744822534658416,9.3199891202200078,null,130.82242347727578,81.893968079613458,84.85176935353509,107.78582614795944,135.97380038161154,183.21375258338034,70.218056450766611,null,144.42823032487132,69.428078999597048,107.66062499172966,112.98705112848135,111.1523005427151,161.66637913143006,57.754879637497027]
[null,"Septiembre",90.37938043016625,117.5857871548809,79.479820433067971,94.778733734300943,122.50161829096129,112.82926536489389,121.75837980221455,null,-14.272661926026109,5.2824726835580149,-1.2067437775338363,1.8557862650817603,8.3468435500330571,7.1185569927624481,8.7988693925038284,null,129.99235457930865,81.615072232398859,85.566422598074453,107.47880467093138,136.43277506956929,183.57757405054062,70.229298867492403,null,143.82965888967374,69.408960221440381,107.65804720222309,113.39970522526006,111.37222264731166,162.70386362690937,57.679232412236047]
[null,"Octubre",90.607372967670813,117.78764402369352,79.403379085970144,94.559171449619797,121.29732031412006,113.32415707477556,122.27316358391091,null,{"$f":"(C195/C183-1)*100","v":-13.039747426010761},4.7510623465323976,-1.8792562972557381,2.0525151512798212,7.2577734475948619,7.4481503028318574,9.0642525211098501,null,129.9044896414554,81.645092788547373,85.286109072033327,107.52387699497,137.14314608128407,184.63305273272562,70.227221929732821,null,143.37077147993907,69.315498637636466,107.40866453516284,113.71068014513818,113.0636239334295,162.92470863992199,57.43469774668818]
[null,"Noviembre",91.182726424235639,118.44654806690315,78.706403594250247,94.545880570271834,120.33564070225144,113.6909642485975,122.6174877201575,null,-10.68665825558055,6.1768785612380306,-3.1409083097594048,1.3178781319474364,4.7982846612656616,7.8941044748819245,7.5754631055703125,null,130.67571493280175,81.803410013560779,84.652485430759086,107.69059785660542,137.27891283693111,184.69916410344825,70.125106694297529,null,143.31191888781822,69.063566096797587,107.55476246527826,113.9030037131694,114.0800115708053,162.45720609738493,57.190134945791613]
[null,"Diciembre",89.732834851295578,119.20672719402654,78.67117170531121,95.086627104549805,120.73105437913546,113.95930242433833,123.30421919819112,null,-11.150627789527668,6.436674764110828,-3.4867063435758183,1.9046750903882748,4.9924356231082934,8.0276784987658445,7.7824245547768012,null,129.08975230023609,82.015253421125635,84.462055782420109,108.01472923464641,138.28884401502316,185.98894305735459,70.652499826620513,null,143.86010707692719,68.800859944450707,107.36087178007283,113.59613073232882,114.54289430849369,163.20645976298366,57.299336783486964]
[2011,"Enero",89.901119829152819,119.10434943474318,78.026911080094521,96.183331646802273,122.82552886283058,115.26747230779453,124.05571593135882,null,-9.5572924974444362,5.918626998010601,-4.2824095064496586,2.1561460324103221,6.145329575558911,8.127613786225595,7.5888048595001756,null,130.00598533879688,81.924660756931416,84.02315895346733,106.38072445629977,139.07095572608142,184.43946060126126,71.649528433621626,null,144.60997325267911,68.783937065050367,107.68484589530614,110.60203741636198,113.22642533165353,160.00998105411671,57.755926758962062]
[null,"Febrero",89.510903225471367,120.613099835893,76.430496608873483,96.782535693759769,124.00524487171012,115.75349858231117,125.33457244648874,null,-8.5542181589597472,5.4599165802889038,-3.99057608322404,1.8270511635495534,6.3768593628022119,6.8591708610240332,6.7137341096571657,null,129.21132011682468,82.556006830218777,82.554320599223672,107.22675496060224,140.71922346236511,186.50878212461328,72.279931464769476,null,144.35260449930988,68.446965497566225,108.01227816389618,110.79142966442849,113.47844488992904,161.12582721807647,57.669587930839441]
[null,"Marzo",89.859647854635654,121.37885064944331,75.240827583852081,97.312845590451985,124.85573368633396,116.00665129380208,125.4354144524993,null,-6.1515841701851093,4.6940677970539912,-3.7469968235194107,1.1699937634994662,5.9976407977951229,5.908651472102977,4.6624658828224863,null,128.97342119318637,82.989247575418702,81.493694681821509,107.79251109102516,141.73563823975363,187.88265801507544,72.630310345256731,null,143.52762810936491,68.37208222963126,108.31047092218773,110.76904640593656,113.51952694125032,161.95852213614711,57.90255540054109]
[null,"Abril",90.846409606160691,119.29139590226364,75.058639057493551,97.811394775478078,126.1247202669193,116.55142423058895,125.28385142458231,null,-1.2497752850921251,2.0127299926145925,-4.606324440398069,1.5269030690386654,5.6834140789389753,4.9065906422589345,2.4173078559480921,null,129.10839482498483,83.356968440807236,80.562996081090319,108.25637984713113,142.38209910029747,188.72306857325088,72.843644696589379,null,142.11722332748022,69.876765051104144,107.33340904220302,110.67869965010628,112.88992260912252,161.92257608098834,58.142884233120341]
[null,"Mayo",91.128855166562005,118.97657927650242,75.459917137153141,97.39917509930558,125.58725173824148,116.71664380533086,124.91415760772912,null,-2.4828528996124755,1.7277674376834806,-3.8256177965353744,1.6272629820620832,5.3479430032927766,5.1208955821151259,3.3717011528878515,null,129.67626241428908,83.052400220746733,80.934981127922839,107.84563347450047,142.45315552307696,188.33738900331088,72.465429218938809,null,142.29989192476032,69.805671608470405,107.25559237073961,110.72540744266463,113.42963043732233,161.36292379811289,58.012182611440821]
[null,"Junio",91.000876603534593,118.63407724418919,76.314748852057718,96.690173880216179,125.47851858438273,115.86322916720921,124.60116159316615,null,-3.9019138482503046,1.8213502269326831,-2.40210309704878,1.2609025247128258,4.9518682174436002,4.3201917995114858,3.7741227453962356,null,129.66539647364647,82.446900634954872,82.023287800465511,107.08042254327472,142.71386792846747,188.11431943441124,72.015911564698058,null,142.48807408588203,69.496811160971205,107.4802564828907,110.74591992763443,113.7356971842907,162.35894751641362,57.797143015276532]
[null,"Julio",91.005856018169339,119.21538502536663,75.678686541914843,96.517835930346706,126.45676438858106,115.52668240236399,125.29421220386963,null,-2.0356997323566439,1.5531379317091476,-3.5200780158881395,1.0096707797069504,5.2448598224438481,2.9097947180034334,3.9182387744193248,null,129.45145776366164,82.5234739359082,81.812445743498714,107.03472735239285,143.60655996579152,188.35045778326202,72.1131883761241,null,142.24519544963857,69.22216785891257,108.10500218999795,110.8963191317673,113.56178584841214,163.03632534626291,57.555083437363223]
[null,"Agosto",91.09108660754265,119.20111754465755,76.111845399067363,96.028784089591895,126.27567081059104,115.17352893258511,124.80688909456867,null,0.56475096092549748,1.0563390662092997,-3.4286626269849574,0.66267083060274068,3.2245276206158913,1.628219125342345,2.6546051248411917,null,129.30898138287671,82.20223451798033,82.525677076247433,106.46895274735691,143.84933725471376,187.99437960691054,71.908847497197939,null,141.95569094481468,68.960959604413148,108.42685083189254,110.87191591223799,113.91690602893934,163.22707253065926,57.616088357679651]
[null,"Septiembre",92.149103964801881,119.05506678783409,76.151692818996352,96.256942944029987,125.59158400012635,114.70544267986122,122.87490988741729,null,1.9581054065789472,1.2495384591148628,-4.1873869315977146,1.5596422862885984,2.5223876649742571,1.6628463447844855,0.91700471623918922,null,130.41566501349337,81.879997172380499,82.543327261360247,106.54166734435013,143.64039398322049,187.54404195539828,71.405718781082442,null,141.52678583104628,68.774894997369046,108.39329265805824,110.68465721615566,114.37103459342943,163.50056071779173,58.112529926985992]
[null,"Octubre",92.683679777169047,119.06437779456571,75.973819241834349,96.481773569353038,125.05131231118588,114.97435404675907,122.2000288300497,null,2.2915428860729392,1.083928438720938,-4.3191610780475838,2.0332264869278971,3.0948680377639315,1.4561740537762491,-5.9812596417385677E-2,null,131.33194073161692,81.739605629843709,82.235947005216588,106.81355531293974,143.54704857168028,187.77848624163479,71.073564167695821,null,141.69910069104546,68.651604404196902,108.24248119401381,110.70853215209607,114.79051752329347,163.3220623838138,58.161659083191978]
[null,"Noviembre",91.605960763044877,119.77158467556198,76.018497141391848,96.748368769610693,124.68178915375206,116.42019547212119,122.55104680362837,null,0.46416065345546986,1.1186789571194566,-3.4151051631264751,2.3295443292231433,3.6116884624850076,2.4005700378756156,-5.4185514451876582E-2,null,129.49728600803633,81.981164639514219,82.116561404182207,107.13417758063332,144.53896033620202,189.47167325208747,71.699252016033384,null,141.36338392105739,68.447925158196171,108.02181638956657,110.73486710226051,115.92628026693055,162.74811469240291,58.50562184990703]
[null,"Diciembre",90.570186887348697,120.52231692363438,75.918227939547208,97.140423054087961,124.18030976874002,117.31234477430526,123.36013257847399,null,0.93316124185842675,1.103620374936165,-3.4993043907825094,2.1599209185114487,2.8569744605830616,2.9423156149916974,4.5345877575364568E-2,null,128.8121302655706,82.022185888423977,81.965660261738222,107.40551905022792,145.24672807103406,190.29361860920267,71.904197030842809,null,142.22354473640127,68.055599976886484,107.96571849254242,110.56727536632647,116.96437892732419,162.21107759401156,58.288034819597698]
[2012,"Enero",90.968147732737208,120.3225133464201,75.782606953635025,96.988039668624296,125.37124336149681,119.52103958871929,122.58887724880074,null,1.1868905588853229,1.0227702997062549,-2.876320612199712,0.83663978783456994,2.0726265314999992,3.6901713863965124,-1.1824031416413638,null,129.94449808487764,81.833272243442607,81.634625108907542,107.9349326744703,145.91636183754684,189.04740758084407,72.26400598513824,null,142.84615145364094,68.011604784082877,107.72211248796557,111.28684840238847,116.38742499889709,158.17081932299965,58.948256650131917]
[null,"Febrero",91.426864337210191,120.68020435716397,75.481218071528716,96.944425321498414,124.97774196162457,119.90561109298589,122.17619802922057,null,{"$f":"(C211/C199-1)*100","v":2.1404779112916161},5.5636179952500697E-2,-1.2420153989089133,0.16727152949462809,0.78423867548549353,3.5870298189926375,-2.5199546746103252,null,130.08404503939803,81.780664359546918,81.241171745413766,108.39692819749742,146.58497074830393,189.31687987404175,72.204146642157596,null,142.28208085493162,67.766428467016553,107.63097605079281,111.81347234564431,117.28886155849578,157.88825739541741,59.098374157042201]
[null,"Marzo",91.258158002728109,121.36911661726597,74.941250888767726,97.265017978030585,125.42021465002986,120.72987996405243,121.99124928478363,null,1.5563272074633483,-8.0195455182230369E-3,-0.39815709728935333,-4.914830321856023E-2,0.45210656093215285,4.0715153981025987,-2.7457677584506457,null,129.73884414097193,81.964073452535487,80.572367356839962,109.1913883659908,147.15916501485387,189.99688712578978,72.450177889121633,null,142.16684511328123,67.532891181046367,107.51404120066033,112.2617264005997,117.33289201065709,157.37354098451993,59.389651564260667]
[null,"Abril",90.485441818186999,121.26817878227746,75.484960641550188,97.049465668363297,125.29284250890802,121.7421798276237,122.24407997818912,null,-0.3973385294350873,1.6571043242996408,0.56798469757768366,-0.77897785719522883,-0.65956757426359758,4.4536183331103762,-2.4263074704588328,null,128.59432831293242,81.832972735795664,80.847873180403226,109.54290611321549,147.6477269751384,190.32552150928967,72.685584592877632,null,142.11604179522919,67.480994237339871,107.1046106314071,112.87327071696065,117.84210815126251,156.33490527175871,59.45939026728022]
[null,"Mayo",89.386337316545678,121.45732184102212,75.731479154319956,97.266763844278572,126.26392862128868,122.38136007800972,122.2928774371476,null,-1.9121471973190252,2.0850679853170462,0.3598758486220266,-0.13594699841349422,0.5388101687722191,4.853392016760627,-2.0984652346719534,null,128.24217341866898,81.578127200410506,81.132837172548136,109.75923812564379,147.91649062119961,190.06974293443795,72.623050817346055,null,143.46954721337593,67.166084319881278,107.13224946685868,112.84351795785589,117.14865222105897,155.3093892838595,59.384530268061333]
[null,"Junio",88.031594273626865,121.66463172378438,76.123846337194394,97.37071750209688,127.35082066926758,122.29371094894123,122.82447856968481,null,-3.2629161835924569,2.5545395977222274,-0.25015153392354827,0.70383948499646021,1.4921295740559337,5.5500626281111076,-1.4258960356102968,null,126.62694135706838,81.251507464260129,81.81720712327035,109.98839874645043,148.7902833248603,190.35318224132936,72.85010388524762,null,143.84260832931909,66.783177915440291,107.47907661005058,112.9583940306097,116.8349623056387,155.65247040447045,59.312365689316493]
[null,"Julio",88.410535489870398,122.15311960785097,75.417313557667143,97.753509517427091,127.88200090307713,122.53382501192006,122.28490675340161,null,-2.8518170608502258,2.4642243799818608,-0.34537198806025016,1.2802541366262243,1.1270543900020691,6.065388933399074,-2.4017912699522803,null,126.6080417490675,81.186318616517937,81.412304618706983,110.47170657688214,149.92388907187478,190.32022390016471,72.82760346838586,null,143.20469958421819,66.462746819034138,107.94909123414457,113.01047616831363,117.23611455337128,155.32056057309106,59.555676495096158]
[null,"Agosto",87.831374522989407,121.98071840478205,75.895719259787512,97.680123980705616,128.58715166525317,121.75187399256833,122.20865577829268,null,-3.5785192667614152,2.331858054168956,-0.28395861136550904,1.7196301158755478,1.8305037223910414,5.7116814262361926,-2.0818028036154845,null,125.86623444641654,80.814689523299691,81.966674311904882,110.62123961785224,150.48079817843094,190.14013410238923,72.786401450329734,null,143.30441158412214,66.252019647173583,107.99907440278255,113.24846356634725,117.02630957264905,156.17019095245738,59.559121231458981]
[null,"Septiembre",87.579665226087783,121.40409483614567,76.61094934110028,97.360828818024373,128.33133580782146,121.37646777295139,122.31326187087132,null,-4.9587446237778776,1.973060123932191,0.60308117272656059,1.1468116898707859,2.1814772299490581,5.8157877579608552,-0.45708926017571372,null,125.0284471252582,80.366638246385492,82.805293301297368,110.6427641769401,150.62177663570276,190.18145697185318,72.711088805413922,null,142.75967692100215,66.197633905885269,108.08545516466268,113.64197030793646,117.36944502881327,156.68725615545958,59.446610852530902]
[null,"Octubre",87.480318209995445,122.06855213157989,75.736307882508839,97.887111805529983,128.61201045688384,122.39199609272598,122.83140137980435,null,-5.6141076613310688,2.523151250324096,-0.3126226398721399,1.4565841652638856,2.8473896674009236,6.4515622700956454,0.51667135908186612,null,125.17811467240918,80.669931097401161,81.662575205946922,111.54237540434862,151.33053437653626,191.70821192174904,72.892828117025786,null,143.09288904496282,66.085760573653388,107.82486958914291,113.95001175021613,117.66438751633434,156.63459870080729,59.343805654089579]
[null,"Noviembre",87.139816037725311,122.28560006196575,75.733711899958394,98.184575407925806,128.0537812903861,123.35099995775579,122.90406321296194,null,-4.8753865885125531,2.0990082023325973,-0.37462624511473974,1.4844763344126211,2.7044784643536435,5.9532664908592325,0.28805662500723805,null,125.39522250981226,80.484618247000526,81.449697227602769,111.82642394109479,151.75005754174541,193.76496502486725,72.669903322839048,null,143.90117883141397,65.816922193795975,107.54747811013804,113.89408517222938,118.50494066834585,157.08422719817938,59.127339994382709]
[null,"Diciembre",87.153154718773251,122.65336037970953,75.607809657629119,98.732767816658281,126.64644952290898,123.59840123948834,122.79565586548995,null,-3.7728001741075712,1.7681733229750529,-0.40888504690239635,1.6392195056466941,1.9859346129524447,5.3583929954487575,-0.45758439228732462,null,125.08814129586135,80.279962448383742,81.524926855040761,112.12072398930242,152.18586172126402,194.67505348638349,72.607789158049798,null,143.5268082945444,65.452721555979807,107.82606614872962,113.55979019802716,120.16591250253347,157.50612591596123,59.128955862725462]
[2013,"Enero",86.339969801739628,122.76659803772741,75.448424812811581,97.948207932745234,126.42153262025255,125.77904635162729,122.95714422197821,null,-5.0876906327642075,2.0312779573266937,-0.44097472264038595,0.98998625748236702,0.83774335373489883,5.2359038914338907,0.30040814586307363,null,125.39732704695493,79.586312821158288,80.840026656446582,112.77583105817983,153.06449720525356,196.45301969601704,72.623259477919134,null,145.23670477868103,64.82733422058385,107.14607608709079,115.13822808847691,121.07470462728183,156.1889880662745,59.063879482114665]
[null,"Febrero",86.154478201718916,123.36842085256046,74.704418848373777,98.091755184650566,127.40409851263233,127.02228165291271,123.34163803814664,null,-5.766780009041006,2.2275538144105766,-1.0291291568967686,1.1834923559010724,1.9414309403611885,5.9352272967508446,0.9539010279623561,null,125.58658643380265,79.637142898506625,80.145583547839337,113.37784025715847,153.96798932203069,197.38056961349025,72.614189114807999,null,145.76907556651767,64.552291703305684,107.283591497458,115.58345555519213,120.85010695850143,155.39050869266461,58.872405352967782]
[null,"Marzo",85.865178923011044,123.33610088332236,74.434183380925504,98.393552394792763,128.18559208354856,127.91509162522848,123.5419813558059,null,-5.9095857266326153,1.6206629172882625,-0.67662002145499889,1.1602675249770433,2.2048897310813498,5.9514775160179667,1.2711830398606239,null,124.80060733774935,79.651590641741279,79.935880155048139,113.92573359404659,154.56663115093235,198.83594356573124,72.847854422315734,null,145.34484048492908,64.580921620907077,107.39135773945026,115.7857713449889,120.58034654174644,155.44369396872256,58.966072603701377]
[null,"Abril",85.365471223919386,124.47163777878295,74.16562479782651,98.634885741310555,127.54732031703887,128.58767527430527,123.64687209858788,null,-5.6583362929864549,2.6416319834875468,-1.7478128524020975,1.6336206098907846,1.7993667978045469,5.6229446986855169,1.1475337870341384,null,124.77323017420751,79.628900732793213,79.740439670844623,114.35887551604125,154.57521237337568,199.11012246627737,72.859209655836636,null,146.1635815807997,63.973530158182356,107.51670991542903,115.94161097927356,121.19048208081105,154.84386201207266,58.92523475866296]
[null,"Mayo",85.540522546064082,124.88218907761551,73.905729081055128,98.928814341378327,126.98105686048999,129.11943679765264,123.21374274737921,null,-4.30246376117005,2.8198112593625702,-2.4108205645164471,1.7087548011370579,0.56795970712444355,5.5058031021618437,0.75299995349680238,null,124.64217415994617,79.518770300803638,79.54938970768265,114.80216815410873,155.31079196925916,199.16786556872711,72.836315689433633,null,145.71126110765294,63.675029151980944,107.63629653181272,116.04522799389414,122.31020579699077,154.2508784954272,59.113792070067504]
[null,"Junio",85.508086054235406,124.71389379913487,73.766857263987873,99.023527750501742,127.68240970432582,130.40038094701416,122.89290090606836,null,{"$f":"(C227/C215-1)*100","v":-2.8665937953454401},2.5062847206682282,-3.0962558864486733,1.6974407612527553,0.26037447840197014,6.628852730994117,5.570741042855154E-2,null,124.19056554366857,79.247836739331746,79.711954242828668,115.02839761787378,156.02055435904768,200.6109453881792,72.756707699193043,null,145.23838770627836,63.543711390303393,108.05930630549329,116.16269408993152,122.19424329501965,153.84230010010006,59.203344670660599]
[null,"Julio",85.110825929602001,124.93148631807662,73.563897789797792,99.028054355269063,129.02728046274467,131.20949549166738,122.82906312994562,null,-3.7322583128641451,2.2744950920165374,-2.4575467892424374,1.3038353754601051,0.89557525811279071,7.0802249737191847,0.44499062966236735,null,123.81478564237507,79.075616374953114,79.62636025326006,115.3477392741725,156.82899823052119,202.58603334321595,72.720049188437713,null,145.47477866656635,63.295185789774337,108.24108380007975,116.47986020239838,121.54716248228139,154.3989118958859,59.204269197677064]
[null,"Agosto",85.014674989087226,124.56903142824548,74.290163788631844,98.441698251445843,128.74209218555356,131.6606236545538,122.33298126638347,null,-3.2069400589477604,2.1219034100736778,-2.1154756642597028,0.77966144974452867,0.12049455819951316,8.1384781499053602,0.10173214597526403,null,123.36008272255272,78.705027966620548,80.338900707787914,114.90300793422298,157.06931493865218,204.26513484738825,72.534733824116131,null,145.10445724621971,63.181857532509099,108.14204278289891,116.72188714251013,122.00307783741088,155.14519768896997,59.292868589681248]
[null,"Septiembre",85.17862720623026,124.14544806748934,74.453903415023703,98.364803927712913,129.05189402374535,131.59600405546664,122.0103503362796,null,-2.7415473827848258,2.2580401715803333,-2.8155843839926975,1.0311899784307021,0.56148267403912655,8.4197015039456211,-0.24765224143192821,null,123.50396874476628,78.38278863208879,80.599479487392003,114.93674503566635,157.29747007904285,204.75654807034527,72.257593558284938,null,144.99408219592999,63.137867599847439,108.25420265491172,116.84742961530424,121.88699070941212,155.59480665084789,59.222511335416804]
[null,"Octubre",85.553655233677318,124.09772042974764,74.525476513436828,98.067159459637494,129.41671091300466,130.93037759567756,121.39329620375065,null,-2.2023959397280635,1.6623186420532621,-1.5987462327189172,0.18393397331530892,0.62568064464756379,6.9762580687733777,-1.1707960341565737,null,123.08908107239557,78.294925263851638,80.763552128791162,114.89551087564067,158.16728478168741,203.90423546133536,72.318711505990663,null,143.87355015539163,63.09134848949526,108.37039346434723,117.16002738197939,122.21550344298984,155.73485634556585,59.573892272114001]
[null,"Noviembre",85.660785540870151,124.7425400190459,73.689231506561541,98.395387952911022,129.71817273463535,131.50506485213842,121.82363763836793,null,-1.6973073436542974,2.0091817481658891,-2.6995644899823978,0.21471045132024358,1.299759700554981,6.6104570673729102,-0.87908043586965023,null,123.14911531482163,78.508858227293445,80.079541081374998,115.30264868149762,158.90457092623276,204.41844525046653,72.459631131611076,null,143.76370066798557,62.93671606759537,108.67197206995493,117.18298091032263,122.499853009265,155.44530203480028,59.479122883119494]
[null,"Diciembre",85.56672898531113,125.41551174750674,73.303103188627503,98.747008029814609,128.91534512540522,132.05333670342114,122.09513379717194,null,-1.8202734468777626,2.2519981183117821,-3.0482386402117645,1.4422985875128802E-2,1.7915193130509488,6.8406511566037498,-0.57047789140468597,null,123.17142951881432,78.591992809641326,79.667943698067788,115.70582124963282,159.13780296809611,205.27536591951309,72.517612598798848,null,143.94780655920437,62.665288937995925,108.68290731575432,117.17400208692688,123.44364653664101,155.44882927157036,59.394351227189169]
[2014,"Enero",85.641340104851778,125.02729193926238,73.331381656229851,97.283814170759271,129.21606073932344,132.95122235113845,121.92546997452199,null,-0.80916138665799719,1.8414568275649801,-2.8059474559397835,-0.67831129941873236,2.2104842910464884,5.7022025588114866,-0.83905189404342995,null,124.26155705027038,77.779180898768502,79.000629640800611,115.23571709892441,159.62749564018603,205.58663401236936,72.391403278793291,null,145.09529731568352,62.209762118620645,107.7309984573148,118.45312406918454,123.53533664999561,154.63312813280723,59.373487175337914]
[null,"Febrero",89.377736276530612,125.12031757432027,72.125624699811695,96.70719451372635,128.22238687975903,132.24891959978245,119.08377994664463,null,3.7412542471267463,1.4200528057771944,-3.4519968006125779,-1.4114954598558049,0.64227789896851295,4.1147410350819369,-3.4520849238155571,null,129.95757657933393,77.587473855546236,77.467650098366477,115.07955978884152,158.75494691398106,204.16549249708478,70.715988946901007,null,145.40262708964923,62.010291661432227,107.40655685242022,118.99793016176004,123.81219128517242,154.37970541834252,59.38339291764607]
[null,"Marzo",93.092113058082603,124.66757673194704,71.398961937237118,96.153539241353513,127.4655274388054,130.39167917363008,116.23734362206373,null,8.416606388896497,1.0795507877164656,-4.0777251873044591,-2.2765853035282779,-0.56173602121667443,1.9361183398575177,-5.9126765279120086,null,135.76771125064329,77.210152894306475,76.561781244227817,114.74937512092866,157.15621421248747,201.49981625445642,69.001913467470843,null,145.84233485594453,61.932825613767449,107.23094449402366,119.3397310450508,123.29311098480034,154.53425980206794,59.362947670092112]
[null,"Abril",91.882866601335252,125.6378879572086,71.626215590328627,96.155296699808616,127.35472405136387,130.51223229061509,116.61567132993693,null,7.6346973594514589,0.936960579323598,-3.4239706257720437,-2.5139067408717297,-0.15099985260079718,1.4966885529303919,-5.686517296648419,null,135.18457757735578,77.119724388281398,76.766802819750922,114.9579902125693,157.18400484942677,201.50809626102549,69.096813252121436,null,147.12707883168207,61.38253805615377,107.17696333256563,119.55450626028603,123.42220205827022,154.39786196616575,59.251739036538289]
[null,"Mayo",92.5756998432893,125.62652054064014,71.432390241385662,96.034645782664128,126.90168502435576,130.72806308952573,116.27156829596726,null,8.2243796131087787,0.59602691826776688,-3.3466131386876152,-2.9255061611545785,-6.2506832197362083E-2,1.2458436404071627,-5.6342533686727254,null,136.45620246164239,76.968860514623074,76.435459917899138,115.03277694975536,157.53801811978053,201.08263324252351,68.687546961860036,null,147.39959048933287,61.268003112227944,107.00392309372123,119.78258055960957,124.14178589476165,153.81749602211826,59.075101478821615]
[null,"Junio",92.20331123783555,125.14209679971916,71.932364592761786,96.232148177602014,126.35152607137832,131.55165340001813,116.10477106069153,null,7.8299322234315349,0.34334827302717752,-2.4868792561692388,-2.8189054018887827,-1.0423390630153628,0.88287506880195821,-5.5236142977577281,null,135.65086330459829,76.543150852939661,77.006177706829021,115.17234800267033,158.27180924732608,201.39857011156499,68.59371976598095,null,147.12146612033396,61.164989887808431,107.05358866317289,119.68178013662659,125.26307688433886,153.09467034911265,59.079156816152633]
[null,"Julio",89.547183449606365,125.4940275230509,71.703679601031055,96.510530627086268,128.16133406452522,133.0910467972318,119.55526503984896,null,5.2124479718641537,0.45027976657705526,-2.5287107462442338,-2.5422328496438218,-0.67113434857637433,1.4340054418423565,-2.6653285522769021,null,132.67881397903801,76.761815174032904,76.864512716853682,115.8917461696112,160.28504891519285,203.42048082905828,69.484590017145024,null,148.16637315422034,61.167703905218275,107.19744529783995,120.08196972557674,125.06505966494883,152.84309931003511,58.119222096981773]
[null,"Agosto",89.515453330340691,125.15230142997973,71.755451299344401,96.877044302184515,128.22336902421731,132.71236998708878,119.47276164633408,null,5.2941193291995869,0.46823034188094859,-3.4119086027312173,-1.5894219391307085,-0.40291652289495827,0.79883134633671471,-2.3380609141055664,null,132.70882955241791,76.510735828710196,77.056909334027353,116.13223071980008,160.39135688923537,203.0292280274943,69.322460058752142,null,148.25242415148122,61.134102173515736,107.3882303555819,119.87590203263601,125.08746113116287,152.98440382554125,58.02365250747448]
[null,"Septiembre",89.83309822404685,125.63123075423653,70.833972692420602,97.626050708992523,128.79881432273771,133.17943729941021,119.17993255654491,null,5.4643649122771309,1.1968080262914516,-4.8619757414527287,-0.75103409880559191,-0.19610692498714943,1.2032532866850243,-2.3198177629468408,null,132.87857560279346,76.675966602225785,76.102461735062505,117.15284499648892,161.00341252936863,204.12269876857331,69.43262401079842,null,147.91716887175562,61.032568209270799,107.43779974831999,120.00162266698938,125.00380021040741,153.26893018001758,58.258653551306651]
[null,"Octubre",90.143669655029413,125.93202973666685,69.882814610851938,98.236251423515839,129.40986771460467,133.98367511058217,119.40499926634875,null,{"$f":"(C243/C231-1)*100","v":5.365071087629314},1.4781168425713531,-6.2296306173202698,0.17242465756126535,-5.2877239358872785E-3,2.3320008473002529,-1.6378968193306753,null,132.85210527448547,76.810241502845628,75.172027780045781,118.1967943738113,162.05528832945234,205.20374947359383,69.568564318879581,null,147.37818615871404,60.993411813866174,107.56868938185626,120.3189175696878,125.22637662132735,153.15578506428551,58.26268979215655]
[null,"Noviembre",89.49512155137046,127.06732427234535,69.528129690767926,98.366639121537659,128.2766783509681,135.32690489014985,120.49453961855703,null,4.4761859073436661,1.8636659578556758,-5.6468248219186501,-2.9217661489500113E-2,-1.1112509167209073,2.906230297904222,-1.0910017510364578,null,132.16991425931744,76.834988428238603,74.909562292971458,118.71160319277656,162.7830057069711,206.57129312820913,69.765721240140536,null,147.68393178107652,60.467936086823535,107.73993580172213,120.6827886496168,126.89992272920638,152.64613736336551,57.899487778445454]
[null,"Diciembre",88.910187828207285,127.64126684280994,69.278148786253354,98.819442694033995,128.17574793038429,136.31059548648568,120.79472399287727,null,3.9074286028511374,1.7747047907313185,-5.490837668927762,7.3353781207741164E-2,-0.57370764845835476,3.2238933822822835,-1.0650791426748851,null,131.46312421765822,76.699883493490816,74.89668931172821,119.39108492104276,163.15429858212966,207.16302683750502,69.882508094561629,null,147.86058541645636,60.090192921656474,108.11011931454748,120.81740360619415,127.2895233431703,151.97866761431902,57.852285087122098]
[2015,"Enero",88.7654533147645,127.88304197067083,69.274538009446232,100.0942630451401,128.96340004514542,135.19434778741598,119.78126264443381,null,3.6479032276793388,2.284101324689769,-5.5322067512674096,2.8889172349346071,-0.19553350623164878,1.687179250111126,-1.7586213369005232,null,131.31341016051218,76.639853825805943,75.410072918305445,120.34843322759417,162.41655688872675,206.87586669215162,69.850758304979962,null,147.93301364087171,59.929645592402167,108.85683987964319,120.23509596481061,125.94003944675045,153.02109154552085,58.315262974251091]
[null,"Febrero",88.70165669901786,128.1095250414977,68.959488380821924,100.2454166133097,128.34880653044337,135.70989061201465,120.74844323152655,null,-0.75642951553505089,2.3890664003485051,-4.38975236910224,3.6586958368243661,9.8594055032608097E-2,2.6170126929625948,1.3978925472703185,null,130.90479143128644,76.428946039059568,75.278574654021781,121.24955759130506,162.68090509834704,208.05765538064372,69.846280754107582,null,147.57874463999258,59.659065954933808,109.16347615327903,120.95271952334488,126.74905945444874,153.31060576525434,57.844456528671188]
[null,"Marzo",88.414222604220413,128.04460359004756,69.037841624822974,100.35839848491615,128.9678005163193,136.05073369878903,120.44092602905846,null,-5.0250126462845763,2.7088252989481143,-3.3069392724360269,4.3730675716554535,1.1785720482230921,4.3400426783547497,3.6163785888486455,null,130.02000397022144,76.459853489084395,75.138001654826638,121.75835742991241,163.51911509143429,208.0902147008799,70.115302932540274,null,147.05779244618387,59.713452457458615,108.8359657347838,121.32353571605935,126.79065195869794,152.95045388111132,58.215512985697025]
[null,"Abril",88.178456161334893,127.64188714125008,69.539720355318565,100.40099875287592,128.93822066156631,136.41915408912712,119.76836880272126,null,-4.0316661604314019,1.5950595927910038,-2.9130329137363908,4.4154635249289864,1.2433748508330122,4.5259526213289547,2.703493824483072,null,129.25337933060675,76.041944153940577,75.843322810315669,121.89308515526022,163.64244877654409,207.78985282644976,70.035632585159874,null,146.58158574938022,59.574443669727032,109.06475094059678,121.40624761640497,126.91539245455274,152.31721250132796,58.475900845339559]
[null,"Mayo",88.873380961319967,127.80338735581707,69.275498861910677,100.21247482545154,129.05589210431171,136.38440051246516,119.08999412859826,null,-3.9992340195500131,1.7328083320374166,-3.0194864993126735,4.3503352448888588,1.6975401702053805,4.3267966259592061,2.4240025949050281,null,129.4213033956629,76.086708718203724,75.520480204329161,121.9391869245851,164.48864152074171,208.09101819580715,70.010983916568691,null,145.62437255761708,59.534187858707469,109.01470425332747,121.68064618399734,127.45535197090487,152.57684706894921,58.788300754274914]
[null,"Junio",89.135588362483787,128.45140820710472,68.773303748447461,99.797955276755076,130.02883521135865,136.2508864357028,119.1021560795965,null,-3.3271287485963086,2.6444429908201617,-4.3917099934070674,3.7054219059644788,2.9103796798646941,3.5721580947336351,2.5816208856207501,null,130.10766402002912,76.127315250623809,75.110851218442406,121.88689476201297,165.21419101106315,208.1067551516262,69.848591660011706,null,145.96601246510653,59.265457898197774,109.2151272726054,122.1336593760883,127.05965622356885,152.73790915836162,58.645950635294618]
[null,"Julio",89.301282948004797,128.77161272876089,68.379655105648084,99.47004584046303,131.41477179941646,136.35723180337382,118.94809391140865,null,-0.27460439527944303,2.6117459694310563,-4.6357795218854747,3.0665205072928581,2.5385485869343638,2.4540982167779779,-0.50785812589511092,null,129.58727406953727,76.082137450466547,75.075635455107445,121.79693964739933,166.58765051918104,208.77385882925498,69.920703764299489,null,145.11244384359941,59.0830042726286,109.79235759395674,122.44584650412821,126.76478316566293,153.10802079812345,58.782534015530949]
[null,"Agosto",89.130130107951146,129.01221319191686,68.162465710887147,99.567728092121769,131.80254295426209,135.97383879550281,119.32334316470458,null,-0.43045441658836614,3.0841716195660007,-5.0072649859984608,2.7774214307615619,2.7913585154425213,2.4575469556691099,-0.12506489309405122,null,129.35337512474626,75.981154342551122,75.006597788676146,122.08938800533502,167.22011876287979,209.05738532402026,69.91742770460101,null,145.12867306272099,58.894543751080811,110.04091035500178,122.61943738675632,126.87169383439607,153.74824096746366,58.594928578302131]
[null,"Septiembre",89.152651283665023,129.03923769894794,68.329165019181431,99.178235966553871,131.80890979708764,135.4666295769116,119.41612625182862,null,-0.75745683254156981,2.7127068040734725,-3.5361671497879832,1.5899293746790555,2.3370521616816964,1.7173764387961699,0.19818243744318398,null,129.31724270996943,75.819119950604218,75.383318068688368,121.61041838790068,167.46958986987875,209.10271012584883,69.782032627423774,null,145.05148287571294,58.756639687760924,110.32378055187222,122.61804941651884,127.05483273299862,154.35735780754044,58.436021011320662]
[null,"Octubre",89.66944655750946,126.34980060801438,68.287558424869388,100.46729446418367,132.73692072694081,135.13029550554822,119.83460692834569,null,-0.52607476413458754,0.33174314129702509,-2.2827589227278011,2.2710995262322786,2.5709422867763676,0.8557911208359581,0.35979034767099627,null,129.00070457633774,75.666244157942785,75.144324127146788,122.35573058637088,168.35024839402186,209.56039066004789,69.785913294292101,null,143.86249667951637,59.886318612158753,110.04101751539599,121.78662841367785,126.83000891691832,155.08024301733556,58.235191889117743]
[null,"Noviembre",89.647234801855902,126.79620389466655,67.591029913081741,101.17208324837983,132.96745549185599,135.54571849001985,120.16439734587996,null,0.16996820368373466,-0.21336750359022272,-2.7860662818079529,2.852028037041987,3.6567653615521722,0.16169260654237405,-0.27398940543046368,null,128.74145275490071,75.731380695815801,74.725129629516005,122.89468693874331,169.10486655980344,210.31505586644258,69.911892816137566,null,143.60895016946517,59.72685172714489,110.55480250206028,121.47094632521697,127.17763601196444,155.16171090415369,58.180205085957283]
[null,"Diciembre",89.779461772247444,127.11391789570854,66.998686122486774,102.16227248165221,132.11259624473166,135.93747916010159,120.46685493122772,null,0.97769891760859373,-0.41314925818687342,-3.2903053902313406,3.3827652701587496,3.0714455565225895,-0.27372510922754056,-0.27142664084308654,null,128.8607240700459,75.641749179127075,74.317595905124918,123.78485411678761,169.4229864528748,210.68474494168967,69.862501840328775,null,143.53029248152524,59.507055113498943,110.92396016431985,121.16493800489678,128.24135719733161,154.98650279777058,57.993131704328114]
[2016,"Enero",89.855901333916691,127.15191723560986,66.671520631290988,102.96106571159,133.10985150192673,136.18242889285764,120.05551696383304,null,1.228459922674463,-0.57171359376065878,-3.7575384159188485,2.8641028758631615,3.2152156777270013,0.73085977454867557,0.22896262181952842,null,128.38348433839738,75.243025601145817,74.711189591901402,123.43375206644561,170.5769192194206,211.02375103416614,69.748239046803661,null,142.87707588765593,59.175690966359596,112.05862545879471,119.8839106931962,128.14747916456923,154.95666566513535,58.096654623390151]
[null,"Febrero",89.920638297427104,127.51492886248477,66.600239704403847,103.02325795114982,132.3327155423996,137.32653951918871,119.83909658673734,null,{"$f":"(C259/C247-1)*100","v":1.3742489641940914},-0.46413112437996284,-3.4212096577476925,2.771040743493991,3.1039704377860966,1.1912535629373888,-0.75309181671651126,null,128.17562546394683,75.002186119495718,74.713889291029844,123.99120439281177,171.08153520578216,211.29988536951342,69.65585719307596,null,142.54305562198653,58.818357025772187,112.18261318973823,120.35263382138841,129.281360625421,153.86675154658533,58.124484560562692]
[null,"Marzo",90.549750491586195,127.36477176137495,66.910676150463431,102.74059553555405,131.30390847608342,137.1451139678172,118.96848106732858,null,2.4153669222714447,-0.53093360408157375,-3.0811587157074549,2.3736897824210956,1.8113885407144759,0.80439130262324188,-1.2225453674896358,null,127.57870105400715,74.771462566475961,75.214809769105969,123.91268534987043,171.14292333166512,211.32123298218755,69.637896428672946,null,140.89348712878194,58.706549332624327,112.41077522512082,120.60732634841469,130.34107310129176,154.08586341018076,58.534744500320492]
[null,"Abril",90.685885829644064,127.83688357463552,66.957026318042224,102.33306700562068,131.25923505417018,137.52884639213985,118.34081631078153,null,2.8435853579943382,0.15276837232096607,-3.7139839275738606,1.9243516267206662,1.8000980474951689,0.8134431784320606,-1.1919278071584549,null,127.6759331885934,74.728741269329319,75.351320096535176,123.58949678662401,171.24373561778711,211.41470445730505,69.561213232177792,null,140.78920001778025,58.456322760481051,112.53683778998864,120.77180954601488,130.4622379881427,153.72389866086155,58.780406795149318]
[null,"Mayo",91.20181545739085,128.62804924376337,65.984945666248436,102.67778321330327,131.7617117796556,137.86266960189761,118.466891741205,null,2.6199458948054088,0.64525824002643617,-4.7499523637085872,2.4600813343306438,2.0966262223478083,1.0838989531631427,-0.52321976497908818,null,128.22846331562064,74.953654084125802,74.432275526762623,124.05913988830706,172.44179351612797,211.85907252376589,69.589469698728379,null,140.59858641249144,58.271624676574959,112.80190469996101,120.82374200715461,130.8739778703706,153.67399538652901,58.741702998968663]
[null,"Junio",92.29849408073926,128.53673553561475,65.52453859650447,102.6202417884558,132.20192105660661,136.82165262783795,117.99363302190372,null,3.5484207557962444,6.6427709669381052E-2,-4.723875362780328,2.8280003371552898,1.671233801114691,0.41890824130859095,-0.93073298937758064,null,129.47662112076631,74.711216558905221,74.121745708701297,124.57319024193214,172.43415649884003,211.15438636101925,69.151927547967304,null,140.28031812469771,58.124407973784557,113.1205916078827,121.39241544444101,130.43241362960731,154.32819462820711,58.606490686773164]
[null,"Julio",92.485223030005301,129.22281460902195,64.641854597160346,103.17307573078271,133.01609325918233,137.10709151697355,118.16874326549757,null,{"$f":"(C264/C252-1)*100","v":3.5653911980798147},{"$f":"(D264/D252-1)*100","v":0.35038924394885651},{"$f":"(E264/E252-1)*100","v":-5.4662465066733006},{"$f":"(F264/F252-1)*100","v":3.7227588054587368},{"$f":"(G264/G252-1)*100","v":1.2185247045210623},{"$f":"(H264/H252-1)*100","v":0.54992295141413905},{"$f":"(I264/I252-1)*100","v":-0.65520229898894389},null,130.57477698667799,74.647024328351335,73.458624524933654,125.12601468436901,173.25283628520734,210.89438353274929,68.866816087535881,null,141.18447543162131,57.766134064022864,113.63941363179981,121.27777891479145,130.24952999305395,153.81726882204416,58.278368868498688]
[null,"Agosto",92.913970119061162,129.80737875612002,63.83147610399724,103.40804583140974,134.16574057685364,137.23448224623695,118.04439174950672,null,{"$f":"(C265/C253-1)*100","v":4.2452984266119209},{"$f":"(D265/D253-1)*100","v":0.61634906070504591},{"$f":"(E265/E253-1)*100","v":-6.3539215633130253},{"$f":"(F265/F253-1)*100","v":3.8569904253864751},{"$f":"(G265/G253-1)*100","v":1.7929833291696173},{"$f":"(H265/H253-1)*100","v":0.92712205664067238},{"$f":"(I265/I253-1)*100","v":-1.0718367263918394},null,131.2769223144083,74.750744332463142,72.736780052881599,125.62428510744664,174.1108712043368,210.92503291272953,68.788930719015866,null,141.28868042791447,57.585897696080615,113.95127371702233,121.48405290653777,129.77297367847908,153.69681836542449,58.273781328796858]
[null,"Septiembre",93.446950735568691,129.88069399446829,63.663073279869913,103.28208617368612,134.75937609318669,137.11774095635039,117.20511132337958,null,{"$f":"(C266/C254-1)*100","v":4.8167938811377597},{"$f":"(D266/D254-1)*100","v":0.65209335588565231},{"$f":"(E266/E254-1)*100","v":-6.828843493114034},{"$f":"(F266/F254-1)*100","v":4.1378535997718346},{"$f":"(G266/G254-1)*100","v":2.238442227191717},{"$f":"(H266/H254-1)*100","v":1.2188325527811017},{"$f":"(I266/I254-1)*100","v":-1.8515212290393435},null,131.50770701333084,74.642755921160798,72.503406299227976,125.98027717576447,174.7627960309201,211.26894433835602,68.667284190035602,null,140.72980014667843,57.470247213446434,113.88612356254777,121.9768905170133,129.6850735714826,154.07848967232525,58.587277819801145]
[null,"Octubre",93.978834739554998,129.8197889120068,62.944400051336721,104.21175088154246,135.04744540534946,137.61284064132727,117.11952814532569,null,{"$f":"(C267/C255-1)*100","v":4.8058601312786164},{"$f":"(D267/D255-1)*100","v":2.7463346101808783},{"$f":"(E267/E255-1)*100","v":-7.8244976050963366},{"$f":"(F267/F255-1)*100","v":3.727040164989881},{"$f":"(G267/G255-1)*100","v":1.7406797338336277},{"$f":"(H267/H255-1)*100","v":1.837149194776333},{"$f":"(I267/I255-1)*100","v":-2.2656883955429197},null,131.69822810064494,74.572335050417124,72.091562973991273,126.66786005244481,175.31212564655118,212.30306570398633,68.59177066395506,null,140.13605134137094,57.442964339560767,114.53213139722394,121.54853841427942,129.81521058791296,154.27562189296776,58.565613907566451]
[null,"Noviembre",94.118693902989932,129.81139188290769,62.69514714501323,104.57259716383794,135.08179634520468,137.79386827301698,117.16514566515023,null,4.9878382875022664,2.3779796994127356,-7.243391281896927,3.3611188049867069,1.5901190599816983,1.6585915129164741,-2.4959569947300753,null,131.70333867420055,74.397037011969786,72.053018773221794,127.07341641929084,175.63586512401724,212.63571874728058,68.484132176079513,null,139.93324090318328,57.311639550924255,114.92599037460411,121.51693643048762,130.02186073627249,154.31435477664087,58.45094271619169]
[null,"Diciembre",93.463056118988561,129.91246336898931,62.655861335914366,105.67723027434022,134.52609279352816,137.03737164458596,117.48194038899901,null,{"$f":"(C269/C257-1)*100","v":4.1029365447585953},{"$f":"(D269/D257-1)*100","v":2.2016042929121626},{"$f":"(E269/E257-1)*100","v":-6.481955151527707},{"$f":"(F269/F257-1)*100","v":3.4405634362912885},{"$f":"(G269/G257-1)*100","v":1.8268481714836859},{"$f":"(H269/H257-1)*100","v":0.80911643446688331},{"$f":"(I269/I257-1)*100","v":-2.477789051546786},null,130.971366773379,74.131093376674954,71.881180090174666,128.59017207369129,176.08442832746539,212.93586069336018,68.553774131562108,null,140.13169717737279,57.062341406090496,114.72379208834265,121.68200447709371,130.89239765383013,155.38524866459142,58.352606285332918]
[2017,"Enero",94.020795284658789,128.72548418631044,62.625882480117163,106.25511688397232,134.96305543660182,136.86002419244704,117.03726226499761,null,4.6350811565116778,1.2375487408379238,-6.0680154177780725,3.1993172852439855,1.3922364977232871,0.4975644105470467,-2.5140491459002989,null,131.28667851507885,73.6517233779946,71.442945657084593,128.52111957851412,179.36490594828123,212.63726990583541,68.325754506133791,null,139.63578814409442,57.216116795797014,114.07894440412352,120.95522864922886,132.89926296351297,155.36842928423968,58.379488022737192]
[null,"Febrero",95.269187950365179,129.62867547712435,61.633797668850164,105.98825197783397,135.20958501785071,137.87985865728081,116.87218579855254,null,5.9480779431823949,1.6576463897173044,-7.4570933341930328,2.8779851129247414,2.1739669315025578,0.40292221738740253,-2.4757452890488141,null,132.95475896873609,73.958635257913201,70.213668771155142,128.84115947174135,180.28174564088056,214.16753638705069,68.143895922055805,null,139.55693527901687,57.054224295429698,113.92072438632361,121.56173638818646,133.33503361990151,155.32909481680954,58.306341629917355]
[null,"Marzo",95.824424726169553,129.93824743575547,61.169535802396943,105.59937216352802,135.67992113057923,138.97323494362206,117.01315103682964,null,5.8251670556215052,2.0205553221593009,-8.5803053837869783,2.7825190355108109,3.3327360207962675,1.3329829426033113,-1.6435698034947155,null,133.01596973058847,74.177684915638025,69.808432176887266,128.69226244770852,181.06966246330768,215.46177831855417,68.247619594408178,null,138.81217665610669,57.086875019084147,114.1228738475269,121.86839733139657,133.45354342375026,155.0383269166625,58.32474297946851]
[null,"Abril",96.28420763848564,130.30210156363495,60.919308615783059,105.28656462197041,135.60866599326567,138.99879118654147,117.05232239739888,null,6.1733110479376796,1.9284090162915657,-9.0173026406225603,2.8861615338739988,3.3136189901613378,1.0688265283708587,-1.088799244040084,null,133.59436782121057,74.237703874181136,69.583401862256949,128.55020885953644,181.23222063396273,215.66923658354372,68.143861675864812,null,138.75003086987209,56.973527658666391,114.22224487332606,122.09554877309725,133.64353915476372,155.15907350165924,58.216582362640153]
[null,"Mayo",98.178464644172593,129.95029658592699,60.579198958295919,104.80824586782674,135.74109821737446,138.61892371152192,115.93575523302941,null,{"$f":"(C274/C262-1)*100","v":7.6496823575197492},{"$f":"(D274/D262-1)*100","v":1.0279619025068465},{"$f":"(E274/E262-1)*100","v":-8.1923939670948016},{"$f":"(F274/F262-1)*100","v":2.0749012959284885},{"$f":"(G274/G262-1)*100","v":3.0201386912561912},{"$f":"(H274/H262-1)*100","v":0.5485561187869914},{"$f":"(I274/I262-1)*100","v":-2.1365771237629394},null,136.3202537915937,73.982814669999655,69.293652337381502,128.09195904834635,181.23643636630987,214.31232153606294,67.345776908361572,null,138.84944553335404,56.931624331522798,114.38522385395819,122.21553560764924,133.51625907437381,154.6053856124764,58.088875837309558]
[null,"Junio",97.580041453823114,130.41545497754544,60.157300353857998,104.7741375167593,137.12663445365331,139.3488457243794,116.78857358099721,null,5.722246528165198,1.461620628610194,-8.191188152727868,2.0988994868513355,3.7251451096070198,1.8470710212918906,-1.0212919206266102,null,135.2940375056555,73.992820171579666,69.354405538941606,127.96454349226593,182.66026164452686,215.03912610037466,67.549070264904316,null,138.64929291885926,56.736235888851937,115.28842739116331,122.13371212127342,133.20553105696123,154.31712044870787,57.838766408133694]
[null,"Julio",98.569390031212421,131.5251931041185,58.893734564657386,105.13298734064287,137.6459700063013,139.65913814481868,117.23102106848944,null,6.5785287658691294,1.781712077749309,-8.8922572972642833,1.8996347603073227,3.4806891660076333,1.8613527568916322,-0.79354503661029918,null,136.49294798550574,74.063110928684779,68.835502788668052,127.98882275481364,183.15639598193854,214.86160707117216,67.330880628322717,null,138.47397041037252,56.310969161668254,116.88085888507536,121.7399276785651,133.06339152069168,153.84715237779341,57.434354844513599]
[null,"Agosto",99.419562440656762,131.80568582873474,58.838372917461975,104.376594659505,138.018917816552,138.76518654291218,116.4439426714832,null,{"$f":"(C277/C265-1)*100","v":7.001737535549557},{"$f":"(D277/D265-1)*100","v":1.5394402781748751},{"$f":"(E277/E265-1)*100","v":-7.8223213550635551},{"$f":"(F277/F265-1)*100","v":0.93662811274310975},{"$f":"(G277/G265-1)*100","v":2.8719531701098866},{"$f":"(H277/H265-1)*100","v":1.1153933556791618},{"$f":"(I277/I265-1)*100","v":-1.3558027232837166},null,137.29426893183384,74.136548504675631,68.539851328252738,127.65253604775985,183.80274147119522,214.85369143948728,67.179149816250444,null,138.09582899118507,56.246851597135915,116.48835263408782,122.29996242374557,133.172136384591,154.83256052341721,57.692266574809501]
[null,"Septiembre",99.214275197579937,131.17925564336755,59.443847383416035,104.11590339979222,137.99084698654437,138.07041682439689,115.92724420917709,null,6.1717631411337459,0.99981114125751169,-6.627430438216031,0.80732027885637159,2.3979562588083647,0.69478672956679866,-1.090282752837235,null,137.28010707833752,73.942256491654106,68.74685974863209,127.40141279154381,184.38573372340502,215.08836052886954,67.023984487181693,null,138.36729321960121,56.367339583537756,115.65008453307391,122.36498808672687,133.62171314260044,155.78164061199797,57.815559184901169]
[null,"Octubre",97.887218874539229,131.22768987664307,59.580029733660346,104.43609810855642,138.16279739752977,139.01174120883906,117.0121879304568,null,4.1587918660787704,1.0845041240904907,-5.3449875047382083,0.21528016285705665,2.3068574032107492,1.016547991446437,-9.1650142865751238E-2,null,135.86750058376518,73.757595418211281,69.117673940801453,127.71930871598025,184.94982791603039,215.76316431086778,67.211037921745799,null,138.80004166622078,56.205817146933747,116.00812260379372,122.29421725735293,133.86369659546077,155.21218742719302,57.439348080296526]
[null,"Noviembre",97.585483863887774,131.72687833755626,59.162498083975009,105.05894115095546,137.57547794477875,139.13017825476373,118.07611225127003,null,{"$f":"(C280/C268-1)*100","v":3.6834233637699443},{"$f":"(D280/D268-1)*100","v":1.475591954499933},{"$f":"(E280/E268-1)*100","v":-5.6346451390683283},{"$f":"(F280/F268-1)*100","v":0.46507785051521644},{"$f":"(G280/G268-1)*100","v":1.8460530338236136},{"$f":"(H280/H268-1)*100","v":0.96978914845402553},{"$f":"(I280/I268-1)*100","v":0.77750646828305126},null,134.94086241925885,73.73160345915386,68.987936335793592,128.42097647506526,185.65158728298422,216.74687739190009,67.420733640752985,null,138.27964680430784,55.973089463346412,116.60754459332057,122.23707479646278,134.94526063540388,155.78710536474051,57.099384757248231]
[null,"Diciembre",97.404819686650342,132.43163359320025,58.955244140321341,104.90864158033254,137.3151464026468,139.30595806476683,118.61078001063126,null,4.217456320541757,1.9391289787614507,-5.9062585952702085,-0.72729829501814169,2.0732435999604171,1.6554509131017081,0.96086225499383282,null,134.43616305078663,73.675188831556156,69.08631503944747,128.26565366989627,186.39389182193142,217.8803923272452,67.461773178097403,null,138.01797845657481,55.632621023062747,117.18434220204877,122.26414501009279,135.74168378728729,156.40421655615557,56.876595172926706]
[2018,"Enero",97.400984319214842,131.64819325529069,59.305404084318937,104.71020142307862,137.98307766878341,140.18223636278623,118.31323241311448,null,3.5951504391365185,2.2704976310285785,-5.302086396710548,-1.4539680593271709,2.2376658726433574,2.4274525669143676,1.0902255601534794,null,134.75557704081342,73.844482237973935,69.025826040958577,129.49406063701682,189.05058904593321,221.87220246487388,67.106429050886447,null,138.35135033048061,56.092286883706443,116.39044890887075,123.6690015653773,137.00998139767037,158.27412104532075,56.719293085130865]
[null,"Febrero",97.406924840093481,131.59899992176548,59.686057568830037,103.763824433002,138.06438411579256,141.5518565197755,117.86657897155804,null,2.2438911632605141,1.5199757595215413,-3.1601818704812934,-2.0987491569322003,2.1113881072595264,2.6631865583949699,0.85083817523485816,null,134.86611726482795,73.738911560317078,69.14938136154872,129.11376281372259,189.3549071566006,223.43496539826782,66.960441180022158,null,138.45639566820199,56.03303338486937,115.8551664797186,124.43042025411127,137.14971342485504,157.84672196584921,56.810371323477661]
[null,"Marzo",96.789931762898092,131.74654730957147,59.852365866597211,103.59519393348148,138.36701624077008,142.2648934019976,118.02368783365748,null,1.0075792674859141,1.3916609693462867,-2.1533103341747406,-1.8979073350388176,1.980466297297423,2.3685556860721269,0.86360959248912295,null,133.75193225508093,73.58018608603119,69.454582402965215,129.24539173028344,189.91312738889079,225.18027834813381,67.078959498931695,null,138.18785675221571,55.849802206304609,116.04316955117537,124.76002681482692,137.25317821295374,158.28239347274692,56.835166507822343]
[null,"Abril",96.518390138780319,131.69482435087613,60.031491614554206,103.52189236759371,138.45081420346733,142.32486274578034,117.9493038550001,null,{"$f":"(C285/C273-1)*100","v":0.24322005242434219},{"$f":"(D285/D273-1)*100","v":1.0688413851568157},{"$f":"(E285/E273-1)*100","v":-1.4573655240053718},{"$f":"(F285/F273-1)*100","v":-1.6760659450830495},{"$f":"(G285/G273-1)*100","v":2.0958455636919338},{"$f":"(H285/H273-1)*100","v":2.3928780465257038},{"$f":"(I285/I273-1)*100","v":0.76630812548590388},null,133.04007117816082,73.476902309326604,69.61199694759388,129.3428343964535,190.55451347949378,226.02911214865108,67.15607050706133,null,137.8390905472701,55.793310535546325,115.95913257420536,124.94249422834424,137.6333642931524,158.8121061830094,56.936385643800868]
[null,"Mayo",96.536607348004793,131.26589694458835,59.961212784650748,104.07760212896405,138.75943373321277,141.89925406368243,117.8627812998046,null,{"$f":"(C286/C274-1)*100","v":-1.6723191813177829},{"$f":"(D286/D274-1)*100","v":1.0123873459507271},{"$f":"(E286/E274-1)*100","v":-1.0201293253656374},{"$f":"(F286/F274-1)*100","v":-0.69712428904125101},{"$f":"(G286/G274-1)*100","v":2.2235973890566196},{"$f":"(H286/H274-1)*100","v":2.3664376149588051},{"$f":"(I286/I274-1)*100","v":1.6621499233794523},null,132.561624334984,73.132381776879313,69.778809497073155,129.83691635255269,191.77753576261142,225.6378344879511,67.043289328681198,null,137.31746741120975,55.713161970584721,116.37324573083949,124.75010347727834,138.20864686673082,159.0126995217945,56.882493853716952]
[null,"Junio",96.730315413297404,130.9585171055501,59.935992718799689,104.31608735745492,139.10250435614719,141.54827344267238,117.49672107064133,null,{"$f":"(C287/C275-1)*100","v":-0.87079901572681973},{"$f":"(D287/D275-1)*100","v":0.41640933438307215},{"$f":"(E287/E275-1)*100","v":-0.36788159335031656},{"$f":"(F287/F275-1)*100","v":-0.43717864938864759},{"$f":"(G287/G275-1)*100","v":1.4409089163212041},{"$f":"(H287/H275-1)*100","v":1.5783609163460666},{"$f":"(I287/I275-1)*100","v":0.60634997751127795},null,132.59267905211954,72.745121658003654,69.977992497736992,130.23054399145261,192.52286965683282,224.84046488684371,66.787085211740475,null,137.07458565145151,55.548217302561895,116.7545398406115,124.84224369458745,138.40359707968472,158.8436647218484,56.841658731554531]
[null,"Julio",96.418944035440376,130.99948764417749,59.733556798740395,104.23428580263378,140.27397396494422,142.36127488410929,117.85182941560805,null,{"$f":"(C288/C276-1)*100","v":-2.1816569982741063},{"$f":"(D288/D276-1)*100","v":-0.39969943973003907},{"$f":"(E288/E276-1)*100","v":1.4259958895304958},{"$f":"(F288/F276-1)*100","v":-0.85482355323662773},{"$f":"(G288/G276-1)*100","v":1.9092487477276876},{"$f":"(H288/H276-1)*100","v":1.9348084022175804},{"$f":"(I288/I276-1)*100","v":0.52955978840780737},null,132.36293492785745,72.683371131896706,69.879051307080402,130.37308590291909,193.48683473495566,225.58043165926986,66.78464438821959,null,137.27897173319514,55.483706416715329,116.9845812840563,125.07696953934983,137.93494920398408,158.45631604725796,56.668313694734017]
[null,"Agosto",96.606890165612484,130.73134442175228,59.714061884180929,103.83814057790154,141.25559783856909,142.78842581302644,117.6879727556026,null,{"$f":"(C289/C277-1)*100","v":-2.8290933957018316},{"$f":"(D289/D277-1)*100","v":-0.81509488777170569},{"$f":"(E289/E277-1)*100","v":1.4882956874884501},{"$f":"(F289/F277-1)*100","v":-0.51587626839139089},{"$f":"(G289/G277-1)*100","v":2.34509882646603},{"$f":"(H289/H277-1)*100","v":2.8993145689824029},{"$f":"(I289/I277-1)*100","v":1.0683510499374993},null,132.30105640468915,72.530924918384073,70.057252129019858,130.18885956131447,193.95625873642678,225.93765442461716,66.670029191585172,null,136.94784727868418,55.480898815200838,117.32119691489113,125.3767246184884,137.30872383414177,158.23247097105059,56.649823792985089]
[null,"Septiembre",97.921795182955137,129.66214308123287,60.417403661536582,103.17910460139426,139.908325549766,141.67688514284413,116.30397779459553,null,{"$f":"(C290/C278-1)*100","v":-1.3027157755785557},{"$f":"(D290/D278-1)*100","v":-1.1565186543360251},{"$f":"(E290/E278-1)*100","v":1.6377746747128441},{"$f":"(F290/F278-1)*100","v":-0.89976532672513265},{"$f":"(G290/G278-1)*100","v":1.3895693845611401},{"$f":"(H290/H278-1)*100","v":2.6120499969476407},{"$f":"(I290/I278-1)*100","v":0.32497415770418314},null,134.06556783045102,71.74111240923628,71.224251460423318,129.00650809112992,192.62389547297562,223.80388465625711,65.683061628625524,null,136.91085583139645,55.329266279588431,117.88697816183497,125.03162204160729,137.67865115679515,157.96781841343378,56.475335473588352]
[null,"Octubre",99.768630798336758,129.06380662812327,60.615427132411014,102.37325732319641,139.03194302200606,140.93431927353365,115.02069572589795,null,{"$f":"(C291/C279-1)*100","v":1.9220199995761522},{"$f":"(D291/D279-1)*100","v":-1.6489532434457166},{"$f":"(E291/E279-1)*100","v":1.737826253828989},{"$f":"(F291/F279-1)*100","v":-1.9752181695028348},{"$f":"(G291/G279-1)*100","v":0.62907355731625092},{"$f":"(H291/H279-1)*100","v":1.3830328632502109},{"$f":"(I291/I279-1)*100","v":-1.7019527963552328},null,136.67512057772007,71.282319467795389,71.457731051446643,128.33257835349815,191.76132662578436,222.36901227114174,64.777105054455191,null,136.99207805505793,55.230293705177935,117.8870370662426,125.35752178749881,137.92609270765371,157.78201747975584,56.317782330949719]
[null,"Noviembre",102.31818572499817,128.84929505311641,60.184430292140156,101.96234841534525,137.99130128457077,140.59065252684647,113.83551003063283,null,{"$f":"(C292/C280-1)*100","v":4.8498010910224876},{"$f":"(D292/D280-1)*100","v":-2.1845073084218347},{"$f":"(E292/E280-1)*100","v":1.72733106488272},{"$f":"(F292/F280-1)*100","v":-2.9474813868158312},{"$f":"(G292/G280-1)*100","v":0.30225105956667164},{"$f":"(H292/H280-1)*100","v":1.0497178185227662},{"$f":"(I292/I280-1)*100","v":-3.5914141647999442},null,140.85377924576935,70.950708593378636,70.665472644832633,128.61292832388594,191.23087690776686,220.86384736746484,63.709313362079875,null,137.66250666752805,55.06487913971911,117.41487341795316,126.13766779868499,138.58183459941685,157.09710666951332,55.966115797202356]
[null,"Diciembre",100.23937966514875,129.48202850397377,60.417300055787372,102.24901219424979,137.7586977919149,141.66236638520746,115.30039789662882,null,{"$f":"(C293/C281-1)*100","v":2.9100818497658887},{"$f":"(D293/D281-1)*100","v":-2.2272662574615576},{"$f":"(E293/E281-1)*100","v":2.4799420929987992},{"$f":"(F293/F281-1)*100","v":-2.5351861829667977},{"$f":"(G293/G281-1)*100","v":0.32301708943853757},{"$f":"(H293/H281-1)*100","v":1.6915344850828795},{"$f":"(I293/I281-1)*100","v":-2.7909622664193945},null,138.29729906019381,70.848021749121898,71.089082476480044,129.2521741776734,192.16066936784753,221.9773126182433,64.180848806982382,null,137.96703403610252,54.716490440947631,117.66345469069073,126.40921550628164,139.49077078102687,156.69462418455154,55.664030634588912]
[2019,"Enero",101.36527660409828,130.61547179654934,59.299400778852252,100.37156516832219,138.06931707952728,145.02870583649147,116.4111244810387,null,{"$f":"(C294/C282-1)*100","v":4.0700741502684989},{"$f":"(D294/D282-1)*100","v":-0.784455474249246},{"$f":"(E294/E282-1)*100","v":-1.0122695493564038E-2},{"$f":"(F294/F282-1)*100","v":-4.1434704506261859},{"$f":"(G294/G282-1)*100","v":6.2499990724140808E-2},{"$f":"(H294/H282-1)*100","v":3.4572636301526627},{"$f":"(I294/I282-1)*100","v":-1.6076882469360565},null,139.90293436325655,70.463946596999278,71.22226595614589,128.71226351613311,195.15579500439506,227.06430333668916,64.629756722990066,null,138.01859872555229,53.947626286383645,120.10621527485257,128.23578400942918,141.34624486625529,156.56507587724491,55.518540011626719]
[null,"Febrero",102.14323967690484,130.59497544749701,59.2767256904676,99.793867596253918,138.16115599702252,144.74551224338816,116.03372054571777,null,{"$f":"(C295/C283-1)*100","v":4.8624005373197665},{"$f":"(D295/D283-1)*100","v":-0.76294232848681531},{"$f":"(E295/E283-1)*100","v":-0.6858082021758527},{"$f":"(F295/F283-1)*100","v":-3.8259546218936791},{"$f":"(G295/G283-1)*100","v":7.0091850153608526E-2},{"$f":"(H295/H283-1)*100","v":2.256173675240003},{"$f":"(I295/I283-1)*100","v":-1.5550281019716006},null,140.72891228472838,70.334326371331287,71.090055437918494,128.76388580099933,195.39371319238171,226.97707884281652,64.37393868562549,null,137.7760414980728,53.856839537909892,119.92911991991252,129.02985814915235,141.42449213192208,156.81113377881923,55.47864739910834]
[null,"Marzo",101.88031449521979,131.12992335478091,59.279257972844178,100.17141777732769,136.44122186720418,144.76342980617832,116.39121819820926,null,{"$f":"(C296/C284-1)*100","v":5.25920686129977},{"$f":"(D296/D284-1)*100","v":-0.46803803771923169},{"$f":"(E296/E284-1)*100","v":-0.9575359059830868},{"$f":"(F296/F284-1)*100","v":-3.3049565584598484},{"$f":"(G296/G284-1)*100","v":-1.3918016199864214},{"$f":"(H296/H284-1)*100","v":1.7562564765156941},{"$f":"(I296/I284-1)*100","v":-1.3831711797965718},null,139.43619656129692,70.522539104183991,70.772748295020833,129.40257097381777,196.29997183244359,228.17241315602467,64.791413164796197,null,136.86274650029594,53.780660660786374,119.38872164601287,129.18113154938905,143.87145552207005,157.61744071795027,55.666925879630547]
[null,"Abril",101.29192194998133,132.16077883210548,58.898143342137885,100.01330046766986,136.79274827473043,145.32931831110184,117.2240297893723,null,{"$f":"(C297/C285-1)*100","v":4.9457225761197599},{"$f":"(D297/D285-1)*100","v":0.35381381426797809},{"$f":"(E297/E285-1)*100","v":-1.8879228916936497},{"$f":"(F297/F285-1)*100","v":-3.389226973812709},{"$f":"(G297/G285-1)*100","v":-1.197584816150099},{"$f":"(H297/H285-1)*100","v":2.1109843405842987},{"$f":"(I297/I285-1)*100","v":-0.61490321852124552},null,138.62899927632623,70.67975059316727,70.395347999646674,129.77191504434441,197.74437051703219,229.01991792733446,65.077326196428857,null,136.86086373677676,53.480125660395409,119.52048741285748,129.75465706813091,144.5576414035402,157.58686587731651,55.515346395580799]
[null,"Notas:"]
[null,"El ITCER REGIÓN CAPARD incluye dentro de los socios comerciales al resto de países Centroamericanos, República Dominicana y Panamá.\n"]
[null,"Valores sobre (bajo) 100 significan una depreciación (apreciación) real de la moneda. El índice se descompone en efecto precio y efecto tipo de cambio, los cuales divididos generan el índice."]
[]
[null,"Fuente: Cálculos de la Secretaría Ejecutiva del Consejo Monetario Centroamericano"]
[null,{"$f":"TODAY()","v":"2019-07-10"}]

{"sheet":"ITCER BILATERAL","index":7,"n_rows":303,"n_cols":33,"rows_kept":303,"cut":false,"hidden":false,"merged":[[302,1,302,2],[299,1,299,31],[3,2,3,8],[3,10,3,16],[3,18,3,24],[3,26,3,32]]}
[]
["Secretaría Ejecutiva"]
["Consejo Monetario Centroamericano"]
[null,null,"ITCER BILATERAL con USA\nPeriodo de referencia Diciembre 2000=100",null,null,null,null,null,null,null,"VARIACION INTERANUAL",null,null,null,null,null,null,null,"EFECTO TIPO DE CAMBIO",null,null,null,null,null,null,null,"EFECTO PRECIO"]
["Año","MES","COSTA RICA ","EL SALVADOR ","GUATEMALA ","HONDURAS","NICARAGUA ","REPÚBLICA\nDOMINICANA","PANAMÁ",null,"COSTA RICA","EL\nSALVADOR","GUATEMALA","HONDURAS","NICARAGUA","REPÚBLICA\nDOMINICANA","PANAMÁ",null,"COSTA\n RICA","EL\nSALVADOR","GUATEMALA","HONDURAS","NICARAGUA","REPÚBLICA\nDOMINICANA","PANAMÁ",null,"COSTA\n RICA","EL\nSALVADOR","GUATEMALA","HONDURAS","NICARAGUA","REPÚBLICA\nDOMINICANA","PANAMÁ"]
[1995,"Enero",91.664571603210078,112.49084356097356,97.824269357465923,129.3748615746282,87.988160933217259,100.66838066442254,92.370002908573923,null,null,null,null,null,null,null,null,null,52.216031114470596,100.11481056257175,74.144753538816914,60.872036536440611,54.867081974617918,77.858439201451901,100,null,56.964244965327481,88.998186335322814,75.793822970330439,47.050899839090746,62.357346025520258,77.341503546175588,108.26025425048226]
[null,"Febrero",91.861838088303273,111.71509258190446,98.219398373736595,122.02254278340142,88.422214539053797,100.67596945164132,92.738745435155053,null,null,null,null,null,null,null,null,null,52.892078474482894,100.11481056257175,73.903264568323891,60.012822122788343,55.371865909861469,77.858439201451901,100,null,57.577857764657125,89.616190837573797,75.243043423166867,49.181750153588681,62.622120695026418,77.335673672206767,107.82979598308474]
[null,"Marzo",92.800746979732736,110.84438751979755,97.710242087071862,121.39560881893615,89.028875529819913,100.19027661936332,92.785154151896094,null,null,null,null,null,null,null,null,null,53.696674605346551,100.11481056257175,73.629015968053537,60.343289204962304,55.8814133677783,77.858439201451901,100,null,57.86233015675365,90.320144125195839,75.354450460209705,49.707967027839906,62.767740281141727,77.710574148075111,107.77586232846332]
[null,"Abril",93.991306750434958,110.52219773304998,97.866117161606311,118.62374741159626,90.19811482016037,100.66133346951788,92.91789972551048,null,null,null,null,null,null,null,null,null,54.513836396727811,100.11481056257175,74.068098594832009,60.277195788527493,56.413119313371581,77.858439201451901,100,null,57.998806784836553,90.583441712210842,75.683086999889198,50.813767988107749,62.543568040030209,77.346918144124203,107.62189017983705]
[null,"Mayo",94.654325060657257,109.96540733866046,96.776685191466484,117.12259887416035,90.600147779255877,100.4324926721045,92.841593156909994,null,null,null,null,null,null,null,null,null,55.2693877924739,100.11481056257175,74.17751316859426,60.475476037831868,56.949903519650668,77.858439201451901,100,null,58.390768469434093,91.042094951049634,76.648123483294356,51.634335831984345,62.858510626723415,77.523157227259944,107.71034468461964]
[null,"Junio",94.841103094227933,109.23118770800372,96.061714490640341,117.92729794255864,89.986271523546421,99.998704930123097,92.851844736870277,null,null,null,null,null,null,null,null,null,56.094820596347127,100.11481056257175,74.412786873358769,61.334690451484121,57.491764335685545,77.858439201451901,100,null,59.14610729549927,91.654052897601161,77.463521516273872,52.010595953245463,63.889483764911702,77.859447535703268,107.69845260843944]
[null,"Julio",94.53096010758982,106.45671914342634,96.072865267208925,117.99491274105621,89.760995444742008,99.342601752207074,92.765711300194155,null,null,null,null,null,null,null,null,null,56.85603860212769,100.11481056257175,74.578268323380286,62.193904865136382,58.038774402396307,77.858439201451901,100,null,60.145415361715727,94.042735271307478,77.626776422202667,52.708971446610583,64.659236581356424,78.373666310508256,107.79845117167845]
[null,"Agosto",94.976819659960654,106.00164850705252,96.442351754255697,118.57611259046642,92.340933947082661,98.494168758568179,92.836792252022249,null,null,null,null,null,null,null,null,null,57.607652873846206,100.11481056257175,75.123269436948718,63.119212695223439,58.60012362163851,77.858439201451901,100,null,60.654434503171551,94.4464656659664,77.89448107649838,53.23096812359006,63.460613962622659,79.048780433185655,107.71591475126795]
[null,"Septiembre",94.763171493401643,104.8189130475714,97.372992717238859,117.80280449383781,92.436679622242039,97.182999615010942,93.105152706316076,null,null,null,null,null,null,null,null,null,58.42997599405598,100.11481056257175,76.125740005075798,63.912333692440896,59.157712022336398,77.858439201451901,100,null,61.658949434933653,95.512162501756976,78.1795217346735,54.253660570350938,63.998092817801641,80.115287148870678,107.40544115257779]
[null,"Octubre",93.625684541353266,104.68716061690999,97.435052492482512,117.70742676903714,90.161544222966612,96.798857024922413,93.582482203652191,null,null,null,null,null,null,null,null,null,59.256666914220524,100.11481056257175,76.989920910743621,64.837641522527932,59.720618068570339,77.858439201451901,100,null,63.291037288007878,95.632367878358835,79.016656676696186,55.083730315293437,66.237350505979762,80.433221625133456,106.85760587369562]
[null,"Noviembre",92.744576911519545,104.1664432112223,96.778771061769831,118.73786984046144,88.434118465075088,95.855350067488075,93.521595748087051,null,null,null,null,null,null,null,null,null,60.127859883147792,100.11481056257175,77.526117064529998,66.357790100528064,60.288815345460392,77.858439201451901,100,null,64.831671980682103,96.110424313485581,80.106531849891255,55.885952973291253,68.173705343452923,81.224928130391021,106.92717462751962]
[null,"Diciembre",92.942406091478588,103.98199873383452,95.22894123305511,119.30394908405027,90.066511493697377,95.585013251632233,93.114878730847437,null,null,null,null,null,null,null,null,null,60.990018831050605,100.11481056257175,76.713471070527731,67.745751845658646,60.862483804376666,77.858439201451901,100,null,65.621303983696265,96.28090610071682,80.556887514674543,56.784165457868795,67.575042926621691,81.454651260533637,107.39422245187507]
[1996,"Enero",93.426294077518222,102.99270670120748,97.386071396479352,121.73435290966532,91.049224558760471,96.219557105115555,93.660829159888237,null,{"$f":"(C18/C6-1)*100","v":1.9219229888883804},{"$f":"(D18/D6-1)*100","v":-8.4434755390715761},-0.44794401620862345,-5.905713499492748,3.4789494326021408,-4.4192859068003854,1.3974517816048415,null,61.722100084337882,100.11481056257175,78.865247859617867,69.067620174354431,61.451098132600023,77.858439201451901,100,null,66.065020232018895,97.20572822016922,80.98206111892604,56.736343130362734,67.492170779490067,80.917478259014473,106.76821985986284]
[null,"Febrero",93.872178116299736,103.08253836169234,98.163107798191646,121.25478366213557,91.264250736307076,96.409544008446261,93.964134953799771,null,{"$f":"(C19/C7-1)*100","v":2.1884387138694006},-7.7272945138394,-5.7311057160780443E-2,-0.62919449451949161,3.2141653679099269,-4.2377793493653897,1.3213350179527072,null,62.449512076214987,100.11481056257175,79.746002807228351,70.521675335919781,62.026147793713051,77.858439201451901,100,null,66.526113838378507,97.121017927684761,81.238262108789343,58.159911886380854,67.963246608934881,80.758020382951784,106.42358390163218]
[null,"Marzo",94.840327331830338,103.11232920017,97.871993634642365,122.61622003970683,91.849274842023235,96.77104300626992,94.188032828604207,null,2.1978059643668946,-6.9755974954045836,0.16554205998831062,1.0054821855963958,3.1679601650799638,-3.4127399668568037,1.5119645912442969,null,63.118812636642105,100.11481056257175,79.943596463513799,72.041823913919927,62.60663356882197,77.858439201451901,100,null,66.552714876025277,97.092958077031483,81.681790157401366,58.753910282498204,68.162360210793892,80.456339812734427,106.17060044344693]
[null,"Abril",95.364860689647415,103.12242554508634,96.364443249746842,122.26538269043263,92.314709775034174,97.024807782604015,94.376865434686096,null,1.461362743747685,-6.6952814364374946,-1.5344165635791551,3.0699040944986988,2.3466066437130451,-3.6126341282922469,1.5701664732904685,null,63.704864230261734,100.11481056257175,79.345895075955724,73.033225160441773,63.202323783033478,77.858439201451901,100,null,66.801192566705424,97.083452055537975,82.33939033956301,59.733363240972935,68.46397929111626,80.245909248182471,105.95817051076509]
[null,"Mayo",94.913617239719741,102.55300817707722,95.203946695019539,121.40468113595055,91.793591810072215,96.99052368105788,94.732472324723318,null,0.27393590192135164,-6.7406644880196538,-1.62512127103277,3.6560683445822306,1.3172649935672576,-3.4271468321353749,2.03667246922139,null,64.340541898833209,100.11481056257175,78.734079855805845,73.892439574094013,63.804193428241952,77.858439201451901,100,null,67.78852578796014,97.622500151048271,82.700436892628005,60.864572010488047,69.508330777879991,80.274274482196191,105.5604245788294]
[null,"Junio",94.71657539223493,100.96260250276912,95.314405917729644,121.46729622853087,92.385762751615374,96.720473017081289,94.88049373281973,null,-0.13130140617331199,-7.5698025250243939,-0.7779463201060266,3.0018480434415906,2.6665081100077481,-3.2782743689856453,2.1848235774942104,null,65.040590358352887,100.11481056257175,79.281670663427818,75.743055234268127,64.410758318375855,77.858439201451901,100,null,68.668646526767319,99.160291118511807,83.179105928498956,62.356747524670112,69.719355450415037,80.498406152027144,105.39574159636713]
[null,"Julio",94.762373019830903,101.15589402000479,93.702541071002116,124.58980983214589,93.193093314308598,96.657427505474857,94.799538536440892,null,0.2448011868045219,-4.9793241479477501,-2.467215055587435,5.5891368008063269,3.82359604253657,-2.7029433489470289,2.1924342601817415,null,65.707344516664605,100.11481056257175,78.849450725891245,79.312099721746719,65.023669383437039,77.858439201451901,100,null,69.339066153307556,98.970812855228019,84.148679240346212,63.658576755675497,69.773056211509498,80.550911824176012,105.48574554670438]
[null,"Agosto",94.943697922771591,98.398285514947176,92.642443378828446,124.15487815795059,95.01467315595626,96.686264005405107,94.806087305611968,null,-3.4873495772591578E-2,-7.1728724026395518,-3.9400826569532255,4.7047971514734055,2.8955080857269833,-1.8355449626613507,2.1212441811256477,null,66.337996502368895,100.11481056257175,78.58012254432262,81.096621965486008,65.652525130456468,77.858439201451901,100,null,69.87087921973405,101.74446641894366,84.820865769911805,65.31891712085158,69.097248824605202,80.526887663276909,105.47845907578193]
[null,"Septiembre",95.349330463135601,99.312865391127843,92.237652443897176,123.96213821163136,95.241777738852974,96.466869809782807,94.845918012579517,null,0.61855144830686992,-5.2529142846049819,-5.2738856330052268,5.2285119562800686,3.0346158344008334,-0.73688794137356517,1.8696766566232759,null,67.015585381841703,100.11481056257175,78.248771190171595,82.08802321200784,66.277224661196115,77.858439201451901,100,null,70.284274736204438,100.80749374039866,84.833871111112458,66.22023820843188,69.58839517141746,80.710029624653771,105.43416321484378]
[null,"Octubre",95.394509206913526,99.583121242053593,92.299138854180555,123.93507005121718,94.030928379957572,96.552559577678537,94.712381491735968,null,1.8892515170652713,-4.8755161041515009,-5.2711149703523974,5.2907819439462989,4.2916125609185451,-0.25444251596944412,1.2073833280302537,null,67.702357492896397,100.11481056257175,78.344978324260765,83.01333104209489,66.907760229492425,77.858439201451901,100,null,70.970916518945515,100.53391509915197,84.881591851073097,66.981308041209758,71.155056514100764,80.638399998928207,105.58281654941322]
[null,"Noviembre",95.56873396194645,100.35356132355476,90.772247571086936,122.24722503033979,93.773002923752557,96.105595410394073,94.805373065518367,null,3.0450913082726183,-3.6603744642946245,-6.2064473693814293,2.9555483811471328,6.0371319931073142,0.26106559803893425,1.3727068140382714,null,68.389051607523328,100.11481056257175,77.776540479507744,83.343798124268844,67.544463672275839,77.858439201451901,100,null,71.560068625325187,99.762090395363998,85.683171410510909,68.176433537517326,72.029754370985316,81.013429935039255,105.47925372425011]
[null,"Diciembre",95.492145972623149,100.06931599482077,89.810132209400194,122.53589189242361,92.992949123299553,97.371068088820863,94.033900771133503,null,2.7433547165058192,-3.7628462490215675,-5.6902964093587745,2.7089990173723599,3.2491961563393845,1.8685511215934536,0.98697657432658126,null,69.071398269089684,100.11481056257175,77.622194713916485,84.46738620366024,68.187090651906004,79.79431336963097,100,null,72.332020152622718,100.04546305458241,86.429217733399554,68.932771369400598,73.325011514041336,81.948688594894975,106.34462590612637]
[1997,"Enero",94.65834482992382,99.597868903188839,90.006376047529898,121.87789655413562,94.405000332569671,100.19743512941918,94.58691551776252,null,1.3187409011250484,-3.2961924263893883,-7.5777729228907358,0.11791547828476912,3.6856719978361596,4.1341678801929627,0.98876591866741137,null,69.659016573562681,100.11481056257175,78.377608469335442,85.458787450182086,68.846628933010507,84.150030248033872,100,null,73.589937261972665,100.5190288357328,87.080062447960771,70.118364253376399,72.926888078468082,83.984215902674748,105.72286817114886]
[null,"Febrero",95.275367163032399,98.555210332019485,88.782781037296829,117.52353541071497,95.594941133187362,100.9993525209043,94.88417169475106,null,1.4947869271705105,-4.3919446509820386,-9.5558575632908145,-3.0771967412167034,4.7452210059699018,4.7607408163406806,0.97913607293214078,null,70.332982010293506,100.11481056257175,78.864988890212501,84.136919121486315,69.480032402567261,84.452510586811869,100,null,73.820740979084107,101.58246349969542,88.829149040828142,71.59154872889853,72.681704260651628,83.616883157079982,105.39165617813148]
[null,"Marzo",95.397727615226316,98.615172212701793,87.587841336304336,117.48579101589158,96.783187257293662,101.54586774120057,95.208294219496509,null,0.58772496793029205,-4.3614153829635178,-10.507758058683192,-4.1841356895147008,5.3717489046664069,4.9341461935274111,1.083217644803014,null,71.013000648048589,100.11481056257175,77.631129158401222,84.533479620095036,70.119396908666545,84.815486993345417,100,null,74.438880697944725,101.52069738988581,88.632312400903814,71.952087898578924,72.449977000919958,83.524311604196313,105.03286590709895]
[null,"Abril",95.096846735092939,98.680959914001477,87.763388627118857,116.6750191148284,97.489698144902178,100.80112486738804,95.587524708983153,null,-0.28104057680815586,-4.3069832847783545,-8.9255479848897252,-4.5723192064581646,5.6058112325534815,3.8921149869684202,1.2827924181640693,null,71.645948441648315,100.11481056257175,77.648998047370682,84.335199370790676,70.786616967069861,84.815486993345417,100,null,75.339983292221291,101.45301651891087,88.475387359162625,72.282138893665191,72.609330333403392,84.141409240151816,104.61616231244679]
[null,"Mayo",95.428536493829441,98.835127126146986,87.262150669691167,117.76999390951603,97.617122305168593,100.55067789246957,95.267799403383677,null,0.54251357084957874,-3.6253261771810763,-8.3418768874881533,-2.9938608564560654,6.3441579965033856,3.6706206712717959,0.56509353711930999,null,72.308182198298809,100.11481056257175,77.375526355316367,86.251908447399558,71.460216219000444,84.815486993345417,100,null,75.77207495262634,101.29476581215044,88.670203245622346,73.237592687376591,73.204592116127969,84.350984768146859,104.96726136874351]
[null,"Junio",95.735199355933446,98.584731119056144,86.55199439525002,116.59290234868173,96.688030801326519,100.24088966508715,95.300330342535048,null,{"$f":"(C35/C23-1)*100","v":1.0754442498372097},-2.3552001679510548,-9.1931659628061606,-4.0129269615735597,4.6568517935799747,3.6397843581514877,0.44248990830251245,null,73.017627531789515,100.11481056257175,76.688351038208339,86.384095280269136,72.140041127968175,84.815486993345417,100,null,76.270408400485607,101.55204505418571,88.603794255741619,74.090355021723028,74.611139072840075,84.611666233929839,104.93143060530123]
[null,"Julio",95.926748678199246,97.9392456092597,86.729223692903048,115.21807226463339,96.100630949115256,98.496764772722202,95.246528319550691,null,1.2287320602710983,-3.1798922266546015,-7.4419725424683119,-7.5220739000553927,3.1199067778558742,1.9029445689966895,0.47151050523097648,null,73.701944450944154,100.11481056257175,77.088847223588999,86.450188696703918,72.826468106013436,84.815486993345417,100,null,76.831483883800175,102.22134134256223,88.884511980126376,75.031795791674696,75.781467183680249,86.109921670071245,104.99070335088905]
[null,"Agosto",95.818611034080234,98.777407768148962,87.700326271536213,114.0216955281894,97.769102211587096,98.077339861690319,95.424559213605917,null,0.9215073042766031,0.38529355589655978,-5.3346143808871709,-8.1617273361339056,2.8989512505186887,1.4387523094360644,0.65235463836861296,null,74.297803247567757,100.11481056257175,78.625312705556965,86.450188696703918,73.5308786645693,84.815486993345417,100,null,77.540054531934217,101.35395615722366,89.652246517440147,75.819069604460481,75.208708069587644,86.47816826287611,104.79482517299562]
[null,"Septiembre",97.21495210576191,99.35478600429704,87.863711445115328,114.03619403249682,99.781280902337386,97.704421490015577,95.5754401280373,null,1.9566174545374571,4.2210657203467505E-2,-4.7420341724788155,-8.0072385990863637,4.7662940269042942,1.2828774092836559,0.76916553790014053,null,74.894014723690887,100.11481056257175,79.044972626933856,86.516282113138701,74.230466031124607,84.815486993345417,100,null,77.039604609599905,100.76496018847227,89.963161499625315,75.86738828593684,74.393178119029088,86.808238255637917,104.62939000441469]
[null,"Octubre",98.071704993761415,99.921445063618606,88.239471265900832,114.62387325823906,100.46662972675664,97.631855198638604,96.247716287178889,null,2.8064464182534499,0.33974012598245729,-4.3983807852134067,-7.5129636745516759,6.8442388665927556,1.1178322207934244,1.6210497204918184,null,75.496947457197791,100.11481056257175,79.591657041637092,86.516282113138701,74.936802399527664,84.815486993345417,100,null,76.981375476239904,100.19351751651513,90.199607839665745,75.478414447070691,74.588749123302406,86.872759736852871,103.89856908565523]
[null,"Noviembre",97.17907233232954,99.976458602929497,88.77177054499343,113.67530244093008,98.503558309080105,97.41695675845375,96.275600835945696,null,1.6850054443792173,-0.37577412864245874,-2.203842120937749,-7.0119567845260296,5.0446879569101544,1.3645005188926307,1.5507852802934208,null,76.113156539169623,100.11481056257175,80.417639960015109,86.516282113138701,75.64973175689326,84.815486993345417,100,null,78.322579864603526,100.13838453729565,90.58920360189947,76.108248894341656,76.798983768203456,87.064398042782443,103.868476677077]
[null,"Diciembre",97.001544943678411,99.83804613684535,87.925432934899888,113.37309019256558,98.765486752486197,97.133886760359005,96.069038596051712,null,1.5806524774173436,-0.2311096620140729,-2.0985374680286273,-7.4776472087885963,6.2075003358941006,-0.24358501258865406,2.164259706583338,null,76.717048967852946,100.11481056257175,80.045630409223463,86.582375529573497,76.369669312116869,84.815486993345417,100,null,79.088481541605177,100.27721338351019,91.038085042457922,76.369423628228077,77.324247389682839,87.318123285435334,104.09180882976989]
[1998,"Enero",96.304171105415065,98.809923643523462,88.008109382078317,112.73699583580128,99.29018503988496,97.223893703592935,95.899308264419858,null,1.7387017261376814,-0.79112662584304161,-2.2201390092590256,-7.5000479798025932,5.1747096976916263,-2.9676821786760232,1.387499253436264,null,77.233351408157674,100.11481056257175,80.950469511531892,86.648468946008279,77.108229357761786,84.815486993345417,100,null,80.197306639623761,101.32060310435611,91.980693688230033,76.858947946608126,77.659467878710601,87.237286805158107,104.27603890976297]
[null,"Febrero",96.276773713495459,98.736602800747903,87.083910775092178,110.63099544487144,99.021414501298764,97.463180747615354,96.338892713353005,null,1.0510655380099321,0.18405162762813454,-1.9135132312322667,-5.8648167294796272,3.5843668372968374,-3.5011826165489923,1.5331545742759634,null,77.847286240252927,100.11481056257175,80.411683663691974,86.978936028182218,77.817639580942938,84.815486993345417,100,null,80.857805301945632,101.39584280067349,92.338163212912804,78.620765978305513,78.586677409988212,87.023105897783466,103.80023807990015]
[null,"Marzo",96.240491462806531,98.493795611752049,87.482877879028877,109.40699413581483,99.058508052778933,97.804399341627601,96.342557887722833,null,0.88342130221317205,-0.12308106169297561,-0.11983793146863597,-6.876403359265792,2.3509463368223571,-3.6845107366736518,1.191349637681105,null,78.491908548849338,100.11481056257175,81.156479673491361,87.309403110356186,78.533766141142564,84.815486993345417,100,null,81.558091979594295,101.64580412476893,92.768415535797033,79.802396364141671,79.280182676786652,86.719500926627717,103.79628919188499]
[null,"Abril",96.438349947441367,97.473283360350507,87.179382847204849,107.74302345204757,98.149844623553477,98.101308911916732,96.608257521284742,null,1.4106705515540385,-1.2238192197394859,-0.66543212272178742,-7.655448210375015,0.67714485859839968,-2.6783589558381782,1.067851495693839,null,79.138146255510193,100.11481056257175,81.318076582432553,87.309403110356186,79.281125643697465,84.815486993345417,100,null,82.060867174355707,102.71000125486258,93.276728885492204,81.034855263008623,80.775599745240967,86.457039089559544,103.51082046787563]
[null,"Mayo",96.658485298097105,97.143834677478367,86.832477842899522,107.15503179509975,97.308463678132981,97.850362440446617,96.611431840640805,null,1.2888689792986519,-1.711226056814763,-0.49239312060742613,-9.0132993660268603,-0.31619312242240349,-2.685526849367148,1.4103741722509167,null,79.772440335276116,100.11481056257175,81.259937950930478,87.705963608964908,80.035353015060352,84.815486993345417,100,null,82.530199070734426,103.05832675326967,93.582424421826261,81.849598791286766,82.249117897691946,86.678766310104933,103.50741945833965]
[null,"Junio",96.89216762526847,97.167282725610562,87.235238823392635,105.83003226656923,96.509044159755945,97.45921060884821,96.468214448732326,null,1.2085087586578558,-1.4377970882060831,0.78940344808520191,-9.23115375404684,-0.18511768218586466,-2.7749943815669975,1.2254775004447493,null,80.508458712590965,100.11481056257175,81.65810341166295,88.036430691138861,80.796863464126517,84.815486993345417,100,null,83.090780901876713,103.0334571002512,93.606786102780603,83.186623688622632,83.719473306957298,87.026650907066895,103.66108730367829]
[null,"Julio",96.288494036431743,96.863580891363867,87.558118809174218,104.29670534092485,98.4321402508604,105.26438631102486,96.499486956251388,null,0.37710582628629474,-1.0982979409371096,0.95572758636255362,-9.4788662134741344,2.4261123769100612,6.8709074393648484,1.3154900853677765,null,81.26763185550449,100.11481056257175,82.103271819467238,88.366897773312786,81.565690834960918,92.075015124016929,100,null,84.400148396501066,103.3565036944631,93.77002719576997,84.726451793907842,82.86489618846619,87.470243594032567,103.62749394236219]
[null,"Agosto",95.39194885257254,98.180108364678674,88.307336537135299,104.66229583460108,100.01890127807253,105.91198238062621,96.617746131442885,null,-0.44528111700131712,-0.60469232486063396,0.6921413994740222,-8.2084375699135297,2.3011350371373362,7.9882290139438705,1.2503981445343149,null,82.036846190705361,100.11481056257175,82.82359522046066,88.697364855486754,82.354521699163442,92.740471869328488,100,null,85.999759075572129,101.97056433336459,93.790163386517051,84.746244240290821,82.33895858363951,87.563720161556432,103.50065490448902]
[null,"Septiembre",96.756826277463134,99.329675986985691,89.751530824677729,105.17811119295227,100.81434596198261,105.55985909996976,96.215452811710776,null,-0.47125037699999872,-2.5273082778576317E-2,2.1485768680983064,-7.7677819000345316,1.0353295230358439,8.0400021720172798,0.66964136687843734,null,82.784848888703536,100.11481056257175,83.929135611918795,89.29220560339985,83.138166992229984,92.921960072595269,100,null,85.559698549130687,100.79043303804687,93.512762223373642,84.896186659589972,82.466603536347534,88.027741667023406,103.93340890438401]
[null,"Octubre",97.586949514909492,99.501167900550286,91.078363448419395,105.31696644327702,99.657559006112294,104.08043271276735,96.278002449088817,null,{"$f":"(C51/C39-1)*100","v":-0.4942867862680278},-0.42060757107819091,3.2172588318937656,-8.1195186922311198,-0.80531289130013617,6.6049933200682087,3.1466888855380404E-2,null,83.55126552595199,100.11481056257175,84.970192621443701,89.688766102008572,83.929186989614834,93.405928614640047,100,null,85.61725306639174,100.61671905462939,93.293499580243392,85.160795198477643,84.21758251621155,89.74398566579184,103.86588572283617]
[null,"Noviembre",97.265618981749739,97.352054316162537,88.684853023670001,104.77268646729362,94.991057127466036,102.55170018968272,96.278002449088817,null,8.9058937632402468E-2,-2.6250222536788881,-9.7911217484814017E-2,-7.8316184628253733,-3.5658622306746546,5.2708928733635307,2.4945189874392426E-3,null,84.372981630484787,100.11481056257175,84.929793394208403,90.349700266356464,84.727730275018459,93.708408953418015,100,null,86.744918208268402,102.83790235944774,95.76583880850616,86.234020824273202,89.195480961249345,91.376748293877242,103.86588572283617]
[null,"Diciembre",97.400240656861158,97.347306101880221,90.357061417521024,104.55904160357872,94.884692432041902,101.0741673985644,96.305514357516614,null,0.41101996201631241,-2.4947804282459018,2.7655575883504868,-7.7743744781200714,-3.9293020750961971,4.0565458354678396,0.24615189755279321,null,85.177287575881195,100.11481056257175,87.007634418069841,90.878447597834779,85.53396524330077,93.647912885662421,100,null,87.450797863999981,102.84291838317041,96.293120928342091,86.915914878397572,90.145167835751494,92.652668130702352,103.83621401861609]
[1999,"Enero",96.687745085403378,97.407182973940337,93.870840934684708,103.72085157653096,96.349252953100589,101.92522002141699,96.454120746251803,null,0.39829425411745945,-1.4196354150052715,6.6615810676649456,-7.9975026764081196,-2.961956497112983,4.8355667920038536,0.57853647943129083,null,85.864910865343234,100.11481056257175,90.267152838563661,91.473288345747889,86.361130702147165,93.708408953418015,100,null,88.806405392430605,102.77970012679229,96.161014367999002,88.191802280232764,89.633420140978899,91.938392611492588,103.67623407513773]
[null,"Febrero",96.998250858928259,97.758546368357301,93.120920941674541,103.40923438714971,97.708190756333735,104.04310817503773,96.571532944360428,null,0.74937819123417349,-0.99057128222684865,6.9324058977712655,-6.5277918079661656,-1.3262017631022638,6.7511929909832791,0.24148111365533964,null,86.661956845109387,100.11481056257175,88.999627084056286,91.869848844356611,87.155783747886616,95.281306715063522,100,null,89.343834633830966,102.41028972069199,95.574255692553152,88.841049243637912,89.20007941323685,91.578681554540125,103.5501839425236]
[null,"Marzo",98.55256942386589,98.262640663661557,95.138216568405284,103.86055451072561,100.83204537599653,104.67494405193183,96.691935533573712,null,2.4023962532993659,-0.23468985701563527,8.7506708455135538,-5.0695475813950512,1.7903937360662203,7.0247808447814641,0.36264103165917216,null,87.456546664075844,100.11481056257175,90.225329279598895,92.266409342965346,87.957835908123755,96.067755595886268,100,null,88.741011193663539,101.88491769242177,94.836052780878035,88.836815649233841,87.232025870480328,91.77722182323275,103.42124133535175]
[null,"Abril",100.01590920439975,99.537500368406299,96.936521240763938,104.77986328092851,102.15289605021287,105.1634731999207,97.308189655172427,null,3.7096852641175904,2.1177259418096783,11.192025080815228,-2.7502107108010154,4.078510202448915,7.1988481767811585,0.72450549450544521,null,88.222471584714455,100.11481056257175,91.477057900379648,92.729063258008864,88.794604826791073,96.067755595886268,100,null,88.208438323963662,100.57999265807229,94.368001584434353,88.498935152635312,86.923237871929175,91.350877517383779,102.76627317224423]
[null,"Mayo",100.12213775203361,100.20391953041701,98.890090335055589,104.40829088434739,101.75330363680122,105.21581416806721,97.308189655172427,null,3.5833920252883233,3.1500556500556609,13.886062901453933,-2.5633335782164979,4.5677835109702469,7.5272605475563026,0.72119603369600327,null,89.033125761101033,100.11481056257175,94.030496237174546,93.1256237566176,89.639630046397755,96.067755595886268,100,null,88.924515357037166,99.911072372954223,95.0858634253281,89.193705756348834,88.095056221818524,91.305433841372718,102.76627317224423]
[null,"Junio",99.659203714317442,100.27534071326122,99.493593869343528,103.76126815541818,101.92262814218942,105.59515778147805,97.134734771651637,null,2.8557892313344713,3.1986671855664284,14.052067961627168,-1.9547987153024415,5.6094058640474342,8.3480536337231293,0.69092221383815211,null,89.8536007050877,100.11481056257175,95.196376500080277,93.654371088095928,90.492316654317705,95.886267392619473,100,null,90.160865586144524,99.83991064049485,95.680910496703518,90.259470371754034,88.785305386821832,90.805553405251345,102.94978437433751]
[null,"Julio",100.55462616904225,100.00676613249173,98.940992132233987,103.6428685052494,102.31242243743833,106.17851815698307,97.25359962367574,null,4.4305731181093932,3.2449608121065232,13.000363047849174,-0.62690075735201134,3.942088607124461,0.8684151192951628,0.78146805875376479,null,90.616215864269947,100.11481056257175,95.567350173250517,93.984838170269853,91.302776930300382,95.886267392619473,100,null,90.116406690165732,100.10803712014531,96.590248504406929,90.681432814173448,89.239189880515156,90.306654356254356,102.82395755730533]
[null,"Agosto",100.90170070034638,100.26094570934092,102.01040803467862,103.40562956673105,101.68129479388567,106.13510350197015,97.400306513410001,null,5.775908673685981,2.1194082786435864,15.517477975095373,-1.2006867017860468,1.6620793615712115,0.21066655191297468,0.80995512035904049,null,91.249004273865125,100.11481056257175,99.203021655021672,94.315305252443792,91.983438860779074,95.886267392619473,100,null,90.433564192195888,99.854245194142877,97.247941230955021,91.209062453973104,90.462497598240901,90.343594370584057,102.66908142248205]
[null,"Septiembre",101.38416898982453,100.48453944734362,103.45320231751801,103.72781881812435,101.5621210400538,106.21810337762443,97.866615581098387,null,4.7824457357580785,1.1626570296164429,15.266225953967716,-1.3788918230023373,0.74173479075405613,0.62357441859721696,1.7161097527845781,null,91.848149093901966,100.11481056257175,100.66671673408503,94.844052583922107,92.648217193709598,95.886267392619473,100,null,90.594172649499498,99.632053958941995,97.30652553907349,91.435502707543691,91.223200387052998,90.272998993143915,102.17988984929572]
[null,"Octubre",100.7428141527644,100.09791829982214,103.17543920994208,103.26024248619881,100.65546840789894,103.06097501922854,97.954410894020157,null,3.2339002843538411,0.59974210540754136,13.28205218396754,-1.9528894788153228,1.0013383949384558,-0.97949025284341795,1.741216479660368,null,92.442756556532274,100.11481056257175,100.95909319273019,95.108426249661278,93.317770016205543,96.128251663641862,100,null,91.761141808440982,100.01687573831357,97.85186665142075,92.105561598282065,92.710084700060293,93.273182837351172,102.08830729245366]
[null,"Noviembre",100.52435429370175,100.6101184944316,102.36680290407365,102.69964502628983,100.27641572852785,101.91967456218418,97.83886647101987,null,3.3503465521187437,3.3466825134353284,15.427606196462818,-1.9786086535548808,5.5640591450303978,-0.61629951168973296,1.6212052413077771,null,93.051732317616398,100.11481056257175,100.44685170893911,95.438893331835203,93.880756958009528,96.370235934664223,100,null,92.566356651988414,99.50769570767649,98.124439622351318,92.930110233004243,93.621971104518849,94.555086001443144,102.20887016267739]
[null,"Diciembre",99.889996900857838,100.99526994762167,100.86059160002097,101.98792917702984,100.23973969321341,101.55685645378519,97.407097422162764,null,2.5562115937352026,3.747370103825598,11.624470758256876,-2.4590053496252429,5.64374202404343,0.47755926924177849,1.1438421485987949,null,93.673947124526038,100.11481056257175,99.232414682529395,95.769360414009157,94.339010551423812,96.309739866908643,100,null,93.777104846142592,99.128217207096384,98.385715479492362,93.90264238797657,94.113383414752519,94.833321185690394,102.66192366517153]
[2000,"Enero",99.003371970690182,100.62476885940528,103.46601759435319,102.13672470765111,100.15904885474066,101.92412728463768,97.698897185922263,null,2.3949538622929145,3.3032326643978038,10.221679665514882,-1.5272983636380855,3.9541519885935683,-1.0720965616606293E-3,1.2905373353049088,null,94.214564103398871,100.11481056257175,101.94744992826546,96.09982749618311,94.807024443009226,96.672716273442219,100,null,95.162985086296842,99.493207981877646,98.532302971163531,94.089396121965351,94.656474404530925,94.847725311858539,102.35530070487768]
[null,"Febrero",98.718122591965141,100.72435862987828,102.06197346451594,101.70019544930641,99.131864293208096,102.92850859350031,98.362068965517281,null,{"$f":"(C67/C55-1)*100","v":1.7730956154438537},3.0338137909147189,9.6015507926962442,-1.6526947017564186,1.4570667268056781,-1.0712863168815256,1.8541033434650744,null,94.743776297264503,100.11481056257175,100.75657911774303,96.562481411226614,95.260206436386312,97.096188747731404,100,null,95.974045909353507,99.394835494017514,98.720978732371094,94.948176829570841,96.094436552337655,94.333620562984436,101.66520595968444]
[null,"Marzo",99.431054102067847,101.46950213073055,100.96656725083456,101.85620246251857,99.452091398321002,103.82610964669851,98.563571594360894,null,0.89138688452015113,3.2635612531985547,6.1261929145357108,-1.9298491690606712,-1.3685668802311479,-0.81092415469760093,1.9356692473461834,null,95.289083586058737,100.11481056257175,99.924380933636499,96.826855076965785,95.716299780137874,97.096188747731404,100,null,95.834329070113938,98.664927352838049,98.967790680048665,95.062306208202202,96.243626890438406,93.518084302813804,101.45736237273417]
[null,"Abril",100.36956922656489,101.443536967649,99.923005005473442,100.96867603251319,99.399127761762003,103.81819008819055,98.707805587540179,null,0.35360376661914827,1.9148929721844565,3.0808654225293441,-3.6373279455395258,-2.6957319811053315,-1.2792303932114391,1.4383331324193005,null,95.796246879718993,100.11481056257175,99.782077245394234,97.157322159139724,96.182268945742535,97.096188747731404,100,null,95.443517012091078,98.690181311894733,99.858963648990041,96.225211597162897,96.763695126450628,93.525218138797243,101.30911066735631]
[null,"Mayo",101.06780338480274,100.95458229377857,100.71473948519635,100.53525479614919,99.217042691447219,103.86106085691839,98.736288133369698,null,0.94451202701164583,0.74913513052121683,1.8451284086793196,-3.7095100929181446,-2.4925588208977945,-1.287594761168509,1.4676035832728695,null,96.274483672126109,100.11481056257175,99.640550465368023,97.553882657748446,96.650403355218074,97.096188747731404,100,null,95.257322755470724,99.168168782311355,98.933434147455429,97.034500838093123,97.413106391196251,93.486613699713274,101.27988593709674]
[null,"Junio",100.81620124065208,100.36762622041701,101.11582477675304,100.3834192784267,99.571240867260187,103.39302027479521,98.993699297461617,null,1.1609540144945196,9.2032105300621225E-2,1.6304877975760412,-3.2554043884004846,-2.3070316354567355,-2.0854531144695265,1.9137999709168074,null,96.825216448564944,100.11481056257175,100.01398434788914,97.818256323487617,97.120837510186249,97.096188747731404,100,null,96.04132595458492,99.748110354537985,98.910318507220225,97.444634807841851,97.539045073927909,93.909809859187561,101.01653005158904]
[null,"Julio",100.29194568645067,100.60968138709877,101.35769091033205,100.29511064441542,100.59124241596832,103.16128383256439,99.049915601639768,null,-0.26123162364503072,0.6028744633221006,2.4425657414756552,-3.2300899320095722,-1.6822786329025341,-2.8416617379776854,1.8470431787768193,null,97.365891076971309,100,100.24563248097868,98.148062471497198,97.593538392047023,97.096188747731404,100,null,97.082463013902156,99.394013201619231,98.902837644222615,97.859269351094966,97.019915499676316,94.120764244581409,100.95919758496443]
[null,"Agosto",100.15745919870814,100.18196606578773,101.78046524577938,100.23735044966602,100.96041655607188,101.99610128789907,99.310344827586235,null,-0.73759064165673793,-7.8774085955812811E-2,-0.22541110591486335,-3.0639329119121372,-0.70895855454541357,-3.8997486010783011,1.9610187919822053,null,97.875479042190307,100,100.22323162741556,98.549910443420714,98.076410653649432,97.096188747731404,100,null,97.721607382241515,99.818364449277979,98.47000736869947,98.316555656473923,97.143429077651717,95.195980553867514,100.69444444444441]
[null,"Septiembre",100.82961416981991,100.51077527209569,102.86072285872166,101.03366504701269,101.56056050433399,100.75861477951948,99.392038274056688,null,-0.54698364205193473,2.6109314822320151E-2,-0.57270287001645048,-2.5973300140780697,-1.5365332112216024E-3,-5.1398852215384538,1.558675227400963,null,98.394531704360972,100,100.90147250003882,99.001989411834685,98.553793572995573,99.092558983666052,100,null,97.584953105783285,99.4918203837221,98.095239558666279,97.989110229513471,97.039434484796786,98.346487990630777,100.61168050932507]
[null,"Octubre",100.90966441415976,100.6981519507187,102.96304672415231,101.00692862227763,101.12675260767118,101.09579031344795,99.825021872265978,null,0.16562001250268743,0.59964648725130409,-0.20585566430940672,-2.182169835812986,0.4682151970744286,-1.9068174984895436,1.9096750837179766,null,98.923547562391221,100,101.13325011783107,99.355589189760821,99.033512558294362,99.516031457955222,100,null,98.031787278949807,99.306688417618261,98.222860856843681,98.365122615803813,97.93008279668814,98.437364354544655,100.17528483786151]
[null,"Noviembre",100.67463805880799,100.53582278659879,101.7040113645759,100.33909138323958,100.65309015396679,100.91924802182542,100.14524097600321,null,0.14949985619121531,-7.3845164824981602E-2,-0.64746726545600319,-2.2985022416055823,0.37563610815396498,-0.98158333477444959,2.357319323263507,null,99.453356949295156,100,100.49825713590197,99.734965400096499,99.515597326285857,99.758015728977597,100,null,98.786902905179119,99.467032972181329,98.814447716962022,99.39791563306504,98.869887823671448,98.849345079744637,99.854969667467259]
[null,"Diciembre",100,100,100,100,100,100,100,null,0.11012423921821224,-0.98546194107688168,-0.85324861412054975,-1.949180842351661,-0.23916631661967669,-1.5329900000337848,2.6619236651715283,null,100,100,100,100,100,100,100,null,100,100,100,100,100,100,100]
[2001,"Enero",99.737046528155545,99.298956759103987,100.17696193463006,99.831863814492237,100.40714669099542,98.712074437059499,100.63218390804597,null,0.74106017084203391,-1.3175802690823968,-3.1788752831080624,-2.2566426520491456,0.24770386609258566,-3.15141560016311,3.0023744449659828,null,100.48761331948386,100.45924225028702,100.90820570457805,100.10574946629566,100.49540282031673,100.54446460980036,100,null,100.75254563620592,101.16847702035565,100.72995203270905,100.27434692826364,100.08789825448672,101.85629790802263,99.371787549971444]
[null,"Febrero",99.510385451574237,99.882647213000439,99.017459857410941,99.330666666058875,100.0808488923871,99.210777842385497,101.03448275862068,null,0.80255057410663078,-0.83565825419726902,-2.9830048388820307,-2.329915663169646,0.95729522081027252,-3.6119543573660429,2.7169149868535802,null,101.01194188287543,100.45924225028702,100.07238194879658,100.45670550756438,100.96981819298448,100.78644888082273,100,null,101.50894444282092,100.57727248263355,101.06538997557072,101.13362658210193,100.88825115937343,101.58820550821656,98.976109215017061]
[null,"Marzo",98.579718102439557,99.909424345093242,98.258898184386879,98.995704328528319,100.76690462900245,99.858820855812837,101.08717732122564,null,-0.8562073562595196,-1.5374844193355219,-2.6817481669164089,-2.8083691172787084,1.3220568941234356,-3.8210897089235418,2.5603838071642349,null,101.54626222466841,100.45924225028702,99.605848565050522,100.77858044560182,101.4464375572047,100.78644888082273,100,null,103.00928444443933,100.55031635783895,101.37081771274907,101.80096311164858,100.67436122078387,100.92893949383732,98.924515106628306]
[null,"Abril",98.221437757154675,100.17259854573288,98.803893902193067,99.182075451572871,100.96253609791133,99.63771932037541,101.31149927219795,null,-2.1402218680058538,-1.2528530253449466,-1.1199734267590022,-1.7694602436551743,1.5728592104917283,-4.0267228356263507,2.6377789164289123,null,102.04123433755431,100.45924225028702,100.19837056450152,101.18902056166186,101.94160181813629,100.78644888082273,100,null,103.88896422982914,100.28614981413632,101.41135800142538,102.02349577880018,100.96973170253519,101.15290631728904,98.705478369563664]
[null,"Mayo",98.478360427831518,100.46486820395862,99.235331420139659,98.809734755227595,101.1586654622058,99.827074688817859,101.68085895969989,null,-2.5620849273949808,-0.48508356797007934,-1.4689091910664587,-1.7163332846973467,1.9569448131978584,-3.8840217255799558,2.9822579742442512,null,102.54458258855222,100.45924225028702,100.48284845628336,101.58558106027058,102.43917478594039,100.78644888082273,100,null,104.12905144140834,99.99440007858253,101.25712991360105,102.80928423896627,101.26584244452394,100.96103606661364,98.34692686814725]
[null,"Junio",98.894592717830662,100.48733088778611,99.043880823807797,98.764867605706883,101.17904580992402,100.56289751971305,102.56853120012927,null,{"$f":"(C83/C71-1)*100","v":-1.9060513083948294},0.11926621349620525,-2.0490798126996945,-1.6123695370751867,1.6147282374508354,-2.7372473959657362,3.6111711432520677,null,103.09038802544583,100.45924225028702,100.85692976231788,101.98214155887931,102.93921795776002,100.78644888082273,100,null,104.24269436003115,99.972047583261542,101.83055118946255,103.25750849585155,101.7396607506486,100.2223000396999,97.495790209652498]
[null,"Julio",98.598385082953172,100.24503852850424,97.935892550776629,98.362947977639507,101.79214800460826,100.51873453799095,102.19061891354583,null,-1.6886307189534322,-0.36243317101021244,-3.3759632138646301,-1.9264774268270779,1.1938470584486049,-2.5615707719016223,3.1708288622247727,null,103.69814975517598,100.45924225028702,100.87402174307127,102.37870205748804,103.44161948308714,100.78644888082273,100,null,105.17225983765582,100.21368012315328,103.00005352049182,104.08258817208429,101.6204309574096,100.26633278270192,97.856340496969565]
[null,"Agosto",98.413229088247419,99.899640834130949,97.330125914298364,97.883588754580956,102.07066912117632,99.781930265954102,102.10097801976204,null,-1.7414879774458325,-0.28181242866743839,-4.3724886899802806,-2.3481882596916859,1.0996909511440389,-2.1708388791206179,2.81001258934368,null,104.32646184804737,100.45924225028702,101.50823781678433,102.57698230679242,103.95477805557425,100.78644888082273,100,null,106.00857508140244,100.56016359166418,104.29272217952837,104.7948727789078,101.84588672791118,101.00671395330923,97.942254755527031]
[null,"Septiembre",98.890141585445107,100.34989273648195,98.754045959410476,98.018723320574523,102.98554076635968,99.327834460760798,101.66931534232884,null,-1.9235148327636065,-0.1600649633615947,-3.9924635810227316,-2.9840961673866406,1.4030842828647749,-1.4200079287408962,2.2912067282421011,null,104.99600013971531,100.45924225028702,102.85449027051945,103.03963622183593,104.46215919851969,100.78644888082273,100,null,106.17438549119123,100.10896824184179,104.15217854749397,105.12240185463372,101.43381140805967,101.46848507065577,98.358093258808594]
[null,"Octubre",99.231266307978899,101.35537066185032,99.604711708579472,98.087421435786823,102.9577518544319,98.746245196892644,101.3271864067966,null,-1.6632679495318436,0.65266213768575554,-3.2616896279012875,-2.8904028924674141,1.8105982833882095,-2.3240780939251082,1.5047976011993924,null,105.70445525768829,100.45924225028702,104.86901327477172,103.63447696974903,104.97208112273803,100.78644888082273,100,null,106.52333603162828,99.115855029968742,105.2851933165515,105.65521598260548,101.95646197787428,102.06610760729392,98.690197118995926]
[null,"Noviembre",98.941659897793699,99.896312599769246,98.432766713094395,98.175392879884029,102.80119282315522,99.270464477586884,101.59785172915724,null,-1.7213651764032001,-0.63610180839419606,-3.216436212879703,-2.1563863829416441,2.1341646499899003,-1.6337651900477534,1.4505040269483294,null,106.51296283673686,100.45924225028702,104.53597861948589,104.4275979669665,105.48443073952416,101.39140955837871,100,null,107.65229019481207,100.56351394347571,106.20038642638254,106.36840342949476,102.61012332900145,102.13653183950871,98.427278035940319]
[null,"Diciembre",98.230190800573141,100.59585641812484,95.942529023043434,97.954975830756979,102.85023170264827,99.876220771562956,101.55172413793103,null,-1.7698091994268639,0.59585641812482937,-4.0574709769565676,-2.045024169243026,2.8502317026482649,-0.12377922843704869,1.551724137931032,null,107.32691660113269,100.45924225028702,102.89437155894403,104.95634529844482,105.99941358966329,102.66182698124619,100,null,109.26062112515666,99.864195034763654,107.2458404074703,107.1475383545442,103.06191034758159,102.78905848475634,98.47198641765705]
[2002,"Enero",98.037217771644251,99.595324325580194,95.616244627145591,98.404573167038649,103.23196821903944,100.00863102225229,100.98505747126438,null,-1.7043102996151305,0.2984598994279386,-4.5526608308011358,-1.429694481218724,2.8133669974085285,1.3134731415451073,0.35065676756140807,null,108.07049384964253,100.45924225028702,103.65289294722722,105.55118604635794,106.4169090231909,103.145795523291,100,null,110.23415015853321,100.8674281956075,108.40510767957939,107.26248044101381,103.08522724026106,103.13689375504069,99.02455125943294]
[null,"Febrero",98.801823924889248,99.672226776007136,94.25024773600866,98.348474460920997,103.20525594151775,100.95105845016646,101.47244480457769,null,-0.71204781638576353,-0.21066766136522697,-4.8145166804594464,-0.98881064439033661,3.1218830412701681,1.7541245473810418,0.43347779292672861,null,108.97036431259399,100.45924225028702,102.66867972217761,106.21212021070581,106.8222453572546,103.75075620084692,100,null,110.29185493117521,100.78960358340198,108.93199984974964,107.99569672319569,103.50465621420138,102.77332183898054,98.548921525037244]
[null,"Marzo",99.44372032090925,99.654040829915459,93.856407942368691,98.824609624853323,103.99212994495977,100.37379431024949,101.68914675359629,null,0.87645028318286133,-0.25561504017446168,-4.4805003143397082,-0.17283043222481309,3.2006791593249373,0.51570151742552639,0.59549534206277954,null,109.91727970163312,100.45924225028702,102.31712875440894,106.74086754218411,107.34503710630267,103.75075620084692,100,null,110.53214757746916,100.80799675925418,109.01453720372022,108.01041152338631,103.22419317992382,103.36438600712796,98.338911469392826]
[null,"Abril",100.6302140732426,99.844507347395634,92.835663106486336,99.139432040427124,104.50585385848815,102.65182517425482,102.25787799942178,null,2.4523936638388921,-0.32752589340833138,-6.0404813616098396,-4.299507844698347E-2,3.5095371981747725,3.0250650802110979,0.9341276498940676,null,110.8029291388889,100.45924225028702,101.19838092327772,107.26961487366245,107.8801117745648,106.23109497882636,100,null,110.10900668286585,100.61569225911697,109.00808755704044,108.20075591104859,103.22877407484346,103.4868058103162,97.791976477905649]
[null,"Mayo",100.87127269968948,99.87062414241197,93.020209845258094,99.14486392949766,104.72247067352615,103.01981281542049,102.43556327830871,null,2.4298863846454744,-0.59149439218916244,-6.2630128664237112,0.33916615108851023,3.5229855940041244,3.1982687427785317,0.74222850429295217,null,111.76498116386276,100.45924225028702,101.75840226235673,107.79836220514073,108.60096559593944,106.23109497882636,100,null,110.79961437247417,100.58938062411195,109.393864442614,108.72813571240221,103.7035937917322,103.11715006622997,97.622345989652544]
[null,"Junio",101.21020000298226,99.276961057663016,92.898745327636192,98.57098116085146,105.31834203862485,102.95967159470229,102.40356601213279,null,2.3414902893210465,-1.2044999299212322,-6.2044575041474541,-0.1963111474309498,4.0910607483657824,2.3833582107351425,-0.16083411360801048,null,112.79169561860152,100.45924225028702,102.15423699844099,108.32710953661906,109.34561757329134,106.23109497882636,100,null,111.44301228065747,101.19089180412897,109.96298888447033,109.89756646517215,103.82390707706878,103.1773832739113,97.652849304243944]
[null,"Julio",100.75703326229215,99.219729214367561,91.712346779358654,98.375849963815952,105.42670938710832,102.66474577888971,102.33973784338328,null,2.189334214270211,-1.0228030525871179,-6.3547138942867782,1.3116713601735164E-2,3.570571457373628,2.1349365874554271,0.14592232772716596,null,113.80689373122361,100.45924225028702,101.57013150466403,108.85585686809736,109.50836625287752,106.23109497882636,100,null,112.95181095195595,101.24926065182203,110.74859064398517,110.65302806342827,103.87155863015897,103.47378174745354,97.713754312167652]
[null,"Agosto",100.74300948028217,99.926184004546229,91.044601521384394,98.557754656705498,106.13661588039734,102.09645223986065,102.32599805451331,null,2.3673447295847083,2.6569835680745335E-2,-6.4579433488543225,0.68874252640536149,3.9834624326739787,2.3195802764463869,0.22038969568705102,null,114.75729715926836,100.45924225028702,100.47779855287897,109.38460419957568,110.00505679859573,106.23109497882636,100,null,113.91092816393294,100.53345201865864,110.36107234680897,110.98528429404875,103.64477507230647,104.04974183554583,97.726874793565017]
[null,"Septiembre",101.39015154459706,100.44521017582554,91.576001927229939,99.102045491288933,106.52430885536471,100.84806902291533,102.58446835355006,null,2.5280679338413492,9.498509340104544E-2,-7.2686075415389411,1.1052196294899286,3.4361795478001556,1.5305222049868616,0.90012705223776468,null,115.76107388194663,100.45924225028702,100.62838926209257,109.97944494748879,110.74203195143883,106.23109497882636,100,null,114.17388387177667,100.013969879138,109.88510870135609,110.97595857106298,103.95939963506433,105.33775808309018,97.480643614935076]
[null,"Octubre",101.77971111416498,100.48039851184531,90.835586966643319,99.256547201223952,107.09981060744192,98.161068087222176,102.48875346809352,null,{"$f":"(C99/C87-1)*100","v":2.5681873274463696},-0.86327161973898114,-8.8039256291334915,1.1919222142081631,4.0230664310408892,-0.59260694774132538,1.1463528224632702,null,116.77692987748121,100.45924225028702,99.926711658284674,110.57428569540188,111.23488408490265,106.23109497882636,100,null,114.73497870955246,99.978944886891753,110.0083293290985,111.40251077970036,103.86095311841139,108.22120933365707,97.571681395394947]
[null,"Noviembre",101.63662150070851,100.67747042315256,89.057841723140541,99.051803970533712,107.76666830799438,97.694744723387402,102.3863671009925,null,2.7237885494327596,0.78196862632256003,-9.5241912860981497,0.89269934648690263,4.8301730247245933,-1.5872996691329577,0.7761142173924096,null,117.81733100971805,100.45924225028702,98.416920025068251,111.0369396104454,111.705473427291,106.23109497882636,100,null,115.92015679987624,99.783240309924054,110.50898845159851,112.0998660897454,103.65493819298524,108.73777835195615,97.669253076790355]
[null,"Diciembre",101.55116936327437,100.18027035711309,88.777917462912754,98.613758830786793,107.22698096682592,95.740597919025163,102.36499876809032,null,3.380812493221641,-0.41312443256547038,-7.4676075699546036,0.67253653471166519,4.2554588275808047,-4.1407482387592509,0.80084768334869327,null,118.87367732470895,100.45924225028702,98.883582893516959,111.5656869419237,112.11925426831438,106.23109497882636,100,null,117.05791087394333,100.27846989450065,111.38308457711443,113.13399698449925,104.56253944424867,110.95720863230221,97.689641189320724]
[2003,"Enero",102.13890800795261,99.443311111319701,89.830467972665005,98.681074690343138,107.33506807245911,93.102161138204082,102.61226090595885,null,4.1838093017514399,-0.15263087428035726,-6.051039420176096,0.28098442420469993,3.9746407282612584,-6.9058738365406551,1.611330899284269,null,119.80637895480039,100.45924225028702,100.7993090696265,112.09443427340202,112.79404714263634,106.23109497882636,100,null,117.29749347376239,101.02161837494535,112.21060219824221,113.59263630351555,105.08592314535265,114.10164241099972,97.454240962146898]
[null,"Febrero",102.99046821078956,99.96476355834136,90.241292269774178,98.626668367741331,107.10314591628924,93.364449725513779,103.40288922334103,null,4.2394402446300772,0.2934987927897259,-4.2535224707986092,0.28286550284100098,3.7768328165188159,-7.5151353944423853,1.902432155331546,null,120.85601709255374,100.45924225028702,101.18478502949661,112.62318160488032,113.32835412844757,109.92135511191772,100,null,117.34679839031214,100.49465299005793,112.12692381111644,114.19140833689249,105.81234860927793,117.73362927225546,96.709096574670085]
[null,"Marzo",103.8515683396667,100.26885374213734,91.302776540206324,99.251672223158721,108.10572393084743,115.39962275029261,103.92028072273997,null,4.4325051441489904,0.61694729797381331,-2.7207853551463379,0.43214195323064697,3.9556781730164303,14.969871910589694,2.1940728586797631,null,121.9229646238724,100.45924225028702,102.19515416448701,113.08583551992386,113.94096472424839,137.44706594071386,100,null,117.40117802082652,100.18987801400353,111.92995222821519,113.93846872993758,105.39771677319661,119.10529918986701,96.227607647443421]
[null,"Abril",103.49657177656663,100.08960077812354,90.71523944519231,98.919901013043415,108.65674484990866,120.17378173132829,103.69461236069279,null,2.8484066437916677,0.2454751265136057,-2.284061523707559,-0.2214366401596779,3.9719219911271697,17.06930834140492,1.4050109286241286,null,122.9429408654823,100.45924225028702,102.22260492145456,113.54848943496738,114.53438325877727,143.85964912280699,100,null,118.78938476425812,100.36931056702171,112.68515141076674,114.78831688276262,105.40936360369307,119.70967964079971,96.437025727198446]
[null,"Mayo",103.60501413182337,100.05452511848858,90.294461981551635,98.897704422776457,108.18139334762415,127.63542440422448,103.73241181133568,null,2.7101288196022644,0.18413920775579573,-2.9302749028848885,-0.2492912864321073,3.3029421974594575,23.894055828763271,1.2660139618733357,null,123.91991055505312,100.45924225028702,102.17042258627565,113.87895651714133,115.08481157605696,154.86993345432546,100,null,119.60802437359044,100.40449657955915,113.15247950328384,115.14823036773605,106.38133602721287,121.337735332668,96.401884670218564]
[null,"Junio",103.92749478228595,99.830338625936378,90.352666267990045,99.111204427421583,107.69158159974718,137.15187257596432,103.74172993079054,null,2.6848032898103336,0.55740784405351462,-2.7407033869689124,0.54805507686745969,2.2533962415131503,33.209314338004717,1.30675519493062,null,125.00224663623449,100.45924225028702,102.39999896412237,114.34161043218485,115.70586667881746,174.77313974591652,100,null,120.27832182243716,100.6299724442558,113.33367701667973,115.36698710579832,107.44188632019227,127.43037077318422,96.393225818302071]
[null,"Julio",104.12424360135908,100.31126336700208,90.208548714833043,99.307652007669205,108.70669853664143,157.94647446859625,103.75102945120456,null,3.341910961492256,1.1001180524049081,-1.6396898752830347,0.94718576174537272,3.1111557674531554,53.846847104426153,1.3790260142947375,null,126.10638780569938,100.45924225028702,102.38925173380018,114.87035776366315,116.57488321321161,208.40895341802783,100,null,121.11145631799181,100.14751970847335,113.50282561076637,115.67120502938897,107.23799433014524,131.94910118710172,96.384585800212491]
[null,"Agosto",104.9154227442034,100.3708100529671,90.331819779920195,99.2027314739139,109.04908731128532,150.57626532786747,104.04211463903964,null,4.1416404824970776,0.44495449601142933,-0.78289292231872309,0.65441508834589435,2.744077910087106,47.484326854091478,1.6771071058716558,null,127.10796367265513,100.45924225028702,102.42978044573815,115.33301167870667,116.41981135813421,203.9927404718693,100,null,121.15279178978275,100.08810549329357,113.39280078193133,116.25991539258611,106.75908824968781,135.4746978401223,96.114924563900672]
[null,"Septiembre",105.95945719016727,100.63262512347514,90.941201342454093,99.541641989936508,110.20510825147922,139.91181940959152,104.58883169941431,null,4.5066562934964915,0.18658425555737601,-0.69319534748883971,0.4435796420430238,3.4553609740967106,38.735248741153264,1.9538662899303061,null,128.12416217424197,100.45924225028702,103.20953732526038,115.86175901018501,117.52680945230061,191.77253478523895,100,null,120.91809978253789,99.827707095014787,113.49040457097973,116.39526603539294,106.64370401425845,137.06671501699606,95.612503146987535]
[null,"Octubre",105.49785288933334,100.2034431515491,91.719631868453121,99.393984590465521,110.62637032562063,150.02091217613966,104.78994056285377,null,3.6531266737412693,-0.2756312319596943,0.97323629574215254,0.13846682472535843,3.2927786689602723,52.831377143163124,2.245306940411429,null,129.19402900042832,100.45924225028702,104.65212639778736,116.32441292522853,118.56625149078972,211.1917725347852,100,null,122.46128756378778,100.25527974957012,114.10002882249069,117.03365490831432,107.17720480369974,140.77488896136347,95.429007271952088]
[null,"Noviembre",104.62986706435065,99.868939232326483,90.879580161153953,98.870089224514004,109.62122215136394,160.65277687167932,104.40211317143539,null,2.9450463026471807,-0.80309049028325363,2.0455676925977606,-0.18345425195260834,1.7208974467590288,64.443622148306034,1.968764130926326,null,130.3029957749674,100.45924225028702,104.44754056755734,116.78706684027205,118.77429343497774,240.41137326073806,100,null,124.53709388240641,100.59107768891718,114.92960286826121,118.12173707568141,108.34972563157098,149.64657190629549,95.783501849041301]
[null,"Diciembre",104.08671915657723,99.557656703516713,89.703984825946733,98.811652633080897,109.07324960531476,145.7830901475574,104.49814564581574,null,2.4968198881418546,-0.62149328543129601,1.0431280542493537,0.20067565078183414,1.7218321562742167,52.268831944058711,2.0838635308911613,null,131.39535948384002,100.45924225028702,103.81384243265499,117.18362733888077,119.20880170217481,226.49727767695097,100,null,126.23643107261601,100.90559136948676,115.72935431361908,118.59292321930982,109.29242700069533,155.36594638493187,95.695478022106073]
[2004,"Enero",103.50572443967724,98.948873816213563,89.682787474147773,98.646934285742702,108.62365036262561,165.09889144959365,104.58883169941431,null,1.3381936995235932,-0.49720518110328848,-0.16439911964186704,-3.4596709356449207E-2,1.2005231033129116,77.330890530580845,1.9262520638415159,null,132.24056946887487,100.45924225028702,104.86564667250211,117.51409442105472,120.00258535638291,278.82637628554147,100,null,127.76159983880331,101.52641296037264,116.92951303808547,119.12594676349599,110.47555937935269,168.88446302540436,95.612503146987535]
[null,"Febrero",103.50610999109423,99.047043967185317,89.444187270599201,98.496932796425256,108.21050929699761,159.36579698756162,105.15356621183012,null,{"$f":"(C115/C103-1)*100","v":0.50066942044511009},-0.91804307686922382,-0.88330406084173863,-0.13154208031477266,1.0339223663643704,70.692161155651959,1.6930638995084291,null,133.23095454402099,100.45924225028702,104.79818514240726,118.04284175253301,120.39256804142906,297.82214156079851,100,null,128.71796124449494,101.42578539100022,117.16600970989539,119.84418032235125,111.2577408826311,186.87958595283988,95.099009574769568]
[null,"Marzo",104.48405295071943,99.052644718944464,89.328694429886866,99.224392189961151,108.8745286560973,148.09208450803442,106.04312199635224,null,0.60902750065754407,-1.2129479671929011,-2.1621271390910524,-2.7485716448416575E-2,0.71116005452371844,28.32978217657034,2.0427593717496029,null,134.24545068879326,100.45924225028702,104.73059412760976,118.57158908401135,120.92917807459291,281.42770719903206,100,null,128.48415322490501,101.42005045431517,117.24182783149448,119.49842822620749,111.0720565841187,190.03561745649128,94.301259824696487]
[null,"Abril",104.61404129802709,98.535875719866027,88.543557506797413,98.962238601763488,108.75319846983487,140.65767524828127,106.38264106357643,null,1.0797164604378517,-1.5523341547757585,-2.3939549205588162,4.2799869678900038E-2,8.8769105000752191E-2,17.045226689086547,2.5922549317543675,null,135.20763157743028,100.45924225028702,104.03694457536785,119.1287565845566,121.41205033619534,268.30006049606772,100,null,129.2442485729496,101.9519454375065,117.4980399532524,120.37799292712619,111.63998120926226,190.74683270747869,94.000298357170848]
[null,"Mayo",105.29923853502186,98.420086045820199,87.661273980635755,99.193507812810651,108.9406567935884,145.84569618266457,106.68471815781828,null,1.6352725950530056,-1.6335483784794547,-2.9162231471669631,0.29910036007476659,0.70184291629935558,14.267411937901908,2.8460789592477109,null,136.20882424454527,100.45924225028702,103.24682891963144,119.62445720781754,121.98973686985137,283.84754990925592,100,null,129.35404485308132,102.07189028824612,117.77929321725178,120.59706309969643,111.97815440105825,194.62182110176965,93.73413711612416]
[null,"Junio",105.29549845645023,98.575321519056445,87.07457015428561,99.272829858003433,109.37336427980685,147.12169164729283,106.59768105595518,null,1.3163058313202525,-1.2571500048522033,-3.6281122064305893,0.16307483247286481,1.5616658749708856,7.2691818814260234,2.7529434173402922,null,137.22078720098969,100.45924225028702,102.63993411818329,120.08578925453234,122.47145211840729,291.10707803992739,100,null,130.31970902131548,101.91114845196461,117.87590100797252,120.96541362455275,111.97557369186519,197.86822376799662,93.810671122862487]
[null,"Julio",104.56034572815096,98.107330461589314,86.041277713185849,98.222779034418863,108.76076711737393,136.03902296879534,106.32341347389514,null,0.41882861445938779,-2.1970941561660795,-4.6195965471307554,-1.0924364349753857,4.9738039569180437E-2,-13.870174420484883,2.4793816854611572,null,138.24829518460231,100.45924225028702,102.06333873716159,120.56100091869848,122.7290783947623,271.26436781609192,100,null,132.21866685869369,102.39728446144861,118.62136575584623,122.74240466811874,112.84315258857438,199.40187888464521,94.052661340253437]
[null,"Agosto",104.40276813270488,97.944103999204472,85.990259487776669,98.41959963891685,108.90851887044592,124.53606002038572,106.06357157713391,null,-0.48863608236935363,-2.4177408277187618,-4.8062358344170164,-0.78942567746028702,-0.1289038214855931,-17.293698479492335,1.9429218111410407,null,139.30043308364304,100.45924225028702,102.25743630647474,121.1492323249681,123.10694362161354,249.54627949183302,100,null,133.42599585729397,102.56793226788103,118.91746450772185,123.0946201462331,113.03701941632096,200.38074068746349,94.283078075751746]
[null,"Septiembre",104.64398749857052,97.948202937701453,85.400394972055707,98.929127973736385,108.59374494467693,113.07152877871756,106.49834026952037,null,-1.2414839849885673,-2.6675466157023431,-6.0927349634777421,-0.61533445094470451,-1.4621493797957963,-19.183719248406781,1.8257289416846456,null,140.41008826143593,100.45924225028702,102.1280810885002,121.68458899808989,123.22487388475176,223.53297035692682,100,null,134.17883971915154,102.56364000285201,119.58736387802192,123.00178065897298,113.47327044253667,197.69164949948072,93.898176954612893]
[null,"Octubre",105.26610095278296,98.047225064452732,84.271814445777935,98.988319360757245,107.919777187408,97.949874884972218,106.9530487994101,null,-0.21967455280202941,-2.1518403153425236,-8.1201998644707345,-0.40813861259284545,-2.4466075586191294,-34.709185896717386,2.0642327163635343,null,141.55954874658039,100.45924225028702,101.23178797656844,122.18491616050125,123.47765009479608,195.22081064730793,100,null,134.47781143720411,102.46005655361354,120.12532142843901,123.43367070937464,114.41614624571643,199.30685044423609,93.49897092466199]
[null,"Noviembre",104.69714991368809,98.074864486138566,82.853838893254846,98.467187416678584,107.2133396152213,91.278690723938411,107.00907449286186,null,6.4305586182245023E-2,-1.7964291600357729,-8.8311821573859746,-0.40750626503482934,-2.1965477932893829,-43.18262497457679,2.4970388455123116,null,142.68963220614935,100.45924225028702,100.46653338374603,122.53719407009866,123.65343787302383,178.82637628554141,100,null,136.2879814052074,102.43118129873679,121.25754790092778,124.44469806125798,115.33400444086948,195.91251240268181,93.450018583863738]
[null,"Diciembre",103.98945025498281,97.562083946958467,82.13889576012096,97.980015319032148,107.12358940890853,90.129461265299128,106.19589999057044,null,-9.3449867939532361E-2,-2.004439259253632,-8.4333924301182037,-0.84163890784914042,-1.7874778678192316,-38.175640827703191,1.6246741358540762,null,143.82497194671964,100.45924225028702,100.55587782859334,122.86766115227262,123.86922888856382,174.59165154264971,100,null,138.30727212622037,102.96955352542865,122.42175512348921,125.40073682597819,115.63207466446481,193.71207715170215,94.165593971970097]
[2005,"Enero",102.98370192420057,96.382613809850568,81.0611523881267,97.778630970872555,107.7182257173253,92.643224201915956,106.00055692155274,null,-0.504341685740195,-2.5935211866377927,-9.6134780472856836,-0.88021317758847362,-0.83354282633447685,-43.886222742930492,1.3497858224439163,null,144.92187301299856,100.45924225028702,100.37123264257562,123.33031506731614,125.03397613943881,180.49364791288562,100,null,140.72311473097548,104.22963051041454,123.8216206969164,126.1321761643965,116.07504236799591,194.82660439310663,94.339126985914291]
[null,"Febrero",103.18977890827973,96.846368448459501,80.457476513271473,97.557785069969626,108.14159394264647,90.055126706936022,106.09040661530356,null,-0.3056158547951604,-2.2218487605292991,-10.047283151156439,-0.95347915898729152,-6.3686378336880178E-2,-43.491559412861506,0.89092594499950994,null,145.95787509826462,100.45924225028702,99.786350240582564,123.79296898235967,126.33980398838267,174.51603145795522,100,null,141.44605855585689,103.73052067899711,124.02371359996953,126.89194295829272,116.82813187993855,193.78800279286492,94.259229642329387]
[null,"Marzo",103.82950948882871,97.534193492144695,79.640012324563358,97.768889425580397,108.37560466742787,89.096081304581475,106.19275454930282,null,-0.62645297861813054,-1.5329739363429185,-10.846102886825527,-1.4668800002264115,-0.45825593444852597,-39.837377804113657,0.14110538254024085,null,146.93855543155249,100.45924225028702,98.456801313492818,124.05734264809882,126.8572219602746,171.19237749546278,100,null,141.51906924626473,102.99899825221594,123.62730547082776,126.8883623174718,117.05330027874932,192.14355445132216,94.168383167396158]
[null,"Abril",104.18039817457377,97.702613549235778,79.570193660191762,97.754362091479962,107.58557105551874,89.254117442668075,106.5961564459684,null,-0.41451713180447047,-0.84564344158181148,-10.134406273338147,-1.220542832649707,-1.0736488036625413,-36.545149573159399,0.20070509648690837,null,147.8535077876042,100.45924225028702,98.340912504596702,124.32171631383797,127.2003760158172,170.88384754990923,100,null,141.92065914342922,102.82144827135262,123.5901384437572,127.17766619713184,118.23181748989033,191.45766318251435,93.81201286623137]
[null,"Mayo",103.35907673105534,96.903404671267637,78.963940013862327,97.488041506261908,107.15121581772196,90.861418262439329,106.79705889490157,null,-1.8425221596652164,-1.5410282956331289,-9.9215235780108042,-1.7193325895553113,-1.6425832453506484,-37.700308860235495,0.10530162053490333,null,148.85279123781351,100.45924225028702,98.17853868743947,124.58608997957714,127.87593657258999,173.61766485178464,100,null,144.01520983506336,103.6694660946972,124.33338390941988,127.79627947657011,119.34156378600822,191.07963332722426,93.635537377868701]
[null,"Junio",103.66095911336139,96.919125648960801,78.721460137330993,96.911798081800413,106.58987221538284,91.488333430826032,106.74825585198694,null,{"$f":"(C131/C119-1)*100","v":-1.5523354436323689},-1.6801323541972613,-9.593053404861962,-2.3783262546057782,-2.5449450903814896,-37.814517759788494,0.14125522669927726,null,149.89231406245074,100.45924225028702,98.468713906139129,124.65218339601192,128.06171572570253,174.82516636418632,100,null,144.59861778679064,103.6526501633418,125.08496886917328,128.6243634555172,120.14435617948034,191.09012024617428,93.678345563468682]
[null,"Julio",103.51851785611234,97.207919511318522,78.100810211169275,96.55790083906048,107.00841995159186,91.455606683686597,106.82734318160733,null,-0.99638908496658685,-0.9167622297325928,-9.2286722292592049,-1.6950021285540906,-1.6111941945857633,-32.772520202041797,0.47395930138747211,null,150.90772581746194,100.45924225028702,98.151476384579922,124.71827681244672,129.03897548567053,174.99697519661223,100,null,145.77848383341345,103.34470972664931,125.67280175352546,129.16423796362665,120.58768416919415,191.34636086540482,93.608992811886381]
[null,"Agosto",103.39934501286248,97.442874992646267,78.202549917637043,96.268405768997482,107.35400312873671,90.942660463429291,107.37405425213757,null,-0.96110777308793249,-0.51175005548295127,-9.0565019997952625,-2.18573726962078,-1.4273591798254159,-26.974837289261767,1.2355634036429031,null,151.84032571308231,100.45924225028702,98.140340700149693,124.71827681244672,129.64237389206082,175.44464609800363,100,null,146.84844057203065,103.09552366744965,125.49506480736387,129.55265625953817,120.76156464943031,192.91787287062604,93.132368612233179]
[null,"Septiembre",105.15748284128185,98.231973531410631,78.839655716726128,97.134450091233163,108.35027285810324,93.517245619160406,107.74831283733276,null,0.4907069722647428,0.28971495667935443,-7.6823289370925636,-1.8141046214211753,-0.22420452181451944,-17.293728466186341,1.1737014536085999,null,152.81964207778415,100.45924225028702,98.569323520119326,124.78437022888149,130.13829675532816,184.04597701149422,100,null,145.32455318319154,102.26735617620896,125.02505575910001,128.46561658781025,120.10887773744582,196.80431752770286,92.808877806717618]
[null,"Octubre",104.75481774651976,96.586666620623888,78.179145741669331,97.321219962893736,107.93429947192296,98.717744329197487,107.34757863499463,null,-0.48570546608592835,-1.4896479149396846,-7.2297822755777226,-1.6841374907961226,1.3456555316770924E-2,0.78394122006486544,0.36888133626229447,null,153.81550046746989,100.45924225028702,99.260901317118382,124.8504636453163,130.57817879968135,196.04658197217179,100,null,146.83381993911212,104.00943087193801,126.965957961616,128.28698992153903,120.97931745380789,198.59305265161697,93.155338268059111]
[null,"Noviembre",102.92230857249795,97.05185743260823,76.861644977643948,96.411758033977634,107.82526053824631,101.32974221868783,107.09792060692632,null,-1.695214571412218,-1.0430879093133227,-7.2322465629274806,-2.0874257065991886,0.57075073421006817,11.011388764490103,8.3026710104294743E-2,null,154.82302101868081,100.45924225028702,98.418862295608392,124.91655706175106,131.12400102225578,201.15910465819721,100,null,150.42707763363495,103.51089088639529,128.04678110159443,129.56568743174222,121.6078684787831,198.51930958637953,93.372494473560039]
[null,"Diciembre",102.14961966843904,96.770847558715118,76.594341025560098,95.608304725422414,107.16704523006855,99.569741143597994,106.25682119912277,null,-1.769247343872371,-0.81100808452750917,-6.7502182531808286,-2.4206064735622035,4.0566061499447414E-2,10.474133258725571,5.7366817888193644E-2,null,155.84245806759444,100.45924225028702,98.438673455118021,124.91655706175106,131.31822468232798,200.37931034482756,100,null,152.56293520566553,103.8114729638324,128.51951219512196,130.65450477393054,122.53601319361857,201.24518557886327,94.111605138838442]
[2006,"Enero",102.37993931645707,96.991859031211717,76.577806016513378,95.98306320482402,107.38657563086096,103.10057299544465,106.9645426201087,null,-0.58627005677839295,0.63211112178707118,-5.5308199298064959,-1.8363601005862096,-0.30788669629098209,11.287764306148173,0.90941569228675245,null,156.83284314274059,100.45924225028702,98.556763503959644,124.91655706175106,132.18109975711511,209.10405323653961,100,null,153.18708351444636,103.57492190964139,128.70147191564442,130.14437432069045,123.08903508710884,202.81560728646832,93.488924040143175]
[null,"Febrero",102.28824337722259,96.708584963967652,76.623928651935742,95.508118204332305,106.64365661201944,102.26221905728706,107.38523935434533,null,-0.87366747035912962,-0.14227016118335545,-4.7646881650624362,-2.1009772456060505,-1.3851629849486624,13.555133168682598,1.2204993649774343,null,157.76164252919457,100.45924225028702,98.394778140910432,124.91655706175106,132.87815542251255,206.73744706594067,100,null,154.23242918288761,103.87830851595731,128.41259887347826,130.79155930441604,124.60014936091032,202.16405332464655,93.122668069886373]
[null,"Marzo",103.24718516408933,96.89971606388039,76.785349236053037,95.828866892410815,106.860571618649,97.884022383734731,107.56837098692031,null,-0.56084664909452631,-0.65051794201322899,-3.5844583710967881,-1.9842943338803987,-1.3979465705663552,9.86344287029981,1.2953957578893283,null,158.63049124524014,100.45924225028702,98.525946144722454,124.91655706175106,133.2857852572177,196.98185117967333,100,null,153.6414682813201,103.67341240098169,128.31347011502754,130.35378702953636,124.7286845262926,201.24004549735949,92.964129773945743]
[null,"Abril",104.2109641076829,97.070180965128657,76.549169095729042,96.119304236936543,106.61759400101026,96.763660033858969,107.2578138004184,null,2.9339428188701611E-2,-0.64730365046827831,-3.7966786625707405,-1.6726188167575651,-0.89972757964816852,8.4136651690210442,0.6207140824870061,null,159.44245101400443,100.45924225028702,98.202622842137416,124.91655706175106,133.72414148338035,194.23049001814877,100,null,152.99968902432371,103.49135156797105,128.28698730789554,129.95990561253811,125.42408477358178,200.7266880460958,93.233300639593963]
[null,"Mayo",103.51597609361066,97.430351926758831,76.358563640412711,95.959297004844586,106.64010405879532,97.854455626594316,107.89170358432861,null,0.15180027484531511,0.54378611079641814,-3.2994508290648095,-1.568135412094751,-0.4770004288109142,7.6963770738826209,1.0249764373233106,null,160.09485722075669,100.45924225028702,98.08336743097172,124.91655706175106,134.28608503742322,196.56684815486994,100,null,154.65714884046605,103.10877489779067,128.45103778125701,130.17660712483604,125.9245630174793,200.87674791728966,92.685532508845398]
[null,"Junio",103.29776624349118,96.82208054888433,76.320189993334409,95.86149164224237,107.08271544574629,98.127273475518436,107.90142728291998,null,-0.35036610984181538,-0.10012997891455377,-3.0503374045749765,-1.083775619013394,0.46237341327097781,7.2565974214756856,1.0802719180086573,null,160.96656225318796,100.45924225028702,98.424430137823521,124.91655706175106,135.04225252406994,198.216575922565,100,null,155.82772803988925,103.75654156653482,128.96250670552527,130.30942344183725,126.1102241962564,201.99947364482475,92.677180013381786]
[null,"Julio",103.22923744322732,95.912187052094794,75.931343843754689,95.630515866562263,107.06310021808989,97.5117040969957,108.22050493875906,null,-0.2794479856126908,-1.332949481624135,-2.7777770314402317,-0.96044442188522039,5.1099031761014935E-2,6.6218984629942357,1.3041246891101199,null,161.87327750823792,100.45924225028702,98.073267624162881,124.91655706175106,135.33526649223617,198.15124016938896,100,null,156.8095255932341,104.74085237543638,129.16045292964921,130.62415896203362,126.40701251556818,203.20764774276361,92.403930342580665]
[null,"Agosto",103.05472117345064,96.615365162779938,75.825467067443455,95.477900356012114,107.63465736435317,97.16086974700292,108.33131245175956,null,-0.33329402557528143,-0.84922558979174667,-3.0396487744928202,-0.82114729819275922,0.2614287566714335,6.8375053598461077,0.89151723504277136,null,162.69732672330565,100.45924225028702,98.069512567785253,124.91655706175106,136.03025956581857,197.4252873563218,100,null,157.874694987987,103.9785360030786,129.33585028966149,130.83295359027574,126.38146754659485,203.19423639413409,92.309414274409789]
[null,"Septiembre",103.23917533372064,96.184453274368863,75.979747340067462,95.009641894236665,107.71696899982726,98.704691328742598,108.20680868089049,null,-1.8242234938778301,-2.0843725148075642,-3.6274998294442362,-2.187491868230873,-0.58449678212196821,5.5470471518243247,0.42552484719637906,null,163.52248145295815,100.45924225028702,98.377815644859723,124.91655706175106,136.2528525504917,199.33151845130067,100,null,158.39189040824058,104.44436583085232,129.47899813952236,131.47776854143532,126.49153964841899,201.94736011828826,92.415626353889664]
[null,"Octubre",102.38852413103577,96.038190913183811,75.657082836084072,94.382729707483364,107.14063057507293,99.628534995591494,107.31645158054832,null,{"$f":"(C147/C135-1)*100","v":-2.2588876257794932},-0.56785861509683899,-3.2260046866193881,-3.0193726060264603,-0.73532593506707711,0.92262102683056124,-2.8996512862344836E-2,null,163.37111412471222,100.45924225028702,98.47259844721944,124.91655706175106,136.87163953198109,202.50272232304897,100,null,159.55998537065696,104.6034304635119,130.15648337983987,132.35107466048075,127.74951836416137,203.25775374696576,93.182357902453745]
[null,"Noviembre",100.57343660152478,95.297407058861253,75.05799102055694,93.743194302886295,106.69293267898014,99.098912592255715,107.05620136846272,null,-2.2821796397217819,-1.8077452819130757,-2.3466241941759391,-2.7678820358725154,-1.0501508214436739,-2.201554625114488,-3.8954293628834513E-2,null,162.34423350367072,100.45924225028702,98.397108865558607,124.91655706175106,137.53385662870684,203.01875378100419,100,null,161.41860016863484,105.41655366156762,131.09478088563486,133.25400098714681,128.90624821657261,204.86476437569857,93.408881243435019]
[null,"Diciembre",99.791592288957645,94.607000299067465,74.168783901489434,93.115477644861016,105.56187481250016,97.128491062386743,106.6143813365634,null,-2.3084054420713152,-2.2360528136686542,-3.1667576110632534,-2.6073332099345925,-1.4978209151165545,-2.4517991642566517,0.33650558468201197,null,162.47930975196115,100.45924225028702,98.34427910686631,124.91655706175106,138.06461806064584,200.15486993345428,100,null,162.81863634511839,106.18584452812129,132.59524281466801,134.15230230378907,130.79022924315933,206.07225309913701,93.795976439911115]
[2007,"Enero",99.337023053131105,93.808486290671155,74.144467008656505,92.803777320341482,105.40111425455268,98.319852609215118,106.74031004312559,null,-2.9721801786972035,-3.2821030263129214,-3.177603452535771,-3.3123405091771918,-1.8488915999456568,-4.6369484158354402,-0.20963262356900048,null,162.7823767410583,100.45924225028702,99.3035017842992,124.91655706175106,138.64345062860804,203.87900786448881,100,null,163.86878903547674,107.08971674375825,133.93245078247759,134.6028800428696,131.53888515236403,207.36301210176964,93.68531903232963]
[null,"Febrero",99.716548813116503,94.516674379413544,74.446989138681289,92.452579510026041,105.23651305486641,97.55202680578796,107.01193623316648,null,-2.5141643645419598,-2.2665108639225662,-2.8410700828760738,-3.1992449979688309,-1.3194817224547739,-4.6059945646793166,-0.34762982642990714,null,163.10896982657329,100.45924225028702,99.525827018795994,124.91655706175106,139.31824350293002,201.82577132486387,100,null,163.57261835471616,106.28732222107027,133.68683968319706,135.11419337759469,132.38584162351964,206.89039267904698,93.447519519796103]
[null,"Marzo",99.850068903370754,94.79675690283446,74.458487283496723,92.645197518582762,105.28780241442512,95.999194299285065,107.08978870407013,null,-3.2902749409774112,-2.1702428515472327,-3.030346251865168,-3.3222446190482757,-1.4717956121707787,-1.9255727733179739,-0.44490985450396092,null,163.02328396837694,100.45924225028702,99.486593153884812,124.91655706175106,139.6740911602802,198.37447065940711,100,null,163.26807358154318,105.97329015512264,133.61350301825891,134.83327836469377,132.65932801076673,206.64180788951109,93.379584748587078]
[null,"Abril",99.543056467729301,95.340030730099286,74.461569050147318,92.717824466921272,105.05622348514393,94.198760963703492,107.09389564675922,null,-4.4792864934347758,-1.7823704641602656,-2.7271361273315198,-3.5388102286201928,-1.4644585919388997,-2.6506842230419769,-0.15282630500393912,null,162.96594642052349,100.45924225028702,99.089204601368394,124.91655706175106,139.86411620051103,194.96733212341192,100,null,163.71402707867941,105.36942507883163,133.07429035592199,134.72766189236597,133.13263275667748,206.97441253875559,93.376003735863833]
[null,"Mayo",99.125813755910215,96.320168533327276,74.934168453632438,92.915267116306765,105.12432715015659,93.520728004226811,107.15899097491769,null,-4.2410481003728133,-1.1394635978181689,-1.8654033272391346,-3.1722094508301213,-1.4213948139088606,-4.4287483841356163,-0.6791185837919711,null,162.97658784618974,100.45924225028702,98.854189866009236,124.91655706175106,140.17022612917376,194.43315184513006,100,null,164.4138712924034,104.29720356596719,131.92138100148262,134.44136893605082,133.3375726904379,207.903804850987,93.319281088981725]
[null,"Junio",98.738605272829929,95.869032146571485,75.086460920610847,92.728404787718375,104.46828143762676,94.127260741776581,106.87951787295535,null,-4.413610416235425,-0.98432960427002891,-1.6165172974953457,-3.2683476971303138,-2.4415088814628949,-4.0763516523668724,-0.94707682344661315,null,162.94775968825846,100.45924225028702,99.309846534730397,124.91655706175106,140.43061537425254,196.10042347247426,100,null,165.02943224487399,104.78800088092856,132.2606570041049,134.71228945188963,134.42416534639489,208.33541943863113,93.563296307967221]
[null,"Julio",97.789418232871668,95.164164765081949,74.542824994436245,92.082636816534418,104.01120210417731,95.533229911308595,106.36970897552807,null,-5.2696497088311585,-0.77990327402976956,-1.8286504347606813,-3.7099863133420397,-2.8505601908554778,-2.0289607324666337,-1.7102082126472573,null,162.92226163867792,100.45924225028702,99.316709223972268,124.91655706175106,140.98411442133573,199.59286146400484,100,null,166.60520594437079,105.56415064249896,133.23443165909677,135.65701567672849,135.54704836516211,208.92506371793712,94.011726611949726]
[null,"Agosto",96.926641909326449,95.132915454414132,73.571962624764026,91.250313203595425,104.35534131739628,95.714840128967779,105.98315917365466,null,-5.9464323364769145,-1.5343829688664323,-2.9719624947051604,-4.427817470485973,-3.046710164976052,-1.4882839375568113,-2.1675665372839936,null,162.91595410147613,100.45924225028702,99.110310607904779,124.91655706175106,142.09878934001094,199.05323653962489,100,null,168.0817068375089,105.59882641084953,134.71206567288809,136.89438718203667,136.16819948661578,207.96486341242093,94.354613298655138]
[null,"Septiembre",96.54316466420461,94.751979974357027,73.626617845140032,91.147524835236524,103.94634806353821,95.983047666339985,105.70335425298018,null,-6.4859203377702013,-1.4892981674758499,-3.0970483284122774,-4.064973808973404,-3.500489264876272,-2.7573599853911612,-2.3135830900374965,null,162.8500979872513,100.45924225028702,99.576910684425641,124.91655706175106,142.7490163759048,201.48941318814275,100,null,168.68112678269324,106.02336993641141,135.24580321462986,137.04876494184276,137.32951569269954,209.92187483832367,94.604377227868923]
[null,"Octubre",96.241230565318801,94.28874884041096,73.73324603906886,90.244400190458123,102.72282027629517,96.160395803312412,105.362500852991,null,-6.0038892228290397,-1.8216108155913791,-2.5428376629103244,-4.3846257994984867,-4.1233753012889229,-3.4810701496639895,-1.8207373601900501,null,162.91809052536698,100.45924225028702,99.844100417976634,124.91655706175106,143.6663969047043,202.39019963702361,100,null,169.28097195805771,106.54425208284391,135.41259307242825,138.42028624282327,139.8583065751919,210.47147107317952,94.910427514934241]
[null,"Noviembre",94.646456576957391,93.576050284478924,72.030989034932276,89.220281375044721,99.489275229963582,94.887161708075652,104.8657544762938,null,-5.8931863371143089,-1.8062996964010924,-4.0328843664302561,-4.8247907077157421,-6.7517662774263298,-4.25004752727145,-2.0460719362065838,null,161.24945529668656,100.45924225028702,98.795176283724743,124.91655706175106,144.27056299354544,202.10465819721713,100,null,170.3703034730878,107.35571970058857,137.15649001544719,140.00914941822941,145.01117096297321,212.99473454480662,95.360015764351587]
[null,"Diciembre",90.199439227439711,93.907055112425127,71.169064518613752,89.017005179819321,98.484676357381289,94.065738642866251,104.33496715977505,null,-9.6121855975028314,-0.73984502672075347,-4.044450003197964,-4.4014943258661177,-6.7043129611798253,-3.1532997023018261,-2.1379987842283898,null,156.34960440550955,100.45924225028702,98.596376942234357,124.91655706175106,144.63597984016349,202.7761645493043,100,null,173.3376678886782,106.97731084210622,138.53825058561392,140.32886953387464,146.86140543865761,215.56856670117946,95.845144463277947]
[2008,"Enero",89.781830211770327,93.390664197196045,71.574882950816317,88.864495538317556,98.088245618042762,94.177388665527488,103.3997963965486,null,-9.6189643575790633,-0.44539903584038809,-3.4656450595837218,-4.2447429358680626,-6.9381321898065673,-4.2132528006855186,-3.129570867114162,null,155.98793836111869,100.45924225028702,99.638483283745359,124.88417128769802,145.11414697434844,204.21657592256503,100,null,173.7410988316752,107.56882726325358,139.20872682699786,140.53325856539536,147.94244311334236,216.84247016854914,96.711989273644178]
[null,"Febrero",88.853743802017576,92.916535477897511,71.460490479471602,88.182952103804979,96.820323387092103,94.698705492824189,102.72093860942843,null,{"$f":"(C163/C151-1)*100","v":-10.893683285667477},-1.6929699569122381,-4.0115774912621083,-4.6181809408119783,-7.9974045352361856,-2.9249226350205104,-4.0098308420365996,null,155.64109046864127,100.45924225028702,99.882448979628265,124.88417128769807,145.82525063676962,204.68481548699336,100,null,175.16548409646998,108.11772278593376,139.77296868445288,141.61940410056818,150.61429825404895,216.14320324843658,97.351135370974234]
[null,"Marzo",89.064507211850696,93.001091605539457,70.458843606882837,88.166181981255562,96.468822639434407,94.142571626723367,102.3810157744677,null,-10.801756884071567,-1.8942265072797171,-5.371642404425236,-4.8345900891719751,-8.3760697561890076,-1.9339981820821639,-4.3970326084166285,null,155.27874736380554,100.45924225028702,98.776344477288021,124.89672903682063,146.34936023141,205.18390804597698,100,null,174.34413800152319,108.0194226927798,140.19013004016855,141.66058485256184,151.70638163421052,217.95018396091206,97.674358125423581]
[null,"Abril",88.659961694210722,92.794295222729289,69.002788195711148,87.85969969036384,96.036174765018572,93.264884049325971,102.56695956323442,null,-10.93305265048472,-2.6701643453176493,-7.3310043342759368,-5.2396880583524208,-8.5859251559722072,-0.99138980685463673,-4.2270720064722873,null,154.93739769327266,100.45924225028702,97.507382106865364,124.9403506916676,146.81843242097236,205.84271022383541,100,null,174.75464091407306,108.26014897700334,141.30933641450434,142.20439078665626,152.87825944776316,220.707624656424,97.497284140852557]
[null,"Mayo",90.641379587039154,92.568300187499887,67.632978839046103,87.062106108392328,94.658080880171468,93.697016328587949,102.56441077099062,null,-8.5592580251228405,-3.8952053375293061,-9.743471857039621,-6.2994609923337386,-9.9560649316075338,0.18850187345971214,-4.2876292153614104,null,160.07105135454361,100.45924225028702,96.130570432777091,124.9952711734192,147.50170751512789,205.7555958862674,100,null,176.59820722480731,108.52445388626968,142.1356445966249,143.5702359621304,155.82579547735776,219.59674272305426,97.499707011707486]
[null,"Junio",91.877180042226968,92.348955470240185,67.744863364883628,86.820198429185098,94.049514718680584,92.836035479145622,102.39731350712516,null,-6.9490805664550237,-3.6717557249869359,-9.7775250900285613,-6.3715173058986991,-9.9731388088036503,-1.3717867198677292,-4.1936981519303362,null,162.8800587889597,100.45924225028702,96.881534224469917,124.90934973205414,148.17592924744045,206.63762855414399,100,null,177.28021116244497,108.78221820566279,143.00941711647121,143.87130183068686,157.55097694088261,222.58342623922402,97.658812106473519]
[null,"Julio",93.191976637677129,91.65888374462547,66.812883596266374,85.458117559539815,93.730167313338796,92.149681105612657,102.51070366968486,null,-4.7013692056602547,-3.6834043876804445,-10.36979937203456,-7.194102477965858,-9.88454568628201,-3.5417506650169406,-3.6279175180699563,null,167.86258928471506,100.45924225028702,96.229991386075184,124.88624029899506,148.74308095236199,207.34180278281912,100,null,180.12558091492281,109.6012062837036,144.02909469911381,146.13736396894672,158.69285761020322,225.00544797890822,97.550788766629694]
[null,"Agosto",93.740100914654661,91.221419233990773,65.901867727213698,84.32831882058494,93.366808188762619,92.772635558947329,101.68238982965907,null,-3.2875801037786423,-4.111611845111252,-10.425296028420217,-7.5857212320644907,-10.529919206734316,-3.0739272677633656,-4.057974283394139,null,172.55875420036196,100.45924225028702,95.782405189278691,124.88483222186237,149.51063733448149,209.7719298245614,100,null,184.08210842173881,110.1268135201892,145.34095692970178,148.0935870280594,160.13253557111122,226.11401364281954,98.34544621494689]
[null,"Septiembre",93.037781196699981,91.489920723003237,66.38816486328264,84.088475142358675,92.83595528287357,91.932485136217181,100.79695610489442,null,-3.630897619419271,-3.4427346555044092,-9.8312990514954013,-7.7446422221976841,-10.688584050950311,-4.2200811795469644,-4.6416674123162194,null,173.13369638974885,100.45924225028702,96.470908724033066,124.88432865297527,149.18343218364637,210.7180883242589,100,null,186.08966611500603,109.80361711585638,145.3134138030502,148.51539220035889,160.69574738481506,229.20960747665643,99.209345067855949]
[null,"Octubre",91.36508936140892,90.99582137915462,65.942341895395302,82.716038480899229,92.931433230124085,92.383058701801957,99.778772457207836,null,-5.0665823527686999,-3.4923864212365374,-10.566338201827453,-8.3421926387349359,-9.5318518512585992,-3.9281630134267109,-5.2995404917105855,null,173.53672767004659,100.45924225028702,97.281166449094073,124.88429717991987,150.82641218501399,211.67574107683001,100,null,189.93767628639301,110.39984114402455,147.52458534671351,150.97954335513555,162.29859687144375,229.12830994272025,100.22171804417322]
[null,"Noviembre",88.264102634847958,89.821704705952826,65.600327904010499,81.288925444153776,91.467697561572209,94.231537203212639,98.42925617109475,null,-6.7433627976552053,-4.0120795514584913,-8.9276313113001322,-8.8896333979836317,-8.0627561612545371,-0.69095175054352254,-6.1378457985100443,null,173.03256554328073,100.45924225028702,98.678555019427918,124.88427042782271,151.47593621758745,212.91046581972171,100,null,196.03956804401355,111.84294773647198,150.4238746547411,153.63011596655849,165.60593548954287,225.94395903844276,101.59580991466083]
[null,"Diciembre",87.053265669854682,89.114536452556138,65.752511471485207,80.370292520057021,91.030668251690841,94.753375187734449,97.812123525295632,null,-3.4880189772043768,-5.1034702921217256,-7.6108251299437661,-9.7135515200668205,-7.5686983817069509,0.73101700447908424,-6.2518289045805258,null,171.71720665628305,100.45924225028702,99.56425516226335,124.88417128769802,151.96951534530899,213.29038112522687,100,null,197.25533021071527,112.73047725919633,151.42274102403107,155.38598575653091,166.9432052559784,225.10056312256484,102.23681522887962]
[2009,"Enero",88.196609796965618,89.987410606746309,67.663825430949615,80.759168292876652,91.925924113287877,95.201751990570912,98.562327740853505,null,-1.7656361104085527,-3.6441047075794541,-5.4642876923099433,-9.1209961822671488,-6.2824260602550304,1.087695613096118,-4.6784121674117385,null,173.86990806255852,100.45924225028702,101.58737117797227,124.88417128769802,152.89196124227985,213.97035692679975,100,null,197.13899260166403,111.63699630085327,150.13542395950014,154.63776302747465,166.32083138360244,224.75464206582254,101.45864276148846]
[null,"Febrero",89.281491889059964,90.543946329609085,69.164804742419591,80.537064275104669,92.230380168395428,95.892598465643715,98.726372924648771,null,0.48140693766993703,-2.5534627782724528,-3.2125244616274973,-8.6704829519654965,-4.7406815616034104,1.2607278701502356,-3.8887550472723298,null,175.91214400020232,100.45924225028702,102.71304474184359,124.88417128769807,153.52057269430364,215.11191772534787,100,null,197.03091903839208,110.95081043251977,148.50478523631031,155.06422094193692,166.45336646558735,224.32588246361672,101.29005759820966]
[null,"Marzo",89.955670088756875,90.33753503701648,70.660531884941577,80.73291015675936,93.089133697851153,96.270483103125201,98.319082187132665,null,1.0005813817466569,-2.8640057041699585,0.28624977041069588,-8.4309784743503364,-3.5034002168921607,2.260307361093794,-3.9674675589104869,null,176.83546789209231,100.45924225028702,104.41108195512037,124.88417128769808,153.75681503904772,215.77071990320627,100,null,196.5806799255827,111.20432078329685,147.76435892831333,154.6880584946214,165.17160374282977,224.1296739646275,101.70965572041042]
[null,"Abril",90.586008226687753,90.490658267162758,70.920008216494196,80.663247152883471,93.303357137565996,96.802213282287511,98.163201477998498,null,2.172397208020449,-2.4825200191856966,2.7784674661917697,-8.1908458176412893,-2.8456127434680067,3.7927771733364368,-4.2935445332382365,null,178.21830725370171,100.45924225028702,104.6179610202596,124.88417128769807,153.58681169465348,216.7307924984876,100,null,196.73933176050517,111.01614705210037,147.51543838079832,154.82165136620566,164.61016667193002,223.89032765859716,101.87116811019369]
[null,"Mayo",91.708299448893456,90.498870127164523,71.111148448446755,80.896264224005975,94.21314581271227,97.303519029437282,98.76849326069437,null,1.1770781366249983,-2.2355709850388039,5.1427124298015103,-7.0821189148696622,-0.47004446247166376,3.8491115749103688,-3.7010084509449426,null,179.68189665608963,100.45924225028702,104.73535683998246,124.88417128769802,154.80225024763575,217.47307924984875,100,null,195.92762894510048,111.00607345608479,147.28401822382625,154.37569643746122,164.31066908154139,223.49970629947774,101.24686192797851]
[null,"Junio",92.689934715801655,91.239880633450198,72.019069262155355,81.163772180817631,95.505370606716042,95.99569892612476,99.130967859916382,null,{"$f":"(C179/C167-1)*100","v":0.88460994688903671},-1.2009608892083135,6.3092693452642123,-6.5151040319046611,1.5479674641492691,3.4034881290131214,-3.1898743583556044,null,180.36213402295743,100.45924225028702,105.1297117510228,124.88417128769808,155.63627252815311,217.32123411978219,100,null,194.58653690497155,110.10453055487321,145.97482698414495,153.86688904685161,162.96075449940048,226.38642829927801,100.87665051481356]
[null,"Julio",92.552109863336042,91.468739593386061,72.084264842166817,80.460363085910018,96.403685339830261,95.879091408108167,98.493331816543446,null,-0.68661144170043542,-0.20744759642630228,7.8897676049339394,-5.8481916245672005,2.8523559736684634,4.0471223098658804,-3.9189779304280137,null,182.0351167046984,100.45924225028702,105.72596446267501,124.88417128769802,156.38227763330269,217.66424682395643,100,null,196.68391890092448,109.82904399565055,146.66996284718849,155.21204043580485,162.21607823605848,227.01951345937488,101.52971592662021]
[null,"Agosto",92.956348677663811,91.848419710476804,72.937068601290989,80.564639558542595,96.914967013720954,95.406062948507071,98.395804565737123,null,-0.83609066914106522,0.68733909398812632,10.67526781364978,-4.4631261653038106,3.8002357516440988,2.8385820599938327,-3.232206943038729,null,183.61505303926646,100.45924225028702,106.81673691919138,124.88417128769807,157.33902643444412,217.94857834240767,100,null,197.52825455308223,109.37503613775077,146.45054835299581,155.0111462944615,162.34750037336184,228.44311106311946,101.63034942530618]
[null,"Septiembre",92.901581267160694,91.970377404478441,73.011242848488308,80.538986002725935,97.034638788851822,95.437324603276011,99.01631229509276,null,-0.14639206544633243,0.52514711749487297,9.9762932125703419,-4.2211362896325433,4.5226911202504994,3.8124058779284375,-1.7665650616955464,null,183.59842623555676,100.45924225028702,107.51280413819764,124.88423738111452,157.97424482724287,218.12401693889899,100,null,197.62680433562869,109.22999892506174,147.25513488560438,155.06060304370811,162.80190950264279,228.55210772684583,100.99346025125196]
[null,"Octubre",92.031259373604684,92.709678892981941,73.510074233797809,80.426777882100694,97.121533513052327,95.413577454530994,98.87111270486281,null,0.72912971119705183,1.883446391110799,11.476286890761699,-2.767613924507728,4.5088084163647624,3.2803836496809291,-0.90967219779567454,null,182.12738986989177,100.45924225028702,107.93410998491831,124.88423738111452,158.58684851424823,218.35995160314582,100,null,197.89731348838563,108.35895825531946,146.82900420102325,155.27693719644586,163.28701038574053,228.85626703097316,101.1417766668683]
[null,"Noviembre",89.830572771703956,91.50022320891803,73.140951853767149,80.294682590700944,97.388719145987963,94.466837624183256,98.861104355691566,null,1.7747533709559615,1.8687226082605868,11.494796124785299,-1.2230975474462169,6.4733471403169096,0.24970453412340721,0.43873966074290394,null,177.36279495790401,100.45924225028702,107.3765823490529,124.88423738111452,159.10282606963071,218.34906231094976,100,null,197.44146061347632,109.79125375564746,146.80774535684748,155.53238813796312,163.36884545234841,231.13832092020093,101.15201590325231]
[null,"Diciembre",88.809535258051781,91.713563383348514,73.234761517298608,80.190933751982172,97.255241613191643,94.199993103264404,98.607275504774478,null,2.0174654847041174,2.9165016553456269,11.379413315730492,-0.223165503634426,6.8378860454923585,-0.58402361221817634,0.81293806004856251,null,177.44241574605445,100.45924225028702,107.65529273446862,124.88423738111452,159.53564798586538,218.32728372655774,100,null,199.80108580735637,109.53586202989727,147.00026395121071,155.73361169151818,164.03809742242836,231.76995723048717,101.41239527012192]
[2010,"Enero",87.128195963229544,91.623847134841938,72.917228907383617,80.01377863005456,97.286627108608656,93.350063488491642,98.151440640339629,null,-1.2114001163940791,1.818517187084101,7.763976457102717,-0.9229783795183466,5.8315464837909614,-1.9450151529382231,-0.41688047546341034,null,176.31163710093384,100.45924225028702,108.20182662184878,124.88423738111452,160.58561680090631,218.4513006654567,100,null,202.35887493337069,109.64311736707815,148.3899323152861,156.07841489216437,165.0644303061633,234.01301777624153,101.88337465818165]
[null,"Febrero",84.943498596612272,91.528215042266524,70.704359348014478,79.476597344702142,96.464783396545613,93.45451702628857,97.940466889270951,null,-4.8587822634483135,1.0870618661510401,2.2259220008332692,-1.3167439612401299,4.5911154441941493,-2.542512642650574,-0.79604467590199679,null,173.02790998010803,100.45924225028702,105.35038844160316,124.88417128853717,161.51094176144937,218.9473684210526,100,null,203.69764942435364,109.7576765851888,149.00126302404806,157.13326370389944,167.42995326855527,234.28227483050725,102.10284183457846]
[null,"Marzo",82.605067891832746,91.612557204026004,69.102381867830942,79.434361100188909,96.18566856407746,93.309101234252793,97.951146821850401,null,-8.1713606153691938,1.4113980047021135,-2.2051207025271302,-1.608450697552033,3.3264192534834924,-3.0761057526845104,-0.37422579330222971,null,167.98446718096832,100.45924225028702,103.72148993507962,124.88419513171567,162.14832398472723,219.58439201451904,100,null,203.35854865579881,109.65662930525886,150.09828479351566,157.21684344411335,168.5784653840675,235.33009010905781,102.09170922916908]
[null,"Abril",79.38294418261269,91.935702118505873,69.135050744029016,79.170079616225294,96.335655531779054,93.457728662994441,97.809780574272224,null,-12.3673227945312,1.5968983749425236,-2.5168602166772525,-1.8511126062506933,3.249934929717746,-3.4549670982626512,-0.3600340029715543,null,161.24850916610629,100.45924225028702,103.49511542113999,124.88419513171567,162.62957183869202,220.33635813672109,100,null,203.12739824208319,109.27119708162367,149.69991966061954,157.74165661710614,168.81555530085538,235.76044623473237,102.2392642257945]
[null,"Mayo",80.753933756035138,92.199223802599121,69.216847692483796,79.086058141546246,96.820950072670016,93.920292821168758,97.653095088134535,null,-11.944792083908274,1.8788672975091902,-2.6638590393969874,-2.2376881056548892,2.7679834246717938,-3.4769823763979191,-1.1293056477188479,null,164.75144742718606,100.45924225028702,103.43116586686909,124.88417128769802,163.22698205454628,222.00967937084087,100,null,204.016621561638,108.95888067926995,149.43062175612573,157.90921209422712,168.58642879669588,236.38094888988883,102.40330827174226]
[null,"Junio",81.63768798667094,91.68953922230979,68.892260734610574,78.684006796233334,97.085763635742524,94.061771584070982,97.480577813859327,null,-11.923890941360805,0.49283118931957581,-4.341639734558278,-3.055261378265961,1.6547687517327381,-2.0145979077063281,-1.6648581988922495,null,167.12240318523851,100.45924225028702,103.564876303921,124.88417128769802,163.81541836315387,222.1833030852994,100,null,204.71231768901234,109.5645622198125,150.32875275043975,158.71608014460739,168.73268770669125,236.20999194844566,102.5845375998402]
[null,"Julio",79.673003579809119,91.690725890038649,68.608414972257847,78.20047243917432,96.646694301849408,93.936689244893813,96.433062693330882,null,-13.915518838570428,0.24269088831814223,-4.8219259466952602,-2.8087005328608083,0.25207434877880797,-2.0258871195874661,-2.0917853881215809,null,163.58740161004971,100.45924225028702,103.4954395487717,124.88417128769808,164.46177336322842,222.60254083484571,100,null,205.32350264187394,109.56314422765519,150.8494833915353,159.69746395692832,170.16802752671211,236.97081792452659,103.69887381676597]
[null,"Agosto",77.802346172249457,91.972155278182441,68.729467417742597,77.954583334205381,97.757389519535522,94.107730392344791,96.040162797978425,null,-16.302278134829173,0.13471714385036027,-5.7688103789160454,-3.2397044641906514,0.86923880982727741,-1.3608491075279172,-2.3940469597816261,null,159.84743898729442,100.45924225028702,103.58776214178056,124.88416934170307,165.28503448597223,223.1887477313974,100,null,205.45323740418101,109.22788744749346,150.71812140223167,160.201188949086,169.07676780070136,237.1630330482954,104.12310546614871]
[null,"Septiembre",77.637624533741089,91.75261264910597,69.14235815970072,77.544408336681258,97.803322364874106,93.674767354162142,96.096032840281822,null,-16.430244270573237,-0.2367770596555907,-5.2990259278509093,-3.7181715522757175,0.79217440866137245,-1.8468217298008405,-2.9492912704199625,null,159.28381645338038,100.45924225028702,104.44598675112522,124.88417128769802,165.96723495946904,223.74289171203867,100,null,205.1631762434412,109.4892443384454,151.05933545090028,161.04858360060939,169.6948845360246,238.85075782053426,104.06256849979107]
[null,"Octubre",77.367449176204303,91.262119354083168,68.680202986231421,76.915350037957666,96.319808680283259,93.676568035153622,96.066172179430197,null,{"$f":"(C195/C183-1)*100","v":-15.933510306397135},-1.5613898744809007,-6.5703528365446129,-4.3659934372734739,-0.82548617569071503,-1.8205054937858733,-2.8369666818715333,null,159.28362654903452,100.45924225028702,104.16513443101832,124.88417128769807,166.74168129927247,224.9764065335753,100,null,205.87938240831255,110.07770032221191,151.66689948761609,162.36573223169086,173.11255450344828,240.16294709809324,104.09491471485124]
[null,"Noviembre",77.25166476342666,90.889727590395125,67.732118246210575,76.302511627706636,94.98190372434874,93.493886524357677,95.883078391972148,null,-14.002925307228553,-0.66720669864267501,-7.39508233140117,-4.9718995507389234,-2.4713492925513836,-1.0299393144674318,-3.012333296424452,null,160.02127267788526,100.45924225028702,103.48145520088256,124.88417128769808,166.90227061250496,225.14035087719293,100,null,207.1428145502494,110.52870870404409,152.78047974923928,163.66980407804908,175.72007305399936,240.80756426628795,104.29368943620875]
[null,"Diciembre",75.864239745978367,91.143977997269729,67.524558984740139,76.433632976006351,94.797579100253742,93.037573121297299,95.382389255187888,null,-14.576470279298926,-0.62104814715137069,-7.7971204032796333,-4.6854433539788349,-2.5270231939915733,-1.2339915786329536,-3.270434390442567,null,158.04205906499911,100.45924225028702,103.06982333107166,124.88417128769808,167.35461234239898,225.70901391409555,100,null,208.32220766224322,110.22038368052833,152.64049833241324,163.38902970489588,176.53890946456775,242.59985115887375,104.84115650789379]
[2011,"Enero",75.826143003296266,91.007815160268038,67.125298719870457,76.460279946905473,96.090275525546915,92.670941081593497,95.177290562906862,null,-12.971751377364738,-0.67234895045096277,-7.9431572953352685,-4.441108449056963,-1.2297184295701369,-0.72750074453015179,-3.0301644662874216,null,158.27737089641295,100.45924225028702,102.81085392571723,124.88417128769807,168.57957799892651,226.53660012099212,100,null,208.73720411907595,110.38529171739229,153.16260171112373,163.33208742423969,175.4387497349899,244.45268115010791,105.06707998154832]
[null,"Febrero",75.163318982631964,91.287836010385419,65.717825518729668,76.300947225039621,96.339737743804591,92.46655539940646,95.282415109250792,null,-11.513747109034622,-0.26262834009174174,-7.0526540021960349,-3.9957046800698337,-0.12962829370277706,-1.0571577044309111,-2.7139464048351769,null,156.80469902801434,100.45924225028702,100.91623375614405,124.88417128769807,169.38280541741915,227.63218390804596,100,null,208.61864690175182,110.04669038146355,153.55991005421018,163.67315980936465,175.81821311145492,246.1778563338882,104.95116007013469]
[null,"Marzo",75.389187042723634,91.582031059506932,64.885480366456946,76.510856059801895,96.941694704853631,92.633741705429642,95.340171179862224,null,-8.735397274363299,-3.3320917405554873E-2,-6.102396744354599,-3.680403543121169,0.78600705496216783,-0.72378741182776984,-2.6655896604629969,null,156.14939096658938,100.45924225028702,99.589015553702481,124.88417128769802,169.88344141614496,228.4513006654567,100,null,207.12438625727364,109.6931800791926,153.48428491435783,163.22411971196206,175.24290444206491,246.61780519664168,104.88758176377391]
[null,"Abril",75.662634498212824,89.511388099321024,64.150754695793424,76.145747938573606,97.075372519071749,92.600186540039743,94.950853196151755,null,-4.6865352787138441,-2.6369668837247673,-7.2095066027937698,-3.8200437492447281,0.76785379536725706,-0.91757218501100635,-2.9229463161401625,null,155.95343681085492,100.45924225028702,98.451621925385723,124.88417128769807,170.15233726565475,228.88868723532968,100,null,206.11684729870009,112.23068302640814,153.46915619660123,164.00675634369171,175.27858286840572,247.17950987750945,105.31764237380531]
[null,"Mayo",76.011724910313646,89.496348926492431,64.52907625444918,76.047795374443339,96.909278332961691,92.968483829544198,95.042618328048576,null,-5.8724183766058147,-2.9315592524874368,-6.7725873025327843,-3.8417172868384752,9.1228458536485313E-2,-1.013422086999749,-2.6732145639930094,null,156.98788647653848,100.45924225028702,99.055797548077678,124.88417128769802,170.82226798808367,229.2262552934059,100,null,206.53114590119972,112.2495425291583,153.50568038117225,164.218003523698,176.27029209852449,246.56340068284592,105.21595654576828]
[null,"Junio",75.877480106422595,89.350505665029175,65.083048189907615,75.644186353751337,96.82295487318865,92.267133395312271,94.799759743789508,null,-7.0558194656233031,-2.5510364400560537,-5.5292314464420844,-3.8633269532831083,-0.27069752836256233,-1.9079357729879565,-2.7501048210740842,null,157.75613094311589,100.45924225028702,100.54383575124434,124.88417128769802,171.97910823046635,230.06654567453117,100,null,207.90902745037621,112.43276297383696,154.48544367169885,165.0942092280232,177.62224717858646,249.3483185272774,105.48549940449735]
[null,"Julio",75.567882018392368,89.196892766931612,64.357705825978499,75.110636905350162,97.045716059573607,91.604973782012934,94.813315860821319,null,-5.1524624113167938,-2.7198313666943807,-6.1956090196780389,-3.9511724641145718,0.41286643129041511,-2.4822201864088234,-1.6796592239951558,null,157.50205249295232,100.45924225028702,100.27878056486405,124.73420532580755,172.83409858738511,230.15366001209921,100,null,208.42459559025102,112.6263921690451,155.81472222769278,166.06729814179315,178.09554672283232,251.24581178286519,105.47041741140278]
[null,"Agosto",75.700711979621801,89.343194090428455,64.734233963565501,74.938294662436078,97.092415882963692,91.446059646378899,94.653154394207391,null,-2.7012478363760084,-2.8584316414053013,-5.8129847418921248,-3.8692897104432356,-0.6802285124839047,-2.8283231726757396,-1.4441962230828609,null,157.74865685064668,100.45924225028702,101.19035287171172,124.57626217591597,173.53181772759504,230.26013309134905,100,null,208.3846409438153,112.44196412835596,156.31659892455804,166.23845356646697,178.72849918244106,251.79885714241044,105.64888263894967]
[null,"Septiembre",76.739999685893551,89.720467926213672,65.083470477288188,75.51148168916805,97.312214248703881,91.589714390379697,94.101379923922195,null,-1.1561724785351113,-2.214808564268278,-5.8703344670969493,-2.6216289363981904,-0.50213847985455251,-2.2258426924076091,-2.0756870574198172,null,159.42237202057882,100.45924225028702,101.51484153662086,125.07581190323151,174.08066559920573,230.76588021778582,100,null,207.74351403846052,111.96914658637864,155.97638047289735,165.63813754587386,178.88881364296398,251.95610855843523,106.26836724482322]
[null,"Octubre",77.008851659869549,89.602145828110082,64.890979406348549,75.57227356606812,96.903243017243938,91.74539083670183,93.701040108889828,null,-0.46349921078313594,-1.8189074916533987,-5.517199156564101,-1.7461748158550172,0.60572622075827365,-2.0615370940223698,-2.4619822117225909,null,160.69112295526432,100.45924225028702,101.38545332041895,125.54073594284829,174.44943796579972,231.70054446460981,100,null,208.66578255834821,112.1170049241955,156.23967190499823,166.1200993683164,180.02435474193206,252.54734036395899,106.72240124953805]
[null,"Noviembre",75.613756125958943,89.393287292809134,64.45567527506077,75.182487613000347,95.776286020047465,91.921189784334842,92.80671163467359,null,-2.1202243893171824,-1.6464350122489813,-4.8373549447246367,-1.4678730631713433,0.83635120433480648,-1.6821385851930604,-3.2084563917757269,null,158.38730516577124,100.45924225028702,101.00959222677433,125.47135120779708,174.72443717376143,232.55656382335147,100,null,209.46890259217702,112.37895516833515,156.71171203423421,166.88906578039447,182.42974794114369,252.99559804325293,107.75082775655518]
[null,"Diciembre",74.3839690556959,89.330713507936608,64.031757591298572,74.974568171395461,94.702781786350997,91.844199681807623,92.376692000575147,null,-1.9512100763666274,-1.9894506792181521,-5.1726385865487945,-1.9089303331544016,-9.9999720248644675E-2,-1.2826790289701795,-3.1512077628620072,null,157.62718589227748,100.45924225028702,100.81170922684663,125.64375959086071,175.28662523690997,233.1960072595281,100,null,211.91015738115854,112.45767363244188,157.44017190705097,167.58183828899564,185.0913161477724,253.90390255174631,108.2524150132778]
[2012,"Enero",75.221288870797835,89.423734072280112,64.339763904469081,75.454547660019671,95.746169281699892,92.58900049699281,92.315240493511524,null,-0.79768547962690839,-1.7405989641640085,-4.1497540696631585,-1.3153656873662878,-0.35810725067131344,-8.842101271911984E-2,-3.0070724355235612,null,158.98066129440841,100.45924225028702,100.9478280235973,126.15720635803893,176.67278567538494,235.07803992740475,100,null,211.35062118847495,112.34069264999273,156.89803924907687,167.19629269593327,184.5220409346995,253.89413285116933,108.32447542291632]
[null,"Febrero",75.482778810163367,89.526389292118836,64.101193979942096,75.362533321626742,95.475163930391872,92.871860211800481,92.124353939462011,null,{"$f":"(C211/C199-1)*100","v":0.42502091692520061},-1.9295524959822563,-2.4599589624687557,-1.2298849982099846,-0.89742180502075941,0.43832584726803958,-3.3144218334177911,null,159.28086568597678,100.45924225028702,100.63188534906486,126.65424583425013,177.55132361371929,235.58681185722929,100,null,211.01616580195434,112.21187746385593,156.98909661581899,168.05996328935012,185.96597932334186,253.66866919641518,108.54892948906141]
[null,"Marzo",75.483456065901109,90.072861427797378,63.877521530055631,75.679074171587828,95.952557152770197,93.564059594711765,92.033445600686591,null,0.12504316185828479,-1.6478883622148,-1.5534428206566586,-1.0871423103198996,-1.0203427483859606,1.0042970003743212,-3.4683444955614706,null,158.71554126299282,100.45924225028702,99.850963107218519,127.16607653257113,177.80996213970943,235.90078644888081,100,null,210.26533433289757,111.53108789689709,156.31627639190211,168.03334068840005,185.31029022666954,252.12756636546573,108.65615141030207]
[null,"Abril",74.692860244653147,89.788775240634223,64.037227196489724,75.327633993147131,95.453315880502203,93.893921826681151,91.660942374551581,null,-1.2817082830793858,0.309890335970886,-0.1769698577079204,-1.0744052919231195,-1.6709249694106254,1.3971195253283941,-3.4648565135099951,null,157.57331748988506,100.45924225028702,100.17156723104732,127.59128805284968,178.22388410856411,236.04113732607379,100,null,210.96168626259674,111.88396543003947,156.42708408295718,169.38178101340227,186.71314083177811,251.39128575519752,109.09772189704614]
[null,"Mayo",73.829874990225832,89.931313982789263,64.169686825559324,75.432363845310803,95.946714930268072,94.045514804572065,91.167892233556515,null,-2.8704123247593416,0.48601430283383706,-0.55694184660682877,-0.80926938920751201,-0.99326237822805474,1.1584904159592124,-4.0768301238483069,null,157.47580499943538,100.45924225028702,100.62748286917382,128.07441037161925,178.80824179130167,236.06896551724134,100,null,213.29550540385341,111.70663231887454,156.81467036409634,169.78708321306425,186.36202596540744,251.01565556613315,109.68773934557699]
[null,"Junio",72.935747689599594,90.290282684360193,64.536189883852501,75.626211885376094,96.676010861522343,93.812684381641432,91.098132434412378,null,-3.8769505954824091,1.0517870182561673,-0.84024691723015854,-2.3761863590132659E-2,-0.1517656756693353,1.6750829135520506,-3.9046800533897197,null,156.04153208043942,100.45924225028702,101.47314746235878,128.59210636885601,179.82629448002351,236.33030852994551,100,null,213.94383004685432,111.26251825069129,157.23448757198511,170.03642409560115,186.00922077515665,251.91722216211724,109.77173442276292]
[null,"Julio",73.106999010568231,90.419564435945134,63.999395143146806,75.746371409858199,97.002620959407011,93.886455367506656,90.694901028187701,null,-3.2565197569321636,1.3707558986480795,-0.55674868802899624,0.8463974354379955,-4.44070093110982E-2,2.4905651858193156,-4.3437093147118073,null,156.18977955157482,100.45924225028702,101.14852931274699,129.11117573578494,181.20910836707489,236.42286751361161,100,null,213.64545346608509,111.10343527639326,158.04607072693278,170.45196137142148,186.80846617835823,251.81786508838169,110.25978182491241]
[null,"Agosto",72.943439165716754,90.762510135258452,64.569072391708048,76.028412585310349,97.830438263508597,93.53363651481979,90.754756242568348,null,-3.642334057105423,1.5886112638791916,-0.25513791041447131,1.454687390185172,0.76012361401587292,2.2828505421814027,-4.1186140880241195,null,155.79728796247215,100.45924225028702,101.94356538718516,129.65703551486624,182.19975590551826,236.60556563823349,100,null,213.58643045130304,110.68363149121598,157.88296410508252,170.53760706812079,186.24035539405324,252.96307772738515,110.18706251903873]
[null,"Septiembre",73.012824627254119,90.796912080279185,65.256267035749985,76.125020427439651,97.954702376911882,93.569931143115269,91.096241527804921,null,-4.8568869870930786,1.1997754569790908,0.26549991448612253,0.81251052760047404,0.66023379816018135,2.1620514551397685,-3.1935115070011011,null,155.3602129370301,100.45924225028702,103.07085920869308,130.18087429026801,182.81401029847964,237.1724137931034,100,null,212.78482750143795,110.64169468832239,157.94783227828026,171.00931278481951,186.63117324888046,253.47075806900841,109.77401298107061]
[null,"Octubre",72.629165867077333,90.68619461467172,64.3859465943505,76.046509435323102,97.637683430138424,93.846043811646723,90.934162657652479,null,-5.6872498399746068,1.2098469032663983,-0.77827891737544119,0.62752626972428782,0.75791107709759498,2.2896550505560054,-2.9528780555925116,null,155.29299018974498,100.45924225028702,101.76371113516649,130.66872456660681,183.18028665137285,238.52571082879609,100,null,213.81629313209424,110.77677553583682,158.05267533970786,171.82737976650913,187.61228269251362,254.16703905763788,109.9696715485009]
[null,"Noviembre",71.999495086972928,90.381663254686259,64.075573278197524,75.864942017017583,96.705614745606042,94.007748074474605,90.377609671577034,null,-4.7798988228614174,1.1056489718737961,-0.58971067363918772,0.90773054428598954,0.97031192602734517,2.2699426487355456,-2.6173774722872745,null,155.93283218932928,100.45924225028702,101.7459717308997,131.18563778043887,184.04662115666085,241.59407138535988,100,null,216.57489681138424,111.15002604809693,158.7905757614501,172.91997369616664,190.31637577695381,256.9937865057301,110.64687411338909]
[null,"Diciembre",71.592249581698383,90.179940111575135,63.708172847251689,75.86856381933633,95.266917314358352,93.716471462321152,89.822333836661187,null,-3.7531198044933323,0.95065467440051954,-0.50535040145588406,1.1923985289213679,0.59569055667239024,2.0385302359865687,-2.7651544005256823,null,155.90065018500417,100.45924225028702,101.98344667560974,131.70282764361542,184.78430387062221,243.01512401693887,100,null,217.76191011723444,111.39865709158137,160.07906382769414,173.59341077977388,193.96481914165184,259.30887092205927,111.33088590399637]
[2013,"Enero",71.019648352615619,90.063487075445465,63.515580341414449,76.01711299636824,95.038086014268714,93.76103524610555,89.591954977728605,null,-5.58570662807848,0.71541745578220794,-1.2809863030867952,0.74556849625997401,-0.7395421380753997,1.2658466370968124,-2.9499847492401088,null,156.21979122051863,100.45924225028702,101.87364364773946,132.19763656165335,185.97892415466399,245.46642468239565,100,null,219.96700187091972,111.54269672695784,160.39158124689945,173.90510024758393,195.68883587022333,261.80003669764443,111.617164760897]
[null,"Febrero",71.003425678579305,90.418088048441703,63.088302205405185,76.130645263897094,95.75572781027445,94.644845949175334,89.831119070736733,null,-5.9342716341292734,0.99601778131954699,-1.5801449421579461,1.0192225611528549,0.29386058984630647,1.9090666788965427,-2.4892819006711697,null,156.49585497431426,100.45924225028702,101.18452606009126,132.71878573175329,186.98408945314026,246.56942719775842,100,null,220.40606277610459,111.10524942361725,160.38555884837575,174.33030453334615,195.27196307631965,260.52071269698848,111.31999805240751]
[null,"Marzo",70.722367645415758,90.248966570850371,62.80886196944865,76.184931053859387,96.081441554364972,95.075993586640479,89.697615272823356,null,-6.307459499905077,0.19551409854361435,-1.6729821931243172,0.66842371924982213,0.13432096592231879,1.6159345783818058,-2.5380233377308326,null,155.63909086007334,100.45924225028702,100.95210101878564,133.19123248799852,187.38414317125341,247.98064125831817,100,null,220.07053219768991,111.31345439996927,160.72907206612109,174.82621647821429,195.02636527911309,260.8236126739389,111.48568409075428]
[null,"Abril",70.135374008692779,90.726633491815818,62.531655227206592,76.178736178248499,95.385168923735378,95.177995634739105,89.29999944801304,null,-6.1016357132830716,1.0445161420991944,-2.3510886326534419,1.1298671416903883,-7.1392969577022125E-2,1.3675792671949738,-2.5757349481430047,null,155.63637794084687,100.45924225028702,100.78208760417044,133.6296521503493,187.40250266013118,248.35269207501511,100,null,221.90853066750148,110.72739986472568,161.16971034587561,175.41594788035471,196.46922553543692,260.93498861660061,111.98208355893225]
[null,"Mayo",70.263733674011618,91.02195822991537,62.416192320109523,76.416624385788822,95.102200979226964,95.621438359467035,89.095827520773682,null,-4.8302144852423563,1.2127524872313389,-2.7325900938499958,1.304825263724263,-0.88019058459154476,1.6757030446053367,-2.2728009412289141,null,155.66839038772025,100.45924225028702,100.68613943948661,134.17161816511455,188.3664397486686,248.60798548094371,100,null,221.54870264928314,110.36813995644184,161.31413291458841,175.57909583620182,198.06738204703927,259.99189067451442,112.23870161224316]
[null,"Junio",70.381989705240557,91.056077274674479,62.411716627770872,76.57539449385628,95.724542186929156,96.67458504350634,89.008520131312451,null,{"$f":"(C227/C215-1)*100","v":-3.5013804139327309},0.84814729508753128,-3.2919099499135296,1.2550973859682735,-0.98418280410438319,3.0506542699730854,-2.2938036678242346,null,155.58486638703252,100.45924225028702,101.06384631719607,134.69861402105735,189.48458575689381,250.83242589231699,100,null,221.05778344519842,110.32678461125388,161.93088698384952,175.90325836566777,197.94775867078241,259.46056637267714,112.34879520800037]
[null,"Julio",70.134364266660583,91.200814643943829,62.289477374664187,76.568329822451403,96.623847239226848,97.145534981884254,88.804063809989103,null,-4.0661424817587282,0.86402783830279439,-2.6717717638706784,1.0851455948241329,-0.39047782053092117,3.471299029897712,-2.0848329914500141,null,155.50185105869986,100.45924225028702,101.12949506145344,135.20296282417743,190.58377126170657,253.52510586811854,100,null,221.71991246325442,110.15169397607787,162.35405934323532,176.578179434878,197.24299612066611,260.97453260759335,112.60745928696061]
[null,"Agosto",70.196687965204333,91.235038945273189,62.891413643378812,76.378605009812176,96.642912911905654,97.687773793096795,88.672362155493389,null,-3.7655904793194694,0.52062113455275671,-2.5982388877320739,0.4606073079703954,-1.21386081129915,4.4413298071852569,-2.2945288746180514,null,155.52596212832583,100.45924225028702,102.12802681649097,135.22202280703547,191.36586188122936,256.32183908045971,100,null,221.55740767344781,110.11037361484213,162.38786966309985,177.04175506958236,198.01334222579564,262.38886313793029,112.77471082211927]
[null,"Septiembre",70.467971772172206,91.182014788917769,63.112420962465237,76.481866012557646,97.07992773887257,97.888927328432459,88.71598751273801,null,-3.4854874716516271,0.42413634981119941,-3.2852723127883898,0.46876254760170877,-0.89303996317945389,4.6157949808804277,-2.6129003514820059,null,156.14970634344948,100.45924225028702,102.6654426046107,135.66051399905768,192.223878405428,257.79612825166362,100,null,221.58961357408188,110.17440498857766,162.67074062278292,177.37605143784467,198.00579057132742,263.35575972420025,112.71925478555012]
[null,"Octubre",70.659750881014659,91.072455389163039,63.097436213722652,76.21883247092893,97.341656729771216,97.370901069466953,88.369061528184304,null,-2.711603475753821,0.42593117522744528,-2.0012292259145026,0.22660216344629891,-0.30318898397361238,3.7559998425663821,-2.8208332869630426,null,155.78457115359774,100.45924225028702,102.87896287932543,135.69774662364929,193.23721989538564,256.73926194797338,100,null,220.47144125363025,110.3069438734392,163.04777032596922,178.03703130116375,198.51441447296168,263.67144509098136,113.16177661127038]
[null,"Noviembre",70.343580807669994,90.811402948027236,62.178932360339786,75.932039639599765,96.954174364708663,97.163672055439761,88.129585406235847,null,-2.2998970719206424,0.47547221180253008,-2.9600061627588992,8.8443516594427507E-2,0.25702708137111951,3.3570892246721717,-2.4873685789104982,null,155.66633874255515,100.45924225028702,102.04404551646266,135.82423683348327,193.73751675900229,256.87235329703566,100,null,221.29430568536242,110.62403948079229,164.1135375646148,178.87605479604264,199.82380132517821,264.37077547920285,113.46927316070663]
[null,"Diciembre",69.971448161180689,90.8202745560762,61.703765224472185,75.856373240073424,96.00082720387006,97.123886859393721,87.886874047621092,null,-2.2639341967709781,0.71006306248242446,-3.1462331019684431,-1.606802428992804E-2,0.7703722448475725,3.6358767502706613,-2.1547645294539564,null,155.64041340819634,100.45924225028702,101.58295049022909,136.11205792552903,193.86344815754524,257.74208509780192,100,null,222.4341749361474,110.61323337913862,164.63006774494295,179.4339118939366,201.93935177855428,265.37455762137608,113.78263373642743]
[2014,"Enero",70.120651941798499,90.716966673260615,61.674020370437383,75.123337236668647,96.301763796641467,97.850764460556277,88.037642239994,null,-1.2658418221863976,0.72557661160479459,-2.8993830507068608,-1.1757559902890513,1.3296540738236606,4.3618643967783921,-1.7348798093768436,null,156.55805833658036,100.45924225028702,101.4134550144246,136.32731502705923,195.15525764646102,259.30913490623107,100,null,223.26954185555289,110.73919899914158,164.43464266687531,181.47132441357536,202.64972307108158,265.00471032166416,113.5877761553361]
[null,"Febrero",73.063799447257608,90.878158764445686,61.093749292061254,74.959516131627268,96.613114771926632,98.385302031330085,87.8950480086515,null,2.901794876778574,0.5088259726941935,-3.1615257403028396,-1.5383149955057629,0.89538973934903954,3.952096962747853,-2.1552342686065096,null,163.60613891958283,100.45924225028702,100.28939831048361,136.63891844733342,196.35658596879551,260.65638233514818,100,null,223.92229826165115,110.54277905285834,164.15656179660198,182.2836185433728,203.24009471419285,264.93427062117883,113.77205231193118]
[null,"Marzo",76.358253391973321,91.238896588754812,61.118318972984447,75.204221586282259,97.550726318980182,98.570860087453042,88.079379796708338,null,7.9690286598074422,1.0968879262759135,-2.6915676282854961,-1.2872748639541465,1.5292076605489591,3.6758663979964412,-1.8041008907461076,null,170.93395296408465,100.45924225028702,99.912727310395539,137.01256498792534,196.97612710845024,260.83000604960677,100,null,223.85786129316179,110.10571807229485,163.47427250831132,182.18733217088086,201.92174322142913,264.61167714088702,113.53395111410303]
[null,"Abril",75.483796002150925,91.974516982954938,61.359528934706937,75.309221673635363,97.438289941124808,98.46521624018223,87.940359597188859,null,7.6258550967379879,1.3754323764825882,-1.8744526883876289,-1.1414136650660378,2.152453091560802,3.4537611172842597,-1.5225530338504711,null,170.34145479615304,100.45924225028702,100.16794165937237,137.30525391254665,196.97143268289264,260.79854809437381,100,null,225.66625397495795,109.22508271383965,163.24757278687997,182.32196650176661,202.14992771518135,264.86363210559392,113.713430850238]
[null,"Mayo",76.131967416796272,92.085449717232805,61.340055174817735,75.356244602545857,97.397081044019174,98.937827547799841,88.128893082721504,null,8.3517249026507923,1.1683900324701124,-1.7241313596521257,-1.3876297098516788,2.4130672488783755,3.4682485907246097,-1.0852746587113993,null,172.10990171432755,100.45924225028702,100.0119125926463,137.6136374008166,198.05015941126962,261.18249647106268,100,null,226.06784975368521,109.09350234892447,163.04503200659775,182.61743021648323,203.34301324878487,263.98648822653553,113.47016455333869]
[null,"Junio",75.849523659172362,91.89677492247047,61.683123165816191,75.525300937271453,96.964738317247935,99.538749968583232,87.899296669649502,null,7.768370824453541,0.9232746159929528,-1.1673985291897671,-1.3713198130100079,1.2955884687303465,2.962686546611959,-1.2461991953428009,null,171.80553930629981,100.45924225028702,100.92115417484577,138.2669550857467,199.42455880805377,262.32486388384751,100,null,226.50839585796615,109.31748403035945,163.61226376872997,183.07368970378042,205.66709328454965,263.54044426581953,113.76655307701536]
[null,"Julio",73.515779032303783,91.346754958165761,61.045512060455778,75.087157108904009,96.927896323720702,99.38458689629995,88.635744498973963,null,4.8213380145381901,0.16002084498005775,-1.9970713620313441,-1.9344456343529659,0.31467292307361117,2.3048428472119076,-0.18954009962346419,null,168.10308957414969,100.45924225028702,100.4912649619574,138.56444524778277,200.45146173106156,262.97459165154265,100,null,228.66259704638784,109.97570991579779,164.61695802049613,184.53814285019916,206.8047170461555,264.60299314413419,112.82130089306983]
[null,"Agosto",73.307745772971543,90.972415187875484,60.933063870119057,75.154052569014013,96.734516450207792,98.887842834020176,88.342678370815023,null,4.4319153765621122,-0.28785405304122547,-3.1138587285769015,-1.6032663082035215,9.4785572518540917E-2,1.2284741419792633,-0.37179993479844464,null,168.46536602536648,100.45924225028702,100.89396238728357,139.11970178650509,201.02041724504448,263.11494252873564,100,null,229.8056832181019,110.42824579606841,165.58163331872257,185.1127078726079,207.80629771227092,266.0741047515466,113.19557188458087]
[null,"Septiembre",73.475560204808289,91.147589165765709,60.286515225874204,75.544213918925536,97.118343773585764,99.129903759262447,88.119675864820522,null,4.2680218502099354,-3.7754839297809983E-2,-4.4775746097137965,-1.2259796243440979,3.9571552645289998E-2,1.2677393293587969,-0.67215804573202975,null,168.49197976297901,100.45924225028702,99.799169226147626,139.88724881189179,201.4492465469408,264.06997378503718,100,null,229.31703996991479,110.21601686862684,165.54144629563044,185.17268438588764,207.42656713399489,266.38780405389343,113.48203340353228]
[null,"Octubre",73.445934236115193,90.869442623978514,59.411655939831867,75.578223561252074,97.157060274028254,99.310803534763025,87.988761264638498,null,{"$f":"(C243/C231-1)*100","v":3.9430981858289416},-0.22291346413910729,-5.8414105153280165,-0.84048638493799954,-0.18963767614457172,1.9922815173622599,-0.43035453468577289,null,168.35925697211758,100.45924225028702,98.749307256840694,140.70515065994275,202.39002445650257,264.9957652752571,100,null,229.22883168845462,110.55338224753011,166.21200957072693,186.17155052064541,208.31221517578675,266.8347811550002,113.65087831982999]
[null,"Noviembre",72.467358772709687,90.84543020180493,58.794377599832686,75.133683796417344,95.581380185639901,99.411829635939995,87.854857079442596,null,3.0191496376142934,3.7470243463988417E-2,-5.4432500398895689,-1.0514084001584822,-1.4159206533024271,2.3137840850822045,-0.31173223557887653,null,167.58947631502824,100.45924225028702,98.445406659657223,141.13971487300151,202.96125956913275,266.32486388384751,100,null,231.26201803582273,110.58260390987842,167.44017145601586,187.8514505630184,212.34393055942249,267.90057567511468,113.82409957092661]
[null,"Diciembre",71.927389848505086,91.072768492843366,58.566256385960855,75.31771303631416,95.296769677992387,99.813894469226696,87.668889325301166,null,2.7953425843336044,0.27801494545280914,-5.0847931679653291,-0.7101054014993391,-0.73338693674224187,2.769666347607469,-0.24802875819864845,null,166.9313119372176,100.45924225028702,98.514163036778839,141.9373842989682,203.37280609173379,267.05081669691469,100,null,232.08309419931919,110.30656464361381,168.2097663670954,188.45153228501988,213.40996843747186,267.54873969900882,114.0655491013961]
[2015,"Enero",71.85706923142169,91.319705475708133,58.637468464718182,75.717395869408307,95.708582940875672,100.24830121922479,87.200592385836643,null,2.4763279312697284,0.66441683904447935,-4.9235510957134405,0.79077774575979642,-0.61596053112630278,2.4501972691638674,-0.95078631464882157,null,167.6212751195126,100.45924225028702,98.747753440408545,142.80203353705841,204.70510312720728,268.97943133696305,100,null,233.27040319397705,110.00828542642429,168.40384830021182,188.59871222110257,213.88374672067249,268.31320637419475,114.67812002644409]
[null,"Febrero",72.204101026653603,91.826140834601304,58.72080524689251,76.150926954456821,95.688979956759113,101.12665223622402,88.269588739797712,null,-1.1766407264716561,1.0431352076715861,-3.8841028299389291,1.5894057009885998,-0.95653143711297295,2.786341199644804,0.42612267656916281,null,167.42580323361562,100.45924225028702,98.7701542939717,143.92152067732533,205.24417349620455,270.71264367816093,100,null,231.87852331519457,109.40157272996565,168.20299701049925,188.99510016916759,214.49092005051398,267.69663356975093,113.28930091062432]
[null,"Marzo",72.05084995658207,91.915457872935022,58.822243921579755,76.300020572429702,96.176344298427253,101.3735475586512,88.014520439534735,null,-5.6410450004400481,0.74152725369938111,-3.756770621292127,1.4570977041364896,-1.4088895822864989,2.8433225282924246,-7.3637390866398977E-2,null,166.32741611738538,100.45924225028702,98.563755677904211,144.3204274922175,205.85743470384435,270.15607985480938,100,null,230.84726442174448,109.29526390344813,167.56204644166036,189.14860888565255,214.04165047601077,266.49563555868116,113.61761616220949]
[null,"Abril",72.08573123670422,92.093869114362164,59.354099314228911,76.631137820932736,96.487477392807122,101.9280988991564,87.764903237561981,null,-4.5017142028070172,0.12976652155656243,-3.2683262979610106,1.7553177657659402,-0.97580997048716256,3.5168588372642029,-0.19951744617665579,null,165.94058096487012,100.45924225028702,99.588886068999798,145.01097517898464,206.51785354677071,270.39564428312156,100,null,230.1989285784999,109.08352881290799,167.78771343452169,189.2324442811198,214.03591339218292,265.2807687021027,113.94076254983165]
[null,"Mayo",72.770462151684285,92.377031848159717,59.32745299321406,76.688078833362837,96.946202906543164,102.29990972427078,87.785702989494808,null,-4.415366342378757,0.31664300041132076,-3.2810570122048355,1.7673840274837538,-0.46292777221139669,3.3981766729682894,-0.38941836351509274,null,166.17684910031124,100.45924225028702,99.239665825879314,144.99434901289482,207.50864379662931,270.78342407743492,100,null,228.35755633093098,108.74915575920652,167.27444179548795,189.07025866165736,214.04514831454424,264.69566278922264,113.91376567545043]
[null,"Junio",73.093556754424142,92.776990212957301,59.068494528112559,76.480684220785122,97.787284035549177,102.36269042217884,88.00809068716859,null,-3.6334663314855797,0.95783044750965551,-4.2388071542275867,1.264984411392378,0.8482936504299543,2.8370262380097433,0.12377120368547434,null,167.04587173385715,100.45924225028702,98.825962200825586,144.90786277324366,208.54524970847118,271.09860859044159,100,null,228.53706831518545,108.28034194652804,167.30739963889073,189.46988282024563,213.26418027180048,264.84123021028262,113.62591691195479]
[null,"Julio",73.229000500914722,92.851208602367919,58.769965621298383,76.200010726410937,98.732435680048951,102.40616115035826,87.929035789509399,null,-0.39009112759731401,1.646969993505687,-3.7276228216479357,1.4820825029943308,1.8617337472190965,3.0402845636527953,-0.79731795954254281,null,166.62610852422958,100.45924225028702,98.822466113853295,144.87099283518629,210.11277000471463,271.85722928009682,100,null,227.54114815775509,108.19379064897285,168.1513083581587,190.11938640708615,212.81027714701915,265.46960283077243,113.72807526217721]
[null,"Agosto",73.144766416033391,93.009401465001957,58.651458632240008,76.279423699394499,99.001719336760857,102.11522678123686,88.144831516361762,null,-0.22232215057176319,2.2391252039639875,-3.7444452862937738,1.497419090403751,2.3437372405950452,3.2636812116871861,-0.22395387835402181,null,166.52498446005956,100.45924225028702,98.828940348987175,145.2782391203155,210.97151025937188,272.33514821536596,100,null,227.66493437534194,108.00977177354305,168.50210148850772,190.45534440956808,213.09883471996929,266.69396602212328,113.44964676849789]
[null,"Septiembre",73.330490552730438,93.215816746202364,58.891511593536563,76.206463779344048,99.227567923418533,101.99321333943078,88.436080854303668,null,-0.1974393276804931,2.2690974049519586,-2.3139563252429052,0.87663876035461996,2.1718081959367641,2.888441803718389,0.3590628158557152,null,166.76634271019952,100.45924225028702,99.355036695964742,145.06189333718561,211.60291612410779,272.86690865093766,100,null,227.41746503152228,107.7705970477159,168.70858636080436,190.35379171668768,213.25012852014865,267.53437774613849,113.07601946398734]
[null,"Octubre",73.445219101405456,91.197024217335198,58.495809616500992,76.592561876941971,99.323900812281309,101.46877626860883,88.482468835873945,null,-9.7368862848057347E-4,0.36049697664839453,-1.5415263366137855,1.3421039393282763,2.2302450610810487,2.172948618918813,0.56110299104059624,null,166.63150045119238,100.45924225028702,99.225551993287525,145.96422583679777,212.81081675150335,273.60496067755594,100,null,226.87862122260819,110.1562722166007,169.62847876422441,190.57232485748722,214.25942296981302,269.64448645095217,113.01673802240974]
[null,"Noviembre",73.142963996194979,91.062087423850741,57.811377058093122,76.693927221526025,99.06969747132031,101.31630393627147,88.295710625009363,null,0.93228901249773344,0.23848995107902393,-1.6719294971197396,2.0766230887018899,3.6495782744561112,1.9157421277788744,0.5017975786678841,null,166.28129309938478,100.45924225028702,98.736488271275618,146.36440573678263,213.4753513879391,274.22565033272843,100,null,227.33737329544783,110.31950298118798,170.79075658768329,190.84223619689914,215.47996696945413,270.66290387499521,113.25578478517329]
[null,"Diciembre",72.869849722570052,90.816556172832932,57.167949036528654,76.933758106435548,98.030674946344305,101.12193070166587,88.07984346747034,null,1.3102934446112879,-0.28132703578739315,-2.3875648465852661,2.1456374669026612,2.8688330964310449,1.310475099077979,0.4687570988201939,null,166.53790473787606,100.45924225028702,98.392835870370263,147.32552990396624,214.0312562775359,274.88808227465211,100,null,228.54157840577258,110.61776231539004,172.11188704268559,191.49659854149564,218.33090141905367,271.83824553907931,113.53335344758193]
[2016,"Enero",72.773244109508425,90.917367420769381,56.999978939246233,77.38599890300938,98.989986841208534,101.490084929004,88.13945873544138,null,1.2749961665373677,-0.44058185781794545,-2.7925651777706229,2.2037248038468737,3.4285367095654884,1.2387079827554048,1.0766742792876149,null,167.16987927170331,100.45924225028702,98.835285099418343,148.41157692282266,215.52196488074955,275.41076830006045,100,null,229.71338067621093,110.49510682085352,173.39530108381709,191.78091518703809,217.72097538155236,271.36716704170686,113.45656240090958]
[null,"Febrero",72.895075936015985,91.239527992579099,57.037554480226035,77.529788302727979,98.614361516940875,102.45572137275001,88.126111359536011,null,{"$f":"(C259/C247-1)*100","v":0.95697460329478012},-0.63882989820820413,-2.8665321594096405,1.810695422126396,3.0571770767163775,1.3142619745993178,-0.16254452106335693,null,167.2708840609763,100.45924225028702,99.028346791110096,149.28850437207947,216.5148116081559,276.24016938898967,100,null,229.46801538117492,110.10495610899895,173.61955240462063,192.55631627569733,219.55707898687859,269.61907611189866,113.47374626802835]
[null,"Marzo",73.700325771986513,91.673935691213657,57.560116422510482,77.808146480776287,98.571460604153984,103.02422000671351,88.247799157955725,null,2.289321800365185,-0.26276557535648282,-2.1456636383200722,1.976573396746284,2.4903382668558072,1.6283068786828059,0.265045718883683,null,166.86477759318626,100.45924225028702,99.709306842489625,149.54358824095306,216.85282478263312,276.55898366606169,100,null,226.40982362741678,109.58321085795315,173.22638145932507,192.19528417618861,219.99554785281791,268.44074495108038,113.31727357983046]
[null,"Abril",74.080900679991785,92.334550000207742,57.842121206640861,77.891796177515687,99.017520744426676,103.72758204881882,88.237848900437655,null,2.7677730516960874,0.26134300595699322,-2.5473861537067988,1.6450993583428053,2.622146852611329,1.7654436500800008,0.53887789472690795,null,167.08792198186885,100.45924225028702,99.894858421426107,149.30664701489081,217.11221886522932,276.87961282516636,100,null,225.54790836526229,108.79918973998466,172.70261936721155,191.68468868611069,219.26646641215743,266.92959322512161,113.33005195178099]
[null,"Mayo",74.43956733242068,92.640771795787415,57.172866262639801,77.999618686193173,99.382555724845986,103.98604589612331,88.423973214122014,null,2.2936575244737023,0.28550381231258193,-3.6316858753749348,1.710226508190682,2.5130977235400254,1.6482284064543107,0.72707764805801656,null,167.54497426626565,100.45924225028702,98.795015356885742,149.42399587577083,218.26588411912357,277.14156079854808,100,null,225.07515864253921,108.43955669079944,172.80052901850814,191.57016199903626,219.62192713520281,266.51802980892086,113.0915026379172]
[null,"Junio",75.5259189162757,92.852295322059973,57.06656525915772,78.208333512512397,100.20951095934531,103.82901354820255,88.800021570625191,null,3.3277381343251422,8.1167872475518266E-2,-3.3891658911368694,2.2589354545258455,2.4770367105354518,1.4324781030823797,0.89983872763650385,null,169.39910873821105,100.45924225028702,98.724187224521287,150.30772493842798,219.14233398677459,277.4664246823956,100,null,224.29268146475457,108.19252437631424,172.99829904986018,192.18888600200202,218.68416669120353,267.23399866799468,112.6125852576141]
[null,"Julio",75.367516713175874,92.803066946377385,56.249362669750681,78.177273194220888,100.38827709178945,103.60057410834607,88.570837936168175,null,{"$f":"(C264/C252-1)*100","v":2.9203132606383742},{"$f":"(D264/D252-1)*100","v":-5.1848173777357953E-2},{"$f":"(E264/E252-1)*100","v":-4.2889304509550863},{"$f":"(F264/F252-1)*100","v":2.5948322696556225},{"$f":"(G264/G252-1)*100","v":1.6770997295219026},{"$f":"(H264/H252-1)*100","v":1.1663487280165752},{"$f":"(I264/I252-1)*100","v":0.72990922838636063},null,170.89407305145423,100.45924225028702,98.140729154257713,150.9536493165154,220.60276444926944,277.83121597096186,100,null,226.7476500543612,108.24991625366589,174.47438423517465,193.09147422101998,219.74952737515613,268.17536327588726,112.90397870241293]
[null,"Agosto",75.75091796733355,93.116609963563093,55.739649971495773,78.312327770934942,101.31244581668653,103.79307279033321,88.652184060409311,null,{"$f":"(C265/C253-1)*100","v":3.5630048177020202},{"$f":"(D265/D253-1)*100","v":0.11526630305376262},{"$f":"(E265/E253-1)*100","v":-4.964597179077912},{"$f":"(F265/F253-1)*100","v":2.6650752889164631},{"$f":"(G265/G253-1)*100","v":2.3340266163111689},{"$f":"(H265/H253-1)*100","v":1.6430909101253111},{"$f":"(I265/I253-1)*100","v":0.57558966909292408},null,171.66135443170623,100.45924225028702,97.340254722307094,151.28122087758837,221.63702230817938,277.93163944343615,100,null,226.61290323337417,107.88541624270592,174.6337746506932,193.17676435323034,218.76583920321758,267.77474832532499,112.80037943775652]
[null,"Septiembre",76.515388627438213,93.630259708579018,55.909076416123554,78.629822065025735,102.36090610518956,104.31256367483788,88.694244249681645,null,{"$f":"(C266/C254-1)*100","v":4.3432111945542973},{"$f":"(D266/D254-1)*100","v":0.44460583712424562},{"$f":"(E266/E254-1)*100","v":-5.0642870198297611},{"$f":"(F266/F254-1)*100","v":3.1799904699665982},{"$f":"(G266/G254-1)*100","v":3.1577294972998438},{"$f":"(H266/H254-1)*100","v":2.274024182068235},{"$f":"(I266/I254-1)*100","v":0.29192089120648745},null,172.16054852513844,100.45924225028702,97.200540728118369,151.78762233970062,222.71454734843434,278.76769509981847,100,null,225.00120774842688,107.29356360108686,173.85467075983897,193.04078065212261,217.5777411735348,267.24268417828409,112.74688774447608]
[null,"Octubre",76.876917111498415,93.507907950669036,55.388722281051074,79.125045085335387,102.57218379252109,104.72255835894069,88.719434413287104,null,{"$f":"(C267/C255-1)*100","v":4.6724593541682236},{"$f":"(D267/D255-1)*100","v":2.5339464233248288},{"$f":"(E267/E255-1)*100","v":-5.3116408779022128},{"$f":"(F267/F255-1)*100","v":3.3064349152627237},{"$f":"(G267/G255-1)*100","v":3.2703940881046556},{"$f":"(H267/H255-1)*100","v":3.2066830900950416},{"$f":"(I267/I255-1)*100","v":0.26781076582831354},null,172.55671951094206,100.45924225028702,96.842903979323879,152.55340898826401,223.57651913204023,280.36721113127646,100,null,224.45842782778928,107.43395339705944,174.84227833949259,192.8004070313477,217.96993187186291,267.72379850605523,112.71487545126129]
[null,"Noviembre",76.884677065320545,93.370964564445188,55.148333625852644,79.233266317094817,102.47774570315411,104.74910216384681,88.666691238768578,null,5.1156158633661741,2.535497709214285,-4.6064348710539438,3.3110041271378066,3.4400511143383605,3.3881992277714712,0.42015700551385482,null,172.84165741730772,100.45924225028702,96.9473981343844,153.20757358450433,224.32332099100481,281.24440411373257,100,null,224.80637757047865,107.59152239554028,175.79388489253833,193.36268805499103,218.89954687410778,268.4933792308928,112.78192363207984]
[null,"Diciembre",76.349573901842035,93.571998729049511,55.160561714738186,79.984747637435945,102.04611107501998,104.06073572180829,88.610429403458966,null,{"$f":"(C269/C257-1)*100","v":4.7752591675706446},{"$f":"(D269/D257-1)*100","v":3.0340751426124246},{"$f":"(E269/E257-1)*100","v":-3.5113859349892085},{"$f":"(F269/F257-1)*100","v":3.9657357265447057},{"$f":"(G269/G257-1)*100","v":4.0961016853892529},{"$f":"(H269/H257-1)*100","v":2.9061994759698617},{"$f":"(I269/I257-1)*100","v":0.60239200604912391},null,172.25212650477997,100.45924225028702,96.94480844033086,155.02890642777365,225.10100962231689,281.82577132486387,100,null,225.6098072351183,107.36036807462077,175.75021977056565,193.82308628453322,220.58754346535773,270.82815566313633,112.85353278752585]
[2017,"Enero",76.677143428891341,93.426713703859335,55.282895640233235,80.547792105669103,102.47206612500642,104.25068723520192,88.870469749982163,null,5.3644706473554571,2.7600296338064823,-3.0124279534263665,4.0857432190317899,3.5176075832634934,2.7200709390765354,0.82937996786998092,null,172.9683371805919,100.45924225028702,97.099542660030139,155.89712213528315,226.11011835186989,282.4392014519056,100,null,225.58004829822443,107.52732089958674,175.64120246509663,193.54611474733494,220.65537165615115,270.92310750401987,112.5233165542259]
[null,"Febrero",77.384511618550874,93.466636678431925,54.438945026508286,80.032702124390525,102.47909517046922,104.88803056429457,88.894378152238673,null,6.1587639835583907,2.4409471802988358,-4.5559622557426511,3.2283253655865707,3.9190373431200687,2.374010117693115,0.87178111101293698,null,174.71652779669148,100.45924225028702,95.638825729128357,155.76433731436009,227.08737811183789,284.4652147610405,100,null,225.77712793215827,107.48139209920741,175.68089477589686,194.62586315311952,221.59385554106285,271.20846223408518,112.49305308007449]
[null,"Marzo",77.718326310962908,93.348639344140807,54.016808647541872,79.583351323945109,102.66991308611894,105.61530743546152,89.051766845986421,null,5.451808383326906,1.8268045767862118,-6.1558384436882445,2.2815153984003578,4.1578489928475681,2.5150274649778037,0.91103426453917891,null,174.5887638346164,100.45924225028702,95.049929301352336,155.27987257189309,227.60095767147538,285.62915910465819,100,null,224.64297948988255,107.61725393760923,175.96361518050873,195.11602613946764,221.68223467820121,270.44295570431206,112.29423462529202]
[null,"Abril",78.128784958535746,93.55799003405798,53.892835790764693,79.42150558393493,102.76379320869201,105.80309211002533,89.315852831809494,null,5.4641402053542176,1.3250078479263516,-6.8276981090775628,1.9638902702064254,3.7834440168773797,2.0009239781851651,1.2217024154659528,null,175.25944155235953,100.45924225028702,94.794714952375543,155.07053269090534,227.87348494153713,286.05021173623715,100,null,224.32121739173684,107.3764434376121,175.89483567056976,195.25005418969593,221.74491406596212,270.36091860034833,111.96220696488204]
[null,"Mayo",79.722658766268637,93.477948790489165,53.785329902312178,79.28077784993296,103.38313571259542,106.16861278917743,89.392193040712698,null,{"$f":"(C274/C262-1)*100","v":7.0971549448367144},{"$f":"(D274/D262-1)*100","v":0.9036809371009813},{"$f":"(E274/E262-1)*100","v":-5.9250770195183318},{"$f":"(F274/F262-1)*100","v":1.6425197780698397},{"$f":"(G274/G262-1)*100","v":4.0254348044998833},{"$f":"(H274/H262-1)*100","v":2.0989036310067766},{"$f":"(I274/I262-1)*100","v":1.0949743507296494},null,179.07708522601837,100.45924225028702,94.818928591776171,155.12433273188327,229.35280902437952,286.3781004234724,100,null,224.62507898919631,107.46838537872169,176.29143255975455,195.66449388969312,221.84741006693699,269.73894911120573,111.8665921468736]
[null,"Junio",79.217294962882264,93.50387801894216,53.389137907644717,79.053429274708805,104.0340512518973,106.36903974973008,89.644850776056884,null,4.8875619119558733,0.70174107664453533,-6.4441014363009526,1.0805699651702749,3.8165442141550709,2.4463549394585282,0.95138400924799083,null,177.92479652258021,100.45924225028702,94.844566562906266,154.94733255984002,230.70162709057257,286.82032667876587,100,null,224.60347403423449,107.43858370231001,177.64768318037517,196.00330305900039,221.75588118929977,269.64643786726833,111.55130398935178]
[null,"Julio",79.539858381720009,93.45616717530585,52.25071251961144,78.736235301831954,103.92953870696807,106.17218611793332,89.755112279446806,null,5.5359946174460051,0.70374854023502742,-7.1087919228809415,0.71499309808671363,3.5275648888173361,2.4822372189731823,1.3370928523134484,null,179.35329431477257,100.45924225028702,94.293091214203955,154.88966963048429,231.52964120819806,286.994555353902,100,null,225.48857637392007,107.49343278956086,180.46278541907463,196.71967936582365,222.77558823868318,270.31048888370429,111.41426650847073]
[null,"Agosto",80.386540616026636,93.854136403386562,52.379234194068481,78.503293426540935,104.67473509103107,105.96766556001415,89.765190372159381,null,{"$f":"(C277/C265-1)*100","v":6.1195597005070379},{"$f":"(D277/D265-1)*100","v":0.79204605935725425},{"$f":"(E277/E265-1)*100","v":-6.028770864448818},{"$f":"(F277/F265-1)*100","v":0.24385133355322441},{"$f":"(G277/G265-1)*100","v":3.3187327057805138},{"$f":"(H277/H265-1)*100","v":2.0951232208663129},{"$f":"(I277/I265-1)*100","v":1.255475342820267},null,180.32648626432044,100.45924225028702,93.964459038809153,154.47568811148983,232.43284075551398,287.21597096188742,100,null,224.32422751672539,107.0376289208092,179.39257891908977,196.77606042864898,222.05247575107521,271.04114207293202,111.40175783664905]
[null,"Septiembre",80.78098467839115,94.249285814712124,53.163711130717502,78.954580421398916,105.40360684422113,106.17539822636758,89.981919872402315,null,5.574821127450047,0.66113893954775627,-4.9104107264671626,0.41302186351714898,2.9725222790669692,1.7858199299333855,1.4518141888618663,null,180.70610505169299,100.45924225028702,94.350582422192645,154.54540948176154,233.57428211613333,288.09316394434359,100,null,223.69881448106653,106.58886312176759,177.47177617116677,195.73963746867736,221.59989502194088,271.3370222828122,111.13343674129612]
[null,"Octubre",79.644884132567569,94.071302502197923,53.115289819354011,78.953292492602799,105.02654544489265,106.35962569665158,90.097152864555724,null,3.6005177172422798,0.60251005917715261,-4.1045042529800675,-0.21706476444639522,2.3928140765103967,1.563242307449908,1.5528936364164636,null,179.26773562466488,100.45924225028702,94.835761603124212,155.09589960332286,234.15846649352721,288.77555958862666,100,null,225.08380491366742,106.79052971328832,178.54700958172728,196.44006564748886,222.9516980698846,271.50862716670684,110.99129863773982]
[null,"Noviembre",79.034277971684446,93.854462163670433,52.576855532865871,78.912663615211855,104.0099171399993,105.87077124563928,90.272114045760134,null,{"$f":"(C280/C268-1)*100","v":2.795876874838954},{"$f":"(D280/D268-1)*100","v":0.51782435951117645},{"$f":"(E280/E268-1)*100","v":-4.6628391538222402},{"$f":"(F280/F268-1)*100","v":-0.40463143422598824},{"$f":"(G280/G268-1)*100","v":1.4951260162215263},{"$f":"(H280/H268-1)*100","v":1.0708149842067138},{"$f":"(I280/I268-1)*100","v":1.8106267241532192},null,178.17604675444994,100.45924225028702,94.677919750560662,155.77069487156001,234.68146746424009,289.63218390804593,100,null,225.44148099674538,107.03725740295509,180.07527987552879,197.3963211166178,225.63374139444261,273.57143100057999,110.77618050388037]
[null,"Diciembre",78.431600374047136,93.639897282523521,52.130135426505952,78.323350261025581,103.17469486110949,105.31230345165079,90.046381146672744,null,{"$f":"(C281/C269-1)*100","v":2.7269654115972264},{"$f":"(D281/D269-1)*100","v":7.2562897443950725E-2},{"$f":"(E281/E269-1)*100","v":-5.4938278255831197},{"$f":"(F281/F269-1)*100","v":-2.077142737189519},{"$f":"(G281/G269-1)*100","v":1.1059547239971046},{"$f":"(H281/H269-1)*100","v":1.2027281194593842},{"$f":"(I281/I269-1)*100","v":1.6205222713408185},null,177.75524924436726,100.45924225028702,94.820093954100258,155.70255736299791,235.54638180388855,291.0677555958863,100,null,226.63728445758727,107.2825207690998,181.89113298540997,198.79455723496665,228.2985979468838,276.38532826272899,111.05387993007096]
[2018,"Enero",78.891642796671704,94.023884775943444,52.638094241775349,78.628960562514209,104.03140002563175,106.0663419249684,90.363985483341011,null,2.8880827698465783,0.63918663989082081,-4.7841224086190621,-2.3822273621573853,1.5217160730643275,1.7416237129162848,1.6805534364345398,null,178.55193188673704,100.45924225028702,94.848710073391928,155.91436936966707,236.94672382846696,292.40532365396251,100,null,226.32553405805086,106.84438585969818,180.19024328224413,198.29127620949134,227.76462084532832,275.68153888140199,110.66355635502092]
[null,"Febrero",79.282443584507021,94.374390285848776,53.118560360599744,78.39367141270013,104.58070416614399,107.5671939389791,90.514404547708665,null,2.4525992685869413,0.97120602567517533,-2.4254413182797641,-2.0479512351625151,2.0507684930071157,2.5543080180557398,1.8224171529672706,null,179.00283722906116,100.45924225028702,95.089681105074249,155.74123766531616,237.64915327102054,294.88263762855411,100,null,225.7786580937838,106.44756691514291,179.0140404023567,198.66557447657107,227.23996282667497,274.13807763344244,110.47965293445823]
[null,"Marzo",79.0216822945128,94.689190096912412,53.348697304925501,78.470229337176491,104.94119343541875,108.20801302529057,90.632752105762705,null,1.6770252853039569,1.4360688727657944,-1.2368582286594876,-1.3986869970298743,2.2122161020966979,2.4548577784649028,1.775355297004455,null,177.95586962117136,100.45924225028702,95.5079166947217,156.08826462690791,238.26944069133012,297.07683000604959,100,null,225.19878652789509,106.09367568512211,179.02577104896577,198.91399062466954,227.05043929004117,274.54235753928526,110.33538944432173]
[null,"Abril ",79.103337037008984,95.031627205065249,53.665034543798079,78.723831836773726,105.35297545690941,108.59150221299072,90.820199334583606,null,{"$f":"(C285/C273-1)*100","v":1.247366228708735},{"$f":"(D285/D273-1)*100","v":1.5751056328495494},{"$f":"(E285/E273-1)*100","v":-0.42269300478274818},{"$f":"(F285/F273-1)*100","v":-0.87844437351276561},{"$f":"(G285/G273-1)*100","v":2.5195471745182774},{"$f":"(H285/H273-1)*100","v":2.6354712772153288},{"$f":"(I285/I273-1)*100","v":1.6842995449049214},null,177.294358179265,100.45924225028702,95.736845649055013,156.32030883879844,238.99873901966444,298.12462189957654,100,null,224.13006179033479,105.7113775748675,178.39706330743257,198.56796244739908,226.85523401986657,274.53770859052736,110.1076640798792]
[null,"Mayo",79.511608713568393,95.307689316647597,53.885427139887142,79.477408057777893,106.08532031595921,108.82524918236004,91.197912998767578,null,{"$f":"(C286/C274-1)*100","v":-0.26473032380793793},{"$f":"(D286/D274-1)*100","v":1.95740337676793},{"$f":"(E286/E274-1)*100","v":0.18610509177272583},{"$f":"(F286/F274-1)*100","v":0.24801750585383697},{"$f":"(G286/G274-1)*100","v":2.6137576353612024},{"$f":"(H286/H274-1)*100","v":2.5022804041510582},{"$f":"(I286/I274-1)*100","v":2.0199973807919491},null,177.2737399931431,100.45924225028702,96.183308903886086,157.31281593404117,240.9878042498899,298.31094978826377,100,null,222.95328048480542,105.40518081025346,178.4959570872347,197.93400386142318,227.1641387631615,274.11924349318951,109.65163205143891]
[null,"Junio",79.794105596123487,95.332046352892888,53.965526658102284,79.780001930393681,106.55515708000723,108.79388626497484,91.155851934581975,null,{"$f":"(C287/C275-1)*100","v":0.7281372502197847},{"$f":"(D287/D275-1)*100","v":1.9551791569333288},{"$f":"(E287/E275-1)*100","v":1.0795992837618673},{"$f":"(F287/F275-1)*100","v":0.91909062307726774},{"$f":"(G287/G275-1)*100","v":2.4233467771101136},{"$f":"(H287/H275-1)*100","v":2.2796544191336698},{"$f":"(I287/I275-1)*100","v":1.6855414956289616},null,177.93562446144315,100.45924225028702,96.724684445779559,158.31091664959254,242.72199890642386,298.37023593466421,100,null,222.99344435547823,105.37825012002227,179.23420827258337,198.43433544626308,227.79000618822738,274.25276013025524,109.70222742448288]
[null,"Julio",79.535474672973976,95.202788772082144,53.747144174126028,79.595320160467764,107.17275953462463,109.19084226326648,91.212484791884137,null,{"$f":"(C288/C276-1)*100","v":-5.5113358701230908E-3},{"$f":"(D288/D276-1)*100","v":1.8689206390199553},{"$f":"(E288/E276-1)*100","v":2.8639449729090716},{"$f":"(F288/F276-1)*100","v":1.0910921195845136},{"$f":"(G288/G276-1)*100","v":3.1205958075123386},{"$f":"(H288/H276-1)*100","v":2.8431703779557838},{"$f":"(I288/I276-1)*100","v":1.6237208950281135},null,177.83622988328,100.45924225028702,96.669264993033735,158.5327802315793,243.90883597548157,299.39261947973381,100,null,223.59359847224059,105.521323005347,179.85935155894384,199.17349400940913,227.5847305179085,274.19205976805091,109.63411448352272]
[null,"Agosto",79.741177870833056,95.010587483399632,53.721328898526131,79.327885034721106,107.89256733125093,109.55597883397832,91.203570243200502,null,-0.80282437861857181,1.2321791285177186,2.562264846189044,1.0503911010456779,3.0741250383117258,3.3862341451052824,1.6023804607083303,null,178.07957873790255,100.45924225028702,96.996861290807104,158.60848070488919,244.83155156308004,300.31941923774951,100,null,223.32198180764365,105.73478694449648,180.55558803101064,199.94038746333354,226.92161065312325,274.12417143646269,109.64483049659484]
[null,"Septiembre",81.239759504022018,95.078813660747798,54.585493833413949,79.533068132739828,107.96417821209106,109.83498090063479,91.342270086971368,null,{"$f":"(C290/C278-1)*100","v":0.56792428002376827},{"$f":"(D290/D278-1)*100","v":0.88014231499480289},{"$f":"(E290/E278-1)*100","v":2.6743481078674192},{"$f":"(F290/F278-1)*100","v":0.7326841688644059},{"$f":"(G290/G278-1)*100","v":2.4293014675050628},{"$f":"(H290/H278-1)*100","v":3.4467331749158392},{"$f":"(I290/I278-1)*100","v":1.5118039451681886},null,181.61649292114606,100.45924225028702,99.02873524521813,158.88394657008214,245.93970042699138,300.96612220205679,100,null,223.55616760799813,105.65891430738421,181.41950963645715,199.77092585552788,227.79750144890954,274.01663817316449,109.47833889478025]
[null,"Octubre",82.925275743470806,95.027682296525654,54.932056921220394,79.341185045981433,108.088436979831,110.11398521929793,91.42989216356591,null,{"$f":"(C291/C279-1)*100","v":4.118772532135373},{"$f":"(D291/D279-1)*100","v":1.0166541430691733},{"$f":"(E291/E279-1)*100","v":3.4204220819376907},{"$f":"(F291/F279-1)*100","v":0.49129370179841203},{"$f":"(G291/G279-1)*100","v":2.915350135499728},{"$f":"(H291/H279-1)*100","v":3.5298728235036991},{"$f":"(I291/I279-1)*100","v":1.4792246554269139},null,185.74913703734978,100.45924225028702,99.816002237495667,159.11358447362835,247.05374337799512,301.86993345432541,100,null,223.99580269345668,105.71576599838839,181.70810967563915,200.54349374970334,228.56630207733937,274.14313708938528,109.37342004199499]
[null,"Noviembre",84.920595719169654,94.877296171773892,54.699420040643105,79.143502946044407,107.86609904945547,110.50332177734158,91.523132478449,null,{"$f":"(C292/C280-1)*100","v":7.4478035335428627},{"$f":"(D292/D280-1)*100","v":1.0898086084812464},{"$f":"(E292/E280-1)*100","v":4.0370700877126797},{"$f":"(F292/F280-1)*100","v":0.29252507805104244},{"$f":"(G292/G280-1)*100","v":3.7075136828209176},{"$f":"(H292/H280-1)*100","v":4.3756652352649361},{"$f":"(I292/I280-1)*100","v":1.3858304371322294},null,191.6632433017177,100.45924225028702,99.436871028056743,160.09417710992713,248.66823722897286,302.88292570506718,100,null,225.69700751457677,105.88333173871978,181.78779766617731,202.2834107040604,230.53418953712335,274.09395557842186,109.26199452750053]
[null,"Diciembre",83.108351476257781,95.012183397103072,54.693519144073065,79.089668634106815,107.01941999772788,110.56605382279739,91.6213064638291,null,{"$f":"(C293/C281-1)*100","v":5.9628403346442038},{"$f":"(D293/D281-1)*100","v":1.4654929729783772},{"$f":"(E293/E281-1)*100","v":4.9172780707255503},{"$f":"(F293/F281-1)*100","v":0.97840346528506039},{"$f":"(G293/G281-1)*100","v":3.726422590145817},{"$f":"(H293/H281-1)*100","v":4.9887336986780495},{"$f":"(I293/I281-1)*100","v":1.7490156707031135},null,188.57094605936607,100.45924225028702,99.875824170132532,160.79641175363574,249.05853648715913,303.37068965517233,100,null,226.89770968834173,105.73301092389171,182.60997963404171,203.3089966497767,232.72274928461289,274.37959406725338,109.14491820685693]
[2019,"Enero",83.879676591266175,95.24422069328962,54.067107714183088,79.243808988874946,108.32846103179138,111.28119856345926,92.046277927496561,null,{"$f":"(C294/C282-1)*100","v":6.3226390245798125},{"$f":"(D294/D282-1)*100","v":1.297899911553535},{"$f":"(E294/E282-1)*100","v":2.7147895321666615},{"$f":"(F294/F282-1)*100","v":0.78196178858538357},{"$f":"(G294/G282-1)*100","v":4.1305423219344384},{"$f":"(H294/H282-1)*100","v":4.9165989359563955},{"$f":"(I294/I282-1)*100","v":1.8616846469943438},null,190.05637107037884,100.45924225028702,99.873493445484343,160.85295957306056,250.99457518546103,304.23469593524032,100,null,226.58214575205946,105.47542047069824,184.72135401332955,202.98489134418406,231.69772079730845,273.39272030013888,108.64100347302308]
[null,"Febrero",84.749941783659793,95.476693543118103,54.228344689926601,79.118420408482635,108.86746310996979,111.57617008503556,92.352548448269474,null,{"$f":"(C295/C283-1)*100","v":6.8962281584131313},{"$f":"(D295/D283-1)*100","v":1.1680109974014918},{"$f":"(E295/E283-1)*100","v":2.089259049554415},{"$f":"(F295/F283-1)*100","v":0.92449936675003119},{"$f":"(G295/G283-1)*100","v":4.0989960605118503},{"$f":"(H295/H283-1)*100","v":3.7269505685261883},{"$f":"(I295/I283-1)*100","v":2.0307750017754866},null,191.37619779622784,100.45924225028702,99.886053461644039,161.15908024401688,251.86700001762063,304.88372018976656,100,null,225.81277788337798,105.21860207163409,184.19528391062758,203.69350071950922,231.3519510996627,273.25164500395158,108.28071523766793]
[null,"Marzo",84.475594853773984,95.801550423371268,54.242212088279139,79.375948693432306,107.58496616506336,111.56533098175177,92.490277557349259,null,{"$f":"(C296/C284-1)*100","v":6.9017925218733289},{"$f":"(D296/D284-1)*100","v":1.1747490133988681},{"$f":"(E296/E284-1)*100","v":1.6748577350381488},{"$f":"(F296/F284-1)*100","v":1.1542203507065807},{"$f":"(G296/G284-1)*100","v":2.5192897499032085},{"$f":"(H296/H284-1)*100","v":3.1026518855646223},{"$f":"(I296/I284-1)*100","v":2.0495079410354222},null,189.41330747921316,100.45924225028702,99.309069626514315,161.41944738979788,252.00783742376149,305.12998012272067,100,null,224.22251989711916,104.86181257644813,183.08447573061534,203.36065275041432,234.24075538315998,273.49892429632047,108.11947227425529]
[null,"Abril ",83.901630627678003,96.155987344899685,53.884602947734656,79.104574288204319,107.57063203089686,111.60700208287339,92.720454941997531,null,6.0658548304025395,1.1831430997263803,0.4091461149761777,0.48364318980309573,2.1049776376695695,2.7769206691404813,2.0923270608703914,null,188.18453140933096,100.45924225028702,98.726517949169477,161.48662755232363,253.05787007969386,305.23615754449645,100,null,224.29186417653662,104.4752854442148,183.21841963822061,204.14322307579087,235.24810192340374,273.49194212549889,107.85106701919902]
[null,"Notas:"]
[null,"El ITCER BILATERAL incluye únicamente a Estados Unidos como socio comercial."]
[null,"Valores sobre (bajo) 100 significan una depreciación (apreciación) real de la moneda. El índice se descompone en efecto precio y efecto tipo de cambio, los cuales divididos generan el índice."]
[]
[null,"Fuente: Cálculos de la Secretaría Ejecutiva del Consejo Monetario Centroamericano"]
[null,{"$f":"TODAY()","v":"2019-07-10"}]

{"sheet":"GRAFICOS","index":8,"n_rows":88,"n_cols":14,"rows_kept":88,"cut":false,"hidden":false,"merged":[[2,0,2,11],[3,0,3,11],[48,0,48,11],[49,0,49,11],[25,0,25,11],[26,0,26,11],[91,0,91,30],[69,0,69,11],[70,0,70,11],[4,0,4,11],[5,0,5,11]]}
["Secretaría Ejecutiva"]
["Consejo Monetario Centroamericano"]
["GRÁFICOS 2014-2019"]
["Valores sobre 100 indican depreciación real de la moneda respecto a diciembre del año 2000"]
["ITCER GLOBAL\n"]
["Diciembre 2000=100"]
[null,null,null,null,null,null,null,null,null,null,null,null,null,{"$f":"COUNT('ITCER BILATERAL'!$C$6:$C$333)","v":292}]
[{"$f":"CONCATENATE(\"Variación Interanual \",\"al mes de \", INDICE!I15)","v":"Variación Interanual al mes de Abril 2019"}]
[null,"GLOBAL"]
["Costa Rica",{"$f":"INDEX('ITCER GLOBAL'!$C$6:$C$333,$N$7)/INDEX('ITCER GLOBAL'!$C$6:$C$333,$N$7-12) -1","v":3.2468397887895462E-2}]
["El Salvador",{"$f":"INDEX('ITCER GLOBAL'!$D$6:$D$333,$N$7)/INDEX('ITCER GLOBAL'!$D$6:$D$333,$N$7-12) -1","v":-4.1730704986585598E-3}]
["Guatemala",{"$f":"INDEX('ITCER GLOBAL'!$E$6:$E$333,$N$7)/INDEX('ITCER GLOBAL'!$E$6:$E$333,$N$7-12) -1","v":-2.0995010995161212E-2}]
["Honduras",{"$f":"INDEX('ITCER GLOBAL'!$F$6:$F$333,$N$7)/INDEX('ITCER GLOBAL'!$F$6:$F$333,$N$7-12) -1","v":-2.7277796590689518E-2}]
["Nicaragua",{"$f":"INDEX('ITCER GLOBAL'!$G$6:$G$333,$N$7)/INDEX('ITCER GLOBAL'!$G$6:$G$333,$N$7-12) -1","v":-9.3661643776697945E-3}]
["República Dominicana",{"$f":"INDEX('ITCER GLOBAL'!$H$6:$H$333,$N$7)/INDEX('ITCER GLOBAL'!$H$6:$H$333,$N$7-12) -1","v":-1.0319782906021979E-2}]
["Panamá",{"$f":"INDEX('ITCER GLOBAL'!$I$6:$I$333,$N$7)/INDEX('ITCER GLOBAL'!$I$6:$I$333,$N$7-12) -1","v":-1.7782861382787285E-2}]
[]
[]
[]
[]
[]
[]
[]
[null,null,null,null,"Fuente: Cálculos de la Secretaría Ejecutiva del Consejo Monetario Centroamericano"]
[]
["ITCER con el RESTO DEL MUNDO\n"]
["Diciembre 2000=100"]
[]
[{"$f":"CONCATENATE(\"Variación Interanual \",\"al mes de \", INDICE!I15)","v":"Variación Interanual al mes de Abril 2019"}]
[null,"RESTO DEL MUNDO"]
["Costa Rica",{"$f":"INDEX('ITCER RESTOM'!$C$6:$C$333,$N$7)/INDEX('ITCER RESTOM'!$C$6:$C$333,$N$7-12) -1","v":2.9875743257827825E-2}]
["El Salvador",{"$f":"INDEX('ITCER RESTOM'!$D$6:$D$333,$N$7)/INDEX('ITCER RESTOM'!$D$6:$D$333,$N$7-12) -1","v":-4.44355619954373E-3}]
["Guatemala",{"$f":"INDEX('ITCER RESTOM'!$E$6:$E$333,$N$7)/INDEX('ITCER RESTOM'!$E$6:$E$333,$N$7-12) -1","v":-2.1059565551181492E-2}]
["Honduras",{"$f":"INDEX('ITCER RESTOM'!$F$6:$F$333,$N$7)/INDEX('ITCER RESTOM'!$F$6:$F$333,$N$7-12) -1","v":-2.3519817354071493E-2}]
["Nicaragua",{"$f":"INDEX('ITCER RESTOM'!$G$6:$G$333,$N$7)/INDEX('ITCER RESTOM'!$G$6:$G$333,$N$7-12) -1","v":-3.3428088601120676E-3}]
["República Dominicana",{"$f":"INDEX('ITCER RESTOM'!$H$6:$H$333,$N$7)/INDEX('ITCER RESTOM'!$H$6:$H$333,$N$7-12) -1","v":-1.1382317723510171E-2}]
["Panamá",{"$f":"INDEX('ITCER RESTOM'!$I$6:$I$333,$N$7)/INDEX('ITCER RESTOM'!$I$6:$I$333,$N$7-12) -1","v":-1.8691347210671894E-2}]
[]
[]
[]
[]
[]
[]
[]
[]
[]
[null,null,null,null,"Fuente: Cálculos de la Secretaría Ejecutiva del Consejo Monetario Centroamericano"]
[]
["ITCER con la REGIÓN CAPARD"]
["Diciembre 2000=100"]
[]
[{"$f":"CONCATENATE(\"Variación Interanual \",\"al mes de \", INDICE!I15)","v":"Variación Interanual al mes de Abril 2019"}]
[null,"REGIÓN CAPARD"]
["Costa Rica",{"$f":"INDEX('ITCER REGION'!$C$6:$C$333,$N$7)/INDEX('ITCER REGION'!$C$6:$C$333,$N$7-12) -1","v":4.9457225761197599E-2}]
["El Salvador",{"$f":"INDEX('ITCER REGION'!$D$6:$D$333,$N$7)/INDEX('ITCER REGION'!$D$6:$D$333,$N$7-12) -1","v":3.5381381426797809E-3}]
["Guatemala",{"$f":"INDEX('ITCER REGION'!$E$6:$E$333,$N$7)/INDEX('ITCER REGION'!$E$6:$E$333,$N$7-12) -1","v":-1.8879228916936497E-2}]
["Honduras",{"$f":"INDEX('ITCER REGION'!$F$6:$F$333,$N$7)/INDEX('ITCER REGION'!$F$6:$F$333,$N$7-12) -1","v":-3.389226973812709E-2}]
["Nicaragua",{"$f":"INDEX('ITCER REGION'!$G$6:$G$333,$N$7)/INDEX('ITCER REGION'!$G$6:$G$333,$N$7-12) -1","v":-1.197584816150099E-2}]
["República Dominicana",{"$f":"INDEX('ITCER REGION'!$H$6:$H$333,$N$7)/INDEX('ITCER REGION'!$H$6:$H$333,$N$7-12) -1","v":2.1109843405842987E-2}]
["Panamá",{"$f":"INDEX('ITCER REGION'!$I$6:$I$333,$N$7)/INDEX('ITCER REGION'!$I$6:$I$333,$N$7-12) -1","v":-6.1490321852124552E-3}]
[]
[]
[]
[]
[]
[]
[]
[null,null,null,null,"Fuente: Cálculos de la Secretaría Ejecutiva del Consejo Monetario Centroamericano"]
[]
["ITCER BILATERAL con USA\n"]
["Diciembre 2000=100"]
[]
[{"$f":"CONCATENATE(\"Variación Interanual \",\"al mes de \", INDICE!I15)","v":"Variación Interanual al mes de Abril 2019"}]
[null,"BILATERAL"]
["Costa Rica",{"$f":"INDEX('ITCER BILATERAL'!$C$6:$C$333,$N$7)/INDEX('ITCER BILATERAL'!$C$6:$C$333,$N$7-12) -1","v":6.0658548304025395E-2}]
["El Salvador",{"$f":"INDEX('ITCER BILATERAL'!$D$6:$D$333,$N$7)/INDEX('ITCER BILATERAL'!$D$6:$D$333,$N$7-12) -1","v":1.1831430997263803E-2}]
["Guatemala",{"$f":"INDEX('ITCER BILATERAL'!$E$6:$E$333,$N$7)/INDEX('ITCER BILATERAL'!$E$6:$E$333,$N$7-12) -1","v":4.091461149761777E-3}]
["Honduras",{"$f":"INDEX('ITCER BILATERAL'!$F$6:$F$333,$N$7)/INDEX('ITCER BILATERAL'!$F$6:$F$333,$N$7-12) -1","v":4.8364318980309573E-3}]
["Nicaragua",{"$f":"INDEX('ITCER BILATERAL'!$G$6:$G$333,$N$7)/INDEX('ITCER BILATERAL'!$G$6:$G$333,$N$7-12) -1","v":2.1049776376695695E-2}]
["República Dominicana",{"$f":"INDEX('ITCER BILATERAL'!$H$6:$H$333,$N$7)/INDEX('ITCER BILATERAL'!$H$6:$H$333,$N$7-12) -1","v":2.7769206691404813E-2}]
["Panamá",{"$f":"INDEX('ITCER BILATERAL'!$I$6:$I$333,$N$7)/INDEX('ITCER BILATERAL'!$I$6:$I$333,$N$7-12) -1","v":2.0923270608703914E-2}]
[]
[]
[]
[]
[]
[]
[null,null,null,null,"Fuente: Cálculos de la Secretaría Ejecutiva del Consejo Monetario Centroamericano"]

{"sheet":"EFECTOS","index":9,"n_rows":30,"n_cols":14,"rows_kept":30,"cut":false,"hidden":false,"merged":[[2,0,2,11],[3,0,3,11],[4,0,4,11],[5,0,5,11],[7,9,8,11]]}
["Secretaría Ejecutiva"]
["Consejo Monetario Centroamericano"]
["GRÁFICOS 1995-2019"]
["Descomposición del ITCER GLOBAL en Efecto Precio y Efecto Tipo de Cambio"]
[{"$f":"CONCATENATE(\"ITCER GLOBAL de \", N9\n)","v":"ITCER GLOBAL de COSTA RICA"}]
["Diciembre 2000=100"]
[null,null,null,null,null,null,null,null,null,null,null,null,null,{"$f":"COUNT('ITCER BILATERAL'!$C$6:$C$333)","v":292}]
[null,null,null,null,null,null,null,null,null,{"$f":"CONCATENATE(\"Nivel\",\" al mes de \", INDICE!I15)","v":"Nivel al mes de Abril 2019"},null,null,null,1]
[null,null,null,null,null,null,null,null,null,null,null,null,null,{"$f":"LOOKUP(N8,GEfectos!C4:I4,GEfectos!C5:I5)","v":"COSTA RICA"}]
[]
[]
[]
[]
[]
[]
[]
[]
[]
[]
[]
[]
[]
[]
[]
[]
[]
["Fuente: Cálculos de la Secretaría Ejecutiva del Consejo Monetario Centroamericano"]
[]
["Notas:"]
["En el periodo 2003-2004 República Dominicana atravesó una crisis financiera interna, producto de la quiebra de tres de los principales bancos del sistema nacional. "]

{"sheet":"GEfectos","index":10,"n_rows":297,"n_cols":28,"rows_kept":297,"cut":false,"hidden":true,"merged":[]}
[]
[]
[null,null,"ITCER GLOBAL",null,null,null,null,null,null,"EFECTO TIPO DE CAMBIO",null,null,null,null,null,null,null,"EFECTO PRECIO",null,null,null,null,null,null,{"$f":"EFECTOS!N9","v":"COSTA RICA"}]
[null,null,1,2,3,4,5,6,7,1,2,3,4,5,6,7,1,2,3,4,5,6,7,null,"Gráfico Dinámico"]
[null,null,{"$f":"'ITCER GLOBAL'!C5","v":"COSTA RICA"},{"$f":"'ITCER GLOBAL'!D5","v":"EL SALVADOR"},{"$f":"'ITCER GLOBAL'!E5","v":"GUATEMALA"},{"$f":"'ITCER GLOBAL'!F5","v":"HONDURAS"},{"$f":"'ITCER GLOBAL'!G5","v":"NICARAGUA"},{"$f":"'ITCER GLOBAL'!H5","v":"REPÚBLICA \nDOMINICANA"},{"$f":"'ITCER GLOBAL'!I5","v":"PANAMÁ"},{"$f":"'ITCER GLOBAL'!S5","v":"COSTA\n RICA"},{"$f":"'ITCER GLOBAL'!T5","v":"EL\nSALVADOR"},{"$f":"'ITCER GLOBAL'!U5","v":"GUATEMALA"},{"$f":"'ITCER GLOBAL'!V5","v":"HONDURAS"},{"$f":"'ITCER GLOBAL'!W5","v":"NICARAGUA"},{"$f":"'ITCER GLOBAL'!X5","v":"REPÚBLICA \nDOMINICANA"},{"$f":"'ITCER GLOBAL'!Y5","v":"PANAMÁ"},{"$f":"'ITCER GLOBAL'!AA5","v":"COSTA\n RICA"},{"$f":"'ITCER GLOBAL'!AB5","v":"EL\nSALVADOR"},{"$f":"'ITCER GLOBAL'!AC5","v":"GUATEMALA"},{"$f":"'ITCER GLOBAL'!AD5","v":"HONDURAS"},{"$f":"'ITCER GLOBAL'!AE5","v":"NICARAGUA"},{"$f":"'ITCER GLOBAL'!AF5","v":"REPÚBLICA\nDOMINICANA"},{"$f":"'ITCER GLOBAL'!AG5","v":"PANAMÁ"},null,{"$f":"C3","v":"ITCER GLOBAL"},{"$f":"J3","v":"EFECTO TIPO DE CAMBIO"},{"$f":"R3","v":"EFECTO PRECIO"},"Nivel"]
[1995,{"$f":"'ITCER GLOBAL'!B6","v":"Enero"},{"$f":"'ITCER GLOBAL'!C6","v":99.890230784525372},{"$f":"'ITCER GLOBAL'!D6","v":118.50106903178003},{"$f":"'ITCER GLOBAL'!E6","v":101.69908521826592},{"$f":"'ITCER GLOBAL'!F6","v":138.61487166824989},{"$f":"'ITCER GLOBAL'!G6","v":92.87145730262047},{"$f":"'ITCER GLOBAL'!H6","v":106.46550565381786},{"$f":"'ITCER GLOBAL'!I6","v":101.12999365648908},{"$f":"'ITCER GLOBAL'!S6","v":60.66291634254101},{"$f":"'ITCER GLOBAL'!T6","v":120.21891221603782},{"$f":"'ITCER GLOBAL'!U6","v":87.039105765887598},{"$f":"'ITCER GLOBAL'!V6","v":70.078491601715996},{"$f":"'ITCER GLOBAL'!W6","v":66.668854683884945},{"$f":"'ITCER GLOBAL'!X6","v":85.608943543628229},{"$f":"'ITCER GLOBAL'!Y6","v":118.2462462156914},{"$f":"'ITCER GLOBAL'!AA6","v":60.72957872466813},{"$f":"'ITCER GLOBAL'!AB6","v":101.44964361781166},{"$f":"'ITCER GLOBAL'!AC6","v":85.584944622741517},{"$f":"'ITCER GLOBAL'!AD6","v":50.55625760664153},{"$f":"'ITCER GLOBAL'!AE6","v":71.786161884641615},{"$f":"'ITCER GLOBAL'!AF6","v":80.41002859836442},{"$f":"'ITCER GLOBAL'!AG6","v":116.92500112018354},null,{"$f":"IF(EFECTOS!$N$9=\"COSTA RICA\",LOOKUP(1,GEfectos!$C$4:$I$4,GEfectos!C6:I6),IF(EFECTOS!$N$9=\"EL SALVADOR\",LOOKUP(2,GEfectos!$C$4:$I$4,GEfectos!C6:I6),IF(EFECTOS!$N$9=\"GUATEMALA\",LOOKUP(3,GEfectos!$C$4:$I$4,GEfectos!C6:I6),IF(EFECTOS!$N$9=\"HONDURAS\",LOOKUP(4,GEfectos!$C$4:$I$4,GEfectos!C6:I6),IF(EFECTOS!$N$9=\"NICARAGUA\",LOOKUP(5,GEfectos!$C$4:$I$4,GEfectos!C6:I6),IF(EFECTOS!$N$9=\"REPÚBLICA \nDOMINICANA\",LOOKUP(6,$C$4:$I$4,C6:I6),IF(EFECTOS!$N$9=\"PANAMÁ\",LOOKUP(7,GEfectos!$C$4:$I$4,GEfectos!C6:I6))))))))","v":99.890230784525372},{"$f":"IF(EFECTOS!$N$9=\"COSTA RICA\",LOOKUP(1,GEfectos!$J$4:$P$4,GEfectos!J6:P6),IF(EFECTOS!$N$9=\"EL SALVADOR\",LOOKUP(2,GEfectos!$J$4:$P$4,GEfectos!J6:P6),IF(EFECTOS!$N$9=\"GUATEMALA\",LOOKUP(3,GEfectos!$J$4:$P$4,GEfectos!J6:P6),IF(EFECTOS!$N$9=\"HONDURAS\",LOOKUP(4,GEfectos!$J$4:$P$4,GEfectos!J6:P6),IF(EFECTOS!$N$9=\"NICARAGUA\",LOOKUP(5,GEfectos!$J$4:$P$4,GEfectos!J6:P6),IF(EFECTOS!$N$9=\"REPÚBLICA \nDOMINICANA\",LOOKUP(6,$J$4:$P$4,J6:P6),IF(EFECTOS!$N$9=\"PANAMÁ\",LOOKUP(7,GEfectos!$J$4:$P$4,GEfectos!J6:P6))))))))","v":60.66291634254101},{"$f":"IF(EFECTOS!$N$9=\"COSTA RICA\",LOOKUP(1,GEfectos!$Q$4:$W$4,GEfectos!Q6:W6),IF(EFECTOS!$N$9=\"EL SALVADOR\",LOOKUP(2,GEfectos!$Q$4:$W$4,GEfectos!Q6:W6),IF(EFECTOS!$N$9=\"GUATEMALA\",LOOKUP(3,GEfectos!$Q$4:$W$4,GEfectos!Q6:W6),IF(EFECTOS!$N$9=\"HONDURAS\",LOOKUP(4,GEfectos!$Q$4:$W$4,GEfectos!Q6:W6),IF(EFECTOS!$N$9=\"NICARAGUA\",LOOKUP(5,GEfectos!$Q$4:$W$4,GEfectos!Q6:W6),IF(EFECTOS!$N$9=\"REPÚBLICA \nDOMINICANA\",LOOKUP(6,$Q$4:$W$4,Q6:W6),IF(EFECTOS!$N$9=\"PANAMÁ\",LOOKUP(7,GEfectos!$Q$4:$W$4,GEfectos!Q6:W6))))))))","v":60.72957872466813},100]
[null,{"$f":"'ITCER GLOBAL'!B7","v":"Febrero"},{"$f":"'ITCER GLOBAL'!C7","v":100.61788547647355},{"$f":"'ITCER GLOBAL'!D7","v":118.23077472049773},{"$f":"'ITCER GLOBAL'!E7","v":102.81115664265488},{"$f":"'ITCER GLOBAL'!F7","v":131.16353729087186},{"$f":"'ITCER GLOBAL'!G7","v":93.920339575122696},{"$f":"'ITCER GLOBAL'!H7","v":106.86856006154389},{"$f":"'ITCER GLOBAL'!I7","v":102.03763972857159},{"$f":"'ITCER GLOBAL'!S7","v":61.615157745868018},{"$f":"'ITCER GLOBAL'!T7","v":120.44155587093644},{"$f":"'ITCER GLOBAL'!U7","v":86.871202164516376},{"$f":"'ITCER GLOBAL'!V7","v":69.215355059427424},{"$f":"'ITCER GLOBAL'!W7","v":67.422653760873189},{"$f":"'ITCER GLOBAL'!X7","v":85.744754965249243},{"$f":"'ITCER GLOBAL'!Y7","v":118.50999544433485},{"$f":"'ITCER GLOBAL'!AA7","v":61.236784547887225},{"$f":"'ITCER GLOBAL'!AB7","v":101.86988637743859},{"$f":"'ITCER GLOBAL'!AC7","v":84.495890330714118},{"$f":"'ITCER GLOBAL'!AD7","v":52.770271745518386},{"$f":"'ITCER GLOBAL'!AE7","v":71.787063447470601},{"$f":"'ITCER GLOBAL'!AF7","v":80.233845123271252},{"$f":"'ITCER GLOBAL'!AG7","v":116.14341115649194},null,{"$f":"IF(EFECTOS!$N$9=\"COSTA RICA\",LOOKUP(1,GEfectos!$C$4:$I$4,GEfectos!C7:I7),IF(EFECTOS!$N$9=\"EL SALVADOR\",LOOKUP(2,GEfectos!$C$4:$I$4,GEfectos!C7:I7),IF(EFECTOS!$N$9=\"GUATEMALA\",LOOKUP(3,GEfectos!$C$4:$I$4,GEfectos!C7:I7),IF(EFECTOS!$N$9=\"HONDURAS\",LOOKUP(4,GEfectos!$C$4:$I$4,GEfectos!C7:I7),IF(EFECTOS!$N$9=\"NICARAGUA\",LOOKUP(5,GEfectos!$C$4:$I$4,GEfectos!C7:I7),IF(EFECTOS!$N$9=\"REPÚBLICA \nDOMINICANA\",LOOKUP(6,$C$4:$I$4,C7:I7),IF(EFECTOS!$N$9=\"PANAMÁ\",LOOKUP(7,GEfectos!$C$4:$I$4,GEfectos!C7:I7))))))))","v":100.61788547647355},{"$f":"IF(EFECTOS!$N$9=\"COSTA RICA\",LOOKUP(1,GEfectos!$J$4:$P$4,GEfectos!J7:P7),IF(EFECTOS!$N$9=\"EL SALVADOR\",LOOKUP(2,GEfectos!$J$4:$P$4,GEfectos!J7:P7),IF(EFECTOS!$N$9=\"GUATEMALA\",LOOKUP(3,GEfectos!$J$4:$P$4,GEfectos!J7:P7),IF(EFECTOS!$N$9=\"HONDURAS\",LOOKUP(4,GEfectos!$J$4:$P$4,GEfectos!J7:P7),IF(EFECTOS!$N$9=\"NICARAGUA\",LOOKUP(5,GEfectos!$J$4:$P$4,GEfectos!J7:P7),IF(EFECTOS!$N$9=\"REPÚBLICA \nDOMINICANA\",LOOKUP(6,$J$4:$P$4,J7:P7),IF(EFECTOS!$N$9=\"PANAMÁ\",LOOKUP(7,GEfectos!$J$4:$P$4,GEfectos!J7:P7))))))))","v":61.615157745868018},{"$f":"IF(EFECTOS!$N$9=\"COSTA RICA\",LOOKUP(1,GEfectos!$Q$4:$W$4,GEfectos!Q7:W7),IF(EFECTOS!$N$9=\"EL SALVADOR\",LOOKUP(2,GEfectos!$Q$4:$W$4,GEfectos!Q7:W7),IF(EFECTOS!$N$9=\"GUATEMALA\",LOOKUP(3,GEfectos!$Q$4:$W$4,GEfectos!Q7:W7),IF(EFECTOS!$N$9=\"HONDURAS\",LOOKUP(4,GEfectos!$Q$4:$W$4,GEfectos!Q7:W7),IF(EFECTOS!$N$9=\"NICARAGUA\",LOOKUP(5,GEfectos!$Q$4:$W$4,GEfectos!Q7:W7),IF(EFECTOS!$N$9=\"REPÚBLICA \nDOMINICANA\",LOOKUP(6,$Q$4:$W$4,Q7:W7),IF(EFECTOS!$N$9=\"PANAMÁ\",LOOKUP(7,GEfectos!$Q$4:$W$4,GEfectos!Q7:W7))))))))","v":61.236784547887225},100]
[null,{"$f":"'ITCER GLOBAL'!B8","v":"Marzo"},{"$f":"'ITCER GLOBAL'!C8","v":102.30568471352952},{"$f":"'ITCER GLOBAL'!D8","v":117.57532710542702},{"$f":"'ITCER GLOBAL'!E8","v":102.25122566074093},{"$f":"'ITCER GLOBAL'!F8","v":131.32366945726832},{"$f":"'ITCER GLOBAL'!G8","v":95.047852657122547},{"$f":"'ITCER GLOBAL'!H8","v":106.51471473360371},{"$f":"'ITCER GLOBAL'!I8","v":102.8897444200406},{"$f":"'ITCER GLOBAL'!S8","v":62.79138632458956},{"$f":"'ITCER GLOBAL'!T8","v":120.30681748224299},{"$f":"'ITCER GLOBAL'!U8","v":86.06772417786766},{"$f":"'ITCER GLOBAL'!V8","v":69.893527683177808},{"$f":"'ITCER GLOBAL'!W8","v":68.130132585730081},{"$f":"'ITCER GLOBAL'!X8","v":85.624477053182417},{"$f":"'ITCER GLOBAL'!Y8","v":119.09598843349529},{"$f":"'ITCER GLOBAL'!AA8","v":61.376243656854825},{"$f":"'ITCER GLOBAL'!AB8","v":102.32318331070149},{"$f":"'ITCER GLOBAL'!AC8","v":84.172804405720797},{"$f":"'ITCER GLOBAL'!AD8","v":53.222338343142781},{"$f":"'ITCER GLOBAL'!AE8","v":71.679823037669294},{"$f":"'ITCER GLOBAL'!AF8","v":80.387463147539421},{"$f":"'ITCER GLOBAL'!AG8","v":115.75107811259961},null,{"$f":"IF(EFECTOS!$N$9=\"COSTA RICA\",LOOKUP(1,GEfectos!$C$4:$I$4,GEfectos!C8:I8),IF(EFECTOS!$N$9=\"EL SALVADOR\",LOOKUP(2,GEfectos!$C$4:$I$4,GEfectos!C8:I8),IF(EFECTOS!$N$9=\"GUATEMALA\",LOOKUP(3,GEfectos!$C$4:$I$4,GEfectos!C8:I8),IF(EFECTOS!$N$9=\"HONDURAS\",LOOKUP(4,GEfectos!$C$4:$I$4,GEfectos!C8:I8),IF(EFECTOS!$N$9=\"NICARAGUA\",LOOKUP(5,GEfectos!$C$4:$I$4,GEfectos!C8:I8),IF(EFECTOS!$N$9=\"REPÚBLICA \nDOMINICANA\",LOOKUP(6,$C$4:$I$4,C8:I8),IF(EFECTOS!$N$9=\"PANAMÁ\",LOOKUP(7,GEfectos!$C$4:$I$4,GEfectos!C8:I8))))))))","v":102.30568471352952},{"$f":"IF(EFECTOS!$N$9=\"COSTA RICA\",LOOKUP(1,GEfectos!$J$4:$P$4,GEfectos!J8:P8),IF(EFECTOS!$N$9=\"EL SALVADOR\",LOOKUP(2,GEfectos!$J$4:$P$4,GEfectos!J8:P8),IF(EFECTOS!$N$9=\"GUATEMALA\",LOOKUP(3,GEfectos!$J$4:$P$4,GEfectos!J8:P8),IF(EFECTOS!$N$9=\"HONDURAS\",LOOKUP(4,GEfectos!$J$4:$P$4,GEfectos!J8:P8),IF(EFECTOS!$N$9=\"NICARAGUA\",LOOKUP(5,GEfectos!$J$4:$P$4,GEfectos!J8:P8),IF(EFECTOS!$N$9=\"REPÚBLICA \nDOMINICANA\",LOOKUP(6,$J$4:$P$4,J8:P8),IF(EFECTOS!$N$9=\"PANAMÁ\",LOOKUP(7,GEfectos!$J$4:$P$4,GEfectos!J8:P8))))))))","v":62.79138632458956},{"$f":"IF(EFECTOS!$N$9=\"COSTA RICA\",LOOKUP(1,GEfectos!$Q$4:$W$4,GEfectos!Q8:W8),IF(EFECTOS!$N$9=\"EL SALVADOR\",LOOKUP(2,GEfectos!$Q$4:$W$4,GEfectos!Q8:W8),IF(EFECTOS!$N$9=\"GUATEMALA\",LOOKUP(3,GEfectos!$Q$4:$W$4,GEfectos!Q8:W8),IF(EFECTOS!$N$9=\"HONDURAS\",LOOKUP(4,GEfectos!$Q$4:$W$4,GEfectos!Q8:W8),IF(EFECTOS!$N$9=\"NICARAGUA\",LOOKUP(5,GEfectos!$Q$4:$W$4,GEfectos!Q8:W8),IF(EFECTOS!$N$9=\"REPÚBLICA \nDOMINICANA\",LOOKUP(6,$Q$4:$W$4,Q8:W8),IF(EFECTOS!$N$9=\"PANAMÁ\",LOOKUP(7,GEfectos!$Q$4:$W$4,GEfectos!Q8:W8))))))))","v":61.376243656854825},100]
[null,{"$f":"'ITCER GLOBAL'!B9","v":"Abril"},{"$f":"'ITCER GLOBAL'!C9","v":104.8703964176858},{"$f":"'ITCER GLOBAL'!D9","v":118.71601488907662},{"$f":"'ITCER GLOBAL'!E9","v":104.15462011635566},{"$f":"'ITCER GLOBAL'!F9","v":129.50882491721322},{"$f":"'ITCER GLOBAL'!G9","v":97.749983954299012},{"$f":"'ITCER GLOBAL'!H9","v":108.54429101033523},{"$f":"'ITCER GLOBAL'!I9","v":104.61445207260259},{"$f":"'ITCER GLOBAL'!S9","v":64.284345391138501},{"$f":"'ITCER GLOBAL'!T9","v":121.21681700060944},{"$f":"'ITCER GLOBAL'!U9","v":87.470728406919889},{"$f":"'ITCER GLOBAL'!V9","v":70.289809276840032},{"$f":"'ITCER GLOBAL'!W9","v":69.457857665132693},{"$f":"'ITCER GLOBAL'!X9","v":86.463095818421706},{"$f":"'ITCER GLOBAL'!Y9","v":120.44047070343586},{"$f":"'ITCER GLOBAL'!AA9","v":61.298848471118497},{"$f":"'ITCER GLOBAL'!AB9","v":102.10654149220682},{"$f":"'ITCER GLOBAL'!AC9","v":83.981611482239131},{"$f":"'ITCER GLOBAL'!AD9","v":54.274146431157767},{"$f":"'ITCER GLOBAL'!AE9","v":71.056643546464699},{"$f":"'ITCER GLOBAL'!AF9","v":79.656972295474276},{"$f":"'ITCER GLOBAL'!AG9","v":115.1279467772292},null,{"$f":"IF(EFECTOS!$N$9=\"COSTA RICA\",LOOKUP(1,GEfectos!$C$4:$I$4,GEfectos!C9:I9),IF(EFECTOS!$N$9=\"EL SALVADOR\",LOOKUP(2,GEfectos!$C$4:$I$4,GEfectos!C9:I9),IF(EFECTOS!$N$9=\"GUATEMALA\",LOOKUP(3,GEfectos!$C$4:$I$4,GEfectos!C9:I9),IF(EFECTOS!$N$9=\"HONDURAS\",LOOKUP(4,GEfectos!$C$4:$I$4,GEfectos!C9:I9),IF(EFECTOS!$N$9=\"NICARAGUA\",LOOKUP(5,GEfectos!$C$4:$I$4,GEfectos!C9:I9),IF(EFECTOS!$N$9=\"REPÚBLICA \nDOMINICANA\",LOOKUP(6,$C$4:$I$4,C9:I9),IF(EFECTOS!$N$9=\"PANAMÁ\",LOOKUP(7,GEfectos!$C$4:$I$4,GEfectos!C9:I9))))))))","v":104.8703964176858},{"$f":"IF(EFECTOS!$N$9=\"COSTA RICA\",LOOKUP(1,GEfectos!$J$4:$P$4,GEfectos!J9:P9),IF(EFECTOS!$N$9=\"EL SALVADOR\",LOOKUP(2,GEfectos!$J$4:$P$4,GEfectos!J9:P9),IF(EFECTOS!$N$9=\"GUATEMALA\",LOOKUP(3,GEfectos!$J$4:$P$4,GEfectos!J9:P9),IF(EFECTOS!$N$9=\"HONDURAS\",LOOKUP(4,GEfectos!$J$4:$P$4,GEfectos!J9:P9),IF(EFECTOS!$N$9=\"NICARAGUA\",LOOKUP(5,GEfectos!$J$4:$P$4,GEfectos!J9:P9),IF(EFECTOS!$N$9=\"REPÚBLICA \nDOMINICANA\",LOOKUP(6,$J$4:$P$4,J9:P9),IF(EFECTOS!$N$9=\"PANAMÁ\",LOOKUP(7,GEfectos!$J$4:$P$4,GEfectos!J9:P9))))))))","v":64.284345391138501},{"$f":"IF(EFECTOS!$N$9=\"COSTA RICA\",LOOKUP(1,GEfectos!$Q$4:$W$4,GEfectos!Q9:W9),IF(EFECTOS!$N$9=\"EL SALVADOR\",LOOKUP(2,GEfectos!$Q$4:$W$4,GEfectos!Q9:W9),IF(EFECTOS!$N$9=\"GUATEMALA\",LOOKUP(3,GEfectos!$Q$4:$W$4,GEfectos!Q9:W9),IF(EFECTOS!$N$9=\"HONDURAS\",LOOKUP(4,GEfectos!$Q$4:$W$4,GEfectos!Q9:W9),IF(EFECTOS!$N$9=\"NICARAGUA\",LOOKUP(5,GEfectos!$Q$4:$W$4,GEfectos!Q9:W9),IF(EFECTOS!$N$9=\"REPÚBLICA \nDOMINICANA\",LOOKUP(6,$Q$4:$W$4,Q9:W9),IF(EFECTOS!$N$9=\"PANAMÁ\",LOOKUP(7,GEfectos!$Q$4:$W$4,GEfectos!Q9:W9))))))))","v":61.298848471118497},100]
[null,{"$f":"'ITCER GLOBAL'!B10","v":"Mayo"},{"$f":"'ITCER GLOBAL'!C10","v":105.76823075134544},{"$f":"'ITCER GLOBAL'!D10","v":118.54562072438767},{"$f":"'ITCER GLOBAL'!E10","v":103.48307905675485},{"$f":"'ITCER GLOBAL'!F10","v":127.91035961969803},{"$f":"'ITCER GLOBAL'!G10","v":98.423459677242377},{"$f":"'ITCER GLOBAL'!H10","v":108.65281940393162},{"$f":"'ITCER GLOBAL'!I10","v":104.62360900213413},{"$f":"'ITCER GLOBAL'!S10","v":65.075326638917801},{"$f":"'ITCER GLOBAL'!T10","v":121.06493395485951},{"$f":"'ITCER GLOBAL'!U10","v":87.603440803850887},{"$f":"'ITCER GLOBAL'!V10","v":70.351095493067334},{"$f":"'ITCER GLOBAL'!W10","v":69.959541596397997},{"$f":"'ITCER GLOBAL'!X10","v":86.524321142243309},{"$f":"'ITCER GLOBAL'!Y10","v":120.18789055395642},{"$f":"'ITCER GLOBAL'!AA10","v":61.526345081734291},{"$f":"'ITCER GLOBAL'!AB10","v":102.12518456192414},{"$f":"'ITCER GLOBAL'!AC10","v":84.654845606019478},{"$f":"'ITCER GLOBAL'!AD10","v":55.000310922613771},{"$f":"'ITCER GLOBAL'!AE10","v":71.080148803765468},{"$f":"'ITCER GLOBAL'!AF10","v":79.633756046934593},{"$f":"'ITCER GLOBAL'!AG10","v":114.8764525524108},null,{"$f":"IF(EFECTOS!$N$9=\"COSTA RICA\",LOOKUP(1,GEfectos!$C$4:$I$4,GEfectos!C10:I10),IF(EFECTOS!$N$9=\"EL SALVADOR\",LOOKUP(2,GEfectos!$C$4:$I$4,GEfectos!C10:I10),IF(EFECTOS!$N$9=\"GUATEMALA\",LOOKUP(3,GEfectos!$C$4:$I$4,GEfectos!C10:I10),IF(EFECTOS!$N$9=\"HONDURAS\",LOOKUP(4,GEfectos!$C$4:$I$4,GEfectos!C10:I10),IF(EFECTOS!$N$9=\"NICARAGUA\",LOOKUP(5,GEfectos!$C$4:$I$4,GEfectos!C10:I10),IF(EFECTOS!$N$9=\"REPÚBLICA \nDOMINICANA\",LOOKUP(6,$C$4:$I$4,C10:I10),IF(EFECTOS!$N$9=\"PANAMÁ\",LOOKUP(7,GEfectos!$C$4:$I$4,GEfectos!C10:I10))))))))","v":105.76823075134544},{"$f":"IF(EFECTOS!$N$9=\"COSTA RICA\",LOOKUP(1,GEfectos!$J$4:$P$4,GEfectos!J10:P10),IF(EFECTOS!$N$9=\"EL SALVADOR\",LOOKUP(2,GEfectos!$J$4:$P$4,GEfectos!J10:P10),IF(EFECTOS!$N$9=\"GUATEMALA\",LOOKUP(3,GEfectos!$J$4:$P$4,GEfectos!J10:P10),IF(EFECTOS!$N$9=\"HONDURAS\",LOOKUP(4,GEfectos!$J$4:$P$4,GEfectos!J10:P10),IF(EFECTOS!$N$9=\"NICARAGUA\",LOOKUP(5,GEfectos!$J$4:$P$4,GEfectos!J10:P10),IF(EFECTOS!$N$9=\"REPÚBLICA \nDOMINICANA\",LOOKUP(6,$J$4:$P$4,J10:P10),IF(EFECTOS!$N$9=\"PANAMÁ\",LOOKUP(7,GEfectos!$J$4:$P$4,GEfectos!J10:P10))))))))","v":65.075326638917801},{"$f":"IF(EFECTOS!$N$9=\"COSTA RICA\",LOOKUP(1,GEfectos!$Q$4:$W$4,GEfectos!Q10:W10),IF(EFECTOS!$N$9=\"EL SALVADOR\",LOOKUP(2,GEfectos!$Q$4:$W$4,GEfectos!Q10:W10),IF(EFECTOS!$N$9=\"GUATEMALA\",LOOKUP(3,GEfectos!$Q$4:$W$4,GEfectos!Q10:W10),IF(EFECTOS!$N$9=\"HONDURAS\",LOOKUP(4,GEfectos!$Q$4:$W$4,GEfectos!Q10:W10),IF(EFECTOS!$N$9=\"NICARAGUA\",LOOKUP(5,GEfectos!$Q$4:$W$4,GEfectos!Q10:W10),IF(EFECTOS!$N$9=\"REPÚBLICA \nDOMINICANA\",LOOKUP(6,$Q$4:$W$4,Q10:W10),IF(EFECTOS!$N$9=\"PANAMÁ\",LOOKUP(7,GEfectos!$Q$4:$W$4,GEfectos!Q10:W10))))))))","v":61.526345081734291},100]
[null,{"$f":"'ITCER GLOBAL'!B11","v":"Junio"},{"$f":"'ITCER GLOBAL'!C11","v":106.13336183185768},{"$f":"'ITCER GLOBAL'!D11","v":117.88557102454081},{"$f":"'ITCER GLOBAL'!E11","v":102.76464657114926},{"$f":"'ITCER GLOBAL'!F11","v":129.02731797814849},{"$f":"'ITCER GLOBAL'!G11","v":97.829373737373501},{"$f":"'ITCER GLOBAL'!H11","v":108.1545832909429},{"$f":"'ITCER GLOBAL'!I11","v":104.72788408141889},{"$f":"'ITCER GLOBAL'!S11","v":65.984750930650279},{"$f":"'ITCER GLOBAL'!T11","v":120.6913456564553},{"$f":"'ITCER GLOBAL'!U11","v":87.567130807264775},{"$f":"'ITCER GLOBAL'!V11","v":71.274043552014774},{"$f":"'ITCER GLOBAL'!W11","v":70.389276327662671},{"$f":"'ITCER GLOBAL'!X11","v":86.382727140192543},{"$f":"'ITCER GLOBAL'!Y11","v":120.02386164423815},{"$f":"'ITCER GLOBAL'!AA11","v":62.171545112447255},{"$f":"'ITCER GLOBAL'!AB11","v":102.38008316669256},{"$f":"'ITCER GLOBAL'!AC11","v":85.211338460291927},{"$f":"'ITCER GLOBAL'!AD11","v":55.239498633991168},{"$f":"'ITCER GLOBAL'!AE11","v":71.95106504169722},{"$f":"'ITCER GLOBAL'!AF11","v":79.869686990349138},{"$f":"'ITCER GLOBAL'!AG11","v":114.6054488706443},null,{"$f":"IF(EFECTOS!$N$9=\"COSTA RICA\",LOOKUP(1,GEfectos!$C$4:$I$4,GEfectos!C11:I11),IF(EFECTOS!$N$9=\"EL SALVADOR\",LOOKUP(2,GEfectos!$C$4:$I$4,GEfectos!C11:I11),IF(EFECTOS!$N$9=\"GUATEMALA\",LOOKUP(3,GEfectos!$C$4:$I$4,GEfectos!C11:I11),IF(EFECTOS!$N$9=\"HONDURAS\",LOOKUP(4,GEfectos!$C$4:$I$4,GEfectos!C11:I11),IF(EFECTOS!$N$9=\"NICARAGUA\",LOOKUP(5,GEfectos!$C$4:$I$4,GEfectos!C11:I11),IF(EFECTOS!$N$9=\"REPÚBLICA \nDOMINICANA\",LOOKUP(6,$C$4:$I$4,C11:I11),IF(EFECTOS!$N$9=\"PANAMÁ\",LOOKUP(7,GEfectos!$C$4:$I$4,GEfectos!C11:I11))))))))","v":106.13336183185768},{"$f":"IF(EFECTOS!$N$9=\"COSTA RICA\",LOOKUP(1,GEfectos!$J$4:$P$4,GEfectos!J11:P11),IF(EFECTOS!$N$9=\"EL SALVADOR\",LOOKUP(2,GEfectos!$J$4:$P$4,GEfectos!J11:P11),IF(EFECTOS!$N$9=\"GUATEMALA\",LOOKUP(3,GEfectos!$J$4:$P$4,GEfectos!J11:P11),IF(EFECTOS!$N$9=\"HONDURAS\",LOOKUP(4,GEfectos!$J$4:$P$4,GEfectos!J11:P11),IF(EFECTOS!$N$9=\"NICARAGUA\",LOOKUP(5,GEfectos!$J$4:$P$4,GEfectos!J11:P11),IF(EFECTOS!$N$9=\"REPÚBLICA \nDOMINICANA\",LOOKUP(6,$J$4:$P$4,J11:P11),IF(EFECTOS!$N$9=\"PANAMÁ\",LOOKUP(7,GEfectos!$J$4:$P$4,GEfectos!J11:P11))))))))","v":65.984750930650279},{"$f":"IF(EFECTOS!$N$9=\"COSTA RICA\",LOOKUP(1,GEfectos!$Q$4:$W$4,GEfectos!Q11:W11),IF(EFECTOS!$N$9=\"EL SALVADOR\",LOOKUP(2,GEfectos!$Q$4:$W$4,GEfectos!Q11:W11),IF(EFECTOS!$N$9=\"GUATEMALA\",LOOKUP(3,GEfectos!$Q$4:$W$4,GEfectos!Q11:W11),IF(EFECTOS!$N$9=\"HONDURAS\",LOOKUP(4,GEfectos!$Q$4:$W$4,GEfectos!Q11:W11),IF(EFECTOS!$N$9=\"NICARAGUA\",LOOKUP(5,GEfectos!$Q$4:$W$4,GEfectos!Q11:W11),IF(EFECTOS!$N$9=\"REPÚBLICA \nDOMINICANA\",LOOKUP(6,$Q$4:$W$4,Q11:W11),IF(EFECTOS!$N$9=\"PANAMÁ\",LOOKUP(7,GEfectos!$Q$4:$W$4,GEfectos!Q11:W11))))))))","v":62.171545112447255},100]
[null,{"$f":"'ITCER GLOBAL'!B12","v":"Julio"},{"$f":"'ITCER GLOBAL'!C12","v":106.01470373771207},{"$f":"'ITCER GLOBAL'!D12","v":115.05453511468518},{"$f":"'ITCER GLOBAL'!E12","v":103.29815187372405},{"$f":"'ITCER GLOBAL'!F12","v":129.36276546682478},{"$f":"'ITCER GLOBAL'!G12","v":97.829169684723141},{"$f":"'ITCER GLOBAL'!H12","v":107.56966070136231},{"$f":"'ITCER GLOBAL'!I12","v":104.61111615790897},{"$f":"'ITCER GLOBAL'!S12","v":66.868633577610865},{"$f":"'ITCER GLOBAL'!T12","v":120.52117198803292},{"$f":"'ITCER GLOBAL'!U12","v":87.705233606789434},{"$f":"'ITCER GLOBAL'!V12","v":72.20287215042849},{"$f":"'ITCER GLOBAL'!W12","v":70.89590164135511},{"$f":"'ITCER GLOBAL'!X12","v":86.38817717740821},{"$f":"'ITCER GLOBAL'!Y12","v":119.73730958078417},{"$f":"'ITCER GLOBAL'!AA12","v":63.074867183564109},{"$f":"'ITCER GLOBAL'!AB12","v":104.75134410642627},{"$f":"'ITCER GLOBAL'!AC12","v":84.904939745682924},{"$f":"'ITCER GLOBAL'!AD12","v":55.814261460686687},{"$f":"'ITCER GLOBAL'!AE12","v":72.469082452435558},{"$f":"'ITCER GLOBAL'!AF12","v":80.309054257632454},{"$f":"'ITCER GLOBAL'!AG12","v":114.45945132641778},null,{"$f":"IF(EFECTOS!$N$9=\"COSTA RICA\",LOOKUP(1,GEfectos!$C$4:$I$4,GEfectos!C12:I12),IF(EFECTOS!$N$9=\"EL SALVADOR\",LOOKUP(2,GEfectos!$C$4:$I$4,GEfectos!C12:I12),IF(EFECTOS!$N$9=\"GUATEMALA\",LOOKUP(3,GEfectos!$C$4:$I$4,GEfectos!C12:I12),IF(EFECTOS!$N$9=\"HONDURAS\",LOOKUP(4,GEfectos!$C$4:$I$4,GEfectos!C12:I12),IF(EFECTOS!$N$9=\"NICARAGUA\",LOOKUP(5,GEfectos!$C$4:$I$4,GEfectos!C12:I12),IF(EFECTOS!$N$9=\"REPÚBLICA \nDOMINICANA\",LOOKUP(6,$C$4:$I$4,C12:I12),IF(EFECTOS!$N$9=\"PANAMÁ\",LOOKUP(7,GEfectos!$C$4:$I$4,GEfectos!C12:I12))))))))","v":106.01470373771207},{"$f":"IF(EFECTOS!$N$9=\"COSTA RICA\",LOOKUP(1,GEfectos!$J$4:$P$4,GEfectos!J12:P12),IF(EFECTOS!$N$9=\"EL SALVADOR\",LOOKUP(2,GEfectos!$J$4:$P$4,GEfectos!J12:P12),IF(EFECTOS!$N$9=\"GUATEMALA\",LOOKUP(3,GEfectos!$J$4:$P$4,GEfectos!J12:P12),IF(EFECTOS!$N$9=\"HONDURAS\",LOOKUP(4,GEfectos!$J$4:$P$4,GEfectos!J12:P12),IF(EFECTOS!$N$9=\"NICARAGUA\",LOOKUP(5,GEfectos!$J$4:$P$4,GEfectos!J12:P12),IF(EFECTOS!$N$9=\"REPÚBLICA \nDOMINICANA\",LOOKUP(6,$J$4:$P$4,J12:P12),IF(EFECTOS!$N$9=\"PANAMÁ\",LOOKUP(7,GEfectos!$J$4:$P$4,GEfectos!J12:P12))))))))","v":66.868633577610865},{"$f":"IF(EFECTOS!$N$9=\"COSTA RICA\",LOOKUP(1,GEfectos!$Q$4:$W$4,GEfectos!Q12:W12),IF(EFECTOS!$N$9=\"EL SALVADOR\",LOOKUP(2,GEfectos!$Q$4:$W$4,GEfectos!Q12:W12),IF(EFECTOS!$N$9=\"GUATEMALA\",LOOKUP(3,GEfectos!$Q$4:$W$4,GEfectos!Q12:W12),IF(EFECTOS!$N$9=\"HONDURAS\",LOOKUP(4,GEfectos!$Q$4:$W$4,GEfectos!Q12:W12),IF(EFECTOS!$N$9=\"NICARAGUA\",LOOKUP(5,GEfectos!$Q$4:$W$4,GEfectos!Q12:W12),IF(EFECTOS!$N$9=\"REPÚBLICA \nDOMINICANA\",LOOKUP(6,$Q$4:$W$4,Q12:W12),IF(EFECTOS!$N$9=\"PANAMÁ\",LOOKUP(7,GEfectos!$Q$4:$W$4,GEfectos!Q12:W12))))))))","v":63.074867183564109},100]
[null,{"$f":"'ITCER GLOBAL'!B13","v":"Agosto"},{"$f":"'ITCER GLOBAL'!C13","v":105.42565527174452},{"$f":"'ITCER GLOBAL'!D13","v":113.56957224931486},{"$f":"'ITCER GLOBAL'!E13","v":102.89436541360355},{"$f":"'ITCER GLOBAL'!F13","v":128.76921431258708},{"$f":"'ITCER GLOBAL'!G13","v":99.606472650624895},{"$f":"'ITCER GLOBAL'!H13","v":105.90470463881809},{"$f":"'ITCER GLOBAL'!I13","v":103.35389512778275},{"$f":"'ITCER GLOBAL'!S13","v":67.025238792006647},{"$f":"'ITCER GLOBAL'!T13","v":119.30601787781372},{"$f":"'ITCER GLOBAL'!U13","v":87.495717500112562},{"$f":"'ITCER GLOBAL'!V13","v":72.553034192412312},{"$f":"'ITCER GLOBAL'!W13","v":70.679741989698769},{"$f":"'ITCER GLOBAL'!X13","v":85.692902212260591},{"$f":"'ITCER GLOBAL'!Y13","v":118.06173181697916},{"$f":"'ITCER GLOBAL'!AA13","v":63.57583324404559},{"$f":"'ITCER GLOBAL'!AB13","v":105.0510409741668},{"$f":"'ITCER GLOBAL'!AC13","v":85.03450810781213},{"$f":"'ITCER GLOBAL'!AD13","v":56.343462666697583},{"$f":"'ITCER GLOBAL'!AE13","v":70.958985002522667},{"$f":"'ITCER GLOBAL'!AF13","v":80.915104295424186},{"$f":"'ITCER GLOBAL'!AG13","v":114.23055867513479},null,{"$f":"IF(EFECTOS!$N$9=\"COSTA RICA\",LOOKUP(1,GEfectos!$C$4:$I$4,GEfectos!C13:I13),IF(EFECTOS!$N$9=\"EL SALVADOR\",LOOKUP(2,GEfectos!$C$4:$I$4,GEfectos!C13:I13),IF(EFECTOS!$N$9=\"GUATEMALA\",LOOKUP(3,GEfectos!$C$4:$I$4,GEfectos!C13:I13),IF(EFECTOS!$N$9=\"HONDURAS\",LOOKUP(4,GEfectos!$C$4:$I$4,GEfectos!C13:I13),IF(EFECTOS!$N$9=\"NICARAGUA\",LOOKUP(5,GEfectos!$C$4:$I$4,GEfectos!C13:I13),IF(EFECTOS!$N$9=\"REPÚBLICA \nDOMINICANA\",LOOKUP(6,$C$4:$I$4,C13:I13),IF(EFECTOS!$N$9=\"PANAMÁ\",LOOKUP(7,GEfectos!$C$4:$I$4,GEfectos!C13:I13))))))))","v":105.42565527174452},{"$f":"IF(EFECTOS!$N$9=\"COSTA RICA\",LOOKUP(1,GEfectos!$J$4:$P$4,GEfectos!J13:P13),IF(EFECTOS!$N$9=\"EL SALVADOR\",LOOKUP(2,GEfectos!$J$4:$P$4,GEfectos!J13:P13),IF(EFECTOS!$N$9=\"GUATEMALA\",LOOKUP(3,GEfectos!$J$4:$P$4,GEfectos!J13:P13),IF(EFECTOS!$N$9=\"HONDURAS\",LOOKUP(4,GEfectos!$J$4:$P$4,GEfectos!J13:P13),IF(EFECTOS!$N$9=\"NICARAGUA\",LOOKUP(5,GEfectos!$J$4:$P$4,GEfectos!J13:P13),IF(EFECTOS!$N$9=\"REPÚBLICA \nDOMINICANA\",LOOKUP(6,$J$4:$P$4,J13:P13),IF(EFECTOS!$N$9=\"PANAMÁ\",LOOKUP(7,GEfectos!$J$4:$P$4,GEfectos!J13:P13))))))))","v":67.025238792006647},{"$f":"IF(EFECTOS!$N$9=\"COSTA RICA\",LOOKUP(1,GEfectos!$Q$4:$W$4,GEfectos!Q13:W13),IF(EFECTOS!$N$9=\"EL SALVADOR\",LOOKUP(2,GEfectos!$Q$4:$W$4,GEfectos!Q13:W13),IF(EFECTOS!$N$9=\"GUATEMALA\",LOOKUP(3,GEfectos!$Q$4:$W$4,GEfectos!Q13:W13),IF(EFECTOS!$N$9=\"HONDURAS\",LOOKUP(4,GEfectos!$Q$4:$W$4,GEfectos!Q13:W13),IF(EFECTOS!$N$9=\"NICARAGUA\",LOOKUP(5,GEfectos!$Q$4:$W$4,GEfectos!Q13:W13),IF(EFECTOS!$N$9=\"REPÚBLICA \nDOMINICANA\",LOOKUP(6,$Q$4:$W$4,Q13:W13),IF(EFECTOS!$N$9=\"PANAMÁ\",LOOKUP(7,GEfectos!$Q$4:$W$4,GEfectos!Q13:W13))))))))","v":63.57583324404559},100]
[null,{"$f":"'ITCER GLOBAL'!B14","v":"Septiembre"},{"$f":"'ITCER GLOBAL'!C14","v":103.71918597145401},{"$f":"'ITCER GLOBAL'!D14","v":110.23996546831064},{"$f":"'ITCER GLOBAL'!E14","v":101.61966995536642},{"$f":"'ITCER GLOBAL'!F14","v":126.41977657460883},{"$f":"'ITCER GLOBAL'!G14","v":97.90609076512095},{"$f":"'ITCER GLOBAL'!H14","v":102.67130358495827},{"$f":"'ITCER GLOBAL'!I14","v":101.8987980084276},{"$f":"'ITCER GLOBAL'!S14","v":67.533684008440673},{"$f":"'ITCER GLOBAL'!T14","v":118.34165838682884},{"$f":"'ITCER GLOBAL'!U14","v":88.070108682748796},{"$f":"'ITCER GLOBAL'!V14","v":72.972136892462117},{"$f":"'ITCER GLOBAL'!W14","v":70.662997576869145},{"$f":"'ITCER GLOBAL'!X14","v":85.238179280162612},{"$f":"'ITCER GLOBAL'!Y14","v":116.9448548996743},{"$f":"'ITCER GLOBAL'!AA14","v":65.112045930468014},{"$f":"'ITCER GLOBAL'!AB14","v":107.34914319330686},{"$f":"'ITCER GLOBAL'!AC14","v":86.666399055843343},{"$f":"'ITCER GLOBAL'!AD14","v":57.722089747086635},{"$f":"'ITCER GLOBAL'!AE14","v":72.174261095146122},{"$f":"'ITCER GLOBAL'!AF14","v":83.02045099644603},{"$f":"'ITCER GLOBAL'!AG14","v":114.76568633322081},null,{"$f":"IF(EFECTOS!$N$9=\"COSTA RICA\",LOOKUP(1,GEfectos!$C$4:$I$4,GEfectos!C14:I14),IF(EFECTOS!$N$9=\"EL SALVADOR\",LOOKUP(2,GEfectos!$C$4:$I$4,GEfectos!C14:I14),IF(EFECTOS!$N$9=\"GUATEMALA\",LOOKUP(3,GEfectos!$C$4:$I$4,GEfectos!C14:I14),IF(EFECTOS!$N$9=\"HONDURAS\",LOOKUP(4,GEfectos!$C$4:$I$4,GEfectos!C14:I14),IF(EFECTOS!$N$9=\"NICARAGUA\",LOOKUP(5,GEfectos!$C$4:$I$4,GEfectos!C14:I14),IF(EFECTOS!$N$9=\"REPÚBLICA \nDOMINICANA\",LOOKUP(6,$C$4:$I$4,C14:I14),IF(EFECTOS!$N$9=\"PANAMÁ\",LOOKUP(7,GEfectos!$C$4:$I$4,GEfectos!C14:I14))))))))","v":103.71918597145401},{"$f":"IF(EFECTOS!$N$9=\"COSTA RICA\",LOOKUP(1,GEfectos!$J$4:$P$4,GEfectos!J14:P14),IF(EFECTOS!$N$9=\"EL SALVADOR\",LOOKUP(2,GEfectos!$J$4:$P$4,GEfectos!J14:P14),IF(EFECTOS!$N$9=\"GUATEMALA\",LOOKUP(3,GEfectos!$J$4:$P$4,GEfectos!J14:P14),IF(EFECTOS!$N$9=\"HONDURAS\",LOOKUP(4,GEfectos!$J$4:$P$4,GEfectos!J14:P14),IF(EFECTOS!$N$9=\"NICARAGUA\",LOOKUP(5,GEfectos!$J$4:$P$4,GEfectos!J14:P14),IF(EFECTOS!$N$9=\"REPÚBLICA \nDOMINICANA\",LOOKUP(6,$J$4:$P$4,J14:P14),IF(EFECTOS!$N$9=\"PANAMÁ\",LOOKUP(7,GEfectos!$J$4:$P$4,GEfectos!J14:P14))))))))","v":67.533684008440673},{"$f":"IF(EFECTOS!$N$9=\"COSTA RICA\",LOOKUP(1,GEfectos!$Q$4:$W$4,GEfectos!Q14:W14),IF(EFECTOS!$N$9=\"EL SALVADOR\",LOOKUP(2,GEfectos!$Q$4:$W$4,GEfectos!Q14:W14),IF(EFECTOS!$N$9=\"GUATEMALA\",LOOKUP(3,GEfectos!$Q$4:$W$4,GEfectos!Q14:W14),IF(EFECTOS!$N$9=\"HONDURAS\",LOOKUP(4,GEfectos!$Q$4:$W$4,GEfectos!Q14:W14),IF(EFECTOS!$N$9=\"NICARAGUA\",LOOKUP(5,GEfectos!$Q$4:$W$4,GEfectos!Q14:W14),IF(EFECTOS!$N$9=\"REPÚBLICA \nDOMINICANA\",LOOKUP(6,$Q$4:$W$4,Q14:W14),IF(EFECTOS!$N$9=\"PANAMÁ\",LOOKUP(7,GEfectos!$Q$4:$W$4,GEfectos!Q14:W14))))))))","v":65.112045930468014},100]
[null,{"$f":"'ITCER GLOBAL'!B15","v":"Octubre"},{"$f":"'ITCER GLOBAL'!C15","v":102.67010638785924},{"$f":"'ITCER GLOBAL'!D15","v":110.15791044379466},{"$f":"'ITCER GLOBAL'!E15","v":101.6479233646418},{"$f":"'ITCER GLOBAL'!F15","v":126.61393810822372},{"$f":"'ITCER GLOBAL'!G15","v":95.570263102588569},{"$f":"'ITCER GLOBAL'!H15","v":102.14972104810728},{"$f":"'ITCER GLOBAL'!I15","v":102.47425865076553},{"$f":"'ITCER GLOBAL'!S15","v":68.538290505288941},{"$f":"'ITCER GLOBAL'!T15","v":117.90684442765615},{"$f":"'ITCER GLOBAL'!U15","v":88.768139931132993},{"$f":"'ITCER GLOBAL'!V15","v":74.023496562224437},{"$f":"'ITCER GLOBAL'!W15","v":71.103062625427853},{"$f":"'ITCER GLOBAL'!X15","v":85.125411677924831},{"$f":"'ITCER GLOBAL'!Y15","v":116.83733471102531},{"$f":"'ITCER GLOBAL'!AA15","v":66.75583859470278},{"$f":"'ITCER GLOBAL'!AB15","v":107.03438722888194},{"$f":"'ITCER GLOBAL'!AC15","v":87.329024531760339},{"$f":"'ITCER GLOBAL'!AD15","v":58.46393980649475},{"$f":"'ITCER GLOBAL'!AE15","v":74.398730648154924},{"$f":"'ITCER GLOBAL'!AF15","v":83.333963915413065},{"$f":"'ITCER GLOBAL'!AG15","v":114.01627711131772},null,{"$f":"IF(EFECTOS!$N$9=\"COSTA RICA\",LOOKUP(1,GEfectos!$C$4:$I$4,GEfectos!C15:I15),IF(EFECTOS!$N$9=\"EL SALVADOR\",LOOKUP(2,GEfectos!$C$4:$I$4,GEfectos!C15:I15),IF(EFECTOS!$N$9=\"GUATEMALA\",LOOKUP(3,GEfectos!$C$4:$I$4,GEfectos!C15:I15),IF(EFECTOS!$N$9=\"HONDURAS\",LOOKUP(4,GEfectos!$C$4:$I$4,GEfectos!C15:I15),IF(EFECTOS!$N$9=\"NICARAGUA\",LOOKUP(5,GEfectos!$C$4:$I$4,GEfectos!C15:I15),IF(EFECTOS!$N$9=\"REPÚBLICA \nDOMINICANA\",LOOKUP(6,$C$4:$I$4,C15:I15),IF(EFECTOS!$N$9=\"PANAMÁ\",LOOKUP(7,GEfectos!$C$4:$I$4,GEfectos!C15:I15))))))))","v":102.67010638785924},{"$f":"IF(EFECTOS!$N$9=\"COSTA RICA\",LOOKUP(1,GEfectos!$J$4:$P$4,GEfectos!J15:P15),IF(EFECTOS!$N$9=\"EL SALVADOR\",LOOKUP(2,GEfectos!$J$4:$P$4,GEfectos!J15:P15),IF(EFECTOS!$N$9=\"GUATEMALA\",LOOKUP(3,GEfectos!$J$4:$P$4,GEfectos!J15:P15),IF(EFECTOS!$N$9=\"HONDURAS\",LOOKUP(4,GEfectos!$J$4:$P$4,GEfectos!J15:P15),IF(EFECTOS!$N$9=\"NICARAGUA\",LOOKUP(5,GEfectos!$J$4:$P$4,GEfectos!J15:P15),IF(EFECTOS!$N$9=\"REPÚBLICA \nDOMINICANA\",LOOKUP(6,$J$4:$P$4,J15:P15),IF(EFECTOS!$N$9=\"PANAMÁ\",LOOKUP(7,GEfectos!$J$4:$P$4,GEfectos!J15:P15))))))))","v":68.538290505288941},{"$f":"IF(EFECTOS!$N$9=\"COSTA RICA\",LOOKUP(1,GEfectos!$Q$4:$W$4,GEfectos!Q15:W15),IF(EFECTOS!$N$9=\"EL SALVADOR\",LOOKUP(2,GEfectos!$Q$4:$W$4,GEfectos!Q15:W15),IF(EFECTOS!$N$9=\"GUATEMALA\",LOOKUP(3,GEfectos!$Q$4:$W$4,GEfectos!Q15:W15),IF(EFECTOS!$N$9=\"HONDURAS\",LOOKUP(4,GEfectos!$Q$4:$W$4,GEfectos!Q15:W15),IF(EFECTOS!$N$9=\"NICARAGUA\",LOOKUP(5,GEfectos!$Q$4:$W$4,GEfectos!Q15:W15),IF(EFECTOS!$N$9=\"REPÚBLICA \nDOMINICANA\",LOOKUP(6,$Q$4:$W$4,Q15:W15),IF(EFECTOS!$N$9=\"PANAMÁ\",LOOKUP(7,GEfectos!$Q$4:$W$4,GEfectos!Q15:W15))))))))","v":66.75583859470278},100]
[null,{"$f":"'ITCER GLOBAL'!B16","v":"Noviembre"},{"$f":"'ITCER GLOBAL'!C16","v":101.45016734193788},{"$f":"'ITCER GLOBAL'!D16","v":109.2193789817224},{"$f":"'ITCER GLOBAL'!E16","v":100.32795215376898},{"$f":"'ITCER GLOBAL'!F16","v":127.58435332508186},{"$f":"'ITCER GLOBAL'!G16","v":93.385219629053609},{"$f":"'ITCER GLOBAL'!H16","v":100.57602143400358},{"$f":"'ITCER GLOBAL'!I16","v":102.01000625527961},{"$f":"'ITCER GLOBAL'!S16","v":69.158369580633632},{"$f":"'ITCER GLOBAL'!T16","v":116.81707988626077},{"$f":"'ITCER GLOBAL'!U16","v":88.390885690696138},{"$f":"'ITCER GLOBAL'!V16","v":75.389139675126827},{"$f":"'ITCER GLOBAL'!W16","v":71.07722216029137},{"$f":"'ITCER GLOBAL'!X16","v":84.495263826090351},{"$f":"'ITCER GLOBAL'!Y16","v":116.01325817946149},{"$f":"'ITCER GLOBAL'!AA16","v":68.16979349825543},{"$f":"'ITCER GLOBAL'!AB16","v":106.95636706175544},{"$f":"'ITCER GLOBAL'!AC16","v":88.101953436887328},{"$f":"'ITCER GLOBAL'!AD16","v":59.089643604680198},{"$f":"'ITCER GLOBAL'!AE16","v":76.111854148467557},{"$f":"'ITCER GLOBAL'!AF16","v":84.011340497829124},{"$f":"'ITCER GLOBAL'!AG16","v":113.72733169836182},null,{"$f":"IF(EFECTOS!$N$9=\"COSTA RICA\",LOOKUP(1,GEfectos!$C$4:$I$4,GEfectos!C16:I16),IF(EFECTOS!$N$9=\"EL SALVADOR\",LOOKUP(2,GEfectos!$C$4:$I$4,GEfectos!C16:I16),IF(EFECTOS!$N$9=\"GUATEMALA\",LOOKUP(3,GEfectos!$C$4:$I$4,GEfectos!C16:I16),IF(EFECTOS!$N$9=\"HONDURAS\",LOOKUP(4,GEfectos!$C$4:$I$4,GEfectos!C16:I16),IF(EFECTOS!$N$9=\"NICARAGUA\",LOOKUP(5,GEfectos!$C$4:$I$4,GEfectos!C16:I16),IF(EFECTOS!$N$9=\"REPÚBLICA \nDOMINICANA\",LOOKUP(6,$C$4:$I$4,C16:I16),IF(EFECTOS!$N$9=\"PANAMÁ\",LOOKUP(7,GEfectos!$C$4:$I$4,GEfectos!C16:I16))))))))","v":101.45016734193788},{"$f":"IF(EFECTOS!$N$9=\"COSTA RICA\",LOOKUP(1,GEfectos!$J$4:$P$4,GEfectos!J16:P16),IF(EFECTOS!$N$9=\"EL SALVADOR\",LOOKUP(2,GEfectos!$J$4:$P$4,GEfectos!J16:P16),IF(EFECTOS!$N$9=\"GUATEMALA\",LOOKUP(3,GEfectos!$J$4:$P$4,GEfectos!J16:P16),IF(EFECTOS!$N$9=\"HONDURAS\",LOOKUP(4,GEfectos!$J$4:$P$4,GEfectos!J16:P16),IF(EFECTOS!$N$9=\"NICARAGUA\",LOOKUP(5,GEfectos!$J$4:$P$4,GEfectos!J16:P16),IF(EFECTOS!$N$9=\"REPÚBLICA \nDOMINICANA\",LOOKUP(6,$J$4:$P$4,J16:P16),IF(EFECTOS!$N$9=\"PANAMÁ\",LOOKUP(7,GEfectos!$J$4:$P$4,GEfectos!J16:P16))))))))","v":69.158369580633632},{"$f":"IF(EFECTOS!$N$9=\"COSTA RICA\",LOOKUP(1,GEfectos!$Q$4:$W$4,GEfectos!Q16:W16),IF(EFECTOS!$N$9=\"EL SALVADOR\",LOOKUP(2,GEfectos!$Q$4:$W$4,GEfectos!Q16:W16),IF(EFECTOS!$N$9=\"GUATEMALA\",LOOKUP(3,GEfectos!$Q$4:$W$4,GEfectos!Q16:W16),IF(EFECTOS!$N$9=\"HONDURAS\",LOOKUP(4,GEfectos!$Q$4:$W$4,GEfectos!Q16:W16),IF(EFECTOS!$N$9=\"NICARAGUA\",LOOKUP(5,GEfectos!$Q$4:$W$4,GEfectos!Q16:W16),IF(EFECTOS!$N$9=\"REPÚBLICA \nDOMINICANA\",LOOKUP(6,$Q$4:$W$4,Q16:W16),IF(EFECTOS!$N$9=\"PANAMÁ\",LOOKUP(7,GEfectos!$Q$4:$W$4,GEfectos!Q16:W16))))))))","v":68.16979349825543},100]
[null,{"$f":"'ITCER GLOBAL'!B17","v":"Diciembre"},{"$f":"'ITCER GLOBAL'!C17","v":101.66312178362828},{"$f":"'ITCER GLOBAL'!D17","v":109.27043399845442},{"$f":"'ITCER GLOBAL'!E17","v":98.824329093208092},{"$f":"'ITCER GLOBAL'!F17","v":128.2028672872454},{"$f":"'ITCER GLOBAL'!G17","v":95.238490647849062},{"$f":"'ITCER GLOBAL'!H17","v":100.42041797283288},{"$f":"'ITCER GLOBAL'!I17","v":101.64437388954298},{"$f":"'ITCER GLOBAL'!S17","v":69.968284580444234},{"$f":"'ITCER GLOBAL'!T17","v":116.62286909962505},{"$f":"'ITCER GLOBAL'!U17","v":87.183840000423061},{"$f":"'ITCER GLOBAL'!V17","v":76.806748328456067},{"$f":"'ITCER GLOBAL'!W17","v":71.517664559271907},{"$f":"'ITCER GLOBAL'!X17","v":84.387085849468349},{"$f":"'ITCER GLOBAL'!Y17","v":115.72928708440115},{"$f":"'ITCER GLOBAL'!AA17","v":68.823663244730156},{"$f":"'ITCER GLOBAL'!AB17","v":106.7286591918127},{"$f":"'ITCER GLOBAL'!AC17","v":88.221028971715981},{"$f":"'ITCER GLOBAL'!AD17","v":59.910320224247741},{"$f":"'ITCER GLOBAL'!AE17","v":75.093236014956858},{"$f":"'ITCER GLOBAL'!AF17","v":84.033792681781023},{"$f":"'ITCER GLOBAL'!AG17","v":113.85705145880898},null,{"$f":"IF(EFECTOS!$N$9=\"COSTA RICA\",LOOKUP(1,GEfectos!$C$4:$I$4,GEfectos!C17:I17),IF(EFECTOS!$N$9=\"EL SALVADOR\",LOOKUP(2,GEfectos!$C$4:$I$4,GEfectos!C17:I17),IF(EFECTOS!$N$9=\"GUATEMALA\",LOOKUP(3,GEfectos!$C$4:$I$4,GEfectos!C17:I17),IF(EFECTOS!$N$9=\"HONDURAS\",LOOKUP(4,GEfectos!$C$4:$I$4,GEfectos!C17:I17),IF(EFECTOS!$N$9=\"NICARAGUA\",LOOKUP(5,GEfectos!$C$4:$I$4,GEfectos!C17:I17),IF(EFECTOS!$N$9=\"REPÚBLICA \nDOMINICANA\",LOOKUP(6,$C$4:$I$4,C17:I17),IF(EFECTOS!$N$9=\"PANAMÁ\",LOOKUP(7,GEfectos!$C$4:$I$4,GEfectos!C17:I17))))))))","v":101.66312178362828},{"$f":"IF(EFECTOS!$N$9=\"COSTA RICA\",LOOKUP(1,GEfectos!$J$4:$P$4,GEfectos!J17:P17),IF(EFECTOS!$N$9=\"EL SALVADOR\",LOOKUP(2,GEfectos!$J$4:$P$4,GEfectos!J17:P17),IF(EFECTOS!$N$9=\"GUATEMALA\",LOOKUP(3,GEfectos!$J$4:$P$4,GEfectos!J17:P17),IF(EFECTOS!$N$9=\"HONDURAS\",LOOKUP(4,GEfectos!$J$4:$P$4,GEfectos!J17:P17),IF(EFECTOS!$N$9=\"NICARAGUA\",LOOKUP(5,GEfectos!$J$4:$P$4,GEfectos!J17:P17),IF(EFECTOS!$N$9=\"REPÚBLICA \nDOMINICANA\",LOOKUP(6,$J$4:$P$4,J17:P17),IF(EFECTOS!$N$9=\"PANAMÁ\",LOOKUP(7,GEfectos!$J$4:$P$4,GEfectos!J17:P17))))))))","v":69.968284580444234},{"$f":"IF(EFECTOS!$N$9=\"COSTA RICA\",LOOKUP(1,GEfectos!$Q$4:$W$4,GEfectos!Q17:W17),IF(EFECTOS!$N$9=\"EL SALVADOR\",LOOKUP(2,GEfectos!$Q$4:$W$4,GEfectos!Q17:W17),IF(EFECTOS!$N$9=\"GUATEMALA\",LOOKUP(3,GEfectos!$Q$4:$W$4,GEfectos!Q17:W17),IF(EFECTOS!$N$9=\"HONDURAS\",LOOKUP(4,GEfectos!$Q$4:$W$4,GEfectos!Q17:W17),IF(EFECTOS!$N$9=\"NICARAGUA\",LOOKUP(5,GEfectos!$Q$4:$W$4,GEfectos!Q17:W17),IF(EFECTOS!$N$9=\"REPÚBLICA \nDOMINICANA\",LOOKUP(6,$Q$4:$W$4,Q17:W17),IF(EFECTOS!$N$9=\"PANAMÁ\",LOOKUP(7,GEfectos!$Q$4:$W$4,GEfectos!Q17:W17))))))))","v":68.823663244730156},100]
[1996,{"$f":"'ITCER GLOBAL'!B18","v":"Enero"},{"$f":"'ITCER GLOBAL'!C18","v":101.66058967336707},{"$f":"'ITCER GLOBAL'!D18","v":108.75311671665929},{"$f":"'ITCER GLOBAL'!E18","v":100.73981549138998},{"$f":"'ITCER GLOBAL'!F18","v":130.55426234198856},{"$f":"'ITCER GLOBAL'!G18","v":96.992264856017599},{"$f":"'ITCER GLOBAL'!H18","v":97.389668238181855},{"$f":"'ITCER GLOBAL'!I18","v":105.14597064716055},{"$f":"'ITCER GLOBAL'!S18","v":70.816708430496178},{"$f":"'ITCER GLOBAL'!T18","v":116.94547782494091},{"$f":"'ITCER GLOBAL'!U18","v":89.44050496854571},{"$f":"'ITCER GLOBAL'!V18","v":78.259655892540479},{"$f":"'ITCER GLOBAL'!W18","v":71.297003403226825},{"$f":"'ITCER GLOBAL'!X18","v":79.824664121333768},{"$f":"'ITCER GLOBAL'!Y18","v":119.92162143857061},{"$f":"'ITCER GLOBAL'!AA18","v":69.659942616926074},{"$f":"'ITCER GLOBAL'!AB18","v":107.53298972536633},{"$f":"'ITCER GLOBAL'!AC18","v":88.78366962682199},{"$f":"'ITCER GLOBAL'!AD18","v":59.944159990378807},{"$f":"'ITCER GLOBAL'!AE18","v":73.507927162094106},{"$f":"'ITCER GLOBAL'!AF18","v":81.964201711941271},{"$f":"'ITCER GLOBAL'!AG18","v":114.05251261695312},null,{"$f":"IF(EFECTOS!$N$9=\"COSTA RICA\",LOOKUP(1,GEfectos!$C$4:$I$4,GEfectos!C18:I18),IF(EFECTOS!$N$9=\"EL SALVADOR\",LOOKUP(2,GEfectos!$C$4:$I$4,GEfectos!C18:I18),IF(EFECTOS!$N$9=\"GUATEMALA\",LOOKUP(3,GEfectos!$C$4:$I$4,GEfectos!C18:I18),IF(EFECTOS!$N$9=\"HONDURAS\",LOOKUP(4,GEfectos!$C$4:$I$4,GEfectos!C18:I18),IF(EFECTOS!$N$9=\"NICARAGUA\",LOOKUP(5,GEfectos!$C$4:$I$4,GEfectos!C18:I18),IF(EFECTOS!$N$9=\"REPÚBLICA \nDOMINICANA\",LOOKUP(6,$C$4:$I$4,C18:I18),IF(EFECTOS!$N$9=\"PANAMÁ\",LOOKUP(7,GEfectos!$C$4:$I$4,GEfectos!C18:I18))))))))","v":101.66058967336707},{"$f":"IF(EFECTOS!$N$9=\"COSTA RICA\",LOOKUP(1,GEfectos!$J$4:$P$4,GEfectos!J18:P18),IF(EFECTOS!$N$9=\"EL SALVADOR\",LOOKUP(2,GEfectos!$J$4:$P$4,GEfectos!J18:P18),IF(EFECTOS!$N$9=\"GUATEMALA\",LOOKUP(3,GEfectos!$J$4:$P$4,GEfectos!J18:P18),IF(EFECTOS!$N$9=\"HONDURAS\",LOOKUP(4,GEfectos!$J$4:$P$4,GEfectos!J18:P18),IF(EFECTOS!$N$9=\"NICARAGUA\",LOOKUP(5,GEfectos!$J$4:$P$4,GEfectos!J18:P18),IF(EFECTOS!$N$9=\"REPÚBLICA \nDOMINICANA\",LOOKUP(6,$J$4:$P$4,J18:P18),IF(EFECTOS!$N$9=\"PANAMÁ\",LOOKUP(7,GEfectos!$J$4:$P$4,GEfectos!J18:P18))))))))","v":70.816708430496178},{"$f":"IF(EFECTOS!$N$9=\"COSTA RICA\",LOOKUP(1,GEfectos!$Q$4:$W$4,GEfectos!Q18:W18),IF(EFECTOS!$N$9=\"EL SALVADOR\",LOOKUP(2,GEfectos!$Q$4:$W$4,GEfectos!Q18:W18),IF(EFECTOS!$N$9=\"GUATEMALA\",LOOKUP(3,GEfectos!$Q$4:$W$4,GEfectos!Q18:W18),IF(EFECTOS!$N$9=\"HONDURAS\",LOOKUP(4,GEfectos!$Q$4:$W$4,GEfectos!Q18:W18),IF(EFECTOS!$N$9=\"NICARAGUA\",LOOKUP(5,GEfectos!$Q$4:$W$4,GEfectos!Q18:W18),IF(EFECTOS!$N$9=\"REPÚBLICA \nDOMINICANA\",LOOKUP(6,$Q$4:$W$4,Q18:W18),IF(EFECTOS!$N$9=\"PANAMÁ\",LOOKUP(7,GEfectos!$Q$4:$W$4,GEfectos!Q18:W18))))))))","v":69.659942616926074},100]
[null,{"$f":"'ITCER GLOBAL'!B19","v":"Febrero"},{"$f":"'ITCER GLOBAL'!C19","v":102.17128763305668},{"$f":"'ITCER GLOBAL'!D19","v":108.75393961607969},{"$f":"'ITCER GLOBAL'!E19","v":101.62857369700841},{"$f":"'ITCER GLOBAL'!F19","v":129.94088985859403},{"$f":"'ITCER GLOBAL'!G19","v":97.13075573651804},{"$f":"'ITCER GLOBAL'!H19","v":97.603528936198401},{"$f":"'ITCER GLOBAL'!I19","v":105.57724470736153},{"$f":"'ITCER GLOBAL'!S19","v":71.49277096586215},{"$f":"'ITCER GLOBAL'!T19","v":116.50025565244042},{"$f":"'ITCER GLOBAL'!U19","v":90.223835974000977},{"$f":"'ITCER GLOBAL'!V19","v":79.729035598604582},{"$f":"'ITCER GLOBAL'!W19","v":71.717260344429462},{"$f":"'ITCER GLOBAL'!X19","v":79.801778295471905},{"$f":"'ITCER GLOBAL'!Y19","v":119.67359438587341},{"$f":"'ITCER GLOBAL'!AA19","v":69.973446182478426},{"$f":"'ITCER GLOBAL'!AB19","v":107.12279119607673},{"$f":"'ITCER GLOBAL'!AC19","v":88.778020483679057},{"$f":"'ITCER GLOBAL'!AD19","v":61.357926427445854},{"$f":"'ITCER GLOBAL'!AE19","v":73.835789499026902},{"$f":"'ITCER GLOBAL'!AF19","v":81.761160856834223},{"$f":"'ITCER GLOBAL'!AG19","v":113.35169308271311},null,{"$f":"IF(EFECTOS!$N$9=\"COSTA RICA\",LOOKUP(1,GEfectos!$C$4:$I$4,GEfectos!C19:I19),IF(EFECTOS!$N$9=\"EL SALVADOR\",LOOKUP(2,GEfectos!$C$4:$I$4,GEfectos!C19:I19),IF(EFECTOS!$N$9=\"GUATEMALA\",LOOKUP(3,GEfectos!$C$4:$I$4,GEfectos!C19:I19),IF(EFECTOS!$N$9=\"HONDURAS\",LOOKUP(4,GEfectos!$C$4:$I$4,GEfectos!C19:I19),IF(EFECTOS!$N$9=\"NICARAGUA\",LOOKUP(5,GEfectos!$C$4:$I$4,GEfectos!C19:I19),IF(EFECTOS!$N$9=\"REPÚBLICA \nDOMINICANA\",LOOKUP(6,$C$4:$I$4,C19:I19),IF(EFECTOS!$N$9=\"PANAMÁ\",LOOKUP(7,GEfectos!$C$4:$I$4,GEfectos!C19:I19))))))))","v":102.17128763305668},{"$f":"IF(EFECTOS!$N$9=\"COSTA RICA\",LOOKUP(1,GEfectos!$J$4:$P$4,GEfectos!J19:P19),IF(EFECTOS!$N$9=\"EL SALVADOR\",LOOKUP(2,GEfectos!$J$4:$P$4,GEfectos!J19:P19),IF(EFECTOS!$N$9=\"GUATEMALA\",LOOKUP(3,GEfectos!$J$4:$P$4,GEfectos!J19:P19),IF(EFECTOS!$N$9=\"HONDURAS\",LOOKUP(4,GEfectos!$J$4:$P$4,GEfectos!J19:P19),IF(EFECTOS!$N$9=\"NICARAGUA\",LOOKUP(5,GEfectos!$J$4:$P$4,GEfectos!J19:P19),IF(EFECTOS!$N$9=\"REPÚBLICA \nDOMINICANA\",LOOKUP(6,$J$4:$P$4,J19:P19),IF(EFECTOS!$N$9=\"PANAMÁ\",LOOKUP(7,GEfectos!$J$4:$P$4,GEfectos!J19:P19))))))))","v":71.49277096586215},{"$f":"IF(EFECTOS!$N$9=\"COSTA RICA\",LOOKUP(1,GEfectos!$Q$4:$W$4,GEfectos!Q19:W19),IF(EFECTOS!$N$9=\"EL SALVADOR\",LOOKUP(2,GEfectos!$Q$4:$W$4,GEfectos!Q19:W19),IF(EFECTOS!$N$9=\"GUATEMALA\",LOOKUP(3,GEfectos!$Q$4:$W$4,GEfectos!Q19:W19),IF(EFECTOS!$N$9=\"HONDURAS\",LOOKUP(4,GEfectos!$Q$4:$W$4,GEfectos!Q19:W19),IF(EFECTOS!$N$9=\"NICARAGUA\",LOOKUP(5,GEfectos!$Q$4:$W$4,GEfectos!Q19:W19),IF(EFECTOS!$N$9=\"REPÚBLICA \nDOMINICANA\",LOOKUP(6,$Q$4:$W$4,Q19:W19),IF(EFECTOS!$N$9=\"PANAMÁ\",LOOKUP(7,GEfectos!$Q$4:$W$4,GEfectos!Q19:W19))))))))","v":69.973446182478426},100]
[null,{"$f":"'ITCER GLOBAL'!B20","v":"Marzo"},{"$f":"'ITCER GLOBAL'!C20","v":103.09329411864434},{"$f":"'ITCER GLOBAL'!D20","v":108.63924151742201},{"$f":"'ITCER GLOBAL'!E20","v":101.19588741145336},{"$f":"'ITCER GLOBAL'!F20","v":131.22370805168558},{"$f":"'ITCER GLOBAL'!G20","v":97.548564874900833},{"$f":"'ITCER GLOBAL'!H20","v":97.963818530717603},{"$f":"'ITCER GLOBAL'!I20","v":105.64069145499299},{"$f":"'ITCER GLOBAL'!S20","v":72.096567788210635},{"$f":"'ITCER GLOBAL'!T20","v":116.15070202830175},{"$f":"'ITCER GLOBAL'!U20","v":90.197362243725166},{"$f":"'ITCER GLOBAL'!V20","v":81.28606873914211},{"$f":"'ITCER GLOBAL'!W20","v":72.164779674180025},{"$f":"'ITCER GLOBAL'!X20","v":79.772951967880132},{"$f":"'ITCER GLOBAL'!Y20","v":119.34264495436877},{"$f":"'ITCER GLOBAL'!AA20","v":69.933324378245899},{"$f":"'ITCER GLOBAL'!AB20","v":106.9141319526565},{"$f":"'ITCER GLOBAL'!AC20","v":89.13145044816973},{"$f":"'ITCER GLOBAL'!AD20","v":61.94465157708062},{"$f":"'ITCER GLOBAL'!AE20","v":73.97830994923018},{"$f":"'ITCER GLOBAL'!AF20","v":81.431035625531962},{"$f":"'ITCER GLOBAL'!AG20","v":112.97033681875639},null,{"$f":"IF(EFECTOS!$N$9=\"COSTA RICA\",LOOKUP(1,GEfectos!$C$4:$I$4,GEfectos!C20:I20),IF(EFECTOS!$N$9=\"EL SALVADOR\",LOOKUP(2,GEfectos!$C$4:$I$4,GEfectos!C20:I20),IF(EFECTOS!$N$9=\"GUATEMALA\",LOOKUP(3,GEfectos!$C$4:$I$4,GEfectos!C20:I20),IF(EFECTOS!$N$9=\"HONDURAS\",LOOKUP(4,GEfectos!$C$4:$I$4,GEfectos!C20:I20),IF(EFECTOS!$N$9=\"NICARAGUA\",LOOKUP(5,GEfectos!$C$4:$I$4,GEfectos!C20:I20),IF(EFECTOS!$N$9=\"REPÚBLICA \nDOMINICANA\",LOOKUP(6,$C$4:$I$4,C20:I20),IF(EFECTOS!$N$9=\"PANAMÁ\",LOOKUP(7,GEfectos!$C$4:$I$4,GEfectos!C20:I20))))))))","v":103.09329411864434},{"$f":"IF(EFECTOS!$N$9=\"COSTA RICA\",LOOKUP(1,GEfectos!$J$4:$P$4,GEfectos!J20:P20),IF(EFECTOS!$N$9=\"EL SALVADOR\",LOOKUP(2,GEfectos!$J$4:$P$4,GEfectos!J20:P20),IF(EFECTOS!$N$9=\"GUATEMALA\",LOOKUP(3,GEfectos!$J$4:$P$4,GEfectos!J20:P20),IF(EFECTOS!$N$9=\"HONDURAS\",LOOKUP(4,GEfectos!$J$4:$P$4,GEfectos!J20:P20),IF(EFECTOS!$N$9=\"NICARAGUA\",LOOKUP(5,GEfectos!$J$4:$P$4,GEfectos!J20:P20),IF(EFECTOS!$N$9=\"REPÚBLICA \nDOMINICANA\",LOOKUP(6,$J$4:$P$4,J20:P20),IF(EFECTOS!$N$9=\"PANAMÁ\",LOOKUP(7,GEfectos!$J$4:$P$4,GEfectos!J20:P20))))))))","v":72.096567788210635},{"$f":"IF(EFECTOS!$N$9=\"COSTA RICA\",LOOKUP(1,GEfectos!$Q$4:$W$4,GEfectos!Q20:W20),IF(EFECTOS!$N$9=\"EL SALVADOR\",LOOKUP(2,GEfectos!$Q$4:$W$4,GEfectos!Q20:W20),IF(EFECTOS!$N$9=\"GUATEMALA\",LOOKUP(3,GEfectos!$Q$4:$W$4,GEfectos!Q20:W20),IF(EFECTOS!$N$9=\"HONDURAS\",LOOKUP(4,GEfectos!$Q$4:$W$4,GEfectos!Q20:W20),IF(EFECTOS!$N$9=\"NICARAGUA\",LOOKUP(5,GEfectos!$Q$4:$W$4,GEfectos!Q20:W20),IF(EFECTOS!$N$9=\"REPÚBLICA \nDOMINICANA\",LOOKUP(6,$Q$4:$W$4,Q20:W20),IF(EFECTOS!$N$9=\"PANAMÁ\",LOOKUP(7,GEfectos!$Q$4:$W$4,GEfectos!Q20:W20))))))))","v":69.933324378245899},100]
[null,{"$f":"'ITCER GLOBAL'!B21","v":"Abril"},{"$f":"'ITCER GLOBAL'!C21","v":103.63599383203045},{"$f":"'ITCER GLOBAL'!D21","v":108.79813989454875},{"$f":"'ITCER GLOBAL'!E21","v":99.732935909807225},{"$f":"'ITCER GLOBAL'!F21","v":130.7578443694195},{"$f":"'ITCER GLOBAL'!G21","v":98.003742347567211},{"$f":"'ITCER GLOBAL'!H21","v":98.258451504710294},{"$f":"'ITCER GLOBAL'!I21","v":105.73646860750678},{"$f":"'ITCER GLOBAL'!S21","v":72.589328428187301},{"$f":"'ITCER GLOBAL'!T21","v":115.93961240605952},{"$f":"'ITCER GLOBAL'!U21","v":89.333823137582428},{"$f":"'ITCER GLOBAL'!V21","v":82.220723935238098},{"$f":"'ITCER GLOBAL'!W21","v":72.643085304179536},{"$f":"'ITCER GLOBAL'!X21","v":79.759064365134307},{"$f":"'ITCER GLOBAL'!Y21","v":118.94556048832447},{"$f":"'ITCER GLOBAL'!AA21","v":70.042584380324001},{"$f":"'ITCER GLOBAL'!AB21","v":106.56396563253061},{"$f":"'ITCER GLOBAL'!AC21","v":89.573040563421131},{"$f":"'ITCER GLOBAL'!AD21","v":62.880146374198823},{"$f":"'ITCER GLOBAL'!AE21","v":74.1227667067581},{"$f":"'ITCER GLOBAL'!AF21","v":81.172726766725845},{"$f":"'ITCER GLOBAL'!AG21","v":112.49246551806999},null,{"$f":"IF(EFECTOS!$N$9=\"COSTA RICA\",LOOKUP(1,GEfectos!$C$4:$I$4,GEfectos!C21:I21),IF(EFECTOS!$N$9=\"EL SALVADOR\",LOOKUP(2,GEfectos!$C$4:$I$4,GEfectos!C21:I21),IF(EFECTOS!$N$9=\"GUATEMALA\",LOOKUP(3,GEfectos!$C$4:$I$4,GEfectos!C21:I21),IF(EFECTOS!$N$9=\"HONDURAS\",LOOKUP(4,GEfectos!$C$4:$I$4,GEfectos!C21:I21),IF(EFECTOS!$N$9=\"NICARAGUA\",LOOKUP(5,GEfectos!$C$4:$I$4,GEfectos!C21:I21),IF(EFECTOS!$N$9=\"REPÚBLICA \nDOMINICANA\",LOOKUP(6,$C$4:$I$4,C21:I21),IF(EFECTOS!$N$9=\"PANAMÁ\",LOOKUP(7,GEfectos!$C$4:$I$4,GEfectos!C21:I21))))))))","v":103.63599383203045},{"$f":"IF(EFECTOS!$N$9=\"COSTA RICA\",LOOKUP(1,GEfectos!$J$4:$P$4,GEfectos!J21:P21),IF(EFECTOS!$N$9=\"EL SALVADOR\",LOOKUP(2,GEfectos!$J$4:$P$4,GEfectos!J21:P21),IF(EFECTOS!$N$9=\"GUATEMALA\",LOOKUP(3,GEfectos!$J$4:$P$4,GEfectos!J21:P21),IF(EFECTOS!$N$9=\"HONDURAS\",LOOKUP(4,GEfectos!$J$4:$P$4,GEfectos!J21:P21),IF(EFECTOS!$N$9=\"NICARAGUA\",LOOKUP(5,GEfectos!$J$4:$P$4,GEfectos!J21:P21),IF(EFECTOS!$N$9=\"REPÚBLICA \nDOMINICANA\",LOOKUP(6,$J$4:$P$4,J21:P21),IF(EFECTOS!$N$9=\"PANAMÁ\",LOOKUP(7,GEfectos!$J$4:$P$4,GEfectos!J21:P21))))))))","v":72.589328428187301},{"$f":"IF(EFECTOS!$N$9=\"COSTA RICA\",LOOKUP(1,GEfectos!$Q$4:$W$4,GEfectos!Q21:W21),IF(EFECTOS!$N$9=\"EL SALVADOR\",LOOKUP(2,GEfectos!$Q$4:$W$4,GEfectos!Q21:W21),IF(EFECTOS!$N$9=\"GUATEMALA\",LOOKUP(3,GEfectos!$Q$4:$W$4,GEfectos!Q21:W21),IF(EFECTOS!$N$9=\"HONDURAS\",LOOKUP(4,GEfectos!$Q$4:$W$4,GEfectos!Q21:W21),IF(EFECTOS!$N$9=\"NICARAGUA\",LOOKUP(5,GEfectos!$Q$4:$W$4,GEfectos!Q21:W21),IF(EFECTOS!$N$9=\"REPÚBLICA \nDOMINICANA\",LOOKUP(6,$Q$4:$W$4,Q21:W21),IF(EFECTOS!$N$9=\"PANAMÁ\",LOOKUP(7,GEfectos!$Q$4:$W$4,GEfectos!Q21:W21))))))))","v":70.042584380324001},100]
[null,{"$f":"'ITCER GLOBAL'!B22","v":"Mayo"},{"$f":"'ITCER GLOBAL'!C22","v":103.1157023571362},{"$f":"'ITCER GLOBAL'!D22","v":108.40262254806575},{"$f":"'ITCER GLOBAL'!E22","v":98.67514867736017},{"$f":"'ITCER GLOBAL'!F22","v":129.90693196230831},{"$f":"'ITCER GLOBAL'!G22","v":97.539584903679852},{"$f":"'ITCER GLOBAL'!H22","v":98.244176391386119},{"$f":"'ITCER GLOBAL'!I22","v":106.11686124823149},{"$f":"'ITCER GLOBAL'!S22","v":73.136880056653453},{"$f":"'ITCER GLOBAL'!T22","v":115.77596176092639},{"$f":"'ITCER GLOBAL'!U22","v":88.448801133761677},{"$f":"'ITCER GLOBAL'!V22","v":83.041805992302216},{"$f":"'ITCER GLOBAL'!W22","v":73.165202978921073},{"$f":"'ITCER GLOBAL'!X22","v":79.740326080697315},{"$f":"'ITCER GLOBAL'!Y22","v":118.60117277368434},{"$f":"'ITCER GLOBAL'!AA22","v":70.927005669172914},{"$f":"'ITCER GLOBAL'!AB22","v":106.80180888575023},{"$f":"'ITCER GLOBAL'!AC22","v":89.636349495620465},{"$f":"'ITCER GLOBAL'!AD22","v":63.924076058078462},{"$f":"'ITCER GLOBAL'!AE22","v":75.010779522151509},{"$f":"'ITCER GLOBAL'!AF22","v":81.165448181912609},{"$f":"'ITCER GLOBAL'!AG22","v":111.76468223673636},null,{"$f":"IF(EFECTOS!$N$9=\"COSTA RICA\",LOOKUP(1,GEfectos!$C$4:$I$4,GEfectos!C22:I22),IF(EFECTOS!$N$9=\"EL SALVADOR\",LOOKUP(2,GEfectos!$C$4:$I$4,GEfectos!C22:I22),IF(EFECTOS!$N$9=\"GUATEMALA\",LOOKUP(3,GEfectos!$C$4:$I$4,GEfectos!C22:I22),IF(EFECTOS!$N$9=\"HONDURAS\",LOOKUP(4,GEfectos!$C$4:$I$4,GEfectos!C22:I22),IF(EFECTOS!$N$9=\"NICARAGUA\",LOOKUP(5,GEfectos!$C$4:$I$4,GEfectos!C22:I22),IF(EFECTOS!$N$9=\"REPÚBLICA \nDOMINICANA\",LOOKUP(6,$C$4:$I$4,C22:I22),IF(EFECTOS!$N$9=\"PANAMÁ\",LOOKUP(7,GEfectos!$C$4:$I$4,GEfectos!C22:I22))))))))","v":103.1157023571362},{"$f":"IF(EFECTOS!$N$9=\"COSTA RICA\",LOOKUP(1,GEfectos!$J$4:$P$4,GEfectos!J22:P22),IF(EFECTOS!$N$9=\"EL SALVADOR\",LOOKUP(2,GEfectos!$J$4:$P$4,GEfectos!J22:P22),IF(EFECTOS!$N$9=\"GUATEMALA\",LOOKUP(3,GEfectos!$J$4:$P$4,GEfectos!J22:P22),IF(EFECTOS!$N$9=\"HONDURAS\",LOOKUP(4,GEfectos!$J$4:$P$4,GEfectos!J22:P22),IF(EFECTOS!$N$9=\"NICARAGUA\",LOOKUP(5,GEfectos!$J$4:$P$4,GEfectos!J22:P22),IF(EFECTOS!$N$9=\"REPÚBLICA \nDOMINICANA\",LOOKUP(6,$J$4:$P$4,J22:P22),IF(EFECTOS!$N$9=\"PANAMÁ\",LOOKUP(7,GEfectos!$J$4:$P$4,GEfectos!J22:P22))))))))","v":73.136880056653453},{"$f":"IF(EFECTOS!$N$9=\"COSTA RICA\",LOOKUP(1,GEfectos!$Q$4:$W$4,GEfectos!Q22:W22),IF(EFECTOS!$N$9=\"EL SALVADOR\",LOOKUP(2,GEfectos!$Q$4:$W$4,GEfectos!Q22:W22),IF(EFECTOS!$N$9=\"GUATEMALA\",LOOKUP(3,GEfectos!$Q$4:$W$4,GEfectos!Q22:W22),IF(EFECTOS!$N$9=\"HONDURAS\",LOOKUP(4,GEfectos!$Q$4:$W$4,GEfectos!Q22:W22),IF(EFECTOS!$N$9=\"NICARAGUA\",LOOKUP(5,GEfectos!$Q$4:$W$4,GEfectos!Q22:W22),IF(EFECTOS!$N$9=\"REPÚBLICA \nDOMINICANA\",LOOKUP(6,$Q$4:$W$4,Q22:W22),IF(EFECTOS!$N$9=\"PANAMÁ\",LOOKUP(7,GEfectos!$Q$4:$W$4,GEfectos!Q22:W22))))))))","v":70.927005669172914},100]
[null,{"$f":"'ITCER GLOBAL'!B23","v":"Junio"},{"$f":"'ITCER GLOBAL'!C23","v":102.8839053450592},{"$f":"'ITCER GLOBAL'!D23","v":106.5985960371186},{"$f":"'ITCER GLOBAL'!E23","v":98.83909586059336},{"$f":"'ITCER GLOBAL'!F23","v":129.97606452832153},{"$f":"'ITCER GLOBAL'!G23","v":98.166741538913584},{"$f":"'ITCER GLOBAL'!H23","v":97.943360817954456},{"$f":"'ITCER GLOBAL'!I23","v":106.04095168925909},{"$f":"'ITCER GLOBAL'!S23","v":73.790508167036577},{"$f":"'ITCER GLOBAL'!T23","v":115.31257015245995},{"$f":"'ITCER GLOBAL'!U23","v":88.750288857983847},{"$f":"'ITCER GLOBAL'!V23","v":84.9390786422465},{"$f":"'ITCER GLOBAL'!W23","v":73.593721263128913},{"$f":"'ITCER GLOBAL'!X23","v":79.691746717920765},{"$f":"'ITCER GLOBAL'!Y23","v":118.13219316337592},{"$f":"'ITCER GLOBAL'!AA23","v":71.722110391856575},{"$f":"'ITCER GLOBAL'!AB23","v":108.17456743267716},{"$f":"'ITCER GLOBAL'!AC23","v":89.792695982529864},{"$f":"'ITCER GLOBAL'!AD23","v":65.349784939625124},{"$f":"'ITCER GLOBAL'!AE23","v":74.96807993158879},{"$f":"'ITCER GLOBAL'!AF23","v":81.365133943118778},{"$f":"'ITCER GLOBAL'!AG23","v":111.40242640366793},null,{"$f":"IF(EFECTOS!$N$9=\"COSTA RICA\",LOOKUP(1,GEfectos!$C$4:$I$4,GEfectos!C23:I23),IF(EFECTOS!$N$9=\"EL SALVADOR\",LOOKUP(2,GEfectos!$C$4:$I$4,GEfectos!C23:I23),IF(EFECTOS!$N$9=\"GUATEMALA\",LOOKUP(3,GEfectos!$C$4:$I$4,GEfectos!C23:I23),IF(EFECTOS!$N$9=\"HONDURAS\",LOOKUP(4,GEfectos!$C$4:$I$4,GEfectos!C23:I23),IF(EFECTOS!$N$9=\"NICARAGUA\",LOOKUP(5,GEfectos!$C$4:$I$4,GEfectos!C23:I23),IF(EFECTOS!$N$9=\"REPÚBLICA \nDOMINICANA\",LOOKUP(6,$C$4:$I$4,C23:I23),IF(EFECTOS!$N$9=\"PANAMÁ\",LOOKUP(7,GEfectos!$C$4:$I$4,GEfectos!C23:I23))))))))","v":102.8839053450592},{"$f":"IF(EFECTOS!$N$9=\"COSTA RICA\",LOOKUP(1,GEfectos!$J$4:$P$4,GEfectos!J23:P23),IF(EFECTOS!$N$9=\"EL SALVADOR\",LOOKUP(2,GEfectos!$J$4:$P$4,GEfectos!J23:P23),IF(EFECTOS!$N$9=\"GUATEMALA\",LOOKUP(3,GEfectos!$J$4:$P$4,GEfectos!J23:P23),IF(EFECTOS!$N$9=\"HONDURAS\",LOOKUP(4,GEfectos!$J$4:$P$4,GEfectos!J23:P23),IF(EFECTOS!$N$9=\"NICARAGUA\",LOOKUP(5,GEfectos!$J$4:$P$4,GEfectos!J23:P23),IF(EFECTOS!$N$9=\"REPÚBLICA \nDOMINICANA\",LOOKUP(6,$J$4:$P$4,J23:P23),IF(EFECTOS!$N$9=\"PANAMÁ\",LOOKUP(7,GEfectos!$J$4:$P$4,GEfectos!J23:P23))))))))","v":73.790508167036577},{"$f":"IF(EFECTOS!$N$9=\"COSTA RICA\",LOOKUP(1,GEfectos!$Q$4:$W$4,GEfectos!Q23:W23),IF(EFECTOS!$N$9=\"EL SALVADOR\",LOOKUP(2,GEfectos!$Q$4:$W$4,GEfectos!Q23:W23),IF(EFECTOS!$N$9=\"GUATEMALA\",LOOKUP(3,GEfectos!$Q$4:$W$4,GEfectos!Q23:W23),IF(EFECTOS!$N$9=\"HONDURAS\",LOOKUP(4,GEfectos!$Q$4:$W$4,GEfectos!Q23:W23),IF(EFECTOS!$N$9=\"NICARAGUA\",LOOKUP(5,GEfectos!$Q$4:$W$4,GEfectos!Q23:W23),IF(EFECTOS!$N$9=\"REPÚBLICA \nDOMINICANA\",LOOKUP(6,$Q$4:$W$4,Q23:W23),IF(EFECTOS!$N$9=\"PANAMÁ\",LOOKUP(7,GEfectos!$Q$4:$W$4,GEfectos!Q23:W23))))))))","v":71.722110391856575},100]
[null,{"$f":"'ITCER GLOBAL'!B24","v":"Julio"},{"$f":"'ITCER GLOBAL'!C24","v":103.16467134031737},{"$f":"'ITCER GLOBAL'!D24","v":107.08382417096217},{"$f":"'ITCER GLOBAL'!E24","v":97.156527333780048},{"$f":"'ITCER GLOBAL'!F24","v":133.66199126382807},{"$f":"'ITCER GLOBAL'!G24","v":99.211905717939018},{"$f":"'ITCER GLOBAL'!H24","v":97.920048339087529},{"$f":"'ITCER GLOBAL'!I24","v":106.11061502785932},{"$f":"'ITCER GLOBAL'!S24","v":74.636989359765778},{"$f":"'ITCER GLOBAL'!T24","v":115.26378229065021},{"$f":"'ITCER GLOBAL'!U24","v":88.121764467001142},{"$f":"'ITCER GLOBAL'!V24","v":89.065827058621991},{"$f":"'ITCER GLOBAL'!W24","v":74.266885485235974},{"$f":"'ITCER GLOBAL'!X24","v":79.703235466514158},{"$f":"'ITCER GLOBAL'!Y24","v":118.15500117912821},{"$f":"'ITCER GLOBAL'!AA24","v":72.347430947126185},{"$f":"'ITCER GLOBAL'!AB24","v":107.63883638170087},{"$f":"'ITCER GLOBAL'!AC24","v":90.700817418329407},{"$f":"'ITCER GLOBAL'!AD24","v":66.635119091425054},{"$f":"'ITCER GLOBAL'!AE24","v":74.856827865375223},{"$f":"'ITCER GLOBAL'!AF24","v":81.396237867969248},{"$f":"'ITCER GLOBAL'!AG24","v":111.35078347072687},null,{"$f":"IF(EFECTOS!$N$9=\"COSTA RICA\",LOOKUP(1,GEfectos!$C$4:$I$4,GEfectos!C24:I24),IF(EFECTOS!$N$9=\"EL SALVADOR\",LOOKUP(2,GEfectos!$C$4:$I$4,GEfectos!C24:I24),IF(EFECTOS!$N$9=\"GUATEMALA\",LOOKUP(3,GEfectos!$C$4:$I$4,GEfectos!C24:I24),IF(EFECTOS!$N$9=\"HONDURAS\",LOOKUP(4,GEfectos!$C$4:$I$4,GEfectos!C24:I24),IF(EFECTOS!$N$9=\"NICARAGUA\",LOOKUP(5,GEfectos!$C$4:$I$4,GEfectos!C24:I24),IF(EFECTOS!$N$9=\"REPÚBLICA \nDOMINICANA\",LOOKUP(6,$C$4:$I$4,C24:I24),IF(EFECTOS!$N$9=\"PANAMÁ\",LOOKUP(7,GEfectos!$C$4:$I$4,GEfectos!C24:I24))))))))","v":103.16467134031737},{"$f":"IF(EFECTOS!$N$9=\"COSTA RICA\",LOOKUP(1,GEfectos!$J$4:$P$4,GEfectos!J24:P24),IF(EFECTOS!$N$9=\"EL SALVADOR\",LOOKUP(2,GEfectos!$J$4:$P$4,GEfectos!J24:P24),IF(EFECTOS!$N$9=\"GUATEMALA\",LOOKUP(3,GEfectos!$J$4:$P$4,GEfectos!J24:P24),IF(EFECTOS!$N$9=\"HONDURAS\",LOOKUP(4,GEfectos!$J$4:$P$4,GEfectos!J24:P24),IF(EFECTOS!$N$9=\"NICARAGUA\",LOOKUP(5,GEfectos!$J$4:$P$4,GEfectos!J24:P24),IF(EFECTOS!$N$9=\"REPÚBLICA \nDOMINICANA\",LOOKUP(6,$J$4:$P$4,J24:P24),IF(EFECTOS!$N$9=\"PANAMÁ\",LOOKUP(7,GEfectos!$J$4:$P$4,GEfectos!J24:P24))))))))","v":74.636989359765778},{"$f":"IF(EFECTOS!$N$9=\"COSTA RICA\",LOOKUP(1,GEfectos!$Q$4:$W$4,GEfectos!Q24:W24),IF(EFECTOS!$N$9=\"EL SALVADOR\",LOOKUP(2,GEfectos!$Q$4:$W$4,GEfectos!Q24:W24),IF(EFECTOS!$N$9=\"GUATEMALA\",LOOKUP(3,GEfectos!$Q$4:$W$4,GEfectos!Q24:W24),IF(EFECTOS!$N$9=\"HONDURAS\",LOOKUP(4,GEfectos!$Q$4:$W$4,GEfectos!Q24:W24),IF(EFECTOS!$N$9=\"NICARAGUA\",LOOKUP(5,GEfectos!$Q$4:$W$4,GEfectos!Q24:W24),IF(EFECTOS!$N$9=\"REPÚBLICA \nDOMINICANA\",LOOKUP(6,$Q$4:$W$4,Q24:W24),IF(EFECTOS!$N$9=\"PANAMÁ\",LOOKUP(7,GEfectos!$Q$4:$W$4,GEfectos!Q24:W24))))))))","v":72.347430947126185},100]
[null,{"$f":"'ITCER GLOBAL'!B25","v":"Agosto"},{"$f":"'ITCER GLOBAL'!C25","v":103.82117093463793},{"$f":"'ITCER GLOBAL'!D25","v":104.55739886040323},{"$f":"'ITCER GLOBAL'!E25","v":96.645478291837307},{"$f":"'ITCER GLOBAL'!F25","v":133.73894927297576},{"$f":"'ITCER GLOBAL'!G25","v":101.73609642694208},{"$f":"'ITCER GLOBAL'!H25","v":98.038921668869307},{"$f":"'ITCER GLOBAL'!I25","v":106.55093977432793},{"$f":"'ITCER GLOBAL'!S25","v":75.536924175376782},{"$f":"'ITCER GLOBAL'!T25","v":115.42006112482466},{"$f":"'ITCER GLOBAL'!U25","v":87.923948759042219},{"$f":"'ITCER GLOBAL'!V25","v":91.255348575568377},{"$f":"'ITCER GLOBAL'!W25","v":75.093116939633489},{"$f":"'ITCER GLOBAL'!X25","v":79.759480299527695},{"$f":"'ITCER GLOBAL'!Y25","v":118.45284555501475},{"$f":"'ITCER GLOBAL'!AA25","v":72.756763861709956},{"$f":"'ITCER GLOBAL'!AB25","v":110.38918563661323},{"$f":"'ITCER GLOBAL'!AC25","v":90.975750043412319},{"$f":"'ITCER GLOBAL'!AD25","v":68.233935642268492},{"$f":"'ITCER GLOBAL'!AE25","v":73.811675085802761},{"$f":"'ITCER GLOBAL'!AF25","v":81.354913887077203},{"$f":"'ITCER GLOBAL'!AG25","v":111.17015561373248},null,{"$f":"IF(EFECTOS!$N$9=\"COSTA RICA\",LOOKUP(1,GEfectos!$C$4:$I$4,GEfectos!C25:I25),IF(EFECTOS!$N$9=\"EL SALVADOR\",LOOKUP(2,GEfectos!$C$4:$I$4,GEfectos!C25:I25),IF(EFECTOS!$N$9=\"GUATEMALA\",LOOKUP(3,GEfectos!$C$4:$I$4,GEfectos!C25:I25),IF(EFECTOS!$N$9=\"HONDURAS\",LOOKUP(4,GEfectos!$C$4:$I$4,GEfectos!C25:I25),IF(EFECTOS!$N$9=\"NICARAGUA\",LOOKUP(5,GEfectos!$C$4:$I$4,GEfectos!C25:I25),IF(EFECTOS!$N$9=\"REPÚBLICA \nDOMINICANA\",LOOKUP(6,$C$4:$I$4,C25:I25),IF(EFECTOS!$N$9=\"PANAMÁ\",LOOKUP(7,GEfectos!$C$4:$I$4,GEfectos!C25:I25))))))))","v":103.82117093463793},{"$f":"IF(EFECTOS!$N$9=\"COSTA RICA\",LOOKUP(1,GEfectos!$J$4:$P$4,GEfectos!J25:P25),IF(EFECTOS!$N$9=\"EL SALVADOR\",LOOKUP(2,GEfectos!$J$4:$P$4,GEfectos!J25:P25),IF(EFECTOS!$N$9=\"GUATEMALA\",LOOKUP(3,GEfectos!$J$4:$P$4,GEfectos!J25:P25),IF(EFECTOS!$N$9=\"HONDURAS\",LOOKUP(4,GEfectos!$J$4:$P$4,GEfectos!J25:P25),IF(EFECTOS!$N$9=\"NICARAGUA\",LOOKUP(5,GEfectos!$J$4:$P$4,GEfectos!J25:P25),IF(EFECTOS!$N$9=\"REPÚBLICA \nDOMINICANA\",LOOKUP(6,$J$4:$P$4,J25:P25),IF(EFECTOS!$N$9=\"PANAMÁ\",LOOKUP(7,GEfectos!$J$4:$P$4,GEfectos!J25:P25))))))))","v":75.536924175376782},{"$f":"IF(EFECTOS!$N$9=\"COSTA RICA\",LOOKUP(1,GEfectos!$Q$4:$W$4,GEfectos!Q25:W25),IF(EFECTOS!$N$9=\"EL SALVADOR\",LOOKUP(2,GEfectos!$Q$4:$W$4,GEfectos!Q25:W25),IF(EFECTOS!$N$9=\"GUATEMALA\",LOOKUP(3,GEfectos!$Q$4:$W$4,GEfectos!Q25:W25),IF(EFECTOS!$N$9=\"HONDURAS\",LOOKUP(4,GEfectos!$Q$4:$W$4,GEfectos!Q25:W25),IF(EFECTOS!$N$9=\"NICARAGUA\",LOOKUP(5,GEfectos!$Q$4:$W$4,GEfectos!Q25:W25),IF(EFECTOS!$N$9=\"REPÚBLICA \nDOMINICANA\",LOOKUP(6,$Q$4:$W$4,Q25:W25),IF(EFECTOS!$N$9=\"PANAMÁ\",LOOKUP(7,GEfectos!$Q$4:$W$4,GEfectos!Q25:W25))))))))","v":72.756763861709956},100]
[null,{"$f":"'ITCER GLOBAL'!B26","v":"Septiembre"},{"$f":"'ITCER GLOBAL'!C26","v":104.05526147295112},{"$f":"'ITCER GLOBAL'!D26","v":105.38023546374269},{"$f":"'ITCER GLOBAL'!E26","v":96.018707692585153},{"$f":"'ITCER GLOBAL'!F26","v":133.17397329539327},{"$f":"'ITCER GLOBAL'!G26","v":101.6998247474973},{"$f":"'ITCER GLOBAL'!H26","v":97.779361031789833},{"$f":"'ITCER GLOBAL'!I26","v":106.28253258450735},{"$f":"'ITCER GLOBAL'!S26","v":76.089341382085834},{"$f":"'ITCER GLOBAL'!T26","v":115.07407836024252},{"$f":"'ITCER GLOBAL'!U26","v":87.257715005265396},{"$f":"'ITCER GLOBAL'!V26","v":92.10478097679146},{"$f":"'ITCER GLOBAL'!W26","v":75.522053330249889},{"$f":"'ITCER GLOBAL'!X26","v":79.709793324582407},{"$f":"'ITCER GLOBAL'!Y26","v":117.97914873656801},{"$f":"'ITCER GLOBAL'!AA26","v":73.123973074504306},{"$f":"'ITCER GLOBAL'!AB26","v":109.19891937405578},{"$f":"'ITCER GLOBAL'!AC26","v":90.875744010876431},{"$f":"'ITCER GLOBAL'!AD26","v":69.161247275016564},{"$f":"'ITCER GLOBAL'!AE26","v":74.259767426106976},{"$f":"'ITCER GLOBAL'!AF26","v":81.520059533491235},{"$f":"'ITCER GLOBAL'!AG26","v":111.00521023316831},null,{"$f":"IF(EFECTOS!$N$9=\"COSTA RICA\",LOOKUP(1,GEfectos!$C$4:$I$4,GEfectos!C26:I26),IF(EFECTOS!$N$9=\"EL SALVADOR\",LOOKUP(2,GEfectos!$C$4:$I$4,GEfectos!C26:I26),IF(EFECTOS!$N$9=\"GUATEMALA\",LOOKUP(3,GEfectos!$C$4:$I$4,GEfectos!C26:I26),IF(EFECTOS!$N$9=\"HONDURAS\",LOOKUP(4,GEfectos!$C$4:$I$4,GEfectos!C26:I26),IF(EFECTOS!$N$9=\"NICARAGUA\",LOOKUP(5,GEfectos!$C$4:$I$4,GEfectos!C26:I26),IF(EFECTOS!$N$9=\"REPÚBLICA \nDOMINICANA\",LOOKUP(6,$C$4:$I$4,C26:I26),IF(EFECTOS!$N$9=\"PANAMÁ\",LOOKUP(7,GEfectos!$C$4:$I$4,GEfectos!C26:I26))))))))","v":104.05526147295112},{"$f":"IF(EFECTOS!$N$9=\"COSTA RICA\",LOOKUP(1,GEfectos!$J$4:$P$4,GEfectos!J26:P26),IF(EFECTOS!$N$9=\"EL SALVADOR\",LOOKUP(2,GEfectos!$J$4:$P$4,GEfectos!J26:P26),IF(EFECTOS!$N$9=\"GUATEMALA\",LOOKUP(3,GEfectos!$J$4:$P$4,GEfectos!J26:P26),IF(EFECTOS!$N$9=\"HONDURAS\",LOOKUP(4,GEfectos!$J$4:$P$4,GEfectos!J26:P26),IF(EFECTOS!$N$9=\"NICARAGUA\",LOOKUP(5,GEfectos!$J$4:$P$4,GEfectos!J26:P26),IF(EFECTOS!$N$9=\"REPÚBLICA \nDOMINICANA\",LOOKUP(6,$J$4:$P$4,J26:P26),IF(EFECTOS!$N$9=\"PANAMÁ\",LOOKUP(7,GEfectos!$J$4:$P$4,GEfectos!J26:P26))))))))","v":76.089341382085834},{"$f":"IF(EFECTOS!$N$9=\"COSTA RICA\",LOOKUP(1,GEfectos!$Q$4:$W$4,GEfectos!Q26:W26),IF(EFECTOS!$N$9=\"EL SALVADOR\",LOOKUP(2,GEfectos!$Q$4:$W$4,GEfectos!Q26:W26),IF(EFECTOS!$N$9=\"GUATEMALA\",LOOKUP(3,GEfectos!$Q$4:$W$4,GEfectos!Q26:W26),IF(EFECTOS!$N$9=\"HONDURAS\",LOOKUP(4,GEfectos!$Q$4:$W$4,GEfectos!Q26:W26),IF(EFECTOS!$N$9=\"NICARAGUA\",LOOKUP(5,GEfectos!$Q$4:$W$4,GEfectos!Q26:W26),IF(EFECTOS!$N$9=\"REPÚBLICA \nDOMINICANA\",LOOKUP(6,$Q$4:$W$4,Q26:W26),IF(EFECTOS!$N$9=\"PANAMÁ\",LOOKUP(7,GEfectos!$Q$4:$W$4,GEfectos!Q26:W26))))))))","v":73.123973074504306},100]
[null,{"$f":"'ITCER GLOBAL'!B27","v":"Octubre"},{"$f":"'ITCER GLOBAL'!C27","v":103.85082291816165},{"$f":"'ITCER GLOBAL'!D27","v":105.38625806759487},{"$f":"'ITCER GLOBAL'!E27","v":95.780366495032396},{"$f":"'ITCER GLOBAL'!F27","v":132.80072519813928},{"$f":"'ITCER GLOBAL'!G27","v":100.07449717206823},{"$f":"'ITCER GLOBAL'!H27","v":97.791934730346512},{"$f":"'ITCER GLOBAL'!I27","v":105.82923291449542},{"$f":"'ITCER GLOBAL'!S27","v":76.640764021525314},{"$f":"'ITCER GLOBAL'!T27","v":114.58622534163909},{"$f":"'ITCER GLOBAL'!U27","v":86.976643562857035},{"$f":"'ITCER GLOBAL'!V27","v":92.827549375514167},{"$f":"'ITCER GLOBAL'!W27","v":75.903928042261924},{"$f":"'ITCER GLOBAL'!X27","v":79.639211327072275},{"$f":"'ITCER GLOBAL'!Y27","v":117.56791431614273},{"$f":"'ITCER GLOBAL'!AA27","v":73.79889910157101},{"$f":"'ITCER GLOBAL'!AB27","v":108.72975987831673},{"$f":"'ITCER GLOBAL'!AC27","v":90.808426346299314},{"$f":"'ITCER GLOBAL'!AD27","v":69.899881372646902},{"$f":"'ITCER GLOBAL'!AE27","v":75.847423856402301},{"$f":"'ITCER GLOBAL'!AF27","v":81.437402324303193},{"$f":"'ITCER GLOBAL'!AG27","v":111.09209721961375},null,{"$f":"IF(EFECTOS!$N$9=\"COSTA RICA\",LOOKUP(1,GEfectos!$C$4:$I$4,GEfectos!C27:I27),IF(EFECTOS!$N$9=\"EL SALVADOR\",LOOKUP(2,GEfectos!$C$4:$I$4,GEfectos!C27:I27),IF(EFECTOS!$N$9=\"GUATEMALA\",LOOKUP(3,GEfectos!$C$4:$I$4,GEfectos!C27:I27),IF(EFECTOS!$N$9=\"HONDURAS\",LOOKUP(4,GEfectos!$C$4:$I$4,GEfectos!C27:I27),IF(EFECTOS!$N$9=\"NICARAGUA\",LOOKUP(5,GEfectos!$C$4:$I$4,GEfectos!C27:I27),IF(EFECTOS!$N$9=\"REPÚBLICA \nDOMINICANA\",LOOKUP(6,$C$4:$I$4,C27:I27),IF(EFECTOS!$N$9=\"PANAMÁ\",LOOKUP(7,GEfectos!$C$4:$I$4,GEfectos!C27:I27))))))))","v":103.85082291816165},{"$f":"IF(EFECTOS!$N$9=\"COSTA RICA\",LOOKUP(1,GEfectos!$J$4:$P$4,GEfectos!J27:P27),IF(EFECTOS!$N$9=\"EL SALVADOR\",LOOKUP(2,GEfectos!$J$4:$P$4,GEfectos!J27:P27),IF(EFECTOS!$N$9=\"GUATEMALA\",LOOKUP(3,GEfectos!$J$4:$P$4,GEfectos!J27:P27),IF(EFECTOS!$N$9=\"HONDURAS\",LOOKUP(4,GEfectos!$J$4:$P$4,GEfectos!J27:P27),IF(EFECTOS!$N$9=\"NICARAGUA\",LOOKUP(5,GEfectos!$J$4:$P$4,GEfectos!J27:P27),IF(EFECTOS!$N$9=\"REPÚBLICA \nDOMINICANA\",LOOKUP(6,$J$4:$P$4,J27:P27),IF(EFECTOS!$N$9=\"PANAMÁ\",LOOKUP(7,GEfectos!$J$4:$P$4,GEfectos!J27:P27))))))))","v":76.640764021525314},{"$f":"IF(EFECTOS!$N$9=\"COSTA RICA\",LOOKUP(1,GEfectos!$Q$4:$W$4,GEfectos!Q27:W27),IF(EFECTOS!$N$9=\"EL SALVADOR\",LOOKUP(2,GEfectos!$Q$4:$W$4,GEfectos!Q27:W27),IF(EFECTOS!$N$9=\"GUATEMALA\",LOOKUP(3,GEfectos!$Q$4:$W$4,GEfectos!Q27:W27),IF(EFECTOS!$N$9=\"HONDURAS\",LOOKUP(4,GEfectos!$Q$4:$W$4,GEfectos!Q27:W27),IF(EFECTOS!$N$9=\"NICARAGUA\",LOOKUP(5,GEfectos!$Q$4:$W$4,GEfectos!Q27:W27),IF(EFECTOS!$N$9=\"REPÚBLICA \nDOMINICANA\",LOOKUP(6,$Q$4:$W$4,Q27:W27),IF(EFECTOS!$N$9=\"PANAMÁ\",LOOKUP(7,GEfectos!$Q$4:$W$4,GEfectos!Q27:W27))))))))","v":73.79889910157101},100]
[null,{"$f":"'ITCER GLOBAL'!B28","v":"Noviembre"},{"$f":"'ITCER GLOBAL'!C28","v":104.34047024422735},{"$f":"'ITCER GLOBAL'!D28","v":106.61759339116948},{"$f":"'ITCER GLOBAL'!E28","v":94.232212613543879},{"$f":"'ITCER GLOBAL'!F28","v":131.30442362617933},{"$f":"'ITCER GLOBAL'!G28","v":100.06183277965913},{"$f":"'ITCER GLOBAL'!H28","v":97.361833762207908},{"$f":"'ITCER GLOBAL'!I28","v":106.2107643591187},{"$f":"'ITCER GLOBAL'!S28","v":77.579829389000835},{"$f":"'ITCER GLOBAL'!T28","v":114.71303892368535},{"$f":"'ITCER GLOBAL'!U28","v":86.288492654669284},{"$f":"'ITCER GLOBAL'!V28","v":93.339972250723648},{"$f":"'ITCER GLOBAL'!W28","v":76.714906430546108},{"$f":"'ITCER GLOBAL'!X28","v":79.640648693040987},{"$f":"'ITCER GLOBAL'!Y28","v":117.80188307565489},{"$f":"'ITCER GLOBAL'!AA28","v":74.352577870706838},{"$f":"'ITCER GLOBAL'!AB28","v":107.59297342495293},{"$f":"'ITCER GLOBAL'!AC28","v":91.570058965448879},{"$f":"'ITCER GLOBAL'!AD28","v":71.086692796017587},{"$f":"'ITCER GLOBAL'!AE28","v":76.667500783716349},{"$f":"'ITCER GLOBAL'!AF28","v":81.798632601304178},{"$f":"'ITCER GLOBAL'!AG28","v":110.91331823707098},null,{"$f":"IF(EFECTOS!$N$9=\"COSTA RICA\",LOOKUP(1,GEfectos!$C$4:$I$4,GEfectos!C28:I28),IF(EFECTOS!$N$9=\"EL SALVADOR\",LOOKUP(2,GEfectos!$C$4:$I$4,GEfectos!C28:I28),IF(EFECTOS!$N$9=\"GUATEMALA\",LOOKUP(3,GEfectos!$C$4:$I$4,GEfectos!C28:I28),IF(EFECTOS!$N$9=\"HONDURAS\",LOOKUP(4,GEfectos!$C$4:$I$4,GEfectos!C28:I28),IF(EFECTOS!$N$9=\"NICARAGUA\",LOOKUP(5,GEfectos!$C$4:$I$4,GEfectos!C28:I28),IF(EFECTOS!$N$9=\"REPÚBLICA \nDOMINICANA\",LOOKUP(6,$C$4:$I$4,C28:I28),IF(EFECTOS!$N$9=\"PANAMÁ\",LOOKUP(7,GEfectos!$C$4:$I$4,GEfectos!C28:I28))))))))","v":104.34047024422735},{"$f":"IF(EFECTOS!$N$9=\"COSTA RICA\",LOOKUP(1,GEfectos!$J$4:$P$4,GEfectos!J28:P28),IF(EFECTOS!$N$9=\"EL SALVADOR\",LOOKUP(2,GEfectos!$J$4:$P$4,GEfectos!J28:P28),IF(EFECTOS!$N$9=\"GUATEMALA\",LOOKUP(3,GEfectos!$J$4:$P$4,GEfectos!J28:P28),IF(EFECTOS!$N$9=\"HONDURAS\",LOOKUP(4,GEfectos!$J$4:$P$4,GEfectos!J28:P28),IF(EFECTOS!$N$9=\"NICARAGUA\",LOOKUP(5,GEfectos!$J$4:$P$4,GEfectos!J28:P28),IF(EFECTOS!$N$9=\"REPÚBLICA \nDOMINICANA\",LOOKUP(6,$J$4:$P$4,J28:P28),IF(EFECTOS!$N$9=\"PANAMÁ\",LOOKUP(7,GEfectos!$J$4:$P$4,GEfectos!J28:P28))))))))","v":77.579829389000835},{"$f":"IF(EFECTOS!$N$9=\"COSTA RICA\",LOOKUP(1,GEfectos!$Q$4:$W$4,GEfectos!Q28:W28),IF(EFECTOS!$N$9=\"EL SALVADOR\",LOOKUP(2,GEfectos!$Q$4:$W$4,GEfectos!Q28:W28),IF(EFECTOS!$N$9=\"GUATEMALA\",LOOKUP(3,GEfectos!$Q$4:$W$4,GEfectos!Q28:W28),IF(EFECTOS!$N$9=\"HONDURAS\",LOOKUP(4,GEfectos!$Q$4:$W$4,GEfectos!Q28:W28),IF(EFECTOS!$N$9=\"NICARAGUA\",LOOKUP(5,GEfectos!$Q$4:$W$4,GEfectos!Q28:W28),IF(EFECTOS!$N$9=\"REPÚBLICA \nDOMINICANA\",LOOKUP(6,$Q$4:$W$4,Q28:W28),IF(EFECTOS!$N$9=\"PANAMÁ\",LOOKUP(7,GEfectos!$Q$4:$W$4,GEfectos!Q28:W28))))))))","v":74.352577870706838},100]
[null,{"$f":"'ITCER GLOBAL'!B29","v":"Diciembre"},{"$f":"'ITCER GLOBAL'!C29","v":104.10976074781411},{"$f":"'ITCER GLOBAL'!D29","v":106.34171602694231},{"$f":"'ITCER GLOBAL'!E29","v":93.282245631895066},{"$f":"'ITCER GLOBAL'!F29","v":131.46210742522518},{"$f":"'ITCER GLOBAL'!G29","v":99.158219528835232},{"$f":"'ITCER GLOBAL'!H29","v":98.647712673608282},{"$f":"'ITCER GLOBAL'!I29","v":105.01526060723046},{"$f":"'ITCER GLOBAL'!S29","v":77.9782231195219},{"$f":"'ITCER GLOBAL'!T29","v":114.21600088793447},{"$f":"'ITCER GLOBAL'!U29","v":85.752457874021687},{"$f":"'ITCER GLOBAL'!V29","v":94.191053113618551},{"$f":"'ITCER GLOBAL'!W29","v":77.034031782298811},{"$f":"'ITCER GLOBAL'!X29","v":81.552461810043226},{"$f":"'ITCER GLOBAL'!Y29","v":117.0673440389818},{"$f":"'ITCER GLOBAL'!AA29","v":74.900011833097153},{"$f":"'ITCER GLOBAL'!AB29","v":107.40469982541674},{"$f":"'ITCER GLOBAL'!AC29","v":91.927951876730134},{"$f":"'ITCER GLOBAL'!AD29","v":71.648823344166928},{"$f":"'ITCER GLOBAL'!AE29","v":77.687994145454894},{"$f":"'ITCER GLOBAL'!AF29","v":82.670403195127889},{"$f":"'ITCER GLOBAL'!AG29","v":111.4765067115603},null,{"$f":"IF(EFECTOS!$N$9=\"COSTA RICA\",LOOKUP(1,GEfectos!$C$4:$I$4,GEfectos!C29:I29),IF(EFECTOS!$N$9=\"EL SALVADOR\",LOOKUP(2,GEfectos!$C$4:$I$4,GEfectos!C29:I29),IF(EFECTOS!$N$9=\"GUATEMALA\",LOOKUP(3,GEfectos!$C$4:$I$4,GEfectos!C29:I29),IF(EFECTOS!$N$9=\"HONDURAS\",LOOKUP(4,GEfectos!$C$4:$I$4,GEfectos!C29:I29),IF(EFECTOS!$N$9=\"NICARAGUA\",LOOKUP(5,GEfectos!$C$4:$I$4,GEfectos!C29:I29),IF(EFECTOS!$N$9=\"REPÚBLICA \nDOMINICANA\",LOOKUP(6,$C$4:$I$4,C29:I29),IF(EFECTOS!$N$9=\"PANAMÁ\",LOOKUP(7,GEfectos!$C$4:$I$4,GEfectos!C29:I29))))))))","v":104.10976074781411},{"$f":"IF(EFECTOS!$N$9=\"COSTA RICA\",LOOKUP(1,GEfectos!$J$4:$P$4,GEfectos!J29:P29),IF(EFECTOS!$N$9=\"EL SALVADOR\",LOOKUP(2,GEfectos!$J$4:$P$4,GEfectos!J29:P29),IF(EFECTOS!$N$9=\"GUATEMALA\",LOOKUP(3,GEfectos!$J$4:$P$4,GEfectos!J29:P29),IF(EFECTOS!$N$9=\"HONDURAS\",LOOKUP(4,GEfectos!$J$4:$P$4,GEfectos!J29:P29),IF(EFECTOS!$N$9=\"NICARAGUA\",LOOKUP(5,GEfectos!$J$4:$P$4,GEfectos!J29:P29),IF(EFECTOS!$N$9=\"REPÚBLICA \nDOMINICANA\",LOOKUP(6,$J$4:$P$4,J29:P29),IF(EFECTOS!$N$9=\"PANAMÁ\",LOOKUP(7,GEfectos!$J$4:$P$4,GEfectos!J29:P29))))))))","v":77.9782231195219},{"$f":"IF(EFECTOS!$N$9=\"COSTA RICA\",LOOKUP(1,GEfectos!$Q$4:$W$4,GEfectos!Q29:W29),IF(EFECTOS!$N$9=\"EL SALVADOR\",LOOKUP(2,GEfectos!$Q$4:$W$4,GEfectos!Q29:W29),IF(EFECTOS!$N$9=\"GUATEMALA\",LOOKUP(3,GEfectos!$Q$4:$W$4,GEfectos!Q29:W29),IF(EFECTOS!$N$9=\"HONDURAS\",LOOKUP(4,GEfectos!$Q$4:$W$4,GEfectos!Q29:W29),IF(EFECTOS!$N$9=\"NICARAGUA\",LOOKUP(5,GEfectos!$Q$4:$W$4,GEfectos!Q29:W29),IF(EFECTOS!$N$9=\"REPÚBLICA \nDOMINICANA\",LOOKUP(6,$Q$4:$W$4,Q29:W29),IF(EFECTOS!$N$9=\"PANAMÁ\",LOOKUP(7,GEfectos!$Q$4:$W$4,GEfectos!Q29:W29))))))))","v":74.900011833097153},100]
[1997,{"$f":"'ITCER GLOBAL'!B30","v":"Enero"},{"$f":"'ITCER GLOBAL'!C30","v":102.0955255386462},{"$f":"'ITCER GLOBAL'!D30","v":105.83708744137817},{"$f":"'ITCER GLOBAL'!E30","v":92.897219865845329},{"$f":"'ITCER GLOBAL'!F30","v":129.23841875287758},{"$f":"'ITCER GLOBAL'!G30","v":99.90632324562965},{"$f":"'ITCER GLOBAL'!H30","v":101.27873079766914},{"$f":"'ITCER GLOBAL'!I30","v":107.81210963572123},{"$f":"'ITCER GLOBAL'!S30","v":78.023549037603885},{"$f":"'ITCER GLOBAL'!T30","v":115.05097084409111},{"$f":"'ITCER GLOBAL'!U30","v":86.006154421444023},{"$f":"'ITCER GLOBAL'!V30","v":94.535086631594055},{"$f":"'ITCER GLOBAL'!W30","v":76.554486964971574},{"$f":"'ITCER GLOBAL'!X30","v":85.91622890075233},{"$f":"'ITCER GLOBAL'!Y30","v":119.98856607900777},{"$f":"'ITCER GLOBAL'!AA30","v":76.42210432431699},{"$f":"'ITCER GLOBAL'!AB30","v":108.70572275320443},{"$f":"'ITCER GLOBAL'!AC30","v":92.582054173038941},{"$f":"'ITCER GLOBAL'!AD30","v":73.147820550450021},{"$f":"'ITCER GLOBAL'!AE30","v":76.626267965797069},{"$f":"'ITCER GLOBAL'!AF30","v":84.831462859060267},{"$f":"'ITCER GLOBAL'!AG30","v":111.29414542061065},null,{"$f":"IF(EFECTOS!$N$9=\"COSTA RICA\",LOOKUP(1,GEfectos!$C$4:$I$4,GEfectos!C30:I30),IF(EFECTOS!$N$9=\"EL SALVADOR\",LOOKUP(2,GEfectos!$C$4:$I$4,GEfectos!C30:I30),IF(EFECTOS!$N$9=\"GUATEMALA\",LOOKUP(3,GEfectos!$C$4:$I$4,GEfectos!C30:I30),IF(EFECTOS!$N$9=\"HONDURAS\",LOOKUP(4,GEfectos!$C$4:$I$4,GEfectos!C30:I30),IF(EFECTOS!$N$9=\"NICARAGUA\",LOOKUP(5,GEfectos!$C$4:$I$4,GEfectos!C30:I30),IF(EFECTOS!$N$9=\"REPÚBLICA \nDOMINICANA\",LOOKUP(6,$C$4:$I$4,C30:I30),IF(EFECTOS!$N$9=\"PANAMÁ\",LOOKUP(7,GEfectos!$C$4:$I$4,GEfectos!C30:I30))))))))","v":102.0955255386462},{"$f":"IF(EFECTOS!$N$9=\"COSTA RICA\",LOOKUP(1,GEfectos!$J$4:$P$4,GEfectos!J30:P30),IF(EFECTOS!$N$9=\"EL SALVADOR\",LOOKUP(2,GEfectos!$J$4:$P$4,GEfectos!J30:P30),IF(EFECTOS!$N$9=\"GUATEMALA\",LOOKUP(3,GEfectos!$J$4:$P$4,GEfectos!J30:P30),IF(EFECTOS!$N$9=\"HONDURAS\",LOOKUP(4,GEfectos!$J$4:$P$4,GEfectos!J30:P30),IF(EFECTOS!$N$9=\"NICARAGUA\",LOOKUP(5,GEfectos!$J$4:$P$4,GEfectos!J30:P30),IF(EFECTOS!$N$9=\"REPÚBLICA \nDOMINICANA\",LOOKUP(6,$J$4:$P$4,J30:P30),IF(EFECTOS!$N$9=\"PANAMÁ\",LOOKUP(7,GEfectos!$J$4:$P$4,GEfectos!J30:P30))))))))","v":78.023549037603885},{"$f":"IF(EFECTOS!$N$9=\"COSTA RICA\",LOOKUP(1,GEfectos!$Q$4:$W$4,GEfectos!Q30:W30),IF(EFECTOS!$N$9=\"EL SALVADOR\",LOOKUP(2,GEfectos!$Q$4:$W$4,GEfectos!Q30:W30),IF(EFECTOS!$N$9=\"GUATEMALA\",LOOKUP(3,GEfectos!$Q$4:$W$4,GEfectos!Q30:W30),IF(EFECTOS!$N$9=\"HONDURAS\",LOOKUP(4,GEfectos!$Q$4:$W$4,GEfectos!Q30:W30),IF(EFECTOS!$N$9=\"NICARAGUA\",LOOKUP(5,GEfectos!$Q$4:$W$4,GEfectos!Q30:W30),IF(EFECTOS!$N$9=\"REPÚBLICA \nDOMINICANA\",LOOKUP(6,$Q$4:$W$4,Q30:W30),IF(EFECTOS!$N$9=\"PANAMÁ\",LOOKUP(7,GEfectos!$Q$4:$W$4,GEfectos!Q30:W30))))))))","v":76.42210432431699},100]
[null,{"$f":"'ITCER GLOBAL'!B31","v":"Febrero"},{"$f":"'ITCER GLOBAL'!C31","v":102.02410902472955},{"$f":"'ITCER GLOBAL'!D31","v":104.28797850555647},{"$f":"'ITCER GLOBAL'!E31","v":91.339654835067279},{"$f":"'ITCER GLOBAL'!F31","v":123.8315806950534},{"$f":"'ITCER GLOBAL'!G31","v":100.58188580030273},{"$f":"'ITCER GLOBAL'!H31","v":101.94064608395423},{"$f":"'ITCER GLOBAL'!I31","v":106.79434099846544},{"$f":"'ITCER GLOBAL'!S31","v":78.010239101224172},{"$f":"'ITCER GLOBAL'!T31","v":114.04753095122251},{"$f":"'ITCER GLOBAL'!U31","v":85.997329946791055},{"$f":"'ITCER GLOBAL'!V31","v":92.254015019951069},{"$f":"'ITCER GLOBAL'!W31","v":76.563432196860703},{"$f":"'ITCER GLOBAL'!X31","v":86.065890978972661},{"$f":"'ITCER GLOBAL'!Y31","v":118.17606727364279},{"$f":"'ITCER GLOBAL'!AA31","v":76.462553652211085},{"$f":"'ITCER GLOBAL'!AB31","v":109.35827176393688},{"$f":"'ITCER GLOBAL'!AC31","v":94.151143993347802},{"$f":"'ITCER GLOBAL'!AD31","v":74.499586052394022},{"$f":"'ITCER GLOBAL'!AE31","v":76.120497828874733},{"$f":"'ITCER GLOBAL'!AF31","v":84.427452920096499},{"$f":"'ITCER GLOBAL'!AG31","v":110.65761178800746},null,{"$f":"IF(EFECTOS!$N$9=\"COSTA RICA\",LOOKUP(1,GEfectos!$C$4:$I$4,GEfectos!C31:I31),IF(EFECTOS!$N$9=\"EL SALVADOR\",LOOKUP(2,GEfectos!$C$4:$I$4,GEfectos!C31:I31),IF(EFECTOS!$N$9=\"GUATEMALA\",LOOKUP(3,GEfectos!$C$4:$I$4,GEfectos!C31:I31),IF(EFECTOS!$N$9=\"HONDURAS\",LOOKUP(4,GEfectos!$C$4:$I$4,GEfectos!C31:I31),IF(EFECTOS!$N$9=\"NICARAGUA\",LOOKUP(5,GEfectos!$C$4:$I$4,GEfectos!C31:I31),IF(EFECTOS!$N$9=\"REPÚBLICA \nDOMINICANA\",LOOKUP(6,$C$4:$I$4,C31:I31),IF(EFECTOS!$N$9=\"PANAMÁ\",LOOKUP(7,GEfectos!$C$4:$I$4,GEfectos!C31:I31))))))))","v":102.02410902472955},{"$f":"IF(EFECTOS!$N$9=\"COSTA RICA\",LOOKUP(1,GEfectos!$J$4:$P$4,GEfectos!J31:P31),IF(EFECTOS!$N$9=\"EL SALVADOR\",LOOKUP(2,GEfectos!$J$4:$P$4,GEfectos!J31:P31),IF(EFECTOS!$N$9=\"GUATEMALA\",LOOKUP(3,GEfectos!$J$4:$P$4,GEfectos!J31:P31),IF(EFECTOS!$N$9=\"HONDURAS\",LOOKUP(4,GEfectos!$J$4:$P$4,GEfectos!J31:P31),IF(EFECTOS!$N$9=\"NICARAGUA\",LOOKUP(5,GEfectos!$J$4:$P$4,GEfectos!J31:P31),IF(EFECTOS!$N$9=\"REPÚBLICA \nDOMINICANA\",LOOKUP(6,$J$4:$P$4,J31:P31),IF(EFECTOS!$N$9=\"PANAMÁ\",LOOKUP(7,GEfectos!$J$4:$P$4,GEfectos!J31:P31))))))))","v":78.010239101224172},{"$f":"IF(EFECTOS!$N$9=\"COSTA RICA\",LOOKUP(1,GEfectos!$Q$4:$W$4,GEfectos!Q31:W31),IF(EFECTOS!$N$9=\"EL SALVADOR\",LOOKUP(2,GEfectos!$Q$4:$W$4,GEfectos!Q31:W31),IF(EFECTOS!$N$9=\"GUATEMALA\",LOOKUP(3,GEfectos!$Q$4:$W$4,GEfectos!Q31:W31),IF(EFECTOS!$N$9=\"HONDURAS\",LOOKUP(4,GEfectos!$Q$4:$W$4,GEfectos!Q31:W31),IF(EFECTOS!$N$9=\"NICARAGUA\",LOOKUP(5,GEfectos!$Q$4:$W$4,GEfectos!Q31:W31),IF(EFECTOS!$N$9=\"REPÚBLICA \nDOMINICANA\",LOOKUP(6,$Q$4:$W$4,Q31:W31),IF(EFECTOS!$N$9=\"PANAMÁ\",LOOKUP(7,GEfectos!$Q$4:$W$4,GEfectos!Q31:W31))))))))","v":76.462553652211085},100]
[null,{"$f":"'ITCER GLOBAL'!B32","v":"Marzo"},{"$f":"'ITCER GLOBAL'!C32","v":101.85557408959033},{"$f":"'ITCER GLOBAL'!D32","v":104.2018297711134},{"$f":"'ITCER GLOBAL'!E32","v":89.803992914549625},{"$f":"'ITCER GLOBAL'!F32","v":123.57298667360581},{"$f":"'ITCER GLOBAL'!G32","v":101.60364331970635},{"$f":"'ITCER GLOBAL'!H32","v":102.40445600277977},{"$f":"'ITCER GLOBAL'!I32","v":106.70068773128023},{"$f":"'ITCER GLOBAL'!S32","v":78.535630797339238},{"$f":"'ITCER GLOBAL'!T32","v":113.85068495913664},{"$f":"'ITCER GLOBAL'!U32","v":84.299230039782572},{"$f":"'ITCER GLOBAL'!V32","v":92.510933905930344},{"$f":"'ITCER GLOBAL'!W32","v":77.073217374097467},{"$f":"'ITCER GLOBAL'!X32","v":86.344601036023832},{"$f":"'ITCER GLOBAL'!Y32","v":117.59037182843608},{"$f":"'ITCER GLOBAL'!AA32","v":77.104892392301196},{"$f":"'ITCER GLOBAL'!AB32","v":109.25977519705521},{"$f":"'ITCER GLOBAL'!AC32","v":93.870247083551234},{"$f":"'ITCER GLOBAL'!AD32","v":74.863395630535436},{"$f":"'ITCER GLOBAL'!AE32","v":75.856745738515144},{"$f":"'ITCER GLOBAL'!AF32","v":84.31723032997705},{"$f":"'ITCER GLOBAL'!AG32","v":110.20582371931933},null,{"$f":"IF(EFECTOS!$N$9=\"COSTA RICA\",LOOKUP(1,GEfectos!$C$4:$I$4,GEfectos!C32:I32),IF(EFECTOS!$N$9=\"EL SALVADOR\",LOOKUP(2,GEfectos!$C$4:$I$4,GEfectos!C32:I32),IF(EFECTOS!$N$9=\"GUATEMALA\",LOOKUP(3,GEfectos!$C$4:$I$4,GEfectos!C32:I32),IF(EFECTOS!$N$9=\"HONDURAS\",LOOKUP(4,GEfectos!$C$4:$I$4,GEfectos!C32:I32),IF(EFECTOS!$N$9=\"NICARAGUA\",LOOKUP(5,GEfectos!$C$4:$I$4,GEfectos!C32:I32),IF(EFECTOS!$N$9=\"REPÚBLICA \nDOMINICANA\",LOOKUP(6,$C$4:$I$4,C32:I32),IF(EFECTOS!$N$9=\"PANAMÁ\",LOOKUP(7,GEfectos!$C$4:$I$4,GEfectos!C32:I32))))))))","v":101.85557408959033},{"$f":"IF(EFECTOS!$N$9=\"COSTA RICA\",LOOKUP(1,GEfectos!$J$4:$P$4,GEfectos!J32:P32),IF(EFECTOS!$N$9=\"EL SALVADOR\",LOOKUP(2,GEfectos!$J$4:$P$4,GEfectos!J32:P32),IF(EFECTOS!$N$9=\"GUATEMALA\",LOOKUP(3,GEfectos!$J$4:$P$4,GEfectos!J32:P32),IF(EFECTOS!$N$9=\"HONDURAS\",LOOKUP(4,GEfectos!$J$4:$P$4,GEfectos!J32:P32),IF(EFECTOS!$N$9=\"NICARAGUA\",LOOKUP(5,GEfectos!$J$4:$P$4,GEfectos!J32:P32),IF(EFECTOS!$N$9=\"REPÚBLICA \nDOMINICANA\",LOOKUP(6,$J$4:$P$4,J32:P32),IF(EFECTOS!$N$9=\"PANAMÁ\",LOOKUP(7,GEfectos!$J$4:$P$4,GEfectos!J32:P32))))))))","v":78.535630797339238},{"$f":"IF(EFECTOS!$N$9=\"COSTA RICA\",LOOKUP(1,GEfectos!$Q$4:$W$4,GEfectos!Q32:W32),IF(EFECTOS!$N$9=\"EL SALVADOR\",LOOKUP(2,GEfectos!$Q$4:$W$4,GEfectos!Q32:W32),IF(EFECTOS!$N$9=\"GUATEMALA\",LOOKUP(3,GEfectos!$Q$4:$W$4,GEfectos!Q32:W32),IF(EFECTOS!$N$9=\"HONDURAS\",LOOKUP(4,GEfectos!$Q$4:$W$4,GEfectos!Q32:W32),IF(EFECTOS!$N$9=\"NICARAGUA\",LOOKUP(5,GEfectos!$Q$4:$W$4,GEfectos!Q32:W32),IF(EFECTOS!$N$9=\"REPÚBLICA \nDOMINICANA\",LOOKUP(6,$Q$4:$W$4,Q32:W32),IF(EFECTOS!$N$9=\"PANAMÁ\",LOOKUP(7,GEfectos!$Q$4:$W$4,GEfectos!Q32:W32))))))))","v":77.104892392301196},100]
[null,{"$f":"'ITCER GLOBAL'!B33","v":"Abril"},{"$f":"'ITCER GLOBAL'!C33","v":101.50138563321644},{"$f":"'ITCER GLOBAL'!D33","v":104.23827325721624},{"$f":"'ITCER GLOBAL'!E33","v":90.043858579375836},{"$f":"'ITCER GLOBAL'!F33","v":122.63947858138854},{"$f":"'ITCER GLOBAL'!G33","v":102.28752521133239},{"$f":"'ITCER GLOBAL'!H33","v":101.65376059438563},{"$f":"'ITCER GLOBAL'!I33","v":106.96199841197615},{"$f":"'ITCER GLOBAL'!S33","v":79.10403028934455},{"$f":"'ITCER GLOBAL'!T33","v":113.60108553136472},{"$f":"'ITCER GLOBAL'!U33","v":84.185788434652352},{"$f":"'ITCER GLOBAL'!V33","v":92.100862977856096},{"$f":"'ITCER GLOBAL'!W33","v":77.617058873995646},{"$f":"'ITCER GLOBAL'!X33","v":86.3052074468591},{"$f":"'ITCER GLOBAL'!Y33","v":117.07317991001712},{"$f":"'ITCER GLOBAL'!AA33","v":77.933941291396195},{"$f":"'ITCER GLOBAL'!AB33","v":108.9821252612704},{"$f":"'ITCER GLOBAL'!AC33","v":93.494203561301788},{"$f":"'ITCER GLOBAL'!AD33","v":75.09887031746814},{"$f":"'ITCER GLOBAL'!AE33","v":75.881256012044446},{"$f":"'ITCER GLOBAL'!AF33","v":84.901145754194317},{"$f":"'ITCER GLOBAL'!AG33","v":109.45305963627999},null,{"$f":"IF(EFECTOS!$N$9=\"COSTA RICA\",LOOKUP(1,GEfectos!$C$4:$I$4,GEfectos!C33:I33),IF(EFECTOS!$N$9=\"EL SALVADOR\",LOOKUP(2,GEfectos!$C$4:$I$4,GEfectos!C33:I33),IF(EFECTOS!$N$9=\"GUATEMALA\",LOOKUP(3,GEfectos!$C$4:$I$4,GEfectos!C33:I33),IF(EFECTOS!$N$9=\"HONDURAS\",LOOKUP(4,GEfectos!$C$4:$I$4,GEfectos!C33:I33),IF(EFECTOS!$N$9=\"NICARAGUA\",LOOKUP(5,GEfectos!$C$4:$I$4,GEfectos!C33:I33),IF(EFECTOS!$N$9=\"REPÚBLICA \nDOMINICANA\",LOOKUP(6,$C$4:$I$4,C33:I33),IF(EFECTOS!$N$9=\"PANAMÁ\",LOOKUP(7,GEfectos!$C$4:$I$4,GEfectos!C33:I33))))))))","v":101.50138563321644},{"$f":"IF(EFECTOS!$N$9=\"COSTA RICA\",LOOKUP(1,GEfectos!$J$4:$P$4,GEfectos!J33:P33),IF(EFECTOS!$N$9=\"EL SALVADOR\",LOOKUP(2,GEfectos!$J$4:$P$4,GEfectos!J33:P33),IF(EFECTOS!$N$9=\"GUATEMALA\",LOOKUP(3,GEfectos!$J$4:$P$4,GEfectos!J33:P33),IF(EFECTOS!$N$9=\"HONDURAS\",LOOKUP(4,GEfectos!$J$4:$P$4,GEfectos!J33:P33),IF(EFECTOS!$N$9=\"NICARAGUA\",LOOKUP(5,GEfectos!$J$4:$P$4,GEfectos!J33:P33),IF(EFECTOS!$N$9=\"REPÚBLICA \nDOMINICANA\",LOOKUP(6,$J$4:$P$4,J33:P33),IF(EFECTOS!$N$9=\"PANAMÁ\",LOOKUP(7,GEfectos!$J$4:$P$4,GEfectos!J33:P33))))))))","v":79.10403028934455},{"$f":"IF(EFECTOS!$N$9=\"COSTA RICA\",LOOKUP(1,GEfectos!$Q$4:$W$4,GEfectos!Q33:W33),IF(EFECTOS!$N$9=\"EL SALVADOR\",LOOKUP(2,GEfectos!$Q$4:$W$4,GEfectos!Q33:W33),IF(EFECTOS!$N$9=\"GUATEMALA\",LOOKUP(3,GEfectos!$Q$4:$W$4,GEfectos!Q33:W33),IF(EFECTOS!$N$9=\"HONDURAS\",LOOKUP(4,GEfectos!$Q$4:$W$4,GEfectos!Q33:W33),IF(EFECTOS!$N$9=\"NICARAGUA\",LOOKUP(5,GEfectos!$Q$4:$W$4,GEfectos!Q33:W33),IF(EFECTOS!$N$9=\"REPÚBLICA \nDOMINICANA\",LOOKUP(6,$Q$4:$W$4,Q33:W33),IF(EFECTOS!$N$9=\"PANAMÁ\",LOOKUP(7,GEfectos!$Q$4:$W$4,GEfectos!Q33:W33))))))))","v":77.933941291396195},100]
[null,{"$f":"'ITCER GLOBAL'!B34","v":"Mayo"},{"$f":"'ITCER GLOBAL'!C34","v":102.24112911923433},{"$f":"'ITCER GLOBAL'!D34","v":104.84230471027436},{"$f":"'ITCER GLOBAL'!E34","v":89.81602897767705},{"$f":"'ITCER GLOBAL'!F34","v":124.28468686123794},{"$f":"'ITCER GLOBAL'!G34","v":102.87894010989055},{"$f":"'ITCER GLOBAL'!H34","v":101.52026322240231},{"$f":"'ITCER GLOBAL'!I34","v":107.15281186711736},{"$f":"'ITCER GLOBAL'!S34","v":79.966492474721534},{"$f":"'ITCER GLOBAL'!T34","v":113.75453674294025},{"$f":"'ITCER GLOBAL'!U34","v":83.961737257064286},{"$f":"'ITCER GLOBAL'!V34","v":94.41615706724545},{"$f":"'ITCER GLOBAL'!W34","v":78.519511120933544},{"$f":"'ITCER GLOBAL'!X34","v":86.365097791072301},{"$f":"'ITCER GLOBAL'!Y34","v":117.36873288348566},{"$f":"'ITCER GLOBAL'!AA34","v":78.213624168277761},{"$f":"'ITCER GLOBAL'!AB34","v":108.50060675153443},{"$f":"'ITCER GLOBAL'!AC34","v":93.481907642490185},{"$f":"'ITCER GLOBAL'!AD34","v":75.967650924413348},{"$f":"'ITCER GLOBAL'!AE34","v":76.322239553656573},{"$f":"'ITCER GLOBAL'!AF34","v":85.071782765053214},{"$f":"'ITCER GLOBAL'!AG34","v":109.53397380652716},null,{"$f":"IF(EFECTOS!$N$9=\"COSTA RICA\",LOOKUP(1,GEfectos!$C$4:$I$4,GEfectos!C34:I34),IF(EFECTOS!$N$9=\"EL SALVADOR\",LOOKUP(2,GEfectos!$C$4:$I$4,GEfectos!C34:I34),IF(EFECTOS!$N$9=\"GUATEMALA\",LOOKUP(3,GEfectos!$C$4:$I$4,GEfectos!C34:I34),IF(EFECTOS!$N$9=\"HONDURAS\",LOOKUP(4,GEfectos!$C$4:$I$4,GEfectos!C34:I34),IF(EFECTOS!$N$9=\"NICARAGUA\",LOOKUP(5,GEfectos!$C$4:$I$4,GEfectos!C34:I34),IF(EFECTOS!$N$9=\"REPÚBLICA \nDOMINICANA\",LOOKUP(6,$C$4:$I$4,C34:I34),IF(EFECTOS!$N$9=\"PANAMÁ\",LOOKUP(7,GEfectos!$C$4:$I$4,GEfectos!C34:I34))))))))","v":102.24112911923433},{"$f":"IF(EFECTOS!$N$9=\"COSTA RICA\",LOOKUP(1,GEfectos!$J$4:$P$4,GEfectos!J34:P34),IF(EFECTOS!$N$9=\"EL SALVADOR\",LOOKUP(2,GEfectos!$J$4:$P$4,GEfectos!J34:P34),IF(EFECTOS!$N$9=\"GUATEMALA\",LOOKUP(3,GEfectos!$J$4:$P$4,GEfectos!J34:P34),IF(EFECTOS!$N$9=\"HONDURAS\",LOOKUP(4,GEfectos!$J$4:$P$4,GEfectos!J34:P34),IF(EFECTOS!$N$9=\"NICARAGUA\",LOOKUP(5,GEfectos!$J$4:$P$4,GEfectos!J34:P34),IF(EFECTOS!$N$9=\"REPÚBLICA \nDOMINICANA\",LOOKUP(6,$J$4:$P$4,J34:P34),IF(EFECTOS!$N$9=\"PANAMÁ\",LOOKUP(7,GEfectos!$J$4:$P$4,GEfectos!J34:P34))))))))","v":79.966492474721534},{"$f":"IF(EFECTOS!$N$9=\"COSTA RICA\",LOOKUP(1,GEfectos!$Q$4:$W$4,GEfectos!Q34:W34),IF(EFECTOS!$N$9=\"EL SALVADOR\",LOOKUP(2,GEfectos!$Q$4:$W$4,GEfectos!Q34:W34),IF(EFECTOS!$N$9=\"GUATEMALA\",LOOKUP(3,GEfectos!$Q$4:$W$4,GEfectos!Q34:W34),IF(EFECTOS!$N$9=\"HONDURAS\",LOOKUP(4,GEfectos!$Q$4:$W$4,GEfectos!Q34:W34),IF(EFECTOS!$N$9=\"NICARAGUA\",LOOKUP(5,GEfectos!$Q$4:$W$4,GEfectos!Q34:W34),IF(EFECTOS!$N$9=\"REPÚBLICA \nDOMINICANA\",LOOKUP(6,$Q$4:$W$4,Q34:W34),IF(EFECTOS!$N$9=\"PANAMÁ\",LOOKUP(7,GEfectos!$Q$4:$W$4,GEfectos!Q34:W34))))))))","v":78.213624168277761},100]
[null,{"$f":"'ITCER GLOBAL'!B35","v":"Junio"},{"$f":"'ITCER GLOBAL'!C35","v":102.56618304541767},{"$f":"'ITCER GLOBAL'!D35","v":104.77069022602508},{"$f":"'ITCER GLOBAL'!E35","v":89.151154971008737},{"$f":"'ITCER GLOBAL'!F35","v":123.1979597526208},{"$f":"'ITCER GLOBAL'!G35","v":102.02149766074123},{"$f":"'ITCER GLOBAL'!H35","v":101.22846677952994},{"$f":"'ITCER GLOBAL'!I35","v":107.29298518370894},{"$f":"'ITCER GLOBAL'!S35","v":80.678994828519706},{"$f":"'ITCER GLOBAL'!T35","v":113.79017331054197},{"$f":"'ITCER GLOBAL'!U35","v":83.138903867805723},{"$f":"'ITCER GLOBAL'!V35","v":94.570984587465503},{"$f":"'ITCER GLOBAL'!W35","v":79.279200229398754},{"$f":"'ITCER GLOBAL'!X35","v":86.365576597559809},{"$f":"'ITCER GLOBAL'!Y35","v":117.33012588076861},{"$f":"'ITCER GLOBAL'!AA35","v":78.660424355261398},{"$f":"'ITCER GLOBAL'!AB35","v":108.60878463724815},{"$f":"'ITCER GLOBAL'!AC35","v":93.256115296365877},{"$f":"'ITCER GLOBAL'!AD35","v":76.763434051474775},{"$f":"'ITCER GLOBAL'!AE35","v":77.70832819278057},{"$f":"'ITCER GLOBAL'!AF35","v":85.317479702285041},{"$f":"'ITCER GLOBAL'!AG35","v":109.35488995843848},null,{"$f":"IF(EFECTOS!$N$9=\"COSTA RICA\",LOOKUP(1,GEfectos!$C$4:$I$4,GEfectos!C35:I35),IF(EFECTOS!$N$9=\"EL SALVADOR\",LOOKUP(2,GEfectos!$C$4:$I$4,GEfectos!C35:I35),IF(EFECTOS!$N$9=\"GUATEMALA\",LOOKUP(3,GEfectos!$C$4:$I$4,GEfectos!C35:I35),IF(EFECTOS!$N$9=\"HONDURAS\",LOOKUP(4,GEfectos!$C$4:$I$4,GEfectos!C35:I35),IF(EFECTOS!$N$9=\"NICARAGUA\",LOOKUP(5,GEfectos!$C$4:$I$4,GEfectos!C35:I35),IF(EFECTOS!$N$9=\"REPÚBLICA \nDOMINICANA\",LOOKUP(6,$C$4:$I$4,C35:I35),IF(EFECTOS!$N$9=\"PANAMÁ\",LOOKUP(7,GEfectos!$C$4:$I$4,GEfectos!C35:I35))))))))","v":102.56618304541767},{"$f":"IF(EFECTOS!$N$9=\"COSTA RICA\",LOOKUP(1,GEfectos!$J$4:$P$4,GEfectos!J35:P35),IF(EFECTOS!$N$9=\"EL SALVADOR\",LOOKUP(2,GEfectos!$J$4:$P$4,GEfectos!J35:P35),IF(EFECTOS!$N$9=\"GUATEMALA\",LOOKUP(3,GEfectos!$J$4:$P$4,GEfectos!J35:P35),IF(EFECTOS!$N$9=\"HONDURAS\",LOOKUP(4,GEfectos!$J$4:$P$4,GEfectos!J35:P35),IF(EFECTOS!$N$9=\"NICARAGUA\",LOOKUP(5,GEfectos!$J$4:$P$4,GEfectos!J35:P35),IF(EFECTOS!$N$9=\"REPÚBLICA \nDOMINICANA\",LOOKUP(6,$J$4:$P$4,J35:P35),IF(EFECTOS!$N$9=\"PANAMÁ\",LOOKUP(7,GEfectos!$J$4:$P$4,GEfectos!J35:P35))))))))","v":80.678994828519706},{"$f":"IF(EFECTOS!$N$9=\"COSTA RICA\",LOOKUP(1,GEfectos!$Q$4:$W$4,GEfectos!Q35:W35),IF(EFECTOS!$N$9=\"EL SALVADOR\",LOOKUP(2,GEfectos!$Q$4:$W$4,GEfectos!Q35:W35),IF(EFECTOS!$N$9=\"GUATEMALA\",LOOKUP(3,GEfectos!$Q$4:$W$4,GEfectos!Q35:W35),IF(EFECTOS!$N$9=\"HONDURAS\",LOOKUP(4,GEfectos!$Q$4:$W$4,GEfectos!Q35:W35),IF(EFECTOS!$N$9=\"NICARAGUA\",LOOKUP(5,GEfectos!$Q$4:$W$4,GEfectos!Q35:W35),IF(EFECTOS!$N$9=\"REPÚBLICA \nDOMINICANA\",LOOKUP(6,$Q$4:$W$4,Q35:W35),IF(EFECTOS!$N$9=\"PANAMÁ\",LOOKUP(7,GEfectos!$Q$4:$W$4,GEfectos!Q35:W35))))))))","v":78.660424355261398},100]
[null,{"$f":"'ITCER GLOBAL'!B36","v":"Julio"},{"$f":"'ITCER GLOBAL'!C36","v":102.31017692809641},{"$f":"'ITCER GLOBAL'!D36","v":103.73430599958941},{"$f":"'ITCER GLOBAL'!E36","v":89.219587953248535},{"$f":"'ITCER GLOBAL'!F36","v":121.32557703173731},{"$f":"'ITCER GLOBAL'!G36","v":101.03076684686027},{"$f":"'ITCER GLOBAL'!H36","v":99.423750138214388},{"$f":"'ITCER GLOBAL'!I36","v":106.55780468450583},{"$f":"'ITCER GLOBAL'!S36","v":80.99274347449095},{"$f":"'ITCER GLOBAL'!T36","v":113.1815945241962},{"$f":"'ITCER GLOBAL'!U36","v":83.308570098619924},{"$f":"'ITCER GLOBAL'!V36","v":94.175601492760691},{"$f":"'ITCER GLOBAL'!W36","v":79.614063557024977},{"$f":"'ITCER GLOBAL'!X36","v":86.315503947560288},{"$f":"'ITCER GLOBAL'!Y36","v":116.45763375858603},{"$f":"'ITCER GLOBAL'!AA36","v":79.163916930192244},{"$f":"'ITCER GLOBAL'!AB36","v":109.10719788749941},{"$f":"'ITCER GLOBAL'!AC36","v":93.374753246197457},{"$f":"'ITCER GLOBAL'!AD36","v":77.622216021379799},{"$f":"'ITCER GLOBAL'!AE36","v":78.801800720469473},{"$f":"'ITCER GLOBAL'!AF36","v":86.815779758426316},{"$f":"'ITCER GLOBAL'!AG36","v":109.29057153851041},null,{"$f":"IF(EFECTOS!$N$9=\"COSTA RICA\",LOOKUP(1,GEfectos!$C$4:$I$4,GEfectos!C36:I36),IF(EFECTOS!$N$9=\"EL SALVADOR\",LOOKUP(2,GEfectos!$C$4:$I$4,GEfectos!C36:I36),IF(EFECTOS!$N$9=\"GUATEMALA\",LOOKUP(3,GEfectos!$C$4:$I$4,GEfectos!C36:I36),IF(EFECTOS!$N$9=\"HONDURAS\",LOOKUP(4,GEfectos!$C$4:$I$4,GEfectos!C36:I36),IF(EFECTOS!$N$9=\"NICARAGUA\",LOOKUP(5,GEfectos!$C$4:$I$4,GEfectos!C36:I36),IF(EFECTOS!$N$9=\"REPÚBLICA \nDOMINICANA\",LOOKUP(6,$C$4:$I$4,C36:I36),IF(EFECTOS!$N$9=\"PANAMÁ\",LOOKUP(7,GEfectos!$C$4:$I$4,GEfectos!C36:I36))))))))","v":102.31017692809641},{"$f":"IF(EFECTOS!$N$9=\"COSTA RICA\",LOOKUP(1,GEfectos!$J$4:$P$4,GEfectos!J36:P36),IF(EFECTOS!$N$9=\"EL SALVADOR\",LOOKUP(2,GEfectos!$J$4:$P$4,GEfectos!J36:P36),IF(EFECTOS!$N$9=\"GUATEMALA\",LOOKUP(3,GEfectos!$J$4:$P$4,GEfectos!J36:P36),IF(EFECTOS!$N$9=\"HONDURAS\",LOOKUP(4,GEfectos!$J$4:$P$4,GEfectos!J36:P36),IF(EFECTOS!$N$9=\"NICARAGUA\",LOOKUP(5,GEfectos!$J$4:$P$4,GEfectos!J36:P36),IF(EFECTOS!$N$9=\"REPÚBLICA \nDOMINICANA\",LOOKUP(6,$J$4:$P$4,J36:P36),IF(EFECTOS!$N$9=\"PANAMÁ\",LOOKUP(7,GEfectos!$J$4:$P$4,GEfectos!J36:P36))))))))","v":80.99274347449095},{"$f":"IF(EFECTOS!$N$9=\"COSTA RICA\",LOOKUP(1,GEfectos!$Q$4:$W$4,GEfectos!Q36:W36),IF(EFECTOS!$N$9=\"EL SALVADOR\",LOOKUP(2,GEfectos!$Q$4:$W$4,GEfectos!Q36:W36),IF(EFECTOS!$N$9=\"GUATEMALA\",LOOKUP(3,GEfectos!$Q$4:$W$4,GEfectos!Q36:W36),IF(EFECTOS!$N$9=\"HONDURAS\",LOOKUP(4,GEfectos!$Q$4:$W$4,GEfectos!Q36:W36),IF(EFECTOS!$N$9=\"NICARAGUA\",LOOKUP(5,GEfectos!$Q$4:$W$4,GEfectos!Q36:W36),IF(EFECTOS!$N$9=\"REPÚBLICA \nDOMINICANA\",LOOKUP(6,$Q$4:$W$4,Q36:W36),IF(EFECTOS!$N$9=\"PANAMÁ\",LOOKUP(7,GEfectos!$Q$4:$W$4,GEfectos!Q36:W36))))))))","v":79.163916930192244},100]
[null,{"$f":"'ITCER GLOBAL'!B37","v":"Agosto"},{"$f":"'ITCER GLOBAL'!C37","v":101.52752022542724},{"$f":"'ITCER GLOBAL'!D37","v":104.00446016215624},{"$f":"'ITCER GLOBAL'!E37","v":89.905972303390897},{"$f":"'ITCER GLOBAL'!F37","v":119.29822738188396},{"$f":"'ITCER GLOBAL'!G37","v":102.16871807948621},{"$f":"'ITCER GLOBAL'!H37","v":98.924350560919862},{"$f":"'ITCER GLOBAL'!I37","v":105.86335309014432},{"$f":"'ITCER GLOBAL'!S37","v":81.061960387030055},{"$f":"'ITCER GLOBAL'!T37","v":112.24070062775711},{"$f":"'ITCER GLOBAL'!U37","v":84.626322029090957},{"$f":"'ITCER GLOBAL'!V37","v":93.527593340951483},{"$f":"'ITCER GLOBAL'!W37","v":79.799815688567506},{"$f":"'ITCER GLOBAL'!X37","v":86.230000209286644},{"$f":"'ITCER GLOBAL'!Y37","v":115.31548394478477},{"$f":"'ITCER GLOBAL'!AA37","v":79.842352307082493},{"$f":"'ITCER GLOBAL'!AB37","v":107.91912236529042},{"$f":"'ITCER GLOBAL'!AC37","v":94.127586700821652},{"$f":"'ITCER GLOBAL'!AD37","v":78.398141693724895},{"$f":"'ITCER GLOBAL'!AE37","v":78.105918512635213},{"$f":"'ITCER GLOBAL'!AF37","v":87.167618205574414},{"$f":"'ITCER GLOBAL'!AG37","v":108.92861465156108},null,{"$f":"IF(EFECTOS!$N$9=\"COSTA RICA\",LOOKUP(1,GEfectos!$C$4:$I$4,GEfectos!C37:I37),IF(EFECTOS!$N$9=\"EL SALVADOR\",LOOKUP(2,GEfectos!$C$4:$I$4,GEfectos!C37:I37),IF(EFECTOS!$N$9=\"GUATEMALA\",LOOKUP(3,GEfectos!$C$4:$I$4,GEfectos!C37:I37),IF(EFECTOS!$N$9=\"HONDURAS\",LOOKUP(4,GEfectos!$C$4:$I$4,GEfectos!C37:I37),IF(EFECTOS!$N$9=\"NICARAGUA\",LOOKUP(5,GEfectos!$C$4:$I$4,GEfectos!C37:I37),IF(EFECTOS!$N$9=\"REPÚBLICA \nDOMINICANA\",LOOKUP(6,$C$4:$I$4,C37:I37),IF(EFECTOS!$N$9=\"PANAMÁ\",LOOKUP(7,GEfectos!$C$4:$I$4,GEfectos!C37:I37))))))))","v":101.52752022542724},{"$f":"IF(EFECTOS!$N$9=\"COSTA RICA\",LOOKUP(1,GEfectos!$J$4:$P$4,GEfectos!J37:P37),IF(EFECTOS!$N$9=\"EL SALVADOR\",LOOKUP(2,GEfectos!$J$4:$P$4,GEfectos!J37:P37),IF(EFECTOS!$N$9=\"GUATEMALA\",LOOKUP(3,GEfectos!$J$4:$P$4,GEfectos!J37:P37),IF(EFECTOS!$N$9=\"HONDURAS\",LOOKUP(4,GEfectos!$J$4:$P$4,GEfectos!J37:P37),IF(EFECTOS!$N$9=\"NICARAGUA\",LOOKUP(5,GEfectos!$J$4:$P$4,GEfectos!J37:P37),IF(EFECTOS!$N$9=\"REPÚBLICA \nDOMINICANA\",LOOKUP(6,$J$4:$P$4,J37:P37),IF(EFECTOS!$N$9=\"PANAMÁ\",LOOKUP(7,GEfectos!$J$4:$P$4,GEfectos!J37:P37))))))))","v":81.061960387030055},{"$f":"IF(EFECTOS!$N$9=\"COSTA RICA\",LOOKUP(1,GEfectos!$Q$4:$W$4,GEfectos!Q37:W37),IF(EFECTOS!$N$9=\"EL SALVADOR\",LOOKUP(2,GEfectos!$Q$4:$W$4,GEfectos!Q37:W37),IF(EFECTOS!$N$9=\"GUATEMALA\",LOOKUP(3,GEfectos!$Q$4:$W$4,GEfectos!Q37:W37),IF(EFECTOS!$N$9=\"HONDURAS\",LOOKUP(4,GEfectos!$Q$4:$W$4,GEfectos!Q37:W37),IF(EFECTOS!$N$9=\"NICARAGUA\",LOOKUP(5,GEfectos!$Q$4:$W$4,GEfectos!Q37:W37),IF(EFECTOS!$N$9=\"REPÚBLICA \nDOMINICANA\",LOOKUP(6,$Q$4:$W$4,Q37:W37),IF(EFECTOS!$N$9=\"PANAMÁ\",LOOKUP(7,GEfectos!$Q$4:$W$4,GEfectos!Q37:W37))))))))","v":79.842352307082493},100]
[null,{"$f":"'ITCER GLOBAL'!B38","v":"Septiembre"},{"$f":"'ITCER GLOBAL'!C38","v":103.17453933433656},{"$f":"'ITCER GLOBAL'!D38","v":104.67351638629503},{"$f":"'ITCER GLOBAL'!E38","v":90.14360665533529},{"$f":"'ITCER GLOBAL'!F38","v":119.34924853745677},{"$f":"'ITCER GLOBAL'!G38","v":104.32955258050956},{"$f":"'ITCER GLOBAL'!H38","v":98.577198633357156},{"$f":"'ITCER GLOBAL'!I38","v":105.77843527714285},{"$f":"'ITCER GLOBAL'!S38","v":81.795558481950508},{"$f":"'ITCER GLOBAL'!T38","v":112.24354317601828},{"$f":"'ITCER GLOBAL'!U38","v":85.119502112000831},{"$f":"'ITCER GLOBAL'!V38","v":93.652011883892328},{"$f":"'ITCER GLOBAL'!W38","v":80.615057793853111},{"$f":"'ITCER GLOBAL'!X38","v":86.231514828894888},{"$f":"'ITCER GLOBAL'!Y38","v":114.98255241352436},{"$f":"'ITCER GLOBAL'!AA38","v":79.278821121645549},{"$f":"'ITCER GLOBAL'!AB38","v":107.23203638424283},{"$f":"'ITCER GLOBAL'!AC38","v":94.426554772160216},{"$f":"'ITCER GLOBAL'!AD38","v":78.46887435952344},{"$f":"'ITCER GLOBAL'!AE38","v":77.269628595065299},{"$f":"'ITCER GLOBAL'!AF38","v":87.476126350090183},{"$f":"'ITCER GLOBAL'!AG38","v":108.70131715624873},null,{"$f":"IF(EFECTOS!$N$9=\"COSTA RICA\",LOOKUP(1,GEfectos!$C$4:$I$4,GEfectos!C38:I38),IF(EFECTOS!$N$9=\"EL SALVADOR\",LOOKUP(2,GEfectos!$C$4:$I$4,GEfectos!C38:I38),IF(EFECTOS!$N$9=\"GUATEMALA\",LOOKUP(3,GEfectos!$C$4:$I$4,GEfectos!C38:I38),IF(EFECTOS!$N$9=\"HONDURAS\",LOOKUP(4,GEfectos!$C$4:$I$4,GEfectos!C38:I38),IF(EFECTOS!$N$9=\"NICARAGUA\",LOOKUP(5,GEfectos!$C$4:$I$4,GEfectos!C38:I38),IF(EFECTOS!$N$9=\"REPÚBLICA \nDOMINICANA\",LOOKUP(6,$C$4:$I$4,C38:I38),IF(EFECTOS!$N$9=\"PANAMÁ\",LOOKUP(7,GEfectos!$C$4:$I$4,GEfectos!C38:I38))))))))","v":103.17453933433656},{"$f":"IF(EFECTOS!$N$9=\"COSTA RICA\",LOOKUP(1,GEfectos!$J$4:$P$4,GEfectos!J38:P38),IF(EFECTOS!$N$9=\"EL SALVADOR\",LOOKUP(2,GEfectos!$J$4:$P$4,GEfectos!J38:P38),IF(EFECTOS!$N$9=\"GUATEMALA\",LOOKUP(3,GEfectos!$J$4:$P$4,GEfectos!J38:P38),IF(EFECTOS!$N$9=\"HONDURAS\",LOOKUP(4,GEfectos!$J$4:$P$4,GEfectos!J38:P38),IF(EFECTOS!$N$9=\"NICARAGUA\",LOOKUP(5,GEfectos!$J$4:$P$4,GEfectos!J38:P38),IF(EFECTOS!$N$9=\"REPÚBLICA \nDOMINICANA\",LOOKUP(6,$J$4:$P$4,J38:P38),IF(EFECTOS!$N$9=\"PANAMÁ\",LOOKUP(7,GEfectos!$J$4:$P$4,GEfectos!J38:P38))))))))","v":81.795558481950508},{"$f":"IF(EFECTOS!$N$9=\"COSTA RICA\",LOOKUP(1,GEfectos!$Q$4:$W$4,GEfectos!Q38:W38),IF(EFECTOS!$N$9=\"EL SALVADOR\",LOOKUP(2,GEfectos!$Q$4:$W$4,GEfectos!Q38:W38),IF(EFECTOS!$N$9=\"GUATEMALA\",LOOKUP(3,GEfectos!$Q$4:$W$4,GEfectos!Q38:W38),IF(EFECTOS!$N$9=\"HONDURAS\",LOOKUP(4,GEfectos!$Q$4:$W$4,GEfectos!Q38:W38),IF(EFECTOS!$N$9=\"NICARAGUA\",LOOKUP(5,GEfectos!$Q$4:$W$4,GEfectos!Q38:W38),IF(EFECTOS!$N$9=\"REPÚBLICA \nDOMINICANA\",LOOKUP(6,$Q$4:$W$4,Q38:W38),IF(EFECTOS!$N$9=\"PANAMÁ\",LOOKUP(7,GEfectos!$Q$4:$W$4,GEfectos!Q38:W38))))))))","v":79.278821121645549},100]
[null,{"$f":"'ITCER GLOBAL'!B39","v":"Octubre"},{"$f":"'ITCER GLOBAL'!C39","v":104.13217688593001},{"$f":"'ITCER GLOBAL'!D39","v":105.20250563176933},{"$f":"'ITCER GLOBAL'!E39","v":90.44683699989524},{"$f":"'ITCER GLOBAL'!F39","v":120.01485067574653},{"$f":"'ITCER GLOBAL'!G39","v":104.98946462351402},{"$f":"'ITCER GLOBAL'!H39","v":98.488792864328417},{"$f":"'ITCER GLOBAL'!I39","v":106.31152682579994},{"$f":"'ITCER GLOBAL'!S39","v":82.537977498307342},{"$f":"'ITCER GLOBAL'!T39","v":112.19448321060554},{"$f":"'ITCER GLOBAL'!U39","v":85.705670779093822},{"$f":"'ITCER GLOBAL'!V39","v":93.701688912924013},{"$f":"'ITCER GLOBAL'!W39","v":81.443474150622023},{"$f":"'ITCER GLOBAL'!X39","v":86.216197938184706},{"$f":"'ITCER GLOBAL'!Y39","v":114.80825231829624},{"$f":"'ITCER GLOBAL'!AA39","v":79.26270242935793},{"$f":"'ITCER GLOBAL'!AB39","v":106.64620822179806},{"$f":"'ITCER GLOBAL'!AC39","v":94.758062992510276},{"$f":"'ITCER GLOBAL'!AD39","v":78.07507853014387},{"$f":"'ITCER GLOBAL'!AE39","v":77.572996912283983},{"$f":"'ITCER GLOBAL'!AF39","v":87.539094988147909},{"$f":"'ITCER GLOBAL'!AG39","v":107.99228996721952},null,{"$f":"IF(EFECTOS!$N$9=\"COSTA RICA\",LOOKUP(1,GEfectos!$C$4:$I$4,GEfectos!C39:I39),IF(EFECTOS!$N$9=\"EL SALVADOR\",LOOKUP(2,GEfectos!$C$4:$I$4,GEfectos!C39:I39),IF(EFECTOS!$N$9=\"GUATEMALA\",LOOKUP(3,GEfectos!$C$4:$I$4,GEfectos!C39:I39),IF(EFECTOS!$N$9=\"HONDURAS\",LOOKUP(4,GEfectos!$C$4:$I$4,GEfectos!C39:I39),IF(EFECTOS!$N$9=\"NICARAGUA\",LOOKUP(5,GEfectos!$C$4:$I$4,GEfectos!C39:I39),IF(EFECTOS!$N$9=\"REPÚBLICA \nDOMINICANA\",LOOKUP(6,$C$4:$I$4,C39:I39),IF(EFECTOS!$N$9=\"PANAMÁ\",LOOKUP(7,GEfectos!$C$4:$I$4,GEfectos!C39:I39))))))))","v":104.13217688593001},{"$f":"IF(EFECTOS!$N$9=\"COSTA RICA\",LOOKUP(1,GEfectos!$J$4:$P$4,GEfectos!J39:P39),IF(EFECTOS!$N$9=\"EL SALVADOR\",LOOKUP(2,GEfectos!$J$4:$P$4,GEfectos!J39:P39),IF(EFECTOS!$N$9=\"GUATEMALA\",LOOKUP(3,GEfectos!$J$4:$P$4,GEfectos!J39:P39),IF(EFECTOS!$N$9=\"HONDURAS\",LOOKUP(4,GEfectos!$J$4:$P$4,GEfectos!J39:P39),IF(EFECTOS!$N$9=\"NICARAGUA\",LOOKUP(5,GEfectos!$J$4:$P$4,GEfectos!J39:P39),IF(EFECTOS!$N$9=\"REPÚBLICA \nDOMINICANA\",LOOKUP(6,$J$4:$P$4,J39:P39),IF(EFECTOS!$N$9=\"PANAMÁ\",LOOKUP(7,GEfectos!$J$4:$P$4,GEfectos!J39:P39))))))))","v":82.537977498307342},{"$f":"IF(EFECTOS!$N$9=\"COSTA RICA\",LOOKUP(1,GEfectos!$Q$4:$W$4,GEfectos!Q39:W39),IF(EFECTOS!$N$9=\"EL SALVADOR\",LOOKUP(2,GEfectos!$Q$4:$W$4,GEfectos!Q39:W39),IF(EFECTOS!$N$9=\"GUATEMALA\",LOOKUP(3,GEfectos!$Q$4:$W$4,GEfectos!Q39:W39),IF(EFECTOS!$N$9=\"HONDURAS\",LOOKUP(4,GEfectos!$Q$4:$W$4,GEfectos!Q39:W39),IF(EFECTOS!$N$9=\"NICARAGUA\",LOOKUP(5,GEfectos!$Q$4:$W$4,GEfectos!Q39:W39),IF(EFECTOS!$N$9=\"REPÚBLICA \nDOMINICANA\",LOOKUP(6,$Q$4:$W$4,Q39:W39),IF(EFECTOS!$N$9=\"PANAMÁ\",LOOKUP(7,GEfectos!$Q$4:$W$4,GEfectos!Q39:W39))))))))","v":79.26270242935793},100]
[null,{"$f":"'ITCER GLOBAL'!B40","v":"Noviembre"},{"$f":"'ITCER GLOBAL'!C40","v":103.07744081375331},{"$f":"'ITCER GLOBAL'!D40","v":105.05581606008361},{"$f":"'ITCER GLOBAL'!E40","v":90.702768123494479},{"$f":"'ITCER GLOBAL'!F40","v":118.95913254769177},{"$f":"'ITCER GLOBAL'!G40","v":102.84307924844796},{"$f":"'ITCER GLOBAL'!H40","v":98.099041042567151},{"$f":"'ITCER GLOBAL'!I40","v":104.99700390358953},{"$f":"'ITCER GLOBAL'!S40","v":82.983064360033993},{"$f":"'ITCER GLOBAL'!T40","v":111.58567090968243},{"$f":"'ITCER GLOBAL'!U40","v":86.110032978337173},{"$f":"'ITCER GLOBAL'!V40","v":93.440397474194043},{"$f":"'ITCER GLOBAL'!W40","v":81.959541149047055},{"$f":"'ITCER GLOBAL'!X40","v":86.036571966436838},{"$f":"'ITCER GLOBAL'!Y40","v":113.07726516691289},{"$f":"'ITCER GLOBAL'!AA40","v":80.505553596322713},{"$f":"'ITCER GLOBAL'!AB40","v":106.21560527963942},{"$f":"'ITCER GLOBAL'!AC40","v":94.936499469449302},{"$f":"'ITCER GLOBAL'!AD40","v":78.548317790341116},{"$f":"'ITCER GLOBAL'!AE40","v":79.693783721750961},{"$f":"'ITCER GLOBAL'!AF40","v":87.703784921917659},{"$f":"'ITCER GLOBAL'!AG40","v":107.69570650867604},null,{"$f":"IF(EFECTOS!$N$9=\"COSTA RICA\",LOOKUP(1,GEfectos!$C$4:$I$4,GEfectos!C40:I40),IF(EFECTOS!$N$9=\"EL SALVADOR\",LOOKUP(2,GEfectos!$C$4:$I$4,GEfectos!C40:I40),IF(EFECTOS!$N$9=\"GUATEMALA\",LOOKUP(3,GEfectos!$C$4:$I$4,GEfectos!C40:I40),IF(EFECTOS!$N$9=\"HONDURAS\",LOOKUP(4,GEfectos!$C$4:$I$4,GEfectos!C40:I40),IF(EFECTOS!$N$9=\"NICARAGUA\",LOOKUP(5,GEfectos!$C$4:$I$4,GEfectos!C40:I40),IF(EFECTOS!$N$9=\"REPÚBLICA \nDOMINICANA\",LOOKUP(6,$C$4:$I$4,C40:I40),IF(EFECTOS!$N$9=\"PANAMÁ\",LOOKUP(7,GEfectos!$C$4:$I$4,GEfectos!C40:I40))))))))","v":103.07744081375331},{"$f":"IF(EFECTOS!$N$9=\"COSTA RICA\",LOOKUP(1,GEfectos!$J$4:$P$4,GEfectos!J40:P40),IF(EFECTOS!$N$9=\"EL SALVADOR\",LOOKUP(2,GEfectos!$J$4:$P$4,GEfectos!J40:P40),IF(EFECTOS!$N$9=\"GUATEMALA\",LOOKUP(3,GEfectos!$J$4:$P$4,GEfectos!J40:P40),IF(EFECTOS!$N$9=\"HONDURAS\",LOOKUP(4,GEfectos!$J$4:$P$4,GEfectos!J40:P40),IF(EFECTOS!$N$9=\"NICARAGUA\",LOOKUP(5,GEfectos!$J$4:$P$4,GEfectos!J40:P40),IF(EFECTOS!$N$9=\"REPÚBLICA \nDOMINICANA\",LOOKUP(6,$J$4:$P$4,J40:P40),IF(EFECTOS!$N$9=\"PANAMÁ\",LOOKUP(7,GEfectos!$J$4:$P$4,GEfectos!J40:P40))))))))","v":82.983064360033993},{"$f":"IF(EFECTOS!$N$9=\"COSTA RICA\",LOOKUP(1,GEfectos!$Q$4:$W$4,GEfectos!Q40:W40),IF(EFECTOS!$N$9=\"EL SALVADOR\",LOOKUP(2,GEfectos!$Q$4:$W$4,GEfectos!Q40:W40),IF(EFECTOS!$N$9=\"GUATEMALA\",LOOKUP(3,GEfectos!$Q$4:$W$4,GEfectos!Q40:W40),IF(EFECTOS!$N$9=\"HONDURAS\",LOOKUP(4,GEfectos!$Q$4:$W$4,GEfectos!Q40:W40),IF(EFECTOS!$N$9=\"NICARAGUA\",LOOKUP(5,GEfectos!$Q$4:$W$4,GEfectos!Q40:W40),IF(EFECTOS!$N$9=\"REPÚBLICA \nDOMINICANA\",LOOKUP(6,$Q$4:$W$4,Q40:W40),IF(EFECTOS!$N$9=\"PANAMÁ\",LOOKUP(7,GEfectos!$Q$4:$W$4,GEfectos!Q40:W40))))))))","v":80.505553596322713},100]
[null,{"$f":"'ITCER GLOBAL'!B41","v":"Diciembre"},{"$f":"'ITCER GLOBAL'!C41","v":102.47855250745467},{"$f":"'ITCER GLOBAL'!D41","v":104.49291552684024},{"$f":"'ITCER GLOBAL'!E41","v":89.545690053080591},{"$f":"'ITCER GLOBAL'!F41","v":118.34023568665822},{"$f":"'ITCER GLOBAL'!G41","v":102.83931569045643},{"$f":"'ITCER GLOBAL'!H41","v":97.613042183621516},{"$f":"'ITCER GLOBAL'!I41","v":100.17002967161596},{"$f":"'ITCER GLOBAL'!S41","v":83.140580972975684},{"$f":"'ITCER GLOBAL'!T41","v":110.79410445379165},{"$f":"'ITCER GLOBAL'!U41","v":85.206387207892305},{"$f":"'ITCER GLOBAL'!V41","v":93.093707171394428},{"$f":"'ITCER GLOBAL'!W41","v":82.317663552609005},{"$f":"'ITCER GLOBAL'!X41","v":85.803945249797835},{"$f":"'ITCER GLOBAL'!Y41","v":107.5582267784124},{"$f":"'ITCER GLOBAL'!AA41","v":81.12973782189961},{"$f":"'ITCER GLOBAL'!AB41","v":106.03025467820628},{"$f":"'ITCER GLOBAL'!AC41","v":95.154090785814432},{"$f":"'ITCER GLOBAL'!AD41","v":78.666149878126276},{"$f":"'ITCER GLOBAL'!AE41","v":80.044935149493753},{"$f":"'ITCER GLOBAL'!AF41","v":87.902132061810562},{"$f":"'ITCER GLOBAL'!AG41","v":107.37565630260559},null,{"$f":"IF(EFECTOS!$N$9=\"COSTA RICA\",LOOKUP(1,GEfectos!$C$4:$I$4,GEfectos!C41:I41),IF(EFECTOS!$N$9=\"EL SALVADOR\",LOOKUP(2,GEfectos!$C$4:$I$4,GEfectos!C41:I41),IF(EFECTOS!$N$9=\"GUATEMALA\",LOOKUP(3,GEfectos!$C$4:$I$4,GEfectos!C41:I41),IF(EFECTOS!$N$9=\"HONDURAS\",LOOKUP(4,GEfectos!$C$4:$I$4,GEfectos!C41:I41),IF(EFECTOS!$N$9=\"NICARAGUA\",LOOKUP(5,GEfectos!$C$4:$I$4,GEfectos!C41:I41),IF(EFECTOS!$N$9=\"REPÚBLICA \nDOMINICANA\",LOOKUP(6,$C$4:$I$4,C41:I41),IF(EFECTOS!$N$9=\"PANAMÁ\",LOOKUP(7,GEfectos!$C$4:$I$4,GEfectos!C41:I41))))))))","v":102.47855250745467},{"$f":"IF(EFECTOS!$N$9=\"COSTA RICA\",LOOKUP(1,GEfectos!$J$4:$P$4,GEfectos!J41:P41),IF(EFECTOS!$N$9=\"EL SALVADOR\",LOOKUP(2,GEfectos!$J$4:$P$4,GEfectos!J41:P41),IF(EFECTOS!$N$9=\"GUATEMALA\",LOOKUP(3,GEfectos!$J$4:$P$4,GEfectos!J41:P41),IF(EFECTOS!$N$9=\"HONDURAS\",LOOKUP(4,GEfectos!$J$4:$P$4,GEfectos!J41:P41),IF(EFECTOS!$N$9=\"NICARAGUA\",LOOKUP(5,GEfectos!$J$4:$P$4,GEfectos!J41:P41),IF(EFECTOS!$N$9=\"REPÚBLICA \nDOMINICANA\",LOOKUP(6,$J$4:$P$4,J41:P41),IF(EFECTOS!$N$9=\"PANAMÁ\",LOOKUP(7,GEfectos!$J$4:$P$4,GEfectos!J41:P41))))))))","v":83.140580972975684},{"$f":"IF(EFECTOS!$N$9=\"COSTA RICA\",LOOKUP(1,GEfectos!$Q$4:$W$4,GEfectos!Q41:W41),IF(EFECTOS!$N$9=\"EL SALVADOR\",LOOKUP(2,GEfectos!$Q$4:$W$4,GEfectos!Q41:W41),IF(EFECTOS!$N$9=\"GUATEMALA\",LOOKUP(3,GEfectos!$Q$4:$W$4,GEfectos!Q41:W41),IF(EFECTOS!$N$9=\"HONDURAS\",LOOKUP(4,GEfectos!$Q$4:$W$4,GEfectos!Q41:W41),IF(EFECTOS!$N$9=\"NICARAGUA\",LOOKUP(5,GEfectos!$Q$4:$W$4,GEfectos!Q41:W41),IF(EFECTOS!$N$9=\"REPÚBLICA \nDOMINICANA\",LOOKUP(6,$Q$4:$W$4,Q41:W41),IF(EFECTOS!$N$9=\"PANAMÁ\",LOOKUP(7,GEfectos!$Q$4:$W$4,GEfectos!Q41:W41))))))))","v":81.12973782189961},100]
[1998,{"$f":"'ITCER GLOBAL'!B42","v":"Enero"},{"$f":"'ITCER GLOBAL'!C42","v":100.37746157180841},{"$f":"'ITCER GLOBAL'!D42","v":103.02432764789168},{"$f":"'ITCER GLOBAL'!E42","v":89.235301172257124},{"$f":"'ITCER GLOBAL'!F42","v":117.09420589310946},{"$f":"'ITCER GLOBAL'!G42","v":102.68574408966717},{"$f":"'ITCER GLOBAL'!H42","v":97.891063331212635},{"$f":"'ITCER GLOBAL'!I42","v":97.573538835898006},{"$f":"'ITCER GLOBAL'!S42","v":82.309792550231293},{"$f":"'ITCER GLOBAL'!T42","v":110.65560152675305},{"$f":"'ITCER GLOBAL'!U42","v":85.553232724209238},{"$f":"'ITCER GLOBAL'!V42","v":92.490792996299021},{"$f":"'ITCER GLOBAL'!W42","v":82.944658963384839},{"$f":"'ITCER GLOBAL'!X42","v":85.96462328871975},{"$f":"'ITCER GLOBAL'!Y42","v":104.5042239163509},{"$f":"'ITCER GLOBAL'!AA42","v":82.000273030762187},{"$f":"'ITCER GLOBAL'!AB42","v":107.40725424090407},{"$f":"'ITCER GLOBAL'!AC42","v":95.873753548564693},{"$f":"'ITCER GLOBAL'!AD42","v":78.988360090788873},{"$f":"'ITCER GLOBAL'!AE42","v":80.775242657788965},{"$f":"'ITCER GLOBAL'!AF42","v":87.816620193265251},{"$f":"'ITCER GLOBAL'!AG42","v":107.10303752752999},null,{"$f":"IF(EFECTOS!$N$9=\"COSTA RICA\",LOOKUP(1,GEfectos!$C$4:$I$4,GEfectos!C42:I42),IF(EFECTOS!$N$9=\"EL SALVADOR\",LOOKUP(2,GEfectos!$C$4:$I$4,GEfectos!C42:I42),IF(EFECTOS!$N$9=\"GUATEMALA\",LOOKUP(3,GEfectos!$C$4:$I$4,GEfectos!C42:I42),IF(EFECTOS!$N$9=\"HONDURAS\",LOOKUP(4,GEfectos!$C$4:$I$4,GEfectos!C42:I42),IF(EFECTOS!$N$9=\"NICARAGUA\",LOOKUP(5,GEfectos!$C$4:$I$4,GEfectos!C42:I42),IF(EFECTOS!$N$9=\"REPÚBLICA \nDOMINICANA\",LOOKUP(6,$C$4:$I$4,C42:I42),IF(EFECTOS!$N$9=\"PANAMÁ\",LOOKUP(7,GEfectos!$C$4:$I$4,GEfectos!C42:I42))))))))","v":100.37746157180841},{"$f":"IF(EFECTOS!$N$9=\"COSTA RICA\",LOOKUP(1,GEfectos!$J$4:$P$4,GEfectos!J42:P42),IF(EFECTOS!$N$9=\"EL SALVADOR\",LOOKUP(2,GEfectos!$J$4:$P$4,GEfectos!J42:P42),IF(EFECTOS!$N$9=\"GUATEMALA\",LOOKUP(3,GEfectos!$J$4:$P$4,GEfectos!J42:P42),IF(EFECTOS!$N$9=\"HONDURAS\",LOOKUP(4,GEfectos!$J$4:$P$4,GEfectos!J42:P42),IF(EFECTOS!$N$9=\"NICARAGUA\",LOOKUP(5,GEfectos!$J$4:$P$4,GEfectos!J42:P42),IF(EFECTOS!$N$9=\"REPÚBLICA \nDOMINICANA\",LOOKUP(6,$J$4:$P$4,J42:P42),IF(EFECTOS!$N$9=\"PANAMÁ\",LOOKUP(7,GEfectos!$J$4:$P$4,GEfectos!J42:P42))))))))","v":82.309792550231293},{"$f":"IF(EFECTOS!$N$9=\"COSTA RICA\",LOOKUP(1,GEfectos!$Q$4:$W$4,GEfectos!Q42:W42),IF(EFECTOS!$N$9=\"EL SALVADOR\",LOOKUP(2,GEfectos!$Q$4:$W$4,GEfectos!Q42:W42),IF(EFECTOS!$N$9=\"GUATEMALA\",LOOKUP(3,GEfectos!$Q$4:$W$4,GEfectos!Q42:W42),IF(EFECTOS!$N$9=\"HONDURAS\",LOOKUP(4,GEfectos!$Q$4:$W$4,GEfectos!Q42:W42),IF(EFECTOS!$N$9=\"NICARAGUA\",LOOKUP(5,GEfectos!$Q$4:$W$4,GEfectos!Q42:W42),IF(EFECTOS!$N$9=\"REPÚBLICA \nDOMINICANA\",LOOKUP(6,$Q$4:$W$4,Q42:W42),IF(EFECTOS!$N$9=\"PANAMÁ\",LOOKUP(7,GEfectos!$Q$4:$W$4,GEfectos!Q42:W42))))))))","v":82.000273030762187},100]
[null,{"$f":"'ITCER GLOBAL'!B43","v":"Febrero"},{"$f":"'ITCER GLOBAL'!C43","v":100.49703899935957},{"$f":"'ITCER GLOBAL'!D43","v":103.27326163557899},{"$f":"'ITCER GLOBAL'!E43","v":88.412273665303871},{"$f":"'ITCER GLOBAL'!F43","v":115.0948337130377},{"$f":"'ITCER GLOBAL'!G43","v":102.62685019971994},{"$f":"'ITCER GLOBAL'!H43","v":98.171025212730186},{"$f":"'ITCER GLOBAL'!I43","v":98.746176237012662},{"$f":"'ITCER GLOBAL'!S43","v":82.906125899963058},{"$f":"'ITCER GLOBAL'!T43","v":110.57793983836508},{"$f":"'ITCER GLOBAL'!U43","v":84.81505307888014},{"$f":"'ITCER GLOBAL'!V43","v":92.832644779622157},{"$f":"'ITCER GLOBAL'!W43","v":83.661299767162262},{"$f":"'ITCER GLOBAL'!X43","v":85.937447184320376},{"$f":"'ITCER GLOBAL'!Y43","v":104.8865912286453},{"$f":"'ITCER GLOBAL'!AA43","v":82.496088168817963},{"$f":"'ITCER GLOBAL'!AB43","v":107.07315532316792},{"$f":"'ITCER GLOBAL'!AC43","v":95.931310849394634},{"$f":"'ITCER GLOBAL'!AD43","v":80.657525437743672},{"$f":"'ITCER GLOBAL'!AE43","v":81.519894261931242},{"$f":"'ITCER GLOBAL'!AF43","v":87.538504358184653},{"$f":"'ITCER GLOBAL'!AG43","v":106.21838254971441},null,{"$f":"IF(EFECTOS!$N$9=\"COSTA RICA\",LOOKUP(1,GEfectos!$C$4:$I$4,GEfectos!C43:I43),IF(EFECTOS!$N$9=\"EL SALVADOR\",LOOKUP(2,GEfectos!$C$4:$I$4,GEfectos!C43:I43),IF(EFECTOS!$N$9=\"GUATEMALA\",LOOKUP(3,GEfectos!$C$4:$I$4,GEfectos!C43:I43),IF(EFECTOS!$N$9=\"HONDURAS\",LOOKUP(4,GEfectos!$C$4:$I$4,GEfectos!C43:I43),IF(EFECTOS!$N$9=\"NICARAGUA\",LOOKUP(5,GEfectos!$C$4:$I$4,GEfectos!C43:I43),IF(EFECTOS!$N$9=\"REPÚBLICA \nDOMINICANA\",LOOKUP(6,$C$4:$I$4,C43:I43),IF(EFECTOS!$N$9=\"PANAMÁ\",LOOKUP(7,GEfectos!$C$4:$I$4,GEfectos!C43:I43))))))))","v":100.49703899935957},{"$f":"IF(EFECTOS!$N$9=\"COSTA RICA\",LOOKUP(1,GEfectos!$J$4:$P$4,GEfectos!J43:P43),IF(EFECTOS!$N$9=\"EL SALVADOR\",LOOKUP(2,GEfectos!$J$4:$P$4,GEfectos!J43:P43),IF(EFECTOS!$N$9=\"GUATEMALA\",LOOKUP(3,GEfectos!$J$4:$P$4,GEfectos!J43:P43),IF(EFECTOS!$N$9=\"HONDURAS\",LOOKUP(4,GEfectos!$J$4:$P$4,GEfectos!J43:P43),IF(EFECTOS!$N$9=\"NICARAGUA\",LOOKUP(5,GEfectos!$J$4:$P$4,GEfectos!J43:P43),IF(EFECTOS!$N$9=\"REPÚBLICA \nDOMINICANA\",LOOKUP(6,$J$4:$P$4,J43:P43),IF(EFECTOS!$N$9=\"PANAMÁ\",LOOKUP(7,GEfectos!$J$4:$P$4,GEfectos!J43:P43))))))))","v":82.906125899963058},{"$f":"IF(EFECTOS!$N$9=\"COSTA RICA\",LOOKUP(1,GEfectos!$Q$4:$W$4,GEfectos!Q43:W43),IF(EFECTOS!$N$9=\"EL SALVADOR\",LOOKUP(2,GEfectos!$Q$4:$W$4,GEfectos!Q43:W43),IF(EFECTOS!$N$9=\"GUATEMALA\",LOOKUP(3,GEfectos!$Q$4:$W$4,GEfectos!Q43:W43),IF(EFECTOS!$N$9=\"HONDURAS\",LOOKUP(4,GEfectos!$Q$4:$W$4,GEfectos!Q43:W43),IF(EFECTOS!$N$9=\"NICARAGUA\",LOOKUP(5,GEfectos!$Q$4:$W$4,GEfectos!Q43:W43),IF(EFECTOS!$N$9=\"REPÚBLICA \nDOMINICANA\",LOOKUP(6,$Q$4:$W$4,Q43:W43),IF(EFECTOS!$N$9=\"PANAMÁ\",LOOKUP(7,GEfectos!$Q$4:$W$4,GEfectos!Q43:W43))))))))","v":82.496088168817963},100]
[null,{"$f":"'ITCER GLOBAL'!B44","v":"Marzo"},{"$f":"'ITCER GLOBAL'!C44","v":100.39738762386469},{"$f":"'ITCER GLOBAL'!D44","v":102.96163199805763},{"$f":"'ITCER GLOBAL'!E44","v":88.905782148355314},{"$f":"'ITCER GLOBAL'!F44","v":113.63899385552276},{"$f":"'ITCER GLOBAL'!G44","v":102.56980676571158},{"$f":"'ITCER GLOBAL'!H44","v":98.52376835397915},{"$f":"'ITCER GLOBAL'!I44","v":99.283977702230104},{"$f":"'ITCER GLOBAL'!S44","v":83.416994244547851},{"$f":"'ITCER GLOBAL'!T44","v":110.19101245833414},{"$f":"'ITCER GLOBAL'!U44","v":85.4973556283839},{"$f":"'ITCER GLOBAL'!V44","v":92.89542415381824},{"$f":"'ITCER GLOBAL'!W44","v":84.145050169730439},{"$f":"'ITCER GLOBAL'!X44","v":85.911424673779919},{"$f":"'ITCER GLOBAL'!Y44","v":105.27665669945594},{"$f":"'ITCER GLOBAL'!AA44","v":83.086817514681471},{"$f":"'ITCER GLOBAL'!AB44","v":107.02143149830114},{"$f":"'ITCER GLOBAL'!AC44","v":96.166248766268282},{"$f":"'ITCER GLOBAL'!AD44","v":81.746081166402007},{"$f":"'ITCER GLOBAL'!AE44","v":82.036861356220854},{"$f":"'ITCER GLOBAL'!AF44","v":87.198679170608642},{"$f":"'ITCER GLOBAL'!AG44","v":106.03589736825303},null,{"$f":"IF(EFECTOS!$N$9=\"COSTA RICA\",LOOKUP(1,GEfectos!$C$4:$I$4,GEfectos!C44:I44),IF(EFECTOS!$N$9=\"EL SALVADOR\",LOOKUP(2,GEfectos!$C$4:$I$4,GEfectos!C44:I44),IF(EFECTOS!$N$9=\"GUATEMALA\",LOOKUP(3,GEfectos!$C$4:$I$4,GEfectos!C44:I44),IF(EFECTOS!$N$9=\"HONDURAS\",LOOKUP(4,GEfectos!$C$4:$I$4,GEfectos!C44:I44),IF(EFECTOS!$N$9=\"NICARAGUA\",LOOKUP(5,GEfectos!$C$4:$I$4,GEfectos!C44:I44),IF(EFECTOS!$N$9=\"REPÚBLICA \nDOMINICANA\",LOOKUP(6,$C$4:$I$4,C44:I44),IF(EFECTOS!$N$9=\"PANAMÁ\",LOOKUP(7,GEfectos!$C$4:$I$4,GEfectos!C44:I44))))))))","v":100.39738762386469},{"$f":"IF(EFECTOS!$N$9=\"COSTA RICA\",LOOKUP(1,GEfectos!$J$4:$P$4,GEfectos!J44:P44),IF(EFECTOS!$N$9=\"EL SALVADOR\",LOOKUP(2,GEfectos!$J$4:$P$4,GEfectos!J44:P44),IF(EFECTOS!$N$9=\"GUATEMALA\",LOOKUP(3,GEfectos!$J$4:$P$4,GEfectos!J44:P44),IF(EFECTOS!$N$9=\"HONDURAS\",LOOKUP(4,GEfectos!$J$4:$P$4,GEfectos!J44:P44),IF(EFECTOS!$N$9=\"NICARAGUA\",LOOKUP(5,GEfectos!$J$4:$P$4,GEfectos!J44:P44),IF(EFECTOS!$N$9=\"REPÚBLICA \nDOMINICANA\",LOOKUP(6,$J$4:$P$4,J44:P44),IF(EFECTOS!$N$9=\"PANAMÁ\",LOOKUP(7,GEfectos!$J$4:$P$4,GEfectos!J44:P44))))))))","v":83.416994244547851},{"$f":"IF(EFECTOS!$N$9=\"COSTA RICA\",LOOKUP(1,GEfectos!$Q$4:$W$4,GEfectos!Q44:W44),IF(EFECTOS!$N$9=\"EL SALVADOR\",LOOKUP(2,GEfectos!$Q$4:$W$4,GEfectos!Q44:W44),IF(EFECTOS!$N$9=\"GUATEMALA\",LOOKUP(3,GEfectos!$Q$4:$W$4,GEfectos!Q44:W44),IF(EFECTOS!$N$9=\"HONDURAS\",LOOKUP(4,GEfectos!$Q$4:$W$4,GEfectos!Q44:W44),IF(EFECTOS!$N$9=\"NICARAGUA\",LOOKUP(5,GEfectos!$Q$4:$W$4,GEfectos!Q44:W44),IF(EFECTOS!$N$9=\"REPÚBLICA \nDOMINICANA\",LOOKUP(6,$Q$4:$W$4,Q44:W44),IF(EFECTOS!$N$9=\"PANAMÁ\",LOOKUP(7,GEfectos!$Q$4:$W$4,GEfectos!Q44:W44))))))))","v":83.086817514681471},100]
[null,{"$f":"'ITCER GLOBAL'!B45","v":"Abril"},{"$f":"'ITCER GLOBAL'!C45","v":100.82879524697819},{"$f":"'ITCER GLOBAL'!D45","v":102.2095264801907},{"$f":"'ITCER GLOBAL'!E45","v":88.925631163631252},{"$f":"'ITCER GLOBAL'!F45","v":112.09416452812994},{"$f":"'ITCER GLOBAL'!G45","v":101.82195553071797},{"$f":"'ITCER GLOBAL'!H45","v":98.898229491309209},{"$f":"'ITCER GLOBAL'!I45","v":100.24704050465525},{"$f":"'ITCER GLOBAL'!S45","v":84.131534031124914},{"$f":"'ITCER GLOBAL'!T45","v":110.18607421291158},{"$f":"'ITCER GLOBAL'!U45","v":85.744444305374472},{"$f":"'ITCER GLOBAL'!V45","v":92.838817398697088},{"$f":"'ITCER GLOBAL'!W45","v":84.881644423421648},{"$f":"'ITCER GLOBAL'!X45","v":85.949415761541715},{"$f":"'ITCER GLOBAL'!Y45","v":105.75288178963321},{"$f":"'ITCER GLOBAL'!AA45","v":83.439987381626779},{"$f":"'ITCER GLOBAL'!AB45","v":107.804113772376},{"$f":"'ITCER GLOBAL'!AC45","v":96.422643486889513},{"$f":"'ITCER GLOBAL'!AD45","v":82.822168120445966},{"$f":"'ITCER GLOBAL'!AE45","v":83.36281107645226},{"$f":"'ITCER GLOBAL'!AF45","v":86.906930693935848},{"$f":"'ITCER GLOBAL'!AG45","v":105.49227314568182},null,{"$f":"IF(EFECTOS!$N$9=\"COSTA RICA\",LOOKUP(1,GEfectos!$C$4:$I$4,GEfectos!C45:I45),IF(EFECTOS!$N$9=\"EL SALVADOR\",LOOKUP(2,GEfectos!$C$4:$I$4,GEfectos!C45:I45),IF(EFECTOS!$N$9=\"GUATEMALA\",LOOKUP(3,GEfectos!$C$4:$I$4,GEfectos!C45:I45),IF(EFECTOS!$N$9=\"HONDURAS\",LOOKUP(4,GEfectos!$C$4:$I$4,GEfectos!C45:I45),IF(EFECTOS!$N$9=\"NICARAGUA\",LOOKUP(5,GEfectos!$C$4:$I$4,GEfectos!C45:I45),IF(EFECTOS!$N$9=\"REPÚBLICA \nDOMINICANA\",LOOKUP(6,$C$4:$I$4,C45:I45),IF(EFECTOS!$N$9=\"PANAMÁ\",LOOKUP(7,GEfectos!$C$4:$I$4,GEfectos!C45:I45))))))))","v":100.82879524697819},{"$f":"IF(EFECTOS!$N$9=\"COSTA RICA\",LOOKUP(1,GEfectos!$J$4:$P$4,GEfectos!J45:P45),IF(EFECTOS!$N$9=\"EL SALVADOR\",LOOKUP(2,GEfectos!$J$4:$P$4,GEfectos!J45:P45),IF(EFECTOS!$N$9=\"GUATEMALA\",LOOKUP(3,GEfectos!$J$4:$P$4,GEfectos!J45:P45),IF(EFECTOS!$N$9=\"HONDURAS\",LOOKUP(4,GEfectos!$J$4:$P$4,GEfectos!J45:P45),IF(EFECTOS!$N$9=\"NICARAGUA\",LOOKUP(5,GEfectos!$J$4:$P$4,GEfectos!J45:P45),IF(EFECTOS!$N$9=\"REPÚBLICA \nDOMINICANA\",LOOKUP(6,$J$4:$P$4,J45:P45),IF(EFECTOS!$N$9=\"PANAMÁ\",LOOKUP(7,GEfectos!$J$4:$P$4,GEfectos!J45:P45))))))))","v":84.131534031124914},{"$f":"IF(EFECTOS!$N$9=\"COSTA RICA\",LOOKUP(1,GEfectos!$Q$4:$W$4,GEfectos!Q45:W45),IF(EFECTOS!$N$9=\"EL SALVADOR\",LOOKUP(2,GEfectos!$Q$4:$W$4,GEfectos!Q45:W45),IF(EFECTOS!$N$9=\"GUATEMALA\",LOOKUP(3,GEfectos!$Q$4:$W$4,GEfectos!Q45:W45),IF(EFECTOS!$N$9=\"HONDURAS\",LOOKUP(4,GEfectos!$Q$4:$W$4,GEfectos!Q45:W45),IF(EFECTOS!$N$9=\"NICARAGUA\",LOOKUP(5,GEfectos!$Q$4:$W$4,GEfectos!Q45:W45),IF(EFECTOS!$N$9=\"REPÚBLICA \nDOMINICANA\",LOOKUP(6,$Q$4:$W$4,Q45:W45),IF(EFECTOS!$N$9=\"PANAMÁ\",LOOKUP(7,GEfectos!$Q$4:$W$4,GEfectos!Q45:W45))))))))","v":83.439987381626779},100]
[null,{"$f":"'ITCER GLOBAL'!B46","v":"Mayo"},{"$f":"'ITCER GLOBAL'!C46","v":101.20850350896181},{"$f":"'ITCER GLOBAL'!D46","v":102.06442454240407},{"$f":"'ITCER GLOBAL'!E46","v":88.627752077155691},{"$f":"'ITCER GLOBAL'!F46","v":111.66267882949127},{"$f":"'ITCER GLOBAL'!G46","v":101.07071046418295},{"$f":"'ITCER GLOBAL'!H46","v":98.637599016848242},{"$f":"'ITCER GLOBAL'!I46","v":100.19517810019396},{"$f":"'ITCER GLOBAL'!S46","v":84.829781204313718},{"$f":"'ITCER GLOBAL'!T46","v":110.14888742476217},{"$f":"'ITCER GLOBAL'!U46","v":85.595127137539293},{"$f":"'ITCER GLOBAL'!V46","v":93.258783681496865},{"$f":"'ITCER GLOBAL'!W46","v":85.639226039210541},{"$f":"'ITCER GLOBAL'!X46","v":85.929667719291345},{"$f":"'ITCER GLOBAL'!Y46","v":105.59438555737259},{"$f":"'ITCER GLOBAL'!AA46","v":83.816851611487579},{"$f":"'ITCER GLOBAL'!AB46","v":107.92094103171013},{"$f":"'ITCER GLOBAL'!AC46","v":96.578244546949222},{"$f":"'ITCER GLOBAL'!AD46","v":83.518311273816806},{"$f":"'ITCER GLOBAL'!AE46","v":84.731991737170034},{"$f":"'ITCER GLOBAL'!AF46","v":87.116544376362768},{"$f":"'ITCER GLOBAL'!AG46","v":105.38868991457801},null,{"$f":"IF(EFECTOS!$N$9=\"COSTA RICA\",LOOKUP(1,GEfectos!$C$4:$I$4,GEfectos!C46:I46),IF(EFECTOS!$N$9=\"EL SALVADOR\",LOOKUP(2,GEfectos!$C$4:$I$4,GEfectos!C46:I46),IF(EFECTOS!$N$9=\"GUATEMALA\",LOOKUP(3,GEfectos!$C$4:$I$4,GEfectos!C46:I46),IF(EFECTOS!$N$9=\"HONDURAS\",LOOKUP(4,GEfectos!$C$4:$I$4,GEfectos!C46:I46),IF(EFECTOS!$N$9=\"NICARAGUA\",LOOKUP(5,GEfectos!$C$4:$I$4,GEfectos!C46:I46),IF(EFECTOS!$N$9=\"REPÚBLICA \nDOMINICANA\",LOOKUP(6,$C$4:$I$4,C46:I46),IF(EFECTOS!$N$9=\"PANAMÁ\",LOOKUP(7,GEfectos!$C$4:$I$4,GEfectos!C46:I46))))))))","v":101.20850350896181},{"$f":"IF(EFECTOS!$N$9=\"COSTA RICA\",LOOKUP(1,GEfectos!$J$4:$P$4,GEfectos!J46:P46),IF(EFECTOS!$N$9=\"EL SALVADOR\",LOOKUP(2,GEfectos!$J$4:$P$4,GEfectos!J46:P46),IF(EFECTOS!$N$9=\"GUATEMALA\",LOOKUP(3,GEfectos!$J$4:$P$4,GEfectos!J46:P46),IF(EFECTOS!$N$9=\"HONDURAS\",LOOKUP(4,GEfectos!$J$4:$P$4,GEfectos!J46:P46),IF(EFECTOS!$N$9=\"NICARAGUA\",LOOKUP(5,GEfectos!$J$4:$P$4,GEfectos!J46:P46),IF(EFECTOS!$N$9=\"REPÚBLICA \nDOMINICANA\",LOOKUP(6,$J$4:$P$4,J46:P46),IF(EFECTOS!$N$9=\"PANAMÁ\",LOOKUP(7,GEfectos!$J$4:$P$4,GEfectos!J46:P46))))))))","v":84.829781204313718},{"$f":"IF(EFECTOS!$N$9=\"COSTA RICA\",LOOKUP(1,GEfectos!$Q$4:$W$4,GEfectos!Q46:W46),IF(EFECTOS!$N$9=\"EL SALVADOR\",LOOKUP(2,GEfectos!$Q$4:$W$4,GEfectos!Q46:W46),IF(EFECTOS!$N$9=\"GUATEMALA\",LOOKUP(3,GEfectos!$Q$4:$W$4,GEfectos!Q46:W46),IF(EFECTOS!$N$9=\"HONDURAS\",LOOKUP(4,GEfectos!$Q$4:$W$4,GEfectos!Q46:W46),IF(EFECTOS!$N$9=\"NICARAGUA\",LOOKUP(5,GEfectos!$Q$4:$W$4,GEfectos!Q46:W46),IF(EFECTOS!$N$9=\"REPÚBLICA \nDOMINICANA\",LOOKUP(6,$Q$4:$W$4,Q46:W46),IF(EFECTOS!$N$9=\"PANAMÁ\",LOOKUP(7,GEfectos!$Q$4:$W$4,GEfectos!Q46:W46))))))))","v":83.816851611487579},100]
[null,{"$f":"'ITCER GLOBAL'!B47","v":"Junio"},{"$f":"'ITCER GLOBAL'!C47","v":101.02536873755353},{"$f":"'ITCER GLOBAL'!D47","v":101.6460112617406},{"$f":"'ITCER GLOBAL'!E47","v":88.6073123881839},{"$f":"'ITCER GLOBAL'!F47","v":109.81717942366498},{"$f":"'ITCER GLOBAL'!G47","v":99.79167946450066},{"$f":"'ITCER GLOBAL'!H47","v":98.034399321333709},{"$f":"'ITCER GLOBAL'!I47","v":99.456933789974158},{"$f":"'ITCER GLOBAL'!S47","v":85.185626419927644},{"$f":"'ITCER GLOBAL'!T47","v":109.43652687568492},{"$f":"'ITCER GLOBAL'!U47","v":85.460384873391376},{"$f":"'ITCER GLOBAL'!V47","v":93.126884236160606},{"$f":"'ITCER GLOBAL'!W47","v":85.937050805644233},{"$f":"'ITCER GLOBAL'!X47","v":85.738078416561052},{"$f":"'ITCER GLOBAL'!Y47","v":104.93059725997638},{"$f":"'ITCER GLOBAL'!AA47","v":84.321024990490457},{"$f":"'ITCER GLOBAL'!AB47","v":107.66435939515971},{"$f":"'ITCER GLOBAL'!AC47","v":96.4484561939922},{"$f":"'ITCER GLOBAL'!AD47","v":84.801744795215797},{"$f":"'ITCER GLOBAL'!AE47","v":86.116449053465431},{"$f":"'ITCER GLOBAL'!AF47","v":87.457136484849357},{"$f":"'ITCER GLOBAL'!AG47","v":105.50355139799615},null,{"$f":"IF(EFECTOS!$N$9=\"COSTA RICA\",LOOKUP(1,GEfectos!$C$4:$I$4,GEfectos!C47:I47),IF(EFECTOS!$N$9=\"EL SALVADOR\",LOOKUP(2,GEfectos!$C$4:$I$4,GEfectos!C47:I47),IF(EFECTOS!$N$9=\"GUATEMALA\",LOOKUP(3,GEfectos!$C$4:$I$4,GEfectos!C47:I47),IF(EFECTOS!$N$9=\"HONDURAS\",LOOKUP(4,GEfectos!$C$4:$I$4,GEfectos!C47:I47),IF(EFECTOS!$N$9=\"NICARAGUA\",LOOKUP(5,GEfectos!$C$4:$I$4,GEfectos!C47:I47),IF(EFECTOS!$N$9=\"REPÚBLICA \nDOMINICANA\",LOOKUP(6,$C$4:$I$4,C47:I47),IF(EFECTOS!$N$9=\"PANAMÁ\",LOOKUP(7,GEfectos!$C$4:$I$4,GEfectos!C47:I47))))))))","v":101.02536873755353},{"$f":"IF(EFECTOS!$N$9=\"COSTA RICA\",LOOKUP(1,GEfectos!$J$4:$P$4,GEfectos!J47:P47),IF(EFECTOS!$N$9=\"EL SALVADOR\",LOOKUP(2,GEfectos!$J$4:$P$4,GEfectos!J47:P47),IF(EFECTOS!$N$9=\"GUATEMALA\",LOOKUP(3,GEfectos!$J$4:$P$4,GEfectos!J47:P47),IF(EFECTOS!$N$9=\"HONDURAS\",LOOKUP(4,GEfectos!$J$4:$P$4,GEfectos!J47:P47),IF(EFECTOS!$N$9=\"NICARAGUA\",LOOKUP(5,GEfectos!$J$4:$P$4,GEfectos!J47:P47),IF(EFECTOS!$N$9=\"REPÚBLICA \nDOMINICANA\",LOOKUP(6,$J$4:$P$4,J47:P47),IF(EFECTOS!$N$9=\"PANAMÁ\",LOOKUP(7,GEfectos!$J$4:$P$4,GEfectos!J47:P47))))))))","v":85.185626419927644},{"$f":"IF(EFECTOS!$N$9=\"COSTA RICA\",LOOKUP(1,GEfectos!$Q$4:$W$4,GEfectos!Q47:W47),IF(EFECTOS!$N$9=\"EL SALVADOR\",LOOKUP(2,GEfectos!$Q$4:$W$4,GEfectos!Q47:W47),IF(EFECTOS!$N$9=\"GUATEMALA\",LOOKUP(3,GEfectos!$Q$4:$W$4,GEfectos!Q47:W47),IF(EFECTOS!$N$9=\"HONDURAS\",LOOKUP(4,GEfectos!$Q$4:$W$4,GEfectos!Q47:W47),IF(EFECTOS!$N$9=\"NICARAGUA\",LOOKUP(5,GEfectos!$Q$4:$W$4,GEfectos!Q47:W47),IF(EFECTOS!$N$9=\"REPÚBLICA \nDOMINICANA\",LOOKUP(6,$Q$4:$W$4,Q47:W47),IF(EFECTOS!$N$9=\"PANAMÁ\",LOOKUP(7,GEfectos!$Q$4:$W$4,GEfectos!Q47:W47))))))))","v":84.321024990490457},100]
[null,{"$f":"'ITCER GLOBAL'!B48","v":"Julio"},{"$f":"'ITCER GLOBAL'!C48","v":100.29213967780825},{"$f":"'ITCER GLOBAL'!D48","v":101.29522675023419},{"$f":"'ITCER GLOBAL'!E48","v":89.028256944900491},{"$f":"'ITCER GLOBAL'!F48","v":108.03975674532184},{"$f":"'ITCER GLOBAL'!G48","v":101.78219795350675},{"$f":"'ITCER GLOBAL'!H48","v":105.91107528682734},{"$f":"'ITCER GLOBAL'!I48","v":99.960758660907786},{"$f":"'ITCER GLOBAL'!S48","v":85.897980606833642},{"$f":"'ITCER GLOBAL'!T48","v":109.20381775099956},{"$f":"'ITCER GLOBAL'!U48","v":85.8885099587133},{"$f":"'ITCER GLOBAL'!V48","v":93.27598528257495},{"$f":"'ITCER GLOBAL'!W48","v":86.56193249870779},{"$f":"'ITCER GLOBAL'!X48","v":93.099989010779566},{"$f":"'ITCER GLOBAL'!Y48","v":105.39297879252199},{"$f":"'ITCER GLOBAL'!AA48","v":85.647769488998534},{"$f":"'ITCER GLOBAL'!AB48","v":107.80746660478459},{"$f":"'ITCER GLOBAL'!AC48","v":96.473314098320074},{"$f":"'ITCER GLOBAL'!AD48","v":86.334871618094255},{"$f":"'ITCER GLOBAL'!AE48","v":85.046240147268733},{"$f":"'ITCER GLOBAL'!AF48","v":87.903922001213829},{"$f":"'ITCER GLOBAL'!AG48","v":105.43435264436283},null,{"$f":"IF(EFECTOS!$N$9=\"COSTA RICA\",LOOKUP(1,GEfectos!$C$4:$I$4,GEfectos!C48:I48),IF(EFECTOS!$N$9=\"EL SALVADOR\",LOOKUP(2,GEfectos!$C$4:$I$4,GEfectos!C48:I48),IF(EFECTOS!$N$9=\"GUATEMALA\",LOOKUP(3,GEfectos!$C$4:$I$4,GEfectos!C48:I48),IF(EFECTOS!$N$9=\"HONDURAS\",LOOKUP(4,GEfectos!$C$4:$I$4,GEfectos!C48:I48),IF(EFECTOS!$N$9=\"NICARAGUA\",LOOKUP(5,GEfectos!$C$4:$I$4,GEfectos!C48:I48),IF(EFECTOS!$N$9=\"REPÚBLICA \nDOMINICANA\",LOOKUP(6,$C$4:$I$4,C48:I48),IF(EFECTOS!$N$9=\"PANAMÁ\",LOOKUP(7,GEfectos!$C$4:$I$4,GEfectos!C48:I48))))))))","v":100.29213967780825},{"$f":"IF(EFECTOS!$N$9=\"COSTA RICA\",LOOKUP(1,GEfectos!$J$4:$P$4,GEfectos!J48:P48),IF(EFECTOS!$N$9=\"EL SALVADOR\",LOOKUP(2,GEfectos!$J$4:$P$4,GEfectos!J48:P48),IF(EFECTOS!$N$9=\"GUATEMALA\",LOOKUP(3,GEfectos!$J$4:$P$4,GEfectos!J48:P48),IF(EFECTOS!$N$9=\"HONDURAS\",LOOKUP(4,GEfectos!$J$4:$P$4,GEfectos!J48:P48),IF(EFECTOS!$N$9=\"NICARAGUA\",LOOKUP(5,GEfectos!$J$4:$P$4,GEfectos!J48:P48),IF(EFECTOS!$N$9=\"REPÚBLICA \nDOMINICANA\",LOOKUP(6,$J$4:$P$4,J48:P48),IF(EFECTOS!$N$9=\"PANAMÁ\",LOOKUP(7,GEfectos!$J$4:$P$4,GEfectos!J48:P48))))))))","v":85.897980606833642},{"$f":"IF(EFECTOS!$N$9=\"COSTA RICA\",LOOKUP(1,GEfectos!$Q$4:$W$4,GEfectos!Q48:W48),IF(EFECTOS!$N$9=\"EL SALVADOR\",LOOKUP(2,GEfectos!$Q$4:$W$4,GEfectos!Q48:W48),IF(EFECTOS!$N$9=\"GUATEMALA\",LOOKUP(3,GEfectos!$Q$4:$W$4,GEfectos!Q48:W48),IF(EFECTOS!$N$9=\"HONDURAS\",LOOKUP(4,GEfectos!$Q$4:$W$4,GEfectos!Q48:W48),IF(EFECTOS!$N$9=\"NICARAGUA\",LOOKUP(5,GEfectos!$Q$4:$W$4,GEfectos!Q48:W48),IF(EFECTOS!$N$9=\"REPÚBLICA \nDOMINICANA\",LOOKUP(6,$Q$4:$W$4,Q48:W48),IF(EFECTOS!$N$9=\"PANAMÁ\",LOOKUP(7,GEfectos!$Q$4:$W$4,GEfectos!Q48:W48))))))))","v":85.647769488998534},100]
[null,{"$f":"'ITCER GLOBAL'!B49","v":"Agosto"},{"$f":"'ITCER GLOBAL'!C49","v":98.871185340205713},{"$f":"'ITCER GLOBAL'!D49","v":102.13412929203334},{"$f":"'ITCER GLOBAL'!E49","v":89.176101520835658},{"$f":"'ITCER GLOBAL'!F49","v":107.90442676183348},{"$f":"'ITCER GLOBAL'!G49","v":102.94260631648494},{"$f":"'ITCER GLOBAL'!H49","v":106.32225409942775},{"$f":"'ITCER GLOBAL'!I49","v":99.473854359048147},{"$f":"'ITCER GLOBAL'!S49","v":86.316694794342254},{"$f":"'ITCER GLOBAL'!T49","v":108.49750944962977},{"$f":"'ITCER GLOBAL'!U49","v":86.046196389752566},{"$f":"'ITCER GLOBAL'!V49","v":93.212728451105477},{"$f":"'ITCER GLOBAL'!W49","v":86.930647706473735},{"$f":"'ITCER GLOBAL'!X49","v":93.539612952878244},{"$f":"'ITCER GLOBAL'!Y49","v":104.69417481878993},{"$f":"'ITCER GLOBAL'!AA49","v":87.302174538856065},{"$f":"'ITCER GLOBAL'!AB49","v":106.23041504510363},{"$f":"'ITCER GLOBAL'!AC49","v":96.49019739851289},{"$f":"'ITCER GLOBAL'!AD49","v":86.384526796888977},{"$f":"'ITCER GLOBAL'!AE49","v":84.445741969283034},{"$f":"'ITCER GLOBAL'!AF49","v":87.977454715552071},{"$f":"'ITCER GLOBAL'!AG49","v":105.24793222639106},null,{"$f":"IF(EFECTOS!$N$9=\"COSTA RICA\",LOOKUP(1,GEfectos!$C$4:$I$4,GEfectos!C49:I49),IF(EFECTOS!$N$9=\"EL SALVADOR\",LOOKUP(2,GEfectos!$C$4:$I$4,GEfectos!C49:I49),IF(EFECTOS!$N$9=\"GUATEMALA\",LOOKUP(3,GEfectos!$C$4:$I$4,GEfectos!C49:I49),IF(EFECTOS!$N$9=\"HONDURAS\",LOOKUP(4,GEfectos!$C$4:$I$4,GEfectos!C49:I49),IF(EFECTOS!$N$9=\"NICARAGUA\",LOOKUP(5,GEfectos!$C$4:$I$4,GEfectos!C49:I49),IF(EFECTOS!$N$9=\"REPÚBLICA \nDOMINICANA\",LOOKUP(6,$C$4:$I$4,C49:I49),IF(EFECTOS!$N$9=\"PANAMÁ\",LOOKUP(7,GEfectos!$C$4:$I$4,GEfectos!C49:I49))))))))","v":98.871185340205713},{"$f":"IF(EFECTOS!$N$9=\"COSTA RICA\",LOOKUP(1,GEfectos!$J$4:$P$4,GEfectos!J49:P49),IF(EFECTOS!$N$9=\"EL SALVADOR\",LOOKUP(2,GEfectos!$J$4:$P$4,GEfectos!J49:P49),IF(EFECTOS!$N$9=\"GUATEMALA\",LOOKUP(3,GEfectos!$J$4:$P$4,GEfectos!J49:P49),IF(EFECTOS!$N$9=\"HONDURAS\",LOOKUP(4,GEfectos!$J$4:$P$4,GEfectos!J49:P49),IF(EFECTOS!$N$9=\"NICARAGUA\",LOOKUP(5,GEfectos!$J$4:$P$4,GEfectos!J49:P49),IF(EFECTOS!$N$9=\"REPÚBLICA \nDOMINICANA\",LOOKUP(6,$J$4:$P$4,J49:P49),IF(EFECTOS!$N$9=\"PANAMÁ\",LOOKUP(7,GEfectos!$J$4:$P$4,GEfectos!J49:P49))))))))","v":86.316694794342254},{"$f":"IF(EFECTOS!$N$9=\"COSTA RICA\",LOOKUP(1,GEfectos!$Q$4:$W$4,GEfectos!Q49:W49),IF(EFECTOS!$N$9=\"EL SALVADOR\",LOOKUP(2,GEfectos!$Q$4:$W$4,GEfectos!Q49:W49),IF(EFECTOS!$N$9=\"GUATEMALA\",LOOKUP(3,GEfectos!$Q$4:$W$4,GEfectos!Q49:W49),IF(EFECTOS!$N$9=\"HONDURAS\",LOOKUP(4,GEfectos!$Q$4:$W$4,GEfectos!Q49:W49),IF(EFECTOS!$N$9=\"NICARAGUA\",LOOKUP(5,GEfectos!$Q$4:$W$4,GEfectos!Q49:W49),IF(EFECTOS!$N$9=\"REPÚBLICA \nDOMINICANA\",LOOKUP(6,$Q$4:$W$4,Q49:W49),IF(EFECTOS!$N$9=\"PANAMÁ\",LOOKUP(7,GEfectos!$Q$4:$W$4,GEfectos!Q49:W49))))))))","v":87.302174538856065},100]
[null,{"$f":"'ITCER GLOBAL'!B50","v":"Septiembre"},{"$f":"'ITCER GLOBAL'!C50","v":100.58413070421102},{"$f":"'ITCER GLOBAL'!D50","v":103.32304367508893},{"$f":"'ITCER GLOBAL'!E50","v":90.472605121354448},{"$f":"'ITCER GLOBAL'!F50","v":108.78854433558864},{"$f":"'ITCER GLOBAL'!G50","v":104.02977291436599},{"$f":"'ITCER GLOBAL'!H50","v":106.00463404251428},{"$f":"'ITCER GLOBAL'!I50","v":99.175563384444715},{"$f":"'ITCER GLOBAL'!S50","v":87.306626392442041},{"$f":"'ITCER GLOBAL'!T50","v":108.41975212235342},{"$f":"'ITCER GLOBAL'!U50","v":86.983004564936735},{"$f":"'ITCER GLOBAL'!V50","v":94.181580422817618},{"$f":"'ITCER GLOBAL'!W50","v":88.001465652723624},{"$f":"'ITCER GLOBAL'!X50","v":93.689967311534758},{"$f":"'ITCER GLOBAL'!Y50","v":104.7459188463006},{"$f":"'ITCER GLOBAL'!AA50","v":86.799603258674765},{"$f":"'ITCER GLOBAL'!AB50","v":104.93278969141838},{"$f":"'ITCER GLOBAL'!AC50","v":96.142920222384475},{"$f":"'ITCER GLOBAL'!AD50","v":86.573067962273882},{"$f":"'ITCER GLOBAL'!AE50","v":84.592576901195045},{"$f":"'ITCER GLOBAL'!AF50","v":88.382897745733828},{"$f":"'ITCER GLOBAL'!AG50","v":105.61666127397021},null,{"$f":"IF(EFECTOS!$N$9=\"COSTA RICA\",LOOKUP(1,GEfectos!$C$4:$I$4,GEfectos!C50:I50),IF(EFECTOS!$N$9=\"EL SALVADOR\",LOOKUP(2,GEfectos!$C$4:$I$4,GEfectos!C50:I50),IF(EFECTOS!$N$9=\"GUATEMALA\",LOOKUP(3,GEfectos!$C$4:$I$4,GEfectos!C50:I50),IF(EFECTOS!$N$9=\"HONDURAS\",LOOKUP(4,GEfectos!$C$4:$I$4,GEfectos!C50:I50),IF(EFECTOS!$N$9=\"NICARAGUA\",LOOKUP(5,GEfectos!$C$4:$I$4,GEfectos!C50:I50),IF(EFECTOS!$N$9=\"REPÚBLICA \nDOMINICANA\",LOOKUP(6,$C$4:$I$4,C50:I50),IF(EFECTOS!$N$9=\"PANAMÁ\",LOOKUP(7,GEfectos!$C$4:$I$4,GEfectos!C50:I50))))))))","v":100.58413070421102},{"$f":"IF(EFECTOS!$N$9=\"COSTA RICA\",LOOKUP(1,GEfectos!$J$4:$P$4,GEfectos!J50:P50),IF(EFECTOS!$N$9=\"EL SALVADOR\",LOOKUP(2,GEfectos!$J$4:$P$4,GEfectos!J50:P50),IF(EFECTOS!$N$9=\"GUATEMALA\",LOOKUP(3,GEfectos!$J$4:$P$4,GEfectos!J50:P50),IF(EFECTOS!$N$9=\"HONDURAS\",LOOKUP(4,GEfectos!$J$4:$P$4,GEfectos!J50:P50),IF(EFECTOS!$N$9=\"NICARAGUA\",LOOKUP(5,GEfectos!$J$4:$P$4,GEfectos!J50:P50),IF(EFECTOS!$N$9=\"REPÚBLICA \nDOMINICANA\",LOOKUP(6,$J$4:$P$4,J50:P50),IF(EFECTOS!$N$9=\"PANAMÁ\",LOOKUP(7,GEfectos!$J$4:$P$4,GEfectos!J50:P50))))))))","v":87.306626392442041},{"$f":"IF(EFECTOS!$N$9=\"COSTA RICA\",LOOKUP(1,GEfectos!$Q$4:$W$4,GEfectos!Q50:W50),IF(EFECTOS!$N$9=\"EL SALVADOR\",LOOKUP(2,GEfectos!$Q$4:$W$4,GEfectos!Q50:W50),IF(EFECTOS!$N$9=\"GUATEMALA\",LOOKUP(3,GEfectos!$Q$4:$W$4,GEfectos!Q50:W50),IF(EFECTOS!$N$9=\"HONDURAS\",LOOKUP(4,GEfectos!$Q$4:$W$4,GEfectos!Q50:W50),IF(EFECTOS!$N$9=\"NICARAGUA\",LOOKUP(5,GEfectos!$Q$4:$W$4,GEfectos!Q50:W50),IF(EFECTOS!$N$9=\"REPÚBLICA \nDOMINICANA\",LOOKUP(6,$Q$4:$W$4,Q50:W50),IF(EFECTOS!$N$9=\"PANAMÁ\",LOOKUP(7,GEfectos!$Q$4:$W$4,GEfectos!Q50:W50))))))))","v":86.799603258674765},100]
[null,{"$f":"'ITCER GLOBAL'!B51","v":"Octubre"},{"$f":"'ITCER GLOBAL'!C51","v":102.22623697898166},{"$f":"'ITCER GLOBAL'!D51","v":104.13954831693287},{"$f":"'ITCER GLOBAL'!E51","v":92.53134955905908},{"$f":"'ITCER GLOBAL'!F51","v":109.80724086253328},{"$f":"'ITCER GLOBAL'!G51","v":103.61435636452565},{"$f":"'ITCER GLOBAL'!H51","v":104.87544622098784},{"$f":"'ITCER GLOBAL'!I51","v":100.49731856270256},{"$f":"'ITCER GLOBAL'!S51","v":88.735388782663932},{"$f":"'ITCER GLOBAL'!T51","v":108.9796539955484},{"$f":"'ITCER GLOBAL'!U51","v":88.640160654558386},{"$f":"'ITCER GLOBAL'!V51","v":95.280013877010845},{"$f":"'ITCER GLOBAL'!W51","v":89.479301063439848},{"$f":"'ITCER GLOBAL'!X51","v":94.470729035949546},{"$f":"'ITCER GLOBAL'!Y51","v":105.98133281218385},{"$f":"'ITCER GLOBAL'!AA51","v":86.802949423745758},{"$f":"'ITCER GLOBAL'!AB51","v":104.6477114188026},{"$f":"'ITCER GLOBAL'!AC51","v":95.794734516416938},{"$f":"'ITCER GLOBAL'!AD51","v":86.77024677843518},{"$f":"'ITCER GLOBAL'!AE51","v":86.358014664148214},{"$f":"'ITCER GLOBAL'!AF51","v":90.078976957948726},{"$f":"'ITCER GLOBAL'!AG51","v":105.45687619123858},null,{"$f":"IF(EFECTOS!$N$9=\"COSTA RICA\",LOOKUP(1,GEfectos!$C$4:$I$4,GEfectos!C51:I51),IF(EFECTOS!$N$9=\"EL SALVADOR\",LOOKUP(2,GEfectos!$C$4:$I$4,GEfectos!C51:I51),IF(EFECTOS!$N$9=\"GUATEMALA\",LOOKUP(3,GEfectos!$C$4:$I$4,GEfectos!C51:I51),IF(EFECTOS!$N$9=\"HONDURAS\",LOOKUP(4,GEfectos!$C$4:$I$4,GEfectos!C51:I51),IF(EFECTOS!$N$9=\"NICARAGUA\",LOOKUP(5,GEfectos!$C$4:$I$4,GEfectos!C51:I51),IF(EFECTOS!$N$9=\"REPÚBLICA \nDOMINICANA\",LOOKUP(6,$C$4:$I$4,C51:I51),IF(EFECTOS!$N$9=\"PANAMÁ\",LOOKUP(7,GEfectos!$C$4:$I$4,GEfectos!C51:I51))))))))","v":102.22623697898166},{"$f":"IF(EFECTOS!$N$9=\"COSTA RICA\",LOOKUP(1,GEfectos!$J$4:$P$4,GEfectos!J51:P51),IF(EFECTOS!$N$9=\"EL SALVADOR\",LOOKUP(2,GEfectos!$J$4:$P$4,GEfectos!J51:P51),IF(EFECTOS!$N$9=\"GUATEMALA\",LOOKUP(3,GEfectos!$J$4:$P$4,GEfectos!J51:P51),IF(EFECTOS!$N$9=\"HONDURAS\",LOOKUP(4,GEfectos!$J$4:$P$4,GEfectos!J51:P51),IF(EFECTOS!$N$9=\"NICARAGUA\",LOOKUP(5,GEfectos!$J$4:$P$4,GEfectos!J51:P51),IF(EFECTOS!$N$9=\"REPÚBLICA \nDOMINICANA\",LOOKUP(6,$J$4:$P$4,J51:P51),IF(EFECTOS!$N$9=\"PANAMÁ\",LOOKUP(7,GEfectos!$J$4:$P$4,GEfectos!J51:P51))))))))","v":88.735388782663932},{"$f":"IF(EFECTOS!$N$9=\"COSTA RICA\",LOOKUP(1,GEfectos!$Q$4:$W$4,GEfectos!Q51:W51),IF(EFECTOS!$N$9=\"EL SALVADOR\",LOOKUP(2,GEfectos!$Q$4:$W$4,GEfectos!Q51:W51),IF(EFECTOS!$N$9=\"GUATEMALA\",LOOKUP(3,GEfectos!$Q$4:$W$4,GEfectos!Q51:W51),IF(EFECTOS!$N$9=\"HONDURAS\",LOOKUP(4,GEfectos!$Q$4:$W$4,GEfectos!Q51:W51),IF(EFECTOS!$N$9=\"NICARAGUA\",LOOKUP(5,GEfectos!$Q$4:$W$4,GEfectos!Q51:W51),IF(EFECTOS!$N$9=\"REPÚBLICA \nDOMINICANA\",LOOKUP(6,$Q$4:$W$4,Q51:W51),IF(EFECTOS!$N$9=\"PANAMÁ\",LOOKUP(7,GEfectos!$Q$4:$W$4,GEfectos!Q51:W51))))))))","v":86.802949423745758},100]
[null,{"$f":"'ITCER GLOBAL'!B52","v":"Noviembre"},{"$f":"'ITCER GLOBAL'!C52","v":102.02804873753726},{"$f":"'ITCER GLOBAL'!D52","v":102.42645292156726},{"$f":"'ITCER GLOBAL'!E52","v":90.489543774858703},{"$f":"'ITCER GLOBAL'!F52","v":109.61308267191178},{"$f":"'ITCER GLOBAL'!G52","v":99.029322069060257},{"$f":"'ITCER GLOBAL'!H52","v":103.39044658776663},{"$f":"'ITCER GLOBAL'!I52","v":100.90032804069465},{"$f":"'ITCER GLOBAL'!S52","v":89.392982536346295},{"$f":"'ITCER GLOBAL'!T52","v":108.66510652029442},{"$f":"'ITCER GLOBAL'!U52","v":88.51420382735455},{"$f":"'ITCER GLOBAL'!V52","v":95.720657876684271},{"$f":"'ITCER GLOBAL'!W52","v":90.062974150126578},{"$f":"'ITCER GLOBAL'!X52","v":94.775662236220185},{"$f":"'ITCER GLOBAL'!Y52","v":106.04285939088716},{"$f":"'ITCER GLOBAL'!AA52","v":87.616085618089073},{"$f":"'ITCER GLOBAL'!AB52","v":106.09086170689166},{"$f":"'ITCER GLOBAL'!AC52","v":97.81705171105861},{"$f":"'ITCER GLOBAL'!AD52","v":87.325942801180389},{"$f":"'ITCER GLOBAL'!AE52","v":90.94576461638222},{"$f":"'ITCER GLOBAL'!AF52","v":91.66771724480995},{"$f":"'ITCER GLOBAL'!AG52","v":105.09664482767435},null,{"$f":"IF(EFECTOS!$N$9=\"COSTA RICA\",LOOKUP(1,GEfectos!$C$4:$I$4,GEfectos!C52:I52),IF(EFECTOS!$N$9=\"EL SALVADOR\",LOOKUP(2,GEfectos!$C$4:$I$4,GEfectos!C52:I52),IF(EFECTOS!$N$9=\"GUATEMALA\",LOOKUP(3,GEfectos!$C$4:$I$4,GEfectos!C52:I52),IF(EFECTOS!$N$9=\"HONDURAS\",LOOKUP(4,GEfectos!$C$4:$I$4,GEfectos!C52:I52),IF(EFECTOS!$N$9=\"NICARAGUA\",LOOKUP(5,GEfectos!$C$4:$I$4,GEfectos!C52:I52),IF(EFECTOS!$N$9=\"REPÚBLICA \nDOMINICANA\",LOOKUP(6,$C$4:$I$4,C52:I52),IF(EFECTOS!$N$9=\"PANAMÁ\",LOOKUP(7,GEfectos!$C$4:$I$4,GEfectos!C52:I52))))))))","v":102.02804873753726},{"$f":"IF(EFECTOS!$N$9=\"COSTA RICA\",LOOKUP(1,GEfectos!$J$4:$P$4,GEfectos!J52:P52),IF(EFECTOS!$N$9=\"EL SALVADOR\",LOOKUP(2,GEfectos!$J$4:$P$4,GEfectos!J52:P52),IF(EFECTOS!$N$9=\"GUATEMALA\",LOOKUP(3,GEfectos!$J$4:$P$4,GEfectos!J52:P52),IF(EFECTOS!$N$9=\"HONDURAS\",LOOKUP(4,GEfectos!$J$4:$P$4,GEfectos!J52:P52),IF(EFECTOS!$N$9=\"NICARAGUA\",LOOKUP(5,GEfectos!$J$4:$P$4,GEfectos!J52:P52),IF(EFECTOS!$N$9=\"REPÚBLICA \nDOMINICANA\",LOOKUP(6,$J$4:$P$4,J52:P52),IF(EFECTOS!$N$9=\"PANAMÁ\",LOOKUP(7,GEfectos!$J$4:$P$4,GEfectos!J52:P52))))))))","v":89.392982536346295},{"$f":"IF(EFECTOS!$N$9=\"COSTA RICA\",LOOKUP(1,GEfectos!$Q$4:$W$4,GEfectos!Q52:W52),IF(EFECTOS!$N$9=\"EL SALVADOR\",LOOKUP(2,GEfectos!$Q$4:$W$4,GEfectos!Q52:W52),IF(EFECTOS!$N$9=\"GUATEMALA\",LOOKUP(3,GEfectos!$Q$4:$W$4,GEfectos!Q52:W52),IF(EFECTOS!$N$9=\"HONDURAS\",LOOKUP(4,GEfectos!$Q$4:$W$4,GEfectos!Q52:W52),IF(EFECTOS!$N$9=\"NICARAGUA\",LOOKUP(5,GEfectos!$Q$4:$W$4,GEfectos!Q52:W52),IF(EFECTOS!$N$9=\"REPÚBLICA \nDOMINICANA\",LOOKUP(6,$Q$4:$W$4,Q52:W52),IF(EFECTOS!$N$9=\"PANAMÁ\",LOOKUP(7,GEfectos!$Q$4:$W$4,GEfectos!Q52:W52))))))))","v":87.616085618089073},100]
[null,{"$f":"'ITCER GLOBAL'!B53","v":"Diciembre"},{"$f":"'ITCER GLOBAL'!C53","v":102.54937622886926},{"$f":"'ITCER GLOBAL'!D53","v":102.60051624736225},{"$f":"'ITCER GLOBAL'!E53","v":92.70899906124157},{"$f":"'ITCER GLOBAL'!F53","v":109.62517846480478},{"$f":"'ITCER GLOBAL'!G53","v":99.180170085093806},{"$f":"'ITCER GLOBAL'!H53","v":102.11875519899355},{"$f":"'ITCER GLOBAL'!I53","v":101.93322571527207},{"$f":"'ITCER GLOBAL'!S53","v":90.393358898745305},{"$f":"'ITCER GLOBAL'!T53","v":108.44951034772659},{"$f":"'ITCER GLOBAL'!U53","v":90.898625299514691},{"$f":"'ITCER GLOBAL'!V53","v":96.283360731632584},{"$f":"'ITCER GLOBAL'!W53","v":90.922166613226025},{"$f":"'ITCER GLOBAL'!X53","v":94.838862305270993},{"$f":"'ITCER GLOBAL'!Y53","v":106.87494370929251},{"$f":"'ITCER GLOBAL'!AA53","v":88.14618111084927},{"$f":"'ITCER GLOBAL'!AB53","v":105.70074529280421},{"$f":"'ITCER GLOBAL'!AC53","v":98.04725131318591},{"$f":"'ITCER GLOBAL'!AD53","v":87.829604548871416},{"$f":"'ITCER GLOBAL'!AE53","v":91.673735319487122},{"$f":"'ITCER GLOBAL'!AF53","v":92.871149986565527},{"$f":"'ITCER GLOBAL'!AG53","v":104.84799530216384},null,{"$f":"IF(EFECTOS!$N$9=\"COSTA RICA\",LOOKUP(1,GEfectos!$C$4:$I$4,GEfectos!C53:I53),IF(EFECTOS!$N$9=\"EL SALVADOR\",LOOKUP(2,GEfectos!$C$4:$I$4,GEfectos!C53:I53),IF(EFECTOS!$N$9=\"GUATEMALA\",LOOKUP(3,GEfectos!$C$4:$I$4,GEfectos!C53:I53),IF(EFECTOS!$N$9=\"HONDURAS\",LOOKUP(4,GEfectos!$C$4:$I$4,GEfectos!C53:I53),IF(EFECTOS!$N$9=\"NICARAGUA\",LOOKUP(5,GEfectos!$C$4:$I$4,GEfectos!C53:I53),IF(EFECTOS!$N$9=\"REPÚBLICA \nDOMINICANA\",LOOKUP(6,$C$4:$I$4,C53:I53),IF(EFECTOS!$N$9=\"PANAMÁ\",LOOKUP(7,GEfectos!$C$4:$I$4,GEfectos!C53:I53))))))))","v":102.54937622886926},{"$f":"IF(EFECTOS!$N$9=\"COSTA RICA\",LOOKUP(1,GEfectos!$J$4:$P$4,GEfectos!J53:P53),IF(EFECTOS!$N$9=\"EL SALVADOR\",LOOKUP(2,GEfectos!$J$4:$P$4,GEfectos!J53:P53),IF(EFECTOS!$N$9=\"GUATEMALA\",LOOKUP(3,GEfectos!$J$4:$P$4,GEfectos!J53:P53),IF(EFECTOS!$N$9=\"HONDURAS\",LOOKUP(4,GEfectos!$J$4:$P$4,GEfectos!J53:P53),IF(EFECTOS!$N$9=\"NICARAGUA\",LOOKUP(5,GEfectos!$J$4:$P$4,GEfectos!J53:P53),IF(EFECTOS!$N$9=\"REPÚBLICA \nDOMINICANA\",LOOKUP(6,$J$4:$P$4,J53:P53),IF(EFECTOS!$N$9=\"PANAMÁ\",LOOKUP(7,GEfectos!$J$4:$P$4,GEfectos!J53:P53))))))))","v":90.393358898745305},{"$f":"IF(EFECTOS!$N$9=\"COSTA RICA\",LOOKUP(1,GEfectos!$Q$4:$W$4,GEfectos!Q53:W53),IF(EFECTOS!$N$9=\"EL SALVADOR\",LOOKUP(2,GEfectos!$Q$4:$W$4,GEfectos!Q53:W53),IF(EFECTOS!$N$9=\"GUATEMALA\",LOOKUP(3,GEfectos!$Q$4:$W$4,GEfectos!Q53:W53),IF(EFECTOS!$N$9=\"HONDURAS\",LOOKUP(4,GEfectos!$Q$4:$W$4,GEfectos!Q53:W53),IF(EFECTOS!$N$9=\"NICARAGUA\",LOOKUP(5,GEfectos!$Q$4:$W$4,GEfectos!Q53:W53),IF(EFECTOS!$N$9=\"REPÚBLICA \nDOMINICANA\",LOOKUP(6,$Q$4:$W$4,Q53:W53),IF(EFECTOS!$N$9=\"PANAMÁ\",LOOKUP(7,GEfectos!$Q$4:$W$4,GEfectos!Q53:W53))))))))","v":88.14618111084927},100]
[1999,{"$f":"'ITCER GLOBAL'!B54","v":"Enero"},{"$f":"'ITCER GLOBAL'!C54","v":100.15692155075689},{"$f":"'ITCER GLOBAL'!D54","v":101.4364512401871},{"$f":"'ITCER GLOBAL'!E54","v":95.921025493510143},{"$f":"'ITCER GLOBAL'!F54","v":108.23050900795666},{"$f":"'ITCER GLOBAL'!G54","v":100.50852269270074},{"$f":"'ITCER GLOBAL'!H54","v":103.49976274219033},{"$f":"'ITCER GLOBAL'!I54","v":99.959767978358926},{"$f":"'ITCER GLOBAL'!S54","v":89.410310262614942},{"$f":"'ITCER GLOBAL'!T54","v":107.11535223452692},{"$f":"'ITCER GLOBAL'!U54","v":93.415996489204346},{"$f":"'ITCER GLOBAL'!V54","v":96.447978966380461},{"$f":"'ITCER GLOBAL'!W54","v":91.8356838620101},{"$f":"'ITCER GLOBAL'!X54","v":95.262712971496853},{"$f":"'ITCER GLOBAL'!Y54","v":104.57534232446352},{"$f":"'ITCER GLOBAL'!AA54","v":89.270226039549499},{"$f":"'ITCER GLOBAL'!AB54","v":105.59848153687179},{"$f":"'ITCER GLOBAL'!AC54","v":97.388446389707042},{"$f":"'ITCER GLOBAL'!AD54","v":89.113485513858208},{"$f":"'ITCER GLOBAL'!AE54","v":91.371041382025524},{"$f":"'ITCER GLOBAL'!AF54","v":92.041479562410871},{"$f":"'ITCER GLOBAL'!AG54","v":104.61743203235912},null,{"$f":"IF(EFECTOS!$N$9=\"COSTA RICA\",LOOKUP(1,GEfectos!$C$4:$I$4,GEfectos!C54:I54),IF(EFECTOS!$N$9=\"EL SALVADOR\",LOOKUP(2,GEfectos!$C$4:$I$4,GEfectos!C54:I54),IF(EFECTOS!$N$9=\"GUATEMALA\",LOOKUP(3,GEfectos!$C$4:$I$4,GEfectos!C54:I54),IF(EFECTOS!$N$9=\"HONDURAS\",LOOKUP(4,GEfectos!$C$4:$I$4,GEfectos!C54:I54),IF(EFECTOS!$N$9=\"NICARAGUA\",LOOKUP(5,GEfectos!$C$4:$I$4,GEfectos!C54:I54),IF(EFECTOS!$N$9=\"REPÚBLICA \nDOMINICANA\",LOOKUP(6,$C$4:$I$4,C54:I54),IF(EFECTOS!$N$9=\"PANAMÁ\",LOOKUP(7,GEfectos!$C$4:$I$4,GEfectos!C54:I54))))))))","v":100.15692155075689},{"$f":"IF(EFECTOS!$N$9=\"COSTA RICA\",LOOKUP(1,GEfectos!$J$4:$P$4,GEfectos!J54:P54),IF(EFECTOS!$N$9=\"EL SALVADOR\",LOOKUP(2,GEfectos!$J$4:$P$4,GEfectos!J54:P54),IF(EFECTOS!$N$9=\"GUATEMALA\",LOOKUP(3,GEfectos!$J$4:$P$4,GEfectos!J54:P54),IF(EFECTOS!$N$9=\"HONDURAS\",LOOKUP(4,GEfectos!$J$4:$P$4,GEfectos!J54:P54),IF(EFECTOS!$N$9=\"NICARAGUA\",LOOKUP(5,GEfectos!$J$4:$P$4,GEfectos!J54:P54),IF(EFECTOS!$N$9=\"REPÚBLICA \nDOMINICANA\",LOOKUP(6,$J$4:$P$4,J54:P54),IF(EFECTOS!$N$9=\"PANAMÁ\",LOOKUP(7,GEfectos!$J$4:$P$4,GEfectos!J54:P54))))))))","v":89.410310262614942},{"$f":"IF(EFECTOS!$N$9=\"COSTA RICA\",LOOKUP(1,GEfectos!$Q$4:$W$4,GEfectos!Q54:W54),IF(EFECTOS!$N$9=\"EL SALVADOR\",LOOKUP(2,GEfectos!$Q$4:$W$4,GEfectos!Q54:W54),IF(EFECTOS!$N$9=\"GUATEMALA\",LOOKUP(3,GEfectos!$Q$4:$W$4,GEfectos!Q54:W54),IF(EFECTOS!$N$9=\"HONDURAS\",LOOKUP(4,GEfectos!$Q$4:$W$4,GEfectos!Q54:W54),IF(EFECTOS!$N$9=\"NICARAGUA\",LOOKUP(5,GEfectos!$Q$4:$W$4,GEfectos!Q54:W54),IF(EFECTOS!$N$9=\"REPÚBLICA \nDOMINICANA\",LOOKUP(6,$Q$4:$W$4,Q54:W54),IF(EFECTOS!$N$9=\"PANAMÁ\",LOOKUP(7,GEfectos!$Q$4:$W$4,GEfectos!Q54:W54))))))))","v":89.270226039549499},100]
[null,{"$f":"'ITCER GLOBAL'!B55","v":"Febrero"},{"$f":"'ITCER GLOBAL'!C55","v":100.04574464295611},{"$f":"'ITCER GLOBAL'!D55","v":101.47307688250771},{"$f":"'ITCER GLOBAL'!E55","v":94.825874548756573},{"$f":"'ITCER GLOBAL'!F55","v":107.22869088848771},{"$f":"'ITCER GLOBAL'!G55","v":101.49535260050912},{"$f":"'ITCER GLOBAL'!H55","v":105.44497909307837},{"$f":"'ITCER GLOBAL'!I55","v":99.552121874603088},{"$f":"'ITCER GLOBAL'!S55","v":89.808114769998298},{"$f":"'ITCER GLOBAL'!T55","v":106.69495443245809},{"$f":"'ITCER GLOBAL'!U55","v":91.656545160752586},{"$f":"'ITCER GLOBAL'!V55","v":96.262821395424439},{"$f":"'ITCER GLOBAL'!W55","v":92.197116390867777},{"$f":"'ITCER GLOBAL'!X55","v":96.621053340467284},{"$f":"'ITCER GLOBAL'!Y55","v":103.90583605942261},{"$f":"'ITCER GLOBAL'!AA55","v":89.767051152956157},{"$f":"'ITCER GLOBAL'!AB55","v":105.14607195364403},{"$f":"'ITCER GLOBAL'!AC55","v":96.657737771377583},{"$f":"'ITCER GLOBAL'!AD55","v":89.77338117046753},{"$f":"'ITCER GLOBAL'!AE55","v":90.838756680574647},{"$f":"'ITCER GLOBAL'!AF55","v":91.631725067893427},{"$f":"'ITCER GLOBAL'!AG55","v":104.37330124445113},null,{"$f":"IF(EFECTOS!$N$9=\"COSTA RICA\",LOOKUP(1,GEfectos!$C$4:$I$4,GEfectos!C55:I55),IF(EFECTOS!$N$9=\"EL SALVADOR\",LOOKUP(2,GEfectos!$C$4:$I$4,GEfectos!C55:I55),IF(EFECTOS!$N$9=\"GUATEMALA\",LOOKUP(3,GEfectos!$C$4:$I$4,GEfectos!C55:I55),IF(EFECTOS!$N$9=\"HONDURAS\",LOOKUP(4,GEfectos!$C$4:$I$4,GEfectos!C55:I55),IF(EFECTOS!$N$9=\"NICARAGUA\",LOOKUP(5,GEfectos!$C$4:$I$4,GEfectos!C55:I55),IF(EFECTOS!$N$9=\"REPÚBLICA \nDOMINICANA\",LOOKUP(6,$C$4:$I$4,C55:I55),IF(EFECTOS!$N$9=\"PANAMÁ\",LOOKUP(7,GEfectos!$C$4:$I$4,GEfectos!C55:I55))))))))","v":100.04574464295611},{"$f":"IF(EFECTOS!$N$9=\"COSTA RICA\",LOOKUP(1,GEfectos!$J$4:$P$4,GEfectos!J55:P55),IF(EFECTOS!$N$9=\"EL SALVADOR\",LOOKUP(2,GEfectos!$J$4:$P$4,GEfectos!J55:P55),IF(EFECTOS!$N$9=\"GUATEMALA\",LOOKUP(3,GEfectos!$J$4:$P$4,GEfectos!J55:P55),IF(EFECTOS!$N$9=\"HONDURAS\",LOOKUP(4,GEfectos!$J$4:$P$4,GEfectos!J55:P55),IF(EFECTOS!$N$9=\"NICARAGUA\",LOOKUP(5,GEfectos!$J$4:$P$4,GEfectos!J55:P55),IF(EFECTOS!$N$9=\"REPÚBLICA \nDOMINICANA\",LOOKUP(6,$J$4:$P$4,J55:P55),IF(EFECTOS!$N$9=\"PANAMÁ\",LOOKUP(7,GEfectos!$J$4:$P$4,GEfectos!J55:P55))))))))","v":89.808114769998298},{"$f":"IF(EFECTOS!$N$9=\"COSTA RICA\",LOOKUP(1,GEfectos!$Q$4:$W$4,GEfectos!Q55:W55),IF(EFECTOS!$N$9=\"EL SALVADOR\",LOOKUP(2,GEfectos!$Q$4:$W$4,GEfectos!Q55:W55),IF(EFECTOS!$N$9=\"GUATEMALA\",LOOKUP(3,GEfectos!$Q$4:$W$4,GEfectos!Q55:W55),IF(EFECTOS!$N$9=\"HONDURAS\",LOOKUP(4,GEfectos!$Q$4:$W$4,GEfectos!Q55:W55),IF(EFECTOS!$N$9=\"NICARAGUA\",LOOKUP(5,GEfectos!$Q$4:$W$4,GEfectos!Q55:W55),IF(EFECTOS!$N$9=\"REPÚBLICA \nDOMINICANA\",LOOKUP(6,$Q$4:$W$4,Q55:W55),IF(EFECTOS!$N$9=\"PANAMÁ\",LOOKUP(7,GEfectos!$Q$4:$W$4,GEfectos!Q55:W55))))))))","v":89.767051152956157},100]
[null,{"$f":"'ITCER GLOBAL'!B56","v":"Marzo"},{"$f":"'ITCER GLOBAL'!C56","v":101.34035874253665},{"$f":"'ITCER GLOBAL'!D56","v":101.26115852695057},{"$f":"'ITCER GLOBAL'!E56","v":96.695812722882636},{"$f":"'ITCER GLOBAL'!F56","v":107.02710530617827},{"$f":"'ITCER GLOBAL'!G56","v":104.02404407241299},{"$f":"'ITCER GLOBAL'!H56","v":106.00823123817187},{"$f":"'ITCER GLOBAL'!I56","v":99.280224985122814},{"$f":"'ITCER GLOBAL'!S56","v":90.403431485880702},{"$f":"'ITCER GLOBAL'!T56","v":106.14366720246279},{"$f":"'ITCER GLOBAL'!U56","v":92.802680994473022},{"$f":"'ITCER GLOBAL'!V56","v":96.253464657608006},{"$f":"'ITCER GLOBAL'!W56","v":92.530900860892828},{"$f":"'ITCER GLOBAL'!X56","v":97.349058628751735},{"$f":"'ITCER GLOBAL'!Y56","v":103.53512481542531},{"$f":"'ITCER GLOBAL'!AA56","v":89.207727905875984},{"$f":"'ITCER GLOBAL'!AB56","v":104.82169940235551},{"$f":"'ITCER GLOBAL'!AC56","v":95.973836282273354},{"$f":"'ITCER GLOBAL'!AD56","v":89.933726958465783},{"$f":"'ITCER GLOBAL'!AE56","v":88.951455104437599},{"$f":"'ITCER GLOBAL'!AF56","v":91.831603538440973},{"$f":"'ITCER GLOBAL'!AG56","v":104.28574757051577},null,{"$f":"IF(EFECTOS!$N$9=\"COSTA RICA\",LOOKUP(1,GEfectos!$C$4:$I$4,GEfectos!C56:I56),IF(EFECTOS!$N$9=\"EL SALVADOR\",LOOKUP(2,GEfectos!$C$4:$I$4,GEfectos!C56:I56),IF(EFECTOS!$N$9=\"GUATEMALA\",LOOKUP(3,GEfectos!$C$4:$I$4,GEfectos!C56:I56),IF(EFECTOS!$N$9=\"HONDURAS\",LOOKUP(4,GEfectos!$C$4:$I$4,GEfectos!C56:I56),IF(EFECTOS!$N$9=\"NICARAGUA\",LOOKUP(5,GEfectos!$C$4:$I$4,GEfectos!C56:I56),IF(EFECTOS!$N$9=\"REPÚBLICA \nDOMINICANA\",LOOKUP(6,$C$4:$I$4,C56:I56),IF(EFECTOS!$N$9=\"PANAMÁ\",LOOKUP(7,GEfectos!$C$4:$I$4,GEfectos!C56:I56))))))))","v":101.34035874253665},{"$f":"IF(EFECTOS!$N$9=\"COSTA RICA\",LOOKUP(1,GEfectos!$J$4:$P$4,GEfectos!J56:P56),IF(EFECTOS!$N$9=\"EL SALVADOR\",LOOKUP(2,GEfectos!$J$4:$P$4,GEfectos!J56:P56),IF(EFECTOS!$N$9=\"GUATEMALA\",LOOKUP(3,GEfectos!$J$4:$P$4,GEfectos!J56:P56),IF(EFECTOS!$N$9=\"HONDURAS\",LOOKUP(4,GEfectos!$J$4:$P$4,GEfectos!J56:P56),IF(EFECTOS!$N$9=\"NICARAGUA\",LOOKUP(5,GEfectos!$J$4:$P$4,GEfectos!J56:P56),IF(EFECTOS!$N$9=\"REPÚBLICA \nDOMINICANA\",LOOKUP(6,$J$4:$P$4,J56:P56),IF(EFECTOS!$N$9=\"PANAMÁ\",LOOKUP(7,GEfectos!$J$4:$P$4,GEfectos!J56:P56))))))))","v":90.403431485880702},{"$f":"IF(EFECTOS!$N$9=\"COSTA RICA\",LOOKUP(1,GEfectos!$Q$4:$W$4,GEfectos!Q56:W56),IF(EFECTOS!$N$9=\"EL SALVADOR\",LOOKUP(2,GEfectos!$Q$4:$W$4,GEfectos!Q56:W56),IF(EFECTOS!$N$9=\"GUATEMALA\",LOOKUP(3,GEfectos!$Q$4:$W$4,GEfectos!Q56:W56),IF(EFECTOS!$N$9=\"HONDURAS\",LOOKUP(4,GEfectos!$Q$4:$W$4,GEfectos!Q56:W56),IF(EFECTOS!$N$9=\"NICARAGUA\",LOOKUP(5,GEfectos!$Q$4:$W$4,GEfectos!Q56:W56),IF(EFECTOS!$N$9=\"REPÚBLICA \nDOMINICANA\",LOOKUP(6,$Q$4:$W$4,Q56:W56),IF(EFECTOS!$N$9=\"PANAMÁ\",LOOKUP(7,GEfectos!$Q$4:$W$4,GEfectos!Q56:W56))))))))","v":89.207727905875984},100]
[null,{"$f":"'ITCER GLOBAL'!B57","v":"Abril"},{"$f":"'ITCER GLOBAL'!C57","v":102.58763998634127},{"$f":"'ITCER GLOBAL'!D57","v":102.01260922369953},{"$f":"'ITCER GLOBAL'!E57","v":98.447656303619439},{"$f":"'ITCER GLOBAL'!F57","v":107.52095966211172},{"$f":"'ITCER GLOBAL'!G57","v":104.791967155902},{"$f":"'ITCER GLOBAL'!H57","v":106.47224716927941},{"$f":"'ITCER GLOBAL'!I57","v":99.715795900127063},{"$f":"'ITCER GLOBAL'!S57","v":91.09172810191896},{"$f":"'ITCER GLOBAL'!T57","v":105.81613657275048},{"$f":"'ITCER GLOBAL'!U57","v":94.238794253990974},{"$f":"'ITCER GLOBAL'!V57","v":96.509276802775005},{"$f":"'ITCER GLOBAL'!W57","v":93.15630015047519},{"$f":"'ITCER GLOBAL'!X57","v":97.38613385537856},{"$f":"'ITCER GLOBAL'!Y57","v":103.49064961351948},{"$f":"'ITCER GLOBAL'!AA57","v":88.794057562925815},{"$f":"'ITCER GLOBAL'!AB57","v":103.72848746639774},{"$f":"'ITCER GLOBAL'!AC57","v":95.724771713561125},{"$f":"'ITCER GLOBAL'!AD57","v":89.758570892650795},{"$f":"'ITCER GLOBAL'!AE57","v":88.896413225914444},{"$f":"'ITCER GLOBAL'!AF57","v":91.466214384059256},{"$f":"'ITCER GLOBAL'!AG57","v":103.7856125795488},null,{"$f":"IF(EFECTOS!$N$9=\"COSTA RICA\",LOOKUP(1,GEfectos!$C$4:$I$4,GEfectos!C57:I57),IF(EFECTOS!$N$9=\"EL SALVADOR\",LOOKUP(2,GEfectos!$C$4:$I$4,GEfectos!C57:I57),IF(EFECTOS!$N$9=\"GUATEMALA\",LOOKUP(3,GEfectos!$C$4:$I$4,GEfectos!C57:I57),IF(EFECTOS!$N$9=\"HONDURAS\",LOOKUP(4,GEfectos!$C$4:$I$4,GEfectos!C57:I57),IF(EFECTOS!$N$9=\"NICARAGUA\",LOOKUP(5,GEfectos!$C$4:$I$4,GEfectos!C57:I57),IF(EFECTOS!$N$9=\"REPÚBLICA \nDOMINICANA\",LOOKUP(6,$C$4:$I$4,C57:I57),IF(EFECTOS!$N$9=\"PANAMÁ\",LOOKUP(7,GEfectos!$C$4:$I$4,GEfectos!C57:I57))))))))","v":102.58763998634127},{"$f":"IF(EFECTOS!$N$9=\"COSTA RICA\",LOOKUP(1,GEfectos!$J$4:$P$4,GEfectos!J57:P57),IF(EFECTOS!$N$9=\"EL SALVADOR\",LOOKUP(2,GEfectos!$J$4:$P$4,GEfectos!J57:P57),IF(EFECTOS!$N$9=\"GUATEMALA\",LOOKUP(3,GEfectos!$J$4:$P$4,GEfectos!J57:P57),IF(EFECTOS!$N$9=\"HONDURAS\",LOOKUP(4,GEfectos!$J$4:$P$4,GEfectos!J57:P57),IF(EFECTOS!$N$9=\"NICARAGUA\",LOOKUP(5,GEfectos!$J$4:$P$4,GEfectos!J57:P57),IF(EFECTOS!$N$9=\"REPÚBLICA \nDOMINICANA\",LOOKUP(6,$J$4:$P$4,J57:P57),IF(EFECTOS!$N$9=\"PANAMÁ\",LOOKUP(7,GEfectos!$J$4:$P$4,GEfectos!J57:P57))))))))","v":91.09172810191896},{"$f":"IF(EFECTOS!$N$9=\"COSTA RICA\",LOOKUP(1,GEfectos!$Q$4:$W$4,GEfectos!Q57:W57),IF(EFECTOS!$N$9=\"EL SALVADOR\",LOOKUP(2,GEfectos!$Q$4:$W$4,GEfectos!Q57:W57),IF(EFECTOS!$N$9=\"GUATEMALA\",LOOKUP(3,GEfectos!$Q$4:$W$4,GEfectos!Q57:W57),IF(EFECTOS!$N$9=\"HONDURAS\",LOOKUP(4,GEfectos!$Q$4:$W$4,GEfectos!Q57:W57),IF(EFECTOS!$N$9=\"NICARAGUA\",LOOKUP(5,GEfectos!$Q$4:$W$4,GEfectos!Q57:W57),IF(EFECTOS!$N$9=\"REPÚBLICA \nDOMINICANA\",LOOKUP(6,$Q$4:$W$4,Q57:W57),IF(EFECTOS!$N$9=\"PANAMÁ\",LOOKUP(7,GEfectos!$Q$4:$W$4,GEfectos!Q57:W57))))))))","v":88.794057562925815},100]
[null,{"$f":"'ITCER GLOBAL'!B58","v":"Mayo"},{"$f":"'ITCER GLOBAL'!C58","v":102.45066408403105},{"$f":"'ITCER GLOBAL'!D58","v":102.2602367221259},{"$f":"'ITCER GLOBAL'!E58","v":100.30854491503172},{"$f":"'ITCER GLOBAL'!F58","v":106.82421596959273},{"$f":"'ITCER GLOBAL'!G58","v":104.04301358845785},{"$f":"'ITCER GLOBAL'!H58","v":106.43278852595338},{"$f":"'ITCER GLOBAL'!I58","v":99.385287603882759},{"$f":"'ITCER GLOBAL'!S58","v":91.643683379385436},{"$f":"'ITCER GLOBAL'!T58","v":105.06231647300149},{"$f":"'ITCER GLOBAL'!U58","v":96.699804876706651},{"$f":"'ITCER GLOBAL'!V58","v":96.502844282448763},{"$f":"'ITCER GLOBAL'!W58","v":93.582098328787012},{"$f":"'ITCER GLOBAL'!X58","v":97.288604161286273},{"$f":"'ITCER GLOBAL'!Y58","v":103.03394610366054},{"$f":"'ITCER GLOBAL'!AA58","v":89.451526936144006},{"$f":"'ITCER GLOBAL'!AB58","v":102.74014596552298},{"$f":"'ITCER GLOBAL'!AC58","v":96.402360296042659},{"$f":"'ITCER GLOBAL'!AD58","v":90.337985078138161},{"$f":"'ITCER GLOBAL'!AE58","v":89.945586062079101},{"$f":"'ITCER GLOBAL'!AF58","v":91.408489346835694},{"$f":"'ITCER GLOBAL'!AG58","v":103.6712259809723},null,{"$f":"IF(EFECTOS!$N$9=\"COSTA RICA\",LOOKUP(1,GEfectos!$C$4:$I$4,GEfectos!C58:I58),IF(EFECTOS!$N$9=\"EL SALVADOR\",LOOKUP(2,GEfectos!$C$4:$I$4,GEfectos!C58:I58),IF(EFECTOS!$N$9=\"GUATEMALA\",LOOKUP(3,GEfectos!$C$4:$I$4,GEfectos!C58:I58),IF(EFECTOS!$N$9=\"HONDURAS\",LOOKUP(4,GEfectos!$C$4:$I$4,GEfectos!C58:I58),IF(EFECTOS!$N$9=\"NICARAGUA\",LOOKUP(5,GEfectos!$C$4:$I$4,GEfectos!C58:I58),IF(EFECTOS!$N$9=\"REPÚBLICA \nDOMINICANA\",LOOKUP(6,$C$4:$I$4,C58:I58),IF(EFECTOS!$N$9=\"PANAMÁ\",LOOKUP(7,GEfectos!$C$4:$I$4,GEfectos!C58:I58))))))))","v":102.45066408403105},{"$f":"IF(EFECTOS!$N$9=\"COSTA RICA\",LOOKUP(1,GEfectos!$J$4:$P$4,GEfectos!J58:P58),IF(EFECTOS!$N$9=\"EL SALVADOR\",LOOKUP(2,GEfectos!$J$4:$P$4,GEfectos!J58:P58),IF(EFECTOS!$N$9=\"GUATEMALA\",LOOKUP(3,GEfectos!$J$4:$P$4,GEfectos!J58:P58),IF(EFECTOS!$N$9=\"HONDURAS\",LOOKUP(4,GEfectos!$J$4:$P$4,GEfectos!J58:P58),IF(EFECTOS!$N$9=\"NICARAGUA\",LOOKUP(5,GEfectos!$J$4:$P$4,GEfectos!J58:P58),IF(EFECTOS!$N$9=\"REPÚBLICA \nDOMINICANA\",LOOKUP(6,$J$4:$P$4,J58:P58),IF(EFECTOS!$N$9=\"PANAMÁ\",LOOKUP(7,GEfectos!$J$4:$P$4,GEfectos!J58:P58))))))))","v":91.643683379385436},{"$f":"IF(EFECTOS!$N$9=\"COSTA RICA\",LOOKUP(1,GEfectos!$Q$4:$W$4,GEfectos!Q58:W58),IF(EFECTOS!$N$9=\"EL SALVADOR\",LOOKUP(2,GEfectos!$Q$4:$W$4,GEfectos!Q58:W58),IF(EFECTOS!$N$9=\"GUATEMALA\",LOOKUP(3,GEfectos!$Q$4:$W$4,GEfectos!Q58:W58),IF(EFECTOS!$N$9=\"HONDURAS\",LOOKUP(4,GEfectos!$Q$4:$W$4,GEfectos!Q58:W58),IF(EFECTOS!$N$9=\"NICARAGUA\",LOOKUP(5,GEfectos!$Q$4:$W$4,GEfectos!Q58:W58),IF(EFECTOS!$N$9=\"REPÚBLICA \nDOMINICANA\",LOOKUP(6,$Q$4:$W$4,Q58:W58),IF(EFECTOS!$N$9=\"PANAMÁ\",LOOKUP(7,GEfectos!$Q$4:$W$4,GEfectos!Q58:W58))))))))","v":89.451526936144006},100]
[null,{"$f":"'ITCER GLOBAL'!B59","v":"Junio"},{"$f":"'ITCER GLOBAL'!C59","v":101.57909652948841},{"$f":"'ITCER GLOBAL'!D59","v":101.90501109177602},{"$f":"'ITCER GLOBAL'!E59","v":100.63054851718074},{"$f":"'ITCER GLOBAL'!F59","v":105.73518953032611},{"$f":"'ITCER GLOBAL'!G59","v":103.87455336972779},{"$f":"'ITCER GLOBAL'!H59","v":106.62657368466935},{"$f":"'ITCER GLOBAL'!I59","v":98.927533321309625},{"$f":"'ITCER GLOBAL'!S59","v":92.078608669296131},{"$f":"'ITCER GLOBAL'!T59","v":104.32494878029053},{"$f":"'ITCER GLOBAL'!U59","v":97.535193252512954},{"$f":"'ITCER GLOBAL'!V59","v":96.547671232231721},{"$f":"'ITCER GLOBAL'!W59","v":93.920400584714187},{"$f":"'ITCER GLOBAL'!X59","v":96.934608330466205},{"$f":"'ITCER GLOBAL'!Y59","v":102.6497321188351},{"$f":"'ITCER GLOBAL'!AA59","v":90.64720185079193},{"$f":"'ITCER GLOBAL'!AB59","v":102.37469940151924},{"$f":"'ITCER GLOBAL'!AC59","v":96.924040154526907},{"$f":"'ITCER GLOBAL'!AD59","v":91.310822500148547},{"$f":"'ITCER GLOBAL'!AE59","v":90.417140231079387},{"$f":"'ITCER GLOBAL'!AF59","v":90.910365944173023},{"$f":"'ITCER GLOBAL'!AG59","v":103.76255090222055},null,{"$f":"IF(EFECTOS!$N$9=\"COSTA RICA\",LOOKUP(1,GEfectos!$C$4:$I$4,GEfectos!C59:I59),IF(EFECTOS!$N$9=\"EL SALVADOR\",LOOKUP(2,GEfectos!$C$4:$I$4,GEfectos!C59:I59),IF(EFECTOS!$N$9=\"GUATEMALA\",LOOKUP(3,GEfectos!$C$4:$I$4,GEfectos!C59:I59),IF(EFECTOS!$N$9=\"HONDURAS\",LOOKUP(4,GEfectos!$C$4:$I$4,GEfectos!C59:I59),IF(EFECTOS!$N$9=\"NICARAGUA\",LOOKUP(5,GEfectos!$C$4:$I$4,GEfectos!C59:I59),IF(EFECTOS!$N$9=\"REPÚBLICA \nDOMINICANA\",LOOKUP(6,$C$4:$I$4,C59:I59),IF(EFECTOS!$N$9=\"PANAMÁ\",LOOKUP(7,GEfectos!$C$4:$I$4,GEfectos!C59:I59))))))))","v":101.57909652948841},{"$f":"IF(EFECTOS!$N$9=\"COSTA RICA\",LOOKUP(1,GEfectos!$J$4:$P$4,GEfectos!J59:P59),IF(EFECTOS!$N$9=\"EL SALVADOR\",LOOKUP(2,GEfectos!$J$4:$P$4,GEfectos!J59:P59),IF(EFECTOS!$N$9=\"GUATEMALA\",LOOKUP(3,GEfectos!$J$4:$P$4,GEfectos!J59:P59),IF(EFECTOS!$N$9=\"HONDURAS\",LOOKUP(4,GEfectos!$J$4:$P$4,GEfectos!J59:P59),IF(EFECTOS!$N$9=\"NICARAGUA\",LOOKUP(5,GEfectos!$J$4:$P$4,GEfectos!J59:P59),IF(EFECTOS!$N$9=\"REPÚBLICA \nDOMINICANA\",LOOKUP(6,$J$4:$P$4,J59:P59),IF(EFECTOS!$N$9=\"PANAMÁ\",LOOKUP(7,GEfectos!$J$4:$P$4,GEfectos!J59:P59))))))))","v":92.078608669296131},{"$f":"IF(EFECTOS!$N$9=\"COSTA RICA\",LOOKUP(1,GEfectos!$Q$4:$W$4,GEfectos!Q59:W59),IF(EFECTOS!$N$9=\"EL SALVADOR\",LOOKUP(2,GEfectos!$Q$4:$W$4,GEfectos!Q59:W59),IF(EFECTOS!$N$9=\"GUATEMALA\",LOOKUP(3,GEfectos!$Q$4:$W$4,GEfectos!Q59:W59),IF(EFECTOS!$N$9=\"HONDURAS\",LOOKUP(4,GEfectos!$Q$4:$W$4,GEfectos!Q59:W59),IF(EFECTOS!$N$9=\"NICARAGUA\",LOOKUP(5,GEfectos!$Q$4:$W$4,GEfectos!Q59:W59),IF(EFECTOS!$N$9=\"REPÚBLICA \nDOMINICANA\",LOOKUP(6,$Q$4:$W$4,Q59:W59),IF(EFECTOS!$N$9=\"PANAMÁ\",LOOKUP(7,GEfectos!$Q$4:$W$4,GEfectos!Q59:W59))))))))","v":90.64720185079193},100]
[null,{"$f":"'ITCER GLOBAL'!B60","v":"Julio"},{"$f":"'ITCER GLOBAL'!C60","v":102.40654343302097},{"$f":"'ITCER GLOBAL'!D60","v":101.62788593266279},{"$f":"'ITCER GLOBAL'!E60","v":100.01497205584792},{"$f":"'ITCER GLOBAL'!F60","v":105.58995942695009},{"$f":"'ITCER GLOBAL'!G60","v":104.16303923352578},{"$f":"'ITCER GLOBAL'!H60","v":107.16025361139879},{"$f":"'ITCER GLOBAL'!I60","v":98.826927798117694},{"$f":"'ITCER GLOBAL'!S60","v":92.770616558006395},{"$f":"'ITCER GLOBAL'!T60","v":104.16537940319921},{"$f":"'ITCER GLOBAL'!U60","v":97.870682900105166},{"$f":"'ITCER GLOBAL'!V60","v":96.814941404421575},{"$f":"'ITCER GLOBAL'!W60","v":94.606636906438666},{"$f":"'ITCER GLOBAL'!X60","v":96.913196721906004},{"$f":"'ITCER GLOBAL'!Y60","v":102.47333111438321},{"$f":"'ITCER GLOBAL'!AA60","v":90.590516433828313},{"$f":"'ITCER GLOBAL'!AB60","v":102.49684763906014},{"$f":"'ITCER GLOBAL'!AC60","v":97.856031840367464},{"$f":"'ITCER GLOBAL'!AD60","v":91.689533673323083},{"$f":"'ITCER GLOBAL'!AE60","v":90.825534280290739},{"$f":"'ITCER GLOBAL'!AF60","v":90.437632849720316},{"$f":"'ITCER GLOBAL'!AG60","v":103.68968599703345},null,{"$f":"IF(EFECTOS!$N$9=\"COSTA RICA\",LOOKUP(1,GEfectos!$C$4:$I$4,GEfectos!C60:I60),IF(EFECTOS!$N$9=\"EL SALVADOR\",LOOKUP(2,GEfectos!$C$4:$I$4,GEfectos!C60:I60),IF(EFECTOS!$N$9=\"GUATEMALA\",LOOKUP(3,GEfectos!$C$4:$I$4,GEfectos!C60:I60),IF(EFECTOS!$N$9=\"HONDURAS\",LOOKUP(4,GEfectos!$C$4:$I$4,GEfectos!C60:I60),IF(EFECTOS!$N$9=\"NICARAGUA\",LOOKUP(5,GEfectos!$C$4:$I$4,GEfectos!C60:I60),IF(EFECTOS!$N$9=\"REPÚBLICA \nDOMINICANA\",LOOKUP(6,$C$4:$I$4,C60:I60),IF(EFECTOS!$N$9=\"PANAMÁ\",LOOKUP(7,GEfectos!$C$4:$I$4,GEfectos!C60:I60))))))))","v":102.40654343302097},{"$f":"IF(EFECTOS!$N$9=\"COSTA RICA\",LOOKUP(1,GEfectos!$J$4:$P$4,GEfectos!J60:P60),IF(EFECTOS!$N$9=\"EL SALVADOR\",LOOKUP(2,GEfectos!$J$4:$P$4,GEfectos!J60:P60),IF(EFECTOS!$N$9=\"GUATEMALA\",LOOKUP(3,GEfectos!$J$4:$P$4,GEfectos!J60:P60),IF(EFECTOS!$N$9=\"HONDURAS\",LOOKUP(4,GEfectos!$J$4:$P$4,GEfectos!J60:P60),IF(EFECTOS!$N$9=\"NICARAGUA\",LOOKUP(5,GEfectos!$J$4:$P$4,GEfectos!J60:P60),IF(EFECTOS!$N$9=\"REPÚBLICA \nDOMINICANA\",LOOKUP(6,$J$4:$P$4,J60:P60),IF(EFECTOS!$N$9=\"PANAMÁ\",LOOKUP(7,GEfectos!$J$4:$P$4,GEfectos!J60:P60))))))))","v":92.770616558006395},{"$f":"IF(EFECTOS!$N$9=\"COSTA RICA\",LOOKUP(1,GEfectos!$Q$4:$W$4,GEfectos!Q60:W60),IF(EFECTOS!$N$9=\"EL SALVADOR\",LOOKUP(2,GEfectos!$Q$4:$W$4,GEfectos!Q60:W60),IF(EFECTOS!$N$9=\"GUATEMALA\",LOOKUP(3,GEfectos!$Q$4:$W$4,GEfectos!Q60:W60),IF(EFECTOS!$N$9=\"HONDURAS\",LOOKUP(4,GEfectos!$Q$4:$W$4,GEfectos!Q60:W60),IF(EFECTOS!$N$9=\"NICARAGUA\",LOOKUP(5,GEfectos!$Q$4:$W$4,GEfectos!Q60:W60),IF(EFECTOS!$N$9=\"REPÚBLICA \nDOMINICANA\",LOOKUP(6,$Q$4:$W$4,Q60:W60),IF(EFECTOS!$N$9=\"PANAMÁ\",LOOKUP(7,GEfectos!$Q$4:$W$4,GEfectos!Q60:W60))))))))","v":90.590516433828313},100]
[null,{"$f":"'ITCER GLOBAL'!B61","v":"Agosto"},{"$f":"'ITCER GLOBAL'!C61","v":103.0470683233598},{"$f":"'ITCER GLOBAL'!D61","v":101.83085991951494},{"$f":"'ITCER GLOBAL'!E61","v":103.45517029073254},{"$f":"'ITCER GLOBAL'!F61","v":105.75775734180642},{"$f":"'ITCER GLOBAL'!G61","v":103.75122650727471},{"$f":"'ITCER GLOBAL'!H61","v":107.32004511298749},{"$f":"'ITCER GLOBAL'!I61","v":99.460488511504664},{"$f":"'ITCER GLOBAL'!S61","v":93.627528235272607},{"$f":"'ITCER GLOBAL'!T61","v":103.87251318178581},{"$f":"'ITCER GLOBAL'!U61","v":101.83651175048911},{"$f":"'ITCER GLOBAL'!V61","v":97.426203998023382},{"$f":"'ITCER GLOBAL'!W61","v":95.436215686158548},{"$f":"'ITCER GLOBAL'!X61","v":97.07118320051039},{"$f":"'ITCER GLOBAL'!Y61","v":102.88640648262258},{"$f":"'ITCER GLOBAL'!AA61","v":90.85899265127189},{"$f":"'ITCER GLOBAL'!AB61","v":102.00494551836698},{"$f":"'ITCER GLOBAL'!AC61","v":98.435401018919961},{"$f":"'ITCER GLOBAL'!AD61","v":92.12204045055941},{"$f":"'ITCER GLOBAL'!AE61","v":91.985626482658361},{"$f":"'ITCER GLOBAL'!AF61","v":90.450188590876024},{"$f":"'ITCER GLOBAL'!AG61","v":103.44450145217378},null,{"$f":"IF(EFECTOS!$N$9=\"COSTA RICA\",LOOKUP(1,GEfectos!$C$4:$I$4,GEfectos!C61:I61),IF(EFECTOS!$N$9=\"EL SALVADOR\",LOOKUP(2,GEfectos!$C$4:$I$4,GEfectos!C61:I61),IF(EFECTOS!$N$9=\"GUATEMALA\",LOOKUP(3,GEfectos!$C$4:$I$4,GEfectos!C61:I61),IF(EFECTOS!$N$9=\"HONDURAS\",LOOKUP(4,GEfectos!$C$4:$I$4,GEfectos!C61:I61),IF(EFECTOS!$N$9=\"NICARAGUA\",LOOKUP(5,GEfectos!$C$4:$I$4,GEfectos!C61:I61),IF(EFECTOS!$N$9=\"REPÚBLICA \nDOMINICANA\",LOOKUP(6,$C$4:$I$4,C61:I61),IF(EFECTOS!$N$9=\"PANAMÁ\",LOOKUP(7,GEfectos!$C$4:$I$4,GEfectos!C61:I61))))))))","v":103.0470683233598},{"$f":"IF(EFECTOS!$N$9=\"COSTA RICA\",LOOKUP(1,GEfectos!$J$4:$P$4,GEfectos!J61:P61),IF(EFECTOS!$N$9=\"EL SALVADOR\",LOOKUP(2,GEfectos!$J$4:$P$4,GEfectos!J61:P61),IF(EFECTOS!$N$9=\"GUATEMALA\",LOOKUP(3,GEfectos!$J$4:$P$4,GEfectos!J61:P61),IF(EFECTOS!$N$9=\"HONDURAS\",LOOKUP(4,GEfectos!$J$4:$P$4,GEfectos!J61:P61),IF(EFECTOS!$N$9=\"NICARAGUA\",LOOKUP(5,GEfectos!$J$4:$P$4,GEfectos!J61:P61),IF(EFECTOS!$N$9=\"REPÚBLICA \nDOMINICANA\",LOOKUP(6,$J$4:$P$4,J61:P61),IF(EFECTOS!$N$9=\"PANAMÁ\",LOOKUP(7,GEfectos!$J$4:$P$4,GEfectos!J61:P61))))))))","v":93.627528235272607},{"$f":"IF(EFECTOS!$N$9=\"COSTA RICA\",LOOKUP(1,GEfectos!$Q$4:$W$4,GEfectos!Q61:W61),IF(EFECTOS!$N$9=\"EL SALVADOR\",LOOKUP(2,GEfectos!$Q$4:$W$4,GEfectos!Q61:W61),IF(EFECTOS!$N$9=\"GUATEMALA\",LOOKUP(3,GEfectos!$Q$4:$W$4,GEfectos!Q61:W61),IF(EFECTOS!$N$9=\"HONDURAS\",LOOKUP(4,GEfectos!$Q$4:$W$4,GEfectos!Q61:W61),IF(EFECTOS!$N$9=\"NICARAGUA\",LOOKUP(5,GEfectos!$Q$4:$W$4,GEfectos!Q61:W61),IF(EFECTOS!$N$9=\"REPÚBLICA \nDOMINICANA\",LOOKUP(6,$Q$4:$W$4,Q61:W61),IF(EFECTOS!$N$9=\"PANAMÁ\",LOOKUP(7,GEfectos!$Q$4:$W$4,GEfectos!Q61:W61))))))))","v":90.85899265127189},100]
[null,{"$f":"'ITCER GLOBAL'!B62","v":"Septiembre"},{"$f":"'ITCER GLOBAL'!C62","v":103.49879598656881},{"$f":"'ITCER GLOBAL'!D62","v":101.83615015635908},{"$f":"'ITCER GLOBAL'!E62","v":105.03825045933736},{"$f":"'ITCER GLOBAL'!F62","v":106.08825305403646},{"$f":"'ITCER GLOBAL'!G62","v":103.47173449218084},{"$f":"'ITCER GLOBAL'!H62","v":107.47664160902028},{"$f":"'ITCER GLOBAL'!I62","v":100.15037192022858},{"$f":"'ITCER GLOBAL'!S62","v":94.222748554176022},{"$f":"'ITCER GLOBAL'!T62","v":103.59995781383799},{"$f":"'ITCER GLOBAL'!U62","v":103.42557380875326},{"$f":"'ITCER GLOBAL'!V62","v":97.982387050037531},{"$f":"'ITCER GLOBAL'!W62","v":96.020656060255234},{"$f":"'ITCER GLOBAL'!X62","v":97.126944583307989},{"$f":"'ITCER GLOBAL'!Y62","v":103.13177383394931},{"$f":"'ITCER GLOBAL'!AA62","v":91.03753107079956},{"$f":"'ITCER GLOBAL'!AB62","v":101.73200543694038},{"$f":"'ITCER GLOBAL'!AC62","v":98.464676778667013},{"$f":"'ITCER GLOBAL'!AD62","v":92.359318048276123},{"$f":"'ITCER GLOBAL'!AE62","v":92.798923813837618},{"$f":"'ITCER GLOBAL'!AF62","v":90.370282443916949},{"$f":"'ITCER GLOBAL'!AG62","v":102.97692545375214},null,{"$f":"IF(EFECTOS!$N$9=\"COSTA RICA\",LOOKUP(1,GEfectos!$C$4:$I$4,GEfectos!C62:I62),IF(EFECTOS!$N$9=\"EL SALVADOR\",LOOKUP(2,GEfectos!$C$4:$I$4,GEfectos!C62:I62),IF(EFECTOS!$N$9=\"GUATEMALA\",LOOKUP(3,GEfectos!$C$4:$I$4,GEfectos!C62:I62),IF(EFECTOS!$N$9=\"HONDURAS\",LOOKUP(4,GEfectos!$C$4:$I$4,GEfectos!C62:I62),IF(EFECTOS!$N$9=\"NICARAGUA\",LOOKUP(5,GEfectos!$C$4:$I$4,GEfectos!C62:I62),IF(EFECTOS!$N$9=\"REPÚBLICA \nDOMINICANA\",LOOKUP(6,$C$4:$I$4,C62:I62),IF(EFECTOS!$N$9=\"PANAMÁ\",LOOKUP(7,GEfectos!$C$4:$I$4,GEfectos!C62:I62))))))))","v":103.49879598656881},{"$f":"IF(EFECTOS!$N$9=\"COSTA RICA\",LOOKUP(1,GEfectos!$J$4:$P$4,GEfectos!J62:P62),IF(EFECTOS!$N$9=\"EL SALVADOR\",LOOKUP(2,GEfectos!$J$4:$P$4,GEfectos!J62:P62),IF(EFECTOS!$N$9=\"GUATEMALA\",LOOKUP(3,GEfectos!$J$4:$P$4,GEfectos!J62:P62),IF(EFECTOS!$N$9=\"HONDURAS\",LOOKUP(4,GEfectos!$J$4:$P$4,GEfectos!J62:P62),IF(EFECTOS!$N$9=\"NICARAGUA\",LOOKUP(5,GEfectos!$J$4:$P$4,GEfectos!J62:P62),IF(EFECTOS!$N$9=\"REPÚBLICA \nDOMINICANA\",LOOKUP(6,$J$4:$P$4,J62:P62),IF(EFECTOS!$N$9=\"PANAMÁ\",LOOKUP(7,GEfectos!$J$4:$P$4,GEfectos!J62:P62))))))))","v":94.222748554176022},{"$f":"IF(EFECTOS!$N$9=\"COSTA RICA\",LOOKUP(1,GEfectos!$Q$4:$W$4,GEfectos!Q62:W62),IF(EFECTOS!$N$9=\"EL SALVADOR\",LOOKUP(2,GEfectos!$Q$4:$W$4,GEfectos!Q62:W62),IF(EFECTOS!$N$9=\"GUATEMALA\",LOOKUP(3,GEfectos!$Q$4:$W$4,GEfectos!Q62:W62),IF(EFECTOS!$N$9=\"HONDURAS\",LOOKUP(4,GEfectos!$Q$4:$W$4,GEfectos!Q62:W62),IF(EFECTOS!$N$9=\"NICARAGUA\",LOOKUP(5,GEfectos!$Q$4:$W$4,GEfectos!Q62:W62),IF(EFECTOS!$N$9=\"REPÚBLICA \nDOMINICANA\",LOOKUP(6,$Q$4:$W$4,Q62:W62),IF(EFECTOS!$N$9=\"PANAMÁ\",LOOKUP(7,GEfectos!$Q$4:$W$4,GEfectos!Q62:W62))))))))","v":91.03753107079956},100]
[null,{"$f":"'ITCER GLOBAL'!B63","v":"Octubre"},{"$f":"'ITCER GLOBAL'!C63","v":103.06063415233959},{"$f":"'ITCER GLOBAL'!D63","v":101.71969598572586},{"$f":"'ITCER GLOBAL'!E63","v":104.88617537730443},{"$f":"'ITCER GLOBAL'!F63","v":105.95074313870222},{"$f":"'ITCER GLOBAL'!G63","v":102.86430701947009},{"$f":"'ITCER GLOBAL'!H63","v":104.33664700662072},{"$f":"'ITCER GLOBAL'!I63","v":100.45355802503661},{"$f":"'ITCER GLOBAL'!S63","v":94.955877625247226},{"$f":"'ITCER GLOBAL'!T63","v":103.58282335263146},{"$f":"'ITCER GLOBAL'!U63","v":103.66535814470382},{"$f":"'ITCER GLOBAL'!V63","v":98.387952388028253},{"$f":"'ITCER GLOBAL'!W63","v":96.781152566588176},{"$f":"'ITCER GLOBAL'!X63","v":97.403274919768933},{"$f":"'ITCER GLOBAL'!Y63","v":103.20436474863098},{"$f":"'ITCER GLOBAL'!AA63","v":92.135933769714356},{"$f":"'ITCER GLOBAL'!AB63","v":101.83162891793054},{"$f":"'ITCER GLOBAL'!AC63","v":98.836055153876103},{"$f":"'ITCER GLOBAL'!AD63","v":92.861974794482222},{"$f":"'ITCER GLOBAL'!AE63","v":94.086233962835635},{"$f":"'ITCER GLOBAL'!AF63","v":93.354806498227006},{"$f":"'ITCER GLOBAL'!AG63","v":102.73838655163291},null,{"$f":"IF(EFECTOS!$N$9=\"COSTA RICA\",LOOKUP(1,GEfectos!$C$4:$I$4,GEfectos!C63:I63),IF(EFECTOS!$N$9=\"EL SALVADOR\",LOOKUP(2,GEfectos!$C$4:$I$4,GEfectos!C63:I63),IF(EFECTOS!$N$9=\"GUATEMALA\",LOOKUP(3,GEfectos!$C$4:$I$4,GEfectos!C63:I63),IF(EFECTOS!$N$9=\"HONDURAS\",LOOKUP(4,GEfectos!$C$4:$I$4,GEfectos!C63:I63),IF(EFECTOS!$N$9=\"NICARAGUA\",LOOKUP(5,GEfectos!$C$4:$I$4,GEfectos!C63:I63),IF(EFECTOS!$N$9=\"REPÚBLICA \nDOMINICANA\",LOOKUP(6,$C$4:$I$4,C63:I63),IF(EFECTOS!$N$9=\"PANAMÁ\",LOOKUP(7,GEfectos!$C$4:$I$4,GEfectos!C63:I63))))))))","v":103.06063415233959},{"$f":"IF(EFECTOS!$N$9=\"COSTA RICA\",LOOKUP(1,GEfectos!$J$4:$P$4,GEfectos!J63:P63),IF(EFECTOS!$N$9=\"EL SALVADOR\",LOOKUP(2,GEfectos!$J$4:$P$4,GEfectos!J63:P63),IF(EFECTOS!$N$9=\"GUATEMALA\",LOOKUP(3,GEfectos!$J$4:$P$4,GEfectos!J63:P63),IF(EFECTOS!$N$9=\"HONDURAS\",LOOKUP(4,GEfectos!$J$4:$P$4,GEfectos!J63:P63),IF(EFECTOS!$N$9=\"NICARAGUA\",LOOKUP(5,GEfectos!$J$4:$P$4,GEfectos!J63:P63),IF(EFECTOS!$N$9=\"REPÚBLICA \nDOMINICANA\",LOOKUP(6,$J$4:$P$4,J63:P63),IF(EFECTOS!$N$9=\"PANAMÁ\",LOOKUP(7,GEfectos!$J$4:$P$4,GEfectos!J63:P63))))))))","v":94.955877625247226},{"$f":"IF(EFECTOS!$N$9=\"COSTA RICA\",LOOKUP(1,GEfectos!$Q$4:$W$4,GEfectos!Q63:W63),IF(EFECTOS!$N$9=\"EL SALVADOR\",LOOKUP(2,GEfectos!$Q$4:$W$4,GEfectos!Q63:W63),IF(EFECTOS!$N$9=\"GUATEMALA\",LOOKUP(3,GEfectos!$Q$4:$W$4,GEfectos!Q63:W63),IF(EFECTOS!$N$9=\"HONDURAS\",LOOKUP(4,GEfectos!$Q$4:$W$4,GEfectos!Q63:W63),IF(EFECTOS!$N$9=\"NICARAGUA\",LOOKUP(5,GEfectos!$Q$4:$W$4,GEfectos!Q63:W63),IF(EFECTOS!$N$9=\"REPÚBLICA \nDOMINICANA\",LOOKUP(6,$Q$4:$W$4,Q63:W63),IF(EFECTOS!$N$9=\"PANAMÁ\",LOOKUP(7,GEfectos!$Q$4:$W$4,GEfectos!Q63:W63))))))))","v":92.135933769714356},100]
[null,{"$f":"'ITCER GLOBAL'!B64","v":"Noviembre"},{"$f":"'ITCER GLOBAL'!C64","v":102.60873058960109},{"$f":"'ITCER GLOBAL'!D64","v":102.1999250063549},{"$f":"'ITCER GLOBAL'!E64","v":104.03059554434218},{"$f":"'ITCER GLOBAL'!F64","v":105.08433834678455},{"$f":"'ITCER GLOBAL'!G64","v":102.28649064659344},{"$f":"'ITCER GLOBAL'!H64","v":103.10144071421873},{"$f":"'ITCER GLOBAL'!I64","v":100.33741762548892},{"$f":"'ITCER GLOBAL'!S64","v":95.325272011975571},{"$f":"'ITCER GLOBAL'!T64","v":103.31926759036799},{"$f":"'ITCER GLOBAL'!U64","v":103.03999895777474},{"$f":"'ITCER GLOBAL'!V64","v":98.370839208562629},{"$f":"'ITCER GLOBAL'!W64","v":97.042728422275928},{"$f":"'ITCER GLOBAL'!X64","v":97.56850559132279},{"$f":"'ITCER GLOBAL'!Y64","v":103.14790878056066},{"$f":"'ITCER GLOBAL'!AA64","v":92.90171651498467},{"$f":"'ITCER GLOBAL'!AB64","v":101.09524795046912},{"$f":"'ITCER GLOBAL'!AC64","v":99.047783412769945},{"$f":"'ITCER GLOBAL'!AD64","v":93.611322825227319},{"$f":"'ITCER GLOBAL'!AE64","v":94.873455730889191},{"$f":"'ITCER GLOBAL'!AF64","v":94.633503581940843},{"$f":"'ITCER GLOBAL'!AG64","v":102.80103995257474},null,{"$f":"IF(EFECTOS!$N$9=\"COSTA RICA\",LOOKUP(1,GEfectos!$C$4:$I$4,GEfectos!C64:I64),IF(EFECTOS!$N$9=\"EL SALVADOR\",LOOKUP(2,GEfectos!$C$4:$I$4,GEfectos!C64:I64),IF(EFECTOS!$N$9=\"GUATEMALA\",LOOKUP(3,GEfectos!$C$4:$I$4,GEfectos!C64:I64),IF(EFECTOS!$N$9=\"HONDURAS\",LOOKUP(4,GEfectos!$C$4:$I$4,GEfectos!C64:I64),IF(EFECTOS!$N$9=\"NICARAGUA\",LOOKUP(5,GEfectos!$C$4:$I$4,GEfectos!C64:I64),IF(EFECTOS!$N$9=\"REPÚBLICA \nDOMINICANA\",LOOKUP(6,$C$4:$I$4,C64:I64),IF(EFECTOS!$N$9=\"PANAMÁ\",LOOKUP(7,GEfectos!$C$4:$I$4,GEfectos!C64:I64))))))))","v":102.60873058960109},{"$f":"IF(EFECTOS!$N$9=\"COSTA RICA\",LOOKUP(1,GEfectos!$J$4:$P$4,GEfectos!J64:P64),IF(EFECTOS!$N$9=\"EL SALVADOR\",LOOKUP(2,GEfectos!$J$4:$P$4,GEfectos!J64:P64),IF(EFECTOS!$N$9=\"GUATEMALA\",LOOKUP(3,GEfectos!$J$4:$P$4,GEfectos!J64:P64),IF(EFECTOS!$N$9=\"HONDURAS\",LOOKUP(4,GEfectos!$J$4:$P$4,GEfectos!J64:P64),IF(EFECTOS!$N$9=\"NICARAGUA\",LOOKUP(5,GEfectos!$J$4:$P$4,GEfectos!J64:P64),IF(EFECTOS!$N$9=\"REPÚBLICA \nDOMINICANA\",LOOKUP(6,$J$4:$P$4,J64:P64),IF(EFECTOS!$N$9=\"PANAMÁ\",LOOKUP(7,GEfectos!$J$4:$P$4,GEfectos!J64:P64))))))))","v":95.325272011975571},{"$f":"IF(EFECTOS!$N$9=\"COSTA RICA\",LOOKUP(1,GEfectos!$Q$4:$W$4,GEfectos!Q64:W64),IF(EFECTOS!$N$9=\"EL SALVADOR\",LOOKUP(2,GEfectos!$Q$4:$W$4,GEfectos!Q64:W64),IF(EFECTOS!$N$9=\"GUATEMALA\",LOOKUP(3,GEfectos!$Q$4:$W$4,GEfectos!Q64:W64),IF(EFECTOS!$N$9=\"HONDURAS\",LOOKUP(4,GEfectos!$Q$4:$W$4,GEfectos!Q64:W64),IF(EFECTOS!$N$9=\"NICARAGUA\",LOOKUP(5,GEfectos!$Q$4:$W$4,GEfectos!Q64:W64),IF(EFECTOS!$N$9=\"REPÚBLICA \nDOMINICANA\",LOOKUP(6,$Q$4:$W$4,Q64:W64),IF(EFECTOS!$N$9=\"PANAMÁ\",LOOKUP(7,GEfectos!$Q$4:$W$4,GEfectos!Q64:W64))))))))","v":92.90171651498467},100]
[null,{"$f":"'ITCER GLOBAL'!B65","v":"Diciembre"},{"$f":"'ITCER GLOBAL'!C65","v":101.99428291352756},{"$f":"'ITCER GLOBAL'!D65","v":102.89635608627005},{"$f":"'ITCER GLOBAL'!E65","v":102.67444105862529},{"$f":"'ITCER GLOBAL'!F65","v":104.35487585270366},{"$f":"'ITCER GLOBAL'!G65","v":102.36454704484363},{"$f":"'ITCER GLOBAL'!H65","v":102.78967969572594},{"$f":"'ITCER GLOBAL'!I65","v":100.22576610818631},{"$f":"'ITCER GLOBAL'!S65","v":95.886257898449202},{"$f":"'ITCER GLOBAL'!T65","v":103.30076183810928},{"$f":"'ITCER GLOBAL'!U65","v":101.79108786982525},{"$f":"'ITCER GLOBAL'!V65","v":98.576878634170626},{"$f":"'ITCER GLOBAL'!W65","v":97.352222443389351},{"$f":"'ITCER GLOBAL'!X65","v":97.502618314012722},{"$f":"'ITCER GLOBAL'!Y65","v":103.32276388391905},{"$f":"'ITCER GLOBAL'!AA65","v":94.011404521313366},{"$f":"'ITCER GLOBAL'!AB65","v":100.3930224229711},{"$f":"'ITCER GLOBAL'!AC65","v":99.139656199057697},{"$f":"'ITCER GLOBAL'!AD65","v":94.463126738142421},{"$f":"'ITCER GLOBAL'!AE65","v":95.103456473794111},{"$f":"'ITCER GLOBAL'!AF65","v":94.856427807379333},{"$f":"'ITCER GLOBAL'!AG65","v":103.09002155432742},null,{"$f":"IF(EFECTOS!$N$9=\"COSTA RICA\",LOOKUP(1,GEfectos!$C$4:$I$4,GEfectos!C65:I65),IF(EFECTOS!$N$9=\"EL SALVADOR\",LOOKUP(2,GEfectos!$C$4:$I$4,GEfectos!C65:I65),IF(EFECTOS!$N$9=\"GUATEMALA\",LOOKUP(3,GEfectos!$C$4:$I$4,GEfectos!C65:I65),IF(EFECTOS!$N$9=\"HONDURAS\",LOOKUP(4,GEfectos!$C$4:$I$4,GEfectos!C65:I65),IF(EFECTOS!$N$9=\"NICARAGUA\",LOOKUP(5,GEfectos!$C$4:$I$4,GEfectos!C65:I65),IF(EFECTOS!$N$9=\"REPÚBLICA \nDOMINICANA\",LOOKUP(6,$C$4:$I$4,C65:I65),IF(EFECTOS!$N$9=\"PANAMÁ\",LOOKUP(7,GEfectos!$C$4:$I$4,GEfectos!C65:I65))))))))","v":101.99428291352756},{"$f":"IF(EFECTOS!$N$9=\"COSTA RICA\",LOOKUP(1,GEfectos!$J$4:$P$4,GEfectos!J65:P65),IF(EFECTOS!$N$9=\"EL SALVADOR\",LOOKUP(2,GEfectos!$J$4:$P$4,GEfectos!J65:P65),IF(EFECTOS!$N$9=\"GUATEMALA\",LOOKUP(3,GEfectos!$J$4:$P$4,GEfectos!J65:P65),IF(EFECTOS!$N$9=\"HONDURAS\",LOOKUP(4,GEfectos!$J$4:$P$4,GEfectos!J65:P65),IF(EFECTOS!$N$9=\"NICARAGUA\",LOOKUP(5,GEfectos!$J$4:$P$4,GEfectos!J65:P65),IF(EFECTOS!$N$9=\"REPÚBLICA \nDOMINICANA\",LOOKUP(6,$J$4:$P$4,J65:P65),IF(EFECTOS!$N$9=\"PANAMÁ\",LOOKUP(7,GEfectos!$J$4:$P$4,GEfectos!J65:P65))))))))","v":95.886257898449202},{"$f":"IF(EFECTOS!$N$9=\"COSTA RICA\",LOOKUP(1,GEfectos!$Q$4:$W$4,GEfectos!Q65:W65),IF(EFECTOS!$N$9=\"EL SALVADOR\",LOOKUP(2,GEfectos!$Q$4:$W$4,GEfectos!Q65:W65),IF(EFECTOS!$N$9=\"GUATEMALA\",LOOKUP(3,GEfectos!$Q$4:$W$4,GEfectos!Q65:W65),IF(EFECTOS!$N$9=\"HONDURAS\",LOOKUP(4,GEfectos!$Q$4:$W$4,GEfectos!Q65:W65),IF(EFECTOS!$N$9=\"NICARAGUA\",LOOKUP(5,GEfectos!$Q$4:$W$4,GEfectos!Q65:W65),IF(EFECTOS!$N$9=\"REPÚBLICA \nDOMINICANA\",LOOKUP(6,$Q$4:$W$4,Q65:W65),IF(EFECTOS!$N$9=\"PANAMÁ\",LOOKUP(7,GEfectos!$Q$4:$W$4,GEfectos!Q65:W65))))))))","v":94.011404521313366},100]
[2000,{"$f":"'ITCER GLOBAL'!B66","v":"Enero"},{"$f":"'ITCER GLOBAL'!C66","v":100.55371666373972},{"$f":"'ITCER GLOBAL'!D66","v":101.68593033792854},{"$f":"'ITCER GLOBAL'!E66","v":105.4552125842695},{"$f":"'ITCER GLOBAL'!F66","v":103.95805753181706},{"$f":"'ITCER GLOBAL'!G66","v":101.87575319210093},{"$f":"'ITCER GLOBAL'!H66","v":103.26852718153509},{"$f":"'ITCER GLOBAL'!I66","v":100.44473580511122},{"$f":"'ITCER GLOBAL'!S66","v":95.888147201674471},{"$f":"'ITCER GLOBAL'!T66","v":102.36494127347311},{"$f":"'ITCER GLOBAL'!U66","v":104.41772904976804},{"$f":"'ITCER GLOBAL'!V66","v":98.137080286144936},{"$f":"'ITCER GLOBAL'!W66","v":97.28962367566227},{"$f":"'ITCER GLOBAL'!X66","v":97.918469766894532},{"$f":"'ITCER GLOBAL'!Y66","v":103.11620079011929},{"$f":"'ITCER GLOBAL'!AA66","v":95.360122313860046},{"$f":"'ITCER GLOBAL'!AB66","v":100.66775308372362},{"$f":"'ITCER GLOBAL'!AC66","v":99.016185630774388},{"$f":"'ITCER GLOBAL'!AD66","v":94.40064831541261},{"$f":"'ITCER GLOBAL'!AE66","v":95.498311057596922},{"$f":"'ITCER GLOBAL'!AF66","v":94.819275958844912},{"$f":"'ITCER GLOBAL'!AG66","v":102.65963662863469},null,{"$f":"IF(EFECTOS!$N$9=\"COSTA RICA\",LOOKUP(1,GEfectos!$C$4:$I$4,GEfectos!C66:I66),IF(EFECTOS!$N$9=\"EL SALVADOR\",LOOKUP(2,GEfectos!$C$4:$I$4,GEfectos!C66:I66),IF(EFECTOS!$N$9=\"GUATEMALA\",LOOKUP(3,GEfectos!$C$4:$I$4,GEfectos!C66:I66),IF(EFECTOS!$N$9=\"HONDURAS\",LOOKUP(4,GEfectos!$C$4:$I$4,GEfectos!C66:I66),IF(EFECTOS!$N$9=\"NICARAGUA\",LOOKUP(5,GEfectos!$C$4:$I$4,GEfectos!C66:I66),IF(EFECTOS!$N$9=\"REPÚBLICA \nDOMINICANA\",LOOKUP(6,$C$4:$I$4,C66:I66),IF(EFECTOS!$N$9=\"PANAMÁ\",LOOKUP(7,GEfectos!$C$4:$I$4,GEfectos!C66:I66))))))))","v":100.55371666373972},{"$f":"IF(EFECTOS!$N$9=\"COSTA RICA\",LOOKUP(1,GEfectos!$J$4:$P$4,GEfectos!J66:P66),IF(EFECTOS!$N$9=\"EL SALVADOR\",LOOKUP(2,GEfectos!$J$4:$P$4,GEfectos!J66:P66),IF(EFECTOS!$N$9=\"GUATEMALA\",LOOKUP(3,GEfectos!$J$4:$P$4,GEfectos!J66:P66),IF(EFECTOS!$N$9=\"HONDURAS\",LOOKUP(4,GEfectos!$J$4:$P$4,GEfectos!J66:P66),IF(EFECTOS!$N$9=\"NICARAGUA\",LOOKUP(5,GEfectos!$J$4:$P$4,GEfectos!J66:P66),IF(EFECTOS!$N$9=\"REPÚBLICA \nDOMINICANA\",LOOKUP(6,$J$4:$P$4,J66:P66),IF(EFECTOS!$N$9=\"PANAMÁ\",LOOKUP(7,GEfectos!$J$4:$P$4,GEfectos!J66:P66))))))))","v":95.888147201674471},{"$f":"IF(EFECTOS!$N$9=\"COSTA RICA\",LOOKUP(1,GEfectos!$Q$4:$W$4,GEfectos!Q66:W66),IF(EFECTOS!$N$9=\"EL SALVADOR\",LOOKUP(2,GEfectos!$Q$4:$W$4,GEfectos!Q66:W66),IF(EFECTOS!$N$9=\"GUATEMALA\",LOOKUP(3,GEfectos!$Q$4:$W$4,GEfectos!Q66:W66),IF(EFECTOS!$N$9=\"HONDURAS\",LOOKUP(4,GEfectos!$Q$4:$W$4,GEfectos!Q66:W66),IF(EFECTOS!$N$9=\"NICARAGUA\",LOOKUP(5,GEfectos!$Q$4:$W$4,GEfectos!Q66:W66),IF(EFECTOS!$N$9=\"REPÚBLICA \nDOMINICANA\",LOOKUP(6,$Q$4:$W$4,Q66:W66),IF(EFECTOS!$N$9=\"PANAMÁ\",LOOKUP(7,GEfectos!$Q$4:$W$4,GEfectos!Q66:W66))))))))","v":95.360122313860046},100]
[null,{"$f":"'ITCER GLOBAL'!B67","v":"Febrero"},{"$f":"'ITCER GLOBAL'!C67","v":99.887860922939595},{"$f":"'ITCER GLOBAL'!D67","v":101.64988315912495},{"$f":"'ITCER GLOBAL'!E67","v":103.64947914245107},{"$f":"'ITCER GLOBAL'!F67","v":103.07663876792267},{"$f":"'ITCER GLOBAL'!G67","v":100.3854115685491},{"$f":"'ITCER GLOBAL'!H67","v":104.00148615276568},{"$f":"'ITCER GLOBAL'!I67","v":100.42772594890735},{"$f":"'ITCER GLOBAL'!S67","v":96.063158346682258},{"$f":"'ITCER GLOBAL'!T67","v":102.07543010315814},{"$f":"'ITCER GLOBAL'!U67","v":102.79267484282124},{"$f":"'ITCER GLOBAL'!V67","v":98.151190166375159},{"$f":"'ITCER GLOBAL'!W67","v":97.255988225802042},{"$f":"'ITCER GLOBAL'!X67","v":98.098027210299577},{"$f":"'ITCER GLOBAL'!Y67","v":102.40992461537104},{"$f":"'ITCER GLOBAL'!AA67","v":96.171003622544305},{"$f":"'ITCER GLOBAL'!AB67","v":100.41863987523432},{"$f":"'ITCER GLOBAL'!AC67","v":99.173363622549161},{"$f":"'ITCER GLOBAL'!AD67","v":95.221566534937978},{"$f":"'ITCER GLOBAL'!AE67","v":96.882591510211512},{"$f":"'ITCER GLOBAL'!AF67","v":94.32367828494813},{"$f":"'ITCER GLOBAL'!AG67","v":101.97375639818046},null,{"$f":"IF(EFECTOS!$N$9=\"COSTA RICA\",LOOKUP(1,GEfectos!$C$4:$I$4,GEfectos!C67:I67),IF(EFECTOS!$N$9=\"EL SALVADOR\",LOOKUP(2,GEfectos!$C$4:$I$4,GEfectos!C67:I67),IF(EFECTOS!$N$9=\"GUATEMALA\",LOOKUP(3,GEfectos!$C$4:$I$4,GEfectos!C67:I67),IF(EFECTOS!$N$9=\"HONDURAS\",LOOKUP(4,GEfectos!$C$4:$I$4,GEfectos!C67:I67),IF(EFECTOS!$N$9=\"NICARAGUA\",LOOKUP(5,GEfectos!$C$4:$I$4,GEfectos!C67:I67),IF(EFECTOS!$N$9=\"REPÚBLICA \nDOMINICANA\",LOOKUP(6,$C$4:$I$4,C67:I67),IF(EFECTOS!$N$9=\"PANAMÁ\",LOOKUP(7,GEfectos!$C$4:$I$4,GEfectos!C67:I67))))))))","v":99.887860922939595},{"$f":"IF(EFECTOS!$N$9=\"COSTA RICA\",LOOKUP(1,GEfectos!$J$4:$P$4,GEfectos!J67:P67),IF(EFECTOS!$N$9=\"EL SALVADOR\",LOOKUP(2,GEfectos!$J$4:$P$4,GEfectos!J67:P67),IF(EFECTOS!$N$9=\"GUATEMALA\",LOOKUP(3,GEfectos!$J$4:$P$4,GEfectos!J67:P67),IF(EFECTOS!$N$9=\"HONDURAS\",LOOKUP(4,GEfectos!$J$4:$P$4,GEfectos!J67:P67),IF(EFECTOS!$N$9=\"NICARAGUA\",LOOKUP(5,GEfectos!$J$4:$P$4,GEfectos!J67:P67),IF(EFECTOS!$N$9=\"REPÚBLICA \nDOMINICANA\",LOOKUP(6,$J$4:$P$4,J67:P67),IF(EFECTOS!$N$9=\"PANAMÁ\",LOOKUP(7,GEfectos!$J$4:$P$4,GEfectos!J67:P67))))))))","v":96.063158346682258},{"$f":"IF(EFECTOS!$N$9=\"COSTA RICA\",LOOKUP(1,GEfectos!$Q$4:$W$4,GEfectos!Q67:W67),IF(EFECTOS!$N$9=\"EL SALVADOR\",LOOKUP(2,GEfectos!$Q$4:$W$4,GEfectos!Q67:W67),IF(EFECTOS!$N$9=\"GUATEMALA\",LOOKUP(3,GEfectos!$Q$4:$W$4,GEfectos!Q67:W67),IF(EFECTOS!$N$9=\"HONDURAS\",LOOKUP(4,GEfectos!$Q$4:$W$4,GEfectos!Q67:W67),IF(EFECTOS!$N$9=\"NICARAGUA\",LOOKUP(5,GEfectos!$Q$4:$W$4,GEfectos!Q67:W67),IF(EFECTOS!$N$9=\"REPÚBLICA \nDOMINICANA\",LOOKUP(6,$Q$4:$W$4,Q67:W67),IF(EFECTOS!$N$9=\"PANAMÁ\",LOOKUP(7,GEfectos!$Q$4:$W$4,GEfectos!Q67:W67))))))))","v":96.171003622544305},100]
[null,{"$f":"'ITCER GLOBAL'!B68","v":"Marzo"},{"$f":"'ITCER GLOBAL'!C68","v":100.45434780230221},{"$f":"'ITCER GLOBAL'!D68","v":102.40549239429579},{"$f":"'ITCER GLOBAL'!E68","v":102.34686576938896},{"$f":"'ITCER GLOBAL'!F68","v":103.06563206671078},{"$f":"'ITCER GLOBAL'!G68","v":100.50895953044238},{"$f":"'ITCER GLOBAL'!H68","v":104.7802057579854},{"$f":"'ITCER GLOBAL'!I68","v":100.59979463317393},{"$f":"'ITCER GLOBAL'!S68","v":96.569376026954671},{"$f":"'ITCER GLOBAL'!T68","v":102.17479315265365},{"$f":"'ITCER GLOBAL'!U68","v":102.00757075033944},{"$f":"'ITCER GLOBAL'!V68","v":98.395978909844914},{"$f":"'ITCER GLOBAL'!W68","v":97.684410491495726},{"$f":"'ITCER GLOBAL'!X68","v":98.077979773241992},{"$f":"'ITCER GLOBAL'!Y68","v":102.55424971738405},{"$f":"'ITCER GLOBAL'!AA68","v":96.132599673044211},{"$f":"'ITCER GLOBAL'!AB68","v":99.774719855109069},{"$f":"'ITCER GLOBAL'!AC68","v":99.668485188580149},{"$f":"'ITCER GLOBAL'!AD68","v":95.469243177159811},{"$f":"'ITCER GLOBAL'!AE68","v":97.189753976021265},{"$f":"'ITCER GLOBAL'!AF68","v":93.60353805734664},{"$f":"'ITCER GLOBAL'!AG68","v":101.94280226051835},null,{"$f":"IF(EFECTOS!$N$9=\"COSTA RICA\",LOOKUP(1,GEfectos!$C$4:$I$4,GEfectos!C68:I68),IF(EFECTOS!$N$9=\"EL SALVADOR\",LOOKUP(2,GEfectos!$C$4:$I$4,GEfectos!C68:I68),IF(EFECTOS!$N$9=\"GUATEMALA\",LOOKUP(3,GEfectos!$C$4:$I$4,GEfectos!C68:I68),IF(EFECTOS!$N$9=\"HONDURAS\",LOOKUP(4,GEfectos!$C$4:$I$4,GEfectos!C68:I68),IF(EFECTOS!$N$9=\"NICARAGUA\",LOOKUP(5,GEfectos!$C$4:$I$4,GEfectos!C68:I68),IF(EFECTOS!$N$9=\"REPÚBLICA \nDOMINICANA\",LOOKUP(6,$C$4:$I$4,C68:I68),IF(EFECTOS!$N$9=\"PANAMÁ\",LOOKUP(7,GEfectos!$C$4:$I$4,GEfectos!C68:I68))))))))","v":100.45434780230221},{"$f":"IF(EFECTOS!$N$9=\"COSTA RICA\",LOOKUP(1,GEfectos!$J$4:$P$4,GEfectos!J68:P68),IF(EFECTOS!$N$9=\"EL SALVADOR\",LOOKUP(2,GEfectos!$J$4:$P$4,GEfectos!J68:P68),IF(EFECTOS!$N$9=\"GUATEMALA\",LOOKUP(3,GEfectos!$J$4:$P$4,GEfectos!J68:P68),IF(EFECTOS!$N$9=\"HONDURAS\",LOOKUP(4,GEfectos!$J$4:$P$4,GEfectos!J68:P68),IF(EFECTOS!$N$9=\"NICARAGUA\",LOOKUP(5,GEfectos!$J$4:$P$4,GEfectos!J68:P68),IF(EFECTOS!$N$9=\"REPÚBLICA \nDOMINICANA\",LOOKUP(6,$J$4:$P$4,J68:P68),IF(EFECTOS!$N$9=\"PANAMÁ\",LOOKUP(7,GEfectos!$J$4:$P$4,GEfectos!J68:P68))))))))","v":96.569376026954671},{"$f":"IF(EFECTOS!$N$9=\"COSTA RICA\",LOOKUP(1,GEfectos!$Q$4:$W$4,GEfectos!Q68:W68),IF(EFECTOS!$N$9=\"EL SALVADOR\",LOOKUP(2,GEfectos!$Q$4:$W$4,GEfectos!Q68:W68),IF(EFECTOS!$N$9=\"GUATEMALA\",LOOKUP(3,GEfectos!$Q$4:$W$4,GEfectos!Q68:W68),IF(EFECTOS!$N$9=\"HONDURAS\",LOOKUP(4,GEfectos!$Q$4:$W$4,GEfectos!Q68:W68),IF(EFECTOS!$N$9=\"NICARAGUA\",LOOKUP(5,GEfectos!$Q$4:$W$4,GEfectos!Q68:W68),IF(EFECTOS!$N$9=\"REPÚBLICA \nDOMINICANA\",LOOKUP(6,$Q$4:$W$4,Q68:W68),IF(EFECTOS!$N$9=\"PANAMÁ\",LOOKUP(7,GEfectos!$Q$4:$W$4,GEfectos!Q68:W68))))))))","v":96.132599673044211},100]
[null,{"$f":"'ITCER GLOBAL'!B69","v":"Abril"},{"$f":"'ITCER GLOBAL'!C69","v":101.21073366858562},{"$f":"'ITCER GLOBAL'!D69","v":102.31320583800913},{"$f":"'ITCER GLOBAL'!E69","v":100.98824566371242},{"$f":"'ITCER GLOBAL'!F69","v":101.97062480097473},{"$f":"'ITCER GLOBAL'!G69","v":100.26109055922716},{"$f":"'ITCER GLOBAL'!H69","v":104.62278429146187},{"$f":"'ITCER GLOBAL'!I69","v":100.5004785231563},{"$f":"'ITCER GLOBAL'!S69","v":96.829288892236036},{"$f":"'ITCER GLOBAL'!T69","v":101.84477088768529},{"$f":"'ITCER GLOBAL'!U69","v":101.5403107159586},{"$f":"'ITCER GLOBAL'!V69","v":98.487496441063527},{"$f":"'ITCER GLOBAL'!W69","v":97.856582309052115},{"$f":"'ITCER GLOBAL'!X69","v":97.930497426555021},{"$f":"'ITCER GLOBAL'!Y69","v":102.23424609013362},{"$f":"'ITCER GLOBAL'!AA69","v":95.67096826834927},{"$f":"'ITCER GLOBAL'!AB69","v":99.542155925535653},{"$f":"'ITCER GLOBAL'!AC69","v":100.54666268199621},{"$f":"'ITCER GLOBAL'!AD69","v":96.584184546569617},{"$f":"'ITCER GLOBAL'!AE69","v":97.601753345427028},{"$f":"'ITCER GLOBAL'!AF69","v":93.603413529634949},{"$f":"'ITCER GLOBAL'!AG69","v":101.72513364359537},null,{"$f":"IF(EFECTOS!$N$9=\"COSTA RICA\",LOOKUP(1,GEfectos!$C$4:$I$4,GEfectos!C69:I69),IF(EFECTOS!$N$9=\"EL SALVADOR\",LOOKUP(2,GEfectos!$C$4:$I$4,GEfectos!C69:I69),IF(EFECTOS!$N$9=\"GUATEMALA\",LOOKUP(3,GEfectos!$C$4:$I$4,GEfectos!C69:I69),IF(EFECTOS!$N$9=\"HONDURAS\",LOOKUP(4,GEfectos!$C$4:$I$4,GEfectos!C69:I69),IF(EFECTOS!$N$9=\"NICARAGUA\",LOOKUP(5,GEfectos!$C$4:$I$4,GEfectos!C69:I69),IF(EFECTOS!$N$9=\"REPÚBLICA \nDOMINICANA\",LOOKUP(6,$C$4:$I$4,C69:I69),IF(EFECTOS!$N$9=\"PANAMÁ\",LOOKUP(7,GEfectos!$C$4:$I$4,GEfectos!C69:I69))))))))","v":101.21073366858562},{"$f":"IF(EFECTOS!$N$9=\"COSTA RICA\",LOOKUP(1,GEfectos!$J$4:$P$4,GEfectos!J69:P69),IF(EFECTOS!$N$9=\"EL SALVADOR\",LOOKUP(2,GEfectos!$J$4:$P$4,GEfectos!J69:P69),IF(EFECTOS!$N$9=\"GUATEMALA\",LOOKUP(3,GEfectos!$J$4:$P$4,GEfectos!J69:P69),IF(EFECTOS!$N$9=\"HONDURAS\",LOOKUP(4,GEfectos!$J$4:$P$4,GEfectos!J69:P69),IF(EFECTOS!$N$9=\"NICARAGUA\",LOOKUP(5,GEfectos!$J$4:$P$4,GEfectos!J69:P69),IF(EFECTOS!$N$9=\"REPÚBLICA \nDOMINICANA\",LOOKUP(6,$J$4:$P$4,J69:P69),IF(EFECTOS!$N$9=\"PANAMÁ\",LOOKUP(7,GEfectos!$J$4:$P$4,GEfectos!J69:P69))))))))","v":96.829288892236036},{"$f":"IF(EFECTOS!$N$9=\"COSTA RICA\",LOOKUP(1,GEfectos!$Q$4:$W$4,GEfectos!Q69:W69),IF(EFECTOS!$N$9=\"EL SALVADOR\",LOOKUP(2,GEfectos!$Q$4:$W$4,GEfectos!Q69:W69),IF(EFECTOS!$N$9=\"GUATEMALA\",LOOKUP(3,GEfectos!$Q$4:$W$4,GEfectos!Q69:W69),IF(EFECTOS!$N$9=\"HONDURAS\",LOOKUP(4,GEfectos!$Q$4:$W$4,GEfectos!Q69:W69),IF(EFECTOS!$N$9=\"NICARAGUA\",LOOKUP(5,GEfectos!$Q$4:$W$4,GEfectos!Q69:W69),IF(EFECTOS!$N$9=\"REPÚBLICA \nDOMINICANA\",LOOKUP(6,$Q$4:$W$4,Q69:W69),IF(EFECTOS!$N$9=\"PANAMÁ\",LOOKUP(7,GEfectos!$Q$4:$W$4,GEfectos!Q69:W69))))))))","v":95.67096826834927},100]
[null,{"$f":"'ITCER GLOBAL'!B70","v":"Mayo"},{"$f":"'ITCER GLOBAL'!C70","v":101.27869065010879},{"$f":"'ITCER GLOBAL'!D70","v":100.98722043319128},{"$f":"'ITCER GLOBAL'!E70","v":101.03437807492422},{"$f":"'ITCER GLOBAL'!F70","v":100.87531114057502},{"$f":"'ITCER GLOBAL'!G70","v":99.296096980046769},{"$f":"'ITCER GLOBAL'!H70","v":104.20906617336847},{"$f":"'ITCER GLOBAL'!I70","v":99.513182175775867},{"$f":"'ITCER GLOBAL'!S70","v":96.693708534179763},{"$f":"'ITCER GLOBAL'!T70","v":101.09750791886954},{"$f":"'ITCER GLOBAL'!U70","v":100.61976876168333},{"$f":"'ITCER GLOBAL'!V70","v":98.219740524146076},{"$f":"'ITCER GLOBAL'!W70","v":97.556438837702302},{"$f":"'ITCER GLOBAL'!X70","v":97.515908942860818},{"$f":"'ITCER GLOBAL'!Y70","v":101.21658419004902},{"$f":"'ITCER GLOBAL'!AA70","v":95.472905419197275},{"$f":"'ITCER GLOBAL'!AB70","v":100.1092093486732},{"$f":"'ITCER GLOBAL'!AC70","v":99.589635408124721},{"$f":"'ITCER GLOBAL'!AD70","v":97.367472192746689},{"$f":"'ITCER GLOBAL'!AE70","v":98.248009543925932},{"$f":"'ITCER GLOBAL'!AF70","v":93.577183371576794},{"$f":"'ITCER GLOBAL'!AG70","v":101.71173504557854},null,{"$f":"IF(EFECTOS!$N$9=\"COSTA RICA\",LOOKUP(1,GEfectos!$C$4:$I$4,GEfectos!C70:I70),IF(EFECTOS!$N$9=\"EL SALVADOR\",LOOKUP(2,GEfectos!$C$4:$I$4,GEfectos!C70:I70),IF(EFECTOS!$N$9=\"GUATEMALA\",LOOKUP(3,GEfectos!$C$4:$I$4,GEfectos!C70:I70),IF(EFECTOS!$N$9=\"HONDURAS\",LOOKUP(4,GEfectos!$C$4:$I$4,GEfectos!C70:I70),IF(EFECTOS!$N$9=\"NICARAGUA\",LOOKUP(5,GEfectos!$C$4:$I$4,GEfectos!C70:I70),IF(EFECTOS!$N$9=\"REPÚBLICA \nDOMINICANA\",LOOKUP(6,$C$4:$I$4,C70:I70),IF(EFECTOS!$N$9=\"PANAMÁ\",LOOKUP(7,GEfectos!$C$4:$I$4,GEfectos!C70:I70))))))))","v":101.27869065010879},{"$f":"IF(EFECTOS!$N$9=\"COSTA RICA\",LOOKUP(1,GEfectos!$J$4:$P$4,GEfectos!J70:P70),IF(EFECTOS!$N$9=\"EL SALVADOR\",LOOKUP(2,GEfectos!$J$4:$P$4,GEfectos!J70:P70),IF(EFECTOS!$N$9=\"GUATEMALA\",LOOKUP(3,GEfectos!$J$4:$P$4,GEfectos!J70:P70),IF(EFECTOS!$N$9=\"HONDURAS\",LOOKUP(4,GEfectos!$J$4:$P$4,GEfectos!J70:P70),IF(EFECTOS!$N$9=\"NICARAGUA\",LOOKUP(5,GEfectos!$J$4:$P$4,GEfectos!J70:P70),IF(EFECTOS!$N$9=\"REPÚBLICA \nDOMINICANA\",LOOKUP(6,$J$4:$P$4,J70:P70),IF(EFECTOS!$N$9=\"PANAMÁ\",LOOKUP(7,GEfectos!$J$4:$P$4,GEfectos!J70:P70))))))))","v":96.693708534179763},{"$f":"IF(EFECTOS!$N$9=\"COSTA RICA\",LOOKUP(1,GEfectos!$Q$4:$W$4,GEfectos!Q70:W70),IF(EFECTOS!$N$9=\"EL SALVADOR\",LOOKUP(2,GEfectos!$Q$4:$W$4,GEfectos!Q70:W70),IF(EFECTOS!$N$9=\"GUATEMALA\",LOOKUP(3,GEfectos!$Q$4:$W$4,GEfectos!Q70:W70),IF(EFECTOS!$N$9=\"HONDURAS\",LOOKUP(4,GEfectos!$Q$4:$W$4,GEfectos!Q70:W70),IF(EFECTOS!$N$9=\"NICARAGUA\",LOOKUP(5,GEfectos!$Q$4:$W$4,GEfectos!Q70:W70),IF(EFECTOS!$N$9=\"REPÚBLICA \nDOMINICANA\",LOOKUP(6,$Q$4:$W$4,Q70:W70),IF(EFECTOS!$N$9=\"PANAMÁ\",LOOKUP(7,GEfectos!$Q$4:$W$4,GEfectos!Q70:W70))))))))","v":95.472905419197275},100]
[null,{"$f":"'ITCER GLOBAL'!B71","v":"Junio"},{"$f":"'ITCER GLOBAL'!C71","v":101.37386512118437},{"$f":"'ITCER GLOBAL'!D71","v":100.5750783366564},{"$f":"'ITCER GLOBAL'!E71","v":101.66254238384691},{"$f":"'ITCER GLOBAL'!F71","v":101.10519015572319},{"$f":"'ITCER GLOBAL'!G71","v":100.06696692681852},{"$f":"'ITCER GLOBAL'!H71","v":103.93796937699558},{"$f":"'ITCER GLOBAL'!I71","v":100.14321777757475},{"$f":"'ITCER GLOBAL'!S71","v":97.620753438208823},{"$f":"'ITCER GLOBAL'!T71","v":101.27492501040913},{"$f":"'ITCER GLOBAL'!U71","v":101.22752603856671},{"$f":"'ITCER GLOBAL'!V71","v":98.884568284336922},{"$f":"'ITCER GLOBAL'!W71","v":98.36176716564762},{"$f":"'ITCER GLOBAL'!X71","v":97.756736052334347},{"$f":"'ITCER GLOBAL'!Y71","v":101.66290956117527},{"$f":"'ITCER GLOBAL'!AA71","v":96.297752208136686},{"$f":"'ITCER GLOBAL'!AB71","v":100.69584501978723},{"$f":"'ITCER GLOBAL'!AC71","v":99.572097711625474},{"$f":"'ITCER GLOBAL'!AD71","v":97.803651951036287},{"$f":"'ITCER GLOBAL'!AE71","v":98.295941394508375},{"$f":"'ITCER GLOBAL'!AF71","v":94.052959316300317},{"$f":"'ITCER GLOBAL'!AG71","v":101.51751842743447},null,{"$f":"IF(EFECTOS!$N$9=\"COSTA RICA\",LOOKUP(1,GEfectos!$C$4:$I$4,GEfectos!C71:I71),IF(EFECTOS!$N$9=\"EL SALVADOR\",LOOKUP(2,GEfectos!$C$4:$I$4,GEfectos!C71:I71),IF(EFECTOS!$N$9=\"GUATEMALA\",LOOKUP(3,GEfectos!$C$4:$I$4,GEfectos!C71:I71),IF(EFECTOS!$N$9=\"HONDURAS\",LOOKUP(4,GEfectos!$C$4:$I$4,GEfectos!C71:I71),IF(EFECTOS!$N$9=\"NICARAGUA\",LOOKUP(5,GEfectos!$C$4:$I$4,GEfectos!C71:I71),IF(EFECTOS!$N$9=\"REPÚBLICA \nDOMINICANA\",LOOKUP(6,$C$4:$I$4,C71:I71),IF(EFECTOS!$N$9=\"PANAMÁ\",LOOKUP(7,GEfectos!$C$4:$I$4,GEfectos!C71:I71))))))))","v":101.37386512118437},{"$f":"IF(EFECTOS!$N$9=\"COSTA RICA\",LOOKUP(1,GEfectos!$J$4:$P$4,GEfectos!J71:P71),IF(EFECTOS!$N$9=\"EL SALVADOR\",LOOKUP(2,GEfectos!$J$4:$P$4,GEfectos!J71:P71),IF(EFECTOS!$N$9=\"GUATEMALA\",LOOKUP(3,GEfectos!$J$4:$P$4,GEfectos!J71:P71),IF(EFECTOS!$N$9=\"HONDURAS\",LOOKUP(4,GEfectos!$J$4:$P$4,GEfectos!J71:P71),IF(EFECTOS!$N$9=\"NICARAGUA\",LOOKUP(5,GEfectos!$J$4:$P$4,GEfectos!J71:P71),IF(EFECTOS!$N$9=\"REPÚBLICA \nDOMINICANA\",LOOKUP(6,$J$4:$P$4,J71:P71),IF(EFECTOS!$N$9=\"PANAMÁ\",LOOKUP(7,GEfectos!$J$4:$P$4,GEfectos!J71:P71))))))))","v":97.620753438208823},{"$f":"IF(EFECTOS!$N$9=\"COSTA RICA\",LOOKUP(1,GEfectos!$Q$4:$W$4,GEfectos!Q71:W71),IF(EFECTOS!$N$9=\"EL SALVADOR\",LOOKUP(2,GEfectos!$Q$4:$W$4,GEfectos!Q71:W71),IF(EFECTOS!$N$9=\"GUATEMALA\",LOOKUP(3,GEfectos!$Q$4:$W$4,GEfectos!Q71:W71),IF(EFECTOS!$N$9=\"HONDURAS\",LOOKUP(4,GEfectos!$Q$4:$W$4,GEfectos!Q71:W71),IF(EFECTOS!$N$9=\"NICARAGUA\",LOOKUP(5,GEfectos!$Q$4:$W$4,GEfectos!Q71:W71),IF(EFECTOS!$N$9=\"REPÚBLICA \nDOMINICANA\",LOOKUP(6,$Q$4:$W$4,Q71:W71),IF(EFECTOS!$N$9=\"PANAMÁ\",LOOKUP(7,GEfectos!$Q$4:$W$4,GEfectos!Q71:W71))))))))","v":96.297752208136686},100]
[null,{"$f":"'ITCER GLOBAL'!B72","v":"Julio"},{"$f":"'ITCER GLOBAL'!C72","v":100.78201471559908},{"$f":"'ITCER GLOBAL'!D72","v":100.87011665248197},{"$f":"'ITCER GLOBAL'!E72","v":102.08951670943186},{"$f":"'ITCER GLOBAL'!F72","v":100.87702751746481},{"$f":"'ITCER GLOBAL'!G72","v":101.0389166513139},{"$f":"'ITCER GLOBAL'!H72","v":103.68690015681662},{"$f":"'ITCER GLOBAL'!I72","v":100.08348405084291},{"$f":"'ITCER GLOBAL'!S72","v":98.13233081467682},{"$f":"'ITCER GLOBAL'!T72","v":101.16714461142486},{"$f":"'ITCER GLOBAL'!U72","v":101.65565393283262},{"$f":"'ITCER GLOBAL'!V72","v":99.134746721770441},{"$f":"'ITCER GLOBAL'!W72","v":98.715334773506086},{"$f":"'ITCER GLOBAL'!X72","v":97.754748805776259},{"$f":"'ITCER GLOBAL'!Y72","v":101.54617243669588},{"$f":"'ITCER GLOBAL'!AA72","v":97.370876233820582},{"$f":"'ITCER GLOBAL'!AB72","v":100.29446576330056},{"$f":"'ITCER GLOBAL'!AC72","v":99.575017307767155},{"$f":"'ITCER GLOBAL'!AD72","v":98.272866639143658},{"$f":"'ITCER GLOBAL'!AE72","v":97.700309984689852},{"$f":"'ITCER GLOBAL'!AF72","v":94.278784164567995},{"$f":"'ITCER GLOBAL'!AG72","v":101.46146829292026},null,{"$f":"IF(EFECTOS!$N$9=\"COSTA RICA\",LOOKUP(1,GEfectos!$C$4:$I$4,GEfectos!C72:I72),IF(EFECTOS!$N$9=\"EL SALVADOR\",LOOKUP(2,GEfectos!$C$4:$I$4,GEfectos!C72:I72),IF(EFECTOS!$N$9=\"GUATEMALA\",LOOKUP(3,GEfectos!$C$4:$I$4,GEfectos!C72:I72),IF(EFECTOS!$N$9=\"HONDURAS\",LOOKUP(4,GEfectos!$C$4:$I$4,GEfectos!C72:I72),IF(EFECTOS!$N$9=\"NICARAGUA\",LOOKUP(5,GEfectos!$C$4:$I$4,GEfectos!C72:I72),IF(EFECTOS!$N$9=\"REPÚBLICA \nDOMINICANA\",LOOKUP(6,$C$4:$I$4,C72:I72),IF(EFECTOS!$N$9=\"PANAMÁ\",LOOKUP(7,GEfectos!$C$4:$I$4,GEfectos!C72:I72))))))))","v":100.78201471559908},{"$f":"IF(EFECTOS!$N$9=\"COSTA RICA\",LOOKUP(1,GEfectos!$J$4:$P$4,GEfectos!J72:P72),IF(EFECTOS!$N$9=\"EL SALVADOR\",LOOKUP(2,GEfectos!$J$4:$P$4,GEfectos!J72:P72),IF(EFECTOS!$N$9=\"GUATEMALA\",LOOKUP(3,GEfectos!$J$4:$P$4,GEfectos!J72:P72),IF(EFECTOS!$N$9=\"HONDURAS\",LOOKUP(4,GEfectos!$J$4:$P$4,GEfectos!J72:P72),IF(EFECTOS!$N$9=\"NICARAGUA\",LOOKUP(5,GEfectos!$J$4:$P$4,GEfectos!J72:P72),IF(EFECTOS!$N$9=\"REPÚBLICA \nDOMINICANA\",LOOKUP(6,$J$4:$P$4,J72:P72),IF(EFECTOS!$N$9=\"PANAMÁ\",LOOKUP(7,GEfectos!$J$4:$P$4,GEfectos!J72:P72))))))))","v":98.13233081467682},{"$f":"IF(EFECTOS!$N$9=\"COSTA RICA\",LOOKUP(1,GEfectos!$Q$4:$W$4,GEfectos!Q72:W72),IF(EFECTOS!$N$9=\"EL SALVADOR\",LOOKUP(2,GEfectos!$Q$4:$W$4,GEfectos!Q72:W72),IF(EFECTOS!$N$9=\"GUATEMALA\",LOOKUP(3,GEfectos!$Q$4:$W$4,GEfectos!Q72:W72),IF(EFECTOS!$N$9=\"HONDURAS\",LOOKUP(4,GEfectos!$Q$4:$W$4,GEfectos!Q72:W72),IF(EFECTOS!$N$9=\"NICARAGUA\",LOOKUP(5,GEfectos!$Q$4:$W$4,GEfectos!Q72:W72),IF(EFECTOS!$N$9=\"REPÚBLICA \nDOMINICANA\",LOOKUP(6,$Q$4:$W$4,Q72:W72),IF(EFECTOS!$N$9=\"PANAMÁ\",LOOKUP(7,GEfectos!$Q$4:$W$4,GEfectos!Q72:W72))))))))","v":97.370876233820582},100]
[null,{"$f":"'ITCER GLOBAL'!B73","v":"Agosto"},{"$f":"'ITCER GLOBAL'!C73","v":100.32075603086379},{"$f":"'ITCER GLOBAL'!D73","v":100.13795052630881},{"$f":"'ITCER GLOBAL'!E73","v":102.39020933208718},{"$f":"'ITCER GLOBAL'!F73","v":100.51908878064661},{"$f":"'ITCER GLOBAL'!G73","v":101.09995886331595},{"$f":"'ITCER GLOBAL'!H73","v":102.31021419375371},{"$f":"'ITCER GLOBAL'!I73","v":100.05183513912799},{"$f":"'ITCER GLOBAL'!S73","v":98.270226421350827},{"$f":"'ITCER GLOBAL'!T73","v":100.78350142953036},{"$f":"'ITCER GLOBAL'!U73","v":101.31515376424535},{"$f":"'ITCER GLOBAL'!V73","v":99.155055479634086},{"$f":"'ITCER GLOBAL'!W73","v":98.764536193174962},{"$f":"'ITCER GLOBAL'!X73","v":97.506992613508714},{"$f":"'ITCER GLOBAL'!Y73","v":101.09769904325975},{"$f":"'ITCER GLOBAL'!AA73","v":97.956026558569675},{"$f":"'ITCER GLOBAL'!AB73","v":100.64466158916639},{"$f":"'ITCER GLOBAL'!AC73","v":98.950040658325989},{"$f":"'ITCER GLOBAL'!AD73","v":98.643010678310944},{"$f":"'ITCER GLOBAL'!AE73","v":97.689986527790381},{"$f":"'ITCER GLOBAL'!AF73","v":95.305237489632532},{"$f":"'ITCER GLOBAL'!AG73","v":101.04532205998764},null,{"$f":"IF(EFECTOS!$N$9=\"COSTA RICA\",LOOKUP(1,GEfectos!$C$4:$I$4,GEfectos!C73:I73),IF(EFECTOS!$N$9=\"EL SALVADOR\",LOOKUP(2,GEfectos!$C$4:$I$4,GEfectos!C73:I73),IF(EFECTOS!$N$9=\"GUATEMALA\",LOOKUP(3,GEfectos!$C$4:$I$4,GEfectos!C73:I73),IF(EFECTOS!$N$9=\"HONDURAS\",LOOKUP(4,GEfectos!$C$4:$I$4,GEfectos!C73:I73),IF(EFECTOS!$N$9=\"NICARAGUA\",LOOKUP(5,GEfectos!$C$4:$I$4,GEfectos!C73:I73),IF(EFECTOS!$N$9=\"REPÚBLICA \nDOMINICANA\",LOOKUP(6,$C$4:$I$4,C73:I73),IF(EFECTOS!$N$9=\"PANAMÁ\",LOOKUP(7,GEfectos!$C$4:$I$4,GEfectos!C73:I73))))))))","v":100.32075603086379},{"$f":"IF(EFECTOS!$N$9=\"COSTA RICA\",LOOKUP(1,GEfectos!$J$4:$P$4,GEfectos!J73:P73),IF(EFECTOS!$N$9=\"EL SALVADOR\",LOOKUP(2,GEfectos!$J$4:$P$4,GEfectos!J73:P73),IF(EFECTOS!$N$9=\"GUATEMALA\",LOOKUP(3,GEfectos!$J$4:$P$4,GEfectos!J73:P73),IF(EFECTOS!$N$9=\"HONDURAS\",LOOKUP(4,GEfectos!$J$4:$P$4,GEfectos!J73:P73),IF(EFECTOS!$N$9=\"NICARAGUA\",LOOKUP(5,GEfectos!$J$4:$P$4,GEfectos!J73:P73),IF(EFECTOS!$N$9=\"REPÚBLICA \nDOMINICANA\",LOOKUP(6,$J$4:$P$4,J73:P73),IF(EFECTOS!$N$9=\"PANAMÁ\",LOOKUP(7,GEfectos!$J$4:$P$4,GEfectos!J73:P73))))))))","v":98.270226421350827},{"$f":"IF(EFECTOS!$N$9=\"COSTA RICA\",LOOKUP(1,GEfectos!$Q$4:$W$4,GEfectos!Q73:W73),IF(EFECTOS!$N$9=\"EL SALVADOR\",LOOKUP(2,GEfectos!$Q$4:$W$4,GEfectos!Q73:W73),IF(EFECTOS!$N$9=\"GUATEMALA\",LOOKUP(3,GEfectos!$Q$4:$W$4,GEfectos!Q73:W73),IF(EFECTOS!$N$9=\"HONDURAS\",LOOKUP(4,GEfectos!$Q$4:$W$4,GEfectos!Q73:W73),IF(EFECTOS!$N$9=\"NICARAGUA\",LOOKUP(5,GEfectos!$Q$4:$W$4,GEfectos!Q73:W73),IF(EFECTOS!$N$9=\"REPÚBLICA \nDOMINICANA\",LOOKUP(6,$Q$4:$W$4,Q73:W73),IF(EFECTOS!$N$9=\"PANAMÁ\",LOOKUP(7,GEfectos!$Q$4:$W$4,GEfectos!Q73:W73))))))))","v":97.956026558569675},100]
[null,{"$f":"'ITCER GLOBAL'!B74","v":"Septiembre"},{"$f":"'ITCER GLOBAL'!C74","v":100.53813839419779},{"$f":"'ITCER GLOBAL'!D74","v":99.775989054576598},{"$f":"'ITCER GLOBAL'!E74","v":103.0300048559441},{"$f":"'ITCER GLOBAL'!F74","v":100.87499338903277},{"$f":"'ITCER GLOBAL'!G74","v":101.04451113008142},{"$f":"'ITCER GLOBAL'!H74","v":100.77979875983992},{"$f":"'ITCER GLOBAL'!I74","v":99.60526893878928},{"$f":"'ITCER GLOBAL'!S74","v":98.373490731146518},{"$f":"'ITCER GLOBAL'!T74","v":100.17174124846888},{"$f":"'ITCER GLOBAL'!U74","v":101.52011844217905},{"$f":"'ITCER GLOBAL'!V74","v":99.204290088222351},{"$f":"'ITCER GLOBAL'!W74","v":98.717549385589066},{"$f":"'ITCER GLOBAL'!X74","v":99.215048372437877},{"$f":"'ITCER GLOBAL'!Y74","v":100.60936222264105},{"$f":"'ITCER GLOBAL'!AA74","v":97.846938785991881},{"$f":"'ITCER GLOBAL'!AB74","v":100.39664071250229},{"$f":"'ITCER GLOBAL'!AC74","v":98.534517768997347},{"$f":"'ITCER GLOBAL'!AD74","v":98.343788440840626},{"$f":"'ITCER GLOBAL'!AE74","v":97.697092381894251},{"$f":"'ITCER GLOBAL'!AF74","v":98.447357102656184},{"$f":"'ITCER GLOBAL'!AG74","v":101.00807245896684},null,{"$f":"IF(EFECTOS!$N$9=\"COSTA RICA\",LOOKUP(1,GEfectos!$C$4:$I$4,GEfectos!C74:I74),IF(EFECTOS!$N$9=\"EL SALVADOR\",LOOKUP(2,GEfectos!$C$4:$I$4,GEfectos!C74:I74),IF(EFECTOS!$N$9=\"GUATEMALA\",LOOKUP(3,GEfectos!$C$4:$I$4,GEfectos!C74:I74),IF(EFECTOS!$N$9=\"HONDURAS\",LOOKUP(4,GEfectos!$C$4:$I$4,GEfectos!C74:I74),IF(EFECTOS!$N$9=\"NICARAGUA\",LOOKUP(5,GEfectos!$C$4:$I$4,GEfectos!C74:I74),IF(EFECTOS!$N$9=\"REPÚBLICA \nDOMINICANA\",LOOKUP(6,$C$4:$I$4,C74:I74),IF(EFECTOS!$N$9=\"PANAMÁ\",LOOKUP(7,GEfectos!$C$4:$I$4,GEfectos!C74:I74))))))))","v":100.53813839419779},{"$f":"IF(EFECTOS!$N$9=\"COSTA RICA\",LOOKUP(1,GEfectos!$J$4:$P$4,GEfectos!J74:P74),IF(EFECTOS!$N$9=\"EL SALVADOR\",LOOKUP(2,GEfectos!$J$4:$P$4,GEfectos!J74:P74),IF(EFECTOS!$N$9=\"GUATEMALA\",LOOKUP(3,GEfectos!$J$4:$P$4,GEfectos!J74:P74),IF(EFECTOS!$N$9=\"HONDURAS\",LOOKUP(4,GEfectos!$J$4:$P$4,GEfectos!J74:P74),IF(EFECTOS!$N$9=\"NICARAGUA\",LOOKUP(5,GEfectos!$J$4:$P$4,GEfectos!J74:P74),IF(EFECTOS!$N$9=\"REPÚBLICA \nDOMINICANA\",LOOKUP(6,$J$4:$P$4,J74:P74),IF(EFECTOS!$N$9=\"PANAMÁ\",LOOKUP(7,GEfectos!$J$4:$P$4,GEfectos!J74:P74))))))))","v":98.373490731146518},{"$f":"IF(EFECTOS!$N$9=\"COSTA RICA\",LOOKUP(1,GEfectos!$Q$4:$W$4,GEfectos!Q74:W74),IF(EFECTOS!$N$9=\"EL SALVADOR\",LOOKUP(2,GEfectos!$Q$4:$W$4,GEfectos!Q74:W74),IF(EFECTOS!$N$9=\"GUATEMALA\",LOOKUP(3,GEfectos!$Q$4:$W$4,GEfectos!Q74:W74),IF(EFECTOS!$N$9=\"HONDURAS\",LOOKUP(4,GEfectos!$Q$4:$W$4,GEfectos!Q74:W74),IF(EFECTOS!$N$9=\"NICARAGUA\",LOOKUP(5,GEfectos!$Q$4:$W$4,GEfectos!Q74:W74),IF(EFECTOS!$N$9=\"REPÚBLICA \nDOMINICANA\",LOOKUP(6,$Q$4:$W$4,Q74:W74),IF(EFECTOS!$N$9=\"PANAMÁ\",LOOKUP(7,GEfectos!$Q$4:$W$4,GEfectos!Q74:W74))))))))","v":97.846938785991881},100]
[null,{"$f":"'ITCER GLOBAL'!B75","v":"Octubre"},{"$f":"'ITCER GLOBAL'!C75","v":100.26677596336904},{"$f":"'ITCER GLOBAL'!D75","v":99.530591233973567},{"$f":"'ITCER GLOBAL'!E75","v":102.58348014037928},{"$f":"'ITCER GLOBAL'!F75","v":100.48490125603863},{"$f":"'ITCER GLOBAL'!G75","v":100.17901015873589},{"$f":"'ITCER GLOBAL'!H75","v":100.84828726618798},{"$f":"'ITCER GLOBAL'!I75","v":99.491777639760798},{"$f":"'ITCER GLOBAL'!S75","v":98.548938626410589},{"$f":"'ITCER GLOBAL'!T75","v":99.639573582248289},{"$f":"'ITCER GLOBAL'!U75","v":101.18914327617048},{"$f":"'ITCER GLOBAL'!V75","v":99.164604521056859},{"$f":"'ITCER GLOBAL'!W75","v":98.733419680982109},{"$f":"'ITCER GLOBAL'!X75","v":99.384220630359863},{"$f":"'ITCER GLOBAL'!Y75","v":100.04359936049975},{"$f":"'ITCER GLOBAL'!AA75","v":98.286733246927142},{"$f":"'ITCER GLOBAL'!AB75","v":100.10949633366342},{"$f":"'ITCER GLOBAL'!AC75","v":98.640778357001807},{"$f":"'ITCER GLOBAL'!AD75","v":98.686074506240885},{"$f":"'ITCER GLOBAL'!AE75","v":98.556992651990456},{"$f":"'ITCER GLOBAL'!AF75","v":98.548248388231187},{"$f":"'ITCER GLOBAL'!AG75","v":100.5546405279208},null,{"$f":"IF(EFECTOS!$N$9=\"COSTA RICA\",LOOKUP(1,GEfectos!$C$4:$I$4,GEfectos!C75:I75),IF(EFECTOS!$N$9=\"EL SALVADOR\",LOOKUP(2,GEfectos!$C$4:$I$4,GEfectos!C75:I75),IF(EFECTOS!$N$9=\"GUATEMALA\",LOOKUP(3,GEfectos!$C$4:$I$4,GEfectos!C75:I75),IF(EFECTOS!$N$9=\"HONDURAS\",LOOKUP(4,GEfectos!$C$4:$I$4,GEfectos!C75:I75),IF(EFECTOS!$N$9=\"NICARAGUA\",LOOKUP(5,GEfectos!$C$4:$I$4,GEfectos!C75:I75),IF(EFECTOS!$N$9=\"REPÚBLICA \nDOMINICANA\",LOOKUP(6,$C$4:$I$4,C75:I75),IF(EFECTOS!$N$9=\"PANAMÁ\",LOOKUP(7,GEfectos!$C$4:$I$4,GEfectos!C75:I75))))))))","v":100.26677596336904},{"$f":"IF(EFECTOS!$N$9=\"COSTA RICA\",LOOKUP(1,GEfectos!$J$4:$P$4,GEfectos!J75:P75),IF(EFECTOS!$N$9=\"EL SALVADOR\",LOOKUP(2,GEfectos!$J$4:$P$4,GEfectos!J75:P75),IF(EFECTOS!$N$9=\"GUATEMALA\",LOOKUP(3,GEfectos!$J$4:$P$4,GEfectos!J75:P75),IF(EFECTOS!$N$9=\"HONDURAS\",LOOKUP(4,GEfectos!$J$4:$P$4,GEfectos!J75:P75),IF(EFECTOS!$N$9=\"NICARAGUA\",LOOKUP(5,GEfectos!$J$4:$P$4,GEfectos!J75:P75),IF(EFECTOS!$N$9=\"REPÚBLICA \nDOMINICANA\",LOOKUP(6,$J$4:$P$4,J75:P75),IF(EFECTOS!$N$9=\"PANAMÁ\",LOOKUP(7,GEfectos!$J$4:$P$4,GEfectos!J75:P75))))))))","v":98.548938626410589},{"$f":"IF(EFECTOS!$N$9=\"COSTA RICA\",LOOKUP(1,GEfectos!$Q$4:$W$4,GEfectos!Q75:W75),IF(EFECTOS!$N$9=\"EL SALVADOR\",LOOKUP(2,GEfectos!$Q$4:$W$4,GEfectos!Q75:W75),IF(EFECTOS!$N$9=\"GUATEMALA\",LOOKUP(3,GEfectos!$Q$4:$W$4,GEfectos!Q75:W75),IF(EFECTOS!$N$9=\"HONDURAS\",LOOKUP(4,GEfectos!$Q$4:$W$4,GEfectos!Q75:W75),IF(EFECTOS!$N$9=\"NICARAGUA\",LOOKUP(5,GEfectos!$Q$4:$W$4,GEfectos!Q75:W75),IF(EFECTOS!$N$9=\"REPÚBLICA \nDOMINICANA\",LOOKUP(6,$Q$4:$W$4,Q75:W75),IF(EFECTOS!$N$9=\"PANAMÁ\",LOOKUP(7,GEfectos!$Q$4:$W$4,GEfectos!Q75:W75))))))))","v":98.286733246927142},100]
[null,{"$f":"'ITCER GLOBAL'!B76","v":"Noviembre"},{"$f":"'ITCER GLOBAL'!C76","v":100.10628958472419},{"$f":"'ITCER GLOBAL'!D76","v":99.675578527957228},{"$f":"'ITCER GLOBAL'!E76","v":101.27683128959106},{"$f":"'ITCER GLOBAL'!F76","v":99.857817047566556},{"$f":"'ITCER GLOBAL'!G76","v":99.893796221500864},{"$f":"'ITCER GLOBAL'!H76","v":100.65375159965765},{"$f":"'ITCER GLOBAL'!I76","v":99.798275071304261},{"$f":"'ITCER GLOBAL'!S76","v":99.065524801360482},{"$f":"'ITCER GLOBAL'!T76","v":99.647118965860315},{"$f":"'ITCER GLOBAL'!U76","v":100.38015942406315},{"$f":"'ITCER GLOBAL'!V76","v":99.479026251789421},{"$f":"'ITCER GLOBAL'!W76","v":99.179190560819066},{"$f":"'ITCER GLOBAL'!X76","v":99.583606748301378},{"$f":"'ITCER GLOBAL'!Y76","v":99.935385304043933},{"$f":"'ITCER GLOBAL'!AA76","v":98.960340266649411},{"$f":"'ITCER GLOBAL'!AB76","v":99.971447808462983},{"$f":"'ITCER GLOBAL'!AC76","v":99.114632780162765},{"$f":"'ITCER GLOBAL'!AD76","v":99.620669861432376},{"$f":"'ITCER GLOBAL'!AE76","v":99.284634594227199},{"$f":"'ITCER GLOBAL'!AF76","v":98.936805797748406},{"$f":"'ITCER GLOBAL'!AG76","v":100.13738737732862},null,{"$f":"IF(EFECTOS!$N$9=\"COSTA RICA\",LOOKUP(1,GEfectos!$C$4:$I$4,GEfectos!C76:I76),IF(EFECTOS!$N$9=\"EL SALVADOR\",LOOKUP(2,GEfectos!$C$4:$I$4,GEfectos!C76:I76),IF(EFECTOS!$N$9=\"GUATEMALA\",LOOKUP(3,GEfectos!$C$4:$I$4,GEfectos!C76:I76),IF(EFECTOS!$N$9=\"HONDURAS\",LOOKUP(4,GEfectos!$C$4:$I$4,GEfectos!C76:I76),IF(EFECTOS!$N$9=\"NICARAGUA\",LOOKUP(5,GEfectos!$C$4:$I$4,GEfectos!C76:I76),IF(EFECTOS!$N$9=\"REPÚBLICA \nDOMINICANA\",LOOKUP(6,$C$4:$I$4,C76:I76),IF(EFECTOS!$N$9=\"PANAMÁ\",LOOKUP(7,GEfectos!$C$4:$I$4,GEfectos!C76:I76))))))))","v":100.10628958472419},{"$f":"IF(EFECTOS!$N$9=\"COSTA RICA\",LOOKUP(1,GEfectos!$J$4:$P$4,GEfectos!J76:P76),IF(EFECTOS!$N$9=\"EL SALVADOR\",LOOKUP(2,GEfectos!$J$4:$P$4,GEfectos!J76:P76),IF(EFECTOS!$N$9=\"GUATEMALA\",LOOKUP(3,GEfectos!$J$4:$P$4,GEfectos!J76:P76),IF(EFECTOS!$N$9=\"HONDURAS\",LOOKUP(4,GEfectos!$J$4:$P$4,GEfectos!J76:P76),IF(EFECTOS!$N$9=\"NICARAGUA\",LOOKUP(5,GEfectos!$J$4:$P$4,GEfectos!J76:P76),IF(EFECTOS!$N$9=\"REPÚBLICA \nDOMINICANA\",LOOKUP(6,$J$4:$P$4,J76:P76),IF(EFECTOS!$N$9=\"PANAMÁ\",LOOKUP(7,GEfectos!$J$4:$P$4,GEfectos!J76:P76))))))))","v":99.065524801360482},{"$f":"IF(EFECTOS!$N$9=\"COSTA RICA\",LOOKUP(1,GEfectos!$Q$4:$W$4,GEfectos!Q76:W76),IF(EFECTOS!$N$9=\"EL SALVADOR\",LOOKUP(2,GEfectos!$Q$4:$W$4,GEfectos!Q76:W76),IF(EFECTOS!$N$9=\"GUATEMALA\",LOOKUP(3,GEfectos!$Q$4:$W$4,GEfectos!Q76:W76),IF(EFECTOS!$N$9=\"HONDURAS\",LOOKUP(4,GEfectos!$Q$4:$W$4,GEfectos!Q76:W76),IF(EFECTOS!$N$9=\"NICARAGUA\",LOOKUP(5,GEfectos!$Q$4:$W$4,GEfectos!Q76:W76),IF(EFECTOS!$N$9=\"REPÚBLICA \nDOMINICANA\",LOOKUP(6,$Q$4:$W$4,Q76:W76),IF(EFECTOS!$N$9=\"PANAMÁ\",LOOKUP(7,GEfectos!$Q$4:$W$4,GEfectos!Q76:W76))))))))","v":98.960340266649411},100]
[null,{"$f":"'ITCER GLOBAL'!B77","v":"Diciembre"},{"$f":"'ITCER GLOBAL'!C77","v":100},{"$f":"'ITCER GLOBAL'!D77","v":100},{"$f":"'ITCER GLOBAL'!E77","v":100},{"$f":"'ITCER GLOBAL'!F77","v":100},{"$f":"'ITCER GLOBAL'!G77","v":100},{"$f":"'ITCER GLOBAL'!H77","v":100},{"$f":"'ITCER GLOBAL'!I77","v":100},{"$f":"'ITCER GLOBAL'!S77","v":100},{"$f":"'ITCER GLOBAL'!T77","v":100},{"$f":"'ITCER GLOBAL'!U77","v":100},{"$f":"'ITCER GLOBAL'!V77","v":100},{"$f":"'ITCER GLOBAL'!W77","v":100},{"$f":"'ITCER GLOBAL'!X77","v":100},{"$f":"'ITCER GLOBAL'!Y77","v":100},{"$f":"'ITCER GLOBAL'!AA77","v":100},{"$f":"'ITCER GLOBAL'!AB77","v":100},{"$f":"'ITCER GLOBAL'!AC77","v":100},{"$f":"'ITCER GLOBAL'!AD77","v":100},{"$f":"'ITCER GLOBAL'!AE77","v":100},{"$f":"'ITCER GLOBAL'!AF77","v":100},{"$f":"'ITCER GLOBAL'!AG77","v":100},null,{"$f":"IF(EFECTOS!$N$9=\"COSTA RICA\",LOOKUP(1,GEfectos!$C$4:$I$4,GEfectos!C77:I77),IF(EFECTOS!$N$9=\"EL SALVADOR\",LOOKUP(2,GEfectos!$C$4:$I$4,GEfectos!C77:I77),IF(EFECTOS!$N$9=\"GUATEMALA\",LOOKUP(3,GEfectos!$C$4:$I$4,GEfectos!C77:I77),IF(EFECTOS!$N$9=\"HONDURAS\",LOOKUP(4,GEfectos!$C$4:$I$4,GEfectos!C77:I77),IF(EFECTOS!$N$9=\"NICARAGUA\",LOOKUP(5,GEfectos!$C$4:$I$4,GEfectos!C77:I77),IF(EFECTOS!$N$9=\"REPÚBLICA \nDOMINICANA\",LOOKUP(6,$C$4:$I$4,C77:I77),IF(EFECTOS!$N$9=\"PANAMÁ\",LOOKUP(7,GEfectos!$C$4:$I$4,GEfectos!C77:I77))))))))","v":100},{"$f":"IF(EFECTOS!$N$9=\"COSTA RICA\",LOOKUP(1,GEfectos!$J$4:$P$4,GEfectos!J77:P77),IF(EFECTOS!$N$9=\"EL SALVADOR\",LOOKUP(2,GEfectos!$J$4:$P$4,GEfectos!J77:P77),IF(EFECTOS!$N$9=\"GUATEMALA\",LOOKUP(3,GEfectos!$J$4:$P$4,GEfectos!J77:P77),IF(EFECTOS!$N$9=\"HONDURAS\",LOOKUP(4,GEfectos!$J$4:$P$4,GEfectos!J77:P77),IF(EFECTOS!$N$9=\"NICARAGUA\",LOOKUP(5,GEfectos!$J$4:$P$4,GEfectos!J77:P77),IF(EFECTOS!$N$9=\"REPÚBLICA \nDOMINICANA\",LOOKUP(6,$J$4:$P$4,J77:P77),IF(EFECTOS!$N$9=\"PANAMÁ\",LOOKUP(7,GEfectos!$J$4:$P$4,GEfectos!J77:P77))))))))","v":100},{"$f":"IF(EFECTOS!$N$9=\"COSTA RICA\",LOOKUP(1,GEfectos!$Q$4:$W$4,GEfectos!Q77:W77),IF(EFECTOS!$N$9=\"EL SALVADOR\",LOOKUP(2,GEfectos!$Q$4:$W$4,GEfectos!Q77:W77),IF(EFECTOS!$N$9=\"GUATEMALA\",LOOKUP(3,GEfectos!$Q$4:$W$4,GEfectos!Q77:W77),IF(EFECTOS!$N$9=\"HONDURAS\",LOOKUP(4,GEfectos!$Q$4:$W$4,GEfectos!Q77:W77),IF(EFECTOS!$N$9=\"NICARAGUA\",LOOKUP(5,GEfectos!$Q$4:$W$4,GEfectos!Q77:W77),IF(EFECTOS!$N$9=\"REPÚBLICA \nDOMINICANA\",LOOKUP(6,$Q$4:$W$4,Q77:W77),IF(EFECTOS!$N$9=\"PANAMÁ\",LOOKUP(7,GEfectos!$Q$4:$W$4,GEfectos!Q77:W77))))))))","v":100},100]
[2001,{"$f":"'ITCER GLOBAL'!B78","v":"Enero"},{"$f":"'ITCER GLOBAL'!C78","v":99.837965799477089},{"$f":"'ITCER GLOBAL'!D78","v":99.175724159917877},{"$f":"'ITCER GLOBAL'!E78","v":99.9514078601362},{"$f":"'ITCER GLOBAL'!F78","v":99.698314698470256},{"$f":"'ITCER GLOBAL'!G78","v":100.34481527792035},{"$f":"'ITCER GLOBAL'!H78","v":101.57931520195835},{"$f":"'ITCER GLOBAL'!I78","v":100.309870925792},{"$f":"'ITCER GLOBAL'!S78","v":100.6813022136504},{"$f":"'ITCER GLOBAL'!T78","v":100.29104432305822},{"$f":"'ITCER GLOBAL'!U78","v":100.66324459356983},{"$f":"'ITCER GLOBAL'!V78","v":99.929374888703961},{"$f":"'ITCER GLOBAL'!W78","v":100.37313665940009},{"$f":"'ITCER GLOBAL'!X78","v":100.55663646320538},{"$f":"'ITCER GLOBAL'!Y78","v":99.768252650412364},{"$f":"'ITCER GLOBAL'!AA78","v":100.84470512536998},{"$f":"'ITCER GLOBAL'!AB78","v":101.12458988586958},{"$f":"'ITCER GLOBAL'!AC78","v":100.71218279829506},{"$f":"'ITCER GLOBAL'!AD78","v":100.23175937420056},{"$f":"'ITCER GLOBAL'!AE78","v":100.02822406060672},{"$f":"'ITCER GLOBAL'!AF78","v":98.993221467658373},{"$f":"'ITCER GLOBAL'!AG78","v":99.460054857631789},null,{"$f":"IF(EFECTOS!$N$9=\"COSTA RICA\",LOOKUP(1,GEfectos!$C$4:$I$4,GEfectos!C78:I78),IF(EFECTOS!$N$9=\"EL SALVADOR\",LOOKUP(2,GEfectos!$C$4:$I$4,GEfectos!C78:I78),IF(EFECTOS!$N$9=\"GUATEMALA\",LOOKUP(3,GEfectos!$C$4:$I$4,GEfectos!C78:I78),IF(EFECTOS!$N$9=\"HONDURAS\",LOOKUP(4,GEfectos!$C$4:$I$4,GEfectos!C78:I78),IF(EFECTOS!$N$9=\"NICARAGUA\",LOOKUP(5,GEfectos!$C$4:$I$4,GEfectos!C78:I78),IF(EFECTOS!$N$9=\"REPÚBLICA \nDOMINICANA\",LOOKUP(6,$C$4:$I$4,C78:I78),IF(EFECTOS!$N$9=\"PANAMÁ\",LOOKUP(7,GEfectos!$C$4:$I$4,GEfectos!C78:I78))))))))","v":99.837965799477089},{"$f":"IF(EFECTOS!$N$9=\"COSTA RICA\",LOOKUP(1,GEfectos!$J$4:$P$4,GEfectos!J78:P78),IF(EFECTOS!$N$9=\"EL SALVADOR\",LOOKUP(2,GEfectos!$J$4:$P$4,GEfectos!J78:P78),IF(EFECTOS!$N$9=\"GUATEMALA\",LOOKUP(3,GEfectos!$J$4:$P$4,GEfectos!J78:P78),IF(EFECTOS!$N$9=\"HONDURAS\",LOOKUP(4,GEfectos!$J$4:$P$4,GEfectos!J78:P78),IF(EFECTOS!$N$9=\"NICARAGUA\",LOOKUP(5,GEfectos!$J$4:$P$4,GEfectos!J78:P78),IF(EFECTOS!$N$9=\"REPÚBLICA \nDOMINICANA\",LOOKUP(6,$J$4:$P$4,J78:P78),IF(EFECTOS!$N$9=\"PANAMÁ\",LOOKUP(7,GEfectos!$J$4:$P$4,GEfectos!J78:P78))))))))","v":100.6813022136504},{"$f":"IF(EFECTOS!$N$9=\"COSTA RICA\",LOOKUP(1,GEfectos!$Q$4:$W$4,GEfectos!Q78:W78),IF(EFECTOS!$N$9=\"EL SALVADOR\",LOOKUP(2,GEfectos!$Q$4:$W$4,GEfectos!Q78:W78),IF(EFECTOS!$N$9=\"GUATEMALA\",LOOKUP(3,GEfectos!$Q$4:$W$4,GEfectos!Q78:W78),IF(EFECTOS!$N$9=\"HONDURAS\",LOOKUP(4,GEfectos!$Q$4:$W$4,GEfectos!Q78:W78),IF(EFECTOS!$N$9=\"NICARAGUA\",LOOKUP(5,GEfectos!$Q$4:$W$4,GEfectos!Q78:W78),IF(EFECTOS!$N$9=\"REPÚBLICA \nDOMINICANA\",LOOKUP(6,$Q$4:$W$4,Q78:W78),IF(EFECTOS!$N$9=\"PANAMÁ\",LOOKUP(7,GEfectos!$Q$4:$W$4,GEfectos!Q78:W78))))))))","v":100.84470512536998},100]
[null,{"$f":"'ITCER GLOBAL'!B79","v":"Febrero"},{"$f":"'ITCER GLOBAL'!C79","v":99.398246717757374},{"$f":"'ITCER GLOBAL'!D79","v":99.804242471028431},{"$f":"'ITCER GLOBAL'!E79","v":98.595130028987427},{"$f":"'ITCER GLOBAL'!F79","v":99.102775409739806},{"$f":"'ITCER GLOBAL'!G79","v":99.862044133133438},{"$f":"'ITCER GLOBAL'!H79","v":101.95850981927661},{"$f":"'ITCER GLOBAL'!I79","v":100.54125994691952},{"$f":"'ITCER GLOBAL'!S79","v":101.0057011056458},{"$f":"'ITCER GLOBAL'!T79","v":100.23609787221174},{"$f":"'ITCER GLOBAL'!U79","v":99.679807754395355},{"$f":"'ITCER GLOBAL'!V79","v":100.22593576708765},{"$f":"'ITCER GLOBAL'!W79","v":100.68752135181667},{"$f":"'ITCER GLOBAL'!X79","v":100.69386955193194},{"$f":"'ITCER GLOBAL'!Y79","v":99.589773564149738},{"$f":"'ITCER GLOBAL'!AA79","v":101.61718585686205},{"$f":"'ITCER GLOBAL'!AB79","v":100.43270244880489},{"$f":"'ITCER GLOBAL'!AC79","v":101.10013316589675},{"$f":"'ITCER GLOBAL'!AD79","v":101.13332886259153},{"$f":"'ITCER GLOBAL'!AE79","v":100.82661758613986},{"$f":"'ITCER GLOBAL'!AF79","v":98.759652068683366},{"$f":"'ITCER GLOBAL'!AG79","v":99.053635907017551},null,{"$f":"IF(EFECTOS!$N$9=\"COSTA RICA\",LOOKUP(1,GEfectos!$C$4:$I$4,GEfectos!C79:I79),IF(EFECTOS!$N$9=\"EL SALVADOR\",LOOKUP(2,GEfectos!$C$4:$I$4,GEfectos!C79:I79),IF(EFECTOS!$N$9=\"GUATEMALA\",LOOKUP(3,GEfectos!$C$4:$I$4,GEfectos!C79:I79),IF(EFECTOS!$N$9=\"HONDURAS\",LOOKUP(4,GEfectos!$C$4:$I$4,GEfectos!C79:I79),IF(EFECTOS!$N$9=\"NICARAGUA\",LOOKUP(5,GEfectos!$C$4:$I$4,GEfectos!C79:I79),IF(EFECTOS!$N$9=\"REPÚBLICA \nDOMINICANA\",LOOKUP(6,$C$4:$I$4,C79:I79),IF(EFECTOS!$N$9=\"PANAMÁ\",LOOKUP(7,GEfectos!$C$4:$I$4,GEfectos!C79:I79))))))))","v":99.398246717757374},{"$f":"IF(EFECTOS!$N$9=\"COSTA RICA\",LOOKUP(1,GEfectos!$J$4:$P$4,GEfectos!J79:P79),IF(EFECTOS!$N$9=\"EL SALVADOR\",LOOKUP(2,GEfectos!$J$4:$P$4,GEfectos!J79:P79),IF(EFECTOS!$N$9=\"GUATEMALA\",LOOKUP(3,GEfectos!$J$4:$P$4,GEfectos!J79:P79),IF(EFECTOS!$N$9=\"HONDURAS\",LOOKUP(4,GEfectos!$J$4:$P$4,GEfectos!J79:P79),IF(EFECTOS!$N$9=\"NICARAGUA\",LOOKUP(5,GEfectos!$J$4:$P$4,GEfectos!J79:P79),IF(EFECTOS!$N$9=\"REPÚBLICA \nDOMINICANA\",LOOKUP(6,$J$4:$P$4,J79:P79),IF(EFECTOS!$N$9=\"PANAMÁ\",LOOKUP(7,GEfectos!$J$4:$P$4,GEfectos!J79:P79))))))))","v":101.0057011056458},{"$f":"IF(EFECTOS!$N$9=\"COSTA RICA\",LOOKUP(1,GEfectos!$Q$4:$W$4,GEfectos!Q79:W79),IF(EFECTOS!$N$9=\"EL SALVADOR\",LOOKUP(2,GEfectos!$Q$4:$W$4,GEfectos!Q79:W79),IF(EFECTOS!$N$9=\"GUATEMALA\",LOOKUP(3,GEfectos!$Q$4:$W$4,GEfectos!Q79:W79),IF(EFECTOS!$N$9=\"HONDURAS\",LOOKUP(4,GEfectos!$Q$4:$W$4,GEfectos!Q79:W79),IF(EFECTOS!$N$9=\"NICARAGUA\",LOOKUP(5,GEfectos!$Q$4:$W$4,GEfectos!Q79:W79),IF(EFECTOS!$N$9=\"REPÚBLICA \nDOMINICANA\",LOOKUP(6,$Q$4:$W$4,Q79:W79),IF(EFECTOS!$N$9=\"PANAMÁ\",LOOKUP(7,GEfectos!$Q$4:$W$4,GEfectos!Q79:W79))))))))","v":101.61718585686205},100]
[null,{"$f":"'ITCER GLOBAL'!B80","v":"Marzo"},{"$f":"'ITCER GLOBAL'!C80","v":98.224090328896338},{"$f":"'ITCER GLOBAL'!D80","v":99.767358744098146},{"$f":"'ITCER GLOBAL'!E80","v":97.550525436255256},{"$f":"'ITCER GLOBAL'!F80","v":98.517543065845345},{"$f":"'ITCER GLOBAL'!G80","v":100.35831019525848},{"$f":"'ITCER GLOBAL'!H80","v":102.38031081604205},{"$f":"'ITCER GLOBAL'!I80","v":100.04542860169524},{"$f":"'ITCER GLOBAL'!S80","v":101.22933841217174},{"$f":"'ITCER GLOBAL'!T80","v":99.996093754111683},{"$f":"'ITCER GLOBAL'!U80","v":98.784513608086925},{"$f":"'ITCER GLOBAL'!V80","v":100.2305716260493},{"$f":"'ITCER GLOBAL'!W80","v":100.73673143462581},{"$f":"'ITCER GLOBAL'!X80","v":100.41823757496485},{"$f":"'ITCER GLOBAL'!Y80","v":98.879243159392814},{"$f":"'ITCER GLOBAL'!AA80","v":103.05958352295505},{"$f":"'ITCER GLOBAL'!AB80","v":100.22926838285882},{"$f":"'ITCER GLOBAL'!AC80","v":101.26497337283746},{"$f":"'ITCER GLOBAL'!AD80","v":101.73880560445872},{"$f":"'ITCER GLOBAL'!AE80","v":100.37707015854598},{"$f":"'ITCER GLOBAL'!AF80","v":98.083544359810858},{"$f":"'ITCER GLOBAL'!AG80","v":98.834344098874027},null,{"$f":"IF(EFECTOS!$N$9=\"COSTA RICA\",LOOKUP(1,GEfectos!$C$4:$I$4,GEfectos!C80:I80),IF(EFECTOS!$N$9=\"EL SALVADOR\",LOOKUP(2,GEfectos!$C$4:$I$4,GEfectos!C80:I80),IF(EFECTOS!$N$9=\"GUATEMALA\",LOOKUP(3,GEfectos!$C$4:$I$4,GEfectos!C80:I80),IF(EFECTOS!$N$9=\"HONDURAS\",LOOKUP(4,GEfectos!$C$4:$I$4,GEfectos!C80:I80),IF(EFECTOS!$N$9=\"NICARAGUA\",LOOKUP(5,GEfectos!$C$4:$I$4,GEfectos!C80:I80),IF(EFECTOS!$N$9=\"REPÚBLICA \nDOMINICANA\",LOOKUP(6,$C$4:$I$4,C80:I80),IF(EFECTOS!$N$9=\"PANAMÁ\",LOOKUP(7,GEfectos!$C$4:$I$4,GEfectos!C80:I80))))))))","v":98.224090328896338},{"$f":"IF(EFECTOS!$N$9=\"COSTA RICA\",LOOKUP(1,GEfectos!$J$4:$P$4,GEfectos!J80:P80),IF(EFECTOS!$N$9=\"EL SALVADOR\",LOOKUP(2,GEfectos!$J$4:$P$4,GEfectos!J80:P80),IF(EFECTOS!$N$9=\"GUATEMALA\",LOOKUP(3,GEfectos!$J$4:$P$4,GEfectos!J80:P80),IF(EFECTOS!$N$9=\"HONDURAS\",LOOKUP(4,GEfectos!$J$4:$P$4,GEfectos!J80:P80),IF(EFECTOS!$N$9=\"NICARAGUA\",LOOKUP(5,GEfectos!$J$4:$P$4,GEfectos!J80:P80),IF(EFECTOS!$N$9=\"REPÚBLICA \nDOMINICANA\",LOOKUP(6,$J$4:$P$4,J80:P80),IF(EFECTOS!$N$9=\"PANAMÁ\",LOOKUP(7,GEfectos!$J$4:$P$4,GEfectos!J80:P80))))))))","v":101.22933841217174},{"$f":"IF(EFECTOS!$N$9=\"COSTA RICA\",LOOKUP(1,GEfectos!$Q$4:$W$4,GEfectos!Q80:W80),IF(EFECTOS!$N$9=\"EL SALVADOR\",LOOKUP(2,GEfectos!$Q$4:$W$4,GEfectos!Q80:W80),IF(EFECTOS!$N$9=\"GUATEMALA\",LOOKUP(3,GEfectos!$Q$4:$W$4,GEfectos!Q80:W80),IF(EFECTOS!$N$9=\"HONDURAS\",LOOKUP(4,GEfectos!$Q$4:$W$4,GEfectos!Q80:W80),IF(EFECTOS!$N$9=\"NICARAGUA\",LOOKUP(5,GEfectos!$Q$4:$W$4,GEfectos!Q80:W80),IF(EFECTOS!$N$9=\"REPÚBLICA \nDOMINICANA\",LOOKUP(6,$Q$4:$W$4,Q80:W80),IF(EFECTOS!$N$9=\"PANAMÁ\",LOOKUP(7,GEfectos!$Q$4:$W$4,GEfectos!Q80:W80))))))))","v":103.05958352295505},100]
[null,{"$f":"'ITCER GLOBAL'!B81","v":"Abril"},{"$f":"'ITCER GLOBAL'!C81","v":97.69042905370145},{"$f":"'ITCER GLOBAL'!D81","v":99.886293067153659},{"$f":"'ITCER GLOBAL'!E81","v":98.007383003731519},{"$f":"'ITCER GLOBAL'!F81","v":98.522762776056481},{"$f":"'ITCER GLOBAL'!G81","v":100.39287891348425},{"$f":"'ITCER GLOBAL'!H81","v":102.0242920190065},{"$f":"'ITCER GLOBAL'!I81","v":99.91201169226801},{"$f":"'ITCER GLOBAL'!S81","v":101.50531128537337},{"$f":"'ITCER GLOBAL'!T81","v":99.770893947069311},{"$f":"'ITCER GLOBAL'!U81","v":99.233450285524697},{"$f":"'ITCER GLOBAL'!V81","v":100.43874960124603},{"$f":"'ITCER GLOBAL'!W81","v":100.96970320613462},{"$f":"'ITCER GLOBAL'!X81","v":100.27404841046841},{"$f":"'ITCER GLOBAL'!Y81","v":98.443787777706319},{"$f":"'ITCER GLOBAL'!AA81","v":103.90507265514704},{"$f":"'ITCER GLOBAL'!AB81","v":99.884469513743241},{"$f":"'ITCER GLOBAL'!AC81","v":101.25099481714199},{"$f":"'ITCER GLOBAL'!AD81","v":101.94471487725592},{"$f":"'ITCER GLOBAL'!AE81","v":100.5745669402981},{"$f":"'ITCER GLOBAL'!AF81","v":98.284483455947893},{"$f":"'ITCER GLOBAL'!AG81","v":98.530483082370651},null,{"$f":"IF(EFECTOS!$N$9=\"COSTA RICA\",LOOKUP(1,GEfectos!$C$4:$I$4,GEfectos!C81:I81),IF(EFECTOS!$N$9=\"EL SALVADOR\",LOOKUP(2,GEfectos!$C$4:$I$4,GEfectos!C81:I81),IF(EFECTOS!$N$9=\"GUATEMALA\",LOOKUP(3,GEfectos!$C$4:$I$4,GEfectos!C81:I81),IF(EFECTOS!$N$9=\"HONDURAS\",LOOKUP(4,GEfectos!$C$4:$I$4,GEfectos!C81:I81),IF(EFECTOS!$N$9=\"NICARAGUA\",LOOKUP(5,GEfectos!$C$4:$I$4,GEfectos!C81:I81),IF(EFECTOS!$N$9=\"REPÚBLICA \nDOMINICANA\",LOOKUP(6,$C$4:$I$4,C81:I81),IF(EFECTOS!$N$9=\"PANAMÁ\",LOOKUP(7,GEfectos!$C$4:$I$4,GEfectos!C81:I81))))))))","v":97.69042905370145},{"$f":"IF(EFECTOS!$N$9=\"COSTA RICA\",LOOKUP(1,GEfectos!$J$4:$P$4,GEfectos!J81:P81),IF(EFECTOS!$N$9=\"EL SALVADOR\",LOOKUP(2,GEfectos!$J$4:$P$4,GEfectos!J81:P81),IF(EFECTOS!$N$9=\"GUATEMALA\",LOOKUP(3,GEfectos!$J$4:$P$4,GEfectos!J81:P81),IF(EFECTOS!$N$9=\"HONDURAS\",LOOKUP(4,GEfectos!$J$4:$P$4,GEfectos!J81:P81),IF(EFECTOS!$N$9=\"NICARAGUA\",LOOKUP(5,GEfectos!$J$4:$P$4,GEfectos!J81:P81),IF(EFECTOS!$N$9=\"REPÚBLICA \nDOMINICANA\",LOOKUP(6,$J$4:$P$4,J81:P81),IF(EFECTOS!$N$9=\"PANAMÁ\",LOOKUP(7,GEfectos!$J$4:$P$4,GEfectos!J81:P81))))))))","v":101.50531128537337},{"$f":"IF(EFECTOS!$N$9=\"COSTA RICA\",LOOKUP(1,GEfectos!$Q$4:$W$4,GEfectos!Q81:W81),IF(EFECTOS!$N$9=\"EL SALVADOR\",LOOKUP(2,GEfectos!$Q$4:$W$4,GEfectos!Q81:W81),IF(EFECTOS!$N$9=\"GUATEMALA\",LOOKUP(3,GEfectos!$Q$4:$W$4,GEfectos!Q81:W81),IF(EFECTOS!$N$9=\"HONDURAS\",LOOKUP(4,GEfectos!$Q$4:$W$4,GEfectos!Q81:W81),IF(EFECTOS!$N$9=\"NICARAGUA\",LOOKUP(5,GEfectos!$Q$4:$W$4,GEfectos!Q81:W81),IF(EFECTOS!$N$9=\"REPÚBLICA \nDOMINICANA\",LOOKUP(6,$Q$4:$W$4,Q81:W81),IF(EFECTOS!$N$9=\"PANAMÁ\",LOOKUP(7,GEfectos!$Q$4:$W$4,GEfectos!Q81:W81))))))))","v":103.90507265514704},100]
[null,{"$f":"'ITCER GLOBAL'!B82","v":"Mayo"},{"$f":"'ITCER GLOBAL'!C82","v":97.723070697194132},{"$f":"'ITCER GLOBAL'!D82","v":100.04114987704369},{"$f":"'ITCER GLOBAL'!E82","v":98.395044048474801},{"$f":"'ITCER GLOBAL'!F82","v":98.048288469685772},{"$f":"'ITCER GLOBAL'!G82","v":100.49659189471846},{"$f":"'ITCER GLOBAL'!H82","v":102.11642565417687},{"$f":"'ITCER GLOBAL'!I82","v":100.12373846953925},{"$f":"'ITCER GLOBAL'!S82","v":101.79949248971548},{"$f":"'ITCER GLOBAL'!T82","v":99.634386282941151},{"$f":"'ITCER GLOBAL'!U82","v":99.536892272813361},{"$f":"'ITCER GLOBAL'!V82","v":100.79287013952725},{"$f":"'ITCER GLOBAL'!W82","v":101.39794687225556},{"$f":"'ITCER GLOBAL'!X82","v":100.21005673183529},{"$f":"'ITCER GLOBAL'!Y82","v":98.351562291013778},{"$f":"'ITCER GLOBAL'!AA82","v":104.17140165923826},{"$f":"'ITCER GLOBAL'!AB82","v":99.593403719766826},{"$f":"'ITCER GLOBAL'!AC82","v":101.16047330978989},{"$f":"'ITCER GLOBAL'!AD82","v":102.7992142572586},{"$f":"'ITCER GLOBAL'!AE82","v":100.89690103967044},{"$f":"'ITCER GLOBAL'!AF82","v":98.133141744700694},{"$f":"'ITCER GLOBAL'!AG82","v":98.230013975092817},null,{"$f":"IF(EFECTOS!$N$9=\"COSTA RICA\",LOOKUP(1,GEfectos!$C$4:$I$4,GEfectos!C82:I82),IF(EFECTOS!$N$9=\"EL SALVADOR\",LOOKUP(2,GEfectos!$C$4:$I$4,GEfectos!C82:I82),IF(EFECTOS!$N$9=\"GUATEMALA\",LOOKUP(3,GEfectos!$C$4:$I$4,GEfectos!C82:I82),IF(EFECTOS!$N$9=\"HONDURAS\",LOOKUP(4,GEfectos!$C$4:$I$4,GEfectos!C82:I82),IF(EFECTOS!$N$9=\"NICARAGUA\",LOOKUP(5,GEfectos!$C$4:$I$4,GEfectos!C82:I82),IF(EFECTOS!$N$9=\"REPÚBLICA \nDOMINICANA\",LOOKUP(6,$C$4:$I$4,C82:I82),IF(EFECTOS!$N$9=\"PANAMÁ\",LOOKUP(7,GEfectos!$C$4:$I$4,GEfectos!C82:I82))))))))","v":97.723070697194132},{"$f":"IF(EFECTOS!$N$9=\"COSTA RICA\",LOOKUP(1,GEfectos!$J$4:$P$4,GEfectos!J82:P82),IF(EFECTOS!$N$9=\"EL SALVADOR\",LOOKUP(2,GEfectos!$J$4:$P$4,GEfectos!J82:P82),IF(EFECTOS!$N$9=\"GUATEMALA\",LOOKUP(3,GEfectos!$J$4:$P$4,GEfectos!J82:P82),IF(EFECTOS!$N$9=\"HONDURAS\",LOOKUP(4,GEfectos!$J$4:$P$4,GEfectos!J82:P82),IF(EFECTOS!$N$9=\"NICARAGUA\",LOOKUP(5,GEfectos!$J$4:$P$4,GEfectos!J82:P82),IF(EFECTOS!$N$9=\"REPÚBLICA \nDOMINICANA\",LOOKUP(6,$J$4:$P$4,J82:P82),IF(EFECTOS!$N$9=\"PANAMÁ\",LOOKUP(7,GEfectos!$J$4:$P$4,GEfectos!J82:P82))))))))","v":101.79949248971548},{"$f":"IF(EFECTOS!$N$9=\"COSTA RICA\",LOOKUP(1,GEfectos!$Q$4:$W$4,GEfectos!Q82:W82),IF(EFECTOS!$N$9=\"EL SALVADOR\",LOOKUP(2,GEfectos!$Q$4:$W$4,GEfectos!Q82:W82),IF(EFECTOS!$N$9=\"GUATEMALA\",LOOKUP(3,GEfectos!$Q$4:$W$4,GEfectos!Q82:W82),IF(EFECTOS!$N$9=\"HONDURAS\",LOOKUP(4,GEfectos!$Q$4:$W$4,GEfectos!Q82:W82),IF(EFECTOS!$N$9=\"NICARAGUA\",LOOKUP(5,GEfectos!$Q$4:$W$4,GEfectos!Q82:W82),IF(EFECTOS!$N$9=\"REPÚBLICA \nDOMINICANA\",LOOKUP(6,$Q$4:$W$4,Q82:W82),IF(EFECTOS!$N$9=\"PANAMÁ\",LOOKUP(7,GEfectos!$Q$4:$W$4,GEfectos!Q82:W82))))))))","v":104.17140165923826},100]
[null,{"$f":"'ITCER GLOBAL'!B83","v":"Junio"},{"$f":"'ITCER GLOBAL'!C83","v":97.9050919155749},{"$f":"'ITCER GLOBAL'!D83","v":99.907751091626153},{"$f":"'ITCER GLOBAL'!E83","v":98.026373930068019},{"$f":"'ITCER GLOBAL'!F83","v":97.852641393750346},{"$f":"'ITCER GLOBAL'!G83","v":100.19973893655434},{"$f":"'ITCER GLOBAL'!H83","v":102.69269483921815},{"$f":"'ITCER GLOBAL'!I83","v":100.74440748805986},{"$f":"'ITCER GLOBAL'!S83","v":102.11262115259765},{"$f":"'ITCER GLOBAL'!T83","v":99.402856379038568},{"$f":"'ITCER GLOBAL'!U83","v":99.765600336002862},{"$f":"'ITCER GLOBAL'!V83","v":101.0523103285468},{"$f":"'ITCER GLOBAL'!W83","v":101.58275828615871},{"$f":"'ITCER GLOBAL'!X83","v":100.08017115678216},{"$f":"'ITCER GLOBAL'!Y83","v":98.132047128828219},{"$f":"'ITCER GLOBAL'!AA83","v":104.29755915111237},{"$f":"'ITCER GLOBAL'!AB83","v":99.494639097496503},{"$f":"'ITCER GLOBAL'!AC83","v":101.77424333493718},{"$f":"'ITCER GLOBAL'!AD83","v":103.26988509377205},{"$f":"'ITCER GLOBAL'!AE83","v":101.38026242810881},{"$f":"'ITCER GLOBAL'!AF83","v":97.455979038697635},{"$f":"'ITCER GLOBAL'!AG83","v":97.406942554561894},null,{"$f":"IF(EFECTOS!$N$9=\"COSTA RICA\",LOOKUP(1,GEfectos!$C$4:$I$4,GEfectos!C83:I83),IF(EFECTOS!$N$9=\"EL SALVADOR\",LOOKUP(2,GEfectos!$C$4:$I$4,GEfectos!C83:I83),IF(EFECTOS!$N$9=\"GUATEMALA\",LOOKUP(3,GEfectos!$C$4:$I$4,GEfectos!C83:I83),IF(EFECTOS!$N$9=\"HONDURAS\",LOOKUP(4,GEfectos!$C$4:$I$4,GEfectos!C83:I83),IF(EFECTOS!$N$9=\"NICARAGUA\",LOOKUP(5,GEfectos!$C$4:$I$4,GEfectos!C83:I83),IF(EFECTOS!$N$9=\"REPÚBLICA \nDOMINICANA\",LOOKUP(6,$C$4:$I$4,C83:I83),IF(EFECTOS!$N$9=\"PANAMÁ\",LOOKUP(7,GEfectos!$C$4:$I$4,GEfectos!C83:I83))))))))","v":97.9050919155749},{"$f":"IF(EFECTOS!$N$9=\"COSTA RICA\",LOOKUP(1,GEfectos!$J$4:$P$4,GEfectos!J83:P83),IF(EFECTOS!$N$9=\"EL SALVADOR\",LOOKUP(2,GEfectos!$J$4:$P$4,GEfectos!J83:P83),IF(EFECTOS!$N$9=\"GUATEMALA\",LOOKUP(3,GEfectos!$J$4:$P$4,GEfectos!J83:P83),IF(EFECTOS!$N$9=\"HONDURAS\",LOOKUP(4,GEfectos!$J$4:$P$4,GEfectos!J83:P83),IF(EFECTOS!$N$9=\"NICARAGUA\",LOOKUP(5,GEfectos!$J$4:$P$4,GEfectos!J83:P83),IF(EFECTOS!$N$9=\"REPÚBLICA \nDOMINICANA\",LOOKUP(6,$J$4:$P$4,J83:P83),IF(EFECTOS!$N$9=\"PANAMÁ\",LOOKUP(7,GEfectos!$J$4:$P$4,GEfectos!J83:P83))))))))","v":102.11262115259765},{"$f":"IF(EFECTOS!$N$9=\"COSTA RICA\",LOOKUP(1,GEfectos!$Q$4:$W$4,GEfectos!Q83:W83),IF(EFECTOS!$N$9=\"EL SALVADOR\",LOOKUP(2,GEfectos!$Q$4:$W$4,GEfectos!Q83:W83),IF(EFECTOS!$N$9=\"GUATEMALA\",LOOKUP(3,GEfectos!$Q$4:$W$4,GEfectos!Q83:W83),IF(EFECTOS!$N$9=\"HONDURAS\",LOOKUP(4,GEfectos!$Q$4:$W$4,GEfectos!Q83:W83),IF(EFECTOS!$N$9=\"NICARAGUA\",LOOKUP(5,GEfectos!$Q$4:$W$4,GEfectos!Q83:W83),IF(EFECTOS!$N$9=\"REPÚBLICA \nDOMINICANA\",LOOKUP(6,$Q$4:$W$4,Q83:W83),IF(EFECTOS!$N$9=\"PANAMÁ\",LOOKUP(7,GEfectos!$Q$4:$W$4,GEfectos!Q83:W83))))))))","v":104.29755915111237},100]
[null,{"$f":"'ITCER GLOBAL'!B84","v":"Julio"},{"$f":"'ITCER GLOBAL'!C84","v":97.635957669770605},{"$f":"'ITCER GLOBAL'!D84","v":99.797883720431258},{"$f":"'ITCER GLOBAL'!E84","v":96.861791210759819},{"$f":"'ITCER GLOBAL'!F84","v":97.45754124254573},{"$f":"'ITCER GLOBAL'!G84","v":100.90735877176196},{"$f":"'ITCER GLOBAL'!H84","v":102.60977900497937},{"$f":"'ITCER GLOBAL'!I84","v":100.30935452763036},{"$f":"'ITCER GLOBAL'!S84","v":102.66107027967408},{"$f":"'ITCER GLOBAL'!T84","v":99.259924312209506},{"$f":"'ITCER GLOBAL'!U84","v":99.589846106056484},{"$f":"'ITCER GLOBAL'!V84","v":101.32631915326496},{"$f":"'ITCER GLOBAL'!W84","v":101.91698321660849},{"$f":"'ITCER GLOBAL'!X84","v":100.00891324827927},{"$f":"'ITCER GLOBAL'!Y84","v":97.927664489954282},{"$f":"'ITCER GLOBAL'!AA84","v":105.14678478076659},{"$f":"'ITCER GLOBAL'!AB84","v":99.460951086168564},{"$f":"'ITCER GLOBAL'!AC84","v":102.81644068439817},{"$f":"'ITCER GLOBAL'!AD84","v":103.96970604982828},{"$f":"'ITCER GLOBAL'!AE84","v":101.00054590382268},{"$f":"'ITCER GLOBAL'!AF84","v":97.465284710754617},{"$f":"'ITCER GLOBAL'!AG84","v":97.625655105755826},null,{"$f":"IF(EFECTOS!$N$9=\"COSTA RICA\",LOOKUP(1,GEfectos!$C$4:$I$4,GEfectos!C84:I84),IF(EFECTOS!$N$9=\"EL SALVADOR\",LOOKUP(2,GEfectos!$C$4:$I$4,GEfectos!C84:I84),IF(EFECTOS!$N$9=\"GUATEMALA\",LOOKUP(3,GEfectos!$C$4:$I$4,GEfectos!C84:I84),IF(EFECTOS!$N$9=\"HONDURAS\",LOOKUP(4,GEfectos!$C$4:$I$4,GEfectos!C84:I84),IF(EFECTOS!$N$9=\"NICARAGUA\",LOOKUP(5,GEfectos!$C$4:$I$4,GEfectos!C84:I84),IF(EFECTOS!$N$9=\"REPÚBLICA \nDOMINICANA\",LOOKUP(6,$C$4:$I$4,C84:I84),IF(EFECTOS!$N$9=\"PANAMÁ\",LOOKUP(7,GEfectos!$C$4:$I$4,GEfectos!C84:I84))))))))","v":97.635957669770605},{"$f":"IF(EFECTOS!$N$9=\"COSTA RICA\",LOOKUP(1,GEfectos!$J$4:$P$4,GEfectos!J84:P84),IF(EFECTOS!$N$9=\"EL SALVADOR\",LOOKUP(2,GEfectos!$J$4:$P$4,GEfectos!J84:P84),IF(EFECTOS!$N$9=\"GUATEMALA\",LOOKUP(3,GEfectos!$J$4:$P$4,GEfectos!J84:P84),IF(EFECTOS!$N$9=\"HONDURAS\",LOOKUP(4,GEfectos!$J$4:$P$4,GEfectos!J84:P84),IF(EFECTOS!$N$9=\"NICARAGUA\",LOOKUP(5,GEfectos!$J$4:$P$4,GEfectos!J84:P84),IF(EFECTOS!$N$9=\"REPÚBLICA \nDOMINICANA\",LOOKUP(6,$J$4:$P$4,J84:P84),IF(EFECTOS!$N$9=\"PANAMÁ\",LOOKUP(7,GEfectos!$J$4:$P$4,GEfectos!J84:P84))))))))","v":102.66107027967408},{"$f":"IF(EFECTOS!$N$9=\"COSTA RICA\",LOOKUP(1,GEfectos!$Q$4:$W$4,GEfectos!Q84:W84),IF(EFECTOS!$N$9=\"EL SALVADOR\",LOOKUP(2,GEfectos!$Q$4:$W$4,GEfectos!Q84:W84),IF(EFECTOS!$N$9=\"GUATEMALA\",LOOKUP(3,GEfectos!$Q$4:$W$4,GEfectos!Q84:W84),IF(EFECTOS!$N$9=\"HONDURAS\",LOOKUP(4,GEfectos!$Q$4:$W$4,GEfectos!Q84:W84),IF(EFECTOS!$N$9=\"NICARAGUA\",LOOKUP(5,GEfectos!$Q$4:$W$4,GEfectos!Q84:W84),IF(EFECTOS!$N$9=\"REPÚBLICA \nDOMINICANA\",LOOKUP(6,$Q$4:$W$4,Q84:W84),IF(EFECTOS!$N$9=\"PANAMÁ\",LOOKUP(7,GEfectos!$Q$4:$W$4,GEfectos!Q84:W84))))))))","v":105.14678478076659},100]
[null,{"$f":"'ITCER GLOBAL'!B85","v":"Agosto"},{"$f":"'ITCER GLOBAL'!C85","v":98.034897422446704},{"$f":"'ITCER GLOBAL'!D85","v":100.02729546549381},{"$f":"'ITCER GLOBAL'!E85","v":96.906115278606961},{"$f":"'ITCER GLOBAL'!F85","v":97.431252633606547},{"$f":"'ITCER GLOBAL'!G85","v":101.99166635042067},{"$f":"'ITCER GLOBAL'!H85","v":102.25247595602065},{"$f":"'ITCER GLOBAL'!I85","v":101.13575101234154},{"$f":"'ITCER GLOBAL'!S85","v":103.80125353094498},{"$f":"'ITCER GLOBAL'!T85","v":99.520255131011794},{"$f":"'ITCER GLOBAL'!U85","v":100.70606309048213},{"$f":"'ITCER GLOBAL'!V85","v":101.83320647634446},{"$f":"'ITCER GLOBAL'!W85","v":102.93373302827693},{"$f":"'ITCER GLOBAL'!X85","v":100.34571368769798},{"$f":"'ITCER GLOBAL'!Y85","v":98.644390743058679},{"$f":"'ITCER GLOBAL'!AA85","v":105.88194230841104},{"$f":"'ITCER GLOBAL'!AB85","v":99.493098026771193},{"$f":"'ITCER GLOBAL'!AC85","v":103.92126730181089},{"$f":"'ITCER GLOBAL'!AD85","v":104.5180101084111},{"$f":"'ITCER GLOBAL'!AE85","v":100.9236702483314},{"$f":"'ITCER GLOBAL'!AF85","v":98.135240980235267},{"$f":"'ITCER GLOBAL'!AG85","v":97.536617621024206},null,{"$f":"IF(EFECTOS!$N$9=\"COSTA RICA\",LOOKUP(1,GEfectos!$C$4:$I$4,GEfectos!C85:I85),IF(EFECTOS!$N$9=\"EL SALVADOR\",LOOKUP(2,GEfectos!$C$4:$I$4,GEfectos!C85:I85),IF(EFECTOS!$N$9=\"GUATEMALA\",LOOKUP(3,GEfectos!$C$4:$I$4,GEfectos!C85:I85),IF(EFECTOS!$N$9=\"HONDURAS\",LOOKUP(4,GEfectos!$C$4:$I$4,GEfectos!C85:I85),IF(EFECTOS!$N$9=\"NICARAGUA\",LOOKUP(5,GEfectos!$C$4:$I$4,GEfectos!C85:I85),IF(EFECTOS!$N$9=\"REPÚBLICA \nDOMINICANA\",LOOKUP(6,$C$4:$I$4,C85:I85),IF(EFECTOS!$N$9=\"PANAMÁ\",LOOKUP(7,GEfectos!$C$4:$I$4,GEfectos!C85:I85))))))))","v":98.034897422446704},{"$f":"IF(EFECTOS!$N$9=\"COSTA RICA\",LOOKUP(1,GEfectos!$J$4:$P$4,GEfectos!J85:P85),IF(EFECTOS!$N$9=\"EL SALVADOR\",LOOKUP(2,GEfectos!$J$4:$P$4,GEfectos!J85:P85),IF(EFECTOS!$N$9=\"GUATEMALA\",LOOKUP(3,GEfectos!$J$4:$P$4,GEfectos!J85:P85),IF(EFECTOS!$N$9=\"HONDURAS\",LOOKUP(4,GEfectos!$J$4:$P$4,GEfectos!J85:P85),IF(EFECTOS!$N$9=\"NICARAGUA\",LOOKUP(5,GEfectos!$J$4:$P$4,GEfectos!J85:P85),IF(EFECTOS!$N$9=\"REPÚBLICA \nDOMINICANA\",LOOKUP(6,$J$4:$P$4,J85:P85),IF(EFECTOS!$N$9=\"PANAMÁ\",LOOKUP(7,GEfectos!$J$4:$P$4,GEfectos!J85:P85))))))))","v":103.80125353094498},{"$f":"IF(EFECTOS!$N$9=\"COSTA RICA\",LOOKUP(1,GEfectos!$Q$4:$W$4,GEfectos!Q85:W85),IF(EFECTOS!$N$9=\"EL SALVADOR\",LOOKUP(2,GEfectos!$Q$4:$W$4,GEfectos!Q85:W85),IF(EFECTOS!$N$9=\"GUATEMALA\",LOOKUP(3,GEfectos!$Q$4:$W$4,GEfectos!Q85:W85),IF(EFECTOS!$N$9=\"HONDURAS\",LOOKUP(4,GEfectos!$Q$4:$W$4,GEfectos!Q85:W85),IF(EFECTOS!$N$9=\"NICARAGUA\",LOOKUP(5,GEfectos!$Q$4:$W$4,GEfectos!Q85:W85),IF(EFECTOS!$N$9=\"REPÚBLICA \nDOMINICANA\",LOOKUP(6,$Q$4:$W$4,Q85:W85),IF(EFECTOS!$N$9=\"PANAMÁ\",LOOKUP(7,GEfectos!$Q$4:$W$4,GEfectos!Q85:W85))))))))","v":105.88194230841104},100]
[null,{"$f":"'ITCER GLOBAL'!B86","v":"Septiembre"},{"$f":"'ITCER GLOBAL'!C86","v":98.410286145763564},{"$f":"'ITCER GLOBAL'!D86","v":100.12707816716829},{"$f":"'ITCER GLOBAL'!E86","v":98.013558926428757},{"$f":"'ITCER GLOBAL'!F86","v":97.415977409199812},{"$f":"'ITCER GLOBAL'!G86","v":102.70557911282857},{"$f":"'ITCER GLOBAL'!H86","v":101.73379809216978},{"$f":"'ITCER GLOBAL'!I86","v":100.53073633493941},{"$f":"'ITCER GLOBAL'!S86","v":104.38793996612952},{"$f":"'ITCER GLOBAL'!T86","v":99.175260456964438},{"$f":"'ITCER GLOBAL'!U86","v":101.75082216907103},{"$f":"'ITCER GLOBAL'!V86","v":102.18924211190685},{"$f":"'ITCER GLOBAL'!W86","v":103.26383092464788},{"$f":"'ITCER GLOBAL'!X86","v":100.29633746249986},{"$f":"'ITCER GLOBAL'!Y86","v":98.54244556857364},{"$f":"'ITCER GLOBAL'!AA86","v":106.0742164813056},{"$f":"'ITCER GLOBAL'!AB86","v":99.049390307170711},{"$f":"'ITCER GLOBAL'!AC86","v":103.8130063672594},{"$f":"'ITCER GLOBAL'!AD86","v":104.89987867457999},{"$f":"'ITCER GLOBAL'!AE86","v":100.54354575149809},{"$f":"'ITCER GLOBAL'!AF86","v":98.587037290824824},{"$f":"'ITCER GLOBAL'!AG86","v":98.02220610446804},null,{"$f":"IF(EFECTOS!$N$9=\"COSTA RICA\",LOOKUP(1,GEfectos!$C$4:$I$4,GEfectos!C86:I86),IF(EFECTOS!$N$9=\"EL SALVADOR\",LOOKUP(2,GEfectos!$C$4:$I$4,GEfectos!C86:I86),IF(EFECTOS!$N$9=\"GUATEMALA\",LOOKUP(3,GEfectos!$C$4:$I$4,GEfectos!C86:I86),IF(EFECTOS!$N$9=\"HONDURAS\",LOOKUP(4,GEfectos!$C$4:$I$4,GEfectos!C86:I86),IF(EFECTOS!$N$9=\"NICARAGUA\",LOOKUP(5,GEfectos!$C$4:$I$4,GEfectos!C86:I86),IF(EFECTOS!$N$9=\"REPÚBLICA \nDOMINICANA\",LOOKUP(6,$C$4:$I$4,C86:I86),IF(EFECTOS!$N$9=\"PANAMÁ\",LOOKUP(7,GEfectos!$C$4:$I$4,GEfectos!C86:I86))))))))","v":98.410286145763564},{"$f":"IF(EFECTOS!$N$9=\"COSTA RICA\",LOOKUP(1,GEfectos!$J$4:$P$4,GEfectos!J86:P86),IF(EFECTOS!$N$9=\"EL SALVADOR\",LOOKUP(2,GEfectos!$J$4:$P$4,GEfectos!J86:P86),IF(EFECTOS!$N$9=\"GUATEMALA\",LOOKUP(3,GEfectos!$J$4:$P$4,GEfectos!J86:P86),IF(EFECTOS!$N$9=\"HONDURAS\",LOOKUP(4,GEfectos!$J$4:$P$4,GEfectos!J86:P86),IF(EFECTOS!$N$9=\"NICARAGUA\",LOOKUP(5,GEfectos!$J$4:$P$4,GEfectos!J86:P86),IF(EFECTOS!$N$9=\"REPÚBLICA \nDOMINICANA\",LOOKUP(6,$J$4:$P$4,J86:P86),IF(EFECTOS!$N$9=\"PANAMÁ\",LOOKUP(7,GEfectos!$J$4:$P$4,GEfectos!J86:P86))))))))","v":104.38793996612952},{"$f":"IF(EFECTOS!$N$9=\"COSTA RICA\",LOOKUP(1,GEfectos!$Q$4:$W$4,GEfectos!Q86:W86),IF(EFECTOS!$N$9=\"EL SALVADOR\",LOOKUP(2,GEfectos!$Q$4:$W$4,GEfectos!Q86:W86),IF(EFECTOS!$N$9=\"GUATEMALA\",LOOKUP(3,GEfectos!$Q$4:$W$4,GEfectos!Q86:W86),IF(EFECTOS!$N$9=\"HONDURAS\",LOOKUP(4,GEfectos!$Q$4:$W$4,GEfectos!Q86:W86),IF(EFECTOS!$N$9=\"NICARAGUA\",LOOKUP(5,GEfectos!$Q$4:$W$4,GEfectos!Q86:W86),IF(EFECTOS!$N$9=\"REPÚBLICA \nDOMINICANA\",LOOKUP(6,$Q$4:$W$4,Q86:W86),IF(EFECTOS!$N$9=\"PANAMÁ\",LOOKUP(7,GEfectos!$Q$4:$W$4,GEfectos!Q86:W86))))))))","v":106.0742164813056},100]
[null,{"$f":"'ITCER GLOBAL'!B87","v":"Octubre"},{"$f":"'ITCER GLOBAL'!C87","v":98.725509649158127},{"$f":"'ITCER GLOBAL'!D87","v":101.03250395437414},{"$f":"'ITCER GLOBAL'!E87","v":98.841800330546491},{"$f":"'ITCER GLOBAL'!F87","v":97.354205949154135},{"$f":"'ITCER GLOBAL'!G87","v":102.46499053231463},{"$f":"'ITCER GLOBAL'!H87","v":101.12613888990461},{"$f":"'ITCER GLOBAL'!I87","v":100.09386703401452},{"$f":"'ITCER GLOBAL'!S87","v":104.91591586311159},{"$f":"'ITCER GLOBAL'!T87","v":98.753603078805256},{"$f":"'ITCER GLOBAL'!U87","v":103.60074402488448},{"$f":"'ITCER GLOBAL'!V87","v":102.53682877474218},{"$f":"'ITCER GLOBAL'!W87","v":103.36567007597586},{"$f":"'ITCER GLOBAL'!X87","v":100.18424215645352},{"$f":"'ITCER GLOBAL'!Y87","v":98.224024763872791},{"$f":"'ITCER GLOBAL'!AA87","v":106.2703208481297},{"$f":"'ITCER GLOBAL'!AB87","v":97.744388403361725},{"$f":"'ITCER GLOBAL'!AC87","v":104.81470762210235},{"$f":"'ITCER GLOBAL'!AD87","v":105.32347090201199},{"$f":"'ITCER GLOBAL'!AE87","v":100.8790119815384},{"$f":"'ITCER GLOBAL'!AF87","v":99.068592211874602},{"$f":"'ITCER GLOBAL'!AG87","v":98.131911249361252},null,{"$f":"IF(EFECTOS!$N$9=\"COSTA RICA\",LOOKUP(1,GEfectos!$C$4:$I$4,GEfectos!C87:I87),IF(EFECTOS!$N$9=\"EL SALVADOR\",LOOKUP(2,GEfectos!$C$4:$I$4,GEfectos!C87:I87),IF(EFECTOS!$N$9=\"GUATEMALA\",LOOKUP(3,GEfectos!$C$4:$I$4,GEfectos!C87:I87),IF(EFECTOS!$N$9=\"HONDURAS\",LOOKUP(4,GEfectos!$C$4:$I$4,GEfectos!C87:I87),IF(EFECTOS!$N$9=\"NICARAGUA\",LOOKUP(5,GEfectos!$C$4:$I$4,GEfectos!C87:I87),IF(EFECTOS!$N$9=\"REPÚBLICA \nDOMINICANA\",LOOKUP(6,$C$4:$I$4,C87:I87),IF(EFECTOS!$N$9=\"PANAMÁ\",LOOKUP(7,GEfectos!$C$4:$I$4,GEfectos!C87:I87))))))))","v":98.725509649158127},{"$f":"IF(EFECTOS!$N$9=\"COSTA RICA\",LOOKUP(1,GEfectos!$J$4:$P$4,GEfectos!J87:P87),IF(EFECTOS!$N$9=\"EL SALVADOR\",LOOKUP(2,GEfectos!$J$4:$P$4,GEfectos!J87:P87),IF(EFECTOS!$N$9=\"GUATEMALA\",LOOKUP(3,GEfectos!$J$4:$P$4,GEfectos!J87:P87),IF(EFECTOS!$N$9=\"HONDURAS\",LOOKUP(4,GEfectos!$J$4:$P$4,GEfectos!J87:P87),IF(EFECTOS!$N$9=\"NICARAGUA\",LOOKUP(5,GEfectos!$J$4:$P$4,GEfectos!J87:P87),IF(EFECTOS!$N$9=\"REPÚBLICA \nDOMINICANA\",LOOKUP(6,$J$4:$P$4,J87:P87),IF(EFECTOS!$N$9=\"PANAMÁ\",LOOKUP(7,GEfectos!$J$4:$P$4,GEfectos!J87:P87))))))))","v":104.91591586311159},{"$f":"IF(EFECTOS!$N$9=\"COSTA RICA\",LOOKUP(1,GEfectos!$Q$4:$W$4,GEfectos!Q87:W87),IF(EFECTOS!$N$9=\"EL SALVADOR\",LOOKUP(2,GEfectos!$Q$4:$W$4,GEfectos!Q87:W87),IF(EFECTOS!$N$9=\"GUATEMALA\",LOOKUP(3,GEfectos!$Q$4:$W$4,GEfectos!Q87:W87),IF(EFECTOS!$N$9=\"HONDURAS\",LOOKUP(4,GEfectos!$Q$4:$W$4,GEfectos!Q87:W87),IF(EFECTOS!$N$9=\"NICARAGUA\",LOOKUP(5,GEfectos!$Q$4:$W$4,GEfectos!Q87:W87),IF(EFECTOS!$N$9=\"REPÚBLICA \nDOMINICANA\",LOOKUP(6,$Q$4:$W$4,Q87:W87),IF(EFECTOS!$N$9=\"PANAMÁ\",LOOKUP(7,GEfectos!$Q$4:$W$4,GEfectos!Q87:W87))))))))","v":106.2703208481297},100]
[null,{"$f":"'ITCER GLOBAL'!B88","v":"Noviembre"},{"$f":"'ITCER GLOBAL'!C88","v":98.404323029695078},{"$f":"'ITCER GLOBAL'!D88","v":99.732889100837397},{"$f":"'ITCER GLOBAL'!E88","v":97.841102255835509},{"$f":"'ITCER GLOBAL'!F88","v":97.563306985203411},{"$f":"'ITCER GLOBAL'!G88","v":102.35186823914428},{"$f":"'ITCER GLOBAL'!H88","v":101.61670325541409},{"$f":"'ITCER GLOBAL'!I88","v":100.34787200491607},{"$f":"'ITCER GLOBAL'!S88","v":105.58022732673737},{"$f":"'ITCER GLOBAL'!T88","v":98.66113502951886},{"$f":"'ITCER GLOBAL'!U88","v":103.2104177933052},{"$f":"'ITCER GLOBAL'!V88","v":103.27220495783979},{"$f":"'ITCER GLOBAL'!W88","v":103.57060703783401},{"$f":"'ITCER GLOBAL'!X88","v":100.71744420977573},{"$f":"'ITCER GLOBAL'!Y88","v":98.087123707931397},{"$f":"'ITCER GLOBAL'!AA88","v":107.29226529496765},{"$f":"'ITCER GLOBAL'!AB88","v":98.925375489488815},{"$f":"'ITCER GLOBAL'!AC88","v":105.48779134093355},{"$f":"'ITCER GLOBAL'!AD88","v":105.85148059147093},{"$f":"'ITCER GLOBAL'!AE88","v":101.19073429694723},{"$f":"'ITCER GLOBAL'!AF88","v":99.115048002120233},{"$f":"'ITCER GLOBAL'!AG88","v":97.74708894985443},null,{"$f":"IF(EFECTOS!$N$9=\"COSTA RICA\",LOOKUP(1,GEfectos!$C$4:$I$4,GEfectos!C88:I88),IF(EFECTOS!$N$9=\"EL SALVADOR\",LOOKUP(2,GEfectos!$C$4:$I$4,GEfectos!C88:I88),IF(EFECTOS!$N$9=\"GUATEMALA\",LOOKUP(3,GEfectos!$C$4:$I$4,GEfectos!C88:I88),IF(EFECTOS!$N$9=\"HONDURAS\",LOOKUP(4,GEfectos!$C$4:$I$4,GEfectos!C88:I88),IF(EFECTOS!$N$9=\"NICARAGUA\",LOOKUP(5,GEfectos!$C$4:$I$4,GEfectos!C88:I88),IF(EFECTOS!$N$9=\"REPÚBLICA \nDOMINICANA\",LOOKUP(6,$C$4:$I$4,C88:I88),IF(EFECTOS!$N$9=\"PANAMÁ\",LOOKUP(7,GEfectos!$C$4:$I$4,GEfectos!C88:I88))))))))","v":98.404323029695078},{"$f":"IF(EFECTOS!$N$9=\"COSTA RICA\",LOOKUP(1,GEfectos!$J$4:$P$4,GEfectos!J88:P88),IF(EFECTOS!$N$9=\"EL SALVADOR\",LOOKUP(2,GEfectos!$J$4:$P$4,GEfectos!J88:P88),IF(EFECTOS!$N$9=\"GUATEMALA\",LOOKUP(3,GEfectos!$J$4:$P$4,GEfectos!J88:P88),IF(EFECTOS!$N$9=\"HONDURAS\",LOOKUP(4,GEfectos!$J$4:$P$4,GEfectos!J88:P88),IF(EFECTOS!$N$9=\"NICARAGUA\",LOOKUP(5,GEfectos!$J$4:$P$4,GEfectos!J88:P88),IF(EFECTOS!$N$9=\"REPÚBLICA \nDOMINICANA\",LOOKUP(6,$J$4:$P$4,J88:P88),IF(EFECTOS!$N$9=\"PANAMÁ\",LOOKUP(7,GEfectos!$J$4:$P$4,GEfectos!J88:P88))))))))","v":105.58022732673737},{"$f":"IF(EFECTOS!$N$9=\"COSTA RICA\",LOOKUP(1,GEfectos!$Q$4:$W$4,GEfectos!Q88:W88),IF(EFECTOS!$N$9=\"EL SALVADOR\",LOOKUP(2,GEfectos!$Q$4:$W$4,GEfectos!Q88:W88),IF(EFECTOS!$N$9=\"GUATEMALA\",LOOKUP(3,GEfectos!$Q$4:$W$4,GEfectos!Q88:W88),IF(EFECTOS!$N$9=\"HONDURAS\",LOOKUP(4,GEfectos!$Q$4:$W$4,GEfectos!Q88:W88),IF(EFECTOS!$N$9=\"NICARAGUA\",LOOKUP(5,GEfectos!$Q$4:$W$4,GEfectos!Q88:W88),IF(EFECTOS!$N$9=\"REPÚBLICA \nDOMINICANA\",LOOKUP(6,$Q$4:$W$4,Q88:W88),IF(EFECTOS!$N$9=\"PANAMÁ\",LOOKUP(7,GEfectos!$Q$4:$W$4,GEfectos!Q88:W88))))))))","v":107.29226529496765},100]
[null,{"$f":"'ITCER GLOBAL'!B89","v":"Diciembre"},{"$f":"'ITCER GLOBAL'!C89","v":97.977147501034963},{"$f":"'ITCER GLOBAL'!D89","v":100.998294137081},{"$f":"'ITCER GLOBAL'!E89","v":95.585134425787146},{"$f":"'ITCER GLOBAL'!F89","v":97.494648378272927},{"$f":"'ITCER GLOBAL'!G89","v":102.64052946153402},{"$f":"'ITCER GLOBAL'!H89","v":102.4003913005504},{"$f":"'ITCER GLOBAL'!I89","v":100.51193692832567},{"$f":"'ITCER GLOBAL'!S89","v":106.49443413875936},{"$f":"'ITCER GLOBAL'!T89","v":98.830858047548105},{"$f":"'ITCER GLOBAL'!U89","v":101.58422917737953},{"$f":"'ITCER GLOBAL'!V89","v":103.79220490307439},{"$f":"'ITCER GLOBAL'!W89","v":103.94166566632028},{"$f":"'ITCER GLOBAL'!X89","v":102.00875087445296},{"$f":"'ITCER GLOBAL'!Y89","v":97.952777174500028},{"$f":"'ITCER GLOBAL'!AA89","v":108.69313595564152},{"$f":"'ITCER GLOBAL'!AB89","v":97.853987428152863},{"$f":"'ITCER GLOBAL'!AC89","v":106.27617964616674},{"$f":"'ITCER GLOBAL'!AD89","v":106.45938687872112},{"$f":"'ITCER GLOBAL'!AE89","v":101.26766318491556},{"$f":"'ITCER GLOBAL'!AF89","v":99.617540107881069},{"$f":"'ITCER GLOBAL'!AG89","v":97.453874801307862},null,{"$f":"IF(EFECTOS!$N$9=\"COSTA RICA\",LOOKUP(1,GEfectos!$C$4:$I$4,GEfectos!C89:I89),IF(EFECTOS!$N$9=\"EL SALVADOR\",LOOKUP(2,GEfectos!$C$4:$I$4,GEfectos!C89:I89),IF(EFECTOS!$N$9=\"GUATEMALA\",LOOKUP(3,GEfectos!$C$4:$I$4,GEfectos!C89:I89),IF(EFECTOS!$N$9=\"HONDURAS\",LOOKUP(4,GEfectos!$C$4:$I$4,GEfectos!C89:I89),IF(EFECTOS!$N$9=\"NICARAGUA\",LOOKUP(5,GEfectos!$C$4:$I$4,GEfectos!C89:I89),IF(EFECTOS!$N$9=\"REPÚBLICA \nDOMINICANA\",LOOKUP(6,$C$4:$I$4,C89:I89),IF(EFECTOS!$N$9=\"PANAMÁ\",LOOKUP(7,GEfectos!$C$4:$I$4,GEfectos!C89:I89))))))))","v":97.977147501034963},{"$f":"IF(EFECTOS!$N$9=\"COSTA RICA\",LOOKUP(1,GEfectos!$J$4:$P$4,GEfectos!J89:P89),IF(EFECTOS!$N$9=\"EL SALVADOR\",LOOKUP(2,GEfectos!$J$4:$P$4,GEfectos!J89:P89),IF(EFECTOS!$N$9=\"GUATEMALA\",LOOKUP(3,GEfectos!$J$4:$P$4,GEfectos!J89:P89),IF(EFECTOS!$N$9=\"HONDURAS\",LOOKUP(4,GEfectos!$J$4:$P$4,GEfectos!J89:P89),IF(EFECTOS!$N$9=\"NICARAGUA\",LOOKUP(5,GEfectos!$J$4:$P$4,GEfectos!J89:P89),IF(EFECTOS!$N$9=\"REPÚBLICA \nDOMINICANA\",LOOKUP(6,$J$4:$P$4,J89:P89),IF(EFECTOS!$N$9=\"PANAMÁ\",LOOKUP(7,GEfectos!$J$4:$P$4,GEfectos!J89:P89))))))))","v":106.49443413875936},{"$f":"IF(EFECTOS!$N$9=\"COSTA RICA\",LOOKUP(1,GEfectos!$Q$4:$W$4,GEfectos!Q89:W89),IF(EFECTOS!$N$9=\"EL SALVADOR\",LOOKUP(2,GEfectos!$Q$4:$W$4,GEfectos!Q89:W89),IF(EFECTOS!$N$9=\"GUATEMALA\",LOOKUP(3,GEfectos!$Q$4:$W$4,GEfectos!Q89:W89),IF(EFECTOS!$N$9=\"HONDURAS\",LOOKUP(4,GEfectos!$Q$4:$W$4,GEfectos!Q89:W89),IF(EFECTOS!$N$9=\"NICARAGUA\",LOOKUP(5,GEfectos!$Q$4:$W$4,GEfectos!Q89:W89),IF(EFECTOS!$N$9=\"REPÚBLICA \nDOMINICANA\",LOOKUP(6,$Q$4:$W$4,Q89:W89),IF(EFECTOS!$N$9=\"PANAMÁ\",LOOKUP(7,GEfectos!$Q$4:$W$4,GEfectos!Q89:W89))))))))","v":108.69313595564152},100]
[2002,{"$f":"'ITCER GLOBAL'!B90","v":"Enero"},{"$f":"'ITCER GLOBAL'!C90","v":97.553854596816578},{"$f":"'ITCER GLOBAL'!D90","v":99.783851576533067},{"$f":"'ITCER GLOBAL'!E90","v":95.088439514374755},{"$f":"'ITCER GLOBAL'!F90","v":97.980517606709171},{"$f":"'ITCER GLOBAL'!G90","v":102.90086113079695},{"$f":"'ITCER GLOBAL'!H90","v":101.89543737248832},{"$f":"'ITCER GLOBAL'!I90","v":99.864142659058629},{"$f":"'ITCER GLOBAL'!S90","v":106.76668147115306},{"$f":"'ITCER GLOBAL'!T90","v":98.894032051956515},{"$f":"'ITCER GLOBAL'!U90","v":101.64216671871654},{"$f":"'ITCER GLOBAL'!V90","v":103.77301049777464},{"$f":"'ITCER GLOBAL'!W90","v":103.90025696778511},{"$f":"'ITCER GLOBAL'!X90","v":102.1580914295489},{"$f":"'ITCER GLOBAL'!Y90","v":97.576018821342345},{"$f":"'ITCER GLOBAL'!AA90","v":109.44383685546049},{"$f":"'ITCER GLOBAL'!AB90","v":99.108252978294729},{"$f":"'ITCER GLOBAL'!AC90","v":106.89224393397585},{"$f":"'ITCER GLOBAL'!AD90","v":105.91188231349864},{"$f":"'ITCER GLOBAL'!AE90","v":100.97122203449575},{"$f":"'ITCER GLOBAL'!AF90","v":100.25776822184925},{"$f":"'ITCER GLOBAL'!AG90","v":97.708763349095136},null,{"$f":"IF(EFECTOS!$N$9=\"COSTA RICA\",LOOKUP(1,GEfectos!$C$4:$I$4,GEfectos!C90:I90),IF(EFECTOS!$N$9=\"EL SALVADOR\",LOOKUP(2,GEfectos!$C$4:$I$4,GEfectos!C90:I90),IF(EFECTOS!$N$9=\"GUATEMALA\",LOOKUP(3,GEfectos!$C$4:$I$4,GEfectos!C90:I90),IF(EFECTOS!$N$9=\"HONDURAS\",LOOKUP(4,GEfectos!$C$4:$I$4,GEfectos!C90:I90),IF(EFECTOS!$N$9=\"NICARAGUA\",LOOKUP(5,GEfectos!$C$4:$I$4,GEfectos!C90:I90),IF(EFECTOS!$N$9=\"REPÚBLICA \nDOMINICANA\",LOOKUP(6,$C$4:$I$4,C90:I90),IF(EFECTOS!$N$9=\"PANAMÁ\",LOOKUP(7,GEfectos!$C$4:$I$4,GEfectos!C90:I90))))))))","v":97.553854596816578},{"$f":"IF(EFECTOS!$N$9=\"COSTA RICA\",LOOKUP(1,GEfectos!$J$4:$P$4,GEfectos!J90:P90),IF(EFECTOS!$N$9=\"EL SALVADOR\",LOOKUP(2,GEfectos!$J$4:$P$4,GEfectos!J90:P90),IF(EFECTOS!$N$9=\"GUATEMALA\",LOOKUP(3,GEfectos!$J$4:$P$4,GEfectos!J90:P90),IF(EFECTOS!$N$9=\"HONDURAS\",LOOKUP(4,GEfectos!$J$4:$P$4,GEfectos!J90:P90),IF(EFECTOS!$N$9=\"NICARAGUA\",LOOKUP(5,GEfectos!$J$4:$P$4,GEfectos!J90:P90),IF(EFECTOS!$N$9=\"REPÚBLICA \nDOMINICANA\",LOOKUP(6,$J$4:$P$4,J90:P90),IF(EFECTOS!$N$9=\"PANAMÁ\",LOOKUP(7,GEfectos!$J$4:$P$4,GEfectos!J90:P90))))))))","v":106.76668147115306},{"$f":"IF(EFECTOS!$N$9=\"COSTA RICA\",LOOKUP(1,GEfectos!$Q$4:$W$4,GEfectos!Q90:W90),IF(EFECTOS!$N$9=\"EL SALVADOR\",LOOKUP(2,GEfectos!$Q$4:$W$4,GEfectos!Q90:W90),IF(EFECTOS!$N$9=\"GUATEMALA\",LOOKUP(3,GEfectos!$Q$4:$W$4,GEfectos!Q90:W90),IF(EFECTOS!$N$9=\"HONDURAS\",LOOKUP(4,GEfectos!$Q$4:$W$4,GEfectos!Q90:W90),IF(EFECTOS!$N$9=\"NICARAGUA\",LOOKUP(5,GEfectos!$Q$4:$W$4,GEfectos!Q90:W90),IF(EFECTOS!$N$9=\"REPÚBLICA \nDOMINICANA\",LOOKUP(6,$Q$4:$W$4,Q90:W90),IF(EFECTOS!$N$9=\"PANAMÁ\",LOOKUP(7,GEfectos!$Q$4:$W$4,GEfectos!Q90:W90))))))))","v":109.44383685546049},100]
[null,{"$f":"'ITCER GLOBAL'!B91","v":"Febrero"},{"$f":"'ITCER GLOBAL'!C91","v":98.151277976880635},{"$f":"'ITCER GLOBAL'!D91","v":99.889238177192937},{"$f":"'ITCER GLOBAL'!E91","v":93.550122055199907},{"$f":"'ITCER GLOBAL'!F91","v":97.86595619043085},{"$f":"'ITCER GLOBAL'!G91","v":102.64277697613282},{"$f":"'ITCER GLOBAL'!H91","v":102.7174621770458},{"$f":"'ITCER GLOBAL'!I91","v":100.09950806445426},{"$f":"'ITCER GLOBAL'!S91","v":107.50580300606052},{"$f":"'ITCER GLOBAL'!T91","v":98.875612376043833},{"$f":"'ITCER GLOBAL'!U91","v":100.52311697482044},{"$f":"'ITCER GLOBAL'!V91","v":104.38762636025885},{"$f":"'ITCER GLOBAL'!W91","v":104.11389332239631},{"$f":"'ITCER GLOBAL'!X91","v":102.65564459572722},{"$f":"'ITCER GLOBAL'!Y91","v":97.361879723156562},{"$f":"'ITCER GLOBAL'!AA91","v":109.53072157795371},{"$f":"'ITCER GLOBAL'!AB91","v":98.985250243523694},{"$f":"'ITCER GLOBAL'!AC91","v":107.45375288287285},{"$f":"'ITCER GLOBAL'!AD91","v":106.66388029473491},{"$f":"'ITCER GLOBAL'!AE91","v":101.4332390350327},{"$f":"'ITCER GLOBAL'!AF91","v":99.939817845954934},{"$f":"'ITCER GLOBAL'!AG91","v":97.265093111611563},null,{"$f":"IF(EFECTOS!$N$9=\"COSTA RICA\",LOOKUP(1,GEfectos!$C$4:$I$4,GEfectos!C91:I91),IF(EFECTOS!$N$9=\"EL SALVADOR\",LOOKUP(2,GEfectos!$C$4:$I$4,GEfectos!C91:I91),IF(EFECTOS!$N$9=\"GUATEMALA\",LOOKUP(3,GEfectos!$C$4:$I$4,GEfectos!C91:I91),IF(EFECTOS!$N$9=\"HONDURAS\",LOOKUP(4,GEfectos!$C$4:$I$4,GEfectos!C91:I91),IF(EFECTOS!$N$9=\"NICARAGUA\",LOOKUP(5,GEfectos!$C$4:$I$4,GEfectos!C91:I91),IF(EFECTOS!$N$9=\"REPÚBLICA \nDOMINICANA\",LOOKUP(6,$C$4:$I$4,C91:I91),IF(EFECTOS!$N$9=\"PANAMÁ\",LOOKUP(7,GEfectos!$C$4:$I$4,GEfectos!C91:I91))))))))","v":98.151277976880635},{"$f":"IF(EFECTOS!$N$9=\"COSTA RICA\",LOOKUP(1,GEfectos!$J$4:$P$4,GEfectos!J91:P91),IF(EFECTOS!$N$9=\"EL SALVADOR\",LOOKUP(2,GEfectos!$J$4:$P$4,GEfectos!J91:P91),IF(EFECTOS!$N$9=\"GUATEMALA\",LOOKUP(3,GEfectos!$J$4:$P$4,GEfectos!J91:P91),IF(EFECTOS!$N$9=\"HONDURAS\",LOOKUP(4,GEfectos!$J$4:$P$4,GEfectos!J91:P91),IF(EFECTOS!$N$9=\"NICARAGUA\",LOOKUP(5,GEfectos!$J$4:$P$4,GEfectos!J91:P91),IF(EFECTOS!$N$9=\"REPÚBLICA \nDOMINICANA\",LOOKUP(6,$J$4:$P$4,J91:P91),IF(EFECTOS!$N$9=\"PANAMÁ\",LOOKUP(7,GEfectos!$J$4:$P$4,GEfectos!J91:P91))))))))","v":107.50580300606052},{"$f":"IF(EFECTOS!$N$9=\"COSTA RICA\",LOOKUP(1,GEfectos!$Q$4:$W$4,GEfectos!Q91:W91),IF(EFECTOS!$N$9=\"EL SALVADOR\",LOOKUP(2,GEfectos!$Q$4:$W$4,GEfectos!Q91:W91),IF(EFECTOS!$N$9=\"GUATEMALA\",LOOKUP(3,GEfectos!$Q$4:$W$4,GEfectos!Q91:W91),IF(EFECTOS!$N$9=\"HONDURAS\",LOOKUP(4,GEfectos!$Q$4:$W$4,GEfectos!Q91:W91),IF(EFECTOS!$N$9=\"NICARAGUA\",LOOKUP(5,GEfectos!$Q$4:$W$4,GEfectos!Q91:W91),IF(EFECTOS!$N$9=\"REPÚBLICA \nDOMINICANA\",LOOKUP(6,$Q$4:$W$4,Q91:W91),IF(EFECTOS!$N$9=\"PANAMÁ\",LOOKUP(7,GEfectos!$Q$4:$W$4,GEfectos!Q91:W91))))))))","v":109.53072157795371},100]
[null,{"$f":"'ITCER GLOBAL'!B92","v":"Marzo"},{"$f":"'ITCER GLOBAL'!C92","v":98.916061879169774},{"$f":"'ITCER GLOBAL'!D92","v":99.92557071858397},{"$f":"'ITCER GLOBAL'!E92","v":93.222632055302626},{"$f":"'ITCER GLOBAL'!F92","v":98.466216478392042},{"$f":"'ITCER GLOBAL'!G92","v":103.57411102867782},{"$f":"'ITCER GLOBAL'!H92","v":102.20526490582533},{"$f":"'ITCER GLOBAL'!I92","v":100.47771640356036},{"$f":"'ITCER GLOBAL'!S92","v":108.62082238999588},{"$f":"'ITCER GLOBAL'!T92","v":98.948829121203701},{"$f":"'ITCER GLOBAL'!U92","v":100.30194684570894},{"$f":"'ITCER GLOBAL'!V92","v":105.07443706267301},{"$f":"'ITCER GLOBAL'!W92","v":104.78999607061353},{"$f":"'ITCER GLOBAL'!X92","v":102.7776238424041},{"$f":"'ITCER GLOBAL'!Y92","v":97.554886348940826},{"$f":"'ITCER GLOBAL'!AA92","v":109.81110683791768},{"$f":"'ITCER GLOBAL'!AB92","v":99.022530879377186},{"$f":"'ITCER GLOBAL'!AC92","v":107.59398724786773},{"$f":"'ITCER GLOBAL'!AD92","v":106.71115517648747},{"$f":"'ITCER GLOBAL'!AE92","v":101.17392756728469},{"$f":"'ITCER GLOBAL'!AF92","v":100.56000924913815},{"$f":"'ITCER GLOBAL'!AG92","v":97.091066398364163},null,{"$f":"IF(EFECTOS!$N$9=\"COSTA RICA\",LOOKUP(1,GEfectos!$C$4:$I$4,GEfectos!C92:I92),IF(EFECTOS!$N$9=\"EL SALVADOR\",LOOKUP(2,GEfectos!$C$4:$I$4,GEfectos!C92:I92),IF(EFECTOS!$N$9=\"GUATEMALA\",LOOKUP(3,GEfectos!$C$4:$I$4,GEfectos!C92:I92),IF(EFECTOS!$N$9=\"HONDURAS\",LOOKUP(4,GEfectos!$C$4:$I$4,GEfectos!C92:I92),IF(EFECTOS!$N$9=\"NICARAGUA\",LOOKUP(5,GEfectos!$C$4:$I$4,GEfectos!C92:I92),IF(EFECTOS!$N$9=\"REPÚBLICA \nDOMINICANA\",LOOKUP(6,$C$4:$I$4,C92:I92),IF(EFECTOS!$N$9=\"PANAMÁ\",LOOKUP(7,GEfectos!$C$4:$I$4,GEfectos!C92:I92))))))))","v":98.916061879169774},{"$f":"IF(EFECTOS!$N$9=\"COSTA RICA\",LOOKUP(1,GEfectos!$J$4:$P$4,GEfectos!J92:P92),IF(EFECTOS!$N$9=\"EL SALVADOR\",LOOKUP(2,GEfectos!$J$4:$P$4,GEfectos!J92:P92),IF(EFECTOS!$N$9=\"GUATEMALA\",LOOKUP(3,GEfectos!$J$4:$P$4,GEfectos!J92:P92),IF(EFECTOS!$N$9=\"HONDURAS\",LOOKUP(4,GEfectos!$J$4:$P$4,GEfectos!J92:P92),IF(EFECTOS!$N$9=\"NICARAGUA\",LOOKUP(5,GEfectos!$J$4:$P$4,GEfectos!J92:P92),IF(EFECTOS!$N$9=\"REPÚBLICA \nDOMINICANA\",LOOKUP(6,$J$4:$P$4,J92:P92),IF(EFECTOS!$N$9=\"PANAMÁ\",LOOKUP(7,GEfectos!$J$4:$P$4,GEfectos!J92:P92))))))))","v":108.62082238999588},{"$f":"IF(EFECTOS!$N$9=\"COSTA RICA\",LOOKUP(1,GEfectos!$Q$4:$W$4,GEfectos!Q92:W92),IF(EFECTOS!$N$9=\"EL SALVADOR\",LOOKUP(2,GEfectos!$Q$4:$W$4,GEfectos!Q92:W92),IF(EFECTOS!$N$9=\"GUATEMALA\",LOOKUP(3,GEfectos!$Q$4:$W$4,GEfectos!Q92:W92),IF(EFECTOS!$N$9=\"HONDURAS\",LOOKUP(4,GEfectos!$Q$4:$W$4,GEfectos!Q92:W92),IF(EFECTOS!$N$9=\"NICARAGUA\",LOOKUP(5,GEfectos!$Q$4:$W$4,GEfectos!Q92:W92),IF(EFECTOS!$N$9=\"REPÚBLICA \nDOMINICANA\",LOOKUP(6,$Q$4:$W$4,Q92:W92),IF(EFECTOS!$N$9=\"PANAMÁ\",LOOKUP(7,GEfectos!$Q$4:$W$4,GEfectos!Q92:W92))))))))","v":109.81110683791768},100]
[null,{"$f":"'ITCER GLOBAL'!B93","v":"Abril"},{"$f":"'ITCER GLOBAL'!C93","v":100.15989753132624},{"$f":"'ITCER GLOBAL'!D93","v":100.15055098413929},{"$f":"'ITCER GLOBAL'!E93","v":92.058933256614438},{"$f":"'ITCER GLOBAL'!F93","v":98.816442057602529},{"$f":"'ITCER GLOBAL'!G93","v":104.01779078057491},{"$f":"'ITCER GLOBAL'!H93","v":104.54194765416163},{"$f":"'ITCER GLOBAL'!I93","v":101.0886300368454},{"$f":"'ITCER GLOBAL'!S93","v":109.60895896370776},{"$f":"'ITCER GLOBAL'!T93","v":99.017289800557251},{"$f":"'ITCER GLOBAL'!U93","v":99.122172455234647},{"$f":"'ITCER GLOBAL'!V93","v":105.71060442597154},{"$f":"'ITCER GLOBAL'!W93","v":105.3507805227725},{"$f":"'ITCER GLOBAL'!X93","v":105.29428065800406},{"$f":"'ITCER GLOBAL'!Y93","v":97.650106063184367},{"$f":"'ITCER GLOBAL'!AA93","v":109.43397673647401},{"$f":"'ITCER GLOBAL'!AB93","v":98.868442387539631},{"$f":"'ITCER GLOBAL'!AC93","v":107.67251905790762},{"$f":"'ITCER GLOBAL'!AD93","v":106.97673608239226},{"$f":"'ITCER GLOBAL'!AE93","v":101.28150168561983},{"$f":"'ITCER GLOBAL'!AF93","v":100.71964701320779},{"$f":"'ITCER GLOBAL'!AG93","v":96.598505714828917},null,{"$f":"IF(EFECTOS!$N$9=\"COSTA RICA\",LOOKUP(1,GEfectos!$C$4:$I$4,GEfectos!C93:I93),IF(EFECTOS!$N$9=\"EL SALVADOR\",LOOKUP(2,GEfectos!$C$4:$I$4,GEfectos!C93:I93),IF(EFECTOS!$N$9=\"GUATEMALA\",LOOKUP(3,GEfectos!$C$4:$I$4,GEfectos!C93:I93),IF(EFECTOS!$N$9=\"HONDURAS\",LOOKUP(4,GEfectos!$C$4:$I$4,GEfectos!C93:I93),IF(EFECTOS!$N$9=\"NICARAGUA\",LOOKUP(5,GEfectos!$C$4:$I$4,GEfectos!C93:I93),IF(EFECTOS!$N$9=\"REPÚBLICA \nDOMINICANA\",LOOKUP(6,$C$4:$I$4,C93:I93),IF(EFECTOS!$N$9=\"PANAMÁ\",LOOKUP(7,GEfectos!$C$4:$I$4,GEfectos!C93:I93))))))))","v":100.15989753132624},{"$f":"IF(EFECTOS!$N$9=\"COSTA RICA\",LOOKUP(1,GEfectos!$J$4:$P$4,GEfectos!J93:P93),IF(EFECTOS!$N$9=\"EL SALVADOR\",LOOKUP(2,GEfectos!$J$4:$P$4,GEfectos!J93:P93),IF(EFECTOS!$N$9=\"GUATEMALA\",LOOKUP(3,GEfectos!$J$4:$P$4,GEfectos!J93:P93),IF(EFECTOS!$N$9=\"HONDURAS\",LOOKUP(4,GEfectos!$J$4:$P$4,GEfectos!J93:P93),IF(EFECTOS!$N$9=\"NICARAGUA\",LOOKUP(5,GEfectos!$J$4:$P$4,GEfectos!J93:P93),IF(EFECTOS!$N$9=\"REPÚBLICA \nDOMINICANA\",LOOKUP(6,$J$4:$P$4,J93:P93),IF(EFECTOS!$N$9=\"PANAMÁ\",LOOKUP(7,GEfectos!$J$4:$P$4,GEfectos!J93:P93))))))))","v":109.60895896370776},{"$f":"IF(EFECTOS!$N$9=\"COSTA RICA\",LOOKUP(1,GEfectos!$Q$4:$W$4,GEfectos!Q93:W93),IF(EFECTOS!$N$9=\"EL SALVADOR\",LOOKUP(2,GEfectos!$Q$4:$W$4,GEfectos!Q93:W93),IF(EFECTOS!$N$9=\"GUATEMALA\",LOOKUP(3,GEfectos!$Q$4:$W$4,GEfectos!Q93:W93),IF(EFECTOS!$N$9=\"HONDURAS\",LOOKUP(4,GEfectos!$Q$4:$W$4,GEfectos!Q93:W93),IF(EFECTOS!$N$9=\"NICARAGUA\",LOOKUP(5,GEfectos!$Q$4:$W$4,GEfectos!Q93:W93),IF(EFECTOS!$N$9=\"REPÚBLICA \nDOMINICANA\",LOOKUP(6,$Q$4:$W$4,Q93:W93),IF(EFECTOS!$N$9=\"PANAMÁ\",LOOKUP(7,GEfectos!$Q$4:$W$4,GEfectos!Q93:W93))))))))","v":109.43397673647401},100]
[null,{"$f":"'ITCER GLOBAL'!B94","v":"Mayo"},{"$f":"'ITCER GLOBAL'!C94","v":100.71333194931536},{"$f":"'ITCER GLOBAL'!D94","v":100.2498070439996},{"$f":"'ITCER GLOBAL'!E94","v":92.367034651422045},{"$f":"'ITCER GLOBAL'!F94","v":99.02890365073759},{"$f":"'ITCER GLOBAL'!G94","v":104.56325999546443},{"$f":"'ITCER GLOBAL'!H94","v":105.1866151083148},{"$f":"'ITCER GLOBAL'!I94","v":101.70221007386853},{"$f":"'ITCER GLOBAL'!S94","v":110.82507975240783},{"$f":"'ITCER GLOBAL'!T94","v":98.97216058571739},{"$f":"'ITCER GLOBAL'!U94","v":99.682001779708813},{"$f":"'ITCER GLOBAL'!V94","v":106.35645198710368},{"$f":"'ITCER GLOBAL'!W94","v":106.21897370198351},{"$f":"'ITCER GLOBAL'!X94","v":105.52185602678006},{"$f":"'ITCER GLOBAL'!Y94","v":97.927054929661466},{"$f":"'ITCER GLOBAL'!AA94","v":110.0401283597501},{"$f":"'ITCER GLOBAL'!AB94","v":98.72553723946676},{"$f":"'ITCER GLOBAL'!AC94","v":107.91945649862231},{"$f":"'ITCER GLOBAL'!AD94","v":107.39940367532436},{"$f":"'ITCER GLOBAL'!AE94","v":101.58345647083966},{"$f":"'ITCER GLOBAL'!AF94","v":100.31871062503537},{"$f":"'ITCER GLOBAL'!AG94","v":96.288030376660373},null,{"$f":"IF(EFECTOS!$N$9=\"COSTA RICA\",LOOKUP(1,GEfectos!$C$4:$I$4,GEfectos!C94:I94),IF(EFECTOS!$N$9=\"EL SALVADOR\",LOOKUP(2,GEfectos!$C$4:$I$4,GEfectos!C94:I94),IF(EFECTOS!$N$9=\"GUATEMALA\",LOOKUP(3,GEfectos!$C$4:$I$4,GEfectos!C94:I94),IF(EFECTOS!$N$9=\"HONDURAS\",LOOKUP(4,GEfectos!$C$4:$I$4,GEfectos!C94:I94),IF(EFECTOS!$N$9=\"NICARAGUA\",LOOKUP(5,GEfectos!$C$4:$I$4,GEfectos!C94:I94),IF(EFECTOS!$N$9=\"REPÚBLICA \nDOMINICANA\",LOOKUP(6,$C$4:$I$4,C94:I94),IF(EFECTOS!$N$9=\"PANAMÁ\",LOOKUP(7,GEfectos!$C$4:$I$4,GEfectos!C94:I94))))))))","v":100.71333194931536},{"$f":"IF(EFECTOS!$N$9=\"COSTA RICA\",LOOKUP(1,GEfectos!$J$4:$P$4,GEfectos!J94:P94),IF(EFECTOS!$N$9=\"EL SALVADOR\",LOOKUP(2,GEfectos!$J$4:$P$4,GEfectos!J94:P94),IF(EFECTOS!$N$9=\"GUATEMALA\",LOOKUP(3,GEfectos!$J$4:$P$4,GEfectos!J94:P94),IF(EFECTOS!$N$9=\"HONDURAS\",LOOKUP(4,GEfectos!$J$4:$P$4,GEfectos!J94:P94),IF(EFECTOS!$N$9=\"NICARAGUA\",LOOKUP(5,GEfectos!$J$4:$P$4,GEfectos!J94:P94),IF(EFECTOS!$N$9=\"REPÚBLICA \nDOMINICANA\",LOOKUP(6,$J$4:$P$4,J94:P94),IF(EFECTOS!$N$9=\"PANAMÁ\",LOOKUP(7,GEfectos!$J$4:$P$4,GEfectos!J94:P94))))))))","v":110.82507975240783},{"$f":"IF(EFECTOS!$N$9=\"COSTA RICA\",LOOKUP(1,GEfectos!$Q$4:$W$4,GEfectos!Q94:W94),IF(EFECTOS!$N$9=\"EL SALVADOR\",LOOKUP(2,GEfectos!$Q$4:$W$4,GEfectos!Q94:W94),IF(EFECTOS!$N$9=\"GUATEMALA\",LOOKUP(3,GEfectos!$Q$4:$W$4,GEfectos!Q94:W94),IF(EFECTOS!$N$9=\"HONDURAS\",LOOKUP(4,GEfectos!$Q$4:$W$4,GEfectos!Q94:W94),IF(EFECTOS!$N$9=\"NICARAGUA\",LOOKUP(5,GEfectos!$Q$4:$W$4,GEfectos!Q94:W94),IF(EFECTOS!$N$9=\"REPÚBLICA \nDOMINICANA\",LOOKUP(6,$Q$4:$W$4,Q94:W94),IF(EFECTOS!$N$9=\"PANAMÁ\",LOOKUP(7,GEfectos!$Q$4:$W$4,GEfectos!Q94:W94))))))))","v":110.0401283597501},100]
[null,{"$f":"'ITCER GLOBAL'!B95","v":"Junio"},{"$f":"'ITCER GLOBAL'!C95","v":101.37279809335035},{"$f":"'ITCER GLOBAL'!D95","v":99.770016835787033},{"$f":"'ITCER GLOBAL'!E95","v":92.424936143711719},{"$f":"'ITCER GLOBAL'!F95","v":98.685547682678845},{"$f":"'ITCER GLOBAL'!G95","v":105.6159267464154},{"$f":"'ITCER GLOBAL'!H95","v":105.34050674406829},{"$f":"'ITCER GLOBAL'!I95","v":101.99542120577181},{"$f":"'ITCER GLOBAL'!S95","v":112.14359391633889},{"$f":"'ITCER GLOBAL'!T95","v":98.955525058088725},{"$f":"'ITCER GLOBAL'!U95","v":100.09233880594748},{"$f":"'ITCER GLOBAL'!V95","v":107.00186203843253},{"$f":"'ITCER GLOBAL'!W95","v":107.19522604315641},{"$f":"'ITCER GLOBAL'!X95","v":105.7383977916037},{"$f":"'ITCER GLOBAL'!Y95","v":98.164579990032436},{"$f":"'ITCER GLOBAL'!AA95","v":110.62493689191663},{"$f":"'ITCER GLOBAL'!AB95","v":99.183630710377756},{"$f":"'ITCER GLOBAL'!AC95","v":108.2958160234092},{"$f":"'ITCER GLOBAL'!AD95","v":108.42708436142505},{"$f":"'ITCER GLOBAL'!AE95","v":101.49532304965037},{"$f":"'ITCER GLOBAL'!AF95","v":100.37771894196608},{"$f":"'ITCER GLOBAL'!AG95","v":96.244104715239331},null,{"$f":"IF(EFECTOS!$N$9=\"COSTA RICA\",LOOKUP(1,GEfectos!$C$4:$I$4,GEfectos!C95:I95),IF(EFECTOS!$N$9=\"EL SALVADOR\",LOOKUP(2,GEfectos!$C$4:$I$4,GEfectos!C95:I95),IF(EFECTOS!$N$9=\"GUATEMALA\",LOOKUP(3,GEfectos!$C$4:$I$4,GEfectos!C95:I95),IF(EFECTOS!$N$9=\"HONDURAS\",LOOKUP(4,GEfectos!$C$4:$I$4,GEfectos!C95:I95),IF(EFECTOS!$N$9=\"NICARAGUA\",LOOKUP(5,GEfectos!$C$4:$I$4,GEfectos!C95:I95),IF(EFECTOS!$N$9=\"REPÚBLICA \nDOMINICANA\",LOOKUP(6,$C$4:$I$4,C95:I95),IF(EFECTOS!$N$9=\"PANAMÁ\",LOOKUP(7,GEfectos!$C$4:$I$4,GEfectos!C95:I95))))))))","v":101.37279809335035},{"$f":"IF(EFECTOS!$N$9=\"COSTA RICA\",LOOKUP(1,GEfectos!$J$4:$P$4,GEfectos!J95:P95),IF(EFECTOS!$N$9=\"EL SALVADOR\",LOOKUP(2,GEfectos!$J$4:$P$4,GEfectos!J95:P95),IF(EFECTOS!$N$9=\"GUATEMALA\",LOOKUP(3,GEfectos!$J$4:$P$4,GEfectos!J95:P95),IF(EFECTOS!$N$9=\"HONDURAS\",LOOKUP(4,GEfectos!$J$4:$P$4,GEfectos!J95:P95),IF(EFECTOS!$N$9=\"NICARAGUA\",LOOKUP(5,GEfectos!$J$4:$P$4,GEfectos!J95:P95),IF(EFECTOS!$N$9=\"REPÚBLICA \nDOMINICANA\",LOOKUP(6,$J$4:$P$4,J95:P95),IF(EFECTOS!$N$9=\"PANAMÁ\",LOOKUP(7,GEfectos!$J$4:$P$4,GEfectos!J95:P95))))))))","v":112.14359391633889},{"$f":"IF(EFECTOS!$N$9=\"COSTA RICA\",LOOKUP(1,GEfectos!$Q$4:$W$4,GEfectos!Q95:W95),IF(EFECTOS!$N$9=\"EL SALVADOR\",LOOKUP(2,GEfectos!$Q$4:$W$4,GEfectos!Q95:W95),IF(EFECTOS!$N$9=\"GUATEMALA\",LOOKUP(3,GEfectos!$Q$4:$W$4,GEfectos!Q95:W95),IF(EFECTOS!$N$9=\"HONDURAS\",LOOKUP(4,GEfectos!$Q$4:$W$4,GEfectos!Q95:W95),IF(EFECTOS!$N$9=\"NICARAGUA\",LOOKUP(5,GEfectos!$Q$4:$W$4,GEfectos!Q95:W95),IF(EFECTOS!$N$9=\"REPÚBLICA \nDOMINICANA\",LOOKUP(6,$Q$4:$W$4,Q95:W95),IF(EFECTOS!$N$9=\"PANAMÁ\",LOOKUP(7,GEfectos!$Q$4:$W$4,GEfectos!Q95:W95))))))))","v":110.62493689191663},100]
[null,{"$f":"'ITCER GLOBAL'!B96","v":"Julio"},{"$f":"'ITCER GLOBAL'!C96","v":101.21333709965067},{"$f":"'ITCER GLOBAL'!D96","v":100.00771302502157},{"$f":"'ITCER GLOBAL'!E96","v":91.477802334306958},{"$f":"'ITCER GLOBAL'!F96","v":98.837772539989317},{"$f":"'ITCER GLOBAL'!G96","v":106.48941017240638},{"$f":"'ITCER GLOBAL'!H96","v":105.24444734811732},{"$f":"'ITCER GLOBAL'!I96","v":102.15931312838816},{"$f":"'ITCER GLOBAL'!S96","v":113.47101080730422},{"$f":"'ITCER GLOBAL'!T96","v":99.106539931346077},{"$f":"'ITCER GLOBAL'!U96","v":99.683283840543069},{"$f":"'ITCER GLOBAL'!V96","v":107.8072583142152},{"$f":"'ITCER GLOBAL'!W96","v":107.92383360348907},{"$f":"'ITCER GLOBAL'!X96","v":105.96383033484014},{"$f":"'ITCER GLOBAL'!Y96","v":98.336821872927942},{"$f":"'ITCER GLOBAL'!AA96","v":112.11072973079143},{"$f":"'ITCER GLOBAL'!AB96","v":99.098896408669972},{"$f":"'ITCER GLOBAL'!AC96","v":108.9699154295914},{"$f":"'ITCER GLOBAL'!AD96","v":109.07495742136122},{"$f":"'ITCER GLOBAL'!AE96","v":101.34701040109091},{"$f":"'ITCER GLOBAL'!AF96","v":100.68353533592449},{"$f":"'ITCER GLOBAL'!AG96","v":96.258303684308899},null,{"$f":"IF(EFECTOS!$N$9=\"COSTA RICA\",LOOKUP(1,GEfectos!$C$4:$I$4,GEfectos!C96:I96),IF(EFECTOS!$N$9=\"EL SALVADOR\",LOOKUP(2,GEfectos!$C$4:$I$4,GEfectos!C96:I96),IF(EFECTOS!$N$9=\"GUATEMALA\",LOOKUP(3,GEfectos!$C$4:$I$4,GEfectos!C96:I96),IF(EFECTOS!$N$9=\"HONDURAS\",LOOKUP(4,GEfectos!$C$4:$I$4,GEfectos!C96:I96),IF(EFECTOS!$N$9=\"NICARAGUA\",LOOKUP(5,GEfectos!$C$4:$I$4,GEfectos!C96:I96),IF(EFECTOS!$N$9=\"REPÚBLICA \nDOMINICANA\",LOOKUP(6,$C$4:$I$4,C96:I96),IF(EFECTOS!$N$9=\"PANAMÁ\",LOOKUP(7,GEfectos!$C$4:$I$4,GEfectos!C96:I96))))))))","v":101.21333709965067},{"$f":"IF(EFECTOS!$N$9=\"COSTA RICA\",LOOKUP(1,GEfectos!$J$4:$P$4,GEfectos!J96:P96),IF(EFECTOS!$N$9=\"EL SALVADOR\",LOOKUP(2,GEfectos!$J$4:$P$4,GEfectos!J96:P96),IF(EFECTOS!$N$9=\"GUATEMALA\",LOOKUP(3,GEfectos!$J$4:$P$4,GEfectos!J96:P96),IF(EFECTOS!$N$9=\"HONDURAS\",LOOKUP(4,GEfectos!$J$4:$P$4,GEfectos!J96:P96),IF(EFECTOS!$N$9=\"NICARAGUA\",LOOKUP(5,GEfectos!$J$4:$P$4,GEfectos!J96:P96),IF(EFECTOS!$N$9=\"REPÚBLICA \nDOMINICANA\",LOOKUP(6,$J$4:$P$4,J96:P96),IF(EFECTOS!$N$9=\"PANAMÁ\",LOOKUP(7,GEfectos!$J$4:$P$4,GEfectos!J96:P96))))))))","v":113.47101080730422},{"$f":"IF(EFECTOS!$N$9=\"COSTA RICA\",LOOKUP(1,GEfectos!$Q$4:$W$4,GEfectos!Q96:W96),IF(EFECTOS!$N$9=\"EL SALVADOR\",LOOKUP(2,GEfectos!$Q$4:$W$4,GEfectos!Q96:W96),IF(EFECTOS!$N$9=\"GUATEMALA\",LOOKUP(3,GEfectos!$Q$4:$W$4,GEfectos!Q96:W96),IF(EFECTOS!$N$9=\"HONDURAS\",LOOKUP(4,GEfectos!$Q$4:$W$4,GEfectos!Q96:W96),IF(EFECTOS!$N$9=\"NICARAGUA\",LOOKUP(5,GEfectos!$Q$4:$W$4,GEfectos!Q96:W96),IF(EFECTOS!$N$9=\"REPÚBLICA \nDOMINICANA\",LOOKUP(6,$Q$4:$W$4,Q96:W96),IF(EFECTOS!$N$9=\"PANAMÁ\",LOOKUP(7,GEfectos!$Q$4:$W$4,GEfectos!Q96:W96))))))))","v":112.11072973079143},100]
[null,{"$f":"'ITCER GLOBAL'!B97","v":"Agosto"},{"$f":"'ITCER GLOBAL'!C97","v":100.97694619540449},{"$f":"'ITCER GLOBAL'!D97","v":100.68463618934609},{"$f":"'ITCER GLOBAL'!E97","v":90.509124437640423},{"$f":"'ITCER GLOBAL'!F97","v":98.874330354122577},{"$f":"'ITCER GLOBAL'!G97","v":106.81900432566474},{"$f":"'ITCER GLOBAL'!H97","v":104.52011822354291},{"$f":"'ITCER GLOBAL'!I97","v":101.6365544094492},{"$f":"'ITCER GLOBAL'!S97","v":114.23021999109433},{"$f":"'ITCER GLOBAL'!T97","v":99.082274379764115},{"$f":"'ITCER GLOBAL'!U97","v":98.31375048618645},{"$f":"'ITCER GLOBAL'!V97","v":108.25798012542509},{"$f":"'ITCER GLOBAL'!W97","v":108.04384543198292},{"$f":"'ITCER GLOBAL'!X97","v":105.82408002014951},{"$f":"'ITCER GLOBAL'!Y97","v":97.855962368881876},{"$f":"'ITCER GLOBAL'!AA97","v":113.12504912759285},{"$f":"'ITCER GLOBAL'!AB97","v":98.408533942985514},{"$f":"'ITCER GLOBAL'!AC97","v":108.62302679098758},{"$f":"'ITCER GLOBAL'!AD97","v":109.49048123784462},{"$f":"'ITCER GLOBAL'!AE97","v":101.1466509298139},{"$f":"'ITCER GLOBAL'!AF97","v":101.24757015086583},{"$f":"'ITCER GLOBAL'!AG97","v":96.280283149567452},null,{"$f":"IF(EFECTOS!$N$9=\"COSTA RICA\",LOOKUP(1,GEfectos!$C$4:$I$4,GEfectos!C97:I97),IF(EFECTOS!$N$9=\"EL SALVADOR\",LOOKUP(2,GEfectos!$C$4:$I$4,GEfectos!C97:I97),IF(EFECTOS!$N$9=\"GUATEMALA\",LOOKUP(3,GEfectos!$C$4:$I$4,GEfectos!C97:I97),IF(EFECTOS!$N$9=\"HONDURAS\",LOOKUP(4,GEfectos!$C$4:$I$4,GEfectos!C97:I97),IF(EFECTOS!$N$9=\"NICARAGUA\",LOOKUP(5,GEfectos!$C$4:$I$4,GEfectos!C97:I97),IF(EFECTOS!$N$9=\"REPÚBLICA \nDOMINICANA\",LOOKUP(6,$C$4:$I$4,C97:I97),IF(EFECTOS!$N$9=\"PANAMÁ\",LOOKUP(7,GEfectos!$C$4:$I$4,GEfectos!C97:I97))))))))","v":100.97694619540449},{"$f":"IF(EFECTOS!$N$9=\"COSTA RICA\",LOOKUP(1,GEfectos!$J$4:$P$4,GEfectos!J97:P97),IF(EFECTOS!$N$9=\"EL SALVADOR\",LOOKUP(2,GEfectos!$J$4:$P$4,GEfectos!J97:P97),IF(EFECTOS!$N$9=\"GUATEMALA\",LOOKUP(3,GEfectos!$J$4:$P$4,GEfectos!J97:P97),IF(EFECTOS!$N$9=\"HONDURAS\",LOOKUP(4,GEfectos!$J$4:$P$4,GEfectos!J97:P97),IF(EFECTOS!$N$9=\"NICARAGUA\",LOOKUP(5,GEfectos!$J$4:$P$4,GEfectos!J97:P97),IF(EFECTOS!$N$9=\"REPÚBLICA \nDOMINICANA\",LOOKUP(6,$J$4:$P$4,J97:P97),IF(EFECTOS!$N$9=\"PANAMÁ\",LOOKUP(7,GEfectos!$J$4:$P$4,GEfectos!J97:P97))))))))","v":114.23021999109433},{"$f":"IF(EFECTOS!$N$9=\"COSTA RICA\",LOOKUP(1,GEfectos!$Q$4:$W$4,GEfectos!Q97:W97),IF(EFECTOS!$N$9=\"EL SALVADOR\",LOOKUP(2,GEfectos!$Q$4:$W$4,GEfectos!Q97:W97),IF(EFECTOS!$N$9=\"GUATEMALA\",LOOKUP(3,GEfectos!$Q$4:$W$4,GEfectos!Q97:W97),IF(EFECTOS!$N$9=\"HONDURAS\",LOOKUP(4,GEfectos!$Q$4:$W$4,GEfectos!Q97:W97),IF(EFECTOS!$N$9=\"NICARAGUA\",LOOKUP(5,GEfectos!$Q$4:$W$4,GEfectos!Q97:W97),IF(EFECTOS!$N$9=\"REPÚBLICA \nDOMINICANA\",LOOKUP(6,$Q$4:$W$4,Q97:W97),IF(EFECTOS!$N$9=\"PANAMÁ\",LOOKUP(7,GEfectos!$Q$4:$W$4,GEfectos!Q97:W97))))))))","v":113.12504912759285},100]
[null,{"$f":"'ITCER GLOBAL'!B98","v":"Septiembre"},{"$f":"'ITCER GLOBAL'!C98","v":101.13904113948861},{"$f":"'ITCER GLOBAL'!D98","v":100.7973732549809},{"$f":"'ITCER GLOBAL'!E98","v":90.403680335935661},{"$f":"'ITCER GLOBAL'!F98","v":98.92121557390729},{"$f":"'ITCER GLOBAL'!G98","v":106.74166333032028},{"$f":"'ITCER GLOBAL'!H98","v":102.90071225000841},{"$f":"'ITCER GLOBAL'!I98","v":101.11278191634558},{"$f":"'ITCER GLOBAL'!S98","v":114.64430833917218},{"$f":"'ITCER GLOBAL'!T98","v":98.681468326661033},{"$f":"'ITCER GLOBAL'!U98","v":97.740885749296169},{"$f":"'ITCER GLOBAL'!V98","v":108.34853889865816},{"$f":"'ITCER GLOBAL'!W98","v":108.31739061255152},{"$f":"'ITCER GLOBAL'!X98","v":105.42397770203102},{"$f":"'ITCER GLOBAL'!Y98","v":97.049544380305335},{"$f":"'ITCER GLOBAL'!AA98","v":113.35316911009411},{"$f":"'ITCER GLOBAL'!AB98","v":97.900833265796109},{"$f":"'ITCER GLOBAL'!AC98","v":108.11604725172231},{"$f":"'ITCER GLOBAL'!AD98","v":109.53013291441754},{"$f":"'ITCER GLOBAL'!AE98","v":101.47620641562895},{"$f":"'ITCER GLOBAL'!AF98","v":102.45213604148051},{"$f":"'ITCER GLOBAL'!AG98","v":95.981479829719333},null,{"$f":"IF(EFECTOS!$N$9=\"COSTA RICA\",LOOKUP(1,GEfectos!$C$4:$I$4,GEfectos!C98:I98),IF(EFECTOS!$N$9=\"EL SALVADOR\",LOOKUP(2,GEfectos!$C$4:$I$4,GEfectos!C98:I98),IF(EFECTOS!$N$9=\"GUATEMALA\",LOOKUP(3,GEfectos!$C$4:$I$4,GEfectos!C98:I98),IF(EFECTOS!$N$9=\"HONDURAS\",LOOKUP(4,GEfectos!$C$4:$I$4,GEfectos!C98:I98),IF(EFECTOS!$N$9=\"NICARAGUA\",LOOKUP(5,GEfectos!$C$4:$I$4,GEfectos!C98:I98),IF(EFECTOS!$N$9=\"REPÚBLICA \nDOMINICANA\",LOOKUP(6,$C$4:$I$4,C98:I98),IF(EFECTOS!$N$9=\"PANAMÁ\",LOOKUP(7,GEfectos!$C$4:$I$4,GEfectos!C98:I98))))))))","v":101.13904113948861},{"$f":"IF(EFECTOS!$N$9=\"COSTA RICA\",LOOKUP(1,GEfectos!$J$4:$P$4,GEfectos!J98:P98),IF(EFECTOS!$N$9=\"EL SALVADOR\",LOOKUP(2,GEfectos!$J$4:$P$4,GEfectos!J98:P98),IF(EFECTOS!$N$9=\"GUATEMALA\",LOOKUP(3,GEfectos!$J$4:$P$4,GEfectos!J98:P98),IF(EFECTOS!$N$9=\"HONDURAS\",LOOKUP(4,GEfectos!$J$4:$P$4,GEfectos!J98:P98),IF(EFECTOS!$N$9=\"NICARAGUA\",LOOKUP(5,GEfectos!$J$4:$P$4,GEfectos!J98:P98),IF(EFECTOS!$N$9=\"REPÚBLICA \nDOMINICANA\",LOOKUP(6,$J$4:$P$4,J98:P98),IF(EFECTOS!$N$9=\"PANAMÁ\",LOOKUP(7,GEfectos!$J$4:$P$4,GEfectos!J98:P98))))))))","v":114.64430833917218},{"$f":"IF(EFECTOS!$N$9=\"COSTA RICA\",LOOKUP(1,GEfectos!$Q$4:$W$4,GEfectos!Q98:W98),IF(EFECTOS!$N$9=\"EL SALVADOR\",LOOKUP(2,GEfectos!$Q$4:$W$4,GEfectos!Q98:W98),IF(EFECTOS!$N$9=\"GUATEMALA\",LOOKUP(3,GEfectos!$Q$4:$W$4,GEfectos!Q98:W98),IF(EFECTOS!$N$9=\"HONDURAS\",LOOKUP(4,GEfectos!$Q$4:$W$4,GEfectos!Q98:W98),IF(EFECTOS!$N$9=\"NICARAGUA\",LOOKUP(5,GEfectos!$Q$4:$W$4,GEfectos!Q98:W98),IF(EFECTOS!$N$9=\"REPÚBLICA \nDOMINICANA\",LOOKUP(6,$Q$4:$W$4,Q98:W98),IF(EFECTOS!$N$9=\"PANAMÁ\",LOOKUP(7,GEfectos!$Q$4:$W$4,GEfectos!Q98:W98))))))))","v":113.35316911009411},100]
[null,{"$f":"'ITCER GLOBAL'!B99","v":"Octubre"},{"$f":"'ITCER GLOBAL'!C99","v":101.55687145167043},{"$f":"'ITCER GLOBAL'!D99","v":100.88031712796933},{"$f":"'ITCER GLOBAL'!E99","v":89.559116958536251},{"$f":"'ITCER GLOBAL'!F99","v":99.062875466044545},{"$f":"'ITCER GLOBAL'!G99","v":107.17491197601778},{"$f":"'ITCER GLOBAL'!H99","v":100.08223370466848},{"$f":"'ITCER GLOBAL'!I99","v":100.77139494773265},{"$f":"'ITCER GLOBAL'!S99","v":115.61898495918311},{"$f":"'ITCER GLOBAL'!T99","v":98.660573692032074},{"$f":"'ITCER GLOBAL'!U99","v":96.855018219679749},{"$f":"'ITCER GLOBAL'!V99","v":108.87324082621703},{"$f":"'ITCER GLOBAL'!W99","v":108.55496745233049},{"$f":"'ITCER GLOBAL'!X99","v":105.31049871202785},{"$f":"'ITCER GLOBAL'!Y99","v":96.744815631351443},{"$f":"'ITCER GLOBAL'!AA99","v":113.84654066879627},{"$f":"'ITCER GLOBAL'!AB99","v":97.799626825992775},{"$f":"'ITCER GLOBAL'!AC99","v":108.14646404399157},{"$f":"'ITCER GLOBAL'!AD99","v":109.9031703996268},{"$f":"'ITCER GLOBAL'!AE99","v":101.28766653582278},{"$f":"'ITCER GLOBAL'!AF99","v":105.22396914400152},{"$f":"'ITCER GLOBAL'!AG99","v":96.004243745489802},null,{"$f":"IF(EFECTOS!$N$9=\"COSTA RICA\",LOOKUP(1,GEfectos!$C$4:$I$4,GEfectos!C99:I99),IF(EFECTOS!$N$9=\"EL SALVADOR\",LOOKUP(2,GEfectos!$C$4:$I$4,GEfectos!C99:I99),IF(EFECTOS!$N$9=\"GUATEMALA\",LOOKUP(3,GEfectos!$C$4:$I$4,GEfectos!C99:I99),IF(EFECTOS!$N$9=\"HONDURAS\",LOOKUP(4,GEfectos!$C$4:$I$4,GEfectos!C99:I99),IF(EFECTOS!$N$9=\"NICARAGUA\",LOOKUP(5,GEfectos!$C$4:$I$4,GEfectos!C99:I99),IF(EFECTOS!$N$9=\"REPÚBLICA \nDOMINICANA\",LOOKUP(6,$C$4:$I$4,C99:I99),IF(EFECTOS!$N$9=\"PANAMÁ\",LOOKUP(7,GEfectos!$C$4:$I$4,GEfectos!C99:I99))))))))","v":101.55687145167043},{"$f":"IF(EFECTOS!$N$9=\"COSTA RICA\",LOOKUP(1,GEfectos!$J$4:$P$4,GEfectos!J99:P99),IF(EFECTOS!$N$9=\"EL SALVADOR\",LOOKUP(2,GEfectos!$J$4:$P$4,GEfectos!J99:P99),IF(EFECTOS!$N$9=\"GUATEMALA\",LOOKUP(3,GEfectos!$J$4:$P$4,GEfectos!J99:P99),IF(EFECTOS!$N$9=\"HONDURAS\",LOOKUP(4,GEfectos!$J$4:$P$4,GEfectos!J99:P99),IF(EFECTOS!$N$9=\"NICARAGUA\",LOOKUP(5,GEfectos!$J$4:$P$4,GEfectos!J99:P99),IF(EFECTOS!$N$9=\"REPÚBLICA \nDOMINICANA\",LOOKUP(6,$J$4:$P$4,J99:P99),IF(EFECTOS!$N$9=\"PANAMÁ\",LOOKUP(7,GEfectos!$J$4:$P$4,GEfectos!J99:P99))))))))","v":115.61898495918311},{"$f":"IF(EFECTOS!$N$9=\"COSTA RICA\",LOOKUP(1,GEfectos!$Q$4:$W$4,GEfectos!Q99:W99),IF(EFECTOS!$N$9=\"EL SALVADOR\",LOOKUP(2,GEfectos!$Q$4:$W$4,GEfectos!Q99:W99),IF(EFECTOS!$N$9=\"GUATEMALA\",LOOKUP(3,GEfectos!$Q$4:$W$4,GEfectos!Q99:W99),IF(EFECTOS!$N$9=\"HONDURAS\",LOOKUP(4,GEfectos!$Q$4:$W$4,GEfectos!Q99:W99),IF(EFECTOS!$N$9=\"NICARAGUA\",LOOKUP(5,GEfectos!$Q$4:$W$4,GEfectos!Q99:W99),IF(EFECTOS!$N$9=\"REPÚBLICA \nDOMINICANA\",LOOKUP(6,$Q$4:$W$4,Q99:W99),IF(EFECTOS!$N$9=\"PANAMÁ\",LOOKUP(7,GEfectos!$Q$4:$W$4,GEfectos!Q99:W99))))))))","v":113.84654066879627},100]
[null,{"$f":"'ITCER GLOBAL'!B100","v":"Noviembre"},{"$f":"'ITCER GLOBAL'!C100","v":101.88937352613816},{"$f":"'ITCER GLOBAL'!D100","v":101.4982503858084},{"$f":"'ITCER GLOBAL'!E100","v":88.134453841456121},{"$f":"'ITCER GLOBAL'!F100","v":99.322354923911917},{"$f":"'ITCER GLOBAL'!G100","v":108.38989822167585},{"$f":"'ITCER GLOBAL'!H100","v":99.812710201053264},{"$f":"'ITCER GLOBAL'!I100","v":101.4383506136907},{"$f":"'ITCER GLOBAL'!S100","v":117.08149153824561},{"$f":"'ITCER GLOBAL'!T100","v":98.906137820643849},{"$f":"'ITCER GLOBAL'!U100","v":95.565889481444827},{"$f":"'ITCER GLOBAL'!V100","v":109.70620512141468},{"$f":"'ITCER GLOBAL'!W100","v":109.32952629978483},{"$f":"'ITCER GLOBAL'!X100","v":105.45203182589178},{"$f":"'ITCER GLOBAL'!Y100","v":97.296325498618756},{"$f":"'ITCER GLOBAL'!AA100","v":114.9104047717107},{"$f":"'ITCER GLOBAL'!AB100","v":97.446150494898603},{"$f":"'ITCER GLOBAL'!AC100","v":108.43193021126223},{"$f":"'ITCER GLOBAL'!AD100","v":110.45469592969029},{"$f":"'ITCER GLOBAL'!AE100","v":100.86689635614132},{"$f":"'ITCER GLOBAL'!AF100","v":105.64990331740236},{"$f":"'ITCER GLOBAL'!AG100","v":95.916706955492529},null,{"$f":"IF(EFECTOS!$N$9=\"COSTA RICA\",LOOKUP(1,GEfectos!$C$4:$I$4,GEfectos!C100:I100),IF(EFECTOS!$N$9=\"EL SALVADOR\",LOOKUP(2,GEfectos!$C$4:$I$4,GEfectos!C100:I100),IF(EFECTOS!$N$9=\"GUATEMALA\",LOOKUP(3,GEfectos!$C$4:$I$4,GEfectos!C100:I100),IF(EFECTOS!$N$9=\"HONDURAS\",LOOKUP(4,GEfectos!$C$4:$I$4,GEfectos!C100:I100),IF(EFECTOS!$N$9=\"NICARAGUA\",LOOKUP(5,GEfectos!$C$4:$I$4,GEfectos!C100:I100),IF(EFECTOS!$N$9=\"REPÚBLICA \nDOMINICANA\",LOOKUP(6,$C$4:$I$4,C100:I100),IF(EFECTOS!$N$9=\"PANAMÁ\",LOOKUP(7,GEfectos!$C$4:$I$4,GEfectos!C100:I100))))))))","v":101.88937352613816},{"$f":"IF(EFECTOS!$N$9=\"COSTA RICA\",LOOKUP(1,GEfectos!$J$4:$P$4,GEfectos!J100:P100),IF(EFECTOS!$N$9=\"EL SALVADOR\",LOOKUP(2,GEfectos!$J$4:$P$4,GEfectos!J100:P100),IF(EFECTOS!$N$9=\"GUATEMALA\",LOOKUP(3,GEfectos!$J$4:$P$4,GEfectos!J100:P100),IF(EFECTOS!$N$9=\"HONDURAS\",LOOKUP(4,GEfectos!$J$4:$P$4,GEfectos!J100:P100),IF(EFECTOS!$N$9=\"NICARAGUA\",LOOKUP(5,GEfectos!$J$4:$P$4,GEfectos!J100:P100),IF(EFECTOS!$N$9=\"REPÚBLICA \nDOMINICANA\",LOOKUP(6,$J$4:$P$4,J100:P100),IF(EFECTOS!$N$9=\"PANAMÁ\",LOOKUP(7,GEfectos!$J$4:$P$4,GEfectos!J100:P100))))))))","v":117.08149153824561},{"$f":"IF(EFECTOS!$N$9=\"COSTA RICA\",LOOKUP(1,GEfectos!$Q$4:$W$4,GEfectos!Q100:W100),IF(EFECTOS!$N$9=\"EL SALVADOR\",LOOKUP(2,GEfectos!$Q$4:$W$4,GEfectos!Q100:W100),IF(EFECTOS!$N$9=\"GUATEMALA\",LOOKUP(3,GEfectos!$Q$4:$W$4,GEfectos!Q100:W100),IF(EFECTOS!$N$9=\"HONDURAS\",LOOKUP(4,GEfectos!$Q$4:$W$4,GEfectos!Q100:W100),IF(EFECTOS!$N$9=\"NICARAGUA\",LOOKUP(5,GEfectos!$Q$4:$W$4,GEfectos!Q100:W100),IF(EFECTOS!$N$9=\"REPÚBLICA \nDOMINICANA\",LOOKUP(6,$Q$4:$W$4,Q100:W100),IF(EFECTOS!$N$9=\"PANAMÁ\",LOOKUP(7,GEfectos!$Q$4:$W$4,GEfectos!Q100:W100))))))))","v":114.9104047717107},100]
[null,{"$f":"'ITCER GLOBAL'!B101","v":"Diciembre"},{"$f":"'ITCER GLOBAL'!C101","v":102.22457157777836},{"$f":"'ITCER GLOBAL'!D101","v":101.26571739034064},{"$f":"'ITCER GLOBAL'!E101","v":88.217996618950835},{"$f":"'ITCER GLOBAL'!F101","v":99.184355792853353},{"$f":"'ITCER GLOBAL'!G101","v":108.2668372193021},{"$f":"'ITCER GLOBAL'!H101","v":98.06382662195719},{"$f":"'ITCER GLOBAL'!I101","v":101.72652576950898},{"$f":"'ITCER GLOBAL'!S101","v":118.32494752798235},{"$f":"'ITCER GLOBAL'!T101","v":98.885831652315531},{"$f":"'ITCER GLOBAL'!U101","v":96.058168802503332},{"$f":"'ITCER GLOBAL'!V101","v":110.25703267277338},{"$f":"'ITCER GLOBAL'!W101","v":109.73233783118219},{"$f":"'ITCER GLOBAL'!X101","v":105.55739864663359},{"$f":"'ITCER GLOBAL'!Y101","v":97.276249349760718},{"$f":"'ITCER GLOBAL'!AA101","v":115.75000579772924},{"$f":"'ITCER GLOBAL'!AB101","v":97.649860387744496},{"$f":"'ITCER GLOBAL'!AC101","v":108.8872707203014},{"$f":"'ITCER GLOBAL'!AD101","v":111.16373322325683},{"$f":"'ITCER GLOBAL'!AE101","v":101.3536006495799},{"$f":"'ITCER GLOBAL'!AF101","v":107.64152520130041},{"$f":"'ITCER GLOBAL'!AG101","v":95.625254685457691},null,{"$f":"IF(EFECTOS!$N$9=\"COSTA RICA\",LOOKUP(1,GEfectos!$C$4:$I$4,GEfectos!C101:I101),IF(EFECTOS!$N$9=\"EL SALVADOR\",LOOKUP(2,GEfectos!$C$4:$I$4,GEfectos!C101:I101),IF(EFECTOS!$N$9=\"GUATEMALA\",LOOKUP(3,GEfectos!$C$4:$I$4,GEfectos!C101:I101),IF(EFECTOS!$N$9=\"HONDURAS\",LOOKUP(4,GEfectos!$C$4:$I$4,GEfectos!C101:I101),IF(EFECTOS!$N$9=\"NICARAGUA\",LOOKUP(5,GEfectos!$C$4:$I$4,GEfectos!C101:I101),IF(EFECTOS!$N$9=\"REPÚBLICA \nDOMINICANA\",LOOKUP(6,$C$4:$I$4,C101:I101),IF(EFECTOS!$N$9=\"PANAMÁ\",LOOKUP(7,GEfectos!$C$4:$I$4,GEfectos!C101:I101))))))))","v":102.22457157777836},{"$f":"IF(EFECTOS!$N$9=\"COSTA RICA\",LOOKUP(1,GEfectos!$J$4:$P$4,GEfectos!J101:P101),IF(EFECTOS!$N$9=\"EL SALVADOR\",LOOKUP(2,GEfectos!$J$4:$P$4,GEfectos!J101:P101),IF(EFECTOS!$N$9=\"GUATEMALA\",LOOKUP(3,GEfectos!$J$4:$P$4,GEfectos!J101:P101),IF(EFECTOS!$N$9=\"HONDURAS\",LOOKUP(4,GEfectos!$J$4:$P$4,GEfectos!J101:P101),IF(EFECTOS!$N$9=\"NICARAGUA\",LOOKUP(5,GEfectos!$J$4:$P$4,GEfectos!J101:P101),IF(EFECTOS!$N$9=\"REPÚBLICA \nDOMINICANA\",LOOKUP(6,$J$4:$P$4,J101:P101),IF(EFECTOS!$N$9=\"PANAMÁ\",LOOKUP(7,GEfectos!$J$4:$P$4,GEfectos!J101:P101))))))))","v":118.32494752798235},{"$f":"IF(EFECTOS!$N$9=\"COSTA RICA\",LOOKUP(1,GEfectos!$Q$4:$W$4,GEfectos!Q101:W101),IF(EFECTOS!$N$9=\"EL SALVADOR\",LOOKUP(2,GEfectos!$Q$4:$W$4,GEfectos!Q101:W101),IF(EFECTOS!$N$9=\"GUATEMALA\",LOOKUP(3,GEfectos!$Q$4:$W$4,GEfectos!Q101:W101),IF(EFECTOS!$N$9=\"HONDURAS\",LOOKUP(4,GEfectos!$Q$4:$W$4,GEfectos!Q101:W101),IF(EFECTOS!$N$9=\"NICARAGUA\",LOOKUP(5,GEfectos!$Q$4:$W$4,GEfectos!Q101:W101),IF(EFECTOS!$N$9=\"REPÚBLICA \nDOMINICANA\",LOOKUP(6,$Q$4:$W$4,Q101:W101),IF(EFECTOS!$N$9=\"PANAMÁ\",LOOKUP(7,GEfectos!$Q$4:$W$4,GEfectos!Q101:W101))))))))","v":115.75000579772924},100]
[2003,{"$f":"'ITCER GLOBAL'!B102","v":"Enero"},{"$f":"'ITCER GLOBAL'!C102","v":102.95283151618284},{"$f":"'ITCER GLOBAL'!D102","v":100.14467942935443},{"$f":"'ITCER GLOBAL'!E102","v":89.56486558771725},{"$f":"'ITCER GLOBAL'!F102","v":99.646184274195477},{"$f":"'ITCER GLOBAL'!G102","v":108.47200576160446},{"$f":"'ITCER GLOBAL'!H102","v":95.794580438918004},{"$f":"'ITCER GLOBAL'!I102","v":101.85893489314768},{"$f":"'ITCER GLOBAL'!S102","v":119.30080277172021},{"$f":"'ITCER GLOBAL'!T102","v":98.405730039392211},{"$f":"'ITCER GLOBAL'!U102","v":98.329597125183639},{"$f":"'ITCER GLOBAL'!V102","v":110.89461146763848},{"$f":"'ITCER GLOBAL'!W102","v":110.17326847842624},{"$f":"'ITCER GLOBAL'!X102","v":105.36200189364919},{"$f":"'ITCER GLOBAL'!Y102","v":96.906930519903312},{"$f":"'ITCER GLOBAL'!AA102","v":115.87908852508606},{"$f":"'ITCER GLOBAL'!AB102","v":98.263562877357927},{"$f":"'ITCER GLOBAL'!AC102","v":109.78590374691343},{"$f":"'ITCER GLOBAL'!AD102","v":111.288367211825},{"$f":"'ITCER GLOBAL'!AE102","v":101.56838873299783},{"$f":"'ITCER GLOBAL'!AF102","v":109.98743499986591},{"$f":"'ITCER GLOBAL'!AG102","v":95.138370160222934},null,{"$f":"IF(EFECTOS!$N$9=\"COSTA RICA\",LOOKUP(1,GEfectos!$C$4:$I$4,GEfectos!C102:I102),IF(EFECTOS!$N$9=\"EL SALVADOR\",LOOKUP(2,GEfectos!$C$4:$I$4,GEfectos!C102:I102),IF(EFECTOS!$N$9=\"GUATEMALA\",LOOKUP(3,GEfectos!$C$4:$I$4,GEfectos!C102:I102),IF(EFECTOS!$N$9=\"HONDURAS\",LOOKUP(4,GEfectos!$C$4:$I$4,GEfectos!C102:I102),IF(EFECTOS!$N$9=\"NICARAGUA\",LOOKUP(5,GEfectos!$C$4:$I$4,GEfectos!C102:I102),IF(EFECTOS!$N$9=\"REPÚBLICA \nDOMINICANA\",LOOKUP(6,$C$4:$I$4,C102:I102),IF(EFECTOS!$N$9=\"PANAMÁ\",LOOKUP(7,GEfectos!$C$4:$I$4,GEfectos!C102:I102))))))))","v":102.95283151618284},{"$f":"IF(EFECTOS!$N$9=\"COSTA RICA\",LOOKUP(1,GEfectos!$J$4:$P$4,GEfectos!J102:P102),IF(EFECTOS!$N$9=\"EL SALVADOR\",LOOKUP(2,GEfectos!$J$4:$P$4,GEfectos!J102:P102),IF(EFECTOS!$N$9=\"GUATEMALA\",LOOKUP(3,GEfectos!$J$4:$P$4,GEfectos!J102:P102),IF(EFECTOS!$N$9=\"HONDURAS\",LOOKUP(4,GEfectos!$J$4:$P$4,GEfectos!J102:P102),IF(EFECTOS!$N$9=\"NICARAGUA\",LOOKUP(5,GEfectos!$J$4:$P$4,GEfectos!J102:P102),IF(EFECTOS!$N$9=\"REPÚBLICA \nDOMINICANA\",LOOKUP(6,$J$4:$P$4,J102:P102),IF(EFECTOS!$N$9=\"PANAMÁ\",LOOKUP(7,GEfectos!$J$4:$P$4,GEfectos!J102:P102))))))))","v":119.30080277172021},{"$f":"IF(EFECTOS!$N$9=\"COSTA RICA\",LOOKUP(1,GEfectos!$Q$4:$W$4,GEfectos!Q102:W102),IF(EFECTOS!$N$9=\"EL SALVADOR\",LOOKUP(2,GEfectos!$Q$4:$W$4,GEfectos!Q102:W102),IF(EFECTOS!$N$9=\"GUATEMALA\",LOOKUP(3,GEfectos!$Q$4:$W$4,GEfectos!Q102:W102),IF(EFECTOS!$N$9=\"HONDURAS\",LOOKUP(4,GEfectos!$Q$4:$W$4,GEfectos!Q102:W102),IF(EFECTOS!$N$9=\"NICARAGUA\",LOOKUP(5,GEfectos!$Q$4:$W$4,GEfectos!Q102:W102),IF(EFECTOS!$N$9=\"REPÚBLICA \nDOMINICANA\",LOOKUP(6,$Q$4:$W$4,Q102:W102),IF(EFECTOS!$N$9=\"PANAMÁ\",LOOKUP(7,GEfectos!$Q$4:$W$4,GEfectos!Q102:W102))))))))","v":115.87908852508606},100]
[null,{"$f":"'ITCER GLOBAL'!B103","v":"Febrero"},{"$f":"'ITCER GLOBAL'!C103","v":103.64688540432088},{"$f":"'ITCER GLOBAL'!D103","v":100.41287579299279},{"$f":"'ITCER GLOBAL'!E103","v":89.586708909634424},{"$f":"'ITCER GLOBAL'!F103","v":99.318061073532959},{"$f":"'ITCER GLOBAL'!G103","v":107.7943991489626},{"$f":"'ITCER GLOBAL'!H103","v":95.843304823544443},{"$f":"'ITCER GLOBAL'!I103","v":102.30183482619636},{"$f":"'ITCER GLOBAL'!S103","v":120.23561894916057},{"$f":"'ITCER GLOBAL'!T103","v":98.18033510363307},{"$f":"'ITCER GLOBAL'!U103","v":98.393553280961669},{"$f":"'ITCER GLOBAL'!V103","v":111.26602191893913},{"$f":"'ITCER GLOBAL'!W103","v":110.43122955137675},{"$f":"'ITCER GLOBAL'!X103","v":108.8293972645761},{"$f":"'ITCER GLOBAL'!Y103","v":96.662798344571712},{"$f":"'ITCER GLOBAL'!AA103","v":116.00504779292491},{"$f":"'ITCER GLOBAL'!AB103","v":97.776639029876762},{"$f":"'ITCER GLOBAL'!AC103","v":109.83052561983348},{"$f":"'ITCER GLOBAL'!AD103","v":112.02999808520238},{"$f":"'ITCER GLOBAL'!AE103","v":102.44616642722808},{"$f":"'ITCER GLOBAL'!AF103","v":113.54929534717124},{"$f":"'ITCER GLOBAL'!AG103","v":94.487844239348235},null,{"$f":"IF(EFECTOS!$N$9=\"COSTA RICA\",LOOKUP(1,GEfectos!$C$4:$I$4,GEfectos!C103:I103),IF(EFECTOS!$N$9=\"EL SALVADOR\",LOOKUP(2,GEfectos!$C$4:$I$4,GEfectos!C103:I103),IF(EFECTOS!$N$9=\"GUATEMALA\",LOOKUP(3,GEfectos!$C$4:$I$4,GEfectos!C103:I103),IF(EFECTOS!$N$9=\"HONDURAS\",LOOKUP(4,GEfectos!$C$4:$I$4,GEfectos!C103:I103),IF(EFECTOS!$N$9=\"NICARAGUA\",LOOKUP(5,GEfectos!$C$4:$I$4,GEfectos!C103:I103),IF(EFECTOS!$N$9=\"REPÚBLICA \nDOMINICANA\",LOOKUP(6,$C$4:$I$4,C103:I103),IF(EFECTOS!$N$9=\"PANAMÁ\",LOOKUP(7,GEfectos!$C$4:$I$4,GEfectos!C103:I103))))))))","v":103.64688540432088},{"$f":"IF(EFECTOS!$N$9=\"COSTA RICA\",LOOKUP(1,GEfectos!$J$4:$P$4,GEfectos!J103:P103),IF(EFECTOS!$N$9=\"EL SALVADOR\",LOOKUP(2,GEfectos!$J$4:$P$4,GEfectos!J103:P103),IF(EFECTOS!$N$9=\"GUATEMALA\",LOOKUP(3,GEfectos!$J$4:$P$4,GEfectos!J103:P103),IF(EFECTOS!$N$9=\"HONDURAS\",LOOKUP(4,GEfectos!$J$4:$P$4,GEfectos!J103:P103),IF(EFECTOS!$N$9=\"NICARAGUA\",LOOKUP(5,GEfectos!$J$4:$P$4,GEfectos!J103:P103),IF(EFECTOS!$N$9=\"REPÚBLICA \nDOMINICANA\",LOOKUP(6,$J$4:$P$4,J103:P103),IF(EFECTOS!$N$9=\"PANAMÁ\",LOOKUP(7,GEfectos!$J$4:$P$4,GEfectos!J103:P103))))))))","v":120.23561894916057},{"$f":"IF(EFECTOS!$N$9=\"COSTA RICA\",LOOKUP(1,GEfectos!$Q$4:$W$4,GEfectos!Q103:W103),IF(EFECTOS!$N$9=\"EL SALVADOR\",LOOKUP(2,GEfectos!$Q$4:$W$4,GEfectos!Q103:W103),IF(EFECTOS!$N$9=\"GUATEMALA\",LOOKUP(3,GEfectos!$Q$4:$W$4,GEfectos!Q103:W103),IF(EFECTOS!$N$9=\"HONDURAS\",LOOKUP(4,GEfectos!$Q$4:$W$4,GEfectos!Q103:W103),IF(EFECTOS!$N$9=\"NICARAGUA\",LOOKUP(5,GEfectos!$Q$4:$W$4,GEfectos!Q103:W103),IF(EFECTOS!$N$9=\"REPÚBLICA \nDOMINICANA\",LOOKUP(6,$Q$4:$W$4,Q103:W103),IF(EFECTOS!$N$9=\"PANAMÁ\",LOOKUP(7,GEfectos!$Q$4:$W$4,GEfectos!Q103:W103))))))))","v":116.00504779292491},100]
[null,{"$f":"'ITCER GLOBAL'!B104","v":"Marzo"},{"$f":"'ITCER GLOBAL'!C104","v":104.34251262101714},{"$f":"'ITCER GLOBAL'!D104","v":100.49339817158229},{"$f":"'ITCER GLOBAL'!E104","v":90.390674226823208},{"$f":"'ITCER GLOBAL'!F104","v":99.784320907586761},{"$f":"'ITCER GLOBAL'!G104","v":108.56731466346162},{"$f":"'ITCER GLOBAL'!H104","v":118.53285935319381},{"$f":"'ITCER GLOBAL'!I104","v":102.62874882460792},{"$f":"'ITCER GLOBAL'!S104","v":121.15695759604836},{"$f":"'ITCER GLOBAL'!T104","v":98.017214565672134},{"$f":"'ITCER GLOBAL'!U104","v":99.172885084743641},{"$f":"'ITCER GLOBAL'!V104","v":111.62673884568524},{"$f":"'ITCER GLOBAL'!W104","v":110.88518274496282},{"$f":"'ITCER GLOBAL'!X104","v":136.17210919074267},{"$f":"'ITCER GLOBAL'!Y104","v":96.494755656284539},{"$f":"'ITCER GLOBAL'!AA104","v":116.11466367127177},{"$f":"'ITCER GLOBAL'!AB104","v":97.535973854041316},{"$f":"'ITCER GLOBAL'!AC104","v":109.71583731733503},{"$f":"'ITCER GLOBAL'!AD104","v":111.8680147646303},{"$f":"'ITCER GLOBAL'!AE104","v":102.13495939241581},{"$f":"'ITCER GLOBAL'!AF104","v":114.881316399353},{"$f":"'ITCER GLOBAL'!AG104","v":94.02312389211103},null,{"$f":"IF(EFECTOS!$N$9=\"COSTA RICA\",LOOKUP(1,GEfectos!$C$4:$I$4,GEfectos!C104:I104),IF(EFECTOS!$N$9=\"EL SALVADOR\",LOOKUP(2,GEfectos!$C$4:$I$4,GEfectos!C104:I104),IF(EFECTOS!$N$9=\"GUATEMALA\",LOOKUP(3,GEfectos!$C$4:$I$4,GEfectos!C104:I104),IF(EFECTOS!$N$9=\"HONDURAS\",LOOKUP(4,GEfectos!$C$4:$I$4,GEfectos!C104:I104),IF(EFECTOS!$N$9=\"NICARAGUA\",LOOKUP(5,GEfectos!$C$4:$I$4,GEfectos!C104:I104),IF(EFECTOS!$N$9=\"REPÚBLICA \nDOMINICANA\",LOOKUP(6,$C$4:$I$4,C104:I104),IF(EFECTOS!$N$9=\"PANAMÁ\",LOOKUP(7,GEfectos!$C$4:$I$4,GEfectos!C104:I104))))))))","v":104.34251262101714},{"$f":"IF(EFECTOS!$N$9=\"COSTA RICA\",LOOKUP(1,GEfectos!$J$4:$P$4,GEfectos!J104:P104),IF(EFECTOS!$N$9=\"EL SALVADOR\",LOOKUP(2,GEfectos!$J$4:$P$4,GEfectos!J104:P104),IF(EFECTOS!$N$9=\"GUATEMALA\",LOOKUP(3,GEfectos!$J$4:$P$4,GEfectos!J104:P104),IF(EFECTOS!$N$9=\"HONDURAS\",LOOKUP(4,GEfectos!$J$4:$P$4,GEfectos!J104:P104),IF(EFECTOS!$N$9=\"NICARAGUA\",LOOKUP(5,GEfectos!$J$4:$P$4,GEfectos!J104:P104),IF(EFECTOS!$N$9=\"REPÚBLICA \nDOMINICANA\",LOOKUP(6,$J$4:$P$4,J104:P104),IF(EFECTOS!$N$9=\"PANAMÁ\",LOOKUP(7,GEfectos!$J$4:$P$4,GEfectos!J104:P104))))))))","v":121.15695759604836},{"$f":"IF(EFECTOS!$N$9=\"COSTA RICA\",LOOKUP(1,GEfectos!$Q$4:$W$4,GEfectos!Q104:W104),IF(EFECTOS!$N$9=\"EL SALVADOR\",LOOKUP(2,GEfectos!$Q$4:$W$4,GEfectos!Q104:W104),IF(EFECTOS!$N$9=\"GUATEMALA\",LOOKUP(3,GEfectos!$Q$4:$W$4,GEfectos!Q104:W104),IF(EFECTOS!$N$9=\"HONDURAS\",LOOKUP(4,GEfectos!$Q$4:$W$4,GEfectos!Q104:W104),IF(EFECTOS!$N$9=\"NICARAGUA\",LOOKUP(5,GEfectos!$Q$4:$W$4,GEfectos!Q104:W104),IF(EFECTOS!$N$9=\"REPÚBLICA \nDOMINICANA\",LOOKUP(6,$Q$4:$W$4,Q104:W104),IF(EFECTOS!$N$9=\"PANAMÁ\",LOOKUP(7,GEfectos!$Q$4:$W$4,GEfectos!Q104:W104))))))))","v":116.11466367127177},100]
[null,{"$f":"'ITCER GLOBAL'!B105","v":"Abril"},{"$f":"'ITCER GLOBAL'!C105","v":104.48191758750559},{"$f":"'ITCER GLOBAL'!D105","v":100.7134468920156},{"$f":"'ITCER GLOBAL'!E105","v":90.295736027146432},{"$f":"'ITCER GLOBAL'!F105","v":99.925464032014673},{"$f":"'ITCER GLOBAL'!G105","v":109.64309330122632},{"$f":"'ITCER GLOBAL'!H105","v":123.91954423950291},{"$f":"'ITCER GLOBAL'!I105","v":103.04467318561773},{"$f":"'ITCER GLOBAL'!S105","v":122.55527379738722},{"$f":"'ITCER GLOBAL'!T105","v":98.198823464739419},{"$f":"'ITCER GLOBAL'!U105","v":99.518684845118429},{"$f":"'ITCER GLOBAL'!V105","v":112.36856124789863},{"$f":"'ITCER GLOBAL'!W105","v":111.63694752046469},{"$f":"'ITCER GLOBAL'!X105","v":142.91295324228736},{"$f":"'ITCER GLOBAL'!Y105","v":96.803856972403977},{"$f":"'ITCER GLOBAL'!AA105","v":117.29807092671787},{"$f":"'ITCER GLOBAL'!AB105","v":97.503189986167058},{"$f":"'ITCER GLOBAL'!AC105","v":110.21415763774185},{"$f":"'ITCER GLOBAL'!AD105","v":112.4523787168978},{"$f":"'ITCER GLOBAL'!AE105","v":101.81849504533824},{"$f":"'ITCER GLOBAL'!AF105","v":115.32721018249981},{"$f":"'ITCER GLOBAL'!AG105","v":93.943581923956472},null,{"$f":"IF(EFECTOS!$N$9=\"COSTA RICA\",LOOKUP(1,GEfectos!$C$4:$I$4,GEfectos!C105:I105),IF(EFECTOS!$N$9=\"EL SALVADOR\",LOOKUP(2,GEfectos!$C$4:$I$4,GEfectos!C105:I105),IF(EFECTOS!$N$9=\"GUATEMALA\",LOOKUP(3,GEfectos!$C$4:$I$4,GEfectos!C105:I105),IF(EFECTOS!$N$9=\"HONDURAS\",LOOKUP(4,GEfectos!$C$4:$I$4,GEfectos!C105:I105),IF(EFECTOS!$N$9=\"NICARAGUA\",LOOKUP(5,GEfectos!$C$4:$I$4,GEfectos!C105:I105),IF(EFECTOS!$N$9=\"REPÚBLICA \nDOMINICANA\",LOOKUP(6,$C$4:$I$4,C105:I105),IF(EFECTOS!$N$9=\"PANAMÁ\",LOOKUP(7,GEfectos!$C$4:$I$4,GEfectos!C105:I105))))))))","v":104.48191758750559},{"$f":"IF(EFECTOS!$N$9=\"COSTA RICA\",LOOKUP(1,GEfectos!$J$4:$P$4,GEfectos!J105:P105),IF(EFECTOS!$N$9=\"EL SALVADOR\",LOOKUP(2,GEfectos!$J$4:$P$4,GEfectos!J105:P105),IF(EFECTOS!$N$9=\"GUATEMALA\",LOOKUP(3,GEfectos!$J$4:$P$4,GEfectos!J105:P105),IF(EFECTOS!$N$9=\"HONDURAS\",LOOKUP(4,GEfectos!$J$4:$P$4,GEfectos!J105:P105),IF(EFECTOS!$N$9=\"NICARAGUA\",LOOKUP(5,GEfectos!$J$4:$P$4,GEfectos!J105:P105),IF(EFECTOS!$N$9=\"REPÚBLICA \nDOMINICANA\",LOOKUP(6,$J$4:$P$4,J105:P105),IF(EFECTOS!$N$9=\"PANAMÁ\",LOOKUP(7,GEfectos!$J$4:$P$4,GEfectos!J105:P105))))))))","v":122.55527379738722},{"$f":"IF(EFECTOS!$N$9=\"COSTA RICA\",LOOKUP(1,GEfectos!$Q$4:$W$4,GEfectos!Q105:W105),IF(EFECTOS!$N$9=\"EL SALVADOR\",LOOKUP(2,GEfectos!$Q$4:$W$4,GEfectos!Q105:W105),IF(EFECTOS!$N$9=\"GUATEMALA\",LOOKUP(3,GEfectos!$Q$4:$W$4,GEfectos!Q105:W105),IF(EFECTOS!$N$9=\"HONDURAS\",LOOKUP(4,GEfectos!$Q$4:$W$4,GEfectos!Q105:W105),IF(EFECTOS!$N$9=\"NICARAGUA\",LOOKUP(5,GEfectos!$Q$4:$W$4,GEfectos!Q105:W105),IF(EFECTOS!$N$9=\"REPÚBLICA \nDOMINICANA\",LOOKUP(6,$Q$4:$W$4,Q105:W105),IF(EFECTOS!$N$9=\"PANAMÁ\",LOOKUP(7,GEfectos!$Q$4:$W$4,GEfectos!Q105:W105))))))))","v":117.29807092671787},100]
[null,{"$f":"'ITCER GLOBAL'!B106","v":"Mayo"},{"$f":"'ITCER GLOBAL'!C106","v":105.7888912581367},{"$f":"'ITCER GLOBAL'!D106","v":101.325741350021},{"$f":"'ITCER GLOBAL'!E106","v":90.824279593807091},{"$f":"'ITCER GLOBAL'!F106","v":100.93699833683957},{"$f":"'ITCER GLOBAL'!G106","v":110.36860075045965},{"$f":"'ITCER GLOBAL'!H106","v":132.73706666520269},{"$f":"'ITCER GLOBAL'!I106","v":104.49472787959468},{"$f":"'ITCER GLOBAL'!S106","v":124.85250113542861},{"$f":"'ITCER GLOBAL'!T106","v":98.713223219692253},{"$f":"'ITCER GLOBAL'!U106","v":100.43105669508287},{"$f":"'ITCER GLOBAL'!V106","v":113.74126615173523},{"$f":"'ITCER GLOBAL'!W106","v":113.24732014178369},{"$f":"'ITCER GLOBAL'!X106","v":155.10236606846215},{"$f":"'ITCER GLOBAL'!Y106","v":97.981809786879708},{"$f":"'ITCER GLOBAL'!AA106","v":118.02042695652663},{"$f":"'ITCER GLOBAL'!AB106","v":97.421663937000929},{"$f":"'ITCER GLOBAL'!AC106","v":110.57732265451499},{"$f":"'ITCER GLOBAL'!AD106","v":112.68540577377404},{"$f":"'ITCER GLOBAL'!AE106","v":102.60827750986239},{"$f":"'ITCER GLOBAL'!AF106","v":116.84932473283483},{"$f":"'ITCER GLOBAL'!AG106","v":93.767228045974178},null,{"$f":"IF(EFECTOS!$N$9=\"COSTA RICA\",LOOKUP(1,GEfectos!$C$4:$I$4,GEfectos!C106:I106),IF(EFECTOS!$N$9=\"EL SALVADOR\",LOOKUP(2,GEfectos!$C$4:$I$4,GEfectos!C106:I106),IF(EFECTOS!$N$9=\"GUATEMALA\",LOOKUP(3,GEfectos!$C$4:$I$4,GEfectos!C106:I106),IF(EFECTOS!$N$9=\"HONDURAS\",LOOKUP(4,GEfectos!$C$4:$I$4,GEfectos!C106:I106),IF(EFECTOS!$N$9=\"NICARAGUA\",LOOKUP(5,GEfectos!$C$4:$I$4,GEfectos!C106:I106),IF(EFECTOS!$N$9=\"REPÚBLICA \nDOMINICANA\",LOOKUP(6,$C$4:$I$4,C106:I106),IF(EFECTOS!$N$9=\"PANAMÁ\",LOOKUP(7,GEfectos!$C$4:$I$4,GEfectos!C106:I106))))))))","v":105.7888912581367},{"$f":"IF(EFECTOS!$N$9=\"COSTA RICA\",LOOKUP(1,GEfectos!$J$4:$P$4,GEfectos!J106:P106),IF(EFECTOS!$N$9=\"EL SALVADOR\",LOOKUP(2,GEfectos!$J$4:$P$4,GEfectos!J106:P106),IF(EFECTOS!$N$9=\"GUATEMALA\",LOOKUP(3,GEfectos!$J$4:$P$4,GEfectos!J106:P106),IF(EFECTOS!$N$9=\"HONDURAS\",LOOKUP(4,GEfectos!$J$4:$P$4,GEfectos!J106:P106),IF(EFECTOS!$N$9=\"NICARAGUA\",LOOKUP(5,GEfectos!$J$4:$P$4,GEfectos!J106:P106),IF(EFECTOS!$N$9=\"REPÚBLICA \nDOMINICANA\",LOOKUP(6,$J$4:$P$4,J106:P106),IF(EFECTOS!$N$9=\"PANAMÁ\",LOOKUP(7,GEfectos!$J$4:$P$4,GEfectos!J106:P106))))))))","v":124.85250113542861},{"$f":"IF(EFECTOS!$N$9=\"COSTA RICA\",LOOKUP(1,GEfectos!$Q$4:$W$4,GEfectos!Q106:W106),IF(EFECTOS!$N$9=\"EL SALVADOR\",LOOKUP(2,GEfectos!$Q$4:$W$4,GEfectos!Q106:W106),IF(EFECTOS!$N$9=\"GUATEMALA\",LOOKUP(3,GEfectos!$Q$4:$W$4,GEfectos!Q106:W106),IF(EFECTOS!$N$9=\"HONDURAS\",LOOKUP(4,GEfectos!$Q$4:$W$4,GEfectos!Q106:W106),IF(EFECTOS!$N$9=\"NICARAGUA\",LOOKUP(5,GEfectos!$Q$4:$W$4,GEfectos!Q106:W106),IF(EFECTOS!$N$9=\"REPÚBLICA \nDOMINICANA\",LOOKUP(6,$Q$4:$W$4,Q106:W106),IF(EFECTOS!$N$9=\"PANAMÁ\",LOOKUP(7,GEfectos!$Q$4:$W$4,GEfectos!Q106:W106))))))))","v":118.02042695652663},100]
[null,{"$f":"'ITCER GLOBAL'!B107","v":"Junio"},{"$f":"'ITCER GLOBAL'!C107","v":106.09720266477674},{"$f":"'ITCER GLOBAL'!D107","v":101.00409708439769},{"$f":"'ITCER GLOBAL'!E107","v":90.741395545461671},{"$f":"'ITCER GLOBAL'!F107","v":101.12693129391644},{"$f":"'ITCER GLOBAL'!G107","v":109.68715068202657},{"$f":"'ITCER GLOBAL'!H107","v":142.62227308242194},{"$f":"'ITCER GLOBAL'!I107","v":104.47899579986267},{"$f":"'ITCER GLOBAL'!S107","v":125.89896884142773},{"$f":"'ITCER GLOBAL'!T107","v":98.56752367874077},{"$f":"'ITCER GLOBAL'!U107","v":100.47708615448192},{"$f":"'ITCER GLOBAL'!V107","v":114.12864737868725},{"$f":"'ITCER GLOBAL'!W107","v":113.58394634939619},{"$f":"'ITCER GLOBAL'!X107","v":175.08151445864397},{"$f":"'ITCER GLOBAL'!Y107","v":97.945897457319546},{"$f":"'ITCER GLOBAL'!AA107","v":118.66379666881168},{"$f":"'ITCER GLOBAL'!AB107","v":97.587648940992011},{"$f":"'ITCER GLOBAL'!AC107","v":110.72905100312529},{"$f":"'ITCER GLOBAL'!AD107","v":112.85682846143376},{"$f":"'ITCER GLOBAL'!AE107","v":103.55264554064867},{"$f":"'ITCER GLOBAL'!AF107","v":122.75888658531176},{"$f":"'ITCER GLOBAL'!AG107","v":93.74697441095455},null,{"$f":"IF(EFECTOS!$N$9=\"COSTA RICA\",LOOKUP(1,GEfectos!$C$4:$I$4,GEfectos!C107:I107),IF(EFECTOS!$N$9=\"EL SALVADOR\",LOOKUP(2,GEfectos!$C$4:$I$4,GEfectos!C107:I107),IF(EFECTOS!$N$9=\"GUATEMALA\",LOOKUP(3,GEfectos!$C$4:$I$4,GEfectos!C107:I107),IF(EFECTOS!$N$9=\"HONDURAS\",LOOKUP(4,GEfectos!$C$4:$I$4,GEfectos!C107:I107),IF(EFECTOS!$N$9=\"NICARAGUA\",LOOKUP(5,GEfectos!$C$4:$I$4,GEfectos!C107:I107),IF(EFECTOS!$N$9=\"REPÚBLICA \nDOMINICANA\",LOOKUP(6,$C$4:$I$4,C107:I107),IF(EFECTOS!$N$9=\"PANAMÁ\",LOOKUP(7,GEfectos!$C$4:$I$4,GEfectos!C107:I107))))))))","v":106.09720266477674},{"$f":"IF(EFECTOS!$N$9=\"COSTA RICA\",LOOKUP(1,GEfectos!$J$4:$P$4,GEfectos!J107:P107),IF(EFECTOS!$N$9=\"EL SALVADOR\",LOOKUP(2,GEfectos!$J$4:$P$4,GEfectos!J107:P107),IF(EFECTOS!$N$9=\"GUATEMALA\",LOOKUP(3,GEfectos!$J$4:$P$4,GEfectos!J107:P107),IF(EFECTOS!$N$9=\"HONDURAS\",LOOKUP(4,GEfectos!$J$4:$P$4,GEfectos!J107:P107),IF(EFECTOS!$N$9=\"NICARAGUA\",LOOKUP(5,GEfectos!$J$4:$P$4,GEfectos!J107:P107),IF(EFECTOS!$N$9=\"REPÚBLICA \nDOMINICANA\",LOOKUP(6,$J$4:$P$4,J107:P107),IF(EFECTOS!$N$9=\"PANAMÁ\",LOOKUP(7,GEfectos!$J$4:$P$4,GEfectos!J107:P107))))))))","v":125.89896884142773},{"$f":"IF(EFECTOS!$N$9=\"COSTA RICA\",LOOKUP(1,GEfectos!$Q$4:$W$4,GEfectos!Q107:W107),IF(EFECTOS!$N$9=\"EL SALVADOR\",LOOKUP(2,GEfectos!$Q$4:$W$4,GEfectos!Q107:W107),IF(EFECTOS!$N$9=\"GUATEMALA\",LOOKUP(3,GEfectos!$Q$4:$W$4,GEfectos!Q107:W107),IF(EFECTOS!$N$9=\"HONDURAS\",LOOKUP(4,GEfectos!$Q$4:$W$4,GEfectos!Q107:W107),IF(EFECTOS!$N$9=\"NICARAGUA\",LOOKUP(5,GEfectos!$Q$4:$W$4,GEfectos!Q107:W107),IF(EFECTOS!$N$9=\"REPÚBLICA \nDOMINICANA\",LOOKUP(6,$Q$4:$W$4,Q107:W107),IF(EFECTOS!$N$9=\"PANAMÁ\",LOOKUP(7,GEfectos!$Q$4:$W$4,GEfectos!Q107:W107))))))))","v":118.66379666881168},100]
[null,{"$f":"'ITCER GLOBAL'!B108","v":"Julio"},{"$f":"'ITCER GLOBAL'!C108","v":105.74696965717251},{"$f":"'ITCER GLOBAL'!D108","v":101.27703458458696},{"$f":"'ITCER GLOBAL'!E108","v":90.249272318072258},{"$f":"'ITCER GLOBAL'!F108","v":100.91890408895367},{"$f":"'ITCER GLOBAL'!G108","v":110.25253186751844},{"$f":"'ITCER GLOBAL'!H108","v":163.78249989364315},{"$f":"'ITCER GLOBAL'!I108","v":103.91315143221738},{"$f":"'ITCER GLOBAL'!S108","v":126.4001910076322},{"$f":"'ITCER GLOBAL'!T108","v":98.332075677145497},{"$f":"'ITCER GLOBAL'!U108","v":100.12739886486874},{"$f":"'ITCER GLOBAL'!V108","v":114.23341825687237},{"$f":"'ITCER GLOBAL'!W108","v":113.93977318656174},{"$f":"'ITCER GLOBAL'!X108","v":208.25609761572372},{"$f":"'ITCER GLOBAL'!Y108","v":97.425195768472221},{"$f":"'ITCER GLOBAL'!AA108","v":119.53079262452306},{"$f":"'ITCER GLOBAL'!AB108","v":97.09217502317189},{"$f":"'ITCER GLOBAL'!AC108","v":110.94538082476969},{"$f":"'ITCER GLOBAL'!AD108","v":113.19328057326385},{"$f":"'ITCER GLOBAL'!AE108","v":103.34435976805862},{"$f":"'ITCER GLOBAL'!AF108","v":127.15405965286939},{"$f":"'ITCER GLOBAL'!AG108","v":93.756367144752346},null,{"$f":"IF(EFECTOS!$N$9=\"COSTA RICA\",LOOKUP(1,GEfectos!$C$4:$I$4,GEfectos!C108:I108),IF(EFECTOS!$N$9=\"EL SALVADOR\",LOOKUP(2,GEfectos!$C$4:$I$4,GEfectos!C108:I108),IF(EFECTOS!$N$9=\"GUATEMALA\",LOOKUP(3,GEfectos!$C$4:$I$4,GEfectos!C108:I108),IF(EFECTOS!$N$9=\"HONDURAS\",LOOKUP(4,GEfectos!$C$4:$I$4,GEfectos!C108:I108),IF(EFECTOS!$N$9=\"NICARAGUA\",LOOKUP(5,GEfectos!$C$4:$I$4,GEfectos!C108:I108),IF(EFECTOS!$N$9=\"REPÚBLICA \nDOMINICANA\",LOOKUP(6,$C$4:$I$4,C108:I108),IF(EFECTOS!$N$9=\"PANAMÁ\",LOOKUP(7,GEfectos!$C$4:$I$4,GEfectos!C108:I108))))))))","v":105.74696965717251},{"$f":"IF(EFECTOS!$N$9=\"COSTA RICA\",LOOKUP(1,GEfectos!$J$4:$P$4,GEfectos!J108:P108),IF(EFECTOS!$N$9=\"EL SALVADOR\",LOOKUP(2,GEfectos!$J$4:$P$4,GEfectos!J108:P108),IF(EFECTOS!$N$9=\"GUATEMALA\",LOOKUP(3,GEfectos!$J$4:$P$4,GEfectos!J108:P108),IF(EFECTOS!$N$9=\"HONDURAS\",LOOKUP(4,GEfectos!$J$4:$P$4,GEfectos!J108:P108),IF(EFECTOS!$N$9=\"NICARAGUA\",LOOKUP(5,GEfectos!$J$4:$P$4,GEfectos!J108:P108),IF(EFECTOS!$N$9=\"REPÚBLICA \nDOMINICANA\",LOOKUP(6,$J$4:$P$4,J108:P108),IF(EFECTOS!$N$9=\"PANAMÁ\",LOOKUP(7,GEfectos!$J$4:$P$4,GEfectos!J108:P108))))))))","v":126.4001910076322},{"$f":"IF(EFECTOS!$N$9=\"COSTA RICA\",LOOKUP(1,GEfectos!$Q$4:$W$4,GEfectos!Q108:W108),IF(EFECTOS!$N$9=\"EL SALVADOR\",LOOKUP(2,GEfectos!$Q$4:$W$4,GEfectos!Q108:W108),IF(EFECTOS!$N$9=\"GUATEMALA\",LOOKUP(3,GEfectos!$Q$4:$W$4,GEfectos!Q108:W108),IF(EFECTOS!$N$9=\"HONDURAS\",LOOKUP(4,GEfectos!$Q$4:$W$4,GEfectos!Q108:W108),IF(EFECTOS!$N$9=\"NICARAGUA\",LOOKUP(5,GEfectos!$Q$4:$W$4,GEfectos!Q108:W108),IF(EFECTOS!$N$9=\"REPÚBLICA \nDOMINICANA\",LOOKUP(6,$Q$4:$W$4,Q108:W108),IF(EFECTOS!$N$9=\"PANAMÁ\",LOOKUP(7,GEfectos!$Q$4:$W$4,GEfectos!Q108:W108))))))))","v":119.53079262452306},100]
[null,{"$f":"'ITCER GLOBAL'!B109","v":"Agosto"},{"$f":"'ITCER GLOBAL'!C109","v":106.07149681686272},{"$f":"'ITCER GLOBAL'!D109","v":101.00384514920839},{"$f":"'ITCER GLOBAL'!E109","v":89.933779660855151},{"$f":"'ITCER GLOBAL'!F109","v":100.34853058651436},{"$f":"'ITCER GLOBAL'!G109","v":109.97593315228373},{"$f":"'ITCER GLOBAL'!H109","v":155.71449315700076},{"$f":"'ITCER GLOBAL'!I109","v":103.67502487809692},{"$f":"'ITCER GLOBAL'!S109","v":126.86361374553286},{"$f":"'ITCER GLOBAL'!T109","v":98.023360610978969},{"$f":"'ITCER GLOBAL'!U109","v":99.683181776662892},{"$f":"'ITCER GLOBAL'!V109","v":114.22421431147534},{"$f":"'ITCER GLOBAL'!W109","v":113.17931718632852},{"$f":"'ITCER GLOBAL'!X109","v":203.28766568957727},{"$f":"'ITCER GLOBAL'!Y109","v":96.961473725160403},{"$f":"'ITCER GLOBAL'!AA109","v":119.60198314592346},{"$f":"'ITCER GLOBAL'!AB109","v":97.049137551321451},{"$f":"'ITCER GLOBAL'!AC109","v":110.84064536437059},{"$f":"'ITCER GLOBAL'!AD109","v":113.82749069055696},{"$f":"'ITCER GLOBAL'!AE109","v":102.9128045948099},{"$f":"'ITCER GLOBAL'!AF109","v":130.55153798985836},{"$f":"'ITCER GLOBAL'!AG109","v":93.524427738666631},null,{"$f":"IF(EFECTOS!$N$9=\"COSTA RICA\",LOOKUP(1,GEfectos!$C$4:$I$4,GEfectos!C109:I109),IF(EFECTOS!$N$9=\"EL SALVADOR\",LOOKUP(2,GEfectos!$C$4:$I$4,GEfectos!C109:I109),IF(EFECTOS!$N$9=\"GUATEMALA\",LOOKUP(3,GEfectos!$C$4:$I$4,GEfectos!C109:I109),IF(EFECTOS!$N$9=\"HONDURAS\",LOOKUP(4,GEfectos!$C$4:$I$4,GEfectos!C109:I109),IF(EFECTOS!$N$9=\"NICARAGUA\",LOOKUP(5,GEfectos!$C$4:$I$4,GEfectos!C109:I109),IF(EFECTOS!$N$9=\"REPÚBLICA \nDOMINICANA\",LOOKUP(6,$C$4:$I$4,C109:I109),IF(EFECTOS!$N$9=\"PANAMÁ\",LOOKUP(7,GEfectos!$C$4:$I$4,GEfectos!C109:I109))))))))","v":106.07149681686272},{"$f":"IF(EFECTOS!$N$9=\"COSTA RICA\",LOOKUP(1,GEfectos!$J$4:$P$4,GEfectos!J109:P109),IF(EFECTOS!$N$9=\"EL SALVADOR\",LOOKUP(2,GEfectos!$J$4:$P$4,GEfectos!J109:P109),IF(EFECTOS!$N$9=\"GUATEMALA\",LOOKUP(3,GEfectos!$J$4:$P$4,GEfectos!J109:P109),IF(EFECTOS!$N$9=\"HONDURAS\",LOOKUP(4,GEfectos!$J$4:$P$4,GEfectos!J109:P109),IF(EFECTOS!$N$9=\"NICARAGUA\",LOOKUP(5,GEfectos!$J$4:$P$4,GEfectos!J109:P109),IF(EFECTOS!$N$9=\"REPÚBLICA \nDOMINICANA\",LOOKUP(6,$J$4:$P$4,J109:P109),IF(EFECTOS!$N$9=\"PANAMÁ\",LOOKUP(7,GEfectos!$J$4:$P$4,GEfectos!J109:P109))))))))","v":126.86361374553286},{"$f":"IF(EFECTOS!$N$9=\"COSTA RICA\",LOOKUP(1,GEfectos!$Q$4:$W$4,GEfectos!Q109:W109),IF(EFECTOS!$N$9=\"EL SALVADOR\",LOOKUP(2,GEfectos!$Q$4:$W$4,GEfectos!Q109:W109),IF(EFECTOS!$N$9=\"GUATEMALA\",LOOKUP(3,GEfectos!$Q$4:$W$4,GEfectos!Q109:W109),IF(EFECTOS!$N$9=\"HONDURAS\",LOOKUP(4,GEfectos!$Q$4:$W$4,GEfectos!Q109:W109),IF(EFECTOS!$N$9=\"NICARAGUA\",LOOKUP(5,GEfectos!$Q$4:$W$4,GEfectos!Q109:W109),IF(EFECTOS!$N$9=\"REPÚBLICA \nDOMINICANA\",LOOKUP(6,$Q$4:$W$4,Q109:W109),IF(EFECTOS!$N$9=\"PANAMÁ\",LOOKUP(7,GEfectos!$Q$4:$W$4,GEfectos!Q109:W109))))))))","v":119.60198314592346},100]
[null,{"$f":"'ITCER GLOBAL'!B110","v":"Septiembre"},{"$f":"'ITCER GLOBAL'!C110","v":107.4055459341686},{"$f":"'ITCER GLOBAL'!D110","v":101.25234107032199},{"$f":"'ITCER GLOBAL'!E110","v":90.71360471672935},{"$f":"'ITCER GLOBAL'!F110","v":100.81416780987998},{"$f":"'ITCER GLOBAL'!G110","v":111.19244071058354},{"$f":"'ITCER GLOBAL'!H110","v":145.05472312852214},{"$f":"'ITCER GLOBAL'!I110","v":104.59768313163235},{"$f":"'ITCER GLOBAL'!S110","v":128.17225071042725},{"$f":"'ITCER GLOBAL'!T110","v":97.989048744613399},{"$f":"'ITCER GLOBAL'!U110","v":100.60653468743321},{"$f":"'ITCER GLOBAL'!V110","v":114.90291230133248},{"$f":"'ITCER GLOBAL'!W110","v":114.33611897515374},{"$f":"'ITCER GLOBAL'!X110","v":191.50541454461856},{"$f":"'ITCER GLOBAL'!Y110","v":97.29760450948767},{"$f":"'ITCER GLOBAL'!AA110","v":119.33485333149095},{"$f":"'ITCER GLOBAL'!AB110","v":96.777069753436933},{"$f":"'ITCER GLOBAL'!AC110","v":110.90567396323453},{"$f":"'ITCER GLOBAL'!AD110","v":113.97496482639396},{"$f":"'ITCER GLOBAL'!AE110","v":102.82724099271523},{"$f":"'ITCER GLOBAL'!AF110","v":132.02287413622506},{"$f":"'ITCER GLOBAL'!AG110","v":93.020802752430185},null,{"$f":"IF(EFECTOS!$N$9=\"COSTA RICA\",LOOKUP(1,GEfectos!$C$4:$I$4,GEfectos!C110:I110),IF(EFECTOS!$N$9=\"EL SALVADOR\",LOOKUP(2,GEfectos!$C$4:$I$4,GEfectos!C110:I110),IF(EFECTOS!$N$9=\"GUATEMALA\",LOOKUP(3,GEfectos!$C$4:$I$4,GEfectos!C110:I110),IF(EFECTOS!$N$9=\"HONDURAS\",LOOKUP(4,GEfectos!$C$4:$I$4,GEfectos!C110:I110),IF(EFECTOS!$N$9=\"NICARAGUA\",LOOKUP(5,GEfectos!$C$4:$I$4,GEfectos!C110:I110),IF(EFECTOS!$N$9=\"REPÚBLICA \nDOMINICANA\",LOOKUP(6,$C$4:$I$4,C110:I110),IF(EFECTOS!$N$9=\"PANAMÁ\",LOOKUP(7,GEfectos!$C$4:$I$4,GEfectos!C110:I110))))))))","v":107.4055459341686},{"$f":"IF(EFECTOS!$N$9=\"COSTA RICA\",LOOKUP(1,GEfectos!$J$4:$P$4,GEfectos!J110:P110),IF(EFECTOS!$N$9=\"EL SALVADOR\",LOOKUP(2,GEfectos!$J$4:$P$4,GEfectos!J110:P110),IF(EFECTOS!$N$9=\"GUATEMALA\",LOOKUP(3,GEfectos!$J$4:$P$4,GEfectos!J110:P110),IF(EFECTOS!$N$9=\"HONDURAS\",LOOKUP(4,GEfectos!$J$4:$P$4,GEfectos!J110:P110),IF(EFECTOS!$N$9=\"NICARAGUA\",LOOKUP(5,GEfectos!$J$4:$P$4,GEfectos!J110:P110),IF(EFECTOS!$N$9=\"REPÚBLICA \nDOMINICANA\",LOOKUP(6,$J$4:$P$4,J110:P110),IF(EFECTOS!$N$9=\"PANAMÁ\",LOOKUP(7,GEfectos!$J$4:$P$4,GEfectos!J110:P110))))))))","v":128.17225071042725},{"$f":"IF(EFECTOS!$N$9=\"COSTA RICA\",LOOKUP(1,GEfectos!$Q$4:$W$4,GEfectos!Q110:W110),IF(EFECTOS!$N$9=\"EL SALVADOR\",LOOKUP(2,GEfectos!$Q$4:$W$4,GEfectos!Q110:W110),IF(EFECTOS!$N$9=\"GUATEMALA\",LOOKUP(3,GEfectos!$Q$4:$W$4,GEfectos!Q110:W110),IF(EFECTOS!$N$9=\"HONDURAS\",LOOKUP(4,GEfectos!$Q$4:$W$4,GEfectos!Q110:W110),IF(EFECTOS!$N$9=\"NICARAGUA\",LOOKUP(5,GEfectos!$Q$4:$W$4,GEfectos!Q110:W110),IF(EFECTOS!$N$9=\"REPÚBLICA \nDOMINICANA\",LOOKUP(6,$Q$4:$W$4,Q110:W110),IF(EFECTOS!$N$9=\"PANAMÁ\",LOOKUP(7,GEfectos!$Q$4:$W$4,GEfectos!Q110:W110))))))))","v":119.33485333149095},100]
[null,{"$f":"'ITCER GLOBAL'!B111","v":"Octubre"},{"$f":"'ITCER GLOBAL'!C111","v":107.51218422419204},{"$f":"'ITCER GLOBAL'!D111","v":100.97184176005103},{"$f":"'ITCER GLOBAL'!E111","v":91.884132316036002},{"$f":"'ITCER GLOBAL'!F111","v":101.15767759022232},{"$f":"'ITCER GLOBAL'!G111","v":112.23443773602526},{"$f":"'ITCER GLOBAL'!H111","v":156.28460125948217},{"$f":"'ITCER GLOBAL'!I111","v":105.44760580905881},{"$f":"'ITCER GLOBAL'!S111","v":129.7469583520955},{"$f":"'ITCER GLOBAL'!T111","v":97.947394886955166},{"$f":"'ITCER GLOBAL'!U111","v":102.19445052494491},{"$f":"'ITCER GLOBAL'!V111","v":115.68928662453062},{"$f":"'ITCER GLOBAL'!W111","v":115.61056758449621},{"$f":"'ITCER GLOBAL'!X111","v":211.72077540273003},{"$f":"'ITCER GLOBAL'!Y111","v":97.689602151703269},{"$f":"'ITCER GLOBAL'!AA111","v":120.68116677969999},{"$f":"'ITCER GLOBAL'!AB111","v":97.00466306212067},{"$f":"'ITCER GLOBAL'!AC111","v":111.22099969714738},{"$f":"'ITCER GLOBAL'!AD111","v":114.36530511621088},{"$f":"'ITCER GLOBAL'!AE111","v":103.00810510265272},{"$f":"'ITCER GLOBAL'!AF111","v":135.47129640188041},{"$f":"'ITCER GLOBAL'!AG111","v":92.642788237977186},null,{"$f":"IF(EFECTOS!$N$9=\"COSTA RICA\",LOOKUP(1,GEfectos!$C$4:$I$4,GEfectos!C111:I111),IF(EFECTOS!$N$9=\"EL SALVADOR\",LOOKUP(2,GEfectos!$C$4:$I$4,GEfectos!C111:I111),IF(EFECTOS!$N$9=\"GUATEMALA\",LOOKUP(3,GEfectos!$C$4:$I$4,GEfectos!C111:I111),IF(EFECTOS!$N$9=\"HONDURAS\",LOOKUP(4,GEfectos!$C$4:$I$4,GEfectos!C111:I111),IF(EFECTOS!$N$9=\"NICARAGUA\",LOOKUP(5,GEfectos!$C$4:$I$4,GEfectos!C111:I111),IF(EFECTOS!$N$9=\"REPÚBLICA \nDOMINICANA\",LOOKUP(6,$C$4:$I$4,C111:I111),IF(EFECTOS!$N$9=\"PANAMÁ\",LOOKUP(7,GEfectos!$C$4:$I$4,GEfectos!C111:I111))))))))","v":107.51218422419204},{"$f":"IF(EFECTOS!$N$9=\"COSTA RICA\",LOOKUP(1,GEfectos!$J$4:$P$4,GEfectos!J111:P111),IF(EFECTOS!$N$9=\"EL SALVADOR\",LOOKUP(2,GEfectos!$J$4:$P$4,GEfectos!J111:P111),IF(EFECTOS!$N$9=\"GUATEMALA\",LOOKUP(3,GEfectos!$J$4:$P$4,GEfectos!J111:P111),IF(EFECTOS!$N$9=\"HONDURAS\",LOOKUP(4,GEfectos!$J$4:$P$4,GEfectos!J111:P111),IF(EFECTOS!$N$9=\"NICARAGUA\",LOOKUP(5,GEfectos!$J$4:$P$4,GEfectos!J111:P111),IF(EFECTOS!$N$9=\"REPÚBLICA \nDOMINICANA\",LOOKUP(6,$J$4:$P$4,J111:P111),IF(EFECTOS!$N$9=\"PANAMÁ\",LOOKUP(7,GEfectos!$J$4:$P$4,GEfectos!J111:P111))))))))","v":129.7469583520955},{"$f":"IF(EFECTOS!$N$9=\"COSTA RICA\",LOOKUP(1,GEfectos!$Q$4:$W$4,GEfectos!Q111:W111),IF(EFECTOS!$N$9=\"EL SALVADOR\",LOOKUP(2,GEfectos!$Q$4:$W$4,GEfectos!Q111:W111),IF(EFECTOS!$N$9=\"GUATEMALA\",LOOKUP(3,GEfectos!$Q$4:$W$4,GEfectos!Q111:W111),IF(EFECTOS!$N$9=\"HONDURAS\",LOOKUP(4,GEfectos!$Q$4:$W$4,GEfectos!Q111:W111),IF(EFECTOS!$N$9=\"NICARAGUA\",LOOKUP(5,GEfectos!$Q$4:$W$4,GEfectos!Q111:W111),IF(EFECTOS!$N$9=\"REPÚBLICA \nDOMINICANA\",LOOKUP(6,$Q$4:$W$4,Q111:W111),IF(EFECTOS!$N$9=\"PANAMÁ\",LOOKUP(7,GEfectos!$Q$4:$W$4,GEfectos!Q111:W111))))))))","v":120.68116677969999},100]
[null,{"$f":"'ITCER GLOBAL'!B112","v":"Noviembre"},{"$f":"'ITCER GLOBAL'!C112","v":106.79713659249188},{"$f":"'ITCER GLOBAL'!D112","v":100.88704240818169},{"$f":"'ITCER GLOBAL'!E112","v":91.259367685084456},{"$f":"'ITCER GLOBAL'!F112","v":100.89357262542407},{"$f":"'ITCER GLOBAL'!G112","v":111.65499506268708},{"$f":"'ITCER GLOBAL'!H112","v":167.53049128593702},{"$f":"'ITCER GLOBAL'!I112","v":105.32708725524748},{"$f":"'ITCER GLOBAL'!S112","v":130.73548836428523},{"$f":"'ITCER GLOBAL'!T112","v":97.880340244462076},{"$f":"'ITCER GLOBAL'!U112","v":101.83769812431822},{"$f":"'ITCER GLOBAL'!V112","v":116.09523993610485},{"$f":"'ITCER GLOBAL'!W112","v":115.73008838378993},{"$f":"'ITCER GLOBAL'!X112","v":240.93590563069526},{"$f":"'ITCER GLOBAL'!Y112","v":97.610839096220261},{"$f":"'ITCER GLOBAL'!AA112","v":122.414788013592},{"$f":"'ITCER GLOBAL'!AB112","v":97.019734059053192},{"$f":"'ITCER GLOBAL'!AC112","v":111.59150091389765},{"$f":"'ITCER GLOBAL'!AD112","v":115.06703243339223},{"$f":"'ITCER GLOBAL'!AE112","v":103.64971877775369},{"$f":"'ITCER GLOBAL'!AF112","v":143.81615178306356},{"$f":"'ITCER GLOBAL'!AG112","v":92.674013532408978},null,{"$f":"IF(EFECTOS!$N$9=\"COSTA RICA\",LOOKUP(1,GEfectos!$C$4:$I$4,GEfectos!C112:I112),IF(EFECTOS!$N$9=\"EL SALVADOR\",LOOKUP(2,GEfectos!$C$4:$I$4,GEfectos!C112:I112),IF(EFECTOS!$N$9=\"GUATEMALA\",LOOKUP(3,GEfectos!$C$4:$I$4,GEfectos!C112:I112),IF(EFECTOS!$N$9=\"HONDURAS\",LOOKUP(4,GEfectos!$C$4:$I$4,GEfectos!C112:I112),IF(EFECTOS!$N$9=\"NICARAGUA\",LOOKUP(5,GEfectos!$C$4:$I$4,GEfectos!C112:I112),IF(EFECTOS!$N$9=\"REPÚBLICA \nDOMINICANA\",LOOKUP(6,$C$4:$I$4,C112:I112),IF(EFECTOS!$N$9=\"PANAMÁ\",LOOKUP(7,GEfectos!$C$4:$I$4,GEfectos!C112:I112))))))))","v":106.79713659249188},{"$f":"IF(EFECTOS!$N$9=\"COSTA RICA\",LOOKUP(1,GEfectos!$J$4:$P$4,GEfectos!J112:P112),IF(EFECTOS!$N$9=\"EL SALVADOR\",LOOKUP(2,GEfectos!$J$4:$P$4,GEfectos!J112:P112),IF(EFECTOS!$N$9=\"GUATEMALA\",LOOKUP(3,GEfectos!$J$4:$P$4,GEfectos!J112:P112),IF(EFECTOS!$N$9=\"HONDURAS\",LOOKUP(4,GEfectos!$J$4:$P$4,GEfectos!J112:P112),IF(EFECTOS!$N$9=\"NICARAGUA\",LOOKUP(5,GEfectos!$J$4:$P$4,GEfectos!J112:P112),IF(EFECTOS!$N$9=\"REPÚBLICA \nDOMINICANA\",LOOKUP(6,$J$4:$P$4,J112:P112),IF(EFECTOS!$N$9=\"PANAMÁ\",LOOKUP(7,GEfectos!$J$4:$P$4,GEfectos!J112:P112))))))))","v":130.73548836428523},{"$f":"IF(EFECTOS!$N$9=\"COSTA RICA\",LOOKUP(1,GEfectos!$Q$4:$W$4,GEfectos!Q112:W112),IF(EFECTOS!$N$9=\"EL SALVADOR\",LOOKUP(2,GEfectos!$Q$4:$W$4,GEfectos!Q112:W112),IF(EFECTOS!$N$9=\"GUATEMALA\",LOOKUP(3,GEfectos!$Q$4:$W$4,GEfectos!Q112:W112),IF(EFECTOS!$N$9=\"HONDURAS\",LOOKUP(4,GEfectos!$Q$4:$W$4,GEfectos!Q112:W112),IF(EFECTOS!$N$9=\"NICARAGUA\",LOOKUP(5,GEfectos!$Q$4:$W$4,GEfectos!Q112:W112),IF(EFECTOS!$N$9=\"REPÚBLICA \nDOMINICANA\",LOOKUP(6,$Q$4:$W$4,Q112:W112),IF(EFECTOS!$N$9=\"PANAMÁ\",LOOKUP(7,GEfectos!$Q$4:$W$4,GEfectos!Q112:W112))))))))","v":122.414788013592},100]
[null,{"$f":"'ITCER GLOBAL'!B113","v":"Diciembre"},{"$f":"'ITCER GLOBAL'!C113","v":107.16027775002961},{"$f":"'ITCER GLOBAL'!D113","v":101.06336773461773},{"$f":"'ITCER GLOBAL'!E113","v":90.603283336071641},{"$f":"'ITCER GLOBAL'!F113","v":101.61522175280618},{"$f":"'ITCER GLOBAL'!G113","v":111.97171679574969},{"$f":"'ITCER GLOBAL'!H113","v":152.79499571382547},{"$f":"'ITCER GLOBAL'!I113","v":106.44479830148815},{"$f":"'ITCER GLOBAL'!S113","v":132.7030478981747},{"$f":"'ITCER GLOBAL'!T113","v":98.122786503592692},{"$f":"'ITCER GLOBAL'!U113","v":101.50999951680049},{"$f":"'ITCER GLOBAL'!V113","v":117.089284642379},{"$f":"'ITCER GLOBAL'!W113","v":116.63747329910616},{"$f":"'ITCER GLOBAL'!X113","v":227.86966457970036},{"$f":"'ITCER GLOBAL'!Y113","v":98.254218549629499},{"$f":"'ITCER GLOBAL'!AA113","v":123.83604324703987},{"$f":"'ITCER GLOBAL'!AB113","v":97.090358953061312},{"$f":"'ITCER GLOBAL'!AC113","v":112.03788182849064},{"$f":"'ITCER GLOBAL'!AD113","v":115.22809538044973},{"$f":"'ITCER GLOBAL'!AE113","v":104.16690628390329},{"$f":"'ITCER GLOBAL'!AF113","v":149.13424586658883},{"$f":"'ITCER GLOBAL'!AG113","v":92.305326439099346},null,{"$f":"IF(EFECTOS!$N$9=\"COSTA RICA\",LOOKUP(1,GEfectos!$C$4:$I$4,GEfectos!C113:I113),IF(EFECTOS!$N$9=\"EL SALVADOR\",LOOKUP(2,GEfectos!$C$4:$I$4,GEfectos!C113:I113),IF(EFECTOS!$N$9=\"GUATEMALA\",LOOKUP(3,GEfectos!$C$4:$I$4,GEfectos!C113:I113),IF(EFECTOS!$N$9=\"HONDURAS\",LOOKUP(4,GEfectos!$C$4:$I$4,GEfectos!C113:I113),IF(EFECTOS!$N$9=\"NICARAGUA\",LOOKUP(5,GEfectos!$C$4:$I$4,GEfectos!C113:I113),IF(EFECTOS!$N$9=\"REPÚBLICA \nDOMINICANA\",LOOKUP(6,$C$4:$I$4,C113:I113),IF(EFECTOS!$N$9=\"PANAMÁ\",LOOKUP(7,GEfectos!$C$4:$I$4,GEfectos!C113:I113))))))))","v":107.16027775002961},{"$f":"IF(EFECTOS!$N$9=\"COSTA RICA\",LOOKUP(1,GEfectos!$J$4:$P$4,GEfectos!J113:P113),IF(EFECTOS!$N$9=\"EL SALVADOR\",LOOKUP(2,GEfectos!$J$4:$P$4,GEfectos!J113:P113),IF(EFECTOS!$N$9=\"GUATEMALA\",LOOKUP(3,GEfectos!$J$4:$P$4,GEfectos!J113:P113),IF(EFECTOS!$N$9=\"HONDURAS\",LOOKUP(4,GEfectos!$J$4:$P$4,GEfectos!J113:P113),IF(EFECTOS!$N$9=\"NICARAGUA\",LOOKUP(5,GEfectos!$J$4:$P$4,GEfectos!J113:P113),IF(EFECTOS!$N$9=\"REPÚBLICA \nDOMINICANA\",LOOKUP(6,$J$4:$P$4,J113:P113),IF(EFECTOS!$N$9=\"PANAMÁ\",LOOKUP(7,GEfectos!$J$4:$P$4,GEfectos!J113:P113))))))))","v":132.7030478981747},{"$f":"IF(EFECTOS!$N$9=\"COSTA RICA\",LOOKUP(1,GEfectos!$Q$4:$W$4,GEfectos!Q113:W113),IF(EFECTOS!$N$9=\"EL SALVADOR\",LOOKUP(2,GEfectos!$Q$4:$W$4,GEfectos!Q113:W113),IF(EFECTOS!$N$9=\"GUATEMALA\",LOOKUP(3,GEfectos!$Q$4:$W$4,GEfectos!Q113:W113),IF(EFECTOS!$N$9=\"HONDURAS\",LOOKUP(4,GEfectos!$Q$4:$W$4,GEfectos!Q113:W113),IF(EFECTOS!$N$9=\"NICARAGUA\",LOOKUP(5,GEfectos!$Q$4:$W$4,GEfectos!Q113:W113),IF(EFECTOS!$N$9=\"REPÚBLICA \nDOMINICANA\",LOOKUP(6,$Q$4:$W$4,Q113:W113),IF(EFECTOS!$N$9=\"PANAMÁ\",LOOKUP(7,GEfectos!$Q$4:$W$4,GEfectos!Q113:W113))))))))","v":123.83604324703987},100]
[2004,{"$f":"'ITCER GLOBAL'!B114","v":"Enero"},{"$f":"'ITCER GLOBAL'!C114","v":107.33061761793007},{"$f":"'ITCER GLOBAL'!D114","v":100.60851087926515},{"$f":"'ITCER GLOBAL'!E114","v":90.866649254318347},{"$f":"'ITCER GLOBAL'!F114","v":102.0108612443745},{"$f":"'ITCER GLOBAL'!G114","v":111.67658548712497},{"$f":"'ITCER GLOBAL'!H114","v":176.22035888617336},{"$f":"'ITCER GLOBAL'!I114","v":106.92188622332614},{"$f":"'ITCER GLOBAL'!S114","v":134.40623486167277},{"$f":"'ITCER GLOBAL'!T114","v":98.098244959651055},{"$f":"'ITCER GLOBAL'!U114","v":103.22171153291066},{"$f":"'ITCER GLOBAL'!V114","v":117.72662869713014},{"$f":"'ITCER GLOBAL'!W114","v":116.89106819136134},{"$f":"'ITCER GLOBAL'!X114","v":279.21908214823134},{"$f":"'ITCER GLOBAL'!Y114","v":98.506846090191473},{"$f":"'ITCER GLOBAL'!AA114","v":125.22636862123076},{"$f":"'ITCER GLOBAL'!AB114","v":97.504916932299551},{"$f":"'ITCER GLOBAL'!AC114","v":113.59691633837281},{"$f":"'ITCER GLOBAL'!AD114","v":115.40597467862503},{"$f":"'ITCER GLOBAL'!AE114","v":104.66927125457069},{"$f":"'ITCER GLOBAL'!AF114","v":158.44882164187865},{"$f":"'ITCER GLOBAL'!AG114","v":92.129730936883874},null,{"$f":"IF(EFECTOS!$N$9=\"COSTA RICA\",LOOKUP(1,GEfectos!$C$4:$I$4,GEfectos!C114:I114),IF(EFECTOS!$N$9=\"EL SALVADOR\",LOOKUP(2,GEfectos!$C$4:$I$4,GEfectos!C114:I114),IF(EFECTOS!$N$9=\"GUATEMALA\",LOOKUP(3,GEfectos!$C$4:$I$4,GEfectos!C114:I114),IF(EFECTOS!$N$9=\"HONDURAS\",LOOKUP(4,GEfectos!$C$4:$I$4,GEfectos!C114:I114),IF(EFECTOS!$N$9=\"NICARAGUA\",LOOKUP(5,GEfectos!$C$4:$I$4,GEfectos!C114:I114),IF(EFECTOS!$N$9=\"REPÚBLICA \nDOMINICANA\",LOOKUP(6,$C$4:$I$4,C114:I114),IF(EFECTOS!$N$9=\"PANAMÁ\",LOOKUP(7,GEfectos!$C$4:$I$4,GEfectos!C114:I114))))))))","v":107.33061761793007},{"$f":"IF(EFECTOS!$N$9=\"COSTA RICA\",LOOKUP(1,GEfectos!$J$4:$P$4,GEfectos!J114:P114),IF(EFECTOS!$N$9=\"EL SALVADOR\",LOOKUP(2,GEfectos!$J$4:$P$4,GEfectos!J114:P114),IF(EFECTOS!$N$9=\"GUATEMALA\",LOOKUP(3,GEfectos!$J$4:$P$4,GEfectos!J114:P114),IF(EFECTOS!$N$9=\"HONDURAS\",LOOKUP(4,GEfectos!$J$4:$P$4,GEfectos!J114:P114),IF(EFECTOS!$N$9=\"NICARAGUA\",LOOKUP(5,GEfectos!$J$4:$P$4,GEfectos!J114:P114),IF(EFECTOS!$N$9=\"REPÚBLICA \nDOMINICANA\",LOOKUP(6,$J$4:$P$4,J114:P114),IF(EFECTOS!$N$9=\"PANAMÁ\",LOOKUP(7,GEfectos!$J$4:$P$4,GEfectos!J114:P114))))))))","v":134.40623486167277},{"$f":"IF(EFECTOS!$N$9=\"COSTA RICA\",LOOKUP(1,GEfectos!$Q$4:$W$4,GEfectos!Q114:W114),IF(EFECTOS!$N$9=\"EL SALVADOR\",LOOKUP(2,GEfectos!$Q$4:$W$4,GEfectos!Q114:W114),IF(EFECTOS!$N$9=\"GUATEMALA\",LOOKUP(3,GEfectos!$Q$4:$W$4,GEfectos!Q114:W114),IF(EFECTOS!$N$9=\"HONDURAS\",LOOKUP(4,GEfectos!$Q$4:$W$4,GEfectos!Q114:W114),IF(EFECTOS!$N$9=\"NICARAGUA\",LOOKUP(5,GEfectos!$Q$4:$W$4,GEfectos!Q114:W114),IF(EFECTOS!$N$9=\"REPÚBLICA \nDOMINICANA\",LOOKUP(6,$Q$4:$W$4,Q114:W114),IF(EFECTOS!$N$9=\"PANAMÁ\",LOOKUP(7,GEfectos!$Q$4:$W$4,GEfectos!Q114:W114))))))))","v":125.22636862123076},100]
[null,{"$f":"'ITCER GLOBAL'!B115","v":"Febrero"},{"$f":"'ITCER GLOBAL'!C115","v":107.18950728183506},{"$f":"'ITCER GLOBAL'!D115","v":100.63625048119988},{"$f":"'ITCER GLOBAL'!E115","v":90.539384111509747},{"$f":"'ITCER GLOBAL'!F115","v":101.68529608666327},{"$f":"'ITCER GLOBAL'!G115","v":110.99540010609175},{"$f":"'ITCER GLOBAL'!H115","v":169.8855190995871},{"$f":"'ITCER GLOBAL'!I115","v":107.39655120081487},{"$f":"'ITCER GLOBAL'!S115","v":135.21629621069661},{"$f":"'ITCER GLOBAL'!T115","v":97.950217171464033},{"$f":"'ITCER GLOBAL'!U115","v":103.0190785600284},{"$f":"'ITCER GLOBAL'!V115","v":118.05752741867241},{"$f":"'ITCER GLOBAL'!W115","v":116.93134502686868},{"$f":"'ITCER GLOBAL'!X115","v":297.94585957556461},{"$f":"'ITCER GLOBAL'!Y115","v":98.347934208073752},{"$f":"'ITCER GLOBAL'!AA115","v":126.14695191682361},{"$f":"'ITCER GLOBAL'!AB115","v":97.330948543002776},{"$f":"'ITCER GLOBAL'!AC115","v":113.78371917479409},{"$f":"'ITCER GLOBAL'!AD115","v":116.1008837679497},{"$f":"'ITCER GLOBAL'!AE115","v":105.34791974721765},{"$f":"'ITCER GLOBAL'!AF115","v":175.38037447494767},{"$f":"'ITCER GLOBAL'!AG115","v":91.574573958318638},null,{"$f":"IF(EFECTOS!$N$9=\"COSTA RICA\",LOOKUP(1,GEfectos!$C$4:$I$4,GEfectos!C115:I115),IF(EFECTOS!$N$9=\"EL SALVADOR\",LOOKUP(2,GEfectos!$C$4:$I$4,GEfectos!C115:I115),IF(EFECTOS!$N$9=\"GUATEMALA\",LOOKUP(3,GEfectos!$C$4:$I$4,GEfectos!C115:I115),IF(EFECTOS!$N$9=\"HONDURAS\",LOOKUP(4,GEfectos!$C$4:$I$4,GEfectos!C115:I115),IF(EFECTOS!$N$9=\"NICARAGUA\",LOOKUP(5,GEfectos!$C$4:$I$4,GEfectos!C115:I115),IF(EFECTOS!$N$9=\"REPÚBLICA \nDOMINICANA\",LOOKUP(6,$C$4:$I$4,C115:I115),IF(EFECTOS!$N$9=\"PANAMÁ\",LOOKUP(7,GEfectos!$C$4:$I$4,GEfectos!C115:I115))))))))","v":107.18950728183506},{"$f":"IF(EFECTOS!$N$9=\"COSTA RICA\",LOOKUP(1,GEfectos!$J$4:$P$4,GEfectos!J115:P115),IF(EFECTOS!$N$9=\"EL SALVADOR\",LOOKUP(2,GEfectos!$J$4:$P$4,GEfectos!J115:P115),IF(EFECTOS!$N$9=\"GUATEMALA\",LOOKUP(3,GEfectos!$J$4:$P$4,GEfectos!J115:P115),IF(EFECTOS!$N$9=\"HONDURAS\",LOOKUP(4,GEfectos!$J$4:$P$4,GEfectos!J115:P115),IF(EFECTOS!$N$9=\"NICARAGUA\",LOOKUP(5,GEfectos!$J$4:$P$4,GEfectos!J115:P115),IF(EFECTOS!$N$9=\"REPÚBLICA \nDOMINICANA\",LOOKUP(6,$J$4:$P$4,J115:P115),IF(EFECTOS!$N$9=\"PANAMÁ\",LOOKUP(7,GEfectos!$J$4:$P$4,GEfectos!J115:P115))))))))","v":135.21629621069661},{"$f":"IF(EFECTOS!$N$9=\"COSTA RICA\",LOOKUP(1,GEfectos!$Q$4:$W$4,GEfectos!Q115:W115),IF(EFECTOS!$N$9=\"EL SALVADOR\",LOOKUP(2,GEfectos!$Q$4:$W$4,GEfectos!Q115:W115),IF(EFECTOS!$N$9=\"GUATEMALA\",LOOKUP(3,GEfectos!$Q$4:$W$4,GEfectos!Q115:W115),IF(EFECTOS!$N$9=\"HONDURAS\",LOOKUP(4,GEfectos!$Q$4:$W$4,GEfectos!Q115:W115),IF(EFECTOS!$N$9=\"NICARAGUA\",LOOKUP(5,GEfectos!$Q$4:$W$4,GEfectos!Q115:W115),IF(EFECTOS!$N$9=\"REPÚBLICA \nDOMINICANA\",LOOKUP(6,$Q$4:$W$4,Q115:W115),IF(EFECTOS!$N$9=\"PANAMÁ\",LOOKUP(7,GEfectos!$Q$4:$W$4,GEfectos!Q115:W115))))))))","v":126.14695191682361},100]
[null,{"$f":"'ITCER GLOBAL'!B116","v":"Marzo"},{"$f":"'ITCER GLOBAL'!C116","v":107.75167237729701},{"$f":"'ITCER GLOBAL'!D116","v":100.41341467710849},{"$f":"'ITCER GLOBAL'!E116","v":90.168524220820643},{"$f":"'ITCER GLOBAL'!F116","v":102.00908530681941},{"$f":"'ITCER GLOBAL'!G116","v":111.14820588477605},{"$f":"'ITCER GLOBAL'!H116","v":157.66379586588656},{"$f":"'ITCER GLOBAL'!I116","v":107.91367319370205},{"$f":"'ITCER GLOBAL'!S116","v":135.74566017145895},{"$f":"'ITCER GLOBAL'!T116","v":97.783059294257583},{"$f":"'ITCER GLOBAL'!U116","v":102.7351591405171},{"$f":"'ITCER GLOBAL'!V116","v":118.17437634039474},{"$f":"'ITCER GLOBAL'!W116","v":117.00485906439772},{"$f":"'ITCER GLOBAL'!X116","v":281.21028203350147},{"$f":"'ITCER GLOBAL'!Y116","v":98.034790184884372},{"$f":"'ITCER GLOBAL'!AA116","v":125.98009587836354},{"$f":"'ITCER GLOBAL'!AB116","v":97.38047412160104},{"$f":"'ITCER GLOBAL'!AC116","v":113.9368310929888},{"$f":"'ITCER GLOBAL'!AD116","v":115.84691303225976},{"$f":"'ITCER GLOBAL'!AE116","v":105.26922871404068},{"$f":"'ITCER GLOBAL'!AF116","v":178.36072034743293},{"$f":"'ITCER GLOBAL'!AG116","v":90.845568762092483},null,{"$f":"IF(EFECTOS!$N$9=\"COSTA RICA\",LOOKUP(1,GEfectos!$C$4:$I$4,GEfectos!C116:I116),IF(EFECTOS!$N$9=\"EL SALVADOR\",LOOKUP(2,GEfectos!$C$4:$I$4,GEfectos!C116:I116),IF(EFECTOS!$N$9=\"GUATEMALA\",LOOKUP(3,GEfectos!$C$4:$I$4,GEfectos!C116:I116),IF(EFECTOS!$N$9=\"HONDURAS\",LOOKUP(4,GEfectos!$C$4:$I$4,GEfectos!C116:I116),IF(EFECTOS!$N$9=\"NICARAGUA\",LOOKUP(5,GEfectos!$C$4:$I$4,GEfectos!C116:I116),IF(EFECTOS!$N$9=\"REPÚBLICA \nDOMINICANA\",LOOKUP(6,$C$4:$I$4,C116:I116),IF(EFECTOS!$N$9=\"PANAMÁ\",LOOKUP(7,GEfectos!$C$4:$I$4,GEfectos!C116:I116))))))))","v":107.75167237729701},{"$f":"IF(EFECTOS!$N$9=\"COSTA RICA\",LOOKUP(1,GEfectos!$J$4:$P$4,GEfectos!J116:P116),IF(EFECTOS!$N$9=\"EL SALVADOR\",LOOKUP(2,GEfectos!$J$4:$P$4,GEfectos!J116:P116),IF(EFECTOS!$N$9=\"GUATEMALA\",LOOKUP(3,GEfectos!$J$4:$P$4,GEfectos!J116:P116),IF(EFECTOS!$N$9=\"HONDURAS\",LOOKUP(4,GEfectos!$J$4:$P$4,GEfectos!J116:P116),IF(EFECTOS!$N$9=\"NICARAGUA\",LOOKUP(5,GEfectos!$J$4:$P$4,GEfectos!J116:P116),IF(EFECTOS!$N$9=\"REPÚBLICA \nDOMINICANA\",LOOKUP(6,$J$4:$P$4,J116:P116),IF(EFECTOS!$N$9=\"PANAMÁ\",LOOKUP(7,GEfectos!$J$4:$P$4,GEfectos!J116:P116))))))))","v":135.74566017145895},{"$f":"IF(EFECTOS!$N$9=\"COSTA RICA\",LOOKUP(1,GEfectos!$Q$4:$W$4,GEfectos!Q116:W116),IF(EFECTOS!$N$9=\"EL SALVADOR\",LOOKUP(2,GEfectos!$Q$4:$W$4,GEfectos!Q116:W116),IF(EFECTOS!$N$9=\"GUATEMALA\",LOOKUP(3,GEfectos!$Q$4:$W$4,GEfectos!Q116:W116),IF(EFECTOS!$N$9=\"HONDURAS\",LOOKUP(4,GEfectos!$Q$4:$W$4,GEfectos!Q116:W116),IF(EFECTOS!$N$9=\"NICARAGUA\",LOOKUP(5,GEfectos!$Q$4:$W$4,GEfectos!Q116:W116),IF(EFECTOS!$N$9=\"REPÚBLICA \nDOMINICANA\",LOOKUP(6,$Q$4:$W$4,Q116:W116),IF(EFECTOS!$N$9=\"PANAMÁ\",LOOKUP(7,GEfectos!$Q$4:$W$4,GEfectos!Q116:W116))))))))","v":125.98009587836354},100]
[null,{"$f":"'ITCER GLOBAL'!B117","v":"Abril"},{"$f":"'ITCER GLOBAL'!C117","v":107.61464915345623},{"$f":"'ITCER GLOBAL'!D117","v":99.818063821722902},{"$f":"'ITCER GLOBAL'!E117","v":89.235354779143265},{"$f":"'ITCER GLOBAL'!F117","v":101.52429271509973},{"$f":"'ITCER GLOBAL'!G117","v":110.77456046970697},{"$f":"'ITCER GLOBAL'!H117","v":149.66256552003549},{"$f":"'ITCER GLOBAL'!I117","v":108.09759550516854},{"$f":"'ITCER GLOBAL'!S117","v":136.30794823350135},{"$f":"'ITCER GLOBAL'!T117","v":97.638774985883572},{"$f":"'ITCER GLOBAL'!U117","v":101.82016680740813},{"$f":"'ITCER GLOBAL'!V117","v":118.38276276909674},{"$f":"'ITCER GLOBAL'!W117","v":117.03727804008115},{"$f":"'ITCER GLOBAL'!X117","v":267.78750280202757},{"$f":"'ITCER GLOBAL'!Y117","v":97.830796086726821},{"$f":"'ITCER GLOBAL'!AA117","v":126.66300480999485},{"$f":"'ITCER GLOBAL'!AB117","v":97.816739022576542},{"$f":"'ITCER GLOBAL'!AC117","v":114.10294390537491},{"$f":"'ITCER GLOBAL'!AD117","v":116.60535582484255},{"$f":"'ITCER GLOBAL'!AE117","v":105.6535702275134},{"$f":"'ITCER GLOBAL'!AF117","v":178.92751061131489},{"$f":"'ITCER GLOBAL'!AG117","v":90.502286965346215},null,{"$f":"IF(EFECTOS!$N$9=\"COSTA RICA\",LOOKUP(1,GEfectos!$C$4:$I$4,GEfectos!C117:I117),IF(EFECTOS!$N$9=\"EL SALVADOR\",LOOKUP(2,GEfectos!$C$4:$I$4,GEfectos!C117:I117),IF(EFECTOS!$N$9=\"GUATEMALA\",LOOKUP(3,GEfectos!$C$4:$I$4,GEfectos!C117:I117),IF(EFECTOS!$N$9=\"HONDURAS\",LOOKUP(4,GEfectos!$C$4:$I$4,GEfectos!C117:I117),IF(EFECTOS!$N$9=\"NICARAGUA\",LOOKUP(5,GEfectos!$C$4:$I$4,GEfectos!C117:I117),IF(EFECTOS!$N$9=\"REPÚBLICA \nDOMINICANA\",LOOKUP(6,$C$4:$I$4,C117:I117),IF(EFECTOS!$N$9=\"PANAMÁ\",LOOKUP(7,GEfectos!$C$4:$I$4,GEfectos!C117:I117))))))))","v":107.61464915345623},{"$f":"IF(EFECTOS!$N$9=\"COSTA RICA\",LOOKUP(1,GEfectos!$J$4:$P$4,GEfectos!J117:P117),IF(EFECTOS!$N$9=\"EL SALVADOR\",LOOKUP(2,GEfectos!$J$4:$P$4,GEfectos!J117:P117),IF(EFECTOS!$N$9=\"GUATEMALA\",LOOKUP(3,GEfectos!$J$4:$P$4,GEfectos!J117:P117),IF(EFECTOS!$N$9=\"HONDURAS\",LOOKUP(4,GEfectos!$J$4:$P$4,GEfectos!J117:P117),IF(EFECTOS!$N$9=\"NICARAGUA\",LOOKUP(5,GEfectos!$J$4:$P$4,GEfectos!J117:P117),IF(EFECTOS!$N$9=\"REPÚBLICA \nDOMINICANA\",LOOKUP(6,$J$4:$P$4,J117:P117),IF(EFECTOS!$N$9=\"PANAMÁ\",LOOKUP(7,GEfectos!$J$4:$P$4,GEfectos!J117:P117))))))))","v":136.30794823350135},{"$f":"IF(EFECTOS!$N$9=\"COSTA RICA\",LOOKUP(1,GEfectos!$Q$4:$W$4,GEfectos!Q117:W117),IF(EFECTOS!$N$9=\"EL SALVADOR\",LOOKUP(2,GEfectos!$Q$4:$W$4,GEfectos!Q117:W117),IF(EFECTOS!$N$9=\"GUATEMALA\",LOOKUP(3,GEfectos!$Q$4:$W$4,GEfectos!Q117:W117),IF(EFECTOS!$N$9=\"HONDURAS\",LOOKUP(4,GEfectos!$Q$4:$W$4,GEfectos!Q117:W117),IF(EFECTOS!$N$9=\"NICARAGUA\",LOOKUP(5,GEfectos!$Q$4:$W$4,GEfectos!Q117:W117),IF(EFECTOS!$N$9=\"REPÚBLICA \nDOMINICANA\",LOOKUP(6,$Q$4:$W$4,Q117:W117),IF(EFECTOS!$N$9=\"PANAMÁ\",LOOKUP(7,GEfectos!$Q$4:$W$4,GEfectos!Q117:W117))))))))","v":126.66300480999485},100]
[null,{"$f":"'ITCER GLOBAL'!B118","v":"Mayo"},{"$f":"'ITCER GLOBAL'!C118","v":107.73580928824262},{"$f":"'ITCER GLOBAL'!D118","v":99.376642263538542},{"$f":"'ITCER GLOBAL'!E118","v":87.750349397307801},{"$f":"'ITCER GLOBAL'!F118","v":101.25744470901132},{"$f":"'ITCER GLOBAL'!G118","v":110.22017381352269},{"$f":"'ITCER GLOBAL'!H118","v":154.48522860927653},{"$f":"'ITCER GLOBAL'!I118","v":107.39464523467771},{"$f":"'ITCER GLOBAL'!S118","v":136.7044872405304},{"$f":"'ITCER GLOBAL'!T118","v":97.350530809777283},{"$f":"'ITCER GLOBAL'!U118","v":100.48408652719702},{"$f":"'ITCER GLOBAL'!V118","v":118.37396830024214},{"$f":"'ITCER GLOBAL'!W118","v":116.90739954030616},{"$f":"'ITCER GLOBAL'!X118","v":282.24679214358235},{"$f":"'ITCER GLOBAL'!Y118","v":97.03087643302274},{"$f":"'ITCER GLOBAL'!AA118","v":126.88862518754864},{"$f":"'ITCER GLOBAL'!AB118","v":97.961179400297922},{"$f":"'ITCER GLOBAL'!AC118","v":114.51132356434799},{"$f":"'ITCER GLOBAL'!AD118","v":116.90396557055082},{"$f":"'ITCER GLOBAL'!AE118","v":106.06715222396339},{"$f":"'ITCER GLOBAL'!AF118","v":182.70147552905522},{"$f":"'ITCER GLOBAL'!AG118","v":90.349827238585149},null,{"$f":"IF(EFECTOS!$N$9=\"COSTA RICA\",LOOKUP(1,GEfectos!$C$4:$I$4,GEfectos!C118:I118),IF(EFECTOS!$N$9=\"EL SALVADOR\",LOOKUP(2,GEfectos!$C$4:$I$4,GEfectos!C118:I118),IF(EFECTOS!$N$9=\"GUATEMALA\",LOOKUP(3,GEfectos!$C$4:$I$4,GEfectos!C118:I118),IF(EFECTOS!$N$9=\"HONDURAS\",LOOKUP(4,GEfectos!$C$4:$I$4,GEfectos!C118:I118),IF(EFECTOS!$N$9=\"NICARAGUA\",LOOKUP(5,GEfectos!$C$4:$I$4,GEfectos!C118:I118),IF(EFECTOS!$N$9=\"REPÚBLICA \nDOMINICANA\",LOOKUP(6,$C$4:$I$4,C118:I118),IF(EFECTOS!$N$9=\"PANAMÁ\",LOOKUP(7,GEfectos!$C$4:$I$4,GEfectos!C118:I118))))))))","v":107.73580928824262},{"$f":"IF(EFECTOS!$N$9=\"COSTA RICA\",LOOKUP(1,GEfectos!$J$4:$P$4,GEfectos!J118:P118),IF(EFECTOS!$N$9=\"EL SALVADOR\",LOOKUP(2,GEfectos!$J$4:$P$4,GEfectos!J118:P118),IF(EFECTOS!$N$9=\"GUATEMALA\",LOOKUP(3,GEfectos!$J$4:$P$4,GEfectos!J118:P118),IF(EFECTOS!$N$9=\"HONDURAS\",LOOKUP(4,GEfectos!$J$4:$P$4,GEfectos!J118:P118),IF(EFECTOS!$N$9=\"NICARAGUA\",LOOKUP(5,GEfectos!$J$4:$P$4,GEfectos!J118:P118),IF(EFECTOS!$N$9=\"REPÚBLICA \nDOMINICANA\",LOOKUP(6,$J$4:$P$4,J118:P118),IF(EFECTOS!$N$9=\"PANAMÁ\",LOOKUP(7,GEfectos!$J$4:$P$4,GEfectos!J118:P118))))))))","v":136.7044872405304},{"$f":"IF(EFECTOS!$N$9=\"COSTA RICA\",LOOKUP(1,GEfectos!$Q$4:$W$4,GEfectos!Q118:W118),IF(EFECTOS!$N$9=\"EL SALVADOR\",LOOKUP(2,GEfectos!$Q$4:$W$4,GEfectos!Q118:W118),IF(EFECTOS!$N$9=\"GUATEMALA\",LOOKUP(3,GEfectos!$Q$4:$W$4,GEfectos!Q118:W118),IF(EFECTOS!$N$9=\"HONDURAS\",LOOKUP(4,GEfectos!$Q$4:$W$4,GEfectos!Q118:W118),IF(EFECTOS!$N$9=\"NICARAGUA\",LOOKUP(5,GEfectos!$Q$4:$W$4,GEfectos!Q118:W118),IF(EFECTOS!$N$9=\"REPÚBLICA \nDOMINICANA\",LOOKUP(6,$Q$4:$W$4,Q118:W118),IF(EFECTOS!$N$9=\"PANAMÁ\",LOOKUP(7,GEfectos!$Q$4:$W$4,GEfectos!Q118:W118))))))))","v":126.88862518754864},100]
[null,{"$f":"'ITCER GLOBAL'!B119","v":"Junio"},{"$f":"'ITCER GLOBAL'!C119","v":107.97964550881082},{"$f":"'ITCER GLOBAL'!D119","v":99.714575298909253},{"$f":"'ITCER GLOBAL'!E119","v":87.342685917528414},{"$f":"'ITCER GLOBAL'!F119","v":101.61192918015549},{"$f":"'ITCER GLOBAL'!G119","v":111.0023190886948},{"$f":"'ITCER GLOBAL'!H119","v":156.16171274924693},{"$f":"'ITCER GLOBAL'!I119","v":107.65609861488987},{"$f":"'ITCER GLOBAL'!S119","v":138.11640988981478},{"$f":"'ITCER GLOBAL'!T119","v":97.507308677269208},{"$f":"'ITCER GLOBAL'!U119","v":100.13471357894583},{"$f":"'ITCER GLOBAL'!V119","v":119.17479538641436},{"$f":"'ITCER GLOBAL'!W119","v":117.71703335586945},{"$f":"'ITCER GLOBAL'!X119","v":290.1669614348948},{"$f":"'ITCER GLOBAL'!Y119","v":97.343612388853302},{"$f":"'ITCER GLOBAL'!AA119","v":127.90967153021897},{"$f":"'ITCER GLOBAL'!AB119","v":97.786415260734501},{"$f":"'ITCER GLOBAL'!AC119","v":114.64579149019534},{"$f":"'ITCER GLOBAL'!AD119","v":117.28425623641132},{"$f":"'ITCER GLOBAL'!AE119","v":106.04916574923931},{"$f":"'ITCER GLOBAL'!AF119","v":185.81184614747642},{"$f":"'ITCER GLOBAL'!AG119","v":90.420899179221934},null,{"$f":"IF(EFECTOS!$N$9=\"COSTA RICA\",LOOKUP(1,GEfectos!$C$4:$I$4,GEfectos!C119:I119),IF(EFECTOS!$N$9=\"EL SALVADOR\",LOOKUP(2,GEfectos!$C$4:$I$4,GEfectos!C119:I119),IF(EFECTOS!$N$9=\"GUATEMALA\",LOOKUP(3,GEfectos!$C$4:$I$4,GEfectos!C119:I119),IF(EFECTOS!$N$9=\"HONDURAS\",LOOKUP(4,GEfectos!$C$4:$I$4,GEfectos!C119:I119),IF(EFECTOS!$N$9=\"NICARAGUA\",LOOKUP(5,GEfectos!$C$4:$I$4,GEfectos!C119:I119),IF(EFECTOS!$N$9=\"REPÚBLICA \nDOMINICANA\",LOOKUP(6,$C$4:$I$4,C119:I119),IF(EFECTOS!$N$9=\"PANAMÁ\",LOOKUP(7,GEfectos!$C$4:$I$4,GEfectos!C119:I119))))))))","v":107.97964550881082},{"$f":"IF(EFECTOS!$N$9=\"COSTA RICA\",LOOKUP(1,GEfectos!$J$4:$P$4,GEfectos!J119:P119),IF(EFECTOS!$N$9=\"EL SALVADOR\",LOOKUP(2,GEfectos!$J$4:$P$4,GEfectos!J119:P119),IF(EFECTOS!$N$9=\"GUATEMALA\",LOOKUP(3,GEfectos!$J$4:$P$4,GEfectos!J119:P119),IF(EFECTOS!$N$9=\"HONDURAS\",LOOKUP(4,GEfectos!$J$4:$P$4,GEfectos!J119:P119),IF(EFECTOS!$N$9=\"NICARAGUA\",LOOKUP(5,GEfectos!$J$4:$P$4,GEfectos!J119:P119),IF(EFECTOS!$N$9=\"REPÚBLICA \nDOMINICANA\",LOOKUP(6,$J$4:$P$4,J119:P119),IF(EFECTOS!$N$9=\"PANAMÁ\",LOOKUP(7,GEfectos!$J$4:$P$4,GEfectos!J119:P119))))))))","v":138.11640988981478},{"$f":"IF(EFECTOS!$N$9=\"COSTA RICA\",LOOKUP(1,GEfectos!$Q$4:$W$4,GEfectos!Q119:W119),IF(EFECTOS!$N$9=\"EL SALVADOR\",LOOKUP(2,GEfectos!$Q$4:$W$4,GEfectos!Q119:W119),IF(EFECTOS!$N$9=\"GUATEMALA\",LOOKUP(3,GEfectos!$Q$4:$W$4,GEfectos!Q119:W119),IF(EFECTOS!$N$9=\"HONDURAS\",LOOKUP(4,GEfectos!$Q$4:$W$4,GEfectos!Q119:W119),IF(EFECTOS!$N$9=\"NICARAGUA\",LOOKUP(5,GEfectos!$Q$4:$W$4,GEfectos!Q119:W119),IF(EFECTOS!$N$9=\"REPÚBLICA \nDOMINICANA\",LOOKUP(6,$Q$4:$W$4,Q119:W119),IF(EFECTOS!$N$9=\"PANAMÁ\",LOOKUP(7,GEfectos!$Q$4:$W$4,GEfectos!Q119:W119))))))))","v":127.90967153021897},100]
[null,{"$f":"'ITCER GLOBAL'!B120","v":"Julio"},{"$f":"'ITCER GLOBAL'!C120","v":107.64331671896849},{"$f":"'ITCER GLOBAL'!D120","v":99.591317952143541},{"$f":"'ITCER GLOBAL'!E120","v":86.598712846695051},{"$f":"'ITCER GLOBAL'!F120","v":100.94378035413536},{"$f":"'ITCER GLOBAL'!G120","v":110.88534569806356},{"$f":"'ITCER GLOBAL'!H120","v":144.73797684804475},{"$f":"'ITCER GLOBAL'!I120","v":107.91510506834804},{"$f":"'ITCER GLOBAL'!S120","v":139.52820794611648},{"$f":"'ITCER GLOBAL'!T120","v":97.621354240383511},{"$f":"'ITCER GLOBAL'!U120","v":99.658807276380657},{"$f":"'ITCER GLOBAL'!V120","v":119.88444920960207},{"$f":"'ITCER GLOBAL'!W120","v":118.08422422808087},{"$f":"'ITCER GLOBAL'!X120","v":270.86103505465138},{"$f":"'ITCER GLOBAL'!Y120","v":97.637823604724971},{"$f":"'ITCER GLOBAL'!AA120","v":129.62087401152081},{"$f":"'ITCER GLOBAL'!AB120","v":98.021952362648079},{"$f":"'ITCER GLOBAL'!AC120","v":115.08116460438134},{"$f":"'ITCER GLOBAL'!AD120","v":118.76358185617602},{"$f":"'ITCER GLOBAL'!AE120","v":106.49218206851208},{"$f":"'ITCER GLOBAL'!AF120","v":187.13888431577203},{"$f":"'ITCER GLOBAL'!AG120","v":90.476512572439276},null,{"$f":"IF(EFECTOS!$N$9=\"COSTA RICA\",LOOKUP(1,GEfectos!$C$4:$I$4,GEfectos!C120:I120),IF(EFECTOS!$N$9=\"EL SALVADOR\",LOOKUP(2,GEfectos!$C$4:$I$4,GEfectos!C120:I120),IF(EFECTOS!$N$9=\"GUATEMALA\",LOOKUP(3,GEfectos!$C$4:$I$4,GEfectos!C120:I120),IF(EFECTOS!$N$9=\"HONDURAS\",LOOKUP(4,GEfectos!$C$4:$I$4,GEfectos!C120:I120),IF(EFECTOS!$N$9=\"NICARAGUA\",LOOKUP(5,GEfectos!$C$4:$I$4,GEfectos!C120:I120),IF(EFECTOS!$N$9=\"REPÚBLICA \nDOMINICANA\",LOOKUP(6,$C$4:$I$4,C120:I120),IF(EFECTOS!$N$9=\"PANAMÁ\",LOOKUP(7,GEfectos!$C$4:$I$4,GEfectos!C120:I120))))))))","v":107.64331671896849},{"$f":"IF(EFECTOS!$N$9=\"COSTA RICA\",LOOKUP(1,GEfectos!$J$4:$P$4,GEfectos!J120:P120),IF(EFECTOS!$N$9=\"EL SALVADOR\",LOOKUP(2,GEfectos!$J$4:$P$4,GEfectos!J120:P120),IF(EFECTOS!$N$9=\"GUATEMALA\",LOOKUP(3,GEfectos!$J$4:$P$4,GEfectos!J120:P120),IF(EFECTOS!$N$9=\"HONDURAS\",LOOKUP(4,GEfectos!$J$4:$P$4,GEfectos!J120:P120),IF(EFECTOS!$N$9=\"NICARAGUA\",LOOKUP(5,GEfectos!$J$4:$P$4,GEfectos!J120:P120),IF(EFECTOS!$N$9=\"REPÚBLICA \nDOMINICANA\",LOOKUP(6,$J$4:$P$4,J120:P120),IF(EFECTOS!$N$9=\"PANAMÁ\",LOOKUP(7,GEfectos!$J$4:$P$4,GEfectos!J120:P120))))))))","v":139.52820794611648},{"$f":"IF(EFECTOS!$N$9=\"COSTA RICA\",LOOKUP(1,GEfectos!$Q$4:$W$4,GEfectos!Q120:W120),IF(EFECTOS!$N$9=\"EL SALVADOR\",LOOKUP(2,GEfectos!$Q$4:$W$4,GEfectos!Q120:W120),IF(EFECTOS!$N$9=\"GUATEMALA\",LOOKUP(3,GEfectos!$Q$4:$W$4,GEfectos!Q120:W120),IF(EFECTOS!$N$9=\"HONDURAS\",LOOKUP(4,GEfectos!$Q$4:$W$4,GEfectos!Q120:W120),IF(EFECTOS!$N$9=\"NICARAGUA\",LOOKUP(5,GEfectos!$Q$4:$W$4,GEfectos!Q120:W120),IF(EFECTOS!$N$9=\"REPÚBLICA \nDOMINICANA\",LOOKUP(6,$Q$4:$W$4,Q120:W120),IF(EFECTOS!$N$9=\"PANAMÁ\",LOOKUP(7,GEfectos!$Q$4:$W$4,GEfectos!Q120:W120))))))))","v":129.62087401152081},100]
[null,{"$f":"'ITCER GLOBAL'!B121","v":"Agosto"},{"$f":"'ITCER GLOBAL'!C121","v":107.6362831256735},{"$f":"'ITCER GLOBAL'!D121","v":99.53309664739929},{"$f":"'ITCER GLOBAL'!E121","v":86.73612819413205},{"$f":"'ITCER GLOBAL'!F121","v":101.27100608948983},{"$f":"'ITCER GLOBAL'!G121","v":111.21681197791531},{"$f":"'ITCER GLOBAL'!H121","v":132.62173342598305},{"$f":"'ITCER GLOBAL'!I121","v":107.89518003816407},{"$f":"'ITCER GLOBAL'!S121","v":140.63021754217431},{"$f":"'ITCER GLOBAL'!T121","v":97.596845425619733},{"$f":"'ITCER GLOBAL'!U121","v":99.872320831994202},{"$f":"'ITCER GLOBAL'!V121","v":120.43340031619177},{"$f":"'ITCER GLOBAL'!W121","v":118.35293470037523},{"$f":"'ITCER GLOBAL'!X121","v":249.20888605437278},{"$f":"'ITCER GLOBAL'!Y121","v":97.699150263319893},{"$f":"'ITCER GLOBAL'!AA121","v":130.65317145704287},{"$f":"'ITCER GLOBAL'!AB121","v":98.054665948313826},{"$f":"'ITCER GLOBAL'!AC121","v":115.14500694388946},{"$f":"'ITCER GLOBAL'!AD121","v":118.92189577910261},{"$f":"'ITCER GLOBAL'!AE121","v":106.41640647268056},{"$f":"'ITCER GLOBAL'!AF121","v":187.90953761244393},{"$f":"'ITCER GLOBAL'!AG121","v":90.550060001533254},null,{"$f":"IF(EFECTOS!$N$9=\"COSTA RICA\",LOOKUP(1,GEfectos!$C$4:$I$4,GEfectos!C121:I121),IF(EFECTOS!$N$9=\"EL SALVADOR\",LOOKUP(2,GEfectos!$C$4:$I$4,GEfectos!C121:I121),IF(EFECTOS!$N$9=\"GUATEMALA\",LOOKUP(3,GEfectos!$C$4:$I$4,GEfectos!C121:I121),IF(EFECTOS!$N$9=\"HONDURAS\",LOOKUP(4,GEfectos!$C$4:$I$4,GEfectos!C121:I121),IF(EFECTOS!$N$9=\"NICARAGUA\",LOOKUP(5,GEfectos!$C$4:$I$4,GEfectos!C121:I121),IF(EFECTOS!$N$9=\"REPÚBLICA \nDOMINICANA\",LOOKUP(6,$C$4:$I$4,C121:I121),IF(EFECTOS!$N$9=\"PANAMÁ\",LOOKUP(7,GEfectos!$C$4:$I$4,GEfectos!C121:I121))))))))","v":107.6362831256735},{"$f":"IF(EFECTOS!$N$9=\"COSTA RICA\",LOOKUP(1,GEfectos!$J$4:$P$4,GEfectos!J121:P121),IF(EFECTOS!$N$9=\"EL SALVADOR\",LOOKUP(2,GEfectos!$J$4:$P$4,GEfectos!J121:P121),IF(EFECTOS!$N$9=\"GUATEMALA\",LOOKUP(3,GEfectos!$J$4:$P$4,GEfectos!J121:P121),IF(EFECTOS!$N$9=\"HONDURAS\",LOOKUP(4,GEfectos!$J$4:$P$4,GEfectos!J121:P121),IF(EFECTOS!$N$9=\"NICARAGUA\",LOOKUP(5,GEfectos!$J$4:$P$4,GEfectos!J121:P121),IF(EFECTOS!$N$9=\"REPÚBLICA \nDOMINICANA\",LOOKUP(6,$J$4:$P$4,J121:P121),IF(EFECTOS!$N$9=\"PANAMÁ\",LOOKUP(7,GEfectos!$J$4:$P$4,GEfectos!J121:P121))))))))","v":140.63021754217431},{"$f":"IF(EFECTOS!$N$9=\"COSTA RICA\",LOOKUP(1,GEfectos!$Q$4:$W$4,GEfectos!Q121:W121),IF(EFECTOS!$N$9=\"EL SALVADOR\",LOOKUP(2,GEfectos!$Q$4:$W$4,GEfectos!Q121:W121),IF(EFECTOS!$N$9=\"GUATEMALA\",LOOKUP(3,GEfectos!$Q$4:$W$4,GEfectos!Q121:W121),IF(EFECTOS!$N$9=\"HONDURAS\",LOOKUP(4,GEfectos!$Q$4:$W$4,GEfectos!Q121:W121),IF(EFECTOS!$N$9=\"NICARAGUA\",LOOKUP(5,GEfectos!$Q$4:$W$4,GEfectos!Q121:W121),IF(EFECTOS!$N$9=\"REPÚBLICA \nDOMINICANA\",LOOKUP(6,$Q$4:$W$4,Q121:W121),IF(EFECTOS!$N$9=\"PANAMÁ\",LOOKUP(7,GEfectos!$Q$4:$W$4,GEfectos!Q121:W121))))))))","v":130.65317145704287},100]
[null,{"$f":"'ITCER GLOBAL'!B122","v":"Septiembre"},{"$f":"'ITCER GLOBAL'!C122","v":108.15800384767184},{"$f":"'ITCER GLOBAL'!D122","v":99.698770387872514},{"$f":"'ITCER GLOBAL'!E122","v":86.274139537059668},{"$f":"'ITCER GLOBAL'!F122","v":101.99665160603061},{"$f":"'ITCER GLOBAL'!G122","v":111.09218781622117},{"$f":"'ITCER GLOBAL'!H122","v":120.61698227033609},{"$f":"'ITCER GLOBAL'!I122","v":108.69828077749069},{"$f":"'ITCER GLOBAL'!S122","v":142.03110148350987},{"$f":"'ITCER GLOBAL'!T122","v":97.65227724725284},{"$f":"'ITCER GLOBAL'!U122","v":99.842434903284399},{"$f":"'ITCER GLOBAL'!V122","v":121.0855747276033},{"$f":"'ITCER GLOBAL'!W122","v":118.47215020883166},{"$f":"'ITCER GLOBAL'!X122","v":223.46332063296219},{"$f":"'ITCER GLOBAL'!Y122","v":97.935471165639299},{"$f":"'ITCER GLOBAL'!AA122","v":131.31816086726639},{"$f":"'ITCER GLOBAL'!AB122","v":97.947323590192838},{"$f":"'ITCER GLOBAL'!AC122","v":115.72695530668997},{"$f":"'ITCER GLOBAL'!AD122","v":118.71524488402329},{"$f":"'ITCER GLOBAL'!AE122","v":106.64309753699253},{"$f":"'ITCER GLOBAL'!AF122","v":185.26688068859073},{"$f":"'ITCER GLOBAL'!AG122","v":90.098454607683024},null,{"$f":"IF(EFECTOS!$N$9=\"COSTA RICA\",LOOKUP(1,GEfectos!$C$4:$I$4,GEfectos!C122:I122),IF(EFECTOS!$N$9=\"EL SALVADOR\",LOOKUP(2,GEfectos!$C$4:$I$4,GEfectos!C122:I122),IF(EFECTOS!$N$9=\"GUATEMALA\",LOOKUP(3,GEfectos!$C$4:$I$4,GEfectos!C122:I122),IF(EFECTOS!$N$9=\"HONDURAS\",LOOKUP(4,GEfectos!$C$4:$I$4,GEfectos!C122:I122),IF(EFECTOS!$N$9=\"NICARAGUA\",LOOKUP(5,GEfectos!$C$4:$I$4,GEfectos!C122:I122),IF(EFECTOS!$N$9=\"REPÚBLICA \nDOMINICANA\",LOOKUP(6,$C$4:$I$4,C122:I122),IF(EFECTOS!$N$9=\"PANAMÁ\",LOOKUP(7,GEfectos!$C$4:$I$4,GEfectos!C122:I122))))))))","v":108.15800384767184},{"$f":"IF(EFECTOS!$N$9=\"COSTA RICA\",LOOKUP(1,GEfectos!$J$4:$P$4,GEfectos!J122:P122),IF(EFECTOS!$N$9=\"EL SALVADOR\",LOOKUP(2,GEfectos!$J$4:$P$4,GEfectos!J122:P122),IF(EFECTOS!$N$9=\"GUATEMALA\",LOOKUP(3,GEfectos!$J$4:$P$4,GEfectos!J122:P122),IF(EFECTOS!$N$9=\"HONDURAS\",LOOKUP(4,GEfectos!$J$4:$P$4,GEfectos!J122:P122),IF(EFECTOS!$N$9=\"NICARAGUA\",LOOKUP(5,GEfectos!$J$4:$P$4,GEfectos!J122:P122),IF(EFECTOS!$N$9=\"REPÚBLICA \nDOMINICANA\",LOOKUP(6,$J$4:$P$4,J122:P122),IF(EFECTOS!$N$9=\"PANAMÁ\",LOOKUP(7,GEfectos!$J$4:$P$4,GEfectos!J122:P122))))))))","v":142.03110148350987},{"$f":"IF(EFECTOS!$N$9=\"COSTA RICA\",LOOKUP(1,GEfectos!$Q$4:$W$4,GEfectos!Q122:W122),IF(EFECTOS!$N$9=\"EL SALVADOR\",LOOKUP(2,GEfectos!$Q$4:$W$4,GEfectos!Q122:W122),IF(EFECTOS!$N$9=\"GUATEMALA\",LOOKUP(3,GEfectos!$Q$4:$W$4,GEfectos!Q122:W122),IF(EFECTOS!$N$9=\"HONDURAS\",LOOKUP(4,GEfectos!$Q$4:$W$4,GEfectos!Q122:W122),IF(EFECTOS!$N$9=\"NICARAGUA\",LOOKUP(5,GEfectos!$Q$4:$W$4,GEfectos!Q122:W122),IF(EFECTOS!$N$9=\"REPÚBLICA \nDOMINICANA\",LOOKUP(6,$Q$4:$W$4,Q122:W122),IF(EFECTOS!$N$9=\"PANAMÁ\",LOOKUP(7,GEfectos!$Q$4:$W$4,GEfectos!Q122:W122))))))))","v":131.31816086726639},100]
[null,{"$f":"'ITCER GLOBAL'!B123","v":"Octubre"},{"$f":"'ITCER GLOBAL'!C123","v":109.34116802037461},{"$f":"'ITCER GLOBAL'!D123","v":100.13906699900998},{"$f":"'ITCER GLOBAL'!E123","v":85.368761666148487},{"$f":"'ITCER GLOBAL'!F123","v":102.50828795510512},{"$f":"'ITCER GLOBAL'!G123","v":110.892683673053},{"$f":"'ITCER GLOBAL'!H123","v":104.7091548963255},{"$f":"'ITCER GLOBAL'!I123","v":109.58180999045288},{"$f":"'ITCER GLOBAL'!S123","v":143.93118087539463},{"$f":"'ITCER GLOBAL'!T123","v":97.920151789328656},{"$f":"'ITCER GLOBAL'!U123","v":99.277392932366752},{"$f":"'ITCER GLOBAL'!V123","v":122.10950995269452},{"$f":"'ITCER GLOBAL'!W123","v":119.20280363594769},{"$f":"'ITCER GLOBAL'!X123","v":195.64780358756678},{"$f":"'ITCER GLOBAL'!Y123","v":98.341877535175954},{"$f":"'ITCER GLOBAL'!AA123","v":131.63493996019369},{"$f":"'ITCER GLOBAL'!AB123","v":97.784166283770887},{"$f":"'ITCER GLOBAL'!AC123","v":116.29241304988203},{"$f":"'ITCER GLOBAL'!AD123","v":119.12159727628466},{"$f":"'ITCER GLOBAL'!AE123","v":107.49383970848389},{"$f":"'ITCER GLOBAL'!AF123","v":186.84880398593734},{"$f":"'ITCER GLOBAL'!AG123","v":89.742884830743165},null,{"$f":"IF(EFECTOS!$N$9=\"COSTA RICA\",LOOKUP(1,GEfectos!$C$4:$I$4,GEfectos!C123:I123),IF(EFECTOS!$N$9=\"EL SALVADOR\",LOOKUP(2,GEfectos!$C$4:$I$4,GEfectos!C123:I123),IF(EFECTOS!$N$9=\"GUATEMALA\",LOOKUP(3,GEfectos!$C$4:$I$4,GEfectos!C123:I123),IF(EFECTOS!$N$9=\"HONDURAS\",LOOKUP(4,GEfectos!$C$4:$I$4,GEfectos!C123:I123),IF(EFECTOS!$N$9=\"NICARAGUA\",LOOKUP(5,GEfectos!$C$4:$I$4,GEfectos!C123:I123),IF(EFECTOS!$N$9=\"REPÚBLICA \nDOMINICANA\",LOOKUP(6,$C$4:$I$4,C123:I123),IF(EFECTOS!$N$9=\"PANAMÁ\",LOOKUP(7,GEfectos!$C$4:$I$4,GEfectos!C123:I123))))))))","v":109.34116802037461},{"$f":"IF(EFECTOS!$N$9=\"COSTA RICA\",LOOKUP(1,GEfectos!$J$4:$P$4,GEfectos!J123:P123),IF(EFECTOS!$N$9=\"EL SALVADOR\",LOOKUP(2,GEfectos!$J$4:$P$4,GEfectos!J123:P123),IF(EFECTOS!$N$9=\"GUATEMALA\",LOOKUP(3,GEfectos!$J$4:$P$4,GEfectos!J123:P123),IF(EFECTOS!$N$9=\"HONDURAS\",LOOKUP(4,GEfectos!$J$4:$P$4,GEfectos!J123:P123),IF(EFECTOS!$N$9=\"NICARAGUA\",LOOKUP(5,GEfectos!$J$4:$P$4,GEfectos!J123:P123),IF(EFECTOS!$N$9=\"REPÚBLICA \nDOMINICANA\",LOOKUP(6,$J$4:$P$4,J123:P123),IF(EFECTOS!$N$9=\"PANAMÁ\",LOOKUP(7,GEfectos!$J$4:$P$4,GEfectos!J123:P123))))))))","v":143.93118087539463},{"$f":"IF(EFECTOS!$N$9=\"COSTA RICA\",LOOKUP(1,GEfectos!$Q$4:$W$4,GEfectos!Q123:W123),IF(EFECTOS!$N$9=\"EL SALVADOR\",LOOKUP(2,GEfectos!$Q$4:$W$4,GEfectos!Q123:W123),IF(EFECTOS!$N$9=\"GUATEMALA\",LOOKUP(3,GEfectos!$Q$4:$W$4,GEfectos!Q123:W123),IF(EFECTOS!$N$9=\"HONDURAS\",LOOKUP(4,GEfectos!$Q$4:$W$4,GEfectos!Q123:W123),IF(EFECTOS!$N$9=\"NICARAGUA\",LOOKUP(5,GEfectos!$Q$4:$W$4,GEfectos!Q123:W123),IF(EFECTOS!$N$9=\"REPÚBLICA \nDOMINICANA\",LOOKUP(6,$Q$4:$W$4,Q123:W123),IF(EFECTOS!$N$9=\"PANAMÁ\",LOOKUP(7,GEfectos!$Q$4:$W$4,GEfectos!Q123:W123))))))))","v":131.63493996019369},100]
[null,{"$f":"'ITCER GLOBAL'!B124","v":"Noviembre"},{"$f":"'ITCER GLOBAL'!C124","v":109.76181913366709},{"$f":"'ITCER GLOBAL'!D124","v":100.80781197307428},{"$f":"'ITCER GLOBAL'!E124","v":84.601976611725476},{"$f":"'ITCER GLOBAL'!F124","v":102.88020495527826},{"$f":"'ITCER GLOBAL'!G124","v":111.23795258059123},{"$f":"'ITCER GLOBAL'!H124","v":98.141372070772974},{"$f":"'ITCER GLOBAL'!I124","v":110.8735998685701},{"$f":"'ITCER GLOBAL'!S124","v":146.34777701701236},{"$f":"'ITCER GLOBAL'!T124","v":98.334473553219894},{"$f":"'ITCER GLOBAL'!U124","v":99.228736340250805},{"$f":"'ITCER GLOBAL'!V124","v":123.35314941806563},{"$f":"'ITCER GLOBAL'!W124","v":120.18715879921888},{"$f":"'ITCER GLOBAL'!X124","v":180.18723645735963},{"$f":"'ITCER GLOBAL'!Y124","v":99.323321899701227},{"$f":"'ITCER GLOBAL'!AA124","v":133.33213513780342},{"$f":"'ITCER GLOBAL'!AB124","v":97.546481397180784},{"$f":"'ITCER GLOBAL'!AC124","v":117.28891015827416},{"$f":"'ITCER GLOBAL'!AD124","v":119.89978973281295},{"$f":"'ITCER GLOBAL'!AE124","v":108.04510152426978},{"$f":"'ITCER GLOBAL'!AF124","v":183.59967122471113},{"$f":"'ITCER GLOBAL'!AG124","v":89.582481327781721},null,{"$f":"IF(EFECTOS!$N$9=\"COSTA RICA\",LOOKUP(1,GEfectos!$C$4:$I$4,GEfectos!C124:I124),IF(EFECTOS!$N$9=\"EL SALVADOR\",LOOKUP(2,GEfectos!$C$4:$I$4,GEfectos!C124:I124),IF(EFECTOS!$N$9=\"GUATEMALA\",LOOKUP(3,GEfectos!$C$4:$I$4,GEfectos!C124:I124),IF(EFECTOS!$N$9=\"HONDURAS\",LOOKUP(4,GEfectos!$C$4:$I$4,GEfectos!C124:I124),IF(EFECTOS!$N$9=\"NICARAGUA\",LOOKUP(5,GEfectos!$C$4:$I$4,GEfectos!C124:I124),IF(EFECTOS!$N$9=\"REPÚBLICA \nDOMINICANA\",LOOKUP(6,$C$4:$I$4,C124:I124),IF(EFECTOS!$N$9=\"PANAMÁ\",LOOKUP(7,GEfectos!$C$4:$I$4,GEfectos!C124:I124))))))))","v":109.76181913366709},{"$f":"IF(EFECTOS!$N$9=\"COSTA RICA\",LOOKUP(1,GEfectos!$J$4:$P$4,GEfectos!J124:P124),IF(EFECTOS!$N$9=\"EL SALVADOR\",LOOKUP(2,GEfectos!$J$4:$P$4,GEfectos!J124:P124),IF(EFECTOS!$N$9=\"GUATEMALA\",LOOKUP(3,GEfectos!$J$4:$P$4,GEfectos!J124:P124),IF(EFECTOS!$N$9=\"HONDURAS\",LOOKUP(4,GEfectos!$J$4:$P$4,GEfectos!J124:P124),IF(EFECTOS!$N$9=\"NICARAGUA\",LOOKUP(5,GEfectos!$J$4:$P$4,GEfectos!J124:P124),IF(EFECTOS!$N$9=\"REPÚBLICA \nDOMINICANA\",LOOKUP(6,$J$4:$P$4,J124:P124),IF(EFECTOS!$N$9=\"PANAMÁ\",LOOKUP(7,GEfectos!$J$4:$P$4,GEfectos!J124:P124))))))))","v":146.34777701701236},{"$f":"IF(EFECTOS!$N$9=\"COSTA RICA\",LOOKUP(1,GEfectos!$Q$4:$W$4,GEfectos!Q124:W124),IF(EFECTOS!$N$9=\"EL SALVADOR\",LOOKUP(2,GEfectos!$Q$4:$W$4,GEfectos!Q124:W124),IF(EFECTOS!$N$9=\"GUATEMALA\",LOOKUP(3,GEfectos!$Q$4:$W$4,GEfectos!Q124:W124),IF(EFECTOS!$N$9=\"HONDURAS\",LOOKUP(4,GEfectos!$Q$4:$W$4,GEfectos!Q124:W124),IF(EFECTOS!$N$9=\"NICARAGUA\",LOOKUP(5,GEfectos!$Q$4:$W$4,GEfectos!Q124:W124),IF(EFECTOS!$N$9=\"REPÚBLICA \nDOMINICANA\",LOOKUP(6,$Q$4:$W$4,Q124:W124),IF(EFECTOS!$N$9=\"PANAMÁ\",LOOKUP(7,GEfectos!$Q$4:$W$4,GEfectos!Q124:W124))))))))","v":133.33213513780342},100]
[null,{"$f":"'ITCER GLOBAL'!B125","v":"Diciembre"},{"$f":"'ITCER GLOBAL'!C125","v":110.01156421616884},{"$f":"'ITCER GLOBAL'!D125","v":100.83150792046187},{"$f":"'ITCER GLOBAL'!E125","v":84.570435367426114},{"$f":"'ITCER GLOBAL'!F125","v":103.23925125873721},{"$f":"'ITCER GLOBAL'!G125","v":112.09027078889154},{"$f":"'ITCER GLOBAL'!H125","v":97.495394701129243},{"$f":"'ITCER GLOBAL'!I125","v":111.26804976323186},{"$f":"'ITCER GLOBAL'!S125","v":148.48528639236994},{"$f":"'ITCER GLOBAL'!T125","v":98.590358611418665},{"$f":"'ITCER GLOBAL'!U125","v":99.839486472452705},{"$f":"'ITCER GLOBAL'!V125","v":124.29808841725323},{"$f":"'ITCER GLOBAL'!W125","v":120.85022483953556},{"$f":"'ITCER GLOBAL'!X125","v":176.69328076074004},{"$f":"'ITCER GLOBAL'!Y125","v":100.11905423670937},{"$f":"'ITCER GLOBAL'!AA125","v":134.97243444389318},{"$f":"'ITCER GLOBAL'!AB125","v":97.777332348524354},{"$f":"'ITCER GLOBAL'!AC125","v":118.05483327440425},{"$f":"'ITCER GLOBAL'!AD125","v":120.39809171585193},{"$f":"'ITCER GLOBAL'!AE125","v":107.81508866825946},{"$f":"'ITCER GLOBAL'!AF125","v":181.23243800631897},{"$f":"'ITCER GLOBAL'!AG125","v":89.980056673729322},null,{"$f":"IF(EFECTOS!$N$9=\"COSTA RICA\",LOOKUP(1,GEfectos!$C$4:$I$4,GEfectos!C125:I125),IF(EFECTOS!$N$9=\"EL SALVADOR\",LOOKUP(2,GEfectos!$C$4:$I$4,GEfectos!C125:I125),IF(EFECTOS!$N$9=\"GUATEMALA\",LOOKUP(3,GEfectos!$C$4:$I$4,GEfectos!C125:I125),IF(EFECTOS!$N$9=\"HONDURAS\",LOOKUP(4,GEfectos!$C$4:$I$4,GEfectos!C125:I125),IF(EFECTOS!$N$9=\"NICARAGUA\",LOOKUP(5,GEfectos!$C$4:$I$4,GEfectos!C125:I125),IF(EFECTOS!$N$9=\"REPÚBLICA \nDOMINICANA\",LOOKUP(6,$C$4:$I$4,C125:I125),IF(EFECTOS!$N$9=\"PANAMÁ\",LOOKUP(7,GEfectos!$C$4:$I$4,GEfectos!C125:I125))))))))","v":110.01156421616884},{"$f":"IF(EFECTOS!$N$9=\"COSTA RICA\",LOOKUP(1,GEfectos!$J$4:$P$4,GEfectos!J125:P125),IF(EFECTOS!$N$9=\"EL SALVADOR\",LOOKUP(2,GEfectos!$J$4:$P$4,GEfectos!J125:P125),IF(EFECTOS!$N$9=\"GUATEMALA\",LOOKUP(3,GEfectos!$J$4:$P$4,GEfectos!J125:P125),IF(EFECTOS!$N$9=\"HONDURAS\",LOOKUP(4,GEfectos!$J$4:$P$4,GEfectos!J125:P125),IF(EFECTOS!$N$9=\"NICARAGUA\",LOOKUP(5,GEfectos!$J$4:$P$4,GEfectos!J125:P125),IF(EFECTOS!$N$9=\"REPÚBLICA \nDOMINICANA\",LOOKUP(6,$J$4:$P$4,J125:P125),IF(EFECTOS!$N$9=\"PANAMÁ\",LOOKUP(7,GEfectos!$J$4:$P$4,GEfectos!J125:P125))))))))","v":148.48528639236994},{"$f":"IF(EFECTOS!$N$9=\"COSTA RICA\",LOOKUP(1,GEfectos!$Q$4:$W$4,GEfectos!Q125:W125),IF(EFECTOS!$N$9=\"EL SALVADOR\",LOOKUP(2,GEfectos!$Q$4:$W$4,GEfectos!Q125:W125),IF(EFECTOS!$N$9=\"GUATEMALA\",LOOKUP(3,GEfectos!$Q$4:$W$4,GEfectos!Q125:W125),IF(EFECTOS!$N$9=\"HONDURAS\",LOOKUP(4,GEfectos!$Q$4:$W$4,GEfectos!Q125:W125),IF(EFECTOS!$N$9=\"NICARAGUA\",LOOKUP(5,GEfectos!$Q$4:$W$4,GEfectos!Q125:W125),IF(EFECTOS!$N$9=\"REPÚBLICA \nDOMINICANA\",LOOKUP(6,$Q$4:$W$4,Q125:W125),IF(EFECTOS!$N$9=\"PANAMÁ\",LOOKUP(7,GEfectos!$Q$4:$W$4,GEfectos!Q125:W125))))))))","v":134.97243444389318},100]
[2005,{"$f":"'ITCER GLOBAL'!B126","v":"Enero"},{"$f":"'ITCER GLOBAL'!C126","v":107.75229889797275},{"$f":"'ITCER GLOBAL'!D126","v":99.567546582949447},{"$f":"'ITCER GLOBAL'!E126","v":82.985822019152337},{"$f":"'ITCER GLOBAL'!F126","v":103.344926391771},{"$f":"'ITCER GLOBAL'!G126","v":112.38188964387612},{"$f":"'ITCER GLOBAL'!H126","v":98.926198809529652},{"$f":"'ITCER GLOBAL'!I126","v":109.34633841656625},{"$f":"'ITCER GLOBAL'!S126","v":148.92984234240177},{"$f":"'ITCER GLOBAL'!T126","v":98.522154350087504},{"$f":"'ITCER GLOBAL'!U126","v":99.311779760253359},{"$f":"'ITCER GLOBAL'!V126","v":125.33400713640215},{"$f":"'ITCER GLOBAL'!W126","v":120.94909340660406},{"$f":"'ITCER GLOBAL'!X126","v":182.18050051588432},{"$f":"'ITCER GLOBAL'!Y126","v":99.881871739861921},{"$f":"'ITCER GLOBAL'!AA126","v":138.21500224641957},{"$f":"'ITCER GLOBAL'!AB126","v":98.950067297288456},{"$f":"'ITCER GLOBAL'!AC126","v":119.67318915914717},{"$f":"'ITCER GLOBAL'!AD126","v":121.27736843245947},{"$f":"'ITCER GLOBAL'!AE126","v":107.62329570171522},{"$f":"'ITCER GLOBAL'!AF126","v":184.1579912179287},{"$f":"'ITCER GLOBAL'!AG126","v":91.344505162442246},null,{"$f":"IF(EFECTOS!$N$9=\"COSTA RICA\",LOOKUP(1,GEfectos!$C$4:$I$4,GEfectos!C126:I126),IF(EFECTOS!$N$9=\"EL SALVADOR\",LOOKUP(2,GEfectos!$C$4:$I$4,GEfectos!C126:I126),IF(EFECTOS!$N$9=\"GUATEMALA\",LOOKUP(3,GEfectos!$C$4:$I$4,GEfectos!C126:I126),IF(EFECTOS!$N$9=\"HONDURAS\",LOOKUP(4,GEfectos!$C$4:$I$4,GEfectos!C126:I126),IF(EFECTOS!$N$9=\"NICARAGUA\",LOOKUP(5,GEfectos!$C$4:$I$4,GEfectos!C126:I126),IF(EFECTOS!$N$9=\"REPÚBLICA \nDOMINICANA\",LOOKUP(6,$C$4:$I$4,C126:I126),IF(EFECTOS!$N$9=\"PANAMÁ\",LOOKUP(7,GEfectos!$C$4:$I$4,GEfectos!C126:I126))))))))","v":107.75229889797275},{"$f":"IF(EFECTOS!$N$9=\"COSTA RICA\",LOOKUP(1,GEfectos!$J$4:$P$4,GEfectos!J126:P126),IF(EFECTOS!$N$9=\"EL SALVADOR\",LOOKUP(2,GEfectos!$J$4:$P$4,GEfectos!J126:P126),IF(EFECTOS!$N$9=\"GUATEMALA\",LOOKUP(3,GEfectos!$J$4:$P$4,GEfectos!J126:P126),IF(EFECTOS!$N$9=\"HONDURAS\",LOOKUP(4,GEfectos!$J$4:$P$4,GEfectos!J126:P126),IF(EFECTOS!$N$9=\"NICARAGUA\",LOOKUP(5,GEfectos!$J$4:$P$4,GEfectos!J126:P126),IF(EFECTOS!$N$9=\"REPÚBLICA \nDOMINICANA\",LOOKUP(6,$J$4:$P$4,J126:P126),IF(EFECTOS!$N$9=\"PANAMÁ\",LOOKUP(7,GEfectos!$J$4:$P$4,GEfectos!J126:P126))))))))","v":148.92984234240177},{"$f":"IF(EFECTOS!$N$9=\"COSTA RICA\",LOOKUP(1,GEfectos!$Q$4:$W$4,GEfectos!Q126:W126),IF(EFECTOS!$N$9=\"EL SALVADOR\",LOOKUP(2,GEfectos!$Q$4:$W$4,GEfectos!Q126:W126),IF(EFECTOS!$N$9=\"GUATEMALA\",LOOKUP(3,GEfectos!$Q$4:$W$4,GEfectos!Q126:W126),IF(EFECTOS!$N$9=\"HONDURAS\",LOOKUP(4,GEfectos!$Q$4:$W$4,GEfectos!Q126:W126),IF(EFECTOS!$N$9=\"NICARAGUA\",LOOKUP(5,GEfectos!$Q$4:$W$4,GEfectos!Q126:W126),IF(EFECTOS!$N$9=\"REPÚBLICA \nDOMINICANA\",LOOKUP(6,$Q$4:$W$4,Q126:W126),IF(EFECTOS!$N$9=\"PANAMÁ\",LOOKUP(7,GEfectos!$Q$4:$W$4,GEfectos!Q126:W126))))))))","v":138.21500224641957},100]
[null,{"$f":"'ITCER GLOBAL'!B127","v":"Febrero"},{"$f":"'ITCER GLOBAL'!C127","v":107.98382544438526},{"$f":"'ITCER GLOBAL'!D127","v":100.15785239794779},{"$f":"'ITCER GLOBAL'!E127","v":82.413118028302762},{"$f":"'ITCER GLOBAL'!F127","v":103.0649403181329},{"$f":"'ITCER GLOBAL'!G127","v":112.88074975474835},{"$f":"'ITCER GLOBAL'!H127","v":96.216200797396397},{"$f":"'ITCER GLOBAL'!I127","v":109.47046492285256},{"$f":"'ITCER GLOBAL'!S127","v":150.00028235543726},{"$f":"'ITCER GLOBAL'!T127","v":98.578382524357991},{"$f":"'ITCER GLOBAL'!U127","v":98.787470073561721},{"$f":"'ITCER GLOBAL'!V127","v":125.78088381998072},{"$f":"'ITCER GLOBAL'!W127","v":122.24066334605084},{"$f":"'ITCER GLOBAL'!X127","v":176.22874312961108},{"$f":"'ITCER GLOBAL'!Y127","v":99.915219290195196},{"$f":"'ITCER GLOBAL'!AA127","v":138.90995409557118},{"$f":"'ITCER GLOBAL'!AB127","v":98.423019428058183},{"$f":"'ITCER GLOBAL'!AC127","v":119.86862339031461},{"$f":"'ITCER GLOBAL'!AD127","v":122.04041784891156},{"$f":"'ITCER GLOBAL'!AE127","v":108.29185987126984},{"$f":"'ITCER GLOBAL'!AF127","v":183.15911631212506},{"$f":"'ITCER GLOBAL'!AG127","v":91.271393942291866},null,{"$f":"IF(EFECTOS!$N$9=\"COSTA RICA\",LOOKUP(1,GEfectos!$C$4:$I$4,GEfectos!C127:I127),IF(EFECTOS!$N$9=\"EL SALVADOR\",LOOKUP(2,GEfectos!$C$4:$I$4,GEfectos!C127:I127),IF(EFECTOS!$N$9=\"GUATEMALA\",LOOKUP(3,GEfectos!$C$4:$I$4,GEfectos!C127:I127),IF(EFECTOS!$N$9=\"HONDURAS\",LOOKUP(4,GEfectos!$C$4:$I$4,GEfectos!C127:I127),IF(EFECTOS!$N$9=\"NICARAGUA\",LOOKUP(5,GEfectos!$C$4:$I$4,GEfectos!C127:I127),IF(EFECTOS!$N$9=\"REPÚBLICA \nDOMINICANA\",LOOKUP(6,$C$4:$I$4,C127:I127),IF(EFECTOS!$N$9=\"PANAMÁ\",LOOKUP(7,GEfectos!$C$4:$I$4,GEfectos!C127:I127))))))))","v":107.98382544438526},{"$f":"IF(EFECTOS!$N$9=\"COSTA RICA\",LOOKUP(1,GEfectos!$J$4:$P$4,GEfectos!J127:P127),IF(EFECTOS!$N$9=\"EL SALVADOR\",LOOKUP(2,GEfectos!$J$4:$P$4,GEfectos!J127:P127),IF(EFECTOS!$N$9=\"GUATEMALA\",LOOKUP(3,GEfectos!$J$4:$P$4,GEfectos!J127:P127),IF(EFECTOS!$N$9=\"HONDURAS\",LOOKUP(4,GEfectos!$J$4:$P$4,GEfectos!J127:P127),IF(EFECTOS!$N$9=\"NICARAGUA\",LOOKUP(5,GEfectos!$J$4:$P$4,GEfectos!J127:P127),IF(EFECTOS!$N$9=\"REPÚBLICA \nDOMINICANA\",LOOKUP(6,$J$4:$P$4,J127:P127),IF(EFECTOS!$N$9=\"PANAMÁ\",LOOKUP(7,GEfectos!$J$4:$P$4,GEfectos!J127:P127))))))))","v":150.00028235543726},{"$f":"IF(EFECTOS!$N$9=\"COSTA RICA\",LOOKUP(1,GEfectos!$Q$4:$W$4,GEfectos!Q127:W127),IF(EFECTOS!$N$9=\"EL SALVADOR\",LOOKUP(2,GEfectos!$Q$4:$W$4,GEfectos!Q127:W127),IF(EFECTOS!$N$9=\"GUATEMALA\",LOOKUP(3,GEfectos!$Q$4:$W$4,GEfectos!Q127:W127),IF(EFECTOS!$N$9=\"HONDURAS\",LOOKUP(4,GEfectos!$Q$4:$W$4,GEfectos!Q127:W127),IF(EFECTOS!$N$9=\"NICARAGUA\",LOOKUP(5,GEfectos!$Q$4:$W$4,GEfectos!Q127:W127),IF(EFECTOS!$N$9=\"REPÚBLICA \nDOMINICANA\",LOOKUP(6,$Q$4:$W$4,Q127:W127),IF(EFECTOS!$N$9=\"PANAMÁ\",LOOKUP(7,GEfectos!$Q$4:$W$4,GEfectos!Q127:W127))))))))","v":138.90995409557118},100]
[null,{"$f":"'ITCER GLOBAL'!B128","v":"Marzo"},{"$f":"'ITCER GLOBAL'!C128","v":108.61607608432766},{"$f":"'ITCER GLOBAL'!D128","v":100.88968396803897},{"$f":"'ITCER GLOBAL'!E128","v":81.489171433298736},{"$f":"'ITCER GLOBAL'!F128","v":103.31242279799734},{"$f":"'ITCER GLOBAL'!G128","v":112.91904233590613},{"$f":"'ITCER GLOBAL'!H128","v":95.130139566374396},{"$f":"'ITCER GLOBAL'!I128","v":109.42332764198662},{"$f":"'ITCER GLOBAL'!S128","v":151.19650194532736},{"$f":"'ITCER GLOBAL'!T128","v":98.684604362943034},{"$f":"'ITCER GLOBAL'!U128","v":97.539420130125691},{"$f":"'ITCER GLOBAL'!V128","v":126.26765724477616},{"$f":"'ITCER GLOBAL'!W128","v":122.82083211683386},{"$f":"'ITCER GLOBAL'!X128","v":172.88849371135547},{"$f":"'ITCER GLOBAL'!Y128","v":99.922585389690838},{"$f":"'ITCER GLOBAL'!AA128","v":139.20269208394251},{"$f":"'ITCER GLOBAL'!AB128","v":97.814365633463083},{"$f":"'ITCER GLOBAL'!AC128","v":119.69617363205678},{"$f":"'ITCER GLOBAL'!AD128","v":122.21923929870687},{"$f":"'ITCER GLOBAL'!AE128","v":108.76892823043289},{"$f":"'ITCER GLOBAL'!AF128","v":181.73892574889723},{"$f":"'ITCER GLOBAL'!AG128","v":91.317443494882099},null,{"$f":"IF(EFECTOS!$N$9=\"COSTA RICA\",LOOKUP(1,GEfectos!$C$4:$I$4,GEfectos!C128:I128),IF(EFECTOS!$N$9=\"EL SALVADOR\",LOOKUP(2,GEfectos!$C$4:$I$4,GEfectos!C128:I128),IF(EFECTOS!$N$9=\"GUATEMALA\",LOOKUP(3,GEfectos!$C$4:$I$4,GEfectos!C128:I128),IF(EFECTOS!$N$9=\"HONDURAS\",LOOKUP(4,GEfectos!$C$4:$I$4,GEfectos!C128:I128),IF(EFECTOS!$N$9=\"NICARAGUA\",LOOKUP(5,GEfectos!$C$4:$I$4,GEfectos!C128:I128),IF(EFECTOS!$N$9=\"REPÚBLICA \nDOMINICANA\",LOOKUP(6,$C$4:$I$4,C128:I128),IF(EFECTOS!$N$9=\"PANAMÁ\",LOOKUP(7,GEfectos!$C$4:$I$4,GEfectos!C128:I128))))))))","v":108.61607608432766},{"$f":"IF(EFECTOS!$N$9=\"COSTA RICA\",LOOKUP(1,GEfectos!$J$4:$P$4,GEfectos!J128:P128),IF(EFECTOS!$N$9=\"EL SALVADOR\",LOOKUP(2,GEfectos!$J$4:$P$4,GEfectos!J128:P128),IF(EFECTOS!$N$9=\"GUATEMALA\",LOOKUP(3,GEfectos!$J$4:$P$4,GEfectos!J128:P128),IF(EFECTOS!$N$9=\"HONDURAS\",LOOKUP(4,GEfectos!$J$4:$P$4,GEfectos!J128:P128),IF(EFECTOS!$N$9=\"NICARAGUA\",LOOKUP(5,GEfectos!$J$4:$P$4,GEfectos!J128:P128),IF(EFECTOS!$N$9=\"REPÚBLICA \nDOMINICANA\",LOOKUP(6,$J$4:$P$4,J128:P128),IF(EFECTOS!$N$9=\"PANAMÁ\",LOOKUP(7,GEfectos!$J$4:$P$4,GEfectos!J128:P128))))))))","v":151.19650194532736},{"$f":"IF(EFECTOS!$N$9=\"COSTA RICA\",LOOKUP(1,GEfectos!$Q$4:$W$4,GEfectos!Q128:W128),IF(EFECTOS!$N$9=\"EL SALVADOR\",LOOKUP(2,GEfectos!$Q$4:$W$4,GEfectos!Q128:W128),IF(EFECTOS!$N$9=\"GUATEMALA\",LOOKUP(3,GEfectos!$Q$4:$W$4,GEfectos!Q128:W128),IF(EFECTOS!$N$9=\"HONDURAS\",LOOKUP(4,GEfectos!$Q$4:$W$4,GEfectos!Q128:W128),IF(EFECTOS!$N$9=\"NICARAGUA\",LOOKUP(5,GEfectos!$Q$4:$W$4,GEfectos!Q128:W128),IF(EFECTOS!$N$9=\"REPÚBLICA \nDOMINICANA\",LOOKUP(6,$Q$4:$W$4,Q128:W128),IF(EFECTOS!$N$9=\"PANAMÁ\",LOOKUP(7,GEfectos!$Q$4:$W$4,GEfectos!Q128:W128))))))))","v":139.20269208394251},100]
[null,{"$f":"'ITCER GLOBAL'!B129","v":"Abril"},{"$f":"'ITCER GLOBAL'!C129","v":108.64513316966656},{"$f":"'ITCER GLOBAL'!D129","v":100.98144626972304},{"$f":"'ITCER GLOBAL'!E129","v":81.213151867334787},{"$f":"'ITCER GLOBAL'!F129","v":102.98746318010566},{"$f":"'ITCER GLOBAL'!G129","v":111.77384304540632},{"$f":"'ITCER GLOBAL'!H129","v":95.144791288587058},{"$f":"'ITCER GLOBAL'!I129","v":109.5107106624456},{"$f":"'ITCER GLOBAL'!S129","v":151.84464940314254},{"$f":"'ITCER GLOBAL'!T129","v":98.62836765307533},{"$f":"'ITCER GLOBAL'!U129","v":97.294002683022711},{"$f":"'ITCER GLOBAL'!V129","v":126.26449536808263},{"$f":"'ITCER GLOBAL'!W129","v":122.95024621080415},{"$f":"'ITCER GLOBAL'!X129","v":172.42794807999334},{"$f":"'ITCER GLOBAL'!Y129","v":99.739965242312394},{"$f":"'ITCER GLOBAL'!AA129","v":139.76203532836863},{"$f":"'ITCER GLOBAL'!AB129","v":97.669791131370218},{"$f":"'ITCER GLOBAL'!AC129","v":119.80079635618218},{"$f":"'ITCER GLOBAL'!AD129","v":122.60181139452851},{"$f":"'ITCER GLOBAL'!AE129","v":109.99912221042412},{"$f":"'ITCER GLOBAL'!AF129","v":181.22689192411593},{"$f":"'ITCER GLOBAL'!AG129","v":91.077817538550704},null,{"$f":"IF(EFECTOS!$N$9=\"COSTA RICA\",LOOKUP(1,GEfectos!$C$4:$I$4,GEfectos!C129:I129),IF(EFECTOS!$N$9=\"EL SALVADOR\",LOOKUP(2,GEfectos!$C$4:$I$4,GEfectos!C129:I129),IF(EFECTOS!$N$9=\"GUATEMALA\",LOOKUP(3,GEfectos!$C$4:$I$4,GEfectos!C129:I129),IF(EFECTOS!$N$9=\"HONDURAS\",LOOKUP(4,GEfectos!$C$4:$I$4,GEfectos!C129:I129),IF(EFECTOS!$N$9=\"NICARAGUA\",LOOKUP(5,GEfectos!$C$4:$I$4,GEfectos!C129:I129),IF(EFECTOS!$N$9=\"REPÚBLICA \nDOMINICANA\",LOOKUP(6,$C$4:$I$4,C129:I129),IF(EFECTOS!$N$9=\"PANAMÁ\",LOOKUP(7,GEfectos!$C$4:$I$4,GEfectos!C129:I129))))))))","v":108.64513316966656},{"$f":"IF(EFECTOS!$N$9=\"COSTA RICA\",LOOKUP(1,GEfectos!$J$4:$P$4,GEfectos!J129:P129),IF(EFECTOS!$N$9=\"EL SALVADOR\",LOOKUP(2,GEfectos!$J$4:$P$4,GEfectos!J129:P129),IF(EFECTOS!$N$9=\"GUATEMALA\",LOOKUP(3,GEfectos!$J$4:$P$4,GEfectos!J129:P129),IF(EFECTOS!$N$9=\"HONDURAS\",LOOKUP(4,GEfectos!$J$4:$P$4,GEfectos!J129:P129),IF(EFECTOS!$N$9=\"NICARAGUA\",LOOKUP(5,GEfectos!$J$4:$P$4,GEfectos!J129:P129),IF(EFECTOS!$N$9=\"REPÚBLICA \nDOMINICANA\",LOOKUP(6,$J$4:$P$4,J129:P129),IF(EFECTOS!$N$9=\"PANAMÁ\",LOOKUP(7,GEfectos!$J$4:$P$4,GEfectos!J129:P129))))))))","v":151.84464940314254},{"$f":"IF(EFECTOS!$N$9=\"COSTA RICA\",LOOKUP(1,GEfectos!$Q$4:$W$4,GEfectos!Q129:W129),IF(EFECTOS!$N$9=\"EL SALVADOR\",LOOKUP(2,GEfectos!$Q$4:$W$4,GEfectos!Q129:W129),IF(EFECTOS!$N$9=\"GUATEMALA\",LOOKUP(3,GEfectos!$Q$4:$W$4,GEfectos!Q129:W129),IF(EFECTOS!$N$9=\"HONDURAS\",LOOKUP(4,GEfectos!$Q$4:$W$4,GEfectos!Q129:W129),IF(EFECTOS!$N$9=\"NICARAGUA\",LOOKUP(5,GEfectos!$Q$4:$W$4,GEfectos!Q129:W129),IF(EFECTOS!$N$9=\"REPÚBLICA \nDOMINICANA\",LOOKUP(6,$Q$4:$W$4,Q129:W129),IF(EFECTOS!$N$9=\"PANAMÁ\",LOOKUP(7,GEfectos!$Q$4:$W$4,GEfectos!Q129:W129))))))))","v":139.76203532836863},100]
[null,{"$f":"'ITCER GLOBAL'!B130","v":"Mayo"},{"$f":"'ITCER GLOBAL'!C130","v":107.83013402740413},{"$f":"'ITCER GLOBAL'!D130","v":100.34474125515231},{"$f":"'ITCER GLOBAL'!E130","v":80.746231152833218},{"$f":"'ITCER GLOBAL'!F130","v":102.82537405220349},{"$f":"'ITCER GLOBAL'!G130","v":111.69939255136121},{"$f":"'ITCER GLOBAL'!H130","v":96.951194538904119},{"$f":"'ITCER GLOBAL'!I130","v":109.97846452370132},{"$f":"'ITCER GLOBAL'!S130","v":152.73717360411337},{"$f":"'ITCER GLOBAL'!T130","v":98.642542126989682},{"$f":"'ITCER GLOBAL'!U130","v":97.146329210388274},{"$f":"'ITCER GLOBAL'!V130","v":126.38302375485884},{"$f":"'ITCER GLOBAL'!W130","v":123.61031985073731},{"$f":"'ITCER GLOBAL'!X130","v":175.20605580687493},{"$f":"'ITCER GLOBAL'!Y130","v":99.758076104553624},{"$f":"'ITCER GLOBAL'!AA130","v":141.64609455580987},{"$f":"'ITCER GLOBAL'!AB130","v":98.303648893932206},{"$f":"'ITCER GLOBAL'!AC130","v":120.31066691708942},{"$f":"'ITCER GLOBAL'!AD130","v":122.91034671140156},{"$f":"'ITCER GLOBAL'!AE130","v":110.66337696858939},{"$f":"'ITCER GLOBAL'!AF130","v":180.71572675318515},{"$f":"'ITCER GLOBAL'!AG130","v":90.7069184286119},null,{"$f":"IF(EFECTOS!$N$9=\"COSTA RICA\",LOOKUP(1,GEfectos!$C$4:$I$4,GEfectos!C130:I130),IF(EFECTOS!$N$9=\"EL SALVADOR\",LOOKUP(2,GEfectos!$C$4:$I$4,GEfectos!C130:I130),IF(EFECTOS!$N$9=\"GUATEMALA\",LOOKUP(3,GEfectos!$C$4:$I$4,GEfectos!C130:I130),IF(EFECTOS!$N$9=\"HONDURAS\",LOOKUP(4,GEfectos!$C$4:$I$4,GEfectos!C130:I130),IF(EFECTOS!$N$9=\"NICARAGUA\",LOOKUP(5,GEfectos!$C$4:$I$4,GEfectos!C130:I130),IF(EFECTOS!$N$9=\"REPÚBLICA \nDOMINICANA\",LOOKUP(6,$C$4:$I$4,C130:I130),IF(EFECTOS!$N$9=\"PANAMÁ\",LOOKUP(7,GEfectos!$C$4:$I$4,GEfectos!C130:I130))))))))","v":107.83013402740413},{"$f":"IF(EFECTOS!$N$9=\"COSTA RICA\",LOOKUP(1,GEfectos!$J$4:$P$4,GEfectos!J130:P130),IF(EFECTOS!$N$9=\"EL SALVADOR\",LOOKUP(2,GEfectos!$J$4:$P$4,GEfectos!J130:P130),IF(EFECTOS!$N$9=\"GUATEMALA\",LOOKUP(3,GEfectos!$J$4:$P$4,GEfectos!J130:P130),IF(EFECTOS!$N$9=\"HONDURAS\",LOOKUP(4,GEfectos!$J$4:$P$4,GEfectos!J130:P130),IF(EFECTOS!$N$9=\"NICARAGUA\",LOOKUP(5,GEfectos!$J$4:$P$4,GEfectos!J130:P130),IF(EFECTOS!$N$9=\"REPÚBLICA \nDOMINICANA\",LOOKUP(6,$J$4:$P$4,J130:P130),IF(EFECTOS!$N$9=\"PANAMÁ\",LOOKUP(7,GEfectos!$J$4:$P$4,GEfectos!J130:P130))))))))","v":152.73717360411337},{"$f":"IF(EFECTOS!$N$9=\"COSTA RICA\",LOOKUP(1,GEfectos!$Q$4:$W$4,GEfectos!Q130:W130),IF(EFECTOS!$N$9=\"EL SALVADOR\",LOOKUP(2,GEfectos!$Q$4:$W$4,GEfectos!Q130:W130),IF(EFECTOS!$N$9=\"GUATEMALA\",LOOKUP(3,GEfectos!$Q$4:$W$4,GEfectos!Q130:W130),IF(EFECTOS!$N$9=\"HONDURAS\",LOOKUP(4,GEfectos!$Q$4:$W$4,GEfectos!Q130:W130),IF(EFECTOS!$N$9=\"NICARAGUA\",LOOKUP(5,GEfectos!$Q$4:$W$4,GEfectos!Q130:W130),IF(EFECTOS!$N$9=\"REPÚBLICA \nDOMINICANA\",LOOKUP(6,$Q$4:$W$4,Q130:W130),IF(EFECTOS!$N$9=\"PANAMÁ\",LOOKUP(7,GEfectos!$Q$4:$W$4,GEfectos!Q130:W130))))))))","v":141.64609455580987},100]
[null,{"$f":"'ITCER GLOBAL'!B131","v":"Junio"},{"$f":"'ITCER GLOBAL'!C131","v":107.54482363714098},{"$f":"'ITCER GLOBAL'!D131","v":100.24184148350561},{"$f":"'ITCER GLOBAL'!E131","v":80.27367649968123},{"$f":"'ITCER GLOBAL'!F131","v":101.71639567641051},{"$f":"'ITCER GLOBAL'!G131","v":110.76517048545169},{"$f":"'ITCER GLOBAL'!H131","v":97.350852474787544},{"$f":"'ITCER GLOBAL'!I131","v":109.33638974252905},{"$f":"'ITCER GLOBAL'!S131","v":152.96346509006455},{"$f":"'ITCER GLOBAL'!T131","v":98.432392021102189},{"$f":"'ITCER GLOBAL'!U131","v":97.174813891597552},{"$f":"'ITCER GLOBAL'!V131","v":125.76932074276661},{"$f":"'ITCER GLOBAL'!W131","v":123.35361648841344},{"$f":"'ITCER GLOBAL'!X131","v":175.94358038982102},{"$f":"'ITCER GLOBAL'!Y131","v":99.223546560448554},{"$f":"'ITCER GLOBAL'!AA131","v":142.23228967873641},{"$f":"'ITCER GLOBAL'!AB131","v":98.194915979570112},{"$f":"'ITCER GLOBAL'!AC131","v":121.05439557385094},{"$f":"'ITCER GLOBAL'!AD131","v":123.64704815423804},{"$f":"'ITCER GLOBAL'!AE131","v":111.36498589564773},{"$f":"'ITCER GLOBAL'!AF131","v":180.73142239343807},{"$f":"'ITCER GLOBAL'!AG131","v":90.750706872712058},null,{"$f":"IF(EFECTOS!$N$9=\"COSTA RICA\",LOOKUP(1,GEfectos!$C$4:$I$4,GEfectos!C131:I131),IF(EFECTOS!$N$9=\"EL SALVADOR\",LOOKUP(2,GEfectos!$C$4:$I$4,GEfectos!C131:I131),IF(EFECTOS!$N$9=\"GUATEMALA\",LOOKUP(3,GEfectos!$C$4:$I$4,GEfectos!C131:I131),IF(EFECTOS!$N$9=\"HONDURAS\",LOOKUP(4,GEfectos!$C$4:$I$4,GEfectos!C131:I131),IF(EFECTOS!$N$9=\"NICARAGUA\",LOOKUP(5,GEfectos!$C$4:$I$4,GEfectos!C131:I131),IF(EFECTOS!$N$9=\"REPÚBLICA \nDOMINICANA\",LOOKUP(6,$C$4:$I$4,C131:I131),IF(EFECTOS!$N$9=\"PANAMÁ\",LOOKUP(7,GEfectos!$C$4:$I$4,GEfectos!C131:I131))))))))","v":107.54482363714098},{"$f":"IF(EFECTOS!$N$9=\"COSTA RICA\",LOOKUP(1,GEfectos!$J$4:$P$4,GEfectos!J131:P131),IF(EFECTOS!$N$9=\"EL SALVADOR\",LOOKUP(2,GEfectos!$J$4:$P$4,GEfectos!J131:P131),IF(EFECTOS!$N$9=\"GUATEMALA\",LOOKUP(3,GEfectos!$J$4:$P$4,GEfectos!J131:P131),IF(EFECTOS!$N$9=\"HONDURAS\",LOOKUP(4,GEfectos!$J$4:$P$4,GEfectos!J131:P131),IF(EFECTOS!$N$9=\"NICARAGUA\",LOOKUP(5,GEfectos!$J$4:$P$4,GEfectos!J131:P131),IF(EFECTOS!$N$9=\"REPÚBLICA \nDOMINICANA\",LOOKUP(6,$J$4:$P$4,J131:P131),IF(EFECTOS!$N$9=\"PANAMÁ\",LOOKUP(7,GEfectos!$J$4:$P$4,GEfectos!J131:P131))))))))","v":152.96346509006455},{"$f":"IF(EFECTOS!$N$9=\"COSTA RICA\",LOOKUP(1,GEfectos!$Q$4:$W$4,GEfectos!Q131:W131),IF(EFECTOS!$N$9=\"EL SALVADOR\",LOOKUP(2,GEfectos!$Q$4:$W$4,GEfectos!Q131:W131),IF(EFECTOS!$N$9=\"GUATEMALA\",LOOKUP(3,GEfectos!$Q$4:$W$4,GEfectos!Q131:W131),IF(EFECTOS!$N$9=\"HONDURAS\",LOOKUP(4,GEfectos!$Q$4:$W$4,GEfectos!Q131:W131),IF(EFECTOS!$N$9=\"NICARAGUA\",LOOKUP(5,GEfectos!$Q$4:$W$4,GEfectos!Q131:W131),IF(EFECTOS!$N$9=\"REPÚBLICA \nDOMINICANA\",LOOKUP(6,$Q$4:$W$4,Q131:W131),IF(EFECTOS!$N$9=\"PANAMÁ\",LOOKUP(7,GEfectos!$Q$4:$W$4,GEfectos!Q131:W131))))))))","v":142.23228967873641},100]
[null,{"$f":"'ITCER GLOBAL'!B132","v":"Julio"},{"$f":"'ITCER GLOBAL'!C132","v":107.15912858345703},{"$f":"'ITCER GLOBAL'!D132","v":100.57142089521878},{"$f":"'ITCER GLOBAL'!E132","v":79.488803075523393},{"$f":"'ITCER GLOBAL'!F132","v":101.18574207138023},{"$f":"'ITCER GLOBAL'!G132","v":111.1504346159833},{"$f":"'ITCER GLOBAL'!H132","v":97.153295271121962},{"$f":"'ITCER GLOBAL'!I132","v":109.08348131004232},{"$f":"'ITCER GLOBAL'!S132","v":153.8354146847087},{"$f":"'ITCER GLOBAL'!T132","v":98.420927103199602},{"$f":"'ITCER GLOBAL'!U132","v":96.731719898153827},{"$f":"'ITCER GLOBAL'!V132","v":125.71245139531644},{"$f":"'ITCER GLOBAL'!W132","v":124.24759230006627},{"$f":"'ITCER GLOBAL'!X132","v":175.95213222681778},{"$f":"'ITCER GLOBAL'!Y132","v":99.002951626904121},{"$f":"'ITCER GLOBAL'!AA132","v":143.55791869369256},{"$f":"'ITCER GLOBAL'!AB132","v":97.861724759502309},{"$f":"'ITCER GLOBAL'!AC132","v":121.69225872761939},{"$f":"'ITCER GLOBAL'!AD132","v":124.23929381931511},{"$f":"'ITCER GLOBAL'!AE132","v":111.78327167980287},{"$f":"'ITCER GLOBAL'!AF132","v":181.10773467415072},{"$f":"'ITCER GLOBAL'!AG132","v":90.758885248182693},null,{"$f":"IF(EFECTOS!$N$9=\"COSTA RICA\",LOOKUP(1,GEfectos!$C$4:$I$4,GEfectos!C132:I132),IF(EFECTOS!$N$9=\"EL SALVADOR\",LOOKUP(2,GEfectos!$C$4:$I$4,GEfectos!C132:I132),IF(EFECTOS!$N$9=\"GUATEMALA\",LOOKUP(3,GEfectos!$C$4:$I$4,GEfectos!C132:I132),IF(EFECTOS!$N$9=\"HONDURAS\",LOOKUP(4,GEfectos!$C$4:$I$4,GEfectos!C132:I132),IF(EFECTOS!$N$9=\"NICARAGUA\",LOOKUP(5,GEfectos!$C$4:$I$4,GEfectos!C132:I132),IF(EFECTOS!$N$9=\"REPÚBLICA \nDOMINICANA\",LOOKUP(6,$C$4:$I$4,C132:I132),IF(EFECTOS!$N$9=\"PANAMÁ\",LOOKUP(7,GEfectos!$C$4:$I$4,GEfectos!C132:I132))))))))","v":107.15912858345703},{"$f":"IF(EFECTOS!$N$9=\"COSTA RICA\",LOOKUP(1,GEfectos!$J$4:$P$4,GEfectos!J132:P132),IF(EFECTOS!$N$9=\"EL SALVADOR\",LOOKUP(2,GEfectos!$J$4:$P$4,GEfectos!J132:P132),IF(EFECTOS!$N$9=\"GUATEMALA\",LOOKUP(3,GEfectos!$J$4:$P$4,GEfectos!J132:P132),IF(EFECTOS!$N$9=\"HONDURAS\",LOOKUP(4,GEfectos!$J$4:$P$4,GEfectos!J132:P132),IF(EFECTOS!$N$9=\"NICARAGUA\",LOOKUP(5,GEfectos!$J$4:$P$4,GEfectos!J132:P132),IF(EFECTOS!$N$9=\"REPÚBLICA \nDOMINICANA\",LOOKUP(6,$J$4:$P$4,J132:P132),IF(EFECTOS!$N$9=\"PANAMÁ\",LOOKUP(7,GEfectos!$J$4:$P$4,GEfectos!J132:P132))))))))","v":153.8354146847087},{"$f":"IF(EFECTOS!$N$9=\"COSTA RICA\",LOOKUP(1,GEfectos!$Q$4:$W$4,GEfectos!Q132:W132),IF(EFECTOS!$N$9=\"EL SALVADOR\",LOOKUP(2,GEfectos!$Q$4:$W$4,GEfectos!Q132:W132),IF(EFECTOS!$N$9=\"GUATEMALA\",LOOKUP(3,GEfectos!$Q$4:$W$4,GEfectos!Q132:W132),IF(EFECTOS!$N$9=\"HONDURAS\",LOOKUP(4,GEfectos!$Q$4:$W$4,GEfectos!Q132:W132),IF(EFECTOS!$N$9=\"NICARAGUA\",LOOKUP(5,GEfectos!$Q$4:$W$4,GEfectos!Q132:W132),IF(EFECTOS!$N$9=\"REPÚBLICA \nDOMINICANA\",LOOKUP(6,$Q$4:$W$4,Q132:W132),IF(EFECTOS!$N$9=\"PANAMÁ\",LOOKUP(7,GEfectos!$Q$4:$W$4,GEfectos!Q132:W132))))))))","v":143.55791869369256},100]
[null,{"$f":"'ITCER GLOBAL'!B133","v":"Agosto"},{"$f":"'ITCER GLOBAL'!C133","v":107.38285365710988},{"$f":"'ITCER GLOBAL'!D133","v":100.92303920635972},{"$f":"'ITCER GLOBAL'!E133","v":79.74970606358184},{"$f":"'ITCER GLOBAL'!F133","v":101.1266682905766},{"$f":"'ITCER GLOBAL'!G133","v":111.77908678701624},{"$f":"'ITCER GLOBAL'!H133","v":96.773612616972301},{"$f":"'ITCER GLOBAL'!I133","v":109.99963760139234},{"$f":"'ITCER GLOBAL'!S133","v":155.46606630757233},{"$f":"'ITCER GLOBAL'!T133","v":98.565286281519832},{"$f":"'ITCER GLOBAL'!U133","v":96.990826028723546},{"$f":"'ITCER GLOBAL'!V133","v":126.1378247392333},{"$f":"'ITCER GLOBAL'!W133","v":125.20244985432529},{"$f":"'ITCER GLOBAL'!X133","v":176.82886602008514},{"$f":"'ITCER GLOBAL'!Y133","v":99.407939836659338},{"$f":"'ITCER GLOBAL'!AA133","v":144.77736529893275},{"$f":"'ITCER GLOBAL'!AB133","v":97.663811015422425},{"$f":"'ITCER GLOBAL'!AC133","v":121.61903888573072},{"$f":"'ITCER GLOBAL'!AD133","v":124.7325031778856},{"$f":"'ITCER GLOBAL'!AE133","v":112.0088322897877},{"$f":"'ITCER GLOBAL'!AF133","v":182.72425844012835},{"$f":"'ITCER GLOBAL'!AG133","v":90.371152127687623},null,{"$f":"IF(EFECTOS!$N$9=\"COSTA RICA\",LOOKUP(1,GEfectos!$C$4:$I$4,GEfectos!C133:I133),IF(EFECTOS!$N$9=\"EL SALVADOR\",LOOKUP(2,GEfectos!$C$4:$I$4,GEfectos!C133:I133),IF(EFECTOS!$N$9=\"GUATEMALA\",LOOKUP(3,GEfectos!$C$4:$I$4,GEfectos!C133:I133),IF(EFECTOS!$N$9=\"HONDURAS\",LOOKUP(4,GEfectos!$C$4:$I$4,GEfectos!C133:I133),IF(EFECTOS!$N$9=\"NICARAGUA\",LOOKUP(5,GEfectos!$C$4:$I$4,GEfectos!C133:I133),IF(EFECTOS!$N$9=\"REPÚBLICA \nDOMINICANA\",LOOKUP(6,$C$4:$I$4,C133:I133),IF(EFECTOS!$N$9=\"PANAMÁ\",LOOKUP(7,GEfectos!$C$4:$I$4,GEfectos!C133:I133))))))))","v":107.38285365710988},{"$f":"IF(EFECTOS!$N$9=\"COSTA RICA\",LOOKUP(1,GEfectos!$J$4:$P$4,GEfectos!J133:P133),IF(EFECTOS!$N$9=\"EL SALVADOR\",LOOKUP(2,GEfectos!$J$4:$P$4,GEfectos!J133:P133),IF(EFECTOS!$N$9=\"GUATEMALA\",LOOKUP(3,GEfectos!$J$4:$P$4,GEfectos!J133:P133),IF(EFECTOS!$N$9=\"HONDURAS\",LOOKUP(4,GEfectos!$J$4:$P$4,GEfectos!J133:P133),IF(EFECTOS!$N$9=\"NICARAGUA\",LOOKUP(5,GEfectos!$J$4:$P$4,GEfectos!J133:P133),IF(EFECTOS!$N$9=\"REPÚBLICA \nDOMINICANA\",LOOKUP(6,$J$4:$P$4,J133:P133),IF(EFECTOS!$N$9=\"PANAMÁ\",LOOKUP(7,GEfectos!$J$4:$P$4,GEfectos!J133:P133))))))))","v":155.46606630757233},{"$f":"IF(EFECTOS!$N$9=\"COSTA RICA\",LOOKUP(1,GEfectos!$Q$4:$W$4,GEfectos!Q133:W133),IF(EFECTOS!$N$9=\"EL SALVADOR\",LOOKUP(2,GEfectos!$Q$4:$W$4,GEfectos!Q133:W133),IF(EFECTOS!$N$9=\"GUATEMALA\",LOOKUP(3,GEfectos!$Q$4:$W$4,GEfectos!Q133:W133),IF(EFECTOS!$N$9=\"HONDURAS\",LOOKUP(4,GEfectos!$Q$4:$W$4,GEfectos!Q133:W133),IF(EFECTOS!$N$9=\"NICARAGUA\",LOOKUP(5,GEfectos!$Q$4:$W$4,GEfectos!Q133:W133),IF(EFECTOS!$N$9=\"REPÚBLICA \nDOMINICANA\",LOOKUP(6,$Q$4:$W$4,Q133:W133),IF(EFECTOS!$N$9=\"PANAMÁ\",LOOKUP(7,GEfectos!$Q$4:$W$4,GEfectos!Q133:W133))))))))","v":144.77736529893275},100]
[null,{"$f":"'ITCER GLOBAL'!B134","v":"Septiembre"},{"$f":"'ITCER GLOBAL'!C134","v":108.81787065708016},{"$f":"'ITCER GLOBAL'!D134","v":101.38773868353056},{"$f":"'ITCER GLOBAL'!E134","v":80.014652432338579},{"$f":"'ITCER GLOBAL'!F134","v":101.56764137165446},{"$f":"'ITCER GLOBAL'!G134","v":112.11160876875815},{"$f":"'ITCER GLOBAL'!H134","v":99.360689284213549},{"$f":"'ITCER GLOBAL'!I134","v":109.87006973052499},{"$f":"'ITCER GLOBAL'!S134","v":156.35848986629017},{"$f":"'ITCER GLOBAL'!T134","v":98.465144673510636},{"$f":"'ITCER GLOBAL'!U134","v":97.289718716056498},{"$f":"'ITCER GLOBAL'!V134","v":126.06301425600077},{"$f":"'ITCER GLOBAL'!W134","v":125.50514163319188},{"$f":"'ITCER GLOBAL'!X134","v":185.54253826955249},{"$f":"'ITCER GLOBAL'!Y134","v":99.318919908698419},{"$f":"'ITCER GLOBAL'!AA134","v":143.68824616962564},{"$f":"'ITCER GLOBAL'!AB134","v":97.117408822833653},{"$f":"'ITCER GLOBAL'!AC134","v":121.58987855171395},{"$f":"'ITCER GLOBAL'!AD134","v":124.11730011009439},{"$f":"'ITCER GLOBAL'!AE134","v":111.94660661061361},{"$f":"'ITCER GLOBAL'!AF134","v":186.7363638539407},{"$f":"'ITCER GLOBAL'!AG134","v":90.396702352419496},null,{"$f":"IF(EFECTOS!$N$9=\"COSTA RICA\",LOOKUP(1,GEfectos!$C$4:$I$4,GEfectos!C134:I134),IF(EFECTOS!$N$9=\"EL SALVADOR\",LOOKUP(2,GEfectos!$C$4:$I$4,GEfectos!C134:I134),IF(EFECTOS!$N$9=\"GUATEMALA\",LOOKUP(3,GEfectos!$C$4:$I$4,GEfectos!C134:I134),IF(EFECTOS!$N$9=\"HONDURAS\",LOOKUP(4,GEfectos!$C$4:$I$4,GEfectos!C134:I134),IF(EFECTOS!$N$9=\"NICARAGUA\",LOOKUP(5,GEfectos!$C$4:$I$4,GEfectos!C134:I134),IF(EFECTOS!$N$9=\"REPÚBLICA \nDOMINICANA\",LOOKUP(6,$C$4:$I$4,C134:I134),IF(EFECTOS!$N$9=\"PANAMÁ\",LOOKUP(7,GEfectos!$C$4:$I$4,GEfectos!C134:I134))))))))","v":108.81787065708016},{"$f":"IF(EFECTOS!$N$9=\"COSTA RICA\",LOOKUP(1,GEfectos!$J$4:$P$4,GEfectos!J134:P134),IF(EFECTOS!$N$9=\"EL SALVADOR\",LOOKUP(2,GEfectos!$J$4:$P$4,GEfectos!J134:P134),IF(EFECTOS!$N$9=\"GUATEMALA\",LOOKUP(3,GEfectos!$J$4:$P$4,GEfectos!J134:P134),IF(EFECTOS!$N$9=\"HONDURAS\",LOOKUP(4,GEfectos!$J$4:$P$4,GEfectos!J134:P134),IF(EFECTOS!$N$9=\"NICARAGUA\",LOOKUP(5,GEfectos!$J$4:$P$4,GEfectos!J134:P134),IF(EFECTOS!$N$9=\"REPÚBLICA \nDOMINICANA\",LOOKUP(6,$J$4:$P$4,J134:P134),IF(EFECTOS!$N$9=\"PANAMÁ\",LOOKUP(7,GEfectos!$J$4:$P$4,GEfectos!J134:P134))))))))","v":156.35848986629017},{"$f":"IF(EFECTOS!$N$9=\"COSTA RICA\",LOOKUP(1,GEfectos!$Q$4:$W$4,GEfectos!Q134:W134),IF(EFECTOS!$N$9=\"EL SALVADOR\",LOOKUP(2,GEfectos!$Q$4:$W$4,GEfectos!Q134:W134),IF(EFECTOS!$N$9=\"GUATEMALA\",LOOKUP(3,GEfectos!$Q$4:$W$4,GEfectos!Q134:W134),IF(EFECTOS!$N$9=\"HONDURAS\",LOOKUP(4,GEfectos!$Q$4:$W$4,GEfectos!Q134:W134),IF(EFECTOS!$N$9=\"NICARAGUA\",LOOKUP(5,GEfectos!$Q$4:$W$4,GEfectos!Q134:W134),IF(EFECTOS!$N$9=\"REPÚBLICA \nDOMINICANA\",LOOKUP(6,$Q$4:$W$4,Q134:W134),IF(EFECTOS!$N$9=\"PANAMÁ\",LOOKUP(7,GEfectos!$Q$4:$W$4,GEfectos!Q134:W134))))))))","v":143.68824616962564},100]
[null,{"$f":"'ITCER GLOBAL'!B135","v":"Octubre"},{"$f":"'ITCER GLOBAL'!C135","v":108.09588390265901},{"$f":"'ITCER GLOBAL'!D135","v":99.641542865913848},{"$f":"'ITCER GLOBAL'!E135","v":79.230693484614221},{"$f":"'ITCER GLOBAL'!F135","v":101.65459814310755},{"$f":"'ITCER GLOBAL'!G135","v":111.62641774877243},{"$f":"'ITCER GLOBAL'!H135","v":104.71008763571487},{"$f":"'ITCER GLOBAL'!I135","v":109.0823044279319},{"$f":"'ITCER GLOBAL'!S135","v":156.72508667943757},{"$f":"'ITCER GLOBAL'!T135","v":98.199160098915499},{"$f":"'ITCER GLOBAL'!U135","v":97.642129639583558},{"$f":"'ITCER GLOBAL'!V135","v":125.59850457690902},{"$f":"'ITCER GLOBAL'!W135","v":125.36860433795893},{"$f":"'ITCER GLOBAL'!X135","v":197.23522343556391},{"$f":"'ITCER GLOBAL'!Y135","v":98.819013910052675},{"$f":"'ITCER GLOBAL'!AA135","v":144.98709943532117},{"$f":"'ITCER GLOBAL'!AB135","v":98.552428309004256},{"$f":"'ITCER GLOBAL'!AC135","v":123.23775716862133},{"$f":"'ITCER GLOBAL'!AD135","v":123.55417941851844},{"$f":"'ITCER GLOBAL'!AE135","v":112.31087305884418},{"$f":"'ITCER GLOBAL'!AF135","v":188.36315381736938},{"$f":"'ITCER GLOBAL'!AG135","v":90.591241565986593},null,{"$f":"IF(EFECTOS!$N$9=\"COSTA RICA\",LOOKUP(1,GEfectos!$C$4:$I$4,GEfectos!C135:I135),IF(EFECTOS!$N$9=\"EL SALVADOR\",LOOKUP(2,GEfectos!$C$4:$I$4,GEfectos!C135:I135),IF(EFECTOS!$N$9=\"GUATEMALA\",LOOKUP(3,GEfectos!$C$4:$I$4,GEfectos!C135:I135),IF(EFECTOS!$N$9=\"HONDURAS\",LOOKUP(4,GEfectos!$C$4:$I$4,GEfectos!C135:I135),IF(EFECTOS!$N$9=\"NICARAGUA\",LOOKUP(5,GEfectos!$C$4:$I$4,GEfectos!C135:I135),IF(EFECTOS!$N$9=\"REPÚBLICA \nDOMINICANA\",LOOKUP(6,$C$4:$I$4,C135:I135),IF(EFECTOS!$N$9=\"PANAMÁ\",LOOKUP(7,GEfectos!$C$4:$I$4,GEfectos!C135:I135))))))))","v":108.09588390265901},{"$f":"IF(EFECTOS!$N$9=\"COSTA RICA\",LOOKUP(1,GEfectos!$J$4:$P$4,GEfectos!J135:P135),IF(EFECTOS!$N$9=\"EL SALVADOR\",LOOKUP(2,GEfectos!$J$4:$P$4,GEfectos!J135:P135),IF(EFECTOS!$N$9=\"GUATEMALA\",LOOKUP(3,GEfectos!$J$4:$P$4,GEfectos!J135:P135),IF(EFECTOS!$N$9=\"HONDURAS\",LOOKUP(4,GEfectos!$J$4:$P$4,GEfectos!J135:P135),IF(EFECTOS!$N$9=\"NICARAGUA\",LOOKUP(5,GEfectos!$J$4:$P$4,GEfectos!J135:P135),IF(EFECTOS!$N$9=\"REPÚBLICA \nDOMINICANA\",LOOKUP(6,$J$4:$P$4,J135:P135),IF(EFECTOS!$N$9=\"PANAMÁ\",LOOKUP(7,GEfectos!$J$4:$P$4,GEfectos!J135:P135))))))))","v":156.72508667943757},{"$f":"IF(EFECTOS!$N$9=\"COSTA RICA\",LOOKUP(1,GEfectos!$Q$4:$W$4,GEfectos!Q135:W135),IF(EFECTOS!$N$9=\"EL SALVADOR\",LOOKUP(2,GEfectos!$Q$4:$W$4,GEfectos!Q135:W135),IF(EFECTOS!$N$9=\"GUATEMALA\",LOOKUP(3,GEfectos!$Q$4:$W$4,GEfectos!Q135:W135),IF(EFECTOS!$N$9=\"HONDURAS\",LOOKUP(4,GEfectos!$Q$4:$W$4,GEfectos!Q135:W135),IF(EFECTOS!$N$9=\"NICARAGUA\",LOOKUP(5,GEfectos!$Q$4:$W$4,GEfectos!Q135:W135),IF(EFECTOS!$N$9=\"REPÚBLICA \nDOMINICANA\",LOOKUP(6,$Q$4:$W$4,Q135:W135),IF(EFECTOS!$N$9=\"PANAMÁ\",LOOKUP(7,GEfectos!$Q$4:$W$4,GEfectos!Q135:W135))))))))","v":144.98709943532117},100]
[null,{"$f":"'ITCER GLOBAL'!B136","v":"Noviembre"},{"$f":"'ITCER GLOBAL'!C136","v":106.26426495988383},{"$f":"'ITCER GLOBAL'!D136","v":100.49649566554457},{"$f":"'ITCER GLOBAL'!E136","v":78.08508139211196},{"$f":"'ITCER GLOBAL'!F136","v":100.88520828178238},{"$f":"'ITCER GLOBAL'!G136","v":112.06108247750238},{"$f":"'ITCER GLOBAL'!H136","v":107.6299127239819},{"$f":"'ITCER GLOBAL'!I136","v":109.03135036595792},{"$f":"'ITCER GLOBAL'!S136","v":157.37003416257542},{"$f":"'ITCER GLOBAL'!T136","v":98.199444754137332},{"$f":"'ITCER GLOBAL'!U136","v":96.726162685395934},{"$f":"'ITCER GLOBAL'!V136","v":125.42256476268466},{"$f":"'ITCER GLOBAL'!W136","v":125.7456785225358},{"$f":"'ITCER GLOBAL'!X136","v":202.19521638577524},{"$f":"'ITCER GLOBAL'!Y136","v":98.541032105625902},{"$f":"'ITCER GLOBAL'!AA136","v":148.09309058128309},{"$f":"'ITCER GLOBAL'!AB136","v":97.714297502420493},{"$f":"'ITCER GLOBAL'!AC136","v":123.87278204869374},{"$f":"'ITCER GLOBAL'!AD136","v":124.32205563016436},{"$f":"'ITCER GLOBAL'!AE136","v":112.21172930199097},{"$f":"'ITCER GLOBAL'!AF136","v":187.86154449860709},{"$f":"'ITCER GLOBAL'!AG136","v":90.378622088856261},null,{"$f":"IF(EFECTOS!$N$9=\"COSTA RICA\",LOOKUP(1,GEfectos!$C$4:$I$4,GEfectos!C136:I136),IF(EFECTOS!$N$9=\"EL SALVADOR\",LOOKUP(2,GEfectos!$C$4:$I$4,GEfectos!C136:I136),IF(EFECTOS!$N$9=\"GUATEMALA\",LOOKUP(3,GEfectos!$C$4:$I$4,GEfectos!C136:I136),IF(EFECTOS!$N$9=\"HONDURAS\",LOOKUP(4,GEfectos!$C$4:$I$4,GEfectos!C136:I136),IF(EFECTOS!$N$9=\"NICARAGUA\",LOOKUP(5,GEfectos!$C$4:$I$4,GEfectos!C136:I136),IF(EFECTOS!$N$9=\"REPÚBLICA \nDOMINICANA\",LOOKUP(6,$C$4:$I$4,C136:I136),IF(EFECTOS!$N$9=\"PANAMÁ\",LOOKUP(7,GEfectos!$C$4:$I$4,GEfectos!C136:I136))))))))","v":106.26426495988383},{"$f":"IF(EFECTOS!$N$9=\"COSTA RICA\",LOOKUP(1,GEfectos!$J$4:$P$4,GEfectos!J136:P136),IF(EFECTOS!$N$9=\"EL SALVADOR\",LOOKUP(2,GEfectos!$J$4:$P$4,GEfectos!J136:P136),IF(EFECTOS!$N$9=\"GUATEMALA\",LOOKUP(3,GEfectos!$J$4:$P$4,GEfectos!J136:P136),IF(EFECTOS!$N$9=\"HONDURAS\",LOOKUP(4,GEfectos!$J$4:$P$4,GEfectos!J136:P136),IF(EFECTOS!$N$9=\"NICARAGUA\",LOOKUP(5,GEfectos!$J$4:$P$4,GEfectos!J136:P136),IF(EFECTOS!$N$9=\"REPÚBLICA \nDOMINICANA\",LOOKUP(6,$J$4:$P$4,J136:P136),IF(EFECTOS!$N$9=\"PANAMÁ\",LOOKUP(7,GEfectos!$J$4:$P$4,GEfectos!J136:P136))))))))","v":157.37003416257542},{"$f":"IF(EFECTOS!$N$9=\"COSTA RICA\",LOOKUP(1,GEfectos!$Q$4:$W$4,GEfectos!Q136:W136),IF(EFECTOS!$N$9=\"EL SALVADOR\",LOOKUP(2,GEfectos!$Q$4:$W$4,GEfectos!Q136:W136),IF(EFECTOS!$N$9=\"GUATEMALA\",LOOKUP(3,GEfectos!$Q$4:$W$4,GEfectos!Q136:W136),IF(EFECTOS!$N$9=\"HONDURAS\",LOOKUP(4,GEfectos!$Q$4:$W$4,GEfectos!Q136:W136),IF(EFECTOS!$N$9=\"NICARAGUA\",LOOKUP(5,GEfectos!$Q$4:$W$4,GEfectos!Q136:W136),IF(EFECTOS!$N$9=\"REPÚBLICA \nDOMINICANA\",LOOKUP(6,$Q$4:$W$4,Q136:W136),IF(EFECTOS!$N$9=\"PANAMÁ\",LOOKUP(7,GEfectos!$Q$4:$W$4,GEfectos!Q136:W136))))))))","v":148.09309058128309},100]
[null,{"$f":"'ITCER GLOBAL'!B137","v":"Diciembre"},{"$f":"'ITCER GLOBAL'!C137","v":105.87055554144159},{"$f":"'ITCER GLOBAL'!D137","v":100.49313939933813},{"$f":"'ITCER GLOBAL'!E137","v":78.194162194598078},{"$f":"'ITCER GLOBAL'!F137","v":100.44920268719774},{"$f":"'ITCER GLOBAL'!G137","v":111.94506257669697},{"$f":"'ITCER GLOBAL'!H137","v":106.00374137664517},{"$f":"'ITCER GLOBAL'!I137","v":108.6010749491185},{"$f":"'ITCER GLOBAL'!S137","v":158.5091462314719},{"$f":"'ITCER GLOBAL'!T137","v":98.198495162846498},{"$f":"'ITCER GLOBAL'!U137","v":96.855114417001275},{"$f":"'ITCER GLOBAL'!V137","v":125.48287124176976},{"$f":"'ITCER GLOBAL'!W137","v":125.93255898006419},{"$f":"'ITCER GLOBAL'!X137","v":201.4774999341665},{"$f":"'ITCER GLOBAL'!Y137","v":98.545630321207483},{"$f":"'ITCER GLOBAL'!AA137","v":149.71976431107481},{"$f":"'ITCER GLOBAL'!AB137","v":97.716616029505047},{"$f":"'ITCER GLOBAL'!AC137","v":123.86489182653122},{"$f":"'ITCER GLOBAL'!AD137","v":124.92171952078874},{"$f":"'ITCER GLOBAL'!AE137","v":112.49496501356096},{"$f":"'ITCER GLOBAL'!AF137","v":190.0664045604679},{"$f":"'ITCER GLOBAL'!AG137","v":90.740934532533714},null,{"$f":"IF(EFECTOS!$N$9=\"COSTA RICA\",LOOKUP(1,GEfectos!$C$4:$I$4,GEfectos!C137:I137),IF(EFECTOS!$N$9=\"EL SALVADOR\",LOOKUP(2,GEfectos!$C$4:$I$4,GEfectos!C137:I137),IF(EFECTOS!$N$9=\"GUATEMALA\",LOOKUP(3,GEfectos!$C$4:$I$4,GEfectos!C137:I137),IF(EFECTOS!$N$9=\"HONDURAS\",LOOKUP(4,GEfectos!$C$4:$I$4,GEfectos!C137:I137),IF(EFECTOS!$N$9=\"NICARAGUA\",LOOKUP(5,GEfectos!$C$4:$I$4,GEfectos!C137:I137),IF(EFECTOS!$N$9=\"REPÚBLICA \nDOMINICANA\",LOOKUP(6,$C$4:$I$4,C137:I137),IF(EFECTOS!$N$9=\"PANAMÁ\",LOOKUP(7,GEfectos!$C$4:$I$4,GEfectos!C137:I137))))))))","v":105.87055554144159},{"$f":"IF(EFECTOS!$N$9=\"COSTA RICA\",LOOKUP(1,GEfectos!$J$4:$P$4,GEfectos!J137:P137),IF(EFECTOS!$N$9=\"EL SALVADOR\",LOOKUP(2,GEfectos!$J$4:$P$4,GEfectos!J137:P137),IF(EFECTOS!$N$9=\"GUATEMALA\",LOOKUP(3,GEfectos!$J$4:$P$4,GEfectos!J137:P137),IF(EFECTOS!$N$9=\"HONDURAS\",LOOKUP(4,GEfectos!$J$4:$P$4,GEfectos!J137:P137),IF(EFECTOS!$N$9=\"NICARAGUA\",LOOKUP(5,GEfectos!$J$4:$P$4,GEfectos!J137:P137),IF(EFECTOS!$N$9=\"REPÚBLICA \nDOMINICANA\",LOOKUP(6,$J$4:$P$4,J137:P137),IF(EFECTOS!$N$9=\"PANAMÁ\",LOOKUP(7,GEfectos!$J$4:$P$4,GEfectos!J137:P137))))))))","v":158.5091462314719},{"$f":"IF(EFECTOS!$N$9=\"COSTA RICA\",LOOKUP(1,GEfectos!$Q$4:$W$4,GEfectos!Q137:W137),IF(EFECTOS!$N$9=\"EL SALVADOR\",LOOKUP(2,GEfectos!$Q$4:$W$4,GEfectos!Q137:W137),IF(EFECTOS!$N$9=\"GUATEMALA\",LOOKUP(3,GEfectos!$Q$4:$W$4,GEfectos!Q137:W137),IF(EFECTOS!$N$9=\"HONDURAS\",LOOKUP(4,GEfectos!$Q$4:$W$4,GEfectos!Q137:W137),IF(EFECTOS!$N$9=\"NICARAGUA\",LOOKUP(5,GEfectos!$Q$4:$W$4,GEfectos!Q137:W137),IF(EFECTOS!$N$9=\"REPÚBLICA \nDOMINICANA\",LOOKUP(6,$Q$4:$W$4,Q137:W137),IF(EFECTOS!$N$9=\"PANAMÁ\",LOOKUP(7,GEfectos!$Q$4:$W$4,GEfectos!Q137:W137))))))))","v":149.71976431107481},100]
[2006,{"$f":"'ITCER GLOBAL'!B138","v":"Enero"},{"$f":"'ITCER GLOBAL'!C138","v":106.34419541775462},{"$f":"'ITCER GLOBAL'!D138","v":101.35652982415066},{"$f":"'ITCER GLOBAL'!E138","v":78.348277467795171},{"$f":"'ITCER GLOBAL'!F138","v":101.11548818506913},{"$f":"'ITCER GLOBAL'!G138","v":112.46934608014011},{"$f":"'ITCER GLOBAL'!H138","v":109.80721613702738},{"$f":"'ITCER GLOBAL'!I138","v":110.19597138532563},{"$f":"'ITCER GLOBAL'!S138","v":160.11357165783096},{"$f":"'ITCER GLOBAL'!T138","v":97.983746816836842},{"$f":"'ITCER GLOBAL'!U138","v":97.228301266830726},{"$f":"'ITCER GLOBAL'!V138","v":125.41047200669794},{"$f":"'ITCER GLOBAL'!W138","v":127.01433289630788},{"$f":"'ITCER GLOBAL'!X138","v":210.60952801961204},{"$f":"'ITCER GLOBAL'!Y138","v":99.167347591425283},{"$f":"'ITCER GLOBAL'!AA138","v":150.56164657492843},{"$f":"'ITCER GLOBAL'!AB138","v":96.672357456233499},{"$f":"'ITCER GLOBAL'!AC138","v":124.09756080061381},{"$f":"'ITCER GLOBAL'!AD138","v":124.02696585627152},{"$f":"'ITCER GLOBAL'!AE138","v":112.93240098133381},{"$f":"'ITCER GLOBAL'!AF138","v":191.79935110712069},{"$f":"'ITCER GLOBAL'!AG138","v":89.991808543221396},null,{"$f":"IF(EFECTOS!$N$9=\"COSTA RICA\",LOOKUP(1,GEfectos!$C$4:$I$4,GEfectos!C138:I138),IF(EFECTOS!$N$9=\"EL SALVADOR\",LOOKUP(2,GEfectos!$C$4:$I$4,GEfectos!C138:I138),IF(EFECTOS!$N$9=\"GUATEMALA\",LOOKUP(3,GEfectos!$C$4:$I$4,GEfectos!C138:I138),IF(EFECTOS!$N$9=\"HONDURAS\",LOOKUP(4,GEfectos!$C$4:$I$4,GEfectos!C138:I138),IF(EFECTOS!$N$9=\"NICARAGUA\",LOOKUP(5,GEfectos!$C$4:$I$4,GEfectos!C138:I138),IF(EFECTOS!$N$9=\"REPÚBLICA \nDOMINICANA\",LOOKUP(6,$C$4:$I$4,C138:I138),IF(EFECTOS!$N$9=\"PANAMÁ\",LOOKUP(7,GEfectos!$C$4:$I$4,GEfectos!C138:I138))))))))","v":106.34419541775462},{"$f":"IF(EFECTOS!$N$9=\"COSTA RICA\",LOOKUP(1,GEfectos!$J$4:$P$4,GEfectos!J138:P138),IF(EFECTOS!$N$9=\"EL SALVADOR\",LOOKUP(2,GEfectos!$J$4:$P$4,GEfectos!J138:P138),IF(EFECTOS!$N$9=\"GUATEMALA\",LOOKUP(3,GEfectos!$J$4:$P$4,GEfectos!J138:P138),IF(EFECTOS!$N$9=\"HONDURAS\",LOOKUP(4,GEfectos!$J$4:$P$4,GEfectos!J138:P138),IF(EFECTOS!$N$9=\"NICARAGUA\",LOOKUP(5,GEfectos!$J$4:$P$4,GEfectos!J138:P138),IF(EFECTOS!$N$9=\"REPÚBLICA \nDOMINICANA\",LOOKUP(6,$J$4:$P$4,J138:P138),IF(EFECTOS!$N$9=\"PANAMÁ\",LOOKUP(7,GEfectos!$J$4:$P$4,GEfectos!J138:P138))))))))","v":160.11357165783096},{"$f":"IF(EFECTOS!$N$9=\"COSTA RICA\",LOOKUP(1,GEfectos!$Q$4:$W$4,GEfectos!Q138:W138),IF(EFECTOS!$N$9=\"EL SALVADOR\",LOOKUP(2,GEfectos!$Q$4:$W$4,GEfectos!Q138:W138),IF(EFECTOS!$N$9=\"GUATEMALA\",LOOKUP(3,GEfectos!$Q$4:$W$4,GEfectos!Q138:W138),IF(EFECTOS!$N$9=\"HONDURAS\",LOOKUP(4,GEfectos!$Q$4:$W$4,GEfectos!Q138:W138),IF(EFECTOS!$N$9=\"NICARAGUA\",LOOKUP(5,GEfectos!$Q$4:$W$4,GEfectos!Q138:W138),IF(EFECTOS!$N$9=\"REPÚBLICA \nDOMINICANA\",LOOKUP(6,$Q$4:$W$4,Q138:W138),IF(EFECTOS!$N$9=\"PANAMÁ\",LOOKUP(7,GEfectos!$Q$4:$W$4,GEfectos!Q138:W138))))))))","v":150.56164657492843},100]
[null,{"$f":"'ITCER GLOBAL'!B139","v":"Febrero"},{"$f":"'ITCER GLOBAL'!C139","v":106.24942970862224},{"$f":"'ITCER GLOBAL'!D139","v":101.17487111626534},{"$f":"'ITCER GLOBAL'!E139","v":78.483071684644742},{"$f":"'ITCER GLOBAL'!F139","v":100.5910803948628},{"$f":"'ITCER GLOBAL'!G139","v":111.7896606083937},{"$f":"'ITCER GLOBAL'!H139","v":109.00008350126188},{"$f":"'ITCER GLOBAL'!I139","v":110.68255655860384},{"$f":"'ITCER GLOBAL'!S139","v":160.98717449611121},{"$f":"'ITCER GLOBAL'!T139","v":98.036257944297276},{"$f":"'ITCER GLOBAL'!U139","v":97.098783968211279},{"$f":"'ITCER GLOBAL'!V139","v":125.30519936050865},{"$f":"'ITCER GLOBAL'!W139","v":127.67635230794174},{"$f":"'ITCER GLOBAL'!X139","v":208.30915808342945},{"$f":"'ITCER GLOBAL'!Y139","v":99.148462218849659},{"$f":"'ITCER GLOBAL'!AA139","v":151.51815396807439},{"$f":"'ITCER GLOBAL'!AB139","v":96.897833288701378},{"$f":"'ITCER GLOBAL'!AC139","v":123.71939818865259},{"$f":"'ITCER GLOBAL'!AD139","v":124.56889703205536},{"$f":"'ITCER GLOBAL'!AE139","v":114.21123529053384},{"$f":"'ITCER GLOBAL'!AF139","v":191.10917294023716},{"$f":"'ITCER GLOBAL'!AG139","v":89.579121861314121},null,{"$f":"IF(EFECTOS!$N$9=\"COSTA RICA\",LOOKUP(1,GEfectos!$C$4:$I$4,GEfectos!C139:I139),IF(EFECTOS!$N$9=\"EL SALVADOR\",LOOKUP(2,GEfectos!$C$4:$I$4,GEfectos!C139:I139),IF(EFECTOS!$N$9=\"GUATEMALA\",LOOKUP(3,GEfectos!$C$4:$I$4,GEfectos!C139:I139),IF(EFECTOS!$N$9=\"HONDURAS\",LOOKUP(4,GEfectos!$C$4:$I$4,GEfectos!C139:I139),IF(EFECTOS!$N$9=\"NICARAGUA\",LOOKUP(5,GEfectos!$C$4:$I$4,GEfectos!C139:I139),IF(EFECTOS!$N$9=\"REPÚBLICA \nDOMINICANA\",LOOKUP(6,$C$4:$I$4,C139:I139),IF(EFECTOS!$N$9=\"PANAMÁ\",LOOKUP(7,GEfectos!$C$4:$I$4,GEfectos!C139:I139))))))))","v":106.24942970862224},{"$f":"IF(EFECTOS!$N$9=\"COSTA RICA\",LOOKUP(1,GEfectos!$J$4:$P$4,GEfectos!J139:P139),IF(EFECTOS!$N$9=\"EL SALVADOR\",LOOKUP(2,GEfectos!$J$4:$P$4,GEfectos!J139:P139),IF(EFECTOS!$N$9=\"GUATEMALA\",LOOKUP(3,GEfectos!$J$4:$P$4,GEfectos!J139:P139),IF(EFECTOS!$N$9=\"HONDURAS\",LOOKUP(4,GEfectos!$J$4:$P$4,GEfectos!J139:P139),IF(EFECTOS!$N$9=\"NICARAGUA\",LOOKUP(5,GEfectos!$J$4:$P$4,GEfectos!J139:P139),IF(EFECTOS!$N$9=\"REPÚBLICA \nDOMINICANA\",LOOKUP(6,$J$4:$P$4,J139:P139),IF(EFECTOS!$N$9=\"PANAMÁ\",LOOKUP(7,GEfectos!$J$4:$P$4,GEfectos!J139:P139))))))))","v":160.98717449611121},{"$f":"IF(EFECTOS!$N$9=\"COSTA RICA\",LOOKUP(1,GEfectos!$Q$4:$W$4,GEfectos!Q139:W139),IF(EFECTOS!$N$9=\"EL SALVADOR\",LOOKUP(2,GEfectos!$Q$4:$W$4,GEfectos!Q139:W139),IF(EFECTOS!$N$9=\"GUATEMALA\",LOOKUP(3,GEfectos!$Q$4:$W$4,GEfectos!Q139:W139),IF(EFECTOS!$N$9=\"HONDURAS\",LOOKUP(4,GEfectos!$Q$4:$W$4,GEfectos!Q139:W139),IF(EFECTOS!$N$9=\"NICARAGUA\",LOOKUP(5,GEfectos!$Q$4:$W$4,GEfectos!Q139:W139),IF(EFECTOS!$N$9=\"REPÚBLICA \nDOMINICANA\",LOOKUP(6,$Q$4:$W$4,Q139:W139),IF(EFECTOS!$N$9=\"PANAMÁ\",LOOKUP(7,GEfectos!$Q$4:$W$4,GEfectos!Q139:W139))))))))","v":151.51815396807439},100]
[null,{"$f":"'ITCER GLOBAL'!B140","v":"Marzo"},{"$f":"'ITCER GLOBAL'!C140","v":107.11090744328439},{"$f":"'ITCER GLOBAL'!D140","v":101.15242356161093},{"$f":"'ITCER GLOBAL'!E140","v":78.414441139561376},{"$f":"'ITCER GLOBAL'!F140","v":100.77064721976009},{"$f":"'ITCER GLOBAL'!G140","v":111.53834777376429},{"$f":"'ITCER GLOBAL'!H140","v":104.23283553196175},{"$f":"'ITCER GLOBAL'!I140","v":110.69459941801648},{"$f":"'ITCER GLOBAL'!S140","v":161.92656950829178},{"$f":"'ITCER GLOBAL'!T140","v":97.931237987445456},{"$f":"'ITCER GLOBAL'!U140","v":97.089331726553098},{"$f":"'ITCER GLOBAL'!V140","v":125.24207034291392},{"$f":"'ITCER GLOBAL'!W140","v":127.8129116722119},{"$f":"'ITCER GLOBAL'!X140","v":198.41663928556861},{"$f":"'ITCER GLOBAL'!Y140","v":99.12132010934333},{"$f":"'ITCER GLOBAL'!AA140","v":151.17654529631585},{"$f":"'ITCER GLOBAL'!AB140","v":96.815513202010933},{"$f":"'ITCER GLOBAL'!AC140","v":123.81562670803751},{"$f":"'ITCER GLOBAL'!AD140","v":124.28427701747979},{"$f":"'ITCER GLOBAL'!AE140","v":114.59100320497633},{"$f":"'ITCER GLOBAL'!AF140","v":190.35905362540632},{"$f":"'ITCER GLOBAL'!AG140","v":89.544856416193426},null,{"$f":"IF(EFECTOS!$N$9=\"COSTA RICA\",LOOKUP(1,GEfectos!$C$4:$I$4,GEfectos!C140:I140),IF(EFECTOS!$N$9=\"EL SALVADOR\",LOOKUP(2,GEfectos!$C$4:$I$4,GEfectos!C140:I140),IF(EFECTOS!$N$9=\"GUATEMALA\",LOOKUP(3,GEfectos!$C$4:$I$4,GEfectos!C140:I140),IF(EFECTOS!$N$9=\"HONDURAS\",LOOKUP(4,GEfectos!$C$4:$I$4,GEfectos!C140:I140),IF(EFECTOS!$N$9=\"NICARAGUA\",LOOKUP(5,GEfectos!$C$4:$I$4,GEfectos!C140:I140),IF(EFECTOS!$N$9=\"REPÚBLICA \nDOMINICANA\",LOOKUP(6,$C$4:$I$4,C140:I140),IF(EFECTOS!$N$9=\"PANAMÁ\",LOOKUP(7,GEfectos!$C$4:$I$4,GEfectos!C140:I140))))))))","v":107.11090744328439},{"$f":"IF(EFECTOS!$N$9=\"COSTA RICA\",LOOKUP(1,GEfectos!$J$4:$P$4,GEfectos!J140:P140),IF(EFECTOS!$N$9=\"EL SALVADOR\",LOOKUP(2,GEfectos!$J$4:$P$4,GEfectos!J140:P140),IF(EFECTOS!$N$9=\"GUATEMALA\",LOOKUP(3,GEfectos!$J$4:$P$4,GEfectos!J140:P140),IF(EFECTOS!$N$9=\"HONDURAS\",LOOKUP(4,GEfectos!$J$4:$P$4,GEfectos!J140:P140),IF(EFECTOS!$N$9=\"NICARAGUA\",LOOKUP(5,GEfectos!$J$4:$P$4,GEfectos!J140:P140),IF(EFECTOS!$N$9=\"REPÚBLICA \nDOMINICANA\",LOOKUP(6,$J$4:$P$4,J140:P140),IF(EFECTOS!$N$9=\"PANAMÁ\",LOOKUP(7,GEfectos!$J$4:$P$4,GEfectos!J140:P140))))))))","v":161.92656950829178},{"$f":"IF(EFECTOS!$N$9=\"COSTA RICA\",LOOKUP(1,GEfectos!$Q$4:$W$4,GEfectos!Q140:W140),IF(EFECTOS!$N$9=\"EL SALVADOR\",LOOKUP(2,GEfectos!$Q$4:$W$4,GEfectos!Q140:W140),IF(EFECTOS!$N$9=\"GUATEMALA\",LOOKUP(3,GEfectos!$Q$4:$W$4,GEfectos!Q140:W140),IF(EFECTOS!$N$9=\"HONDURAS\",LOOKUP(4,GEfectos!$Q$4:$W$4,GEfectos!Q140:W140),IF(EFECTOS!$N$9=\"NICARAGUA\",LOOKUP(5,GEfectos!$Q$4:$W$4,GEfectos!Q140:W140),IF(EFECTOS!$N$9=\"REPÚBLICA \nDOMINICANA\",LOOKUP(6,$Q$4:$W$4,Q140:W140),IF(EFECTOS!$N$9=\"PANAMÁ\",LOOKUP(7,GEfectos!$Q$4:$W$4,GEfectos!Q140:W140))))))))","v":151.17654529631585},100]
[null,{"$f":"'ITCER GLOBAL'!B141","v":"Abril"},{"$f":"'ITCER GLOBAL'!C141","v":108.1325965162787},{"$f":"'ITCER GLOBAL'!D141","v":101.24182328154754},{"$f":"'ITCER GLOBAL'!E141","v":78.048730676573285},{"$f":"'ITCER GLOBAL'!F141","v":101.09110025652731},{"$f":"'ITCER GLOBAL'!G141","v":110.98203447932393},{"$f":"'ITCER GLOBAL'!H141","v":102.93781862309653},{"$f":"'ITCER GLOBAL'!I141","v":110.21945775300749},{"$f":"'ITCER GLOBAL'!S141","v":163.05799557648342},{"$f":"'ITCER GLOBAL'!T141","v":97.960247376932458},{"$f":"'ITCER GLOBAL'!U141","v":96.789977893795211},{"$f":"'ITCER GLOBAL'!V141","v":125.41575445896389},{"$f":"'ITCER GLOBAL'!W141","v":128.21629820763866},{"$f":"'ITCER GLOBAL'!X141","v":195.68064320336512},{"$f":"'ITCER GLOBAL'!Y141","v":99.208148776573907},{"$f":"'ITCER GLOBAL'!AA141","v":150.79448827619342},{"$f":"'ITCER GLOBAL'!AB141","v":96.758675616213267},{"$f":"'ITCER GLOBAL'!AC141","v":124.01223832182988},{"$f":"'ITCER GLOBAL'!AD141","v":124.06211243196552},{"$f":"'ITCER GLOBAL'!AE141","v":115.5288770918373},{"$f":"'ITCER GLOBAL'!AF141","v":190.09596844075688},{"$f":"'ITCER GLOBAL'!AG141","v":90.009650563597418},null,{"$f":"IF(EFECTOS!$N$9=\"COSTA RICA\",LOOKUP(1,GEfectos!$C$4:$I$4,GEfectos!C141:I141),IF(EFECTOS!$N$9=\"EL SALVADOR\",LOOKUP(2,GEfectos!$C$4:$I$4,GEfectos!C141:I141),IF(EFECTOS!$N$9=\"GUATEMALA\",LOOKUP(3,GEfectos!$C$4:$I$4,GEfectos!C141:I141),IF(EFECTOS!$N$9=\"HONDURAS\",LOOKUP(4,GEfectos!$C$4:$I$4,GEfectos!C141:I141),IF(EFECTOS!$N$9=\"NICARAGUA\",LOOKUP(5,GEfectos!$C$4:$I$4,GEfectos!C141:I141),IF(EFECTOS!$N$9=\"REPÚBLICA \nDOMINICANA\",LOOKUP(6,$C$4:$I$4,C141:I141),IF(EFECTOS!$N$9=\"PANAMÁ\",LOOKUP(7,GEfectos!$C$4:$I$4,GEfectos!C141:I141))))))))","v":108.1325965162787},{"$f":"IF(EFECTOS!$N$9=\"COSTA RICA\",LOOKUP(1,GEfectos!$J$4:$P$4,GEfectos!J141:P141),IF(EFECTOS!$N$9=\"EL SALVADOR\",LOOKUP(2,GEfectos!$J$4:$P$4,GEfectos!J141:P141),IF(EFECTOS!$N$9=\"GUATEMALA\",LOOKUP(3,GEfectos!$J$4:$P$4,GEfectos!J141:P141),IF(EFECTOS!$N$9=\"HONDURAS\",LOOKUP(4,GEfectos!$J$4:$P$4,GEfectos!J141:P141),IF(EFECTOS!$N$9=\"NICARAGUA\",LOOKUP(5,GEfectos!$J$4:$P$4,GEfectos!J141:P141),IF(EFECTOS!$N$9=\"REPÚBLICA \nDOMINICANA\",LOOKUP(6,$J$4:$P$4,J141:P141),IF(EFECTOS!$N$9=\"PANAMÁ\",LOOKUP(7,GEfectos!$J$4:$P$4,GEfectos!J141:P141))))))))","v":163.05799557648342},{"$f":"IF(EFECTOS!$N$9=\"COSTA RICA\",LOOKUP(1,GEfectos!$Q$4:$W$4,GEfectos!Q141:W141),IF(EFECTOS!$N$9=\"EL SALVADOR\",LOOKUP(2,GEfectos!$Q$4:$W$4,GEfectos!Q141:W141),IF(EFECTOS!$N$9=\"GUATEMALA\",LOOKUP(3,GEfectos!$Q$4:$W$4,GEfectos!Q141:W141),IF(EFECTOS!$N$9=\"HONDURAS\",LOOKUP(4,GEfectos!$Q$4:$W$4,GEfectos!Q141:W141),IF(EFECTOS!$N$9=\"NICARAGUA\",LOOKUP(5,GEfectos!$Q$4:$W$4,GEfectos!Q141:W141),IF(EFECTOS!$N$9=\"REPÚBLICA \nDOMINICANA\",LOOKUP(6,$Q$4:$W$4,Q141:W141),IF(EFECTOS!$N$9=\"PANAMÁ\",LOOKUP(7,GEfectos!$Q$4:$W$4,GEfectos!Q141:W141))))))))","v":150.79448827619342},100]
[null,{"$f":"'ITCER GLOBAL'!B142","v":"Mayo"},{"$f":"'ITCER GLOBAL'!C142","v":107.89592549181113},{"$f":"'ITCER GLOBAL'!D142","v":101.80927169704093},{"$f":"'ITCER GLOBAL'!E142","v":78.002320863739229},{"$f":"'ITCER GLOBAL'!F142","v":101.35467339406479},{"$f":"'ITCER GLOBAL'!G142","v":111.44371518545643},{"$f":"'ITCER GLOBAL'!H142","v":104.35796338440268},{"$f":"'ITCER GLOBAL'!I142","v":111.3665996149462},{"$f":"'ITCER GLOBAL'!S142","v":164.71124520412181},{"$f":"'ITCER GLOBAL'!T142","v":98.186739833461061},{"$f":"'ITCER GLOBAL'!U142","v":96.984653437674979},{"$f":"'ITCER GLOBAL'!V142","v":126.05944569270493},{"$f":"'ITCER GLOBAL'!W142","v":129.36513029315094},{"$f":"'ITCER GLOBAL'!X142","v":198.70289229912896},{"$f":"'ITCER GLOBAL'!Y142","v":99.722550997555246},{"$f":"'ITCER GLOBAL'!AA142","v":152.65752108185285},{"$f":"'ITCER GLOBAL'!AB142","v":96.441844830832679},{"$f":"'ITCER GLOBAL'!AC142","v":124.33559971516186},{"$f":"'ITCER GLOBAL'!AD142","v":124.37457639727032},{"$f":"'ITCER GLOBAL'!AE142","v":116.08113573553341},{"$f":"'ITCER GLOBAL'!AF142","v":190.40510743507576},{"$f":"'ITCER GLOBAL'!AG142","v":89.544397819767639},null,{"$f":"IF(EFECTOS!$N$9=\"COSTA RICA\",LOOKUP(1,GEfectos!$C$4:$I$4,GEfectos!C142:I142),IF(EFECTOS!$N$9=\"EL SALVADOR\",LOOKUP(2,GEfectos!$C$4:$I$4,GEfectos!C142:I142),IF(EFECTOS!$N$9=\"GUATEMALA\",LOOKUP(3,GEfectos!$C$4:$I$4,GEfectos!C142:I142),IF(EFECTOS!$N$9=\"HONDURAS\",LOOKUP(4,GEfectos!$C$4:$I$4,GEfectos!C142:I142),IF(EFECTOS!$N$9=\"NICARAGUA\",LOOKUP(5,GEfectos!$C$4:$I$4,GEfectos!C142:I142),IF(EFECTOS!$N$9=\"REPÚBLICA \nDOMINICANA\",LOOKUP(6,$C$4:$I$4,C142:I142),IF(EFECTOS!$N$9=\"PANAMÁ\",LOOKUP(7,GEfectos!$C$4:$I$4,GEfectos!C142:I142))))))))","v":107.89592549181113},{"$f":"IF(EFECTOS!$N$9=\"COSTA RICA\",LOOKUP(1,GEfectos!$J$4:$P$4,GEfectos!J142:P142),IF(EFECTOS!$N$9=\"EL SALVADOR\",LOOKUP(2,GEfectos!$J$4:$P$4,GEfectos!J142:P142),IF(EFECTOS!$N$9=\"GUATEMALA\",LOOKUP(3,GEfectos!$J$4:$P$4,GEfectos!J142:P142),IF(EFECTOS!$N$9=\"HONDURAS\",LOOKUP(4,GEfectos!$J$4:$P$4,GEfectos!J142:P142),IF(EFECTOS!$N$9=\"NICARAGUA\",LOOKUP(5,GEfectos!$J$4:$P$4,GEfectos!J142:P142),IF(EFECTOS!$N$9=\"REPÚBLICA \nDOMINICANA\",LOOKUP(6,$J$4:$P$4,J142:P142),IF(EFECTOS!$N$9=\"PANAMÁ\",LOOKUP(7,GEfectos!$J$4:$P$4,GEfectos!J142:P142))))))))","v":164.71124520412181},{"$f":"IF(EFECTOS!$N$9=\"COSTA RICA\",LOOKUP(1,GEfectos!$Q$4:$W$4,GEfectos!Q142:W142),IF(EFECTOS!$N$9=\"EL SALVADOR\",LOOKUP(2,GEfectos!$Q$4:$W$4,GEfectos!Q142:W142),IF(EFECTOS!$N$9=\"GUATEMALA\",LOOKUP(3,GEfectos!$Q$4:$W$4,GEfectos!Q142:W142),IF(EFECTOS!$N$9=\"HONDURAS\",LOOKUP(4,GEfectos!$Q$4:$W$4,GEfectos!Q142:W142),IF(EFECTOS!$N$9=\"NICARAGUA\",LOOKUP(5,GEfectos!$Q$4:$W$4,GEfectos!Q142:W142),IF(EFECTOS!$N$9=\"REPÚBLICA \nDOMINICANA\",LOOKUP(6,$Q$4:$W$4,Q142:W142),IF(EFECTOS!$N$9=\"PANAMÁ\",LOOKUP(7,GEfectos!$Q$4:$W$4,GEfectos!Q142:W142))))))))","v":152.65752108185285},100]
[null,{"$f":"'ITCER GLOBAL'!B143","v":"Junio"},{"$f":"'ITCER GLOBAL'!C143","v":106.95779551112811},{"$f":"'ITCER GLOBAL'!D143","v":100.74682312365327},{"$f":"'ITCER GLOBAL'!E143","v":77.571046412883604},{"$f":"'ITCER GLOBAL'!F143","v":100.80877732027248},{"$f":"'ITCER GLOBAL'!G143","v":111.24956597843514},{"$f":"'ITCER GLOBAL'!H143","v":104.05812651723913},{"$f":"'ITCER GLOBAL'!I143","v":110.43336772380572},{"$f":"'ITCER GLOBAL'!S143","v":164.61957977900752},{"$f":"'ITCER GLOBAL'!T143","v":97.745948443138644},{"$f":"'ITCER GLOBAL'!U143","v":96.822404921240434},{"$f":"'ITCER GLOBAL'!V143","v":125.43390530922389},{"$f":"'ITCER GLOBAL'!W143","v":129.22996459881057},{"$f":"'ITCER GLOBAL'!X143","v":199.32886501803742},{"$f":"'ITCER GLOBAL'!Y143","v":98.882049609006913},{"$f":"'ITCER GLOBAL'!AA143","v":153.91078227849243},{"$f":"'ITCER GLOBAL'!AB143","v":97.021370414001581},{"$f":"'ITCER GLOBAL'!AC143","v":124.81771150267662},{"$f":"'ITCER GLOBAL'!AD143","v":124.42756339630689},{"$f":"'ITCER GLOBAL'!AE143","v":116.16221911720608},{"$f":"'ITCER GLOBAL'!AF143","v":191.5553082584232},{"$f":"'ITCER GLOBAL'!AG143","v":89.540011001304691},null,{"$f":"IF(EFECTOS!$N$9=\"COSTA RICA\",LOOKUP(1,GEfectos!$C$4:$I$4,GEfectos!C143:I143),IF(EFECTOS!$N$9=\"EL SALVADOR\",LOOKUP(2,GEfectos!$C$4:$I$4,GEfectos!C143:I143),IF(EFECTOS!$N$9=\"GUATEMALA\",LOOKUP(3,GEfectos!$C$4:$I$4,GEfectos!C143:I143),IF(EFECTOS!$N$9=\"HONDURAS\",LOOKUP(4,GEfectos!$C$4:$I$4,GEfectos!C143:I143),IF(EFECTOS!$N$9=\"NICARAGUA\",LOOKUP(5,GEfectos!$C$4:$I$4,GEfectos!C143:I143),IF(EFECTOS!$N$9=\"REPÚBLICA \nDOMINICANA\",LOOKUP(6,$C$4:$I$4,C143:I143),IF(EFECTOS!$N$9=\"PANAMÁ\",LOOKUP(7,GEfectos!$C$4:$I$4,GEfectos!C143:I143))))))))","v":106.95779551112811},{"$f":"IF(EFECTOS!$N$9=\"COSTA RICA\",LOOKUP(1,GEfectos!$J$4:$P$4,GEfectos!J143:P143),IF(EFECTOS!$N$9=\"EL SALVADOR\",LOOKUP(2,GEfectos!$J$4:$P$4,GEfectos!J143:P143),IF(EFECTOS!$N$9=\"GUATEMALA\",LOOKUP(3,GEfectos!$J$4:$P$4,GEfectos!J143:P143),IF(EFECTOS!$N$9=\"HONDURAS\",LOOKUP(4,GEfectos!$J$4:$P$4,GEfectos!J143:P143),IF(EFECTOS!$N$9=\"NICARAGUA\",LOOKUP(5,GEfectos!$J$4:$P$4,GEfectos!J143:P143),IF(EFECTOS!$N$9=\"REPÚBLICA \nDOMINICANA\",LOOKUP(6,$J$4:$P$4,J143:P143),IF(EFECTOS!$N$9=\"PANAMÁ\",LOOKUP(7,GEfectos!$J$4:$P$4,GEfectos!J143:P143))))))))","v":164.61957977900752},{"$f":"IF(EFECTOS!$N$9=\"COSTA RICA\",LOOKUP(1,GEfectos!$Q$4:$W$4,GEfectos!Q143:W143),IF(EFECTOS!$N$9=\"EL SALVADOR\",LOOKUP(2,GEfectos!$Q$4:$W$4,GEfectos!Q143:W143),IF(EFECTOS!$N$9=\"GUATEMALA\",LOOKUP(3,GEfectos!$Q$4:$W$4,GEfectos!Q143:W143),IF(EFECTOS!$N$9=\"HONDURAS\",LOOKUP(4,GEfectos!$Q$4:$W$4,GEfectos!Q143:W143),IF(EFECTOS!$N$9=\"NICARAGUA\",LOOKUP(5,GEfectos!$Q$4:$W$4,GEfectos!Q143:W143),IF(EFECTOS!$N$9=\"REPÚBLICA \nDOMINICANA\",LOOKUP(6,$Q$4:$W$4,Q143:W143),IF(EFECTOS!$N$9=\"PANAMÁ\",LOOKUP(7,GEfectos!$Q$4:$W$4,GEfectos!Q143:W143))))))))","v":153.91078227849243},100]
[null,{"$f":"'ITCER GLOBAL'!B144","v":"Julio"},{"$f":"'ITCER GLOBAL'!C144","v":107.07207401282635},{"$f":"'ITCER GLOBAL'!D144","v":100.0799965167885},{"$f":"'ITCER GLOBAL'!E144","v":77.422654363726224},{"$f":"'ITCER GLOBAL'!F144","v":100.83526217949473},{"$f":"'ITCER GLOBAL'!G144","v":111.69857178701486},{"$f":"'ITCER GLOBAL'!H144","v":103.57199234511887},{"$f":"'ITCER GLOBAL'!I144","v":111.03151703861282},{"$f":"'ITCER GLOBAL'!S144","v":165.99206827172654},{"$f":"'ITCER GLOBAL'!T144","v":98.021633722613032},{"$f":"'ITCER GLOBAL'!U144","v":96.749615865776747},{"$f":"'ITCER GLOBAL'!V144","v":125.74373447210611},{"$f":"'ITCER GLOBAL'!W144","v":129.96804519271657},{"$f":"'ITCER GLOBAL'!X144","v":199.69604175110732},{"$f":"'ITCER GLOBAL'!Y144","v":99.160449427413909},{"$f":"'ITCER GLOBAL'!AA144","v":155.02834871008668},{"$f":"'ITCER GLOBAL'!AB144","v":97.943282508178186},{"$f":"'ITCER GLOBAL'!AC144","v":124.96292804849314},{"$f":"'ITCER GLOBAL'!AD144","v":124.7021446210675},{"$f":"'ITCER GLOBAL'!AE144","v":116.35604924343855},{"$f":"'ITCER GLOBAL'!AF144","v":192.80892182288756},{"$f":"'ITCER GLOBAL'!AG144","v":89.308380243899052},null,{"$f":"IF(EFECTOS!$N$9=\"COSTA RICA\",LOOKUP(1,GEfectos!$C$4:$I$4,GEfectos!C144:I144),IF(EFECTOS!$N$9=\"EL SALVADOR\",LOOKUP(2,GEfectos!$C$4:$I$4,GEfectos!C144:I144),IF(EFECTOS!$N$9=\"GUATEMALA\",LOOKUP(3,GEfectos!$C$4:$I$4,GEfectos!C144:I144),IF(EFECTOS!$N$9=\"HONDURAS\",LOOKUP(4,GEfectos!$C$4:$I$4,GEfectos!C144:I144),IF(EFECTOS!$N$9=\"NICARAGUA\",LOOKUP(5,GEfectos!$C$4:$I$4,GEfectos!C144:I144),IF(EFECTOS!$N$9=\"REPÚBLICA \nDOMINICANA\",LOOKUP(6,$C$4:$I$4,C144:I144),IF(EFECTOS!$N$9=\"PANAMÁ\",LOOKUP(7,GEfectos!$C$4:$I$4,GEfectos!C144:I144))))))))","v":107.07207401282635},{"$f":"IF(EFECTOS!$N$9=\"COSTA RICA\",LOOKUP(1,GEfectos!$J$4:$P$4,GEfectos!J144:P144),IF(EFECTOS!$N$9=\"EL SALVADOR\",LOOKUP(2,GEfectos!$J$4:$P$4,GEfectos!J144:P144),IF(EFECTOS!$N$9=\"GUATEMALA\",LOOKUP(3,GEfectos!$J$4:$P$4,GEfectos!J144:P144),IF(EFECTOS!$N$9=\"HONDURAS\",LOOKUP(4,GEfectos!$J$4:$P$4,GEfectos!J144:P144),IF(EFECTOS!$N$9=\"NICARAGUA\",LOOKUP(5,GEfectos!$J$4:$P$4,GEfectos!J144:P144),IF(EFECTOS!$N$9=\"REPÚBLICA \nDOMINICANA\",LOOKUP(6,$J$4:$P$4,J144:P144),IF(EFECTOS!$N$9=\"PANAMÁ\",LOOKUP(7,GEfectos!$J$4:$P$4,GEfectos!J144:P144))))))))","v":165.99206827172654},{"$f":"IF(EFECTOS!$N$9=\"COSTA RICA\",LOOKUP(1,GEfectos!$Q$4:$W$4,GEfectos!Q144:W144),IF(EFECTOS!$N$9=\"EL SALVADOR\",LOOKUP(2,GEfectos!$Q$4:$W$4,GEfectos!Q144:W144),IF(EFECTOS!$N$9=\"GUATEMALA\",LOOKUP(3,GEfectos!$Q$4:$W$4,GEfectos!Q144:W144),IF(EFECTOS!$N$9=\"HONDURAS\",LOOKUP(4,GEfectos!$Q$4:$W$4,GEfectos!Q144:W144),IF(EFECTOS!$N$9=\"NICARAGUA\",LOOKUP(5,GEfectos!$Q$4:$W$4,GEfectos!Q144:W144),IF(EFECTOS!$N$9=\"REPÚBLICA \nDOMINICANA\",LOOKUP(6,$Q$4:$W$4,Q144:W144),IF(EFECTOS!$N$9=\"PANAMÁ\",LOOKUP(7,GEfectos!$Q$4:$W$4,GEfectos!Q144:W144))))))))","v":155.02834871008668},100]
[null,{"$f":"'ITCER GLOBAL'!B145","v":"Agosto"},{"$f":"'ITCER GLOBAL'!C145","v":107.2774269898197},{"$f":"'ITCER GLOBAL'!D145","v":101.03944586647488},{"$f":"'ITCER GLOBAL'!E145","v":77.458068920526131},{"$f":"'ITCER GLOBAL'!F145","v":100.91034579965357},{"$f":"'ITCER GLOBAL'!G145","v":112.6092751470138},{"$f":"'ITCER GLOBAL'!H145","v":103.60467681522297},{"$f":"'ITCER GLOBAL'!I145","v":111.68234818165116},{"$f":"'ITCER GLOBAL'!S145","v":167.40128044449142},{"$f":"'ITCER GLOBAL'!T145","v":98.175644688186296},{"$f":"'ITCER GLOBAL'!U145","v":96.908064095989559},{"$f":"'ITCER GLOBAL'!V145","v":126.03500193309407},{"$f":"'ITCER GLOBAL'!W145","v":130.90879937358289},{"$f":"'ITCER GLOBAL'!X145","v":199.67181336663222},{"$f":"'ITCER GLOBAL'!Y145","v":99.552868480354249},{"$f":"'ITCER GLOBAL'!AA145","v":156.04520460802746},{"$f":"'ITCER GLOBAL'!AB145","v":97.165660249094074},{"$f":"'ITCER GLOBAL'!AC145","v":125.11035382952758},{"$f":"'ITCER GLOBAL'!AD145","v":124.89799825215417},{"$f":"'ITCER GLOBAL'!AE145","v":116.25045912308616},{"$f":"'ITCER GLOBAL'!AF145","v":192.72471041316331},{"$f":"'ITCER GLOBAL'!AG145","v":89.139304555480578},null,{"$f":"IF(EFECTOS!$N$9=\"COSTA RICA\",LOOKUP(1,GEfectos!$C$4:$I$4,GEfectos!C145:I145),IF(EFECTOS!$N$9=\"EL SALVADOR\",LOOKUP(2,GEfectos!$C$4:$I$4,GEfectos!C145:I145),IF(EFECTOS!$N$9=\"GUATEMALA\",LOOKUP(3,GEfectos!$C$4:$I$4,GEfectos!C145:I145),IF(EFECTOS!$N$9=\"HONDURAS\",LOOKUP(4,GEfectos!$C$4:$I$4,GEfectos!C145:I145),IF(EFECTOS!$N$9=\"NICARAGUA\",LOOKUP(5,GEfectos!$C$4:$I$4,GEfectos!C145:I145),IF(EFECTOS!$N$9=\"REPÚBLICA \nDOMINICANA\",LOOKUP(6,$C$4:$I$4,C145:I145),IF(EFECTOS!$N$9=\"PANAMÁ\",LOOKUP(7,GEfectos!$C$4:$I$4,GEfectos!C145:I145))))))))","v":107.2774269898197},{"$f":"IF(EFECTOS!$N$9=\"COSTA RICA\",LOOKUP(1,GEfectos!$J$4:$P$4,GEfectos!J145:P145),IF(EFECTOS!$N$9=\"EL SALVADOR\",LOOKUP(2,GEfectos!$J$4:$P$4,GEfectos!J145:P145),IF(EFECTOS!$N$9=\"GUATEMALA\",LOOKUP(3,GEfectos!$J$4:$P$4,GEfectos!J145:P145),IF(EFECTOS!$N$9=\"HONDURAS\",LOOKUP(4,GEfectos!$J$4:$P$4,GEfectos!J145:P145),IF(EFECTOS!$N$9=\"NICARAGUA\",LOOKUP(5,GEfectos!$J$4:$P$4,GEfectos!J145:P145),IF(EFECTOS!$N$9=\"REPÚBLICA \nDOMINICANA\",LOOKUP(6,$J$4:$P$4,J145:P145),IF(EFECTOS!$N$9=\"PANAMÁ\",LOOKUP(7,GEfectos!$J$4:$P$4,GEfectos!J145:P145))))))))","v":167.40128044449142},{"$f":"IF(EFECTOS!$N$9=\"COSTA RICA\",LOOKUP(1,GEfectos!$Q$4:$W$4,GEfectos!Q145:W145),IF(EFECTOS!$N$9=\"EL SALVADOR\",LOOKUP(2,GEfectos!$Q$4:$W$4,GEfectos!Q145:W145),IF(EFECTOS!$N$9=\"GUATEMALA\",LOOKUP(3,GEfectos!$Q$4:$W$4,GEfectos!Q145:W145),IF(EFECTOS!$N$9=\"HONDURAS\",LOOKUP(4,GEfectos!$Q$4:$W$4,GEfectos!Q145:W145),IF(EFECTOS!$N$9=\"NICARAGUA\",LOOKUP(5,GEfectos!$Q$4:$W$4,GEfectos!Q145:W145),IF(EFECTOS!$N$9=\"REPÚBLICA \nDOMINICANA\",LOOKUP(6,$Q$4:$W$4,Q145:W145),IF(EFECTOS!$N$9=\"PANAMÁ\",LOOKUP(7,GEfectos!$Q$4:$W$4,GEfectos!Q145:W145))))))))","v":156.04520460802746},100]
[null,{"$f":"'ITCER GLOBAL'!B146","v":"Septiembre"},{"$f":"'ITCER GLOBAL'!C146","v":107.60057551082708},{"$f":"'ITCER GLOBAL'!D146","v":100.65434226622075},{"$f":"'ITCER GLOBAL'!E146","v":77.771277595215409},{"$f":"'ITCER GLOBAL'!F146","v":100.46537593795939},{"$f":"'ITCER GLOBAL'!G146","v":112.85761126397885},{"$f":"'ITCER GLOBAL'!H146","v":105.35721500903531},{"$f":"'ITCER GLOBAL'!I146","v":111.64973583926054},{"$f":"'ITCER GLOBAL'!S146","v":167.95146147859774},{"$f":"'ITCER GLOBAL'!T146","v":98.014192531026808},{"$f":"'ITCER GLOBAL'!U146","v":97.09757152979499},{"$f":"'ITCER GLOBAL'!V146","v":125.77104723337831},{"$f":"'ITCER GLOBAL'!W146","v":130.78706831582889},{"$f":"'ITCER GLOBAL'!X146","v":201.36023237955573},{"$f":"'ITCER GLOBAL'!Y146","v":99.316431769949915},{"$f":"'ITCER GLOBAL'!AA146","v":156.0878839924959},{"$f":"'ITCER GLOBAL'!AB146","v":97.377013573631018},{"$f":"'ITCER GLOBAL'!AC146","v":124.85016902405697},{"$f":"'ITCER GLOBAL'!AD146","v":125.18845030853814},{"$f":"'ITCER GLOBAL'!AE146","v":115.88679474166102},{"$f":"'ITCER GLOBAL'!AF146","v":191.12144560985908},{"$f":"'ITCER GLOBAL'!AG146","v":88.953575235442926},null,{"$f":"IF(EFECTOS!$N$9=\"COSTA RICA\",LOOKUP(1,GEfectos!$C$4:$I$4,GEfectos!C146:I146),IF(EFECTOS!$N$9=\"EL SALVADOR\",LOOKUP(2,GEfectos!$C$4:$I$4,GEfectos!C146:I146),IF(EFECTOS!$N$9=\"GUATEMALA\",LOOKUP(3,GEfectos!$C$4:$I$4,GEfectos!C146:I146),IF(EFECTOS!$N$9=\"HONDURAS\",LOOKUP(4,GEfectos!$C$4:$I$4,GEfectos!C146:I146),IF(EFECTOS!$N$9=\"NICARAGUA\",LOOKUP(5,GEfectos!$C$4:$I$4,GEfectos!C146:I146),IF(EFECTOS!$N$9=\"REPÚBLICA \nDOMINICANA\",LOOKUP(6,$C$4:$I$4,C146:I146),IF(EFECTOS!$N$9=\"PANAMÁ\",LOOKUP(7,GEfectos!$C$4:$I$4,GEfectos!C146:I146))))))))","v":107.60057551082708},{"$f":"IF(EFECTOS!$N$9=\"COSTA RICA\",LOOKUP(1,GEfectos!$J$4:$P$4,GEfectos!J146:P146),IF(EFECTOS!$N$9=\"EL SALVADOR\",LOOKUP(2,GEfectos!$J$4:$P$4,GEfectos!J146:P146),IF(EFECTOS!$N$9=\"GUATEMALA\",LOOKUP(3,GEfectos!$J$4:$P$4,GEfectos!J146:P146),IF(EFECTOS!$N$9=\"HONDURAS\",LOOKUP(4,GEfectos!$J$4:$P$4,GEfectos!J146:P146),IF(EFECTOS!$N$9=\"NICARAGUA\",LOOKUP(5,GEfectos!$J$4:$P$4,GEfectos!J146:P146),IF(EFECTOS!$N$9=\"REPÚBLICA \nDOMINICANA\",LOOKUP(6,$J$4:$P$4,J146:P146),IF(EFECTOS!$N$9=\"PANAMÁ\",LOOKUP(7,GEfectos!$J$4:$P$4,GEfectos!J146:P146))))))))","v":167.95146147859774},{"$f":"IF(EFECTOS!$N$9=\"COSTA RICA\",LOOKUP(1,GEfectos!$Q$4:$W$4,GEfectos!Q146:W146),IF(EFECTOS!$N$9=\"EL SALVADOR\",LOOKUP(2,GEfectos!$Q$4:$W$4,GEfectos!Q146:W146),IF(EFECTOS!$N$9=\"GUATEMALA\",LOOKUP(3,GEfectos!$Q$4:$W$4,GEfectos!Q146:W146),IF(EFECTOS!$N$9=\"HONDURAS\",LOOKUP(4,GEfectos!$Q$4:$W$4,GEfectos!Q146:W146),IF(EFECTOS!$N$9=\"NICARAGUA\",LOOKUP(5,GEfectos!$Q$4:$W$4,GEfectos!Q146:W146),IF(EFECTOS!$N$9=\"REPÚBLICA \nDOMINICANA\",LOOKUP(6,$Q$4:$W$4,Q146:W146),IF(EFECTOS!$N$9=\"PANAMÁ\",LOOKUP(7,GEfectos!$Q$4:$W$4,GEfectos!Q146:W146))))))))","v":156.0878839924959},100]
[null,{"$f":"'ITCER GLOBAL'!B147","v":"Octubre"},{"$f":"'ITCER GLOBAL'!C147","v":106.97294363739695},{"$f":"'ITCER GLOBAL'!D147","v":100.80501036946254},{"$f":"'ITCER GLOBAL'!E147","v":77.674663110578706},{"$f":"'ITCER GLOBAL'!F147","v":100.04682241292139},{"$f":"'ITCER GLOBAL'!G147","v":112.70418849606904},{"$f":"'ITCER GLOBAL'!H147","v":106.5568287291632},{"$f":"'ITCER GLOBAL'!I147","v":111.04651586759988},{"$f":"'ITCER GLOBAL'!S147","v":167.6854807063788},{"$f":"'ITCER GLOBAL'!T147","v":98.006174375114455},{"$f":"'ITCER GLOBAL'!U147","v":97.198592529874517},{"$f":"'ITCER GLOBAL'!V147","v":125.6803049922127},{"$f":"'ITCER GLOBAL'!W147","v":131.37385967643945},{"$f":"'ITCER GLOBAL'!X147","v":204.60296576291549},{"$f":"'ITCER GLOBAL'!Y147","v":99.287768711981641},{"$f":"'ITCER GLOBAL'!AA147","v":156.75504011068193},{"$f":"'ITCER GLOBAL'!AB147","v":97.223514997825987},{"$f":"'ITCER GLOBAL'!AC147","v":125.13551863302101},{"$f":"'ITCER GLOBAL'!AD147","v":125.62148598132853},{"$f":"'ITCER GLOBAL'!AE147","v":116.56519729168858},{"$f":"'ITCER GLOBAL'!AF147","v":192.01300207887883},{"$f":"'ITCER GLOBAL'!AG147","v":89.410971552103319},null,{"$f":"IF(EFECTOS!$N$9=\"COSTA RICA\",LOOKUP(1,GEfectos!$C$4:$I$4,GEfectos!C147:I147),IF(EFECTOS!$N$9=\"EL SALVADOR\",LOOKUP(2,GEfectos!$C$4:$I$4,GEfectos!C147:I147),IF(EFECTOS!$N$9=\"GUATEMALA\",LOOKUP(3,GEfectos!$C$4:$I$4,GEfectos!C147:I147),IF(EFECTOS!$N$9=\"HONDURAS\",LOOKUP(4,GEfectos!$C$4:$I$4,GEfectos!C147:I147),IF(EFECTOS!$N$9=\"NICARAGUA\",LOOKUP(5,GEfectos!$C$4:$I$4,GEfectos!C147:I147),IF(EFECTOS!$N$9=\"REPÚBLICA \nDOMINICANA\",LOOKUP(6,$C$4:$I$4,C147:I147),IF(EFECTOS!$N$9=\"PANAMÁ\",LOOKUP(7,GEfectos!$C$4:$I$4,GEfectos!C147:I147))))))))","v":106.97294363739695},{"$f":"IF(EFECTOS!$N$9=\"COSTA RICA\",LOOKUP(1,GEfectos!$J$4:$P$4,GEfectos!J147:P147),IF(EFECTOS!$N$9=\"EL SALVADOR\",LOOKUP(2,GEfectos!$J$4:$P$4,GEfectos!J147:P147),IF(EFECTOS!$N$9=\"GUATEMALA\",LOOKUP(3,GEfectos!$J$4:$P$4,GEfectos!J147:P147),IF(EFECTOS!$N$9=\"HONDURAS\",LOOKUP(4,GEfectos!$J$4:$P$4,GEfectos!J147:P147),IF(EFECTOS!$N$9=\"NICARAGUA\",LOOKUP(5,GEfectos!$J$4:$P$4,GEfectos!J147:P147),IF(EFECTOS!$N$9=\"REPÚBLICA \nDOMINICANA\",LOOKUP(6,$J$4:$P$4,J147:P147),IF(EFECTOS!$N$9=\"PANAMÁ\",LOOKUP(7,GEfectos!$J$4:$P$4,GEfectos!J147:P147))))))))","v":167.6854807063788},{"$f":"IF(EFECTOS!$N$9=\"COSTA RICA\",LOOKUP(1,GEfectos!$Q$4:$W$4,GEfectos!Q147:W147),IF(EFECTOS!$N$9=\"EL SALVADOR\",LOOKUP(2,GEfectos!$Q$4:$W$4,GEfectos!Q147:W147),IF(EFECTOS!$N$9=\"GUATEMALA\",LOOKUP(3,GEfectos!$Q$4:$W$4,GEfectos!Q147:W147),IF(EFECTOS!$N$9=\"HONDURAS\",LOOKUP(4,GEfectos!$Q$4:$W$4,GEfectos!Q147:W147),IF(EFECTOS!$N$9=\"NICARAGUA\",LOOKUP(5,GEfectos!$Q$4:$W$4,GEfectos!Q147:W147),IF(EFECTOS!$N$9=\"REPÚBLICA \nDOMINICANA\",LOOKUP(6,$Q$4:$W$4,Q147:W147),IF(EFECTOS!$N$9=\"PANAMÁ\",LOOKUP(7,GEfectos!$Q$4:$W$4,GEfectos!Q147:W147))))))))","v":156.75504011068193},100]
[null,{"$f":"'ITCER GLOBAL'!B148","v":"Noviembre"},{"$f":"'ITCER GLOBAL'!C148","v":105.71071691803569},{"$f":"'ITCER GLOBAL'!D148","v":100.46370042149006},{"$f":"'ITCER GLOBAL'!E148","v":77.459356716335719},{"$f":"'ITCER GLOBAL'!F148","v":99.978932087072678},{"$f":"'ITCER GLOBAL'!G148","v":113.02256633309197},{"$f":"'ITCER GLOBAL'!H148","v":106.42661543636761},{"$f":"'ITCER GLOBAL'!I148","v":111.61730281898902},{"$f":"'ITCER GLOBAL'!S148","v":167.33472408531321},{"$f":"'ITCER GLOBAL'!T148","v":98.181883037252419},{"$f":"'ITCER GLOBAL'!U148","v":97.395641831120926},{"$f":"'ITCER GLOBAL'!V148","v":126.10656643021818},{"$f":"'ITCER GLOBAL'!W148","v":132.41636540707469},{"$f":"'ITCER GLOBAL'!X148","v":205.78249650393627},{"$f":"'ITCER GLOBAL'!Y148","v":99.830505905459233},{"$f":"'ITCER GLOBAL'!AA148","v":158.29494772517583},{"$f":"'ITCER GLOBAL'!AB148","v":97.728714575847405},{"$f":"'ITCER GLOBAL'!AC148","v":125.73773648520472},{"$f":"'ITCER GLOBAL'!AD148","v":126.13314005033649},{"$f":"'ITCER GLOBAL'!AE148","v":117.15922731468218},{"$f":"'ITCER GLOBAL'!AF148","v":193.35623486680683},{"$f":"'ITCER GLOBAL'!AG148","v":89.439991277477333},null,{"$f":"IF(EFECTOS!$N$9=\"COSTA RICA\",LOOKUP(1,GEfectos!$C$4:$I$4,GEfectos!C148:I148),IF(EFECTOS!$N$9=\"EL SALVADOR\",LOOKUP(2,GEfectos!$C$4:$I$4,GEfectos!C148:I148),IF(EFECTOS!$N$9=\"GUATEMALA\",LOOKUP(3,GEfectos!$C$4:$I$4,GEfectos!C148:I148),IF(EFECTOS!$N$9=\"HONDURAS\",LOOKUP(4,GEfectos!$C$4:$I$4,GEfectos!C148:I148),IF(EFECTOS!$N$9=\"NICARAGUA\",LOOKUP(5,GEfectos!$C$4:$I$4,GEfectos!C148:I148),IF(EFECTOS!$N$9=\"REPÚBLICA \nDOMINICANA\",LOOKUP(6,$C$4:$I$4,C148:I148),IF(EFECTOS!$N$9=\"PANAMÁ\",LOOKUP(7,GEfectos!$C$4:$I$4,GEfectos!C148:I148))))))))","v":105.71071691803569},{"$f":"IF(EFECTOS!$N$9=\"COSTA RICA\",LOOKUP(1,GEfectos!$J$4:$P$4,GEfectos!J148:P148),IF(EFECTOS!$N$9=\"EL SALVADOR\",LOOKUP(2,GEfectos!$J$4:$P$4,GEfectos!J148:P148),IF(EFECTOS!$N$9=\"GUATEMALA\",LOOKUP(3,GEfectos!$J$4:$P$4,GEfectos!J148:P148),IF(EFECTOS!$N$9=\"HONDURAS\",LOOKUP(4,GEfectos!$J$4:$P$4,GEfectos!J148:P148),IF(EFECTOS!$N$9=\"NICARAGUA\",LOOKUP(5,GEfectos!$J$4:$P$4,GEfectos!J148:P148),IF(EFECTOS!$N$9=\"REPÚBLICA \nDOMINICANA\",LOOKUP(6,$J$4:$P$4,J148:P148),IF(EFECTOS!$N$9=\"PANAMÁ\",LOOKUP(7,GEfectos!$J$4:$P$4,GEfectos!J148:P148))))))))","v":167.33472408531321},{"$f":"IF(EFECTOS!$N$9=\"COSTA RICA\",LOOKUP(1,GEfectos!$Q$4:$W$4,GEfectos!Q148:W148),IF(EFECTOS!$N$9=\"EL SALVADOR\",LOOKUP(2,GEfectos!$Q$4:$W$4,GEfectos!Q148:W148),IF(EFECTOS!$N$9=\"GUATEMALA\",LOOKUP(3,GEfectos!$Q$4:$W$4,GEfectos!Q148:W148),IF(EFECTOS!$N$9=\"HONDURAS\",LOOKUP(4,GEfectos!$Q$4:$W$4,GEfectos!Q148:W148),IF(EFECTOS!$N$9=\"NICARAGUA\",LOOKUP(5,GEfectos!$Q$4:$W$4,GEfectos!Q148:W148),IF(EFECTOS!$N$9=\"REPÚBLICA \nDOMINICANA\",LOOKUP(6,$Q$4:$W$4,Q148:W148),IF(EFECTOS!$N$9=\"PANAMÁ\",LOOKUP(7,GEfectos!$Q$4:$W$4,GEfectos!Q148:W148))))))))","v":158.29494772517583},100]
[null,{"$f":"'ITCER GLOBAL'!B149","v":"Diciembre"},{"$f":"'ITCER GLOBAL'!C149","v":105.62359092895269},{"$f":"'ITCER GLOBAL'!D149","v":100.2592643550137},{"$f":"'ITCER GLOBAL'!E149","v":76.95320612877677},{"$f":"'ITCER GLOBAL'!F149","v":99.986161222390592},{"$f":"'ITCER GLOBAL'!G149","v":112.6199537467984},{"$f":"'ITCER GLOBAL'!H149","v":104.7280919597049},{"$f":"'ITCER GLOBAL'!I149","v":111.90623066432511},{"$f":"'ITCER GLOBAL'!S149","v":168.1920813253229},{"$f":"'ITCER GLOBAL'!T149","v":98.376398061637076},{"$f":"'ITCER GLOBAL'!U149","v":97.593178728775598},{"$f":"'ITCER GLOBAL'!V149","v":126.54906207955196},{"$f":"'ITCER GLOBAL'!W149","v":133.29531866369175},{"$f":"'ITCER GLOBAL'!X149","v":203.47357237745928},{"$f":"'ITCER GLOBAL'!Y149","v":100.26506818424991},{"$f":"'ITCER GLOBAL'!AA149","v":159.23723085542193},{"$f":"'ITCER GLOBAL'!AB149","v":98.122002684251214},{"$f":"'ITCER GLOBAL'!AC149","v":126.8214589596943},{"$f":"'ITCER GLOBAL'!AD149","v":126.56657734671882},{"$f":"'ITCER GLOBAL'!AE149","v":118.35852726718166},{"$f":"'ITCER GLOBAL'!AF149","v":194.28748158206454},{"$f":"'ITCER GLOBAL'!AG149","v":89.597395595430143},null,{"$f":"IF(EFECTOS!$N$9=\"COSTA RICA\",LOOKUP(1,GEfectos!$C$4:$I$4,GEfectos!C149:I149),IF(EFECTOS!$N$9=\"EL SALVADOR\",LOOKUP(2,GEfectos!$C$4:$I$4,GEfectos!C149:I149),IF(EFECTOS!$N$9=\"GUATEMALA\",LOOKUP(3,GEfectos!$C$4:$I$4,GEfectos!C149:I149),IF(EFECTOS!$N$9=\"HONDURAS\",LOOKUP(4,GEfectos!$C$4:$I$4,GEfectos!C149:I149),IF(EFECTOS!$N$9=\"NICARAGUA\",LOOKUP(5,GEfectos!$C$4:$I$4,GEfectos!C149:I149),IF(EFECTOS!$N$9=\"REPÚBLICA \nDOMINICANA\",LOOKUP(6,$C$4:$I$4,C149:I149),IF(EFECTOS!$N$9=\"PANAMÁ\",LOOKUP(7,GEfectos!$C$4:$I$4,GEfectos!C149:I149))))))))","v":105.62359092895269},{"$f":"IF(EFECTOS!$N$9=\"COSTA RICA\",LOOKUP(1,GEfectos!$J$4:$P$4,GEfectos!J149:P149),IF(EFECTOS!$N$9=\"EL SALVADOR\",LOOKUP(2,GEfectos!$J$4:$P$4,GEfectos!J149:P149),IF(EFECTOS!$N$9=\"GUATEMALA\",LOOKUP(3,GEfectos!$J$4:$P$4,GEfectos!J149:P149),IF(EFECTOS!$N$9=\"HONDURAS\",LOOKUP(4,GEfectos!$J$4:$P$4,GEfectos!J149:P149),IF(EFECTOS!$N$9=\"NICARAGUA\",LOOKUP(5,GEfectos!$J$4:$P$4,GEfectos!J149:P149),IF(EFECTOS!$N$9=\"REPÚBLICA \nDOMINICANA\",LOOKUP(6,$J$4:$P$4,J149:P149),IF(EFECTOS!$N$9=\"PANAMÁ\",LOOKUP(7,GEfectos!$J$4:$P$4,GEfectos!J149:P149))))))))","v":168.1920813253229},{"$f":"IF(EFECTOS!$N$9=\"COSTA RICA\",LOOKUP(1,GEfectos!$Q$4:$W$4,GEfectos!Q149:W149),IF(EFECTOS!$N$9=\"EL SALVADOR\",LOOKUP(2,GEfectos!$Q$4:$W$4,GEfectos!Q149:W149),IF(EFECTOS!$N$9=\"GUATEMALA\",LOOKUP(3,GEfectos!$Q$4:$W$4,GEfectos!Q149:W149),IF(EFECTOS!$N$9=\"HONDURAS\",LOOKUP(4,GEfectos!$Q$4:$W$4,GEfectos!Q149:W149),IF(EFECTOS!$N$9=\"NICARAGUA\",LOOKUP(5,GEfectos!$Q$4:$W$4,GEfectos!Q149:W149),IF(EFECTOS!$N$9=\"REPÚBLICA \nDOMINICANA\",LOOKUP(6,$Q$4:$W$4,Q149:W149),IF(EFECTOS!$N$9=\"PANAMÁ\",LOOKUP(7,GEfectos!$Q$4:$W$4,GEfectos!Q149:W149))))))))","v":159.23723085542193},100]
[2007,{"$f":"'ITCER GLOBAL'!B150","v":"Enero"},{"$f":"'ITCER GLOBAL'!C150","v":105.22963921569622},{"$f":"'ITCER GLOBAL'!D150","v":99.725015165868527},{"$f":"'ITCER GLOBAL'!E150","v":76.951771777363064},{"$f":"'ITCER GLOBAL'!F150","v":98.862146071763362},{"$f":"'ITCER GLOBAL'!G150","v":112.0902968109599},{"$f":"'ITCER GLOBAL'!H150","v":109.1215710330471},{"$f":"'ITCER GLOBAL'!I150","v":111.9362435910846},{"$f":"'ITCER GLOBAL'!S150","v":168.88989421277992},{"$f":"'ITCER GLOBAL'!T150","v":97.774213491554946},{"$f":"'ITCER GLOBAL'!U150","v":98.184684481170052},{"$f":"'ITCER GLOBAL'!V150","v":124.58981163464922},{"$f":"'ITCER GLOBAL'!W150","v":133.13739451650065},{"$f":"'ITCER GLOBAL'!X150","v":206.39745811896611},{"$f":"'ITCER GLOBAL'!Y150","v":100.21361765172136},{"$f":"'ITCER GLOBAL'!AA150","v":160.49650599542113},{"$f":"'ITCER GLOBAL'!AB150","v":98.043819124951852},{"$f":"'ITCER GLOBAL'!AC150","v":127.59249360136641},{"$f":"'ITCER GLOBAL'!AD150","v":126.02377814478186},{"$f":"'ITCER GLOBAL'!AE150","v":118.77691317120576},{"$f":"'ITCER GLOBAL'!AF150","v":189.1445075112228},{"$f":"'ITCER GLOBAL'!AG150","v":89.527408135842677},null,{"$f":"IF(EFECTOS!$N$9=\"COSTA RICA\",LOOKUP(1,GEfectos!$C$4:$I$4,GEfectos!C150:I150),IF(EFECTOS!$N$9=\"EL SALVADOR\",LOOKUP(2,GEfectos!$C$4:$I$4,GEfectos!C150:I150),IF(EFECTOS!$N$9=\"GUATEMALA\",LOOKUP(3,GEfectos!$C$4:$I$4,GEfectos!C150:I150),IF(EFECTOS!$N$9=\"HONDURAS\",LOOKUP(4,GEfectos!$C$4:$I$4,GEfectos!C150:I150),IF(EFECTOS!$N$9=\"NICARAGUA\",LOOKUP(5,GEfectos!$C$4:$I$4,GEfectos!C150:I150),IF(EFECTOS!$N$9=\"REPÚBLICA \nDOMINICANA\",LOOKUP(6,$C$4:$I$4,C150:I150),IF(EFECTOS!$N$9=\"PANAMÁ\",LOOKUP(7,GEfectos!$C$4:$I$4,GEfectos!C150:I150))))))))","v":105.22963921569622},{"$f":"IF(EFECTOS!$N$9=\"COSTA RICA\",LOOKUP(1,GEfectos!$J$4:$P$4,GEfectos!J150:P150),IF(EFECTOS!$N$9=\"EL SALVADOR\",LOOKUP(2,GEfectos!$J$4:$P$4,GEfectos!J150:P150),IF(EFECTOS!$N$9=\"GUATEMALA\",LOOKUP(3,GEfectos!$J$4:$P$4,GEfectos!J150:P150),IF(EFECTOS!$N$9=\"HONDURAS\",LOOKUP(4,GEfectos!$J$4:$P$4,GEfectos!J150:P150),IF(EFECTOS!$N$9=\"NICARAGUA\",LOOKUP(5,GEfectos!$J$4:$P$4,GEfectos!J150:P150),IF(EFECTOS!$N$9=\"REPÚBLICA \nDOMINICANA\",LOOKUP(6,$J$4:$P$4,J150:P150),IF(EFECTOS!$N$9=\"PANAMÁ\",LOOKUP(7,GEfectos!$J$4:$P$4,GEfectos!J150:P150))))))))","v":168.88989421277992},{"$f":"IF(EFECTOS!$N$9=\"COSTA RICA\",LOOKUP(1,GEfectos!$Q$4:$W$4,GEfectos!Q150:W150),IF(EFECTOS!$N$9=\"EL SALVADOR\",LOOKUP(2,GEfectos!$Q$4:$W$4,GEfectos!Q150:W150),IF(EFECTOS!$N$9=\"GUATEMALA\",LOOKUP(3,GEfectos!$Q$4:$W$4,GEfectos!Q150:W150),IF(EFECTOS!$N$9=\"HONDURAS\",LOOKUP(4,GEfectos!$Q$4:$W$4,GEfectos!Q150:W150),IF(EFECTOS!$N$9=\"NICARAGUA\",LOOKUP(5,GEfectos!$Q$4:$W$4,GEfectos!Q150:W150),IF(EFECTOS!$N$9=\"REPÚBLICA \nDOMINICANA\",LOOKUP(6,$Q$4:$W$4,Q150:W150),IF(EFECTOS!$N$9=\"PANAMÁ\",LOOKUP(7,GEfectos!$Q$4:$W$4,GEfectos!Q150:W150))))))))","v":160.49650599542113},100]
[null,{"$f":"'ITCER GLOBAL'!B151","v":"Febrero"},{"$f":"'ITCER GLOBAL'!C151","v":105.79006313080542},{"$f":"'ITCER GLOBAL'!D151","v":100.53364007745375},{"$f":"'ITCER GLOBAL'!E151","v":77.277968013106943},{"$f":"'ITCER GLOBAL'!F151","v":98.444256332158517},{"$f":"'ITCER GLOBAL'!G151","v":111.84942357849323},{"$f":"'ITCER GLOBAL'!H151","v":108.38471499049655},{"$f":"'ITCER GLOBAL'!I151","v":112.30327153451283},{"$f":"'ITCER GLOBAL'!S151","v":169.54034608165958},{"$f":"'ITCER GLOBAL'!T151","v":97.837129571488873},{"$f":"'ITCER GLOBAL'!U151","v":98.488832996275718},{"$f":"'ITCER GLOBAL'!V151","v":124.68024456024725},{"$f":"'ITCER GLOBAL'!W151","v":133.89436750689333},{"$f":"'ITCER GLOBAL'!X151","v":204.56047054322838},{"$f":"'ITCER GLOBAL'!Y151","v":100.37843895771535},{"$f":"'ITCER GLOBAL'!AA151","v":160.26112572787611},{"$f":"'ITCER GLOBAL'!AB151","v":97.317802773392643},{"$f":"'ITCER GLOBAL'!AC151","v":127.44749315816797},{"$f":"'ITCER GLOBAL'!AD151","v":126.65060330139167},{"$f":"'ITCER GLOBAL'!AE151","v":119.70948371757098},{"$f":"'ITCER GLOBAL'!AF151","v":188.73553393683304},{"$f":"'ITCER GLOBAL'!AG151","v":89.381580417153955},null,{"$f":"IF(EFECTOS!$N$9=\"COSTA RICA\",LOOKUP(1,GEfectos!$C$4:$I$4,GEfectos!C151:I151),IF(EFECTOS!$N$9=\"EL SALVADOR\",LOOKUP(2,GEfectos!$C$4:$I$4,GEfectos!C151:I151),IF(EFECTOS!$N$9=\"GUATEMALA\",LOOKUP(3,GEfectos!$C$4:$I$4,GEfectos!C151:I151),IF(EFECTOS!$N$9=\"HONDURAS\",LOOKUP(4,GEfectos!$C$4:$I$4,GEfectos!C151:I151),IF(EFECTOS!$N$9=\"NICARAGUA\",LOOKUP(5,GEfectos!$C$4:$I$4,GEfectos!C151:I151),IF(EFECTOS!$N$9=\"REPÚBLICA \nDOMINICANA\",LOOKUP(6,$C$4:$I$4,C151:I151),IF(EFECTOS!$N$9=\"PANAMÁ\",LOOKUP(7,GEfectos!$C$4:$I$4,GEfectos!C151:I151))))))))","v":105.79006313080542},{"$f":"IF(EFECTOS!$N$9=\"COSTA RICA\",LOOKUP(1,GEfectos!$J$4:$P$4,GEfectos!J151:P151),IF(EFECTOS!$N$9=\"EL SALVADOR\",LOOKUP(2,GEfectos!$J$4:$P$4,GEfectos!J151:P151),IF(EFECTOS!$N$9=\"GUATEMALA\",LOOKUP(3,GEfectos!$J$4:$P$4,GEfectos!J151:P151),IF(EFECTOS!$N$9=\"HONDURAS\",LOOKUP(4,GEfectos!$J$4:$P$4,GEfectos!J151:P151),IF(EFECTOS!$N$9=\"NICARAGUA\",LOOKUP(5,GEfectos!$J$4:$P$4,GEfectos!J151:P151),IF(EFECTOS!$N$9=\"REPÚBLICA \nDOMINICANA\",LOOKUP(6,$J$4:$P$4,J151:P151),IF(EFECTOS!$N$9=\"PANAMÁ\",LOOKUP(7,GEfectos!$J$4:$P$4,GEfectos!J151:P151))))))))","v":169.54034608165958},{"$f":"IF(EFECTOS!$N$9=\"COSTA RICA\",LOOKUP(1,GEfectos!$Q$4:$W$4,GEfectos!Q151:W151),IF(EFECTOS!$N$9=\"EL SALVADOR\",LOOKUP(2,GEfectos!$Q$4:$W$4,GEfectos!Q151:W151),IF(EFECTOS!$N$9=\"GUATEMALA\",LOOKUP(3,GEfectos!$Q$4:$W$4,GEfectos!Q151:W151),IF(EFECTOS!$N$9=\"HONDURAS\",LOOKUP(4,GEfectos!$Q$4:$W$4,GEfectos!Q151:W151),IF(EFECTOS!$N$9=\"NICARAGUA\",LOOKUP(5,GEfectos!$Q$4:$W$4,GEfectos!Q151:W151),IF(EFECTOS!$N$9=\"REPÚBLICA \nDOMINICANA\",LOOKUP(6,$Q$4:$W$4,Q151:W151),IF(EFECTOS!$N$9=\"PANAMÁ\",LOOKUP(7,GEfectos!$Q$4:$W$4,GEfectos!Q151:W151))))))))","v":160.26112572787611},100]
[null,{"$f":"'ITCER GLOBAL'!B152","v":"Marzo"},{"$f":"'ITCER GLOBAL'!C152","v":105.98264753183022},{"$f":"'ITCER GLOBAL'!D152","v":100.74948537128579},{"$f":"'ITCER GLOBAL'!E152","v":77.184611359102007},{"$f":"'ITCER GLOBAL'!F152","v":98.657580464262281},{"$f":"'ITCER GLOBAL'!G152","v":111.72276866514972},{"$f":"'ITCER GLOBAL'!H152","v":106.73229057845811},{"$f":"'ITCER GLOBAL'!I152","v":112.52402701848504},{"$f":"'ITCER GLOBAL'!S152","v":169.93973066578823},{"$f":"'ITCER GLOBAL'!T152","v":97.917474770679419},{"$f":"'ITCER GLOBAL'!U152","v":98.525245234092665},{"$f":"'ITCER GLOBAL'!V152","v":124.88408365715611},{"$f":"'ITCER GLOBAL'!W152","v":134.40573620193567},{"$f":"'ITCER GLOBAL'!X152","v":201.47184634214472},{"$f":"'ITCER GLOBAL'!Y152","v":100.70660256806192},{"$f":"'ITCER GLOBAL'!AA152","v":160.34674979670564},{"$f":"'ITCER GLOBAL'!AB152","v":97.189057005929385},{"$f":"'ITCER GLOBAL'!AC152","v":127.64881949810332},{"$f":"'ITCER GLOBAL'!AD152","v":126.58336345719941},{"$f":"'ITCER GLOBAL'!AE152","v":120.30290495643756},{"$f":"'ITCER GLOBAL'!AF152","v":188.76372393979898},{"$f":"'ITCER GLOBAL'!AG152","v":89.497865688292691},null,{"$f":"IF(EFECTOS!$N$9=\"COSTA RICA\",LOOKUP(1,GEfectos!$C$4:$I$4,GEfectos!C152:I152),IF(EFECTOS!$N$9=\"EL SALVADOR\",LOOKUP(2,GEfectos!$C$4:$I$4,GEfectos!C152:I152),IF(EFECTOS!$N$9=\"GUATEMALA\",LOOKUP(3,GEfectos!$C$4:$I$4,GEfectos!C152:I152),IF(EFECTOS!$N$9=\"HONDURAS\",LOOKUP(4,GEfectos!$C$4:$I$4,GEfectos!C152:I152),IF(EFECTOS!$N$9=\"NICARAGUA\",LOOKUP(5,GEfectos!$C$4:$I$4,GEfectos!C152:I152),IF(EFECTOS!$N$9=\"REPÚBLICA \nDOMINICANA\",LOOKUP(6,$C$4:$I$4,C152:I152),IF(EFECTOS!$N$9=\"PANAMÁ\",LOOKUP(7,GEfectos!$C$4:$I$4,GEfectos!C152:I152))))))))","v":105.98264753183022},{"$f":"IF(EFECTOS!$N$9=\"COSTA RICA\",LOOKUP(1,GEfectos!$J$4:$P$4,GEfectos!J152:P152),IF(EFECTOS!$N$9=\"EL SALVADOR\",LOOKUP(2,GEfectos!$J$4:$P$4,GEfectos!J152:P152),IF(EFECTOS!$N$9=\"GUATEMALA\",LOOKUP(3,GEfectos!$J$4:$P$4,GEfectos!J152:P152),IF(EFECTOS!$N$9=\"HONDURAS\",LOOKUP(4,GEfectos!$J$4:$P$4,GEfectos!J152:P152),IF(EFECTOS!$N$9=\"NICARAGUA\",LOOKUP(5,GEfectos!$J$4:$P$4,GEfectos!J152:P152),IF(EFECTOS!$N$9=\"REPÚBLICA \nDOMINICANA\",LOOKUP(6,$J$4:$P$4,J152:P152),IF(EFECTOS!$N$9=\"PANAMÁ\",LOOKUP(7,GEfectos!$J$4:$P$4,GEfectos!J152:P152))))))))","v":169.93973066578823},{"$f":"IF(EFECTOS!$N$9=\"COSTA RICA\",LOOKUP(1,GEfectos!$Q$4:$W$4,GEfectos!Q152:W152),IF(EFECTOS!$N$9=\"EL SALVADOR\",LOOKUP(2,GEfectos!$Q$4:$W$4,GEfectos!Q152:W152),IF(EFECTOS!$N$9=\"GUATEMALA\",LOOKUP(3,GEfectos!$Q$4:$W$4,GEfectos!Q152:W152),IF(EFECTOS!$N$9=\"HONDURAS\",LOOKUP(4,GEfectos!$Q$4:$W$4,GEfectos!Q152:W152),IF(EFECTOS!$N$9=\"NICARAGUA\",LOOKUP(5,GEfectos!$Q$4:$W$4,GEfectos!Q152:W152),IF(EFECTOS!$N$9=\"REPÚBLICA \nDOMINICANA\",LOOKUP(6,$Q$4:$W$4,Q152:W152),IF(EFECTOS!$N$9=\"PANAMÁ\",LOOKUP(7,GEfectos!$Q$4:$W$4,GEfectos!Q152:W152))))))))","v":160.34674979670564},100]
[null,{"$f":"'ITCER GLOBAL'!B153","v":"Abril"},{"$f":"'ITCER GLOBAL'!C153","v":106.0239871119914},{"$f":"'ITCER GLOBAL'!D153","v":101.58431446060585},{"$f":"'ITCER GLOBAL'!E153","v":77.378548597994453},{"$f":"'ITCER GLOBAL'!F153","v":98.993578904016729},{"$f":"'ITCER GLOBAL'!G153","v":111.74635777116522},{"$f":"'ITCER GLOBAL'!H153","v":105.13301170423343},{"$f":"'ITCER GLOBAL'!I153","v":113.03605836650927},{"$f":"'ITCER GLOBAL'!S153","v":170.73224438651121},{"$f":"'ITCER GLOBAL'!T153","v":98.291325370178654},{"$f":"'ITCER GLOBAL'!U153","v":98.528138761317521},{"$f":"'ITCER GLOBAL'!V153","v":125.37764833944701},{"$f":"'ITCER GLOBAL'!W153","v":135.21751794820872},{"$f":"'ITCER GLOBAL'!X153","v":198.92236283877293},{"$f":"'ITCER GLOBAL'!Y153","v":101.27382485821077},{"$f":"'ITCER GLOBAL'!AA153","v":161.03171464978914},{"$f":"'ITCER GLOBAL'!AB153","v":96.758368545466524},{"$f":"'ITCER GLOBAL'!AC153","v":127.33262712538294},{"$f":"'ITCER GLOBAL'!AD153","v":126.65230384388062},{"$f":"'ITCER GLOBAL'!AE153","v":121.00395990096418},{"$f":"'ITCER GLOBAL'!AF153","v":189.21018204861608},{"$f":"'ITCER GLOBAL'!AG153","v":89.594264274360569},null,{"$f":"IF(EFECTOS!$N$9=\"COSTA RICA\",LOOKUP(1,GEfectos!$C$4:$I$4,GEfectos!C153:I153),IF(EFECTOS!$N$9=\"EL SALVADOR\",LOOKUP(2,GEfectos!$C$4:$I$4,GEfectos!C153:I153),IF(EFECTOS!$N$9=\"GUATEMALA\",LOOKUP(3,GEfectos!$C$4:$I$4,GEfectos!C153:I153),IF(EFECTOS!$N$9=\"HONDURAS\",LOOKUP(4,GEfectos!$C$4:$I$4,GEfectos!C153:I153),IF(EFECTOS!$N$9=\"NICARAGUA\",LOOKUP(5,GEfectos!$C$4:$I$4,GEfectos!C153:I153),IF(EFECTOS!$N$9=\"REPÚBLICA \nDOMINICANA\",LOOKUP(6,$C$4:$I$4,C153:I153),IF(EFECTOS!$N$9=\"PANAMÁ\",LOOKUP(7,GEfectos!$C$4:$I$4,GEfectos!C153:I153))))))))","v":106.0239871119914},{"$f":"IF(EFECTOS!$N$9=\"COSTA RICA\",LOOKUP(1,GEfectos!$J$4:$P$4,GEfectos!J153:P153),IF(EFECTOS!$N$9=\"EL SALVADOR\",LOOKUP(2,GEfectos!$J$4:$P$4,GEfectos!J153:P153),IF(EFECTOS!$N$9=\"GUATEMALA\",LOOKUP(3,GEfectos!$J$4:$P$4,GEfectos!J153:P153),IF(EFECTOS!$N$9=\"HONDURAS\",LOOKUP(4,GEfectos!$J$4:$P$4,GEfectos!J153:P153),IF(EFECTOS!$N$9=\"NICARAGUA\",LOOKUP(5,GEfectos!$J$4:$P$4,GEfectos!J153:P153),IF(EFECTOS!$N$9=\"REPÚBLICA \nDOMINICANA\",LOOKUP(6,$J$4:$P$4,J153:P153),IF(EFECTOS!$N$9=\"PANAMÁ\",LOOKUP(7,GEfectos!$J$4:$P$4,GEfectos!J153:P153))))))))","v":170.73224438651121},{"$f":"IF(EFECTOS!$N$9=\"COSTA RICA\",LOOKUP(1,GEfectos!$Q$4:$W$4,GEfectos!Q153:W153),IF(EFECTOS!$N$9=\"EL SALVADOR\",LOOKUP(2,GEfectos!$Q$4:$W$4,GEfectos!Q153:W153),IF(EFECTOS!$N$9=\"GUATEMALA\",LOOKUP(3,GEfectos!$Q$4:$W$4,GEfectos!Q153:W153),IF(EFECTOS!$N$9=\"HONDURAS\",LOOKUP(4,GEfectos!$Q$4:$W$4,GEfectos!Q153:W153),IF(EFECTOS!$N$9=\"NICARAGUA\",LOOKUP(5,GEfectos!$Q$4:$W$4,GEfectos!Q153:W153),IF(EFECTOS!$N$9=\"REPÚBLICA \nDOMINICANA\",LOOKUP(6,$Q$4:$W$4,Q153:W153),IF(EFECTOS!$N$9=\"PANAMÁ\",LOOKUP(7,GEfectos!$Q$4:$W$4,GEfectos!Q153:W153))))))))","v":161.03171464978914},100]
[null,{"$f":"'ITCER GLOBAL'!B154","v":"Mayo"},{"$f":"'ITCER GLOBAL'!C154","v":105.66945042126146},{"$f":"'ITCER GLOBAL'!D154","v":102.67732678806742},{"$f":"'ITCER GLOBAL'!E154","v":77.930248600940644},{"$f":"'ITCER GLOBAL'!F154","v":99.159025353430778},{"$f":"'ITCER GLOBAL'!G154","v":111.81753315357896},{"$f":"'ITCER GLOBAL'!H154","v":104.6980009467114},{"$f":"'ITCER GLOBAL'!I154","v":113.38540190794255},{"$f":"'ITCER GLOBAL'!S154","v":171.26155953972417},{"$f":"'ITCER GLOBAL'!T154","v":98.556788084266657},{"$f":"'ITCER GLOBAL'!U154","v":98.608096440386532},{"$f":"'ITCER GLOBAL'!V154","v":125.64444135741365},{"$f":"'ITCER GLOBAL'!W154","v":135.97144269638812},{"$f":"'ITCER GLOBAL'!X154","v":199.22566387455657},{"$f":"'ITCER GLOBAL'!Y154","v":101.72886683002017},{"$f":"'ITCER GLOBAL'!AA154","v":162.07291592506013},{"$f":"'ITCER GLOBAL'!AB154","v":95.986904964612279},{"$f":"'ITCER GLOBAL'!AC154","v":126.53378913922302},{"$f":"'ITCER GLOBAL'!AD154","v":126.71004067414071},{"$f":"'ITCER GLOBAL'!AE154","v":121.60118262458381},{"$f":"'ITCER GLOBAL'!AF154","v":190.28602463571136},{"$f":"'ITCER GLOBAL'!AG154","v":89.719545125053841},null,{"$f":"IF(EFECTOS!$N$9=\"COSTA RICA\",LOOKUP(1,GEfectos!$C$4:$I$4,GEfectos!C154:I154),IF(EFECTOS!$N$9=\"EL SALVADOR\",LOOKUP(2,GEfectos!$C$4:$I$4,GEfectos!C154:I154),IF(EFECTOS!$N$9=\"GUATEMALA\",LOOKUP(3,GEfectos!$C$4:$I$4,GEfectos!C154:I154),IF(EFECTOS!$N$9=\"HONDURAS\",LOOKUP(4,GEfectos!$C$4:$I$4,GEfectos!C154:I154),IF(EFECTOS!$N$9=\"NICARAGUA\",LOOKUP(5,GEfectos!$C$4:$I$4,GEfectos!C154:I154),IF(EFECTOS!$N$9=\"REPÚBLICA \nDOMINICANA\",LOOKUP(6,$C$4:$I$4,C154:I154),IF(EFECTOS!$N$9=\"PANAMÁ\",LOOKUP(7,GEfectos!$C$4:$I$4,GEfectos!C154:I154))))))))","v":105.66945042126146},{"$f":"IF(EFECTOS!$N$9=\"COSTA RICA\",LOOKUP(1,GEfectos!$J$4:$P$4,GEfectos!J154:P154),IF(EFECTOS!$N$9=\"EL SALVADOR\",LOOKUP(2,GEfectos!$J$4:$P$4,GEfectos!J154:P154),IF(EFECTOS!$N$9=\"GUATEMALA\",LOOKUP(3,GEfectos!$J$4:$P$4,GEfectos!J154:P154),IF(EFECTOS!$N$9=\"HONDURAS\",LOOKUP(4,GEfectos!$J$4:$P$4,GEfectos!J154:P154),IF(EFECTOS!$N$9=\"NICARAGUA\",LOOKUP(5,GEfectos!$J$4:$P$4,GEfectos!J154:P154),IF(EFECTOS!$N$9=\"REPÚBLICA \nDOMINICANA\",LOOKUP(6,$J$4:$P$4,J154:P154),IF(EFECTOS!$N$9=\"PANAMÁ\",LOOKUP(7,GEfectos!$J$4:$P$4,GEfectos!J154:P154))))))))","v":171.26155953972417},{"$f":"IF(EFECTOS!$N$9=\"COSTA RICA\",LOOKUP(1,GEfectos!$Q$4:$W$4,GEfectos!Q154:W154),IF(EFECTOS!$N$9=\"EL SALVADOR\",LOOKUP(2,GEfectos!$Q$4:$W$4,GEfectos!Q154:W154),IF(EFECTOS!$N$9=\"GUATEMALA\",LOOKUP(3,GEfectos!$Q$4:$W$4,GEfectos!Q154:W154),IF(EFECTOS!$N$9=\"HONDURAS\",LOOKUP(4,GEfectos!$Q$4:$W$4,GEfectos!Q154:W154),IF(EFECTOS!$N$9=\"NICARAGUA\",LOOKUP(5,GEfectos!$Q$4:$W$4,GEfectos!Q154:W154),IF(EFECTOS!$N$9=\"REPÚBLICA \nDOMINICANA\",LOOKUP(6,$Q$4:$W$4,Q154:W154),IF(EFECTOS!$N$9=\"PANAMÁ\",LOOKUP(7,GEfectos!$Q$4:$W$4,GEfectos!Q154:W154))))))))","v":162.07291592506013},100]
[null,{"$f":"'ITCER GLOBAL'!B155","v":"Junio"},{"$f":"'ITCER GLOBAL'!C155","v":105.33533864234309},{"$f":"'ITCER GLOBAL'!D155","v":102.29790346903046},{"$f":"'ITCER GLOBAL'!E155","v":78.209145557191832},{"$f":"'ITCER GLOBAL'!F155","v":99.019435421410819},{"$f":"'ITCER GLOBAL'!G155","v":111.23673437346334},{"$f":"'ITCER GLOBAL'!H155","v":105.6131792932796},{"$f":"'ITCER GLOBAL'!I155","v":113.2506010147479},{"$f":"'ITCER GLOBAL'!S155","v":171.30568740253321},{"$f":"'ITCER GLOBAL'!T155","v":98.577830961104141},{"$f":"'ITCER GLOBAL'!U155","v":99.15160503302495},{"$f":"'ITCER GLOBAL'!V155","v":125.60231812071963},{"$f":"'ITCER GLOBAL'!W155","v":136.2491377013331},{"$f":"'ITCER GLOBAL'!X155","v":201.3773603123303},{"$f":"'ITCER GLOBAL'!Y155","v":101.86627726582853},{"$f":"'ITCER GLOBAL'!AA155","v":162.62888562421264},{"$f":"'ITCER GLOBAL'!AB155","v":96.363490959467683},{"$f":"'ITCER GLOBAL'!AC155","v":126.77750706344003},{"$f":"'ITCER GLOBAL'!AD155","v":126.8461263045748},{"$f":"'ITCER GLOBAL'!AE155","v":122.48574040648637},{"$f":"'ITCER GLOBAL'!AF155","v":190.67446095256824},{"$f":"'ITCER GLOBAL'!AG155","v":89.947670346193689},null,{"$f":"IF(EFECTOS!$N$9=\"COSTA RICA\",LOOKUP(1,GEfectos!$C$4:$I$4,GEfectos!C155:I155),IF(EFECTOS!$N$9=\"EL SALVADOR\",LOOKUP(2,GEfectos!$C$4:$I$4,GEfectos!C155:I155),IF(EFECTOS!$N$9=\"GUATEMALA\",LOOKUP(3,GEfectos!$C$4:$I$4,GEfectos!C155:I155),IF(EFECTOS!$N$9=\"HONDURAS\",LOOKUP(4,GEfectos!$C$4:$I$4,GEfectos!C155:I155),IF(EFECTOS!$N$9=\"NICARAGUA\",LOOKUP(5,GEfectos!$C$4:$I$4,GEfectos!C155:I155),IF(EFECTOS!$N$9=\"REPÚBLICA \nDOMINICANA\",LOOKUP(6,$C$4:$I$4,C155:I155),IF(EFECTOS!$N$9=\"PANAMÁ\",LOOKUP(7,GEfectos!$C$4:$I$4,GEfectos!C155:I155))))))))","v":105.33533864234309},{"$f":"IF(EFECTOS!$N$9=\"COSTA RICA\",LOOKUP(1,GEfectos!$J$4:$P$4,GEfectos!J155:P155),IF(EFECTOS!$N$9=\"EL SALVADOR\",LOOKUP(2,GEfectos!$J$4:$P$4,GEfectos!J155:P155),IF(EFECTOS!$N$9=\"GUATEMALA\",LOOKUP(3,GEfectos!$J$4:$P$4,GEfectos!J155:P155),IF(EFECTOS!$N$9=\"HONDURAS\",LOOKUP(4,GEfectos!$J$4:$P$4,GEfectos!J155:P155),IF(EFECTOS!$N$9=\"NICARAGUA\",LOOKUP(5,GEfectos!$J$4:$P$4,GEfectos!J155:P155),IF(EFECTOS!$N$9=\"REPÚBLICA \nDOMINICANA\",LOOKUP(6,$J$4:$P$4,J155:P155),IF(EFECTOS!$N$9=\"PANAMÁ\",LOOKUP(7,GEfectos!$J$4:$P$4,GEfectos!J155:P155))))))))","v":171.30568740253321},{"$f":"IF(EFECTOS!$N$9=\"COSTA RICA\",LOOKUP(1,GEfectos!$Q$4:$W$4,GEfectos!Q155:W155),IF(EFECTOS!$N$9=\"EL SALVADOR\",LOOKUP(2,GEfectos!$Q$4:$W$4,GEfectos!Q155:W155),IF(EFECTOS!$N$9=\"GUATEMALA\",LOOKUP(3,GEfectos!$Q$4:$W$4,GEfectos!Q155:W155),IF(EFECTOS!$N$9=\"HONDURAS\",LOOKUP(4,GEfectos!$Q$4:$W$4,GEfectos!Q155:W155),IF(EFECTOS!$N$9=\"NICARAGUA\",LOOKUP(5,GEfectos!$Q$4:$W$4,GEfectos!Q155:W155),IF(EFECTOS!$N$9=\"REPÚBLICA \nDOMINICANA\",LOOKUP(6,$Q$4:$W$4,Q155:W155),IF(EFECTOS!$N$9=\"PANAMÁ\",LOOKUP(7,GEfectos!$Q$4:$W$4,GEfectos!Q155:W155))))))))","v":162.62888562421264},100]
[null,{"$f":"'ITCER GLOBAL'!B156","v":"Julio"},{"$f":"'ITCER GLOBAL'!C156","v":105.03082213517668},{"$f":"'ITCER GLOBAL'!D156","v":102.09883164215096},{"$f":"'ITCER GLOBAL'!E156","v":78.082136114027932},{"$f":"'ITCER GLOBAL'!F156","v":98.89643419758886},{"$f":"'ITCER GLOBAL'!G156","v":111.60814379122833},{"$f":"'ITCER GLOBAL'!H156","v":107.59929788468143},{"$f":"'ITCER GLOBAL'!I156","v":113.40089680794104},{"$f":"'ITCER GLOBAL'!S156","v":172.12564528751025},{"$f":"'ITCER GLOBAL'!T156","v":98.84522505061166},{"$f":"'ITCER GLOBAL'!U156","v":99.464292027701077},{"$f":"'ITCER GLOBAL'!V156","v":126.00993978741386},{"$f":"'ITCER GLOBAL'!W156","v":137.34073675238236},{"$f":"'ITCER GLOBAL'!X156","v":205.5847923560215},{"$f":"'ITCER GLOBAL'!Y156","v":102.31219145684169},{"$f":"'ITCER GLOBAL'!AA156","v":163.88107965677088},{"$f":"'ITCER GLOBAL'!AB156","v":96.813277351749761},{"$f":"'ITCER GLOBAL'!AC156","v":127.38418411408155},{"$f":"'ITCER GLOBAL'!AD156","v":127.41605985070596},{"$f":"'ITCER GLOBAL'!AE156","v":123.05619651670654},{"$f":"'ITCER GLOBAL'!AF156","v":191.06518016163557},{"$f":"'ITCER GLOBAL'!AG156","v":90.221677549976093},null,{"$f":"IF(EFECTOS!$N$9=\"COSTA RICA\",LOOKUP(1,GEfectos!$C$4:$I$4,GEfectos!C156:I156),IF(EFECTOS!$N$9=\"EL SALVADOR\",LOOKUP(2,GEfectos!$C$4:$I$4,GEfectos!C156:I156),IF(EFECTOS!$N$9=\"GUATEMALA\",LOOKUP(3,GEfectos!$C$4:$I$4,GEfectos!C156:I156),IF(EFECTOS!$N$9=\"HONDURAS\",LOOKUP(4,GEfectos!$C$4:$I$4,GEfectos!C156:I156),IF(EFECTOS!$N$9=\"NICARAGUA\",LOOKUP(5,GEfectos!$C$4:$I$4,GEfectos!C156:I156),IF(EFECTOS!$N$9=\"REPÚBLICA \nDOMINICANA\",LOOKUP(6,$C$4:$I$4,C156:I156),IF(EFECTOS!$N$9=\"PANAMÁ\",LOOKUP(7,GEfectos!$C$4:$I$4,GEfectos!C156:I156))))))))","v":105.03082213517668},{"$f":"IF(EFECTOS!$N$9=\"COSTA RICA\",LOOKUP(1,GEfectos!$J$4:$P$4,GEfectos!J156:P156),IF(EFECTOS!$N$9=\"EL SALVADOR\",LOOKUP(2,GEfectos!$J$4:$P$4,GEfectos!J156:P156),IF(EFECTOS!$N$9=\"GUATEMALA\",LOOKUP(3,GEfectos!$J$4:$P$4,GEfectos!J156:P156),IF(EFECTOS!$N$9=\"HONDURAS\",LOOKUP(4,GEfectos!$J$4:$P$4,GEfectos!J156:P156),IF(EFECTOS!$N$9=\"NICARAGUA\",LOOKUP(5,GEfectos!$J$4:$P$4,GEfectos!J156:P156),IF(EFECTOS!$N$9=\"REPÚBLICA \nDOMINICANA\",LOOKUP(6,$J$4:$P$4,J156:P156),IF(EFECTOS!$N$9=\"PANAMÁ\",LOOKUP(7,GEfectos!$J$4:$P$4,GEfectos!J156:P156))))))))","v":172.12564528751025},{"$f":"IF(EFECTOS!$N$9=\"COSTA RICA\",LOOKUP(1,GEfectos!$Q$4:$W$4,GEfectos!Q156:W156),IF(EFECTOS!$N$9=\"EL SALVADOR\",LOOKUP(2,GEfectos!$Q$4:$W$4,GEfectos!Q156:W156),IF(EFECTOS!$N$9=\"GUATEMALA\",LOOKUP(3,GEfectos!$Q$4:$W$4,GEfectos!Q156:W156),IF(EFECTOS!$N$9=\"HONDURAS\",LOOKUP(4,GEfectos!$Q$4:$W$4,GEfectos!Q156:W156),IF(EFECTOS!$N$9=\"NICARAGUA\",LOOKUP(5,GEfectos!$Q$4:$W$4,GEfectos!Q156:W156),IF(EFECTOS!$N$9=\"REPÚBLICA \nDOMINICANA\",LOOKUP(6,$Q$4:$W$4,Q156:W156),IF(EFECTOS!$N$9=\"PANAMÁ\",LOOKUP(7,GEfectos!$Q$4:$W$4,GEfectos!Q156:W156))))))))","v":163.88107965677088},100]
[null,{"$f":"'ITCER GLOBAL'!B157","v":"Agosto"},{"$f":"'ITCER GLOBAL'!C157","v":104.1359001912309},{"$f":"'ITCER GLOBAL'!D157","v":102.14720536930392},{"$f":"'ITCER GLOBAL'!E157","v":76.98730504513442},{"$f":"'ITCER GLOBAL'!F157","v":98.058578117285506},{"$f":"'ITCER GLOBAL'!G157","v":112.14902029673091},{"$f":"'ITCER GLOBAL'!H157","v":107.57587258697339},{"$f":"'ITCER GLOBAL'!I157","v":112.82207880018923},{"$f":"'ITCER GLOBAL'!S157","v":171.61478744864752},{"$f":"'ITCER GLOBAL'!T157","v":98.544141522747921},{"$f":"'ITCER GLOBAL'!U157","v":98.886508344373084},{"$f":"'ITCER GLOBAL'!V157","v":125.70130160705075},{"$f":"'ITCER GLOBAL'!W157","v":138.01101904497895},{"$f":"'ITCER GLOBAL'!X157","v":204.23138787953184},{"$f":"'ITCER GLOBAL'!Y157","v":101.86098575156002},{"$f":"'ITCER GLOBAL'!AA157","v":164.7988706425941},{"$f":"'ITCER GLOBAL'!AB157","v":96.472675063865466},{"$f":"'ITCER GLOBAL'!AC157","v":128.44521351461788},{"$f":"'ITCER GLOBAL'!AD157","v":128.1900105227943},{"$f":"'ITCER GLOBAL'!AE157","v":123.06038758057873},{"$f":"'ITCER GLOBAL'!AF157","v":189.84869280461936},{"$f":"'ITCER GLOBAL'!AG157","v":90.28462055902942},null,{"$f":"IF(EFECTOS!$N$9=\"COSTA RICA\",LOOKUP(1,GEfectos!$C$4:$I$4,GEfectos!C157:I157),IF(EFECTOS!$N$9=\"EL SALVADOR\",LOOKUP(2,GEfectos!$C$4:$I$4,GEfectos!C157:I157),IF(EFECTOS!$N$9=\"GUATEMALA\",LOOKUP(3,GEfectos!$C$4:$I$4,GEfectos!C157:I157),IF(EFECTOS!$N$9=\"HONDURAS\",LOOKUP(4,GEfectos!$C$4:$I$4,GEfectos!C157:I157),IF(EFECTOS!$N$9=\"NICARAGUA\",LOOKUP(5,GEfectos!$C$4:$I$4,GEfectos!C157:I157),IF(EFECTOS!$N$9=\"REPÚBLICA \nDOMINICANA\",LOOKUP(6,$C$4:$I$4,C157:I157),IF(EFECTOS!$N$9=\"PANAMÁ\",LOOKUP(7,GEfectos!$C$4:$I$4,GEfectos!C157:I157))))))))","v":104.1359001912309},{"$f":"IF(EFECTOS!$N$9=\"COSTA RICA\",LOOKUP(1,GEfectos!$J$4:$P$4,GEfectos!J157:P157),IF(EFECTOS!$N$9=\"EL SALVADOR\",LOOKUP(2,GEfectos!$J$4:$P$4,GEfectos!J157:P157),IF(EFECTOS!$N$9=\"GUATEMALA\",LOOKUP(3,GEfectos!$J$4:$P$4,GEfectos!J157:P157),IF(EFECTOS!$N$9=\"HONDURAS\",LOOKUP(4,GEfectos!$J$4:$P$4,GEfectos!J157:P157),IF(EFECTOS!$N$9=\"NICARAGUA\",LOOKUP(5,GEfectos!$J$4:$P$4,GEfectos!J157:P157),IF(EFECTOS!$N$9=\"REPÚBLICA \nDOMINICANA\",LOOKUP(6,$J$4:$P$4,J157:P157),IF(EFECTOS!$N$9=\"PANAMÁ\",LOOKUP(7,GEfectos!$J$4:$P$4,GEfectos!J157:P157))))))))","v":171.61478744864752},{"$f":"IF(EFECTOS!$N$9=\"COSTA RICA\",LOOKUP(1,GEfectos!$Q$4:$W$4,GEfectos!Q157:W157),IF(EFECTOS!$N$9=\"EL SALVADOR\",LOOKUP(2,GEfectos!$Q$4:$W$4,GEfectos!Q157:W157),IF(EFECTOS!$N$9=\"GUATEMALA\",LOOKUP(3,GEfectos!$Q$4:$W$4,GEfectos!Q157:W157),IF(EFECTOS!$N$9=\"HONDURAS\",LOOKUP(4,GEfectos!$Q$4:$W$4,GEfectos!Q157:W157),IF(EFECTOS!$N$9=\"NICARAGUA\",LOOKUP(5,GEfectos!$Q$4:$W$4,GEfectos!Q157:W157),IF(EFECTOS!$N$9=\"REPÚBLICA \nDOMINICANA\",LOOKUP(6,$Q$4:$W$4,Q157:W157),IF(EFECTOS!$N$9=\"PANAMÁ\",LOOKUP(7,GEfectos!$Q$4:$W$4,GEfectos!Q157:W157))))))))","v":164.7988706425941},100]
[null,{"$f":"'ITCER GLOBAL'!B158","v":"Septiembre"},{"$f":"'ITCER GLOBAL'!C158","v":104.29916652012858},{"$f":"'ITCER GLOBAL'!D158","v":102.10750451276631},{"$f":"'ITCER GLOBAL'!E158","v":77.38092152533001},{"$f":"'ITCER GLOBAL'!F158","v":98.370644776604735},{"$f":"'ITCER GLOBAL'!G158","v":112.34659292234831},{"$f":"'ITCER GLOBAL'!H158","v":108.18955320785197},{"$f":"'ITCER GLOBAL'!I158","v":113.06195043070704},{"$f":"'ITCER GLOBAL'!S158","v":172.35697711605681},{"$f":"'ITCER GLOBAL'!T158","v":98.767579346920385},{"$f":"'ITCER GLOBAL'!U158","v":99.659070315890986},{"$f":"'ITCER GLOBAL'!V158","v":126.05373563120077},{"$f":"'ITCER GLOBAL'!W158","v":139.19945632141946},{"$f":"'ITCER GLOBAL'!X158","v":207.21424958847123},{"$f":"'ITCER GLOBAL'!Y158","v":102.2756290450202},{"$f":"'ITCER GLOBAL'!AA158","v":165.25249708759065},{"$f":"'ITCER GLOBAL'!AB158","v":96.729011073394375},{"$f":"'ITCER GLOBAL'!AC158","v":128.79023453251125},{"$f":"'ITCER GLOBAL'!AD158","v":128.14161777374042},{"$f":"'ITCER GLOBAL'!AE158","v":123.90180485280162},{"$f":"'ITCER GLOBAL'!AF158","v":191.52888929153323},{"$f":"'ITCER GLOBAL'!AG158","v":90.459813098397305},null,{"$f":"IF(EFECTOS!$N$9=\"COSTA RICA\",LOOKUP(1,GEfectos!$C$4:$I$4,GEfectos!C158:I158),IF(EFECTOS!$N$9=\"EL SALVADOR\",LOOKUP(2,GEfectos!$C$4:$I$4,GEfectos!C158:I158),IF(EFECTOS!$N$9=\"GUATEMALA\",LOOKUP(3,GEfectos!$C$4:$I$4,GEfectos!C158:I158),IF(EFECTOS!$N$9=\"HONDURAS\",LOOKUP(4,GEfectos!$C$4:$I$4,GEfectos!C158:I158),IF(EFECTOS!$N$9=\"NICARAGUA\",LOOKUP(5,GEfectos!$C$4:$I$4,GEfectos!C158:I158),IF(EFECTOS!$N$9=\"REPÚBLICA \nDOMINICANA\",LOOKUP(6,$C$4:$I$4,C158:I158),IF(EFECTOS!$N$9=\"PANAMÁ\",LOOKUP(7,GEfectos!$C$4:$I$4,GEfectos!C158:I158))))))))","v":104.29916652012858},{"$f":"IF(EFECTOS!$N$9=\"COSTA RICA\",LOOKUP(1,GEfectos!$J$4:$P$4,GEfectos!J158:P158),IF(EFECTOS!$N$9=\"EL SALVADOR\",LOOKUP(2,GEfectos!$J$4:$P$4,GEfectos!J158:P158),IF(EFECTOS!$N$9=\"GUATEMALA\",LOOKUP(3,GEfectos!$J$4:$P$4,GEfectos!J158:P158),IF(EFECTOS!$N$9=\"HONDURAS\",LOOKUP(4,GEfectos!$J$4:$P$4,GEfectos!J158:P158),IF(EFECTOS!$N$9=\"NICARAGUA\",LOOKUP(5,GEfectos!$J$4:$P$4,GEfectos!J158:P158),IF(EFECTOS!$N$9=\"REPÚBLICA \nDOMINICANA\",LOOKUP(6,$J$4:$P$4,J158:P158),IF(EFECTOS!$N$9=\"PANAMÁ\",LOOKUP(7,GEfectos!$J$4:$P$4,GEfectos!J158:P158))))))))","v":172.35697711605681},{"$f":"IF(EFECTOS!$N$9=\"COSTA RICA\",LOOKUP(1,GEfectos!$Q$4:$W$4,GEfectos!Q158:W158),IF(EFECTOS!$N$9=\"EL SALVADOR\",LOOKUP(2,GEfectos!$Q$4:$W$4,GEfectos!Q158:W158),IF(EFECTOS!$N$9=\"GUATEMALA\",LOOKUP(3,GEfectos!$Q$4:$W$4,GEfectos!Q158:W158),IF(EFECTOS!$N$9=\"HONDURAS\",LOOKUP(4,GEfectos!$Q$4:$W$4,GEfectos!Q158:W158),IF(EFECTOS!$N$9=\"NICARAGUA\",LOOKUP(5,GEfectos!$Q$4:$W$4,GEfectos!Q158:W158),IF(EFECTOS!$N$9=\"REPÚBLICA \nDOMINICANA\",LOOKUP(6,$Q$4:$W$4,Q158:W158),IF(EFECTOS!$N$9=\"PANAMÁ\",LOOKUP(7,GEfectos!$Q$4:$W$4,GEfectos!Q158:W158))))))))","v":165.25249708759065},100]
[null,{"$f":"'ITCER GLOBAL'!B159","v":"Octubre"},{"$f":"'ITCER GLOBAL'!C159","v":104.85901629627612},{"$f":"'ITCER GLOBAL'!D159","v":102.29929831432609},{"$f":"'ITCER GLOBAL'!E159","v":78.102804652018833},{"$f":"'ITCER GLOBAL'!F159","v":98.045298830625683},{"$f":"'ITCER GLOBAL'!G159","v":111.99023868101771},{"$f":"'ITCER GLOBAL'!H159","v":109.17299749153642},{"$f":"'ITCER GLOBAL'!I159","v":113.81165218577127},{"$f":"'ITCER GLOBAL'!S159","v":173.6626760539981},{"$f":"'ITCER GLOBAL'!T159","v":99.244588589568878},{"$f":"'ITCER GLOBAL'!U159","v":100.5417431884733},{"$f":"'ITCER GLOBAL'!V159","v":126.67626885095081},{"$f":"'ITCER GLOBAL'!W159","v":141.05072408729382},{"$f":"'ITCER GLOBAL'!X159","v":209.55318158067615},{"$f":"'ITCER GLOBAL'!Y159","v":103.18796942708013},{"$f":"'ITCER GLOBAL'!AA159","v":165.61539692811846},{"$f":"'ITCER GLOBAL'!AB159","v":97.013948506888809},{"$f":"'ITCER GLOBAL'!AC159","v":128.73000353371364},{"$f":"'ITCER GLOBAL'!AD159","v":129.20177750672721},{"$f":"'ITCER GLOBAL'!AE159","v":125.94912355624959},{"$f":"'ITCER GLOBAL'!AF159","v":191.94598151151951},{"$f":"'ITCER GLOBAL'!AG159","v":90.665557915501992},null,{"$f":"IF(EFECTOS!$N$9=\"COSTA RICA\",LOOKUP(1,GEfectos!$C$4:$I$4,GEfectos!C159:I159),IF(EFECTOS!$N$9=\"EL SALVADOR\",LOOKUP(2,GEfectos!$C$4:$I$4,GEfectos!C159:I159),IF(EFECTOS!$N$9=\"GUATEMALA\",LOOKUP(3,GEfectos!$C$4:$I$4,GEfectos!C159:I159),IF(EFECTOS!$N$9=\"HONDURAS\",LOOKUP(4,GEfectos!$C$4:$I$4,GEfectos!C159:I159),IF(EFECTOS!$N$9=\"NICARAGUA\",LOOKUP(5,GEfectos!$C$4:$I$4,GEfectos!C159:I159),IF(EFECTOS!$N$9=\"REPÚBLICA \nDOMINICANA\",LOOKUP(6,$C$4:$I$4,C159:I159),IF(EFECTOS!$N$9=\"PANAMÁ\",LOOKUP(7,GEfectos!$C$4:$I$4,GEfectos!C159:I159))))))))","v":104.85901629627612},{"$f":"IF(EFECTOS!$N$9=\"COSTA RICA\",LOOKUP(1,GEfectos!$J$4:$P$4,GEfectos!J159:P159),IF(EFECTOS!$N$9=\"EL SALVADOR\",LOOKUP(2,GEfectos!$J$4:$P$4,GEfectos!J159:P159),IF(EFECTOS!$N$9=\"GUATEMALA\",LOOKUP(3,GEfectos!$J$4:$P$4,GEfectos!J159:P159),IF(EFECTOS!$N$9=\"HONDURAS\",LOOKUP(4,GEfectos!$J$4:$P$4,GEfectos!J159:P159),IF(EFECTOS!$N$9=\"NICARAGUA\",LOOKUP(5,GEfectos!$J$4:$P$4,GEfectos!J159:P159),IF(EFECTOS!$N$9=\"REPÚBLICA \nDOMINICANA\",LOOKUP(6,$J$4:$P$4,J159:P159),IF(EFECTOS!$N$9=\"PANAMÁ\",LOOKUP(7,GEfectos!$J$4:$P$4,GEfectos!J159:P159))))))))","v":173.6626760539981},{"$f":"IF(EFECTOS!$N$9=\"COSTA RICA\",LOOKUP(1,GEfectos!$Q$4:$W$4,GEfectos!Q159:W159),IF(EFECTOS!$N$9=\"EL SALVADOR\",LOOKUP(2,GEfectos!$Q$4:$W$4,GEfectos!Q159:W159),IF(EFECTOS!$N$9=\"GUATEMALA\",LOOKUP(3,GEfectos!$Q$4:$W$4,GEfectos!Q159:W159),IF(EFECTOS!$N$9=\"HONDURAS\",LOOKUP(4,GEfectos!$Q$4:$W$4,GEfectos!Q159:W159),IF(EFECTOS!$N$9=\"NICARAGUA\",LOOKUP(5,GEfectos!$Q$4:$W$4,GEfectos!Q159:W159),IF(EFECTOS!$N$9=\"REPÚBLICA \nDOMINICANA\",LOOKUP(6,$Q$4:$W$4,Q159:W159),IF(EFECTOS!$N$9=\"PANAMÁ\",LOOKUP(7,GEfectos!$Q$4:$W$4,GEfectos!Q159:W159))))))))","v":165.61539692811846},100]
[null,{"$f":"'ITCER GLOBAL'!B160","v":"Noviembre"},{"$f":"'ITCER GLOBAL'!C160","v":104.02138112396594},{"$f":"'ITCER GLOBAL'!D160","v":102.35535200375023},{"$f":"'ITCER GLOBAL'!E160","v":76.71041992189825},{"$f":"'ITCER GLOBAL'!F160","v":97.800186432897107},{"$f":"'ITCER GLOBAL'!G160","v":109.4846380715631},{"$f":"'ITCER GLOBAL'!H160","v":108.07017416751236},{"$f":"'ITCER GLOBAL'!I160","v":114.12594957208297},{"$f":"'ITCER GLOBAL'!S160","v":173.14848082266539},{"$f":"'ITCER GLOBAL'!T160","v":99.696864004840123},{"$f":"'ITCER GLOBAL'!U160","v":99.839511354027891},{"$f":"'ITCER GLOBAL'!V160","v":127.41245036923804},{"$f":"'ITCER GLOBAL'!W160","v":142.60681620263549},{"$f":"'ITCER GLOBAL'!X160","v":209.9189177396886},{"$f":"'ITCER GLOBAL'!Y160","v":103.91386675454012},{"$f":"'ITCER GLOBAL'!AA160","v":166.45470282337268},{"$f":"'ITCER GLOBAL'!AB160","v":97.402687844976882},{"$f":"'ITCER GLOBAL'!AC160","v":130.15117301623201},{"$f":"'ITCER GLOBAL'!AD160","v":130.27833076438822},{"$f":"'ITCER GLOBAL'!AE160","v":130.25280871771486},{"$f":"'ITCER GLOBAL'!AF160","v":194.2431566866056},{"$f":"'ITCER GLOBAL'!AG160","v":91.051918642663466},null,{"$f":"IF(EFECTOS!$N$9=\"COSTA RICA\",LOOKUP(1,GEfectos!$C$4:$I$4,GEfectos!C160:I160),IF(EFECTOS!$N$9=\"EL SALVADOR\",LOOKUP(2,GEfectos!$C$4:$I$4,GEfectos!C160:I160),IF(EFECTOS!$N$9=\"GUATEMALA\",LOOKUP(3,GEfectos!$C$4:$I$4,GEfectos!C160:I160),IF(EFECTOS!$N$9=\"HONDURAS\",LOOKUP(4,GEfectos!$C$4:$I$4,GEfectos!C160:I160),IF(EFECTOS!$N$9=\"NICARAGUA\",LOOKUP(5,GEfectos!$C$4:$I$4,GEfectos!C160:I160),IF(EFECTOS!$N$9=\"REPÚBLICA \nDOMINICANA\",LOOKUP(6,$C$4:$I$4,C160:I160),IF(EFECTOS!$N$9=\"PANAMÁ\",LOOKUP(7,GEfectos!$C$4:$I$4,GEfectos!C160:I160))))))))","v":104.02138112396594},{"$f":"IF(EFECTOS!$N$9=\"COSTA RICA\",LOOKUP(1,GEfectos!$J$4:$P$4,GEfectos!J160:P160),IF(EFECTOS!$N$9=\"EL SALVADOR\",LOOKUP(2,GEfectos!$J$4:$P$4,GEfectos!J160:P160),IF(EFECTOS!$N$9=\"GUATEMALA\",LOOKUP(3,GEfectos!$J$4:$P$4,GEfectos!J160:P160),IF(EFECTOS!$N$9=\"HONDURAS\",LOOKUP(4,GEfectos!$J$4:$P$4,GEfectos!J160:P160),IF(EFECTOS!$N$9=\"NICARAGUA\",LOOKUP(5,GEfectos!$J$4:$P$4,GEfectos!J160:P160),IF(EFECTOS!$N$9=\"REPÚBLICA \nDOMINICANA\",LOOKUP(6,$J$4:$P$4,J160:P160),IF(EFECTOS!$N$9=\"PANAMÁ\",LOOKUP(7,GEfectos!$J$4:$P$4,GEfectos!J160:P160))))))))","v":173.14848082266539},{"$f":"IF(EFECTOS!$N$9=\"COSTA RICA\",LOOKUP(1,GEfectos!$Q$4:$W$4,GEfectos!Q160:W160),IF(EFECTOS!$N$9=\"EL SALVADOR\",LOOKUP(2,GEfectos!$Q$4:$W$4,GEfectos!Q160:W160),IF(EFECTOS!$N$9=\"GUATEMALA\",LOOKUP(3,GEfectos!$Q$4:$W$4,GEfectos!Q160:W160),IF(EFECTOS!$N$9=\"HONDURAS\",LOOKUP(4,GEfectos!$Q$4:$W$4,GEfectos!Q160:W160),IF(EFECTOS!$N$9=\"NICARAGUA\",LOOKUP(5,GEfectos!$Q$4:$W$4,GEfectos!Q160:W160),IF(EFECTOS!$N$9=\"REPÚBLICA \nDOMINICANA\",LOOKUP(6,$Q$4:$W$4,Q160:W160),IF(EFECTOS!$N$9=\"PANAMÁ\",LOOKUP(7,GEfectos!$Q$4:$W$4,GEfectos!Q160:W160))))))))","v":166.45470282337268},100]
[null,{"$f":"'ITCER GLOBAL'!B161","v":"Diciembre"},{"$f":"'ITCER GLOBAL'!C161","v":99.318434326953522},{"$f":"'ITCER GLOBAL'!D161","v":103.14476954585119},{"$f":"'ITCER GLOBAL'!E161","v":75.987194151513137},{"$f":"'ITCER GLOBAL'!F161","v":97.951868058602997},{"$f":"'ITCER GLOBAL'!G161","v":109.04979456886434},{"$f":"'ITCER GLOBAL'!H161","v":107.2822706189896},{"$f":"'ITCER GLOBAL'!I161","v":114.01379403007495},{"$f":"'ITCER GLOBAL'!S161","v":167.6461683783557},{"$f":"'ITCER GLOBAL'!T161","v":99.720053694108159},{"$f":"'ITCER GLOBAL'!U161","v":99.620712763137789},{"$f":"'ITCER GLOBAL'!V161","v":127.45618475074001},{"$f":"'ITCER GLOBAL'!W161","v":143.2090411983165},{"$f":"'ITCER GLOBAL'!X161","v":210.46211852315179},{"$f":"'ITCER GLOBAL'!Y161","v":103.94774177768895},{"$f":"'ITCER GLOBAL'!AA161","v":168.79662825379341},{"$f":"'ITCER GLOBAL'!AB161","v":96.679699933576728},{"$f":"'ITCER GLOBAL'!AC161","v":131.10197563618559},{"$f":"'ITCER GLOBAL'!AD161","v":130.1212394177976},{"$f":"'ITCER GLOBAL'!AE161","v":131.32444839947019},{"$f":"'ITCER GLOBAL'!AF161","v":196.17604783049654},{"$f":"'ITCER GLOBAL'!AG161","v":91.171197890554595},null,{"$f":"IF(EFECTOS!$N$9=\"COSTA RICA\",LOOKUP(1,GEfectos!$C$4:$I$4,GEfectos!C161:I161),IF(EFECTOS!$N$9=\"EL SALVADOR\",LOOKUP(2,GEfectos!$C$4:$I$4,GEfectos!C161:I161),IF(EFECTOS!$N$9=\"GUATEMALA\",LOOKUP(3,GEfectos!$C$4:$I$4,GEfectos!C161:I161),IF(EFECTOS!$N$9=\"HONDURAS\",LOOKUP(4,GEfectos!$C$4:$I$4,GEfectos!C161:I161),IF(EFECTOS!$N$9=\"NICARAGUA\",LOOKUP(5,GEfectos!$C$4:$I$4,GEfectos!C161:I161),IF(EFECTOS!$N$9=\"REPÚBLICA \nDOMINICANA\",LOOKUP(6,$C$4:$I$4,C161:I161),IF(EFECTOS!$N$9=\"PANAMÁ\",LOOKUP(7,GEfectos!$C$4:$I$4,GEfectos!C161:I161))))))))","v":99.318434326953522},{"$f":"IF(EFECTOS!$N$9=\"COSTA RICA\",LOOKUP(1,GEfectos!$J$4:$P$4,GEfectos!J161:P161),IF(EFECTOS!$N$9=\"EL SALVADOR\",LOOKUP(2,GEfectos!$J$4:$P$4,GEfectos!J161:P161),IF(EFECTOS!$N$9=\"GUATEMALA\",LOOKUP(3,GEfectos!$J$4:$P$4,GEfectos!J161:P161),IF(EFECTOS!$N$9=\"HONDURAS\",LOOKUP(4,GEfectos!$J$4:$P$4,GEfectos!J161:P161),IF(EFECTOS!$N$9=\"NICARAGUA\",LOOKUP(5,GEfectos!$J$4:$P$4,GEfectos!J161:P161),IF(EFECTOS!$N$9=\"REPÚBLICA \nDOMINICANA\",LOOKUP(6,$J$4:$P$4,J161:P161),IF(EFECTOS!$N$9=\"PANAMÁ\",LOOKUP(7,GEfectos!$J$4:$P$4,GEfectos!J161:P161))))))))","v":167.6461683783557},{"$f":"IF(EFECTOS!$N$9=\"COSTA RICA\",LOOKUP(1,GEfectos!$Q$4:$W$4,GEfectos!Q161:W161),IF(EFECTOS!$N$9=\"EL SALVADOR\",LOOKUP(2,GEfectos!$Q$4:$W$4,GEfectos!Q161:W161),IF(EFECTOS!$N$9=\"GUATEMALA\",LOOKUP(3,GEfectos!$Q$4:$W$4,GEfectos!Q161:W161),IF(EFECTOS!$N$9=\"HONDURAS\",LOOKUP(4,GEfectos!$Q$4:$W$4,GEfectos!Q161:W161),IF(EFECTOS!$N$9=\"NICARAGUA\",LOOKUP(5,GEfectos!$Q$4:$W$4,GEfectos!Q161:W161),IF(EFECTOS!$N$9=\"REPÚBLICA \nDOMINICANA\",LOOKUP(6,$Q$4:$W$4,Q161:W161),IF(EFECTOS!$N$9=\"PANAMÁ\",LOOKUP(7,GEfectos!$Q$4:$W$4,GEfectos!Q161:W161))))))))","v":168.79662825379341},100]
[2008,{"$f":"'ITCER GLOBAL'!B162","v":"Enero"},{"$f":"'ITCER GLOBAL'!C162","v":99.018804466184648},{"$f":"'ITCER GLOBAL'!D162","v":102.63544659473065},{"$f":"'ITCER GLOBAL'!E162","v":76.757549443763722},{"$f":"'ITCER GLOBAL'!F162","v":97.877371004498585},{"$f":"'ITCER GLOBAL'!G162","v":108.59959406044362},{"$f":"'ITCER GLOBAL'!H162","v":113.36302406473523},{"$f":"'ITCER GLOBAL'!I162","v":112.40879507957862},{"$f":"'ITCER GLOBAL'!S162","v":167.34112514410279},{"$f":"'ITCER GLOBAL'!T162","v":99.590740508349867},{"$f":"'ITCER GLOBAL'!U162","v":100.73910021905337},{"$f":"'ITCER GLOBAL'!V162","v":127.43655870924988},{"$f":"'ITCER GLOBAL'!W162","v":143.80309793761285},{"$f":"'ITCER GLOBAL'!X162","v":213.32812355103277},{"$f":"'ITCER GLOBAL'!Y162","v":104.44503578170541},{"$f":"'ITCER GLOBAL'!AA162","v":168.99933911164368},{"$f":"'ITCER GLOBAL'!AB162","v":97.033475093255845},{"$f":"'ITCER GLOBAL'!AC162","v":131.24324701488769},{"$f":"'ITCER GLOBAL'!AD162","v":130.20022646847832},{"$f":"'ITCER GLOBAL'!AE162","v":132.41587059485315},{"$f":"'ITCER GLOBAL'!AF162","v":188.18139804493316},{"$f":"'ITCER GLOBAL'!AG162","v":92.915359254375645},null,{"$f":"IF(EFECTOS!$N$9=\"COSTA RICA\",LOOKUP(1,GEfectos!$C$4:$I$4,GEfectos!C162:I162),IF(EFECTOS!$N$9=\"EL SALVADOR\",LOOKUP(2,GEfectos!$C$4:$I$4,GEfectos!C162:I162),IF(EFECTOS!$N$9=\"GUATEMALA\",LOOKUP(3,GEfectos!$C$4:$I$4,GEfectos!C162:I162),IF(EFECTOS!$N$9=\"HONDURAS\",LOOKUP(4,GEfectos!$C$4:$I$4,GEfectos!C162:I162),IF(EFECTOS!$N$9=\"NICARAGUA\",LOOKUP(5,GEfectos!$C$4:$I$4,GEfectos!C162:I162),IF(EFECTOS!$N$9=\"REPÚBLICA \nDOMINICANA\",LOOKUP(6,$C$4:$I$4,C162:I162),IF(EFECTOS!$N$9=\"PANAMÁ\",LOOKUP(7,GEfectos!$C$4:$I$4,GEfectos!C162:I162))))))))","v":99.018804466184648},{"$f":"IF(EFECTOS!$N$9=\"COSTA RICA\",LOOKUP(1,GEfectos!$J$4:$P$4,GEfectos!J162:P162),IF(EFECTOS!$N$9=\"EL SALVADOR\",LOOKUP(2,GEfectos!$J$4:$P$4,GEfectos!J162:P162),IF(EFECTOS!$N$9=\"GUATEMALA\",LOOKUP(3,GEfectos!$J$4:$P$4,GEfectos!J162:P162),IF(EFECTOS!$N$9=\"HONDURAS\",LOOKUP(4,GEfectos!$J$4:$P$4,GEfectos!J162:P162),IF(EFECTOS!$N$9=\"NICARAGUA\",LOOKUP(5,GEfectos!$J$4:$P$4,GEfectos!J162:P162),IF(EFECTOS!$N$9=\"REPÚBLICA \nDOMINICANA\",LOOKUP(6,$J$4:$P$4,J162:P162),IF(EFECTOS!$N$9=\"PANAMÁ\",LOOKUP(7,GEfectos!$J$4:$P$4,GEfectos!J162:P162))))))))","v":167.34112514410279},{"$f":"IF(EFECTOS!$N$9=\"COSTA RICA\",LOOKUP(1,GEfectos!$Q$4:$W$4,GEfectos!Q162:W162),IF(EFECTOS!$N$9=\"EL SALVADOR\",LOOKUP(2,GEfectos!$Q$4:$W$4,GEfectos!Q162:W162),IF(EFECTOS!$N$9=\"GUATEMALA\",LOOKUP(3,GEfectos!$Q$4:$W$4,GEfectos!Q162:W162),IF(EFECTOS!$N$9=\"HONDURAS\",LOOKUP(4,GEfectos!$Q$4:$W$4,GEfectos!Q162:W162),IF(EFECTOS!$N$9=\"NICARAGUA\",LOOKUP(5,GEfectos!$Q$4:$W$4,GEfectos!Q162:W162),IF(EFECTOS!$N$9=\"REPÚBLICA \nDOMINICANA\",LOOKUP(6,$Q$4:$W$4,Q162:W162),IF(EFECTOS!$N$9=\"PANAMÁ\",LOOKUP(7,GEfectos!$Q$4:$W$4,GEfectos!Q162:W162))))))))","v":168.99933911164368},100]
[null,{"$f":"'ITCER GLOBAL'!B163","v":"Febrero"},{"$f":"'ITCER GLOBAL'!C163","v":98.73759329898877},{"$f":"'ITCER GLOBAL'!D163","v":102.68931143342012},{"$f":"'ITCER GLOBAL'!E163","v":77.139446542971839},{"$f":"'ITCER GLOBAL'!F163","v":97.600674344338202},{"$f":"'ITCER GLOBAL'!G163","v":108.01700833139252},{"$f":"'ITCER GLOBAL'!H163","v":114.69619566989647},{"$f":"'ITCER GLOBAL'!I163","v":112.34527454209295},{"$f":"'ITCER GLOBAL'!S163","v":167.58096579500776},{"$f":"'ITCER GLOBAL'!T163","v":99.827715286915989},{"$f":"'ITCER GLOBAL'!U163","v":101.32040168328476},{"$f":"'ITCER GLOBAL'!V163","v":127.69757990641412},{"$f":"'ITCER GLOBAL'!W163","v":145.07848080894846},{"$f":"'ITCER GLOBAL'!X163","v":214.59642281807868},{"$f":"'ITCER GLOBAL'!Y163","v":104.87747823046847},{"$f":"'ITCER GLOBAL'!AA163","v":169.72356748412264},{"$f":"'ITCER GLOBAL'!AB163","v":97.213345667080958},{"$f":"'ITCER GLOBAL'!AC163","v":131.34706848958595},{"$f":"'ITCER GLOBAL'!AD163","v":130.83678034425574},{"$f":"'ITCER GLOBAL'!AE163","v":134.31077480303156},{"$f":"'ITCER GLOBAL'!AF163","v":187.09986112852596},{"$f":"'ITCER GLOBAL'!AG163","v":93.352816714310066},null,{"$f":"IF(EFECTOS!$N$9=\"COSTA RICA\",LOOKUP(1,GEfectos!$C$4:$I$4,GEfectos!C163:I163),IF(EFECTOS!$N$9=\"EL SALVADOR\",LOOKUP(2,GEfectos!$C$4:$I$4,GEfectos!C163:I163),IF(EFECTOS!$N$9=\"GUATEMALA\",LOOKUP(3,GEfectos!$C$4:$I$4,GEfectos!C163:I163),IF(EFECTOS!$N$9=\"HONDURAS\",LOOKUP(4,GEfectos!$C$4:$I$4,GEfectos!C163:I163),IF(EFECTOS!$N$9=\"NICARAGUA\",LOOKUP(5,GEfectos!$C$4:$I$4,GEfectos!C163:I163),IF(EFECTOS!$N$9=\"REPÚBLICA \nDOMINICANA\",LOOKUP(6,$C$4:$I$4,C163:I163),IF(EFECTOS!$N$9=\"PANAMÁ\",LOOKUP(7,GEfectos!$C$4:$I$4,GEfectos!C163:I163))))))))","v":98.73759329898877},{"$f":"IF(EFECTOS!$N$9=\"COSTA RICA\",LOOKUP(1,GEfectos!$J$4:$P$4,GEfectos!J163:P163),IF(EFECTOS!$N$9=\"EL SALVADOR\",LOOKUP(2,GEfectos!$J$4:$P$4,GEfectos!J163:P163),IF(EFECTOS!$N$9=\"GUATEMALA\",LOOKUP(3,GEfectos!$J$4:$P$4,GEfectos!J163:P163),IF(EFECTOS!$N$9=\"HONDURAS\",LOOKUP(4,GEfectos!$J$4:$P$4,GEfectos!J163:P163),IF(EFECTOS!$N$9=\"NICARAGUA\",LOOKUP(5,GEfectos!$J$4:$P$4,GEfectos!J163:P163),IF(EFECTOS!$N$9=\"REPÚBLICA \nDOMINICANA\",LOOKUP(6,$J$4:$P$4,J163:P163),IF(EFECTOS!$N$9=\"PANAMÁ\",LOOKUP(7,GEfectos!$J$4:$P$4,GEfectos!J163:P163))))))))","v":167.58096579500776},{"$f":"IF(EFECTOS!$N$9=\"COSTA RICA\",LOOKUP(1,GEfectos!$Q$4:$W$4,GEfectos!Q163:W163),IF(EFECTOS!$N$9=\"EL SALVADOR\",LOOKUP(2,GEfectos!$Q$4:$W$4,GEfectos!Q163:W163),IF(EFECTOS!$N$9=\"GUATEMALA\",LOOKUP(3,GEfectos!$Q$4:$W$4,GEfectos!Q163:W163),IF(EFECTOS!$N$9=\"HONDURAS\",LOOKUP(4,GEfectos!$Q$4:$W$4,GEfectos!Q163:W163),IF(EFECTOS!$N$9=\"NICARAGUA\",LOOKUP(5,GEfectos!$Q$4:$W$4,GEfectos!Q163:W163),IF(EFECTOS!$N$9=\"REPÚBLICA \nDOMINICANA\",LOOKUP(6,$Q$4:$W$4,Q163:W163),IF(EFECTOS!$N$9=\"PANAMÁ\",LOOKUP(7,GEfectos!$Q$4:$W$4,GEfectos!Q163:W163))))))))","v":169.72356748412264},100]
[null,{"$f":"'ITCER GLOBAL'!B164","v":"Marzo"},{"$f":"'ITCER GLOBAL'!C164","v":99.928411971985668},{"$f":"'ITCER GLOBAL'!D164","v":103.40708812616288},{"$f":"'ITCER GLOBAL'!E164","v":76.372061886744845},{"$f":"'ITCER GLOBAL'!F164","v":98.37952173856236},{"$f":"'ITCER GLOBAL'!G164","v":108.299996374514},{"$f":"'ITCER GLOBAL'!H164","v":114.86356801354844},{"$f":"'ITCER GLOBAL'!I164","v":113.01275955722679},{"$f":"'ITCER GLOBAL'!S164","v":169.09207268753431},{"$f":"'ITCER GLOBAL'!T164","v":100.47500724121672},{"$f":"'ITCER GLOBAL'!U164","v":100.73590130322729},{"$f":"'ITCER GLOBAL'!V164","v":128.79461882336895},{"$f":"'ITCER GLOBAL'!W164","v":146.7835663274567},{"$f":"'ITCER GLOBAL'!X164","v":216.74092369708032},{"$f":"'ITCER GLOBAL'!Y164","v":105.99655419693146},{"$f":"'ITCER GLOBAL'!AA164","v":169.21320908705951},{"$f":"'ITCER GLOBAL'!AB164","v":97.164526206009356},{"$f":"'ITCER GLOBAL'!AC164","v":131.90150797894205},{"$f":"'ITCER GLOBAL'!AD164","v":130.91608553010951},{"$f":"'ITCER GLOBAL'!AE164","v":135.53423013964107},{"$f":"'ITCER GLOBAL'!AF164","v":188.69422867964121},{"$f":"'ITCER GLOBAL'!AG164","v":93.791669730228548},null,{"$f":"IF(EFECTOS!$N$9=\"COSTA RICA\",LOOKUP(1,GEfectos!$C$4:$I$4,GEfectos!C164:I164),IF(EFECTOS!$N$9=\"EL SALVADOR\",LOOKUP(2,GEfectos!$C$4:$I$4,GEfectos!C164:I164),IF(EFECTOS!$N$9=\"GUATEMALA\",LOOKUP(3,GEfectos!$C$4:$I$4,GEfectos!C164:I164),IF(EFECTOS!$N$9=\"HONDURAS\",LOOKUP(4,GEfectos!$C$4:$I$4,GEfectos!C164:I164),IF(EFECTOS!$N$9=\"NICARAGUA\",LOOKUP(5,GEfectos!$C$4:$I$4,GEfectos!C164:I164),IF(EFECTOS!$N$9=\"REPÚBLICA \nDOMINICANA\",LOOKUP(6,$C$4:$I$4,C164:I164),IF(EFECTOS!$N$9=\"PANAMÁ\",LOOKUP(7,GEfectos!$C$4:$I$4,GEfectos!C164:I164))))))))","v":99.928411971985668},{"$f":"IF(EFECTOS!$N$9=\"COSTA RICA\",LOOKUP(1,GEfectos!$J$4:$P$4,GEfectos!J164:P164),IF(EFECTOS!$N$9=\"EL SALVADOR\",LOOKUP(2,GEfectos!$J$4:$P$4,GEfectos!J164:P164),IF(EFECTOS!$N$9=\"GUATEMALA\",LOOKUP(3,GEfectos!$J$4:$P$4,GEfectos!J164:P164),IF(EFECTOS!$N$9=\"HONDURAS\",LOOKUP(4,GEfectos!$J$4:$P$4,GEfectos!J164:P164),IF(EFECTOS!$N$9=\"NICARAGUA\",LOOKUP(5,GEfectos!$J$4:$P$4,GEfectos!J164:P164),IF(EFECTOS!$N$9=\"REPÚBLICA \nDOMINICANA\",LOOKUP(6,$J$4:$P$4,J164:P164),IF(EFECTOS!$N$9=\"PANAMÁ\",LOOKUP(7,GEfectos!$J$4:$P$4,GEfectos!J164:P164))))))))","v":169.09207268753431},{"$f":"IF(EFECTOS!$N$9=\"COSTA RICA\",LOOKUP(1,GEfectos!$Q$4:$W$4,GEfectos!Q164:W164),IF(EFECTOS!$N$9=\"EL SALVADOR\",LOOKUP(2,GEfectos!$Q$4:$W$4,GEfectos!Q164:W164),IF(EFECTOS!$N$9=\"GUATEMALA\",LOOKUP(3,GEfectos!$Q$4:$W$4,GEfectos!Q164:W164),IF(EFECTOS!$N$9=\"HONDURAS\",LOOKUP(4,GEfectos!$Q$4:$W$4,GEfectos!Q164:W164),IF(EFECTOS!$N$9=\"NICARAGUA\",LOOKUP(5,GEfectos!$Q$4:$W$4,GEfectos!Q164:W164),IF(EFECTOS!$N$9=\"REPÚBLICA \nDOMINICANA\",LOOKUP(6,$Q$4:$W$4,Q164:W164),IF(EFECTOS!$N$9=\"PANAMÁ\",LOOKUP(7,GEfectos!$Q$4:$W$4,GEfectos!Q164:W164))))))))","v":169.21320908705951},100]
[null,{"$f":"'ITCER GLOBAL'!B165","v":"Abril"},{"$f":"'ITCER GLOBAL'!C165","v":99.83314903749671},{"$f":"'ITCER GLOBAL'!D165","v":103.70772774184535},{"$f":"'ITCER GLOBAL'!E165","v":75.016480610836894},{"$f":"'ITCER GLOBAL'!F165","v":98.484526228779188},{"$f":"'ITCER GLOBAL'!G165","v":108.37322336424988},{"$f":"'ITCER GLOBAL'!H165","v":114.10347837722982},{"$f":"'ITCER GLOBAL'!I165","v":113.5371054531826},{"$f":"'ITCER GLOBAL'!S165","v":169.4666077218555},{"$f":"'ITCER GLOBAL'!T165","v":100.92083607979285},{"$f":"'ITCER GLOBAL'!U165","v":99.777734910523719},{"$f":"'ITCER GLOBAL'!V165","v":129.37285462277976},{"$f":"'ITCER GLOBAL'!W165","v":148.03424392433487},{"$f":"'ITCER GLOBAL'!X165","v":218.17511903847227},{"$f":"'ITCER GLOBAL'!Y165","v":106.37955251391575},{"$f":"'ITCER GLOBAL'!AA165","v":169.74983695866882},{"$f":"'ITCER GLOBAL'!AB165","v":97.312744457202101},{"$f":"'ITCER GLOBAL'!AC165","v":133.00775256058841},{"$f":"'ITCER GLOBAL'!AD165","v":131.36363607237863},{"$f":"'ITCER GLOBAL'!AE165","v":136.59669734726037},{"$f":"'ITCER GLOBAL'!AF165","v":191.20812278586129},{"$f":"'ITCER GLOBAL'!AG165","v":93.695846912163631},null,{"$f":"IF(EFECTOS!$N$9=\"COSTA RICA\",LOOKUP(1,GEfectos!$C$4:$I$4,GEfectos!C165:I165),IF(EFECTOS!$N$9=\"EL SALVADOR\",LOOKUP(2,GEfectos!$C$4:$I$4,GEfectos!C165:I165),IF(EFECTOS!$N$9=\"GUATEMALA\",LOOKUP(3,GEfectos!$C$4:$I$4,GEfectos!C165:I165),IF(EFECTOS!$N$9=\"HONDURAS\",LOOKUP(4,GEfectos!$C$4:$I$4,GEfectos!C165:I165),IF(EFECTOS!$N$9=\"NICARAGUA\",LOOKUP(5,GEfectos!$C$4:$I$4,GEfectos!C165:I165),IF(EFECTOS!$N$9=\"REPÚBLICA \nDOMINICANA\",LOOKUP(6,$C$4:$I$4,C165:I165),IF(EFECTOS!$N$9=\"PANAMÁ\",LOOKUP(7,GEfectos!$C$4:$I$4,GEfectos!C165:I165))))))))","v":99.83314903749671},{"$f":"IF(EFECTOS!$N$9=\"COSTA RICA\",LOOKUP(1,GEfectos!$J$4:$P$4,GEfectos!J165:P165),IF(EFECTOS!$N$9=\"EL SALVADOR\",LOOKUP(2,GEfectos!$J$4:$P$4,GEfectos!J165:P165),IF(EFECTOS!$N$9=\"GUATEMALA\",LOOKUP(3,GEfectos!$J$4:$P$4,GEfectos!J165:P165),IF(EFECTOS!$N$9=\"HONDURAS\",LOOKUP(4,GEfectos!$J$4:$P$4,GEfectos!J165:P165),IF(EFECTOS!$N$9=\"NICARAGUA\",LOOKUP(5,GEfectos!$J$4:$P$4,GEfectos!J165:P165),IF(EFECTOS!$N$9=\"REPÚBLICA \nDOMINICANA\",LOOKUP(6,$J$4:$P$4,J165:P165),IF(EFECTOS!$N$9=\"PANAMÁ\",LOOKUP(7,GEfectos!$J$4:$P$4,GEfectos!J165:P165))))))))","v":169.4666077218555},{"$f":"IF(EFECTOS!$N$9=\"COSTA RICA\",LOOKUP(1,GEfectos!$Q$4:$W$4,GEfectos!Q165:W165),IF(EFECTOS!$N$9=\"EL SALVADOR\",LOOKUP(2,GEfectos!$Q$4:$W$4,GEfectos!Q165:W165),IF(EFECTOS!$N$9=\"GUATEMALA\",LOOKUP(3,GEfectos!$Q$4:$W$4,GEfectos!Q165:W165),IF(EFECTOS!$N$9=\"HONDURAS\",LOOKUP(4,GEfectos!$Q$4:$W$4,GEfectos!Q165:W165),IF(EFECTOS!$N$9=\"NICARAGUA\",LOOKUP(5,GEfectos!$Q$4:$W$4,GEfectos!Q165:W165),IF(EFECTOS!$N$9=\"REPÚBLICA \nDOMINICANA\",LOOKUP(6,$Q$4:$W$4,Q165:W165),IF(EFECTOS!$N$9=\"PANAMÁ\",LOOKUP(7,GEfectos!$Q$4:$W$4,GEfectos!Q165:W165))))))))","v":169.74983695866882},100]
[null,{"$f":"'ITCER GLOBAL'!B166","v":"Mayo"},{"$f":"'ITCER GLOBAL'!C166","v":101.78788629450723},{"$f":"'ITCER GLOBAL'!D166","v":103.55326894290108},{"$f":"'ITCER GLOBAL'!E166","v":73.302116961723144},{"$f":"'ITCER GLOBAL'!F166","v":97.530719440730508},{"$f":"'ITCER GLOBAL'!G166","v":106.541338058653},{"$f":"'ITCER GLOBAL'!H166","v":114.38740724887158},{"$f":"'ITCER GLOBAL'!I166","v":112.92947941843845},{"$f":"'ITCER GLOBAL'!S166","v":174.86242007402109},{"$f":"'ITCER GLOBAL'!T166","v":100.92928160322055},{"$f":"'ITCER GLOBAL'!U166","v":98.10711268172949},{"$f":"'ITCER GLOBAL'!V166","v":129.26703077868683},{"$f":"'ITCER GLOBAL'!W166","v":148.37564091164597},{"$f":"'ITCER GLOBAL'!X166","v":217.8874033144663},{"$f":"'ITCER GLOBAL'!Y166","v":105.85089886736509},{"$f":"'ITCER GLOBAL'!AA166","v":171.79099246454945},{"$f":"'ITCER GLOBAL'!AB166","v":97.466050694037108},{"$f":"'ITCER GLOBAL'!AC166","v":133.83939884431851},{"$f":"'ITCER GLOBAL'!AD166","v":132.5398105539891},{"$f":"'ITCER GLOBAL'!AE166","v":139.2657944937414},{"$f":"'ITCER GLOBAL'!AF166","v":190.48198447265332},{"$f":"'ITCER GLOBAL'!AG166","v":93.731857626966431},null,{"$f":"IF(EFECTOS!$N$9=\"COSTA RICA\",LOOKUP(1,GEfectos!$C$4:$I$4,GEfectos!C166:I166),IF(EFECTOS!$N$9=\"EL SALVADOR\",LOOKUP(2,GEfectos!$C$4:$I$4,GEfectos!C166:I166),IF(EFECTOS!$N$9=\"GUATEMALA\",LOOKUP(3,GEfectos!$C$4:$I$4,GEfectos!C166:I166),IF(EFECTOS!$N$9=\"HONDURAS\",LOOKUP(4,GEfectos!$C$4:$I$4,GEfectos!C166:I166),IF(EFECTOS!$N$9=\"NICARAGUA\",LOOKUP(5,GEfectos!$C$4:$I$4,GEfectos!C166:I166),IF(EFECTOS!$N$9=\"REPÚBLICA \nDOMINICANA\",LOOKUP(6,$C$4:$I$4,C166:I166),IF(EFECTOS!$N$9=\"PANAMÁ\",LOOKUP(7,GEfectos!$C$4:$I$4,GEfectos!C166:I166))))))))","v":101.78788629450723},{"$f":"IF(EFECTOS!$N$9=\"COSTA RICA\",LOOKUP(1,GEfectos!$J$4:$P$4,GEfectos!J166:P166),IF(EFECTOS!$N$9=\"EL SALVADOR\",LOOKUP(2,GEfectos!$J$4:$P$4,GEfectos!J166:P166),IF(EFECTOS!$N$9=\"GUATEMALA\",LOOKUP(3,GEfectos!$J$4:$P$4,GEfectos!J166:P166),IF(EFECTOS!$N$9=\"HONDURAS\",LOOKUP(4,GEfectos!$J$4:$P$4,GEfectos!J166:P166),IF(EFECTOS!$N$9=\"NICARAGUA\",LOOKUP(5,GEfectos!$J$4:$P$4,GEfectos!J166:P166),IF(EFECTOS!$N$9=\"REPÚBLICA \nDOMINICANA\",LOOKUP(6,$J$4:$P$4,J166:P166),IF(EFECTOS!$N$9=\"PANAMÁ\",LOOKUP(7,GEfectos!$J$4:$P$4,GEfectos!J166:P166))))))))","v":174.86242007402109},{"$f":"IF(EFECTOS!$N$9=\"COSTA RICA\",LOOKUP(1,GEfectos!$Q$4:$W$4,GEfectos!Q166:W166),IF(EFECTOS!$N$9=\"EL SALVADOR\",LOOKUP(2,GEfectos!$Q$4:$W$4,GEfectos!Q166:W166),IF(EFECTOS!$N$9=\"GUATEMALA\",LOOKUP(3,GEfectos!$Q$4:$W$4,GEfectos!Q166:W166),IF(EFECTOS!$N$9=\"HONDURAS\",LOOKUP(4,GEfectos!$Q$4:$W$4,GEfectos!Q166:W166),IF(EFECTOS!$N$9=\"NICARAGUA\",LOOKUP(5,GEfectos!$Q$4:$W$4,GEfectos!Q166:W166),IF(EFECTOS!$N$9=\"REPÚBLICA \nDOMINICANA\",LOOKUP(6,$Q$4:$W$4,Q166:W166),IF(EFECTOS!$N$9=\"PANAMÁ\",LOOKUP(7,GEfectos!$Q$4:$W$4,GEfectos!Q166:W166))))))))","v":171.79099246454945},100]
[null,{"$f":"'ITCER GLOBAL'!B167","v":"Junio"},{"$f":"'ITCER GLOBAL'!C167","v":103.07857480591761},{"$f":"'ITCER GLOBAL'!D167","v":103.29127288390673},{"$f":"'ITCER GLOBAL'!E167","v":73.398045162661631},{"$f":"'ITCER GLOBAL'!F167","v":97.161096611361913},{"$f":"'ITCER GLOBAL'!G167","v":105.66223140723386},{"$f":"'ITCER GLOBAL'!H167","v":113.26268645250173},{"$f":"'ITCER GLOBAL'!I167","v":112.49250187830148},{"$f":"'ITCER GLOBAL'!S167","v":178.17106212681378},{"$f":"'ITCER GLOBAL'!T167","v":100.932370050233},{"$f":"'ITCER GLOBAL'!U167","v":98.972626509858571},{"$f":"'ITCER GLOBAL'!V167","v":129.07565810232609},{"$f":"'ITCER GLOBAL'!W167","v":148.99056154924034},{"$f":"'ITCER GLOBAL'!X167","v":219.07457010766089},{"$f":"'ITCER GLOBAL'!Y167","v":105.81620724539584},{"$f":"'ITCER GLOBAL'!AA167","v":172.84975317352294},{"$f":"'ITCER GLOBAL'!AB167","v":97.716261240845597},{"$f":"'ITCER GLOBAL'!AC167","v":134.8436818589918},{"$f":"'ITCER GLOBAL'!AD167","v":132.84705772581009},{"$f":"'ITCER GLOBAL'!AE167","v":141.00645004837568},{"$f":"'ITCER GLOBAL'!AF167","v":193.42166159861731},{"$f":"'ITCER GLOBAL'!AG167","v":94.065120322305305},null,{"$f":"IF(EFECTOS!$N$9=\"COSTA RICA\",LOOKUP(1,GEfectos!$C$4:$I$4,GEfectos!C167:I167),IF(EFECTOS!$N$9=\"EL SALVADOR\",LOOKUP(2,GEfectos!$C$4:$I$4,GEfectos!C167:I167),IF(EFECTOS!$N$9=\"GUATEMALA\",LOOKUP(3,GEfectos!$C$4:$I$4,GEfectos!C167:I167),IF(EFECTOS!$N$9=\"HONDURAS\",LOOKUP(4,GEfectos!$C$4:$I$4,GEfectos!C167:I167),IF(EFECTOS!$N$9=\"NICARAGUA\",LOOKUP(5,GEfectos!$C$4:$I$4,GEfectos!C167:I167),IF(EFECTOS!$N$9=\"REPÚBLICA \nDOMINICANA\",LOOKUP(6,$C$4:$I$4,C167:I167),IF(EFECTOS!$N$9=\"PANAMÁ\",LOOKUP(7,GEfectos!$C$4:$I$4,GEfectos!C167:I167))))))))","v":103.07857480591761},{"$f":"IF(EFECTOS!$N$9=\"COSTA RICA\",LOOKUP(1,GEfectos!$J$4:$P$4,GEfectos!J167:P167),IF(EFECTOS!$N$9=\"EL SALVADOR\",LOOKUP(2,GEfectos!$J$4:$P$4,GEfectos!J167:P167),IF(EFECTOS!$N$9=\"GUATEMALA\",LOOKUP(3,GEfectos!$J$4:$P$4,GEfectos!J167:P167),IF(EFECTOS!$N$9=\"HONDURAS\",LOOKUP(4,GEfectos!$J$4:$P$4,GEfectos!J167:P167),IF(EFECTOS!$N$9=\"NICARAGUA\",LOOKUP(5,GEfectos!$J$4:$P$4,GEfectos!J167:P167),IF(EFECTOS!$N$9=\"REPÚBLICA \nDOMINICANA\",LOOKUP(6,$J$4:$P$4,J167:P167),IF(EFECTOS!$N$9=\"PANAMÁ\",LOOKUP(7,GEfectos!$J$4:$P$4,GEfectos!J167:P167))))))))","v":178.17106212681378},{"$f":"IF(EFECTOS!$N$9=\"COSTA RICA\",LOOKUP(1,GEfectos!$Q$4:$W$4,GEfectos!Q167:W167),IF(EFECTOS!$N$9=\"EL SALVADOR\",LOOKUP(2,GEfectos!$Q$4:$W$4,GEfectos!Q167:W167),IF(EFECTOS!$N$9=\"GUATEMALA\",LOOKUP(3,GEfectos!$Q$4:$W$4,GEfectos!Q167:W167),IF(EFECTOS!$N$9=\"HONDURAS\",LOOKUP(4,GEfectos!$Q$4:$W$4,GEfectos!Q167:W167),IF(EFECTOS!$N$9=\"NICARAGUA\",LOOKUP(5,GEfectos!$Q$4:$W$4,GEfectos!Q167:W167),IF(EFECTOS!$N$9=\"REPÚBLICA \nDOMINICANA\",LOOKUP(6,$Q$4:$W$4,Q167:W167),IF(EFECTOS!$N$9=\"PANAMÁ\",LOOKUP(7,GEfectos!$Q$4:$W$4,GEfectos!Q167:W167))))))))","v":172.84975317352294},100]
[null,{"$f":"'ITCER GLOBAL'!B168","v":"Julio"},{"$f":"'ITCER GLOBAL'!C168","v":104.89111672106239},{"$f":"'ITCER GLOBAL'!D168","v":102.94734454395027},{"$f":"'ITCER GLOBAL'!E168","v":72.62939476490034},{"$f":"'ITCER GLOBAL'!F168","v":95.915238516203885},{"$f":"'ITCER GLOBAL'!G168","v":105.73917353542187},{"$f":"'ITCER GLOBAL'!H168","v":112.54752167012271},{"$f":"'ITCER GLOBAL'!I168","v":112.7342887852884},{"$f":"'ITCER GLOBAL'!S168","v":184.32368852372738},{"$f":"'ITCER GLOBAL'!T168","v":101.15048389720076},{"$f":"'ITCER GLOBAL'!U168","v":98.50032447221453},{"$f":"'ITCER GLOBAL'!V168","v":129.25665879156648},{"$f":"'ITCER GLOBAL'!W168","v":149.78971014437533},{"$f":"'ITCER GLOBAL'!X168","v":220.13696624252881},{"$f":"'ITCER GLOBAL'!Y168","v":105.89010861278922},{"$f":"'ITCER GLOBAL'!AA168","v":175.72859769803054},{"$f":"'ITCER GLOBAL'!AB168","v":98.254582811524202},{"$f":"'ITCER GLOBAL'!AC168","v":135.62046715528581},{"$f":"'ITCER GLOBAL'!AD168","v":134.76133802214329},{"$f":"'ITCER GLOBAL'!AE168","v":141.65961879226987},{"$f":"'ITCER GLOBAL'!AF168","v":195.59468122963318},{"$f":"'ITCER GLOBAL'!AG168","v":93.928927705806998},null,{"$f":"IF(EFECTOS!$N$9=\"COSTA RICA\",LOOKUP(1,GEfectos!$C$4:$I$4,GEfectos!C168:I168),IF(EFECTOS!$N$9=\"EL SALVADOR\",LOOKUP(2,GEfectos!$C$4:$I$4,GEfectos!C168:I168),IF(EFECTOS!$N$9=\"GUATEMALA\",LOOKUP(3,GEfectos!$C$4:$I$4,GEfectos!C168:I168),IF(EFECTOS!$N$9=\"HONDURAS\",LOOKUP(4,GEfectos!$C$4:$I$4,GEfectos!C168:I168),IF(EFECTOS!$N$9=\"NICARAGUA\",LOOKUP(5,GEfectos!$C$4:$I$4,GEfectos!C168:I168),IF(EFECTOS!$N$9=\"REPÚBLICA \nDOMINICANA\",LOOKUP(6,$C$4:$I$4,C168:I168),IF(EFECTOS!$N$9=\"PANAMÁ\",LOOKUP(7,GEfectos!$C$4:$I$4,GEfectos!C168:I168))))))))","v":104.89111672106239},{"$f":"IF(EFECTOS!$N$9=\"COSTA RICA\",LOOKUP(1,GEfectos!$J$4:$P$4,GEfectos!J168:P168),IF(EFECTOS!$N$9=\"EL SALVADOR\",LOOKUP(2,GEfectos!$J$4:$P$4,GEfectos!J168:P168),IF(EFECTOS!$N$9=\"GUATEMALA\",LOOKUP(3,GEfectos!$J$4:$P$4,GEfectos!J168:P168),IF(EFECTOS!$N$9=\"HONDURAS\",LOOKUP(4,GEfectos!$J$4:$P$4,GEfectos!J168:P168),IF(EFECTOS!$N$9=\"NICARAGUA\",LOOKUP(5,GEfectos!$J$4:$P$4,GEfectos!J168:P168),IF(EFECTOS!$N$9=\"REPÚBLICA \nDOMINICANA\",LOOKUP(6,$J$4:$P$4,J168:P168),IF(EFECTOS!$N$9=\"PANAMÁ\",LOOKUP(7,GEfectos!$J$4:$P$4,GEfectos!J168:P168))))))))","v":184.32368852372738},{"$f":"IF(EFECTOS!$N$9=\"COSTA RICA\",LOOKUP(1,GEfectos!$Q$4:$W$4,GEfectos!Q168:W168),IF(EFECTOS!$N$9=\"EL SALVADOR\",LOOKUP(2,GEfectos!$Q$4:$W$4,GEfectos!Q168:W168),IF(EFECTOS!$N$9=\"GUATEMALA\",LOOKUP(3,GEfectos!$Q$4:$W$4,GEfectos!Q168:W168),IF(EFECTOS!$N$9=\"HONDURAS\",LOOKUP(4,GEfectos!$Q$4:$W$4,GEfectos!Q168:W168),IF(EFECTOS!$N$9=\"NICARAGUA\",LOOKUP(5,GEfectos!$Q$4:$W$4,GEfectos!Q168:W168),IF(EFECTOS!$N$9=\"REPÚBLICA \nDOMINICANA\",LOOKUP(6,$Q$4:$W$4,Q168:W168),IF(EFECTOS!$N$9=\"PANAMÁ\",LOOKUP(7,GEfectos!$Q$4:$W$4,GEfectos!Q168:W168))))))))","v":175.72859769803054},100]
[null,{"$f":"'ITCER GLOBAL'!B169","v":"Agosto"},{"$f":"'ITCER GLOBAL'!C169","v":104.77490391285451},{"$f":"'ITCER GLOBAL'!D169","v":102.39444811458773},{"$f":"'ITCER GLOBAL'!E169","v":71.406345220934767},{"$f":"'ITCER GLOBAL'!F169","v":94.32071615603941},{"$f":"'ITCER GLOBAL'!G169","v":105.13794964969154},{"$f":"'ITCER GLOBAL'!H169","v":112.62029731510241},{"$f":"'ITCER GLOBAL'!I169","v":110.79553403707772},{"$f":"'ITCER GLOBAL'!S169","v":187.61875370650199},{"$f":"'ITCER GLOBAL'!T169","v":100.62537049103524},{"$f":"'ITCER GLOBAL'!U169","v":97.329664913638439},{"$f":"'ITCER GLOBAL'!V169","v":128.27979675719573},{"$f":"'ITCER GLOBAL'!W169","v":149.36574329503651},{"$f":"'ITCER GLOBAL'!X169","v":220.84287267160084},{"$f":"'ITCER GLOBAL'!Y169","v":104.49400058788625},{"$f":"'ITCER GLOBAL'!AA169","v":179.06840922760668},{"$f":"'ITCER GLOBAL'!AB169","v":98.2722914609855},{"$f":"'ITCER GLOBAL'!AC169","v":136.30394415579684},{"$f":"'ITCER GLOBAL'!AD169","v":136.00384092183538},{"$f":"'ITCER GLOBAL'!AE169","v":142.06644108307921},{"$f":"'ITCER GLOBAL'!AF169","v":196.09508937247827},{"$f":"'ITCER GLOBAL'!AG169","v":94.31246619824708},null,{"$f":"IF(EFECTOS!$N$9=\"COSTA RICA\",LOOKUP(1,GEfectos!$C$4:$I$4,GEfectos!C169:I169),IF(EFECTOS!$N$9=\"EL SALVADOR\",LOOKUP(2,GEfectos!$C$4:$I$4,GEfectos!C169:I169),IF(EFECTOS!$N$9=\"GUATEMALA\",LOOKUP(3,GEfectos!$C$4:$I$4,GEfectos!C169:I169),IF(EFECTOS!$N$9=\"HONDURAS\",LOOKUP(4,GEfectos!$C$4:$I$4,GEfectos!C169:I169),IF(EFECTOS!$N$9=\"NICARAGUA\",LOOKUP(5,GEfectos!$C$4:$I$4,GEfectos!C169:I169),IF(EFECTOS!$N$9=\"REPÚBLICA \nDOMINICANA\",LOOKUP(6,$C$4:$I$4,C169:I169),IF(EFECTOS!$N$9=\"PANAMÁ\",LOOKUP(7,GEfectos!$C$4:$I$4,GEfectos!C169:I169))))))))","v":104.77490391285451},{"$f":"IF(EFECTOS!$N$9=\"COSTA RICA\",LOOKUP(1,GEfectos!$J$4:$P$4,GEfectos!J169:P169),IF(EFECTOS!$N$9=\"EL SALVADOR\",LOOKUP(2,GEfectos!$J$4:$P$4,GEfectos!J169:P169),IF(EFECTOS!$N$9=\"GUATEMALA\",LOOKUP(3,GEfectos!$J$4:$P$4,GEfectos!J169:P169),IF(EFECTOS!$N$9=\"HONDURAS\",LOOKUP(4,GEfectos!$J$4:$P$4,GEfectos!J169:P169),IF(EFECTOS!$N$9=\"NICARAGUA\",LOOKUP(5,GEfectos!$J$4:$P$4,GEfectos!J169:P169),IF(EFECTOS!$N$9=\"REPÚBLICA \nDOMINICANA\",LOOKUP(6,$J$4:$P$4,J169:P169),IF(EFECTOS!$N$9=\"PANAMÁ\",LOOKUP(7,GEfectos!$J$4:$P$4,GEfectos!J169:P169))))))))","v":187.61875370650199},{"$f":"IF(EFECTOS!$N$9=\"COSTA RICA\",LOOKUP(1,GEfectos!$Q$4:$W$4,GEfectos!Q169:W169),IF(EFECTOS!$N$9=\"EL SALVADOR\",LOOKUP(2,GEfectos!$Q$4:$W$4,GEfectos!Q169:W169),IF(EFECTOS!$N$9=\"GUATEMALA\",LOOKUP(3,GEfectos!$Q$4:$W$4,GEfectos!Q169:W169),IF(EFECTOS!$N$9=\"HONDURAS\",LOOKUP(4,GEfectos!$Q$4:$W$4,GEfectos!Q169:W169),IF(EFECTOS!$N$9=\"NICARAGUA\",LOOKUP(5,GEfectos!$Q$4:$W$4,GEfectos!Q169:W169),IF(EFECTOS!$N$9=\"REPÚBLICA \nDOMINICANA\",LOOKUP(6,$Q$4:$W$4,Q169:W169),IF(EFECTOS!$N$9=\"PANAMÁ\",LOOKUP(7,GEfectos!$Q$4:$W$4,GEfectos!Q169:W169))))))))","v":179.06840922760668},100]
[null,{"$f":"'ITCER GLOBAL'!B170","v":"Septiembre"},{"$f":"'ITCER GLOBAL'!C170","v":102.80248629706448},{"$f":"'ITCER GLOBAL'!D170","v":101.71132204391699},{"$f":"'ITCER GLOBAL'!E170","v":71.0842670776576},{"$f":"'ITCER GLOBAL'!F170","v":93.203654478421811},{"$f":"'ITCER GLOBAL'!G170","v":103.29267540027513},{"$f":"'ITCER GLOBAL'!H170","v":110.29325642230999},{"$f":"'ITCER GLOBAL'!I170","v":108.07608102152541},{"$f":"'ITCER GLOBAL'!S170","v":185.78873529754333},{"$f":"'ITCER GLOBAL'!T170","v":99.461954244627009},{"$f":"'ITCER GLOBAL'!U170","v":96.679068222132386},{"$f":"'ITCER GLOBAL'!V170","v":126.90530139256961},{"$f":"'ITCER GLOBAL'!W170","v":146.86221215538603},{"$f":"'ITCER GLOBAL'!X170","v":218.80975899853502},{"$f":"'ITCER GLOBAL'!Y170","v":102.62013871433891},{"$f":"'ITCER GLOBAL'!AA170","v":180.72397078089787},{"$f":"'ITCER GLOBAL'!AB170","v":97.788478456391744},{"$f":"'ITCER GLOBAL'!AC170","v":136.00628127249757},{"$f":"'ITCER GLOBAL'!AD170","v":136.1591475170647},{"$f":"'ITCER GLOBAL'!AE170","v":142.18066439490718},{"$f":"'ITCER GLOBAL'!AF170","v":198.38906393398901},{"$f":"'ITCER GLOBAL'!AG170","v":94.951757821326026},null,{"$f":"IF(EFECTOS!$N$9=\"COSTA RICA\",LOOKUP(1,GEfectos!$C$4:$I$4,GEfectos!C170:I170),IF(EFECTOS!$N$9=\"EL SALVADOR\",LOOKUP(2,GEfectos!$C$4:$I$4,GEfectos!C170:I170),IF(EFECTOS!$N$9=\"GUATEMALA\",LOOKUP(3,GEfectos!$C$4:$I$4,GEfectos!C170:I170),IF(EFECTOS!$N$9=\"HONDURAS\",LOOKUP(4,GEfectos!$C$4:$I$4,GEfectos!C170:I170),IF(EFECTOS!$N$9=\"NICARAGUA\",LOOKUP(5,GEfectos!$C$4:$I$4,GEfectos!C170:I170),IF(EFECTOS!$N$9=\"REPÚBLICA \nDOMINICANA\",LOOKUP(6,$C$4:$I$4,C170:I170),IF(EFECTOS!$N$9=\"PANAMÁ\",LOOKUP(7,GEfectos!$C$4:$I$4,GEfectos!C170:I170))))))))","v":102.80248629706448},{"$f":"IF(EFECTOS!$N$9=\"COSTA RICA\",LOOKUP(1,GEfectos!$J$4:$P$4,GEfectos!J170:P170),IF(EFECTOS!$N$9=\"EL SALVADOR\",LOOKUP(2,GEfectos!$J$4:$P$4,GEfectos!J170:P170),IF(EFECTOS!$N$9=\"GUATEMALA\",LOOKUP(3,GEfectos!$J$4:$P$4,GEfectos!J170:P170),IF(EFECTOS!$N$9=\"HONDURAS\",LOOKUP(4,GEfectos!$J$4:$P$4,GEfectos!J170:P170),IF(EFECTOS!$N$9=\"NICARAGUA\",LOOKUP(5,GEfectos!$J$4:$P$4,GEfectos!J170:P170),IF(EFECTOS!$N$9=\"REPÚBLICA \nDOMINICANA\",LOOKUP(6,$J$4:$P$4,J170:P170),IF(EFECTOS!$N$9=\"PANAMÁ\",LOOKUP(7,GEfectos!$J$4:$P$4,GEfectos!J170:P170))))))))","v":185.78873529754333},{"$f":"IF(EFECTOS!$N$9=\"COSTA RICA\",LOOKUP(1,GEfectos!$Q$4:$W$4,GEfectos!Q170:W170),IF(EFECTOS!$N$9=\"EL SALVADOR\",LOOKUP(2,GEfectos!$Q$4:$W$4,GEfectos!Q170:W170),IF(EFECTOS!$N$9=\"GUATEMALA\",LOOKUP(3,GEfectos!$Q$4:$W$4,GEfectos!Q170:W170),IF(EFECTOS!$N$9=\"HONDURAS\",LOOKUP(4,GEfectos!$Q$4:$W$4,GEfectos!Q170:W170),IF(EFECTOS!$N$9=\"NICARAGUA\",LOOKUP(5,GEfectos!$Q$4:$W$4,GEfectos!Q170:W170),IF(EFECTOS!$N$9=\"REPÚBLICA \nDOMINICANA\",LOOKUP(6,$Q$4:$W$4,Q170:W170),IF(EFECTOS!$N$9=\"PANAMÁ\",LOOKUP(7,GEfectos!$Q$4:$W$4,GEfectos!Q170:W170))))))))","v":180.72397078089787},100]
[null,{"$f":"'ITCER GLOBAL'!B171","v":"Octubre"},{"$f":"'ITCER GLOBAL'!C171","v":98.814516440190019},{"$f":"'ITCER GLOBAL'!D171","v":99.240939513070956},{"$f":"'ITCER GLOBAL'!E171","v":68.784501878938769},{"$f":"'ITCER GLOBAL'!F171","v":90.152566668461517},{"$f":"'ITCER GLOBAL'!G171","v":100.42979203841097},{"$f":"'ITCER GLOBAL'!H171","v":108.4694441746459},{"$f":"'ITCER GLOBAL'!I171","v":104.34069364096557},{"$f":"'ITCER GLOBAL'!S171","v":181.25516159617817},{"$f":"'ITCER GLOBAL'!T171","v":96.883356695992092},{"$f":"'ITCER GLOBAL'!U171","v":94.384455271987349},{"$f":"'ITCER GLOBAL'!V171","v":123.99111819330852},{"$f":"'ITCER GLOBAL'!W171","v":142.93120550007836},{"$f":"'ITCER GLOBAL'!X171","v":214.26106317739402},{"$f":"'ITCER GLOBAL'!Y171","v":99.407207111878492},{"$f":"'ITCER GLOBAL'!AA171","v":183.42969041991662},{"$f":"'ITCER GLOBAL'!AB171","v":97.624384826820048},{"$f":"'ITCER GLOBAL'!AC171","v":137.21761834970425},{"$f":"'ITCER GLOBAL'!AD171","v":137.53476220958763},{"$f":"'ITCER GLOBAL'!AE171","v":142.31952750177163},{"$f":"'ITCER GLOBAL'!AF171","v":197.53126311997485},{"$f":"'ITCER GLOBAL'!AG171","v":95.271752221560718},null,{"$f":"IF(EFECTOS!$N$9=\"COSTA RICA\",LOOKUP(1,GEfectos!$C$4:$I$4,GEfectos!C171:I171),IF(EFECTOS!$N$9=\"EL SALVADOR\",LOOKUP(2,GEfectos!$C$4:$I$4,GEfectos!C171:I171),IF(EFECTOS!$N$9=\"GUATEMALA\",LOOKUP(3,GEfectos!$C$4:$I$4,GEfectos!C171:I171),IF(EFECTOS!$N$9=\"HONDURAS\",LOOKUP(4,GEfectos!$C$4:$I$4,GEfectos!C171:I171),IF(EFECTOS!$N$9=\"NICARAGUA\",LOOKUP(5,GEfectos!$C$4:$I$4,GEfectos!C171:I171),IF(EFECTOS!$N$9=\"REPÚBLICA \nDOMINICANA\",LOOKUP(6,$C$4:$I$4,C171:I171),IF(EFECTOS!$N$9=\"PANAMÁ\",LOOKUP(7,GEfectos!$C$4:$I$4,GEfectos!C171:I171))))))))","v":98.814516440190019},{"$f":"IF(EFECTOS!$N$9=\"COSTA RICA\",LOOKUP(1,GEfectos!$J$4:$P$4,GEfectos!J171:P171),IF(EFECTOS!$N$9=\"EL SALVADOR\",LOOKUP(2,GEfectos!$J$4:$P$4,GEfectos!J171:P171),IF(EFECTOS!$N$9=\"GUATEMALA\",LOOKUP(3,GEfectos!$J$4:$P$4,GEfectos!J171:P171),IF(EFECTOS!$N$9=\"HONDURAS\",LOOKUP(4,GEfectos!$J$4:$P$4,GEfectos!J171:P171),IF(EFECTOS!$N$9=\"NICARAGUA\",LOOKUP(5,GEfectos!$J$4:$P$4,GEfectos!J171:P171),IF(EFECTOS!$N$9=\"REPÚBLICA \nDOMINICANA\",LOOKUP(6,$J$4:$P$4,J171:P171),IF(EFECTOS!$N$9=\"PANAMÁ\",LOOKUP(7,GEfectos!$J$4:$P$4,GEfectos!J171:P171))))))))","v":181.25516159617817},{"$f":"IF(EFECTOS!$N$9=\"COSTA RICA\",LOOKUP(1,GEfectos!$Q$4:$W$4,GEfectos!Q171:W171),IF(EFECTOS!$N$9=\"EL SALVADOR\",LOOKUP(2,GEfectos!$Q$4:$W$4,GEfectos!Q171:W171),IF(EFECTOS!$N$9=\"GUATEMALA\",LOOKUP(3,GEfectos!$Q$4:$W$4,GEfectos!Q171:W171),IF(EFECTOS!$N$9=\"HONDURAS\",LOOKUP(4,GEfectos!$Q$4:$W$4,GEfectos!Q171:W171),IF(EFECTOS!$N$9=\"NICARAGUA\",LOOKUP(5,GEfectos!$Q$4:$W$4,GEfectos!Q171:W171),IF(EFECTOS!$N$9=\"REPÚBLICA \nDOMINICANA\",LOOKUP(6,$Q$4:$W$4,Q171:W171),IF(EFECTOS!$N$9=\"PANAMÁ\",LOOKUP(7,GEfectos!$Q$4:$W$4,GEfectos!Q171:W171))))))))","v":183.42969041991662},100]
[null,{"$f":"'ITCER GLOBAL'!B172","v":"Noviembre"},{"$f":"'ITCER GLOBAL'!C172","v":95.431055561063488},{"$f":"'ITCER GLOBAL'!D172","v":98.169925854626257},{"$f":"'ITCER GLOBAL'!E172","v":68.540730347477833},{"$f":"'ITCER GLOBAL'!F172","v":88.775955686957829},{"$f":"'ITCER GLOBAL'!G172","v":99.265347416610027},{"$f":"'ITCER GLOBAL'!H172","v":110.50930108392299},{"$f":"'ITCER GLOBAL'!I172","v":103.06353457370702},{"$f":"'ITCER GLOBAL'!S172","v":179.14294722742412},{"$f":"'ITCER GLOBAL'!T172","v":96.090063199751},{"$f":"'ITCER GLOBAL'!U172","v":94.929563928840452},{"$f":"'ITCER GLOBAL'!V172","v":123.00084518728671},{"$f":"'ITCER GLOBAL'!W172","v":142.11078221032108},{"$f":"'ITCER GLOBAL'!X172","v":213.91704041627969},{"$f":"'ITCER GLOBAL'!Y172","v":98.483311874584984},{"$f":"'ITCER GLOBAL'!AA172","v":187.71975870349237},{"$f":"'ITCER GLOBAL'!AB172","v":97.881364749164433},{"$f":"'ITCER GLOBAL'!AC172","v":138.50095183926453},{"$f":"'ITCER GLOBAL'!AD172","v":138.55198092264175},{"$f":"'ITCER GLOBAL'!AE172","v":143.16252943123408},{"$f":"'ITCER GLOBAL'!AF172","v":193.57378819528211},{"$f":"'ITCER GLOBAL'!AG172","v":95.555923132204995},null,{"$f":"IF(EFECTOS!$N$9=\"COSTA RICA\",LOOKUP(1,GEfectos!$C$4:$I$4,GEfectos!C172:I172),IF(EFECTOS!$N$9=\"EL SALVADOR\",LOOKUP(2,GEfectos!$C$4:$I$4,GEfectos!C172:I172),IF(EFECTOS!$N$9=\"GUATEMALA\",LOOKUP(3,GEfectos!$C$4:$I$4,GEfectos!C172:I172),IF(EFECTOS!$N$9=\"HONDURAS\",LOOKUP(4,GEfectos!$C$4:$I$4,GEfectos!C172:I172),IF(EFECTOS!$N$9=\"NICARAGUA\",LOOKUP(5,GEfectos!$C$4:$I$4,GEfectos!C172:I172),IF(EFECTOS!$N$9=\"REPÚBLICA \nDOMINICANA\",LOOKUP(6,$C$4:$I$4,C172:I172),IF(EFECTOS!$N$9=\"PANAMÁ\",LOOKUP(7,GEfectos!$C$4:$I$4,GEfectos!C172:I172))))))))","v":95.431055561063488},{"$f":"IF(EFECTOS!$N$9=\"COSTA RICA\",LOOKUP(1,GEfectos!$J$4:$P$4,GEfectos!J172:P172),IF(EFECTOS!$N$9=\"EL SALVADOR\",LOOKUP(2,GEfectos!$J$4:$P$4,GEfectos!J172:P172),IF(EFECTOS!$N$9=\"GUATEMALA\",LOOKUP(3,GEfectos!$J$4:$P$4,GEfectos!J172:P172),IF(EFECTOS!$N$9=\"HONDURAS\",LOOKUP(4,GEfectos!$J$4:$P$4,GEfectos!J172:P172),IF(EFECTOS!$N$9=\"NICARAGUA\",LOOKUP(5,GEfectos!$J$4:$P$4,GEfectos!J172:P172),IF(EFECTOS!$N$9=\"REPÚBLICA \nDOMINICANA\",LOOKUP(6,$J$4:$P$4,J172:P172),IF(EFECTOS!$N$9=\"PANAMÁ\",LOOKUP(7,GEfectos!$J$4:$P$4,GEfectos!J172:P172))))))))","v":179.14294722742412},{"$f":"IF(EFECTOS!$N$9=\"COSTA RICA\",LOOKUP(1,GEfectos!$Q$4:$W$4,GEfectos!Q172:W172),IF(EFECTOS!$N$9=\"EL SALVADOR\",LOOKUP(2,GEfectos!$Q$4:$W$4,GEfectos!Q172:W172),IF(EFECTOS!$N$9=\"GUATEMALA\",LOOKUP(3,GEfectos!$Q$4:$W$4,GEfectos!Q172:W172),IF(EFECTOS!$N$9=\"HONDURAS\",LOOKUP(4,GEfectos!$Q$4:$W$4,GEfectos!Q172:W172),IF(EFECTOS!$N$9=\"NICARAGUA\",LOOKUP(5,GEfectos!$Q$4:$W$4,GEfectos!Q172:W172),IF(EFECTOS!$N$9=\"REPÚBLICA \nDOMINICANA\",LOOKUP(6,$Q$4:$W$4,Q172:W172),IF(EFECTOS!$N$9=\"PANAMÁ\",LOOKUP(7,GEfectos!$Q$4:$W$4,GEfectos!Q172:W172))))))))","v":187.71975870349237},100]
[null,{"$f":"'ITCER GLOBAL'!B173","v":"Diciembre"},{"$f":"'ITCER GLOBAL'!C173","v":95.360721526017088},{"$f":"'ITCER GLOBAL'!D173","v":98.005301725505092},{"$f":"'ITCER GLOBAL'!E173","v":69.328009972767703},{"$f":"'ITCER GLOBAL'!F173","v":88.619948899848595},{"$f":"'ITCER GLOBAL'!G173","v":99.7106311312602},{"$f":"'ITCER GLOBAL'!H173","v":112.14325213703451},{"$f":"'ITCER GLOBAL'!I173","v":104.07936120146262},{"$f":"'ITCER GLOBAL'!S173","v":179.21926555741049},{"$f":"'ITCER GLOBAL'!T173","v":96.199302696022599},{"$f":"'ITCER GLOBAL'!U173","v":96.126641962275841},{"$f":"'ITCER GLOBAL'!V173","v":123.59752322704425},{"$f":"'ITCER GLOBAL'!W173","v":142.91138665380549},{"$f":"'ITCER GLOBAL'!X173","v":215.5561048446574},{"$f":"'ITCER GLOBAL'!Y173","v":99.547710937580973},{"$f":"'ITCER GLOBAL'!AA173","v":187.93824405839302},{"$f":"'ITCER GLOBAL'!AB173","v":98.157243539190603},{"$f":"'ITCER GLOBAL'!AC173","v":138.65484095105967},{"$f":"'ITCER GLOBAL'!AD173","v":139.46918810202044},{"$f":"'ITCER GLOBAL'!AE173","v":143.32612784856946},{"$f":"'ITCER GLOBAL'!AF173","v":192.2149578659058},{"$f":"'ITCER GLOBAL'!AG173","v":95.645966489830869},null,{"$f":"IF(EFECTOS!$N$9=\"COSTA RICA\",LOOKUP(1,GEfectos!$C$4:$I$4,GEfectos!C173:I173),IF(EFECTOS!$N$9=\"EL SALVADOR\",LOOKUP(2,GEfectos!$C$4:$I$4,GEfectos!C173:I173),IF(EFECTOS!$N$9=\"GUATEMALA\",LOOKUP(3,GEfectos!$C$4:$I$4,GEfectos!C173:I173),IF(EFECTOS!$N$9=\"HONDURAS\",LOOKUP(4,GEfectos!$C$4:$I$4,GEfectos!C173:I173),IF(EFECTOS!$N$9=\"NICARAGUA\",LOOKUP(5,GEfectos!$C$4:$I$4,GEfectos!C173:I173),IF(EFECTOS!$N$9=\"REPÚBLICA \nDOMINICANA\",LOOKUP(6,$C$4:$I$4,C173:I173),IF(EFECTOS!$N$9=\"PANAMÁ\",LOOKUP(7,GEfectos!$C$4:$I$4,GEfectos!C173:I173))))))))","v":95.360721526017088},{"$f":"IF(EFECTOS!$N$9=\"COSTA RICA\",LOOKUP(1,GEfectos!$J$4:$P$4,GEfectos!J173:P173),IF(EFECTOS!$N$9=\"EL SALVADOR\",LOOKUP(2,GEfectos!$J$4:$P$4,GEfectos!J173:P173),IF(EFECTOS!$N$9=\"GUATEMALA\",LOOKUP(3,GEfectos!$J$4:$P$4,GEfectos!J173:P173),IF(EFECTOS!$N$9=\"HONDURAS\",LOOKUP(4,GEfectos!$J$4:$P$4,GEfectos!J173:P173),IF(EFECTOS!$N$9=\"NICARAGUA\",LOOKUP(5,GEfectos!$J$4:$P$4,GEfectos!J173:P173),IF(EFECTOS!$N$9=\"REPÚBLICA \nDOMINICANA\",LOOKUP(6,$J$4:$P$4,J173:P173),IF(EFECTOS!$N$9=\"PANAMÁ\",LOOKUP(7,GEfectos!$J$4:$P$4,GEfectos!J173:P173))))))))","v":179.21926555741049},{"$f":"IF(EFECTOS!$N$9=\"COSTA RICA\",LOOKUP(1,GEfectos!$Q$4:$W$4,GEfectos!Q173:W173),IF(EFECTOS!$N$9=\"EL SALVADOR\",LOOKUP(2,GEfectos!$Q$4:$W$4,GEfectos!Q173:W173),IF(EFECTOS!$N$9=\"GUATEMALA\",LOOKUP(3,GEfectos!$Q$4:$W$4,GEfectos!Q173:W173),IF(EFECTOS!$N$9=\"HONDURAS\",LOOKUP(4,GEfectos!$Q$4:$W$4,GEfectos!Q173:W173),IF(EFECTOS!$N$9=\"NICARAGUA\",LOOKUP(5,GEfectos!$Q$4:$W$4,GEfectos!Q173:W173),IF(EFECTOS!$N$9=\"REPÚBLICA \nDOMINICANA\",LOOKUP(6,$Q$4:$W$4,Q173:W173),IF(EFECTOS!$N$9=\"PANAMÁ\",LOOKUP(7,GEfectos!$Q$4:$W$4,GEfectos!Q173:W173))))))))","v":187.93824405839302},100]
[2009,{"$f":"'ITCER GLOBAL'!B174","v":"Enero"},{"$f":"'ITCER GLOBAL'!C174","v":95.353403009754828},{"$f":"'ITCER GLOBAL'!D174","v":98.270007718642759},{"$f":"'ITCER GLOBAL'!E174","v":70.810771164436346},{"$f":"'ITCER GLOBAL'!F174","v":87.766848721591245},{"$f":"'ITCER GLOBAL'!G174","v":100.09878176932578},{"$f":"'ITCER GLOBAL'!H174","v":115.90962534252451},{"$f":"'ITCER GLOBAL'!I174","v":102.92729618146058},{"$f":"'ITCER GLOBAL'!S174","v":179.02913583521078},{"$f":"'ITCER GLOBAL'!T174","v":95.353188420183614},{"$f":"'ITCER GLOBAL'!U174","v":97.201025449336512},{"$f":"'ITCER GLOBAL'!V174","v":122.609712865281},{"$f":"'ITCER GLOBAL'!W174","v":143.50645750284764},{"$f":"'ITCER GLOBAL'!X174","v":216.08526626771996},{"$f":"'ITCER GLOBAL'!Y174","v":98.646261114236438},{"$f":"'ITCER GLOBAL'!AA174","v":187.75327380491683},{"$f":"'ITCER GLOBAL'!AB174","v":97.031831617628143},{"$f":"'ITCER GLOBAL'!AC174","v":137.26870058174748},{"$f":"'ITCER GLOBAL'!AD174","v":139.69934508440224},{"$f":"'ITCER GLOBAL'!AE174","v":143.36483917811643},{"$f":"'ITCER GLOBAL'!AF174","v":186.4256446599378},{"$f":"'ITCER GLOBAL'!AG174","v":95.840719395099356},null,{"$f":"IF(EFECTOS!$N$9=\"COSTA RICA\",LOOKUP(1,GEfectos!$C$4:$I$4,GEfectos!C174:I174),IF(EFECTOS!$N$9=\"EL SALVADOR\",LOOKUP(2,GEfectos!$C$4:$I$4,GEfectos!C174:I174),IF(EFECTOS!$N$9=\"GUATEMALA\",LOOKUP(3,GEfectos!$C$4:$I$4,GEfectos!C174:I174),IF(EFECTOS!$N$9=\"HONDURAS\",LOOKUP(4,GEfectos!$C$4:$I$4,GEfectos!C174:I174),IF(EFECTOS!$N$9=\"NICARAGUA\",LOOKUP(5,GEfectos!$C$4:$I$4,GEfectos!C174:I174),IF(EFECTOS!$N$9=\"REPÚBLICA \nDOMINICANA\",LOOKUP(6,$C$4:$I$4,C174:I174),IF(EFECTOS!$N$9=\"PANAMÁ\",LOOKUP(7,GEfectos!$C$4:$I$4,GEfectos!C174:I174))))))))","v":95.353403009754828},{"$f":"IF(EFECTOS!$N$9=\"COSTA RICA\",LOOKUP(1,GEfectos!$J$4:$P$4,GEfectos!J174:P174),IF(EFECTOS!$N$9=\"EL SALVADOR\",LOOKUP(2,GEfectos!$J$4:$P$4,GEfectos!J174:P174),IF(EFECTOS!$N$9=\"GUATEMALA\",LOOKUP(3,GEfectos!$J$4:$P$4,GEfectos!J174:P174),IF(EFECTOS!$N$9=\"HONDURAS\",LOOKUP(4,GEfectos!$J$4:$P$4,GEfectos!J174:P174),IF(EFECTOS!$N$9=\"NICARAGUA\",LOOKUP(5,GEfectos!$J$4:$P$4,GEfectos!J174:P174),IF(EFECTOS!$N$9=\"REPÚBLICA \nDOMINICANA\",LOOKUP(6,$J$4:$P$4,J174:P174),IF(EFECTOS!$N$9=\"PANAMÁ\",LOOKUP(7,GEfectos!$J$4:$P$4,GEfectos!J174:P174))))))))","v":179.02913583521078},{"$f":"IF(EFECTOS!$N$9=\"COSTA RICA\",LOOKUP(1,GEfectos!$Q$4:$W$4,GEfectos!Q174:W174),IF(EFECTOS!$N$9=\"EL SALVADOR\",LOOKUP(2,GEfectos!$Q$4:$W$4,GEfectos!Q174:W174),IF(EFECTOS!$N$9=\"GUATEMALA\",LOOKUP(3,GEfectos!$Q$4:$W$4,GEfectos!Q174:W174),IF(EFECTOS!$N$9=\"HONDURAS\",LOOKUP(4,GEfectos!$Q$4:$W$4,GEfectos!Q174:W174),IF(EFECTOS!$N$9=\"NICARAGUA\",LOOKUP(5,GEfectos!$Q$4:$W$4,GEfectos!Q174:W174),IF(EFECTOS!$N$9=\"REPÚBLICA \nDOMINICANA\",LOOKUP(6,$Q$4:$W$4,Q174:W174),IF(EFECTOS!$N$9=\"PANAMÁ\",LOOKUP(7,GEfectos!$Q$4:$W$4,GEfectos!Q174:W174))))))))","v":187.75327380491683},100]
[null,{"$f":"'ITCER GLOBAL'!B175","v":"Febrero"},{"$f":"'ITCER GLOBAL'!C175","v":95.201646676857692},{"$f":"'ITCER GLOBAL'!D175","v":97.683447214949936},{"$f":"'ITCER GLOBAL'!E175","v":71.42811413919857},{"$f":"'ITCER GLOBAL'!F175","v":86.444351592415714},{"$f":"'ITCER GLOBAL'!G175","v":98.842607789145674},{"$f":"'ITCER GLOBAL'!H175","v":115.17080976869178},{"$f":"'ITCER GLOBAL'!I175","v":101.34339470830294},{"$f":"'ITCER GLOBAL'!S175","v":178.91814109653856},{"$f":"'ITCER GLOBAL'!T175","v":94.357112505163641},{"$f":"'ITCER GLOBAL'!U175","v":97.094810313318192},{"$f":"'ITCER GLOBAL'!V175","v":121.35107685412653},{"$f":"'ITCER GLOBAL'!W175","v":142.13328749055685},{"$f":"'ITCER GLOBAL'!X175","v":214.52397598243289},{"$f":"'ITCER GLOBAL'!Y175","v":97.087531221484369},{"$f":"'ITCER GLOBAL'!AA175","v":187.93597310752324},{"$f":"'ITCER GLOBAL'!AB175","v":96.594781608733797},{"$f":"'ITCER GLOBAL'!AC175","v":135.93360469254523},{"$f":"'ITCER GLOBAL'!AD175","v":140.38057388213829},{"$f":"'ITCER GLOBAL'!AE175","v":143.79758959188965},{"$f":"'ITCER GLOBAL'!AF175","v":186.26592659483882},{"$f":"'ITCER GLOBAL'!AG175","v":95.800551679694337},null,{"$f":"IF(EFECTOS!$N$9=\"COSTA RICA\",LOOKUP(1,GEfectos!$C$4:$I$4,GEfectos!C175:I175),IF(EFECTOS!$N$9=\"EL SALVADOR\",LOOKUP(2,GEfectos!$C$4:$I$4,GEfectos!C175:I175),IF(EFECTOS!$N$9=\"GUATEMALA\",LOOKUP(3,GEfectos!$C$4:$I$4,GEfectos!C175:I175),IF(EFECTOS!$N$9=\"HONDURAS\",LOOKUP(4,GEfectos!$C$4:$I$4,GEfectos!C175:I175),IF(EFECTOS!$N$9=\"NICARAGUA\",LOOKUP(5,GEfectos!$C$4:$I$4,GEfectos!C175:I175),IF(EFECTOS!$N$9=\"REPÚBLICA \nDOMINICANA\",LOOKUP(6,$C$4:$I$4,C175:I175),IF(EFECTOS!$N$9=\"PANAMÁ\",LOOKUP(7,GEfectos!$C$4:$I$4,GEfectos!C175:I175))))))))","v":95.201646676857692},{"$f":"IF(EFECTOS!$N$9=\"COSTA RICA\",LOOKUP(1,GEfectos!$J$4:$P$4,GEfectos!J175:P175),IF(EFECTOS!$N$9=\"EL SALVADOR\",LOOKUP(2,GEfectos!$J$4:$P$4,GEfectos!J175:P175),IF(EFECTOS!$N$9=\"GUATEMALA\",LOOKUP(3,GEfectos!$J$4:$P$4,GEfectos!J175:P175),IF(EFECTOS!$N$9=\"HONDURAS\",LOOKUP(4,GEfectos!$J$4:$P$4,GEfectos!J175:P175),IF(EFECTOS!$N$9=\"NICARAGUA\",LOOKUP(5,GEfectos!$J$4:$P$4,GEfectos!J175:P175),IF(EFECTOS!$N$9=\"REPÚBLICA \nDOMINICANA\",LOOKUP(6,$J$4:$P$4,J175:P175),IF(EFECTOS!$N$9=\"PANAMÁ\",LOOKUP(7,GEfectos!$J$4:$P$4,GEfectos!J175:P175))))))))","v":178.91814109653856},{"$f":"IF(EFECTOS!$N$9=\"COSTA RICA\",LOOKUP(1,GEfectos!$Q$4:$W$4,GEfectos!Q175:W175),IF(EFECTOS!$N$9=\"EL SALVADOR\",LOOKUP(2,GEfectos!$Q$4:$W$4,GEfectos!Q175:W175),IF(EFECTOS!$N$9=\"GUATEMALA\",LOOKUP(3,GEfectos!$Q$4:$W$4,GEfectos!Q175:W175),IF(EFECTOS!$N$9=\"HONDURAS\",LOOKUP(4,GEfectos!$Q$4:$W$4,GEfectos!Q175:W175),IF(EFECTOS!$N$9=\"NICARAGUA\",LOOKUP(5,GEfectos!$Q$4:$W$4,GEfectos!Q175:W175),IF(EFECTOS!$N$9=\"REPÚBLICA \nDOMINICANA\",LOOKUP(6,$Q$4:$W$4,Q175:W175),IF(EFECTOS!$N$9=\"PANAMÁ\",LOOKUP(7,GEfectos!$Q$4:$W$4,GEfectos!Q175:W175))))))))","v":187.93597310752324},100]
[null,{"$f":"'ITCER GLOBAL'!B176","v":"Marzo"},{"$f":"'ITCER GLOBAL'!C176","v":95.840403074961785},{"$f":"'ITCER GLOBAL'!D176","v":97.195877024083728},{"$f":"'ITCER GLOBAL'!E176","v":72.939449445644357},{"$f":"'ITCER GLOBAL'!F176","v":86.511536496246507},{"$f":"'ITCER GLOBAL'!G176","v":99.465081826271643},{"$f":"'ITCER GLOBAL'!H176","v":115.69558456788778},{"$f":"'ITCER GLOBAL'!I176","v":100.77692163706151},{"$f":"'ITCER GLOBAL'!S176","v":179.77632527871413},{"$f":"'ITCER GLOBAL'!T176","v":94.180444153351047},{"$f":"'ITCER GLOBAL'!U176","v":98.639388223804744},{"$f":"'ITCER GLOBAL'!V176","v":121.18742918606364},{"$f":"'ITCER GLOBAL'!W176","v":141.9769539747827},{"$f":"'ITCER GLOBAL'!X176","v":215.35088994935242},{"$f":"'ITCER GLOBAL'!Y176","v":96.942754707029238},{"$f":"'ITCER GLOBAL'!AA176","v":187.57884932735692},{"$f":"'ITCER GLOBAL'!AB176","v":96.897571210777286},{"$f":"'ITCER GLOBAL'!AC176","v":135.23462128311292},{"$f":"'ITCER GLOBAL'!AD176","v":140.08239142917273},{"$f":"'ITCER GLOBAL'!AE176","v":142.74049884437176},{"$f":"'ITCER GLOBAL'!AF176","v":186.13578967051154},{"$f":"'ITCER GLOBAL'!AG176","v":96.195391893552113},null,{"$f":"IF(EFECTOS!$N$9=\"COSTA RICA\",LOOKUP(1,GEfectos!$C$4:$I$4,GEfectos!C176:I176),IF(EFECTOS!$N$9=\"EL SALVADOR\",LOOKUP(2,GEfectos!$C$4:$I$4,GEfectos!C176:I176),IF(EFECTOS!$N$9=\"GUATEMALA\",LOOKUP(3,GEfectos!$C$4:$I$4,GEfectos!C176:I176),IF(EFECTOS!$N$9=\"HONDURAS\",LOOKUP(4,GEfectos!$C$4:$I$4,GEfectos!C176:I176),IF(EFECTOS!$N$9=\"NICARAGUA\",LOOKUP(5,GEfectos!$C$4:$I$4,GEfectos!C176:I176),IF(EFECTOS!$N$9=\"REPÚBLICA \nDOMINICANA\",LOOKUP(6,$C$4:$I$4,C176:I176),IF(EFECTOS!$N$9=\"PANAMÁ\",LOOKUP(7,GEfectos!$C$4:$I$4,GEfectos!C176:I176))))))))","v":95.840403074961785},{"$f":"IF(EFECTOS!$N$9=\"COSTA RICA\",LOOKUP(1,GEfectos!$J$4:$P$4,GEfectos!J176:P176),IF(EFECTOS!$N$9=\"EL SALVADOR\",LOOKUP(2,GEfectos!$J$4:$P$4,GEfectos!J176:P176),IF(EFECTOS!$N$9=\"GUATEMALA\",LOOKUP(3,GEfectos!$J$4:$P$4,GEfectos!J176:P176),IF(EFECTOS!$N$9=\"HONDURAS\",LOOKUP(4,GEfectos!$J$4:$P$4,GEfectos!J176:P176),IF(EFECTOS!$N$9=\"NICARAGUA\",LOOKUP(5,GEfectos!$J$4:$P$4,GEfectos!J176:P176),IF(EFECTOS!$N$9=\"REPÚBLICA \nDOMINICANA\",LOOKUP(6,$J$4:$P$4,J176:P176),IF(EFECTOS!$N$9=\"PANAMÁ\",LOOKUP(7,GEfectos!$J$4:$P$4,GEfectos!J176:P176))))))))","v":179.77632527871413},{"$f":"IF(EFECTOS!$N$9=\"COSTA RICA\",LOOKUP(1,GEfectos!$Q$4:$W$4,GEfectos!Q176:W176),IF(EFECTOS!$N$9=\"EL SALVADOR\",LOOKUP(2,GEfectos!$Q$4:$W$4,GEfectos!Q176:W176),IF(EFECTOS!$N$9=\"GUATEMALA\",LOOKUP(3,GEfectos!$Q$4:$W$4,GEfectos!Q176:W176),IF(EFECTOS!$N$9=\"HONDURAS\",LOOKUP(4,GEfectos!$Q$4:$W$4,GEfectos!Q176:W176),IF(EFECTOS!$N$9=\"NICARAGUA\",LOOKUP(5,GEfectos!$Q$4:$W$4,GEfectos!Q176:W176),IF(EFECTOS!$N$9=\"REPÚBLICA \nDOMINICANA\",LOOKUP(6,$Q$4:$W$4,Q176:W176),IF(EFECTOS!$N$9=\"PANAMÁ\",LOOKUP(7,GEfectos!$Q$4:$W$4,GEfectos!Q176:W176))))))))","v":187.57884932735692},100]
[null,{"$f":"'ITCER GLOBAL'!B177","v":"Abril"},{"$f":"'ITCER GLOBAL'!C177","v":97.397808455569646},{"$f":"'ITCER GLOBAL'!D177","v":98.294160484768156},{"$f":"'ITCER GLOBAL'!E177","v":74.146353014113501},{"$f":"'ITCER GLOBAL'!F177","v":87.106236954441584},{"$f":"'ITCER GLOBAL'!G177","v":101.04495291762957},{"$f":"'ITCER GLOBAL'!H177","v":117.38998299284752},{"$f":"'ITCER GLOBAL'!I177","v":101.67716498535654},{"$f":"'ITCER GLOBAL'!S177","v":182.93493318402022},{"$f":"'ITCER GLOBAL'!T177","v":95.105284211809035},{"$f":"'ITCER GLOBAL'!U177","v":100.12699115843233},{"$f":"'ITCER GLOBAL'!V177","v":122.16621312146555},{"$f":"'ITCER GLOBAL'!W177","v":143.79837025514126},{"$f":"'ITCER GLOBAL'!X177","v":218.31721401350467},{"$f":"'ITCER GLOBAL'!Y177","v":97.979995550724354},{"$f":"'ITCER GLOBAL'!AA177","v":187.82243264484788},{"$f":"'ITCER GLOBAL'!AB177","v":96.755782584405637},{"$f":"'ITCER GLOBAL'!AC177","v":135.03967098607467},{"$f":"'ITCER GLOBAL'!AD177","v":140.24967372354874},{"$f":"'ITCER GLOBAL'!AE177","v":142.31128433734207},{"$f":"'ITCER GLOBAL'!AF177","v":185.97601639213676},{"$f":"'ITCER GLOBAL'!AG177","v":96.363815380607193},null,{"$f":"IF(EFECTOS!$N$9=\"COSTA RICA\",LOOKUP(1,GEfectos!$C$4:$I$4,GEfectos!C177:I177),IF(EFECTOS!$N$9=\"EL SALVADOR\",LOOKUP(2,GEfectos!$C$4:$I$4,GEfectos!C177:I177),IF(EFECTOS!$N$9=\"GUATEMALA\",LOOKUP(3,GEfectos!$C$4:$I$4,GEfectos!C177:I177),IF(EFECTOS!$N$9=\"HONDURAS\",LOOKUP(4,GEfectos!$C$4:$I$4,GEfectos!C177:I177),IF(EFECTOS!$N$9=\"NICARAGUA\",LOOKUP(5,GEfectos!$C$4:$I$4,GEfectos!C177:I177),IF(EFECTOS!$N$9=\"REPÚBLICA \nDOMINICANA\",LOOKUP(6,$C$4:$I$4,C177:I177),IF(EFECTOS!$N$9=\"PANAMÁ\",LOOKUP(7,GEfectos!$C$4:$I$4,GEfectos!C177:I177))))))))","v":97.397808455569646},{"$f":"IF(EFECTOS!$N$9=\"COSTA RICA\",LOOKUP(1,GEfectos!$J$4:$P$4,GEfectos!J177:P177),IF(EFECTOS!$N$9=\"EL SALVADOR\",LOOKUP(2,GEfectos!$J$4:$P$4,GEfectos!J177:P177),IF(EFECTOS!$N$9=\"GUATEMALA\",LOOKUP(3,GEfectos!$J$4:$P$4,GEfectos!J177:P177),IF(EFECTOS!$N$9=\"HONDURAS\",LOOKUP(4,GEfectos!$J$4:$P$4,GEfectos!J177:P177),IF(EFECTOS!$N$9=\"NICARAGUA\",LOOKUP(5,GEfectos!$J$4:$P$4,GEfectos!J177:P177),IF(EFECTOS!$N$9=\"REPÚBLICA \nDOMINICANA\",LOOKUP(6,$J$4:$P$4,J177:P177),IF(EFECTOS!$N$9=\"PANAMÁ\",LOOKUP(7,GEfectos!$J$4:$P$4,GEfectos!J177:P177))))))))","v":182.93493318402022},{"$f":"IF(EFECTOS!$N$9=\"COSTA RICA\",LOOKUP(1,GEfectos!$Q$4:$W$4,GEfectos!Q177:W177),IF(EFECTOS!$N$9=\"EL SALVADOR\",LOOKUP(2,GEfectos!$Q$4:$W$4,GEfectos!Q177:W177),IF(EFECTOS!$N$9=\"GUATEMALA\",LOOKUP(3,GEfectos!$Q$4:$W$4,GEfectos!Q177:W177),IF(EFECTOS!$N$9=\"HONDURAS\",LOOKUP(4,GEfectos!$Q$4:$W$4,GEfectos!Q177:W177),IF(EFECTOS!$N$9=\"NICARAGUA\",LOOKUP(5,GEfectos!$Q$4:$W$4,GEfectos!Q177:W177),IF(EFECTOS!$N$9=\"REPÚBLICA \nDOMINICANA\",LOOKUP(6,$Q$4:$W$4,Q177:W177),IF(EFECTOS!$N$9=\"PANAMÁ\",LOOKUP(7,GEfectos!$Q$4:$W$4,GEfectos!Q177:W177))))))))","v":187.82243264484788},100]
[null,{"$f":"'ITCER GLOBAL'!B178","v":"Mayo"},{"$f":"'ITCER GLOBAL'!C178","v":99.413612881519796},{"$f":"'ITCER GLOBAL'!D178","v":98.770601155775793},{"$f":"'ITCER GLOBAL'!E178","v":74.833008236775186},{"$f":"'ITCER GLOBAL'!F178","v":87.784054870368621},{"$f":"'ITCER GLOBAL'!G178","v":102.68075426878463},{"$f":"'ITCER GLOBAL'!H178","v":119.03027463128551},{"$f":"'ITCER GLOBAL'!I178","v":103.38476619853938},{"$f":"'ITCER GLOBAL'!S178","v":186.3036125122994},{"$f":"'ITCER GLOBAL'!T178","v":95.719460477669017},{"$f":"'ITCER GLOBAL'!U178","v":101.07773514080966},{"$f":"'ITCER GLOBAL'!V178","v":122.94887127271754},{"$f":"'ITCER GLOBAL'!W178","v":146.17591319258568},{"$f":"'ITCER GLOBAL'!X178","v":221.29142724251955},{"$f":"'ITCER GLOBAL'!Y178","v":99.178582461893413},{"$f":"'ITCER GLOBAL'!AA178","v":187.40251673011252},{"$f":"'ITCER GLOBAL'!AB178","v":96.910881737679532},{"$f":"'ITCER GLOBAL'!AC178","v":135.07105690712703},{"$f":"'ITCER GLOBAL'!AD178","v":140.05831862549195},{"$f":"'ITCER GLOBAL'!AE178","v":142.35960208272812},{"$f":"'ITCER GLOBAL'!AF178","v":185.91188496204316},{"$f":"'ITCER GLOBAL'!AG178","v":95.931524642065298},null,{"$f":"IF(EFECTOS!$N$9=\"COSTA RICA\",LOOKUP(1,GEfectos!$C$4:$I$4,GEfectos!C178:I178),IF(EFECTOS!$N$9=\"EL SALVADOR\",LOOKUP(2,GEfectos!$C$4:$I$4,GEfectos!C178:I178),IF(EFECTOS!$N$9=\"GUATEMALA\",LOOKUP(3,GEfectos!$C$4:$I$4,GEfectos!C178:I178),IF(EFECTOS!$N$9=\"HONDURAS\",LOOKUP(4,GEfectos!$C$4:$I$4,GEfectos!C178:I178),IF(EFECTOS!$N$9=\"NICARAGUA\",LOOKUP(5,GEfectos!$C$4:$I$4,GEfectos!C178:I178),IF(EFECTOS!$N$9=\"REPÚBLICA \nDOMINICANA\",LOOKUP(6,$C$4:$I$4,C178:I178),IF(EFECTOS!$N$9=\"PANAMÁ\",LOOKUP(7,GEfectos!$C$4:$I$4,GEfectos!C178:I178))))))))","v":99.413612881519796},{"$f":"IF(EFECTOS!$N$9=\"COSTA RICA\",LOOKUP(1,GEfectos!$J$4:$P$4,GEfectos!J178:P178),IF(EFECTOS!$N$9=\"EL SALVADOR\",LOOKUP(2,GEfectos!$J$4:$P$4,GEfectos!J178:P178),IF(EFECTOS!$N$9=\"GUATEMALA\",LOOKUP(3,GEfectos!$J$4:$P$4,GEfectos!J178:P178),IF(EFECTOS!$N$9=\"HONDURAS\",LOOKUP(4,GEfectos!$J$4:$P$4,GEfectos!J178:P178),IF(EFECTOS!$N$9=\"NICARAGUA\",LOOKUP(5,GEfectos!$J$4:$P$4,GEfectos!J178:P178),IF(EFECTOS!$N$9=\"REPÚBLICA \nDOMINICANA\",LOOKUP(6,$J$4:$P$4,J178:P178),IF(EFECTOS!$N$9=\"PANAMÁ\",LOOKUP(7,GEfectos!$J$4:$P$4,GEfectos!J178:P178))))))))","v":186.3036125122994},{"$f":"IF(EFECTOS!$N$9=\"COSTA RICA\",LOOKUP(1,GEfectos!$Q$4:$W$4,GEfectos!Q178:W178),IF(EFECTOS!$N$9=\"EL SALVADOR\",LOOKUP(2,GEfectos!$Q$4:$W$4,GEfectos!Q178:W178),IF(EFECTOS!$N$9=\"GUATEMALA\",LOOKUP(3,GEfectos!$Q$4:$W$4,GEfectos!Q178:W178),IF(EFECTOS!$N$9=\"HONDURAS\",LOOKUP(4,GEfectos!$Q$4:$W$4,GEfectos!Q178:W178),IF(EFECTOS!$N$9=\"NICARAGUA\",LOOKUP(5,GEfectos!$Q$4:$W$4,GEfectos!Q178:W178),IF(EFECTOS!$N$9=\"REPÚBLICA \nDOMINICANA\",LOOKUP(6,$Q$4:$W$4,Q178:W178),IF(EFECTOS!$N$9=\"PANAMÁ\",LOOKUP(7,GEfectos!$Q$4:$W$4,GEfectos!Q178:W178))))))))","v":187.40251673011252},100]
[null,{"$f":"'ITCER GLOBAL'!B179","v":"Junio"},{"$f":"'ITCER GLOBAL'!C179","v":100.5441452921164},{"$f":"'ITCER GLOBAL'!D179","v":99.429676086779395},{"$f":"'ITCER GLOBAL'!E179","v":75.673534895239712},{"$f":"'ITCER GLOBAL'!F179","v":87.947834460499081},{"$f":"'ITCER GLOBAL'!G179","v":103.7210815160367},{"$f":"'ITCER GLOBAL'!H179","v":117.76252418175284},{"$f":"'ITCER GLOBAL'!I179","v":103.95219399600651},{"$f":"'ITCER GLOBAL'!S179","v":187.95785379429176},{"$f":"'ITCER GLOBAL'!T179","v":95.950656885129618},{"$f":"'ITCER GLOBAL'!U179","v":101.72019152534327},{"$f":"'ITCER GLOBAL'!V179","v":123.28198612516492},{"$f":"'ITCER GLOBAL'!W179","v":147.24283513570307},{"$f":"'ITCER GLOBAL'!X179","v":222.52278844741187},{"$f":"'ITCER GLOBAL'!Y179","v":99.780140435562828},{"$f":"'ITCER GLOBAL'!AA179","v":186.94062518330389},{"$f":"'ITCER GLOBAL'!AB179","v":96.50102530896973},{"$f":"'ITCER GLOBAL'!AC179","v":134.41976995809938},{"$f":"'ITCER GLOBAL'!AD179","v":140.17626116824493},{"$f":"'ITCER GLOBAL'!AE179","v":141.96037390232698},{"$f":"'ITCER GLOBAL'!AF179","v":188.95891540501773},{"$f":"'ITCER GLOBAL'!AG179","v":95.986565169943447},null,{"$f":"IF(EFECTOS!$N$9=\"COSTA RICA\",LOOKUP(1,GEfectos!$C$4:$I$4,GEfectos!C179:I179),IF(EFECTOS!$N$9=\"EL SALVADOR\",LOOKUP(2,GEfectos!$C$4:$I$4,GEfectos!C179:I179),IF(EFECTOS!$N$9=\"GUATEMALA\",LOOKUP(3,GEfectos!$C$4:$I$4,GEfectos!C179:I179),IF(EFECTOS!$N$9=\"HONDURAS\",LOOKUP(4,GEfectos!$C$4:$I$4,GEfectos!C179:I179),IF(EFECTOS!$N$9=\"NICARAGUA\",LOOKUP(5,GEfectos!$C$4:$I$4,GEfectos!C179:I179),IF(EFECTOS!$N$9=\"REPÚBLICA \nDOMINICANA\",LOOKUP(6,$C$4:$I$4,C179:I179),IF(EFECTOS!$N$9=\"PANAMÁ\",LOOKUP(7,GEfectos!$C$4:$I$4,GEfectos!C179:I179))))))))","v":100.5441452921164},{"$f":"IF(EFECTOS!$N$9=\"COSTA RICA\",LOOKUP(1,GEfectos!$J$4:$P$4,GEfectos!J179:P179),IF(EFECTOS!$N$9=\"EL SALVADOR\",LOOKUP(2,GEfectos!$J$4:$P$4,GEfectos!J179:P179),IF(EFECTOS!$N$9=\"GUATEMALA\",LOOKUP(3,GEfectos!$J$4:$P$4,GEfectos!J179:P179),IF(EFECTOS!$N$9=\"HONDURAS\",LOOKUP(4,GEfectos!$J$4:$P$4,GEfectos!J179:P179),IF(EFECTOS!$N$9=\"NICARAGUA\",LOOKUP(5,GEfectos!$J$4:$P$4,GEfectos!J179:P179),IF(EFECTOS!$N$9=\"REPÚBLICA \nDOMINICANA\",LOOKUP(6,$J$4:$P$4,J179:P179),IF(EFECTOS!$N$9=\"PANAMÁ\",LOOKUP(7,GEfectos!$J$4:$P$4,GEfectos!J179:P179))))))))","v":187.95785379429176},{"$f":"IF(EFECTOS!$N$9=\"COSTA RICA\",LOOKUP(1,GEfectos!$Q$4:$W$4,GEfectos!Q179:W179),IF(EFECTOS!$N$9=\"EL SALVADOR\",LOOKUP(2,GEfectos!$Q$4:$W$4,GEfectos!Q179:W179),IF(EFECTOS!$N$9=\"GUATEMALA\",LOOKUP(3,GEfectos!$Q$4:$W$4,GEfectos!Q179:W179),IF(EFECTOS!$N$9=\"HONDURAS\",LOOKUP(4,GEfectos!$Q$4:$W$4,GEfectos!Q179:W179),IF(EFECTOS!$N$9=\"NICARAGUA\",LOOKUP(5,GEfectos!$Q$4:$W$4,GEfectos!Q179:W179),IF(EFECTOS!$N$9=\"REPÚBLICA \nDOMINICANA\",LOOKUP(6,$Q$4:$W$4,Q179:W179),IF(EFECTOS!$N$9=\"PANAMÁ\",LOOKUP(7,GEfectos!$Q$4:$W$4,GEfectos!Q179:W179))))))))","v":186.94062518330389},100]
[null,{"$f":"'ITCER GLOBAL'!B180","v":"Julio"},{"$f":"'ITCER GLOBAL'!C180","v":100.62756258926125},{"$f":"'ITCER GLOBAL'!D180","v":99.862001869561055},{"$f":"'ITCER GLOBAL'!E180","v":75.895359288620114},{"$f":"'ITCER GLOBAL'!F180","v":87.273657920242172},{"$f":"'ITCER GLOBAL'!G180","v":104.9213597535627},{"$f":"'ITCER GLOBAL'!H180","v":117.87558407687447},{"$f":"'ITCER GLOBAL'!I180","v":103.60338940961763},{"$f":"'ITCER GLOBAL'!S180","v":190.07593464772273},{"$f":"'ITCER GLOBAL'!T180","v":95.956620648319273},{"$f":"'ITCER GLOBAL'!U180","v":102.38980670678586},{"$f":"'ITCER GLOBAL'!V180","v":123.30786332650628},{"$f":"'ITCER GLOBAL'!W180","v":147.96208896846539},{"$f":"'ITCER GLOBAL'!X180","v":223.28121379233724},{"$f":"'ITCER GLOBAL'!Y180","v":99.993884879799538},{"$f":"'ITCER GLOBAL'!AA180","v":188.89052835709572},{"$f":"'ITCER GLOBAL'!AB180","v":96.089221978202517},{"$f":"'ITCER GLOBAL'!AC180","v":134.90917977924161},{"$f":"'ITCER GLOBAL'!AD180","v":141.28875340505965},{"$f":"'ITCER GLOBAL'!AE180","v":141.02189422248813},{"$f":"'ITCER GLOBAL'!AF180","v":189.4210879555182},{"$f":"'ITCER GLOBAL'!AG180","v":96.516036250950094},null,{"$f":"IF(EFECTOS!$N$9=\"COSTA RICA\",LOOKUP(1,GEfectos!$C$4:$I$4,GEfectos!C180:I180),IF(EFECTOS!$N$9=\"EL SALVADOR\",LOOKUP(2,GEfectos!$C$4:$I$4,GEfectos!C180:I180),IF(EFECTOS!$N$9=\"GUATEMALA\",LOOKUP(3,GEfectos!$C$4:$I$4,GEfectos!C180:I180),IF(EFECTOS!$N$9=\"HONDURAS\",LOOKUP(4,GEfectos!$C$4:$I$4,GEfectos!C180:I180),IF(EFECTOS!$N$9=\"NICARAGUA\",LOOKUP(5,GEfectos!$C$4:$I$4,GEfectos!C180:I180),IF(EFECTOS!$N$9=\"REPÚBLICA \nDOMINICANA\",LOOKUP(6,$C$4:$I$4,C180:I180),IF(EFECTOS!$N$9=\"PANAMÁ\",LOOKUP(7,GEfectos!$C$4:$I$4,GEfectos!C180:I180))))))))","v":100.62756258926125},{"$f":"IF(EFECTOS!$N$9=\"COSTA RICA\",LOOKUP(1,GEfectos!$J$4:$P$4,GEfectos!J180:P180),IF(EFECTOS!$N$9=\"EL SALVADOR\",LOOKUP(2,GEfectos!$J$4:$P$4,GEfectos!J180:P180),IF(EFECTOS!$N$9=\"GUATEMALA\",LOOKUP(3,GEfectos!$J$4:$P$4,GEfectos!J180:P180),IF(EFECTOS!$N$9=\"HONDURAS\",LOOKUP(4,GEfectos!$J$4:$P$4,GEfectos!J180:P180),IF(EFECTOS!$N$9=\"NICARAGUA\",LOOKUP(5,GEfectos!$J$4:$P$4,GEfectos!J180:P180),IF(EFECTOS!$N$9=\"REPÚBLICA \nDOMINICANA\",LOOKUP(6,$J$4:$P$4,J180:P180),IF(EFECTOS!$N$9=\"PANAMÁ\",LOOKUP(7,GEfectos!$J$4:$P$4,GEfectos!J180:P180))))))))","v":190.07593464772273},{"$f":"IF(EFECTOS!$N$9=\"COSTA RICA\",LOOKUP(1,GEfectos!$Q$4:$W$4,GEfectos!Q180:W180),IF(EFECTOS!$N$9=\"EL SALVADOR\",LOOKUP(2,GEfectos!$Q$4:$W$4,GEfectos!Q180:W180),IF(EFECTOS!$N$9=\"GUATEMALA\",LOOKUP(3,GEfectos!$Q$4:$W$4,GEfectos!Q180:W180),IF(EFECTOS!$N$9=\"HONDURAS\",LOOKUP(4,GEfectos!$Q$4:$W$4,GEfectos!Q180:W180),IF(EFECTOS!$N$9=\"NICARAGUA\",LOOKUP(5,GEfectos!$Q$4:$W$4,GEfectos!Q180:W180),IF(EFECTOS!$N$9=\"REPÚBLICA \nDOMINICANA\",LOOKUP(6,$Q$4:$W$4,Q180:W180),IF(EFECTOS!$N$9=\"PANAMÁ\",LOOKUP(7,GEfectos!$Q$4:$W$4,GEfectos!Q180:W180))))))))","v":188.89052835709572},100]
[null,{"$f":"'ITCER GLOBAL'!B181","v":"Agosto"},{"$f":"'ITCER GLOBAL'!C181","v":101.54186845825924},{"$f":"'ITCER GLOBAL'!D181","v":100.5828817022004},{"$f":"'ITCER GLOBAL'!E181","v":77.167467262705628},{"$f":"'ITCER GLOBAL'!F181","v":87.606000195065917},{"$f":"'ITCER GLOBAL'!G181","v":105.97334663325611},{"$f":"'ITCER GLOBAL'!H181","v":117.87502405703084},{"$f":"'ITCER GLOBAL'!I181","v":103.95687130376953},{"$f":"'ITCER GLOBAL'!S181","v":192.54259279859775},{"$f":"'ITCER GLOBAL'!T181","v":96.23473737609487},{"$f":"'ITCER GLOBAL'!U181","v":103.94218730092133},{"$f":"'ITCER GLOBAL'!V181","v":123.6142927484089},{"$f":"'ITCER GLOBAL'!W181","v":149.53796358791502},{"$f":"'ITCER GLOBAL'!X181","v":224.58569587799383},{"$f":"'ITCER GLOBAL'!Y181","v":100.40518455362843},{"$f":"'ITCER GLOBAL'!AA181","v":189.61891850330304},{"$f":"'ITCER GLOBAL'!AB181","v":95.677053338977473},{"$f":"'ITCER GLOBAL'!AC181","v":134.69690141191884},{"$f":"'ITCER GLOBAL'!AD181","v":141.10254146196144},{"$f":"'ITCER GLOBAL'!AE181","v":141.10903197709115},{"$f":"'ITCER GLOBAL'!AF181","v":190.52865327037705},{"$f":"'ITCER GLOBAL'!AG181","v":96.583499767165165},null,{"$f":"IF(EFECTOS!$N$9=\"COSTA RICA\",LOOKUP(1,GEfectos!$C$4:$I$4,GEfectos!C181:I181),IF(EFECTOS!$N$9=\"EL SALVADOR\",LOOKUP(2,GEfectos!$C$4:$I$4,GEfectos!C181:I181),IF(EFECTOS!$N$9=\"GUATEMALA\",LOOKUP(3,GEfectos!$C$4:$I$4,GEfectos!C181:I181),IF(EFECTOS!$N$9=\"HONDURAS\",LOOKUP(4,GEfectos!$C$4:$I$4,GEfectos!C181:I181),IF(EFECTOS!$N$9=\"NICARAGUA\",LOOKUP(5,GEfectos!$C$4:$I$4,GEfectos!C181:I181),IF(EFECTOS!$N$9=\"REPÚBLICA \nDOMINICANA\",LOOKUP(6,$C$4:$I$4,C181:I181),IF(EFECTOS!$N$9=\"PANAMÁ\",LOOKUP(7,GEfectos!$C$4:$I$4,GEfectos!C181:I181))))))))","v":101.54186845825924},{"$f":"IF(EFECTOS!$N$9=\"COSTA RICA\",LOOKUP(1,GEfectos!$J$4:$P$4,GEfectos!J181:P181),IF(EFECTOS!$N$9=\"EL SALVADOR\",LOOKUP(2,GEfectos!$J$4:$P$4,GEfectos!J181:P181),IF(EFECTOS!$N$9=\"GUATEMALA\",LOOKUP(3,GEfectos!$J$4:$P$4,GEfectos!J181:P181),IF(EFECTOS!$N$9=\"HONDURAS\",LOOKUP(4,GEfectos!$J$4:$P$4,GEfectos!J181:P181),IF(EFECTOS!$N$9=\"NICARAGUA\",LOOKUP(5,GEfectos!$J$4:$P$4,GEfectos!J181:P181),IF(EFECTOS!$N$9=\"REPÚBLICA \nDOMINICANA\",LOOKUP(6,$J$4:$P$4,J181:P181),IF(EFECTOS!$N$9=\"PANAMÁ\",LOOKUP(7,GEfectos!$J$4:$P$4,GEfectos!J181:P181))))))))","v":192.54259279859775},{"$f":"IF(EFECTOS!$N$9=\"COSTA RICA\",LOOKUP(1,GEfectos!$Q$4:$W$4,GEfectos!Q181:W181),IF(EFECTOS!$N$9=\"EL SALVADOR\",LOOKUP(2,GEfectos!$Q$4:$W$4,GEfectos!Q181:W181),IF(EFECTOS!$N$9=\"GUATEMALA\",LOOKUP(3,GEfectos!$Q$4:$W$4,GEfectos!Q181:W181),IF(EFECTOS!$N$9=\"HONDURAS\",LOOKUP(4,GEfectos!$Q$4:$W$4,GEfectos!Q181:W181),IF(EFECTOS!$N$9=\"NICARAGUA\",LOOKUP(5,GEfectos!$Q$4:$W$4,GEfectos!Q181:W181),IF(EFECTOS!$N$9=\"REPÚBLICA \nDOMINICANA\",LOOKUP(6,$Q$4:$W$4,Q181:W181),IF(EFECTOS!$N$9=\"PANAMÁ\",LOOKUP(7,GEfectos!$Q$4:$W$4,GEfectos!Q181:W181))))))))","v":189.61891850330304},100]
[null,{"$f":"'ITCER GLOBAL'!B182","v":"Septiembre"},{"$f":"'ITCER GLOBAL'!C182","v":101.89923803788791},{"$f":"'ITCER GLOBAL'!D182","v":100.79295123738812},{"$f":"'ITCER GLOBAL'!E182","v":77.320823399227805},{"$f":"'ITCER GLOBAL'!F182","v":87.701290402235628},{"$f":"'ITCER GLOBAL'!G182","v":106.19363696126152},{"$f":"'ITCER GLOBAL'!H182","v":118.3262293913122},{"$f":"'ITCER GLOBAL'!I182","v":105.19134668046951},{"$f":"'ITCER GLOBAL'!S182","v":193.20117432744283},{"$f":"'ITCER GLOBAL'!T182","v":96.202524711148456},{"$f":"'ITCER GLOBAL'!U182","v":104.67973696170527},{"$f":"'ITCER GLOBAL'!V182","v":123.70733703550674},{"$f":"'ITCER GLOBAL'!W182","v":150.10744631086934},{"$f":"'ITCER GLOBAL'!X182","v":225.43511079433239},{"$f":"'ITCER GLOBAL'!Y182","v":100.93288739083953},{"$f":"'ITCER GLOBAL'!AA182","v":189.6002149256575},{"$f":"'ITCER GLOBAL'!AB182","v":95.445686955401996},{"$f":"'ITCER GLOBAL'!AC182","v":135.3836293506811},{"$f":"'ITCER GLOBAL'!AD182","v":141.05532138481885},{"$f":"'ITCER GLOBAL'!AE182","v":141.35258063119844},{"$f":"'ITCER GLOBAL'!AF182","v":190.51998187891584},{"$f":"'ITCER GLOBAL'!AG182","v":95.951701899429509},null,{"$f":"IF(EFECTOS!$N$9=\"COSTA RICA\",LOOKUP(1,GEfectos!$C$4:$I$4,GEfectos!C182:I182),IF(EFECTOS!$N$9=\"EL SALVADOR\",LOOKUP(2,GEfectos!$C$4:$I$4,GEfectos!C182:I182),IF(EFECTOS!$N$9=\"GUATEMALA\",LOOKUP(3,GEfectos!$C$4:$I$4,GEfectos!C182:I182),IF(EFECTOS!$N$9=\"HONDURAS\",LOOKUP(4,GEfectos!$C$4:$I$4,GEfectos!C182:I182),IF(EFECTOS!$N$9=\"NICARAGUA\",LOOKUP(5,GEfectos!$C$4:$I$4,GEfectos!C182:I182),IF(EFECTOS!$N$9=\"REPÚBLICA \nDOMINICANA\",LOOKUP(6,$C$4:$I$4,C182:I182),IF(EFECTOS!$N$9=\"PANAMÁ\",LOOKUP(7,GEfectos!$C$4:$I$4,GEfectos!C182:I182))))))))","v":101.89923803788791},{"$f":"IF(EFECTOS!$N$9=\"COSTA RICA\",LOOKUP(1,GEfectos!$J$4:$P$4,GEfectos!J182:P182),IF(EFECTOS!$N$9=\"EL SALVADOR\",LOOKUP(2,GEfectos!$J$4:$P$4,GEfectos!J182:P182),IF(EFECTOS!$N$9=\"GUATEMALA\",LOOKUP(3,GEfectos!$J$4:$P$4,GEfectos!J182:P182),IF(EFECTOS!$N$9=\"HONDURAS\",LOOKUP(4,GEfectos!$J$4:$P$4,GEfectos!J182:P182),IF(EFECTOS!$N$9=\"NICARAGUA\",LOOKUP(5,GEfectos!$J$4:$P$4,GEfectos!J182:P182),IF(EFECTOS!$N$9=\"REPÚBLICA \nDOMINICANA\",LOOKUP(6,$J$4:$P$4,J182:P182),IF(EFECTOS!$N$9=\"PANAMÁ\",LOOKUP(7,GEfectos!$J$4:$P$4,GEfectos!J182:P182))))))))","v":193.20117432744283},{"$f":"IF(EFECTOS!$N$9=\"COSTA RICA\",LOOKUP(1,GEfectos!$Q$4:$W$4,GEfectos!Q182:W182),IF(EFECTOS!$N$9=\"EL SALVADOR\",LOOKUP(2,GEfectos!$Q$4:$W$4,GEfectos!Q182:W182),IF(EFECTOS!$N$9=\"GUATEMALA\",LOOKUP(3,GEfectos!$Q$4:$W$4,GEfectos!Q182:W182),IF(EFECTOS!$N$9=\"HONDURAS\",LOOKUP(4,GEfectos!$Q$4:$W$4,GEfectos!Q182:W182),IF(EFECTOS!$N$9=\"NICARAGUA\",LOOKUP(5,GEfectos!$Q$4:$W$4,GEfectos!Q182:W182),IF(EFECTOS!$N$9=\"REPÚBLICA \nDOMINICANA\",LOOKUP(6,$Q$4:$W$4,Q182:W182),IF(EFECTOS!$N$9=\"PANAMÁ\",LOOKUP(7,GEfectos!$Q$4:$W$4,GEfectos!Q182:W182))))))))","v":189.6002149256575},100]
[null,{"$f":"'ITCER GLOBAL'!B183","v":"Octubre"},{"$f":"'ITCER GLOBAL'!C183","v":101.48186634975406},{"$f":"'ITCER GLOBAL'!D183","v":102.02312948735663},{"$f":"'ITCER GLOBAL'!E183","v":78.235036470003678},{"$f":"'ITCER GLOBAL'!F183","v":87.876268304113665},{"$f":"'ITCER GLOBAL'!G183","v":106.85258648175076},{"$f":"'ITCER GLOBAL'!H183","v":118.97403975142673},{"$f":"'ITCER GLOBAL'!I183","v":105.80191338419576},{"$f":"'ITCER GLOBAL'!S183","v":192.74362080839876},{"$f":"'ITCER GLOBAL'!T183","v":96.599555036781211},{"$f":"'ITCER GLOBAL'!U183","v":105.66652909636613},{"$f":"'ITCER GLOBAL'!V183","v":124.20726872906826},{"$f":"'ITCER GLOBAL'!W183","v":151.60935446391522},{"$f":"'ITCER GLOBAL'!X183","v":226.98377755977612},{"$f":"'ITCER GLOBAL'!Y183","v":101.71333905292725},{"$f":"'ITCER GLOBAL'!AA183","v":189.92912501639842},{"$f":"'ITCER GLOBAL'!AB183","v":94.683975606484864},{"$f":"'ITCER GLOBAL'!AC183","v":135.06292559457046},{"$f":"'ITCER GLOBAL'!AD183","v":141.34335825370258},{"$f":"'ITCER GLOBAL'!AE183","v":141.88646195270942},{"$f":"'ITCER GLOBAL'!AF183","v":190.78429045026533},{"$f":"'ITCER GLOBAL'!AG183","v":96.135632900681316},null,{"$f":"IF(EFECTOS!$N$9=\"COSTA RICA\",LOOKUP(1,GEfectos!$C$4:$I$4,GEfectos!C183:I183),IF(EFECTOS!$N$9=\"EL SALVADOR\",LOOKUP(2,GEfectos!$C$4:$I$4,GEfectos!C183:I183),IF(EFECTOS!$N$9=\"GUATEMALA\",LOOKUP(3,GEfectos!$C$4:$I$4,GEfectos!C183:I183),IF(EFECTOS!$N$9=\"HONDURAS\",LOOKUP(4,GEfectos!$C$4:$I$4,GEfectos!C183:I183),IF(EFECTOS!$N$9=\"NICARAGUA\",LOOKUP(5,GEfectos!$C$4:$I$4,GEfectos!C183:I183),IF(EFECTOS!$N$9=\"REPÚBLICA \nDOMINICANA\",LOOKUP(6,$C$4:$I$4,C183:I183),IF(EFECTOS!$N$9=\"PANAMÁ\",LOOKUP(7,GEfectos!$C$4:$I$4,GEfectos!C183:I183))))))))","v":101.48186634975406},{"$f":"IF(EFECTOS!$N$9=\"COSTA RICA\",LOOKUP(1,GEfectos!$J$4:$P$4,GEfectos!J183:P183),IF(EFECTOS!$N$9=\"EL SALVADOR\",LOOKUP(2,GEfectos!$J$4:$P$4,GEfectos!J183:P183),IF(EFECTOS!$N$9=\"GUATEMALA\",LOOKUP(3,GEfectos!$J$4:$P$4,GEfectos!J183:P183),IF(EFECTOS!$N$9=\"HONDURAS\",LOOKUP(4,GEfectos!$J$4:$P$4,GEfectos!J183:P183),IF(EFECTOS!$N$9=\"NICARAGUA\",LOOKUP(5,GEfectos!$J$4:$P$4,GEfectos!J183:P183),IF(EFECTOS!$N$9=\"REPÚBLICA \nDOMINICANA\",LOOKUP(6,$J$4:$P$4,J183:P183),IF(EFECTOS!$N$9=\"PANAMÁ\",LOOKUP(7,GEfectos!$J$4:$P$4,GEfectos!J183:P183))))))))","v":192.74362080839876},{"$f":"IF(EFECTOS!$N$9=\"COSTA RICA\",LOOKUP(1,GEfectos!$Q$4:$W$4,GEfectos!Q183:W183),IF(EFECTOS!$N$9=\"EL SALVADOR\",LOOKUP(2,GEfectos!$Q$4:$W$4,GEfectos!Q183:W183),IF(EFECTOS!$N$9=\"GUATEMALA\",LOOKUP(3,GEfectos!$Q$4:$W$4,GEfectos!Q183:W183),IF(EFECTOS!$N$9=\"HONDURAS\",LOOKUP(4,GEfectos!$Q$4:$W$4,GEfectos!Q183:W183),IF(EFECTOS!$N$9=\"NICARAGUA\",LOOKUP(5,GEfectos!$Q$4:$W$4,GEfectos!Q183:W183),IF(EFECTOS!$N$9=\"REPÚBLICA \nDOMINICANA\",LOOKUP(6,$Q$4:$W$4,Q183:W183),IF(EFECTOS!$N$9=\"PANAMÁ\",LOOKUP(7,GEfectos!$Q$4:$W$4,GEfectos!Q183:W183))))))))","v":189.92912501639842},100]
[null,{"$f":"'ITCER GLOBAL'!B184","v":"Noviembre"},{"$f":"'ITCER GLOBAL'!C184","v":99.293644213225804},{"$f":"'ITCER GLOBAL'!D184","v":101.01160492199239},{"$f":"'ITCER GLOBAL'!E184","v":78.16480218811968},{"$f":"'ITCER GLOBAL'!F184","v":88.093223307795739},{"$f":"'ITCER GLOBAL'!G184","v":107.88440025390025},{"$f":"'ITCER GLOBAL'!H184","v":117.87731365355269},{"$f":"'ITCER GLOBAL'!I184","v":106.12754241008844},{"$f":"'ITCER GLOBAL'!S184","v":187.96332674440058},{"$f":"'ITCER GLOBAL'!T184","v":96.842753178530728},{"$f":"'ITCER GLOBAL'!U184","v":105.35860224774152},{"$f":"'ITCER GLOBAL'!V184","v":124.54931280484249},{"$f":"'ITCER GLOBAL'!W184","v":152.85531637877668},{"$f":"'ITCER GLOBAL'!X184","v":226.99630566372079},{"$f":"'ITCER GLOBAL'!Y184","v":102.0040148979546},{"$f":"'ITCER GLOBAL'!AA184","v":189.30046150865724},{"$f":"'ITCER GLOBAL'!AB184","v":95.872898221267633},{"$f":"'ITCER GLOBAL'!AC184","v":134.79033951134986},{"$f":"'ITCER GLOBAL'!AD184","v":141.38353454234499},{"$f":"'ITCER GLOBAL'!AE184","v":141.68435475290195},{"$f":"'ITCER GLOBAL'!AF184","v":192.56996840874254},{"$f":"'ITCER GLOBAL'!AG184","v":96.114554790875999},null,{"$f":"IF(EFECTOS!$N$9=\"COSTA RICA\",LOOKUP(1,GEfectos!$C$4:$I$4,GEfectos!C184:I184),IF(EFECTOS!$N$9=\"EL SALVADOR\",LOOKUP(2,GEfectos!$C$4:$I$4,GEfectos!C184:I184),IF(EFECTOS!$N$9=\"GUATEMALA\",LOOKUP(3,GEfectos!$C$4:$I$4,GEfectos!C184:I184),IF(EFECTOS!$N$9=\"HONDURAS\",LOOKUP(4,GEfectos!$C$4:$I$4,GEfectos!C184:I184),IF(EFECTOS!$N$9=\"NICARAGUA\",LOOKUP(5,GEfectos!$C$4:$I$4,GEfectos!C184:I184),IF(EFECTOS!$N$9=\"REPÚBLICA \nDOMINICANA\",LOOKUP(6,$C$4:$I$4,C184:I184),IF(EFECTOS!$N$9=\"PANAMÁ\",LOOKUP(7,GEfectos!$C$4:$I$4,GEfectos!C184:I184))))))))","v":99.293644213225804},{"$f":"IF(EFECTOS!$N$9=\"COSTA RICA\",LOOKUP(1,GEfectos!$J$4:$P$4,GEfectos!J184:P184),IF(EFECTOS!$N$9=\"EL SALVADOR\",LOOKUP(2,GEfectos!$J$4:$P$4,GEfectos!J184:P184),IF(EFECTOS!$N$9=\"GUATEMALA\",LOOKUP(3,GEfectos!$J$4:$P$4,GEfectos!J184:P184),IF(EFECTOS!$N$9=\"HONDURAS\",LOOKUP(4,GEfectos!$J$4:$P$4,GEfectos!J184:P184),IF(EFECTOS!$N$9=\"NICARAGUA\",LOOKUP(5,GEfectos!$J$4:$P$4,GEfectos!J184:P184),IF(EFECTOS!$N$9=\"REPÚBLICA \nDOMINICANA\",LOOKUP(6,$J$4:$P$4,J184:P184),IF(EFECTOS!$N$9=\"PANAMÁ\",LOOKUP(7,GEfectos!$J$4:$P$4,GEfectos!J184:P184))))))))","v":187.96332674440058},{"$f":"IF(EFECTOS!$N$9=\"COSTA RICA\",LOOKUP(1,GEfectos!$Q$4:$W$4,GEfectos!Q184:W184),IF(EFECTOS!$N$9=\"EL SALVADOR\",LOOKUP(2,GEfectos!$Q$4:$W$4,GEfectos!Q184:W184),IF(EFECTOS!$N$9=\"GUATEMALA\",LOOKUP(3,GEfectos!$Q$4:$W$4,GEfectos!Q184:W184),IF(EFECTOS!$N$9=\"HONDURAS\",LOOKUP(4,GEfectos!$Q$4:$W$4,GEfectos!Q184:W184),IF(EFECTOS!$N$9=\"NICARAGUA\",LOOKUP(5,GEfectos!$Q$4:$W$4,GEfectos!Q184:W184),IF(EFECTOS!$N$9=\"REPÚBLICA \nDOMINICANA\",LOOKUP(6,$Q$4:$W$4,Q184:W184),IF(EFECTOS!$N$9=\"PANAMÁ\",LOOKUP(7,GEfectos!$Q$4:$W$4,GEfectos!Q184:W184))))))))","v":189.30046150865724},100]
[null,{"$f":"'ITCER GLOBAL'!B185","v":"Diciembre"},{"$f":"'ITCER GLOBAL'!C185","v":98.175096593722841},{"$f":"'ITCER GLOBAL'!D185","v":101.38972250227829},{"$f":"'ITCER GLOBAL'!E185","v":78.427873944253562},{"$f":"'ITCER GLOBAL'!F185","v":88.026741896529543},{"$f":"'ITCER GLOBAL'!G185","v":108.09492144167099},{"$f":"'ITCER GLOBAL'!H185","v":117.51407700368739},{"$f":"'ITCER GLOBAL'!I185","v":105.78537493997273},{"$f":"'ITCER GLOBAL'!S185","v":187.54471310293653},{"$f":"'ITCER GLOBAL'!T185","v":96.747159191640321},{"$f":"'ITCER GLOBAL'!U185","v":105.59959218360164},{"$f":"'ITCER GLOBAL'!V185","v":124.35533592317078},{"$f":"'ITCER GLOBAL'!W185","v":153.26671580729774},{"$f":"'ITCER GLOBAL'!X185","v":226.37062033853255},{"$f":"'ITCER GLOBAL'!Y185","v":101.68204149991418},{"$f":"'ITCER GLOBAL'!AA185","v":191.03084143532979},{"$f":"'ITCER GLOBAL'!AB185","v":95.421071094721995},{"$f":"'ITCER GLOBAL'!AC185","v":134.64548619367361},{"$f":"'ITCER GLOBAL'!AD185","v":141.26995188501175},{"$f":"'ITCER GLOBAL'!AE185","v":141.78900707190195},{"$f":"'ITCER GLOBAL'!AF185","v":192.6327688651543},{"$f":"'ITCER GLOBAL'!AG185","v":96.121076810110125},null,{"$f":"IF(EFECTOS!$N$9=\"COSTA RICA\",LOOKUP(1,GEfectos!$C$4:$I$4,GEfectos!C185:I185),IF(EFECTOS!$N$9=\"EL SALVADOR\",LOOKUP(2,GEfectos!$C$4:$I$4,GEfectos!C185:I185),IF(EFECTOS!$N$9=\"GUATEMALA\",LOOKUP(3,GEfectos!$C$4:$I$4,GEfectos!C185:I185),IF(EFECTOS!$N$9=\"HONDURAS\",LOOKUP(4,GEfectos!$C$4:$I$4,GEfectos!C185:I185),IF(EFECTOS!$N$9=\"NICARAGUA\",LOOKUP(5,GEfectos!$C$4:$I$4,GEfectos!C185:I185),IF(EFECTOS!$N$9=\"REPÚBLICA \nDOMINICANA\",LOOKUP(6,$C$4:$I$4,C185:I185),IF(EFECTOS!$N$9=\"PANAMÁ\",LOOKUP(7,GEfectos!$C$4:$I$4,GEfectos!C185:I185))))))))","v":98.175096593722841},{"$f":"IF(EFECTOS!$N$9=\"COSTA RICA\",LOOKUP(1,GEfectos!$J$4:$P$4,GEfectos!J185:P185),IF(EFECTOS!$N$9=\"EL SALVADOR\",LOOKUP(2,GEfectos!$J$4:$P$4,GEfectos!J185:P185),IF(EFECTOS!$N$9=\"GUATEMALA\",LOOKUP(3,GEfectos!$J$4:$P$4,GEfectos!J185:P185),IF(EFECTOS!$N$9=\"HONDURAS\",LOOKUP(4,GEfectos!$J$4:$P$4,GEfectos!J185:P185),IF(EFECTOS!$N$9=\"NICARAGUA\",LOOKUP(5,GEfectos!$J$4:$P$4,GEfectos!J185:P185),IF(EFECTOS!$N$9=\"REPÚBLICA \nDOMINICANA\",LOOKUP(6,$J$4:$P$4,J185:P185),IF(EFECTOS!$N$9=\"PANAMÁ\",LOOKUP(7,GEfectos!$J$4:$P$4,GEfectos!J185:P185))))))))","v":187.54471310293653},{"$f":"IF(EFECTOS!$N$9=\"COSTA RICA\",LOOKUP(1,GEfectos!$Q$4:$W$4,GEfectos!Q185:W185),IF(EFECTOS!$N$9=\"EL SALVADOR\",LOOKUP(2,GEfectos!$Q$4:$W$4,GEfectos!Q185:W185),IF(EFECTOS!$N$9=\"GUATEMALA\",LOOKUP(3,GEfectos!$Q$4:$W$4,GEfectos!Q185:W185),IF(EFECTOS!$N$9=\"HONDURAS\",LOOKUP(4,GEfectos!$Q$4:$W$4,GEfectos!Q185:W185),IF(EFECTOS!$N$9=\"NICARAGUA\",LOOKUP(5,GEfectos!$Q$4:$W$4,GEfectos!Q185:W185),IF(EFECTOS!$N$9=\"REPÚBLICA \nDOMINICANA\",LOOKUP(6,$Q$4:$W$4,Q185:W185),IF(EFECTOS!$N$9=\"PANAMÁ\",LOOKUP(7,GEfectos!$Q$4:$W$4,GEfectos!Q185:W185))))))))","v":191.03084143532979},100]
[2010,{"$f":"'ITCER GLOBAL'!B186","v":"Enero"},{"$f":"'ITCER GLOBAL'!C186","v":95.786623005054665},{"$f":"'ITCER GLOBAL'!D186","v":101.75329642726045},{"$f":"'ITCER GLOBAL'!E186","v":77.975809207002172},{"$f":"'ITCER GLOBAL'!F186","v":88.258982721333737},{"$f":"'ITCER GLOBAL'!G186","v":109.15831429418139},{"$f":"'ITCER GLOBAL'!H186","v":120.3556761513416},{"$f":"'ITCER GLOBAL'!I186","v":104.87046809661545},{"$f":"'ITCER GLOBAL'!S186","v":184.93962354016426},{"$f":"'ITCER GLOBAL'!T186","v":96.153680591406243},{"$f":"'ITCER GLOBAL'!U186","v":105.44863161294667},{"$f":"'ITCER GLOBAL'!V186","v":124.11707468956648},{"$f":"'ITCER GLOBAL'!W186","v":155.02521262209444},{"$f":"'ITCER GLOBAL'!X186","v":225.12517234545419},{"$f":"'ITCER GLOBAL'!Y186","v":100.07162243770313},{"$f":"'ITCER GLOBAL'!AA186","v":193.07458362991355},{"$f":"'ITCER GLOBAL'!AB186","v":94.496870339864472},{"$f":"'ITCER GLOBAL'!AC186","v":135.23249413547279},{"$f":"'ITCER GLOBAL'!AD186","v":140.6282633932571},{"$f":"'ITCER GLOBAL'!AE186","v":142.01869424650684},{"$f":"'ITCER GLOBAL'!AF186","v":187.0499003822386},{"$f":"'ITCER GLOBAL'!AG186","v":95.42402570903829},null,{"$f":"IF(EFECTOS!$N$9=\"COSTA RICA\",LOOKUP(1,GEfectos!$C$4:$I$4,GEfectos!C186:I186),IF(EFECTOS!$N$9=\"EL SALVADOR\",LOOKUP(2,GEfectos!$C$4:$I$4,GEfectos!C186:I186),IF(EFECTOS!$N$9=\"GUATEMALA\",LOOKUP(3,GEfectos!$C$4:$I$4,GEfectos!C186:I186),IF(EFECTOS!$N$9=\"HONDURAS\",LOOKUP(4,GEfectos!$C$4:$I$4,GEfectos!C186:I186),IF(EFECTOS!$N$9=\"NICARAGUA\",LOOKUP(5,GEfectos!$C$4:$I$4,GEfectos!C186:I186),IF(EFECTOS!$N$9=\"REPÚBLICA \nDOMINICANA\",LOOKUP(6,$C$4:$I$4,C186:I186),IF(EFECTOS!$N$9=\"PANAMÁ\",LOOKUP(7,GEfectos!$C$4:$I$4,GEfectos!C186:I186))))))))","v":95.786623005054665},{"$f":"IF(EFECTOS!$N$9=\"COSTA RICA\",LOOKUP(1,GEfectos!$J$4:$P$4,GEfectos!J186:P186),IF(EFECTOS!$N$9=\"EL SALVADOR\",LOOKUP(2,GEfectos!$J$4:$P$4,GEfectos!J186:P186),IF(EFECTOS!$N$9=\"GUATEMALA\",LOOKUP(3,GEfectos!$J$4:$P$4,GEfectos!J186:P186),IF(EFECTOS!$N$9=\"HONDURAS\",LOOKUP(4,GEfectos!$J$4:$P$4,GEfectos!J186:P186),IF(EFECTOS!$N$9=\"NICARAGUA\",LOOKUP(5,GEfectos!$J$4:$P$4,GEfectos!J186:P186),IF(EFECTOS!$N$9=\"REPÚBLICA \nDOMINICANA\",LOOKUP(6,$J$4:$P$4,J186:P186),IF(EFECTOS!$N$9=\"PANAMÁ\",LOOKUP(7,GEfectos!$J$4:$P$4,GEfectos!J186:P186))))))))","v":184.93962354016426},{"$f":"IF(EFECTOS!$N$9=\"COSTA RICA\",LOOKUP(1,GEfectos!$Q$4:$W$4,GEfectos!Q186:W186),IF(EFECTOS!$N$9=\"EL SALVADOR\",LOOKUP(2,GEfectos!$Q$4:$W$4,GEfectos!Q186:W186),IF(EFECTOS!$N$9=\"GUATEMALA\",LOOKUP(3,GEfectos!$Q$4:$W$4,GEfectos!Q186:W186),IF(EFECTOS!$N$9=\"HONDURAS\",LOOKUP(4,GEfectos!$Q$4:$W$4,GEfectos!Q186:W186),IF(EFECTOS!$N$9=\"NICARAGUA\",LOOKUP(5,GEfectos!$Q$4:$W$4,GEfectos!Q186:W186),IF(EFECTOS!$N$9=\"REPÚBLICA \nDOMINICANA\",LOOKUP(6,$Q$4:$W$4,Q186:W186),IF(EFECTOS!$N$9=\"PANAMÁ\",LOOKUP(7,GEfectos!$Q$4:$W$4,GEfectos!Q186:W186))))))))","v":193.07458362991355},100]
[null,{"$f":"'ITCER GLOBAL'!B187","v":"Febrero"},{"$f":"'ITCER GLOBAL'!C187","v":93.194164032788748},{"$f":"'ITCER GLOBAL'!D187","v":101.94597020174758},{"$f":"'ITCER GLOBAL'!E187","v":75.552276640443679},{"$f":"'ITCER GLOBAL'!F187","v":87.779638394158255},{"$f":"'ITCER GLOBAL'!G187","v":108.47362944574063},{"$f":"'ITCER GLOBAL'!H187","v":120.444542265777},{"$f":"'ITCER GLOBAL'!I187","v":104.5783409954222},{"$f":"'ITCER GLOBAL'!S187","v":180.57142506535246},{"$f":"'ITCER GLOBAL'!T187","v":96.12156116531483},{"$f":"'ITCER GLOBAL'!U187","v":102.29543551500156},{"$f":"'ITCER GLOBAL'!V187","v":123.9358695223675},{"$f":"'ITCER GLOBAL'!W187","v":155.715040751065},{"$f":"'ITCER GLOBAL'!X187","v":225.13168482405362},{"$f":"'ITCER GLOBAL'!Y187","v":99.788493810418245},{"$f":"'ITCER GLOBAL'!AA187","v":193.75829692707103},{"$f":"'ITCER GLOBAL'!AB187","v":94.286768741416211},{"$f":"'ITCER GLOBAL'!AC187","v":135.39689346732681},{"$f":"'ITCER GLOBAL'!AD187","v":141.18976996220511},{"$f":"'ITCER GLOBAL'!AE187","v":143.55105618454013},{"$f":"'ITCER GLOBAL'!AF187","v":186.9172986911025},{"$f":"'ITCER GLOBAL'!AG187","v":95.419847800785419},null,{"$f":"IF(EFECTOS!$N$9=\"COSTA RICA\",LOOKUP(1,GEfectos!$C$4:$I$4,GEfectos!C187:I187),IF(EFECTOS!$N$9=\"EL SALVADOR\",LOOKUP(2,GEfectos!$C$4:$I$4,GEfectos!C187:I187),IF(EFECTOS!$N$9=\"GUATEMALA\",LOOKUP(3,GEfectos!$C$4:$I$4,GEfectos!C187:I187),IF(EFECTOS!$N$9=\"HONDURAS\",LOOKUP(4,GEfectos!$C$4:$I$4,GEfectos!C187:I187),IF(EFECTOS!$N$9=\"NICARAGUA\",LOOKUP(5,GEfectos!$C$4:$I$4,GEfectos!C187:I187),IF(EFECTOS!$N$9=\"REPÚBLICA \nDOMINICANA\",LOOKUP(6,$C$4:$I$4,C187:I187),IF(EFECTOS!$N$9=\"PANAMÁ\",LOOKUP(7,GEfectos!$C$4:$I$4,GEfectos!C187:I187))))))))","v":93.194164032788748},{"$f":"IF(EFECTOS!$N$9=\"COSTA RICA\",LOOKUP(1,GEfectos!$J$4:$P$4,GEfectos!J187:P187),IF(EFECTOS!$N$9=\"EL SALVADOR\",LOOKUP(2,GEfectos!$J$4:$P$4,GEfectos!J187:P187),IF(EFECTOS!$N$9=\"GUATEMALA\",LOOKUP(3,GEfectos!$J$4:$P$4,GEfectos!J187:P187),IF(EFECTOS!$N$9=\"HONDURAS\",LOOKUP(4,GEfectos!$J$4:$P$4,GEfectos!J187:P187),IF(EFECTOS!$N$9=\"NICARAGUA\",LOOKUP(5,GEfectos!$J$4:$P$4,GEfectos!J187:P187),IF(EFECTOS!$N$9=\"REPÚBLICA \nDOMINICANA\",LOOKUP(6,$J$4:$P$4,J187:P187),IF(EFECTOS!$N$9=\"PANAMÁ\",LOOKUP(7,GEfectos!$J$4:$P$4,GEfectos!J187:P187))))))))","v":180.57142506535246},{"$f":"IF(EFECTOS!$N$9=\"COSTA RICA\",LOOKUP(1,GEfectos!$Q$4:$W$4,GEfectos!Q187:W187),IF(EFECTOS!$N$9=\"EL SALVADOR\",LOOKUP(2,GEfectos!$Q$4:$W$4,GEfectos!Q187:W187),IF(EFECTOS!$N$9=\"GUATEMALA\",LOOKUP(3,GEfectos!$Q$4:$W$4,GEfectos!Q187:W187),IF(EFECTOS!$N$9=\"HONDURAS\",LOOKUP(4,GEfectos!$Q$4:$W$4,GEfectos!Q187:W187),IF(EFECTOS!$N$9=\"NICARAGUA\",LOOKUP(5,GEfectos!$Q$4:$W$4,GEfectos!Q187:W187),IF(EFECTOS!$N$9=\"REPÚBLICA \nDOMINICANA\",LOOKUP(6,$Q$4:$W$4,Q187:W187),IF(EFECTOS!$N$9=\"PANAMÁ\",LOOKUP(7,GEfectos!$Q$4:$W$4,GEfectos!Q187:W187))))))))","v":193.75829692707103},100]
[null,{"$f":"'ITCER GLOBAL'!B188","v":"Marzo"},{"$f":"'ITCER GLOBAL'!C188","v":90.847609551877625},{"$f":"'ITCER GLOBAL'!D188","v":102.7353498328811},{"$f":"'ITCER GLOBAL'!E188","v":74.214057680660417},{"$f":"'ITCER GLOBAL'!F188","v":88.27478897297587},{"$f":"'ITCER GLOBAL'!G188","v":109.01178514615964},{"$f":"'ITCER GLOBAL'!H188","v":120.48513218534713},{"$f":"'ITCER GLOBAL'!I188","v":105.21044260339491},{"$f":"'ITCER GLOBAL'!S188","v":175.72355089346576},{"$f":"'ITCER GLOBAL'!T188","v":96.651427314511764},{"$f":"'ITCER GLOBAL'!U188","v":101.22281613579869},{"$f":"'ITCER GLOBAL'!V188","v":124.57527574265283},{"$f":"'ITCER GLOBAL'!W188","v":157.55601418192001},{"$f":"'ITCER GLOBAL'!X188","v":226.26650607696854},{"$f":"'ITCER GLOBAL'!Y188","v":100.36228777809212},{"$f":"'ITCER GLOBAL'!AA188","v":193.42671949240511},{"$f":"'ITCER GLOBAL'!AB188","v":94.078063170791737},{"$f":"'ITCER GLOBAL'!AC188","v":136.39304910581185},{"$f":"'ITCER GLOBAL'!AD188","v":141.12214505637601},{"$f":"'ITCER GLOBAL'!AE188","v":144.53117520337253},{"$f":"'ITCER GLOBAL'!AF188","v":187.79620520222667},{"$f":"'ITCER GLOBAL'!AG188","v":95.391945223936972},null,{"$f":"IF(EFECTOS!$N$9=\"COSTA RICA\",LOOKUP(1,GEfectos!$C$4:$I$4,GEfectos!C188:I188),IF(EFECTOS!$N$9=\"EL SALVADOR\",LOOKUP(2,GEfectos!$C$4:$I$4,GEfectos!C188:I188),IF(EFECTOS!$N$9=\"GUATEMALA\",LOOKUP(3,GEfectos!$C$4:$I$4,GEfectos!C188:I188),IF(EFECTOS!$N$9=\"HONDURAS\",LOOKUP(4,GEfectos!$C$4:$I$4,GEfectos!C188:I188),IF(EFECTOS!$N$9=\"NICARAGUA\",LOOKUP(5,GEfectos!$C$4:$I$4,GEfectos!C188:I188),IF(EFECTOS!$N$9=\"REPÚBLICA \nDOMINICANA\",LOOKUP(6,$C$4:$I$4,C188:I188),IF(EFECTOS!$N$9=\"PANAMÁ\",LOOKUP(7,GEfectos!$C$4:$I$4,GEfectos!C188:I188))))))))","v":90.847609551877625},{"$f":"IF(EFECTOS!$N$9=\"COSTA RICA\",LOOKUP(1,GEfectos!$J$4:$P$4,GEfectos!J188:P188),IF(EFECTOS!$N$9=\"EL SALVADOR\",LOOKUP(2,GEfectos!$J$4:$P$4,GEfectos!J188:P188),IF(EFECTOS!$N$9=\"GUATEMALA\",LOOKUP(3,GEfectos!$J$4:$P$4,GEfectos!J188:P188),IF(EFECTOS!$N$9=\"HONDURAS\",LOOKUP(4,GEfectos!$J$4:$P$4,GEfectos!J188:P188),IF(EFECTOS!$N$9=\"NICARAGUA\",LOOKUP(5,GEfectos!$J$4:$P$4,GEfectos!J188:P188),IF(EFECTOS!$N$9=\"REPÚBLICA \nDOMINICANA\",LOOKUP(6,$J$4:$P$4,J188:P188),IF(EFECTOS!$N$9=\"PANAMÁ\",LOOKUP(7,GEfectos!$J$4:$P$4,GEfectos!J188:P188))))))))","v":175.72355089346576},{"$f":"IF(EFECTOS!$N$9=\"COSTA RICA\",LOOKUP(1,GEfectos!$Q$4:$W$4,GEfectos!Q188:W188),IF(EFECTOS!$N$9=\"EL SALVADOR\",LOOKUP(2,GEfectos!$Q$4:$W$4,GEfectos!Q188:W188),IF(EFECTOS!$N$9=\"GUATEMALA\",LOOKUP(3,GEfectos!$Q$4:$W$4,GEfectos!Q188:W188),IF(EFECTOS!$N$9=\"HONDURAS\",LOOKUP(4,GEfectos!$Q$4:$W$4,GEfectos!Q188:W188),IF(EFECTOS!$N$9=\"NICARAGUA\",LOOKUP(5,GEfectos!$Q$4:$W$4,GEfectos!Q188:W188),IF(EFECTOS!$N$9=\"REPÚBLICA \nDOMINICANA\",LOOKUP(6,$Q$4:$W$4,Q188:W188),IF(EFECTOS!$N$9=\"PANAMÁ\",LOOKUP(7,GEfectos!$Q$4:$W$4,GEfectos!Q188:W188))))))))","v":193.42671949240511},100]
[null,{"$f":"'ITCER GLOBAL'!B189","v":"Abril"},{"$f":"'ITCER GLOBAL'!C189","v":87.257784599446168},{"$f":"'ITCER GLOBAL'!D189","v":103.37148905110502},{"$f":"'ITCER GLOBAL'!E189","v":74.487017575850075},{"$f":"'ITCER GLOBAL'!F189","v":88.155029766294263},{"$f":"'ITCER GLOBAL'!G189","v":109.78857561519138},{"$f":"'ITCER GLOBAL'!H189","v":120.72115969300445},{"$f":"'ITCER GLOBAL'!I189","v":105.32423423915378},{"$f":"'ITCER GLOBAL'!S189","v":168.55113954462689},{"$f":"'ITCER GLOBAL'!T189","v":96.908974009464146},{"$f":"'ITCER GLOBAL'!U189","v":101.34782839391978},{"$f":"'ITCER GLOBAL'!V189","v":124.87786378711886},{"$f":"'ITCER GLOBAL'!W189","v":158.9833697019339},{"$f":"'ITCER GLOBAL'!X189","v":227.05143773731021},{"$f":"'ITCER GLOBAL'!Y189","v":100.61804323483372},{"$f":"'ITCER GLOBAL'!AA189","v":193.16458734123842},{"$f":"'ITCER GLOBAL'!AB189","v":93.748261632909333},{"$f":"'ITCER GLOBAL'!AC189","v":136.0610636487323},{"$f":"'ITCER GLOBAL'!AD189","v":141.65710580346877},{"$f":"'ITCER GLOBAL'!AE189","v":144.8086641174489},{"$f":"'ITCER GLOBAL'!AF189","v":188.07923839922108},{"$f":"'ITCER GLOBAL'!AG189","v":95.53171116000334},null,{"$f":"IF(EFECTOS!$N$9=\"COSTA RICA\",LOOKUP(1,GEfectos!$C$4:$I$4,GEfectos!C189:I189),IF(EFECTOS!$N$9=\"EL SALVADOR\",LOOKUP(2,GEfectos!$C$4:$I$4,GEfectos!C189:I189),IF(EFECTOS!$N$9=\"GUATEMALA\",LOOKUP(3,GEfectos!$C$4:$I$4,GEfectos!C189:I189),IF(EFECTOS!$N$9=\"HONDURAS\",LOOKUP(4,GEfectos!$C$4:$I$4,GEfectos!C189:I189),IF(EFECTOS!$N$9=\"NICARAGUA\",LOOKUP(5,GEfectos!$C$4:$I$4,GEfectos!C189:I189),IF(EFECTOS!$N$9=\"REPÚBLICA \nDOMINICANA\",LOOKUP(6,$C$4:$I$4,C189:I189),IF(EFECTOS!$N$9=\"PANAMÁ\",LOOKUP(7,GEfectos!$C$4:$I$4,GEfectos!C189:I189))))))))","v":87.257784599446168},{"$f":"IF(EFECTOS!$N$9=\"COSTA RICA\",LOOKUP(1,GEfectos!$J$4:$P$4,GEfectos!J189:P189),IF(EFECTOS!$N$9=\"EL SALVADOR\",LOOKUP(2,GEfectos!$J$4:$P$4,GEfectos!J189:P189),IF(EFECTOS!$N$9=\"GUATEMALA\",LOOKUP(3,GEfectos!$J$4:$P$4,GEfectos!J189:P189),IF(EFECTOS!$N$9=\"HONDURAS\",LOOKUP(4,GEfectos!$J$4:$P$4,GEfectos!J189:P189),IF(EFECTOS!$N$9=\"NICARAGUA\",LOOKUP(5,GEfectos!$J$4:$P$4,GEfectos!J189:P189),IF(EFECTOS!$N$9=\"REPÚBLICA \nDOMINICANA\",LOOKUP(6,$J$4:$P$4,J189:P189),IF(EFECTOS!$N$9=\"PANAMÁ\",LOOKUP(7,GEfectos!$J$4:$P$4,GEfectos!J189:P189))))))))","v":168.55113954462689},{"$f":"IF(EFECTOS!$N$9=\"COSTA RICA\",LOOKUP(1,GEfectos!$Q$4:$W$4,GEfectos!Q189:W189),IF(EFECTOS!$N$9=\"EL SALVADOR\",LOOKUP(2,GEfectos!$Q$4:$W$4,GEfectos!Q189:W189),IF(EFECTOS!$N$9=\"GUATEMALA\",LOOKUP(3,GEfectos!$Q$4:$W$4,GEfectos!Q189:W189),IF(EFECTOS!$N$9=\"HONDURAS\",LOOKUP(4,GEfectos!$Q$4:$W$4,GEfectos!Q189:W189),IF(EFECTOS!$N$9=\"NICARAGUA\",LOOKUP(5,GEfectos!$Q$4:$W$4,GEfectos!Q189:W189),IF(EFECTOS!$N$9=\"REPÚBLICA \nDOMINICANA\",LOOKUP(6,$Q$4:$W$4,Q189:W189),IF(EFECTOS!$N$9=\"PANAMÁ\",LOOKUP(7,GEfectos!$Q$4:$W$4,GEfectos!Q189:W189))))))))","v":193.16458734123842},100]
[null,{"$f":"'ITCER GLOBAL'!B190","v":"Mayo"},{"$f":"'ITCER GLOBAL'!C190","v":87.682994066216793},{"$f":"'ITCER GLOBAL'!D190","v":102.67167405147619},{"$f":"'ITCER GLOBAL'!E190","v":73.685177482288481},{"$f":"'ITCER GLOBAL'!F190","v":87.037367169920287},{"$f":"'ITCER GLOBAL'!G190","v":108.83524407499168},{"$f":"'ITCER GLOBAL'!H190","v":119.95864333032337},{"$f":"'ITCER GLOBAL'!I190","v":103.7420419164864},{"$f":"'ITCER GLOBAL'!S190","v":170.2109348202859},{"$f":"'ITCER GLOBAL'!T190","v":96.019199154997622},{"$f":"'ITCER GLOBAL'!U190","v":100.14787374113365},{"$f":"'ITCER GLOBAL'!V190","v":123.5061574323816},{"$f":"'ITCER GLOBAL'!W190","v":157.47937932274036},{"$f":"'ITCER GLOBAL'!X190","v":226.27538382421335},{"$f":"'ITCER GLOBAL'!Y190","v":99.279575175806343},{"$f":"'ITCER GLOBAL'!AA190","v":194.1208060159822},{"$f":"'ITCER GLOBAL'!AB190","v":93.520632678938085},{"$f":"'ITCER GLOBAL'!AC190","v":135.91318792060446},{"$f":"'ITCER GLOBAL'!AD190","v":141.9001532884887},{"$f":"'ITCER GLOBAL'!AE190","v":144.69520481272684},{"$f":"'ITCER GLOBAL'!AF190","v":188.6278283434163},{"$f":"'ITCER GLOBAL'!AG190","v":95.698497293631064},null,{"$f":"IF(EFECTOS!$N$9=\"COSTA RICA\",LOOKUP(1,GEfectos!$C$4:$I$4,GEfectos!C190:I190),IF(EFECTOS!$N$9=\"EL SALVADOR\",LOOKUP(2,GEfectos!$C$4:$I$4,GEfectos!C190:I190),IF(EFECTOS!$N$9=\"GUATEMALA\",LOOKUP(3,GEfectos!$C$4:$I$4,GEfectos!C190:I190),IF(EFECTOS!$N$9=\"HONDURAS\",LOOKUP(4,GEfectos!$C$4:$I$4,GEfectos!C190:I190),IF(EFECTOS!$N$9=\"NICARAGUA\",LOOKUP(5,GEfectos!$C$4:$I$4,GEfectos!C190:I190),IF(EFECTOS!$N$9=\"REPÚBLICA \nDOMINICANA\",LOOKUP(6,$C$4:$I$4,C190:I190),IF(EFECTOS!$N$9=\"PANAMÁ\",LOOKUP(7,GEfectos!$C$4:$I$4,GEfectos!C190:I190))))))))","v":87.682994066216793},{"$f":"IF(EFECTOS!$N$9=\"COSTA RICA\",LOOKUP(1,GEfectos!$J$4:$P$4,GEfectos!J190:P190),IF(EFECTOS!$N$9=\"EL SALVADOR\",LOOKUP(2,GEfectos!$J$4:$P$4,GEfectos!J190:P190),IF(EFECTOS!$N$9=\"GUATEMALA\",LOOKUP(3,GEfectos!$J$4:$P$4,GEfectos!J190:P190),IF(EFECTOS!$N$9=\"HONDURAS\",LOOKUP(4,GEfectos!$J$4:$P$4,GEfectos!J190:P190),IF(EFECTOS!$N$9=\"NICARAGUA\",LOOKUP(5,GEfectos!$J$4:$P$4,GEfectos!J190:P190),IF(EFECTOS!$N$9=\"REPÚBLICA \nDOMINICANA\",LOOKUP(6,$J$4:$P$4,J190:P190),IF(EFECTOS!$N$9=\"PANAMÁ\",LOOKUP(7,GEfectos!$J$4:$P$4,GEfectos!J190:P190))))))))","v":170.2109348202859},{"$f":"IF(EFECTOS!$N$9=\"COSTA RICA\",LOOKUP(1,GEfectos!$Q$4:$W$4,GEfectos!Q190:W190),IF(EFECTOS!$N$9=\"EL SALVADOR\",LOOKUP(2,GEfectos!$Q$4:$W$4,GEfectos!Q190:W190),IF(EFECTOS!$N$9=\"GUATEMALA\",LOOKUP(3,GEfectos!$Q$4:$W$4,GEfectos!Q190:W190),IF(EFECTOS!$N$9=\"HONDURAS\",LOOKUP(4,GEfectos!$Q$4:$W$4,GEfectos!Q190:W190),IF(EFECTOS!$N$9=\"NICARAGUA\",LOOKUP(5,GEfectos!$Q$4:$W$4,GEfectos!Q190:W190),IF(EFECTOS!$N$9=\"REPÚBLICA \nDOMINICANA\",LOOKUP(6,$Q$4:$W$4,Q190:W190),IF(EFECTOS!$N$9=\"PANAMÁ\",LOOKUP(7,GEfectos!$Q$4:$W$4,GEfectos!Q190:W190))))))))","v":194.1208060159822},100]
[null,{"$f":"'ITCER GLOBAL'!B191","v":"Junio"},{"$f":"'ITCER GLOBAL'!C191","v":88.41633832384646},{"$f":"'ITCER GLOBAL'!D191","v":102.01358422458087},{"$f":"'ITCER GLOBAL'!E191","v":73.235511373797337},{"$f":"'ITCER GLOBAL'!F191","v":86.447183962055831},{"$f":"'ITCER GLOBAL'!G191","v":108.83495607427395},{"$f":"'ITCER GLOBAL'!H191","v":119.9827477701978},{"$f":"'ITCER GLOBAL'!I191","v":103.28909830915913},{"$f":"'ITCER GLOBAL'!S191","v":172.20361869482718},{"$f":"'ITCER GLOBAL'!T191","v":95.810831704280986},{"$f":"'ITCER GLOBAL'!U191","v":100.05100727133612},{"$f":"'ITCER GLOBAL'!V191","v":123.14864326996329},{"$f":"'ITCER GLOBAL'!W191","v":157.40268495504549},{"$f":"'ITCER GLOBAL'!X191","v":226.14213100823659},{"$f":"'ITCER GLOBAL'!Y191","v":98.9551589171882},{"$f":"'ITCER GLOBAL'!AA191","v":194.76447674646892},{"$f":"'ITCER GLOBAL'!AB191","v":93.91967984710287},{"$f":"'ITCER GLOBAL'!AC191","v":136.61542794542842},{"$f":"'ITCER GLOBAL'!AD191","v":142.45535554289054},{"$f":"'ITCER GLOBAL'!AE191","v":144.62511920124882},{"$f":"'ITCER GLOBAL'!AF191","v":188.47887318047191},{"$f":"'ITCER GLOBAL'!AG191","v":95.804068906673152},null,{"$f":"IF(EFECTOS!$N$9=\"COSTA RICA\",LOOKUP(1,GEfectos!$C$4:$I$4,GEfectos!C191:I191),IF(EFECTOS!$N$9=\"EL SALVADOR\",LOOKUP(2,GEfectos!$C$4:$I$4,GEfectos!C191:I191),IF(EFECTOS!$N$9=\"GUATEMALA\",LOOKUP(3,GEfectos!$C$4:$I$4,GEfectos!C191:I191),IF(EFECTOS!$N$9=\"HONDURAS\",LOOKUP(4,GEfectos!$C$4:$I$4,GEfectos!C191:I191),IF(EFECTOS!$N$9=\"NICARAGUA\",LOOKUP(5,GEfectos!$C$4:$I$4,GEfectos!C191:I191),IF(EFECTOS!$N$9=\"REPÚBLICA \nDOMINICANA\",LOOKUP(6,$C$4:$I$4,C191:I191),IF(EFECTOS!$N$9=\"PANAMÁ\",LOOKUP(7,GEfectos!$C$4:$I$4,GEfectos!C191:I191))))))))","v":88.41633832384646},{"$f":"IF(EFECTOS!$N$9=\"COSTA RICA\",LOOKUP(1,GEfectos!$J$4:$P$4,GEfectos!J191:P191),IF(EFECTOS!$N$9=\"EL SALVADOR\",LOOKUP(2,GEfectos!$J$4:$P$4,GEfectos!J191:P191),IF(EFECTOS!$N$9=\"GUATEMALA\",LOOKUP(3,GEfectos!$J$4:$P$4,GEfectos!J191:P191),IF(EFECTOS!$N$9=\"HONDURAS\",LOOKUP(4,GEfectos!$J$4:$P$4,GEfectos!J191:P191),IF(EFECTOS!$N$9=\"NICARAGUA\",LOOKUP(5,GEfectos!$J$4:$P$4,GEfectos!J191:P191),IF(EFECTOS!$N$9=\"REPÚBLICA \nDOMINICANA\",LOOKUP(6,$J$4:$P$4,J191:P191),IF(EFECTOS!$N$9=\"PANAMÁ\",LOOKUP(7,GEfectos!$J$4:$P$4,GEfectos!J191:P191))))))))","v":172.20361869482718},{"$f":"IF(EFECTOS!$N$9=\"COSTA RICA\",LOOKUP(1,GEfectos!$Q$4:$W$4,GEfectos!Q191:W191),IF(EFECTOS!$N$9=\"EL SALVADOR\",LOOKUP(2,GEfectos!$Q$4:$W$4,GEfectos!Q191:W191),IF(EFECTOS!$N$9=\"GUATEMALA\",LOOKUP(3,GEfectos!$Q$4:$W$4,GEfectos!Q191:W191),IF(EFECTOS!$N$9=\"HONDURAS\",LOOKUP(4,GEfectos!$Q$4:$W$4,GEfectos!Q191:W191),IF(EFECTOS!$N$9=\"NICARAGUA\",LOOKUP(5,GEfectos!$Q$4:$W$4,GEfectos!Q191:W191),IF(EFECTOS!$N$9=\"REPÚBLICA \nDOMINICANA\",LOOKUP(6,$Q$4:$W$4,Q191:W191),IF(EFECTOS!$N$9=\"PANAMÁ\",LOOKUP(7,GEfectos!$Q$4:$W$4,GEfectos!Q191:W191))))))))","v":194.76447674646892},100]
[null,{"$f":"'ITCER GLOBAL'!B192","v":"Julio"},{"$f":"'ITCER GLOBAL'!C192","v":87.054367840320822},{"$f":"'ITCER GLOBAL'!D192","v":102.66664271072591},{"$f":"'ITCER GLOBAL'!E192","v":73.388366171626188},{"$f":"'ITCER GLOBAL'!F192","v":86.53952104459546},{"$f":"'ITCER GLOBAL'!G192","v":109.27341181529593},{"$f":"'ITCER GLOBAL'!H192","v":120.71800785372514},{"$f":"'ITCER GLOBAL'!I192","v":103.17938976884568},{"$f":"'ITCER GLOBAL'!S192","v":169.9397489109632},{"$f":"'ITCER GLOBAL'!T192","v":96.2640862940425},{"$f":"'ITCER GLOBAL'!U192","v":100.49510241096993},{"$f":"'ITCER GLOBAL'!V192","v":123.92266134789813},{"$f":"'ITCER GLOBAL'!W192","v":159.20398454607002},{"$f":"'ITCER GLOBAL'!X192","v":228.23390508962177},{"$f":"'ITCER GLOBAL'!Y192","v":99.928020383749939},{"$f":"'ITCER GLOBAL'!AA192","v":195.21105388149459},{"$f":"'ITCER GLOBAL'!AB192","v":93.763742294833492},{"$f":"'ITCER GLOBAL'!AC192","v":136.93601268619588},{"$f":"'ITCER GLOBAL'!AD192","v":143.19776658347624},{"$f":"'ITCER GLOBAL'!AE192","v":145.69324953006077},{"$f":"'ITCER GLOBAL'!AF192","v":189.0636775303436},{"$f":"'ITCER GLOBAL'!AG192","v":96.848818943027453},null,{"$f":"IF(EFECTOS!$N$9=\"COSTA RICA\",LOOKUP(1,GEfectos!$C$4:$I$4,GEfectos!C192:I192),IF(EFECTOS!$N$9=\"EL SALVADOR\",LOOKUP(2,GEfectos!$C$4:$I$4,GEfectos!C192:I192),IF(EFECTOS!$N$9=\"GUATEMALA\",LOOKUP(3,GEfectos!$C$4:$I$4,GEfectos!C192:I192),IF(EFECTOS!$N$9=\"HONDURAS\",LOOKUP(4,GEfectos!$C$4:$I$4,GEfectos!C192:I192),IF(EFECTOS!$N$9=\"NICARAGUA\",LOOKUP(5,GEfectos!$C$4:$I$4,GEfectos!C192:I192),IF(EFECTOS!$N$9=\"REPÚBLICA \nDOMINICANA\",LOOKUP(6,$C$4:$I$4,C192:I192),IF(EFECTOS!$N$9=\"PANAMÁ\",LOOKUP(7,GEfectos!$C$4:$I$4,GEfectos!C192:I192))))))))","v":87.054367840320822},{"$f":"IF(EFECTOS!$N$9=\"COSTA RICA\",LOOKUP(1,GEfectos!$J$4:$P$4,GEfectos!J192:P192),IF(EFECTOS!$N$9=\"EL SALVADOR\",LOOKUP(2,GEfectos!$J$4:$P$4,GEfectos!J192:P192),IF(EFECTOS!$N$9=\"GUATEMALA\",LOOKUP(3,GEfectos!$J$4:$P$4,GEfectos!J192:P192),IF(EFECTOS!$N$9=\"HONDURAS\",LOOKUP(4,GEfectos!$J$4:$P$4,GEfectos!J192:P192),IF(EFECTOS!$N$9=\"NICARAGUA\",LOOKUP(5,GEfectos!$J$4:$P$4,GEfectos!J192:P192),IF(EFECTOS!$N$9=\"REPÚBLICA \nDOMINICANA\",LOOKUP(6,$J$4:$P$4,J192:P192),IF(EFECTOS!$N$9=\"PANAMÁ\",LOOKUP(7,GEfectos!$J$4:$P$4,GEfectos!J192:P192))))))))","v":169.9397489109632},{"$f":"IF(EFECTOS!$N$9=\"COSTA RICA\",LOOKUP(1,GEfectos!$Q$4:$W$4,GEfectos!Q192:W192),IF(EFECTOS!$N$9=\"EL SALVADOR\",LOOKUP(2,GEfectos!$Q$4:$W$4,GEfectos!Q192:W192),IF(EFECTOS!$N$9=\"GUATEMALA\",LOOKUP(3,GEfectos!$Q$4:$W$4,GEfectos!Q192:W192),IF(EFECTOS!$N$9=\"HONDURAS\",LOOKUP(4,GEfectos!$Q$4:$W$4,GEfectos!Q192:W192),IF(EFECTOS!$N$9=\"NICARAGUA\",LOOKUP(5,GEfectos!$Q$4:$W$4,GEfectos!Q192:W192),IF(EFECTOS!$N$9=\"REPÚBLICA \nDOMINICANA\",LOOKUP(6,$Q$4:$W$4,Q192:W192),IF(EFECTOS!$N$9=\"PANAMÁ\",LOOKUP(7,GEfectos!$Q$4:$W$4,GEfectos!Q192:W192))))))))","v":195.21105388149459},100]
[null,{"$f":"'ITCER GLOBAL'!B193","v":"Agosto"},{"$f":"'ITCER GLOBAL'!C193","v":85.323891643639996},{"$f":"'ITCER GLOBAL'!D193","v":103.25517147474125},{"$f":"'ITCER GLOBAL'!E193","v":73.791294389798409},{"$f":"'ITCER GLOBAL'!F193","v":86.528698710564498},{"$f":"'ITCER GLOBAL'!G193","v":111.11481269290803},{"$f":"'ITCER GLOBAL'!H193","v":121.38496563980512},{"$f":"'ITCER GLOBAL'!I193","v":103.43363600091226},{"$f":"'ITCER GLOBAL'!S193","v":166.5618054964998},{"$f":"'ITCER GLOBAL'!T193","v":96.485737307113098},{"$f":"'ITCER GLOBAL'!U193","v":100.91846748869035},{"$f":"'ITCER GLOBAL'!V193","v":124.29548128076735},{"$f":"'ITCER GLOBAL'!W193","v":160.7707357480767},{"$f":"'ITCER GLOBAL'!X193","v":229.57162417464323},{"$f":"'ITCER GLOBAL'!Y193","v":100.56358209847585},{"$f":"'ITCER GLOBAL'!AA193","v":195.21121492225703},{"$f":"'ITCER GLOBAL'!AB193","v":93.443975666357673},{"$f":"'ITCER GLOBAL'!AC193","v":136.76202365497772},{"$f":"'ITCER GLOBAL'!AD193","v":143.64653939444003},{"$f":"'ITCER GLOBAL'!AE193","v":144.68884197501598},{"$f":"'ITCER GLOBAL'!AF193","v":189.12690131318953},{"$f":"'ITCER GLOBAL'!AG193","v":97.225221878102502},null,{"$f":"IF(EFECTOS!$N$9=\"COSTA RICA\",LOOKUP(1,GEfectos!$C$4:$I$4,GEfectos!C193:I193),IF(EFECTOS!$N$9=\"EL SALVADOR\",LOOKUP(2,GEfectos!$C$4:$I$4,GEfectos!C193:I193),IF(EFECTOS!$N$9=\"GUATEMALA\",LOOKUP(3,GEfectos!$C$4:$I$4,GEfectos!C193:I193),IF(EFECTOS!$N$9=\"HONDURAS\",LOOKUP(4,GEfectos!$C$4:$I$4,GEfectos!C193:I193),IF(EFECTOS!$N$9=\"NICARAGUA\",LOOKUP(5,GEfectos!$C$4:$I$4,GEfectos!C193:I193),IF(EFECTOS!$N$9=\"REPÚBLICA \nDOMINICANA\",LOOKUP(6,$C$4:$I$4,C193:I193),IF(EFECTOS!$N$9=\"PANAMÁ\",LOOKUP(7,GEfectos!$C$4:$I$4,GEfectos!C193:I193))))))))","v":85.323891643639996},{"$f":"IF(EFECTOS!$N$9=\"COSTA RICA\",LOOKUP(1,GEfectos!$J$4:$P$4,GEfectos!J193:P193),IF(EFECTOS!$N$9=\"EL SALVADOR\",LOOKUP(2,GEfectos!$J$4:$P$4,GEfectos!J193:P193),IF(EFECTOS!$N$9=\"GUATEMALA\",LOOKUP(3,GEfectos!$J$4:$P$4,GEfectos!J193:P193),IF(EFECTOS!$N$9=\"HONDURAS\",LOOKUP(4,GEfectos!$J$4:$P$4,GEfectos!J193:P193),IF(EFECTOS!$N$9=\"NICARAGUA\",LOOKUP(5,GEfectos!$J$4:$P$4,GEfectos!J193:P193),IF(EFECTOS!$N$9=\"REPÚBLICA \nDOMINICANA\",LOOKUP(6,$J$4:$P$4,J193:P193),IF(EFECTOS!$N$9=\"PANAMÁ\",LOOKUP(7,GEfectos!$J$4:$P$4,GEfectos!J193:P193))))))))","v":166.5618054964998},{"$f":"IF(EFECTOS!$N$9=\"COSTA RICA\",LOOKUP(1,GEfectos!$Q$4:$W$4,GEfectos!Q193:W193),IF(EFECTOS!$N$9=\"EL SALVADOR\",LOOKUP(2,GEfectos!$Q$4:$W$4,GEfectos!Q193:W193),IF(EFECTOS!$N$9=\"GUATEMALA\",LOOKUP(3,GEfectos!$Q$4:$W$4,GEfectos!Q193:W193),IF(EFECTOS!$N$9=\"HONDURAS\",LOOKUP(4,GEfectos!$Q$4:$W$4,GEfectos!Q193:W193),IF(EFECTOS!$N$9=\"NICARAGUA\",LOOKUP(5,GEfectos!$Q$4:$W$4,GEfectos!Q193:W193),IF(EFECTOS!$N$9=\"REPÚBLICA \nDOMINICANA\",LOOKUP(6,$Q$4:$W$4,Q193:W193),IF(EFECTOS!$N$9=\"PANAMÁ\",LOOKUP(7,GEfectos!$Q$4:$W$4,GEfectos!Q193:W193))))))))","v":195.21121492225703},100]
[null,{"$f":"'ITCER GLOBAL'!B194","v":"Septiembre"},{"$f":"'ITCER GLOBAL'!C194","v":85.564155773086028},{"$f":"'ITCER GLOBAL'!D194","v":103.27240466862095},{"$f":"'ITCER GLOBAL'!E194","v":74.530867412564291},{"$f":"'ITCER GLOBAL'!F194","v":86.315231568728791},{"$f":"'ITCER GLOBAL'!G194","v":111.66764188541799},{"$f":"'ITCER GLOBAL'!H194","v":121.30663906721053},{"$f":"'ITCER GLOBAL'!I194","v":103.96898939294357},{"$f":"'ITCER GLOBAL'!S194","v":166.49803638203679},{"$f":"'ITCER GLOBAL'!T194","v":96.568604432577956},{"$f":"'ITCER GLOBAL'!U194","v":101.9837343269739},{"$f":"'ITCER GLOBAL'!V194","v":124.470553699853},{"$f":"'ITCER GLOBAL'!W194","v":161.84303986128882},{"$f":"'ITCER GLOBAL'!X194","v":230.81967457419745},{"$f":"'ITCER GLOBAL'!Y194","v":100.91788362976392},{"$f":"'ITCER GLOBAL'!AA194","v":194.58853403940003},{"$f":"'ITCER GLOBAL'!AB194","v":93.508623859825803},{"$f":"'ITCER GLOBAL'!AC194","v":136.83422435223349},{"$f":"'ITCER GLOBAL'!AD194","v":144.20462233336292},{"$f":"'ITCER GLOBAL'!AE194","v":144.93279980547609},{"$f":"'ITCER GLOBAL'!AF194","v":190.27785811979402},{"$f":"'ITCER GLOBAL'!AG194","v":97.065369413519818},null,{"$f":"IF(EFECTOS!$N$9=\"COSTA RICA\",LOOKUP(1,GEfectos!$C$4:$I$4,GEfectos!C194:I194),IF(EFECTOS!$N$9=\"EL SALVADOR\",LOOKUP(2,GEfectos!$C$4:$I$4,GEfectos!C194:I194),IF(EFECTOS!$N$9=\"GUATEMALA\",LOOKUP(3,GEfectos!$C$4:$I$4,GEfectos!C194:I194),IF(EFECTOS!$N$9=\"HONDURAS\",LOOKUP(4,GEfectos!$C$4:$I$4,GEfectos!C194:I194),IF(EFECTOS!$N$9=\"NICARAGUA\",LOOKUP(5,GEfectos!$C$4:$I$4,GEfectos!C194:I194),IF(EFECTOS!$N$9=\"REPÚBLICA \nDOMINICANA\",LOOKUP(6,$C$4:$I$4,C194:I194),IF(EFECTOS!$N$9=\"PANAMÁ\",LOOKUP(7,GEfectos!$C$4:$I$4,GEfectos!C194:I194))))))))","v":85.564155773086028},{"$f":"IF(EFECTOS!$N$9=\"COSTA RICA\",LOOKUP(1,GEfectos!$J$4:$P$4,GEfectos!J194:P194),IF(EFECTOS!$N$9=\"EL SALVADOR\",LOOKUP(2,GEfectos!$J$4:$P$4,GEfectos!J194:P194),IF(EFECTOS!$N$9=\"GUATEMALA\",LOOKUP(3,GEfectos!$J$4:$P$4,GEfectos!J194:P194),IF(EFECTOS!$N$9=\"HONDURAS\",LOOKUP(4,GEfectos!$J$4:$P$4,GEfectos!J194:P194),IF(EFECTOS!$N$9=\"NICARAGUA\",LOOKUP(5,GEfectos!$J$4:$P$4,GEfectos!J194:P194),IF(EFECTOS!$N$9=\"REPÚBLICA \nDOMINICANA\",LOOKUP(6,$J$4:$P$4,J194:P194),IF(EFECTOS!$N$9=\"PANAMÁ\",LOOKUP(7,GEfectos!$J$4:$P$4,GEfectos!J194:P194))))))))","v":166.49803638203679},{"$f":"IF(EFECTOS!$N$9=\"COSTA RICA\",LOOKUP(1,GEfectos!$Q$4:$W$4,GEfectos!Q194:W194),IF(EFECTOS!$N$9=\"EL SALVADOR\",LOOKUP(2,GEfectos!$Q$4:$W$4,GEfectos!Q194:W194),IF(EFECTOS!$N$9=\"GUATEMALA\",LOOKUP(3,GEfectos!$Q$4:$W$4,GEfectos!Q194:W194),IF(EFECTOS!$N$9=\"HONDURAS\",LOOKUP(4,GEfectos!$Q$4:$W$4,GEfectos!Q194:W194),IF(EFECTOS!$N$9=\"NICARAGUA\",LOOKUP(5,GEfectos!$Q$4:$W$4,GEfectos!Q194:W194),IF(EFECTOS!$N$9=\"REPÚBLICA \nDOMINICANA\",LOOKUP(6,$Q$4:$W$4,Q194:W194),IF(EFECTOS!$N$9=\"PANAMÁ\",LOOKUP(7,GEfectos!$Q$4:$W$4,GEfectos!Q194:W194))))))))","v":194.58853403940003},100]
[null,{"$f":"'ITCER GLOBAL'!B195","v":"Octubre"},{"$f":"'ITCER GLOBAL'!C195","v":86.528230669310943},{"$f":"'ITCER GLOBAL'!D195","v":103.83452408437081},{"$f":"'ITCER GLOBAL'!E195","v":74.918590930154622},{"$f":"'ITCER GLOBAL'!F195","v":86.646531655971415},{"$f":"'ITCER GLOBAL'!G195","v":111.52364371162301},{"$f":"'ITCER GLOBAL'!H195","v":122.66039637624444},{"$f":"'ITCER GLOBAL'!I195","v":105.27018664829147},{"$f":"'ITCER GLOBAL'!S195","v":168.57923116052405},{"$f":"'ITCER GLOBAL'!T195","v":97.328463256737123},{"$f":"'ITCER GLOBAL'!U195","v":102.6604597887506},{"$f":"'ITCER GLOBAL'!V195","v":125.6636133063362},{"$f":"'ITCER GLOBAL'!W195","v":164.41074708524997},{"$f":"'ITCER GLOBAL'!X195","v":234.37114159097084},{"$f":"'ITCER GLOBAL'!Y195","v":102.08387076817804},{"$f":"'ITCER GLOBAL'!AA195","v":194.82570007098761},{"$f":"'ITCER GLOBAL'!AB195","v":93.734202679691407},{"$f":"'ITCER GLOBAL'!AC195","v":137.02935214633075},{"$f":"'ITCER GLOBAL'!AD195","v":145.03017132328094},{"$f":"'ITCER GLOBAL'!AE195","v":147.4223237454311},{"$f":"'ITCER GLOBAL'!AF195","v":191.07319763753947},{"$f":"'ITCER GLOBAL'!AG195","v":96.973202022754137},null,{"$f":"IF(EFECTOS!$N$9=\"COSTA RICA\",LOOKUP(1,GEfectos!$C$4:$I$4,GEfectos!C195:I195),IF(EFECTOS!$N$9=\"EL SALVADOR\",LOOKUP(2,GEfectos!$C$4:$I$4,GEfectos!C195:I195),IF(EFECTOS!$N$9=\"GUATEMALA\",LOOKUP(3,GEfectos!$C$4:$I$4,GEfectos!C195:I195),IF(EFECTOS!$N$9=\"HONDURAS\",LOOKUP(4,GEfectos!$C$4:$I$4,GEfectos!C195:I195),IF(EFECTOS!$N$9=\"NICARAGUA\",LOOKUP(5,GEfectos!$C$4:$I$4,GEfectos!C195:I195),IF(EFECTOS!$N$9=\"REPÚBLICA \nDOMINICANA\",LOOKUP(6,$C$4:$I$4,C195:I195),IF(EFECTOS!$N$9=\"PANAMÁ\",LOOKUP(7,GEfectos!$C$4:$I$4,GEfectos!C195:I195))))))))","v":86.528230669310943},{"$f":"IF(EFECTOS!$N$9=\"COSTA RICA\",LOOKUP(1,GEfectos!$J$4:$P$4,GEfectos!J195:P195),IF(EFECTOS!$N$9=\"EL SALVADOR\",LOOKUP(2,GEfectos!$J$4:$P$4,GEfectos!J195:P195),IF(EFECTOS!$N$9=\"GUATEMALA\",LOOKUP(3,GEfectos!$J$4:$P$4,GEfectos!J195:P195),IF(EFECTOS!$N$9=\"HONDURAS\",LOOKUP(4,GEfectos!$J$4:$P$4,GEfectos!J195:P195),IF(EFECTOS!$N$9=\"NICARAGUA\",LOOKUP(5,GEfectos!$J$4:$P$4,GEfectos!J195:P195),IF(EFECTOS!$N$9=\"REPÚBLICA \nDOMINICANA\",LOOKUP(6,$J$4:$P$4,J195:P195),IF(EFECTOS!$N$9=\"PANAMÁ\",LOOKUP(7,GEfectos!$J$4:$P$4,GEfectos!J195:P195))))))))","v":168.57923116052405},{"$f":"IF(EFECTOS!$N$9=\"COSTA RICA\",LOOKUP(1,GEfectos!$Q$4:$W$4,GEfectos!Q195:W195),IF(EFECTOS!$N$9=\"EL SALVADOR\",LOOKUP(2,GEfectos!$Q$4:$W$4,GEfectos!Q195:W195),IF(EFECTOS!$N$9=\"GUATEMALA\",LOOKUP(3,GEfectos!$Q$4:$W$4,GEfectos!Q195:W195),IF(EFECTOS!$N$9=\"HONDURAS\",LOOKUP(4,GEfectos!$Q$4:$W$4,GEfectos!Q195:W195),IF(EFECTOS!$N$9=\"NICARAGUA\",LOOKUP(5,GEfectos!$Q$4:$W$4,GEfectos!Q195:W195),IF(EFECTOS!$N$9=\"REPÚBLICA \nDOMINICANA\",LOOKUP(6,$Q$4:$W$4,Q195:W195),IF(EFECTOS!$N$9=\"PANAMÁ\",LOOKUP(7,GEfectos!$Q$4:$W$4,GEfectos!Q195:W195))))))))","v":194.82570007098761},100]
[null,{"$f":"'ITCER GLOBAL'!B196","v":"Noviembre"},{"$f":"'ITCER GLOBAL'!C196","v":86.387955970066571},{"$f":"'ITCER GLOBAL'!D196","v":103.68904231695869},{"$f":"'ITCER GLOBAL'!E196","v":73.973220162027346},{"$f":"'ITCER GLOBAL'!F196","v":86.077752847052395},{"$f":"'ITCER GLOBAL'!G196","v":110.21698373606768},{"$f":"'ITCER GLOBAL'!H196","v":122.2764059382507},{"$f":"'ITCER GLOBAL'!I196","v":104.79838754980914},{"$f":"'ITCER GLOBAL'!S196","v":168.90413510290389},{"$f":"'ITCER GLOBAL'!T196","v":97.248327741291263},{"$f":"'ITCER GLOBAL'!U196","v":101.82319157096455},{"$f":"'ITCER GLOBAL'!V196","v":125.47702435024151},{"$f":"'ITCER GLOBAL'!W196","v":164.34617248286068},{"$f":"'ITCER GLOBAL'!X196","v":233.76518889627343},{"$f":"'ITCER GLOBAL'!Y196","v":101.67914043805284},{"$f":"'ITCER GLOBAL'!AA196","v":195.5181520459046},{"$f":"'ITCER GLOBAL'!AB196","v":93.788432768064993},{"$f":"'ITCER GLOBAL'!AC196","v":137.64872118306596},{"$f":"'ITCER GLOBAL'!AD196","v":145.77172405185325},{"$f":"'ITCER GLOBAL'!AE196","v":149.11147711718741},{"$f":"'ITCER GLOBAL'!AF196","v":191.17767414126016},{"$f":"'ITCER GLOBAL'!AG196","v":97.023573372945492},null,{"$f":"IF(EFECTOS!$N$9=\"COSTA RICA\",LOOKUP(1,GEfectos!$C$4:$I$4,GEfectos!C196:I196),IF(EFECTOS!$N$9=\"EL SALVADOR\",LOOKUP(2,GEfectos!$C$4:$I$4,GEfectos!C196:I196),IF(EFECTOS!$N$9=\"GUATEMALA\",LOOKUP(3,GEfectos!$C$4:$I$4,GEfectos!C196:I196),IF(EFECTOS!$N$9=\"HONDURAS\",LOOKUP(4,GEfectos!$C$4:$I$4,GEfectos!C196:I196),IF(EFECTOS!$N$9=\"NICARAGUA\",LOOKUP(5,GEfectos!$C$4:$I$4,GEfectos!C196:I196),IF(EFECTOS!$N$9=\"REPÚBLICA \nDOMINICANA\",LOOKUP(6,$C$4:$I$4,C196:I196),IF(EFECTOS!$N$9=\"PANAMÁ\",LOOKUP(7,GEfectos!$C$4:$I$4,GEfectos!C196:I196))))))))","v":86.387955970066571},{"$f":"IF(EFECTOS!$N$9=\"COSTA RICA\",LOOKUP(1,GEfectos!$J$4:$P$4,GEfectos!J196:P196),IF(EFECTOS!$N$9=\"EL SALVADOR\",LOOKUP(2,GEfectos!$J$4:$P$4,GEfectos!J196:P196),IF(EFECTOS!$N$9=\"GUATEMALA\",LOOKUP(3,GEfectos!$J$4:$P$4,GEfectos!J196:P196),IF(EFECTOS!$N$9=\"HONDURAS\",LOOKUP(4,GEfectos!$J$4:$P$4,GEfectos!J196:P196),IF(EFECTOS!$N$9=\"NICARAGUA\",LOOKUP(5,GEfectos!$J$4:$P$4,GEfectos!J196:P196),IF(EFECTOS!$N$9=\"REPÚBLICA \nDOMINICANA\",LOOKUP(6,$J$4:$P$4,J196:P196),IF(EFECTOS!$N$9=\"PANAMÁ\",LOOKUP(7,GEfectos!$J$4:$P$4,GEfectos!J196:P196))))))))","v":168.90413510290389},{"$f":"IF(EFECTOS!$N$9=\"COSTA RICA\",LOOKUP(1,GEfectos!$Q$4:$W$4,GEfectos!Q196:W196),IF(EFECTOS!$N$9=\"EL SALVADOR\",LOOKUP(2,GEfectos!$Q$4:$W$4,GEfectos!Q196:W196),IF(EFECTOS!$N$9=\"GUATEMALA\",LOOKUP(3,GEfectos!$Q$4:$W$4,GEfectos!Q196:W196),IF(EFECTOS!$N$9=\"HONDURAS\",LOOKUP(4,GEfectos!$Q$4:$W$4,GEfectos!Q196:W196),IF(EFECTOS!$N$9=\"NICARAGUA\",LOOKUP(5,GEfectos!$Q$4:$W$4,GEfectos!Q196:W196),IF(EFECTOS!$N$9=\"REPÚBLICA \nDOMINICANA\",LOOKUP(6,$Q$4:$W$4,Q196:W196),IF(EFECTOS!$N$9=\"PANAMÁ\",LOOKUP(7,GEfectos!$Q$4:$W$4,GEfectos!Q196:W196))))))))","v":195.5181520459046},100]
[null,{"$f":"'ITCER GLOBAL'!B197","v":"Diciembre"},{"$f":"'ITCER GLOBAL'!C197","v":84.532970722317089},{"$f":"'ITCER GLOBAL'!D197","v":103.89457428672391},{"$f":"'ITCER GLOBAL'!E197","v":73.612831238096859},{"$f":"'ITCER GLOBAL'!F197","v":86.071416779209088},{"$f":"'ITCER GLOBAL'!G197","v":109.92368276752795},{"$f":"'ITCER GLOBAL'!H197","v":121.38583642208356},{"$f":"'ITCER GLOBAL'!I197","v":103.92132998805543},{"$f":"'ITCER GLOBAL'!S197","v":165.98734720080409},{"$f":"'ITCER GLOBAL'!T197","v":97.065743790625987},{"$f":"'ITCER GLOBAL'!U197","v":101.12075237796299},{"$f":"'ITCER GLOBAL'!V197","v":125.11095631882137},{"$f":"'ITCER GLOBAL'!W197","v":164.48410151617452},{"$f":"'ITCER GLOBAL'!X197","v":233.36351219441505},{"$f":"'ITCER GLOBAL'!Y197","v":101.23440650357043},{"$f":"'ITCER GLOBAL'!AA197","v":196.35811421564375},{"$f":"'ITCER GLOBAL'!AB197","v":93.427153878842603},{"$f":"'ITCER GLOBAL'!AC197","v":137.36837814442049},{"$f":"'ITCER GLOBAL'!AD197","v":145.35714758798119},{"$f":"'ITCER GLOBAL'!AE197","v":149.6348169702735},{"$f":"'ITCER GLOBAL'!AF197","v":192.24937527551572},{"$f":"'ITCER GLOBAL'!AG197","v":97.414463917278738},null,{"$f":"IF(EFECTOS!$N$9=\"COSTA RICA\",LOOKUP(1,GEfectos!$C$4:$I$4,GEfectos!C197:I197),IF(EFECTOS!$N$9=\"EL SALVADOR\",LOOKUP(2,GEfectos!$C$4:$I$4,GEfectos!C197:I197),IF(EFECTOS!$N$9=\"GUATEMALA\",LOOKUP(3,GEfectos!$C$4:$I$4,GEfectos!C197:I197),IF(EFECTOS!$N$9=\"HONDURAS\",LOOKUP(4,GEfectos!$C$4:$I$4,GEfectos!C197:I197),IF(EFECTOS!$N$9=\"NICARAGUA\",LOOKUP(5,GEfectos!$C$4:$I$4,GEfectos!C197:I197),IF(EFECTOS!$N$9=\"REPÚBLICA \nDOMINICANA\",LOOKUP(6,$C$4:$I$4,C197:I197),IF(EFECTOS!$N$9=\"PANAMÁ\",LOOKUP(7,GEfectos!$C$4:$I$4,GEfectos!C197:I197))))))))","v":84.532970722317089},{"$f":"IF(EFECTOS!$N$9=\"COSTA RICA\",LOOKUP(1,GEfectos!$J$4:$P$4,GEfectos!J197:P197),IF(EFECTOS!$N$9=\"EL SALVADOR\",LOOKUP(2,GEfectos!$J$4:$P$4,GEfectos!J197:P197),IF(EFECTOS!$N$9=\"GUATEMALA\",LOOKUP(3,GEfectos!$J$4:$P$4,GEfectos!J197:P197),IF(EFECTOS!$N$9=\"HONDURAS\",LOOKUP(4,GEfectos!$J$4:$P$4,GEfectos!J197:P197),IF(EFECTOS!$N$9=\"NICARAGUA\",LOOKUP(5,GEfectos!$J$4:$P$4,GEfectos!J197:P197),IF(EFECTOS!$N$9=\"REPÚBLICA \nDOMINICANA\",LOOKUP(6,$J$4:$P$4,J197:P197),IF(EFECTOS!$N$9=\"PANAMÁ\",LOOKUP(7,GEfectos!$J$4:$P$4,GEfectos!J197:P197))))))))","v":165.98734720080409},{"$f":"IF(EFECTOS!$N$9=\"COSTA RICA\",LOOKUP(1,GEfectos!$Q$4:$W$4,GEfectos!Q197:W197),IF(EFECTOS!$N$9=\"EL SALVADOR\",LOOKUP(2,GEfectos!$Q$4:$W$4,GEfectos!Q197:W197),IF(EFECTOS!$N$9=\"GUATEMALA\",LOOKUP(3,GEfectos!$Q$4:$W$4,GEfectos!Q197:W197),IF(EFECTOS!$N$9=\"HONDURAS\",LOOKUP(4,GEfectos!$Q$4:$W$4,GEfectos!Q197:W197),IF(EFECTOS!$N$9=\"NICARAGUA\",LOOKUP(5,GEfectos!$Q$4:$W$4,GEfectos!Q197:W197),IF(EFECTOS!$N$9=\"REPÚBLICA \nDOMINICANA\",LOOKUP(6,$Q$4:$W$4,Q197:W197),IF(EFECTOS!$N$9=\"PANAMÁ\",LOOKUP(7,GEfectos!$Q$4:$W$4,GEfectos!Q197:W197))))))))","v":196.35811421564375},100]
[2011,{"$f":"'ITCER GLOBAL'!B198","v":"Enero"},{"$f":"'ITCER GLOBAL'!C198","v":83.377506862397638},{"$f":"'ITCER GLOBAL'!D198","v":103.0334814944526},{"$f":"'ITCER GLOBAL'!E198","v":72.860935121251586},{"$f":"'ITCER GLOBAL'!F198","v":85.966185231745698},{"$f":"'ITCER GLOBAL'!G198","v":110.68352140099127},{"$f":"'ITCER GLOBAL'!H198","v":127.26925511460338},{"$f":"'ITCER GLOBAL'!I198","v":104.71696026602135},{"$f":"'ITCER GLOBAL'!S198","v":166.46450281689985},{"$f":"'ITCER GLOBAL'!T198","v":96.873019678057886},{"$f":"'ITCER GLOBAL'!U198","v":101.30716416908282},{"$f":"'ITCER GLOBAL'!V198","v":126.67240014537265},{"$f":"'ITCER GLOBAL'!W198","v":167.70114513483139},{"$f":"'ITCER GLOBAL'!X198","v":232.77098363926564},{"$f":"'ITCER GLOBAL'!Y198","v":102.18705898795952},{"$f":"'ITCER GLOBAL'!AA198","v":199.65157160626683},{"$f":"'ITCER GLOBAL'!AB198","v":94.02091269067094},{"$f":"'ITCER GLOBAL'!AC198","v":139.04181163814658},{"$f":"'ITCER GLOBAL'!AD198","v":147.3514263822363},{"$f":"'ITCER GLOBAL'!AE198","v":151.51410346556744},{"$f":"'ITCER GLOBAL'!AF198","v":182.89647678825503},{"$f":"'ITCER GLOBAL'!AG198","v":97.584057757563897},null,{"$f":"IF(EFECTOS!$N$9=\"COSTA RICA\",LOOKUP(1,GEfectos!$C$4:$I$4,GEfectos!C198:I198),IF(EFECTOS!$N$9=\"EL SALVADOR\",LOOKUP(2,GEfectos!$C$4:$I$4,GEfectos!C198:I198),IF(EFECTOS!$N$9=\"GUATEMALA\",LOOKUP(3,GEfectos!$C$4:$I$4,GEfectos!C198:I198),IF(EFECTOS!$N$9=\"HONDURAS\",LOOKUP(4,GEfectos!$C$4:$I$4,GEfectos!C198:I198),IF(EFECTOS!$N$9=\"NICARAGUA\",LOOKUP(5,GEfectos!$C$4:$I$4,GEfectos!C198:I198),IF(EFECTOS!$N$9=\"REPÚBLICA \nDOMINICANA\",LOOKUP(6,$C$4:$I$4,C198:I198),IF(EFECTOS!$N$9=\"PANAMÁ\",LOOKUP(7,GEfectos!$C$4:$I$4,GEfectos!C198:I198))))))))","v":83.377506862397638},{"$f":"IF(EFECTOS!$N$9=\"COSTA RICA\",LOOKUP(1,GEfectos!$J$4:$P$4,GEfectos!J198:P198),IF(EFECTOS!$N$9=\"EL SALVADOR\",LOOKUP(2,GEfectos!$J$4:$P$4,GEfectos!J198:P198),IF(EFECTOS!$N$9=\"GUATEMALA\",LOOKUP(3,GEfectos!$J$4:$P$4,GEfectos!J198:P198),IF(EFECTOS!$N$9=\"HONDURAS\",LOOKUP(4,GEfectos!$J$4:$P$4,GEfectos!J198:P198),IF(EFECTOS!$N$9=\"NICARAGUA\",LOOKUP(5,GEfectos!$J$4:$P$4,GEfectos!J198:P198),IF(EFECTOS!$N$9=\"REPÚBLICA \nDOMINICANA\",LOOKUP(6,$J$4:$P$4,J198:P198),IF(EFECTOS!$N$9=\"PANAMÁ\",LOOKUP(7,GEfectos!$J$4:$P$4,GEfectos!J198:P198))))))))","v":166.46450281689985},{"$f":"IF(EFECTOS!$N$9=\"COSTA RICA\",LOOKUP(1,GEfectos!$Q$4:$W$4,GEfectos!Q198:W198),IF(EFECTOS!$N$9=\"EL SALVADOR\",LOOKUP(2,GEfectos!$Q$4:$W$4,GEfectos!Q198:W198),IF(EFECTOS!$N$9=\"GUATEMALA\",LOOKUP(3,GEfectos!$Q$4:$W$4,GEfectos!Q198:W198),IF(EFECTOS!$N$9=\"HONDURAS\",LOOKUP(4,GEfectos!$Q$4:$W$4,GEfectos!Q198:W198),IF(EFECTOS!$N$9=\"NICARAGUA\",LOOKUP(5,GEfectos!$Q$4:$W$4,GEfectos!Q198:W198),IF(EFECTOS!$N$9=\"REPÚBLICA \nDOMINICANA\",LOOKUP(6,$Q$4:$W$4,Q198:W198),IF(EFECTOS!$N$9=\"PANAMÁ\",LOOKUP(7,GEfectos!$Q$4:$W$4,GEfectos!Q198:W198))))))))","v":199.65157160626683},100]
[null,{"$f":"'ITCER GLOBAL'!B199","v":"Febrero"},{"$f":"'ITCER GLOBAL'!C199","v":83.014221329867013},{"$f":"'ITCER GLOBAL'!D199","v":103.87900274743183},{"$f":"'ITCER GLOBAL'!E199","v":71.515648517916645},{"$f":"'ITCER GLOBAL'!F199","v":86.234089964433807},{"$f":"'ITCER GLOBAL'!G199","v":111.57341335470011},{"$f":"'ITCER GLOBAL'!H199","v":127.4403248204228},{"$f":"'ITCER GLOBAL'!I199","v":105.19413468091901},{"$f":"'ITCER GLOBAL'!S199","v":165.51788334642222},{"$f":"'ITCER GLOBAL'!T199","v":97.287698761716683},{"$f":"'ITCER GLOBAL'!U199","v":99.675557902548235},{"$f":"'ITCER GLOBAL'!V199","v":127.2757910491237},{"$f":"'ITCER GLOBAL'!W199","v":169.34349459740915},{"$f":"'ITCER GLOBAL'!X199","v":234.47512236792312},{"$f":"'ITCER GLOBAL'!Y199","v":102.55575523646918},{"$f":"'ITCER GLOBAL'!AA199","v":199.38497367663905},{"$f":"'ITCER GLOBAL'!AB199","v":93.654825507190282},{"$f":"'ITCER GLOBAL'!AC199","v":139.37587083137024},{"$f":"'ITCER GLOBAL'!AD199","v":147.59336023794887},{"$f":"'ITCER GLOBAL'!AE199","v":151.77764084267432},{"$f":"'ITCER GLOBAL'!AF199","v":183.98817069740204},{"$f":"'ITCER GLOBAL'!AG199","v":97.491894911771723},null,{"$f":"IF(EFECTOS!$N$9=\"COSTA RICA\",LOOKUP(1,GEfectos!$C$4:$I$4,GEfectos!C199:I199),IF(EFECTOS!$N$9=\"EL SALVADOR\",LOOKUP(2,GEfectos!$C$4:$I$4,GEfectos!C199:I199),IF(EFECTOS!$N$9=\"GUATEMALA\",LOOKUP(3,GEfectos!$C$4:$I$4,GEfectos!C199:I199),IF(EFECTOS!$N$9=\"HONDURAS\",LOOKUP(4,GEfectos!$C$4:$I$4,GEfectos!C199:I199),IF(EFECTOS!$N$9=\"NICARAGUA\",LOOKUP(5,GEfectos!$C$4:$I$4,GEfectos!C199:I199),IF(EFECTOS!$N$9=\"REPÚBLICA \nDOMINICANA\",LOOKUP(6,$C$4:$I$4,C199:I199),IF(EFECTOS!$N$9=\"PANAMÁ\",LOOKUP(7,GEfectos!$C$4:$I$4,GEfectos!C199:I199))))))))","v":83.014221329867013},{"$f":"IF(EFECTOS!$N$9=\"COSTA RICA\",LOOKUP(1,GEfectos!$J$4:$P$4,GEfectos!J199:P199),IF(EFECTOS!$N$9=\"EL SALVADOR\",LOOKUP(2,GEfectos!$J$4:$P$4,GEfectos!J199:P199),IF(EFECTOS!$N$9=\"GUATEMALA\",LOOKUP(3,GEfectos!$J$4:$P$4,GEfectos!J199:P199),IF(EFECTOS!$N$9=\"HONDURAS\",LOOKUP(4,GEfectos!$J$4:$P$4,GEfectos!J199:P199),IF(EFECTOS!$N$9=\"NICARAGUA\",LOOKUP(5,GEfectos!$J$4:$P$4,GEfectos!J199:P199),IF(EFECTOS!$N$9=\"REPÚBLICA \nDOMINICANA\",LOOKUP(6,$J$4:$P$4,J199:P199),IF(EFECTOS!$N$9=\"PANAMÁ\",LOOKUP(7,GEfectos!$J$4:$P$4,GEfectos!J199:P199))))))))","v":165.51788334642222},{"$f":"IF(EFECTOS!$N$9=\"COSTA RICA\",LOOKUP(1,GEfectos!$Q$4:$W$4,GEfectos!Q199:W199),IF(EFECTOS!$N$9=\"EL SALVADOR\",LOOKUP(2,GEfectos!$Q$4:$W$4,GEfectos!Q199:W199),IF(EFECTOS!$N$9=\"GUATEMALA\",LOOKUP(3,GEfectos!$Q$4:$W$4,GEfectos!Q199:W199),IF(EFECTOS!$N$9=\"HONDURAS\",LOOKUP(4,GEfectos!$Q$4:$W$4,GEfectos!Q199:W199),IF(EFECTOS!$N$9=\"NICARAGUA\",LOOKUP(5,GEfectos!$Q$4:$W$4,GEfectos!Q199:W199),IF(EFECTOS!$N$9=\"REPÚBLICA \nDOMINICANA\",LOOKUP(6,$Q$4:$W$4,Q199:W199),IF(EFECTOS!$N$9=\"PANAMÁ\",LOOKUP(7,GEfectos!$Q$4:$W$4,GEfectos!Q199:W199))))))))","v":199.38497367663905},100]
[null,{"$f":"'ITCER GLOBAL'!B200","v":"Marzo"},{"$f":"'ITCER GLOBAL'!C200","v":83.476770231939014},{"$f":"'ITCER GLOBAL'!D200","v":104.44151182424372},{"$f":"'ITCER GLOBAL'!E200","v":70.634919248338676},{"$f":"'ITCER GLOBAL'!F200","v":86.721333741073693},{"$f":"'ITCER GLOBAL'!G200","v":112.47218636632658},{"$f":"'ITCER GLOBAL'!H200","v":127.94062589225591},{"$f":"'ITCER GLOBAL'!I200","v":105.43089602261014},{"$f":"'ITCER GLOBAL'!S200","v":165.57043026725958},{"$f":"'ITCER GLOBAL'!T200","v":97.672369114727502},{"$f":"'ITCER GLOBAL'!U200","v":98.645454504673907},{"$f":"'ITCER GLOBAL'!V200","v":127.8951548117429},{"$f":"'ITCER GLOBAL'!W200","v":170.65307596314867},{"$f":"'ITCER GLOBAL'!X200","v":236.19819592218741},{"$f":"'ITCER GLOBAL'!Y200","v":102.99891590514582},{"$f":"'ITCER GLOBAL'!AA200","v":198.3431196573903},{"$f":"'ITCER GLOBAL'!AB200","v":93.518723933346095},{"$f":"'ITCER GLOBAL'!AC200","v":139.65536529865014},{"$f":"'ITCER GLOBAL'!AD200","v":147.47830700298388},{"$f":"'ITCER GLOBAL'!AE200","v":151.72913542137832},{"$f":"'ITCER GLOBAL'!AF200","v":184.61547633907912},{"$f":"'ITCER GLOBAL'!AG200","v":97.693294651557579},null,{"$f":"IF(EFECTOS!$N$9=\"COSTA RICA\",LOOKUP(1,GEfectos!$C$4:$I$4,GEfectos!C200:I200),IF(EFECTOS!$N$9=\"EL SALVADOR\",LOOKUP(2,GEfectos!$C$4:$I$4,GEfectos!C200:I200),IF(EFECTOS!$N$9=\"GUATEMALA\",LOOKUP(3,GEfectos!$C$4:$I$4,GEfectos!C200:I200),IF(EFECTOS!$N$9=\"HONDURAS\",LOOKUP(4,GEfectos!$C$4:$I$4,GEfectos!C200:I200),IF(EFECTOS!$N$9=\"NICARAGUA\",LOOKUP(5,GEfectos!$C$4:$I$4,GEfectos!C200:I200),IF(EFECTOS!$N$9=\"REPÚBLICA \nDOMINICANA\",LOOKUP(6,$C$4:$I$4,C200:I200),IF(EFECTOS!$N$9=\"PANAMÁ\",LOOKUP(7,GEfectos!$C$4:$I$4,GEfectos!C200:I200))))))))","v":83.476770231939014},{"$f":"IF(EFECTOS!$N$9=\"COSTA RICA\",LOOKUP(1,GEfectos!$J$4:$P$4,GEfectos!J200:P200),IF(EFECTOS!$N$9=\"EL SALVADOR\",LOOKUP(2,GEfectos!$J$4:$P$4,GEfectos!J200:P200),IF(EFECTOS!$N$9=\"GUATEMALA\",LOOKUP(3,GEfectos!$J$4:$P$4,GEfectos!J200:P200),IF(EFECTOS!$N$9=\"HONDURAS\",LOOKUP(4,GEfectos!$J$4:$P$4,GEfectos!J200:P200),IF(EFECTOS!$N$9=\"NICARAGUA\",LOOKUP(5,GEfectos!$J$4:$P$4,GEfectos!J200:P200),IF(EFECTOS!$N$9=\"REPÚBLICA \nDOMINICANA\",LOOKUP(6,$J$4:$P$4,J200:P200),IF(EFECTOS!$N$9=\"PANAMÁ\",LOOKUP(7,GEfectos!$J$4:$P$4,GEfectos!J200:P200))))))))","v":165.57043026725958},{"$f":"IF(EFECTOS!$N$9=\"COSTA RICA\",LOOKUP(1,GEfectos!$Q$4:$W$4,GEfectos!Q200:W200),IF(EFECTOS!$N$9=\"EL SALVADOR\",LOOKUP(2,GEfectos!$Q$4:$W$4,GEfectos!Q200:W200),IF(EFECTOS!$N$9=\"GUATEMALA\",LOOKUP(3,GEfectos!$Q$4:$W$4,GEfectos!Q200:W200),IF(EFECTOS!$N$9=\"HONDURAS\",LOOKUP(4,GEfectos!$Q$4:$W$4,GEfectos!Q200:W200),IF(EFECTOS!$N$9=\"NICARAGUA\",LOOKUP(5,GEfectos!$Q$4:$W$4,GEfectos!Q200:W200),IF(EFECTOS!$N$9=\"REPÚBLICA \nDOMINICANA\",LOOKUP(6,$Q$4:$W$4,Q200:W200),IF(EFECTOS!$N$9=\"PANAMÁ\",LOOKUP(7,GEfectos!$Q$4:$W$4,GEfectos!Q200:W200))))))))","v":198.3431196573903},100]
[null,{"$f":"'ITCER GLOBAL'!B201","v":"Abril"},{"$f":"'ITCER GLOBAL'!C201","v":84.377356719436037},{"$f":"'ITCER GLOBAL'!D201","v":102.67025567787697},{"$f":"'ITCER GLOBAL'!E201","v":70.387138996693551},{"$f":"'ITCER GLOBAL'!F201","v":87.040661942507199},{"$f":"'ITCER GLOBAL'!G201","v":113.57096716281526},{"$f":"'ITCER GLOBAL'!H201","v":128.71742651024243},{"$f":"'ITCER GLOBAL'!I201","v":105.79039801026346},{"$f":"'ITCER GLOBAL'!S201","v":166.64863366334527},{"$f":"'ITCER GLOBAL'!T201","v":98.289325997253556},{"$f":"'ITCER GLOBAL'!U201","v":98.212372148865455},{"$f":"'ITCER GLOBAL'!V201","v":128.94376900123515},{"$f":"'ITCER GLOBAL'!W201","v":172.27491003820168},{"$f":"'ITCER GLOBAL'!X201","v":238.39536090120598},{"$f":"'ITCER GLOBAL'!Y201","v":103.95301441196192},{"$f":"'ITCER GLOBAL'!AA201","v":197.50397516891911},{"$f":"'ITCER GLOBAL'!AB201","v":95.733009865711864},{"$f":"'ITCER GLOBAL'!AC201","v":139.5317007464659},{"$f":"'ITCER GLOBAL'!AD201","v":148.14199033367433},{"$f":"'ITCER GLOBAL'!AE201","v":151.68921630404756},{"$f":"'ITCER GLOBAL'!AF201","v":185.208302686378},{"$f":"'ITCER GLOBAL'!AG201","v":98.263184908215109},null,{"$f":"IF(EFECTOS!$N$9=\"COSTA RICA\",LOOKUP(1,GEfectos!$C$4:$I$4,GEfectos!C201:I201),IF(EFECTOS!$N$9=\"EL SALVADOR\",LOOKUP(2,GEfectos!$C$4:$I$4,GEfectos!C201:I201),IF(EFECTOS!$N$9=\"GUATEMALA\",LOOKUP(3,GEfectos!$C$4:$I$4,GEfectos!C201:I201),IF(EFECTOS!$N$9=\"HONDURAS\",LOOKUP(4,GEfectos!$C$4:$I$4,GEfectos!C201:I201),IF(EFECTOS!$N$9=\"NICARAGUA\",LOOKUP(5,GEfectos!$C$4:$I$4,GEfectos!C201:I201),IF(EFECTOS!$N$9=\"REPÚBLICA \nDOMINICANA\",LOOKUP(6,$C$4:$I$4,C201:I201),IF(EFECTOS!$N$9=\"PANAMÁ\",LOOKUP(7,GEfectos!$C$4:$I$4,GEfectos!C201:I201))))))))","v":84.377356719436037},{"$f":"IF(EFECTOS!$N$9=\"COSTA RICA\",LOOKUP(1,GEfectos!$J$4:$P$4,GEfectos!J201:P201),IF(EFECTOS!$N$9=\"EL SALVADOR\",LOOKUP(2,GEfectos!$J$4:$P$4,GEfectos!J201:P201),IF(EFECTOS!$N$9=\"GUATEMALA\",LOOKUP(3,GEfectos!$J$4:$P$4,GEfectos!J201:P201),IF(EFECTOS!$N$9=\"HONDURAS\",LOOKUP(4,GEfectos!$J$4:$P$4,GEfectos!J201:P201),IF(EFECTOS!$N$9=\"NICARAGUA\",LOOKUP(5,GEfectos!$J$4:$P$4,GEfectos!J201:P201),IF(EFECTOS!$N$9=\"REPÚBLICA \nDOMINICANA\",LOOKUP(6,$J$4:$P$4,J201:P201),IF(EFECTOS!$N$9=\"PANAMÁ\",LOOKUP(7,GEfectos!$J$4:$P$4,GEfectos!J201:P201))))))))","v":166.64863366334527},{"$f":"IF(EFECTOS!$N$9=\"COSTA RICA\",LOOKUP(1,GEfectos!$Q$4:$W$4,GEfectos!Q201:W201),IF(EFECTOS!$N$9=\"EL SALVADOR\",LOOKUP(2,GEfectos!$Q$4:$W$4,GEfectos!Q201:W201),IF(EFECTOS!$N$9=\"GUATEMALA\",LOOKUP(3,GEfectos!$Q$4:$W$4,GEfectos!Q201:W201),IF(EFECTOS!$N$9=\"HONDURAS\",LOOKUP(4,GEfectos!$Q$4:$W$4,GEfectos!Q201:W201),IF(EFECTOS!$N$9=\"NICARAGUA\",LOOKUP(5,GEfectos!$Q$4:$W$4,GEfectos!Q201:W201),IF(EFECTOS!$N$9=\"REPÚBLICA \nDOMINICANA\",LOOKUP(6,$Q$4:$W$4,Q201:W201),IF(EFECTOS!$N$9=\"PANAMÁ\",LOOKUP(7,GEfectos!$Q$4:$W$4,GEfectos!Q201:W201))))))))","v":197.50397516891911},100]
[null,{"$f":"'ITCER GLOBAL'!B202","v":"Mayo"},{"$f":"'ITCER GLOBAL'!C202","v":84.622989609959674},{"$f":"'ITCER GLOBAL'!D202","v":102.4455220764016},{"$f":"'ITCER GLOBAL'!E202","v":70.685337228684602},{"$f":"'ITCER GLOBAL'!F202","v":86.719612434028789},{"$f":"'ITCER GLOBAL'!G202","v":113.09959250274601},{"$f":"'ITCER GLOBAL'!H202","v":129.0287564563867},{"$f":"'ITCER GLOBAL'!I202","v":105.65301014467383},{"$f":"'ITCER GLOBAL'!S202","v":167.76578869706026},{"$f":"'ITCER GLOBAL'!T202","v":98.183201766430855},{"$f":"'ITCER GLOBAL'!U202","v":98.820295783268278},{"$f":"'ITCER GLOBAL'!V202","v":128.82050000432591},{"$f":"'ITCER GLOBAL'!W202","v":172.80202101082804},{"$f":"'ITCER GLOBAL'!X202","v":238.70975865507341},{"$f":"'ITCER GLOBAL'!Y202","v":103.90828311538303},{"$f":"'ITCER GLOBAL'!AA202","v":198.25084113704619},{"$f":"'ITCER GLOBAL'!AB202","v":95.839427411193228},{"$f":"'ITCER GLOBAL'!AC202","v":139.80310437447599},{"$f":"'ITCER GLOBAL'!AD202","v":148.5482884305151},{"$f":"'ITCER GLOBAL'!AE202","v":152.78748330294158},{"$f":"'ITCER GLOBAL'!AF202","v":185.00508352629146},{"$f":"'ITCER GLOBAL'!AG202","v":98.348625347350065},null,{"$f":"IF(EFECTOS!$N$9=\"COSTA RICA\",LOOKUP(1,GEfectos!$C$4:$I$4,GEfectos!C202:I202),IF(EFECTOS!$N$9=\"EL SALVADOR\",LOOKUP(2,GEfectos!$C$4:$I$4,GEfectos!C202:I202),IF(EFECTOS!$N$9=\"GUATEMALA\",LOOKUP(3,GEfectos!$C$4:$I$4,GEfectos!C202:I202),IF(EFECTOS!$N$9=\"HONDURAS\",LOOKUP(4,GEfectos!$C$4:$I$4,GEfectos!C202:I202),IF(EFECTOS!$N$9=\"NICARAGUA\",LOOKUP(5,GEfectos!$C$4:$I$4,GEfectos!C202:I202),IF(EFECTOS!$N$9=\"REPÚBLICA \nDOMINICANA\",LOOKUP(6,$C$4:$I$4,C202:I202),IF(EFECTOS!$N$9=\"PANAMÁ\",LOOKUP(7,GEfectos!$C$4:$I$4,GEfectos!C202:I202))))))))","v":84.622989609959674},{"$f":"IF(EFECTOS!$N$9=\"COSTA RICA\",LOOKUP(1,GEfectos!$J$4:$P$4,GEfectos!J202:P202),IF(EFECTOS!$N$9=\"EL SALVADOR\",LOOKUP(2,GEfectos!$J$4:$P$4,GEfectos!J202:P202),IF(EFECTOS!$N$9=\"GUATEMALA\",LOOKUP(3,GEfectos!$J$4:$P$4,GEfectos!J202:P202),IF(EFECTOS!$N$9=\"HONDURAS\",LOOKUP(4,GEfectos!$J$4:$P$4,GEfectos!J202:P202),IF(EFECTOS!$N$9=\"NICARAGUA\",LOOKUP(5,GEfectos!$J$4:$P$4,GEfectos!J202:P202),IF(EFECTOS!$N$9=\"REPÚBLICA \nDOMINICANA\",LOOKUP(6,$J$4:$P$4,J202:P202),IF(EFECTOS!$N$9=\"PANAMÁ\",LOOKUP(7,GEfectos!$J$4:$P$4,GEfectos!J202:P202))))))))","v":167.76578869706026},{"$f":"IF(EFECTOS!$N$9=\"COSTA RICA\",LOOKUP(1,GEfectos!$Q$4:$W$4,GEfectos!Q202:W202),IF(EFECTOS!$N$9=\"EL SALVADOR\",LOOKUP(2,GEfectos!$Q$4:$W$4,GEfectos!Q202:W202),IF(EFECTOS!$N$9=\"GUATEMALA\",LOOKUP(3,GEfectos!$Q$4:$W$4,GEfectos!Q202:W202),IF(EFECTOS!$N$9=\"HONDURAS\",LOOKUP(4,GEfectos!$Q$4:$W$4,GEfectos!Q202:W202),IF(EFECTOS!$N$9=\"NICARAGUA\",LOOKUP(5,GEfectos!$Q$4:$W$4,GEfectos!Q202:W202),IF(EFECTOS!$N$9=\"REPÚBLICA \nDOMINICANA\",LOOKUP(6,$Q$4:$W$4,Q202:W202),IF(EFECTOS!$N$9=\"PANAMÁ\",LOOKUP(7,GEfectos!$Q$4:$W$4,GEfectos!Q202:W202))))))))","v":198.25084113704619},100]
[null,{"$f":"'ITCER GLOBAL'!B203","v":"Junio"},{"$f":"'ITCER GLOBAL'!C203","v":84.60558804272452},{"$f":"'ITCER GLOBAL'!D203","v":102.26317430756184},{"$f":"'ITCER GLOBAL'!E203","v":71.360427679608435},{"$f":"'ITCER GLOBAL'!F203","v":86.282751084269307},{"$f":"'ITCER GLOBAL'!G203","v":113.04190358481245},{"$f":"'ITCER GLOBAL'!H203","v":128.33403965120036},{"$f":"'ITCER GLOBAL'!I203","v":105.57104333179772},{"$f":"'ITCER GLOBAL'!S203","v":168.59355275483196},{"$f":"'ITCER GLOBAL'!T203","v":97.940137970276865},{"$f":"'ITCER GLOBAL'!U203","v":100.24150327242008},{"$f":"'ITCER GLOBAL'!V203","v":128.61304373701114},{"$f":"'ITCER GLOBAL'!W203","v":173.66896295324602},{"$f":"'ITCER GLOBAL'!X203","v":239.72263395381589},{"$f":"'ITCER GLOBAL'!Y203","v":103.93545880636445},{"$f":"'ITCER GLOBAL'!AA203","v":199.26999700031021},{"$f":"'ITCER GLOBAL'!AB203","v":95.772636272483368},{"$f":"'ITCER GLOBAL'!AC203","v":140.47211673461499},{"$f":"'ITCER GLOBAL'!AD203","v":149.05997099165202},{"$f":"'ITCER GLOBAL'!AE203","v":153.63237653101501},{"$f":"'ITCER GLOBAL'!AF203","v":186.79582954402363},{"$f":"'ITCER GLOBAL'!AG203","v":98.450726189857917},null,{"$f":"IF(EFECTOS!$N$9=\"COSTA RICA\",LOOKUP(1,GEfectos!$C$4:$I$4,GEfectos!C203:I203),IF(EFECTOS!$N$9=\"EL SALVADOR\",LOOKUP(2,GEfectos!$C$4:$I$4,GEfectos!C203:I203),IF(EFECTOS!$N$9=\"GUATEMALA\",LOOKUP(3,GEfectos!$C$4:$I$4,GEfectos!C203:I203),IF(EFECTOS!$N$9=\"HONDURAS\",LOOKUP(4,GEfectos!$C$4:$I$4,GEfectos!C203:I203),IF(EFECTOS!$N$9=\"NICARAGUA\",LOOKUP(5,GEfectos!$C$4:$I$4,GEfectos!C203:I203),IF(EFECTOS!$N$9=\"REPÚBLICA \nDOMINICANA\",LOOKUP(6,$C$4:$I$4,C203:I203),IF(EFECTOS!$N$9=\"PANAMÁ\",LOOKUP(7,GEfectos!$C$4:$I$4,GEfectos!C203:I203))))))))","v":84.60558804272452},{"$f":"IF(EFECTOS!$N$9=\"COSTA RICA\",LOOKUP(1,GEfectos!$J$4:$P$4,GEfectos!J203:P203),IF(EFECTOS!$N$9=\"EL SALVADOR\",LOOKUP(2,GEfectos!$J$4:$P$4,GEfectos!J203:P203),IF(EFECTOS!$N$9=\"GUATEMALA\",LOOKUP(3,GEfectos!$J$4:$P$4,GEfectos!J203:P203),IF(EFECTOS!$N$9=\"HONDURAS\",LOOKUP(4,GEfectos!$J$4:$P$4,GEfectos!J203:P203),IF(EFECTOS!$N$9=\"NICARAGUA\",LOOKUP(5,GEfectos!$J$4:$P$4,GEfectos!J203:P203),IF(EFECTOS!$N$9=\"REPÚBLICA \nDOMINICANA\",LOOKUP(6,$J$4:$P$4,J203:P203),IF(EFECTOS!$N$9=\"PANAMÁ\",LOOKUP(7,GEfectos!$J$4:$P$4,GEfectos!J203:P203))))))))","v":168.59355275483196},{"$f":"IF(EFECTOS!$N$9=\"COSTA RICA\",LOOKUP(1,GEfectos!$Q$4:$W$4,GEfectos!Q203:W203),IF(EFECTOS!$N$9=\"EL SALVADOR\",LOOKUP(2,GEfectos!$Q$4:$W$4,GEfectos!Q203:W203),IF(EFECTOS!$N$9=\"GUATEMALA\",LOOKUP(3,GEfectos!$Q$4:$W$4,GEfectos!Q203:W203),IF(EFECTOS!$N$9=\"HONDURAS\",LOOKUP(4,GEfectos!$Q$4:$W$4,GEfectos!Q203:W203),IF(EFECTOS!$N$9=\"NICARAGUA\",LOOKUP(5,GEfectos!$Q$4:$W$4,GEfectos!Q203:W203),IF(EFECTOS!$N$9=\"REPÚBLICA \nDOMINICANA\",LOOKUP(6,$Q$4:$W$4,Q203:W203),IF(EFECTOS!$N$9=\"PANAMÁ\",LOOKUP(7,GEfectos!$Q$4:$W$4,GEfectos!Q203:W203))))))))","v":199.26999700031021},100]
[null,{"$f":"'ITCER GLOBAL'!B204","v":"Julio"},{"$f":"'ITCER GLOBAL'!C204","v":84.40886160819224},{"$f":"'ITCER GLOBAL'!D204","v":102.44118550976928},{"$f":"'ITCER GLOBAL'!E204","v":70.79255435157468},{"$f":"'ITCER GLOBAL'!F204","v":85.894489497116226},{"$f":"'ITCER GLOBAL'!G204","v":113.79572411774919},{"$f":"'ITCER GLOBAL'!H204","v":127.58868456477211},{"$f":"'ITCER GLOBAL'!I204","v":105.95812757981491},{"$f":"'ITCER GLOBAL'!S204","v":168.54250555495034},{"$f":"'ITCER GLOBAL'!T204","v":98.091059294122857},{"$f":"'ITCER GLOBAL'!U204","v":100.20471693368445},{"$f":"'ITCER GLOBAL'!V204","v":128.65212879590678},{"$f":"'ITCER GLOBAL'!W204","v":175.01478741623885},{"$f":"'ITCER GLOBAL'!X204","v":240.12222226299394},{"$f":"'ITCER GLOBAL'!Y204","v":104.25958908256337},{"$f":"'ITCER GLOBAL'!AA204","v":199.67394695747507},{"$f":"'ITCER GLOBAL'!AB204","v":95.753537804156323},{"$f":"'ITCER GLOBAL'!AC204","v":141.54697178468959},{"$f":"'ITCER GLOBAL'!AD204","v":149.77925772552157},{"$f":"'ITCER GLOBAL'!AE204","v":153.79733181814788},{"$f":"'ITCER GLOBAL'!AF204","v":188.20024916950427},{"$f":"'ITCER GLOBAL'!AG204","v":98.396971958595543},null,{"$f":"IF(EFECTOS!$N$9=\"COSTA RICA\",LOOKUP(1,GEfectos!$C$4:$I$4,GEfectos!C204:I204),IF(EFECTOS!$N$9=\"EL SALVADOR\",LOOKUP(2,GEfectos!$C$4:$I$4,GEfectos!C204:I204),IF(EFECTOS!$N$9=\"GUATEMALA\",LOOKUP(3,GEfectos!$C$4:$I$4,GEfectos!C204:I204),IF(EFECTOS!$N$9=\"HONDURAS\",LOOKUP(4,GEfectos!$C$4:$I$4,GEfectos!C204:I204),IF(EFECTOS!$N$9=\"NICARAGUA\",LOOKUP(5,GEfectos!$C$4:$I$4,GEfectos!C204:I204),IF(EFECTOS!$N$9=\"REPÚBLICA \nDOMINICANA\",LOOKUP(6,$C$4:$I$4,C204:I204),IF(EFECTOS!$N$9=\"PANAMÁ\",LOOKUP(7,GEfectos!$C$4:$I$4,GEfectos!C204:I204))))))))","v":84.40886160819224},{"$f":"IF(EFECTOS!$N$9=\"COSTA RICA\",LOOKUP(1,GEfectos!$J$4:$P$4,GEfectos!J204:P204),IF(EFECTOS!$N$9=\"EL SALVADOR\",LOOKUP(2,GEfectos!$J$4:$P$4,GEfectos!J204:P204),IF(EFECTOS!$N$9=\"GUATEMALA\",LOOKUP(3,GEfectos!$J$4:$P$4,GEfectos!J204:P204),IF(EFECTOS!$N$9=\"HONDURAS\",LOOKUP(4,GEfectos!$J$4:$P$4,GEfectos!J204:P204),IF(EFECTOS!$N$9=\"NICARAGUA\",LOOKUP(5,GEfectos!$J$4:$P$4,GEfectos!J204:P204),IF(EFECTOS!$N$9=\"REPÚBLICA \nDOMINICANA\",LOOKUP(6,$J$4:$P$4,J204:P204),IF(EFECTOS!$N$9=\"PANAMÁ\",LOOKUP(7,GEfectos!$J$4:$P$4,GEfectos!J204:P204))))))))","v":168.54250555495034},{"$f":"IF(EFECTOS!$N$9=\"COSTA RICA\",LOOKUP(1,GEfectos!$Q$4:$W$4,GEfectos!Q204:W204),IF(EFECTOS!$N$9=\"EL SALVADOR\",LOOKUP(2,GEfectos!$Q$4:$W$4,GEfectos!Q204:W204),IF(EFECTOS!$N$9=\"GUATEMALA\",LOOKUP(3,GEfectos!$Q$4:$W$4,GEfectos!Q204:W204),IF(EFECTOS!$N$9=\"HONDURAS\",LOOKUP(4,GEfectos!$Q$4:$W$4,GEfectos!Q204:W204),IF(EFECTOS!$N$9=\"NICARAGUA\",LOOKUP(5,GEfectos!$Q$4:$W$4,GEfectos!Q204:W204),IF(EFECTOS!$N$9=\"REPÚBLICA \nDOMINICANA\",LOOKUP(6,$Q$4:$W$4,Q204:W204),IF(EFECTOS!$N$9=\"PANAMÁ\",LOOKUP(7,GEfectos!$Q$4:$W$4,GEfectos!Q204:W204))))))))","v":199.67394695747507},100]
[null,{"$f":"'ITCER GLOBAL'!B205","v":"Agosto"},{"$f":"'ITCER GLOBAL'!C205","v":84.422120684172796},{"$f":"'ITCER GLOBAL'!D205","v":102.25400150244472},{"$f":"'ITCER GLOBAL'!E205","v":70.865630532518722},{"$f":"'ITCER GLOBAL'!F205","v":85.392469801311393},{"$f":"'ITCER GLOBAL'!G205","v":113.36626519318646},{"$f":"'ITCER GLOBAL'!H205","v":127.05313246332513},{"$f":"'ITCER GLOBAL'!I205","v":105.3750602227904},{"$f":"'ITCER GLOBAL'!S205","v":168.53083406104057},{"$f":"'ITCER GLOBAL'!T205","v":97.696478441272873},{"$f":"'ITCER GLOBAL'!U205","v":100.6423151095626},{"$f":"'ITCER GLOBAL'!V205","v":128.01614053266238},{"$f":"'ITCER GLOBAL'!W205","v":174.96996495762562},{"$f":"'ITCER GLOBAL'!X205","v":239.71046372751817},{"$f":"'ITCER GLOBAL'!Y205","v":103.88853689719369},{"$f":"'ITCER GLOBAL'!AA205","v":199.62876162697037},{"$f":"'ITCER GLOBAL'!AB205","v":95.542939157189963},{"$f":"'ITCER GLOBAL'!AC205","v":142.01851356332742},{"$f":"'ITCER GLOBAL'!AD205","v":149.91502275379369},{"$f":"'ITCER GLOBAL'!AE205","v":154.34041569549888},{"$f":"'ITCER GLOBAL'!AF205","v":188.66946377470265},{"$f":"'ITCER GLOBAL'!AG205","v":98.589302513845482},null,{"$f":"IF(EFECTOS!$N$9=\"COSTA RICA\",LOOKUP(1,GEfectos!$C$4:$I$4,GEfectos!C205:I205),IF(EFECTOS!$N$9=\"EL SALVADOR\",LOOKUP(2,GEfectos!$C$4:$I$4,GEfectos!C205:I205),IF(EFECTOS!$N$9=\"GUATEMALA\",LOOKUP(3,GEfectos!$C$4:$I$4,GEfectos!C205:I205),IF(EFECTOS!$N$9=\"HONDURAS\",LOOKUP(4,GEfectos!$C$4:$I$4,GEfectos!C205:I205),IF(EFECTOS!$N$9=\"NICARAGUA\",LOOKUP(5,GEfectos!$C$4:$I$4,GEfectos!C205:I205),IF(EFECTOS!$N$9=\"REPÚBLICA \nDOMINICANA\",LOOKUP(6,$C$4:$I$4,C205:I205),IF(EFECTOS!$N$9=\"PANAMÁ\",LOOKUP(7,GEfectos!$C$4:$I$4,GEfectos!C205:I205))))))))","v":84.422120684172796},{"$f":"IF(EFECTOS!$N$9=\"COSTA RICA\",LOOKUP(1,GEfectos!$J$4:$P$4,GEfectos!J205:P205),IF(EFECTOS!$N$9=\"EL SALVADOR\",LOOKUP(2,GEfectos!$J$4:$P$4,GEfectos!J205:P205),IF(EFECTOS!$N$9=\"GUATEMALA\",LOOKUP(3,GEfectos!$J$4:$P$4,GEfectos!J205:P205),IF(EFECTOS!$N$9=\"HONDURAS\",LOOKUP(4,GEfectos!$J$4:$P$4,GEfectos!J205:P205),IF(EFECTOS!$N$9=\"NICARAGUA\",LOOKUP(5,GEfectos!$J$4:$P$4,GEfectos!J205:P205),IF(EFECTOS!$N$9=\"REPÚBLICA \nDOMINICANA\",LOOKUP(6,$J$4:$P$4,J205:P205),IF(EFECTOS!$N$9=\"PANAMÁ\",LOOKUP(7,GEfectos!$J$4:$P$4,GEfectos!J205:P205))))))))","v":168.53083406104057},{"$f":"IF(EFECTOS!$N$9=\"COSTA RICA\",LOOKUP(1,GEfectos!$Q$4:$W$4,GEfectos!Q205:W205),IF(EFECTOS!$N$9=\"EL SALVADOR\",LOOKUP(2,GEfectos!$Q$4:$W$4,GEfectos!Q205:W205),IF(EFECTOS!$N$9=\"GUATEMALA\",LOOKUP(3,GEfectos!$Q$4:$W$4,GEfectos!Q205:W205),IF(EFECTOS!$N$9=\"HONDURAS\",LOOKUP(4,GEfectos!$Q$4:$W$4,GEfectos!Q205:W205),IF(EFECTOS!$N$9=\"NICARAGUA\",LOOKUP(5,GEfectos!$Q$4:$W$4,GEfectos!Q205:W205),IF(EFECTOS!$N$9=\"REPÚBLICA \nDOMINICANA\",LOOKUP(6,$Q$4:$W$4,Q205:W205),IF(EFECTOS!$N$9=\"PANAMÁ\",LOOKUP(7,GEfectos!$Q$4:$W$4,GEfectos!Q205:W205))))))))","v":199.62876162697037},100]
[null,{"$f":"'ITCER GLOBAL'!B206","v":"Septiembre"},{"$f":"'ITCER GLOBAL'!C206","v":84.700922771312179},{"$f":"'ITCER GLOBAL'!D206","v":101.68924007170456},{"$f":"'ITCER GLOBAL'!E206","v":70.341614558506237},{"$f":"'ITCER GLOBAL'!F206","v":85.063939608625461},{"$f":"'ITCER GLOBAL'!G206","v":112.10501892460748},{"$f":"'ITCER GLOBAL'!H206","v":126.05360496215819},{"$f":"'ITCER GLOBAL'!I206","v":103.22066025304233},{"$f":"'ITCER GLOBAL'!S206","v":168.37904765895252},{"$f":"'ITCER GLOBAL'!T206","v":96.739433763598754},{"$f":"'ITCER GLOBAL'!U206","v":99.657824867161764},{"$f":"'ITCER GLOBAL'!V206","v":127.01232068537753},{"$f":"'ITCER GLOBAL'!W206","v":173.21162612892965},{"$f":"'ITCER GLOBAL'!X206","v":237.67410212949324},{"$f":"'ITCER GLOBAL'!Y206","v":102.33191872876634},{"$f":"'ITCER GLOBAL'!AA206","v":198.79245957398444},{"$f":"'ITCER GLOBAL'!AB206","v":95.132418823647882},{"$f":"'ITCER GLOBAL'!AC206","v":141.67690845974533},{"$f":"'ITCER GLOBAL'!AD206","v":149.31394110095803},{"$f":"'ITCER GLOBAL'!AE206","v":154.50835992045762},{"$f":"'ITCER GLOBAL'!AF206","v":188.5500237782521},{"$f":"'ITCER GLOBAL'!AG206","v":99.138988723674842},null,{"$f":"IF(EFECTOS!$N$9=\"COSTA RICA\",LOOKUP(1,GEfectos!$C$4:$I$4,GEfectos!C206:I206),IF(EFECTOS!$N$9=\"EL SALVADOR\",LOOKUP(2,GEfectos!$C$4:$I$4,GEfectos!C206:I206),IF(EFECTOS!$N$9=\"GUATEMALA\",LOOKUP(3,GEfectos!$C$4:$I$4,GEfectos!C206:I206),IF(EFECTOS!$N$9=\"HONDURAS\",LOOKUP(4,GEfectos!$C$4:$I$4,GEfectos!C206:I206),IF(EFECTOS!$N$9=\"NICARAGUA\",LOOKUP(5,GEfectos!$C$4:$I$4,GEfectos!C206:I206),IF(EFECTOS!$N$9=\"REPÚBLICA \nDOMINICANA\",LOOKUP(6,$C$4:$I$4,C206:I206),IF(EFECTOS!$N$9=\"PANAMÁ\",LOOKUP(7,GEfectos!$C$4:$I$4,GEfectos!C206:I206))))))))","v":84.700922771312179},{"$f":"IF(EFECTOS!$N$9=\"COSTA RICA\",LOOKUP(1,GEfectos!$J$4:$P$4,GEfectos!J206:P206),IF(EFECTOS!$N$9=\"EL SALVADOR\",LOOKUP(2,GEfectos!$J$4:$P$4,GEfectos!J206:P206),IF(EFECTOS!$N$9=\"GUATEMALA\",LOOKUP(3,GEfectos!$J$4:$P$4,GEfectos!J206:P206),IF(EFECTOS!$N$9=\"HONDURAS\",LOOKUP(4,GEfectos!$J$4:$P$4,GEfectos!J206:P206),IF(EFECTOS!$N$9=\"NICARAGUA\",LOOKUP(5,GEfectos!$J$4:$P$4,GEfectos!J206:P206),IF(EFECTOS!$N$9=\"REPÚBLICA \nDOMINICANA\",LOOKUP(6,$J$4:$P$4,J206:P206),IF(EFECTOS!$N$9=\"PANAMÁ\",LOOKUP(7,GEfectos!$J$4:$P$4,GEfectos!J206:P206))))))))","v":168.37904765895252},{"$f":"IF(EFECTOS!$N$9=\"COSTA RICA\",LOOKUP(1,GEfectos!$Q$4:$W$4,GEfectos!Q206:W206),IF(EFECTOS!$N$9=\"EL SALVADOR\",LOOKUP(2,GEfectos!$Q$4:$W$4,GEfectos!Q206:W206),IF(EFECTOS!$N$9=\"GUATEMALA\",LOOKUP(3,GEfectos!$Q$4:$W$4,GEfectos!Q206:W206),IF(EFECTOS!$N$9=\"HONDURAS\",LOOKUP(4,GEfectos!$Q$4:$W$4,GEfectos!Q206:W206),IF(EFECTOS!$N$9=\"NICARAGUA\",LOOKUP(5,GEfectos!$Q$4:$W$4,GEfectos!Q206:W206),IF(EFECTOS!$N$9=\"REPÚBLICA \nDOMINICANA\",LOOKUP(6,$Q$4:$W$4,Q206:W206),IF(EFECTOS!$N$9=\"PANAMÁ\",LOOKUP(7,GEfectos!$Q$4:$W$4,GEfectos!Q206:W206))))))))","v":198.79245957398444},100]
[null,{"$f":"'ITCER GLOBAL'!B207","v":"Octubre"},{"$f":"'ITCER GLOBAL'!C207","v":84.901108974181284},{"$f":"'ITCER GLOBAL'!D207","v":101.44243465550747},{"$f":"'ITCER GLOBAL'!E207","v":69.93184056372364},{"$f":"'ITCER GLOBAL'!F207","v":84.993047923361701},{"$f":"'ITCER GLOBAL'!G207","v":111.38938890680005},{"$f":"'ITCER GLOBAL'!H207","v":126.05536345752533},{"$f":"'ITCER GLOBAL'!I207","v":102.39759105062492},{"$f":"'ITCER GLOBAL'!S207","v":169.13485037263698},{"$f":"'ITCER GLOBAL'!T207","v":96.414681230135812},{"$f":"'ITCER GLOBAL'!U207","v":98.999135897182924},{"$f":"'ITCER GLOBAL'!V207","v":126.97881355304814},{"$f":"'ITCER GLOBAL'!W207","v":172.74174440550169},{"$f":"'ITCER GLOBAL'!X207","v":237.73692747324918},{"$f":"'ITCER GLOBAL'!Y207","v":101.7093368158518},{"$f":"'ITCER GLOBAL'!AA207","v":199.21394716301228},{"$f":"'ITCER GLOBAL'!AB207","v":95.043737423647599},{"$f":"'ITCER GLOBAL'!AC207","v":141.56517989394609},{"$f":"'ITCER GLOBAL'!AD207","v":149.39905869424172},{"$f":"'ITCER GLOBAL'!AE207","v":155.07917414829828},{"$f":"'ITCER GLOBAL'!AF207","v":188.59723295578394},{"$f":"'ITCER GLOBAL'!AG207","v":99.327860911852056},null,{"$f":"IF(EFECTOS!$N$9=\"COSTA RICA\",LOOKUP(1,GEfectos!$C$4:$I$4,GEfectos!C207:I207),IF(EFECTOS!$N$9=\"EL SALVADOR\",LOOKUP(2,GEfectos!$C$4:$I$4,GEfectos!C207:I207),IF(EFECTOS!$N$9=\"GUATEMALA\",LOOKUP(3,GEfectos!$C$4:$I$4,GEfectos!C207:I207),IF(EFECTOS!$N$9=\"HONDURAS\",LOOKUP(4,GEfectos!$C$4:$I$4,GEfectos!C207:I207),IF(EFECTOS!$N$9=\"NICARAGUA\",LOOKUP(5,GEfectos!$C$4:$I$4,GEfectos!C207:I207),IF(EFECTOS!$N$9=\"REPÚBLICA \nDOMINICANA\",LOOKUP(6,$C$4:$I$4,C207:I207),IF(EFECTOS!$N$9=\"PANAMÁ\",LOOKUP(7,GEfectos!$C$4:$I$4,GEfectos!C207:I207))))))))","v":84.901108974181284},{"$f":"IF(EFECTOS!$N$9=\"COSTA RICA\",LOOKUP(1,GEfectos!$J$4:$P$4,GEfectos!J207:P207),IF(EFECTOS!$N$9=\"EL SALVADOR\",LOOKUP(2,GEfectos!$J$4:$P$4,GEfectos!J207:P207),IF(EFECTOS!$N$9=\"GUATEMALA\",LOOKUP(3,GEfectos!$J$4:$P$4,GEfectos!J207:P207),IF(EFECTOS!$N$9=\"HONDURAS\",LOOKUP(4,GEfectos!$J$4:$P$4,GEfectos!J207:P207),IF(EFECTOS!$N$9=\"NICARAGUA\",LOOKUP(5,GEfectos!$J$4:$P$4,GEfectos!J207:P207),IF(EFECTOS!$N$9=\"REPÚBLICA \nDOMINICANA\",LOOKUP(6,$J$4:$P$4,J207:P207),IF(EFECTOS!$N$9=\"PANAMÁ\",LOOKUP(7,GEfectos!$J$4:$P$4,GEfectos!J207:P207))))))))","v":169.13485037263698},{"$f":"IF(EFECTOS!$N$9=\"COSTA RICA\",LOOKUP(1,GEfectos!$Q$4:$W$4,GEfectos!Q207:W207),IF(EFECTOS!$N$9=\"EL SALVADOR\",LOOKUP(2,GEfectos!$Q$4:$W$4,GEfectos!Q207:W207),IF(EFECTOS!$N$9=\"GUATEMALA\",LOOKUP(3,GEfectos!$Q$4:$W$4,GEfectos!Q207:W207),IF(EFECTOS!$N$9=\"HONDURAS\",LOOKUP(4,GEfectos!$Q$4:$W$4,GEfectos!Q207:W207),IF(EFECTOS!$N$9=\"NICARAGUA\",LOOKUP(5,GEfectos!$Q$4:$W$4,GEfectos!Q207:W207),IF(EFECTOS!$N$9=\"REPÚBLICA \nDOMINICANA\",LOOKUP(6,$Q$4:$W$4,Q207:W207),IF(EFECTOS!$N$9=\"PANAMÁ\",LOOKUP(7,GEfectos!$Q$4:$W$4,GEfectos!Q207:W207))))))))","v":199.21394716301228},100]
[null,{"$f":"'ITCER GLOBAL'!B208","v":"Noviembre"},{"$f":"'ITCER GLOBAL'!C208","v":83.276525486812005},{"$f":"'ITCER GLOBAL'!D208","v":101.3576451576843},{"$f":"'ITCER GLOBAL'!E208","v":69.487642242865704},{"$f":"'ITCER GLOBAL'!F208","v":84.590447006823126},{"$f":"'ITCER GLOBAL'!G208","v":110.25054263727888},{"$f":"'ITCER GLOBAL'!H208","v":126.14406337902811},{"$f":"'ITCER GLOBAL'!I208","v":101.41317609657457},{"$f":"'ITCER GLOBAL'!S208","v":166.25717013073432},{"$f":"'ITCER GLOBAL'!T208","v":96.309565002922909},{"$f":"'ITCER GLOBAL'!U208","v":98.41747485806836},{"$f":"'ITCER GLOBAL'!V208","v":126.69590826172798},{"$f":"'ITCER GLOBAL'!W208","v":172.88197775022505},{"$f":"'ITCER GLOBAL'!X208","v":238.04477130931284},{"$f":"'ITCER GLOBAL'!Y208","v":101.54553892503928},{"$f":"'ITCER GLOBAL'!AA208","v":199.64470078313178},{"$f":"'ITCER GLOBAL'!AB208","v":95.019536861863756},{"$f":"'ITCER GLOBAL'!AC208","v":141.63306119106795},{"$f":"'ITCER GLOBAL'!AD208","v":149.77566941041059},{"$f":"'ITCER GLOBAL'!AE208","v":156.80827832204128},{"$f":"'ITCER GLOBAL'!AF208","v":188.7086597123909},{"$f":"'ITCER GLOBAL'!AG208","v":100.13051837400168},null,{"$f":"IF(EFECTOS!$N$9=\"COSTA RICA\",LOOKUP(1,GEfectos!$C$4:$I$4,GEfectos!C208:I208),IF(EFECTOS!$N$9=\"EL SALVADOR\",LOOKUP(2,GEfectos!$C$4:$I$4,GEfectos!C208:I208),IF(EFECTOS!$N$9=\"GUATEMALA\",LOOKUP(3,GEfectos!$C$4:$I$4,GEfectos!C208:I208),IF(EFECTOS!$N$9=\"HONDURAS\",LOOKUP(4,GEfectos!$C$4:$I$4,GEfectos!C208:I208),IF(EFECTOS!$N$9=\"NICARAGUA\",LOOKUP(5,GEfectos!$C$4:$I$4,GEfectos!C208:I208),IF(EFECTOS!$N$9=\"REPÚBLICA \nDOMINICANA\",LOOKUP(6,$C$4:$I$4,C208:I208),IF(EFECTOS!$N$9=\"PANAMÁ\",LOOKUP(7,GEfectos!$C$4:$I$4,GEfectos!C208:I208))))))))","v":83.276525486812005},{"$f":"IF(EFECTOS!$N$9=\"COSTA RICA\",LOOKUP(1,GEfectos!$J$4:$P$4,GEfectos!J208:P208),IF(EFECTOS!$N$9=\"EL SALVADOR\",LOOKUP(2,GEfectos!$J$4:$P$4,GEfectos!J208:P208),IF(EFECTOS!$N$9=\"GUATEMALA\",LOOKUP(3,GEfectos!$J$4:$P$4,GEfectos!J208:P208),IF(EFECTOS!$N$9=\"HONDURAS\",LOOKUP(4,GEfectos!$J$4:$P$4,GEfectos!J208:P208),IF(EFECTOS!$N$9=\"NICARAGUA\",LOOKUP(5,GEfectos!$J$4:$P$4,GEfectos!J208:P208),IF(EFECTOS!$N$9=\"REPÚBLICA \nDOMINICANA\",LOOKUP(6,$J$4:$P$4,J208:P208),IF(EFECTOS!$N$9=\"PANAMÁ\",LOOKUP(7,GEfectos!$J$4:$P$4,GEfectos!J208:P208))))))))","v":166.25717013073432},{"$f":"IF(EFECTOS!$N$9=\"COSTA RICA\",LOOKUP(1,GEfectos!$Q$4:$W$4,GEfectos!Q208:W208),IF(EFECTOS!$N$9=\"EL SALVADOR\",LOOKUP(2,GEfectos!$Q$4:$W$4,GEfectos!Q208:W208),IF(EFECTOS!$N$9=\"GUATEMALA\",LOOKUP(3,GEfectos!$Q$4:$W$4,GEfectos!Q208:W208),IF(EFECTOS!$N$9=\"HONDURAS\",LOOKUP(4,GEfectos!$Q$4:$W$4,GEfectos!Q208:W208),IF(EFECTOS!$N$9=\"NICARAGUA\",LOOKUP(5,GEfectos!$Q$4:$W$4,GEfectos!Q208:W208),IF(EFECTOS!$N$9=\"REPÚBLICA \nDOMINICANA\",LOOKUP(6,$Q$4:$W$4,Q208:W208),IF(EFECTOS!$N$9=\"PANAMÁ\",LOOKUP(7,GEfectos!$Q$4:$W$4,GEfectos!Q208:W208))))))))","v":199.64470078313178},100]
[null,{"$f":"'ITCER GLOBAL'!B209","v":"Diciembre"},{"$f":"'ITCER GLOBAL'!C209","v":81.806167948119509},{"$f":"'ITCER GLOBAL'!D209","v":101.41081694460543},{"$f":"'ITCER GLOBAL'!E209","v":69.0453650690703},{"$f":"'ITCER GLOBAL'!F209","v":84.346291992789205},{"$f":"'ITCER GLOBAL'!G209","v":109.12496197536315},{"$f":"'ITCER GLOBAL'!H209","v":125.91075119194169},{"$f":"'ITCER GLOBAL'!I209","v":100.84991040588602},{"$f":"'ITCER GLOBAL'!S209","v":164.70931661399985},{"$f":"'ITCER GLOBAL'!T209","v":96.080454637186676},{"$f":"'ITCER GLOBAL'!U209","v":97.905500156611282},{"$f":"'ITCER GLOBAL'!V209","v":126.41227133980779},{"$f":"'ITCER GLOBAL'!W209","v":172.92796769456919},{"$f":"'ITCER GLOBAL'!X209","v":237.82545938264624},{"$f":"'ITCER GLOBAL'!Y209","v":101.08775184659875},{"$f":"'ITCER GLOBAL'!AA209","v":201.34095111074822},{"$f":"'ITCER GLOBAL'!AB209","v":94.743793149472012},{"$f":"'ITCER GLOBAL'!AC209","v":141.79880149619083},{"$f":"'ITCER GLOBAL'!AD209","v":149.87294444504425},{"$f":"'ITCER GLOBAL'!AE209","v":158.46783775614114},{"$f":"'ITCER GLOBAL'!AF209","v":188.88415574623869},{"$f":"'ITCER GLOBAL'!AG209","v":100.2358370371927},null,{"$f":"IF(EFECTOS!$N$9=\"COSTA RICA\",LOOKUP(1,GEfectos!$C$4:$I$4,GEfectos!C209:I209),IF(EFECTOS!$N$9=\"EL SALVADOR\",LOOKUP(2,GEfectos!$C$4:$I$4,GEfectos!C209:I209),IF(EFECTOS!$N$9=\"GUATEMALA\",LOOKUP(3,GEfectos!$C$4:$I$4,GEfectos!C209:I209),IF(EFECTOS!$N$9=\"HONDURAS\",LOOKUP(4,GEfectos!$C$4:$I$4,GEfectos!C209:I209),IF(EFECTOS!$N$9=\"NICARAGUA\",LOOKUP(5,GEfectos!$C$4:$I$4,GEfectos!C209:I209),IF(EFECTOS!$N$9=\"REPÚBLICA \nDOMINICANA\",LOOKUP(6,$C$4:$I$4,C209:I209),IF(EFECTOS!$N$9=\"PANAMÁ\",LOOKUP(7,GEfectos!$C$4:$I$4,GEfectos!C209:I209))))))))","v":81.806167948119509},{"$f":"IF(EFECTOS!$N$9=\"COSTA RICA\",LOOKUP(1,GEfectos!$J$4:$P$4,GEfectos!J209:P209),IF(EFECTOS!$N$9=\"EL SALVADOR\",LOOKUP(2,GEfectos!$J$4:$P$4,GEfectos!J209:P209),IF(EFECTOS!$N$9=\"GUATEMALA\",LOOKUP(3,GEfectos!$J$4:$P$4,GEfectos!J209:P209),IF(EFECTOS!$N$9=\"HONDURAS\",LOOKUP(4,GEfectos!$J$4:$P$4,GEfectos!J209:P209),IF(EFECTOS!$N$9=\"NICARAGUA\",LOOKUP(5,GEfectos!$J$4:$P$4,GEfectos!J209:P209),IF(EFECTOS!$N$9=\"REPÚBLICA \nDOMINICANA\",LOOKUP(6,$J$4:$P$4,J209:P209),IF(EFECTOS!$N$9=\"PANAMÁ\",LOOKUP(7,GEfectos!$J$4:$P$4,GEfectos!J209:P209))))))))","v":164.70931661399985},{"$f":"IF(EFECTOS!$N$9=\"COSTA RICA\",LOOKUP(1,GEfectos!$Q$4:$W$4,GEfectos!Q209:W209),IF(EFECTOS!$N$9=\"EL SALVADOR\",LOOKUP(2,GEfectos!$Q$4:$W$4,GEfectos!Q209:W209),IF(EFECTOS!$N$9=\"GUATEMALA\",LOOKUP(3,GEfectos!$Q$4:$W$4,GEfectos!Q209:W209),IF(EFECTOS!$N$9=\"HONDURAS\",LOOKUP(4,GEfectos!$Q$4:$W$4,GEfectos!Q209:W209),IF(EFECTOS!$N$9=\"NICARAGUA\",LOOKUP(5,GEfectos!$Q$4:$W$4,GEfectos!Q209:W209),IF(EFECTOS!$N$9=\"REPÚBLICA \nDOMINICANA\",LOOKUP(6,$Q$4:$W$4,Q209:W209),IF(EFECTOS!$N$9=\"PANAMÁ\",LOOKUP(7,GEfectos!$Q$4:$W$4,GEfectos!Q209:W209))))))))","v":201.34095111074822},100]
[2012,{"$f":"'ITCER GLOBAL'!B210","v":"Enero"},{"$f":"'ITCER GLOBAL'!C210","v":82.392023843086633},{"$f":"'ITCER GLOBAL'!D210","v":101.23678579953912},{"$f":"'ITCER GLOBAL'!E210","v":69.397582852766433},{"$f":"'ITCER GLOBAL'!F210","v":84.449674138898871},{"$f":"'ITCER GLOBAL'!G210","v":110.5075649276673},{"$f":"'ITCER GLOBAL'!H210","v":134.40360596048404},{"$f":"'ITCER GLOBAL'!I210","v":101.06021888986436},{"$f":"'ITCER GLOBAL'!S210","v":165.20720672866528},{"$f":"'ITCER GLOBAL'!T210","v":96.715408598253532},{"$f":"'ITCER GLOBAL'!U210","v":98.62017708236327},{"$f":"'ITCER GLOBAL'!V210","v":128.12908699407797},{"$f":"'ITCER GLOBAL'!W210","v":176.31409320885172},{"$f":"'ITCER GLOBAL'!X210","v":238.05884664683524},{"$f":"'ITCER GLOBAL'!Y210","v":102.35409446746773},{"$f":"'ITCER GLOBAL'!AA210","v":200.51359224200863},{"$f":"'ITCER GLOBAL'!AB210","v":95.53385939154721},{"$f":"'ITCER GLOBAL'!AC210","v":142.10895110222404},{"$f":"'ITCER GLOBAL'!AD210","v":151.72241728646253},{"$f":"'ITCER GLOBAL'!AE210","v":159.54934245837202},{"$f":"'ITCER GLOBAL'!AF210","v":177.12236583654371},{"$f":"'ITCER GLOBAL'!AG210","v":101.28030157842171},null,{"$f":"IF(EFECTOS!$N$9=\"COSTA RICA\",LOOKUP(1,GEfectos!$C$4:$I$4,GEfectos!C210:I210),IF(EFECTOS!$N$9=\"EL SALVADOR\",LOOKUP(2,GEfectos!$C$4:$I$4,GEfectos!C210:I210),IF(EFECTOS!$N$9=\"GUATEMALA\",LOOKUP(3,GEfectos!$C$4:$I$4,GEfectos!C210:I210),IF(EFECTOS!$N$9=\"HONDURAS\",LOOKUP(4,GEfectos!$C$4:$I$4,GEfectos!C210:I210),IF(EFECTOS!$N$9=\"NICARAGUA\",LOOKUP(5,GEfectos!$C$4:$I$4,GEfectos!C210:I210),IF(EFECTOS!$N$9=\"REPÚBLICA \nDOMINICANA\",LOOKUP(6,$C$4:$I$4,C210:I210),IF(EFECTOS!$N$9=\"PANAMÁ\",LOOKUP(7,GEfectos!$C$4:$I$4,GEfectos!C210:I210))))))))","v":82.392023843086633},{"$f":"IF(EFECTOS!$N$9=\"COSTA RICA\",LOOKUP(1,GEfectos!$J$4:$P$4,GEfectos!J210:P210),IF(EFECTOS!$N$9=\"EL SALVADOR\",LOOKUP(2,GEfectos!$J$4:$P$4,GEfectos!J210:P210),IF(EFECTOS!$N$9=\"GUATEMALA\",LOOKUP(3,GEfectos!$J$4:$P$4,GEfectos!J210:P210),IF(EFECTOS!$N$9=\"HONDURAS\",LOOKUP(4,GEfectos!$J$4:$P$4,GEfectos!J210:P210),IF(EFECTOS!$N$9=\"NICARAGUA\",LOOKUP(5,GEfectos!$J$4:$P$4,GEfectos!J210:P210),IF(EFECTOS!$N$9=\"REPÚBLICA \nDOMINICANA\",LOOKUP(6,$J$4:$P$4,J210:P210),IF(EFECTOS!$N$9=\"PANAMÁ\",LOOKUP(7,GEfectos!$J$4:$P$4,GEfectos!J210:P210))))))))","v":165.20720672866528},{"$f":"IF(EFECTOS!$N$9=\"COSTA RICA\",LOOKUP(1,GEfectos!$Q$4:$W$4,GEfectos!Q210:W210),IF(EFECTOS!$N$9=\"EL SALVADOR\",LOOKUP(2,GEfectos!$Q$4:$W$4,GEfectos!Q210:W210),IF(EFECTOS!$N$9=\"GUATEMALA\",LOOKUP(3,GEfectos!$Q$4:$W$4,GEfectos!Q210:W210),IF(EFECTOS!$N$9=\"HONDURAS\",LOOKUP(4,GEfectos!$Q$4:$W$4,GEfectos!Q210:W210),IF(EFECTOS!$N$9=\"NICARAGUA\",LOOKUP(5,GEfectos!$Q$4:$W$4,GEfectos!Q210:W210),IF(EFECTOS!$N$9=\"REPÚBLICA \nDOMINICANA\",LOOKUP(6,$Q$4:$W$4,Q210:W210),IF(EFECTOS!$N$9=\"PANAMÁ\",LOOKUP(7,GEfectos!$Q$4:$W$4,GEfectos!Q210:W210))))))))","v":200.51359224200863},100]
[null,{"$f":"'ITCER GLOBAL'!B211","v":"Febrero"},{"$f":"'ITCER GLOBAL'!C211","v":83.236170833777038},{"$f":"'ITCER GLOBAL'!D211","v":101.89793006744236},{"$f":"'ITCER GLOBAL'!E211","v":69.646138029708013},{"$f":"'ITCER GLOBAL'!F211","v":84.924702378517452},{"$f":"'ITCER GLOBAL'!G211","v":110.91165186976475},{"$f":"'ITCER GLOBAL'!H211","v":135.62850408099246},{"$f":"'ITCER GLOBAL'!I211","v":101.66942865156598},{"$f":"'ITCER GLOBAL'!S211","v":166.67997618408361},{"$f":"'ITCER GLOBAL'!T211","v":97.204952698749707},{"$f":"'ITCER GLOBAL'!U211","v":99.053800800811501},{"$f":"'ITCER GLOBAL'!V211","v":129.55634028697156},{"$f":"'ITCER GLOBAL'!W211","v":178.47822921703323},{"$f":"'ITCER GLOBAL'!X211","v":240.1818471575572},{"$f":"'ITCER GLOBAL'!Y211","v":103.25414927083985},{"$f":"'ITCER GLOBAL'!AA211","v":200.24945226870682},{"$f":"'ITCER GLOBAL'!AB211","v":95.394433070832207},{"$f":"'ITCER GLOBAL'!AC211","v":142.22439837017157},{"$f":"'ITCER GLOBAL'!AD211","v":152.55436481782024},{"$f":"'ITCER GLOBAL'!AE211","v":160.91927782899387},{"$f":"'ITCER GLOBAL'!AF211","v":177.08803085679486},{"$f":"'ITCER GLOBAL'!AG211","v":101.55869924744528},null,{"$f":"IF(EFECTOS!$N$9=\"COSTA RICA\",LOOKUP(1,GEfectos!$C$4:$I$4,GEfectos!C211:I211),IF(EFECTOS!$N$9=\"EL SALVADOR\",LOOKUP(2,GEfectos!$C$4:$I$4,GEfectos!C211:I211),IF(EFECTOS!$N$9=\"GUATEMALA\",LOOKUP(3,GEfectos!$C$4:$I$4,GEfectos!C211:I211),IF(EFECTOS!$N$9=\"HONDURAS\",LOOKUP(4,GEfectos!$C$4:$I$4,GEfectos!C211:I211),IF(EFECTOS!$N$9=\"NICARAGUA\",LOOKUP(5,GEfectos!$C$4:$I$4,GEfectos!C211:I211),IF(EFECTOS!$N$9=\"REPÚBLICA \nDOMINICANA\",LOOKUP(6,$C$4:$I$4,C211:I211),IF(EFECTOS!$N$9=\"PANAMÁ\",LOOKUP(7,GEfectos!$C$4:$I$4,GEfectos!C211:I211))))))))","v":83.236170833777038},{"$f":"IF(EFECTOS!$N$9=\"COSTA RICA\",LOOKUP(1,GEfectos!$J$4:$P$4,GEfectos!J211:P211),IF(EFECTOS!$N$9=\"EL SALVADOR\",LOOKUP(2,GEfectos!$J$4:$P$4,GEfectos!J211:P211),IF(EFECTOS!$N$9=\"GUATEMALA\",LOOKUP(3,GEfectos!$J$4:$P$4,GEfectos!J211:P211),IF(EFECTOS!$N$9=\"HONDURAS\",LOOKUP(4,GEfectos!$J$4:$P$4,GEfectos!J211:P211),IF(EFECTOS!$N$9=\"NICARAGUA\",LOOKUP(5,GEfectos!$J$4:$P$4,GEfectos!J211:P211),IF(EFECTOS!$N$9=\"REPÚBLICA \nDOMINICANA\",LOOKUP(6,$J$4:$P$4,J211:P211),IF(EFECTOS!$N$9=\"PANAMÁ\",LOOKUP(7,GEfectos!$J$4:$P$4,GEfectos!J211:P211))))))))","v":166.67997618408361},{"$f":"IF(EFECTOS!$N$9=\"COSTA RICA\",LOOKUP(1,GEfectos!$Q$4:$W$4,GEfectos!Q211:W211),IF(EFECTOS!$N$9=\"EL SALVADOR\",LOOKUP(2,GEfectos!$Q$4:$W$4,GEfectos!Q211:W211),IF(EFECTOS!$N$9=\"GUATEMALA\",LOOKUP(3,GEfectos!$Q$4:$W$4,GEfectos!Q211:W211),IF(EFECTOS!$N$9=\"HONDURAS\",LOOKUP(4,GEfectos!$Q$4:$W$4,GEfectos!Q211:W211),IF(EFECTOS!$N$9=\"NICARAGUA\",LOOKUP(5,GEfectos!$Q$4:$W$4,GEfectos!Q211:W211),IF(EFECTOS!$N$9=\"REPÚBLICA \nDOMINICANA\",LOOKUP(6,$Q$4:$W$4,Q211:W211),IF(EFECTOS!$N$9=\"PANAMÁ\",LOOKUP(7,GEfectos!$Q$4:$W$4,GEfectos!Q211:W211))))))))","v":200.24945226870682},100]
[null,{"$f":"'ITCER GLOBAL'!B212","v":"Marzo"},{"$f":"'ITCER GLOBAL'!C212","v":82.968979091801714},{"$f":"'ITCER GLOBAL'!D212","v":102.29277498576224},{"$f":"'ITCER GLOBAL'!E212","v":69.158105265531987},{"$f":"'ITCER GLOBAL'!F212","v":85.107468170198587},{"$f":"'ITCER GLOBAL'!G212","v":111.01064767871937},{"$f":"'ITCER GLOBAL'!H212","v":136.21616375710789},{"$f":"'ITCER GLOBAL'!I212","v":101.06192779742589},{"$f":"'ITCER GLOBAL'!S212","v":165.75518254747936},{"$f":"'ITCER GLOBAL'!T212","v":97.146454606045722},{"$f":"'ITCER GLOBAL'!U212","v":98.132303005317581},{"$f":"'ITCER GLOBAL'!V212","v":130.02345306745286},{"$f":"'ITCER GLOBAL'!W212","v":178.46439858594206},{"$f":"'ITCER GLOBAL'!X212","v":240.07702867072487},{"$f":"'ITCER GLOBAL'!Y212","v":102.966465110587},{"$f":"'ITCER GLOBAL'!AA212","v":199.77970605625771},{"$f":"'ITCER GLOBAL'!AB212","v":94.969028476905805},{"$f":"'ITCER GLOBAL'!AC212","v":141.89559217757542},{"$f":"'ITCER GLOBAL'!AD212","v":152.77560931248823},{"$f":"'ITCER GLOBAL'!AE212","v":160.76331623831567},{"$f":"'ITCER GLOBAL'!AF212","v":176.24709289186498},{"$f":"'ITCER GLOBAL'!AG212","v":101.88452501814398},null,{"$f":"IF(EFECTOS!$N$9=\"COSTA RICA\",LOOKUP(1,GEfectos!$C$4:$I$4,GEfectos!C212:I212),IF(EFECTOS!$N$9=\"EL SALVADOR\",LOOKUP(2,GEfectos!$C$4:$I$4,GEfectos!C212:I212),IF(EFECTOS!$N$9=\"GUATEMALA\",LOOKUP(3,GEfectos!$C$4:$I$4,GEfectos!C212:I212),IF(EFECTOS!$N$9=\"HONDURAS\",LOOKUP(4,GEfectos!$C$4:$I$4,GEfectos!C212:I212),IF(EFECTOS!$N$9=\"NICARAGUA\",LOOKUP(5,GEfectos!$C$4:$I$4,GEfectos!C212:I212),IF(EFECTOS!$N$9=\"REPÚBLICA \nDOMINICANA\",LOOKUP(6,$C$4:$I$4,C212:I212),IF(EFECTOS!$N$9=\"PANAMÁ\",LOOKUP(7,GEfectos!$C$4:$I$4,GEfectos!C212:I212))))))))","v":82.968979091801714},{"$f":"IF(EFECTOS!$N$9=\"COSTA RICA\",LOOKUP(1,GEfectos!$J$4:$P$4,GEfectos!J212:P212),IF(EFECTOS!$N$9=\"EL SALVADOR\",LOOKUP(2,GEfectos!$J$4:$P$4,GEfectos!J212:P212),IF(EFECTOS!$N$9=\"GUATEMALA\",LOOKUP(3,GEfectos!$J$4:$P$4,GEfectos!J212:P212),IF(EFECTOS!$N$9=\"HONDURAS\",LOOKUP(4,GEfectos!$J$4:$P$4,GEfectos!J212:P212),IF(EFECTOS!$N$9=\"NICARAGUA\",LOOKUP(5,GEfectos!$J$4:$P$4,GEfectos!J212:P212),IF(EFECTOS!$N$9=\"REPÚBLICA \nDOMINICANA\",LOOKUP(6,$J$4:$P$4,J212:P212),IF(EFECTOS!$N$9=\"PANAMÁ\",LOOKUP(7,GEfectos!$J$4:$P$4,GEfectos!J212:P212))))))))","v":165.75518254747936},{"$f":"IF(EFECTOS!$N$9=\"COSTA RICA\",LOOKUP(1,GEfectos!$Q$4:$W$4,GEfectos!Q212:W212),IF(EFECTOS!$N$9=\"EL SALVADOR\",LOOKUP(2,GEfectos!$Q$4:$W$4,GEfectos!Q212:W212),IF(EFECTOS!$N$9=\"GUATEMALA\",LOOKUP(3,GEfectos!$Q$4:$W$4,GEfectos!Q212:W212),IF(EFECTOS!$N$9=\"HONDURAS\",LOOKUP(4,GEfectos!$Q$4:$W$4,GEfectos!Q212:W212),IF(EFECTOS!$N$9=\"NICARAGUA\",LOOKUP(5,GEfectos!$Q$4:$W$4,GEfectos!Q212:W212),IF(EFECTOS!$N$9=\"REPÚBLICA \nDOMINICANA\",LOOKUP(6,$Q$4:$W$4,Q212:W212),IF(EFECTOS!$N$9=\"PANAMÁ\",LOOKUP(7,GEfectos!$Q$4:$W$4,GEfectos!Q212:W212))))))))","v":199.77970605625771},100]
[null,{"$f":"'ITCER GLOBAL'!B213","v":"Abril"},{"$f":"'ITCER GLOBAL'!C213","v":81.919430467675767},{"$f":"'ITCER GLOBAL'!D213","v":101.79919522957356},{"$f":"'ITCER GLOBAL'!E213","v":69.153727663063137},{"$f":"'ITCER GLOBAL'!F213","v":84.551438796324589},{"$f":"'ITCER GLOBAL'!G213","v":110.22344540212937},{"$f":"'ITCER GLOBAL'!H213","v":136.38679103192104},{"$f":"'ITCER GLOBAL'!I213","v":100.39799723954341},{"$f":"'ITCER GLOBAL'!S213","v":164.21249916653332},{"$f":"'ITCER GLOBAL'!T213","v":96.919752809206699},{"$f":"'ITCER GLOBAL'!U213","v":98.176164165752766},{"$f":"'ITCER GLOBAL'!V213","v":130.19789958863853},{"$f":"'ITCER GLOBAL'!W213","v":178.51013667999834},{"$f":"'ITCER GLOBAL'!X213","v":239.72574403150762},{"$f":"'ITCER GLOBAL'!Y213","v":102.7412771261003},{"$f":"'ITCER GLOBAL'!AA213","v":200.45610452739808},{"$f":"'ITCER GLOBAL'!AB213","v":95.206796665373503},{"$f":"'ITCER GLOBAL'!AC213","v":141.96800011142611},{"$f":"'ITCER GLOBAL'!AD213","v":153.98661624466428},{"$f":"'ITCER GLOBAL'!AE213","v":161.952963844251},{"$f":"'ITCER GLOBAL'!AF213","v":175.76903321627407},{"$f":"'ITCER GLOBAL'!AG213","v":102.33399066812655},null,{"$f":"IF(EFECTOS!$N$9=\"COSTA RICA\",LOOKUP(1,GEfectos!$C$4:$I$4,GEfectos!C213:I213),IF(EFECTOS!$N$9=\"EL SALVADOR\",LOOKUP(2,GEfectos!$C$4:$I$4,GEfectos!C213:I213),IF(EFECTOS!$N$9=\"GUATEMALA\",LOOKUP(3,GEfectos!$C$4:$I$4,GEfectos!C213:I213),IF(EFECTOS!$N$9=\"HONDURAS\",LOOKUP(4,GEfectos!$C$4:$I$4,GEfectos!C213:I213),IF(EFECTOS!$N$9=\"NICARAGUA\",LOOKUP(5,GEfectos!$C$4:$I$4,GEfectos!C213:I213),IF(EFECTOS!$N$9=\"REPÚBLICA \nDOMINICANA\",LOOKUP(6,$C$4:$I$4,C213:I213),IF(EFECTOS!$N$9=\"PANAMÁ\",LOOKUP(7,GEfectos!$C$4:$I$4,GEfectos!C213:I213))))))))","v":81.919430467675767},{"$f":"IF(EFECTOS!$N$9=\"COSTA RICA\",LOOKUP(1,GEfectos!$J$4:$P$4,GEfectos!J213:P213),IF(EFECTOS!$N$9=\"EL SALVADOR\",LOOKUP(2,GEfectos!$J$4:$P$4,GEfectos!J213:P213),IF(EFECTOS!$N$9=\"GUATEMALA\",LOOKUP(3,GEfectos!$J$4:$P$4,GEfectos!J213:P213),IF(EFECTOS!$N$9=\"HONDURAS\",LOOKUP(4,GEfectos!$J$4:$P$4,GEfectos!J213:P213),IF(EFECTOS!$N$9=\"NICARAGUA\",LOOKUP(5,GEfectos!$J$4:$P$4,GEfectos!J213:P213),IF(EFECTOS!$N$9=\"REPÚBLICA \nDOMINICANA\",LOOKUP(6,$J$4:$P$4,J213:P213),IF(EFECTOS!$N$9=\"PANAMÁ\",LOOKUP(7,GEfectos!$J$4:$P$4,GEfectos!J213:P213))))))))","v":164.21249916653332},{"$f":"IF(EFECTOS!$N$9=\"COSTA RICA\",LOOKUP(1,GEfectos!$Q$4:$W$4,GEfectos!Q213:W213),IF(EFECTOS!$N$9=\"EL SALVADOR\",LOOKUP(2,GEfectos!$Q$4:$W$4,GEfectos!Q213:W213),IF(EFECTOS!$N$9=\"GUATEMALA\",LOOKUP(3,GEfectos!$Q$4:$W$4,GEfectos!Q213:W213),IF(EFECTOS!$N$9=\"HONDURAS\",LOOKUP(4,GEfectos!$Q$4:$W$4,GEfectos!Q213:W213),IF(EFECTOS!$N$9=\"NICARAGUA\",LOOKUP(5,GEfectos!$Q$4:$W$4,GEfectos!Q213:W213),IF(EFECTOS!$N$9=\"REPÚBLICA \nDOMINICANA\",LOOKUP(6,$Q$4:$W$4,Q213:W213),IF(EFECTOS!$N$9=\"PANAMÁ\",LOOKUP(7,GEfectos!$Q$4:$W$4,GEfectos!Q213:W213))))))))","v":200.45610452739808},100]
[null,{"$f":"'ITCER GLOBAL'!B214","v":"Mayo"},{"$f":"'ITCER GLOBAL'!C214","v":80.376820803135033},{"$f":"'ITCER GLOBAL'!D214","v":101.4077029444378},{"$f":"'ITCER GLOBAL'!E214","v":68.783085972492032},{"$f":"'ITCER GLOBAL'!F214","v":84.096216048718858},{"$f":"'ITCER GLOBAL'!G214","v":109.99862399972434},{"$f":"'ITCER GLOBAL'!H214","v":135.67659973173409},{"$f":"'ITCER GLOBAL'!I214","v":99.098954629446624},{"$f":"'ITCER GLOBAL'!S214","v":162.8893913133175},{"$f":"'ITCER GLOBAL'!T214","v":96.313988087418679},{"$f":"'ITCER GLOBAL'!U214","v":97.853527514998845},{"$f":"'ITCER GLOBAL'!V214","v":129.73562498877999},{"$f":"'ITCER GLOBAL'!W214","v":177.63082443204578},{"$f":"'ITCER GLOBAL'!X214","v":237.99394392429224},{"$f":"'ITCER GLOBAL'!Y214","v":101.83849106800926},{"$f":"'ITCER GLOBAL'!AA214","v":202.65717116664578},{"$f":"'ITCER GLOBAL'!AB214","v":94.97699414431068},{"$f":"'ITCER GLOBAL'!AC214","v":142.26393906509628},{"$f":"'ITCER GLOBAL'!AD214","v":154.27046671591165},{"$f":"'ITCER GLOBAL'!AE214","v":161.48458769128871},{"$f":"'ITCER GLOBAL'!AF214","v":175.41266835612382},{"$f":"'ITCER GLOBAL'!AG214","v":102.76444534536857},null,{"$f":"IF(EFECTOS!$N$9=\"COSTA RICA\",LOOKUP(1,GEfectos!$C$4:$I$4,GEfectos!C214:I214),IF(EFECTOS!$N$9=\"EL SALVADOR\",LOOKUP(2,GEfectos!$C$4:$I$4,GEfectos!C214:I214),IF(EFECTOS!$N$9=\"GUATEMALA\",LOOKUP(3,GEfectos!$C$4:$I$4,GEfectos!C214:I214),IF(EFECTOS!$N$9=\"HONDURAS\",LOOKUP(4,GEfectos!$C$4:$I$4,GEfectos!C214:I214),IF(EFECTOS!$N$9=\"NICARAGUA\",LOOKUP(5,GEfectos!$C$4:$I$4,GEfectos!C214:I214),IF(EFECTOS!$N$9=\"REPÚBLICA \nDOMINICANA\",LOOKUP(6,$C$4:$I$4,C214:I214),IF(EFECTOS!$N$9=\"PANAMÁ\",LOOKUP(7,GEfectos!$C$4:$I$4,GEfectos!C214:I214))))))))","v":80.376820803135033},{"$f":"IF(EFECTOS!$N$9=\"COSTA RICA\",LOOKUP(1,GEfectos!$J$4:$P$4,GEfectos!J214:P214),IF(EFECTOS!$N$9=\"EL SALVADOR\",LOOKUP(2,GEfectos!$J$4:$P$4,GEfectos!J214:P214),IF(EFECTOS!$N$9=\"GUATEMALA\",LOOKUP(3,GEfectos!$J$4:$P$4,GEfectos!J214:P214),IF(EFECTOS!$N$9=\"HONDURAS\",LOOKUP(4,GEfectos!$J$4:$P$4,GEfectos!J214:P214),IF(EFECTOS!$N$9=\"NICARAGUA\",LOOKUP(5,GEfectos!$J$4:$P$4,GEfectos!J214:P214),IF(EFECTOS!$N$9=\"REPÚBLICA \nDOMINICANA\",LOOKUP(6,$J$4:$P$4,J214:P214),IF(EFECTOS!$N$9=\"PANAMÁ\",LOOKUP(7,GEfectos!$J$4:$P$4,GEfectos!J214:P214))))))))","v":162.8893913133175},{"$f":"IF(EFECTOS!$N$9=\"COSTA RICA\",LOOKUP(1,GEfectos!$Q$4:$W$4,GEfectos!Q214:W214),IF(EFECTOS!$N$9=\"EL SALVADOR\",LOOKUP(2,GEfectos!$Q$4:$W$4,GEfectos!Q214:W214),IF(EFECTOS!$N$9=\"GUATEMALA\",LOOKUP(3,GEfectos!$Q$4:$W$4,GEfectos!Q214:W214),IF(EFECTOS!$N$9=\"HONDURAS\",LOOKUP(4,GEfectos!$Q$4:$W$4,GEfectos!Q214:W214),IF(EFECTOS!$N$9=\"NICARAGUA\",LOOKUP(5,GEfectos!$Q$4:$W$4,GEfectos!Q214:W214),IF(EFECTOS!$N$9=\"REPÚBLICA \nDOMINICANA\",LOOKUP(6,$Q$4:$W$4,Q214:W214),IF(EFECTOS!$N$9=\"PANAMÁ\",LOOKUP(7,GEfectos!$Q$4:$W$4,GEfectos!Q214:W214))))))))","v":202.65717116664578},100]
[null,{"$f":"'ITCER GLOBAL'!B215","v":"Junio"},{"$f":"'ITCER GLOBAL'!C215","v":78.97131331800675},{"$f":"'ITCER GLOBAL'!D215","v":101.40628701035116},{"$f":"'ITCER GLOBAL'!E215","v":68.873248635534082},{"$f":"'ITCER GLOBAL'!F215","v":83.909515252734039},{"$f":"'ITCER GLOBAL'!G215","v":110.2601329696395},{"$f":"'ITCER GLOBAL'!H215","v":134.7697691341111},{"$f":"'ITCER GLOBAL'!I215","v":98.613297207084202},{"$f":"'ITCER GLOBAL'!S215","v":160.51495628677003},{"$f":"'ITCER GLOBAL'!T215","v":95.862441728318743},{"$f":"'ITCER GLOBAL'!U215","v":98.220719874910799},{"$f":"'ITCER GLOBAL'!V215","v":129.59967754599722},{"$f":"'ITCER GLOBAL'!W215","v":177.67597385889974},{"$f":"'ITCER GLOBAL'!X215","v":237.07649137699502},{"$f":"'ITCER GLOBAL'!Y215","v":101.35083471449553},{"$f":"'ITCER GLOBAL'!AA215","v":203.25729627972385},{"$f":"'ITCER GLOBAL'!AB215","v":94.533035923634074},{"$f":"'ITCER GLOBAL'!AC215","v":142.6108421205434},{"$f":"'ITCER GLOBAL'!AD215","v":154.45170569231058},{"$f":"'ITCER GLOBAL'!AE215","v":161.14253545098066},{"$f":"'ITCER GLOBAL'!AF215","v":175.91221896438597},{"$f":"'ITCER GLOBAL'!AG215","v":102.7760328322281},null,{"$f":"IF(EFECTOS!$N$9=\"COSTA RICA\",LOOKUP(1,GEfectos!$C$4:$I$4,GEfectos!C215:I215),IF(EFECTOS!$N$9=\"EL SALVADOR\",LOOKUP(2,GEfectos!$C$4:$I$4,GEfectos!C215:I215),IF(EFECTOS!$N$9=\"GUATEMALA\",LOOKUP(3,GEfectos!$C$4:$I$4,GEfectos!C215:I215),IF(EFECTOS!$N$9=\"HONDURAS\",LOOKUP(4,GEfectos!$C$4:$I$4,GEfectos!C215:I215),IF(EFECTOS!$N$9=\"NICARAGUA\",LOOKUP(5,GEfectos!$C$4:$I$4,GEfectos!C215:I215),IF(EFECTOS!$N$9=\"REPÚBLICA \nDOMINICANA\",LOOKUP(6,$C$4:$I$4,C215:I215),IF(EFECTOS!$N$9=\"PANAMÁ\",LOOKUP(7,GEfectos!$C$4:$I$4,GEfectos!C215:I215))))))))","v":78.97131331800675},{"$f":"IF(EFECTOS!$N$9=\"COSTA RICA\",LOOKUP(1,GEfectos!$J$4:$P$4,GEfectos!J215:P215),IF(EFECTOS!$N$9=\"EL SALVADOR\",LOOKUP(2,GEfectos!$J$4:$P$4,GEfectos!J215:P215),IF(EFECTOS!$N$9=\"GUATEMALA\",LOOKUP(3,GEfectos!$J$4:$P$4,GEfectos!J215:P215),IF(EFECTOS!$N$9=\"HONDURAS\",LOOKUP(4,GEfectos!$J$4:$P$4,GEfectos!J215:P215),IF(EFECTOS!$N$9=\"NICARAGUA\",LOOKUP(5,GEfectos!$J$4:$P$4,GEfectos!J215:P215),IF(EFECTOS!$N$9=\"REPÚBLICA \nDOMINICANA\",LOOKUP(6,$J$4:$P$4,J215:P215),IF(EFECTOS!$N$9=\"PANAMÁ\",LOOKUP(7,GEfectos!$J$4:$P$4,GEfectos!J215:P215))))))))","v":160.51495628677003},{"$f":"IF(EFECTOS!$N$9=\"COSTA RICA\",LOOKUP(1,GEfectos!$Q$4:$W$4,GEfectos!Q215:W215),IF(EFECTOS!$N$9=\"EL SALVADOR\",LOOKUP(2,GEfectos!$Q$4:$W$4,GEfectos!Q215:W215),IF(EFECTOS!$N$9=\"GUATEMALA\",LOOKUP(3,GEfectos!$Q$4:$W$4,GEfectos!Q215:W215),IF(EFECTOS!$N$9=\"HONDURAS\",LOOKUP(4,GEfectos!$Q$4:$W$4,GEfectos!Q215:W215),IF(EFECTOS!$N$9=\"NICARAGUA\",LOOKUP(5,GEfectos!$Q$4:$W$4,GEfectos!Q215:W215),IF(EFECTOS!$N$9=\"REPÚBLICA \nDOMINICANA\",LOOKUP(6,$Q$4:$W$4,Q215:W215),IF(EFECTOS!$N$9=\"PANAMÁ\",LOOKUP(7,GEfectos!$Q$4:$W$4,GEfectos!Q215:W215))))))))","v":203.25729627972385},100]
[null,{"$f":"'ITCER GLOBAL'!B216","v":"Julio"},{"$f":"'ITCER GLOBAL'!C216","v":79.274331314135665},{"$f":"'ITCER GLOBAL'!D216","v":101.89509123113547},{"$f":"'ITCER GLOBAL'!E216","v":68.58353178841152},{"$f":"'ITCER GLOBAL'!F216","v":84.198595458139295},{"$f":"'ITCER GLOBAL'!G216","v":111.12323718004326},{"$f":"'ITCER GLOBAL'!H216","v":135.1360973421325},{"$f":"'ITCER GLOBAL'!I216","v":98.45520169029453},{"$f":"'ITCER GLOBAL'!S216","v":160.77841145385347},{"$f":"'ITCER GLOBAL'!T216","v":96.039201357602138},{"$f":"'ITCER GLOBAL'!U216","v":98.223370946259919},{"$f":"'ITCER GLOBAL'!V216","v":130.26769513370155},{"$f":"'ITCER GLOBAL'!W216","v":179.65760112277644},{"$f":"'ITCER GLOBAL'!X216","v":237.40339606307273},{"$f":"'ITCER GLOBAL'!Y216","v":101.58592303570228},{"$f":"'ITCER GLOBAL'!AA216","v":202.81269963255374},{"$f":"'ITCER GLOBAL'!AB216","v":94.253020628589439},{"$f":"'ITCER GLOBAL'!AC216","v":143.21713738699091},{"$f":"'ITCER GLOBAL'!AD216","v":154.71480780040596},{"$f":"'ITCER GLOBAL'!AE216","v":161.67419675840881},{"$f":"'ITCER GLOBAL'!AF216","v":175.6772622062806},{"$f":"'ITCER GLOBAL'!AG216","v":103.17984351426742},null,{"$f":"IF(EFECTOS!$N$9=\"COSTA RICA\",LOOKUP(1,GEfectos!$C$4:$I$4,GEfectos!C216:I216),IF(EFECTOS!$N$9=\"EL SALVADOR\",LOOKUP(2,GEfectos!$C$4:$I$4,GEfectos!C216:I216),IF(EFECTOS!$N$9=\"GUATEMALA\",LOOKUP(3,GEfectos!$C$4:$I$4,GEfectos!C216:I216),IF(EFECTOS!$N$9=\"HONDURAS\",LOOKUP(4,GEfectos!$C$4:$I$4,GEfectos!C216:I216),IF(EFECTOS!$N$9=\"NICARAGUA\",LOOKUP(5,GEfectos!$C$4:$I$4,GEfectos!C216:I216),IF(EFECTOS!$N$9=\"REPÚBLICA \nDOMINICANA\",LOOKUP(6,$C$4:$I$4,C216:I216),IF(EFECTOS!$N$9=\"PANAMÁ\",LOOKUP(7,GEfectos!$C$4:$I$4,GEfectos!C216:I216))))))))","v":79.274331314135665},{"$f":"IF(EFECTOS!$N$9=\"COSTA RICA\",LOOKUP(1,GEfectos!$J$4:$P$4,GEfectos!J216:P216),IF(EFECTOS!$N$9=\"EL SALVADOR\",LOOKUP(2,GEfectos!$J$4:$P$4,GEfectos!J216:P216),IF(EFECTOS!$N$9=\"GUATEMALA\",LOOKUP(3,GEfectos!$J$4:$P$4,GEfectos!J216:P216),IF(EFECTOS!$N$9=\"HONDURAS\",LOOKUP(4,GEfectos!$J$4:$P$4,GEfectos!J216:P216),IF(EFECTOS!$N$9=\"NICARAGUA\",LOOKUP(5,GEfectos!$J$4:$P$4,GEfectos!J216:P216),IF(EFECTOS!$N$9=\"REPÚBLICA \nDOMINICANA\",LOOKUP(6,$J$4:$P$4,J216:P216),IF(EFECTOS!$N$9=\"PANAMÁ\",LOOKUP(7,GEfectos!$J$4:$P$4,GEfectos!J216:P216))))))))","v":160.77841145385347},{"$f":"IF(EFECTOS!$N$9=\"COSTA RICA\",LOOKUP(1,GEfectos!$Q$4:$W$4,GEfectos!Q216:W216),IF(EFECTOS!$N$9=\"EL SALVADOR\",LOOKUP(2,GEfectos!$Q$4:$W$4,GEfectos!Q216:W216),IF(EFECTOS!$N$9=\"GUATEMALA\",LOOKUP(3,GEfectos!$Q$4:$W$4,GEfectos!Q216:W216),IF(EFECTOS!$N$9=\"HONDURAS\",LOOKUP(4,GEfectos!$Q$4:$W$4,GEfectos!Q216:W216),IF(EFECTOS!$N$9=\"NICARAGUA\",LOOKUP(5,GEfectos!$Q$4:$W$4,GEfectos!Q216:W216),IF(EFECTOS!$N$9=\"REPÚBLICA \nDOMINICANA\",LOOKUP(6,$Q$4:$W$4,Q216:W216),IF(EFECTOS!$N$9=\"PANAMÁ\",LOOKUP(7,GEfectos!$Q$4:$W$4,GEfectos!Q216:W216))))))))","v":202.81269963255374},100]
[null,{"$f":"'ITCER GLOBAL'!B217","v":"Agosto"},{"$f":"'ITCER GLOBAL'!C217","v":79.174983649805185},{"$f":"'ITCER GLOBAL'!D217","v":102.25312803575459},{"$f":"'ITCER GLOBAL'!E217","v":69.27382189878621},{"$f":"'ITCER GLOBAL'!F217","v":84.553596375405363},{"$f":"'ITCER GLOBAL'!G217","v":112.27589728472273},{"$f":"'ITCER GLOBAL'!H217","v":134.78243467494514},{"$f":"'ITCER GLOBAL'!I217","v":98.59485835813166},{"$f":"'ITCER GLOBAL'!S217","v":160.64225502093669},{"$f":"'ITCER GLOBAL'!T217","v":96.065992606812216},{"$f":"'ITCER GLOBAL'!U217","v":99.20218871555717},{"$f":"'ITCER GLOBAL'!V217","v":131.00167355860148},{"$f":"'ITCER GLOBAL'!W217","v":181.14260339076006},{"$f":"'ITCER GLOBAL'!X217","v":237.939445627076},{"$f":"'ITCER GLOBAL'!Y217","v":101.80326980333388},{"$f":"'ITCER GLOBAL'!AA217","v":202.89521717044519},{"$f":"'ITCER GLOBAL'!AB217","v":93.949196911825595},{"$f":"'ITCER GLOBAL'!AC217","v":143.20299645152878},{"$f":"'ITCER GLOBAL'!AD217","v":154.93329577251046},{"$f":"'ITCER GLOBAL'!AE217","v":161.3370347256249},{"$f":"'ITCER GLOBAL'!AF217","v":176.53594565264729},{"$f":"'ITCER GLOBAL'!AG217","v":103.25413667470175},null,{"$f":"IF(EFECTOS!$N$9=\"COSTA RICA\",LOOKUP(1,GEfectos!$C$4:$I$4,GEfectos!C217:I217),IF(EFECTOS!$N$9=\"EL SALVADOR\",LOOKUP(2,GEfectos!$C$4:$I$4,GEfectos!C217:I217),IF(EFECTOS!$N$9=\"GUATEMALA\",LOOKUP(3,GEfectos!$C$4:$I$4,GEfectos!C217:I217),IF(EFECTOS!$N$9=\"HONDURAS\",LOOKUP(4,GEfectos!$C$4:$I$4,GEfectos!C217:I217),IF(EFECTOS!$N$9=\"NICARAGUA\",LOOKUP(5,GEfectos!$C$4:$I$4,GEfectos!C217:I217),IF(EFECTOS!$N$9=\"REPÚBLICA \nDOMINICANA\",LOOKUP(6,$C$4:$I$4,C217:I217),IF(EFECTOS!$N$9=\"PANAMÁ\",LOOKUP(7,GEfectos!$C$4:$I$4,GEfectos!C217:I217))))))))","v":79.174983649805185},{"$f":"IF(EFECTOS!$N$9=\"COSTA RICA\",LOOKUP(1,GEfectos!$J$4:$P$4,GEfectos!J217:P217),IF(EFECTOS!$N$9=\"EL SALVADOR\",LOOKUP(2,GEfectos!$J$4:$P$4,GEfectos!J217:P217),IF(EFECTOS!$N$9=\"GUATEMALA\",LOOKUP(3,GEfectos!$J$4:$P$4,GEfectos!J217:P217),IF(EFECTOS!$N$9=\"HONDURAS\",LOOKUP(4,GEfectos!$J$4:$P$4,GEfectos!J217:P217),IF(EFECTOS!$N$9=\"NICARAGUA\",LOOKUP(5,GEfectos!$J$4:$P$4,GEfectos!J217:P217),IF(EFECTOS!$N$9=\"REPÚBLICA \nDOMINICANA\",LOOKUP(6,$J$4:$P$4,J217:P217),IF(EFECTOS!$N$9=\"PANAMÁ\",LOOKUP(7,GEfectos!$J$4:$P$4,GEfectos!J217:P217))))))))","v":160.64225502093669},{"$f":"IF(EFECTOS!$N$9=\"COSTA RICA\",LOOKUP(1,GEfectos!$Q$4:$W$4,GEfectos!Q217:W217),IF(EFECTOS!$N$9=\"EL SALVADOR\",LOOKUP(2,GEfectos!$Q$4:$W$4,GEfectos!Q217:W217),IF(EFECTOS!$N$9=\"GUATEMALA\",LOOKUP(3,GEfectos!$Q$4:$W$4,GEfectos!Q217:W217),IF(EFECTOS!$N$9=\"HONDURAS\",LOOKUP(4,GEfectos!$Q$4:$W$4,GEfectos!Q217:W217),IF(EFECTOS!$N$9=\"NICARAGUA\",LOOKUP(5,GEfectos!$Q$4:$W$4,GEfectos!Q217:W217),IF(EFECTOS!$N$9=\"REPÚBLICA \nDOMINICANA\",LOOKUP(6,$Q$4:$W$4,Q217:W217),IF(EFECTOS!$N$9=\"PANAMÁ\",LOOKUP(7,GEfectos!$Q$4:$W$4,GEfectos!Q217:W217))))))))","v":202.89521717044519},100]
[null,{"$f":"'ITCER GLOBAL'!B218","v":"Septiembre"},{"$f":"'ITCER GLOBAL'!C218","v":79.727387607598516},{"$f":"'ITCER GLOBAL'!D218","v":102.5340617863245},{"$f":"'ITCER GLOBAL'!E218","v":70.368558074650693},{"$f":"'ITCER GLOBAL'!F218","v":85.099219000380927},{"$f":"'ITCER GLOBAL'!G218","v":112.96528636262829},{"$f":"'ITCER GLOBAL'!H218","v":135.59801682484272},{"$f":"'ITCER GLOBAL'!I218","v":99.521957579848461},{"$f":"'ITCER GLOBAL'!S218","v":161.14474444511512},{"$f":"'ITCER GLOBAL'!T218","v":96.279772777325817},{"$f":"'ITCER GLOBAL'!U218","v":100.81895542372578},{"$f":"'ITCER GLOBAL'!V218","v":132.21596280985057},{"$f":"'ITCER GLOBAL'!W218","v":182.7080029841203},{"$f":"'ITCER GLOBAL'!X218","v":239.77202845072472},{"$f":"'ITCER GLOBAL'!Y218","v":102.42438955279457},{"$f":"'ITCER GLOBAL'!AA218","v":202.11968469133313},{"$f":"'ITCER GLOBAL'!AB218","v":93.900281623454759},{"$f":"'ITCER GLOBAL'!AC218","v":143.27273171744076},{"$f":"'ITCER GLOBAL'!AD218","v":155.3668345760714},{"$f":"'ITCER GLOBAL'!AE218","v":161.73818423972466},{"$f":"'ITCER GLOBAL'!AF218","v":176.82561593835672},{"$f":"'ITCER GLOBAL'!AG218","v":102.91637347528804},null,{"$f":"IF(EFECTOS!$N$9=\"COSTA RICA\",LOOKUP(1,GEfectos!$C$4:$I$4,GEfectos!C218:I218),IF(EFECTOS!$N$9=\"EL SALVADOR\",LOOKUP(2,GEfectos!$C$4:$I$4,GEfectos!C218:I218),IF(EFECTOS!$N$9=\"GUATEMALA\",LOOKUP(3,GEfectos!$C$4:$I$4,GEfectos!C218:I218),IF(EFECTOS!$N$9=\"HONDURAS\",LOOKUP(4,GEfectos!$C$4:$I$4,GEfectos!C218:I218),IF(EFECTOS!$N$9=\"NICARAGUA\",LOOKUP(5,GEfectos!$C$4:$I$4,GEfectos!C218:I218),IF(EFECTOS!$N$9=\"REPÚBLICA \nDOMINICANA\",LOOKUP(6,$C$4:$I$4,C218:I218),IF(EFECTOS!$N$9=\"PANAMÁ\",LOOKUP(7,GEfectos!$C$4:$I$4,GEfectos!C218:I218))))))))","v":79.727387607598516},{"$f":"IF(EFECTOS!$N$9=\"COSTA RICA\",LOOKUP(1,GEfectos!$J$4:$P$4,GEfectos!J218:P218),IF(EFECTOS!$N$9=\"EL SALVADOR\",LOOKUP(2,GEfectos!$J$4:$P$4,GEfectos!J218:P218),IF(EFECTOS!$N$9=\"GUATEMALA\",LOOKUP(3,GEfectos!$J$4:$P$4,GEfectos!J218:P218),IF(EFECTOS!$N$9=\"HONDURAS\",LOOKUP(4,GEfectos!$J$4:$P$4,GEfectos!J218:P218),IF(EFECTOS!$N$9=\"NICARAGUA\",LOOKUP(5,GEfectos!$J$4:$P$4,GEfectos!J218:P218),IF(EFECTOS!$N$9=\"REPÚBLICA \nDOMINICANA\",LOOKUP(6,$J$4:$P$4,J218:P218),IF(EFECTOS!$N$9=\"PANAMÁ\",LOOKUP(7,GEfectos!$J$4:$P$4,GEfectos!J218:P218))))))))","v":161.14474444511512},{"$f":"IF(EFECTOS!$N$9=\"COSTA RICA\",LOOKUP(1,GEfectos!$Q$4:$W$4,GEfectos!Q218:W218),IF(EFECTOS!$N$9=\"EL SALVADOR\",LOOKUP(2,GEfectos!$Q$4:$W$4,GEfectos!Q218:W218),IF(EFECTOS!$N$9=\"GUATEMALA\",LOOKUP(3,GEfectos!$Q$4:$W$4,GEfectos!Q218:W218),IF(EFECTOS!$N$9=\"HONDURAS\",LOOKUP(4,GEfectos!$Q$4:$W$4,GEfectos!Q218:W218),IF(EFECTOS!$N$9=\"NICARAGUA\",LOOKUP(5,GEfectos!$Q$4:$W$4,GEfectos!Q218:W218),IF(EFECTOS!$N$9=\"REPÚBLICA \nDOMINICANA\",LOOKUP(6,$Q$4:$W$4,Q218:W218),IF(EFECTOS!$N$9=\"PANAMÁ\",LOOKUP(7,GEfectos!$Q$4:$W$4,GEfectos!Q218:W218))))))))","v":202.11968469133313},100]
[null,{"$f":"'ITCER GLOBAL'!B219","v":"Octubre"},{"$f":"'ITCER GLOBAL'!C219","v":79.54548891461657},{"$f":"'ITCER GLOBAL'!D219","v":102.77843569792371},{"$f":"'ITCER GLOBAL'!E219","v":69.607233704561864},{"$f":"'ITCER GLOBAL'!F219","v":85.328841997104547},{"$f":"'ITCER GLOBAL'!G219","v":113.00846486828229},{"$f":"'ITCER GLOBAL'!H219","v":136.36914393192592},{"$f":"'ITCER GLOBAL'!I219","v":99.625414155053491},{"$f":"'ITCER GLOBAL'!S219","v":161.37751474040854},{"$f":"'ITCER GLOBAL'!T219","v":96.484837518618249},{"$f":"'ITCER GLOBAL'!U219","v":99.641732001794736},{"$f":"'ITCER GLOBAL'!V219","v":133.04702818520983},{"$f":"'ITCER GLOBAL'!W219","v":183.43561267409339},{"$f":"'ITCER GLOBAL'!X219","v":241.48903377365741},{"$f":"'ITCER GLOBAL'!Y219","v":102.57194652261114},{"$f":"'ITCER GLOBAL'!AA219","v":202.87450230349302},{"$f":"'ITCER GLOBAL'!AB219","v":93.876538267421211},{"$f":"'ITCER GLOBAL'!AC219","v":143.14853025866549},{"$f":"'ITCER GLOBAL'!AD219","v":155.92269280968856},{"$f":"'ITCER GLOBAL'!AE219","v":162.32024113228854},{"$f":"'ITCER GLOBAL'!AF219","v":177.08480585183275},{"$f":"'ITCER GLOBAL'!AG219","v":102.95761116031275},null,{"$f":"IF(EFECTOS!$N$9=\"COSTA RICA\",LOOKUP(1,GEfectos!$C$4:$I$4,GEfectos!C219:I219),IF(EFECTOS!$N$9=\"EL SALVADOR\",LOOKUP(2,GEfectos!$C$4:$I$4,GEfectos!C219:I219),IF(EFECTOS!$N$9=\"GUATEMALA\",LOOKUP(3,GEfectos!$C$4:$I$4,GEfectos!C219:I219),IF(EFECTOS!$N$9=\"HONDURAS\",LOOKUP(4,GEfectos!$C$4:$I$4,GEfectos!C219:I219),IF(EFECTOS!$N$9=\"NICARAGUA\",LOOKUP(5,GEfectos!$C$4:$I$4,GEfectos!C219:I219),IF(EFECTOS!$N$9=\"REPÚBLICA \nDOMINICANA\",LOOKUP(6,$C$4:$I$4,C219:I219),IF(EFECTOS!$N$9=\"PANAMÁ\",LOOKUP(7,GEfectos!$C$4:$I$4,GEfectos!C219:I219))))))))","v":79.54548891461657},{"$f":"IF(EFECTOS!$N$9=\"COSTA RICA\",LOOKUP(1,GEfectos!$J$4:$P$4,GEfectos!J219:P219),IF(EFECTOS!$N$9=\"EL SALVADOR\",LOOKUP(2,GEfectos!$J$4:$P$4,GEfectos!J219:P219),IF(EFECTOS!$N$9=\"GUATEMALA\",LOOKUP(3,GEfectos!$J$4:$P$4,GEfectos!J219:P219),IF(EFECTOS!$N$9=\"HONDURAS\",LOOKUP(4,GEfectos!$J$4:$P$4,GEfectos!J219:P219),IF(EFECTOS!$N$9=\"NICARAGUA\",LOOKUP(5,GEfectos!$J$4:$P$4,GEfectos!J219:P219),IF(EFECTOS!$N$9=\"REPÚBLICA \nDOMINICANA\",LOOKUP(6,$J$4:$P$4,J219:P219),IF(EFECTOS!$N$9=\"PANAMÁ\",LOOKUP(7,GEfectos!$J$4:$P$4,GEfectos!J219:P219))))))))","v":161.37751474040854},{"$f":"IF(EFECTOS!$N$9=\"COSTA RICA\",LOOKUP(1,GEfectos!$Q$4:$W$4,GEfectos!Q219:W219),IF(EFECTOS!$N$9=\"EL SALVADOR\",LOOKUP(2,GEfectos!$Q$4:$W$4,GEfectos!Q219:W219),IF(EFECTOS!$N$9=\"GUATEMALA\",LOOKUP(3,GEfectos!$Q$4:$W$4,GEfectos!Q219:W219),IF(EFECTOS!$N$9=\"HONDURAS\",LOOKUP(4,GEfectos!$Q$4:$W$4,GEfectos!Q219:W219),IF(EFECTOS!$N$9=\"NICARAGUA\",LOOKUP(5,GEfectos!$Q$4:$W$4,GEfectos!Q219:W219),IF(EFECTOS!$N$9=\"REPÚBLICA \nDOMINICANA\",LOOKUP(6,$Q$4:$W$4,Q219:W219),IF(EFECTOS!$N$9=\"PANAMÁ\",LOOKUP(7,GEfectos!$Q$4:$W$4,GEfectos!Q219:W219))))))))","v":202.87450230349302},100]
[null,{"$f":"'ITCER GLOBAL'!B220","v":"Noviembre"},{"$f":"'ITCER GLOBAL'!C220","v":78.962330853831446},{"$f":"'ITCER GLOBAL'!D220","v":102.63310179618865},{"$f":"'ITCER GLOBAL'!E220","v":69.3797321238184},{"$f":"'ITCER GLOBAL'!F220","v":85.289002550770505},{"$f":"'ITCER GLOBAL'!G220","v":112.15115371242007},{"$f":"'ITCER GLOBAL'!H220","v":136.82150929193361},{"$f":"'ITCER GLOBAL'!I220","v":99.11636126168581},{"$f":"'ITCER GLOBAL'!S220","v":161.77188206721917},{"$f":"'ITCER GLOBAL'!T220","v":96.305292178527651},{"$f":"'ITCER GLOBAL'!U220","v":99.405261393116135},{"$f":"'ITCER GLOBAL'!V220","v":133.38987933562311},{"$f":"'ITCER GLOBAL'!W220","v":183.84592535703246},{"$f":"'ITCER GLOBAL'!X220","v":244.20816213153077},{"$f":"'ITCER GLOBAL'!Y220","v":102.31533074595932},{"$f":"'ITCER GLOBAL'!AA220","v":204.87222238497233},{"$f":"'ITCER GLOBAL'!AB220","v":93.83453339427767},{"$f":"'ITCER GLOBAL'!AC220","v":143.277090225302},{"$f":"'ITCER GLOBAL'!AD220","v":156.39751356714399},{"$f":"'ITCER GLOBAL'!AE220","v":163.92691405427121},{"$f":"'ITCER GLOBAL'!AF220","v":178.48667464299652},{"$f":"'ITCER GLOBAL'!AG220","v":103.22748882581317},null,{"$f":"IF(EFECTOS!$N$9=\"COSTA RICA\",LOOKUP(1,GEfectos!$C$4:$I$4,GEfectos!C220:I220),IF(EFECTOS!$N$9=\"EL SALVADOR\",LOOKUP(2,GEfectos!$C$4:$I$4,GEfectos!C220:I220),IF(EFECTOS!$N$9=\"GUATEMALA\",LOOKUP(3,GEfectos!$C$4:$I$4,GEfectos!C220:I220),IF(EFECTOS!$N$9=\"HONDURAS\",LOOKUP(4,GEfectos!$C$4:$I$4,GEfectos!C220:I220),IF(EFECTOS!$N$9=\"NICARAGUA\",LOOKUP(5,GEfectos!$C$4:$I$4,GEfectos!C220:I220),IF(EFECTOS!$N$9=\"REPÚBLICA \nDOMINICANA\",LOOKUP(6,$C$4:$I$4,C220:I220),IF(EFECTOS!$N$9=\"PANAMÁ\",LOOKUP(7,GEfectos!$C$4:$I$4,GEfectos!C220:I220))))))))","v":78.962330853831446},{"$f":"IF(EFECTOS!$N$9=\"COSTA RICA\",LOOKUP(1,GEfectos!$J$4:$P$4,GEfectos!J220:P220),IF(EFECTOS!$N$9=\"EL SALVADOR\",LOOKUP(2,GEfectos!$J$4:$P$4,GEfectos!J220:P220),IF(EFECTOS!$N$9=\"GUATEMALA\",LOOKUP(3,GEfectos!$J$4:$P$4,GEfectos!J220:P220),IF(EFECTOS!$N$9=\"HONDURAS\",LOOKUP(4,GEfectos!$J$4:$P$4,GEfectos!J220:P220),IF(EFECTOS!$N$9=\"NICARAGUA\",LOOKUP(5,GEfectos!$J$4:$P$4,GEfectos!J220:P220),IF(EFECTOS!$N$9=\"REPÚBLICA \nDOMINICANA\",LOOKUP(6,$J$4:$P$4,J220:P220),IF(EFECTOS!$N$9=\"PANAMÁ\",LOOKUP(7,GEfectos!$J$4:$P$4,GEfectos!J220:P220))))))))","v":161.77188206721917},{"$f":"IF(EFECTOS!$N$9=\"COSTA RICA\",LOOKUP(1,GEfectos!$Q$4:$W$4,GEfectos!Q220:W220),IF(EFECTOS!$N$9=\"EL SALVADOR\",LOOKUP(2,GEfectos!$Q$4:$W$4,GEfectos!Q220:W220),IF(EFECTOS!$N$9=\"GUATEMALA\",LOOKUP(3,GEfectos!$Q$4:$W$4,GEfectos!Q220:W220),IF(EFECTOS!$N$9=\"HONDURAS\",LOOKUP(4,GEfectos!$Q$4:$W$4,GEfectos!Q220:W220),IF(EFECTOS!$N$9=\"NICARAGUA\",LOOKUP(5,GEfectos!$Q$4:$W$4,GEfectos!Q220:W220),IF(EFECTOS!$N$9=\"REPÚBLICA \nDOMINICANA\",LOOKUP(6,$Q$4:$W$4,Q220:W220),IF(EFECTOS!$N$9=\"PANAMÁ\",LOOKUP(7,GEfectos!$Q$4:$W$4,GEfectos!Q220:W220))))))))","v":204.87222238497233},100]
[null,{"$f":"'ITCER GLOBAL'!B221","v":"Diciembre"},{"$f":"'ITCER GLOBAL'!C221","v":78.886147899456574},{"$f":"'ITCER GLOBAL'!D221","v":102.84568579398892},{"$f":"'ITCER GLOBAL'!E221","v":69.324550362270131},{"$f":"'ITCER GLOBAL'!F221","v":85.736807336501442},{"$f":"'ITCER GLOBAL'!G221","v":111.01656849952478},{"$f":"'ITCER GLOBAL'!H221","v":137.02732347504048},{"$f":"'ITCER GLOBAL'!I221","v":98.972964919171162},{"$f":"'ITCER GLOBAL'!S221","v":161.93299077982911},{"$f":"'ITCER GLOBAL'!T221","v":96.345592908640143},{"$f":"'ITCER GLOBAL'!U221","v":99.812832262843088},{"$f":"'ITCER GLOBAL'!V221","v":134.14166383879552},{"$f":"'ITCER GLOBAL'!W221","v":184.79784919702828},{"$f":"'ITCER GLOBAL'!X221","v":246.04432638588781},{"$f":"'ITCER GLOBAL'!Y221","v":102.48757831867164},{"$f":"'ITCER GLOBAL'!AA221","v":205.27430365368951},{"$f":"'ITCER GLOBAL'!AB221","v":93.679761250881072},{"$f":"'ITCER GLOBAL'!AC221","v":143.97905466569921},{"$f":"'ITCER GLOBAL'!AD221","v":156.4574982507965},{"$f":"'ITCER GLOBAL'!AE221","v":166.45970209196236},{"$f":"'ITCER GLOBAL'!AF221","v":179.55858740151541},{"$f":"'ITCER GLOBAL'!AG221","v":103.55108428081425},null,{"$f":"IF(EFECTOS!$N$9=\"COSTA RICA\",LOOKUP(1,GEfectos!$C$4:$I$4,GEfectos!C221:I221),IF(EFECTOS!$N$9=\"EL SALVADOR\",LOOKUP(2,GEfectos!$C$4:$I$4,GEfectos!C221:I221),IF(EFECTOS!$N$9=\"GUATEMALA\",LOOKUP(3,GEfectos!$C$4:$I$4,GEfectos!C221:I221),IF(EFECTOS!$N$9=\"HONDURAS\",LOOKUP(4,GEfectos!$C$4:$I$4,GEfectos!C221:I221),IF(EFECTOS!$N$9=\"NICARAGUA\",LOOKUP(5,GEfectos!$C$4:$I$4,GEfectos!C221:I221),IF(EFECTOS!$N$9=\"REPÚBLICA \nDOMINICANA\",LOOKUP(6,$C$4:$I$4,C221:I221),IF(EFECTOS!$N$9=\"PANAMÁ\",LOOKUP(7,GEfectos!$C$4:$I$4,GEfectos!C221:I221))))))))","v":78.886147899456574},{"$f":"IF(EFECTOS!$N$9=\"COSTA RICA\",LOOKUP(1,GEfectos!$J$4:$P$4,GEfectos!J221:P221),IF(EFECTOS!$N$9=\"EL SALVADOR\",LOOKUP(2,GEfectos!$J$4:$P$4,GEfectos!J221:P221),IF(EFECTOS!$N$9=\"GUATEMALA\",LOOKUP(3,GEfectos!$J$4:$P$4,GEfectos!J221:P221),IF(EFECTOS!$N$9=\"HONDURAS\",LOOKUP(4,GEfectos!$J$4:$P$4,GEfectos!J221:P221),IF(EFECTOS!$N$9=\"NICARAGUA\",LOOKUP(5,GEfectos!$J$4:$P$4,GEfectos!J221:P221),IF(EFECTOS!$N$9=\"REPÚBLICA \nDOMINICANA\",LOOKUP(6,$J$4:$P$4,J221:P221),IF(EFECTOS!$N$9=\"PANAMÁ\",LOOKUP(7,GEfectos!$J$4:$P$4,GEfectos!J221:P221))))))))","v":161.93299077982911},{"$f":"IF(EFECTOS!$N$9=\"COSTA RICA\",LOOKUP(1,GEfectos!$Q$4:$W$4,GEfectos!Q221:W221),IF(EFECTOS!$N$9=\"EL SALVADOR\",LOOKUP(2,GEfectos!$Q$4:$W$4,GEfectos!Q221:W221),IF(EFECTOS!$N$9=\"GUATEMALA\",LOOKUP(3,GEfectos!$Q$4:$W$4,GEfectos!Q221:W221),IF(EFECTOS!$N$9=\"HONDURAS\",LOOKUP(4,GEfectos!$Q$4:$W$4,GEfectos!Q221:W221),IF(EFECTOS!$N$9=\"NICARAGUA\",LOOKUP(5,GEfectos!$Q$4:$W$4,GEfectos!Q221:W221),IF(EFECTOS!$N$9=\"REPÚBLICA \nDOMINICANA\",LOOKUP(6,$Q$4:$W$4,Q221:W221),IF(EFECTOS!$N$9=\"PANAMÁ\",LOOKUP(7,GEfectos!$Q$4:$W$4,GEfectos!Q221:W221))))))))","v":205.27430365368951},100]
[2013,{"$f":"'ITCER GLOBAL'!B222","v":"Enero"},{"$f":"'ITCER GLOBAL'!C222","v":78.176613685346467},{"$f":"'ITCER GLOBAL'!D222","v":103.11114901595468},{"$f":"'ITCER GLOBAL'!E222","v":69.159038795344685},{"$f":"'ITCER GLOBAL'!F222","v":86.168463323491281},{"$f":"'ITCER GLOBAL'!G222","v":111.32709273079205},{"$f":"'ITCER GLOBAL'!H222","v":139.97147477800718},{"$f":"'ITCER GLOBAL'!I222","v":98.49721720843948},{"$f":"'ITCER GLOBAL'!S222","v":162.11726912892544},{"$f":"'ITCER GLOBAL'!T222","v":96.536163689992733},{"$f":"'ITCER GLOBAL'!U222","v":99.783225605858689},{"$f":"'ITCER GLOBAL'!V222","v":134.84139133199037},{"$f":"'ITCER GLOBAL'!W222","v":187.67214568393965},{"$f":"'ITCER GLOBAL'!X222","v":248.41217817242938},{"$f":"'ITCER GLOBAL'!Y222","v":102.93342130268424},{"$f":"'ITCER GLOBAL'!AA222","v":207.37310237231844},{"$f":"'ITCER GLOBAL'!AB222","v":93.623400196088795},{"$f":"'ITCER GLOBAL'!AC222","v":144.28081613617715},{"$f":"'ITCER GLOBAL'!AD222","v":156.48577928768731},{"$f":"'ITCER GLOBAL'!AE222","v":168.57724483811231},{"$f":"'ITCER GLOBAL'!AF222","v":177.47343061606495},{"$f":"'ITCER GLOBAL'!AG222","v":104.50388774421604},null,{"$f":"IF(EFECTOS!$N$9=\"COSTA RICA\",LOOKUP(1,GEfectos!$C$4:$I$4,GEfectos!C222:I222),IF(EFECTOS!$N$9=\"EL SALVADOR\",LOOKUP(2,GEfectos!$C$4:$I$4,GEfectos!C222:I222),IF(EFECTOS!$N$9=\"GUATEMALA\",LOOKUP(3,GEfectos!$C$4:$I$4,GEfectos!C222:I222),IF(EFECTOS!$N$9=\"HONDURAS\",LOOKUP(4,GEfectos!$C$4:$I$4,GEfectos!C222:I222),IF(EFECTOS!$N$9=\"NICARAGUA\",LOOKUP(5,GEfectos!$C$4:$I$4,GEfectos!C222:I222),IF(EFECTOS!$N$9=\"REPÚBLICA \nDOMINICANA\",LOOKUP(6,$C$4:$I$4,C222:I222),IF(EFECTOS!$N$9=\"PANAMÁ\",LOOKUP(7,GEfectos!$C$4:$I$4,GEfectos!C222:I222))))))))","v":78.176613685346467},{"$f":"IF(EFECTOS!$N$9=\"COSTA RICA\",LOOKUP(1,GEfectos!$J$4:$P$4,GEfectos!J222:P222),IF(EFECTOS!$N$9=\"EL SALVADOR\",LOOKUP(2,GEfectos!$J$4:$P$4,GEfectos!J222:P222),IF(EFECTOS!$N$9=\"GUATEMALA\",LOOKUP(3,GEfectos!$J$4:$P$4,GEfectos!J222:P222),IF(EFECTOS!$N$9=\"HONDURAS\",LOOKUP(4,GEfectos!$J$4:$P$4,GEfectos!J222:P222),IF(EFECTOS!$N$9=\"NICARAGUA\",LOOKUP(5,GEfectos!$J$4:$P$4,GEfectos!J222:P222),IF(EFECTOS!$N$9=\"REPÚBLICA \nDOMINICANA\",LOOKUP(6,$J$4:$P$4,J222:P222),IF(EFECTOS!$N$9=\"PANAMÁ\",LOOKUP(7,GEfectos!$J$4:$P$4,GEfectos!J222:P222))))))))","v":162.11726912892544},{"$f":"IF(EFECTOS!$N$9=\"COSTA RICA\",LOOKUP(1,GEfectos!$Q$4:$W$4,GEfectos!Q222:W222),IF(EFECTOS!$N$9=\"EL SALVADOR\",LOOKUP(2,GEfectos!$Q$4:$W$4,GEfectos!Q222:W222),IF(EFECTOS!$N$9=\"GUATEMALA\",LOOKUP(3,GEfectos!$Q$4:$W$4,GEfectos!Q222:W222),IF(EFECTOS!$N$9=\"HONDURAS\",LOOKUP(4,GEfectos!$Q$4:$W$4,GEfectos!Q222:W222),IF(EFECTOS!$N$9=\"NICARAGUA\",LOOKUP(5,GEfectos!$Q$4:$W$4,GEfectos!Q222:W222),IF(EFECTOS!$N$9=\"REPÚBLICA \nDOMINICANA\",LOOKUP(6,$Q$4:$W$4,Q222:W222),IF(EFECTOS!$N$9=\"PANAMÁ\",LOOKUP(7,GEfectos!$Q$4:$W$4,GEfectos!Q222:W222))))))))","v":207.37310237231844},100]
[null,{"$f":"'ITCER GLOBAL'!B223","v":"Febrero"},{"$f":"'ITCER GLOBAL'!C223","v":77.981362348439575},{"$f":"'ITCER GLOBAL'!D223","v":103.39264519085046},{"$f":"'ITCER GLOBAL'!E223","v":68.480762909379067},{"$f":"'ITCER GLOBAL'!F223","v":86.15468463953178},{"$f":"'ITCER GLOBAL'!G223","v":111.83874566310951},{"$f":"'ITCER GLOBAL'!H223","v":141.02377366096772},{"$f":"'ITCER GLOBAL'!I223","v":98.29150297937197},{"$f":"'ITCER GLOBAL'!S223","v":162.20421274405584},{"$f":"'ITCER GLOBAL'!T223","v":96.463170150149111},{"$f":"'ITCER GLOBAL'!U223","v":98.913601634786531},{"$f":"'ITCER GLOBAL'!V223","v":135.31326917404419},{"$f":"'ITCER GLOBAL'!W223","v":188.26267239901259},{"$f":"'ITCER GLOBAL'!X223","v":249.28073236062573},{"$f":"'ITCER GLOBAL'!Y223","v":102.6594148948634},{"$f":"'ITCER GLOBAL'!AA223","v":208.00382021961633},{"$f":"'ITCER GLOBAL'!AB223","v":93.297903319998852},{"$f":"'ITCER GLOBAL'!AC223","v":144.43998202192839},{"$f":"'ITCER GLOBAL'!AD223","v":157.05851601708048},{"$f":"'ITCER GLOBAL'!AE223","v":168.33403422291047},{"$f":"'ITCER GLOBAL'!AF223","v":176.76504172971309},{"$f":"'ITCER GLOBAL'!AG223","v":104.44383469892419},null,{"$f":"IF(EFECTOS!$N$9=\"COSTA RICA\",LOOKUP(1,GEfectos!$C$4:$I$4,GEfectos!C223:I223),IF(EFECTOS!$N$9=\"EL SALVADOR\",LOOKUP(2,GEfectos!$C$4:$I$4,GEfectos!C223:I223),IF(EFECTOS!$N$9=\"GUATEMALA\",LOOKUP(3,GEfectos!$C$4:$I$4,GEfectos!C223:I223),IF(EFECTOS!$N$9=\"HONDURAS\",LOOKUP(4,GEfectos!$C$4:$I$4,GEfectos!C223:I223),IF(EFECTOS!$N$9=\"NICARAGUA\",LOOKUP(5,GEfectos!$C$4:$I$4,GEfectos!C223:I223),IF(EFECTOS!$N$9=\"REPÚBLICA \nDOMINICANA\",LOOKUP(6,$C$4:$I$4,C223:I223),IF(EFECTOS!$N$9=\"PANAMÁ\",LOOKUP(7,GEfectos!$C$4:$I$4,GEfectos!C223:I223))))))))","v":77.981362348439575},{"$f":"IF(EFECTOS!$N$9=\"COSTA RICA\",LOOKUP(1,GEfectos!$J$4:$P$4,GEfectos!J223:P223),IF(EFECTOS!$N$9=\"EL SALVADOR\",LOOKUP(2,GEfectos!$J$4:$P$4,GEfectos!J223:P223),IF(EFECTOS!$N$9=\"GUATEMALA\",LOOKUP(3,GEfectos!$J$4:$P$4,GEfectos!J223:P223),IF(EFECTOS!$N$9=\"HONDURAS\",LOOKUP(4,GEfectos!$J$4:$P$4,GEfectos!J223:P223),IF(EFECTOS!$N$9=\"NICARAGUA\",LOOKUP(5,GEfectos!$J$4:$P$4,GEfectos!J223:P223),IF(EFECTOS!$N$9=\"REPÚBLICA \nDOMINICANA\",LOOKUP(6,$J$4:$P$4,J223:P223),IF(EFECTOS!$N$9=\"PANAMÁ\",LOOKUP(7,GEfectos!$J$4:$P$4,GEfectos!J223:P223))))))))","v":162.20421274405584},{"$f":"IF(EFECTOS!$N$9=\"COSTA RICA\",LOOKUP(1,GEfectos!$Q$4:$W$4,GEfectos!Q223:W223),IF(EFECTOS!$N$9=\"EL SALVADOR\",LOOKUP(2,GEfectos!$Q$4:$W$4,GEfectos!Q223:W223),IF(EFECTOS!$N$9=\"GUATEMALA\",LOOKUP(3,GEfectos!$Q$4:$W$4,GEfectos!Q223:W223),IF(EFECTOS!$N$9=\"HONDURAS\",LOOKUP(4,GEfectos!$Q$4:$W$4,GEfectos!Q223:W223),IF(EFECTOS!$N$9=\"NICARAGUA\",LOOKUP(5,GEfectos!$Q$4:$W$4,GEfectos!Q223:W223),IF(EFECTOS!$N$9=\"REPÚBLICA \nDOMINICANA\",LOOKUP(6,$Q$4:$W$4,Q223:W223),IF(EFECTOS!$N$9=\"PANAMÁ\",LOOKUP(7,GEfectos!$Q$4:$W$4,GEfectos!Q223:W223))))))))","v":208.00382021961633},100]
[null,{"$f":"'ITCER GLOBAL'!B224","v":"Marzo"},{"$f":"'ITCER GLOBAL'!C224","v":77.447669135366382},{"$f":"'ITCER GLOBAL'!D224","v":103.12357148131507},{"$f":"'ITCER GLOBAL'!E224","v":68.124277741759798},{"$f":"'ITCER GLOBAL'!F224","v":86.032895897208618},{"$f":"'ITCER GLOBAL'!G224","v":112.03309573393039},{"$f":"'ITCER GLOBAL'!H224","v":141.30093709951302},{"$f":"'ITCER GLOBAL'!I224","v":97.7828171036914},{"$f":"'ITCER GLOBAL'!S224","v":160.80035341476787},{"$f":"'ITCER GLOBAL'!T224","v":96.350556970375706},{"$f":"'ITCER GLOBAL'!U224","v":98.562257166523963},{"$f":"'ITCER GLOBAL'!V224","v":135.37024275220179},{"$f":"'ITCER GLOBAL'!W224","v":188.34387315145261},{"$f":"'ITCER GLOBAL'!X224","v":250.0199847210225},{"$f":"'ITCER GLOBAL'!Y224","v":102.21692814123134},{"$f":"'ITCER GLOBAL'!AA224","v":207.62452273897884},{"$f":"'ITCER GLOBAL'!AB224","v":93.432137373009283},{"$f":"'ITCER GLOBAL'!AC224","v":144.68007652153918},{"$f":"'ITCER GLOBAL'!AD224","v":157.34707211755492},{"$f":"'ITCER GLOBAL'!AE224","v":168.1144950227513},{"$f":"'ITCER GLOBAL'!AF224","v":176.94149087273405},{"$f":"'ITCER GLOBAL'!AG224","v":104.53465257892691},null,{"$f":"IF(EFECTOS!$N$9=\"COSTA RICA\",LOOKUP(1,GEfectos!$C$4:$I$4,GEfectos!C224:I224),IF(EFECTOS!$N$9=\"EL SALVADOR\",LOOKUP(2,GEfectos!$C$4:$I$4,GEfectos!C224:I224),IF(EFECTOS!$N$9=\"GUATEMALA\",LOOKUP(3,GEfectos!$C$4:$I$4,GEfectos!C224:I224),IF(EFECTOS!$N$9=\"HONDURAS\",LOOKUP(4,GEfectos!$C$4:$I$4,GEfectos!C224:I224),IF(EFECTOS!$N$9=\"NICARAGUA\",LOOKUP(5,GEfectos!$C$4:$I$4,GEfectos!C224:I224),IF(EFECTOS!$N$9=\"REPÚBLICA \nDOMINICANA\",LOOKUP(6,$C$4:$I$4,C224:I224),IF(EFECTOS!$N$9=\"PANAMÁ\",LOOKUP(7,GEfectos!$C$4:$I$4,GEfectos!C224:I224))))))))","v":77.447669135366382},{"$f":"IF(EFECTOS!$N$9=\"COSTA RICA\",LOOKUP(1,GEfectos!$J$4:$P$4,GEfectos!J224:P224),IF(EFECTOS!$N$9=\"EL SALVADOR\",LOOKUP(2,GEfectos!$J$4:$P$4,GEfectos!J224:P224),IF(EFECTOS!$N$9=\"GUATEMALA\",LOOKUP(3,GEfectos!$J$4:$P$4,GEfectos!J224:P224),IF(EFECTOS!$N$9=\"HONDURAS\",LOOKUP(4,GEfectos!$J$4:$P$4,GEfectos!J224:P224),IF(EFECTOS!$N$9=\"NICARAGUA\",LOOKUP(5,GEfectos!$J$4:$P$4,GEfectos!J224:P224),IF(EFECTOS!$N$9=\"REPÚBLICA \nDOMINICANA\",LOOKUP(6,$J$4:$P$4,J224:P224),IF(EFECTOS!$N$9=\"PANAMÁ\",LOOKUP(7,GEfectos!$J$4:$P$4,GEfectos!J224:P224))))))))","v":160.80035341476787},{"$f":"IF(EFECTOS!$N$9=\"COSTA RICA\",LOOKUP(1,GEfectos!$Q$4:$W$4,GEfectos!Q224:W224),IF(EFECTOS!$N$9=\"EL SALVADOR\",LOOKUP(2,GEfectos!$Q$4:$W$4,GEfectos!Q224:W224),IF(EFECTOS!$N$9=\"GUATEMALA\",LOOKUP(3,GEfectos!$Q$4:$W$4,GEfectos!Q224:W224),IF(EFECTOS!$N$9=\"HONDURAS\",LOOKUP(4,GEfectos!$Q$4:$W$4,GEfectos!Q224:W224),IF(EFECTOS!$N$9=\"NICARAGUA\",LOOKUP(5,GEfectos!$Q$4:$W$4,GEfectos!Q224:W224),IF(EFECTOS!$N$9=\"REPÚBLICA \nDOMINICANA\",LOOKUP(6,$Q$4:$W$4,Q224:W224),IF(EFECTOS!$N$9=\"PANAMÁ\",LOOKUP(7,GEfectos!$Q$4:$W$4,GEfectos!Q224:W224))))))))","v":207.62452273897884},100]
[null,{"$f":"'ITCER GLOBAL'!B225","v":"Abril"},{"$f":"'ITCER GLOBAL'!C225","v":76.971951654378501},{"$f":"'ITCER GLOBAL'!D225","v":103.94409762235257},{"$f":"'ITCER GLOBAL'!E225","v":67.999552177722208},{"$f":"'ITCER GLOBAL'!F225","v":86.2219463375109},{"$f":"'ITCER GLOBAL'!G225","v":111.56937787594212},{"$f":"'ITCER GLOBAL'!H225","v":141.74098139530398},{"$f":"'ITCER GLOBAL'!I225","v":97.458727243207463},{"$f":"'ITCER GLOBAL'!S225","v":160.97453205967349},{"$f":"'ITCER GLOBAL'!T225","v":96.431679112669073},{"$f":"'ITCER GLOBAL'!U225","v":98.554253667936365},{"$f":"'ITCER GLOBAL'!V225","v":135.99643350111853},{"$f":"'ITCER GLOBAL'!W225","v":188.68620040703755},{"$f":"'ITCER GLOBAL'!X225","v":250.60075619345886},{"$f":"'ITCER GLOBAL'!Y225","v":102.18229833441551},{"$f":"'ITCER GLOBAL'!AA225","v":209.13401388402568},{"$f":"'ITCER GLOBAL'!AB225","v":92.772635790271181},{"$f":"'ITCER GLOBAL'!AC225","v":144.93368046065513},{"$f":"'ITCER GLOBAL'!AD225","v":157.72832704189747},{"$f":"'ITCER GLOBAL'!AE225","v":169.12006143553501},{"$f":"'ITCER GLOBAL'!AF225","v":176.80190564968214},{"$f":"'ITCER GLOBAL'!AG225","v":104.8467399737536},null,{"$f":"IF(EFECTOS!$N$9=\"COSTA RICA\",LOOKUP(1,GEfectos!$C$4:$I$4,GEfectos!C225:I225),IF(EFECTOS!$N$9=\"EL SALVADOR\",LOOKUP(2,GEfectos!$C$4:$I$4,GEfectos!C225:I225),IF(EFECTOS!$N$9=\"GUATEMALA\",LOOKUP(3,GEfectos!$C$4:$I$4,GEfectos!C225:I225),IF(EFECTOS!$N$9=\"HONDURAS\",LOOKUP(4,GEfectos!$C$4:$I$4,GEfectos!C225:I225),IF(EFECTOS!$N$9=\"NICARAGUA\",LOOKUP(5,GEfectos!$C$4:$I$4,GEfectos!C225:I225),IF(EFECTOS!$N$9=\"REPÚBLICA \nDOMINICANA\",LOOKUP(6,$C$4:$I$4,C225:I225),IF(EFECTOS!$N$9=\"PANAMÁ\",LOOKUP(7,GEfectos!$C$4:$I$4,GEfectos!C225:I225))))))))","v":76.971951654378501},{"$f":"IF(EFECTOS!$N$9=\"COSTA RICA\",LOOKUP(1,GEfectos!$J$4:$P$4,GEfectos!J225:P225),IF(EFECTOS!$N$9=\"EL SALVADOR\",LOOKUP(2,GEfectos!$J$4:$P$4,GEfectos!J225:P225),IF(EFECTOS!$N$9=\"GUATEMALA\",LOOKUP(3,GEfectos!$J$4:$P$4,GEfectos!J225:P225),IF(EFECTOS!$N$9=\"HONDURAS\",LOOKUP(4,GEfectos!$J$4:$P$4,GEfectos!J225:P225),IF(EFECTOS!$N$9=\"NICARAGUA\",LOOKUP(5,GEfectos!$J$4:$P$4,GEfectos!J225:P225),IF(EFECTOS!$N$9=\"REPÚBLICA \nDOMINICANA\",LOOKUP(6,$J$4:$P$4,J225:P225),IF(EFECTOS!$N$9=\"PANAMÁ\",LOOKUP(7,GEfectos!$J$4:$P$4,GEfectos!J225:P225))))))))","v":160.97453205967349},{"$f":"IF(EFECTOS!$N$9=\"COSTA RICA\",LOOKUP(1,GEfectos!$Q$4:$W$4,GEfectos!Q225:W225),IF(EFECTOS!$N$9=\"EL SALVADOR\",LOOKUP(2,GEfectos!$Q$4:$W$4,GEfectos!Q225:W225),IF(EFECTOS!$N$9=\"GUATEMALA\",LOOKUP(3,GEfectos!$Q$4:$W$4,GEfectos!Q225:W225),IF(EFECTOS!$N$9=\"HONDURAS\",LOOKUP(4,GEfectos!$Q$4:$W$4,GEfectos!Q225:W225),IF(EFECTOS!$N$9=\"NICARAGUA\",LOOKUP(5,GEfectos!$Q$4:$W$4,GEfectos!Q225:W225),IF(EFECTOS!$N$9=\"REPÚBLICA \nDOMINICANA\",LOOKUP(6,$Q$4:$W$4,Q225:W225),IF(EFECTOS!$N$9=\"PANAMÁ\",LOOKUP(7,GEfectos!$Q$4:$W$4,GEfectos!Q225:W225))))))))","v":209.13401388402568},100]
[null,{"$f":"'ITCER GLOBAL'!B226","v":"Mayo"},{"$f":"'ITCER GLOBAL'!C226","v":76.923947860958521},{"$f":"'ITCER GLOBAL'!D226","v":104.09058121983806},{"$f":"'ITCER GLOBAL'!E226","v":67.672534388439502},{"$f":"'ITCER GLOBAL'!F226","v":86.320531783874927},{"$f":"'ITCER GLOBAL'!G226","v":110.88625047966687},{"$f":"'ITCER GLOBAL'!H226","v":142.01516784737859},{"$f":"'ITCER GLOBAL'!I226","v":96.891230335518301},{"$f":"'ITCER GLOBAL'!S226","v":160.75691129975371},{"$f":"'ITCER GLOBAL'!T226","v":96.28661733550706},{"$f":"'ITCER GLOBAL'!U226","v":98.278810134615171},{"$f":"'ITCER GLOBAL'!V226","v":136.37446252924153},{"$f":"'ITCER GLOBAL'!W226","v":189.36317515983751},{"$f":"'ITCER GLOBAL'!X226","v":250.39564101823436},{"$f":"'ITCER GLOBAL'!Y226","v":101.90716519622751},{"$f":"'ITCER GLOBAL'!AA226","v":208.98161855957375},{"$f":"'ITCER GLOBAL'!AB226","v":92.502718504521454},{"$f":"'ITCER GLOBAL'!AC226","v":145.22702751236716},{"$f":"'ITCER GLOBAL'!AD226","v":157.98612417111741},{"$f":"'ITCER GLOBAL'!AE226","v":170.772457667834},{"$f":"'ITCER GLOBAL'!AF226","v":176.31612511089696},{"$f":"'ITCER GLOBAL'!AG226","v":105.17687188338908},null,{"$f":"IF(EFECTOS!$N$9=\"COSTA RICA\",LOOKUP(1,GEfectos!$C$4:$I$4,GEfectos!C226:I226),IF(EFECTOS!$N$9=\"EL SALVADOR\",LOOKUP(2,GEfectos!$C$4:$I$4,GEfectos!C226:I226),IF(EFECTOS!$N$9=\"GUATEMALA\",LOOKUP(3,GEfectos!$C$4:$I$4,GEfectos!C226:I226),IF(EFECTOS!$N$9=\"HONDURAS\",LOOKUP(4,GEfectos!$C$4:$I$4,GEfectos!C226:I226),IF(EFECTOS!$N$9=\"NICARAGUA\",LOOKUP(5,GEfectos!$C$4:$I$4,GEfectos!C226:I226),IF(EFECTOS!$N$9=\"REPÚBLICA \nDOMINICANA\",LOOKUP(6,$C$4:$I$4,C226:I226),IF(EFECTOS!$N$9=\"PANAMÁ\",LOOKUP(7,GEfectos!$C$4:$I$4,GEfectos!C226:I226))))))))","v":76.923947860958521},{"$f":"IF(EFECTOS!$N$9=\"COSTA RICA\",LOOKUP(1,GEfectos!$J$4:$P$4,GEfectos!J226:P226),IF(EFECTOS!$N$9=\"EL SALVADOR\",LOOKUP(2,GEfectos!$J$4:$P$4,GEfectos!J226:P226),IF(EFECTOS!$N$9=\"GUATEMALA\",LOOKUP(3,GEfectos!$J$4:$P$4,GEfectos!J226:P226),IF(EFECTOS!$N$9=\"HONDURAS\",LOOKUP(4,GEfectos!$J$4:$P$4,GEfectos!J226:P226),IF(EFECTOS!$N$9=\"NICARAGUA\",LOOKUP(5,GEfectos!$J$4:$P$4,GEfectos!J226:P226),IF(EFECTOS!$N$9=\"REPÚBLICA \nDOMINICANA\",LOOKUP(6,$J$4:$P$4,J226:P226),IF(EFECTOS!$N$9=\"PANAMÁ\",LOOKUP(7,GEfectos!$J$4:$P$4,GEfectos!J226:P226))))))))","v":160.75691129975371},{"$f":"IF(EFECTOS!$N$9=\"COSTA RICA\",LOOKUP(1,GEfectos!$Q$4:$W$4,GEfectos!Q226:W226),IF(EFECTOS!$N$9=\"EL SALVADOR\",LOOKUP(2,GEfectos!$Q$4:$W$4,GEfectos!Q226:W226),IF(EFECTOS!$N$9=\"GUATEMALA\",LOOKUP(3,GEfectos!$Q$4:$W$4,GEfectos!Q226:W226),IF(EFECTOS!$N$9=\"HONDURAS\",LOOKUP(4,GEfectos!$Q$4:$W$4,GEfectos!Q226:W226),IF(EFECTOS!$N$9=\"NICARAGUA\",LOOKUP(5,GEfectos!$Q$4:$W$4,GEfectos!Q226:W226),IF(EFECTOS!$N$9=\"REPÚBLICA \nDOMINICANA\",LOOKUP(6,$Q$4:$W$4,Q226:W226),IF(EFECTOS!$N$9=\"PANAMÁ\",LOOKUP(7,GEfectos!$Q$4:$W$4,GEfectos!Q226:W226))))))))","v":208.98161855957375},100]
[null,{"$f":"'ITCER GLOBAL'!B227","v":"Junio"},{"$f":"'ITCER GLOBAL'!C227","v":76.794551708013003},{"$f":"'ITCER GLOBAL'!D227","v":103.67261854830686},{"$f":"'ITCER GLOBAL'!E227","v":67.213942802354964},{"$f":"'ITCER GLOBAL'!F227","v":86.253197093073368},{"$f":"'ITCER GLOBAL'!G227","v":110.97328921098804},{"$f":"'ITCER GLOBAL'!H227","v":142.94423541014598},{"$f":"'ITCER GLOBAL'!I227","v":96.224885552081787},{"$f":"'ITCER GLOBAL'!S227","v":160.21566634488062},{"$f":"'ITCER GLOBAL'!T227","v":95.859875826092207},{"$f":"'ITCER GLOBAL'!U227","v":98.056639607296162},{"$f":"'ITCER GLOBAL'!V227","v":136.56332287220769},{"$f":"'ITCER GLOBAL'!W227","v":189.54557566370298},{"$f":"'ITCER GLOBAL'!X227","v":251.70472206935202},{"$f":"'ITCER GLOBAL'!Y227","v":101.40568438403818},{"$f":"'ITCER GLOBAL'!AA227","v":208.62894929584326},{"$f":"'ITCER GLOBAL'!AB227","v":92.464024897206329},{"$f":"'ITCER GLOBAL'!AC227","v":145.88734943824863},{"$f":"'ITCER GLOBAL'!AD227","v":158.32841851050009},{"$f":"'ITCER GLOBAL'!AE227","v":170.80288149640162},{"$f":"'ITCER GLOBAL'!AF227","v":176.08595502095105},{"$f":"'ITCER GLOBAL'!AG227","v":105.38405299443279},null,{"$f":"IF(EFECTOS!$N$9=\"COSTA RICA\",LOOKUP(1,GEfectos!$C$4:$I$4,GEfectos!C227:I227),IF(EFECTOS!$N$9=\"EL SALVADOR\",LOOKUP(2,GEfectos!$C$4:$I$4,GEfectos!C227:I227),IF(EFECTOS!$N$9=\"GUATEMALA\",LOOKUP(3,GEfectos!$C$4:$I$4,GEfectos!C227:I227),IF(EFECTOS!$N$9=\"HONDURAS\",LOOKUP(4,GEfectos!$C$4:$I$4,GEfectos!C227:I227),IF(EFECTOS!$N$9=\"NICARAGUA\",LOOKUP(5,GEfectos!$C$4:$I$4,GEfectos!C227:I227),IF(EFECTOS!$N$9=\"REPÚBLICA \nDOMINICANA\",LOOKUP(6,$C$4:$I$4,C227:I227),IF(EFECTOS!$N$9=\"PANAMÁ\",LOOKUP(7,GEfectos!$C$4:$I$4,GEfectos!C227:I227))))))))","v":76.794551708013003},{"$f":"IF(EFECTOS!$N$9=\"COSTA RICA\",LOOKUP(1,GEfectos!$J$4:$P$4,GEfectos!J227:P227),IF(EFECTOS!$N$9=\"EL SALVADOR\",LOOKUP(2,GEfectos!$J$4:$P$4,GEfectos!J227:P227),IF(EFECTOS!$N$9=\"GUATEMALA\",LOOKUP(3,GEfectos!$J$4:$P$4,GEfectos!J227:P227),IF(EFECTOS!$N$9=\"HONDURAS\",LOOKUP(4,GEfectos!$J$4:$P$4,GEfectos!J227:P227),IF(EFECTOS!$N$9=\"NICARAGUA\",LOOKUP(5,GEfectos!$J$4:$P$4,GEfectos!J227:P227),IF(EFECTOS!$N$9=\"REPÚBLICA \nDOMINICANA\",LOOKUP(6,$J$4:$P$4,J227:P227),IF(EFECTOS!$N$9=\"PANAMÁ\",LOOKUP(7,GEfectos!$J$4:$P$4,GEfectos!J227:P227))))))))","v":160.21566634488062},{"$f":"IF(EFECTOS!$N$9=\"COSTA RICA\",LOOKUP(1,GEfectos!$Q$4:$W$4,GEfectos!Q227:W227),IF(EFECTOS!$N$9=\"EL SALVADOR\",LOOKUP(2,GEfectos!$Q$4:$W$4,GEfectos!Q227:W227),IF(EFECTOS!$N$9=\"GUATEMALA\",LOOKUP(3,GEfectos!$Q$4:$W$4,GEfectos!Q227:W227),IF(EFECTOS!$N$9=\"HONDURAS\",LOOKUP(4,GEfectos!$Q$4:$W$4,GEfectos!Q227:W227),IF(EFECTOS!$N$9=\"NICARAGUA\",LOOKUP(5,GEfectos!$Q$4:$W$4,GEfectos!Q227:W227),IF(EFECTOS!$N$9=\"REPÚBLICA \nDOMINICANA\",LOOKUP(6,$Q$4:$W$4,Q227:W227),IF(EFECTOS!$N$9=\"PANAMÁ\",LOOKUP(7,GEfectos!$Q$4:$W$4,GEfectos!Q227:W227))))))))","v":208.62894929584326},100]
[null,{"$f":"'ITCER GLOBAL'!B228","v":"Julio"},{"$f":"'ITCER GLOBAL'!C228","v":76.390633844499035},{"$f":"'ITCER GLOBAL'!D228","v":103.78833717690915},{"$f":"'ITCER GLOBAL'!E228","v":67.073436686636981},{"$f":"'ITCER GLOBAL'!F228","v":86.145506364423454},{"$f":"'ITCER GLOBAL'!G228","v":111.91674472033321},{"$f":"'ITCER GLOBAL'!H228","v":143.44822583767521},{"$f":"'ITCER GLOBAL'!I228","v":95.849727396392311},{"$f":"'ITCER GLOBAL'!S228","v":159.90480311645535},{"$f":"'ITCER GLOBAL'!T228","v":95.768562626518104},{"$f":"'ITCER GLOBAL'!U228","v":98.119541708626045},{"$f":"'ITCER GLOBAL'!V228","v":136.96765036725412},{"$f":"'ITCER GLOBAL'!W228","v":190.43485116342848},{"$f":"'ITCER GLOBAL'!X228","v":254.15568346275413},{"$f":"'ITCER GLOBAL'!Y228","v":101.27072699053869},{"$f":"'ITCER GLOBAL'!AA228","v":209.32514245392696},{"$f":"'ITCER GLOBAL'!AB228","v":92.272952078689542},{"$f":"'ITCER GLOBAL'!AC228","v":146.2867366809227},{"$f":"'ITCER GLOBAL'!AD228","v":158.9956994249201},{"$f":"'ITCER GLOBAL'!AE228","v":170.15760388608763},{"$f":"'ITCER GLOBAL'!AF228","v":177.17589881547542},{"$f":"'ITCER GLOBAL'!AG228","v":105.65572771190837},null,{"$f":"IF(EFECTOS!$N$9=\"COSTA RICA\",LOOKUP(1,GEfectos!$C$4:$I$4,GEfectos!C228:I228),IF(EFECTOS!$N$9=\"EL SALVADOR\",LOOKUP(2,GEfectos!$C$4:$I$4,GEfectos!C228:I228),IF(EFECTOS!$N$9=\"GUATEMALA\",LOOKUP(3,GEfectos!$C$4:$I$4,GEfectos!C228:I228),IF(EFECTOS!$N$9=\"HONDURAS\",LOOKUP(4,GEfectos!$C$4:$I$4,GEfectos!C228:I228),IF(EFECTOS!$N$9=\"NICARAGUA\",LOOKUP(5,GEfectos!$C$4:$I$4,GEfectos!C228:I228),IF(EFECTOS!$N$9=\"REPÚBLICA \nDOMINICANA\",LOOKUP(6,$C$4:$I$4,C228:I228),IF(EFECTOS!$N$9=\"PANAMÁ\",LOOKUP(7,GEfectos!$C$4:$I$4,GEfectos!C228:I228))))))))","v":76.390633844499035},{"$f":"IF(EFECTOS!$N$9=\"COSTA RICA\",LOOKUP(1,GEfectos!$J$4:$P$4,GEfectos!J228:P228),IF(EFECTOS!$N$9=\"EL SALVADOR\",LOOKUP(2,GEfectos!$J$4:$P$4,GEfectos!J228:P228),IF(EFECTOS!$N$9=\"GUATEMALA\",LOOKUP(3,GEfectos!$J$4:$P$4,GEfectos!J228:P228),IF(EFECTOS!$N$9=\"HONDURAS\",LOOKUP(4,GEfectos!$J$4:$P$4,GEfectos!J228:P228),IF(EFECTOS!$N$9=\"NICARAGUA\",LOOKUP(5,GEfectos!$J$4:$P$4,GEfectos!J228:P228),IF(EFECTOS!$N$9=\"REPÚBLICA \nDOMINICANA\",LOOKUP(6,$J$4:$P$4,J228:P228),IF(EFECTOS!$N$9=\"PANAMÁ\",LOOKUP(7,GEfectos!$J$4:$P$4,GEfectos!J228:P228))))))))","v":159.90480311645535},{"$f":"IF(EFECTOS!$N$9=\"COSTA RICA\",LOOKUP(1,GEfectos!$Q$4:$W$4,GEfectos!Q228:W228),IF(EFECTOS!$N$9=\"EL SALVADOR\",LOOKUP(2,GEfectos!$Q$4:$W$4,GEfectos!Q228:W228),IF(EFECTOS!$N$9=\"GUATEMALA\",LOOKUP(3,GEfectos!$Q$4:$W$4,GEfectos!Q228:W228),IF(EFECTOS!$N$9=\"HONDURAS\",LOOKUP(4,GEfectos!$Q$4:$W$4,GEfectos!Q228:W228),IF(EFECTOS!$N$9=\"NICARAGUA\",LOOKUP(5,GEfectos!$Q$4:$W$4,GEfectos!Q228:W228),IF(EFECTOS!$N$9=\"REPÚBLICA \nDOMINICANA\",LOOKUP(6,$Q$4:$W$4,Q228:W228),IF(EFECTOS!$N$9=\"PANAMÁ\",LOOKUP(7,GEfectos!$Q$4:$W$4,GEfectos!Q228:W228))))))))","v":209.32514245392696},100]
[null,{"$f":"'ITCER GLOBAL'!B229","v":"Agosto"},{"$f":"'ITCER GLOBAL'!C229","v":76.582437098257572},{"$f":"'ITCER GLOBAL'!D229","v":103.78080378801194},{"$f":"'ITCER GLOBAL'!E229","v":67.770519129996046},{"$f":"'ITCER GLOBAL'!F229","v":86.0259423498443},{"$f":"'ITCER GLOBAL'!G229","v":111.98419070692559},{"$f":"'ITCER GLOBAL'!H229","v":144.43113199928473},{"$f":"'ITCER GLOBAL'!I229","v":95.825338034859584},{"$f":"'ITCER GLOBAL'!S229","v":160.05933360310806},{"$f":"'ITCER GLOBAL'!T229","v":95.646646995551706},{"$f":"'ITCER GLOBAL'!U229","v":99.084906908968662},{"$f":"'ITCER GLOBAL'!V229","v":137.07470021845614},{"$f":"'ITCER GLOBAL'!W229","v":191.17034423050191},{"$f":"'ITCER GLOBAL'!X229","v":257.10920473997743},{"$f":"'ITCER GLOBAL'!Y229","v":101.37069371008769},{"$f":"'ITCER GLOBAL'!AA229","v":209.00266388460204},{"$f":"'ITCER GLOBAL'!AB229","v":92.162175955896927},{"$f":"'ITCER GLOBAL'!AC229","v":146.20650421594968},{"$f":"'ITCER GLOBAL'!AD229","v":159.34112021814343},{"$f":"'ITCER GLOBAL'!AE229","v":170.71190408547471},{"$f":"'ITCER GLOBAL'!AF229","v":178.01508662360322},{"$f":"'ITCER GLOBAL'!AG229","v":105.78694089574807},null,{"$f":"IF(EFECTOS!$N$9=\"COSTA RICA\",LOOKUP(1,GEfectos!$C$4:$I$4,GEfectos!C229:I229),IF(EFECTOS!$N$9=\"EL SALVADOR\",LOOKUP(2,GEfectos!$C$4:$I$4,GEfectos!C229:I229),IF(EFECTOS!$N$9=\"GUATEMALA\",LOOKUP(3,GEfectos!$C$4:$I$4,GEfectos!C229:I229),IF(EFECTOS!$N$9=\"HONDURAS\",LOOKUP(4,GEfectos!$C$4:$I$4,GEfectos!C229:I229),IF(EFECTOS!$N$9=\"NICARAGUA\",LOOKUP(5,GEfectos!$C$4:$I$4,GEfectos!C229:I229),IF(EFECTOS!$N$9=\"REPÚBLICA \nDOMINICANA\",LOOKUP(6,$C$4:$I$4,C229:I229),IF(EFECTOS!$N$9=\"PANAMÁ\",LOOKUP(7,GEfectos!$C$4:$I$4,GEfectos!C229:I229))))))))","v":76.582437098257572},{"$f":"IF(EFECTOS!$N$9=\"COSTA RICA\",LOOKUP(1,GEfectos!$J$4:$P$4,GEfectos!J229:P229),IF(EFECTOS!$N$9=\"EL SALVADOR\",LOOKUP(2,GEfectos!$J$4:$P$4,GEfectos!J229:P229),IF(EFECTOS!$N$9=\"GUATEMALA\",LOOKUP(3,GEfectos!$J$4:$P$4,GEfectos!J229:P229),IF(EFECTOS!$N$9=\"HONDURAS\",LOOKUP(4,GEfectos!$J$4:$P$4,GEfectos!J229:P229),IF(EFECTOS!$N$9=\"NICARAGUA\",LOOKUP(5,GEfectos!$J$4:$P$4,GEfectos!J229:P229),IF(EFECTOS!$N$9=\"REPÚBLICA \nDOMINICANA\",LOOKUP(6,$J$4:$P$4,J229:P229),IF(EFECTOS!$N$9=\"PANAMÁ\",LOOKUP(7,GEfectos!$J$4:$P$4,GEfectos!J229:P229))))))))","v":160.05933360310806},{"$f":"IF(EFECTOS!$N$9=\"COSTA RICA\",LOOKUP(1,GEfectos!$Q$4:$W$4,GEfectos!Q229:W229),IF(EFECTOS!$N$9=\"EL SALVADOR\",LOOKUP(2,GEfectos!$Q$4:$W$4,GEfectos!Q229:W229),IF(EFECTOS!$N$9=\"GUATEMALA\",LOOKUP(3,GEfectos!$Q$4:$W$4,GEfectos!Q229:W229),IF(EFECTOS!$N$9=\"HONDURAS\",LOOKUP(4,GEfectos!$Q$4:$W$4,GEfectos!Q229:W229),IF(EFECTOS!$N$9=\"NICARAGUA\",LOOKUP(5,GEfectos!$Q$4:$W$4,GEfectos!Q229:W229),IF(EFECTOS!$N$9=\"REPÚBLICA \nDOMINICANA\",LOOKUP(6,$Q$4:$W$4,Q229:W229),IF(EFECTOS!$N$9=\"PANAMÁ\",LOOKUP(7,GEfectos!$Q$4:$W$4,GEfectos!Q229:W229))))))))","v":209.00266388460204},100]
[null,{"$f":"'ITCER GLOBAL'!B230","v":"Septiembre"},{"$f":"'ITCER GLOBAL'!C230","v":76.973903817577153},{"$f":"'ITCER GLOBAL'!D230","v":103.72116376069091},{"$f":"'ITCER GLOBAL'!E230","v":68.039978542766974},{"$f":"'ITCER GLOBAL'!F230","v":86.192026284505147},{"$f":"'ITCER GLOBAL'!G230","v":112.61349434093316},{"$f":"'ITCER GLOBAL'!H230","v":144.94882518489371},{"$f":"'ITCER GLOBAL'!I230","v":96.017289413024002},{"$f":"'ITCER GLOBAL'!S230","v":160.66346977433867},{"$f":"'ITCER GLOBAL'!T230","v":95.527420884825844},{"$f":"'ITCER GLOBAL'!U230","v":99.527382139531355},{"$f":"'ITCER GLOBAL'!V230","v":137.43162200777007},{"$f":"'ITCER GLOBAL'!W230","v":191.92306075642759},{"$f":"'ITCER GLOBAL'!X230","v":258.63061264781095},{"$f":"'ITCER GLOBAL'!Y230","v":101.42012642155962},{"$f":"'ITCER GLOBAL'!AA230","v":208.72459600736897},{"$f":"'ITCER GLOBAL'!AB230","v":92.100220843289065},{"$f":"'ITCER GLOBAL'!AC230","v":146.27779765828816},{"$f":"'ITCER GLOBAL'!AD230","v":159.44818555968482},{"$f":"'ITCER GLOBAL'!AE230","v":170.4263435564726},{"$f":"'ITCER GLOBAL'!AF230","v":178.42891263030737},{"$f":"'ITCER GLOBAL'!AG230","v":105.62694181596292},null,{"$f":"IF(EFECTOS!$N$9=\"COSTA RICA\",LOOKUP(1,GEfectos!$C$4:$I$4,GEfectos!C230:I230),IF(EFECTOS!$N$9=\"EL SALVADOR\",LOOKUP(2,GEfectos!$C$4:$I$4,GEfectos!C230:I230),IF(EFECTOS!$N$9=\"GUATEMALA\",LOOKUP(3,GEfectos!$C$4:$I$4,GEfectos!C230:I230),IF(EFECTOS!$N$9=\"HONDURAS\",LOOKUP(4,GEfectos!$C$4:$I$4,GEfectos!C230:I230),IF(EFECTOS!$N$9=\"NICARAGUA\",LOOKUP(5,GEfectos!$C$4:$I$4,GEfectos!C230:I230),IF(EFECTOS!$N$9=\"REPÚBLICA \nDOMINICANA\",LOOKUP(6,$C$4:$I$4,C230:I230),IF(EFECTOS!$N$9=\"PANAMÁ\",LOOKUP(7,GEfectos!$C$4:$I$4,GEfectos!C230:I230))))))))","v":76.973903817577153},{"$f":"IF(EFECTOS!$N$9=\"COSTA RICA\",LOOKUP(1,GEfectos!$J$4:$P$4,GEfectos!J230:P230),IF(EFECTOS!$N$9=\"EL SALVADOR\",LOOKUP(2,GEfectos!$J$4:$P$4,GEfectos!J230:P230),IF(EFECTOS!$N$9=\"GUATEMALA\",LOOKUP(3,GEfectos!$J$4:$P$4,GEfectos!J230:P230),IF(EFECTOS!$N$9=\"HONDURAS\",LOOKUP(4,GEfectos!$J$4:$P$4,GEfectos!J230:P230),IF(EFECTOS!$N$9=\"NICARAGUA\",LOOKUP(5,GEfectos!$J$4:$P$4,GEfectos!J230:P230),IF(EFECTOS!$N$9=\"REPÚBLICA \nDOMINICANA\",LOOKUP(6,$J$4:$P$4,J230:P230),IF(EFECTOS!$N$9=\"PANAMÁ\",LOOKUP(7,GEfectos!$J$4:$P$4,GEfectos!J230:P230))))))))","v":160.66346977433867},{"$f":"IF(EFECTOS!$N$9=\"COSTA RICA\",LOOKUP(1,GEfectos!$Q$4:$W$4,GEfectos!Q230:W230),IF(EFECTOS!$N$9=\"EL SALVADOR\",LOOKUP(2,GEfectos!$Q$4:$W$4,GEfectos!Q230:W230),IF(EFECTOS!$N$9=\"GUATEMALA\",LOOKUP(3,GEfectos!$Q$4:$W$4,GEfectos!Q230:W230),IF(EFECTOS!$N$9=\"HONDURAS\",LOOKUP(4,GEfectos!$Q$4:$W$4,GEfectos!Q230:W230),IF(EFECTOS!$N$9=\"NICARAGUA\",LOOKUP(5,GEfectos!$Q$4:$W$4,GEfectos!Q230:W230),IF(EFECTOS!$N$9=\"REPÚBLICA \nDOMINICANA\",LOOKUP(6,$Q$4:$W$4,Q230:W230),IF(EFECTOS!$N$9=\"PANAMÁ\",LOOKUP(7,GEfectos!$Q$4:$W$4,GEfectos!Q230:W230))))))))","v":208.72459600736897},100]
[null,{"$f":"'ITCER GLOBAL'!B231","v":"Octubre"},{"$f":"'ITCER GLOBAL'!C231","v":77.626422394654512},{"$f":"'ITCER GLOBAL'!D231","v":104.00162317601601},{"$f":"'ITCER GLOBAL'!E231","v":68.370450909433146},{"$f":"'ITCER GLOBAL'!F231","v":86.327071314477081},{"$f":"'ITCER GLOBAL'!G231","v":113.48874748673714},{"$f":"'ITCER GLOBAL'!H231","v":145.00569875385821},{"$f":"'ITCER GLOBAL'!I231","v":96.32113386626736},{"$f":"'ITCER GLOBAL'!S231","v":160.95825409139715},{"$f":"'ITCER GLOBAL'!T231","v":95.758889845950392},{"$f":"'ITCER GLOBAL'!U231","v":100.09054267764965},{"$f":"'ITCER GLOBAL'!V231","v":138.008519178288},{"$f":"'ITCER GLOBAL'!W231","v":193.65273351622398},{"$f":"'ITCER GLOBAL'!X231","v":258.65138610831008},{"$f":"'ITCER GLOBAL'!Y231","v":102.03772254322755},{"$f":"'ITCER GLOBAL'!AA231","v":207.34982899647454},{"$f":"'ITCER GLOBAL'!AB231","v":92.074418573145422},{"$f":"'ITCER GLOBAL'!AC231","v":146.39444576756483},{"$f":"'ITCER GLOBAL'!AD231","v":159.86702326034302},{"$f":"'ITCER GLOBAL'!AE231","v":170.63606551729299},{"$f":"'ITCER GLOBAL'!AF231","v":178.37325590034996},{"$f":"'ITCER GLOBAL'!AG231","v":105.93492668483029},null,{"$f":"IF(EFECTOS!$N$9=\"COSTA RICA\",LOOKUP(1,GEfectos!$C$4:$I$4,GEfectos!C231:I231),IF(EFECTOS!$N$9=\"EL SALVADOR\",LOOKUP(2,GEfectos!$C$4:$I$4,GEfectos!C231:I231),IF(EFECTOS!$N$9=\"GUATEMALA\",LOOKUP(3,GEfectos!$C$4:$I$4,GEfectos!C231:I231),IF(EFECTOS!$N$9=\"HONDURAS\",LOOKUP(4,GEfectos!$C$4:$I$4,GEfectos!C231:I231),IF(EFECTOS!$N$9=\"NICARAGUA\",LOOKUP(5,GEfectos!$C$4:$I$4,GEfectos!C231:I231),IF(EFECTOS!$N$9=\"REPÚBLICA \nDOMINICANA\",LOOKUP(6,$C$4:$I$4,C231:I231),IF(EFECTOS!$N$9=\"PANAMÁ\",LOOKUP(7,GEfectos!$C$4:$I$4,GEfectos!C231:I231))))))))","v":77.626422394654512},{"$f":"IF(EFECTOS!$N$9=\"COSTA RICA\",LOOKUP(1,GEfectos!$J$4:$P$4,GEfectos!J231:P231),IF(EFECTOS!$N$9=\"EL SALVADOR\",LOOKUP(2,GEfectos!$J$4:$P$4,GEfectos!J231:P231),IF(EFECTOS!$N$9=\"GUATEMALA\",LOOKUP(3,GEfectos!$J$4:$P$4,GEfectos!J231:P231),IF(EFECTOS!$N$9=\"HONDURAS\",LOOKUP(4,GEfectos!$J$4:$P$4,GEfectos!J231:P231),IF(EFECTOS!$N$9=\"NICARAGUA\",LOOKUP(5,GEfectos!$J$4:$P$4,GEfectos!J231:P231),IF(EFECTOS!$N$9=\"REPÚBLICA \nDOMINICANA\",LOOKUP(6,$J$4:$P$4,J231:P231),IF(EFECTOS!$N$9=\"PANAMÁ\",LOOKUP(7,GEfectos!$J$4:$P$4,GEfectos!J231:P231))))))))","v":160.95825409139715},{"$f":"IF(EFECTOS!$N$9=\"COSTA RICA\",LOOKUP(1,GEfectos!$Q$4:$W$4,GEfectos!Q231:W231),IF(EFECTOS!$N$9=\"EL SALVADOR\",LOOKUP(2,GEfectos!$Q$4:$W$4,GEfectos!Q231:W231),IF(EFECTOS!$N$9=\"GUATEMALA\",LOOKUP(3,GEfectos!$Q$4:$W$4,GEfectos!Q231:W231),IF(EFECTOS!$N$9=\"HONDURAS\",LOOKUP(4,GEfectos!$Q$4:$W$4,GEfectos!Q231:W231),IF(EFECTOS!$N$9=\"NICARAGUA\",LOOKUP(5,GEfectos!$Q$4:$W$4,GEfectos!Q231:W231),IF(EFECTOS!$N$9=\"REPÚBLICA \nDOMINICANA\",LOOKUP(6,$Q$4:$W$4,Q231:W231),IF(EFECTOS!$N$9=\"PANAMÁ\",LOOKUP(7,GEfectos!$Q$4:$W$4,GEfectos!Q231:W231))))))))","v":207.34982899647454},100]
[null,{"$f":"'ITCER GLOBAL'!B232","v":"Noviembre"},{"$f":"'ITCER GLOBAL'!C232","v":77.183141963720644},{"$f":"'ITCER GLOBAL'!D232","v":103.83037509756447},{"$f":"'ITCER GLOBAL'!E232","v":67.342260071646663},{"$f":"'ITCER GLOBAL'!F232","v":85.996204348870577},{"$f":"'ITCER GLOBAL'!G232","v":113.04568308439228},{"$f":"'ITCER GLOBAL'!H232","v":144.43917281761287},{"$f":"'ITCER GLOBAL'!I232","v":95.805595365952428},{"$f":"'ITCER GLOBAL'!S232","v":160.34661005387773},{"$f":"'ITCER GLOBAL'!T232","v":95.624645127594334},{"$f":"'ITCER GLOBAL'!U232","v":98.995608153807126},{"$f":"'ITCER GLOBAL'!V232","v":137.84152105676102},{"$f":"'ITCER GLOBAL'!W232","v":193.61467420060973},{"$f":"'ITCER GLOBAL'!X232","v":257.94109797937824},{"$f":"'ITCER GLOBAL'!Y232","v":101.55882720938516},{"$f":"'ITCER GLOBAL'!AA232","v":207.74822840102499},{"$f":"'ITCER GLOBAL'!AB232","v":92.096985143066675},{"$f":"'ITCER GLOBAL'!AC232","v":147.00369136480401},{"$f":"'ITCER GLOBAL'!AD232","v":160.28791282178418},{"$f":"'ITCER GLOBAL'!AE232","v":171.27117897644095},{"$f":"'ITCER GLOBAL'!AF232","v":178.58112376833338},{"$f":"'ITCER GLOBAL'!AG232","v":106.00511047549664},null,{"$f":"IF(EFECTOS!$N$9=\"COSTA RICA\",LOOKUP(1,GEfectos!$C$4:$I$4,GEfectos!C232:I232),IF(EFECTOS!$N$9=\"EL SALVADOR\",LOOKUP(2,GEfectos!$C$4:$I$4,GEfectos!C232:I232),IF(EFECTOS!$N$9=\"GUATEMALA\",LOOKUP(3,GEfectos!$C$4:$I$4,GEfectos!C232:I232),IF(EFECTOS!$N$9=\"HONDURAS\",LOOKUP(4,GEfectos!$C$4:$I$4,GEfectos!C232:I232),IF(EFECTOS!$N$9=\"NICARAGUA\",LOOKUP(5,GEfectos!$C$4:$I$4,GEfectos!C232:I232),IF(EFECTOS!$N$9=\"REPÚBLICA \nDOMINICANA\",LOOKUP(6,$C$4:$I$4,C232:I232),IF(EFECTOS!$N$9=\"PANAMÁ\",LOOKUP(7,GEfectos!$C$4:$I$4,GEfectos!C232:I232))))))))","v":77.183141963720644},{"$f":"IF(EFECTOS!$N$9=\"COSTA RICA\",LOOKUP(1,GEfectos!$J$4:$P$4,GEfectos!J232:P232),IF(EFECTOS!$N$9=\"EL SALVADOR\",LOOKUP(2,GEfectos!$J$4:$P$4,GEfectos!J232:P232),IF(EFECTOS!$N$9=\"GUATEMALA\",LOOKUP(3,GEfectos!$J$4:$P$4,GEfectos!J232:P232),IF(EFECTOS!$N$9=\"HONDURAS\",LOOKUP(4,GEfectos!$J$4:$P$4,GEfectos!J232:P232),IF(EFECTOS!$N$9=\"NICARAGUA\",LOOKUP(5,GEfectos!$J$4:$P$4,GEfectos!J232:P232),IF(EFECTOS!$N$9=\"REPÚBLICA \nDOMINICANA\",LOOKUP(6,$J$4:$P$4,J232:P232),IF(EFECTOS!$N$9=\"PANAMÁ\",LOOKUP(7,GEfectos!$J$4:$P$4,GEfectos!J232:P232))))))))","v":160.34661005387773},{"$f":"IF(EFECTOS!$N$9=\"COSTA RICA\",LOOKUP(1,GEfectos!$Q$4:$W$4,GEfectos!Q232:W232),IF(EFECTOS!$N$9=\"EL SALVADOR\",LOOKUP(2,GEfectos!$Q$4:$W$4,GEfectos!Q232:W232),IF(EFECTOS!$N$9=\"GUATEMALA\",LOOKUP(3,GEfectos!$Q$4:$W$4,GEfectos!Q232:W232),IF(EFECTOS!$N$9=\"HONDURAS\",LOOKUP(4,GEfectos!$Q$4:$W$4,GEfectos!Q232:W232),IF(EFECTOS!$N$9=\"NICARAGUA\",LOOKUP(5,GEfectos!$Q$4:$W$4,GEfectos!Q232:W232),IF(EFECTOS!$N$9=\"REPÚBLICA \nDOMINICANA\",LOOKUP(6,$Q$4:$W$4,Q232:W232),IF(EFECTOS!$N$9=\"PANAMÁ\",LOOKUP(7,GEfectos!$Q$4:$W$4,GEfectos!Q232:W232))))))))","v":207.74822840102499},100]
[null,{"$f":"'ITCER GLOBAL'!B233","v":"Diciembre"},{"$f":"'ITCER GLOBAL'!C233","v":76.981586127444885},{"$f":"'ITCER GLOBAL'!D233","v":104.12608964879134},{"$f":"'ITCER GLOBAL'!E233","v":66.982936856552925},{"$f":"'ITCER GLOBAL'!F233","v":86.2248829896931},{"$f":"'ITCER GLOBAL'!G233","v":112.15136002096409},{"$f":"'ITCER GLOBAL'!H233","v":144.72253250471505},{"$f":"'ITCER GLOBAL'!I233","v":95.718184228082023},{"$f":"'ITCER GLOBAL'!S233","v":160.45989593347792},{"$f":"'ITCER GLOBAL'!T233","v":95.67553459953011},{"$f":"'ITCER GLOBAL'!U233","v":98.586300654817748},{"$f":"'ITCER GLOBAL'!V233","v":138.38363972871272},{"$f":"'ITCER GLOBAL'!W233","v":193.71587900223696},{"$f":"'ITCER GLOBAL'!X233","v":258.98840928500636},{"$f":"'ITCER GLOBAL'!Y233","v":101.55919034716953},{"$f":"'ITCER GLOBAL'!AA233","v":208.43932166821384},{"$f":"'ITCER GLOBAL'!AB233","v":91.884305770278857},{"$f":"'ITCER GLOBAL'!AC233","v":147.18121551753529},{"$f":"'ITCER GLOBAL'!AD233","v":160.49153670090155},{"$f":"'ITCER GLOBAL'!AE233","v":172.72717777655686},{"$f":"'ITCER GLOBAL'!AF233","v":178.95513905311773},{"$f":"'ITCER GLOBAL'!AG233","v":106.1022951555049},null,{"$f":"IF(EFECTOS!$N$9=\"COSTA RICA\",LOOKUP(1,GEfectos!$C$4:$I$4,GEfectos!C233:I233),IF(EFECTOS!$N$9=\"EL SALVADOR\",LOOKUP(2,GEfectos!$C$4:$I$4,GEfectos!C233:I233),IF(EFECTOS!$N$9=\"GUATEMALA\",LOOKUP(3,GEfectos!$C$4:$I$4,GEfectos!C233:I233),IF(EFECTOS!$N$9=\"HONDURAS\",LOOKUP(4,GEfectos!$C$4:$I$4,GEfectos!C233:I233),IF(EFECTOS!$N$9=\"NICARAGUA\",LOOKUP(5,GEfectos!$C$4:$I$4,GEfectos!C233:I233),IF(EFECTOS!$N$9=\"REPÚBLICA \nDOMINICANA\",LOOKUP(6,$C$4:$I$4,C233:I233),IF(EFECTOS!$N$9=\"PANAMÁ\",LOOKUP(7,GEfectos!$C$4:$I$4,GEfectos!C233:I233))))))))","v":76.981586127444885},{"$f":"IF(EFECTOS!$N$9=\"COSTA RICA\",LOOKUP(1,GEfectos!$J$4:$P$4,GEfectos!J233:P233),IF(EFECTOS!$N$9=\"EL SALVADOR\",LOOKUP(2,GEfectos!$J$4:$P$4,GEfectos!J233:P233),IF(EFECTOS!$N$9=\"GUATEMALA\",LOOKUP(3,GEfectos!$J$4:$P$4,GEfectos!J233:P233),IF(EFECTOS!$N$9=\"HONDURAS\",LOOKUP(4,GEfectos!$J$4:$P$4,GEfectos!J233:P233),IF(EFECTOS!$N$9=\"NICARAGUA\",LOOKUP(5,GEfectos!$J$4:$P$4,GEfectos!J233:P233),IF(EFECTOS!$N$9=\"REPÚBLICA \nDOMINICANA\",LOOKUP(6,$J$4:$P$4,J233:P233),IF(EFECTOS!$N$9=\"PANAMÁ\",LOOKUP(7,GEfectos!$J$4:$P$4,GEfectos!J233:P233))))))))","v":160.45989593347792},{"$f":"IF(EFECTOS!$N$9=\"COSTA RICA\",LOOKUP(1,GEfectos!$Q$4:$W$4,GEfectos!Q233:W233),IF(EFECTOS!$N$9=\"EL SALVADOR\",LOOKUP(2,GEfectos!$Q$4:$W$4,GEfectos!Q233:W233),IF(EFECTOS!$N$9=\"GUATEMALA\",LOOKUP(3,GEfectos!$Q$4:$W$4,GEfectos!Q233:W233),IF(EFECTOS!$N$9=\"HONDURAS\",LOOKUP(4,GEfectos!$Q$4:$W$4,GEfectos!Q233:W233),IF(EFECTOS!$N$9=\"NICARAGUA\",LOOKUP(5,GEfectos!$Q$4:$W$4,GEfectos!Q233:W233),IF(EFECTOS!$N$9=\"REPÚBLICA \nDOMINICANA\",LOOKUP(6,$Q$4:$W$4,Q233:W233),IF(EFECTOS!$N$9=\"PANAMÁ\",LOOKUP(7,GEfectos!$Q$4:$W$4,GEfectos!Q233:W233))))))))","v":208.43932166821384},100]
[2014,{"$f":"'ITCER GLOBAL'!B234","v":"Enero"},{"$f":"'ITCER GLOBAL'!C234","v":76.976287301232304},{"$f":"'ITCER GLOBAL'!D234","v":103.74668191165919},{"$f":"'ITCER GLOBAL'!E234","v":66.999578932027603},{"$f":"'ITCER GLOBAL'!F234","v":84.957713960949448},{"$f":"'ITCER GLOBAL'!G234","v":112.88363226783581},{"$f":"'ITCER GLOBAL'!H234","v":144.88052753855249},{"$f":"'ITCER GLOBAL'!I234","v":95.211585099212613},{"$f":"'ITCER GLOBAL'!S234","v":161.76408405426048},{"$f":"'ITCER GLOBAL'!T234","v":95.398675273925932},{"$f":"'ITCER GLOBAL'!U234","v":98.306274223858452},{"$f":"'ITCER GLOBAL'!V234","v":137.34961737231606},{"$f":"'ITCER GLOBAL'!W234","v":195.12318579028809},{"$f":"'ITCER GLOBAL'!X234","v":262.01345826330851},{"$f":"'ITCER GLOBAL'!Y234","v":102.08269586613619},{"$f":"'ITCER GLOBAL'!AA234","v":210.14794260111168},{"$f":"'ITCER GLOBAL'!AB234","v":91.953471201284643},{"$f":"'ITCER GLOBAL'!AC234","v":146.72670454181824},{"$f":"'ITCER GLOBAL'!AD234","v":161.66821230082579},{"$f":"'ITCER GLOBAL'!AE234","v":172.8533905848501},{"$f":"'ITCER GLOBAL'!AF234","v":180.84794603856415},{"$f":"'ITCER GLOBAL'!AG234","v":107.21667511339477},null,{"$f":"IF(EFECTOS!$N$9=\"COSTA RICA\",LOOKUP(1,GEfectos!$C$4:$I$4,GEfectos!C234:I234),IF(EFECTOS!$N$9=\"EL SALVADOR\",LOOKUP(2,GEfectos!$C$4:$I$4,GEfectos!C234:I234),IF(EFECTOS!$N$9=\"GUATEMALA\",LOOKUP(3,GEfectos!$C$4:$I$4,GEfectos!C234:I234),IF(EFECTOS!$N$9=\"HONDURAS\",LOOKUP(4,GEfectos!$C$4:$I$4,GEfectos!C234:I234),IF(EFECTOS!$N$9=\"NICARAGUA\",LOOKUP(5,GEfectos!$C$4:$I$4,GEfectos!C234:I234),IF(EFECTOS!$N$9=\"REPÚBLICA \nDOMINICANA\",LOOKUP(6,$C$4:$I$4,C234:I234),IF(EFECTOS!$N$9=\"PANAMÁ\",LOOKUP(7,GEfectos!$C$4:$I$4,GEfectos!C234:I234))))))))","v":76.976287301232304},{"$f":"IF(EFECTOS!$N$9=\"COSTA RICA\",LOOKUP(1,GEfectos!$J$4:$P$4,GEfectos!J234:P234),IF(EFECTOS!$N$9=\"EL SALVADOR\",LOOKUP(2,GEfectos!$J$4:$P$4,GEfectos!J234:P234),IF(EFECTOS!$N$9=\"GUATEMALA\",LOOKUP(3,GEfectos!$J$4:$P$4,GEfectos!J234:P234),IF(EFECTOS!$N$9=\"HONDURAS\",LOOKUP(4,GEfectos!$J$4:$P$4,GEfectos!J234:P234),IF(EFECTOS!$N$9=\"NICARAGUA\",LOOKUP(5,GEfectos!$J$4:$P$4,GEfectos!J234:P234),IF(EFECTOS!$N$9=\"REPÚBLICA \nDOMINICANA\",LOOKUP(6,$J$4:$P$4,J234:P234),IF(EFECTOS!$N$9=\"PANAMÁ\",LOOKUP(7,GEfectos!$J$4:$P$4,GEfectos!J234:P234))))))))","v":161.76408405426048},{"$f":"IF(EFECTOS!$N$9=\"COSTA RICA\",LOOKUP(1,GEfectos!$Q$4:$W$4,GEfectos!Q234:W234),IF(EFECTOS!$N$9=\"EL SALVADOR\",LOOKUP(2,GEfectos!$Q$4:$W$4,GEfectos!Q234:W234),IF(EFECTOS!$N$9=\"GUATEMALA\",LOOKUP(3,GEfectos!$Q$4:$W$4,GEfectos!Q234:W234),IF(EFECTOS!$N$9=\"HONDURAS\",LOOKUP(4,GEfectos!$Q$4:$W$4,GEfectos!Q234:W234),IF(EFECTOS!$N$9=\"NICARAGUA\",LOOKUP(5,GEfectos!$Q$4:$W$4,GEfectos!Q234:W234),IF(EFECTOS!$N$9=\"REPÚBLICA \nDOMINICANA\",LOOKUP(6,$Q$4:$W$4,Q234:W234),IF(EFECTOS!$N$9=\"PANAMÁ\",LOOKUP(7,GEfectos!$Q$4:$W$4,GEfectos!Q234:W234))))))))","v":210.14794260111168},100]
[null,{"$f":"'ITCER GLOBAL'!B235","v":"Febrero"},{"$f":"'ITCER GLOBAL'!C235","v":80.160062011177658},{"$f":"'ITCER GLOBAL'!D235","v":103.7935859178266},{"$f":"'ITCER GLOBAL'!E235","v":66.145108913450159},{"$f":"'ITCER GLOBAL'!F235","v":84.590610776304999},{"$f":"'ITCER GLOBAL'!G235","v":112.76092691464771},{"$f":"'ITCER GLOBAL'!H235","v":145.3692096165646},{"$f":"'ITCER GLOBAL'!I235","v":94.600421470548994},{"$f":"'ITCER GLOBAL'!S235","v":168.91803844361775},{"$f":"'ITCER GLOBAL'!T235","v":95.225060839268764},{"$f":"'ITCER GLOBAL'!U235","v":96.856874228282166},{"$f":"'ITCER GLOBAL'!V235","v":137.36819702805136},{"$f":"'ITCER GLOBAL'!W235","v":195.39400161608842},{"$f":"'ITCER GLOBAL'!X235","v":262.76840585668492},{"$f":"'ITCER GLOBAL'!Y235","v":101.61605157814493},{"$f":"'ITCER GLOBAL'!AA235","v":210.72593284678786},{"$f":"'ITCER GLOBAL'!AB235","v":91.744648763420173},{"$f":"'ITCER GLOBAL'!AC235","v":146.43089386248931},{"$f":"'ITCER GLOBAL'!AD235","v":162.39177819783529},{"$f":"'ITCER GLOBAL'!AE235","v":173.28165612188369},{"$f":"'ITCER GLOBAL'!AF235","v":180.75932761124596},{"$f":"'ITCER GLOBAL'!AG235","v":107.41606643875264},null,{"$f":"IF(EFECTOS!$N$9=\"COSTA RICA\",LOOKUP(1,GEfectos!$C$4:$I$4,GEfectos!C235:I235),IF(EFECTOS!$N$9=\"EL SALVADOR\",LOOKUP(2,GEfectos!$C$4:$I$4,GEfectos!C235:I235),IF(EFECTOS!$N$9=\"GUATEMALA\",LOOKUP(3,GEfectos!$C$4:$I$4,GEfectos!C235:I235),IF(EFECTOS!$N$9=\"HONDURAS\",LOOKUP(4,GEfectos!$C$4:$I$4,GEfectos!C235:I235),IF(EFECTOS!$N$9=\"NICARAGUA\",LOOKUP(5,GEfectos!$C$4:$I$4,GEfectos!C235:I235),IF(EFECTOS!$N$9=\"REPÚBLICA \nDOMINICANA\",LOOKUP(6,$C$4:$I$4,C235:I235),IF(EFECTOS!$N$9=\"PANAMÁ\",LOOKUP(7,GEfectos!$C$4:$I$4,GEfectos!C235:I235))))))))","v":80.160062011177658},{"$f":"IF(EFECTOS!$N$9=\"COSTA RICA\",LOOKUP(1,GEfectos!$J$4:$P$4,GEfectos!J235:P235),IF(EFECTOS!$N$9=\"EL SALVADOR\",LOOKUP(2,GEfectos!$J$4:$P$4,GEfectos!J235:P235),IF(EFECTOS!$N$9=\"GUATEMALA\",LOOKUP(3,GEfectos!$J$4:$P$4,GEfectos!J235:P235),IF(EFECTOS!$N$9=\"HONDURAS\",LOOKUP(4,GEfectos!$J$4:$P$4,GEfectos!J235:P235),IF(EFECTOS!$N$9=\"NICARAGUA\",LOOKUP(5,GEfectos!$J$4:$P$4,GEfectos!J235:P235),IF(EFECTOS!$N$9=\"REPÚBLICA \nDOMINICANA\",LOOKUP(6,$J$4:$P$4,J235:P235),IF(EFECTOS!$N$9=\"PANAMÁ\",LOOKUP(7,GEfectos!$J$4:$P$4,GEfectos!J235:P235))))))))","v":168.91803844361775},{"$f":"IF(EFECTOS!$N$9=\"COSTA RICA\",LOOKUP(1,GEfectos!$Q$4:$W$4,GEfectos!Q235:W235),IF(EFECTOS!$N$9=\"EL SALVADOR\",LOOKUP(2,GEfectos!$Q$4:$W$4,GEfectos!Q235:W235),IF(EFECTOS!$N$9=\"GUATEMALA\",LOOKUP(3,GEfectos!$Q$4:$W$4,GEfectos!Q235:W235),IF(EFECTOS!$N$9=\"HONDURAS\",LOOKUP(4,GEfectos!$Q$4:$W$4,GEfectos!Q235:W235),IF(EFECTOS!$N$9=\"NICARAGUA\",LOOKUP(5,GEfectos!$Q$4:$W$4,GEfectos!Q235:W235),IF(EFECTOS!$N$9=\"REPÚBLICA \nDOMINICANA\",LOOKUP(6,$Q$4:$W$4,Q235:W235),IF(EFECTOS!$N$9=\"PANAMÁ\",LOOKUP(7,GEfectos!$Q$4:$W$4,GEfectos!Q235:W235))))))))","v":210.72593284678786},100]
[null,{"$f":"'ITCER GLOBAL'!B236","v":"Marzo"},{"$f":"'ITCER GLOBAL'!C236","v":83.682159690698171},{"$f":"'ITCER GLOBAL'!D236","v":103.91426087833683},{"$f":"'ITCER GLOBAL'!E236","v":65.987309261448971},{"$f":"'ITCER GLOBAL'!F236","v":84.723260889419933},{"$f":"'ITCER GLOBAL'!G236","v":113.13364592089063},{"$f":"'ITCER GLOBAL'!H236","v":145.35809770757825},{"$f":"'ITCER GLOBAL'!I236","v":94.649573841379151},{"$f":"'ITCER GLOBAL'!S236","v":176.59215734416017},{"$f":"'ITCER GLOBAL'!T236","v":95.12793107284655},{"$f":"'ITCER GLOBAL'!U236","v":96.402254062725021},{"$f":"'ITCER GLOBAL'!V236","v":137.72289655700081},{"$f":"'ITCER GLOBAL'!W236","v":195.22128877607724},{"$f":"'ITCER GLOBAL'!X236","v":262.78312255467932},{"$f":"'ITCER GLOBAL'!Y236","v":101.59388170724894},{"$f":"'ITCER GLOBAL'!AA236","v":211.02724642489071},{"$f":"'ITCER GLOBAL'!AB236","v":91.544635229829183},{"$f":"'ITCER GLOBAL'!AC236","v":146.09211247085207},{"$f":"'ITCER GLOBAL'!AD236","v":162.55618009882261},{"$f":"'ITCER GLOBAL'!AE236","v":172.55811671851086},{"$f":"'ITCER GLOBAL'!AF236","v":180.78327021266395},{"$f":"'ITCER GLOBAL'!AG236","v":107.33686120711707},null,{"$f":"IF(EFECTOS!$N$9=\"COSTA RICA\",LOOKUP(1,GEfectos!$C$4:$I$4,GEfectos!C236:I236),IF(EFECTOS!$N$9=\"EL SALVADOR\",LOOKUP(2,GEfectos!$C$4:$I$4,GEfectos!C236:I236),IF(EFECTOS!$N$9=\"GUATEMALA\",LOOKUP(3,GEfectos!$C$4:$I$4,GEfectos!C236:I236),IF(EFECTOS!$N$9=\"HONDURAS\",LOOKUP(4,GEfectos!$C$4:$I$4,GEfectos!C236:I236),IF(EFECTOS!$N$9=\"NICARAGUA\",LOOKUP(5,GEfectos!$C$4:$I$4,GEfectos!C236:I236),IF(EFECTOS!$N$9=\"REPÚBLICA \nDOMINICANA\",LOOKUP(6,$C$4:$I$4,C236:I236),IF(EFECTOS!$N$9=\"PANAMÁ\",LOOKUP(7,GEfectos!$C$4:$I$4,GEfectos!C236:I236))))))))","v":83.682159690698171},{"$f":"IF(EFECTOS!$N$9=\"COSTA RICA\",LOOKUP(1,GEfectos!$J$4:$P$4,GEfectos!J236:P236),IF(EFECTOS!$N$9=\"EL SALVADOR\",LOOKUP(2,GEfectos!$J$4:$P$4,GEfectos!J236:P236),IF(EFECTOS!$N$9=\"GUATEMALA\",LOOKUP(3,GEfectos!$J$4:$P$4,GEfectos!J236:P236),IF(EFECTOS!$N$9=\"HONDURAS\",LOOKUP(4,GEfectos!$J$4:$P$4,GEfectos!J236:P236),IF(EFECTOS!$N$9=\"NICARAGUA\",LOOKUP(5,GEfectos!$J$4:$P$4,GEfectos!J236:P236),IF(EFECTOS!$N$9=\"REPÚBLICA \nDOMINICANA\",LOOKUP(6,$J$4:$P$4,J236:P236),IF(EFECTOS!$N$9=\"PANAMÁ\",LOOKUP(7,GEfectos!$J$4:$P$4,GEfectos!J236:P236))))))))","v":176.59215734416017},{"$f":"IF(EFECTOS!$N$9=\"COSTA RICA\",LOOKUP(1,GEfectos!$Q$4:$W$4,GEfectos!Q236:W236),IF(EFECTOS!$N$9=\"EL SALVADOR\",LOOKUP(2,GEfectos!$Q$4:$W$4,GEfectos!Q236:W236),IF(EFECTOS!$N$9=\"GUATEMALA\",LOOKUP(3,GEfectos!$Q$4:$W$4,GEfectos!Q236:W236),IF(EFECTOS!$N$9=\"HONDURAS\",LOOKUP(4,GEfectos!$Q$4:$W$4,GEfectos!Q236:W236),IF(EFECTOS!$N$9=\"NICARAGUA\",LOOKUP(5,GEfectos!$Q$4:$W$4,GEfectos!Q236:W236),IF(EFECTOS!$N$9=\"REPÚBLICA \nDOMINICANA\",LOOKUP(6,$Q$4:$W$4,Q236:W236),IF(EFECTOS!$N$9=\"PANAMÁ\",LOOKUP(7,GEfectos!$Q$4:$W$4,GEfectos!Q236:W236))))))))","v":211.02724642489071},100]
[null,{"$f":"'ITCER GLOBAL'!B237","v":"Abril"},{"$f":"'ITCER GLOBAL'!C237","v":82.741436650036761},{"$f":"'ITCER GLOBAL'!D237","v":104.8541443553511},{"$f":"'ITCER GLOBAL'!E237","v":66.346466372314723},{"$f":"'ITCER GLOBAL'!F237","v":84.890588305445348},{"$f":"'ITCER GLOBAL'!G237","v":113.11256936914334},{"$f":"'ITCER GLOBAL'!H237","v":145.31792842643318},{"$f":"'ITCER GLOBAL'!I237","v":94.926681357986993},{"$f":"'ITCER GLOBAL'!S237","v":176.1784869721173},{"$f":"'ITCER GLOBAL'!T237","v":95.249469958010096},{"$f":"'ITCER GLOBAL'!U237","v":96.895952694250568},{"$f":"'ITCER GLOBAL'!V237","v":138.22750352192307},{"$f":"'ITCER GLOBAL'!W237","v":195.57740314497266},{"$f":"'ITCER GLOBAL'!X237","v":263.12181493202758},{"$f":"'ITCER GLOBAL'!Y237","v":102.06051000117542},{"$f":"'ITCER GLOBAL'!AA237","v":212.92655059554014},{"$f":"'ITCER GLOBAL'!AB237","v":90.839966835463628},{"$f":"'ITCER GLOBAL'!AC237","v":146.04538567359725},{"$f":"'ITCER GLOBAL'!AD237","v":162.8301868100688},{"$f":"'ITCER GLOBAL'!AE237","v":172.90510173692985},{"$f":"'ITCER GLOBAL'!AF237","v":181.06631286395765},{"$f":"'ITCER GLOBAL'!AG237","v":107.51509327107452},null,{"$f":"IF(EFECTOS!$N$9=\"COSTA RICA\",LOOKUP(1,GEfectos!$C$4:$I$4,GEfectos!C237:I237),IF(EFECTOS!$N$9=\"EL SALVADOR\",LOOKUP(2,GEfectos!$C$4:$I$4,GEfectos!C237:I237),IF(EFECTOS!$N$9=\"GUATEMALA\",LOOKUP(3,GEfectos!$C$4:$I$4,GEfectos!C237:I237),IF(EFECTOS!$N$9=\"HONDURAS\",LOOKUP(4,GEfectos!$C$4:$I$4,GEfectos!C237:I237),IF(EFECTOS!$N$9=\"NICARAGUA\",LOOKUP(5,GEfectos!$C$4:$I$4,GEfectos!C237:I237),IF(EFECTOS!$N$9=\"REPÚBLICA \nDOMINICANA\",LOOKUP(6,$C$4:$I$4,C237:I237),IF(EFECTOS!$N$9=\"PANAMÁ\",LOOKUP(7,GEfectos!$C$4:$I$4,GEfectos!C237:I237))))))))","v":82.741436650036761},{"$f":"IF(EFECTOS!$N$9=\"COSTA RICA\",LOOKUP(1,GEfectos!$J$4:$P$4,GEfectos!J237:P237),IF(EFECTOS!$N$9=\"EL SALVADOR\",LOOKUP(2,GEfectos!$J$4:$P$4,GEfectos!J237:P237),IF(EFECTOS!$N$9=\"GUATEMALA\",LOOKUP(3,GEfectos!$J$4:$P$4,GEfectos!J237:P237),IF(EFECTOS!$N$9=\"HONDURAS\",LOOKUP(4,GEfectos!$J$4:$P$4,GEfectos!J237:P237),IF(EFECTOS!$N$9=\"NICARAGUA\",LOOKUP(5,GEfectos!$J$4:$P$4,GEfectos!J237:P237),IF(EFECTOS!$N$9=\"REPÚBLICA \nDOMINICANA\",LOOKUP(6,$J$4:$P$4,J237:P237),IF(EFECTOS!$N$9=\"PANAMÁ\",LOOKUP(7,GEfectos!$J$4:$P$4,GEfectos!J237:P237))))))))","v":176.1784869721173},{"$f":"IF(EFECTOS!$N$9=\"COSTA RICA\",LOOKUP(1,GEfectos!$Q$4:$W$4,GEfectos!Q237:W237),IF(EFECTOS!$N$9=\"EL SALVADOR\",LOOKUP(2,GEfectos!$Q$4:$W$4,GEfectos!Q237:W237),IF(EFECTOS!$N$9=\"GUATEMALA\",LOOKUP(3,GEfectos!$Q$4:$W$4,GEfectos!Q237:W237),IF(EFECTOS!$N$9=\"HONDURAS\",LOOKUP(4,GEfectos!$Q$4:$W$4,GEfectos!Q237:W237),IF(EFECTOS!$N$9=\"NICARAGUA\",LOOKUP(5,GEfectos!$Q$4:$W$4,GEfectos!Q237:W237),IF(EFECTOS!$N$9=\"REPÚBLICA \nDOMINICANA\",LOOKUP(6,$Q$4:$W$4,Q237:W237),IF(EFECTOS!$N$9=\"PANAMÁ\",LOOKUP(7,GEfectos!$Q$4:$W$4,GEfectos!Q237:W237))))))))","v":212.92655059554014},100]
[null,{"$f":"'ITCER GLOBAL'!B238","v":"Mayo"},{"$f":"'ITCER GLOBAL'!C238","v":83.39016036793798},{"$f":"'ITCER GLOBAL'!D238","v":104.95150362155309},{"$f":"'ITCER GLOBAL'!E238","v":66.311192198250296},{"$f":"'ITCER GLOBAL'!F238","v":84.860566234930829},{"$f":"'ITCER GLOBAL'!G238","v":112.98029982637722},{"$f":"'ITCER GLOBAL'!H238","v":145.91336763153765},{"$f":"'ITCER GLOBAL'!I238","v":95.087992730688356},{"$f":"'ITCER GLOBAL'!S238","v":178.07095530159776},{"$f":"'ITCER GLOBAL'!T238","v":95.272815402465895},{"$f":"'ITCER GLOBAL'!U238","v":96.824942340692488},{"$f":"'ITCER GLOBAL'!V238","v":138.5460398771196},{"$f":"'ITCER GLOBAL'!W238","v":196.72014202436986},{"$f":"'ITCER GLOBAL'!X238","v":263.52847451714769},{"$f":"'ITCER GLOBAL'!Y238","v":102.15373964494174},{"$f":"'ITCER GLOBAL'!AA238","v":213.5395285437811},{"$f":"'ITCER GLOBAL'!AB238","v":90.777942301819905},{"$f":"'ITCER GLOBAL'!AC238","v":146.01598784593611},{"$f":"'ITCER GLOBAL'!AD238","v":163.26315746416788},{"$f":"'ITCER GLOBAL'!AE238","v":174.11897678327998},{"$f":"'ITCER GLOBAL'!AF238","v":180.60612183430189},{"$f":"'ITCER GLOBAL'!AG238","v":107.43074568233367},null,{"$f":"IF(EFECTOS!$N$9=\"COSTA RICA\",LOOKUP(1,GEfectos!$C$4:$I$4,GEfectos!C238:I238),IF(EFECTOS!$N$9=\"EL SALVADOR\",LOOKUP(2,GEfectos!$C$4:$I$4,GEfectos!C238:I238),IF(EFECTOS!$N$9=\"GUATEMALA\",LOOKUP(3,GEfectos!$C$4:$I$4,GEfectos!C238:I238),IF(EFECTOS!$N$9=\"HONDURAS\",LOOKUP(4,GEfectos!$C$4:$I$4,GEfectos!C238:I238),IF(EFECTOS!$N$9=\"NICARAGUA\",LOOKUP(5,GEfectos!$C$4:$I$4,GEfectos!C238:I238),IF(EFECTOS!$N$9=\"REPÚBLICA \nDOMINICANA\",LOOKUP(6,$C$4:$I$4,C238:I238),IF(EFECTOS!$N$9=\"PANAMÁ\",LOOKUP(7,GEfectos!$C$4:$I$4,GEfectos!C238:I238))))))))","v":83.39016036793798},{"$f":"IF(EFECTOS!$N$9=\"COSTA RICA\",LOOKUP(1,GEfectos!$J$4:$P$4,GEfectos!J238:P238),IF(EFECTOS!$N$9=\"EL SALVADOR\",LOOKUP(2,GEfectos!$J$4:$P$4,GEfectos!J238:P238),IF(EFECTOS!$N$9=\"GUATEMALA\",LOOKUP(3,GEfectos!$J$4:$P$4,GEfectos!J238:P238),IF(EFECTOS!$N$9=\"HONDURAS\",LOOKUP(4,GEfectos!$J$4:$P$4,GEfectos!J238:P238),IF(EFECTOS!$N$9=\"NICARAGUA\",LOOKUP(5,GEfectos!$J$4:$P$4,GEfectos!J238:P238),IF(EFECTOS!$N$9=\"REPÚBLICA \nDOMINICANA\",LOOKUP(6,$J$4:$P$4,J238:P238),IF(EFECTOS!$N$9=\"PANAMÁ\",LOOKUP(7,GEfectos!$J$4:$P$4,GEfectos!J238:P238))))))))","v":178.07095530159776},{"$f":"IF(EFECTOS!$N$9=\"COSTA RICA\",LOOKUP(1,GEfectos!$Q$4:$W$4,GEfectos!Q238:W238),IF(EFECTOS!$N$9=\"EL SALVADOR\",LOOKUP(2,GEfectos!$Q$4:$W$4,GEfectos!Q238:W238),IF(EFECTOS!$N$9=\"GUATEMALA\",LOOKUP(3,GEfectos!$Q$4:$W$4,GEfectos!Q238:W238),IF(EFECTOS!$N$9=\"HONDURAS\",LOOKUP(4,GEfectos!$Q$4:$W$4,GEfectos!Q238:W238),IF(EFECTOS!$N$9=\"NICARAGUA\",LOOKUP(5,GEfectos!$Q$4:$W$4,GEfectos!Q238:W238),IF(EFECTOS!$N$9=\"REPÚBLICA \nDOMINICANA\",LOOKUP(6,$Q$4:$W$4,Q238:W238),IF(EFECTOS!$N$9=\"PANAMÁ\",LOOKUP(7,GEfectos!$Q$4:$W$4,GEfectos!Q238:W238))))))))","v":213.5395285437811},100]
[null,{"$f":"'ITCER GLOBAL'!B239","v":"Junio"},{"$f":"'ITCER GLOBAL'!C239","v":82.953256166049414},{"$f":"'ITCER GLOBAL'!D239","v":104.60354403863521},{"$f":"'ITCER GLOBAL'!E239","v":66.640726467666468},{"$f":"'ITCER GLOBAL'!F239","v":84.946785578722952},{"$f":"'ITCER GLOBAL'!G239","v":112.33333490732004},{"$f":"'ITCER GLOBAL'!H239","v":146.65569140336083},{"$f":"'ITCER GLOBAL'!I239","v":94.717131990337748},{"$f":"'ITCER GLOBAL'!S239","v":177.47464415749178},{"$f":"'ITCER GLOBAL'!T239","v":95.072324010246192},{"$f":"'ITCER GLOBAL'!U239","v":97.616899916047785},{"$f":"'ITCER GLOBAL'!V239","v":138.95701766897045},{"$f":"'ITCER GLOBAL'!W239","v":197.7967576670772},{"$f":"'ITCER GLOBAL'!X239","v":264.42736556480861},{"$f":"'ITCER GLOBAL'!Y239","v":102.05375636873906},{"$f":"'ITCER GLOBAL'!AA239","v":213.94536195449248},{"$f":"'ITCER GLOBAL'!AB239","v":90.888243686209464},{"$f":"'ITCER GLOBAL'!AC239","v":146.48234659238105},{"$f":"'ITCER GLOBAL'!AD239","v":163.581254690555},{"$f":"'ITCER GLOBAL'!AE239","v":176.08019723643767},{"$f":"'ITCER GLOBAL'!AF239","v":180.304878068134},{"$f":"'ITCER GLOBAL'!AG239","v":107.74582615017283},null,{"$f":"IF(EFECTOS!$N$9=\"COSTA RICA\",LOOKUP(1,GEfectos!$C$4:$I$4,GEfectos!C239:I239),IF(EFECTOS!$N$9=\"EL SALVADOR\",LOOKUP(2,GEfectos!$C$4:$I$4,GEfectos!C239:I239),IF(EFECTOS!$N$9=\"GUATEMALA\",LOOKUP(3,GEfectos!$C$4:$I$4,GEfectos!C239:I239),IF(EFECTOS!$N$9=\"HONDURAS\",LOOKUP(4,GEfectos!$C$4:$I$4,GEfectos!C239:I239),IF(EFECTOS!$N$9=\"NICARAGUA\",LOOKUP(5,GEfectos!$C$4:$I$4,GEfectos!C239:I239),IF(EFECTOS!$N$9=\"REPÚBLICA \nDOMINICANA\",LOOKUP(6,$C$4:$I$4,C239:I239),IF(EFECTOS!$N$9=\"PANAMÁ\",LOOKUP(7,GEfectos!$C$4:$I$4,GEfectos!C239:I239))))))))","v":82.953256166049414},{"$f":"IF(EFECTOS!$N$9=\"COSTA RICA\",LOOKUP(1,GEfectos!$J$4:$P$4,GEfectos!J239:P239),IF(EFECTOS!$N$9=\"EL SALVADOR\",LOOKUP(2,GEfectos!$J$4:$P$4,GEfectos!J239:P239),IF(EFECTOS!$N$9=\"GUATEMALA\",LOOKUP(3,GEfectos!$J$4:$P$4,GEfectos!J239:P239),IF(EFECTOS!$N$9=\"HONDURAS\",LOOKUP(4,GEfectos!$J$4:$P$4,GEfectos!J239:P239),IF(EFECTOS!$N$9=\"NICARAGUA\",LOOKUP(5,GEfectos!$J$4:$P$4,GEfectos!J239:P239),IF(EFECTOS!$N$9=\"REPÚBLICA \nDOMINICANA\",LOOKUP(6,$J$4:$P$4,J239:P239),IF(EFECTOS!$N$9=\"PANAMÁ\",LOOKUP(7,GEfectos!$J$4:$P$4,GEfectos!J239:P239))))))))","v":177.47464415749178},{"$f":"IF(EFECTOS!$N$9=\"COSTA RICA\",LOOKUP(1,GEfectos!$Q$4:$W$4,GEfectos!Q239:W239),IF(EFECTOS!$N$9=\"EL SALVADOR\",LOOKUP(2,GEfectos!$Q$4:$W$4,GEfectos!Q239:W239),IF(EFECTOS!$N$9=\"GUATEMALA\",LOOKUP(3,GEfectos!$Q$4:$W$4,GEfectos!Q239:W239),IF(EFECTOS!$N$9=\"HONDURAS\",LOOKUP(4,GEfectos!$Q$4:$W$4,GEfectos!Q239:W239),IF(EFECTOS!$N$9=\"NICARAGUA\",LOOKUP(5,GEfectos!$Q$4:$W$4,GEfectos!Q239:W239),IF(EFECTOS!$N$9=\"REPÚBLICA \nDOMINICANA\",LOOKUP(6,$Q$4:$W$4,Q239:W239),IF(EFECTOS!$N$9=\"PANAMÁ\",LOOKUP(7,GEfectos!$Q$4:$W$4,GEfectos!Q239:W239))))))))","v":213.94536195449248},100]
[null,{"$f":"'ITCER GLOBAL'!B240","v":"Julio"},{"$f":"'ITCER GLOBAL'!C240","v":80.436383720276368},{"$f":"'ITCER GLOBAL'!D240","v":104.31586648940706},{"$f":"'ITCER GLOBAL'!E240","v":66.112595507392925},{"$f":"'ITCER GLOBAL'!F240","v":84.639238680987845},{"$f":"'ITCER GLOBAL'!G240","v":112.89400095453664},{"$f":"'ITCER GLOBAL'!H240","v":146.66810180952652},{"$f":"'ITCER GLOBAL'!I240","v":95.763114854268736},{"$f":"'ITCER GLOBAL'!S240","v":173.73102627975931},{"$f":"'ITCER GLOBAL'!T240","v":95.208615917913761},{"$f":"'ITCER GLOBAL'!U240","v":97.324623836448268},{"$f":"'ITCER GLOBAL'!V240","v":139.44835294096208},{"$f":"'ITCER GLOBAL'!W240","v":199.47545422938015},{"$f":"'ITCER GLOBAL'!X240","v":265.39216902080045},{"$f":"'ITCER GLOBAL'!Y240","v":102.2645170663933},{"$f":"'ITCER GLOBAL'!AA240","v":215.98562521647185},{"$f":"'ITCER GLOBAL'!AB240","v":91.269544242899897},{"$f":"'ITCER GLOBAL'!AC240","v":147.21041140423102},{"$f":"'ITCER GLOBAL'!AD240","v":164.75615224583277},{"$f":"'ITCER GLOBAL'!AE240","v":176.69269628393329},{"$f":"'ITCER GLOBAL'!AF240","v":180.94743556813557},{"$f":"'ITCER GLOBAL'!AG240","v":106.78904630662687},null,{"$f":"IF(EFECTOS!$N$9=\"COSTA RICA\",LOOKUP(1,GEfectos!$C$4:$I$4,GEfectos!C240:I240),IF(EFECTOS!$N$9=\"EL SALVADOR\",LOOKUP(2,GEfectos!$C$4:$I$4,GEfectos!C240:I240),IF(EFECTOS!$N$9=\"GUATEMALA\",LOOKUP(3,GEfectos!$C$4:$I$4,GEfectos!C240:I240),IF(EFECTOS!$N$9=\"HONDURAS\",LOOKUP(4,GEfectos!$C$4:$I$4,GEfectos!C240:I240),IF(EFECTOS!$N$9=\"NICARAGUA\",LOOKUP(5,GEfectos!$C$4:$I$4,GEfectos!C240:I240),IF(EFECTOS!$N$9=\"REPÚBLICA \nDOMINICANA\",LOOKUP(6,$C$4:$I$4,C240:I240),IF(EFECTOS!$N$9=\"PANAMÁ\",LOOKUP(7,GEfectos!$C$4:$I$4,GEfectos!C240:I240))))))))","v":80.436383720276368},{"$f":"IF(EFECTOS!$N$9=\"COSTA RICA\",LOOKUP(1,GEfectos!$J$4:$P$4,GEfectos!J240:P240),IF(EFECTOS!$N$9=\"EL SALVADOR\",LOOKUP(2,GEfectos!$J$4:$P$4,GEfectos!J240:P240),IF(EFECTOS!$N$9=\"GUATEMALA\",LOOKUP(3,GEfectos!$J$4:$P$4,GEfectos!J240:P240),IF(EFECTOS!$N$9=\"HONDURAS\",LOOKUP(4,GEfectos!$J$4:$P$4,GEfectos!J240:P240),IF(EFECTOS!$N$9=\"NICARAGUA\",LOOKUP(5,GEfectos!$J$4:$P$4,GEfectos!J240:P240),IF(EFECTOS!$N$9=\"REPÚBLICA \nDOMINICANA\",LOOKUP(6,$J$4:$P$4,J240:P240),IF(EFECTOS!$N$9=\"PANAMÁ\",LOOKUP(7,GEfectos!$J$4:$P$4,GEfectos!J240:P240))))))))","v":173.73102627975931},{"$f":"IF(EFECTOS!$N$9=\"COSTA RICA\",LOOKUP(1,GEfectos!$Q$4:$W$4,GEfectos!Q240:W240),IF(EFECTOS!$N$9=\"EL SALVADOR\",LOOKUP(2,GEfectos!$Q$4:$W$4,GEfectos!Q240:W240),IF(EFECTOS!$N$9=\"GUATEMALA\",LOOKUP(3,GEfectos!$Q$4:$W$4,GEfectos!Q240:W240),IF(EFECTOS!$N$9=\"HONDURAS\",LOOKUP(4,GEfectos!$Q$4:$W$4,GEfectos!Q240:W240),IF(EFECTOS!$N$9=\"NICARAGUA\",LOOKUP(5,GEfectos!$Q$4:$W$4,GEfectos!Q240:W240),IF(EFECTOS!$N$9=\"REPÚBLICA \nDOMINICANA\",LOOKUP(6,$Q$4:$W$4,Q240:W240),IF(EFECTOS!$N$9=\"PANAMÁ\",LOOKUP(7,GEfectos!$Q$4:$W$4,GEfectos!Q240:W240))))))))","v":215.98562521647185},100]
[null,{"$f":"'ITCER GLOBAL'!B241","v":"Agosto"},{"$f":"'ITCER GLOBAL'!C241","v":80.108863203894089},{"$f":"'ITCER GLOBAL'!D241","v":103.81801856072829},{"$f":"'ITCER GLOBAL'!E241","v":65.914318887616204},{"$f":"'ITCER GLOBAL'!F241","v":84.604236346700617},{"$f":"'ITCER GLOBAL'!G241","v":112.53592389703657},{"$f":"'ITCER GLOBAL'!H241","v":145.73944672738389},{"$f":"'ITCER GLOBAL'!I241","v":95.119279211319594},{"$f":"'ITCER GLOBAL'!S241","v":173.56489259444129},{"$f":"'ITCER GLOBAL'!T241","v":94.922640472830693},{"$f":"'ITCER GLOBAL'!U241","v":97.383178207781341},{"$f":"'ITCER GLOBAL'!V241","v":139.50745723336144},{"$f":"'ITCER GLOBAL'!W241","v":199.23005372791908},{"$f":"'ITCER GLOBAL'!X241","v":264.68002935213792},{"$f":"'ITCER GLOBAL'!Y241","v":101.69590241183506},{"$f":"'ITCER GLOBAL'!AA241","v":216.66128522218787},{"$f":"'ITCER GLOBAL'!AB241","v":91.431758945876766},{"$f":"'ITCER GLOBAL'!AC241","v":147.74206856907603},{"$f":"'ITCER GLOBAL'!AD241","v":164.89417463881162},{"$f":"'ITCER GLOBAL'!AE241","v":177.03684906004088},{"$f":"'ITCER GLOBAL'!AF241","v":181.61179783208655},{"$f":"'ITCER GLOBAL'!AG241","v":106.91408014762673},null,{"$f":"IF(EFECTOS!$N$9=\"COSTA RICA\",LOOKUP(1,GEfectos!$C$4:$I$4,GEfectos!C241:I241),IF(EFECTOS!$N$9=\"EL SALVADOR\",LOOKUP(2,GEfectos!$C$4:$I$4,GEfectos!C241:I241),IF(EFECTOS!$N$9=\"GUATEMALA\",LOOKUP(3,GEfectos!$C$4:$I$4,GEfectos!C241:I241),IF(EFECTOS!$N$9=\"HONDURAS\",LOOKUP(4,GEfectos!$C$4:$I$4,GEfectos!C241:I241),IF(EFECTOS!$N$9=\"NICARAGUA\",LOOKUP(5,GEfectos!$C$4:$I$4,GEfectos!C241:I241),IF(EFECTOS!$N$9=\"REPÚBLICA \nDOMINICANA\",LOOKUP(6,$C$4:$I$4,C241:I241),IF(EFECTOS!$N$9=\"PANAMÁ\",LOOKUP(7,GEfectos!$C$4:$I$4,GEfectos!C241:I241))))))))","v":80.108863203894089},{"$f":"IF(EFECTOS!$N$9=\"COSTA RICA\",LOOKUP(1,GEfectos!$J$4:$P$4,GEfectos!J241:P241),IF(EFECTOS!$N$9=\"EL SALVADOR\",LOOKUP(2,GEfectos!$J$4:$P$4,GEfectos!J241:P241),IF(EFECTOS!$N$9=\"GUATEMALA\",LOOKUP(3,GEfectos!$J$4:$P$4,GEfectos!J241:P241),IF(EFECTOS!$N$9=\"HONDURAS\",LOOKUP(4,GEfectos!$J$4:$P$4,GEfectos!J241:P241),IF(EFECTOS!$N$9=\"NICARAGUA\",LOOKUP(5,GEfectos!$J$4:$P$4,GEfectos!J241:P241),IF(EFECTOS!$N$9=\"REPÚBLICA \nDOMINICANA\",LOOKUP(6,$J$4:$P$4,J241:P241),IF(EFECTOS!$N$9=\"PANAMÁ\",LOOKUP(7,GEfectos!$J$4:$P$4,GEfectos!J241:P241))))))))","v":173.56489259444129},{"$f":"IF(EFECTOS!$N$9=\"COSTA RICA\",LOOKUP(1,GEfectos!$Q$4:$W$4,GEfectos!Q241:W241),IF(EFECTOS!$N$9=\"EL SALVADOR\",LOOKUP(2,GEfectos!$Q$4:$W$4,GEfectos!Q241:W241),IF(EFECTOS!$N$9=\"GUATEMALA\",LOOKUP(3,GEfectos!$Q$4:$W$4,GEfectos!Q241:W241),IF(EFECTOS!$N$9=\"HONDURAS\",LOOKUP(4,GEfectos!$Q$4:$W$4,GEfectos!Q241:W241),IF(EFECTOS!$N$9=\"NICARAGUA\",LOOKUP(5,GEfectos!$Q$4:$W$4,GEfectos!Q241:W241),IF(EFECTOS!$N$9=\"REPÚBLICA \nDOMINICANA\",LOOKUP(6,$Q$4:$W$4,Q241:W241),IF(EFECTOS!$N$9=\"PANAMÁ\",LOOKUP(7,GEfectos!$Q$4:$W$4,GEfectos!Q241:W241))))))))","v":216.66128522218787},100]
[null,{"$f":"'ITCER GLOBAL'!B242","v":"Septiembre"},{"$f":"'ITCER GLOBAL'!C242","v":79.91645438378815},{"$f":"'ITCER GLOBAL'!D242","v":103.7622201919376},{"$f":"'ITCER GLOBAL'!E242","v":64.899213097240192},{"$f":"'ITCER GLOBAL'!F242","v":84.687029731620783},{"$f":"'ITCER GLOBAL'!G242","v":112.50387308899676},{"$f":"'ITCER GLOBAL'!H242","v":145.43099460738333},{"$f":"'ITCER GLOBAL'!I242","v":94.043190741596845},{"$f":"'ITCER GLOBAL'!S242","v":172.57234999503845},{"$f":"'ITCER GLOBAL'!T242","v":94.625256183489185},{"$f":"'ITCER GLOBAL'!U242","v":95.777990253294107},{"$f":"'ITCER GLOBAL'!V242","v":139.58945988066711},{"$f":"'ITCER GLOBAL'!W242","v":198.62934138948989},{"$f":"'ITCER GLOBAL'!X242","v":264.09002494378137},{"$f":"'ITCER GLOBAL'!Y242","v":100.72613922047307},{"$f":"'ITCER GLOBAL'!AA242","v":215.94094898940673},{"$f":"'ITCER GLOBAL'!AB242","v":91.194324878990614},{"$f":"'ITCER GLOBAL'!AC242","v":147.57958638078929},{"$f":"'ITCER GLOBAL'!AD242","v":164.82979781323778},{"$f":"'ITCER GLOBAL'!AE242","v":176.55333628591004},{"$f":"'ITCER GLOBAL'!AF242","v":181.59129397192055},{"$f":"'ITCER GLOBAL'!AG242","v":107.10625450516562},null,{"$f":"IF(EFECTOS!$N$9=\"COSTA RICA\",LOOKUP(1,GEfectos!$C$4:$I$4,GEfectos!C242:I242),IF(EFECTOS!$N$9=\"EL SALVADOR\",LOOKUP(2,GEfectos!$C$4:$I$4,GEfectos!C242:I242),IF(EFECTOS!$N$9=\"GUATEMALA\",LOOKUP(3,GEfectos!$C$4:$I$4,GEfectos!C242:I242),IF(EFECTOS!$N$9=\"HONDURAS\",LOOKUP(4,GEfectos!$C$4:$I$4,GEfectos!C242:I242),IF(EFECTOS!$N$9=\"NICARAGUA\",LOOKUP(5,GEfectos!$C$4:$I$4,GEfectos!C242:I242),IF(EFECTOS!$N$9=\"REPÚBLICA \nDOMINICANA\",LOOKUP(6,$C$4:$I$4,C242:I242),IF(EFECTOS!$N$9=\"PANAMÁ\",LOOKUP(7,GEfectos!$C$4:$I$4,GEfectos!C242:I242))))))))","v":79.91645438378815},{"$f":"IF(EFECTOS!$N$9=\"COSTA RICA\",LOOKUP(1,GEfectos!$J$4:$P$4,GEfectos!J242:P242),IF(EFECTOS!$N$9=\"EL SALVADOR\",LOOKUP(2,GEfectos!$J$4:$P$4,GEfectos!J242:P242),IF(EFECTOS!$N$9=\"GUATEMALA\",LOOKUP(3,GEfectos!$J$4:$P$4,GEfectos!J242:P242),IF(EFECTOS!$N$9=\"HONDURAS\",LOOKUP(4,GEfectos!$J$4:$P$4,GEfectos!J242:P242),IF(EFECTOS!$N$9=\"NICARAGUA\",LOOKUP(5,GEfectos!$J$4:$P$4,GEfectos!J242:P242),IF(EFECTOS!$N$9=\"REPÚBLICA \nDOMINICANA\",LOOKUP(6,$J$4:$P$4,J242:P242),IF(EFECTOS!$N$9=\"PANAMÁ\",LOOKUP(7,GEfectos!$J$4:$P$4,GEfectos!J242:P242))))))))","v":172.57234999503845},{"$f":"IF(EFECTOS!$N$9=\"COSTA RICA\",LOOKUP(1,GEfectos!$Q$4:$W$4,GEfectos!Q242:W242),IF(EFECTOS!$N$9=\"EL SALVADOR\",LOOKUP(2,GEfectos!$Q$4:$W$4,GEfectos!Q242:W242),IF(EFECTOS!$N$9=\"GUATEMALA\",LOOKUP(3,GEfectos!$Q$4:$W$4,GEfectos!Q242:W242),IF(EFECTOS!$N$9=\"HONDURAS\",LOOKUP(4,GEfectos!$Q$4:$W$4,GEfectos!Q242:W242),IF(EFECTOS!$N$9=\"NICARAGUA\",LOOKUP(5,GEfectos!$Q$4:$W$4,GEfectos!Q242:W242),IF(EFECTOS!$N$9=\"REPÚBLICA \nDOMINICANA\",LOOKUP(6,$Q$4:$W$4,Q242:W242),IF(EFECTOS!$N$9=\"PANAMÁ\",LOOKUP(7,GEfectos!$Q$4:$W$4,GEfectos!Q242:W242))))))))","v":215.94094898940673},100]
[null,{"$f":"'ITCER GLOBAL'!B243","v":"Octubre"},{"$f":"'ITCER GLOBAL'!C243","v":79.649606760037699},{"$f":"'ITCER GLOBAL'!D243","v":103.34608591077409},{"$f":"'ITCER GLOBAL'!E243","v":63.730563083054612},{"$f":"'ITCER GLOBAL'!F243","v":84.556646795327509},{"$f":"'ITCER GLOBAL'!G243","v":112.25442606821278},{"$f":"'ITCER GLOBAL'!H243","v":145.20382944376195},{"$f":"'ITCER GLOBAL'!I243","v":93.347158348381768},{"$f":"'ITCER GLOBAL'!S243","v":171.65941783521234},{"$f":"'ITCER GLOBAL'!T243","v":94.343009271579632},{"$f":"'ITCER GLOBAL'!U243","v":94.246469707070574},{"$f":"'ITCER GLOBAL'!V243","v":139.8905462171156},{"$f":"'ITCER GLOBAL'!W243","v":198.591372477774},{"$f":"'ITCER GLOBAL'!X243","v":263.61903831023346},{"$f":"'ITCER GLOBAL'!Y243","v":99.964047141598698},{"$f":"'ITCER GLOBAL'!AA243","v":215.51822390332046},{"$f":"'ITCER GLOBAL'!AB243","v":91.288420301696334},{"$f":"'ITCER GLOBAL'!AC243","v":147.88268790948416},{"$f":"'ITCER GLOBAL'!AD243","v":165.44003519407036},{"$f":"'ITCER GLOBAL'!AE243","v":176.91184163829544},{"$f":"'ITCER GLOBAL'!AF243","v":181.55102335805421},{"$f":"'ITCER GLOBAL'!AG243","v":107.08847372570463},null,{"$f":"IF(EFECTOS!$N$9=\"COSTA RICA\",LOOKUP(1,GEfectos!$C$4:$I$4,GEfectos!C243:I243),IF(EFECTOS!$N$9=\"EL SALVADOR\",LOOKUP(2,GEfectos!$C$4:$I$4,GEfectos!C243:I243),IF(EFECTOS!$N$9=\"GUATEMALA\",LOOKUP(3,GEfectos!$C$4:$I$4,GEfectos!C243:I243),IF(EFECTOS!$N$9=\"HONDURAS\",LOOKUP(4,GEfectos!$C$4:$I$4,GEfectos!C243:I243),IF(EFECTOS!$N$9=\"NICARAGUA\",LOOKUP(5,GEfectos!$C$4:$I$4,GEfectos!C243:I243),IF(EFECTOS!$N$9=\"REPÚBLICA \nDOMINICANA\",LOOKUP(6,$C$4:$I$4,C243:I243),IF(EFECTOS!$N$9=\"PANAMÁ\",LOOKUP(7,GEfectos!$C$4:$I$4,GEfectos!C243:I243))))))))","v":79.649606760037699},{"$f":"IF(EFECTOS!$N$9=\"COSTA RICA\",LOOKUP(1,GEfectos!$J$4:$P$4,GEfectos!J243:P243),IF(EFECTOS!$N$9=\"EL SALVADOR\",LOOKUP(2,GEfectos!$J$4:$P$4,GEfectos!J243:P243),IF(EFECTOS!$N$9=\"GUATEMALA\",LOOKUP(3,GEfectos!$J$4:$P$4,GEfectos!J243:P243),IF(EFECTOS!$N$9=\"HONDURAS\",LOOKUP(4,GEfectos!$J$4:$P$4,GEfectos!J243:P243),IF(EFECTOS!$N$9=\"NICARAGUA\",LOOKUP(5,GEfectos!$J$4:$P$4,GEfectos!J243:P243),IF(EFECTOS!$N$9=\"REPÚBLICA \nDOMINICANA\",LOOKUP(6,$J$4:$P$4,J243:P243),IF(EFECTOS!$N$9=\"PANAMÁ\",LOOKUP(7,GEfectos!$J$4:$P$4,GEfectos!J243:P243))))))))","v":171.65941783521234},{"$f":"IF(EFECTOS!$N$9=\"COSTA RICA\",LOOKUP(1,GEfectos!$Q$4:$W$4,GEfectos!Q243:W243),IF(EFECTOS!$N$9=\"EL SALVADOR\",LOOKUP(2,GEfectos!$Q$4:$W$4,GEfectos!Q243:W243),IF(EFECTOS!$N$9=\"GUATEMALA\",LOOKUP(3,GEfectos!$Q$4:$W$4,GEfectos!Q243:W243),IF(EFECTOS!$N$9=\"HONDURAS\",LOOKUP(4,GEfectos!$Q$4:$W$4,GEfectos!Q243:W243),IF(EFECTOS!$N$9=\"NICARAGUA\",LOOKUP(5,GEfectos!$Q$4:$W$4,GEfectos!Q243:W243),IF(EFECTOS!$N$9=\"REPÚBLICA \nDOMINICANA\",LOOKUP(6,$Q$4:$W$4,Q243:W243),IF(EFECTOS!$N$9=\"PANAMÁ\",LOOKUP(7,GEfectos!$Q$4:$W$4,GEfectos!Q243:W243))))))))","v":215.51822390332046},100]
[null,{"$f":"'ITCER GLOBAL'!B244","v":"Noviembre"},{"$f":"'ITCER GLOBAL'!C244","v":78.332018700881591},{"$f":"'ITCER GLOBAL'!D244","v":103.32104222256405},{"$f":"'ITCER GLOBAL'!E244","v":62.911928147250343},{"$f":"'ITCER GLOBAL'!F244","v":83.942103424322937},{"$f":"'ITCER GLOBAL'!G244","v":110.20635406072314},{"$f":"'ITCER GLOBAL'!H244","v":144.83107640068482},{"$f":"'ITCER GLOBAL'!I244","v":92.658764464938614},{"$f":"'ITCER GLOBAL'!S244","v":169.85479143216202},{"$f":"'ITCER GLOBAL'!T244","v":93.952071173699096},{"$f":"'ITCER GLOBAL'!U244","v":93.392084215007415},{"$f":"'ITCER GLOBAL'!V244","v":139.68737159634793},{"$f":"'ITCER GLOBAL'!W244","v":197.95390162542563},{"$f":"'ITCER GLOBAL'!X244","v":263.25174742767837},{"$f":"'ITCER GLOBAL'!Y244","v":99.007121615937862},{"$f":"'ITCER GLOBAL'!AA244","v":216.83954307467678},{"$f":"'ITCER GLOBAL'!AB244","v":90.932175240080099},{"$f":"'ITCER GLOBAL'!AC244","v":148.44893006047417},{"$f":"'ITCER GLOBAL'!AD244","v":166.40918668696636},{"$f":"'ITCER GLOBAL'!AE244","v":179.62113283990325},{"$f":"'ITCER GLOBAL'!AF244","v":181.7646833607553},{"$f":"'ITCER GLOBAL'!AG244","v":106.85132937791482},null,{"$f":"IF(EFECTOS!$N$9=\"COSTA RICA\",LOOKUP(1,GEfectos!$C$4:$I$4,GEfectos!C244:I244),IF(EFECTOS!$N$9=\"EL SALVADOR\",LOOKUP(2,GEfectos!$C$4:$I$4,GEfectos!C244:I244),IF(EFECTOS!$N$9=\"GUATEMALA\",LOOKUP(3,GEfectos!$C$4:$I$4,GEfectos!C244:I244),IF(EFECTOS!$N$9=\"HONDURAS\",LOOKUP(4,GEfectos!$C$4:$I$4,GEfectos!C244:I244),IF(EFECTOS!$N$9=\"NICARAGUA\",LOOKUP(5,GEfectos!$C$4:$I$4,GEfectos!C244:I244),IF(EFECTOS!$N$9=\"REPÚBLICA \nDOMINICANA\",LOOKUP(6,$C$4:$I$4,C244:I244),IF(EFECTOS!$N$9=\"PANAMÁ\",LOOKUP(7,GEfectos!$C$4:$I$4,GEfectos!C244:I244))))))))","v":78.332018700881591},{"$f":"IF(EFECTOS!$N$9=\"COSTA RICA\",LOOKUP(1,GEfectos!$J$4:$P$4,GEfectos!J244:P244),IF(EFECTOS!$N$9=\"EL SALVADOR\",LOOKUP(2,GEfectos!$J$4:$P$4,GEfectos!J244:P244),IF(EFECTOS!$N$9=\"GUATEMALA\",LOOKUP(3,GEfectos!$J$4:$P$4,GEfectos!J244:P244),IF(EFECTOS!$N$9=\"HONDURAS\",LOOKUP(4,GEfectos!$J$4:$P$4,GEfectos!J244:P244),IF(EFECTOS!$N$9=\"NICARAGUA\",LOOKUP(5,GEfectos!$J$4:$P$4,GEfectos!J244:P244),IF(EFECTOS!$N$9=\"REPÚBLICA \nDOMINICANA\",LOOKUP(6,$J$4:$P$4,J244:P244),IF(EFECTOS!$N$9=\"PANAMÁ\",LOOKUP(7,GEfectos!$J$4:$P$4,GEfectos!J244:P244))))))))","v":169.85479143216202},{"$f":"IF(EFECTOS!$N$9=\"COSTA RICA\",LOOKUP(1,GEfectos!$Q$4:$W$4,GEfectos!Q244:W244),IF(EFECTOS!$N$9=\"EL SALVADOR\",LOOKUP(2,GEfectos!$Q$4:$W$4,GEfectos!Q244:W244),IF(EFECTOS!$N$9=\"GUATEMALA\",LOOKUP(3,GEfectos!$Q$4:$W$4,GEfectos!Q244:W244),IF(EFECTOS!$N$9=\"HONDURAS\",LOOKUP(4,GEfectos!$Q$4:$W$4,GEfectos!Q244:W244),IF(EFECTOS!$N$9=\"NICARAGUA\",LOOKUP(5,GEfectos!$Q$4:$W$4,GEfectos!Q244:W244),IF(EFECTOS!$N$9=\"REPÚBLICA \nDOMINICANA\",LOOKUP(6,$Q$4:$W$4,Q244:W244),IF(EFECTOS!$N$9=\"PANAMÁ\",LOOKUP(7,GEfectos!$Q$4:$W$4,GEfectos!Q244:W244))))))))","v":216.83954307467678},100]
[null,{"$f":"'ITCER GLOBAL'!B245","v":"Diciembre"},{"$f":"'ITCER GLOBAL'!C245","v":77.269631579937311},{"$f":"'ITCER GLOBAL'!D245","v":103.05129936464678},{"$f":"'ITCER GLOBAL'!E245","v":62.090563252136697},{"$f":"'ITCER GLOBAL'!F245","v":83.637776249666317},{"$f":"'ITCER GLOBAL'!G245","v":109.09017635344927},{"$f":"'ITCER GLOBAL'!H245","v":144.45034533751939},{"$f":"'ITCER GLOBAL'!I245","v":91.618672324946502},{"$f":"'ITCER GLOBAL'!S245","v":167.637282695972},{"$f":"'ITCER GLOBAL'!T245","v":93.182103220715305},{"$f":"'ITCER GLOBAL'!U245","v":92.318739032817859},{"$f":"'ITCER GLOBAL'!V245","v":139.26191172901369},{"$f":"'ITCER GLOBAL'!W245","v":196.23484721015996},{"$f":"'ITCER GLOBAL'!X245","v":261.29216486298799},{"$f":"'ITCER GLOBAL'!Y245","v":97.744624865924123},{"$f":"'ITCER GLOBAL'!AA245","v":216.95105731486137},{"$f":"'ITCER GLOBAL'!AB245","v":90.423026002797556},{"$f":"'ITCER GLOBAL'!AC245","v":148.68400961017363},{"$f":"'ITCER GLOBAL'!AD245","v":166.50599522553574},{"$f":"'ITCER GLOBAL'!AE245","v":179.8831515079454},{"$f":"'ITCER GLOBAL'!AF245","v":180.88718601015364},{"$f":"'ITCER GLOBAL'!AG245","v":106.68635812495791},null,{"$f":"IF(EFECTOS!$N$9=\"COSTA RICA\",LOOKUP(1,GEfectos!$C$4:$I$4,GEfectos!C245:I245),IF(EFECTOS!$N$9=\"EL SALVADOR\",LOOKUP(2,GEfectos!$C$4:$I$4,GEfectos!C245:I245),IF(EFECTOS!$N$9=\"GUATEMALA\",LOOKUP(3,GEfectos!$C$4:$I$4,GEfectos!C245:I245),IF(EFECTOS!$N$9=\"HONDURAS\",LOOKUP(4,GEfectos!$C$4:$I$4,GEfectos!C245:I245),IF(EFECTOS!$N$9=\"NICARAGUA\",LOOKUP(5,GEfectos!$C$4:$I$4,GEfectos!C245:I245),IF(EFECTOS!$N$9=\"REPÚBLICA \nDOMINICANA\",LOOKUP(6,$C$4:$I$4,C245:I245),IF(EFECTOS!$N$9=\"PANAMÁ\",LOOKUP(7,GEfectos!$C$4:$I$4,GEfectos!C245:I245))))))))","v":77.269631579937311},{"$f":"IF(EFECTOS!$N$9=\"COSTA RICA\",LOOKUP(1,GEfectos!$J$4:$P$4,GEfectos!J245:P245),IF(EFECTOS!$N$9=\"EL SALVADOR\",LOOKUP(2,GEfectos!$J$4:$P$4,GEfectos!J245:P245),IF(EFECTOS!$N$9=\"GUATEMALA\",LOOKUP(3,GEfectos!$J$4:$P$4,GEfectos!J245:P245),IF(EFECTOS!$N$9=\"HONDURAS\",LOOKUP(4,GEfectos!$J$4:$P$4,GEfectos!J245:P245),IF(EFECTOS!$N$9=\"NICARAGUA\",LOOKUP(5,GEfectos!$J$4:$P$4,GEfectos!J245:P245),IF(EFECTOS!$N$9=\"REPÚBLICA \nDOMINICANA\",LOOKUP(6,$J$4:$P$4,J245:P245),IF(EFECTOS!$N$9=\"PANAMÁ\",LOOKUP(7,GEfectos!$J$4:$P$4,GEfectos!J245:P245))))))))","v":167.637282695972},{"$f":"IF(EFECTOS!$N$9=\"COSTA RICA\",LOOKUP(1,GEfectos!$Q$4:$W$4,GEfectos!Q245:W245),IF(EFECTOS!$N$9=\"EL SALVADOR\",LOOKUP(2,GEfectos!$Q$4:$W$4,GEfectos!Q245:W245),IF(EFECTOS!$N$9=\"GUATEMALA\",LOOKUP(3,GEfectos!$Q$4:$W$4,GEfectos!Q245:W245),IF(EFECTOS!$N$9=\"HONDURAS\",LOOKUP(4,GEfectos!$Q$4:$W$4,GEfectos!Q245:W245),IF(EFECTOS!$N$9=\"NICARAGUA\",LOOKUP(5,GEfectos!$Q$4:$W$4,GEfectos!Q245:W245),IF(EFECTOS!$N$9=\"REPÚBLICA \nDOMINICANA\",LOOKUP(6,$Q$4:$W$4,Q245:W245),IF(EFECTOS!$N$9=\"PANAMÁ\",LOOKUP(7,GEfectos!$Q$4:$W$4,GEfectos!Q245:W245))))))))","v":216.95105731486137},100]
[2015,{"$f":"'ITCER GLOBAL'!B246","v":"Enero"},{"$f":"'ITCER GLOBAL'!C246","v":76.82022932011202},{"$f":"'ITCER GLOBAL'!D246","v":103.02463377238938},{"$f":"'ITCER GLOBAL'!E246","v":62.150394265609442},{"$f":"'ITCER GLOBAL'!F246","v":83.655865560918002},{"$f":"'ITCER GLOBAL'!G246","v":106.85095577195911},{"$f":"'ITCER GLOBAL'!H246","v":140.7924397871426},{"$f":"'ITCER GLOBAL'!I246","v":89.442646954351318},{"$f":"'ITCER GLOBAL'!S246","v":167.39236557320885},{"$f":"'ITCER GLOBAL'!T246","v":93.150789840050848},{"$f":"'ITCER GLOBAL'!U246","v":92.735510983208485},{"$f":"'ITCER GLOBAL'!V246","v":139.03251758125498},{"$f":"'ITCER GLOBAL'!W246","v":193.60178524336942},{"$f":"'ITCER GLOBAL'!X246","v":263.7755906776261},{"$f":"'ITCER GLOBAL'!Y246","v":97.796804027543345},{"$f":"'ITCER GLOBAL'!AA246","v":217.9014135400198},{"$f":"'ITCER GLOBAL'!AB246","v":90.416035883075637},{"$f":"'ITCER GLOBAL'!AC246","v":149.21146048871188},{"$f":"'ITCER GLOBAL'!AD246","v":166.1957791590977},{"$f":"'ITCER GLOBAL'!AE246","v":181.18863218832931},{"$f":"'ITCER GLOBAL'!AF246","v":187.350678116251},{"$f":"'ITCER GLOBAL'!AG246","v":109.34023908914024},null,{"$f":"IF(EFECTOS!$N$9=\"COSTA RICA\",LOOKUP(1,GEfectos!$C$4:$I$4,GEfectos!C246:I246),IF(EFECTOS!$N$9=\"EL SALVADOR\",LOOKUP(2,GEfectos!$C$4:$I$4,GEfectos!C246:I246),IF(EFECTOS!$N$9=\"GUATEMALA\",LOOKUP(3,GEfectos!$C$4:$I$4,GEfectos!C246:I246),IF(EFECTOS!$N$9=\"HONDURAS\",LOOKUP(4,GEfectos!$C$4:$I$4,GEfectos!C246:I246),IF(EFECTOS!$N$9=\"NICARAGUA\",LOOKUP(5,GEfectos!$C$4:$I$4,GEfectos!C246:I246),IF(EFECTOS!$N$9=\"REPÚBLICA \nDOMINICANA\",LOOKUP(6,$C$4:$I$4,C246:I246),IF(EFECTOS!$N$9=\"PANAMÁ\",LOOKUP(7,GEfectos!$C$4:$I$4,GEfectos!C246:I246))))))))","v":76.82022932011202},{"$f":"IF(EFECTOS!$N$9=\"COSTA RICA\",LOOKUP(1,GEfectos!$J$4:$P$4,GEfectos!J246:P246),IF(EFECTOS!$N$9=\"EL SALVADOR\",LOOKUP(2,GEfectos!$J$4:$P$4,GEfectos!J246:P246),IF(EFECTOS!$N$9=\"GUATEMALA\",LOOKUP(3,GEfectos!$J$4:$P$4,GEfectos!J246:P246),IF(EFECTOS!$N$9=\"HONDURAS\",LOOKUP(4,GEfectos!$J$4:$P$4,GEfectos!J246:P246),IF(EFECTOS!$N$9=\"NICARAGUA\",LOOKUP(5,GEfectos!$J$4:$P$4,GEfectos!J246:P246),IF(EFECTOS!$N$9=\"REPÚBLICA \nDOMINICANA\",LOOKUP(6,$J$4:$P$4,J246:P246),IF(EFECTOS!$N$9=\"PANAMÁ\",LOOKUP(7,GEfectos!$J$4:$P$4,GEfectos!J246:P246))))))))","v":167.39236557320885},{"$f":"IF(EFECTOS!$N$9=\"COSTA RICA\",LOOKUP(1,GEfectos!$Q$4:$W$4,GEfectos!Q246:W246),IF(EFECTOS!$N$9=\"EL SALVADOR\",LOOKUP(2,GEfectos!$Q$4:$W$4,GEfectos!Q246:W246),IF(EFECTOS!$N$9=\"GUATEMALA\",LOOKUP(3,GEfectos!$Q$4:$W$4,GEfectos!Q246:W246),IF(EFECTOS!$N$9=\"HONDURAS\",LOOKUP(4,GEfectos!$Q$4:$W$4,GEfectos!Q246:W246),IF(EFECTOS!$N$9=\"NICARAGUA\",LOOKUP(5,GEfectos!$Q$4:$W$4,GEfectos!Q246:W246),IF(EFECTOS!$N$9=\"REPÚBLICA \nDOMINICANA\",LOOKUP(6,$Q$4:$W$4,Q246:W246),IF(EFECTOS!$N$9=\"PANAMÁ\",LOOKUP(7,GEfectos!$Q$4:$W$4,GEfectos!Q246:W246))))))))","v":217.9014135400198},100]
[null,{"$f":"'ITCER GLOBAL'!B247","v":"Febrero"},{"$f":"'ITCER GLOBAL'!C247","v":76.75487650818441},{"$f":"'ITCER GLOBAL'!D247","v":103.14789273974796},{"$f":"'ITCER GLOBAL'!E247","v":61.868494035294226},{"$f":"'ITCER GLOBAL'!F247","v":83.68874694603646},{"$f":"'ITCER GLOBAL'!G247","v":106.05648788323934},{"$f":"'ITCER GLOBAL'!H247","v":141.15702494051786},{"$f":"'ITCER GLOBAL'!I247","v":89.801516059759663},{"$f":"'ITCER GLOBAL'!S247","v":166.17516666954918},{"$f":"'ITCER GLOBAL'!T247","v":92.725800532362186},{"$f":"'ITCER GLOBAL'!U247","v":92.234409115089136},{"$f":"'ITCER GLOBAL'!V247","v":139.41703234735238},{"$f":"'ITCER GLOBAL'!W247","v":192.71049330431322},{"$f":"'ITCER GLOBAL'!X247","v":263.60277255898438},{"$f":"'ITCER GLOBAL'!Y247","v":97.064980074762843},{"$f":"'ITCER GLOBAL'!AA247","v":216.50111918534566},{"$f":"'ITCER GLOBAL'!AB247","v":89.895971763881107},{"$f":"'ITCER GLOBAL'!AC247","v":149.08138714750677},{"$f":"'ITCER GLOBAL'!AD247","v":166.58993883281607},{"$f":"'ITCER GLOBAL'!AE247","v":181.70552047364964},{"$f":"'ITCER GLOBAL'!AF247","v":186.74435273063025},{"$f":"'ITCER GLOBAL'!AG247","v":108.08835344179448},null,{"$f":"IF(EFECTOS!$N$9=\"COSTA RICA\",LOOKUP(1,GEfectos!$C$4:$I$4,GEfectos!C247:I247),IF(EFECTOS!$N$9=\"EL SALVADOR\",LOOKUP(2,GEfectos!$C$4:$I$4,GEfectos!C247:I247),IF(EFECTOS!$N$9=\"GUATEMALA\",LOOKUP(3,GEfectos!$C$4:$I$4,GEfectos!C247:I247),IF(EFECTOS!$N$9=\"HONDURAS\",LOOKUP(4,GEfectos!$C$4:$I$4,GEfectos!C247:I247),IF(EFECTOS!$N$9=\"NICARAGUA\",LOOKUP(5,GEfectos!$C$4:$I$4,GEfectos!C247:I247),IF(EFECTOS!$N$9=\"REPÚBLICA \nDOMINICANA\",LOOKUP(6,$C$4:$I$4,C247:I247),IF(EFECTOS!$N$9=\"PANAMÁ\",LOOKUP(7,GEfectos!$C$4:$I$4,GEfectos!C247:I247))))))))","v":76.75487650818441},{"$f":"IF(EFECTOS!$N$9=\"COSTA RICA\",LOOKUP(1,GEfectos!$J$4:$P$4,GEfectos!J247:P247),IF(EFECTOS!$N$9=\"EL SALVADOR\",LOOKUP(2,GEfectos!$J$4:$P$4,GEfectos!J247:P247),IF(EFECTOS!$N$9=\"GUATEMALA\",LOOKUP(3,GEfectos!$J$4:$P$4,GEfectos!J247:P247),IF(EFECTOS!$N$9=\"HONDURAS\",LOOKUP(4,GEfectos!$J$4:$P$4,GEfectos!J247:P247),IF(EFECTOS!$N$9=\"NICARAGUA\",LOOKUP(5,GEfectos!$J$4:$P$4,GEfectos!J247:P247),IF(EFECTOS!$N$9=\"REPÚBLICA \nDOMINICANA\",LOOKUP(6,$J$4:$P$4,J247:P247),IF(EFECTOS!$N$9=\"PANAMÁ\",LOOKUP(7,GEfectos!$J$4:$P$4,GEfectos!J247:P247))))))))","v":166.17516666954918},{"$f":"IF(EFECTOS!$N$9=\"COSTA RICA\",LOOKUP(1,GEfectos!$Q$4:$W$4,GEfectos!Q247:W247),IF(EFECTOS!$N$9=\"EL SALVADOR\",LOOKUP(2,GEfectos!$Q$4:$W$4,GEfectos!Q247:W247),IF(EFECTOS!$N$9=\"GUATEMALA\",LOOKUP(3,GEfectos!$Q$4:$W$4,GEfectos!Q247:W247),IF(EFECTOS!$N$9=\"HONDURAS\",LOOKUP(4,GEfectos!$Q$4:$W$4,GEfectos!Q247:W247),IF(EFECTOS!$N$9=\"NICARAGUA\",LOOKUP(5,GEfectos!$Q$4:$W$4,GEfectos!Q247:W247),IF(EFECTOS!$N$9=\"REPÚBLICA \nDOMINICANA\",LOOKUP(6,$Q$4:$W$4,Q247:W247),IF(EFECTOS!$N$9=\"PANAMÁ\",LOOKUP(7,GEfectos!$Q$4:$W$4,GEfectos!Q247:W247))))))))","v":216.50111918534566},100]
[null,{"$f":"'ITCER GLOBAL'!B248","v":"Marzo"},{"$f":"'ITCER GLOBAL'!C248","v":75.789980413832737},{"$f":"'ITCER GLOBAL'!D248","v":102.54404497555106},{"$f":"'ITCER GLOBAL'!E248","v":61.386362547093746},{"$f":"'ITCER GLOBAL'!F248","v":83.072790124109787},{"$f":"'ITCER GLOBAL'!G248","v":105.53812973483836},{"$f":"'ITCER GLOBAL'!H248","v":140.06110436740593},{"$f":"'ITCER GLOBAL'!I248","v":88.205574888310394},{"$f":"'ITCER GLOBAL'!S248","v":163.51689870159279},{"$f":"'ITCER GLOBAL'!T248","v":92.212527080669531},{"$f":"'ITCER GLOBAL'!U248","v":91.267351080571103},{"$f":"'ITCER GLOBAL'!V248","v":138.63279832776527},{"$f":"'ITCER GLOBAL'!W248","v":191.726064866651},{"$f":"'ITCER GLOBAL'!X248","v":260.63918728377962},{"$f":"'ITCER GLOBAL'!Y248","v":95.693879112641795},{"$f":"'ITCER GLOBAL'!AA248","v":215.75002105654147},{"$f":"'ITCER GLOBAL'!AB248","v":89.924799731330268},{"$f":"'ITCER GLOBAL'!AC248","v":148.67691665319569},{"$f":"'ITCER GLOBAL'!AD248","v":166.88111488809932},{"$f":"'ITCER GLOBAL'!AE248","v":181.66520986145713},{"$f":"'ITCER GLOBAL'!AF248","v":186.08962742438135},{"$f":"'ITCER GLOBAL'!AG248","v":108.4896042385228},null,{"$f":"IF(EFECTOS!$N$9=\"COSTA RICA\",LOOKUP(1,GEfectos!$C$4:$I$4,GEfectos!C248:I248),IF(EFECTOS!$N$9=\"EL SALVADOR\",LOOKUP(2,GEfectos!$C$4:$I$4,GEfectos!C248:I248),IF(EFECTOS!$N$9=\"GUATEMALA\",LOOKUP(3,GEfectos!$C$4:$I$4,GEfectos!C248:I248),IF(EFECTOS!$N$9=\"HONDURAS\",LOOKUP(4,GEfectos!$C$4:$I$4,GEfectos!C248:I248),IF(EFECTOS!$N$9=\"NICARAGUA\",LOOKUP(5,GEfectos!$C$4:$I$4,GEfectos!C248:I248),IF(EFECTOS!$N$9=\"REPÚBLICA \nDOMINICANA\",LOOKUP(6,$C$4:$I$4,C248:I248),IF(EFECTOS!$N$9=\"PANAMÁ\",LOOKUP(7,GEfectos!$C$4:$I$4,GEfectos!C248:I248))))))))","v":75.789980413832737},{"$f":"IF(EFECTOS!$N$9=\"COSTA RICA\",LOOKUP(1,GEfectos!$J$4:$P$4,GEfectos!J248:P248),IF(EFECTOS!$N$9=\"EL SALVADOR\",LOOKUP(2,GEfectos!$J$4:$P$4,GEfectos!J248:P248),IF(EFECTOS!$N$9=\"GUATEMALA\",LOOKUP(3,GEfectos!$J$4:$P$4,GEfectos!J248:P248),IF(EFECTOS!$N$9=\"HONDURAS\",LOOKUP(4,GEfectos!$J$4:$P$4,GEfectos!J248:P248),IF(EFECTOS!$N$9=\"NICARAGUA\",LOOKUP(5,GEfectos!$J$4:$P$4,GEfectos!J248:P248),IF(EFECTOS!$N$9=\"REPÚBLICA \nDOMINICANA\",LOOKUP(6,$J$4:$P$4,J248:P248),IF(EFECTOS!$N$9=\"PANAMÁ\",LOOKUP(7,GEfectos!$J$4:$P$4,GEfectos!J248:P248))))))))","v":163.51689870159279},{"$f":"IF(EFECTOS!$N$9=\"COSTA RICA\",LOOKUP(1,GEfectos!$Q$4:$W$4,GEfectos!Q248:W248),IF(EFECTOS!$N$9=\"EL SALVADOR\",LOOKUP(2,GEfectos!$Q$4:$W$4,GEfectos!Q248:W248),IF(EFECTOS!$N$9=\"GUATEMALA\",LOOKUP(3,GEfectos!$Q$4:$W$4,GEfectos!Q248:W248),IF(EFECTOS!$N$9=\"HONDURAS\",LOOKUP(4,GEfectos!$Q$4:$W$4,GEfectos!Q248:W248),IF(EFECTOS!$N$9=\"NICARAGUA\",LOOKUP(5,GEfectos!$Q$4:$W$4,GEfectos!Q248:W248),IF(EFECTOS!$N$9=\"REPÚBLICA \nDOMINICANA\",LOOKUP(6,$Q$4:$W$4,Q248:W248),IF(EFECTOS!$N$9=\"PANAMÁ\",LOOKUP(7,GEfectos!$Q$4:$W$4,GEfectos!Q248:W248))))))))","v":215.75002105654147},100]
[null,{"$f":"'ITCER GLOBAL'!B249","v":"Abril"},{"$f":"'ITCER GLOBAL'!C249","v":75.973042460060711},{"$f":"'ITCER GLOBAL'!D249","v":102.75406916815359},{"$f":"'ITCER GLOBAL'!E249","v":62.07420807270713},{"$f":"'ITCER GLOBAL'!F249","v":83.51834736295767},{"$f":"'ITCER GLOBAL'!G249","v":106.05111910552061},{"$f":"'ITCER GLOBAL'!H249","v":141.28362567081746},{"$f":"'ITCER GLOBAL'!I249","v":88.291257247051931},{"$f":"'ITCER GLOBAL'!S249","v":163.4924699592255},{"$f":"'ITCER GLOBAL'!T249","v":92.24419209050707},{"$f":"'ITCER GLOBAL'!U249","v":92.477809130013682},{"$f":"'ITCER GLOBAL'!V249","v":139.47342629537599},{"$f":"'ITCER GLOBAL'!W249","v":192.86359534138745},{"$f":"'ITCER GLOBAL'!X249","v":261.78538760321891},{"$f":"'ITCER GLOBAL'!Y249","v":96.080789167576626},{"$f":"'ITCER GLOBAL'!AA249","v":215.19800269309215},{"$f":"'ITCER GLOBAL'!AB249","v":89.771814233023264},{"$f":"'ITCER GLOBAL'!AC249","v":148.97944251128425},{"$f":"'ITCER GLOBAL'!AD249","v":166.99734932403095},{"$f":"'ITCER GLOBAL'!AE249","v":181.85908547507984},{"$f":"'ITCER GLOBAL'!AF249","v":185.29067778396592},{"$f":"'ITCER GLOBAL'!AG249","v":108.82254049087605},null,{"$f":"IF(EFECTOS!$N$9=\"COSTA RICA\",LOOKUP(1,GEfectos!$C$4:$I$4,GEfectos!C249:I249),IF(EFECTOS!$N$9=\"EL SALVADOR\",LOOKUP(2,GEfectos!$C$4:$I$4,GEfectos!C249:I249),IF(EFECTOS!$N$9=\"GUATEMALA\",LOOKUP(3,GEfectos!$C$4:$I$4,GEfectos!C249:I249),IF(EFECTOS!$N$9=\"HONDURAS\",LOOKUP(4,GEfectos!$C$4:$I$4,GEfectos!C249:I249),IF(EFECTOS!$N$9=\"NICARAGUA\",LOOKUP(5,GEfectos!$C$4:$I$4,GEfectos!C249:I249),IF(EFECTOS!$N$9=\"REPÚBLICA \nDOMINICANA\",LOOKUP(6,$C$4:$I$4,C249:I249),IF(EFECTOS!$N$9=\"PANAMÁ\",LOOKUP(7,GEfectos!$C$4:$I$4,GEfectos!C249:I249))))))))","v":75.973042460060711},{"$f":"IF(EFECTOS!$N$9=\"COSTA RICA\",LOOKUP(1,GEfectos!$J$4:$P$4,GEfectos!J249:P249),IF(EFECTOS!$N$9=\"EL SALVADOR\",LOOKUP(2,GEfectos!$J$4:$P$4,GEfectos!J249:P249),IF(EFECTOS!$N$9=\"GUATEMALA\",LOOKUP(3,GEfectos!$J$4:$P$4,GEfectos!J249:P249),IF(EFECTOS!$N$9=\"HONDURAS\",LOOKUP(4,GEfectos!$J$4:$P$4,GEfectos!J249:P249),IF(EFECTOS!$N$9=\"NICARAGUA\",LOOKUP(5,GEfectos!$J$4:$P$4,GEfectos!J249:P249),IF(EFECTOS!$N$9=\"REPÚBLICA \nDOMINICANA\",LOOKUP(6,$J$4:$P$4,J249:P249),IF(EFECTOS!$N$9=\"PANAMÁ\",LOOKUP(7,GEfectos!$J$4:$P$4,GEfectos!J249:P249))))))))","v":163.4924699592255},{"$f":"IF(EFECTOS!$N$9=\"COSTA RICA\",LOOKUP(1,GEfectos!$Q$4:$W$4,GEfectos!Q249:W249),IF(EFECTOS!$N$9=\"EL SALVADOR\",LOOKUP(2,GEfectos!$Q$4:$W$4,GEfectos!Q249:W249),IF(EFECTOS!$N$9=\"GUATEMALA\",LOOKUP(3,GEfectos!$Q$4:$W$4,GEfectos!Q249:W249),IF(EFECTOS!$N$9=\"HONDURAS\",LOOKUP(4,GEfectos!$Q$4:$W$4,GEfectos!Q249:W249),IF(EFECTOS!$N$9=\"NICARAGUA\",LOOKUP(5,GEfectos!$Q$4:$W$4,GEfectos!Q249:W249),IF(EFECTOS!$N$9=\"REPÚBLICA \nDOMINICANA\",LOOKUP(6,$Q$4:$W$4,Q249:W249),IF(EFECTOS!$N$9=\"PANAMÁ\",LOOKUP(7,GEfectos!$Q$4:$W$4,GEfectos!Q249:W249))))))))","v":215.19800269309215},100]
[null,{"$f":"'ITCER GLOBAL'!B250","v":"Mayo"},{"$f":"'ITCER GLOBAL'!C250","v":76.791800536947221},{"$f":"'ITCER GLOBAL'!D250","v":103.00844477729265},{"$f":"'ITCER GLOBAL'!E250","v":61.99986606043413},{"$f":"'ITCER GLOBAL'!F250","v":83.676500675812605},{"$f":"'ITCER GLOBAL'!G250","v":106.3909432139093},{"$f":"'ITCER GLOBAL'!H250","v":141.94236326211703},{"$f":"'ITCER GLOBAL'!I250","v":88.512742560381952},{"$f":"'ITCER GLOBAL'!S250","v":164.25011831719223},{"$f":"'ITCER GLOBAL'!T250","v":92.371919635310533},{"$f":"'ITCER GLOBAL'!U250","v":92.311907605647647},{"$f":"'ITCER GLOBAL'!V250","v":139.92252200678399},{"$f":"'ITCER GLOBAL'!W250","v":194.13586407103142},{"$f":"'ITCER GLOBAL'!X250","v":262.80776080844947},{"$f":"'ITCER GLOBAL'!Y250","v":96.553190639480263},{"$f":"'ITCER GLOBAL'!AA250","v":213.8901772959025},{"$f":"'ITCER GLOBAL'!AB250","v":89.674123160505331},{"$f":"'ITCER GLOBAL'!AC250","v":148.89049520795251},{"$f":"'ITCER GLOBAL'!AD250","v":167.21841960012765},{"$f":"'ITCER GLOBAL'!AE250","v":182.47405108600501},{"$f":"'ITCER GLOBAL'!AF250","v":185.1510393152586},{"$f":"'ITCER GLOBAL'!AG250","v":109.08394412659086},null,{"$f":"IF(EFECTOS!$N$9=\"COSTA RICA\",LOOKUP(1,GEfectos!$C$4:$I$4,GEfectos!C250:I250),IF(EFECTOS!$N$9=\"EL SALVADOR\",LOOKUP(2,GEfectos!$C$4:$I$4,GEfectos!C250:I250),IF(EFECTOS!$N$9=\"GUATEMALA\",LOOKUP(3,GEfectos!$C$4:$I$4,GEfectos!C250:I250),IF(EFECTOS!$N$9=\"HONDURAS\",LOOKUP(4,GEfectos!$C$4:$I$4,GEfectos!C250:I250),IF(EFECTOS!$N$9=\"NICARAGUA\",LOOKUP(5,GEfectos!$C$4:$I$4,GEfectos!C250:I250),IF(EFECTOS!$N$9=\"REPÚBLICA \nDOMINICANA\",LOOKUP(6,$C$4:$I$4,C250:I250),IF(EFECTOS!$N$9=\"PANAMÁ\",LOOKUP(7,GEfectos!$C$4:$I$4,GEfectos!C250:I250))))))))","v":76.791800536947221},{"$f":"IF(EFECTOS!$N$9=\"COSTA RICA\",LOOKUP(1,GEfectos!$J$4:$P$4,GEfectos!J250:P250),IF(EFECTOS!$N$9=\"EL SALVADOR\",LOOKUP(2,GEfectos!$J$4:$P$4,GEfectos!J250:P250),IF(EFECTOS!$N$9=\"GUATEMALA\",LOOKUP(3,GEfectos!$J$4:$P$4,GEfectos!J250:P250),IF(EFECTOS!$N$9=\"HONDURAS\",LOOKUP(4,GEfectos!$J$4:$P$4,GEfectos!J250:P250),IF(EFECTOS!$N$9=\"NICARAGUA\",LOOKUP(5,GEfectos!$J$4:$P$4,GEfectos!J250:P250),IF(EFECTOS!$N$9=\"REPÚBLICA \nDOMINICANA\",LOOKUP(6,$J$4:$P$4,J250:P250),IF(EFECTOS!$N$9=\"PANAMÁ\",LOOKUP(7,GEfectos!$J$4:$P$4,GEfectos!J250:P250))))))))","v":164.25011831719223},{"$f":"IF(EFECTOS!$N$9=\"COSTA RICA\",LOOKUP(1,GEfectos!$Q$4:$W$4,GEfectos!Q250:W250),IF(EFECTOS!$N$9=\"EL SALVADOR\",LOOKUP(2,GEfectos!$Q$4:$W$4,GEfectos!Q250:W250),IF(EFECTOS!$N$9=\"GUATEMALA\",LOOKUP(3,GEfectos!$Q$4:$W$4,GEfectos!Q250:W250),IF(EFECTOS!$N$9=\"HONDURAS\",LOOKUP(4,GEfectos!$Q$4:$W$4,GEfectos!Q250:W250),IF(EFECTOS!$N$9=\"NICARAGUA\",LOOKUP(5,GEfectos!$Q$4:$W$4,GEfectos!Q250:W250),IF(EFECTOS!$N$9=\"REPÚBLICA \nDOMINICANA\",LOOKUP(6,$Q$4:$W$4,Q250:W250),IF(EFECTOS!$N$9=\"PANAMÁ\",LOOKUP(7,GEfectos!$Q$4:$W$4,GEfectos!Q250:W250))))))))","v":213.8901772959025},100]
[null,{"$f":"'ITCER GLOBAL'!B251","v":"Junio"},{"$f":"'ITCER GLOBAL'!C251","v":76.873032437757558},{"$f":"'ITCER GLOBAL'!D251","v":103.21857467758144},{"$f":"'ITCER GLOBAL'!E251","v":61.430227207748977},{"$f":"'ITCER GLOBAL'!F251","v":83.189681069602329},{"$f":"'ITCER GLOBAL'!G251","v":106.83730553597175},{"$f":"'ITCER GLOBAL'!H251","v":141.31167116716242},{"$f":"'ITCER GLOBAL'!I251","v":88.219896616737785},{"$f":"'ITCER GLOBAL'!S251","v":164.76194765121468},{"$f":"'ITCER GLOBAL'!T251","v":92.213015114334652},{"$f":"'ITCER GLOBAL'!U251","v":91.600914892740988},{"$f":"'ITCER GLOBAL'!V251","v":139.57130310232304},{"$f":"'ITCER GLOBAL'!W251","v":194.46287296074982},{"$f":"'ITCER GLOBAL'!X251","v":261.76562699826212},{"$f":"'ITCER GLOBAL'!Y251","v":96.139624643003245},{"$f":"'ITCER GLOBAL'!AA251","v":214.32997037630705},{"$f":"'ITCER GLOBAL'!AB251","v":89.3376171899057},{"$f":"'ITCER GLOBAL'!AC251","v":149.11374913681939},{"$f":"'ITCER GLOBAL'!AD251","v":167.77477844343201},{"$f":"'ITCER GLOBAL'!AE251","v":182.01776241471649},{"$f":"'ITCER GLOBAL'!AF251","v":185.23992026717352},{"$f":"'ITCER GLOBAL'!AG251","v":108.97725833965993},null,{"$f":"IF(EFECTOS!$N$9=\"COSTA RICA\",LOOKUP(1,GEfectos!$C$4:$I$4,GEfectos!C251:I251),IF(EFECTOS!$N$9=\"EL SALVADOR\",LOOKUP(2,GEfectos!$C$4:$I$4,GEfectos!C251:I251),IF(EFECTOS!$N$9=\"GUATEMALA\",LOOKUP(3,GEfectos!$C$4:$I$4,GEfectos!C251:I251),IF(EFECTOS!$N$9=\"HONDURAS\",LOOKUP(4,GEfectos!$C$4:$I$4,GEfectos!C251:I251),IF(EFECTOS!$N$9=\"NICARAGUA\",LOOKUP(5,GEfectos!$C$4:$I$4,GEfectos!C251:I251),IF(EFECTOS!$N$9=\"REPÚBLICA \nDOMINICANA\",LOOKUP(6,$C$4:$I$4,C251:I251),IF(EFECTOS!$N$9=\"PANAMÁ\",LOOKUP(7,GEfectos!$C$4:$I$4,GEfectos!C251:I251))))))))","v":76.873032437757558},{"$f":"IF(EFECTOS!$N$9=\"COSTA RICA\",LOOKUP(1,GEfectos!$J$4:$P$4,GEfectos!J251:P251),IF(EFECTOS!$N$9=\"EL SALVADOR\",LOOKUP(2,GEfectos!$J$4:$P$4,GEfectos!J251:P251),IF(EFECTOS!$N$9=\"GUATEMALA\",LOOKUP(3,GEfectos!$J$4:$P$4,GEfectos!J251:P251),IF(EFECTOS!$N$9=\"HONDURAS\",LOOKUP(4,GEfectos!$J$4:$P$4,GEfectos!J251:P251),IF(EFECTOS!$N$9=\"NICARAGUA\",LOOKUP(5,GEfectos!$J$4:$P$4,GEfectos!J251:P251),IF(EFECTOS!$N$9=\"REPÚBLICA \nDOMINICANA\",LOOKUP(6,$J$4:$P$4,J251:P251),IF(EFECTOS!$N$9=\"PANAMÁ\",LOOKUP(7,GEfectos!$J$4:$P$4,GEfectos!J251:P251))))))))","v":164.76194765121468},{"$f":"IF(EFECTOS!$N$9=\"COSTA RICA\",LOOKUP(1,GEfectos!$Q$4:$W$4,GEfectos!Q251:W251),IF(EFECTOS!$N$9=\"EL SALVADOR\",LOOKUP(2,GEfectos!$Q$4:$W$4,GEfectos!Q251:W251),IF(EFECTOS!$N$9=\"GUATEMALA\",LOOKUP(3,GEfectos!$Q$4:$W$4,GEfectos!Q251:W251),IF(EFECTOS!$N$9=\"HONDURAS\",LOOKUP(4,GEfectos!$Q$4:$W$4,GEfectos!Q251:W251),IF(EFECTOS!$N$9=\"NICARAGUA\",LOOKUP(5,GEfectos!$Q$4:$W$4,GEfectos!Q251:W251),IF(EFECTOS!$N$9=\"REPÚBLICA \nDOMINICANA\",LOOKUP(6,$Q$4:$W$4,Q251:W251),IF(EFECTOS!$N$9=\"PANAMÁ\",LOOKUP(7,GEfectos!$Q$4:$W$4,GEfectos!Q251:W251))))))))","v":214.32997037630705},100]
[null,{"$f":"'ITCER GLOBAL'!B252","v":"Julio"},{"$f":"'ITCER GLOBAL'!C252","v":76.528925192658576},{"$f":"'ITCER GLOBAL'!D252","v":102.90743792215773},{"$f":"'ITCER GLOBAL'!E252","v":60.670177319058183},{"$f":"'ITCER GLOBAL'!F252","v":82.371744622100181},{"$f":"'ITCER GLOBAL'!G252","v":107.09515389243248},{"$f":"'ITCER GLOBAL'!H252","v":139.53683538460257},{"$f":"'ITCER GLOBAL'!I252","v":87.190557473838069},{"$f":"'ITCER GLOBAL'!S252","v":163.28255639096881},{"$f":"'ITCER GLOBAL'!T252","v":91.782315228056689},{"$f":"'ITCER GLOBAL'!U252","v":90.913436108421706},{"$f":"'ITCER GLOBAL'!V252","v":138.66398395920245},{"$f":"'ITCER GLOBAL'!W252","v":194.43432995711368},{"$f":"'ITCER GLOBAL'!X252","v":258.72005533972992},{"$f":"'ITCER GLOBAL'!Y252","v":95.174950109347606},{"$f":"'ITCER GLOBAL'!AA252","v":213.36057703660592},{"$f":"'ITCER GLOBAL'!AB252","v":89.189194757218218},{"$f":"'ITCER GLOBAL'!AC252","v":149.84864084098083},{"$f":"'ITCER GLOBAL'!AD252","v":168.33925831649699},{"$f":"'ITCER GLOBAL'!AE252","v":181.55287414069699},{"$f":"'ITCER GLOBAL'!AF252","v":185.41344629654603},{"$f":"'ITCER GLOBAL'!AG252","v":109.15740519024124},null,{"$f":"IF(EFECTOS!$N$9=\"COSTA RICA\",LOOKUP(1,GEfectos!$C$4:$I$4,GEfectos!C252:I252),IF(EFECTOS!$N$9=\"EL SALVADOR\",LOOKUP(2,GEfectos!$C$4:$I$4,GEfectos!C252:I252),IF(EFECTOS!$N$9=\"GUATEMALA\",LOOKUP(3,GEfectos!$C$4:$I$4,GEfectos!C252:I252),IF(EFECTOS!$N$9=\"HONDURAS\",LOOKUP(4,GEfectos!$C$4:$I$4,GEfectos!C252:I252),IF(EFECTOS!$N$9=\"NICARAGUA\",LOOKUP(5,GEfectos!$C$4:$I$4,GEfectos!C252:I252),IF(EFECTOS!$N$9=\"REPÚBLICA \nDOMINICANA\",LOOKUP(6,$C$4:$I$4,C252:I252),IF(EFECTOS!$N$9=\"PANAMÁ\",LOOKUP(7,GEfectos!$C$4:$I$4,GEfectos!C252:I252))))))))","v":76.528925192658576},{"$f":"IF(EFECTOS!$N$9=\"COSTA RICA\",LOOKUP(1,GEfectos!$J$4:$P$4,GEfectos!J252:P252),IF(EFECTOS!$N$9=\"EL SALVADOR\",LOOKUP(2,GEfectos!$J$4:$P$4,GEfectos!J252:P252),IF(EFECTOS!$N$9=\"GUATEMALA\",LOOKUP(3,GEfectos!$J$4:$P$4,GEfectos!J252:P252),IF(EFECTOS!$N$9=\"HONDURAS\",LOOKUP(4,GEfectos!$J$4:$P$4,GEfectos!J252:P252),IF(EFECTOS!$N$9=\"NICARAGUA\",LOOKUP(5,GEfectos!$J$4:$P$4,GEfectos!J252:P252),IF(EFECTOS!$N$9=\"REPÚBLICA \nDOMINICANA\",LOOKUP(6,$J$4:$P$4,J252:P252),IF(EFECTOS!$N$9=\"PANAMÁ\",LOOKUP(7,GEfectos!$J$4:$P$4,GEfectos!J252:P252))))))))","v":163.28255639096881},{"$f":"IF(EFECTOS!$N$9=\"COSTA RICA\",LOOKUP(1,GEfectos!$Q$4:$W$4,GEfectos!Q252:W252),IF(EFECTOS!$N$9=\"EL SALVADOR\",LOOKUP(2,GEfectos!$Q$4:$W$4,GEfectos!Q252:W252),IF(EFECTOS!$N$9=\"GUATEMALA\",LOOKUP(3,GEfectos!$Q$4:$W$4,GEfectos!Q252:W252),IF(EFECTOS!$N$9=\"HONDURAS\",LOOKUP(4,GEfectos!$Q$4:$W$4,GEfectos!Q252:W252),IF(EFECTOS!$N$9=\"NICARAGUA\",LOOKUP(5,GEfectos!$Q$4:$W$4,GEfectos!Q252:W252),IF(EFECTOS!$N$9=\"REPÚBLICA \nDOMINICANA\",LOOKUP(6,$Q$4:$W$4,Q252:W252),IF(EFECTOS!$N$9=\"PANAMÁ\",LOOKUP(7,GEfectos!$Q$4:$W$4,GEfectos!Q252:W252))))))))","v":213.36057703660592},100]
[null,{"$f":"'ITCER GLOBAL'!B253","v":"Agosto"},{"$f":"'ITCER GLOBAL'!C253","v":76.051110515575246},{"$f":"'ITCER GLOBAL'!D253","v":102.62232400459675},{"$f":"'ITCER GLOBAL'!E253","v":60.09907683408975},{"$f":"'ITCER GLOBAL'!F253","v":82.071327188939378},{"$f":"'ITCER GLOBAL'!G253","v":106.5834409649427},{"$f":"'ITCER GLOBAL'!H253","v":138.86316077057893},{"$f":"'ITCER GLOBAL'!I253","v":86.843592985527721},{"$f":"'ITCER GLOBAL'!S253","v":162.12264909236214},{"$f":"'ITCER GLOBAL'!T253","v":91.246979243974906},{"$f":"'ITCER GLOBAL'!U253","v":90.132112917005827},{"$f":"'ITCER GLOBAL'!V253","v":138.24834637150215},{"$f":"'ITCER GLOBAL'!W253","v":193.44520936113426},{"$f":"'ITCER GLOBAL'!X253","v":258.04405838934616},{"$f":"'ITCER GLOBAL'!Y253","v":94.433366251874176},{"$f":"'ITCER GLOBAL'!AA253","v":213.17591287396058},{"$f":"'ITCER GLOBAL'!AB253","v":88.915331170913333},{"$f":"'ITCER GLOBAL'!AC253","v":149.97254145155279},{"$f":"'ITCER GLOBAL'!AD253","v":168.44902002527095},{"$f":"'ITCER GLOBAL'!AE253","v":181.49649477423236},{"$f":"'ITCER GLOBAL'!AF253","v":185.82614493103068},{"$f":"'ITCER GLOBAL'!AG253","v":108.73958919181439},null,{"$f":"IF(EFECTOS!$N$9=\"COSTA RICA\",LOOKUP(1,GEfectos!$C$4:$I$4,GEfectos!C253:I253),IF(EFECTOS!$N$9=\"EL SALVADOR\",LOOKUP(2,GEfectos!$C$4:$I$4,GEfectos!C253:I253),IF(EFECTOS!$N$9=\"GUATEMALA\",LOOKUP(3,GEfectos!$C$4:$I$4,GEfectos!C253:I253),IF(EFECTOS!$N$9=\"HONDURAS\",LOOKUP(4,GEfectos!$C$4:$I$4,GEfectos!C253:I253),IF(EFECTOS!$N$9=\"NICARAGUA\",LOOKUP(5,GEfectos!$C$4:$I$4,GEfectos!C253:I253),IF(EFECTOS!$N$9=\"REPÚBLICA \nDOMINICANA\",LOOKUP(6,$C$4:$I$4,C253:I253),IF(EFECTOS!$N$9=\"PANAMÁ\",LOOKUP(7,GEfectos!$C$4:$I$4,GEfectos!C253:I253))))))))","v":76.051110515575246},{"$f":"IF(EFECTOS!$N$9=\"COSTA RICA\",LOOKUP(1,GEfectos!$J$4:$P$4,GEfectos!J253:P253),IF(EFECTOS!$N$9=\"EL SALVADOR\",LOOKUP(2,GEfectos!$J$4:$P$4,GEfectos!J253:P253),IF(EFECTOS!$N$9=\"GUATEMALA\",LOOKUP(3,GEfectos!$J$4:$P$4,GEfectos!J253:P253),IF(EFECTOS!$N$9=\"HONDURAS\",LOOKUP(4,GEfectos!$J$4:$P$4,GEfectos!J253:P253),IF(EFECTOS!$N$9=\"NICARAGUA\",LOOKUP(5,GEfectos!$J$4:$P$4,GEfectos!J253:P253),IF(EFECTOS!$N$9=\"REPÚBLICA \nDOMINICANA\",LOOKUP(6,$J$4:$P$4,J253:P253),IF(EFECTOS!$N$9=\"PANAMÁ\",LOOKUP(7,GEfectos!$J$4:$P$4,GEfectos!J253:P253))))))))","v":162.12264909236214},{"$f":"IF(EFECTOS!$N$9=\"COSTA RICA\",LOOKUP(1,GEfectos!$Q$4:$W$4,GEfectos!Q253:W253),IF(EFECTOS!$N$9=\"EL SALVADOR\",LOOKUP(2,GEfectos!$Q$4:$W$4,GEfectos!Q253:W253),IF(EFECTOS!$N$9=\"GUATEMALA\",LOOKUP(3,GEfectos!$Q$4:$W$4,GEfectos!Q253:W253),IF(EFECTOS!$N$9=\"HONDURAS\",LOOKUP(4,GEfectos!$Q$4:$W$4,GEfectos!Q253:W253),IF(EFECTOS!$N$9=\"NICARAGUA\",LOOKUP(5,GEfectos!$Q$4:$W$4,GEfectos!Q253:W253),IF(EFECTOS!$N$9=\"REPÚBLICA \nDOMINICANA\",LOOKUP(6,$Q$4:$W$4,Q253:W253),IF(EFECTOS!$N$9=\"PANAMÁ\",LOOKUP(7,GEfectos!$Q$4:$W$4,GEfectos!Q253:W253))))))))","v":213.17591287396058},100]
[null,{"$f":"'ITCER GLOBAL'!B254","v":"Septiembre"},{"$f":"'ITCER GLOBAL'!C254","v":76.173236134319737},{"$f":"'ITCER GLOBAL'!D254","v":102.65809318635803},{"$f":"'ITCER GLOBAL'!E254","v":60.233366245505159},{"$f":"'ITCER GLOBAL'!F254","v":81.879485823852463},{"$f":"'ITCER GLOBAL'!G254","v":106.47508808399576},{"$f":"'ITCER GLOBAL'!H254","v":138.58064884976642},{"$f":"'ITCER GLOBAL'!I254","v":87.087523302737793},{"$f":"'ITCER GLOBAL'!S254","v":162.0152143415331},{"$f":"'ITCER GLOBAL'!T254","v":90.997061170520439},{"$f":"'ITCER GLOBAL'!U254","v":90.358564321594358},{"$f":"'ITCER GLOBAL'!V254","v":137.71737858386319},{"$f":"'ITCER GLOBAL'!W254","v":193.16101224520449},{"$f":"'ITCER GLOBAL'!X254","v":257.81342058611136},{"$f":"'ITCER GLOBAL'!Y254","v":94.236186894075232},{"$f":"'ITCER GLOBAL'!AA254","v":212.69309611035078},{"$f":"'ITCER GLOBAL'!AB254","v":88.640903358034322},{"$f":"'ITCER GLOBAL'!AC254","v":150.01413660545205},{"$f":"'ITCER GLOBAL'!AD254","v":168.19521666285854},{"$f":"'ITCER GLOBAL'!AE254","v":181.41427795093645},{"$f":"'ITCER GLOBAL'!AF254","v":186.03854342290151},{"$f":"'ITCER GLOBAL'!AG254","v":108.20859673145937},null,{"$f":"IF(EFECTOS!$N$9=\"COSTA RICA\",LOOKUP(1,GEfectos!$C$4:$I$4,GEfectos!C254:I254),IF(EFECTOS!$N$9=\"EL SALVADOR\",LOOKUP(2,GEfectos!$C$4:$I$4,GEfectos!C254:I254),IF(EFECTOS!$N$9=\"GUATEMALA\",LOOKUP(3,GEfectos!$C$4:$I$4,GEfectos!C254:I254),IF(EFECTOS!$N$9=\"HONDURAS\",LOOKUP(4,GEfectos!$C$4:$I$4,GEfectos!C254:I254),IF(EFECTOS!$N$9=\"NICARAGUA\",LOOKUP(5,GEfectos!$C$4:$I$4,GEfectos!C254:I254),IF(EFECTOS!$N$9=\"REPÚBLICA \nDOMINICANA\",LOOKUP(6,$C$4:$I$4,C254:I254),IF(EFECTOS!$N$9=\"PANAMÁ\",LOOKUP(7,GEfectos!$C$4:$I$4,GEfectos!C254:I254))))))))","v":76.173236134319737},{"$f":"IF(EFECTOS!$N$9=\"COSTA RICA\",LOOKUP(1,GEfectos!$J$4:$P$4,GEfectos!J254:P254),IF(EFECTOS!$N$9=\"EL SALVADOR\",LOOKUP(2,GEfectos!$J$4:$P$4,GEfectos!J254:P254),IF(EFECTOS!$N$9=\"GUATEMALA\",LOOKUP(3,GEfectos!$J$4:$P$4,GEfectos!J254:P254),IF(EFECTOS!$N$9=\"HONDURAS\",LOOKUP(4,GEfectos!$J$4:$P$4,GEfectos!J254:P254),IF(EFECTOS!$N$9=\"NICARAGUA\",LOOKUP(5,GEfectos!$J$4:$P$4,GEfectos!J254:P254),IF(EFECTOS!$N$9=\"REPÚBLICA \nDOMINICANA\",LOOKUP(6,$J$4:$P$4,J254:P254),IF(EFECTOS!$N$9=\"PANAMÁ\",LOOKUP(7,GEfectos!$J$4:$P$4,GEfectos!J254:P254))))))))","v":162.0152143415331},{"$f":"IF(EFECTOS!$N$9=\"COSTA RICA\",LOOKUP(1,GEfectos!$Q$4:$W$4,GEfectos!Q254:W254),IF(EFECTOS!$N$9=\"EL SALVADOR\",LOOKUP(2,GEfectos!$Q$4:$W$4,GEfectos!Q254:W254),IF(EFECTOS!$N$9=\"GUATEMALA\",LOOKUP(3,GEfectos!$Q$4:$W$4,GEfectos!Q254:W254),IF(EFECTOS!$N$9=\"HONDURAS\",LOOKUP(4,GEfectos!$Q$4:$W$4,GEfectos!Q254:W254),IF(EFECTOS!$N$9=\"NICARAGUA\",LOOKUP(5,GEfectos!$Q$4:$W$4,GEfectos!Q254:W254),IF(EFECTOS!$N$9=\"REPÚBLICA \nDOMINICANA\",LOOKUP(6,$Q$4:$W$4,Q254:W254),IF(EFECTOS!$N$9=\"PANAMÁ\",LOOKUP(7,GEfectos!$Q$4:$W$4,GEfectos!Q254:W254))))))))","v":212.69309611035078},100]
[null,{"$f":"'ITCER GLOBAL'!B255","v":"Octubre"},{"$f":"'ITCER GLOBAL'!C255","v":76.574293823621417},{"$f":"'ITCER GLOBAL'!D255","v":100.72617970055286},{"$f":"'ITCER GLOBAL'!E255","v":60.197584180951537},{"$f":"'ITCER GLOBAL'!F255","v":82.725643035307698},{"$f":"'ITCER GLOBAL'!G255","v":107.19588545938549},{"$f":"'ITCER GLOBAL'!H255","v":138.31720633225899},{"$f":"'ITCER GLOBAL'!I255","v":87.69614573753347},{"$f":"'ITCER GLOBAL'!S255","v":162.28716036077481},{"$f":"'ITCER GLOBAL'!T255","v":91.15213658889158},{"$f":"'ITCER GLOBAL'!U255","v":90.569989204962042},{"$f":"'ITCER GLOBAL'!V255","v":138.93871355383155},{"$f":"'ITCER GLOBAL'!W255","v":194.93441759947362},{"$f":"'ITCER GLOBAL'!X255","v":259.03848184599036},{"$f":"'ITCER GLOBAL'!Y255","v":94.711529239965373},{"$f":"'ITCER GLOBAL'!AA255","v":211.93425659867194},{"$f":"'ITCER GLOBAL'!AB255","v":90.49498041112669},{"$f":"'ITCER GLOBAL'!AC255","v":150.45452477413755},{"$f":"'ITCER GLOBAL'!AD255","v":167.95120407167079},{"$f":"'ITCER GLOBAL'!AE255","v":181.84878716574491},{"$f":"'ITCER GLOBAL'!AF255","v":187.27856693674138},{"$f":"'ITCER GLOBAL'!AG255","v":107.99964860876361},null,{"$f":"IF(EFECTOS!$N$9=\"COSTA RICA\",LOOKUP(1,GEfectos!$C$4:$I$4,GEfectos!C255:I255),IF(EFECTOS!$N$9=\"EL SALVADOR\",LOOKUP(2,GEfectos!$C$4:$I$4,GEfectos!C255:I255),IF(EFECTOS!$N$9=\"GUATEMALA\",LOOKUP(3,GEfectos!$C$4:$I$4,GEfectos!C255:I255),IF(EFECTOS!$N$9=\"HONDURAS\",LOOKUP(4,GEfectos!$C$4:$I$4,GEfectos!C255:I255),IF(EFECTOS!$N$9=\"NICARAGUA\",LOOKUP(5,GEfectos!$C$4:$I$4,GEfectos!C255:I255),IF(EFECTOS!$N$9=\"REPÚBLICA \nDOMINICANA\",LOOKUP(6,$C$4:$I$4,C255:I255),IF(EFECTOS!$N$9=\"PANAMÁ\",LOOKUP(7,GEfectos!$C$4:$I$4,GEfectos!C255:I255))))))))","v":76.574293823621417},{"$f":"IF(EFECTOS!$N$9=\"COSTA RICA\",LOOKUP(1,GEfectos!$J$4:$P$4,GEfectos!J255:P255),IF(EFECTOS!$N$9=\"EL SALVADOR\",LOOKUP(2,GEfectos!$J$4:$P$4,GEfectos!J255:P255),IF(EFECTOS!$N$9=\"GUATEMALA\",LOOKUP(3,GEfectos!$J$4:$P$4,GEfectos!J255:P255),IF(EFECTOS!$N$9=\"HONDURAS\",LOOKUP(4,GEfectos!$J$4:$P$4,GEfectos!J255:P255),IF(EFECTOS!$N$9=\"NICARAGUA\",LOOKUP(5,GEfectos!$J$4:$P$4,GEfectos!J255:P255),IF(EFECTOS!$N$9=\"REPÚBLICA \nDOMINICANA\",LOOKUP(6,$J$4:$P$4,J255:P255),IF(EFECTOS!$N$9=\"PANAMÁ\",LOOKUP(7,GEfectos!$J$4:$P$4,GEfectos!J255:P255))))))))","v":162.28716036077481},{"$f":"IF(EFECTOS!$N$9=\"COSTA RICA\",LOOKUP(1,GEfectos!$Q$4:$W$4,GEfectos!Q255:W255),IF(EFECTOS!$N$9=\"EL SALVADOR\",LOOKUP(2,GEfectos!$Q$4:$W$4,GEfectos!Q255:W255),IF(EFECTOS!$N$9=\"GUATEMALA\",LOOKUP(3,GEfectos!$Q$4:$W$4,GEfectos!Q255:W255),IF(EFECTOS!$N$9=\"HONDURAS\",LOOKUP(4,GEfectos!$Q$4:$W$4,GEfectos!Q255:W255),IF(EFECTOS!$N$9=\"NICARAGUA\",LOOKUP(5,GEfectos!$Q$4:$W$4,GEfectos!Q255:W255),IF(EFECTOS!$N$9=\"REPÚBLICA \nDOMINICANA\",LOOKUP(6,$Q$4:$W$4,Q255:W255),IF(EFECTOS!$N$9=\"PANAMÁ\",LOOKUP(7,GEfectos!$Q$4:$W$4,GEfectos!Q255:W255))))))))","v":211.93425659867194},100]
[null,{"$f":"'ITCER GLOBAL'!B256","v":"Noviembre"},{"$f":"'ITCER GLOBAL'!C256","v":75.854771041269274},{"$f":"'ITCER GLOBAL'!D256","v":100.47974881904632},{"$f":"'ITCER GLOBAL'!E256","v":59.277496026531594},{"$f":"'ITCER GLOBAL'!F256","v":82.525876014745378},{"$f":"'ITCER GLOBAL'!G256","v":106.67108266772864},{"$f":"'ITCER GLOBAL'!H256","v":137.18472128567024},{"$f":"'ITCER GLOBAL'!I256","v":86.792965647225444},{"$f":"'ITCER GLOBAL'!S256","v":160.8872500475922},{"$f":"'ITCER GLOBAL'!T256","v":90.886484959671449},{"$f":"'ITCER GLOBAL'!U256","v":89.656608119644687},{"$f":"'ITCER GLOBAL'!V256","v":138.56372893966466},{"$f":"'ITCER GLOBAL'!W256","v":194.68307031541278},{"$f":"'ITCER GLOBAL'!X256","v":257.47740723347522},{"$f":"'ITCER GLOBAL'!Y256","v":93.812588739250742},{"$f":"'ITCER GLOBAL'!AA256","v":212.09905169980732},{"$f":"'ITCER GLOBAL'!AB256","v":90.452539967380545},{"$f":"'ITCER GLOBAL'!AC256","v":151.24898001682783},{"$f":"'ITCER GLOBAL'!AD256","v":167.90337241001438},{"$f":"'ITCER GLOBAL'!AE256","v":182.50782259502699},{"$f":"'ITCER GLOBAL'!AF256","v":187.68664966509672},{"$f":"'ITCER GLOBAL'!AG256","v":108.08777881903116},null,{"$f":"IF(EFECTOS!$N$9=\"COSTA RICA\",LOOKUP(1,GEfectos!$C$4:$I$4,GEfectos!C256:I256),IF(EFECTOS!$N$9=\"EL SALVADOR\",LOOKUP(2,GEfectos!$C$4:$I$4,GEfectos!C256:I256),IF(EFECTOS!$N$9=\"GUATEMALA\",LOOKUP(3,GEfectos!$C$4:$I$4,GEfectos!C256:I256),IF(EFECTOS!$N$9=\"HONDURAS\",LOOKUP(4,GEfectos!$C$4:$I$4,GEfectos!C256:I256),IF(EFECTOS!$N$9=\"NICARAGUA\",LOOKUP(5,GEfectos!$C$4:$I$4,GEfectos!C256:I256),IF(EFECTOS!$N$9=\"REPÚBLICA \nDOMINICANA\",LOOKUP(6,$C$4:$I$4,C256:I256),IF(EFECTOS!$N$9=\"PANAMÁ\",LOOKUP(7,GEfectos!$C$4:$I$4,GEfectos!C256:I256))))))))","v":75.854771041269274},{"$f":"IF(EFECTOS!$N$9=\"COSTA RICA\",LOOKUP(1,GEfectos!$J$4:$P$4,GEfectos!J256:P256),IF(EFECTOS!$N$9=\"EL SALVADOR\",LOOKUP(2,GEfectos!$J$4:$P$4,GEfectos!J256:P256),IF(EFECTOS!$N$9=\"GUATEMALA\",LOOKUP(3,GEfectos!$J$4:$P$4,GEfectos!J256:P256),IF(EFECTOS!$N$9=\"HONDURAS\",LOOKUP(4,GEfectos!$J$4:$P$4,GEfectos!J256:P256),IF(EFECTOS!$N$9=\"NICARAGUA\",LOOKUP(5,GEfectos!$J$4:$P$4,GEfectos!J256:P256),IF(EFECTOS!$N$9=\"REPÚBLICA \nDOMINICANA\",LOOKUP(6,$J$4:$P$4,J256:P256),IF(EFECTOS!$N$9=\"PANAMÁ\",LOOKUP(7,GEfectos!$J$4:$P$4,GEfectos!J256:P256))))))))","v":160.8872500475922},{"$f":"IF(EFECTOS!$N$9=\"COSTA RICA\",LOOKUP(1,GEfectos!$Q$4:$W$4,GEfectos!Q256:W256),IF(EFECTOS!$N$9=\"EL SALVADOR\",LOOKUP(2,GEfectos!$Q$4:$W$4,GEfectos!Q256:W256),IF(EFECTOS!$N$9=\"GUATEMALA\",LOOKUP(3,GEfectos!$Q$4:$W$4,GEfectos!Q256:W256),IF(EFECTOS!$N$9=\"HONDURAS\",LOOKUP(4,GEfectos!$Q$4:$W$4,GEfectos!Q256:W256),IF(EFECTOS!$N$9=\"NICARAGUA\",LOOKUP(5,GEfectos!$Q$4:$W$4,GEfectos!Q256:W256),IF(EFECTOS!$N$9=\"REPÚBLICA \nDOMINICANA\",LOOKUP(6,$Q$4:$W$4,Q256:W256),IF(EFECTOS!$N$9=\"PANAMÁ\",LOOKUP(7,GEfectos!$Q$4:$W$4,GEfectos!Q256:W256))))))))","v":212.09905169980732},100]
[null,{"$f":"'ITCER GLOBAL'!B257","v":"Diciembre"},{"$f":"'ITCER GLOBAL'!C257","v":75.575148293502465},{"$f":"'ITCER GLOBAL'!D257","v":100.21980523005119},{"$f":"'ITCER GLOBAL'!E257","v":58.482903403676168},{"$f":"'ITCER GLOBAL'!F257","v":82.830579296635676},{"$f":"'ITCER GLOBAL'!G257","v":105.3375132707921},{"$f":"'ITCER GLOBAL'!H257","v":136.43888942682904},{"$f":"'ITCER GLOBAL'!I257","v":86.542324192704044},{"$f":"'ITCER GLOBAL'!S257","v":160.64668178655376},{"$f":"'ITCER GLOBAL'!T257","v":90.578712416278933},{"$f":"'ITCER GLOBAL'!U257","v":88.84946714076348},{"$f":"'ITCER GLOBAL'!V257","v":139.08802053931774},{"$f":"'ITCER GLOBAL'!W257","v":194.05672784004258},{"$f":"'ITCER GLOBAL'!X257","v":256.3710217473477},{"$f":"'ITCER GLOBAL'!Y257","v":93.46811625652029},{"$f":"'ITCER GLOBAL'!AA257","v":212.56548668971024},{"$f":"'ITCER GLOBAL'!AB257","v":90.380052334325072},{"$f":"'ITCER GLOBAL'!AC257","v":151.92383067489516},{"$f":"'ITCER GLOBAL'!AD257","v":167.91868621516096},{"$f":"'ITCER GLOBAL'!AE257","v":184.22376019185037},{"$f":"'ITCER GLOBAL'!AF257","v":187.90172129394031},{"$f":"'ITCER GLOBAL'!AG257","v":108.0027802909413},null,{"$f":"IF(EFECTOS!$N$9=\"COSTA RICA\",LOOKUP(1,GEfectos!$C$4:$I$4,GEfectos!C257:I257),IF(EFECTOS!$N$9=\"EL SALVADOR\",LOOKUP(2,GEfectos!$C$4:$I$4,GEfectos!C257:I257),IF(EFECTOS!$N$9=\"GUATEMALA\",LOOKUP(3,GEfectos!$C$4:$I$4,GEfectos!C257:I257),IF(EFECTOS!$N$9=\"HONDURAS\",LOOKUP(4,GEfectos!$C$4:$I$4,GEfectos!C257:I257),IF(EFECTOS!$N$9=\"NICARAGUA\",LOOKUP(5,GEfectos!$C$4:$I$4,GEfectos!C257:I257),IF(EFECTOS!$N$9=\"REPÚBLICA \nDOMINICANA\",LOOKUP(6,$C$4:$I$4,C257:I257),IF(EFECTOS!$N$9=\"PANAMÁ\",LOOKUP(7,GEfectos!$C$4:$I$4,GEfectos!C257:I257))))))))","v":75.575148293502465},{"$f":"IF(EFECTOS!$N$9=\"COSTA RICA\",LOOKUP(1,GEfectos!$J$4:$P$4,GEfectos!J257:P257),IF(EFECTOS!$N$9=\"EL SALVADOR\",LOOKUP(2,GEfectos!$J$4:$P$4,GEfectos!J257:P257),IF(EFECTOS!$N$9=\"GUATEMALA\",LOOKUP(3,GEfectos!$J$4:$P$4,GEfectos!J257:P257),IF(EFECTOS!$N$9=\"HONDURAS\",LOOKUP(4,GEfectos!$J$4:$P$4,GEfectos!J257:P257),IF(EFECTOS!$N$9=\"NICARAGUA\",LOOKUP(5,GEfectos!$J$4:$P$4,GEfectos!J257:P257),IF(EFECTOS!$N$9=\"REPÚBLICA \nDOMINICANA\",LOOKUP(6,$J$4:$P$4,J257:P257),IF(EFECTOS!$N$9=\"PANAMÁ\",LOOKUP(7,GEfectos!$J$4:$P$4,GEfectos!J257:P257))))))))","v":160.64668178655376},{"$f":"IF(EFECTOS!$N$9=\"COSTA RICA\",LOOKUP(1,GEfectos!$Q$4:$W$4,GEfectos!Q257:W257),IF(EFECTOS!$N$9=\"EL SALVADOR\",LOOKUP(2,GEfectos!$Q$4:$W$4,GEfectos!Q257:W257),IF(EFECTOS!$N$9=\"GUATEMALA\",LOOKUP(3,GEfectos!$Q$4:$W$4,GEfectos!Q257:W257),IF(EFECTOS!$N$9=\"HONDURAS\",LOOKUP(4,GEfectos!$Q$4:$W$4,GEfectos!Q257:W257),IF(EFECTOS!$N$9=\"NICARAGUA\",LOOKUP(5,GEfectos!$Q$4:$W$4,GEfectos!Q257:W257),IF(EFECTOS!$N$9=\"REPÚBLICA \nDOMINICANA\",LOOKUP(6,$Q$4:$W$4,Q257:W257),IF(EFECTOS!$N$9=\"PANAMÁ\",LOOKUP(7,GEfectos!$Q$4:$W$4,GEfectos!Q257:W257))))))))","v":212.56548668971024},100]
[2016,{"$f":"'ITCER GLOBAL'!B258","v":"Enero"},{"$f":"'ITCER GLOBAL'!C258","v":75.059251577011125},{"$f":"'ITCER GLOBAL'!D258","v":99.953847168580154},{"$f":"'ITCER GLOBAL'!E258","v":58.052807813179619},{"$f":"'ITCER GLOBAL'!F258","v":83.245542017294042},{"$f":"'ITCER GLOBAL'!G258","v":103.26993365752928},{"$f":"'ITCER GLOBAL'!H258","v":129.84099086737174},{"$f":"'ITCER GLOBAL'!I258","v":85.409076993058292},{"$f":"'ITCER GLOBAL'!S258","v":159.08814612899064},{"$f":"'ITCER GLOBAL'!T258","v":89.958265449803349},{"$f":"'ITCER GLOBAL'!U258","v":88.924931522719746},{"$f":"'ITCER GLOBAL'!V258","v":140.57765739407179},{"$f":"'ITCER GLOBAL'!W258","v":192.76878055924897},{"$f":"'ITCER GLOBAL'!X258","v":257.9816175817781},{"$f":"'ITCER GLOBAL'!Y258","v":92.832592972232135},{"$f":"'ITCER GLOBAL'!AA258","v":211.95008314966412},{"$f":"'ITCER GLOBAL'!AB258","v":89.999802907117257},{"$f":"'ITCER GLOBAL'!AC258","v":153.17938076120288},{"$f":"'ITCER GLOBAL'!AD258","v":168.87109385973744},{"$f":"'ITCER GLOBAL'!AE258","v":186.66496019889178},{"$f":"'ITCER GLOBAL'!AF258","v":198.69042577262655},{"$f":"'ITCER GLOBAL'!AG258","v":108.69171783670862},null,{"$f":"IF(EFECTOS!$N$9=\"COSTA RICA\",LOOKUP(1,GEfectos!$C$4:$I$4,GEfectos!C258:I258),IF(EFECTOS!$N$9=\"EL SALVADOR\",LOOKUP(2,GEfectos!$C$4:$I$4,GEfectos!C258:I258),IF(EFECTOS!$N$9=\"GUATEMALA\",LOOKUP(3,GEfectos!$C$4:$I$4,GEfectos!C258:I258),IF(EFECTOS!$N$9=\"HONDURAS\",LOOKUP(4,GEfectos!$C$4:$I$4,GEfectos!C258:I258),IF(EFECTOS!$N$9=\"NICARAGUA\",LOOKUP(5,GEfectos!$C$4:$I$4,GEfectos!C258:I258),IF(EFECTOS!$N$9=\"REPÚBLICA \nDOMINICANA\",LOOKUP(6,$C$4:$I$4,C258:I258),IF(EFECTOS!$N$9=\"PANAMÁ\",LOOKUP(7,GEfectos!$C$4:$I$4,GEfectos!C258:I258))))))))","v":75.059251577011125},{"$f":"IF(EFECTOS!$N$9=\"COSTA RICA\",LOOKUP(1,GEfectos!$J$4:$P$4,GEfectos!J258:P258),IF(EFECTOS!$N$9=\"EL SALVADOR\",LOOKUP(2,GEfectos!$J$4:$P$4,GEfectos!J258:P258),IF(EFECTOS!$N$9=\"GUATEMALA\",LOOKUP(3,GEfectos!$J$4:$P$4,GEfectos!J258:P258),IF(EFECTOS!$N$9=\"HONDURAS\",LOOKUP(4,GEfectos!$J$4:$P$4,GEfectos!J258:P258),IF(EFECTOS!$N$9=\"NICARAGUA\",LOOKUP(5,GEfectos!$J$4:$P$4,GEfectos!J258:P258),IF(EFECTOS!$N$9=\"REPÚBLICA \nDOMINICANA\",LOOKUP(6,$J$4:$P$4,J258:P258),IF(EFECTOS!$N$9=\"PANAMÁ\",LOOKUP(7,GEfectos!$J$4:$P$4,GEfectos!J258:P258))))))))","v":159.08814612899064},{"$f":"IF(EFECTOS!$N$9=\"COSTA RICA\",LOOKUP(1,GEfectos!$Q$4:$W$4,GEfectos!Q258:W258),IF(EFECTOS!$N$9=\"EL SALVADOR\",LOOKUP(2,GEfectos!$Q$4:$W$4,GEfectos!Q258:W258),IF(EFECTOS!$N$9=\"GUATEMALA\",LOOKUP(3,GEfectos!$Q$4:$W$4,GEfectos!Q258:W258),IF(EFECTOS!$N$9=\"HONDURAS\",LOOKUP(4,GEfectos!$Q$4:$W$4,GEfectos!Q258:W258),IF(EFECTOS!$N$9=\"NICARAGUA\",LOOKUP(5,GEfectos!$Q$4:$W$4,GEfectos!Q258:W258),IF(EFECTOS!$N$9=\"REPÚBLICA \nDOMINICANA\",LOOKUP(6,$Q$4:$W$4,Q258:W258),IF(EFECTOS!$N$9=\"PANAMÁ\",LOOKUP(7,GEfectos!$Q$4:$W$4,GEfectos!Q258:W258))))))))","v":211.95008314966412},100]
[null,{"$f":"'ITCER GLOBAL'!B259","v":"Febrero"},{"$f":"'ITCER GLOBAL'!C259","v":75.54253770675129},{"$f":"'ITCER GLOBAL'!D259","v":100.5172463129702},{"$f":"'ITCER GLOBAL'!E259","v":58.221697896885217},{"$f":"'ITCER GLOBAL'!F259","v":83.72429144741875},{"$f":"'ITCER GLOBAL'!G259","v":103.13556930972753},{"$f":"'ITCER GLOBAL'!H259","v":131.64598360970874},{"$f":"'ITCER GLOBAL'!I259","v":85.69536481247944},{"$f":"'ITCER GLOBAL'!S259","v":159.53946617764842},{"$f":"'ITCER GLOBAL'!T259","v":89.928797813006753},{"$f":"'ITCER GLOBAL'!U259","v":89.100832701440595},{"$f":"'ITCER GLOBAL'!V259","v":141.65831391346848},{"$f":"'ITCER GLOBAL'!W259","v":193.6896364125131},{"$f":"'ITCER GLOBAL'!X259","v":259.06863984298599},{"$f":"'ITCER GLOBAL'!Y259","v":93.04105753504129},{"$f":"'ITCER GLOBAL'!AA259","v":211.19156308590661},{"$f":"'ITCER GLOBAL'!AB259","v":89.466038029936385},{"$f":"'ITCER GLOBAL'!AC259","v":153.03715954702065},{"$f":"'ITCER GLOBAL'!AD259","v":169.19619320091104},{"$f":"'ITCER GLOBAL'!AE259","v":187.80100571398569},{"$f":"'ITCER GLOBAL'!AF259","v":196.79190563917817},{"$f":"'ITCER GLOBAL'!AG259","v":108.57186702995649},null,{"$f":"IF(EFECTOS!$N$9=\"COSTA RICA\",LOOKUP(1,GEfectos!$C$4:$I$4,GEfectos!C259:I259),IF(EFECTOS!$N$9=\"EL SALVADOR\",LOOKUP(2,GEfectos!$C$4:$I$4,GEfectos!C259:I259),IF(EFECTOS!$N$9=\"GUATEMALA\",LOOKUP(3,GEfectos!$C$4:$I$4,GEfectos!C259:I259),IF(EFECTOS!$N$9=\"HONDURAS\",LOOKUP(4,GEfectos!$C$4:$I$4,GEfectos!C259:I259),IF(EFECTOS!$N$9=\"NICARAGUA\",LOOKUP(5,GEfectos!$C$4:$I$4,GEfectos!C259:I259),IF(EFECTOS!$N$9=\"REPÚBLICA \nDOMINICANA\",LOOKUP(6,$C$4:$I$4,C259:I259),IF(EFECTOS!$N$9=\"PANAMÁ\",LOOKUP(7,GEfectos!$C$4:$I$4,GEfectos!C259:I259))))))))","v":75.54253770675129},{"$f":"IF(EFECTOS!$N$9=\"COSTA RICA\",LOOKUP(1,GEfectos!$J$4:$P$4,GEfectos!J259:P259),IF(EFECTOS!$N$9=\"EL SALVADOR\",LOOKUP(2,GEfectos!$J$4:$P$4,GEfectos!J259:P259),IF(EFECTOS!$N$9=\"GUATEMALA\",LOOKUP(3,GEfectos!$J$4:$P$4,GEfectos!J259:P259),IF(EFECTOS!$N$9=\"HONDURAS\",LOOKUP(4,GEfectos!$J$4:$P$4,GEfectos!J259:P259),IF(EFECTOS!$N$9=\"NICARAGUA\",LOOKUP(5,GEfectos!$J$4:$P$4,GEfectos!J259:P259),IF(EFECTOS!$N$9=\"REPÚBLICA \nDOMINICANA\",LOOKUP(6,$J$4:$P$4,J259:P259),IF(EFECTOS!$N$9=\"PANAMÁ\",LOOKUP(7,GEfectos!$J$4:$P$4,GEfectos!J259:P259))))))))","v":159.53946617764842},{"$f":"IF(EFECTOS!$N$9=\"COSTA RICA\",LOOKUP(1,GEfectos!$Q$4:$W$4,GEfectos!Q259:W259),IF(EFECTOS!$N$9=\"EL SALVADOR\",LOOKUP(2,GEfectos!$Q$4:$W$4,GEfectos!Q259:W259),IF(EFECTOS!$N$9=\"GUATEMALA\",LOOKUP(3,GEfectos!$Q$4:$W$4,GEfectos!Q259:W259),IF(EFECTOS!$N$9=\"HONDURAS\",LOOKUP(4,GEfectos!$Q$4:$W$4,GEfectos!Q259:W259),IF(EFECTOS!$N$9=\"NICARAGUA\",LOOKUP(5,GEfectos!$Q$4:$W$4,GEfectos!Q259:W259),IF(EFECTOS!$N$9=\"REPÚBLICA \nDOMINICANA\",LOOKUP(6,$Q$4:$W$4,Q259:W259),IF(EFECTOS!$N$9=\"PANAMÁ\",LOOKUP(7,GEfectos!$Q$4:$W$4,GEfectos!Q259:W259))))))))","v":211.19156308590661},100]
[null,{"$f":"'ITCER GLOBAL'!B260","v":"Marzo"},{"$f":"'ITCER GLOBAL'!C260","v":76.866232750376383},{"$f":"'ITCER GLOBAL'!D260","v":101.30831155685797},{"$f":"'ITCER GLOBAL'!E260","v":59.152916967661028},{"$f":"'ITCER GLOBAL'!F260","v":84.39915944013373},{"$f":"'ITCER GLOBAL'!G260","v":103.79973111433696},{"$f":"'ITCER GLOBAL'!H260","v":133.30894208198913},{"$f":"'ITCER GLOBAL'!I260","v":86.598172114036487},{"$f":"'ITCER GLOBAL'!S260","v":160.2610530451793},{"$f":"'ITCER GLOBAL'!T260","v":90.336976784514476},{"$f":"'ITCER GLOBAL'!U260","v":90.472306784069545},{"$f":"'ITCER GLOBAL'!V260","v":142.70150713086295},{"$f":"'ITCER GLOBAL'!W260","v":195.79578479679901},{"$f":"'ITCER GLOBAL'!X260","v":261.29982804581243},{"$f":"'ITCER GLOBAL'!Y260","v":93.961780727278267},{"$f":"'ITCER GLOBAL'!AA260","v":208.49344024134518},{"$f":"'ITCER GLOBAL'!AB260","v":89.170350779969354},{"$f":"'ITCER GLOBAL'!AC260","v":152.94648416667408},{"$f":"'ITCER GLOBAL'!AD260","v":169.079298985299},{"$f":"'ITCER GLOBAL'!AE260","v":188.62841232327185},{"$f":"'ITCER GLOBAL'!AF260","v":196.01072813638035},{"$f":"'ITCER GLOBAL'!AG260","v":108.503191734284},null,{"$f":"IF(EFECTOS!$N$9=\"COSTA RICA\",LOOKUP(1,GEfectos!$C$4:$I$4,GEfectos!C260:I260),IF(EFECTOS!$N$9=\"EL SALVADOR\",LOOKUP(2,GEfectos!$C$4:$I$4,GEfectos!C260:I260),IF(EFECTOS!$N$9=\"GUATEMALA\",LOOKUP(3,GEfectos!$C$4:$I$4,GEfectos!C260:I260),IF(EFECTOS!$N$9=\"HONDURAS\",LOOKUP(4,GEfectos!$C$4:$I$4,GEfectos!C260:I260),IF(EFECTOS!$N$9=\"NICARAGUA\",LOOKUP(5,GEfectos!$C$4:$I$4,GEfectos!C260:I260),IF(EFECTOS!$N$9=\"REPÚBLICA \nDOMINICANA\",LOOKUP(6,$C$4:$I$4,C260:I260),IF(EFECTOS!$N$9=\"PANAMÁ\",LOOKUP(7,GEfectos!$C$4:$I$4,GEfectos!C260:I260))))))))","v":76.866232750376383},{"$f":"IF(EFECTOS!$N$9=\"COSTA RICA\",LOOKUP(1,GEfectos!$J$4:$P$4,GEfectos!J260:P260),IF(EFECTOS!$N$9=\"EL SALVADOR\",LOOKUP(2,GEfectos!$J$4:$P$4,GEfectos!J260:P260),IF(EFECTOS!$N$9=\"GUATEMALA\",LOOKUP(3,GEfectos!$J$4:$P$4,GEfectos!J260:P260),IF(EFECTOS!$N$9=\"HONDURAS\",LOOKUP(4,GEfectos!$J$4:$P$4,GEfectos!J260:P260),IF(EFECTOS!$N$9=\"NICARAGUA\",LOOKUP(5,GEfectos!$J$4:$P$4,GEfectos!J260:P260),IF(EFECTOS!$N$9=\"REPÚBLICA \nDOMINICANA\",LOOKUP(6,$J$4:$P$4,J260:P260),IF(EFECTOS!$N$9=\"PANAMÁ\",LOOKUP(7,GEfectos!$J$4:$P$4,GEfectos!J260:P260))))))))","v":160.2610530451793},{"$f":"IF(EFECTOS!$N$9=\"COSTA RICA\",LOOKUP(1,GEfectos!$Q$4:$W$4,GEfectos!Q260:W260),IF(EFECTOS!$N$9=\"EL SALVADOR\",LOOKUP(2,GEfectos!$Q$4:$W$4,GEfectos!Q260:W260),IF(EFECTOS!$N$9=\"GUATEMALA\",LOOKUP(3,GEfectos!$Q$4:$W$4,GEfectos!Q260:W260),IF(EFECTOS!$N$9=\"HONDURAS\",LOOKUP(4,GEfectos!$Q$4:$W$4,GEfectos!Q260:W260),IF(EFECTOS!$N$9=\"NICARAGUA\",LOOKUP(5,GEfectos!$Q$4:$W$4,GEfectos!Q260:W260),IF(EFECTOS!$N$9=\"REPÚBLICA \nDOMINICANA\",LOOKUP(6,$Q$4:$W$4,Q260:W260),IF(EFECTOS!$N$9=\"PANAMÁ\",LOOKUP(7,GEfectos!$Q$4:$W$4,GEfectos!Q260:W260))))))))","v":208.49344024134518},100]
[null,{"$f":"'ITCER GLOBAL'!B261","v":"Abril"},{"$f":"'ITCER GLOBAL'!C261","v":77.558105943726588},{"$f":"'ITCER GLOBAL'!D261","v":102.16422067322372},{"$f":"'ITCER GLOBAL'!E261","v":59.598104185195439},{"$f":"'ITCER GLOBAL'!F261","v":84.67183931585383},{"$f":"'ITCER GLOBAL'!G261","v":104.46233021473142},{"$f":"'ITCER GLOBAL'!H261","v":134.88627659283927},{"$f":"'ITCER GLOBAL'!I261","v":87.12832153236603},{"$f":"'ITCER GLOBAL'!S261","v":161.42864962162332},{"$f":"'ITCER GLOBAL'!T261","v":90.632904854088821},{"$f":"'ITCER GLOBAL'!U261","v":91.121706346292385},{"$f":"'ITCER GLOBAL'!V261","v":143.13916774519305},{"$f":"'ITCER GLOBAL'!W261","v":196.98884761121931},{"$f":"'ITCER GLOBAL'!X261","v":263.27927753118121},{"$f":"'ITCER GLOBAL'!Y261","v":94.769514506445361},{"$f":"'ITCER GLOBAL'!AA261","v":208.13897871455268},{"$f":"'ITCER GLOBAL'!AB261","v":88.712960620510898},{"$f":"'ITCER GLOBAL'!AC261","v":152.89363242686437},{"$f":"'ITCER GLOBAL'!AD261","v":169.05168105683501},{"$f":"'ITCER GLOBAL'!AE261","v":188.5740507667133},{"$f":"'ITCER GLOBAL'!AF261","v":195.18611098288557},{"$f":"'ITCER GLOBAL'!AG261","v":108.77004496321075},null,{"$f":"IF(EFECTOS!$N$9=\"COSTA RICA\",LOOKUP(1,GEfectos!$C$4:$I$4,GEfectos!C261:I261),IF(EFECTOS!$N$9=\"EL SALVADOR\",LOOKUP(2,GEfectos!$C$4:$I$4,GEfectos!C261:I261),IF(EFECTOS!$N$9=\"GUATEMALA\",LOOKUP(3,GEfectos!$C$4:$I$4,GEfectos!C261:I261),IF(EFECTOS!$N$9=\"HONDURAS\",LOOKUP(4,GEfectos!$C$4:$I$4,GEfectos!C261:I261),IF(EFECTOS!$N$9=\"NICARAGUA\",LOOKUP(5,GEfectos!$C$4:$I$4,GEfectos!C261:I261),IF(EFECTOS!$N$9=\"REPÚBLICA \nDOMINICANA\",LOOKUP(6,$C$4:$I$4,C261:I261),IF(EFECTOS!$N$9=\"PANAMÁ\",LOOKUP(7,GEfectos!$C$4:$I$4,GEfectos!C261:I261))))))))","v":77.558105943726588},{"$f":"IF(EFECTOS!$N$9=\"COSTA RICA\",LOOKUP(1,GEfectos!$J$4:$P$4,GEfectos!J261:P261),IF(EFECTOS!$N$9=\"EL SALVADOR\",LOOKUP(2,GEfectos!$J$4:$P$4,GEfectos!J261:P261),IF(EFECTOS!$N$9=\"GUATEMALA\",LOOKUP(3,GEfectos!$J$4:$P$4,GEfectos!J261:P261),IF(EFECTOS!$N$9=\"HONDURAS\",LOOKUP(4,GEfectos!$J$4:$P$4,GEfectos!J261:P261),IF(EFECTOS!$N$9=\"NICARAGUA\",LOOKUP(5,GEfectos!$J$4:$P$4,GEfectos!J261:P261),IF(EFECTOS!$N$9=\"REPÚBLICA \nDOMINICANA\",LOOKUP(6,$J$4:$P$4,J261:P261),IF(EFECTOS!$N$9=\"PANAMÁ\",LOOKUP(7,GEfectos!$J$4:$P$4,GEfectos!J261:P261))))))))","v":161.42864962162332},{"$f":"IF(EFECTOS!$N$9=\"COSTA RICA\",LOOKUP(1,GEfectos!$Q$4:$W$4,GEfectos!Q261:W261),IF(EFECTOS!$N$9=\"EL SALVADOR\",LOOKUP(2,GEfectos!$Q$4:$W$4,GEfectos!Q261:W261),IF(EFECTOS!$N$9=\"GUATEMALA\",LOOKUP(3,GEfectos!$Q$4:$W$4,GEfectos!Q261:W261),IF(EFECTOS!$N$9=\"HONDURAS\",LOOKUP(4,GEfectos!$Q$4:$W$4,GEfectos!Q261:W261),IF(EFECTOS!$N$9=\"NICARAGUA\",LOOKUP(5,GEfectos!$Q$4:$W$4,GEfectos!Q261:W261),IF(EFECTOS!$N$9=\"REPÚBLICA \nDOMINICANA\",LOOKUP(6,$Q$4:$W$4,Q261:W261),IF(EFECTOS!$N$9=\"PANAMÁ\",LOOKUP(7,GEfectos!$Q$4:$W$4,GEfectos!Q261:W261))))))))","v":208.13897871455268},100]
[null,{"$f":"'ITCER GLOBAL'!B262","v":"Mayo"},{"$f":"'ITCER GLOBAL'!C262","v":77.530688896852837},{"$f":"'ITCER GLOBAL'!D262","v":102.1612334689014},{"$f":"'ITCER GLOBAL'!E262","v":58.471684392098012},{"$f":"'ITCER GLOBAL'!F262","v":84.423300481743951},{"$f":"'ITCER GLOBAL'!G262","v":103.99699256287813},{"$f":"'ITCER GLOBAL'!H262","v":134.5645624693139},{"$f":"'ITCER GLOBAL'!I262","v":86.810829565964269},{"$f":"'ITCER GLOBAL'!S262","v":161.281113759411},{"$f":"'ITCER GLOBAL'!T262","v":90.435187815226143},{"$f":"'ITCER GLOBAL'!U262","v":89.634067141663181},{"$f":"'ITCER GLOBAL'!V262","v":142.85303077279778},{"$f":"'ITCER GLOBAL'!W262","v":196.89786263298009},{"$f":"'ITCER GLOBAL'!X262","v":262.56017184578479},{"$f":"'ITCER GLOBAL'!Y262","v":94.370880260668358},{"$f":"'ITCER GLOBAL'!AA262","v":208.02228904992722},{"$f":"'ITCER GLOBAL'!AB262","v":88.522020285468912},{"$f":"'ITCER GLOBAL'!AC262","v":153.29482650199918},{"$f":"'ITCER GLOBAL'!AD262","v":169.21043119332791},{"$f":"'ITCER GLOBAL'!AE262","v":189.33034290768811},{"$f":"'ITCER GLOBAL'!AF262","v":195.1183632805695},{"$f":"'ITCER GLOBAL'!AG262","v":108.70864929237831},null,{"$f":"IF(EFECTOS!$N$9=\"COSTA RICA\",LOOKUP(1,GEfectos!$C$4:$I$4,GEfectos!C262:I262),IF(EFECTOS!$N$9=\"EL SALVADOR\",LOOKUP(2,GEfectos!$C$4:$I$4,GEfectos!C262:I262),IF(EFECTOS!$N$9=\"GUATEMALA\",LOOKUP(3,GEfectos!$C$4:$I$4,GEfectos!C262:I262),IF(EFECTOS!$N$9=\"HONDURAS\",LOOKUP(4,GEfectos!$C$4:$I$4,GEfectos!C262:I262),IF(EFECTOS!$N$9=\"NICARAGUA\",LOOKUP(5,GEfectos!$C$4:$I$4,GEfectos!C262:I262),IF(EFECTOS!$N$9=\"REPÚBLICA \nDOMINICANA\",LOOKUP(6,$C$4:$I$4,C262:I262),IF(EFECTOS!$N$9=\"PANAMÁ\",LOOKUP(7,GEfectos!$C$4:$I$4,GEfectos!C262:I262))))))))","v":77.530688896852837},{"$f":"IF(EFECTOS!$N$9=\"COSTA RICA\",LOOKUP(1,GEfectos!$J$4:$P$4,GEfectos!J262:P262),IF(EFECTOS!$N$9=\"EL SALVADOR\",LOOKUP(2,GEfectos!$J$4:$P$4,GEfectos!J262:P262),IF(EFECTOS!$N$9=\"GUATEMALA\",LOOKUP(3,GEfectos!$J$4:$P$4,GEfectos!J262:P262),IF(EFECTOS!$N$9=\"HONDURAS\",LOOKUP(4,GEfectos!$J$4:$P$4,GEfectos!J262:P262),IF(EFECTOS!$N$9=\"NICARAGUA\",LOOKUP(5,GEfectos!$J$4:$P$4,GEfectos!J262:P262),IF(EFECTOS!$N$9=\"REPÚBLICA \nDOMINICANA\",LOOKUP(6,$J$4:$P$4,J262:P262),IF(EFECTOS!$N$9=\"PANAMÁ\",LOOKUP(7,GEfectos!$J$4:$P$4,GEfectos!J262:P262))))))))","v":161.281113759411},{"$f":"IF(EFECTOS!$N$9=\"COSTA RICA\",LOOKUP(1,GEfectos!$Q$4:$W$4,GEfectos!Q262:W262),IF(EFECTOS!$N$9=\"EL SALVADOR\",LOOKUP(2,GEfectos!$Q$4:$W$4,GEfectos!Q262:W262),IF(EFECTOS!$N$9=\"GUATEMALA\",LOOKUP(3,GEfectos!$Q$4:$W$4,GEfectos!Q262:W262),IF(EFECTOS!$N$9=\"HONDURAS\",LOOKUP(4,GEfectos!$Q$4:$W$4,GEfectos!Q262:W262),IF(EFECTOS!$N$9=\"NICARAGUA\",LOOKUP(5,GEfectos!$Q$4:$W$4,GEfectos!Q262:W262),IF(EFECTOS!$N$9=\"REPÚBLICA \nDOMINICANA\",LOOKUP(6,$Q$4:$W$4,Q262:W262),IF(EFECTOS!$N$9=\"PANAMÁ\",LOOKUP(7,GEfectos!$Q$4:$W$4,GEfectos!Q262:W262))))))))","v":208.02228904992722},100]
[null,{"$f":"'ITCER GLOBAL'!B263","v":"Junio"},{"$f":"'ITCER GLOBAL'!C263","v":78.40057034527743},{"$f":"'ITCER GLOBAL'!D263","v":102.06506186329943},{"$f":"'ITCER GLOBAL'!E263","v":58.074530947500861},{"$f":"'ITCER GLOBAL'!F263","v":84.315242761177046},{"$f":"'ITCER GLOBAL'!G263","v":104.23228700584521},{"$f":"'ITCER GLOBAL'!H263","v":134.01367558346661},{"$f":"'ITCER GLOBAL'!I263","v":86.944166613654161},{"$f":"'ITCER GLOBAL'!S263","v":162.72116260122937},{"$f":"'ITCER GLOBAL'!T263","v":90.198791354886012},{"$f":"'ITCER GLOBAL'!U263","v":89.247846043475505},{"$f":"'ITCER GLOBAL'!V263","v":143.31076330808568},{"$f":"'ITCER GLOBAL'!W263","v":196.75772203403855},{"$f":"'ITCER GLOBAL'!X263","v":262.38393912608814},{"$f":"'ITCER GLOBAL'!Y263","v":94.245206323544579},{"$f":"'ITCER GLOBAL'!AA263","v":207.55099342339301},{"$f":"'ITCER GLOBAL'!AB263","v":88.373817355534968},{"$f":"'ITCER GLOBAL'!AC263","v":153.67811773487281},{"$f":"'ITCER GLOBAL'!AD263","v":169.97017219533302},{"$f":"'ITCER GLOBAL'!AE263","v":188.76849744552246},{"$f":"'ITCER GLOBAL'!AF263","v":195.78892824461769},{"$f":"'ITCER GLOBAL'!AG263","v":108.39738880048549},null,{"$f":"IF(EFECTOS!$N$9=\"COSTA RICA\",LOOKUP(1,GEfectos!$C$4:$I$4,GEfectos!C263:I263),IF(EFECTOS!$N$9=\"EL SALVADOR\",LOOKUP(2,GEfectos!$C$4:$I$4,GEfectos!C263:I263),IF(EFECTOS!$N$9=\"GUATEMALA\",LOOKUP(3,GEfectos!$C$4:$I$4,GEfectos!C263:I263),IF(EFECTOS!$N$9=\"HONDURAS\",LOOKUP(4,GEfectos!$C$4:$I$4,GEfectos!C263:I263),IF(EFECTOS!$N$9=\"NICARAGUA\",LOOKUP(5,GEfectos!$C$4:$I$4,GEfectos!C263:I263),IF(EFECTOS!$N$9=\"REPÚBLICA \nDOMINICANA\",LOOKUP(6,$C$4:$I$4,C263:I263),IF(EFECTOS!$N$9=\"PANAMÁ\",LOOKUP(7,GEfectos!$C$4:$I$4,GEfectos!C263:I263))))))))","v":78.40057034527743},{"$f":"IF(EFECTOS!$N$9=\"COSTA RICA\",LOOKUP(1,GEfectos!$J$4:$P$4,GEfectos!J263:P263),IF(EFECTOS!$N$9=\"EL SALVADOR\",LOOKUP(2,GEfectos!$J$4:$P$4,GEfectos!J263:P263),IF(EFECTOS!$N$9=\"GUATEMALA\",LOOKUP(3,GEfectos!$J$4:$P$4,GEfectos!J263:P263),IF(EFECTOS!$N$9=\"HONDURAS\",LOOKUP(4,GEfectos!$J$4:$P$4,GEfectos!J263:P263),IF(EFECTOS!$N$9=\"NICARAGUA\",LOOKUP(5,GEfectos!$J$4:$P$4,GEfectos!J263:P263),IF(EFECTOS!$N$9=\"REPÚBLICA \nDOMINICANA\",LOOKUP(6,$J$4:$P$4,J263:P263),IF(EFECTOS!$N$9=\"PANAMÁ\",LOOKUP(7,GEfectos!$J$4:$P$4,GEfectos!J263:P263))))))))","v":162.72116260122937},{"$f":"IF(EFECTOS!$N$9=\"COSTA RICA\",LOOKUP(1,GEfectos!$Q$4:$W$4,GEfectos!Q263:W263),IF(EFECTOS!$N$9=\"EL SALVADOR\",LOOKUP(2,GEfectos!$Q$4:$W$4,GEfectos!Q263:W263),IF(EFECTOS!$N$9=\"GUATEMALA\",LOOKUP(3,GEfectos!$Q$4:$W$4,GEfectos!Q263:W263),IF(EFECTOS!$N$9=\"HONDURAS\",LOOKUP(4,GEfectos!$Q$4:$W$4,GEfectos!Q263:W263),IF(EFECTOS!$N$9=\"NICARAGUA\",LOOKUP(5,GEfectos!$Q$4:$W$4,GEfectos!Q263:W263),IF(EFECTOS!$N$9=\"REPÚBLICA \nDOMINICANA\",LOOKUP(6,$Q$4:$W$4,Q263:W263),IF(EFECTOS!$N$9=\"PANAMÁ\",LOOKUP(7,GEfectos!$Q$4:$W$4,GEfectos!Q263:W263))))))))","v":207.55099342339301},100]
[null,{"$f":"'ITCER GLOBAL'!B264","v":"Julio"},{"$f":"'ITCER GLOBAL'!C264","v":78.287514733976266},{"$f":"'ITCER GLOBAL'!D264","v":102.22493508087098},{"$f":"'ITCER GLOBAL'!E264","v":57.275885537621242},{"$f":"'ITCER GLOBAL'!F264","v":84.38710000312048},{"$f":"'ITCER GLOBAL'!G264","v":104.56414804369012},{"$f":"'ITCER GLOBAL'!H264","v":133.71141553591633},{"$f":"'ITCER GLOBAL'!I264","v":86.910830586239825},{"$f":"'ITCER GLOBAL'!S264","v":164.08045280844081},{"$f":"'ITCER GLOBAL'!T264","v":90.158060240425414},{"$f":"'ITCER GLOBAL'!U264","v":88.63130146743417},{"$f":"'ITCER GLOBAL'!V264","v":143.84432135126428},{"$f":"'ITCER GLOBAL'!W264","v":197.88902280119723},{"$f":"'ITCER GLOBAL'!X264","v":262.3203982074026},{"$f":"'ITCER GLOBAL'!Y264","v":94.336647268229186},{"$f":"'ITCER GLOBAL'!AA264","v":209.58699910961789},{"$f":"'ITCER GLOBAL'!AB264","v":88.195761796376431},{"$f":"'ITCER GLOBAL'!AC264","v":154.74453277412422},{"$f":"'ITCER GLOBAL'!AD264","v":170.45771373343223},{"$f":"'ITCER GLOBAL'!AE264","v":189.25131271429007},{"$f":"'ITCER GLOBAL'!AF264","v":196.18399607544393},{"$f":"'ITCER GLOBAL'!AG264","v":108.54417870810803},null,{"$f":"IF(EFECTOS!$N$9=\"COSTA RICA\",LOOKUP(1,GEfectos!$C$4:$I$4,GEfectos!C264:I264),IF(EFECTOS!$N$9=\"EL SALVADOR\",LOOKUP(2,GEfectos!$C$4:$I$4,GEfectos!C264:I264),IF(EFECTOS!$N$9=\"GUATEMALA\",LOOKUP(3,GEfectos!$C$4:$I$4,GEfectos!C264:I264),IF(EFECTOS!$N$9=\"HONDURAS\",LOOKUP(4,GEfectos!$C$4:$I$4,GEfectos!C264:I264),IF(EFECTOS!$N$9=\"NICARAGUA\",LOOKUP(5,GEfectos!$C$4:$I$4,GEfectos!C264:I264),IF(EFECTOS!$N$9=\"REPÚBLICA \nDOMINICANA\",LOOKUP(6,$C$4:$I$4,C264:I264),IF(EFECTOS!$N$9=\"PANAMÁ\",LOOKUP(7,GEfectos!$C$4:$I$4,GEfectos!C264:I264))))))))","v":78.287514733976266},{"$f":"IF(EFECTOS!$N$9=\"COSTA RICA\",LOOKUP(1,GEfectos!$J$4:$P$4,GEfectos!J264:P264),IF(EFECTOS!$N$9=\"EL SALVADOR\",LOOKUP(2,GEfectos!$J$4:$P$4,GEfectos!J264:P264),IF(EFECTOS!$N$9=\"GUATEMALA\",LOOKUP(3,GEfectos!$J$4:$P$4,GEfectos!J264:P264),IF(EFECTOS!$N$9=\"HONDURAS\",LOOKUP(4,GEfectos!$J$4:$P$4,GEfectos!J264:P264),IF(EFECTOS!$N$9=\"NICARAGUA\",LOOKUP(5,GEfectos!$J$4:$P$4,GEfectos!J264:P264),IF(EFECTOS!$N$9=\"REPÚBLICA \nDOMINICANA\",LOOKUP(6,$J$4:$P$4,J264:P264),IF(EFECTOS!$N$9=\"PANAMÁ\",LOOKUP(7,GEfectos!$J$4:$P$4,GEfectos!J264:P264))))))))","v":164.08045280844081},{"$f":"IF(EFECTOS!$N$9=\"COSTA RICA\",LOOKUP(1,GEfectos!$Q$4:$W$4,GEfectos!Q264:W264),IF(EFECTOS!$N$9=\"EL SALVADOR\",LOOKUP(2,GEfectos!$Q$4:$W$4,GEfectos!Q264:W264),IF(EFECTOS!$N$9=\"GUATEMALA\",LOOKUP(3,GEfectos!$Q$4:$W$4,GEfectos!Q264:W264),IF(EFECTOS!$N$9=\"HONDURAS\",LOOKUP(4,GEfectos!$Q$4:$W$4,GEfectos!Q264:W264),IF(EFECTOS!$N$9=\"NICARAGUA\",LOOKUP(5,GEfectos!$Q$4:$W$4,GEfectos!Q264:W264),IF(EFECTOS!$N$9=\"REPÚBLICA \nDOMINICANA\",LOOKUP(6,$Q$4:$W$4,Q264:W264),IF(EFECTOS!$N$9=\"PANAMÁ\",LOOKUP(7,GEfectos!$Q$4:$W$4,GEfectos!Q264:W264))))))))","v":209.58699910961789},100]
[null,{"$f":"'ITCER GLOBAL'!B265","v":"Agosto"},{"$f":"'ITCER GLOBAL'!C265","v":78.877775706192537},{"$f":"'ITCER GLOBAL'!D265","v":102.80252971415783},{"$f":"'ITCER GLOBAL'!E265","v":56.87145370956604},{"$f":"'ITCER GLOBAL'!F265","v":84.695023467300388},{"$f":"'ITCER GLOBAL'!G265","v":105.81309048391344},{"$f":"'ITCER GLOBAL'!H265","v":134.23246348729384},{"$f":"'ITCER GLOBAL'!I265","v":87.27940744026192},{"$f":"'ITCER GLOBAL'!S265","v":165.24378497502897},{"$f":"'ITCER GLOBAL'!T265","v":90.359646424137821},{"$f":"'ITCER GLOBAL'!U265","v":88.112495956418158},{"$f":"'ITCER GLOBAL'!V265","v":144.47048540057355},{"$f":"'ITCER GLOBAL'!W265","v":199.34777389454382},{"$f":"'ITCER GLOBAL'!X265","v":262.84061472288369},{"$f":"'ITCER GLOBAL'!Y265","v":94.668841247809553},{"$f":"'ITCER GLOBAL'!AA265","v":209.49346440819579},{"$f":"'ITCER GLOBAL'!AB265","v":87.896325776595745},{"$f":"'ITCER GLOBAL'!AC265","v":154.93273023474205},{"$f":"'ITCER GLOBAL'!AD265","v":170.57730134091253},{"$f":"'ITCER GLOBAL'!AE265","v":188.39613603843307},{"$f":"'ITCER GLOBAL'!AF265","v":195.81002083580444},{"$f":"'ITCER GLOBAL'!AG265","v":108.4664115216471},null,{"$f":"IF(EFECTOS!$N$9=\"COSTA RICA\",LOOKUP(1,GEfectos!$C$4:$I$4,GEfectos!C265:I265),IF(EFECTOS!$N$9=\"EL SALVADOR\",LOOKUP(2,GEfectos!$C$4:$I$4,GEfectos!C265:I265),IF(EFECTOS!$N$9=\"GUATEMALA\",LOOKUP(3,GEfectos!$C$4:$I$4,GEfectos!C265:I265),IF(EFECTOS!$N$9=\"HONDURAS\",LOOKUP(4,GEfectos!$C$4:$I$4,GEfectos!C265:I265),IF(EFECTOS!$N$9=\"NICARAGUA\",LOOKUP(5,GEfectos!$C$4:$I$4,GEfectos!C265:I265),IF(EFECTOS!$N$9=\"REPÚBLICA \nDOMINICANA\",LOOKUP(6,$C$4:$I$4,C265:I265),IF(EFECTOS!$N$9=\"PANAMÁ\",LOOKUP(7,GEfectos!$C$4:$I$4,GEfectos!C265:I265))))))))","v":78.877775706192537},{"$f":"IF(EFECTOS!$N$9=\"COSTA RICA\",LOOKUP(1,GEfectos!$J$4:$P$4,GEfectos!J265:P265),IF(EFECTOS!$N$9=\"EL SALVADOR\",LOOKUP(2,GEfectos!$J$4:$P$4,GEfectos!J265:P265),IF(EFECTOS!$N$9=\"GUATEMALA\",LOOKUP(3,GEfectos!$J$4:$P$4,GEfectos!J265:P265),IF(EFECTOS!$N$9=\"HONDURAS\",LOOKUP(4,GEfectos!$J$4:$P$4,GEfectos!J265:P265),IF(EFECTOS!$N$9=\"NICARAGUA\",LOOKUP(5,GEfectos!$J$4:$P$4,GEfectos!J265:P265),IF(EFECTOS!$N$9=\"REPÚBLICA \nDOMINICANA\",LOOKUP(6,$J$4:$P$4,J265:P265),IF(EFECTOS!$N$9=\"PANAMÁ\",LOOKUP(7,GEfectos!$J$4:$P$4,GEfectos!J265:P265))))))))","v":165.24378497502897},{"$f":"IF(EFECTOS!$N$9=\"COSTA RICA\",LOOKUP(1,GEfectos!$Q$4:$W$4,GEfectos!Q265:W265),IF(EFECTOS!$N$9=\"EL SALVADOR\",LOOKUP(2,GEfectos!$Q$4:$W$4,GEfectos!Q265:W265),IF(EFECTOS!$N$9=\"GUATEMALA\",LOOKUP(3,GEfectos!$Q$4:$W$4,GEfectos!Q265:W265),IF(EFECTOS!$N$9=\"HONDURAS\",LOOKUP(4,GEfectos!$Q$4:$W$4,GEfectos!Q265:W265),IF(EFECTOS!$N$9=\"NICARAGUA\",LOOKUP(5,GEfectos!$Q$4:$W$4,GEfectos!Q265:W265),IF(EFECTOS!$N$9=\"REPÚBLICA \nDOMINICANA\",LOOKUP(6,$Q$4:$W$4,Q265:W265),IF(EFECTOS!$N$9=\"PANAMÁ\",LOOKUP(7,GEfectos!$Q$4:$W$4,GEfectos!Q265:W265))))))))","v":209.49346440819579},100]
[null,{"$f":"'ITCER GLOBAL'!B266","v":"Septiembre"},{"$f":"'ITCER GLOBAL'!C266","v":79.446040568606904},{"$f":"'ITCER GLOBAL'!D266","v":102.99314404651834},{"$f":"'ITCER GLOBAL'!E266","v":56.772091005984706},{"$f":"'ITCER GLOBAL'!F266","v":84.749319394637126},{"$f":"'ITCER GLOBAL'!G266","v":106.22122907845581},{"$f":"'ITCER GLOBAL'!H266","v":134.57419135491941},{"$f":"'ITCER GLOBAL'!I266","v":87.034238084028118},{"$f":"'ITCER GLOBAL'!S266","v":165.19992229995077},{"$f":"'ITCER GLOBAL'!T266","v":90.074721739886186},{"$f":"'ITCER GLOBAL'!U266","v":87.573840085317642},{"$f":"'ITCER GLOBAL'!V266","v":144.52762050383717},{"$f":"'ITCER GLOBAL'!W266","v":199.05138994547372},{"$f":"'ITCER GLOBAL'!X266","v":262.70139967527155},{"$f":"'ITCER GLOBAL'!Y266","v":94.401304605547836},{"$f":"'ITCER GLOBAL'!AA266","v":207.93978040641275},{"$f":"'ITCER GLOBAL'!AB266","v":87.457007525862736},{"$f":"'ITCER GLOBAL'!AC266","v":154.2550900161242},{"$f":"'ITCER GLOBAL'!AD266","v":170.53543501729024},{"$f":"'ITCER GLOBAL'!AE266","v":187.39322795677015},{"$f":"'ITCER GLOBAL'!AF266","v":195.20934662905438},{"$f":"'ITCER GLOBAL'!AG266","v":108.46456139985634},null,{"$f":"IF(EFECTOS!$N$9=\"COSTA RICA\",LOOKUP(1,GEfectos!$C$4:$I$4,GEfectos!C266:I266),IF(EFECTOS!$N$9=\"EL SALVADOR\",LOOKUP(2,GEfectos!$C$4:$I$4,GEfectos!C266:I266),IF(EFECTOS!$N$9=\"GUATEMALA\",LOOKUP(3,GEfectos!$C$4:$I$4,GEfectos!C266:I266),IF(EFECTOS!$N$9=\"HONDURAS\",LOOKUP(4,GEfectos!$C$4:$I$4,GEfectos!C266:I266),IF(EFECTOS!$N$9=\"NICARAGUA\",LOOKUP(5,GEfectos!$C$4:$I$4,GEfectos!C266:I266),IF(EFECTOS!$N$9=\"REPÚBLICA \nDOMINICANA\",LOOKUP(6,$C$4:$I$4,C266:I266),IF(EFECTOS!$N$9=\"PANAMÁ\",LOOKUP(7,GEfectos!$C$4:$I$4,GEfectos!C266:I266))))))))","v":79.446040568606904},{"$f":"IF(EFECTOS!$N$9=\"COSTA RICA\",LOOKUP(1,GEfectos!$J$4:$P$4,GEfectos!J266:P266),IF(EFECTOS!$N$9=\"EL SALVADOR\",LOOKUP(2,GEfectos!$J$4:$P$4,GEfectos!J266:P266),IF(EFECTOS!$N$9=\"GUATEMALA\",LOOKUP(3,GEfectos!$J$4:$P$4,GEfectos!J266:P266),IF(EFECTOS!$N$9=\"HONDURAS\",LOOKUP(4,GEfectos!$J$4:$P$4,GEfectos!J266:P266),IF(EFECTOS!$N$9=\"NICARAGUA\",LOOKUP(5,GEfectos!$J$4:$P$4,GEfectos!J266:P266),IF(EFECTOS!$N$9=\"REPÚBLICA \nDOMINICANA\",LOOKUP(6,$J$4:$P$4,J266:P266),IF(EFECTOS!$N$9=\"PANAMÁ\",LOOKUP(7,GEfectos!$J$4:$P$4,GEfectos!J266:P266))))))))","v":165.19992229995077},{"$f":"IF(EFECTOS!$N$9=\"COSTA RICA\",LOOKUP(1,GEfectos!$Q$4:$W$4,GEfectos!Q266:W266),IF(EFECTOS!$N$9=\"EL SALVADOR\",LOOKUP(2,GEfectos!$Q$4:$W$4,GEfectos!Q266:W266),IF(EFECTOS!$N$9=\"GUATEMALA\",LOOKUP(3,GEfectos!$Q$4:$W$4,GEfectos!Q266:W266),IF(EFECTOS!$N$9=\"HONDURAS\",LOOKUP(4,GEfectos!$Q$4:$W$4,GEfectos!Q266:W266),IF(EFECTOS!$N$9=\"NICARAGUA\",LOOKUP(5,GEfectos!$Q$4:$W$4,GEfectos!Q266:W266),IF(EFECTOS!$N$9=\"REPÚBLICA \nDOMINICANA\",LOOKUP(6,$Q$4:$W$4,Q266:W266),IF(EFECTOS!$N$9=\"PANAMÁ\",LOOKUP(7,GEfectos!$Q$4:$W$4,GEfectos!Q266:W266))))))))","v":207.93978040641275},100]
[null,"Octubre",{"$f":"'ITCER GLOBAL'!C267","v":79.658586549930646},{"$f":"'ITCER GLOBAL'!D267","v":102.8303162703825},{"$f":"'ITCER GLOBAL'!E267","v":56.178845619796505},{"$f":"'ITCER GLOBAL'!F267","v":85.198898024225159},{"$f":"'ITCER GLOBAL'!G267","v":106.48735499572058},{"$f":"'ITCER GLOBAL'!H267","v":134.84230515353306},{"$f":"'ITCER GLOBAL'!I267","v":86.827750470705737},{"$f":"'ITCER GLOBAL'!S267","v":165.14546524100649},{"$f":"'ITCER GLOBAL'!T267","v":89.981066355092707},{"$f":"'ITCER GLOBAL'!U267","v":87.115171603398238},{"$f":"'ITCER GLOBAL'!V267","v":144.99361383902183},{"$f":"'ITCER GLOBAL'!W267","v":199.75860282710448},{"$f":"'ITCER GLOBAL'!X267","v":263.41039607592705},{"$f":"'ITCER GLOBAL'!Y267","v":94.112302210625671},{"$f":"'ITCER GLOBAL'!AA267","v":207.31658995416896},{"$f":"'ITCER GLOBAL'!AB267","v":87.504414669401669},{"$f":"'ITCER GLOBAL'!AC267","v":155.06757150720142},{"$f":"'ITCER GLOBAL'!AD267","v":170.18249907151949},{"$f":"'ITCER GLOBAL'!AE267","v":187.58903612089173},{"$f":"'ITCER GLOBAL'!AF267","v":195.34699868561637},{"$f":"'ITCER GLOBAL'!AG267","v":108.38965849101163},null,{"$f":"IF(EFECTOS!$N$9=\"COSTA RICA\",LOOKUP(1,GEfectos!$C$4:$I$4,GEfectos!C267:I267),IF(EFECTOS!$N$9=\"EL SALVADOR\",LOOKUP(2,GEfectos!$C$4:$I$4,GEfectos!C267:I267),IF(EFECTOS!$N$9=\"GUATEMALA\",LOOKUP(3,GEfectos!$C$4:$I$4,GEfectos!C267:I267),IF(EFECTOS!$N$9=\"HONDURAS\",LOOKUP(4,GEfectos!$C$4:$I$4,GEfectos!C267:I267),IF(EFECTOS!$N$9=\"NICARAGUA\",LOOKUP(5,GEfectos!$C$4:$I$4,GEfectos!C267:I267),IF(EFECTOS!$N$9=\"REPÚBLICA \nDOMINICANA\",LOOKUP(6,$C$4:$I$4,C267:I267),IF(EFECTOS!$N$9=\"PANAMÁ\",LOOKUP(7,GEfectos!$C$4:$I$4,GEfectos!C267:I267))))))))","v":79.658586549930646},{"$f":"IF(EFECTOS!$N$9=\"COSTA RICA\",LOOKUP(1,GEfectos!$J$4:$P$4,GEfectos!J267:P267),IF(EFECTOS!$N$9=\"EL SALVADOR\",LOOKUP(2,GEfectos!$J$4:$P$4,GEfectos!J267:P267),IF(EFECTOS!$N$9=\"GUATEMALA\",LOOKUP(3,GEfectos!$J$4:$P$4,GEfectos!J267:P267),IF(EFECTOS!$N$9=\"HONDURAS\",LOOKUP(4,GEfectos!$J$4:$P$4,GEfectos!J267:P267),IF(EFECTOS!$N$9=\"NICARAGUA\",LOOKUP(5,GEfectos!$J$4:$P$4,GEfectos!J267:P267),IF(EFECTOS!$N$9=\"REPÚBLICA \nDOMINICANA\",LOOKUP(6,$J$4:$P$4,J267:P267),IF(EFECTOS!$N$9=\"PANAMÁ\",LOOKUP(7,GEfectos!$J$4:$P$4,GEfectos!J267:P267))))))))","v":165.14546524100649},{"$f":"IF(EFECTOS!$N$9=\"COSTA RICA\",LOOKUP(1,GEfectos!$Q$4:$W$4,GEfectos!Q267:W267),IF(EFECTOS!$N$9=\"EL SALVADOR\",LOOKUP(2,GEfectos!$Q$4:$W$4,GEfectos!Q267:W267),IF(EFECTOS!$N$9=\"GUATEMALA\",LOOKUP(3,GEfectos!$Q$4:$W$4,GEfectos!Q267:W267),IF(EFECTOS!$N$9=\"HONDURAS\",LOOKUP(4,GEfectos!$Q$4:$W$4,GEfectos!Q267:W267),IF(EFECTOS!$N$9=\"NICARAGUA\",LOOKUP(5,GEfectos!$Q$4:$W$4,GEfectos!Q267:W267),IF(EFECTOS!$N$9=\"REPÚBLICA \nDOMINICANA\",LOOKUP(6,$Q$4:$W$4,Q267:W267),IF(EFECTOS!$N$9=\"PANAMÁ\",LOOKUP(7,GEfectos!$Q$4:$W$4,GEfectos!Q267:W267))))))))","v":207.31658995416896},100]
[null,{"$f":"'ITCER GLOBAL'!B268","v":"Noviembre"},{"$f":"'ITCER GLOBAL'!C268","v":78.846284118608992},{"$f":"'ITCER GLOBAL'!D268","v":102.02099225141671},{"$f":"'ITCER GLOBAL'!E268","v":55.345969060004528},{"$f":"'ITCER GLOBAL'!F268","v":84.584550998326819},{"$f":"'ITCER GLOBAL'!G268","v":105.19093999629496},{"$f":"'ITCER GLOBAL'!H268","v":133.5824461947409},{"$f":"'ITCER GLOBAL'!I268","v":85.661787243160816},{"$f":"'ITCER GLOBAL'!S268","v":163.52376432430714},{"$f":"'ITCER GLOBAL'!T268","v":89.239151255739415},{"$f":"'ITCER GLOBAL'!U268","v":86.159332483454733},{"$f":"'ITCER GLOBAL'!V268","v":144.15871229525297},{"$f":"'ITCER GLOBAL'!W268","v":197.76716471139903},{"$f":"'ITCER GLOBAL'!X268","v":261.29397067319843},{"$f":"'ITCER GLOBAL'!Y268","v":92.810350050095309},{"$f":"'ITCER GLOBAL'!AA268","v":207.3956511106056},{"$f":"'ITCER GLOBAL'!AB268","v":87.471361811323874},{"$f":"'ITCER GLOBAL'!AC268","v":155.67408782750417},{"$f":"'ITCER GLOBAL'!AD268","v":170.43149203227975},{"$f":"'ITCER GLOBAL'!AE268","v":188.00779298898252},{"$f":"'ITCER GLOBAL'!AF268","v":195.60502005800632},{"$f":"'ITCER GLOBAL'!AG268","v":108.34510116703785},null,{"$f":"IF(EFECTOS!$N$9=\"COSTA RICA\",LOOKUP(1,GEfectos!$C$4:$I$4,GEfectos!C268:I268),IF(EFECTOS!$N$9=\"EL SALVADOR\",LOOKUP(2,GEfectos!$C$4:$I$4,GEfectos!C268:I268),IF(EFECTOS!$N$9=\"GUATEMALA\",LOOKUP(3,GEfectos!$C$4:$I$4,GEfectos!C268:I268),IF(EFECTOS!$N$9=\"HONDURAS\",LOOKUP(4,GEfectos!$C$4:$I$4,GEfectos!C268:I268),IF(EFECTOS!$N$9=\"NICARAGUA\",LOOKUP(5,GEfectos!$C$4:$I$4,GEfectos!C268:I268),IF(EFECTOS!$N$9=\"REPÚBLICA \nDOMINICANA\",LOOKUP(6,$C$4:$I$4,C268:I268),IF(EFECTOS!$N$9=\"PANAMÁ\",LOOKUP(7,GEfectos!$C$4:$I$4,GEfectos!C268:I268))))))))","v":78.846284118608992},{"$f":"IF(EFECTOS!$N$9=\"COSTA RICA\",LOOKUP(1,GEfectos!$J$4:$P$4,GEfectos!J268:P268),IF(EFECTOS!$N$9=\"EL SALVADOR\",LOOKUP(2,GEfectos!$J$4:$P$4,GEfectos!J268:P268),IF(EFECTOS!$N$9=\"GUATEMALA\",LOOKUP(3,GEfectos!$J$4:$P$4,GEfectos!J268:P268),IF(EFECTOS!$N$9=\"HONDURAS\",LOOKUP(4,GEfectos!$J$4:$P$4,GEfectos!J268:P268),IF(EFECTOS!$N$9=\"NICARAGUA\",LOOKUP(5,GEfectos!$J$4:$P$4,GEfectos!J268:P268),IF(EFECTOS!$N$9=\"REPÚBLICA \nDOMINICANA\",LOOKUP(6,$J$4:$P$4,J268:P268),IF(EFECTOS!$N$9=\"PANAMÁ\",LOOKUP(7,GEfectos!$J$4:$P$4,GEfectos!J268:P268))))))))","v":163.52376432430714},{"$f":"IF(EFECTOS!$N$9=\"COSTA RICA\",LOOKUP(1,GEfectos!$Q$4:$W$4,GEfectos!Q268:W268),IF(EFECTOS!$N$9=\"EL SALVADOR\",LOOKUP(2,GEfectos!$Q$4:$W$4,GEfectos!Q268:W268),IF(EFECTOS!$N$9=\"GUATEMALA\",LOOKUP(3,GEfectos!$Q$4:$W$4,GEfectos!Q268:W268),IF(EFECTOS!$N$9=\"HONDURAS\",LOOKUP(4,GEfectos!$Q$4:$W$4,GEfectos!Q268:W268),IF(EFECTOS!$N$9=\"NICARAGUA\",LOOKUP(5,GEfectos!$Q$4:$W$4,GEfectos!Q268:W268),IF(EFECTOS!$N$9=\"REPÚBLICA \nDOMINICANA\",LOOKUP(6,$Q$4:$W$4,Q268:W268),IF(EFECTOS!$N$9=\"PANAMÁ\",LOOKUP(7,GEfectos!$Q$4:$W$4,GEfectos!Q268:W268))))))))","v":207.3956511106056},100]
[null,{"$f":"'ITCER GLOBAL'!B269","v":"Diciembre"},{"$f":"'ITCER GLOBAL'!C269","v":77.852655271691276},{"$f":"'ITCER GLOBAL'!D269","v":101.84906505459527},{"$f":"'ITCER GLOBAL'!E269","v":55.067200573690513},{"$f":"'ITCER GLOBAL'!F269","v":85.016754204136916},{"$f":"'ITCER GLOBAL'!G269","v":104.1102684378375},{"$f":"'ITCER GLOBAL'!H269","v":132.17808190209135},{"$f":"'ITCER GLOBAL'!I269","v":85.143933347337637},{"$f":"'ITCER GLOBAL'!S269","v":161.81633602263926},{"$f":"'ITCER GLOBAL'!T269","v":88.782809270920254},{"$f":"'ITCER GLOBAL'!U269","v":85.591907711314647},{"$f":"'ITCER GLOBAL'!V269","v":145.05687749283021},{"$f":"'ITCER GLOBAL'!W269","v":197.00006888575115},{"$f":"'ITCER GLOBAL'!X269","v":260.39961777023649},{"$f":"'ITCER GLOBAL'!Y269","v":92.179668151694401},{"$f":"'ITCER GLOBAL'!AA269","v":207.84947598502632},{"$f":"'ITCER GLOBAL'!AB269","v":87.170961484358273},{"$f":"'ITCER GLOBAL'!AC269","v":155.43173943766436},{"$f":"'ITCER GLOBAL'!AD269","v":170.62151907673245},{"$f":"'ITCER GLOBAL'!AE269","v":189.2225155517456},{"$f":"'ITCER GLOBAL'!AF269","v":197.00665497863938},{"$f":"'ITCER GLOBAL'!AG269","v":108.26334246933962},null,{"$f":"IF(EFECTOS!$N$9=\"COSTA RICA\",LOOKUP(1,GEfectos!$C$4:$I$4,GEfectos!C269:I269),IF(EFECTOS!$N$9=\"EL SALVADOR\",LOOKUP(2,GEfectos!$C$4:$I$4,GEfectos!C269:I269),IF(EFECTOS!$N$9=\"GUATEMALA\",LOOKUP(3,GEfectos!$C$4:$I$4,GEfectos!C269:I269),IF(EFECTOS!$N$9=\"HONDURAS\",LOOKUP(4,GEfectos!$C$4:$I$4,GEfectos!C269:I269),IF(EFECTOS!$N$9=\"NICARAGUA\",LOOKUP(5,GEfectos!$C$4:$I$4,GEfectos!C269:I269),IF(EFECTOS!$N$9=\"REPÚBLICA \nDOMINICANA\",LOOKUP(6,$C$4:$I$4,C269:I269),IF(EFECTOS!$N$9=\"PANAMÁ\",LOOKUP(7,GEfectos!$C$4:$I$4,GEfectos!C269:I269))))))))","v":77.852655271691276},{"$f":"IF(EFECTOS!$N$9=\"COSTA RICA\",LOOKUP(1,GEfectos!$J$4:$P$4,GEfectos!J269:P269),IF(EFECTOS!$N$9=\"EL SALVADOR\",LOOKUP(2,GEfectos!$J$4:$P$4,GEfectos!J269:P269),IF(EFECTOS!$N$9=\"GUATEMALA\",LOOKUP(3,GEfectos!$J$4:$P$4,GEfectos!J269:P269),IF(EFECTOS!$N$9=\"HONDURAS\",LOOKUP(4,GEfectos!$J$4:$P$4,GEfectos!J269:P269),IF(EFECTOS!$N$9=\"NICARAGUA\",LOOKUP(5,GEfectos!$J$4:$P$4,GEfectos!J269:P269),IF(EFECTOS!$N$9=\"REPÚBLICA \nDOMINICANA\",LOOKUP(6,$J$4:$P$4,J269:P269),IF(EFECTOS!$N$9=\"PANAMÁ\",LOOKUP(7,GEfectos!$J$4:$P$4,GEfectos!J269:P269))))))))","v":161.81633602263926},{"$f":"IF(EFECTOS!$N$9=\"COSTA RICA\",LOOKUP(1,GEfectos!$Q$4:$W$4,GEfectos!Q269:W269),IF(EFECTOS!$N$9=\"EL SALVADOR\",LOOKUP(2,GEfectos!$Q$4:$W$4,GEfectos!Q269:W269),IF(EFECTOS!$N$9=\"GUATEMALA\",LOOKUP(3,GEfectos!$Q$4:$W$4,GEfectos!Q269:W269),IF(EFECTOS!$N$9=\"HONDURAS\",LOOKUP(4,GEfectos!$Q$4:$W$4,GEfectos!Q269:W269),IF(EFECTOS!$N$9=\"NICARAGUA\",LOOKUP(5,GEfectos!$Q$4:$W$4,GEfectos!Q269:W269),IF(EFECTOS!$N$9=\"REPÚBLICA \nDOMINICANA\",LOOKUP(6,$Q$4:$W$4,Q269:W269),IF(EFECTOS!$N$9=\"PANAMÁ\",LOOKUP(7,GEfectos!$Q$4:$W$4,GEfectos!Q269:W269))))))))","v":207.84947598502632},100]
[2017,{"$f":"'ITCER GLOBAL'!B270","v":"Enero"},{"$f":"'ITCER GLOBAL'!C270","v":78.367968085180124},{"$f":"'ITCER GLOBAL'!D270","v":101.61795313495854},{"$f":"'ITCER GLOBAL'!E270","v":55.034206044381968},{"$f":"'ITCER GLOBAL'!F270","v":85.540375987401816},{"$f":"'ITCER GLOBAL'!G270","v":106.27298755509219},{"$f":"'ITCER GLOBAL'!H270","v":126.02478105870085},{"$f":"'ITCER GLOBAL'!I270","v":85.378649205972025},{"$f":"'ITCER GLOBAL'!S270","v":162.16180040799725},{"$f":"'ITCER GLOBAL'!T270","v":88.0863869899012},{"$f":"'ITCER GLOBAL'!U270","v":85.20072622281765},{"$f":"'ITCER GLOBAL'!V270","v":145.7123234535581},{"$f":"'ITCER GLOBAL'!W270","v":198.84159777365934},{"$f":"'ITCER GLOBAL'!X270","v":264.7909001087861},{"$f":"'ITCER GLOBAL'!Y270","v":91.444635245541406},{"$f":"'ITCER GLOBAL'!AA270","v":206.92357396805221},{"$f":"'ITCER GLOBAL'!AB270","v":86.683882397152701},{"$f":"'ITCER GLOBAL'!AC270","v":154.8141280608429},{"$f":"'ITCER GLOBAL'!AD270","v":170.34332824889415},{"$f":"'ITCER GLOBAL'!AE270","v":187.10455248148489},{"$f":"'ITCER GLOBAL'!AF270","v":210.11018458778329},{"$f":"'ITCER GLOBAL'!AG270","v":107.10480441654151},null,{"$f":"IF(EFECTOS!$N$9=\"COSTA RICA\",LOOKUP(1,GEfectos!$C$4:$I$4,GEfectos!C270:I270),IF(EFECTOS!$N$9=\"EL SALVADOR\",LOOKUP(2,GEfectos!$C$4:$I$4,GEfectos!C270:I270),IF(EFECTOS!$N$9=\"GUATEMALA\",LOOKUP(3,GEfectos!$C$4:$I$4,GEfectos!C270:I270),IF(EFECTOS!$N$9=\"HONDURAS\",LOOKUP(4,GEfectos!$C$4:$I$4,GEfectos!C270:I270),IF(EFECTOS!$N$9=\"NICARAGUA\",LOOKUP(5,GEfectos!$C$4:$I$4,GEfectos!C270:I270),IF(EFECTOS!$N$9=\"REPÚBLICA \nDOMINICANA\",LOOKUP(6,$C$4:$I$4,C270:I270),IF(EFECTOS!$N$9=\"PANAMÁ\",LOOKUP(7,GEfectos!$C$4:$I$4,GEfectos!C270:I270))))))))","v":78.367968085180124},{"$f":"IF(EFECTOS!$N$9=\"COSTA RICA\",LOOKUP(1,GEfectos!$J$4:$P$4,GEfectos!J270:P270),IF(EFECTOS!$N$9=\"EL SALVADOR\",LOOKUP(2,GEfectos!$J$4:$P$4,GEfectos!J270:P270),IF(EFECTOS!$N$9=\"GUATEMALA\",LOOKUP(3,GEfectos!$J$4:$P$4,GEfectos!J270:P270),IF(EFECTOS!$N$9=\"HONDURAS\",LOOKUP(4,GEfectos!$J$4:$P$4,GEfectos!J270:P270),IF(EFECTOS!$N$9=\"NICARAGUA\",LOOKUP(5,GEfectos!$J$4:$P$4,GEfectos!J270:P270),IF(EFECTOS!$N$9=\"REPÚBLICA \nDOMINICANA\",LOOKUP(6,$J$4:$P$4,J270:P270),IF(EFECTOS!$N$9=\"PANAMÁ\",LOOKUP(7,GEfectos!$J$4:$P$4,GEfectos!J270:P270))))))))","v":162.16180040799725},{"$f":"IF(EFECTOS!$N$9=\"COSTA RICA\",LOOKUP(1,GEfectos!$Q$4:$W$4,GEfectos!Q270:W270),IF(EFECTOS!$N$9=\"EL SALVADOR\",LOOKUP(2,GEfectos!$Q$4:$W$4,GEfectos!Q270:W270),IF(EFECTOS!$N$9=\"GUATEMALA\",LOOKUP(3,GEfectos!$Q$4:$W$4,GEfectos!Q270:W270),IF(EFECTOS!$N$9=\"HONDURAS\",LOOKUP(4,GEfectos!$Q$4:$W$4,GEfectos!Q270:W270),IF(EFECTOS!$N$9=\"NICARAGUA\",LOOKUP(5,GEfectos!$Q$4:$W$4,GEfectos!Q270:W270),IF(EFECTOS!$N$9=\"REPÚBLICA \nDOMINICANA\",LOOKUP(6,$Q$4:$W$4,Q270:W270),IF(EFECTOS!$N$9=\"PANAMÁ\",LOOKUP(7,GEfectos!$Q$4:$W$4,GEfectos!Q270:W270))))))))","v":206.92357396805221},100]
[null,{"$f":"'ITCER GLOBAL'!B271","v":"Febrero"},{"$f":"'ITCER GLOBAL'!C271","v":79.563470347088327},{"$f":"'ITCER GLOBAL'!D271","v":102.3038219623846},{"$f":"'ITCER GLOBAL'!E271","v":54.570217756855456},{"$f":"'ITCER GLOBAL'!F271","v":85.481069614597786},{"$f":"'ITCER GLOBAL'!G271","v":107.12031423190776},{"$f":"'ITCER GLOBAL'!H271","v":127.38407210697271},{"$f":"'ITCER GLOBAL'!I271","v":86.034658100552164},{"$f":"'ITCER GLOBAL'!S271","v":164.7909609666211},{"$f":"'ITCER GLOBAL'!T271","v":88.59648025115122},{"$f":"'ITCER GLOBAL'!U271","v":84.483466321799227},{"$f":"'ITCER GLOBAL'!V271","v":146.44971599311012},{"$f":"'ITCER GLOBAL'!W271","v":201.30643176878391},{"$f":"'ITCER GLOBAL'!X271","v":267.95316691904299},{"$f":"'ITCER GLOBAL'!Y271","v":92.123967796303887},{"$f":"'ITCER GLOBAL'!AA271","v":207.11887031540445},{"$f":"'ITCER GLOBAL'!AB271","v":86.601339570408868},{"$f":"'ITCER GLOBAL'!AC271","v":154.81606963385423},{"$f":"'ITCER GLOBAL'!AD271","v":171.32415007603109},{"$f":"'ITCER GLOBAL'!AE271","v":187.92554261273915},{"$f":"'ITCER GLOBAL'!AF271","v":210.35060544620151},{"$f":"'ITCER GLOBAL'!AG271","v":107.07774033184963},null,{"$f":"IF(EFECTOS!$N$9=\"COSTA RICA\",LOOKUP(1,GEfectos!$C$4:$I$4,GEfectos!C271:I271),IF(EFECTOS!$N$9=\"EL SALVADOR\",LOOKUP(2,GEfectos!$C$4:$I$4,GEfectos!C271:I271),IF(EFECTOS!$N$9=\"GUATEMALA\",LOOKUP(3,GEfectos!$C$4:$I$4,GEfectos!C271:I271),IF(EFECTOS!$N$9=\"HONDURAS\",LOOKUP(4,GEfectos!$C$4:$I$4,GEfectos!C271:I271),IF(EFECTOS!$N$9=\"NICARAGUA\",LOOKUP(5,GEfectos!$C$4:$I$4,GEfectos!C271:I271),IF(EFECTOS!$N$9=\"REPÚBLICA \nDOMINICANA\",LOOKUP(6,$C$4:$I$4,C271:I271),IF(EFECTOS!$N$9=\"PANAMÁ\",LOOKUP(7,GEfectos!$C$4:$I$4,GEfectos!C271:I271))))))))","v":79.563470347088327},{"$f":"IF(EFECTOS!$N$9=\"COSTA RICA\",LOOKUP(1,GEfectos!$J$4:$P$4,GEfectos!J271:P271),IF(EFECTOS!$N$9=\"EL SALVADOR\",LOOKUP(2,GEfectos!$J$4:$P$4,GEfectos!J271:P271),IF(EFECTOS!$N$9=\"GUATEMALA\",LOOKUP(3,GEfectos!$J$4:$P$4,GEfectos!J271:P271),IF(EFECTOS!$N$9=\"HONDURAS\",LOOKUP(4,GEfectos!$J$4:$P$4,GEfectos!J271:P271),IF(EFECTOS!$N$9=\"NICARAGUA\",LOOKUP(5,GEfectos!$J$4:$P$4,GEfectos!J271:P271),IF(EFECTOS!$N$9=\"REPÚBLICA \nDOMINICANA\",LOOKUP(6,$J$4:$P$4,J271:P271),IF(EFECTOS!$N$9=\"PANAMÁ\",LOOKUP(7,GEfectos!$J$4:$P$4,GEfectos!J271:P271))))))))","v":164.7909609666211},{"$f":"IF(EFECTOS!$N$9=\"COSTA RICA\",LOOKUP(1,GEfectos!$Q$4:$W$4,GEfectos!Q271:W271),IF(EFECTOS!$N$9=\"EL SALVADOR\",LOOKUP(2,GEfectos!$Q$4:$W$4,GEfectos!Q271:W271),IF(EFECTOS!$N$9=\"GUATEMALA\",LOOKUP(3,GEfectos!$Q$4:$W$4,GEfectos!Q271:W271),IF(EFECTOS!$N$9=\"HONDURAS\",LOOKUP(4,GEfectos!$Q$4:$W$4,GEfectos!Q271:W271),IF(EFECTOS!$N$9=\"NICARAGUA\",LOOKUP(5,GEfectos!$Q$4:$W$4,GEfectos!Q271:W271),IF(EFECTOS!$N$9=\"REPÚBLICA \nDOMINICANA\",LOOKUP(6,$Q$4:$W$4,Q271:W271),IF(EFECTOS!$N$9=\"PANAMÁ\",LOOKUP(7,GEfectos!$Q$4:$W$4,GEfectos!Q271:W271))))))))","v":207.11887031540445},100]
[null,{"$f":"'ITCER GLOBAL'!B272","v":"Marzo"},{"$f":"'ITCER GLOBAL'!C272","v":80.223359071518232},{"$f":"'ITCER GLOBAL'!D272","v":102.58263368135054},{"$f":"'ITCER GLOBAL'!E272","v":54.429274227376183},{"$f":"'ITCER GLOBAL'!F272","v":85.361227641283577},{"$f":"'ITCER GLOBAL'!G272","v":108.00403853658163},{"$f":"'ITCER GLOBAL'!H272","v":128.38939912776186},{"$f":"'ITCER GLOBAL'!I272","v":86.584754931961427},{"$f":"'ITCER GLOBAL'!S272","v":165.15356984157378},{"$f":"'ITCER GLOBAL'!T272","v":88.900118656046914},{"$f":"'ITCER GLOBAL'!U272","v":84.337041630717351},{"$f":"'ITCER GLOBAL'!V272","v":146.49050783803187},{"$f":"'ITCER GLOBAL'!W272","v":202.94510216071507},{"$f":"'ITCER GLOBAL'!X272","v":268.99931635374685},{"$f":"'ITCER GLOBAL'!Y272","v":92.432896451898969},{"$f":"'ITCER GLOBAL'!AA272","v":205.86718351489273},{"$f":"'ITCER GLOBAL'!AB272","v":86.661957746371357},{"$f":"'ITCER GLOBAL'!AC272","v":154.9479445167735},{"$f":"'ITCER GLOBAL'!AD272","v":171.6124660878051},{"$f":"'ITCER GLOBAL'!AE272","v":187.90510513361619},{"$f":"'ITCER GLOBAL'!AF272","v":209.51832330491894},{"$f":"'ITCER GLOBAL'!AG272","v":106.75423927056562},null,{"$f":"IF(EFECTOS!$N$9=\"COSTA RICA\",LOOKUP(1,GEfectos!$C$4:$I$4,GEfectos!C272:I272),IF(EFECTOS!$N$9=\"EL SALVADOR\",LOOKUP(2,GEfectos!$C$4:$I$4,GEfectos!C272:I272),IF(EFECTOS!$N$9=\"GUATEMALA\",LOOKUP(3,GEfectos!$C$4:$I$4,GEfectos!C272:I272),IF(EFECTOS!$N$9=\"HONDURAS\",LOOKUP(4,GEfectos!$C$4:$I$4,GEfectos!C272:I272),IF(EFECTOS!$N$9=\"NICARAGUA\",LOOKUP(5,GEfectos!$C$4:$I$4,GEfectos!C272:I272),IF(EFECTOS!$N$9=\"REPÚBLICA \nDOMINICANA\",LOOKUP(6,$C$4:$I$4,C272:I272),IF(EFECTOS!$N$9=\"PANAMÁ\",LOOKUP(7,GEfectos!$C$4:$I$4,GEfectos!C272:I272))))))))","v":80.223359071518232},{"$f":"IF(EFECTOS!$N$9=\"COSTA RICA\",LOOKUP(1,GEfectos!$J$4:$P$4,GEfectos!J272:P272),IF(EFECTOS!$N$9=\"EL SALVADOR\",LOOKUP(2,GEfectos!$J$4:$P$4,GEfectos!J272:P272),IF(EFECTOS!$N$9=\"GUATEMALA\",LOOKUP(3,GEfectos!$J$4:$P$4,GEfectos!J272:P272),IF(EFECTOS!$N$9=\"HONDURAS\",LOOKUP(4,GEfectos!$J$4:$P$4,GEfectos!J272:P272),IF(EFECTOS!$N$9=\"NICARAGUA\",LOOKUP(5,GEfectos!$J$4:$P$4,GEfectos!J272:P272),IF(EFECTOS!$N$9=\"REPÚBLICA \nDOMINICANA\",LOOKUP(6,$J$4:$P$4,J272:P272),IF(EFECTOS!$N$9=\"PANAMÁ\",LOOKUP(7,GEfectos!$J$4:$P$4,GEfectos!J272:P272))))))))","v":165.15356984157378},{"$f":"IF(EFECTOS!$N$9=\"COSTA RICA\",LOOKUP(1,GEfectos!$Q$4:$W$4,GEfectos!Q272:W272),IF(EFECTOS!$N$9=\"EL SALVADOR\",LOOKUP(2,GEfectos!$Q$4:$W$4,GEfectos!Q272:W272),IF(EFECTOS!$N$9=\"GUATEMALA\",LOOKUP(3,GEfectos!$Q$4:$W$4,GEfectos!Q272:W272),IF(EFECTOS!$N$9=\"HONDURAS\",LOOKUP(4,GEfectos!$Q$4:$W$4,GEfectos!Q272:W272),IF(EFECTOS!$N$9=\"NICARAGUA\",LOOKUP(5,GEfectos!$Q$4:$W$4,GEfectos!Q272:W272),IF(EFECTOS!$N$9=\"REPÚBLICA \nDOMINICANA\",LOOKUP(6,$Q$4:$W$4,Q272:W272),IF(EFECTOS!$N$9=\"PANAMÁ\",LOOKUP(7,GEfectos!$Q$4:$W$4,GEfectos!Q272:W272))))))))","v":205.86718351489273},100]
[null,{"$f":"'ITCER GLOBAL'!B273","v":"Abril"},{"$f":"'ITCER GLOBAL'!C273","v":80.85416377214051},{"$f":"'ITCER GLOBAL'!D273","v":103.01984003919218},{"$f":"'ITCER GLOBAL'!E273","v":54.457434075217044},{"$f":"'ITCER GLOBAL'!F273","v":85.360711764398516},{"$f":"'ITCER GLOBAL'!G273","v":108.4142983125514},{"$f":"'ITCER GLOBAL'!H273","v":128.97145699486325},{"$f":"'ITCER GLOBAL'!I273","v":87.120925670982018},{"$f":"'ITCER GLOBAL'!S273","v":166.25717608942767},{"$f":"'ITCER GLOBAL'!T273","v":89.109596609549982},{"$f":"'ITCER GLOBAL'!U273","v":84.39708926273353},{"$f":"'ITCER GLOBAL'!V273","v":146.65586588151322},{"$f":"'ITCER GLOBAL'!W273","v":203.92608487776113},{"$f":"'ITCER GLOBAL'!X273","v":270.10387880847071},{"$f":"'ITCER GLOBAL'!Y273","v":92.763457870968509},{"$f":"'ITCER GLOBAL'!AA273","v":205.62599170274765},{"$f":"'ITCER GLOBAL'!AB273","v":86.497510164692287},{"$f":"'ITCER GLOBAL'!AC273","v":154.9780864558613},{"$f":"'ITCER GLOBAL'!AD273","v":171.8072200314983},{"$f":"'ITCER GLOBAL'!AE273","v":188.09888368216474},{"$f":"'ITCER GLOBAL'!AF273","v":209.42919084742027},{"$f":"'ITCER GLOBAL'!AG273","v":106.47666695059679},null,{"$f":"IF(EFECTOS!$N$9=\"COSTA RICA\",LOOKUP(1,GEfectos!$C$4:$I$4,GEfectos!C273:I273),IF(EFECTOS!$N$9=\"EL SALVADOR\",LOOKUP(2,GEfectos!$C$4:$I$4,GEfectos!C273:I273),IF(EFECTOS!$N$9=\"GUATEMALA\",LOOKUP(3,GEfectos!$C$4:$I$4,GEfectos!C273:I273),IF(EFECTOS!$N$9=\"HONDURAS\",LOOKUP(4,GEfectos!$C$4:$I$4,GEfectos!C273:I273),IF(EFECTOS!$N$9=\"NICARAGUA\",LOOKUP(5,GEfectos!$C$4:$I$4,GEfectos!C273:I273),IF(EFECTOS!$N$9=\"REPÚBLICA \nDOMINICANA\",LOOKUP(6,$C$4:$I$4,C273:I273),IF(EFECTOS!$N$9=\"PANAMÁ\",LOOKUP(7,GEfectos!$C$4:$I$4,GEfectos!C273:I273))))))))","v":80.85416377214051},{"$f":"IF(EFECTOS!$N$9=\"COSTA RICA\",LOOKUP(1,GEfectos!$J$4:$P$4,GEfectos!J273:P273),IF(EFECTOS!$N$9=\"EL SALVADOR\",LOOKUP(2,GEfectos!$J$4:$P$4,GEfectos!J273:P273),IF(EFECTOS!$N$9=\"GUATEMALA\",LOOKUP(3,GEfectos!$J$4:$P$4,GEfectos!J273:P273),IF(EFECTOS!$N$9=\"HONDURAS\",LOOKUP(4,GEfectos!$J$4:$P$4,GEfectos!J273:P273),IF(EFECTOS!$N$9=\"NICARAGUA\",LOOKUP(5,GEfectos!$J$4:$P$4,GEfectos!J273:P273),IF(EFECTOS!$N$9=\"REPÚBLICA \nDOMINICANA\",LOOKUP(6,$J$4:$P$4,J273:P273),IF(EFECTOS!$N$9=\"PANAMÁ\",LOOKUP(7,GEfectos!$J$4:$P$4,GEfectos!J273:P273))))))))","v":166.25717608942767},{"$f":"IF(EFECTOS!$N$9=\"COSTA RICA\",LOOKUP(1,GEfectos!$Q$4:$W$4,GEfectos!Q273:W273),IF(EFECTOS!$N$9=\"EL SALVADOR\",LOOKUP(2,GEfectos!$Q$4:$W$4,GEfectos!Q273:W273),IF(EFECTOS!$N$9=\"GUATEMALA\",LOOKUP(3,GEfectos!$Q$4:$W$4,GEfectos!Q273:W273),IF(EFECTOS!$N$9=\"HONDURAS\",LOOKUP(4,GEfectos!$Q$4:$W$4,GEfectos!Q273:W273),IF(EFECTOS!$N$9=\"NICARAGUA\",LOOKUP(5,GEfectos!$Q$4:$W$4,GEfectos!Q273:W273),IF(EFECTOS!$N$9=\"REPÚBLICA \nDOMINICANA\",LOOKUP(6,$Q$4:$W$4,Q273:W273),IF(EFECTOS!$N$9=\"PANAMÁ\",LOOKUP(7,GEfectos!$Q$4:$W$4,GEfectos!Q273:W273))))))))","v":205.62599170274765},100]
[null,{"$f":"'ITCER GLOBAL'!B274","v":"Mayo"},{"$f":"'ITCER GLOBAL'!C274","v":82.732164849790919},{"$f":"'ITCER GLOBAL'!D274","v":102.92829630141689},{"$f":"'ITCER GLOBAL'!E274","v":54.374800368487598},{"$f":"'ITCER GLOBAL'!F274","v":85.388718710063117},{"$f":"'ITCER GLOBAL'!G274","v":109.02603721286974},{"$f":"'ITCER GLOBAL'!H274","v":130.06125794272856},{"$f":"'ITCER GLOBAL'!I274","v":87.35102047006626},{"$f":"'ITCER GLOBAL'!S274","v":170.37856350489264},{"$f":"'ITCER GLOBAL'!T274","v":89.073425653645117},{"$f":"'ITCER GLOBAL'!U274","v":84.46485878156291},{"$f":"'ITCER GLOBAL'!V274","v":147.01268782940485},{"$f":"'ITCER GLOBAL'!W274","v":205.15025118333904},{"$f":"'ITCER GLOBAL'!X274","v":271.6163732652405},{"$f":"'ITCER GLOBAL'!Y274","v":92.952880335206345},{"$f":"'ITCER GLOBAL'!AA274","v":205.93993136071455},{"$f":"'ITCER GLOBAL'!AB274","v":86.539298574224006},{"$f":"'ITCER GLOBAL'!AC274","v":155.33824162877062},{"$f":"'ITCER GLOBAL'!AD274","v":172.16874787474626},{"$f":"'ITCER GLOBAL'!AE274","v":188.1662916747033},{"$f":"'ITCER GLOBAL'!AF274","v":208.83726450258123},{"$f":"'ITCER GLOBAL'!AG274","v":106.41304455860336},null,{"$f":"IF(EFECTOS!$N$9=\"COSTA RICA\",LOOKUP(1,GEfectos!$C$4:$I$4,GEfectos!C274:I274),IF(EFECTOS!$N$9=\"EL SALVADOR\",LOOKUP(2,GEfectos!$C$4:$I$4,GEfectos!C274:I274),IF(EFECTOS!$N$9=\"GUATEMALA\",LOOKUP(3,GEfectos!$C$4:$I$4,GEfectos!C274:I274),IF(EFECTOS!$N$9=\"HONDURAS\",LOOKUP(4,GEfectos!$C$4:$I$4,GEfectos!C274:I274),IF(EFECTOS!$N$9=\"NICARAGUA\",LOOKUP(5,GEfectos!$C$4:$I$4,GEfectos!C274:I274),IF(EFECTOS!$N$9=\"REPÚBLICA \nDOMINICANA\",LOOKUP(6,$C$4:$I$4,C274:I274),IF(EFECTOS!$N$9=\"PANAMÁ\",LOOKUP(7,GEfectos!$C$4:$I$4,GEfectos!C274:I274))))))))","v":82.732164849790919},{"$f":"IF(EFECTOS!$N$9=\"COSTA RICA\",LOOKUP(1,GEfectos!$J$4:$P$4,GEfectos!J274:P274),IF(EFECTOS!$N$9=\"EL SALVADOR\",LOOKUP(2,GEfectos!$J$4:$P$4,GEfectos!J274:P274),IF(EFECTOS!$N$9=\"GUATEMALA\",LOOKUP(3,GEfectos!$J$4:$P$4,GEfectos!J274:P274),IF(EFECTOS!$N$9=\"HONDURAS\",LOOKUP(4,GEfectos!$J$4:$P$4,GEfectos!J274:P274),IF(EFECTOS!$N$9=\"NICARAGUA\",LOOKUP(5,GEfectos!$J$4:$P$4,GEfectos!J274:P274),IF(EFECTOS!$N$9=\"REPÚBLICA \nDOMINICANA\",LOOKUP(6,$J$4:$P$4,J274:P274),IF(EFECTOS!$N$9=\"PANAMÁ\",LOOKUP(7,GEfectos!$J$4:$P$4,GEfectos!J274:P274))))))))","v":170.37856350489264},{"$f":"IF(EFECTOS!$N$9=\"COSTA RICA\",LOOKUP(1,GEfectos!$Q$4:$W$4,GEfectos!Q274:W274),IF(EFECTOS!$N$9=\"EL SALVADOR\",LOOKUP(2,GEfectos!$Q$4:$W$4,GEfectos!Q274:W274),IF(EFECTOS!$N$9=\"GUATEMALA\",LOOKUP(3,GEfectos!$Q$4:$W$4,GEfectos!Q274:W274),IF(EFECTOS!$N$9=\"HONDURAS\",LOOKUP(4,GEfectos!$Q$4:$W$4,GEfectos!Q274:W274),IF(EFECTOS!$N$9=\"NICARAGUA\",LOOKUP(5,GEfectos!$Q$4:$W$4,GEfectos!Q274:W274),IF(EFECTOS!$N$9=\"REPÚBLICA \nDOMINICANA\",LOOKUP(6,$Q$4:$W$4,Q274:W274),IF(EFECTOS!$N$9=\"PANAMÁ\",LOOKUP(7,GEfectos!$Q$4:$W$4,GEfectos!Q274:W274))))))))","v":205.93993136071455},100]
[null,{"$f":"'ITCER GLOBAL'!B275","v":"Junio"},{"$f":"'ITCER GLOBAL'!C275","v":82.610511081235131},{"$f":"'ITCER GLOBAL'!D275","v":103.38192304681775},{"$f":"'ITCER GLOBAL'!E275","v":54.269892468335136},{"$f":"'ITCER GLOBAL'!F275","v":85.60415952813311},{"$f":"'ITCER GLOBAL'!G275","v":110.47636582378388},{"$f":"'ITCER GLOBAL'!H275","v":131.06280011052479},{"$f":"'ITCER GLOBAL'!I275","v":88.002565174545467},{"$f":"'ITCER GLOBAL'!S275","v":170.13901880804931},{"$f":"'ITCER GLOBAL'!T275","v":89.373590953538198},{"$f":"'ITCER GLOBAL'!U275","v":84.978565968876424},{"$f":"'ITCER GLOBAL'!V275","v":147.59813968212384},{"$f":"'ITCER GLOBAL'!W275","v":207.75816892528636},{"$f":"'ITCER GLOBAL'!X275","v":273.64838399095981},{"$f":"'ITCER GLOBAL'!Y275","v":93.401354437008607},{"$f":"'ITCER GLOBAL'!AA275","v":205.95323353071007},{"$f":"'ITCER GLOBAL'!AB275","v":86.449921146334546},{"$f":"'ITCER GLOBAL'!AC275","v":156.58510106401792},{"$f":"'ITCER GLOBAL'!AD275","v":172.41935496559242},{"$f":"'ITCER GLOBAL'!AE275","v":188.05666476816637},{"$f":"'ITCER GLOBAL'!AF275","v":208.79180344094061},{"$f":"'ITCER GLOBAL'!AG275","v":106.13480897034661},null,{"$f":"IF(EFECTOS!$N$9=\"COSTA RICA\",LOOKUP(1,GEfectos!$C$4:$I$4,GEfectos!C275:I275),IF(EFECTOS!$N$9=\"EL SALVADOR\",LOOKUP(2,GEfectos!$C$4:$I$4,GEfectos!C275:I275),IF(EFECTOS!$N$9=\"GUATEMALA\",LOOKUP(3,GEfectos!$C$4:$I$4,GEfectos!C275:I275),IF(EFECTOS!$N$9=\"HONDURAS\",LOOKUP(4,GEfectos!$C$4:$I$4,GEfectos!C275:I275),IF(EFECTOS!$N$9=\"NICARAGUA\",LOOKUP(5,GEfectos!$C$4:$I$4,GEfectos!C275:I275),IF(EFECTOS!$N$9=\"REPÚBLICA \nDOMINICANA\",LOOKUP(6,$C$4:$I$4,C275:I275),IF(EFECTOS!$N$9=\"PANAMÁ\",LOOKUP(7,GEfectos!$C$4:$I$4,GEfectos!C275:I275))))))))","v":82.610511081235131},{"$f":"IF(EFECTOS!$N$9=\"COSTA RICA\",LOOKUP(1,GEfectos!$J$4:$P$4,GEfectos!J275:P275),IF(EFECTOS!$N$9=\"EL SALVADOR\",LOOKUP(2,GEfectos!$J$4:$P$4,GEfectos!J275:P275),IF(EFECTOS!$N$9=\"GUATEMALA\",LOOKUP(3,GEfectos!$J$4:$P$4,GEfectos!J275:P275),IF(EFECTOS!$N$9=\"HONDURAS\",LOOKUP(4,GEfectos!$J$4:$P$4,GEfectos!J275:P275),IF(EFECTOS!$N$9=\"NICARAGUA\",LOOKUP(5,GEfectos!$J$4:$P$4,GEfectos!J275:P275),IF(EFECTOS!$N$9=\"REPÚBLICA \nDOMINICANA\",LOOKUP(6,$J$4:$P$4,J275:P275),IF(EFECTOS!$N$9=\"PANAMÁ\",LOOKUP(7,GEfectos!$J$4:$P$4,GEfectos!J275:P275))))))))","v":170.13901880804931},{"$f":"IF(EFECTOS!$N$9=\"COSTA RICA\",LOOKUP(1,GEfectos!$Q$4:$W$4,GEfectos!Q275:W275),IF(EFECTOS!$N$9=\"EL SALVADOR\",LOOKUP(2,GEfectos!$Q$4:$W$4,GEfectos!Q275:W275),IF(EFECTOS!$N$9=\"GUATEMALA\",LOOKUP(3,GEfectos!$Q$4:$W$4,GEfectos!Q275:W275),IF(EFECTOS!$N$9=\"HONDURAS\",LOOKUP(4,GEfectos!$Q$4:$W$4,GEfectos!Q275:W275),IF(EFECTOS!$N$9=\"NICARAGUA\",LOOKUP(5,GEfectos!$Q$4:$W$4,GEfectos!Q275:W275),IF(EFECTOS!$N$9=\"REPÚBLICA \nDOMINICANA\",LOOKUP(6,$Q$4:$W$4,Q275:W275),IF(EFECTOS!$N$9=\"PANAMÁ\",LOOKUP(7,GEfectos!$Q$4:$W$4,GEfectos!Q275:W275))))))))","v":205.95323353071007},100]
[null,{"$f":"'ITCER GLOBAL'!B276","v":"Julio"},{"$f":"'ITCER GLOBAL'!C276","v":83.462249117177279},{"$f":"'ITCER GLOBAL'!D276","v":103.92657467297543},{"$f":"'ITCER GLOBAL'!E276","v":53.371756578445755},{"$f":"'ITCER GLOBAL'!F276","v":85.843061431727321},{"$f":"'ITCER GLOBAL'!G276","v":111.10275319707766},{"$f":"'ITCER GLOBAL'!H276","v":131.69372755337295},{"$f":"'ITCER GLOBAL'!I276","v":88.583273390680915},{"$f":"'ITCER GLOBAL'!S276","v":172.45078623875662},{"$f":"'ITCER GLOBAL'!T276","v":89.647390144945021},{"$f":"'ITCER GLOBAL'!U276","v":84.83849325284568},{"$f":"'ITCER GLOBAL'!V276","v":148.31119601976718},{"$f":"'ITCER GLOBAL'!W276","v":209.51200080196708},{"$f":"'ITCER GLOBAL'!X276","v":275.49157970410795},{"$f":"'ITCER GLOBAL'!Y276","v":93.845048624911286},{"$f":"'ITCER GLOBAL'!AA276","v":206.6213025204286},{"$f":"'ITCER GLOBAL'!AB276","v":86.260314483602912},{"$f":"'ITCER GLOBAL'!AC276","v":158.9576560556896},{"$f":"'ITCER GLOBAL'!AD276","v":172.77016167197391},{"$f":"'ITCER GLOBAL'!AE276","v":188.57498556343413},{"$f":"'ITCER GLOBAL'!AF276","v":209.19111701235468},{"$f":"'ITCER GLOBAL'!AG276","v":105.93991961780891},null,{"$f":"IF(EFECTOS!$N$9=\"COSTA RICA\",LOOKUP(1,GEfectos!$C$4:$I$4,GEfectos!C276:I276),IF(EFECTOS!$N$9=\"EL SALVADOR\",LOOKUP(2,GEfectos!$C$4:$I$4,GEfectos!C276:I276),IF(EFECTOS!$N$9=\"GUATEMALA\",LOOKUP(3,GEfectos!$C$4:$I$4,GEfectos!C276:I276),IF(EFECTOS!$N$9=\"HONDURAS\",LOOKUP(4,GEfectos!$C$4:$I$4,GEfectos!C276:I276),IF(EFECTOS!$N$9=\"NICARAGUA\",LOOKUP(5,GEfectos!$C$4:$I$4,GEfectos!C276:I276),IF(EFECTOS!$N$9=\"REPÚBLICA \nDOMINICANA\",LOOKUP(6,$C$4:$I$4,C276:I276),IF(EFECTOS!$N$9=\"PANAMÁ\",LOOKUP(7,GEfectos!$C$4:$I$4,GEfectos!C276:I276))))))))","v":83.462249117177279},{"$f":"IF(EFECTOS!$N$9=\"COSTA RICA\",LOOKUP(1,GEfectos!$J$4:$P$4,GEfectos!J276:P276),IF(EFECTOS!$N$9=\"EL SALVADOR\",LOOKUP(2,GEfectos!$J$4:$P$4,GEfectos!J276:P276),IF(EFECTOS!$N$9=\"GUATEMALA\",LOOKUP(3,GEfectos!$J$4:$P$4,GEfectos!J276:P276),IF(EFECTOS!$N$9=\"HONDURAS\",LOOKUP(4,GEfectos!$J$4:$P$4,GEfectos!J276:P276),IF(EFECTOS!$N$9=\"NICARAGUA\",LOOKUP(5,GEfectos!$J$4:$P$4,GEfectos!J276:P276),IF(EFECTOS!$N$9=\"REPÚBLICA \nDOMINICANA\",LOOKUP(6,$J$4:$P$4,J276:P276),IF(EFECTOS!$N$9=\"PANAMÁ\",LOOKUP(7,GEfectos!$J$4:$P$4,GEfectos!J276:P276))))))))","v":172.45078623875662},{"$f":"IF(EFECTOS!$N$9=\"COSTA RICA\",LOOKUP(1,GEfectos!$Q$4:$W$4,GEfectos!Q276:W276),IF(EFECTOS!$N$9=\"EL SALVADOR\",LOOKUP(2,GEfectos!$Q$4:$W$4,GEfectos!Q276:W276),IF(EFECTOS!$N$9=\"GUATEMALA\",LOOKUP(3,GEfectos!$Q$4:$W$4,GEfectos!Q276:W276),IF(EFECTOS!$N$9=\"HONDURAS\",LOOKUP(4,GEfectos!$Q$4:$W$4,GEfectos!Q276:W276),IF(EFECTOS!$N$9=\"NICARAGUA\",LOOKUP(5,GEfectos!$Q$4:$W$4,GEfectos!Q276:W276),IF(EFECTOS!$N$9=\"REPÚBLICA \nDOMINICANA\",LOOKUP(6,$Q$4:$W$4,Q276:W276),IF(EFECTOS!$N$9=\"PANAMÁ\",LOOKUP(7,GEfectos!$Q$4:$W$4,GEfectos!Q276:W276))))))))","v":206.6213025204286},100]
[null,{"$f":"'ITCER GLOBAL'!B277","v":"Agosto"},{"$f":"'ITCER GLOBAL'!C277","v":84.874313864706536},{"$f":"'ITCER GLOBAL'!D277","v":104.63830361292055},{"$f":"'ITCER GLOBAL'!E277","v":53.721643185406293},{"$f":"'ITCER GLOBAL'!F277","v":85.998583811537273},{"$f":"'ITCER GLOBAL'!G277","v":112.32456508097366},{"$f":"'ITCER GLOBAL'!H277","v":132.32085420790781},{"$f":"'ITCER GLOBAL'!I277","v":89.078334226662406},{"$f":"'ITCER GLOBAL'!S277","v":174.49394136938571},{"$f":"'ITCER GLOBAL'!T277","v":89.947664482468085},{"$f":"'ITCER GLOBAL'!U277","v":84.915932617903067},{"$f":"'ITCER GLOBAL'!V277","v":148.74694161823413},{"$f":"'ITCER GLOBAL'!W277","v":211.27700007838902},{"$f":"'ITCER GLOBAL'!X277","v":277.48042149126354},{"$f":"'ITCER GLOBAL'!Y277","v":94.433351194328878},{"$f":"'ITCER GLOBAL'!AA277","v":205.59098910364906},{"$f":"'ITCER GLOBAL'!AB277","v":85.960553044899996},{"$f":"'ITCER GLOBAL'!AC277","v":158.06652139220273},{"$f":"'ITCER GLOBAL'!AD277","v":172.9644082793358},{"$f":"'ITCER GLOBAL'!AE277","v":188.09509738682857},{"$f":"'ITCER GLOBAL'!AF277","v":209.70271326640261},{"$f":"'ITCER GLOBAL'!AG277","v":106.0115818444028},null,{"$f":"IF(EFECTOS!$N$9=\"COSTA RICA\",LOOKUP(1,GEfectos!$C$4:$I$4,GEfectos!C277:I277),IF(EFECTOS!$N$9=\"EL SALVADOR\",LOOKUP(2,GEfectos!$C$4:$I$4,GEfectos!C277:I277),IF(EFECTOS!$N$9=\"GUATEMALA\",LOOKUP(3,GEfectos!$C$4:$I$4,GEfectos!C277:I277),IF(EFECTOS!$N$9=\"HONDURAS\",LOOKUP(4,GEfectos!$C$4:$I$4,GEfectos!C277:I277),IF(EFECTOS!$N$9=\"NICARAGUA\",LOOKUP(5,GEfectos!$C$4:$I$4,GEfectos!C277:I277),IF(EFECTOS!$N$9=\"REPÚBLICA \nDOMINICANA\",LOOKUP(6,$C$4:$I$4,C277:I277),IF(EFECTOS!$N$9=\"PANAMÁ\",LOOKUP(7,GEfectos!$C$4:$I$4,GEfectos!C277:I277))))))))","v":84.874313864706536},{"$f":"IF(EFECTOS!$N$9=\"COSTA RICA\",LOOKUP(1,GEfectos!$J$4:$P$4,GEfectos!J277:P277),IF(EFECTOS!$N$9=\"EL SALVADOR\",LOOKUP(2,GEfectos!$J$4:$P$4,GEfectos!J277:P277),IF(EFECTOS!$N$9=\"GUATEMALA\",LOOKUP(3,GEfectos!$J$4:$P$4,GEfectos!J277:P277),IF(EFECTOS!$N$9=\"HONDURAS\",LOOKUP(4,GEfectos!$J$4:$P$4,GEfectos!J277:P277),IF(EFECTOS!$N$9=\"NICARAGUA\",LOOKUP(5,GEfectos!$J$4:$P$4,GEfectos!J277:P277),IF(EFECTOS!$N$9=\"REPÚBLICA \nDOMINICANA\",LOOKUP(6,$J$4:$P$4,J277:P277),IF(EFECTOS!$N$9=\"PANAMÁ\",LOOKUP(7,GEfectos!$J$4:$P$4,GEfectos!J277:P277))))))))","v":174.49394136938571},{"$f":"IF(EFECTOS!$N$9=\"COSTA RICA\",LOOKUP(1,GEfectos!$Q$4:$W$4,GEfectos!Q277:W277),IF(EFECTOS!$N$9=\"EL SALVADOR\",LOOKUP(2,GEfectos!$Q$4:$W$4,GEfectos!Q277:W277),IF(EFECTOS!$N$9=\"GUATEMALA\",LOOKUP(3,GEfectos!$Q$4:$W$4,GEfectos!Q277:W277),IF(EFECTOS!$N$9=\"HONDURAS\",LOOKUP(4,GEfectos!$Q$4:$W$4,GEfectos!Q277:W277),IF(EFECTOS!$N$9=\"NICARAGUA\",LOOKUP(5,GEfectos!$Q$4:$W$4,GEfectos!Q277:W277),IF(EFECTOS!$N$9=\"REPÚBLICA \nDOMINICANA\",LOOKUP(6,$Q$4:$W$4,Q277:W277),IF(EFECTOS!$N$9=\"PANAMÁ\",LOOKUP(7,GEfectos!$Q$4:$W$4,GEfectos!Q277:W277))))))))","v":205.59098910364906},100]
[null,{"$f":"'ITCER GLOBAL'!B278","v":"Septiembre"},{"$f":"'ITCER GLOBAL'!C278","v":85.404928042072825},{"$f":"'ITCER GLOBAL'!D278","v":104.92477752093006},{"$f":"'ITCER GLOBAL'!E278","v":54.569682127919954},{"$f":"'ITCER GLOBAL'!F278","v":86.524477648952669},{"$f":"'ITCER GLOBAL'!G278","v":113.11185125877962},{"$f":"'ITCER GLOBAL'!H278","v":132.97793614887203},{"$f":"'ITCER GLOBAL'!I278","v":89.292767241317705},{"$f":"'ITCER GLOBAL'!S278","v":175.33484642024683},{"$f":"'ITCER GLOBAL'!T278","v":90.027330472738782},{"$f":"'ITCER GLOBAL'!U278","v":85.455836494338229},{"$f":"'ITCER GLOBAL'!V278","v":149.15609701452698},{"$f":"'ITCER GLOBAL'!W278","v":212.74179785982628},{"$f":"'ITCER GLOBAL'!X278","v":279.31699051829025},{"$f":"'ITCER GLOBAL'!Y278","v":94.63459126049878},{"$f":"'ITCER GLOBAL'!AA278","v":205.29827779243845},{"$f":"'ITCER GLOBAL'!AB278","v":85.801783525135832},{"$f":"'ITCER GLOBAL'!AC278","v":156.59947641625664},{"$f":"'ITCER GLOBAL'!AD278","v":172.38601268381356},{"$f":"'ITCER GLOBAL'!AE278","v":188.08090884580363},{"$f":"'ITCER GLOBAL'!AF278","v":210.04762038537586},{"$f":"'ITCER GLOBAL'!AG278","v":105.98237033548814},null,{"$f":"IF(EFECTOS!$N$9=\"COSTA RICA\",LOOKUP(1,GEfectos!$C$4:$I$4,GEfectos!C278:I278),IF(EFECTOS!$N$9=\"EL SALVADOR\",LOOKUP(2,GEfectos!$C$4:$I$4,GEfectos!C278:I278),IF(EFECTOS!$N$9=\"GUATEMALA\",LOOKUP(3,GEfectos!$C$4:$I$4,GEfectos!C278:I278),IF(EFECTOS!$N$9=\"HONDURAS\",LOOKUP(4,GEfectos!$C$4:$I$4,GEfectos!C278:I278),IF(EFECTOS!$N$9=\"NICARAGUA\",LOOKUP(5,GEfectos!$C$4:$I$4,GEfectos!C278:I278),IF(EFECTOS!$N$9=\"REPÚBLICA \nDOMINICANA\",LOOKUP(6,$C$4:$I$4,C278:I278),IF(EFECTOS!$N$9=\"PANAMÁ\",LOOKUP(7,GEfectos!$C$4:$I$4,GEfectos!C278:I278))))))))","v":85.404928042072825},{"$f":"IF(EFECTOS!$N$9=\"COSTA RICA\",LOOKUP(1,GEfectos!$J$4:$P$4,GEfectos!J278:P278),IF(EFECTOS!$N$9=\"EL SALVADOR\",LOOKUP(2,GEfectos!$J$4:$P$4,GEfectos!J278:P278),IF(EFECTOS!$N$9=\"GUATEMALA\",LOOKUP(3,GEfectos!$J$4:$P$4,GEfectos!J278:P278),IF(EFECTOS!$N$9=\"HONDURAS\",LOOKUP(4,GEfectos!$J$4:$P$4,GEfectos!J278:P278),IF(EFECTOS!$N$9=\"NICARAGUA\",LOOKUP(5,GEfectos!$J$4:$P$4,GEfectos!J278:P278),IF(EFECTOS!$N$9=\"REPÚBLICA \nDOMINICANA\",LOOKUP(6,$J$4:$P$4,J278:P278),IF(EFECTOS!$N$9=\"PANAMÁ\",LOOKUP(7,GEfectos!$J$4:$P$4,GEfectos!J278:P278))))))))","v":175.33484642024683},{"$f":"IF(EFECTOS!$N$9=\"COSTA RICA\",LOOKUP(1,GEfectos!$Q$4:$W$4,GEfectos!Q278:W278),IF(EFECTOS!$N$9=\"EL SALVADOR\",LOOKUP(2,GEfectos!$Q$4:$W$4,GEfectos!Q278:W278),IF(EFECTOS!$N$9=\"GUATEMALA\",LOOKUP(3,GEfectos!$Q$4:$W$4,GEfectos!Q278:W278),IF(EFECTOS!$N$9=\"HONDURAS\",LOOKUP(4,GEfectos!$Q$4:$W$4,GEfectos!Q278:W278),IF(EFECTOS!$N$9=\"NICARAGUA\",LOOKUP(5,GEfectos!$Q$4:$W$4,GEfectos!Q278:W278),IF(EFECTOS!$N$9=\"REPÚBLICA \nDOMINICANA\",LOOKUP(6,$Q$4:$W$4,Q278:W278),IF(EFECTOS!$N$9=\"PANAMÁ\",LOOKUP(7,GEfectos!$Q$4:$W$4,GEfectos!Q278:W278))))))))","v":205.29827779243845},100]
[null,{"$f":"'ITCER GLOBAL'!B279","v":"Octubre"},{"$f":"'ITCER GLOBAL'!C279","v":83.67588547023712},{"$f":"'ITCER GLOBAL'!D279","v":104.34007856084608},{"$f":"'ITCER GLOBAL'!E279","v":54.166610918540258},{"$f":"'ITCER GLOBAL'!F279","v":86.079183831107088},{"$f":"'ITCER GLOBAL'!G279","v":111.96369184806039},{"$f":"'ITCER GLOBAL'!H279","v":132.4458579758099},{"$f":"'ITCER GLOBAL'!I279","v":88.85172215253408},{"$f":"'ITCER GLOBAL'!S279","v":172.6090922308787},{"$f":"'ITCER GLOBAL'!T279","v":89.499962553193967},{"$f":"'ITCER GLOBAL'!U279","v":85.190393203269977},{"$f":"'ITCER GLOBAL'!V279","v":148.63658618467466},{"$f":"'ITCER GLOBAL'!W279","v":211.37087466836891},{"$f":"'ITCER GLOBAL'!X279","v":277.98166996385277},{"$f":"'ITCER GLOBAL'!Y279","v":93.901881115813197},{"$f":"'ITCER GLOBAL'!AA279","v":206.28295865751488},{"$f":"'ITCER GLOBAL'!AB279","v":85.77716615480783},{"$f":"'ITCER GLOBAL'!AC279","v":157.27473393413067},{"$f":"'ITCER GLOBAL'!AD279","v":172.67425127578954},{"$f":"'ITCER GLOBAL'!AE279","v":188.78519561074171},{"$f":"'ITCER GLOBAL'!AF279","v":209.88324905911648},{"$f":"'ITCER GLOBAL'!AG279","v":105.68380537926927},null,{"$f":"IF(EFECTOS!$N$9=\"COSTA RICA\",LOOKUP(1,GEfectos!$C$4:$I$4,GEfectos!C279:I279),IF(EFECTOS!$N$9=\"EL SALVADOR\",LOOKUP(2,GEfectos!$C$4:$I$4,GEfectos!C279:I279),IF(EFECTOS!$N$9=\"GUATEMALA\",LOOKUP(3,GEfectos!$C$4:$I$4,GEfectos!C279:I279),IF(EFECTOS!$N$9=\"HONDURAS\",LOOKUP(4,GEfectos!$C$4:$I$4,GEfectos!C279:I279),IF(EFECTOS!$N$9=\"NICARAGUA\",LOOKUP(5,GEfectos!$C$4:$I$4,GEfectos!C279:I279),IF(EFECTOS!$N$9=\"REPÚBLICA \nDOMINICANA\",LOOKUP(6,$C$4:$I$4,C279:I279),IF(EFECTOS!$N$9=\"PANAMÁ\",LOOKUP(7,GEfectos!$C$4:$I$4,GEfectos!C279:I279))))))))","v":83.67588547023712},{"$f":"IF(EFECTOS!$N$9=\"COSTA RICA\",LOOKUP(1,GEfectos!$J$4:$P$4,GEfectos!J279:P279),IF(EFECTOS!$N$9=\"EL SALVADOR\",LOOKUP(2,GEfectos!$J$4:$P$4,GEfectos!J279:P279),IF(EFECTOS!$N$9=\"GUATEMALA\",LOOKUP(3,GEfectos!$J$4:$P$4,GEfectos!J279:P279),IF(EFECTOS!$N$9=\"HONDURAS\",LOOKUP(4,GEfectos!$J$4:$P$4,GEfectos!J279:P279),IF(EFECTOS!$N$9=\"NICARAGUA\",LOOKUP(5,GEfectos!$J$4:$P$4,GEfectos!J279:P279),IF(EFECTOS!$N$9=\"REPÚBLICA \nDOMINICANA\",LOOKUP(6,$J$4:$P$4,J279:P279),IF(EFECTOS!$N$9=\"PANAMÁ\",LOOKUP(7,GEfectos!$J$4:$P$4,GEfectos!J279:P279))))))))","v":172.6090922308787},{"$f":"IF(EFECTOS!$N$9=\"COSTA RICA\",LOOKUP(1,GEfectos!$Q$4:$W$4,GEfectos!Q279:W279),IF(EFECTOS!$N$9=\"EL SALVADOR\",LOOKUP(2,GEfectos!$Q$4:$W$4,GEfectos!Q279:W279),IF(EFECTOS!$N$9=\"GUATEMALA\",LOOKUP(3,GEfectos!$Q$4:$W$4,GEfectos!Q279:W279),IF(EFECTOS!$N$9=\"HONDURAS\",LOOKUP(4,GEfectos!$Q$4:$W$4,GEfectos!Q279:W279),IF(EFECTOS!$N$9=\"NICARAGUA\",LOOKUP(5,GEfectos!$Q$4:$W$4,GEfectos!Q279:W279),IF(EFECTOS!$N$9=\"REPÚBLICA \nDOMINICANA\",LOOKUP(6,$Q$4:$W$4,Q279:W279),IF(EFECTOS!$N$9=\"PANAMÁ\",LOOKUP(7,GEfectos!$Q$4:$W$4,GEfectos!Q279:W279))))))))","v":206.28295865751488},100]
[null,{"$f":"'ITCER GLOBAL'!B280","v":"Noviembre"},{"$f":"'ITCER GLOBAL'!C280","v":83.063593675050782},{"$f":"'ITCER GLOBAL'!D280","v":104.30070569126785},{"$f":"'ITCER GLOBAL'!E280","v":53.660948685694201},{"$f":"'ITCER GLOBAL'!F280","v":86.148724899868071},{"$f":"'ITCER GLOBAL'!G280","v":111.0628594445465},{"$f":"'ITCER GLOBAL'!H280","v":131.74452370562494},{"$f":"'ITCER GLOBAL'!I280","v":89.047387232731779},{"$f":"'ITCER GLOBAL'!S280","v":171.39430465476545},{"$f":"'ITCER GLOBAL'!T280","v":89.441192817661488},{"$f":"'ITCER GLOBAL'!U280","v":84.97524178619858},{"$f":"'ITCER GLOBAL'!V280","v":149.21240027254282},{"$f":"'ITCER GLOBAL'!W280","v":211.73975007217817},{"$f":"'ITCER GLOBAL'!X280","v":278.35339369936901},{"$f":"'ITCER GLOBAL'!Y280","v":93.85085215843759},{"$f":"'ITCER GLOBAL'!AA280","v":206.34106600933876},{"$f":"'ITCER GLOBAL'!AB280","v":85.753200062144529},{"$f":"'ITCER GLOBAL'!AC280","v":158.35583206685394},{"$f":"'ITCER GLOBAL'!AD280","v":173.20326034537899},{"$f":"'ITCER GLOBAL'!AE280","v":190.64856706476161},{"$f":"'ITCER GLOBAL'!AF280","v":211.28270524650614},{"$f":"'ITCER GLOBAL'!AG280","v":105.39427946734877},null,{"$f":"IF(EFECTOS!$N$9=\"COSTA RICA\",LOOKUP(1,GEfectos!$C$4:$I$4,GEfectos!C280:I280),IF(EFECTOS!$N$9=\"EL SALVADOR\",LOOKUP(2,GEfectos!$C$4:$I$4,GEfectos!C280:I280),IF(EFECTOS!$N$9=\"GUATEMALA\",LOOKUP(3,GEfectos!$C$4:$I$4,GEfectos!C280:I280),IF(EFECTOS!$N$9=\"HONDURAS\",LOOKUP(4,GEfectos!$C$4:$I$4,GEfectos!C280:I280),IF(EFECTOS!$N$9=\"NICARAGUA\",LOOKUP(5,GEfectos!$C$4:$I$4,GEfectos!C280:I280),IF(EFECTOS!$N$9=\"REPÚBLICA \nDOMINICANA\",LOOKUP(6,$C$4:$I$4,C280:I280),IF(EFECTOS!$N$9=\"PANAMÁ\",LOOKUP(7,GEfectos!$C$4:$I$4,GEfectos!C280:I280))))))))","v":83.063593675050782},{"$f":"IF(EFECTOS!$N$9=\"COSTA RICA\",LOOKUP(1,GEfectos!$J$4:$P$4,GEfectos!J280:P280),IF(EFECTOS!$N$9=\"EL SALVADOR\",LOOKUP(2,GEfectos!$J$4:$P$4,GEfectos!J280:P280),IF(EFECTOS!$N$9=\"GUATEMALA\",LOOKUP(3,GEfectos!$J$4:$P$4,GEfectos!J280:P280),IF(EFECTOS!$N$9=\"HONDURAS\",LOOKUP(4,GEfectos!$J$4:$P$4,GEfectos!J280:P280),IF(EFECTOS!$N$9=\"NICARAGUA\",LOOKUP(5,GEfectos!$J$4:$P$4,GEfectos!J280:P280),IF(EFECTOS!$N$9=\"REPÚBLICA \nDOMINICANA\",LOOKUP(6,$J$4:$P$4,J280:P280),IF(EFECTOS!$N$9=\"PANAMÁ\",LOOKUP(7,GEfectos!$J$4:$P$4,GEfectos!J280:P280))))))))","v":171.39430465476545},{"$f":"IF(EFECTOS!$N$9=\"COSTA RICA\",LOOKUP(1,GEfectos!$Q$4:$W$4,GEfectos!Q280:W280),IF(EFECTOS!$N$9=\"EL SALVADOR\",LOOKUP(2,GEfectos!$Q$4:$W$4,GEfectos!Q280:W280),IF(EFECTOS!$N$9=\"GUATEMALA\",LOOKUP(3,GEfectos!$Q$4:$W$4,GEfectos!Q280:W280),IF(EFECTOS!$N$9=\"HONDURAS\",LOOKUP(4,GEfectos!$Q$4:$W$4,GEfectos!Q280:W280),IF(EFECTOS!$N$9=\"NICARAGUA\",LOOKUP(5,GEfectos!$Q$4:$W$4,GEfectos!Q280:W280),IF(EFECTOS!$N$9=\"REPÚBLICA \nDOMINICANA\",LOOKUP(6,$Q$4:$W$4,Q280:W280),IF(EFECTOS!$N$9=\"PANAMÁ\",LOOKUP(7,GEfectos!$Q$4:$W$4,GEfectos!Q280:W280))))))))","v":206.34106600933876},100]
[null,{"$f":"'ITCER GLOBAL'!B281","v":"Diciembre"},{"$f":"'ITCER GLOBAL'!C281","v":82.722639628830862},{"$f":"'ITCER GLOBAL'!D281","v":104.42341375589486},{"$f":"'ITCER GLOBAL'!E281","v":53.35740458544705},{"$f":"'ITCER GLOBAL'!F281","v":85.831738830330337},{"$f":"'ITCER GLOBAL'!G281","v":110.49724706105317},{"$f":"'ITCER GLOBAL'!H281","v":131.39076206593688},{"$f":"'ITCER GLOBAL'!I281","v":89.161925210626848},{"$f":"'ITCER GLOBAL'!S281","v":171.12289008066347},{"$f":"'ITCER GLOBAL'!T281","v":89.424035620588811},{"$f":"'ITCER GLOBAL'!U281","v":85.11283925045754},{"$f":"'ITCER GLOBAL'!V281","v":149.23831550008288},{"$f":"'ITCER GLOBAL'!W281","v":212.46549031892778},{"$f":"'ITCER GLOBAL'!X281","v":279.91974841421791},{"$f":"'ITCER GLOBAL'!Y281","v":93.97466198371302},{"$f":"'ITCER GLOBAL'!AA281","v":206.86343043268045},{"$f":"'ITCER GLOBAL'!AB281","v":85.636000973527544},{"$f":"'ITCER GLOBAL'!AC281","v":159.51457892626138},{"$f":"'ITCER GLOBAL'!AD281","v":173.87311213057538},{"$f":"'ITCER GLOBAL'!AE281","v":192.28125222118339},{"$f":"'ITCER GLOBAL'!AF281","v":213.04370567067986},{"$f":"'ITCER GLOBAL'!AG281","v":105.39774882800823},null,{"$f":"IF(EFECTOS!$N$9=\"COSTA RICA\",LOOKUP(1,GEfectos!$C$4:$I$4,GEfectos!C281:I281),IF(EFECTOS!$N$9=\"EL SALVADOR\",LOOKUP(2,GEfectos!$C$4:$I$4,GEfectos!C281:I281),IF(EFECTOS!$N$9=\"GUATEMALA\",LOOKUP(3,GEfectos!$C$4:$I$4,GEfectos!C281:I281),IF(EFECTOS!$N$9=\"HONDURAS\",LOOKUP(4,GEfectos!$C$4:$I$4,GEfectos!C281:I281),IF(EFECTOS!$N$9=\"NICARAGUA\",LOOKUP(5,GEfectos!$C$4:$I$4,GEfectos!C281:I281),IF(EFECTOS!$N$9=\"REPÚBLICA \nDOMINICANA\",LOOKUP(6,$C$4:$I$4,C281:I281),IF(EFECTOS!$N$9=\"PANAMÁ\",LOOKUP(7,GEfectos!$C$4:$I$4,GEfectos!C281:I281))))))))","v":82.722639628830862},{"$f":"IF(EFECTOS!$N$9=\"COSTA RICA\",LOOKUP(1,GEfectos!$J$4:$P$4,GEfectos!J281:P281),IF(EFECTOS!$N$9=\"EL SALVADOR\",LOOKUP(2,GEfectos!$J$4:$P$4,GEfectos!J281:P281),IF(EFECTOS!$N$9=\"GUATEMALA\",LOOKUP(3,GEfectos!$J$4:$P$4,GEfectos!J281:P281),IF(EFECTOS!$N$9=\"HONDURAS\",LOOKUP(4,GEfectos!$J$4:$P$4,GEfectos!J281:P281),IF(EFECTOS!$N$9=\"NICARAGUA\",LOOKUP(5,GEfectos!$J$4:$P$4,GEfectos!J281:P281),IF(EFECTOS!$N$9=\"REPÚBLICA \nDOMINICANA\",LOOKUP(6,$J$4:$P$4,J281:P281),IF(EFECTOS!$N$9=\"PANAMÁ\",LOOKUP(7,GEfectos!$J$4:$P$4,GEfectos!J281:P281))))))))","v":171.12289008066347},{"$f":"IF(EFECTOS!$N$9=\"COSTA RICA\",LOOKUP(1,GEfectos!$Q$4:$W$4,GEfectos!Q281:W281),IF(EFECTOS!$N$9=\"EL SALVADOR\",LOOKUP(2,GEfectos!$Q$4:$W$4,GEfectos!Q281:W281),IF(EFECTOS!$N$9=\"GUATEMALA\",LOOKUP(3,GEfectos!$Q$4:$W$4,GEfectos!Q281:W281),IF(EFECTOS!$N$9=\"HONDURAS\",LOOKUP(4,GEfectos!$Q$4:$W$4,GEfectos!Q281:W281),IF(EFECTOS!$N$9=\"NICARAGUA\",LOOKUP(5,GEfectos!$Q$4:$W$4,GEfectos!Q281:W281),IF(EFECTOS!$N$9=\"REPÚBLICA \nDOMINICANA\",LOOKUP(6,$Q$4:$W$4,Q281:W281),IF(EFECTOS!$N$9=\"PANAMÁ\",LOOKUP(7,GEfectos!$Q$4:$W$4,GEfectos!Q281:W281))))))))","v":206.86343043268045},100]
[2018,{"$f":"'ITCER GLOBAL'!B282","v":"Enero"},{"$f":"'ITCER GLOBAL'!C282","v":83.884155428830667},{"$f":"'ITCER GLOBAL'!D282","v":105.3461204970658},{"$f":"'ITCER GLOBAL'!E282","v":54.22367985703692},{"$f":"'ITCER GLOBAL'!F282","v":86.89422446016809},{"$f":"'ITCER GLOBAL'!G282","v":113.48245083443521},{"$f":"'ITCER GLOBAL'!H282","v":130.08432209694587},{"$f":"'ITCER GLOBAL'!I282","v":90.276631552965114},{"$f":"'ITCER GLOBAL'!S282","v":174.1320179824254},{"$f":"'ITCER GLOBAL'!T282","v":89.602336287595946},{"$f":"'ITCER GLOBAL'!U282","v":85.86288785463293},{"$f":"'ITCER GLOBAL'!V282","v":150.97008246160655},{"$f":"'ITCER GLOBAL'!W282","v":217.06949000810849},{"$f":"'ITCER GLOBAL'!X282","v":285.90078868097413},{"$f":"'ITCER GLOBAL'!Y282","v":94.635153966054546},{"$f":"'ITCER GLOBAL'!AA282","v":207.58630410264209},{"$f":"'ITCER GLOBAL'!AB282","v":85.055183679110087},{"$f":"'ITCER GLOBAL'!AC282","v":158.34942977129947},{"$f":"'ITCER GLOBAL'!AD282","v":173.74006546408677},{"$f":"'ITCER GLOBAL'!AE282","v":191.28022739375024},{"$f":"'ITCER GLOBAL'!AF282","v":219.78112663561825},{"$f":"'ITCER GLOBAL'!AG282","v":104.82796304881212},null,{"$f":"IF(EFECTOS!$N$9=\"COSTA RICA\",LOOKUP(1,GEfectos!$C$4:$I$4,GEfectos!C282:I282),IF(EFECTOS!$N$9=\"EL SALVADOR\",LOOKUP(2,GEfectos!$C$4:$I$4,GEfectos!C282:I282),IF(EFECTOS!$N$9=\"GUATEMALA\",LOOKUP(3,GEfectos!$C$4:$I$4,GEfectos!C282:I282),IF(EFECTOS!$N$9=\"HONDURAS\",LOOKUP(4,GEfectos!$C$4:$I$4,GEfectos!C282:I282),IF(EFECTOS!$N$9=\"NICARAGUA\",LOOKUP(5,GEfectos!$C$4:$I$4,GEfectos!C282:I282),IF(EFECTOS!$N$9=\"REPÚBLICA \nDOMINICANA\",LOOKUP(6,$C$4:$I$4,C282:I282),IF(EFECTOS!$N$9=\"PANAMÁ\",LOOKUP(7,GEfectos!$C$4:$I$4,GEfectos!C282:I282))))))))","v":83.884155428830667},{"$f":"IF(EFECTOS!$N$9=\"COSTA RICA\",LOOKUP(1,GEfectos!$J$4:$P$4,GEfectos!J282:P282),IF(EFECTOS!$N$9=\"EL SALVADOR\",LOOKUP(2,GEfectos!$J$4:$P$4,GEfectos!J282:P282),IF(EFECTOS!$N$9=\"GUATEMALA\",LOOKUP(3,GEfectos!$J$4:$P$4,GEfectos!J282:P282),IF(EFECTOS!$N$9=\"HONDURAS\",LOOKUP(4,GEfectos!$J$4:$P$4,GEfectos!J282:P282),IF(EFECTOS!$N$9=\"NICARAGUA\",LOOKUP(5,GEfectos!$J$4:$P$4,GEfectos!J282:P282),IF(EFECTOS!$N$9=\"REPÚBLICA \nDOMINICANA\",LOOKUP(6,$J$4:$P$4,J282:P282),IF(EFECTOS!$N$9=\"PANAMÁ\",LOOKUP(7,GEfectos!$J$4:$P$4,GEfectos!J282:P282))))))))","v":174.1320179824254},{"$f":"IF(EFECTOS!$N$9=\"COSTA RICA\",LOOKUP(1,GEfectos!$Q$4:$W$4,GEfectos!Q282:W282),IF(EFECTOS!$N$9=\"EL SALVADOR\",LOOKUP(2,GEfectos!$Q$4:$W$4,GEfectos!Q282:W282),IF(EFECTOS!$N$9=\"GUATEMALA\",LOOKUP(3,GEfectos!$Q$4:$W$4,GEfectos!Q282:W282),IF(EFECTOS!$N$9=\"HONDURAS\",LOOKUP(4,GEfectos!$Q$4:$W$4,GEfectos!Q282:W282),IF(EFECTOS!$N$9=\"NICARAGUA\",LOOKUP(5,GEfectos!$Q$4:$W$4,GEfectos!Q282:W282),IF(EFECTOS!$N$9=\"REPÚBLICA \nDOMINICANA\",LOOKUP(6,$Q$4:$W$4,Q282:W282),IF(EFECTOS!$N$9=\"PANAMÁ\",LOOKUP(7,GEfectos!$Q$4:$W$4,GEfectos!Q282:W282))))))))","v":207.58630410264209},100]
[null,{"$f":"'ITCER GLOBAL'!B283","v":"Febrero"},{"$f":"'ITCER GLOBAL'!C283","v":84.676176037895502},{"$f":"'ITCER GLOBAL'!D283","v":105.94033534490094},{"$f":"'ITCER GLOBAL'!E283","v":54.928997413695051},{"$f":"'ITCER GLOBAL'!F283","v":86.885614419893543},{"$f":"'ITCER GLOBAL'!G283","v":114.5594654735946},{"$f":"'ITCER GLOBAL'!H283","v":132.46647191860086},{"$f":"'ITCER GLOBAL'!I283","v":90.632272090216588},{"$f":"'ITCER GLOBAL'!S283","v":175.36517329154074},{"$f":"'ITCER GLOBAL'!T283","v":89.806408061116642},{"$f":"'ITCER GLOBAL'!U283","v":86.409916211881523},{"$f":"'ITCER GLOBAL'!V283","v":151.35278136932504},{"$f":"'ITCER GLOBAL'!W283","v":218.65751226019395},{"$f":"'ITCER GLOBAL'!X283","v":289.28281130838843},{"$f":"'ITCER GLOBAL'!Y283","v":94.948221833488105},{"$f":"'ITCER GLOBAL'!AA283","v":207.10095979423872},{"$f":"'ITCER GLOBAL'!AB283","v":84.770741728107197},{"$f":"'ITCER GLOBAL'!AC283","v":157.31202148309657},{"$f":"'ITCER GLOBAL'!AD283","v":174.19774536884776},{"$f":"'ITCER GLOBAL'!AE283","v":190.86813242035723},{"$f":"'ITCER GLOBAL'!AF283","v":218.38190986633163},{"$f":"'ITCER GLOBAL'!AG283","v":104.76204517853789},null,{"$f":"IF(EFECTOS!$N$9=\"COSTA RICA\",LOOKUP(1,GEfectos!$C$4:$I$4,GEfectos!C283:I283),IF(EFECTOS!$N$9=\"EL SALVADOR\",LOOKUP(2,GEfectos!$C$4:$I$4,GEfectos!C283:I283),IF(EFECTOS!$N$9=\"GUATEMALA\",LOOKUP(3,GEfectos!$C$4:$I$4,GEfectos!C283:I283),IF(EFECTOS!$N$9=\"HONDURAS\",LOOKUP(4,GEfectos!$C$4:$I$4,GEfectos!C283:I283),IF(EFECTOS!$N$9=\"NICARAGUA\",LOOKUP(5,GEfectos!$C$4:$I$4,GEfectos!C283:I283),IF(EFECTOS!$N$9=\"REPÚBLICA \nDOMINICANA\",LOOKUP(6,$C$4:$I$4,C283:I283),IF(EFECTOS!$N$9=\"PANAMÁ\",LOOKUP(7,GEfectos!$C$4:$I$4,GEfectos!C283:I283))))))))","v":84.676176037895502},{"$f":"IF(EFECTOS!$N$9=\"COSTA RICA\",LOOKUP(1,GEfectos!$J$4:$P$4,GEfectos!J283:P283),IF(EFECTOS!$N$9=\"EL SALVADOR\",LOOKUP(2,GEfectos!$J$4:$P$4,GEfectos!J283:P283),IF(EFECTOS!$N$9=\"GUATEMALA\",LOOKUP(3,GEfectos!$J$4:$P$4,GEfectos!J283:P283),IF(EFECTOS!$N$9=\"HONDURAS\",LOOKUP(4,GEfectos!$J$4:$P$4,GEfectos!J283:P283),IF(EFECTOS!$N$9=\"NICARAGUA\",LOOKUP(5,GEfectos!$J$4:$P$4,GEfectos!J283:P283),IF(EFECTOS!$N$9=\"REPÚBLICA \nDOMINICANA\",LOOKUP(6,$J$4:$P$4,J283:P283),IF(EFECTOS!$N$9=\"PANAMÁ\",LOOKUP(7,GEfectos!$J$4:$P$4,GEfectos!J283:P283))))))))","v":175.36517329154074},{"$f":"IF(EFECTOS!$N$9=\"COSTA RICA\",LOOKUP(1,GEfectos!$Q$4:$W$4,GEfectos!Q283:W283),IF(EFECTOS!$N$9=\"EL SALVADOR\",LOOKUP(2,GEfectos!$Q$4:$W$4,GEfectos!Q283:W283),IF(EFECTOS!$N$9=\"GUATEMALA\",LOOKUP(3,GEfectos!$Q$4:$W$4,GEfectos!Q283:W283),IF(EFECTOS!$N$9=\"HONDURAS\",LOOKUP(4,GEfectos!$Q$4:$W$4,GEfectos!Q283:W283),IF(EFECTOS!$N$9=\"NICARAGUA\",LOOKUP(5,GEfectos!$Q$4:$W$4,GEfectos!Q283:W283),IF(EFECTOS!$N$9=\"REPÚBLICA \nDOMINICANA\",LOOKUP(6,$Q$4:$W$4,Q283:W283),IF(EFECTOS!$N$9=\"PANAMÁ\",LOOKUP(7,GEfectos!$Q$4:$W$4,GEfectos!Q283:W283))))))))","v":207.10095979423872},100]
[null,{"$f":"'ITCER GLOBAL'!B284","v":"Marzo"},{"$f":"'ITCER GLOBAL'!C284","v":84.32981892941001},{"$f":"'ITCER GLOBAL'!D284","v":106.14910758795909},{"$f":"'ITCER GLOBAL'!E284","v":55.120264602672357},{"$f":"'ITCER GLOBAL'!F284","v":86.898694157112928},{"$f":"'ITCER GLOBAL'!G284","v":114.78112684548121},{"$f":"'ITCER GLOBAL'!H284","v":133.00198711327246},{"$f":"'ITCER GLOBAL'!I284","v":90.825117546610429},{"$f":"'ITCER GLOBAL'!S284","v":174.28458860517765},{"$f":"'ITCER GLOBAL'!T284","v":89.761375929588354},{"$f":"'ITCER GLOBAL'!U284","v":86.803482704578727},{"$f":"'ITCER GLOBAL'!V284","v":151.64183553620029},{"$f":"'ITCER GLOBAL'!W284","v":219.31019471072503},{"$f":"'ITCER GLOBAL'!X284","v":291.04403569785734},{"$f":"'ITCER GLOBAL'!Y284","v":95.009995158719036},{"$f":"'ITCER GLOBAL'!AA284","v":206.67018003568356},{"$f":"'ITCER GLOBAL'!AB284","v":84.561592621217969},{"$f":"'ITCER GLOBAL'!AC284","v":157.48016329437266},{"$f":"'ITCER GLOBAL'!AD284","v":174.50415913273872},{"$f":"'ITCER GLOBAL'!AE284","v":191.0681666385461},{"$f":"'ITCER GLOBAL'!AF284","v":218.82683260212255},{"$f":"'ITCER GLOBAL'!AG284","v":104.60762146546188},null,{"$f":"IF(EFECTOS!$N$9=\"COSTA RICA\",LOOKUP(1,GEfectos!$C$4:$I$4,GEfectos!C284:I284),IF(EFECTOS!$N$9=\"EL SALVADOR\",LOOKUP(2,GEfectos!$C$4:$I$4,GEfectos!C284:I284),IF(EFECTOS!$N$9=\"GUATEMALA\",LOOKUP(3,GEfectos!$C$4:$I$4,GEfectos!C284:I284),IF(EFECTOS!$N$9=\"HONDURAS\",LOOKUP(4,GEfectos!$C$4:$I$4,GEfectos!C284:I284),IF(EFECTOS!$N$9=\"NICARAGUA\",LOOKUP(5,GEfectos!$C$4:$I$4,GEfectos!C284:I284),IF(EFECTOS!$N$9=\"REPÚBLICA \nDOMINICANA\",LOOKUP(6,$C$4:$I$4,C284:I284),IF(EFECTOS!$N$9=\"PANAMÁ\",LOOKUP(7,GEfectos!$C$4:$I$4,GEfectos!C284:I284))))))))","v":84.32981892941001},{"$f":"IF(EFECTOS!$N$9=\"COSTA RICA\",LOOKUP(1,GEfectos!$J$4:$P$4,GEfectos!J284:P284),IF(EFECTOS!$N$9=\"EL SALVADOR\",LOOKUP(2,GEfectos!$J$4:$P$4,GEfectos!J284:P284),IF(EFECTOS!$N$9=\"GUATEMALA\",LOOKUP(3,GEfectos!$J$4:$P$4,GEfectos!J284:P284),IF(EFECTOS!$N$9=\"HONDURAS\",LOOKUP(4,GEfectos!$J$4:$P$4,GEfectos!J284:P284),IF(EFECTOS!$N$9=\"NICARAGUA\",LOOKUP(5,GEfectos!$J$4:$P$4,GEfectos!J284:P284),IF(EFECTOS!$N$9=\"REPÚBLICA \nDOMINICANA\",LOOKUP(6,$J$4:$P$4,J284:P284),IF(EFECTOS!$N$9=\"PANAMÁ\",LOOKUP(7,GEfectos!$J$4:$P$4,GEfectos!J284:P284))))))))","v":174.28458860517765},{"$f":"IF(EFECTOS!$N$9=\"COSTA RICA\",LOOKUP(1,GEfectos!$Q$4:$W$4,GEfectos!Q284:W284),IF(EFECTOS!$N$9=\"EL SALVADOR\",LOOKUP(2,GEfectos!$Q$4:$W$4,GEfectos!Q284:W284),IF(EFECTOS!$N$9=\"GUATEMALA\",LOOKUP(3,GEfectos!$Q$4:$W$4,GEfectos!Q284:W284),IF(EFECTOS!$N$9=\"HONDURAS\",LOOKUP(4,GEfectos!$Q$4:$W$4,GEfectos!Q284:W284),IF(EFECTOS!$N$9=\"NICARAGUA\",LOOKUP(5,GEfectos!$Q$4:$W$4,GEfectos!Q284:W284),IF(EFECTOS!$N$9=\"REPÚBLICA \nDOMINICANA\",LOOKUP(6,$Q$4:$W$4,Q284:W284),IF(EFECTOS!$N$9=\"PANAMÁ\",LOOKUP(7,GEfectos!$Q$4:$W$4,GEfectos!Q284:W284))))))))","v":206.67018003568356},100]
[null,{"$f":"'ITCER GLOBAL'!B285","v":"Abril"},{"$f":"'ITCER GLOBAL'!C285","v":84.26834059809299},{"$f":"'ITCER GLOBAL'!D285","v":106.34267610992802},{"$f":"'ITCER GLOBAL'!E285","v":55.391306429499551},{"$f":"'ITCER GLOBAL'!F285","v":87.020712136265004},{"$f":"'ITCER GLOBAL'!G285","v":114.99613251658974},{"$f":"'ITCER GLOBAL'!H285","v":133.30515274473566},{"$f":"'ITCER GLOBAL'!I285","v":90.857082735387678},{"$f":"'ITCER GLOBAL'!S285","v":173.61359499463717},{"$f":"'ITCER GLOBAL'!T285","v":89.769797560554835},{"$f":"'ITCER GLOBAL'!U285","v":87.104463633814532},{"$f":"'ITCER GLOBAL'!V285","v":151.87854416690919},{"$f":"'ITCER GLOBAL'!W285","v":220.14731651726191},{"$f":"'ITCER GLOBAL'!X285","v":292.01386153369072},{"$f":"'ITCER GLOBAL'!Y285","v":95.027588324195406},{"$f":"'ITCER GLOBAL'!AA285","v":206.02469891114254},{"$f":"'ITCER GLOBAL'!AB285","v":84.41559009457167},{"$f":"'ITCER GLOBAL'!AC285","v":157.25295041502326},{"$f":"'ITCER GLOBAL'!AD285","v":174.5314884680372},{"$f":"'ITCER GLOBAL'!AE285","v":191.43888729084233},{"$f":"'ITCER GLOBAL'!AF285","v":219.05669474972532},{"$f":"'ITCER GLOBAL'!AG285","v":104.59018214458186},null,{"$f":"IF(EFECTOS!$N$9=\"COSTA RICA\",LOOKUP(1,GEfectos!$C$4:$I$4,GEfectos!C285:I285),IF(EFECTOS!$N$9=\"EL SALVADOR\",LOOKUP(2,GEfectos!$C$4:$I$4,GEfectos!C285:I285),IF(EFECTOS!$N$9=\"GUATEMALA\",LOOKUP(3,GEfectos!$C$4:$I$4,GEfectos!C285:I285),IF(EFECTOS!$N$9=\"HONDURAS\",LOOKUP(4,GEfectos!$C$4:$I$4,GEfectos!C285:I285),IF(EFECTOS!$N$9=\"NICARAGUA\",LOOKUP(5,GEfectos!$C$4:$I$4,GEfectos!C285:I285),IF(EFECTOS!$N$9=\"REPÚBLICA \nDOMINICANA\",LOOKUP(6,$C$4:$I$4,C285:I285),IF(EFECTOS!$N$9=\"PANAMÁ\",LOOKUP(7,GEfectos!$C$4:$I$4,GEfectos!C285:I285))))))))","v":84.26834059809299},{"$f":"IF(EFECTOS!$N$9=\"COSTA RICA\",LOOKUP(1,GEfectos!$J$4:$P$4,GEfectos!J285:P285),IF(EFECTOS!$N$9=\"EL SALVADOR\",LOOKUP(2,GEfectos!$J$4:$P$4,GEfectos!J285:P285),IF(EFECTOS!$N$9=\"GUATEMALA\",LOOKUP(3,GEfectos!$J$4:$P$4,GEfectos!J285:P285),IF(EFECTOS!$N$9=\"HONDURAS\",LOOKUP(4,GEfectos!$J$4:$P$4,GEfectos!J285:P285),IF(EFECTOS!$N$9=\"NICARAGUA\",LOOKUP(5,GEfectos!$J$4:$P$4,GEfectos!J285:P285),IF(EFECTOS!$N$9=\"REPÚBLICA \nDOMINICANA\",LOOKUP(6,$J$4:$P$4,J285:P285),IF(EFECTOS!$N$9=\"PANAMÁ\",LOOKUP(7,GEfectos!$J$4:$P$4,GEfectos!J285:P285))))))))","v":173.61359499463717},{"$f":"IF(EFECTOS!$N$9=\"COSTA RICA\",LOOKUP(1,GEfectos!$Q$4:$W$4,GEfectos!Q285:W285),IF(EFECTOS!$N$9=\"EL SALVADOR\",LOOKUP(2,GEfectos!$Q$4:$W$4,GEfectos!Q285:W285),IF(EFECTOS!$N$9=\"GUATEMALA\",LOOKUP(3,GEfectos!$Q$4:$W$4,GEfectos!Q285:W285),IF(EFECTOS!$N$9=\"HONDURAS\",LOOKUP(4,GEfectos!$Q$4:$W$4,GEfectos!Q285:W285),IF(EFECTOS!$N$9=\"NICARAGUA\",LOOKUP(5,GEfectos!$Q$4:$W$4,GEfectos!Q285:W285),IF(EFECTOS!$N$9=\"REPÚBLICA \nDOMINICANA\",LOOKUP(6,$Q$4:$W$4,Q285:W285),IF(EFECTOS!$N$9=\"PANAMÁ\",LOOKUP(7,GEfectos!$Q$4:$W$4,GEfectos!Q285:W285))))))))","v":206.02469891114254},100]
[null,{"$f":"'ITCER GLOBAL'!B286","v":"Mayo"},{"$f":"'ITCER GLOBAL'!C286","v":83.518141812633573},{"$f":"'ITCER GLOBAL'!D286","v":105.55653434558607},{"$f":"'ITCER GLOBAL'!E286","v":54.831278419795218},{"$f":"'ITCER GLOBAL'!F286","v":86.734669259297647},{"$f":"'ITCER GLOBAL'!G286","v":114.02815199889972},{"$f":"'ITCER GLOBAL'!H286","v":131.91978988925172},{"$f":"'ITCER GLOBAL'!I286","v":89.771239540442949},{"$f":"'ITCER GLOBAL'!S286","v":171.36053692087313},{"$f":"'ITCER GLOBAL'!T286","v":88.969213814136623},{"$f":"'ITCER GLOBAL'!U286","v":86.433475842394586},{"$f":"'ITCER GLOBAL'!V286","v":151.07117086004678},{"$f":"'ITCER GLOBAL'!W286","v":219.09189576683838},{"$f":"'ITCER GLOBAL'!X286","v":288.7785847427682},{"$f":"'ITCER GLOBAL'!Y286","v":93.644500688838008},{"$f":"'ITCER GLOBAL'!AA286","v":205.17762153438125},{"$f":"'ITCER GLOBAL'!AB286","v":84.285842052048139},{"$f":"'ITCER GLOBAL'!AC286","v":157.63534670968079},{"$f":"'ITCER GLOBAL'!AD286","v":174.17622289930216},{"$f":"'ITCER GLOBAL'!AE286","v":192.13842540301141},{"$f":"'ITCER GLOBAL'!AF286","v":218.90467304807063},{"$f":"'ITCER GLOBAL'!AG286","v":104.31459024986518},null,{"$f":"IF(EFECTOS!$N$9=\"COSTA RICA\",LOOKUP(1,GEfectos!$C$4:$I$4,GEfectos!C286:I286),IF(EFECTOS!$N$9=\"EL SALVADOR\",LOOKUP(2,GEfectos!$C$4:$I$4,GEfectos!C286:I286),IF(EFECTOS!$N$9=\"GUATEMALA\",LOOKUP(3,GEfectos!$C$4:$I$4,GEfectos!C286:I286),IF(EFECTOS!$N$9=\"HONDURAS\",LOOKUP(4,GEfectos!$C$4:$I$4,GEfectos!C286:I286),IF(EFECTOS!$N$9=\"NICARAGUA\",LOOKUP(5,GEfectos!$C$4:$I$4,GEfectos!C286:I286),IF(EFECTOS!$N$9=\"REPÚBLICA \nDOMINICANA\",LOOKUP(6,$C$4:$I$4,C286:I286),IF(EFECTOS!$N$9=\"PANAMÁ\",LOOKUP(7,GEfectos!$C$4:$I$4,GEfectos!C286:I286))))))))","v":83.518141812633573},{"$f":"IF(EFECTOS!$N$9=\"COSTA RICA\",LOOKUP(1,GEfectos!$J$4:$P$4,GEfectos!J286:P286),IF(EFECTOS!$N$9=\"EL SALVADOR\",LOOKUP(2,GEfectos!$J$4:$P$4,GEfectos!J286:P286),IF(EFECTOS!$N$9=\"GUATEMALA\",LOOKUP(3,GEfectos!$J$4:$P$4,GEfectos!J286:P286),IF(EFECTOS!$N$9=\"HONDURAS\",LOOKUP(4,GEfectos!$J$4:$P$4,GEfectos!J286:P286),IF(EFECTOS!$N$9=\"NICARAGUA\",LOOKUP(5,GEfectos!$J$4:$P$4,GEfectos!J286:P286),IF(EFECTOS!$N$9=\"REPÚBLICA \nDOMINICANA\",LOOKUP(6,$J$4:$P$4,J286:P286),IF(EFECTOS!$N$9=\"PANAMÁ\",LOOKUP(7,GEfectos!$J$4:$P$4,GEfectos!J286:P286))))))))","v":171.36053692087313},{"$f":"IF(EFECTOS!$N$9=\"COSTA RICA\",LOOKUP(1,GEfectos!$Q$4:$W$4,GEfectos!Q286:W286),IF(EFECTOS!$N$9=\"EL SALVADOR\",LOOKUP(2,GEfectos!$Q$4:$W$4,GEfectos!Q286:W286),IF(EFECTOS!$N$9=\"GUATEMALA\",LOOKUP(3,GEfectos!$Q$4:$W$4,GEfectos!Q286:W286),IF(EFECTOS!$N$9=\"HONDURAS\",LOOKUP(4,GEfectos!$Q$4:$W$4,GEfectos!Q286:W286),IF(EFECTOS!$N$9=\"NICARAGUA\",LOOKUP(5,GEfectos!$Q$4:$W$4,GEfectos!Q286:W286),IF(EFECTOS!$N$9=\"REPÚBLICA \nDOMINICANA\",LOOKUP(6,$Q$4:$W$4,Q286:W286),IF(EFECTOS!$N$9=\"PANAMÁ\",LOOKUP(7,GEfectos!$Q$4:$W$4,GEfectos!Q286:W286))))))))","v":205.17762153438125},100]
[null,{"$f":"'ITCER GLOBAL'!B287","v":"Junio"},{"$f":"'ITCER GLOBAL'!C287","v":83.207052570767345},{"$f":"'ITCER GLOBAL'!D287","v":104.99228935723713},{"$f":"'ITCER GLOBAL'!E287","v":54.494406975724083},{"$f":"'ITCER GLOBAL'!F287","v":86.496295219275311},{"$f":"'ITCER GLOBAL'!G287","v":113.55879863448764},{"$f":"'ITCER GLOBAL'!H287","v":130.94349882573638},{"$f":"'ITCER GLOBAL'!I287","v":89.013015181805315},{"$f":"'ITCER GLOBAL'!S287","v":170.70460863130265},{"$f":"'ITCER GLOBAL'!T287","v":88.38965043926747},{"$f":"'ITCER GLOBAL'!U287","v":86.235777884977054},{"$f":"'ITCER GLOBAL'!V287","v":150.9676397660534},{"$f":"'ITCER GLOBAL'!W287","v":218.68602618386154},{"$f":"'ITCER GLOBAL'!X287","v":286.61830546441223},{"$f":"'ITCER GLOBAL'!Y287","v":92.893017800483719},{"$f":"'ITCER GLOBAL'!AA287","v":205.15641806458521},{"$f":"'ITCER GLOBAL'!AB287","v":84.186801697904656},{"$f":"'ITCER GLOBAL'!AC287","v":158.24702510001248},{"$f":"'ITCER GLOBAL'!AD287","v":174.53653868450417},{"$f":"'ITCER GLOBAL'!AE287","v":192.57514944988762},{"$f":"'ITCER GLOBAL'!AF287","v":218.88700701808244},{"$f":"'ITCER GLOBAL'!AG287","v":104.35891606497505},null,{"$f":"IF(EFECTOS!$N$9=\"COSTA RICA\",LOOKUP(1,GEfectos!$C$4:$I$4,GEfectos!C287:I287),IF(EFECTOS!$N$9=\"EL SALVADOR\",LOOKUP(2,GEfectos!$C$4:$I$4,GEfectos!C287:I287),IF(EFECTOS!$N$9=\"GUATEMALA\",LOOKUP(3,GEfectos!$C$4:$I$4,GEfectos!C287:I287),IF(EFECTOS!$N$9=\"HONDURAS\",LOOKUP(4,GEfectos!$C$4:$I$4,GEfectos!C287:I287),IF(EFECTOS!$N$9=\"NICARAGUA\",LOOKUP(5,GEfectos!$C$4:$I$4,GEfectos!C287:I287),IF(EFECTOS!$N$9=\"REPÚBLICA \nDOMINICANA\",LOOKUP(6,$C$4:$I$4,C287:I287),IF(EFECTOS!$N$9=\"PANAMÁ\",LOOKUP(7,GEfectos!$C$4:$I$4,GEfectos!C287:I287))))))))","v":83.207052570767345},{"$f":"IF(EFECTOS!$N$9=\"COSTA RICA\",LOOKUP(1,GEfectos!$J$4:$P$4,GEfectos!J287:P287),IF(EFECTOS!$N$9=\"EL SALVADOR\",LOOKUP(2,GEfectos!$J$4:$P$4,GEfectos!J287:P287),IF(EFECTOS!$N$9=\"GUATEMALA\",LOOKUP(3,GEfectos!$J$4:$P$4,GEfectos!J287:P287),IF(EFECTOS!$N$9=\"HONDURAS\",LOOKUP(4,GEfectos!$J$4:$P$4,GEfectos!J287:P287),IF(EFECTOS!$N$9=\"NICARAGUA\",LOOKUP(5,GEfectos!$J$4:$P$4,GEfectos!J287:P287),IF(EFECTOS!$N$9=\"REPÚBLICA \nDOMINICANA\",LOOKUP(6,$J$4:$P$4,J287:P287),IF(EFECTOS!$N$9=\"PANAMÁ\",LOOKUP(7,GEfectos!$J$4:$P$4,GEfectos!J287:P287))))))))","v":170.70460863130265},{"$f":"IF(EFECTOS!$N$9=\"COSTA RICA\",LOOKUP(1,GEfectos!$Q$4:$W$4,GEfectos!Q287:W287),IF(EFECTOS!$N$9=\"EL SALVADOR\",LOOKUP(2,GEfectos!$Q$4:$W$4,GEfectos!Q287:W287),IF(EFECTOS!$N$9=\"GUATEMALA\",LOOKUP(3,GEfectos!$Q$4:$W$4,GEfectos!Q287:W287),IF(EFECTOS!$N$9=\"HONDURAS\",LOOKUP(4,GEfectos!$Q$4:$W$4,GEfectos!Q287:W287),IF(EFECTOS!$N$9=\"NICARAGUA\",LOOKUP(5,GEfectos!$Q$4:$W$4,GEfectos!Q287:W287),IF(EFECTOS!$N$9=\"REPÚBLICA \nDOMINICANA\",LOOKUP(6,$Q$4:$W$4,Q287:W287),IF(EFECTOS!$N$9=\"PANAMÁ\",LOOKUP(7,GEfectos!$Q$4:$W$4,GEfectos!Q287:W287))))))))","v":205.15641806458521},100]
[null,{"$f":"'ITCER GLOBAL'!B288","v":"Julio"},{"$f":"'ITCER GLOBAL'!C288","v":82.901078430133651},{"$f":"'ITCER GLOBAL'!D288","v":104.97955512873583},{"$f":"'ITCER GLOBAL'!E288","v":54.433712981211031},{"$f":"'ITCER GLOBAL'!F288","v":86.358505179897634},{"$f":"'ITCER GLOBAL'!G288","v":114.44745623805893},{"$f":"'ITCER GLOBAL'!H288","v":131.18672599398511},{"$f":"'ITCER GLOBAL'!I288","v":89.282034571842459},{"$f":"'ITCER GLOBAL'!S288","v":170.43738448983817},{"$f":"'ITCER GLOBAL'!T288","v":88.381988069488969},{"$f":"'ITCER GLOBAL'!U288","v":86.352271537861554},{"$f":"'ITCER GLOBAL'!V288","v":151.17164404375296},{"$f":"'ITCER GLOBAL'!W288","v":219.84932480143007},{"$f":"'ITCER GLOBAL'!X288","v":286.74239034166862},{"$f":"'ITCER GLOBAL'!Y288","v":93.078510499757158},{"$f":"'ITCER GLOBAL'!AA288","v":205.59127543012278},{"$f":"'ITCER GLOBAL'!AB288","v":84.189714807903925},{"$f":"'ITCER GLOBAL'!AC288","v":158.63748182613944},{"$f":"'ITCER GLOBAL'!AD288","v":175.05125144169637},{"$f":"'ITCER GLOBAL'!AE288","v":192.09629643854004},{"$f":"'ITCER GLOBAL'!AF288","v":218.57576532157356},{"$f":"'ITCER GLOBAL'!AG288","v":104.25222828547862},null,{"$f":"IF(EFECTOS!$N$9=\"COSTA RICA\",LOOKUP(1,GEfectos!$C$4:$I$4,GEfectos!C288:I288),IF(EFECTOS!$N$9=\"EL SALVADOR\",LOOKUP(2,GEfectos!$C$4:$I$4,GEfectos!C288:I288),IF(EFECTOS!$N$9=\"GUATEMALA\",LOOKUP(3,GEfectos!$C$4:$I$4,GEfectos!C288:I288),IF(EFECTOS!$N$9=\"HONDURAS\",LOOKUP(4,GEfectos!$C$4:$I$4,GEfectos!C288:I288),IF(EFECTOS!$N$9=\"NICARAGUA\",LOOKUP(5,GEfectos!$C$4:$I$4,GEfectos!C288:I288),IF(EFECTOS!$N$9=\"REPÚBLICA \nDOMINICANA\",LOOKUP(6,$C$4:$I$4,C288:I288),IF(EFECTOS!$N$9=\"PANAMÁ\",LOOKUP(7,GEfectos!$C$4:$I$4,GEfectos!C288:I288))))))))","v":82.901078430133651},{"$f":"IF(EFECTOS!$N$9=\"COSTA RICA\",LOOKUP(1,GEfectos!$J$4:$P$4,GEfectos!J288:P288),IF(EFECTOS!$N$9=\"EL SALVADOR\",LOOKUP(2,GEfectos!$J$4:$P$4,GEfectos!J288:P288),IF(EFECTOS!$N$9=\"GUATEMALA\",LOOKUP(3,GEfectos!$J$4:$P$4,GEfectos!J288:P288),IF(EFECTOS!$N$9=\"HONDURAS\",LOOKUP(4,GEfectos!$J$4:$P$4,GEfectos!J288:P288),IF(EFECTOS!$N$9=\"NICARAGUA\",LOOKUP(5,GEfectos!$J$4:$P$4,GEfectos!J288:P288),IF(EFECTOS!$N$9=\"REPÚBLICA \nDOMINICANA\",LOOKUP(6,$J$4:$P$4,J288:P288),IF(EFECTOS!$N$9=\"PANAMÁ\",LOOKUP(7,GEfectos!$J$4:$P$4,GEfectos!J288:P288))))))))","v":170.43738448983817},{"$f":"IF(EFECTOS!$N$9=\"COSTA RICA\",LOOKUP(1,GEfectos!$Q$4:$W$4,GEfectos!Q288:W288),IF(EFECTOS!$N$9=\"EL SALVADOR\",LOOKUP(2,GEfectos!$Q$4:$W$4,GEfectos!Q288:W288),IF(EFECTOS!$N$9=\"GUATEMALA\",LOOKUP(3,GEfectos!$Q$4:$W$4,GEfectos!Q288:W288),IF(EFECTOS!$N$9=\"HONDURAS\",LOOKUP(4,GEfectos!$Q$4:$W$4,GEfectos!Q288:W288),IF(EFECTOS!$N$9=\"NICARAGUA\",LOOKUP(5,GEfectos!$Q$4:$W$4,GEfectos!Q288:W288),IF(EFECTOS!$N$9=\"REPÚBLICA \nDOMINICANA\",LOOKUP(6,$Q$4:$W$4,Q288:W288),IF(EFECTOS!$N$9=\"PANAMÁ\",LOOKUP(7,GEfectos!$Q$4:$W$4,GEfectos!Q288:W288))))))))","v":205.59127543012278},100]
[null,{"$f":"'ITCER GLOBAL'!B289","v":"Agosto"},{"$f":"'ITCER GLOBAL'!C289","v":82.873850976149498},{"$f":"'ITCER GLOBAL'!D289","v":104.64646553648512},{"$f":"'ITCER GLOBAL'!E289","v":54.334346198802727},{"$f":"'ITCER GLOBAL'!F289","v":85.847857291330541},{"$f":"'ITCER GLOBAL'!G289","v":115.00197560564314},{"$f":"'ITCER GLOBAL'!H289","v":131.19427466084841},{"$f":"'ITCER GLOBAL'!I289","v":89.049488509394294},{"$f":"'ITCER GLOBAL'!S289","v":169.91501690104286},{"$f":"'ITCER GLOBAL'!T289","v":88.131530265239704},{"$f":"'ITCER GLOBAL'!U289","v":86.390433262550175},{"$f":"'ITCER GLOBAL'!V289","v":150.63056532310378},{"$f":"'ITCER GLOBAL'!W289","v":219.80498444295839},{"$f":"'ITCER GLOBAL'!X289","v":286.20051278318471},{"$f":"'ITCER GLOBAL'!Y289","v":92.735300192672526},{"$f":"'ITCER GLOBAL'!AA289","v":205.02850404519415},{"$f":"'ITCER GLOBAL'!AB289","v":84.218353494712673},{"$f":"'ITCER GLOBAL'!AC289","v":158.99783342649997},{"$f":"'ITCER GLOBAL'!AD289","v":175.46223059700691},{"$f":"'ITCER GLOBAL'!AE289","v":191.13148559873312},{"$f":"'ITCER GLOBAL'!AF289","v":218.15015443550752},{"$f":"'ITCER GLOBAL'!AG289","v":104.1390599148578},null,{"$f":"IF(EFECTOS!$N$9=\"COSTA RICA\",LOOKUP(1,GEfectos!$C$4:$I$4,GEfectos!C289:I289),IF(EFECTOS!$N$9=\"EL SALVADOR\",LOOKUP(2,GEfectos!$C$4:$I$4,GEfectos!C289:I289),IF(EFECTOS!$N$9=\"GUATEMALA\",LOOKUP(3,GEfectos!$C$4:$I$4,GEfectos!C289:I289),IF(EFECTOS!$N$9=\"HONDURAS\",LOOKUP(4,GEfectos!$C$4:$I$4,GEfectos!C289:I289),IF(EFECTOS!$N$9=\"NICARAGUA\",LOOKUP(5,GEfectos!$C$4:$I$4,GEfectos!C289:I289),IF(EFECTOS!$N$9=\"REPÚBLICA \nDOMINICANA\",LOOKUP(6,$C$4:$I$4,C289:I289),IF(EFECTOS!$N$9=\"PANAMÁ\",LOOKUP(7,GEfectos!$C$4:$I$4,GEfectos!C289:I289))))))))","v":82.873850976149498},{"$f":"IF(EFECTOS!$N$9=\"COSTA RICA\",LOOKUP(1,GEfectos!$J$4:$P$4,GEfectos!J289:P289),IF(EFECTOS!$N$9=\"EL SALVADOR\",LOOKUP(2,GEfectos!$J$4:$P$4,GEfectos!J289:P289),IF(EFECTOS!$N$9=\"GUATEMALA\",LOOKUP(3,GEfectos!$J$4:$P$4,GEfectos!J289:P289),IF(EFECTOS!$N$9=\"HONDURAS\",LOOKUP(4,GEfectos!$J$4:$P$4,GEfectos!J289:P289),IF(EFECTOS!$N$9=\"NICARAGUA\",LOOKUP(5,GEfectos!$J$4:$P$4,GEfectos!J289:P289),IF(EFECTOS!$N$9=\"REPÚBLICA \nDOMINICANA\",LOOKUP(6,$J$4:$P$4,J289:P289),IF(EFECTOS!$N$9=\"PANAMÁ\",LOOKUP(7,GEfectos!$J$4:$P$4,GEfectos!J289:P289))))))))","v":169.91501690104286},{"$f":"IF(EFECTOS!$N$9=\"COSTA RICA\",LOOKUP(1,GEfectos!$Q$4:$W$4,GEfectos!Q289:W289),IF(EFECTOS!$N$9=\"EL SALVADOR\",LOOKUP(2,GEfectos!$Q$4:$W$4,GEfectos!Q289:W289),IF(EFECTOS!$N$9=\"GUATEMALA\",LOOKUP(3,GEfectos!$Q$4:$W$4,GEfectos!Q289:W289),IF(EFECTOS!$N$9=\"HONDURAS\",LOOKUP(4,GEfectos!$Q$4:$W$4,GEfectos!Q289:W289),IF(EFECTOS!$N$9=\"NICARAGUA\",LOOKUP(5,GEfectos!$Q$4:$W$4,GEfectos!Q289:W289),IF(EFECTOS!$N$9=\"REPÚBLICA \nDOMINICANA\",LOOKUP(6,$Q$4:$W$4,Q289:W289),IF(EFECTOS!$N$9=\"PANAMÁ\",LOOKUP(7,GEfectos!$Q$4:$W$4,GEfectos!Q289:W289))))))))","v":205.02850404519415},100]
[null,{"$f":"'ITCER GLOBAL'!B290","v":"Septiembre"},{"$f":"'ITCER GLOBAL'!C290","v":84.431525827707716},{"$f":"'ITCER GLOBAL'!D290","v":104.39973643416225},{"$f":"'ITCER GLOBAL'!E290","v":55.154798647234301},{"$f":"'ITCER GLOBAL'!F290","v":85.95709125156921},{"$f":"'ITCER GLOBAL'!G290","v":114.70610473615949},{"$f":"'ITCER GLOBAL'!H290","v":131.44940799957695},{"$f":"'ITCER GLOBAL'!I290","v":89.012294768747793},{"$f":"'ITCER GLOBAL'!S290","v":173.03437113517069},{"$f":"'ITCER GLOBAL'!T290","v":87.729678573581822},{"$f":"'ITCER GLOBAL'!U290","v":88.018370568329772},{"$f":"'ITCER GLOBAL'!V290","v":150.44967804291829},{"$f":"'ITCER GLOBAL'!W290","v":219.71053547825255},{"$f":"'ITCER GLOBAL'!X290","v":286.17379061959718},{"$f":"'ITCER GLOBAL'!Y290","v":92.449631092457523},{"$f":"'ITCER GLOBAL'!AA290","v":204.94047624848957},{"$f":"'ITCER GLOBAL'!AB290","v":84.03247131654102},{"$f":"'ITCER GLOBAL'!AC290","v":159.58424783904707},{"$f":"'ITCER GLOBAL'!AD290","v":175.02881478690298},{"$f":"'ITCER GLOBAL'!AE290","v":191.54214676160288},{"$f":"'ITCER GLOBAL'!AF290","v":217.70641266069313},{"$f":"'ITCER GLOBAL'!AG290","v":103.86164218397005},null,{"$f":"IF(EFECTOS!$N$9=\"COSTA RICA\",LOOKUP(1,GEfectos!$C$4:$I$4,GEfectos!C290:I290),IF(EFECTOS!$N$9=\"EL SALVADOR\",LOOKUP(2,GEfectos!$C$4:$I$4,GEfectos!C290:I290),IF(EFECTOS!$N$9=\"GUATEMALA\",LOOKUP(3,GEfectos!$C$4:$I$4,GEfectos!C290:I290),IF(EFECTOS!$N$9=\"HONDURAS\",LOOKUP(4,GEfectos!$C$4:$I$4,GEfectos!C290:I290),IF(EFECTOS!$N$9=\"NICARAGUA\",LOOKUP(5,GEfectos!$C$4:$I$4,GEfectos!C290:I290),IF(EFECTOS!$N$9=\"REPÚBLICA \nDOMINICANA\",LOOKUP(6,$C$4:$I$4,C290:I290),IF(EFECTOS!$N$9=\"PANAMÁ\",LOOKUP(7,GEfectos!$C$4:$I$4,GEfectos!C290:I290))))))))","v":84.431525827707716},{"$f":"IF(EFECTOS!$N$9=\"COSTA RICA\",LOOKUP(1,GEfectos!$J$4:$P$4,GEfectos!J290:P290),IF(EFECTOS!$N$9=\"EL SALVADOR\",LOOKUP(2,GEfectos!$J$4:$P$4,GEfectos!J290:P290),IF(EFECTOS!$N$9=\"GUATEMALA\",LOOKUP(3,GEfectos!$J$4:$P$4,GEfectos!J290:P290),IF(EFECTOS!$N$9=\"HONDURAS\",LOOKUP(4,GEfectos!$J$4:$P$4,GEfectos!J290:P290),IF(EFECTOS!$N$9=\"NICARAGUA\",LOOKUP(5,GEfectos!$J$4:$P$4,GEfectos!J290:P290),IF(EFECTOS!$N$9=\"REPÚBLICA \nDOMINICANA\",LOOKUP(6,$J$4:$P$4,J290:P290),IF(EFECTOS!$N$9=\"PANAMÁ\",LOOKUP(7,GEfectos!$J$4:$P$4,GEfectos!J290:P290))))))))","v":173.03437113517069},{"$f":"IF(EFECTOS!$N$9=\"COSTA RICA\",LOOKUP(1,GEfectos!$Q$4:$W$4,GEfectos!Q290:W290),IF(EFECTOS!$N$9=\"EL SALVADOR\",LOOKUP(2,GEfectos!$Q$4:$W$4,GEfectos!Q290:W290),IF(EFECTOS!$N$9=\"GUATEMALA\",LOOKUP(3,GEfectos!$Q$4:$W$4,GEfectos!Q290:W290),IF(EFECTOS!$N$9=\"HONDURAS\",LOOKUP(4,GEfectos!$Q$4:$W$4,GEfectos!Q290:W290),IF(EFECTOS!$N$9=\"NICARAGUA\",LOOKUP(5,GEfectos!$Q$4:$W$4,GEfectos!Q290:W290),IF(EFECTOS!$N$9=\"REPÚBLICA \nDOMINICANA\",LOOKUP(6,$Q$4:$W$4,Q290:W290),IF(EFECTOS!$N$9=\"PANAMÁ\",LOOKUP(7,GEfectos!$Q$4:$W$4,GEfectos!Q290:W290))))))))","v":204.94047624848957},100]
[null,{"$f":"'ITCER GLOBAL'!B291","v":"Octubre"},{"$f":"'ITCER GLOBAL'!C291","v":85.933081404822744},{"$f":"'ITCER GLOBAL'!D291","v":104.08238367967098},{"$f":"'ITCER GLOBAL'!E291","v":55.33874443802862},{"$f":"'ITCER GLOBAL'!F291","v":85.413398017603598},{"$f":"'ITCER GLOBAL'!G291","v":114.4119159999391},{"$f":"'ITCER GLOBAL'!H291","v":131.55236089660499},{"$f":"'ITCER GLOBAL'!I291","v":88.800934975062177},{"$f":"'ITCER GLOBAL'!S291","v":176.35662075219088},{"$f":"'ITCER GLOBAL'!T291","v":87.421698489715624},{"$f":"'ITCER GLOBAL'!U291","v":88.383539105237048},{"$f":"'ITCER GLOBAL'!V291","v":149.98036768767332},{"$f":"'ITCER GLOBAL'!W291","v":219.68828509144504},{"$f":"'ITCER GLOBAL'!X291","v":286.43641746634029},{"$f":"'ITCER GLOBAL'!Y291","v":92.115941438494531},{"$f":"'ITCER GLOBAL'!AA291","v":205.22552882910281},{"$f":"'ITCER GLOBAL'!AB291","v":83.992790517527837},{"$f":"'ITCER GLOBAL'!AC291","v":159.7136689724029},{"$f":"'ITCER GLOBAL'!AD291","v":175.59349138265469},{"$f":"'ITCER GLOBAL'!AE291","v":192.01521377507737},{"$f":"'ITCER GLOBAL'!AF291","v":217.7356723316187},{"$f":"'ITCER GLOBAL'!AG291","v":103.73307608119589},null,{"$f":"IF(EFECTOS!$N$9=\"COSTA RICA\",LOOKUP(1,GEfectos!$C$4:$I$4,GEfectos!C291:I291),IF(EFECTOS!$N$9=\"EL SALVADOR\",LOOKUP(2,GEfectos!$C$4:$I$4,GEfectos!C291:I291),IF(EFECTOS!$N$9=\"GUATEMALA\",LOOKUP(3,GEfectos!$C$4:$I$4,GEfectos!C291:I291),IF(EFECTOS!$N$9=\"HONDURAS\",LOOKUP(4,GEfectos!$C$4:$I$4,GEfectos!C291:I291),IF(EFECTOS!$N$9=\"NICARAGUA\",LOOKUP(5,GEfectos!$C$4:$I$4,GEfectos!C291:I291),IF(EFECTOS!$N$9=\"REPÚBLICA \nDOMINICANA\",LOOKUP(6,$C$4:$I$4,C291:I291),IF(EFECTOS!$N$9=\"PANAMÁ\",LOOKUP(7,GEfectos!$C$4:$I$4,GEfectos!C291:I291))))))))","v":85.933081404822744},{"$f":"IF(EFECTOS!$N$9=\"COSTA RICA\",LOOKUP(1,GEfectos!$J$4:$P$4,GEfectos!J291:P291),IF(EFECTOS!$N$9=\"EL SALVADOR\",LOOKUP(2,GEfectos!$J$4:$P$4,GEfectos!J291:P291),IF(EFECTOS!$N$9=\"GUATEMALA\",LOOKUP(3,GEfectos!$J$4:$P$4,GEfectos!J291:P291),IF(EFECTOS!$N$9=\"HONDURAS\",LOOKUP(4,GEfectos!$J$4:$P$4,GEfectos!J291:P291),IF(EFECTOS!$N$9=\"NICARAGUA\",LOOKUP(5,GEfectos!$J$4:$P$4,GEfectos!J291:P291),IF(EFECTOS!$N$9=\"REPÚBLICA \nDOMINICANA\",LOOKUP(6,$J$4:$P$4,J291:P291),IF(EFECTOS!$N$9=\"PANAMÁ\",LOOKUP(7,GEfectos!$J$4:$P$4,GEfectos!J291:P291))))))))","v":176.35662075219088},{"$f":"IF(EFECTOS!$N$9=\"COSTA RICA\",LOOKUP(1,GEfectos!$Q$4:$W$4,GEfectos!Q291:W291),IF(EFECTOS!$N$9=\"EL SALVADOR\",LOOKUP(2,GEfectos!$Q$4:$W$4,GEfectos!Q291:W291),IF(EFECTOS!$N$9=\"GUATEMALA\",LOOKUP(3,GEfectos!$Q$4:$W$4,GEfectos!Q291:W291),IF(EFECTOS!$N$9=\"HONDURAS\",LOOKUP(4,GEfectos!$Q$4:$W$4,GEfectos!Q291:W291),IF(EFECTOS!$N$9=\"NICARAGUA\",LOOKUP(5,GEfectos!$Q$4:$W$4,GEfectos!Q291:W291),IF(EFECTOS!$N$9=\"REPÚBLICA \nDOMINICANA\",LOOKUP(6,$Q$4:$W$4,Q291:W291),IF(EFECTOS!$N$9=\"PANAMÁ\",LOOKUP(7,GEfectos!$Q$4:$W$4,GEfectos!Q291:W291))))))))","v":205.22552882910281},100]
[null,{"$f":"'ITCER GLOBAL'!B292","v":"Noviembre"},{"$f":"'ITCER GLOBAL'!C292","v":87.555018734248407},{"$f":"'ITCER GLOBAL'!D292","v":103.5438554739319},{"$f":"'ITCER GLOBAL'!E292","v":54.735781667155251},{"$f":"'ITCER GLOBAL'!F292","v":84.756119832315122},{"$f":"'ITCER GLOBAL'!G292","v":113.32048840305569},{"$f":"'ITCER GLOBAL'!H292","v":131.21741313373093},{"$f":"'ITCER GLOBAL'!I292","v":88.258322053679507},{"$f":"'ITCER GLOBAL'!S292","v":180.89320996727446},{"$f":"'ITCER GLOBAL'!T292","v":86.923280631555599},{"$f":"'ITCER GLOBAL'!U292","v":87.281393354223709},{"$f":"'ITCER GLOBAL'!V292","v":149.96109459686431},{"$f":"'ITCER GLOBAL'!W292","v":218.99782662963636},{"$f":"'ITCER GLOBAL'!X292","v":285.5034063147948},{"$f":"'ITCER GLOBAL'!Y292","v":91.31677559170042},{"$f":"'ITCER GLOBAL'!AA292","v":206.60518675272181},{"$f":"'ITCER GLOBAL'!AB292","v":83.948275089524088},{"$f":"'ITCER GLOBAL'!AC292","v":159.45948097530828},{"$f":"'ITCER GLOBAL'!AD292","v":176.93246799588428},{"$f":"'ITCER GLOBAL'!AE292","v":193.25527953136768},{"$f":"'ITCER GLOBAL'!AF292","v":217.58042587215348},{"$f":"'ITCER GLOBAL'!AG292","v":103.46534294653907},null,{"$f":"IF(EFECTOS!$N$9=\"COSTA RICA\",LOOKUP(1,GEfectos!$C$4:$I$4,GEfectos!C292:I292),IF(EFECTOS!$N$9=\"EL SALVADOR\",LOOKUP(2,GEfectos!$C$4:$I$4,GEfectos!C292:I292),IF(EFECTOS!$N$9=\"GUATEMALA\",LOOKUP(3,GEfectos!$C$4:$I$4,GEfectos!C292:I292),IF(EFECTOS!$N$9=\"HONDURAS\",LOOKUP(4,GEfectos!$C$4:$I$4,GEfectos!C292:I292),IF(EFECTOS!$N$9=\"NICARAGUA\",LOOKUP(5,GEfectos!$C$4:$I$4,GEfectos!C292:I292),IF(EFECTOS!$N$9=\"REPÚBLICA \nDOMINICANA\",LOOKUP(6,$C$4:$I$4,C292:I292),IF(EFECTOS!$N$9=\"PANAMÁ\",LOOKUP(7,GEfectos!$C$4:$I$4,GEfectos!C292:I292))))))))","v":87.555018734248407},{"$f":"IF(EFECTOS!$N$9=\"COSTA RICA\",LOOKUP(1,GEfectos!$J$4:$P$4,GEfectos!J292:P292),IF(EFECTOS!$N$9=\"EL SALVADOR\",LOOKUP(2,GEfectos!$J$4:$P$4,GEfectos!J292:P292),IF(EFECTOS!$N$9=\"GUATEMALA\",LOOKUP(3,GEfectos!$J$4:$P$4,GEfectos!J292:P292),IF(EFECTOS!$N$9=\"HONDURAS\",LOOKUP(4,GEfectos!$J$4:$P$4,GEfectos!J292:P292),IF(EFECTOS!$N$9=\"NICARAGUA\",LOOKUP(5,GEfectos!$J$4:$P$4,GEfectos!J292:P292),IF(EFECTOS!$N$9=\"REPÚBLICA \nDOMINICANA\",LOOKUP(6,$J$4:$P$4,J292:P292),IF(EFECTOS!$N$9=\"PANAMÁ\",LOOKUP(7,GEfectos!$J$4:$P$4,GEfectos!J292:P292))))))))","v":180.89320996727446},{"$f":"IF(EFECTOS!$N$9=\"COSTA RICA\",LOOKUP(1,GEfectos!$Q$4:$W$4,GEfectos!Q292:W292),IF(EFECTOS!$N$9=\"EL SALVADOR\",LOOKUP(2,GEfectos!$Q$4:$W$4,GEfectos!Q292:W292),IF(EFECTOS!$N$9=\"GUATEMALA\",LOOKUP(3,GEfectos!$Q$4:$W$4,GEfectos!Q292:W292),IF(EFECTOS!$N$9=\"HONDURAS\",LOOKUP(4,GEfectos!$Q$4:$W$4,GEfectos!Q292:W292),IF(EFECTOS!$N$9=\"NICARAGUA\",LOOKUP(5,GEfectos!$Q$4:$W$4,GEfectos!Q292:W292),IF(EFECTOS!$N$9=\"REPÚBLICA \nDOMINICANA\",LOOKUP(6,$Q$4:$W$4,Q292:W292),IF(EFECTOS!$N$9=\"PANAMÁ\",LOOKUP(7,GEfectos!$Q$4:$W$4,GEfectos!Q292:W292))))))))","v":206.60518675272181},100]
[null,{"$f":"'ITCER GLOBAL'!B293","v":"Diciembre"},{"$f":"'ITCER GLOBAL'!C293","v":85.889700017880543},{"$f":"'ITCER GLOBAL'!D293","v":103.98334115105931},{"$f":"'ITCER GLOBAL'!E293","v":54.912507532922213},{"$f":"'ITCER GLOBAL'!F293","v":84.94632010823932},{"$f":"'ITCER GLOBAL'!G293","v":112.94603470058811},{"$f":"'ITCER GLOBAL'!H293","v":131.29604311257498},{"$f":"'ITCER GLOBAL'!I293","v":88.613501644605151},{"$f":"'ITCER GLOBAL'!S293","v":178.01175140122621},{"$f":"'ITCER GLOBAL'!T293","v":86.924409007926357},{"$f":"'ITCER GLOBAL'!U293","v":87.752203341149652},{"$f":"'ITCER GLOBAL'!V293","v":150.72256323875484},{"$f":"'ITCER GLOBAL'!W293","v":219.72500344567064},{"$f":"'ITCER GLOBAL'!X293","v":285.45176751388266},{"$f":"'ITCER GLOBAL'!Y293","v":91.355533411817873},{"$f":"'ITCER GLOBAL'!AA293","v":207.25622672353924},{"$f":"'ITCER GLOBAL'!AB293","v":83.594552786728599},{"$f":"'ITCER GLOBAL'!AC293","v":159.80367184750895},{"$f":"'ITCER GLOBAL'!AD293","v":177.43271638689336},{"$f":"'ITCER GLOBAL'!AE293","v":194.53981189171091},{"$f":"'ITCER GLOBAL'!AF293","v":217.41079224233175},{"$f":"'ITCER GLOBAL'!AG293","v":103.09437243345823},null,{"$f":"IF(EFECTOS!$N$9=\"COSTA RICA\",LOOKUP(1,GEfectos!$C$4:$I$4,GEfectos!C293:I293),IF(EFECTOS!$N$9=\"EL SALVADOR\",LOOKUP(2,GEfectos!$C$4:$I$4,GEfectos!C293:I293),IF(EFECTOS!$N$9=\"GUATEMALA\",LOOKUP(3,GEfectos!$C$4:$I$4,GEfectos!C293:I293),IF(EFECTOS!$N$9=\"HONDURAS\",LOOKUP(4,GEfectos!$C$4:$I$4,GEfectos!C293:I293),IF(EFECTOS!$N$9=\"NICARAGUA\",LOOKUP(5,GEfectos!$C$4:$I$4,GEfectos!C293:I293),IF(EFECTOS!$N$9=\"REPÚBLICA \nDOMINICANA\",LOOKUP(6,$C$4:$I$4,C293:I293),IF(EFECTOS!$N$9=\"PANAMÁ\",LOOKUP(7,GEfectos!$C$4:$I$4,GEfectos!C293:I293))))))))","v":85.889700017880543},{"$f":"IF(EFECTOS!$N$9=\"COSTA RICA\",LOOKUP(1,GEfectos!$J$4:$P$4,GEfectos!J293:P293),IF(EFECTOS!$N$9=\"EL SALVADOR\",LOOKUP(2,GEfectos!$J$4:$P$4,GEfectos!J293:P293),IF(EFECTOS!$N$9=\"GUATEMALA\",LOOKUP(3,GEfectos!$J$4:$P$4,GEfectos!J293:P293),IF(EFECTOS!$N$9=\"HONDURAS\",LOOKUP(4,GEfectos!$J$4:$P$4,GEfectos!J293:P293),IF(EFECTOS!$N$9=\"NICARAGUA\",LOOKUP(5,GEfectos!$J$4:$P$4,GEfectos!J293:P293),IF(EFECTOS!$N$9=\"REPÚBLICA \nDOMINICANA\",LOOKUP(6,$J$4:$P$4,J293:P293),IF(EFECTOS!$N$9=\"PANAMÁ\",LOOKUP(7,GEfectos!$J$4:$P$4,GEfectos!J293:P293))))))))","v":178.01175140122621},{"$f":"IF(EFECTOS!$N$9=\"COSTA RICA\",LOOKUP(1,GEfectos!$Q$4:$W$4,GEfectos!Q293:W293),IF(EFECTOS!$N$9=\"EL SALVADOR\",LOOKUP(2,GEfectos!$Q$4:$W$4,GEfectos!Q293:W293),IF(EFECTOS!$N$9=\"GUATEMALA\",LOOKUP(3,GEfectos!$Q$4:$W$4,GEfectos!Q293:W293),IF(EFECTOS!$N$9=\"HONDURAS\",LOOKUP(4,GEfectos!$Q$4:$W$4,GEfectos!Q293:W293),IF(EFECTOS!$N$9=\"NICARAGUA\",LOOKUP(5,GEfectos!$Q$4:$W$4,GEfectos!Q293:W293),IF(EFECTOS!$N$9=\"REPÚBLICA \nDOMINICANA\",LOOKUP(6,$Q$4:$W$4,Q293:W293),IF(EFECTOS!$N$9=\"PANAMÁ\",LOOKUP(7,GEfectos!$Q$4:$W$4,GEfectos!Q293:W293))))))))","v":207.25622672353924},100]
[2019,{"$f":"'ITCER GLOBAL'!B294","v":"Enero"},{"$f":"'ITCER GLOBAL'!C294","v":87.239946066750349},{"$f":"'ITCER GLOBAL'!D294","v":104.9556289527566},{"$f":"'ITCER GLOBAL'!E294","v":54.548691537614971},{"$f":"'ITCER GLOBAL'!F294","v":85.003235808017237},{"$f":"'ITCER GLOBAL'!G294","v":114.98864469898373},{"$f":"'ITCER GLOBAL'!H294","v":132.3410059082934},{"$f":"'ITCER GLOBAL'!I294","v":89.198065102540355},{"$f":"'ITCER GLOBAL'!S294","v":181.87809579299611},{"$f":"'ITCER GLOBAL'!T294","v":87.858746653024156},{"$f":"'ITCER GLOBAL'!U294","v":88.49762605969326},{"$f":"'ITCER GLOBAL'!V294","v":151.90780914560585},{"$f":"'ITCER GLOBAL'!W294","v":227.35892546846043},{"$f":"'ITCER GLOBAL'!X294","v":290.85088023297703},{"$f":"'ITCER GLOBAL'!Y294","v":92.027527985367513},{"$f":"'ITCER GLOBAL'!AA294","v":208.4802937106756},{"$f":"'ITCER GLOBAL'!AB294","v":83.710371258478943},{"$f":"'ITCER GLOBAL'!AC294","v":162.23601990282066},{"$f":"'ITCER GLOBAL'!AD294","v":178.70826645787335},{"$f":"'ITCER GLOBAL'!AE294","v":197.72293695924375},{"$f":"'ITCER GLOBAL'!AF294","v":219.77381706961191},{"$f":"'ITCER GLOBAL'!AG294","v":103.1721123990464},null,{"$f":"IF(EFECTOS!$N$9=\"COSTA RICA\",LOOKUP(1,GEfectos!$C$4:$I$4,GEfectos!C294:I294),IF(EFECTOS!$N$9=\"EL SALVADOR\",LOOKUP(2,GEfectos!$C$4:$I$4,GEfectos!C294:I294),IF(EFECTOS!$N$9=\"GUATEMALA\",LOOKUP(3,GEfectos!$C$4:$I$4,GEfectos!C294:I294),IF(EFECTOS!$N$9=\"HONDURAS\",LOOKUP(4,GEfectos!$C$4:$I$4,GEfectos!C294:I294),IF(EFECTOS!$N$9=\"NICARAGUA\",LOOKUP(5,GEfectos!$C$4:$I$4,GEfectos!C294:I294),IF(EFECTOS!$N$9=\"REPÚBLICA \nDOMINICANA\",LOOKUP(6,$C$4:$I$4,C294:I294),IF(EFECTOS!$N$9=\"PANAMÁ\",LOOKUP(7,GEfectos!$C$4:$I$4,GEfectos!C294:I294))))))))","v":87.239946066750349},{"$f":"IF(EFECTOS!$N$9=\"COSTA RICA\",LOOKUP(1,GEfectos!$J$4:$P$4,GEfectos!J294:P294),IF(EFECTOS!$N$9=\"EL SALVADOR\",LOOKUP(2,GEfectos!$J$4:$P$4,GEfectos!J294:P294),IF(EFECTOS!$N$9=\"GUATEMALA\",LOOKUP(3,GEfectos!$J$4:$P$4,GEfectos!J294:P294),IF(EFECTOS!$N$9=\"HONDURAS\",LOOKUP(4,GEfectos!$J$4:$P$4,GEfectos!J294:P294),IF(EFECTOS!$N$9=\"NICARAGUA\",LOOKUP(5,GEfectos!$J$4:$P$4,GEfectos!J294:P294),IF(EFECTOS!$N$9=\"REPÚBLICA \nDOMINICANA\",LOOKUP(6,$J$4:$P$4,J294:P294),IF(EFECTOS!$N$9=\"PANAMÁ\",LOOKUP(7,GEfectos!$J$4:$P$4,GEfectos!J294:P294))))))))","v":181.87809579299611},{"$f":"IF(EFECTOS!$N$9=\"COSTA RICA\",LOOKUP(1,GEfectos!$Q$4:$W$4,GEfectos!Q294:W294),IF(EFECTOS!$N$9=\"EL SALVADOR\",LOOKUP(2,GEfectos!$Q$4:$W$4,GEfectos!Q294:W294),IF(EFECTOS!$N$9=\"GUATEMALA\",LOOKUP(3,GEfectos!$Q$4:$W$4,GEfectos!Q294:W294),IF(EFECTOS!$N$9=\"HONDURAS\",LOOKUP(4,GEfectos!$Q$4:$W$4,GEfectos!Q294:W294),IF(EFECTOS!$N$9=\"NICARAGUA\",LOOKUP(5,GEfectos!$Q$4:$W$4,GEfectos!Q294:W294),IF(EFECTOS!$N$9=\"REPÚBLICA \nDOMINICANA\",LOOKUP(6,$Q$4:$W$4,Q294:W294),IF(EFECTOS!$N$9=\"PANAMÁ\",LOOKUP(7,GEfectos!$Q$4:$W$4,GEfectos!Q294:W294))))))))","v":208.4802937106756},100]
[null,{"$f":"'ITCER GLOBAL'!B295","v":"Febrero"},{"$f":"'ITCER GLOBAL'!C295","v":88.12896791840241},{"$f":"'ITCER GLOBAL'!D295","v":105.21518507157572},{"$f":"'ITCER GLOBAL'!E295","v":54.703393730792818},{"$f":"'ITCER GLOBAL'!F295","v":84.795282311112047},{"$f":"'ITCER GLOBAL'!G295","v":115.50697552301061},{"$f":"'ITCER GLOBAL'!H295","v":132.69111883973179},{"$f":"'ITCER GLOBAL'!I295","v":89.33457024855818},{"$f":"'ITCER GLOBAL'!S295","v":183.13879228589582},{"$f":"'ITCER GLOBAL'!T295","v":87.868560606546694},{"$f":"'ITCER GLOBAL'!U295","v":88.528065368092854},{"$f":"'ITCER GLOBAL'!V295","v":152.16328678392193},{"$f":"'ITCER GLOBAL'!W295","v":228.15724760557981},{"$f":"'ITCER GLOBAL'!X295","v":291.41740051475409},{"$f":"'ITCER GLOBAL'!Y295","v":91.986829836281089},{"$f":"'ITCER GLOBAL'!AA295","v":207.80771250545214},{"$f":"'ITCER GLOBAL'!AB295","v":83.513193030807798},{"$f":"'ITCER GLOBAL'!AC295","v":161.83285776337485},{"$f":"'ITCER GLOBAL'!AD295","v":179.44782143143075},{"$f":"'ITCER GLOBAL'!AE295","v":197.52681305392477},{"$f":"'ITCER GLOBAL'!AF295","v":219.62087821923978},{"$f":"'ITCER GLOBAL'!AG295","v":102.96890619201891},null,{"$f":"IF(EFECTOS!$N$9=\"COSTA RICA\",LOOKUP(1,GEfectos!$C$4:$I$4,GEfectos!C295:I295),IF(EFECTOS!$N$9=\"EL SALVADOR\",LOOKUP(2,GEfectos!$C$4:$I$4,GEfectos!C295:I295),IF(EFECTOS!$N$9=\"GUATEMALA\",LOOKUP(3,GEfectos!$C$4:$I$4,GEfectos!C295:I295),IF(EFECTOS!$N$9=\"HONDURAS\",LOOKUP(4,GEfectos!$C$4:$I$4,GEfectos!C295:I295),IF(EFECTOS!$N$9=\"NICARAGUA\",LOOKUP(5,GEfectos!$C$4:$I$4,GEfectos!C295:I295),IF(EFECTOS!$N$9=\"REPÚBLICA \nDOMINICANA\",LOOKUP(6,$C$4:$I$4,C295:I295),IF(EFECTOS!$N$9=\"PANAMÁ\",LOOKUP(7,GEfectos!$C$4:$I$4,GEfectos!C295:I295))))))))","v":88.12896791840241},{"$f":"IF(EFECTOS!$N$9=\"COSTA RICA\",LOOKUP(1,GEfectos!$J$4:$P$4,GEfectos!J295:P295),IF(EFECTOS!$N$9=\"EL SALVADOR\",LOOKUP(2,GEfectos!$J$4:$P$4,GEfectos!J295:P295),IF(EFECTOS!$N$9=\"GUATEMALA\",LOOKUP(3,GEfectos!$J$4:$P$4,GEfectos!J295:P295),IF(EFECTOS!$N$9=\"HONDURAS\",LOOKUP(4,GEfectos!$J$4:$P$4,GEfectos!J295:P295),IF(EFECTOS!$N$9=\"NICARAGUA\",LOOKUP(5,GEfectos!$J$4:$P$4,GEfectos!J295:P295),IF(EFECTOS!$N$9=\"REPÚBLICA \nDOMINICANA\",LOOKUP(6,$J$4:$P$4,J295:P295),IF(EFECTOS!$N$9=\"PANAMÁ\",LOOKUP(7,GEfectos!$J$4:$P$4,GEfectos!J295:P295))))))))","v":183.13879228589582},{"$f":"IF(EFECTOS!$N$9=\"COSTA RICA\",LOOKUP(1,GEfectos!$Q$4:$W$4,GEfectos!Q295:W295),IF(EFECTOS!$N$9=\"EL SALVADOR\",LOOKUP(2,GEfectos!$Q$4:$W$4,GEfectos!Q295:W295),IF(EFECTOS!$N$9=\"GUATEMALA\",LOOKUP(3,GEfectos!$Q$4:$W$4,GEfectos!Q295:W295),IF(EFECTOS!$N$9=\"HONDURAS\",LOOKUP(4,GEfectos!$Q$4:$W$4,GEfectos!Q295:W295),IF(EFECTOS!$N$9=\"NICARAGUA\",LOOKUP(5,GEfectos!$Q$4:$W$4,GEfectos!Q295:W295),IF(EFECTOS!$N$9=\"REPÚBLICA \nDOMINICANA\",LOOKUP(6,$Q$4:$W$4,Q295:W295),IF(EFECTOS!$N$9=\"PANAMÁ\",LOOKUP(7,GEfectos!$Q$4:$W$4,GEfectos!Q295:W295))))))))","v":207.80771250545214},100]
[null,{"$f":"'ITCER GLOBAL'!B296","v":"Marzo"},{"$f":"'ITCER GLOBAL'!C296","v":87.693971753647006},{"$f":"'ITCER GLOBAL'!D296","v":105.42801358581917},{"$f":"'ITCER GLOBAL'!E296","v":54.611000713893269},{"$f":"'ITCER GLOBAL'!F296","v":84.971838923182375},{"$f":"'ITCER GLOBAL'!G296","v":113.91545721643404},{"$f":"'ITCER GLOBAL'!H296","v":132.2009330116262},{"$f":"'ITCER GLOBAL'!I296","v":89.180617099656018},{"$f":"'ITCER GLOBAL'!S296","v":181.06950359951566},{"$f":"'ITCER GLOBAL'!T296","v":87.88934371617276},{"$f":"'ITCER GLOBAL'!U296","v":87.949820469384917},{"$f":"'ITCER GLOBAL'!V296","v":152.39213780586093},{"$f":"'ITCER GLOBAL'!W296","v":228.31995780958005},{"$f":"'ITCER GLOBAL'!X296","v":290.96938482150154},{"$f":"'ITCER GLOBAL'!Y296","v":91.817254489721122},{"$f":"'ITCER GLOBAL'!AA296","v":206.47884909145463},{"$f":"'ITCER GLOBAL'!AB296","v":83.364317250111313},{"$f":"'ITCER GLOBAL'!AC296","v":161.04780963482716},{"$f":"'ITCER GLOBAL'!AD296","v":179.34428598588877},{"$f":"'ITCER GLOBAL'!AE296","v":200.42930379130448},{"$f":"'ITCER GLOBAL'!AF296","v":220.09631716889069},{"$f":"'ITCER GLOBAL'!AG296","v":102.95651395540216},null,{"$f":"IF(EFECTOS!$N$9=\"COSTA RICA\",LOOKUP(1,GEfectos!$C$4:$I$4,GEfectos!C296:I296),IF(EFECTOS!$N$9=\"EL SALVADOR\",LOOKUP(2,GEfectos!$C$4:$I$4,GEfectos!C296:I296),IF(EFECTOS!$N$9=\"GUATEMALA\",LOOKUP(3,GEfectos!$C$4:$I$4,GEfectos!C296:I296),IF(EFECTOS!$N$9=\"HONDURAS\",LOOKUP(4,GEfectos!$C$4:$I$4,GEfectos!C296:I296),IF(EFECTOS!$N$9=\"NICARAGUA\",LOOKUP(5,GEfectos!$C$4:$I$4,GEfectos!C296:I296),IF(EFECTOS!$N$9=\"REPÚBLICA \nDOMINICANA\",LOOKUP(6,$C$4:$I$4,C296:I296),IF(EFECTOS!$N$9=\"PANAMÁ\",LOOKUP(7,GEfectos!$C$4:$I$4,GEfectos!C296:I296))))))))","v":87.693971753647006},{"$f":"IF(EFECTOS!$N$9=\"COSTA RICA\",LOOKUP(1,GEfectos!$J$4:$P$4,GEfectos!J296:P296),IF(EFECTOS!$N$9=\"EL SALVADOR\",LOOKUP(2,GEfectos!$J$4:$P$4,GEfectos!J296:P296),IF(EFECTOS!$N$9=\"GUATEMALA\",LOOKUP(3,GEfectos!$J$4:$P$4,GEfectos!J296:P296),IF(EFECTOS!$N$9=\"HONDURAS\",LOOKUP(4,GEfectos!$J$4:$P$4,GEfectos!J296:P296),IF(EFECTOS!$N$9=\"NICARAGUA\",LOOKUP(5,GEfectos!$J$4:$P$4,GEfectos!J296:P296),IF(EFECTOS!$N$9=\"REPÚBLICA \nDOMINICANA\",LOOKUP(6,$J$4:$P$4,J296:P296),IF(EFECTOS!$N$9=\"PANAMÁ\",LOOKUP(7,GEfectos!$J$4:$P$4,GEfectos!J296:P296))))))))","v":181.06950359951566},{"$f":"IF(EFECTOS!$N$9=\"COSTA RICA\",LOOKUP(1,GEfectos!$Q$4:$W$4,GEfectos!Q296:W296),IF(EFECTOS!$N$9=\"EL SALVADOR\",LOOKUP(2,GEfectos!$Q$4:$W$4,GEfectos!Q296:W296),IF(EFECTOS!$N$9=\"GUATEMALA\",LOOKUP(3,GEfectos!$Q$4:$W$4,GEfectos!Q296:W296),IF(EFECTOS!$N$9=\"HONDURAS\",LOOKUP(4,GEfectos!$Q$4:$W$4,GEfectos!Q296:W296),IF(EFECTOS!$N$9=\"NICARAGUA\",LOOKUP(5,GEfectos!$Q$4:$W$4,GEfectos!Q296:W296),IF(EFECTOS!$N$9=\"REPÚBLICA \nDOMINICANA\",LOOKUP(6,$Q$4:$W$4,Q296:W296),IF(EFECTOS!$N$9=\"PANAMÁ\",LOOKUP(7,GEfectos!$Q$4:$W$4,GEfectos!Q296:W296))))))))","v":206.47884909145463},100]
[null,{"$f":"'ITCER GLOBAL'!B297","v":"Abril"},{"$f":"'ITCER GLOBAL'!C297","v":87.004398609984563},{"$f":"'ITCER GLOBAL'!D297","v":105.89890062550528},{"$f":"'ITCER GLOBAL'!E297","v":54.228365341975866},{"$f":"'ITCER GLOBAL'!F297","v":84.646978851435023},{"$f":"'ITCER GLOBAL'!G297","v":113.91905983664306},{"$f":"'ITCER GLOBAL'!H297","v":131.9294725081559},{"$f":"'ITCER GLOBAL'!I297","v":89.241383827459842},{"$f":"'ITCER GLOBAL'!S297","v":179.7960696985073},{"$f":"'ITCER GLOBAL'!T297","v":87.97058738554307},{"$f":"'ITCER GLOBAL'!U297","v":87.48079760486533},{"$f":"'ITCER GLOBAL'!V297","v":152.48610714638221},{"$f":"'ITCER GLOBAL'!W297","v":229.52168233147873},{"$f":"'ITCER GLOBAL'!X297","v":290.61470865186789},{"$f":"'ITCER GLOBAL'!Y297","v":91.760735680123787},{"$f":"'ITCER GLOBAL'!AA297","v":206.65170103006039},{"$f":"'ITCER GLOBAL'!AB297","v":83.070349990352724},{"$f":"'ITCER GLOBAL'!AC297","v":161.31925986186823},{"$f":"'ITCER GLOBAL'!AD297","v":180.14359072875183},{"$f":"'ITCER GLOBAL'!AE297","v":201.47785863103755},{"$f":"'ITCER GLOBAL'!AF297","v":220.28035368207969},{"$f":"'ITCER GLOBAL'!AG297","v":102.82307573528317},null,{"$f":"IF(EFECTOS!$N$9=\"COSTA RICA\",LOOKUP(1,GEfectos!$C$4:$I$4,GEfectos!C297:I297),IF(EFECTOS!$N$9=\"EL SALVADOR\",LOOKUP(2,GEfectos!$C$4:$I$4,GEfectos!C297:I297),IF(EFECTOS!$N$9=\"GUATEMALA\",LOOKUP(3,GEfectos!$C$4:$I$4,GEfectos!C297:I297),IF(EFECTOS!$N$9=\"HONDURAS\",LOOKUP(4,GEfectos!$C$4:$I$4,GEfectos!C297:I297),IF(EFECTOS!$N$9=\"NICARAGUA\",LOOKUP(5,GEfectos!$C$4:$I$4,GEfectos!C297:I297),IF(EFECTOS!$N$9=\"REPÚBLICA \nDOMINICANA\",LOOKUP(6,$C$4:$I$4,C297:I297),IF(EFECTOS!$N$9=\"PANAMÁ\",LOOKUP(7,GEfectos!$C$4:$I$4,GEfectos!C297:I297))))))))","v":87.004398609984563},{"$f":"IF(EFECTOS!$N$9=\"COSTA RICA\",LOOKUP(1,GEfectos!$J$4:$P$4,GEfectos!J297:P297),IF(EFECTOS!$N$9=\"EL SALVADOR\",LOOKUP(2,GEfectos!$J$4:$P$4,GEfectos!J297:P297),IF(EFECTOS!$N$9=\"GUATEMALA\",LOOKUP(3,GEfectos!$J$4:$P$4,GEfectos!J297:P297),IF(EFECTOS!$N$9=\"HONDURAS\",LOOKUP(4,GEfectos!$J$4:$P$4,GEfectos!J297:P297),IF(EFECTOS!$N$9=\"NICARAGUA\",LOOKUP(5,GEfectos!$J$4:$P$4,GEfectos!J297:P297),IF(EFECTOS!$N$9=\"REPÚBLICA \nDOMINICANA\",LOOKUP(6,$J$4:$P$4,J297:P297),IF(EFECTOS!$N$9=\"PANAMÁ\",LOOKUP(7,GEfectos!$J$4:$P$4,GEfectos!J297:P297))))))))","v":179.7960696985073},{"$f":"IF(EFECTOS!$N$9=\"COSTA RICA\",LOOKUP(1,GEfectos!$Q$4:$W$4,GEfectos!Q297:W297),IF(EFECTOS!$N$9=\"EL SALVADOR\",LOOKUP(2,GEfectos!$Q$4:$W$4,GEfectos!Q297:W297),IF(EFECTOS!$N$9=\"GUATEMALA\",LOOKUP(3,GEfectos!$Q$4:$W$4,GEfectos!Q297:W297),IF(EFECTOS!$N$9=\"HONDURAS\",LOOKUP(4,GEfectos!$Q$4:$W$4,GEfectos!Q297:W297),IF(EFECTOS!$N$9=\"NICARAGUA\",LOOKUP(5,GEfectos!$Q$4:$W$4,GEfectos!Q297:W297),IF(EFECTOS!$N$9=\"REPÚBLICA \nDOMINICANA\",LOOKUP(6,$Q$4:$W$4,Q297:W297),IF(EFECTOS!$N$9=\"PANAMÁ\",LOOKUP(7,GEfectos!$Q$4:$W$4,GEfectos!Q297:W297))))))))","v":206.65170103006039},100]

{"sheet":"METODOLOGIA","index":11,"n_rows":95,"n_cols":2,"rows_kept":95,"cut":false,"hidden":false,"merged":[[2,0,2,10]]}
["SECRETARÍA EJECUTIVA"]
["CONSEJO MONETARIO CENTROAMERICANO"]
["SECRETARÍA EJECUTIVA"]
[]
[]
[]
[]
[]
[]
[]
[]
[]
[]
[]
[]
[]
[]
[]
[]
[]
[]
[]
[]
[]
[]
[]
[]
[]
[]
[]
[]
[]
[]
[]
[]
[]
[]
[]
[]
[]
[]
[]
[]
[]
[]
[]
[]
[]
[]
[]
[]
[]
[]
[]
[]
[]
[]
[]
[]
[]
[]
[]
[]
[]
[]
[]
[]
[]
[]
[]
[]
[]
[]
[]
[]
[]
[]
[]
[]
[]
[]
[]
[]
[]
[]
[]
[]
[]
[]
[]
[]
[]
[null,"El documento metodológico se puede consultar en el siguiente enlace:"]
[]
[null,"http://www.secmca.org/nota/propuesta-de-actualizacion-del-indice-de-tipo-de-cambio-efectivo-real-itcer/"]