{"text_format":"1","workbook":"xlsx","n_sheets":12,"sheets":["PORTADA","INDICE","PRECIOS","TIPO CAMBIO","ITCER GLOBAL","ITCER RESTOM","ITCER REGION","ITCER BILATERAL","GRAFICOS","EFECTOS","GEfectos","METODOLOGIA"],"not_rendered":{"charts":5,"images":6,"macros":1,"external_links":2,"defined_names":53,"comments":4,"pivot_tables":0},"unopened":[],"bounds":{"document_bytes":16777216,"sheet_cells":100000,"rows_first":2000,"rows_last":500,"rows_between":2000,"halvings":0,"cell_chars":16384,"cell_head_chars":4096},"cells_cut":0,"cells_raw":0,"read":"whole","date_system":"1900"}

{"sheet":"PORTADA","index":0,"n_rows":0,"n_cols":0,"rows_kept":0,"cut":false,"hidden":false,"merged":[]}

{"sheet":"INDICE","index":1,"n_rows":42,"n_cols":14,"rows_kept":42,"cut":false,"hidden":false,"merged":[[10,1,10,11],[3,1,3,11],[4,1,4,11],[9,0,9,11],[41,1,41,10],[14,8,14,10],[11,1,11,11],[39,2,40,10]]}
[null,null,null,null,null,null,null,null,null,null,null,null,{"$f":"INDEX('ITCER GLOBAL'!B6:B10062,COUNT('ITCER GLOBAL'!C:C))","v":"Enero"},{"$f":"YEAR(TODAY())","v":2021}]
[]
[null,null,null,null,null,null,null,null,null,null,null,null,2017]
[null,"Secretaría Ejecutiva"]
[null,"Consejo Monetario Centroamericano"]
[]
[]
[]
[]
["  ÍNDICE DEL TIPO DE CAMBIO EFECTIVO REAL (ITCER)"]
[null,"Periodo de referencia Diciembre 2000=100"]
[null,"Ponderaciones móviles"]
[]
[]
[null,"REPORTE CORRESPONDIENTE AL MES DE",null,null,null,null,null,null,{"$f":"CONCATENATE( INDEX('ITCER GLOBAL'!B6:B10062,COUNT('ITCER GLOBAL'!C:C)), \" 2021\")","v":"Enero 2021"}]
[]
[]
[]
[null,"CONTENIDO:"]
[]
[null,null,null,"Índices de Precios"]
[]
[null,null,null,"Tipos de cambio (moneda nacional por US$)"]
[]
[null,null,null,"ITCER (incluye efecto tipo de cambio y efecto precio)"]
[null,null,null,null,"Global"]
[]
[null,null,null,null,"Resto del Mundo"]
[]
[null,null,null,null,"Región CAPARD"]
[]
[null,null,null,null,"Bilateral con USA"]
[]
[null,null,null,"Gráficos"]
[null,null,null,null,"ITCER Global, Resto del Mundo, CAPARD y Bilateral"]
[null,null,null,null,"Efecto Precio y Efecto Tipo de Cambio"]
[]
[null,null,null,"Metodología"]
[]
[null,null,"Nota: Las ponderaciones del aporte de los socios comerciales al total del comercio de cada país para 2019, están con base a la última información disponible de 2017, provenientes de la biblioteca electrónica del Fondo Monetario Internacional; por lo tanto, los datos estimados del ITCER de enero de 2019 están sujetos a cambios."]
[]
[null,"ADVERTENCIA\n\n   El Consejo Monetario Centroamericano y su Secretaría Ejecutiva autorizan la reproducción total de los gráficos y cifras de esta publicación, siempre que se mencione la fuente. No  obstante, no asumen responsabilidad legal alguna o de cualquier otra índole, por la manipulación, interpretación personal y uso de dicha información.   \nDerechos Reservados © 2019"]

{"sheet":"PRECIOS","index":2,"n_rows":336,"n_cols":19,"rows_kept":336,"cut":false,"hidden":false,"merged":[[3,0,3,18],[333,0,333,18],[4,2,4,8],[4,9,4,18],[332,0,332,18]]}
[]
["Secretaría Ejecutiva"]
["Consejo Monetario Centroamericano"]
["ÍNDICE DE PRECIOS AL CONSUMIDOR (NIVEL)"]
[null,null,"REGIÓN CAPARD 1/",null,null,null,null,null,null,"RESTO DEL MUNDO"]
["Año","MES","COSTA RICA ","EL SALVADOR ","GUATEMALA ","HONDURAS","NICARAGUA ","REPÚBLICA\nDOMINICANA","PANAMÁ","BRASIL","CANADÁ","CHINA","COLOMBIA","COREA DEL SUR","HAITÍ","JAPÓN","MÉXICO","ESTADOS UNIDOS","ZONA \nEURO"]
[null,"periodo base","Junio 2015","Diciembre 2009","Diciembre 2010","Diciembre 1999",2006,"Diciembre 2010",2013,"Diciembre 1993",2002,"Mes anterior =100 (total)","Diciembre 2008",2010,2004,2010,"2º Q de diciembre 2010","1982-84",2015]
["Año","MES","2006=100","2009=100","2010=100","1999=100","2006=100","2010=100","2015=100",null,"2002=100",null,null,null,null,"2005=100","2010=100","1982-84=100","2015=100"]
[1995,"Enero",15.69875,56.55,34.050545768222676,44.74710931403844,35.130000000000003,21.861608871493008,62.108547346853165,1033.7122222991832,86.6,71.371548919640702,26.63043,53.600999999999999,1,97.8,20.468620185776,150.30000000000001,69.426976744186035]
[null,"Febrero",15.9312,57.17,33.938049357674089,46.960346172944597,35.42,21.947226293050324,62.108547346853165,1044.2560869666347,87,72.020212025572505,27.569849999999999,53.82,1,97.5,21.336132926013999,150.9,69.786329625884733]
[null,"Marzo",15.00356055,57.81,34.100917638324049,47.62006100588777,35.619999999999997,22.126693580545474,62.283173065729045,1060.4420563146177,87.2,72.221958404143393,28.29186,54.368000000000002,1,97.4,22.593921331191002,151.4,70.001941354903934]
[null,"Abril",15.08861488,58.17,34.362748653518686,48.840178761438601,35.61,22.095880717292701,62.399590211646291,1086.210798283063,87.5,73.518305413935394,28.92475,54.695999999999998,1,97.7,24.39428249881,151.9,70.14568250758343]
[null,"Mayo",15.220586389999999,58.58,34.869639937849023,49.726892246577286,35.86,22.189965795927115,62.574215930522172,1115.2126265972208,87.7,74.127217771303705,29.40409,54.805999999999997,1,97.9,25.413863095033001,152.19999999999999,70.217553083923164]
[null,"Junio",15.447868059999999,59.09,35.310052524258055,50.1879832588494,36.520000000000003,22.330152563092401,62.690633076439418,1140.4164319583181,87.7,73.511945456016804,29.75967,54.643000000000001,1,97.8,26.220434064532,152.5,70.43316481294238]
[null,"Julio",15.70886883,60.63,35.384468703517065,50.861885507554796,36.96,22.477630923851848,62.748841649398038,1167.3302597525344,87.9,72.899234442016706,29.991510000000002,54.805999999999997,1,97.3,26.754964051499002,152.5,70.43316481294238]
[null,"Agosto",15.8833675,61.05,35.599627809580525,51.500319216854649,36.369999999999997,22.730719785378426,62.865258795315285,1178.8868293240846,87.7,74.118329691672699,30.18243,55.134999999999998,1,97.4,27.198750022412,152.9,70.505035389282099]
[null,"Septiembre",16.178096709999998,61.86,35.800002603690245,52.592750230545505,36.75,23.082597979471146,62.807050222356665,1190.5578089343931,87.8,76.0970097920207,30.436859999999999,55.628,1,98,20.855640000000001,153.19999999999999,70.092169999999996]
[null,"Octubre",16.66052268,62.14,36.301435675146031,53.571681918138616,38.159999999999997,23.24983420674382,62.690633076439418,1207.3446740403681,87.7,76.143661892045003,30.707149999999999,55.354999999999997,1,97.7,21.284759999999999,153.69999999999999,70.092169999999996]
[null,"Noviembre",17.054970749999999,62.41,36.778196516696518,54.316521245655103,39.25,23.463407335243943,62.690633076439418,1225.0926407487614,88,76.067730031560998,30.95091,55.244999999999997,1,97.4,21.809609999999999,153.6,70.163480000000007]
[null,"Diciembre",17.25145689,62.480000000000018,36.960883290715785,55.153578775626023,38.880000000000003,17.306229249077461,62.923467368273911,1244.2040859444421,87.8,76.374699360686193,31.237089999999998,55.628,1,97.4,22.52017,153.5,70.306079999999994]
[1996,"Enero",17.469939839999999,63.45000000000001,37.373812776918172,55.430233382989279,39.06,17.292899586953652,62.923467368273911,1260.8764206960977,88,77.794988265760296,32.022440000000003,56.176000000000002,1,97.3,23.329750000000001,154.4,70.97]
[null,"Febrero",17.648837870000001,63.600000000000016,37.613463488843799,57.005036532595589,39.46,17.31471176133806,62.923467368273911,1273.8634478292674,88.1,78.718091769847007,33.307290000000002,56.396999999999998,1,97.1,23.87426,154.9,71.290000000000006]
[null,"Marzo",17.74708094,63.910000000000011,38.014137695180906,57.884656309853156,39.78,17.339120623149185,63.098093087149799,1278.32196989667,88.5,79.299710285667999,34.009390000000003,56.78,1,97.3,24.399830000000001,155.69999999999999,71.540000000000006]
[null,"Abril",17.881985360000002,64.150000000000034,38.467849539665167,59.076399233879542,40.11,17.360413460048253,63.214510233067038,1294.4288267173679,88.7,80.649581613660303,34.681759999999997,57.162999999999997,1,97.9,25.093450000000001,156.30000000000001,71.66]
[null,"Mayo",18.181113929999999,64.629999999999981,38.710684004637017,60.310704405192595,40.799999999999997,17.399883108934322,63.098093087149799,1310.2208584033197,89,80.724539936877903,35.220390000000002,57.491999999999997,1,98.1,25.550840000000001,156.6,71.83]
[null,"Junio",18.42892595,65.689999999999984,38.959603474207029,61.828757891750016,40.950000000000003,17.459606919748776,63.039884514191165,1325.8124866183191,89,79.833973456340502,35.624160000000003,57.491999999999997,1,97.8,25.966899999999999,156.69999999999999,71.84]
[null,"Julio",18.64447599,65.69,39.48919130180392,63.240405760090802,41.06,17.504443055983394,63.214510233067045,1340.5290052197827,89,78.949870518734301,36.162280000000003,57.765999999999998,1,97.7,26.336030000000001,157,71.84]
[null,"Agosto",18.82337403,67.654657959752427,39.880694001019094,65.013832730368165,40.74,17.532660392687031,63.330927378984306,1346.4273328427496,89,80.121914704216195,36.561300000000003,58.039000000000001,1,97.6,26.686070000000001,157.30000000000001,71.8]
[null,"Septiembre",18.994930449999998,67.25247831801218,40.013594581626023,66.120451159821243,41.16,17.628391602485273,63.505553097860172,1348.4469738420139,89.1,81.728188880796296,36.996609999999997,58.15,1,98,27.112749999999998,157.80000000000001,71.930000000000007]
[null,"Octubre",19.241276020000001,67.277994483835087,40.162960131678034,67.092289139533221,42.22,17.668553701351804,63.796595962653299,1352.4923147635398,89.3,81.473718540098702,37.423439999999999,58.15,1,98.2,27.451170000000001,158.30000000000001,72]
[null,"Noviembre",19.4377715,66.891660514812045,40.619072212036251,68.418812513300693,42.82,17.784365960583308,63.854804535611926,1356.8202901707832,89.7,81.316402848587899,37.723979999999997,58.15,1,97.9,27.867080000000001,158.6,72.010000000000005]
[null,"Diciembre",19.647455730000001,67.080000000000013,40.97274387199095,69.177839256579404,43.59,17.989677379788937,64.378681692239553,1363.1973455345858,89.7,81.720928218823403,37.996510000000001,58.368000000000002,1,98,28.759340000000002,158.6,72.19]
[1997,"Enero",20.052159639999999,67.61,41.411426899632318,70.589487124920197,43.49,18.494646528037517,64.20405597336368,1379.283074211894,89.9,82.384892773326897,38.62612,58.808,1,97.9,29.498889999999999,159.1,72.42]
[null,"Febrero",20.178265329999999,68.54000000000002,42.375971940500321,72.29907072426758,43.48,18.47162256618731,64.20405597336368,1386.1794895829532,90.1,83.126304928380705,39.831029999999998,59.136000000000003,1,97.7,29.994599999999998,159.6,72.59]
[null,"Marzo",20.398224070000001,68.670000000000016,42.388041065609535,72.845286231113008,43.45,18.49741632795935,64.14584740040506,1393.2490049798264,90.2,82.471698632354105,40.450159999999997,59.354999999999997,1,97.8,30.367889999999999,160,72.650000000000006]
[null,"Abril",20.67095647,68.710000000000022,42.365883546308673,73.270908703979572,43.6,18.657372273445016,63.971221681529194,1405.5095962236487,90.2,83.230368212349305,41.10718,59.628999999999998,1,99.8,30.695969999999999,160.19999999999999,72.599999999999994]
[null,"Mayo",20.776531810000002,68.559999999999988,42.432666058573098,74.193090728523799,43.93,18.692167884963002,64.145847400405074,1411.2721855681657,90.3,82.984827223436099,41.774349999999998,59.683999999999997,1,100,30.976120000000002,160.1,72.8]
[null,"Junio",20.93929885,68.819999999999979,42.45385438373264,75.150741292473583,44.83,18.773357645171636,64.204055973363694,1418.8930553702339,90.5,82.069324269644696,42.276919999999997,59.792999999999999,1,100,31.250959999999999,160.30000000000001,72.83]
[null,"Julio",21.119654000000001,69.36,42.641494028609358,76.200610058877771,45.59,19.129623160116989,64.320473119280948,1422.0146200920485,90.5,81.081517358582204,42.630099999999999,59.902999999999999,1,99.6,31.523209999999999,160.5,72.900000000000006]
[null,"Agosto",21.35426794,68.894560056561374,43.090199489159261,77.144073207065333,45.33,19.24733965679475,64.320473119280948,1421.7302171680301,90.6,81.644230800356098,43.119900000000001,60.341000000000001,1,99.7,31.8035,160.80000000000001,73.02]
[null,"Septiembre",21.26922295,68.672530648295847,43.34719806294131,77.38525927502306,44.95,19.368864628365028,64.378681692239581,1422.5832552983309,90.6,83.199295945617905,43.66319,60.616999999999997,1,100.4,32.19961,161.19999999999999,73.069999999999993]
[null,"Octubre",21.305884299999999,68.447959607885139,43.568969638914048,77.179541746470875,45.18,19.431358239101314,64.087638827446455,1425.8551967855169,90.6,82.695824229181795,44.084960000000002,60.616999999999997,1,100.7,32.456940000000003,161.6,73.09]
[null,"Noviembre",21.66367103,68.371697255160711,43.730077997614664,77.775413208484082,46.49,19.462172263231668,64.029430254487835,1428.2791506200524,90.5,82.210883709638196,44.443390000000001,60.67,1,100,32.820039999999999,161.5,73.180000000000007]
[null,"Diciembre",21.848425540000001,68.38000000000001,43.892343056299588,77.945662197630696,46.75,19.494717412313165,64.087638827446455,1434.4207509677185,90.4,82.047812575867894,44.715890000000002,62.204999999999998,1,99.8,33.279870000000003,161.30000000000001,73.260000000000005]
[1998,"Enero",22.19594708,69.22,44.429284634943016,78.591189614811668,47.04,19.512894224300172,64.320473119280962,1444.6051382995895,90.9,82.632047422513594,45.517780000000002,63.685000000000002,1,99.7,34.003929999999997,161.6,73.2]
[null,"Febrero",22.420295849999999,69.40000000000002,44.684753211629463,80.541959282116764,47.69,19.501122574632394,64.145847400405074,1451.2503219357675,91,83.043178765072398,47.012819999999998,64.781999999999996,1,99.6,34.599240000000002,161.9,73.400000000000006]
[null,"Marzo",22.65637624,69.700000000000017,44.976149568821739,81.903951195289764,48.2,19.469096763036241,64.262264546322342,1456.1845730303492,91.1,83.049000566480501,48.235880000000002,64.671999999999997,1,100,35.004530000000003,162.19999999999999,73.459999999999994]
[null,"Abril",22.838207180000001,70.560000000000031,45.306233235250915,83.322692771511669,49.2,19.44607280118603,64.204055973363708,1459.679416005622,91,82.980676539613199,49.636809999999997,64.891000000000005,1,100.2,35.332039999999999,162.5,73.61]
[null,"Mayo",23.011230059999999,70.929999999999993,45.538631611231864,84.315811874866981,50.19,19.531936598762751,64.320473119280962,1466.97781308565,91.3,82.154979363923303,50.41245,64.561999999999998,1,100.5,35.613480000000003,162.80000000000001,73.760000000000005]
[null,"Junio",23.195993909999999,70.999999999999986,45.606445204326853,85.798396822018859,51.15,19.634419195870453,64.495098838156849,1467.2712086482672,91.4,81.002422918183996,51.027990000000003,64.287999999999997,1,100.1,36.034419999999997,163,73.8]
[null,"Julio",23.59043264,71.31,45.742034805877751,87.493793005604033,50.69,19.75871396736256,64.553307411115469,1465.5104831978895,91.4,79.946376143076805,51.271970000000003,64.287999999999997,1,99.5,36.381880000000002,163.19999999999999,73.83]
[null,"Agosto",24.06699279,70.434438467114404,45.807925910568272,87.621479747464008,50.43,19.804069441082522,64.553307411115469,1458.0363797335801,91.4,80.501211459092005,51.288609999999998,64.507000000000005,1,99.4,36.731630000000003,163.4,73.849999999999994]
[null,"Septiembre",23.973149079999999,69.712568974700787,45.728343406737949,87.883946939065055,50.57,19.933384474932947,64.902558848867216,1454.8286996981662,91.2,81.951306951525396,51.437350000000002,64.781999999999996,1,100.2,37.327379999999998,163.6,73.790000000000006]
[null,"Octubre",24.047928890000001,69.757920558744587,45.732665648070046,88.373412782861593,51.77,20.371705312562501,65.018975994784469,1455.1196654381058,91.6,81.786169782309599,51.620890000000003,65,1,100.9,37.862270000000002,164,73.77]
[null,"Noviembre",24.364664250000001,71.301769991121233,46.944611429967729,89.487124920195782,54.83,20.742339164602342,65.018975994784469,1453.37352183958,91.6,81.224352998300603,51.712470000000003,64.781999999999996,1,100.8,38.532789999999999,164,73.77]
[null,"Diciembre",24.547952299999999,71.260000000000019,47.174303841497597,90.139746045257851,55.38,21.019146044290203,64.960767421825835,1458.1696544616507,91.3,81.227334304442806,52.184809999999999,64.671999999999997,1,100.4,39.472969999999997,163.9,73.81]
[1999,"Enero",24.98931756,71.39,47.224555950668204,91.686174363339717,55.2,20.908007822426782,65.018975994784469,1468.3768420428821,91.5,81.640462895524806,53.337609999999998,64.617000000000004,1,99.9,40.469769999999997,164.3,73.760000000000005]
[null,"Febrero",25.171148500000001,71.220000000000013,46.993534482758598,92.473575938142858,55,20.851556201306231,65.018975994784469,1483.7947988843323,91.6,81.963617382859894,54.24344,64.891000000000005,1,99.5,41.013640000000002,164.5,73.94]
[null,"Marzo",25.077304789999999,71.070000000000007,46.772296870051008,92.750230545506128,53.95,20.960277841982851,65.135393140701737,1500.1165416720598,92,81.554118313506507,54.752220000000001,65,1,99.6,41.394680000000001,165,74.150000000000006]
[null,"Abril",25.108090990000001,70.67000000000003,46.879941519473526,93.069447400156065,54.15,21.014638662321165,65.193601713660357,1508.5171943054233,92.5,81.155101561867795,55.181370000000001,65.164000000000001,1,100.1,41.77458,166.2,74.400000000000006]
[null,"Mayo",25.311918729999999,70.199999999999989,47.236559446685312,93.80009931191033,54.88,21.004184658409947,65.193601713660357,1513.0427458883394,92.7,80.347569798494803,55.445430000000002,65.055000000000007,1,100.1,42.025880000000001,166.2,74.45]
[null,"Junio",25.66383965,70.149999999999991,47.532165705576517,94.920905157125617,55.31,20.889190615386603,65.310018859577596,1515.9175271055271,92.9,79.301372501416196,55.60033,64.671999999999997,1,99.8,42.302010000000003,166.2,74.45]
[null,"Julio",25.728354280000001,70.55,48.128260679535053,95.65155706887991,55.76,20.836920595830531,65.42643600549485,1532.4410281509772,93.1,78.827126325159796,55.773820000000001,64.451999999999998,1,99.4,42.581580000000002,166.7,74.58]
[null,"Agosto",25.880856139999999,70.534430571695779,48.572241927772865,96.438958643683051,56.66,20.895463017733327,65.484644578453469,1541.0226979086228,93.3,79.4546961236546,56.049959999999999,65.111000000000004,1,99.7,42.821249999999999,167.1,74.67]
[null,"Septiembre",26.050946110000002,70.722606195536372,48.834185159516167,97.141235723912885,57.41,20.979095049023037,65.484644578453469,1545.7998682721397,93.6,81.295696366431997,56.235390000000002,65.275000000000006,1,100,43.235019999999999,167.9,74.709999999999994]
[null,"Octubre",26.433662550000001,71.117880019178827,49.195614523968054,98.027949209051584,58.45,21.715056924372458,65.542853151412103,1564.1948867045783,93.7,81.295452779800897,56.432020000000001,65.768000000000001,1,100.2,43.508850000000002,168.2,74.739999999999995]
[null,"Noviembre",26.68147458,70.801757578841276,49.361981982155953,98.964318649358006,59.06,22.026586240926619,65.659270297329343,1579.0547381282718,93.6,80.493333333333297,56.702249999999999,65.658000000000001,1,99.6,43.895769999999999,168.3,74.84]
[null,"Diciembre",27.030462579999998,70.530000000000015,49.493418087189575,100,59.37,22.091401065176139,65.95031316212247,1588.5290665570415,93.7,80.415061098972203,57.002360000000003,65.548000000000002,1,99.3,44.335520000000002,168.3,75.09]
[2000,"Enero",27.51142209,71,49.714417993008603,100.49655955167766,59.89,22.16039749099015,65.948683322079674,1598.3779467696952,93.5,81.477181354697805,57.737290000000002,65.838999999999999,1,99.2,44.93083,168.8,75.13]
[null,"Febrero",27.910269530000001,71.350000000000009,50.104694895199444,102.01461303823507,61.16,22.170851494901363,65.89210458916385,1600.4558381004958,94.1,82.537362628469694,59.066429999999997,66.040000000000006,1,98.9,45.32938,169.8,75.37]
[null,"Marzo",28.099423399999999,71.410000000000011,50.644107190856467,102.97935731006598,61.76,22.160397490990146,66.29956459987423,1603.9768409443168,94.8,81.391010763130197,60.076970000000003,66.372,1,99.1,45.580680000000001,171.2,75.599999999999994]
[null,"Abril",28.00118033,71.470000000000027,51.129989221272098,104.3,62.13,22.175033096465846,66.241356026915597,1610.7135436762828,94.5,80.911636319495003,60.675409999999999,66.105999999999995,1,99.3,45.840020000000003,171.3,75.67]
[null,"Mayo",27.979183519999999,71.899999999999991,50.715240865663127,105.3,62.62,22.191759502723787,66.29956459987423,1610.8746150306504,94.9,80.427916970138398,60.991700000000002,65.772999999999996,1,99.4,46.011380000000003,171.5,75.760000000000005]
[null,"Junio",28.357500600000002,72.699999999999989,50.969473266946899,106.3,63.03,22.409202784077028,66.474190318750104,1614.5796266452207,95.5,79.697878935016604,60.979889999999997,66.105999999999995,1,99.2,46.283920000000002,172.4,76.040000000000006]
[null,"Julio",28.73141832,72.61,51.083867998099748,107,62.84,22.511652022406917,66.590607464667357,1640.5743586342087,95.8,79.221262442340404,60.956200000000003,66.372,1,98.9,46.464469999999999,172.8,76.14]
[null,"Agosto",28.920572190000001,72.914242660732285,50.860308743511503,107.5,62.92,22.768820518622768,66.415981745791484,1662.065882732317,95.7,79.693059804159603,61.148600000000002,66.703999999999994,1,99.2,46.71978,172.8,76.2]
[null,"Septiembre",29.03054689,73.062692429947504,50.930628342641455,107.7,63.18,23.644866046382447,66.707024610584625,1665.8886342626013,96.1,81.295696366431997,61.40907,67.569999999999993,1,99.1,47.061070000000001,173.7,76.5]
[null,"Octubre",29.21384428,73.047822488765647,51.084966302298056,108.3,63.87,23.707590069849726,66.532398891708738,1668.2208783505691,96.3,81.295452779800897,61.503050000000002,67.504000000000005,1,99.1,47.38514,174,76.52]
[null,"Noviembre",29.455790489999998,73.211817406030647,51.422182152971608,109.5,64.52,23.820493312090832,66.357773172832879,1673.559185161291,96.6,81.539746702274002,61.705030000000001,67.103999999999999,1,98.8,47.790289999999999,174.1,76.680000000000007]
[null,"Diciembre",29.80037913,73.560000000000016,52.009242916221488,110.1,65.22,24.08393421065341,66.415981745791498,1683.4331843537427,96.7,81.621286720077705,61.98903,67.37,1,98.9,48.307670000000002,174,76.959999999999994]
[2001,"Enero",30.214451539999999,74.889999999999986,52.720079545454531,111.1,65.69,24.686084835939297,66.415981745791498,1693.0287535045591,96.3,82.454908149227194,62.640439999999998,68.102999999999994,52.03,98.9,48.575479999999999,175.1,76.63]
[null,"Febrero",30.562981860000001,74.750000000000014,53.107102909482748,112.5,66.48,24.719537648455184,66.415981745791498,1700.8166857706799,96.8,82.537362628469694,63.826160000000002,68.435000000000002,52.47,98.6,48.543329999999997,175.8,76.86]
[null,"Marzo",31.085282289999999,74.90000000000002,53.388797293756411,113.5,66.489999999999995,24.614997609343053,66.532398891708752,1707.2797891766086,97.1,82.042138868657403,64.771569999999997,69.034999999999997,52.88,98.4,48.85089,176.2,77.27]
[null,"Abril",31.47529364,75.000000000000028,53.622334186393687,114.2,66.95,24.767626066446766,66.648816037626005,1717.1820119538329,97.8,82.206223193331695,65.514840000000007,69.301000000000002,53.17,98.6,49.09731,176.9,77.73]
[null,"Mayo",31.69070357,75.11999999999999,53.78291348668408,115.6,67.45,24.832440890696287,66.707024610584625,1724.2224582028437,98.6,81.795191389495798,65.78895,69.233999999999995,53.72,98.7,49.209969999999998,177.7,78.099999999999994]
[null,"Junio",31.77884959,75.22999999999999,54.178799851308987,116.3,67.88,24.692357238286029,66.241356026915639,1733.1884149854986,98.7,80.813649753176406,65.815470000000005,69.433999999999997,53.71,98.4,49.326360000000001,178,78.209999999999994]
[null,"Julio",31.972169310000002,75.2,54.64709641941181,116.9,67.61,24.633814816383232,66.299564599874259,1756.239820904806,98.4,80.409580804402395,65.887259999999998,69.566999999999993,53.69,98.1,49.1982,177.5,78.03]
[null,"Agosto",32.22640758,75.454042117098979,55.332927022739284,117.7,67.760000000000005,24.815714484438349,66.357773172832879,1768.5334996511394,98.4,80.489991098163003,66.058980000000005,69.832999999999998,54.19,98.5,49.489690000000003,177.5,77.97]
[null,"Septiembre",32.422286589999999,75.462780875497373,55.507412796384493,118.6,67.790000000000006,25.041520968920555,66.939858902419132,1773.4853934501625,98.6,81.214400744517306,66.304079999999999,69.766999999999996,55,98.3,49.950380000000003,178.3,78.180000000000007]
[null,"Octubre",32.419381710000003,74.457780458774664,55.922426879021131,118.8,67.91,25.104244992387834,66.939858902419132,1788.2053222157988,98.1,81.458044023630407,66.426910000000007,69.766999999999996,55.3,98.3,50.176139999999997,177.7,78.239999999999995]
[null,"Noviembre",32.707656649999997,75.42187226830805,56.313302343228585,119.4,68.23,25.079155383000924,66.648816037626005,1800.9015800035311,97.2,81.295127458120902,66.504549999999995,69.367999999999995,55.66,97.8,50.36515,177.4,78.19]
[null,"Diciembre",33.065321949999998,74.600000000000009,56.643266460056822,119.8,68.260000000000005,25.139788605685965,66.415981745791498,1812.6074402735539,97.4,81.376423080035593,66.728930000000005,69.501000000000005,56.28,97.7,50.434899999999999,176.7,78.540000000000006]
[2002,"Enero",33.435456780000003,75.519999999999982,57.385159090909077,120.2,68.430000000000007,25.281963058878464,66.939858902419132,1822.0329989629765,97.6,81.620551913895,67.260019999999997,69.900000000000006,56.55,97.5,50.900469999999999,177.1,78.63]
[null,"Febrero",33.585184519999999,75.760000000000019,57.891995150862058,121.5,68.98,25.292417062789674,66.881650329460513,1828.5923177592433,98.2,82.518378247147396,68.105199999999996,70.233000000000004,56.97,97,50.867750000000001,177.8,78.760000000000005]
[null,"Marzo",33.847661090000003,76.200000000000017,58.261708170850675,122.2,69.180000000000007,25.580947570739166,67.11448462129502,1839.5638716657988,98.9,81.445639718378203,68.587609999999998,70.632000000000005,57.66,97.2,51.127949999999998,178.8,79.209999999999994]
[null,"Abril",33.906664839999998,76.480000000000032,58.58409042439753,123.1,69.569999999999993,25.754484035665314,67.11448462129502,1854.2803826391253,99.5,81.201302095977994,69.215180000000004,71.031999999999996,57.85,97.5,51.407229999999998,179.8,79.56]
[null,"Mayo",34.119328670000002,76.45999999999998,58.791418049847877,123.7,69.89,25.662488801246631,66.998067475377766,1858.1743714426675,99.7,80.957698470502606,69.62961,71.298000000000002,58.12,97.8,51.511429999999997,179.8,79.709999999999994]
[null,"Junio",34.336541320000002,76.95999999999998,59.130150284105966,125.1,70.010000000000005,25.691760012198028,67.0562760483364,1865.9787038027266,99.9,80.229079064497896,69.928200000000004,71.230999999999995,58.62,97.7,51.76258,179.9,79.67]
[null,"Julio",34.840104770000003,77.09,59.61879647431833,126.1,70.12,25.794209250527921,67.172693194253654,1888.1838503779791,100.5,79.667475924577204,69.944000000000003,71.031999999999996,59.21,97.3,51.911180000000002,180.1,79.59]
[null,"Agosto",35.253000270000001,76.793936318489301,59.608109465891054,126.9,70.2,26.024197336574609,67.405527486088147,1900.4570454054358,100.9,79.906478109573499,70.010009999999994,71.498000000000005,60.07,97.6,52.108559999999997,180.7,79.64]
[null,"Septiembre",35.393041949999997,76.532820307471709,59.449567663775056,127.1,70.53,26.390087473467077,67.347318913129527,1914.1403361323551,100.9,80.705542607428995,70.262200000000007,71.897999999999996,60.8,97.6,52.421979999999998,181,79.84]
[null,"Octubre",35.625927900000001,76.627715774320478,59.614877644770687,127.8,70.58,27.157411360550139,67.5219446320054,1939.215574535689,101.2,80.866953953224893,70.655050000000003,71.697000000000003,62.15,97.4,52.653030000000001,181.3,80.03]
[null,"Noviembre",35.9939331,76.481898582341557,59.886191030871551,128.6,70.44,27.28704100904919,67.589466576637406,1997.7798848866669,101.5,80.786087238002807,71.204920000000001,71.763999999999996,63.1,97.4,53.078879999999998,181.3,79.97]
[null,"Diciembre",36.267020440000003,76.69,60.226703296984489,129.5,70.900000000000006,27.782560794440705,67.454422687373395,2039.7332624692867,101.1,81.028445415553904,71.395129999999995,72.096000000000004,64.83,97.4,53.309930000000001,180.9,80.36]
[2003,"Enero",36.501961299999998,77.59999999999998,60.94247727272726,130.6,71.569999999999993,28.696240736280757,67.589466576637406,2085.6272608748454,102,81.919758031884797,72.233410000000006,72.563999999999993,69.260000000000005,97.1,53.525440000000003,181.7,80.3]
[null,"Febrero",36.798670680000001,77.79000000000002,61.366242995689639,132.30000000000001,72.62,29.837817963385262,67.589466576637406,2118.3716088705805,102.8,82.657035688273893,73.035579999999996,72.962000000000003,71.75,96.8,53.674120000000002,183.1,80.62]
[null,"Marzo",37.036899390000002,78.02000000000001,61.626460932302109,132.80000000000001,72.77,30.36679056129266,67.656988521269412,2144.4275796596885,103.1,82.161094116694997,73.800349999999995,73.828000000000003,74.069999999999993,97.1,54.012929999999997,184.2,81.08]
[null,"Abril",37.393462509999999,77.990000000000023,61.907530923437832,133.5,72.62,30.454604194146849,67.656988521269412,2165.2285271823876,102.4,81.996771870195005,74.647279999999995,73.694999999999993,75.67,97.4,54.105139999999999,183.8,81.209999999999994]
[null,"Mayo",37.589705799999997,77.889999999999986,62.062808880824015,133.69999999999999,73.17,30.818403530257079,67.5219446320054,2178.4364211982002,102.5,81.422794367564904,75.012960000000007,73.561999999999998,76.709999999999994,97.6,53.93056,183.5,81.150000000000006]
[null,"Junio",37.841562250000003,78.149999999999991,62.229945302957866,134.1,73.98,32.401139722414783,67.589466576637406,2175.1687665664031,102.5,80.445720644169299,74.971950000000007,73.361999999999995,77.900000000000006,97.3,53.975110000000001,183.7,81.25]
[null,"Julio",38.145164899999997,77.86,62.390675270620804,134.6,73.92,33.586623765946378,67.656988521269412,2179.519104099536,102.6,80.043491947883794,74.864649999999997,73.296000000000006,78.7,97.1,54.053339999999999,183.9,81.13]
[null,"Agosto",38.30342984,78.103832888505195,62.567451084082485,135.80000000000001,73.87,34.615297750809781,67.724510465901417,2186.9294690534743,102.9,80.603796228858101,75.095910000000003,73.628,81.37,97.3,54.215490000000003,184.6,81.25]
[null,"Septiembre",38.353485419999998,78.162880376740986,62.824842741527654,136.4,74.03,35.135907145588206,67.589466576637406,2203.9875189120917,103.1,81.571042324188696,75.261219999999994,74.293999999999997,84.15,97.4,54.538240000000002,185.2,81.540000000000006]
[null,"Octubre",38.801015390000003,78.407662715182951,63.094102380385415,137,74.319999999999993,36.047496286646016,67.386900742741389,2210.3790827169364,102.8,82.305181678400899,75.306579999999997,74.36,85.44,97.4,54.738210000000002,185,81.66]
[null,"Noviembre",39.352075130000003,78.461947734970167,63.381069048478651,137.9,74.930000000000007,38.215656697831676,67.454422687373395,2217.8943715981741,103.1,83.128233389981403,75.568889999999996,74.227000000000004,86.72,96.9,55.192540000000001,184.5,81.7]
[null,"Diciembre",39.845803070000002,78.62,63.752929966704301,138.30000000000001,75.5,39.633219628192208,67.319378798109383,2229.4274223304847,103.2,83.627002508699505,76.029129999999995,74.561000000000007,88.05,97,55.429810000000003,184.3,81.95]
[2004,"Enero",40.524145400000002,79.489999999999966,64.728628787878762,139.6,76.69,43.292120997116896,67.589466576637406,2246.3710707401965,103.3,84.546899732944894,76.702879999999993,75.027000000000001,89.24,96.8,55.774320000000003,185.2,81.75]
[null,"Febrero",41.047940310000001,79.840000000000018,65.209759698275846,141.19999999999999,77.650000000000006,48.163686819742338,67.589466576637406,2260.0739342717116,103.5,84.377806101804595,77.622879999999995,75.358999999999995,90.63,96.8,56.107939999999999,186.2,81.94]
[null,"Marzo",41.237439780000003,80.350000000000009,65.672485118406001,141.69999999999999,78.02,49.292719242153375,67.454422687373395,2270.6962817627882,103.9,84.6309395484341,78.38691,76.090999999999994,93.29,97,56.298070000000003,187.4,82.46]
[null,"Abril",41.614206340000003,81.030000000000015,66.026724781403288,143.19999999999999,78.67,49.63561057044118,67.454422687373395,2279.0978580053106,104.1,85.054094035769197,78.744450000000001,76.090999999999994,97.44,97,56.383029999999998,188,82.88]
[null,"Mayo",41.8932529,81.59999999999998,66.572023269466811,144.30000000000001,79.37,50.940270258560602,67.656988521269412,2290.721257081138,105,84.969040220118202,79.044330000000002,76.025000000000006,98.81,97.1,56.241599999999998,189.1,83.14]
[null,"Junio",42.339914210000003,81.72999999999999,66.838029844405469,145.19999999999999,79.62,51.954308637948301,67.92707629979742,2306.9853780064145,105.1,84.374256696609194,79.521330000000006,76.025000000000006,99.34,97.3,56.33175,189.7,83.18]
[null,"Julio",42.888937730000002,81.99,67.15435440272789,147.1,80.11,52.274201157631431,67.99459824442944,2327.9789449462733,105,84.205507809338798,79.496750000000006,76.491,99.57,97,56.479390000000002,189.4,83]
[null,"Agosto",43.303421110000002,82.163512334508667,67.357527763088299,147.6,80.290000000000006,52.558550064016444,68.197164078325457,2344.0419996664023,104.8,84.794946993606899,79.520740000000004,77.156000000000006,100,97.1,56.828040000000001,189.5,83.17]
[null,"Septiembre",43.639678050000001,82.343034419407033,67.879954260134028,147.80000000000001,80.77,51.962671841077281,68.062120189061446,2351.7773382653018,105,85.727691187181406,79.756299999999996,77.156000000000006,102.4,97.4,57.297919999999998,189.9,83.26]
[null,"Octubre",43.967229670000002,82.687535134784838,68.544367736027027,149.1,81.87,52.663090103128575,68.129642133693451,2362.1251585536688,105.2,85.727691187181406,79.748369999999994,77.156000000000006,103,97.9,57.694749999999999,190.9,83.59]
[null,"Noviembre",44.58240241,82.712053239349771,69.22666858983338,150.4,82.57,51.793316977715619,68.129642133693451,2378.423822147689,105.6,85.470508213967804,79.96987,76.691000000000003,103.6,97.7,58.186900000000001,191,83.53]
[null,"Diciembre",45.077139109999997,82.84,69.635175340528946,151,82.48,51.023902289850305,68.39972991222146,2398.878267018159,105.4,85.555978797442805,80.208849999999998,76.823999999999998,104.9,97.2,58.307090000000002,190.3,83.85]
[2005,"Enero",45.960915759999999,84.029999999999973,70.579481060606042,152.19999999999999,82.97,51.425336040040911,68.669817690749497,2412.7917609668643,105.3,86.069314558549806,56.445903162217,77.58,107,97,58.309159999999999,190.7,83.32]
[null,"Febrero",46.463507800000002,84.110000000000014,71.102458512931022,154,83.99,51.446244047863331,69.007427413909525,2427.0272323565687,105.7,87.618561948693099,57.023042594540001,77.894999999999996,108.1,96.7,58.503430000000002,191.8,83.62]
[null,"Marzo",46.851053270000001,84.170000000000016,71.429488683980551,155.19999999999999,84.81,51.408609633782959,69.480081026333565,2441.8320984739439,106.3,86.829995144452496,57.464121860613503,78.364999999999995,109.2,97,58.767119999999998,193.3,84.25]
[null,"Abril",47.299984309999999,84.590000000000018,71.88825442525058,156.6,86.24,51.569601294015641,69.682646860229568,2463.0760377306669,106.6,86.569504734158798,57.716212425706601,78.444000000000003,110.32,97.1,58.976410000000001,194.6,84.6]
[null,"Mayo",47.948736029999999,85.199999999999989,72.246248065325275,157.19999999999999,86.96,51.414882036129683,69.480081026333565,2475.1451103155468,106.7,86.396365622724005,57.951608958633102,78.364999999999995,112.31,97.2,58.828249999999997,194.4,84.78]
[null,"Junio",48.16774204,85.22999999999999,72.720358982528779,158.30000000000001,87.59,51.444153247081083,69.547602970965556,2474.6500812934837,106.9,85.705195435785399,58.1839838556836,78.129000000000005,113.71,96.8,58.77178,194.5,84.87]
[null,"Julio",48.785474069999999,85.370000000000019,73.400182609780956,159.69999999999999,88.32,51.751500962070764,69.817690749493579,2480.8367064967174,107.1,85.705195435785399,58.212300262295301,78.444000000000003,114.79,96.7,59.001800000000003,195.4,84.78]
[null,"Agosto",49.395042519999997,85.593241521649517,73.671483342147013,161,88.9,52.443556020993086,69.817690749493579,2485.054128897762,107.5,85.876605163065506,58.213195794480299,78.679000000000002,116,96.8,59.072249999999997,196.4,84.98]
[null,"Septiembre",49.479797949999998,85.953167456254974,74.29245683466246,161.6,89.5,54.153831060867596,70.42538825118163,2493.7518183489042,108.4,86.477741361171795,58.462238199751098,79.070999999999998,117.6,97.1,59.309010000000001,198.8,85.42]
[null,"Octubre",50.094260810000002,87.587389073114082,75.597583176064205,161.69999999999999,90.33,54.755981686153476,70.830519918973664,2512.4549569865212,107.9,86.823652990208004,58.596748809141097,78.914000000000001,118.7,97.1,59.45458,199.2,85.64]
[null,"Noviembre",50.907937220000001,86.472146579695035,75.628744244110635,162,90.07,54.296005514060084,70.42538825118163,2526.2734592499473,107.7,86.563182002104099,58.663731545388501,78.599999999999994,120.1,96.7,59.882489999999997,197.6,85.45]
[null,"Diciembre",51.42172849,86.37,75.600635503019575,162.69999999999999,90.39,54.818705709620758,70.695476029709653,2535.3680437032472,107.6,86.909434328720593,58.7037122063605,78.835999999999999,121,96.8,60.250309999999999,196.8,85.74]
[2006,"Enero",52.025636609999999,86.82999999999997,76.284712121212095,163.30000000000001,91.49,55.667570827211293,70.762997974341658,2550.36,108.2,88.039257101238206,59.021600306103103,79.305999999999997,122.5,96.9,60.603630000000003,198.3,85.35]
[null,"Febrero",52.486317970000002,87.260000000000019,76.267021551724127,164.44309999999999,92.8,55.600665202179528,70.627954085077647,2560.8200000000002,108,88.479452941652497,59.4097908233651,79.463999999999999,124.6,96.6,60.696359999999999,198.7,85.59]
[null,"Marzo",52.574660139999999,87.570000000000007,76.630033910335158,164.8,93.41,55.652935221735596,70.89804186360567,2571.83,108.6,87.6831383021769,59.827050887712502,79.933999999999997,125.9,96.8,60.772509999999997,199.8,86.09]
[null,"Abril",52.80051271,88.160000000000011,77.266090850927711,165.7,94.73,55.983281745329933,71.708305199189738,2577.23,109.2,87.858504491381396,60.094937858791297,80.013000000000005,127,97,60.861620000000002,201.5,86.66]
[null,"Mayo",53.637381519999998,88.269999999999982,77.748841863692149,166.8,95.58,56.30317426501307,71.640783254557718,2579.81,109.7,87.770645787812597,60.291943073524799,80.168999999999997,128.30000000000001,97.3,60.590679999999999,202.5,86.89]
[null,"Junio",54.150107970000001,89,78.212613244118714,167.3,95.91,56.729697624590571,71.775827143821729,2574.39,109.5,87.331792506271796,60.475413397689103,80.013000000000005,128.5,97.3,60.643000000000001,202.9,86.96]
[null,"Julio",54.652419799999997,90.110000000000028,78.564302018276962,168.2,96.42,57.237762214675548,71.775827143821729,2579.2800000000002,109.6,87.069797685522403,60.725243145364203,80.325999999999993,129.30000000000001,97,60.809289999999997,203.5,86.85]
[null,"Agosto",55.131815160000002,89.622923336278575,78.825626652564779,168.8,96.59,57.346483855352155,71.843349088453749,2580.5700000000002,109.8,87.331006716840605,60.963500076493602,80.796999999999997,130.19999999999999,97.7,61.119610000000002,203.9,86.93]
[null,"Septiembre",55.041153940000001,89.593301598672284,78.525852694894553,168.8,96.2,56.715062019114868,71.573261309925726,2585.9899999999998,109.2,87.767662053896601,61.137972500893902,81.031999999999996,132.19999999999999,97.7,61.736609999999999,202.9,86.93]
[null,"Octubre",55.14646656,89.237339889082094,78.508784168669493,169,96.63,56.773604441017682,71.775827143821729,2594.52,109,87.855429311321501,61.049566792063899,80.64,132.69999999999999,97.5,62.006520000000002,201.8,87]
[null,"Noviembre",55.705896559999999,89.802229245479509,78.957199498974546,169.9,97.36,57.137403777127886,71.843349088453749,2602.56,109.2,88.118995710933106,61.1942444488486,80.248000000000005,133,97,62.331859999999999,201.5,87.03]
[null,"Diciembre",56.272708129999998,90.59,79.97981375656542,171.3,98.93,57.559745535140912,72.248480756245769,2615.0500000000002,109.4,89.352661649267603,61.3324118728275,80.483000000000004,133.5,97.1,62.692419999999998,201.8,87.37]
[2007,"Enero",56.808539469999999,91.639999999999972,81.033003787878769,172.4,99.8,58.097081336177283,72.383524645509794,2626.56,109.4,89.978130614226799,61.8025523100032,80.64,134.19999999999999,96.9,63.016210000000001,202.416,86.92]
[null,"Febrero",57.009262939999999,91.44,81.317163254310344,173.9807998,100.98,58.274799402667909,72.586090479405797,2638.12,110.2,90.877911305333001,62.526884986012703,81.188999999999993,135.30000000000001,96.4,63.192349999999998,203.499,87.17]
[null,"Marzo",57.421263770000003,92.000000000000014,82.012598219612187,175.2,102.11,58.734775574761301,73.193787981093848,2647.88,111.1,90.605277980092197,63.285330248886801,81.66,136,96.7,63.32911,205.352,87.75]
[null,"Abril",57.952142039999998,92.070000000000007,82.2122440818938,176.2,103.14,59.21147815311263,73.666441593517888,2654.5,111.6,90.514672655175204,63.8546793189985,81.972999999999999,137.19999999999999,97,63.291289999999996,206.68600000000001,88.31]
[null,"Mayo",58.555518749999997,91.689999999999984,81.998009286438588,176.9,103.93,59.840809188567682,74.071573261309922,2661.93,112.1,90.786216719268396,64.045981187290806,82.052000000000007,139,97.3,62.982529999999997,207.94900000000001,88.52]
[null,"Junio",58.888652980000003,92.3,82.368210928787619,177.6,104.98,60.081251278525592,74.40918298446995,2669.38,111.9,91.1493614955086,64.124389462382297,82.052000000000007,140.19999999999999,97.1,63.058169999999997,208.352,88.61]
[null,"Julio",59.43582481,92.960000000000008,82.953543489345066,178.8,105.83,60.235970536411557,74.746792707629979,2675.79,112,91.969705430120598,64.230167658003793,82.366,139.5,97,63.326000000000001,208.29900000000001,88.39]
[null,"Agosto",59.852595860000001,92.812671472424157,83.719722369116866,180.1,106.12,59.849172391696662,74.88183659689399,2688.37,111.7,93.073342235170401,64.144427605771398,82.444000000000003,140.1,97.5,63.584000000000003,207.917,88.45]
[null,"Septiembre",60.231581130000002,93.45344384859834,84.28306303552958,180.8,107.32,60.578861864699348,75.286968264686024,2693.21,111.9,93.352562110544596,64.197929197340798,82.915000000000006,142.6,97.5,64.077709999999996,208.49,88.78]
[null,"Octubre",60.575075079999998,94.107194721666474,84.56752380542757,183,109.53,60.867392372648837,75.692099932478044,2701.29,111.6,93.632620377114193,64.201739571618404,83.072000000000003,143.5,97.8,64.32741,208.93600000000001,89.21]
[null,"Noviembre",61.3269868,95.392368014769389,86.165385410289176,186.2,114.24,61.962971982543998,76.502363268062112,2711.55,111.9,94.288048069919896,64.506122794730999,83.072000000000003,145.30000000000001,97.6,64.781220000000005,210.17699999999999,89.69]
[null,"Diciembre",62.353269279999999,94.99,86.975056928797201,186.5,115.62,62.669662646942022,76.83997299122214,2731.62,112,95.230929028081206,64.824717967040598,83.385999999999996,146.80000000000001,97.8,65.049059999999997,210.036,90.05]
[2008,"Enero",62.809045070000003,95.989999999999981,87.830393939393915,187.7,117.05,63.353354502735378,77.920324105334231,2746.37,111.8,96.373699927166797,65.508879428464198,83.777000000000001,149,97.6,65.350560000000002,211.08,89.7]
[null,"Febrero",63.507873689999997,96.76,88.442491918103457,189.7,119.51,63.332446494912958,78.663065496286293,2759.83,112.2,98.879416525046494,66.498597448622505,84.091999999999999,151.4,97.4,65.544839999999994,211.69300000000001,90.02]
[null,"Marzo",63.758005519999998,97.510000000000019,89.475380619431064,191.4,121.42,64.415481300114649,79.608372721134373,2773.08,112.6,98.187259852715101,67.035588700313099,84.876000000000005,158.19999999999999,97.9,66.019890000000004,213.52799999999999,90.9]
[null,"Abril",64.295715909999998,98.320000000000007,90.736686926850098,193.3,123.1,65.626054953033147,79.945982444294401,2788.33,113.5,98.285447114995605,67.5122756662211,85.346999999999994,159.9,97.8,66.17013,214.82300000000001,91.19]
[null,"Mayo",65.521139360000006,99.389999999999986,92.035822170037889,196.8,126.53,65.845589035168643,80.621201890614444,2810.36,114.6,97.892305575787006,68.141286165418094,86.052000000000007,160.69999999999999,98.6,66.09863,216.63200000000001,91.76]
[null,"Junio",66.436981349999996,100.63,93.534754394349733,199.2,129.22,67.413689621850651,81.566509115462523,2831.16,115.4,97.696521000242797,68.728779010758103,86.600999999999999,162.30000000000001,99,66.372169999999997,218.815,92.11]
[null,"Julio",67.857763879999993,101.92000000000002,94.696324581373233,203.4,130.84,68.505087630181322,81.904118838622551,2846.16,115.8,97.794217852229494,69.060012843453194,87.228999999999999,165,99.2,66.742059999999995,219.964,91.97]
[null,"Agosto",69.071477709999996,101.99194667299359,95.177419354838705,205.3,131.5,68.567811653648604,82.241728561782566,2854.13,115.6,97.696423080035601,69.192123733706694,87.072000000000003,166.5,99.5,67.127489999999995,219.08600000000001,91.84]
[null,"Septiembre",69.728186629999996,101.5637427208523,95.027775378575626,205.6,131.78,69.410404368892401,82.849426063470631,2861.55,115.7,97.696423080035601,69.060099395277803,87.150999999999996,170.9,99.5,67.584940000000003,218.78299999999999,92.01]
[null,"Octubre",70.451131739999994,101.07698695639196,95.499258325998781,206.9,131.75,68.68489649745419,82.849426063470631,2874.43,114.5,97.403334142591206,69.299152044794496,87.072000000000003,169.4,99.4,68.045490000000001,216.57300000000001,92.04]
[null,"Noviembre",71.321735910000001,100.4424933787969,95.511063680586716,206.5,131.86000000000001,66.433104054978841,82.376772451046591,2884.78,114.1,96.624107793153698,69.492506726926507,86.837000000000003,165.4,98.6,68.818939999999998,212.42500000000001,91.59]
[null,"Diciembre",71.02182818,100.19,95.150909915227217,206.7,131.55000000000001,65.500606906098611,82.039162727886563,2892.86,113.3,96.430859431900899,69.799858538022704,86.837000000000003,161.69999999999999,98.2,69.295559999999995,210.22800000000001,91.47]
[2009,"Enero",71.28887512,99.649999999999991,94.752602272727259,206.6,131.63,65.684597374935976,81.769074949358526,2906.74,113,97.298736748401694,70.211208648347693,86.915999999999997,161,97.6,69.456149999999994,211.143,90.71]
[null,"Febrero",71.604114300000006,99.53,94.189563577586213,208.2,132.38999999999999,65.885314250031271,82.039162727886563,2922.73,113.8,97.298736748401694,70.798893443298596,87.543000000000006,160.30000000000001,97.3,69.609499999999997,212.19300000000001,91.08]
[null,"Marzo",71.614215680000001,100.00000000000001,93.947849514096035,208.2,131.69,65.987763488361153,82.579338284942594,2928.57,114,97.006840657117394,71.152107251447305,88.17,159.80000000000001,97.6,70.009950000000003,212.709,91.42]
[null,"Abril",71.850932169999993,100.08000000000001,94.023720409468979,208.9,131.57,66.081849523562084,82.916948008102622,2942.63,113.9,96.812826737881394,71.380638968286604,88.405000000000001,160,97.7,70.254990000000006,213.24,91.75]
[null,"Mayo",71.761195209999997,100.36,94.14740353311629,208.9,131.71,66.157118351722815,82.646860229574614,2956.46,114.7,96.522388929351806,71.390687355921699,88.405000000000001,160.1,97.5,70.050359999999998,213.85599999999999,91.8]
[null,"Junio",71.882203399999995,100.4,94.112065211619125,210,131.75,67.587226086776809,83.051991897366634,2967.1,115.1,96.039776644816698,71.350687150989302,88.326999999999998,160.6,97.3,70.179349999999999,215.69300000000001,91.98]
[null,"Julio",72.541793190000007,99.990000000000009,94.410295812524012,211.5,130.94,67.668767317284264,83.457123565158668,2974.22,114.7,96.039776644816698,71.322941707220494,88.641000000000005,160.9,97,70.370509999999996,215.351,91.38]
[null,"Agosto",73.016603439999997,99.792120372203527,94.480491803278682,211.7,131.34,68.245828333183255,83.72721134368669,2978.68,114.7,96.519975560411098,71.354392127480594,88.954999999999998,161.9,97.3,70.538889999999995,215.834,91.69]
[null,"Septiembre",73.098725770000001,99.733675281120526,95.058979770665786,211.9,131.79,68.321097161343999,83.254557731262651,2985.83,114.7,96.906045156591404,71.276208607933498,89.034000000000006,162.9,97.3,70.892719999999997,215.96899999999999,91.71]
[null,"Octubre",73.269280249999994,99.027048063825646,94.875182140238294,212.4,132.31,68.477907220012199,83.457123565158668,2994.19,114.6,96.811523832645406,71.185193780391401,88.798000000000002,163.5,96.9,71.107190000000003,216.17699999999999,91.92]
[null,"Noviembre",73.152242920000006,100.41249263406,94.928584010985531,212.9,132.47,69.209687493797134,83.524645509790673,3006.47,115.2,97.102856680423997,71.138450211125701,88.954999999999998,164.1,96.7,71.476039999999998,216.33,92.03]
[null,"Diciembre",73.896110910000004,100,94.885662776354494,212.8,132.77841100000001,69.276593118828899,83.592167454422679,3017.59,114.8,98.073966173019301,71.197117690225497,89.269000000000005,165,96.5,71.771860000000004,215.94900000000001,92.32]
[2010,"Enero",75.097876040000003,100.44,96.11,214,134.06576799999999,70.186091459104475,84.267386900742736,3040.22,115.1,98.656631868576497,71.685380264673498,89.974000000000004,170.8,96.6,72.552049999999994,216.68700000000001,91.57]
[null,"Febrero",75.613550529999998,100.57,96.53,215.5,136.02094099999999,70.284359095869888,84.469952734638753,3063.93,115.6,99.846240997005694,72.279252817083901,90.156000000000006,168.6,96.6,72.971670000000003,216.74100000000001,91.85]
[null,"Marzo",75.79764849,100.89,97.64,216.5,137.51636999999999,70.888600521938031,84.807562457798781,3079.86,115.6,99.142186614874205,72.460955808829993,90.337999999999994,169.5,96.8,73.489720000000005,217.631,92.87]
[null,"Abril",75.842994149999996,100.71,97.55,217.6,137.94896,71.141587416589388,85.077650236326804,3097.42,116,99.344501092498206,72.794576098688495,90.701999999999998,170.1,96.9,73.255560000000003,218.00899999999999,93.25]
[null,"Mayo",76.234059889999997,100.5,97.45,218,137.86851999999999,71.384120307329539,85.280216070222821,3110.74,116.3,99.247390143238604,72.869757526319802,90.793000000000006,170.4,96.8,72.793980000000005,218.178,93.35]
[null,"Junio",76.419339239999999,100.96,97.94,218.9,137.85341599999998,71.262853861959456,85.347738014854826,3110.74,116.2,98.6485392894716,72.952605770412902,90.701999999999998,170.8,96.6,72.771190000000004,217.965,93.35]
[null,"Julio",76.663671199999996,100.98,98.3,220.3,139.055419,71.507477553481849,86.293045239702892,3111.05,116.8,99.045075665614604,72.921861724721296,90.884,170.6,96.1,72.929190000000006,218.011,92.95]
[null,"Agosto",76.818025219999996,100.81,98.35,221.3,138.35443699999999,71.664287612150048,86.765698852126931,3112.29,116.7,99.635833940276797,73.003703454854303,91.34,170.6,96.2,73.131749999999997,218.31200000000001,93.14]
[null,"Septiembre",76.754197410000003,101.11,98.63,222.6,138.94101800000001,72.216259018662114,86.765698852126931,3126.29,116.9,100.234684794044,72.904612085680796,92.067999999999998,170.5,96.4,73.515110000000007,218.43899999999999,93.43]
[null,"Octubre",77.118047290000007,101.78,99.15,224.7,141.915796,72.703415600924671,86.900742741390943,3149.74,117.4,100.93873917617501,72.840301986016797,92.067999999999998,171,96.7,73.96893,218.71100000000001,93.71]
[null,"Noviembre",77.623940660000002,102.24,99.92,226.6,144.11400699999999,72.929222085406877,87.10330857528696,3175.88,117.5,102.04742251355501,72.981634833580301,91.613,172.5,96.4,74.561580000000006,218.803,93.79]
[null,"Diciembre",78.200053749999995,102.13,100,226.6,145.034368,73.59827833572453,87.711006076975011,3195.89,117.5,102.557254997168,73.454936506349298,91.977000000000004,175.2,96.2,74.930949999999996,219.179,94.36]
[2011,"Enero",78.729062110000001,102.77,100.82,227.6,144.81706599999998,74.513620123385948,88.318703578663062,3222.42,117.8,90.184229999999999,74.122234321950103,93.07,177.2,96.1,75.295990000000003,220.22300000000001,93.68]
[null,"Febrero",79.072367319999998,102.96,101.58,229.2,145.84598699999998,75.409531965566714,88.65631330182309,3248.2,118.1,91.33717,74.568876636749096,93.706999999999994,179.4,96.1,75.578460000000007,221.309,94.08]
[null,"Marzo",79.271517930000002,103.63,102.52,230.8,146.78625400000001,76.280935581061698,89.466576637407158,3273.86,119.4,91.153829999999999,74.769883477372602,94.072000000000003,181.7,96.3,75.72345,223.46700000000001,95.35]
[null,"Abril",79.393888630000006,106.71,103.17,233.4,147.761551,76.947000000000003,90.411883862255237,3299.07,119.8,91.245500000000007,74.858994862772306,94.162999999999997,183.5,96.5,75.717439999999996,224.90600000000001,95.88]
[null,"Mayo",79.927706240000006,107.23,103.68,234.8,149.29660237392181,77.116276040172167,90.749493585415252,3314.58,120.6,91.33717,75.072202718668194,94.344999999999999,184.7,96.4,75.159260000000003,225.964,95.89]
[null,"Junio",80.374776389999994,107.29,104.23,235.8,150.28055699999999,77.903777618364416,90.884537474679263,3319.55,119.8,91.612170000000006,75.310864488977103,94.527000000000001,186.7,96.3,75.155510000000007,225.72200000000001,95.88]
[null,"Julio",80.645480280000001,107.57,105.22,237.4,150.81451099999998,78.566162123385936,90.952059419311269,3324.86,120,92.014049999999997,75.415515416883196,94.981999999999999,186.8,96.3,75.516109999999998,225.922,95.33]
[null,"Agosto",80.852365129999995,107.69,105.85,238.3,151.76786899999999,78.95623299856527,91.357191087103317,3337.16,120.3,92.275450000000006,75.392161082214997,95.62,187,96.4,75.635549999999995,226.54499999999999,95.51]
[null,"Septiembre",80.726004110000005,107.4,105.78,237.8,152.13466099999999,79.125509038737434,92.032410533423359,3354.85,120.6,92.711129999999997,75.624934536457701,95.528999999999996,188.2,96.4,75.821110000000004,226.88900000000001,96.21]
[null,"Octubre",80.917132429999995,107.32,105.74,238,152.78457599999999,79.147588522238152,92.234976367319362,3369.28,120.8,92.798259999999999,75.768445139607607,95.346999999999994,188.8,96.5,76.332710000000006,226.42099999999999,96.55]
[null,"Noviembre",81.160047789999993,107.48,105.97,238.9,154.69540000000001,79.221186800573875,93.045239702903444,3386.8,120.9,92.623990000000006,75.873877825929299,95.438000000000002,189.2,95.9,77.158330000000007,226.23,96.63]
[null,"Diciembre",81.903411739999996,107.29,106.2,239.3,156.56521100000001,79.309504734576748,93.247805536799447,3403.7,120.2,92.885390000000001,76.191710783783606,95.802000000000007,189.7,96,77.792389999999997,225.672,96.96]
[2012,"Enero",82.046589749999995,107.65,106.3,239.8,156.77046999999999,79.655416642754645,93.720459149223501,3422.8,120.7,94.27955,76.748456093439003,96.183999999999997,190.9,96.2,78.343050000000005,226.66499999999999,96.17]
[null,"Febrero",82.277431019999995,108,106.83,242.1,158.692902,79.935090100430401,94.328156650911538,3438.2,121.2,94.192409999999995,77.217211003422804,96.549000000000007,191.4,96.4,78.502309999999994,227.66300000000001,96.65]
[null,"Marzo",82.607311319999994,108.16,107.18,243.9,159.334327,80.05284734576756,95.138419986495606,3445.4,121.7,94.366680000000002,77.311465242399606,96.575999999999993,192.1,96.8,78.547389999999993,229.392,97.9]
[null,"Abril",83.13127394,108.83,107.58,246.6,161.02553,80.060207173601142,95.813639432815663,3467.5,122.2,94.27955,77.423080102192003,96.566999999999993,193.4,96.9,78.300979999999996,230.08500000000001,98.36]
[null,"Mayo",83.952303479999998,108.53,107.72,246.9,160.53411600000001,79.846772166427542,96.218771100607697,3479.9,122.1,94.018140000000002,77.655383105388196,96.74,194.3,96.6,78.053820000000002,229.815,98.22]
[null,"Junio",84.084000020000005,107.94,107.85,246.9,159.99524500000001,80.01604820659972,96.151249155975691,3482.7,121.6,93.495339999999999,77.719670171098898,96.602999999999994,195.9,96.1,78.413669999999996,229.47800000000001,98.15]
[null,"Julio",83.829884539999995,107.61,108.23,247.1,160.42083500000001,79.854131994261124,96.421336934503714,3497.7,121.5,93.582470000000001,77.702887493112001,96.385000000000005,196.7,95.8,78.853899999999996,229.10400000000001,97.63]
[null,"Agosto",84.273122869999995,107.8,108.72,248.6,160.823025,80.663713055954076,96.893990546927739,3512.04,121.8,94.192999999999998,77.734755316526105,96.831000000000003,198.4,96,79.090540000000004,230.37899999999999,98.01]
[null,"Septiembre",84.331473919999993,108.24,109.25,250.4,161.879638,81.186260832137719,96.961512491559745,3532.06,122,94.482110000000006,77.957328917440606,97.522999999999996,200.5,96.1,79.439120000000003,231.40700000000001,98.72]
[null,"Octubre",84.707309629999997,108.33,109.28,251.5,162.66734,81.377616355810588,97.09655638082377,3552.9,122.2,94.383380000000002,78.084697605305095,97.340999999999994,201.7,96.1,79.841030000000003,231.31700000000001,98.95]
[null,"Noviembre",85.393653189999995,108.18,109.27,251.9,164.23005599999999,81.892804304160663,97.231600270087768,3574.22,121.9,94.540949999999995,77.977945003658405,96.995000000000005,203.3,95.8,80.383439999999993,230.221,98.76]
[null,"Diciembre",85.630451460000003,108.13,109.86,252.2,166.92765299999999,82.407992252510738,97.569209993247796,3602.46,121.2,95.236609999999999,78.047241605216399,97.168000000000006,204.1,95.8,80.568240000000003,229.601,99.11]
[2013,"Enero",86.753358640000002,108.59,110.4,253.4,168.90939899999998,83.445727977044442,98.109385550303855,3633.44,121.3,96.188550000000006,78.279811941870705,97.751000000000005,204.7,95.9,80.892780000000002,230.28,98.08]
[null,"Febrero",87.638451779999997,109.05,111.3,256.10000000000002,169.93,83.718041606886629,98.649561107359887,3655.24,122.7,97.246269999999996,78.627482245254299,98.078000000000003,205.6,95.7,81.290940000000006,232.166,98.44]
[null,"Marzo",87.733819879999999,109.54,111.83,257.5,170.16,84.03451420373024,99.054692775151906,3672.4,122.9,96.371889999999993,78.789250397402,97.986999999999995,206.8,95.9,81.887439999999998,232.773,99.6]
[null,"Abril",88.374587210000001,108.85,112.02,258.10000000000002,171.240678,83.982995408895221,99.392302498311935,3692.62,122.7,96.562420000000003,78.988538067509694,97.850999999999999,207.5,96.2,81.941519999999997,232.53100000000001,99.51]
[null,"Mayo",88.388374150000004,108.69,112.32,258.8,172.94097400000001,83.828439024390192,99.797434166103983,3706.3,123,95.984059999999999,79.208688915334406,97.850999999999999,208.5,96.3,81.668819999999997,232.94499999999999,99.62]
[null,"Junio",88.404154869999999,108.91,113.02,259.89999999999998,173.251283,83.857878335724479,100.13504388926401,3715.92,123,95.984059999999999,79.394698558352303,97.731999999999999,208.6,96.3,81.619240000000005,233.50399999999999,99.73]
[null,"Julio",88.703885040000003,108.78,113.36,261,172.70246599999999,84.380426111908122,100.40513166779202,3717.03,123.1,96.078969999999998,79.430333480131793,97.941999999999993,208.8,96.5,81.592190000000002,233.596,99.2]
[null,"Agosto",88.745497950000001,108.87,113.52,262,173.58552800000001,84.939773027259619,100.67521944632004,3725.95,123.1,96.562280000000001,79.496581921867403,98.287999999999997,209.4,96.8,81.824330000000003,233.87700000000001,99.32]
[null,"Septiembre",88.861624539999994,109.06,113.85,262.8,173.78078099999999,85.351923385939685,100.74274139095205,3738.99,123.3,97.331869999999995,79.729436343946006,98.478999999999999,209.6,97.1,82.132339999999999,234.149,99.8]
[null,"Octubre",88.185527230000005,108.91,113.82,263.10000000000002,173.778493,85.234166140602525,100.87778528021607,3760.3,123,97.429599999999994,79.522476273387795,98.179000000000002,210.1,97.2,82.522989999999993,233.54599999999999,99.68]
[null,"Noviembre",88.333877130000005,109,114.33,263.8,174.567453,85.28568493543753,100.94530722484807,3780.61,123,97.331800000000001,79.350515247897803,98.16,210.3,97.3,83.292270000000002,233.06899999999999,99.6]
[null,"Diciembre",88.781258750000006,108.98,114.68,264.60000000000002,176.400474,85.602157532281154,101.21539500337609,3815.39,122.7,97.623800000000003,79.559653074042302,98.278999999999996,211.1,97.4,83.770060000000001,233.04900000000001,99.95]
[2014,"Enero",89.446211590000004,109.51,114.97,268.60000000000002,177.67956799999999,85.800872883787605,101.41796083727201,3836.38,123.1,98.6,79.946510414006298,98.807000000000002,211.6,97.2,84.519049999999993,233.916,98.83]
[null,"Febrero",90.039449719999993,109.72,115.2,270.8,178.85615200000001,86.095265997130497,101.95813639432816,3862.84,124.1,99.1,80.450785774001503,99.070999999999998,212.2,97.2,84.733149999999995,234.78100000000001,99.14]
[null,"Marzo",90.593230700000007,109.99,115.46,272.39999999999998,178.840341,86.544215494978417,102.4,3898.38,124.8,98.6,80.767915149281706,99.253,213.5,97.5,84.965289999999996,236.29300000000001,100.07]
[null,"Abril",91.626147029999998,109.47,115.68,273.5,179.632701,86.912206886657046,102.9,3924.5,125.2,98.2,81.137598234052405,99.316999999999993,214.7,99.5,84.806780000000003,237.072,100.22]
[null,"Mayo",92.109788839999993,109.72,115.94,274.89999999999998,181.32398000000001,86.926926542324196,103.03848750844024,3942.55,125.8,98.3,81.530110060556595,99.480999999999995,215.9,99.9,84.535579999999996,237.9,100.11]
[null,"Junio",92.46114068,110.15,116.56,276.10000000000002,183.73790399999999,86.941646197991332,103.5,3958.32,125.9,98.2,81.606092092565305,99.352999999999994,217.3,99.8,84.682079999999999,238.34299999999999,100.22]
[null,"Julio",93.304068650000005,110.77,117.23,278.2,184.68213899999998,87.258118794834942,102.6,3958.72,125.7,98.2,81.7295589683374,99.498999999999995,218.9,99.9,84.914959999999994,238.25,99.57]
[null,"Agosto",93.613851499999996,111.04,117.72,278.60000000000002,185.266569,87.596670875179271,102.76839972991222,3968.62,125.7,98.4,81.895607247810702,99.671999999999997,220,100,85.21996,237.852,99.68]
[null,"Septiembre",93.485098399999998,110.91,117.78,278.89999999999998,185.06719699999999,87.765946915351449,103.10600945307201,3991.24,125.8,98.9,82.006862638331697,99.608000000000004,220.8,100.3,85.596339999999998,238.03100000000001,100.12]
[null,"Octubre",93.214368570000005,110.97,117.96,279.7,185.39045200000001,87.692348637015726,103,4008,125.9,98.9,82.142004936441495,99.308000000000007,222.2,100,86.069630000000004,237.43299999999999,100.06]
[null,"Noviembre",93.533382689999996,110.4,118.19,280.7,187.95816099999999,87.567231563844999,102.6,4028.44,125.4,98.6,82.250267309028303,99.108000000000004,223.4,99.6,86.763779999999997,236.15100000000001,99.88]
[null,"Diciembre",93.333238370000004,109.5,118.06,280,187.830682,86.956365853658497,102.23465399719004,4059.9,124.5,99,82.469690144328396,99.097999999999999,224.7,99.7,87.188980000000001,234.81200000000001,99.78]
[2015,"Enero",93.369256759999999,108.69,117.64,278.89999999999998,187.36179999999999,86.794449641319915,102.3,4110.2,124.3,99.3,83.001032493467505,99.77,225.6,99.6,87.110100000000003,233.70699999999999,98.24]
[null,"Febrero",93.215227560000002,108.56,118.01,280.7,188.70971351426607,86.971085509325647,101.5,4160.34,125.4,100.5,83.955218895637003,99.71,226.2,99.4,87.275379999999998,234.72200000000001,98.85]
[null,"Marzo",93.352984910000004,109.1,118.26,282.60000000000002,189.43524003284833,87.096202582496375,102.4,4215.26,126.3,99.9,84.447054524843594,99.72,227.2,99.7,87.630709999999993,236.119,100]
[null,"Abril",93.280044329999996,109.11,118.66,283.3,189.81524999999999,86.875407747489206,102.9,4245.1899999999996,126.2,99.7,84.900615401620797,99.75,228.3,100.2,87.403840000000002,236.59899999999999,100.43]
[null,"Mayo",93.005559509999998,109.33,118.9,284.5,190.79101399999999,87.125641893830675,103.4,4276.6000000000004,126.9,99.5,85.123952612987694,100.03,230.2,100.4,86.967370000000003,237.80500000000001,100.71]
[null,"Junio",93.404713709999996,109.24,119.34,286.10000000000002,190.76076899999998,87.478913629842154,103.5,4310.3999999999996,127.2,99.5,85.213311787885303,100.05,234.6,100.2,87.113110000000006,238.63800000000001,100.72]
[null,"Julio",93.003909340000007,109.16,119.95,287.10000000000002,190.367524,87.692348637015769,103.6,4337.1099999999997,127.3,99.9,85.371164167968999,100.23,239.3,100.1,87.240819999999999,238.654,100.11]
[null,"Agosto",92.922714139999997,108.82,120.03,287.2,190.355672,87.972022094691525,103.2,4346.6499999999996,127.3,100.4,85.780961929440096,100.37,242.8,100.2,87.424869999999999,238.316,100.12]
[null,"Septiembre",92.677207350000003,108.41,119.99,286.60000000000002,190.19427099999999,88.111858823529403,102.7,4370.12,127.1,100.5,86.394781885423498,100.11,245.7,100.3,87.752420000000001,237.94499999999999,100.32]
[null,"Octubre",92.416040929999994,110.76,120.59,286.8,191.008512,88.766883500717356,102.6,4405.95,127.2,100.1,86.984086735091097,100.11,248.2,100.2,88.203919999999997,237.83799999999999,100.45]
[null,"Noviembre",92.407452449999994,110.69,121.16,286.60000000000002,191.69115099999999,88.914080057388816,102.6,4450.45,127.1,100.1,87.5086026580652,99.92,250.1,99.9,88.685469999999995,237.33600000000001,100.01]
[null,"Diciembre",92.579496559999995,110.61,121.68,286.60000000000002,193.56365099999999,88.995038163558121,102.5,4493.17,126.5,100.6,88.052136948495104,100.22,252.8,99.8,89.046809999999994,236.52500000000001,100.03]
[2016,"Enero",93.208007899999998,110.67,122.79,287.5,193.34200099999998,88.987678335724539,102.6,4550.2299999999996,126.8,101.1,89.188544257361102,100.39,255.5,99.5,89.386380000000003,236.916,98.56]
[null,"Febrero",93.185084380000006,110.37,123.05,288.89999999999998,195.13298699999999,88.487210043041628,102.7,4591.18,127.1,102.7,90.329817314365897,100.82,258.7,99.6,89.777780000000007,237.11099999999999,98.73]
[null,"Marzo",92.339085049999994,110.32,123.3,289.60000000000002,196.36460015172148,88.47985021520806,103,4610.92,127.9,102.2,91.182242502772795,100.56,260.89999999999998,99.7,89.91,238.13200000000001,99.96]
[null,"Abril",92.423680419999997,110.05,123.51,290.2,196.64172600000001,88.398892109038755,103.5,4639.05,128.30000000000001,102,91.634595841997296,100.75,263.10000000000002,99.9,89.62527,239.261,100.17]
[null,"Mayo",92.603103000000004,110.13,124.08,291.2,197.75736999999998,88.619686944045924,103.7,4675.2299999999996,128.80000000000001,101.6,92.101740469244703,100.81,264.89999999999998,100,89.225620000000006,240.22900000000001,100.59]
[null,"Junio",92.584252059999997,110.24,124.63,293.10000000000002,197.55970299999998,89.149594548063149,103.6,4691.5929999999998,129.1,101.4,92.543524713889397,100.79,267.2,99.9,89.324029999999993,241.018,100.77]
[null,"Julio",93.446168139999997,110.12,125.49,294,198.20091600000001,89.318870588235313,103.7,4715.99,128.9,101.6,93.024731220637804,100.6,270.2,99.6,89.556920000000005,240.62799999999999,100.28]
[null,"Agosto",93.476409700000005,109.85,125.72,294.39999999999998,197.49490700000001,89.267351793400309,103.7,4736.74,128.69999999999999,101.7,92.727131147777897,100.86,272.8,99.7,89.809330000000003,240.84899999999999,100.34]
[null,"Septiembre",93.034714050000005,109.51,125.46,294.89999999999998,196.89452800000001,89.304150932568163,103.9,4740.53,128.80000000000001,102.4,92.678143513060107,101.46,276.39999999999998,99.8,90.357740000000007,241.428,100.72]
[null,"Octubre",92.925993559999995,109.79,126.33,294.89999999999998,197.49535700000001,89.576464562410337,104,4752.8599999999997,129.1,102.3,92.622628195571906,101.6,281.3,100.4,90.906149999999997,241.72900000000001,100.96]
[null,"Noviembre",92.925278250000005,109.78,126.82,295.3,198.029144,89.694221807747496,103.9,4761.42,128.6,102.4,92.726306113449994,101.45,285.5,100.4,91.616839999999996,241.35300000000001,100.6]
[null,"Diciembre",93.287906620000001,109.58,126.83,296.10000000000002,199.621522,90.503802869440463,104,4775.7,128.4,102.6,93.112852844043502,101.56,288.89999999999998,100.1,92.039029999999997,241.43199999999999,101.13]
[2017,"Enero",93.819186360000003,110.39,127.49,297.39999999999998,200.84660099999999,91.063149784791975,104.3,4793.8500000000004,129.5,103.7,94.066435477436599,102.64,291.60000000000002,100,93.603880000000004,242.839,100.26]
[null,"Febrero",94.196576210000003,110.69,127.92,300,202.33540940213342,91.44586083213774,104.6,4809.67,129.69999999999999,103.5,95.012497176072301,102.92,294.7,99.8,94.144779999999997,243.60300000000001,100.66]
[null,"Marzo",93.799575820000001,110.92,128.22999999999999,301,202.58063099999998,91.261865136298425,104.5,4821.6899999999996,129.9,103.2,95.455093891070305,102.85,298.3,99.9,94.722489999999993,243.80099999999999,101.49]
[null,"Abril",93.942991539999994,111,128.56,302.10000000000002,203.23883900000001,91.504739454806312,104.5,4828.4399999999996,130.4,103.2,95.907287388618798,102.72,301.5,100.3,94.838939999999994,244.524,102.07]
[null,"Mayo",94.150648970000006,111.19,128.96,303,203.506574,91.372262553802017,104.5,4843.41,130.5,103.3,96.123383562661004,102.83,306.5,100.4,94.725489999999994,244.733,101.98]
[null,"Junio",94.226990220000005,111.26,130.07,303.8,203.60713899999999,91.423781348637021,104.3,4832.2700000000004,130.4,103.1,96.233580089327901,102.61,309.3,100.2,94.963639999999998,244.95500000000001,102.08]
[null,"Julio",94.533048120000004,111.24,132.04,304.7,204.40227300000001,91.585697560975618,104.1,4843.87,130.4,103,96.184355135091195,102.78,312.39999999999998,100.1,95.322739999999996,244.786,101.62]
[null,"Agosto",94.326523539999997,111.1,131.65,305.7,204.348885,92.108245337159261,104.4,4853.07,130.5,103.5,96.319067466072397,103.37,315.3,100.3,95.793769999999995,245.51900000000001,101.89]
[null,"Septiembre",94.561600029999994,111.22,130.93,305.7,205.01219,92.697031563845059,104.7,4860.83,130.80000000000001,104.1,96.357860133452107,103.49,318.89999999999998,100.5,96.093509999999995,246.81899999999999,102.29]
[null,"Octubre",95.086923979999995,111.36,131.63999999999999,306.60000000000002,206.13243799999998,92.697031563845059,104.5,4881.25,130.9,104.2,96.373970638801197,103.39,321.8,100.6,96.698269999999994,246.66300000000001,102.34]
[null,"Noviembre",95.240341310000005,111.62,132.77000000000001,308.10000000000002,208.61722499999999,93.403575035868002,104.3,4894.92,131.30000000000001,104.2,96.548251811589097,102.62,324.60000000000002,100.9,97.695179999999993,246.66900000000001,102.14]
[null,"Diciembre",95.689239909999998,111.81,134.03,310.10000000000002,210.95702699999998,94.308833859397396,104.5,4916.46,130.80000000000001,104.5,96.9198851044073,102.99,327.2,101.2,98.272880000000001,246.524,102.49]
[2018,"Enero",96.078188350000005,111.96,133.5,311,211.610163,94.581147489239584,104.7,4930.72,131.69999999999999,105.2,97.527634566693607,103.42,330.1,101.3,98.795000000000002,247.86699999999999,101.56]
[null,"Febrero",96.280664299999998,112.05,133.22999999999999,313,212.08009300000001,94.478109899569574,105,4946.5,132.5,106.5,98.216431436722701,104.21,333.5,101.3,99.171369999999996,248.99100000000001,101.78]
[null,"Marzo",96.250528430000003,111.93,133.54,314.10000000000002,212.38235299999999,94.831381635581053,105.1,4950.95,132.9,105.3,98.452250258793498,104.1,336.8,101,99.492159999999998,249.554,102.91]
[null,"Abril",96.174541730000001,111.97,133.6,314.8,213.043272,95.20673285509325,105.3,4961.84,133.30000000000001,105.1,98.906895825372402,104.29,340.7,100.9,99.154849999999996,250.54599999999999,103.32]
[null,"Mayo",96.067464970000003,112.11,134.22999999999999,315.10000000000002,214.22060500000001,95.456967001434691,105.3,4981.6899999999996,133.4,104.9,99.157791416887306,104.34,344.9,101,98.994079999999997,251.58799999999999,103.97]
[null,"Junio",96.237918199999996,112.26,135,316.39999999999998,215.15319299999999,95.655682352941156,105.51649999999999,5044.46,133.6,104.9,99.3111507800769,104.13,349.5,100.9,99.376459999999994,251.989,104.09]
[null,"Julio",96.503438430000003,112.42,135.47999999999999,317.60000000000002,214.97380699999999,95.640962697274006,105.4581,5061.1099999999997,134.30000000000001,105.2,99.184494050769601,103.94,354.9,101,99.909099999999995,252.006,103.85]
[null,"Agosto",96.439754769999993,112.71,136.08000000000001,319,214.466511,95.670402008608306,105.527,5056.5600000000004,134.19999999999999,105.9,99.303264094060694,104.85,355.37325786599888,101.6,100.492,252.14599999999999,104.01]
[null,"Septiembre",96.653068910000002,112.76,136.88999999999999,319.10000000000002,215.54450399999999,95.744000286944029,105.4892,5080.83,133.69999999999999,106.6,99.467112979991498,105.65,365.5,101.7,100.917,252.43899999999999,104.42]
[null,"Octubre",97.014241229999996,113.02,137.35,320.89999999999998,216.65405299999998,95.957435294117616,105.57429999999999,5103.7,134.1,106.8,99.586837885347407,105.46,370.98249999999996,102,101.44,252.88499999999999,104.68]
[null,"Noviembre",97.423643319999996,112.82,136.94999999999999,322.60000000000002,217.78748199999998,95.618883213773273,105.1135,5092.97,133.5,106.4,99.703542550824395,104.71,376.17625499999997,101.8,102.303,252.03800000000001,104.1]
[null,"Diciembre",97.629111649999999,112.3,137.13,323.2,219.15282299999998,95.412808034433255,104.66549999999999,5100.6099999999997,133.4,106.5,100,104.35,381.81889882499991,101.5,103.02,251.233,104.05]
[2019,"Enero",97.679211870000003,112.2397249,138.97999999999999,323.3,218.60355899999999,95.250891822094673,104.38089999999998,5116.93,133.6,107.04484349999998,100.598577066,104.24,387.92800120619989,101.5,103.108,251.71199999999999,102.97]
[null,"Febrero",97.759031789999995,112.4403994,139.16999999999999,325.8,219.20172699999998,95.604163558106166,104.47450000000001,5138,134.5,108.09902249999998,101.17675,104.69,394.52277722670527,101.5,103.07899999999999,252.77600000000001,103.3]
[null,"Marzo",97.617418020000002,112.693617,139.11000000000001,327.10000000000002,223.18733800000001,96.229748923959818,104.90659999999998,5177.47,135.39851999999999,103.5,104.90659999999998,104.49,397.28443666729214,101.5,103.5,254.2,104.34971089999999]
[null,"Abril",98.165424299999998,112.8711112,139.94999999999999,330.1,225.33578199999999,96.737577044476311,105.2011,5206.9799999999996,136,103.527578885,105.2011,104.87,404.03827209063604,101.8,103.527578885,255.548,105.1]
[null,"Mayo",98.298055489999996,113.01251499999999,140.32,331.3,227.06312199999999,96.708137733142038,105.29519999999999,5213.75,136.6,103.233,105.29519999999999,105.05,409.69480789990496,101.8,103.233,256.09199999999998,105.24]
[null,"Junio",98.568195189999997,112.854478,141.47999999999999,331.6,227.25682,96.531501865136292,104.94649999999999,5214.2700000000004,136.30000000000001,103.29900000000001,104.94649999999999,104.88,417.06931444210323,101.60629999999999,103.29900000000001,256.14299999999997,105.41]
[null,"Julio",99.291642809999999,112.5637614,141.4,332.5,228.05463900000001,96.980451362984226,105.1781,5224.18,137,103.687,105.1781,104.56,423.74242347317687,101.5,103.687,256.57100000000003,104.91]
[null,"Agosto",99.193890580000001,112.15990290000001,140.18,332.7,227.981369,97.311643615494972,104.88839999999999,5229.93,136.80000000000001,103.67,104.88839999999999,104.81,430.52230224874768,101.9,103.67,256.55799999999999,105.06]
[null,"Septiembre",99.097494049999995,111.994422,139.36000000000001,333.2,227.66704099999998,97.679635007173601,104.8386,5227.84,136.19999999999999,103.94199999999999,104.8386,105.2,437.41065908472763,101.8,103.94199999999999,256.75900000000001,105.29]
[null,"Octubre",99.024797930000005,112.0392926,140.33000000000001,334,228.43935200000001,98.334659684361569,104.7837,5233.07,136.6,104.503,104.7837,105.46,444.84664028916796,102.1,104.503,257.346,105.44]
[null,"Noviembre",99.231689320000001,112.17336397352067,140.94999999999999,335,230.24251599999999,98.702651076040183,104.7681,5259.76,136.4,105.346,104.7681,104.87,452.85387981437299,102.2,105.346,257.20800000000003,105.1]
[null,"Diciembre",99.11544567,112.29079921806762,141.80000000000001,336.4,232.586287,98.901366427546634,104.6,5320.25,136.4,105.934,104.6,105.12,460.55239577121728,102.2,105.934,256.97399999999999,105.43]
[2020,"Enero",99.225243599999999,112.15162862434084,141.46,337.2,232.62757999999999,99.225198852223812,104.75230000000001,5331.42,136.80000000000001,112.825265049,104.24,105.79,467.92123410355674,101.9,106.447,257.971,104.37]
[null,"Febrero",99.508993009999998,112.00235119710888,140.88999999999999,338.8,233.26049599999999,99.100081779053085,104.48959999999998,5344.75,137.4,113.72017166999998,104.94,105.8,476.34381631742076,101.8,106.889,258.678,104.56]
[null,"Marzo",99.478912460000004,112.09268743282648,141.57,339.8,233.04895499999998,98.584893830702995,104.0257,5348.49,136.6,112.42564336079998,105.53,105.54,484.44166119481685,101.8,106.83799999999999,258.11500000000001,105.13]
[null,"Abril",99.040237869999999,111.68678726907196,142.58000000000001,341.1,232.65094399999998,97.775312769010029,102.70399999999998,5331.91,135.69999999999999,111.23761331999999,105.7,104.95,494.13049441871317,102,105.755,256.38900000000001,105.43]
[null,"Mayo",98.896445700000001,111.94232067459286,142.85,338.9,233.723071,97.664915351506437,102.69540000000001,5311.65,136.1,110.4,105.36,104.71,505.49549579034351,102,106.16200000000001,256.39400000000001,105.33]
[null,"Junio",98.875348310000007,112.59420555183117,144.86000000000001,340.4,235.48684299999999,99.328236441893822,103.22919999999999,5325.46,137.19999999999999,110.4,104.97,104.87,520.66036066405388,101.9,106.74299999999999,257.79700000000003,105.69]
[null,"Julio",99.127692339999996,112.49403313655692,145.47,342.8,235.910731,101.19763271162122,102.81159999999998,5344.63,137.19999999999999,111,104.97,104.86,533.15620931999115,102.1,107.444,259.101,105.32]
[null,"Agosto",99.123686579999998,111.82079409186876,146.05000000000001,343.4,234.52508499999999,101.98513428981347,102.82869999999997,5357.46,137,111.4,104.96,105.501746,550.75036422755079,102.1,107.867,259.91800000000001,104.88]
[null,"Septiembre",99.393758809999994,111.55780054509418,146.28,344.5,234.05559199999999,102.596,102.89009999999996,5391.75,136.9,111.7,105.29,104.20060000000001,547.99661240641308,101.9,108.114,260.27999999999997,104.96]
[null,"Octubre",99.472841919999993,111.80599011408397,147.83000000000001,346.2,234.58400399999999,103.276,null,5438.12,137.5,111.4,105.23,105.60764400000001,541.42065305753613,101.8,108.774,260.38799999999998,105.16]
[null,"Noviembre",99.474323560000002,111.97579242104128,148.65,347.8,236.32790599999998,103.893,null,5486.52,137.69999999999999,110.7,105.08,105.49922000000001,544.12775632282376,101.4,108.85599999999999,260.22899999999998,104.8]
[null,"Diciembre",100,112.19499999999999,148.63999999999999,349.9,239.40239,104.39400000000001,null,5560.59,137.4,111.5,105.48,105.64559999999999,549.56903388605201,100.9,109.271,260.47399999999999,105.15]
[2021,"Enero",100.17693626000001,112.495,148.87,351.3,240.03097,105.404,null,5574.49,138.19999999999999,100.9,105.91,106.42474,557.85104523201358,101.4,110.21,257.971,105.32]
[null,"Febrero"]
[null,"Marzo"]
[null,"Abril"]
[null,"Mayo"]
[null,"Junio"]
[null,"Julio"]
[null,"Agosto"]
[null,"Septiembre"]
[null,"Octubre"]
[null,"Noviembre"]
[null,"Diciembre"]
["FUENTE: Bancos Centrales Centroamericanos y de República Dominicana,  Contraloría General de la República de Panamá, Instituto Brasileiro de Geografia e Estatística, Statistics Canada, National Bureau of Statistic of China, Banco Central de Colombia,  Statistics Korea, Banque de la République d'Haïti, Statistics Bureau de Japón, Banco Central Europeo, Banco de México, Bureau of Labor Statistics (U.S.A.) y Banco Central Europeo."]
["Aclaración: para efectos de la actualización del cálculo de los diferentes índices de tipo de cambio real, los datos no disponibles son estimados por esta Secretaría."]
["NOTAS:"]
["1/ La Región CAPARD incluye a Centroamérica, República Dominicana y Panamá."]

{"sheet":"TIPO CAMBIO","index":3,"n_rows":336,"n_cols":19,"rows_kept":336,"cut":false,"hidden":false,"merged":[[336,0,336,1],[4,2,4,8],[4,9,4,18],[3,0,3,18],[333,0,333,18],[332,0,332,18]]}
[]
["Secretaría Ejecutiva"]
["Consejo Monetario Centroamericano"]
["TIPO DE CAMBIO PROMEDIO de COMPRA  (moneda nacional por US$)"]
[null,null,"REGIÓN CAPARD 1/",null,null,null,null,null,null,"RESTO DEL MUNDO"]
["Año","MES","COSTA RICA ","EL SALVADOR ","GUATEMALA ","HONDURAS","NICARAGUA ","REPÚBLICA\nDOMINICANA","PANAMÁ","BRASIL","CANADÁ","CHINA","COLOMBIA","COREA DEL SUR","HAITÍ","JAPÓN","MÉXICO","ESTADOS UNIDOS","ZONA \nEURO"]
[null,"moneda","Colón","Colón","Quetzal","Lempira","Córdoba","Peso dominicano","Balboa","Euro","Dólar canadiense","Reminbi","Peso Colombiano","Won surcoreano","Gourde","Yen\n japonés","Peso mexicano","Dólar estadounidense","Euro"]
[]
[1995,"Enero",165.56709677419352,8.7200000000000006,5.72614,9.2100000000000009,7.1471064516129026,12.87,1,0.84099999999999997,1.4132,8.4608000000000008,846.63,793.07500000000005,14.056900000000001,99.766000000000005,5.6405000000000003,1,0.80592191400000002]
[null,"Febrero",167.71071428571432,8.7200000000000006,5.70749,9.08,7.212860714285716,12.87,1,0.85050000000000003,1.4005000000000001,8.4552999999999994,850.9,793.19470000000001,14.0815,98.236800000000002,5.6779000000000002,1,0.79447427299999995]
[null,"Marzo",170.26193548387096,8.7200000000000006,5.6863099999999998,9.1300000000000008,7.2792354838709672,12.87,1,0.89500000000000002,1.4077,8.4482999999999997,865.83,781.81299999999999,14.288500000000001,90.519599999999997,6.7770000000000001,1,0.75926512199999996]
[null,"Abril",172.85300000000001,8.7200000000000006,5.7202200000000003,9.1199999999999992,7.3484966666666667,12.87,1,0.91200000000000003,1.3762000000000001,8.4420999999999999,873.39,770.61,14.321999999999999,83.689499999999995,6.2285000000000004,1,0.74547200300000005]
[null,"Mayo",175.24870967741941,8.7200000000000006,5.7286700000000002,9.15,7.4184193548387105,12.87,1,0.90500000000000003,1.3609,8.3369999999999997,876.95,764.43179999999995,14.4087,85.112700000000004,5.9741,1,0.75663397799999998]
[null,"Junio",177.86600000000001,8.7200000000000006,5.7468399999999997,9.2799999999999994,7.4890033333333328,12.87,1,0.92100000000000004,1.3774999999999999,8.3206000000000007,874.86,763.8818,14.9452,84.635499999999993,6.2329999999999997,1,0.75106594999999998]
[null,"Julio",180.27967741935487,8.7200000000000006,5.75962,9.41,7.5602580645161268,12.87,1,0.93500000000000005,1.3612,8.3207000000000004,893.22,760.04499999999996,14.952299999999999,87.397000000000006,6.1219999999999999,1,0.74359670300000003]
[null,"Agosto",182.66290322580645,8.7200000000000006,5.8017099999999999,9.5500000000000007,7.6333806451612896,12.87,1,0.95,1.3552,8.3253000000000004,935.1,767.42169999999999,15.2639,94.738299999999995,6.2046999999999999,1,0.76662953599999994]
[null,"Septiembre",185.2703333333333,8.7200000000000006,5.87913,9.67,7.7060133333333338,12.87,1,0.95299999999999996,1.3509,8.3374000000000006,964.17,772.04,15.430899999999999,100.5455,6.3167,1,0.77591437600000002]
[null,"Octubre",187.89161290322573,8.7200000000000006,5.9458700000000002,9.81,7.7793387096774174,12.87,1,0.96140000000000003,1.3458000000000001,8.3353000000000002,984.96,767.1952,15.8088,100.839,6.7451999999999996,1,0.75633124900000004]
[null,"Noviembre",190.65400000000002,8.7200000000000006,5.9872800000000002,10.039999999999999,7.8533533333333345,12.87,1,0.96609999999999996,1.3533999999999999,8.3333999999999993,1000.58,769.78099999999995,17.4361,101.94,7.6936,1,0.75539826499999996]
[null,"Diciembre",193.38774193548394,8.7200000000000006,5.9245200000000002,10.25,7.928080645161292,12.87,1,0.97199999999999998,1.3693,8.3350000000000009,988.15,771.30499999999995,16.046500000000002,101.84950000000001,7.6870000000000003,1,0.76669242800000004]
[1996,"Enero",195.70903225806452,8.7200000000000006,6.0907,10.45,8.0047548387096779,12.87,1,0.97809999999999997,1.3669,8.3384,1011.19,787.13329999999996,16.4419,105.7514,7.4805999999999999,1,0.77409086900000001]
[null,"Febrero",198.01551724137931,8.7200000000000006,6.1587199999999998,10.67,8.0796620689655168,12.87,1,0.98370000000000002,1.3752,8.3338000000000001,1029.6400000000001,780.11500000000001,16.552800000000001,105.788,7.5183,1,0.77603420099999998]
[null,"Marzo",200.13774193548386,8.7200000000000006,6.1739800000000002,10.9,8.1552774193548387,12.87,1,0.98760000000000003,1.3655999999999999,8.3495000000000008,1044.98,781.3143,16.701599999999999,105.94,7.5682,1,0.78043481100000001]
[null,"Abril",201.99600000000001,8.7200000000000006,6.1278199999999998,11.05,8.2328733333333393,12.87,1,0.99209999999999998,1.3592,8.3514999999999997,1050.93,780.41819999999996,16.457100000000001,107.1995,7.4694000000000003,1,0.79119870599999997]
[null,"Mayo",204.0116129032258,8.7200000000000006,6.0805699999999998,11.18,8.3112741935483854,12.87,1,0.998,1.3693,8.3478999999999992,1066.24,780.85910000000001,15.946099999999999,106.34229999999999,7.4367999999999999,1,0.80213045800000005]
[null,"Junio",206.23133333333331,8.7200000000000006,6.1228600000000002,11.46,8.3902866666666647,12.87,1,1.004,1.3657999999999999,8.3423999999999996,1071.96,798.45,15.630699999999999,108.96,7.5648,1,0.79813428099999995]
[null,"Julio",208.34548387096774,8.7200000000000006,6.08948,12,8.4701258064516125,12.87,1,1.0108000000000001,1.3696999999999999,8.3408999999999995,1064.0999999999999,813.03179999999998,15.166499999999999,109.1909,7.6178999999999997,1,0.78700621299999995]
[null,"Agosto",210.34516129032261,8.7200000000000006,6.0686799999999996,12.27,8.5520419354838726,12.87,1,1.0165,1.3722000000000001,8.3378999999999994,1044.8399999999999,817.52269999999999,14.914099999999999,107.8659,7.5143000000000004,1,0.77927198900000005]
[null,"Septiembre",212.49366666666671,8.7200000000000006,6.0430900000000003,12.42,8.6334166666666672,12.87,1,1.0211000000000001,1.3694,8.3340999999999994,1040.8399999999999,822.4,15.0548,109.931,7.5441000000000003,1,0.78797983999999999]
[null,"Octubre",214.67129032258063,8.7200000000000006,6.0505199999999997,12.56,8.7155516129032229,12.87,1,1.0272000000000001,1.3508,8.3299000000000003,1015.78,828.2364,15.158300000000001,112.4123,7.7344999999999997,1,0.794652939]
[null,"Noviembre",216.84866666666667,8.7200000000000006,6.0066199999999998,12.61,8.7984899999999993,12.87,1,1.0327999999999999,1.3381000000000001,8.3293999999999997,998.18,830.56320000000005,15.27,112.2958,7.9119000000000002,1,0.78314668300000001]
[null,"Diciembre",219.01225806451606,8.7200000000000006,5.9946999999999999,12.78,8.882200000000001,13.19,1,1.0390000000000001,1.3622000000000001,8.3290000000000006,1000.79,841.91899999999998,15.045299999999999,113.98099999999999,7.8769,1,0.79983875299999996]
[1997,"Enero",220.87548387096777,8.7200000000000006,6.0530400000000002,12.93,8.9681129032258067,13.91,1,1.0457000000000001,1.3493999999999999,8.3260000000000005,1027.06,854.07140000000004,15.641,117.91240000000001,7.8289,1,0.822229129]
[null,"Febrero",223.01250000000002,8.7200000000000006,6.0906799999999999,12.73,9.0506214285714286,13.96,1,1.0510999999999999,1.3555999999999999,8.3226999999999993,1074.24,868.39469999999994,16.088699999999999,122.96210000000001,7.8022999999999998,1,0.857808762]
[null,"Marzo",225.16870967741937,8.7200000000000006,5.9953900000000004,12.79,9.1339064516129014,14.02,1,1.0589,1.3725000000000001,8.3257999999999992,1062.1600000000001,882.61900000000003,16.518999999999998,122.77379999999999,7.9561999999999999,1,0.86974975600000004]
[null,"Abril",227.17566666666661,8.7200000000000006,5.9967699999999997,12.76,9.2208200000000016,14.02,1,1.0634000000000001,1.3942000000000001,8.3256999999999994,1060.6500000000001,895.56820000000005,16.7499,125.6377,7.9058999999999999,1,0.87335100399999999]
[null,"Mayo",229.27548387096775,8.7200000000000006,5.9756499999999999,13.05,9.3085645161290316,14.02,1,1.0712999999999999,1.3804000000000001,8.3229000000000006,1075.18,894.66669999999999,16.775700000000001,119.19240000000001,7.9036999999999997,1,0.870063802]
[null,"Junio",231.52500000000009,8.7200000000000006,5.92258,13.07,9.397120000000001,14.02,1,1.0765,1.3843000000000001,8.3224,1082.3699999999999,891.40480000000002,16.832899999999999,114.28570000000001,7.9497999999999998,1,0.87979609800000003]
[null,"Julio",233.69483870967741,8.7200000000000006,5.9535099999999996,13.08,9.4865354838709681,14.02,1,1.083,1.3774999999999999,8.3162000000000003,1102.4000000000001,893.09090000000003,16.606200000000001,115.3759,7.8678999999999997,1,0.90504863300000005]
[null,"Agosto",235.58419354838702,8.7200000000000006,6.0721699999999998,13.08,9.5782935483870979,14.02,1,1.0911999999999999,1.3905000000000001,8.3186999999999998,1132.7,898.70950000000005,16.709099999999999,117.9295,7.7817999999999996,1,0.93219841299999995]
[null,"Septiembre",237.47466666666671,8.7200000000000006,6.1045800000000003,13.09,9.6694233333333326,14.02,1,1.0960000000000001,1.3872,8.3170999999999999,1222.49,912.50480000000005,16.697600000000001,120.89,7.7808999999999999,1,0.90916116199999997]
[null,"Octubre",239.3864516129033,8.7200000000000006,6.1467999999999998,13.09,9.7614322580645165,14.02,1,1.1027,1.3869,8.3134999999999994,1262.8900000000001,929.41819999999996,17.202200000000001,121.0605,7.8708,1,0.89260370700000002]
[null,"Noviembre",241.34033333333329,8.7200000000000006,6.2105899999999998,13.09,9.8543000000000003,14.02,1,1.1093999999999999,1.4128000000000001,8.3109000000000002,1294.56,1035.2235000000001,17.1843,125.3817,8.2715999999999994,1,0.87767955600000003]
[null,"Diciembre",243.2551612903226,8.7200000000000006,6.1818600000000004,13.1,9.9480806451612906,14.02,1,1.1160000000000001,1.4271,8.3099000000000007,1296.7,1496.9,16.844100000000001,129.73410000000001,8.1271000000000004,1,0.89961955100000002]
[1998,"Enero",244.89225806451608,8.7200000000000006,6.2517399999999999,13.11,10.044287096774195,14.02,1,1.1233,1.4409000000000001,8.3094000000000001,1323.16,1707.3,17.308900000000001,129.54750000000001,8.2271999999999998,1,0.91935086499999996]
[null,"Febrero",246.83892857142854,8.7200000000000006,6.2101300000000004,13.16,10.136696428571423,14.02,1,1.1299999999999999,1.4334,8.3071999999999999,1346.12,1628.4211,17.4239,125.8516,8.5021000000000004,1,0.91874103100000004]
[null,"Marzo",248.88290322580647,8.7200000000000006,6.2676499999999997,13.21,10.229980645161286,14.02,1,1.137,1.4166000000000001,8.3076000000000008,1357.1,1489.3570999999999,17.4209,129.0823,8.5680999999999994,1,0.92222847299999999]
[null,"Abril",250.93199999999996,8.7200000000000006,6.2801299999999998,13.21,10.327333333333319,14.02,1,1.1438999999999999,1.4298,8.3057999999999996,1360.65,1391.5454999999999,17.167300000000001,131.75360000000001,8.5016999999999996,1,0.916539039]
[null,"Mayo",252.94322580645158,8.7200000000000006,6.2756400000000001,13.27,10.425580645161284,14.02,1,1.1501000000000001,1.4452,8.3084000000000007,1386.28,1399.05,16.784700000000001,134.89599999999999,8.5847999999999995,1,0.90167666800000001]
[null,"Junio",255.27700000000002,8.7200000000000006,6.3063900000000004,13.32,10.524776666666659,14.02,1,1.1564999999999999,1.4655,8.31,1386.61,1397.7727,16.438099999999999,140.3305,8.92,1,0.90793040899999999]
[null,"Julio",257.68419354838704,8.7200000000000006,6.34077,13.37,10.624925806451587,15.22,1,1.163,1.4869000000000001,8.31,1371.54,1295.7609,16.062899999999999,140.78739999999999,8.8989999999999991,1,0.91116173099999997]
[null,"Agosto",260.12322580645167,8.7200000000000006,6.3963999999999999,13.42,10.727680645161279,15.33,1,1.1764999999999999,1.5346,8.31,1390.46,1314.2856999999999,16.4145,144.68,9.3712,1,0.90779853399999999]
[null,"Septiembre",262.49500000000006,8.7200000000000006,6.4817799999999997,13.51,10.829759999999995,15.36,1,1.1852,1.5218,8.3055000000000003,1520.52,1375.5381,16.780100000000001,134.48050000000001,10.219200000000001,1,0.86645727299999997]
[null,"Octubre",264.92516129032265,8.7200000000000006,6.5621799999999997,13.57,10.932799999999986,15.44,1,1.1928000000000001,1.5451999999999999,8.2777999999999992,1587.38,1344.1429000000001,16.6143,121.04859999999999,10.1594,1,0.83769282599999995]
[null,"Noviembre",267.5306666666666,8.7200000000000006,6.5590599999999997,13.67,11.036819999999997,15.49,1,1.2008000000000001,1.5404,8.2777999999999992,1562.71,1294.0105000000001,16.648800000000001,120.2895,9.9685000000000006,1,0.85879444199999999]
[null,"Diciembre",270.08096774193547,8.7200000000000006,6.7195299999999998,13.75,11.141841935483866,15.48,1,1.2082999999999999,1.5432999999999999,8.2780000000000005,1524.56,1213.2182,16.400600000000001,117.07089999999999,9.9067000000000007,1,0.85315351100000003]
[1999,"Enero",272.26129032258063,8.7200000000000006,6.97126,13.84,11.249590322580655,15.49,1,1.9828000000000001,1.5194000000000001,8.2789000000000001,1570.01,1175.1052999999999,16.742000000000001,113.29,10.1279,1,0.86148968800000003]
[null,"Febrero",274.78857142857134,8.7200000000000006,6.8733700000000004,13.9,11.353103571428582,15.75,1,2.0644,1.4977,8.2781000000000002,1567.07,1188.8368,16.8081,116.66840000000001,10.005699999999999,1,0.89224770600000003]
[null,"Marzo",277.30806451612904,8.7200000000000006,6.9680299999999997,13.96,11.457580645161295,15.88,1,1.7216,1.5176000000000001,8.2791999999999994,1550.15,1229.7217000000001,16.788499999999999,119.473,9.7324000000000002,1,0.91886766099999995]
[null,"Abril",279.73666666666662,8.7200000000000006,7.0647000000000002,14.03,11.566580000000011,15.88,1,1.6602999999999999,1.4881,8.2791999999999994,1574.67,1209.9636,16.698399999999999,119.7723,9.4304000000000006,1,0.934194411]
[null,"Mayo",282.30709677419361,8.7200000000000006,7.2618999999999998,14.09,11.676654838709684,15.88,1,1.7236,1.4611000000000001,8.2784999999999993,1641.33,1197.92,16.6891,121.9995,9.3955000000000002,1,0.94090194900000002]
[null,"Junio",284.90866666666665,8.7200000000000006,7.3519399999999999,14.17,11.787727666666672,15.85,1,1.7690999999999999,1.4695,8.2780000000000005,1693.99,1168.9136000000001,16.693999999999999,120.72450000000001,9.5145999999999997,1,0.96361858]
[null,"Julio",287.32677419354837,8.7200000000000006,7.3805899999999998,14.22,11.893300000000005,15.85,1,1.7887999999999999,1.4890000000000001,8.2775999999999996,1818.63,1189.0952,16.788699999999999,119.3305,9.3698999999999995,1,0.96593345900000005]
[null,"Agosto",289.33322580645154,8.7200000000000006,7.6613699999999998,14.27,11.981964516129041,15.85,1,1.9155,1.4932000000000001,8.2772000000000006,1876.93,1198.3090999999999,16.747,113.2268,9.3978999999999999,1,0.94308038299999997]
[null,"Septiembre",291.23300000000006,8.7200000000000006,7.7744099999999996,14.35,12.068560000000009,15.85,1,1.9218999999999999,1.4771000000000001,8.2774000000000001,1975.64,1201,16.901599999999998,106.87520000000001,9.3413000000000004,1,0.95231111599999996]
[null,"Octubre",293.11838709677409,8.7200000000000006,7.7969900000000001,14.39,12.155777419354846,15.89,1,1.9525999999999999,1.4776,8.2774999999999999,1978.71,1205.2850000000001,17.1158,105.965,9.5752000000000006,1,0.93402687900000003]
[null,"Noviembre",295.04933333333338,8.7200000000000006,7.7574300000000003,14.44,12.229113333333332,15.93,1,1.9222999999999999,1.4674,8.2782,1944.64,1176.9749999999999,17.544,104.6485,9.4161000000000001,1,0.96728356800000004]
[null,"Diciembre",297.02225806451611,8.7200000000000006,7.66364,14.49,12.288806451612908,15.92,1,1.7886,1.4722,8.2794000000000008,1888.46,1136.8043,17.9375,102.5843,9.4270999999999994,1,0.98910598699999996]
[2000,"Enero",298.73645161290324,8.7200000000000006,7.8733199999999997,14.54,12.349770967741941,15.98,1,1.802,1.4486000000000001,8.2791999999999994,1923.57,1130.99,18.537600000000001,105.29600000000001,9.4934999999999992,1,0.986490019]
[null,"Febrero",300.41448275862075,8.7200000000000006,7.7813499999999998,14.61,12.40880344827587,16.05,1,1.7681,1.4512,8.2781000000000002,1950.64,1129.7455,18.994399999999999,109.38849999999999,9.4265000000000008,1,1.0168553950000001]
[null,"Marzo",302.14354838709681,8.7200000000000006,7.7170800000000002,14.65,12.468215167695766,16.05,1,1.7469000000000001,1.4608000000000001,8.2786000000000008,1956.25,1116.3904,19.922499999999999,106.3074,9.2886000000000006,1,1.0369754330000001]
[null,"Abril",303.75166666666667,8.7200000000000006,7.7060899999999997,14.7,12.528913333333342,16.05,1,1.8063,1.4689000000000001,8.2792999999999992,1986.77,1110.32,19.521599999999999,105.627,9.3937000000000008,1,1.056021965]
[null,"Mayo",305.26806451612913,8.7200000000000006,7.6951599999999996,14.76,12.589893548387106,16.05,1,1.8262,1.4957,8.2781000000000002,2055.69,1119.4864,19.942699999999999,108.3205,9.5059000000000005,1,1.1037917450000001]
[null,"Junio",307.01433333333341,8.7200000000000006,7.7240000000000002,14.8,12.65117333333334,16.05,1,1.7995999999999999,1.4770000000000001,8.2772000000000006,2120.17,1117.9349999999999,19.824000000000002,106.1255,9.8343000000000007,1,1.053544281]
[null,"Julio",308.72870967741943,8.7100000000000009,7.7418899999999997,14.8499,12.712748387096781,16.05,1,1.7744,1.4778,8.2794000000000008,2161.34,1115.075,20.2654,108.2115,9.4192,1,1.064218114]
[null,"Agosto",310.34451612903223,8.7100000000000009,7.7401600000000004,14.9107,12.775648387096783,16.05,1,1.823,1.4827999999999999,8.2796000000000003,2187.38,1114.4670000000001,21.5975,108.0804,9.2723999999999993,1,1.106124946]
[null,"Septiembre",311.9903333333333,8.7100000000000009,7.7925399999999998,14.979100000000001,12.837833333333343,16.38,1,1.8432999999999999,1.4863999999999999,8.2784999999999993,2213.7600000000002,1117.57,24.2546,106.83750000000001,9.3614999999999995,1,1.146639086]
[null,"Octubre",313.66774193548389,8.7100000000000009,7.8104399999999998,15.0326,12.90032258064517,16.45,1,1.9085999999999999,1.5125,8.2784999999999993,2176.61,1131.0989999999999,24.434899999999999,108.44289999999999,9.5370000000000008,1,1.1693731810000001]
[null,"Noviembre",315.34766666666656,8.7100000000000009,7.7614000000000001,15.09,12.963120000000007,16.489999999999998,1,1.9592000000000001,1.5426,8.2774000000000001,2136.63,1156.5428999999999,23.873999999999999,109.0095,9.5081000000000007,1,1.167697744]
[null,"Diciembre",317.08096774193547,8.7100000000000009,7.7229200000000002,15.130100000000001,13.026219354838716,16.53,1,1.9550000000000001,1.5219,8.2771000000000008,2186.21,1216.9349999999999,22.879200000000001,112.209,9.4672999999999998,1,1.1144346030000001]
[2001,"Enero",318.62709677419349,8.75,7.7930599999999997,15.146100000000001,13.09075161290323,16.62,1,1.9706999999999999,1.5032000000000001,8.2775999999999996,2241.4,1272.6342999999999,23.4207,116.67189999999999,9.7688000000000006,1,1.065777666]
[null,"Febrero",320.28964285714284,8.75,7.72851,15.199199999999999,13.152550000000005,16.66,1,2.0448,1.5216000000000001,8.2771000000000008,2243.42,1252.8525999999999,23.445499999999999,116.2337,9.7108000000000008,1,1.084945834]
[null,"Marzo",321.98387096774201,8.75,7.6924799999999998,15.2479,13.214635483870973,16.66,1,2.1612,1.5587,8.2774999999999999,2278.7800000000002,1291.405,23.6632,121.505,9.5990000000000002,1,1.099477418]
[null,"Abril",323.5533333333334,8.75,7.7382400000000002,15.31,13.279136666666687,16.66,1,2.1842999999999999,1.5578000000000001,8.2771000000000008,2323.1,1327.7571,23.395499999999998,123.771,9.3276000000000003,1,1.1210762329999999]
[null,"Mayo",325.14935483870966,8.75,7.7602099999999998,15.37,13.343951612903231,16.66,1,2.3595999999999999,1.5410999999999999,8.2769999999999992,2346.9299999999998,1298.8955000000001,23.3644,121.76819999999999,9.1475000000000009,1,1.1439501050000001]
[null,"Junio",326.88,8.75,7.7891000000000004,15.43,13.409088333333345,16.66,1,2.3045,1.5245,8.2769999999999992,2305.66,1295.0476000000001,23.820399999999999,122.351,9.0881000000000007,1,1.1721034690000001]
[null,"Julio",328.8070967741935,8.75,7.7904200000000001,15.49,13.474532258064515,16.66,1,2.4308999999999998,1.5307999999999999,8.2768999999999995,2304.2800000000002,1305.2381,24.0899,124.49809999999999,9.1682000000000006,1,1.161893608]
[null,"Agosto",330.79935483870969,8.75,7.8394000000000004,15.52,13.541377419354843,16.66,1,2.5512999999999999,1.5399,8.2769999999999992,2288.9,1285.6522,24.561800000000002,121.367,9.1332000000000004,1,1.110515135]
[null,"Septiembre",332.9223333333332,8.75,7.9433699999999998,15.59,13.607470000000005,16.66,1,2.6709000000000001,1.5679000000000001,8.2767999999999997,2328.23,1293.8333,24.999300000000002,118.6117,9.4253,1,1.097580384]
[null,"Octubre",335.16870967741926,8.75,8.0989500000000003,15.68,13.673893548387101,16.66,1,2.7067000000000001,1.5717000000000001,8.2767999999999997,2320.65,1302.3635999999999,25.696899999999999,121.45359999999999,9.3391000000000002,1,1.1039172500000001]
[null,"Noviembre",337.73233333333332,8.75,8.0732300000000006,15.8,13.740633333333337,16.760000000000002,1,2.5282999999999998,1.5922000000000001,8.2768999999999995,2310.4699999999998,1282.0999999999999,26.520900000000001,122.4055,9.2249999999999996,1,1.1257344010000001]
[null,"Diciembre",340.3132258064515,8.75,7.9464499999999996,15.88,13.80771612903226,16.97,1,2.3199999999999998,1.5788,8.2764000000000006,2306.9,1292.2850000000001,26.170500000000001,127.5945,9.1574000000000009,1,1.1206088940000001]
[2002,"Enero",342.67096774193539,8.75,8.0050299999999996,15.97,13.8621,17.05,1,2.4178999999999999,1.5996999999999999,8.2771000000000008,2274.96,1316.3380999999999,26.632899999999999,132.6833,9.1636000000000006,1,1.132136137]
[null,"Febrero",345.52428571428572,8.75,7.9290200000000004,16.07,13.914899999999999,17.149999999999999,1,2.3477999999999999,1.5964,8.2766999999999999,2286.6999999999998,1320.5526,26.752400000000002,133.64259999999999,9.1050000000000004,1,1.1493790479999999]
[null,"Marzo",348.52677419354831,8.75,7.9018699999999997,16.149999999999999,13.983000000000001,17.149999999999999,1,2.3231999999999999,1.5876999999999999,8.2773000000000003,2282.33,1322.9048,26.926200000000001,131.06100000000001,9.0640000000000001,1,1.141813199]
[null,"Abril",351.33499999999992,8.75,7.8154700000000004,16.23,14.0527,17.559999999999999,1,2.3620999999999999,1.5814999999999999,8.2772000000000006,2263.11,1318.0908999999999,26.663,130.77180000000001,9.1648999999999994,1,1.1288682080000001]
[null,"Mayo",354.3854838709679,8.75,7.8587199999999999,16.309999999999999,14.146599999999999,17.559999999999999,1,2.5215999999999998,1.5502,8.2769999999999992,2310.2399999999998,1262.2,26.8032,126.375,9.5099,1,1.0905125410000001]
[null,"Junio",357.64099999999996,8.75,7.8892899999999999,16.39,14.243600000000001,17.559999999999999,1,2.8439999999999999,1.5318000000000001,8.2766999999999999,2364.25,1219.6949999999999,27.0976,123.29049999999999,9.7670999999999992,1,1.0466381979999999]
[null,"Julio",360.85999999999996,8.75,7.8441799999999997,16.47,14.264799999999999,17.559999999999999,1,3.4281000000000001,1.5456000000000001,8.2767999999999997,2506.7199999999998,1179.9867999999999,27.9664,117.8991,9.7791999999999994,1,1.007878587]
[null,"Agosto",363.87354838709678,8.75,7.7598200000000004,16.55,14.329499999999999,17.559999999999999,1,3.0219,1.5693999999999999,8.2766999999999999,2647.22,1197.5091,28.670400000000001,118.9927,9.8389000000000006,1,1.0227469140000001]
[null,"Septiembre",367.05633333333327,8.75,7.7714499999999997,16.64,14.4255,17.559999999999999,1,3.8944999999999999,1.5761000000000001,8.2769999999999992,2751.23,1211.605,29.061399999999999,121.078,10.0708,1,1.0195810540000001]
[null,"Octubre",370.27741935483874,8.75,7.7172599999999996,16.73,14.489699999999999,17.559999999999999,1,3.6446000000000001,1.5780000000000001,8.2772000000000006,2827.86,1240.1909000000001,31.0806,123.90770000000001,10.094099999999999,1,1.0192399999999999]
[null,"Noviembre",373.57633333333342,8.75,7.6006600000000004,16.8,14.551,17.559999999999999,1,3.6360999999999999,1.5714999999999999,8.2772000000000006,2726.66,1210.2,36.144500000000001,121.6079,10.1952,1,0.99820399999999998]
[null,"Diciembre",376.9258064516128,8.75,7.6367000000000003,16.88,14.604900000000001,17.559999999999999,1,3.5329000000000002,1.5591999999999999,8.2776999999999994,2814.89,1206.6143,37.205399999999997,121.8929,10.225099999999999,1,0.98119400000000001]
[2003,"Enero",379.88322580645161,8.75,7.7846500000000001,16.96,14.6928,17.559999999999999,1,3.4375,1.5414000000000001,8.2774999999999999,2913,1176.4523999999999,39.429600000000001,118.8133,10.622299999999999,1,0.94159999999999999]
[null,"Febrero",383.21142857142837,8.75,7.8144200000000001,17.04,14.7624,18.170000000000002,1,3.5954999999999999,1.5121,8.2780000000000005,2951.86,1190.3684000000001,45.252800000000001,119.3379,10.944699999999999,1,0.92726399999999998]
[null,"Marzo",386.59451612903223,8.75,7.8924500000000002,17.11,14.8422,22.72,1,3.4567000000000001,1.4761,8.2773000000000003,2959.01,1237.2,43.910400000000003,118.6871,10.9053,1,0.926369]
[null,"Abril",389.82866666666672,8.75,7.8945699999999999,17.18,14.919499999999999,23.78,1,3.109,1.4581999999999999,8.2772000000000006,2926.62,1231.1044999999999,42.806800000000003,119.895,10.588699999999999,1,0.92075600000000002]
[null,"Mayo",392.92645161290324,8.75,7.8905399999999997,17.23,14.991199999999999,25.6,1,2.9517000000000002,1.3839999999999999,8.2768999999999995,2858.94,1201.2333000000001,41.499200000000002,117.3681,10.252800000000001,1,0.86563199999999996]
[null,"Junio",396.35833333333329,8.75,7.9082699999999999,17.3,15.072100000000001,28.89,1,2.8887,1.3525,8.2771000000000008,2826.95,1194.1429000000001,41.590400000000002,118.32899999999999,10.502800000000001,1,0.85668900000000003]
[null,"Julio",399.85935483870969,8.75,7.9074400000000002,17.38,15.1853,34.450000000000003,1,2.8833000000000002,1.3821000000000001,8.2773000000000003,2858.82,1181.1636000000001,43.185099999999998,118.69589999999999,10.4581,1,0.87998399999999999]
[null,"Agosto",403.03516129032266,8.75,7.9105699999999999,17.45,15.165100000000001,33.72,1,3.0053000000000001,1.3963000000000001,8.2769999999999992,2867.29,1178.5999999999999,41.528599999999997,118.66240000000001,10.782999999999999,1,0.89669299999999996]
[null,"Septiembre",406.25733333333329,8.75,7.97079,17.53,15.3093,31.7,1,2.9203999999999999,1.3633999999999999,8.2772000000000006,2840.08,1165.4048,41.597999999999999,114.8,10.9229,1,0.88789399999999996]
[null,"Octubre",409.64967741935482,8.75,8.0822000000000003,17.600000000000001,15.444699999999999,34.909999999999997,1,2.8628,1.3221000000000001,8.2767999999999997,2876.2,1169.3408999999999,41.857300000000002,109.49550000000001,11.179600000000001,1,0.85415600000000003]
[null,"Noviembre",413.16599999999994,8.75,8.0663999999999998,17.670000000000002,15.4718,39.74,1,2.915,1.3129999999999999,8.2768999999999995,2844.55,1186.3888999999999,42.584600000000002,109.1778,11.1494,1,0.85499999999999998]
[null,"Diciembre",416.62967741935495,8.75,8.0174599999999998,17.73,15.5284,37.44,1,2.9255,1.3128,8.2769999999999992,2807.2,1192.3363999999999,42.934699999999999,107.7377,11.2515,1,0.81334300000000004]
[2004,"Enero",419.3096774193549,8.75,8.0986899999999995,17.78,15.6318,46.09,1,2.8532999999999999,1.2958000000000001,8.2769999999999992,2749.14,1183.345,43.442799999999998,106.2685,10.920299999999999,1,0.79132800000000003]
[null,"Febrero",422.44999999999993,8.75,8.0934799999999996,17.86,15.682600000000001,49.23,1,2.9342000000000001,1.3299000000000001,8.2771000000000008,2717.94,1167.5316,43.929900000000004,106.7079,11.0319,1,0.79119899999999999]
[null,"Marzo",425.66677419354841,8.75,8.08826,17.940000000000001,15.7525,46.52,1,2.9066999999999998,1.3286,8.2771000000000008,2670.8,1166.287,40.670200000000001,108.5157,11.019,1,0.81565200000000004]
[null,"Abril",428.71766666666662,8.75,8.0346899999999994,18.0243,15.8154,44.35,1,2.9079000000000002,1.3420000000000001,8.2768999999999995,2639.6,1152.8635999999999,38.161799999999999,107.6564,11.270099999999999,1,0.83416100000000004]
[null,"Mayo",431.89225806451617,8.75,7.9736700000000003,18.099299999999999,15.890650715057401,46.92,1,3.1023000000000001,1.3789,8.2771000000000008,2719.43,1177.875,37.397100000000002,112.196,11.5199,1,0.83343299999999998]
[null,"Junio",435.10100000000006,8.75,7.9268000000000001,18.1691,15.9534,48.12,1,3.1293000000000002,1.3577999999999999,8.2766999999999999,2716.56,1159.0227,36.321300000000001,109.4336,11.3926,1,0.82335100000000006]
[null,"Julio",438.35903225806459,8.75,7.8822700000000001,18.241,15.986958963873708,44.84,1,3.0384000000000002,1.3225,8.2766999999999999,2653.32,1158.7,36.0411,109.4871,11.4678,1,0.81535599999999997]
[null,"Agosto",441.69516129032257,8.75,7.8972600000000002,18.329999999999998,16.03618051718901,41.25,1,3.0017999999999998,1.3127,8.2767999999999997,2598.59,1158.0318,36.261800000000001,110.2336,11.395300000000001,1,0.82033100000000003]
[null,"Septiembre",445.21366666666682,8.75,7.88727,18.411000000000001,16.051542371951133,36.950000000000003,1,2.8914,1.2881,8.2766999999999999,2552.7800000000002,1148.7190000000001,36.608199999999997,110.09139999999999,11.487,1,0.81810000000000005]
[null,"Octubre",448.85838709677392,8.75,7.8180500000000004,18.486699999999999,16.084469555548353,32.270000000000003,1,2.8519999999999999,1.2468999999999999,8.2765000000000004,2580.6999999999998,1141.57,36.776600000000002,108.7835,11.403700000000001,1,0.79969500000000004]
[null,"Noviembre",452.44166666666672,8.75,7.7589499999999996,18.54,16.107368057139297,29.56,1,2.7877000000000001,1.1968000000000001,8.2765000000000004,2530.19,1086.4349999999999,37.174599999999998,104.699,11.371,1,0.76967600000000003]
[null,"Diciembre",456.04161290322583,8.75,7.7658500000000004,18.59,16.135477468171569,28.86,1,2.7149999999999999,1.2189000000000001,8.2765000000000004,2411.37,1050.3739,37.483499999999999,103.8104,11.2012,1,0.74597400000000003]
[2005,"Enero",459.51967741935471,8.75,7.7515900000000002,18.66,16.287199999999999,29.835599999999999,1,2.6894999999999998,1.2248000000000001,8.2765000000000004,2362.96,1037.9825000000001,37.6008,103.34099999999999,11.262700000000001,1,0.76211300000000004]
[null,"Febrero",462.80464285714282,8.75,7.7064199999999996,18.73,16.4573,28.8475,1,2.5971000000000002,1.2401,8.2765000000000004,2340.4899999999998,1023.1105,37.7423,104.9442,11.1373,1,0.76856400000000002]
[null,"Marzo",465.91419354838695,8.75,7.6037400000000002,18.77,16.524699999999999,28.298100000000002,1,2.7061000000000002,1.216,8.2765000000000004,2353.71,1007.7761,38.079000000000001,105.2543,11.155200000000001,1,0.75849999999999995]
[null,"Abril",468.81533333333334,8.75,7.5947899999999997,18.809999999999999,16.569400000000002,28.2471,1,2.5760000000000001,1.2359,8.2765000000000004,2350.0100000000002,1010.0667,38.621200000000002,107.1938,11.1121,1,0.77267799999999998]
[null,"Mayo",471.98387096774195,8.75,7.5822500000000002,18.850000000000001,16.657399999999999,28.699000000000002,1,2.4554,1.2555000000000001,8.2765000000000004,2339.2199999999998,1001.8386,38.655099999999997,106.59520000000001,10.9764,1,0.78807499999999997]
[null,"Junio",475.28000000000009,8.75,7.60466,18.86,16.6816,28.898599999999998,1,2.4148000000000001,1.2402,8.2765000000000004,2331.79,1012.46,39.1768,108.7473,10.819699999999999,1,0.82272699999999999]
[null,"Julio",478.4996774193549,8.75,7.5801600000000002,18.87,16.808900000000001,28.927,1,2.3702000000000001,1.2229000000000001,8.2263999999999999,2323.38,1036.56,41.544800000000002,111.95350000000001,10.6724,1,0.83083499999999999]
[null,"Agosto",481.45677419354826,8.75,7.5792999999999999,18.87,16.887499999999999,29.001000000000001,1,2.3609,1.2042999999999999,8.1016999999999992,2306.19,1021.6804,42.595700000000001,110.6065,10.686199999999999,1,0.813361]
[null,"Septiembre",484.56200000000001,8.75,7.6124299999999998,18.88,16.952100000000002,30.422799999999999,1,2.2949000000000002,1.1777,8.0919000000000008,2294.52,1029.8433,42.386200000000002,111.239,10.7858,1,0.81651200000000002]
[null,"Octubre",487.71967741935481,8.75,7.6658400000000002,18.89,17.009399999999999,32.406500000000001,1,2.2536,1.1774,8.0894999999999992,2292.5500000000002,1045.8775000000001,42.988500000000002,114.8695,10.8354,1,0.83150500000000005]
[null,"Noviembre",490.91433333333333,8.75,7.6008100000000001,18.899999999999999,17.080500000000001,33.251600000000003,1,2.2109000000000001,1.1815,8.0839999999999996,2279.85,1040.76,43.008400000000002,118.45399999999999,10.6715,1,0.84845199999999998]
[null,"Diciembre",494.14677419354837,8.75,7.6023399999999999,18.899999999999999,17.105799999999999,33.122700000000002,1,2.2808999999999999,1.1615,8.0754999999999999,2278.91,1022.381,42.983800000000002,118.4624,10.6266,1,0.843167]
[2006,"Enero",497.28709677419357,8.75,7.6114600000000001,18.899999999999999,17.2182,34.564900000000002,1,2.2665999999999999,1.1572,8.0654000000000003,2273.66,981.43499999999995,43.367400000000004,115.4765,10.542199999999999,1,0.82626999999999995]
[null,"Febrero",500.23214285714295,8.75,7.5989500000000003,18.899999999999999,17.309000000000001,34.173699999999997,1,2.1587000000000001,1.1489,8.0511999999999997,2256.2399999999998,969.84469999999999,43.052599999999998,117.8605,10.4842,1,0.83759300000000003]
[null,"Marzo",502.98709677419367,8.75,7.6090799999999996,18.899999999999999,17.362098756424462,32.561100000000003,1,2.1528,1.1573,8.0350000000000001,2262.36,974.71090000000004,42.689,117.2778,10.7493,1,0.83140999999999998]
[null,"Abril",505.56166666666661,8.75,7.5841099999999999,18.899999999999999,17.4192,32.106299999999997,1,2.1280999999999999,1.1440999999999999,8.0143000000000004,2334.29,952.59500000000003,42.145899999999997,117.06950000000001,11.0489,1,0.81490200000000002]
[null,"Mayo",507.63032258064516,8.75,7.5749000000000004,18.899999999999999,17.4924,32.4925,1,2.1697000000000002,1.1100000000000001,8.0130999999999997,2417.9899999999998,940.81679999999994,39.487400000000001,111.73050000000001,11.0908,1,0.78334499999999996]
[null,"Junio",510.39433333333329,8.75,7.6012399999999998,18.899999999999999,17.590900035500571,32.7652,1,2.2492999999999999,1.1136999999999999,8.0042000000000009,2542.2399999999998,954.45,39.580500000000001,114.625,11.3934,1,0.78992899999999999]
[null,"Julio",513.26935483870955,8.75,7.5741199999999997,18.899999999999999,17.629068677734224,32.754399999999997,1,2.1882999999999999,1.1294,7.9897,2511.7399999999998,950.81,39.901000000000003,115.767,10.983000000000001,1,0.78864100000000004]
[null,"Agosto",515.88225806451624,8.75,7.5738300000000001,18.899999999999999,17.7196,32.634399999999999,1,2.1553,1.1182000000000001,7.9722,2389.65,960.95219999999995,39.103000000000002,115.9243,10.8735,1,0.78062200000000004]
[null,"Septiembre",518.49866666666662,8.75,7.5976400000000002,18.899999999999999,17.748595450452004,32.9495,1,2.1678999999999999,1.1161000000000001,7.9333999999999998,2398.88,952.29,39.075699999999998,117.2145,10.988799999999999,1,0.78572200000000003]
[null,"Octubre",518.01870967741934,8.75,7.6049600000000002,18.899999999999999,17.8292,33.473700000000001,1,2.1457999999999999,1.1285000000000001,7.9017999999999997,2364.29,952.64290000000005,39.102400000000003,118.60899999999999,10.885400000000001,1,0.79265200000000002]
[null,"Noviembre",514.76266666666663,8.75,7.5991299999999997,18.899999999999999,17.915461851624741,33.558999999999997,1,2.1555,1.1358999999999999,7.8621999999999996,2290.46,935.41430000000003,39.082900000000002,117.3205,10.9133,1,0.77593599999999996]
[null,"Diciembre",515.19096774193542,8.75,7.5950499999999996,18.899999999999999,17.9846,33.085599999999999,1,2.1476000000000002,1.1532,7.8219000000000003,2261.33526315789,924.98,38.314399999999999,117.322,10.8546,1,0.75752699999999995]
[2007,"Enero",516.15193548387094,8.75,7.66913,18.899999999999999,18.059999999999999,33.7012,1,2.1375999999999999,1.1762999999999999,7.7876000000000003,2236.8293119999998,936.76189999999997,38.398699999999998,120.44710000000001,10.9559,1,0.76933399999999996]
[null,"Febrero",517.18750000000011,8.75,7.6863000000000001,18.899999999999999,18.1479,33.361800000000002,1,2.0939000000000001,1.171,7.7502000000000004,2226.745692,936.9,38.459299999999999,120.5047,10.995100000000001,1,0.76438399999999995]
[null,"Marzo",516.91580645161309,8.75,7.6832700000000003,18.899999999999999,18.194253496415492,32.7913,1,2.0882999999999998,1.1681999999999999,7.7369000000000003,2200.36,942.88409999999999,37.997900000000001,117.26,11.1144,1,0.75498500000000002]
[null,"Abril",516.73399999999992,8.75,7.6525800000000004,18.899999999999999,18.219006574985084,32.228099999999998,1,2.0301999999999998,1.135,7.7247000000000003,2141.9299999999998,930.69050000000004,36.9313,118.9324,10.9802,1,0.74007599999999996]
[null,"Mayo",516.76774193548397,8.75,7.63443,18.899999999999999,18.258881125759629,32.139800000000001,1,1.9836,1.0951,7.6772999999999998,2004.673,927.56359999999995,36.858400000000003,120.7732,10.822100000000001,1,0.73993500000000001]
[null,"Junio",516.67633333333333,8.75,7.6696200000000001,18.899999999999999,18.2928,32.415399999999998,1,1.9322999999999999,1.0650999999999999,7.6333000000000002,1920.9179999999999,927.86670000000004,36.280500000000004,122.68859999999999,10.833,1,0.745139]
[null,"Julio",516.595483870968,8.75,7.6701499999999996,18.899999999999999,18.364899999999999,32.992699999999999,1,1.8812,1.0502,7.5757000000000003,1952.1724999999999,918.11900000000003,35.615200000000002,121.4148,10.8146,1,0.72881200000000002]
[null,"Agosto",516.5754838709679,8.75,7.65421,18.899999999999999,18.510100000000001,32.903500000000001,1,1.962,1.0579000000000001,7.5734000000000004,2061.5680000000002,934.48479999999995,35.689700000000002,116.73350000000001,11.043799999999999,1,0.73394499999999996]
[null,"Septiembre",516.36666666666656,8.75,7.6902451506296448,18.899999999999999,18.594799999999999,33.306199999999997,1,1.9023000000000001,1.0266999999999999,7.5209999999999999,2109.2928099999999,928.59500000000003,36.088799999999999,115.04349999999999,11.0319,1,0.71903600000000001]
[null,"Octubre",516.58225806451605,8.75,7.7108800000000004,18.899999999999999,18.714300000000001,33.455100000000002,1,1.7987,0.97540000000000004,7.5019,1998.3786500000001,914.94349999999997,36.216000000000001,115.8661,10.821400000000001,1,0.70262599999999997]
[null,"Noviembre",511.29133333333328,8.75,7.6298724282510353,18.899999999999999,18.792999999999999,33.407899999999998,1,1.7668999999999999,0.96719999999999995,7.4210000000000003,2044.9333300000001,918.80949999999996,36.764299999999999,111.0729,10.8811,1,0.68116399999999999]
[null,"Diciembre",495.75483870967741,8.75,7.6145193141472056,18.899999999999999,18.840599999999998,33.518900000000002,1,1.7851999999999999,1.0021,7.3681999999999999,2015.04303,931.09500000000003,37.058500000000002,112.449,10.846299999999999,1,0.68727300000000002]
[2008,"Enero",494.60806451612893,8.75,7.6950003532170266,18.895099999999999,18.902887099781676,33.756999999999998,1,1.7709999999999999,1.0099,7.2404999999999999,1984.3062709999999,942.05709999999999,37.191099999999999,107.8181,10.9057,1,0.67947000000000002]
[null,"Febrero",493.50827586206896,8.75,7.713841628737506,18.895100000000006,18.995517022688951,33.834400000000002,1,1.7290000000000001,0.99860000000000004,7.1643999999999997,1905.3051720000001,944.005,37.6004,107.03,10.767899999999999,1,0.67784500000000003]
[null,"Marzo",492.35935483870969,8.75,7.6284180629053724,18.896999999999998,19.063788688146566,33.916899999999998,1,1.7090000000000001,1.0028999999999999,7.0721999999999996,1842.826575,981.73479999999995,38.2881,100.75620000000001,10.732799999999999,1,0.64442999999999995]
[null,"Abril",491.27700000000016,8.75,7.5304171142075269,18.903600000000001,19.124891060491503,34.025799999999997,1,1.6862999999999999,1.0137,6.9996999999999998,1793.286364,986.86360000000002,38.626100000000001,102.6777,10.5146,1,0.63481299999999996]
[null,"Mayo",507.55483870967743,8.75,7.424087050067028,18.911909523809499,19.213895973053184,34.011400000000002,1,1.6585000000000001,0.99929999999999997,6.9725000000000001,1775.645076,1034.1333,38.680100000000003,104.3595,10.4381,1,0.64252399999999998]
[null,"Junio",516.46166666666682,8.75,7.4820833829284314,18.898909523809525,19.301721574842208,34.157200000000003,1,1.6178999999999999,1.0165999999999999,6.8993000000000002,1731.661556,1031.4857,39.239899999999999,106.9152,10.3269,1,0.64263700000000001]
[null,"Julio",532.26032258064504,8.75,7.4317652507534779,18.895413043478253,19.375599999999999,34.273600000000002,1,1.59,1.0129999999999999,6.8354999999999997,1770.1390710000001,1015.0545,39.669499999999999,106.8518,10.2094,1,0.63469200000000003]
[null,"Agosto",547.15096774193546,8.75,7.3971985268438409,18.895199999999999,19.475583578006948,34.6753,1,1.6127,1.0535000000000001,6.8461999999999996,1848.1423239999999,1046.1143,39.855600000000003,109.36239999999999,10.115399999999999,1,0.66889799999999999]
[null,"Septiembre",548.97400000000005,8.75,7.4503711040300944,18.895123809523813,19.432961117318836,34.831699999999998,1,1.8030999999999999,1.0582,6.8307000000000002,2072.656352,1134.8667,40.009500000000003,106.5748,10.6633,1,0.69673399999999996]
[null,"Octubre",550.25193548387085,8.75,7.5129466599303756,18.895119047619055,19.646979296253114,34.99,1,2.181,1.1847000000000001,6.8357999999999999,2286.9772520000001,1329.1876999999999,39.817300000000003,99.965900000000005,12.6593,1,0.75371600000000005]
[null,"Noviembre",548.65333333333331,8.75,7.6208658613064024,18.895115000000004,19.731587721498521,35.194099999999999,1,2.2704,1.2171000000000001,6.8281000000000001,2329.9220679999999,1398.7044000000001,40.107599999999998,96.965599999999995,13.118600000000001,1,0.78447999999999996]
[null,"Diciembre",544.48258064516153,8.75,7.689267774777468,18.895099999999999,19.795882421365235,35.256900000000002,1,2.3954,1.2337,6.8539000000000003,2243.6690720000001,1361.5726999999999,40.2059,91.275000000000006,13.416700000000001,1,0.74045300000000003]
[2009,"Enero",551.30838709677414,8.75,7.8455114061778559,18.895099999999999,19.916042247334367,35.369300000000003,1,2.3079000000000001,1.2248000000000001,6.8360000000000003,2265.8208140000002,1354.3975,40.194899999999997,90.120500000000007,13.883900000000001,1,0.75572399999999995]
[null,"Febrero",557.78392857142865,8.75,7.9324462749767868,18.895100000000006,19.997926553964621,35.558,1,2.323,1.2452000000000001,6.8362999999999996,2511.6799999999998,1439.5842,40.455500000000001,92.915800000000004,14.6066,1,0.78224300000000002]
[null,"Marzo",560.71161290322596,8.75,8.0635843305283821,18.89510000000001,20.028700000000001,35.666899999999998,1,2.3161,1.2645,6.8360000000000003,2471.7068049999998,1449.6159,40.582900000000002,97.855000000000004,14.646599999999999,1,0.76696299999999995]
[null,"Abril",565.09633333333329,8.75,8.0795614352258323,18.895100000000006,20.006554991448645,35.825600000000001,1,2.2027000000000001,1.2242,6.8305999999999996,2375.0380580000001,1332.125,40.751100000000001,98.92,13.403499999999999,1,0.75779300000000005]
[null,"Mayo",569.73709677419345,8.75,8.0886278204663729,18.895099999999999,20.164880683483393,35.948300000000003,1,2.0689000000000002,1.1528,6.8235000000000001,2227.2468720000002,1254.345,40.809699999999999,96.644499999999994,13.189500000000001,1,0.73380800000000002]
[null,"Junio",571.89400000000001,8.75,8.1190835347620904,18.89510000000001,20.273522255211812,35.923200000000001,1,1.9585999999999999,1.1264000000000001,6.8334000000000001,2090.0410569999999,1259.2932000000001,40.969499999999996,96.614500000000007,13.3414,1,0.713503]
[null,"Julio",577.19870967741929,8.75,8.1651316546808221,18.895099999999999,20.370698516606893,35.979900000000001,1,1.9328000000000001,1.1229,6.8316999999999997,2049.3521059999998,1259.6739,41.280299999999997,94.367000000000004,13.362299999999999,1,0.70988499999999999]
[null,"Agosto",582.20838709677423,8.75,8.2493711388796154,18.895100000000006,20.495326714118363,36.026899999999998,1,1.8452999999999999,1.0871999999999999,6.8323,2016.95569,1238.9952000000001,41.454099999999997,94.897099999999995,13.0063,1,0.70089999999999997]
[null,"Septiembre",582.15566666666689,8.75,8.3031278533496931,18.895110000000006,20.578071655346612,36.055900000000001,1,1.8187,1.0815999999999999,6.8277000000000001,1973.81,1211.8643,41.561700000000002,91.274799999999999,13.406000000000001,1,0.68682699999999997]
[null,"Octubre",577.49129032258054,8.75,8.3356649668472524,18.895110000000006,20.657870755391759,36.094900000000003,1,1.7378,1.0547,6.8266999999999998,1902.1233629999999,1173.7405000000001,41.881700000000002,90.367099999999994,13.227499999999999,1,0.674987]
[null,"Noviembre",562.38366666666673,8.75,8.2926075535514752,18.895110000000006,20.725083123577612,36.0931,1,1.7267999999999999,1.0592999999999999,6.8270999999999997,1974.9528720000001,1162.8368,42.174399999999999,89.267399999999995,13.111499999999999,1,0.67052199999999995]
[null,"Diciembre",562.63612903225794,8.75,8.3141321336488225,18.895110000000006,20.781463455802157,36.089500000000001,1,1.7507999999999999,1.0537000000000001,6.8274999999999997,2020.0741889999999,1163.3108999999999,42.255499999999998,89.950900000000004,12.8622,1,0.68454000000000004]
[2010,"Enero",559.05064516129028,8.75,8.3563405085440845,18.895110000000006,20.918234696806792,36.11,1,1.7817000000000001,1.0438000000000001,6.8269000000000002,1982.18751,1138.1947,40.577100000000002,91.101100000000002,12.8096,1,0.70077999999999996]
[null,"Febrero",548.63857142857148,8.75,8.1361262190342583,18.895100000126963,21.038769555912207,36.192,1,1.8420000000000001,1.0571999999999999,6.8285,1951.677306,1155.6552999999999,38.572800000000001,90.139499999999998,12.9396,1,0.730765]
[null,"Marzo",532.64677419354837,8.75,8.0103276904942504,18.895103607623714,21.121796362445124,36.2973,1,1.7855000000000001,1.0228999999999999,6.8262,1910.294664,1136.0822000000001,39.4833,90.716099999999997,12.567299999999999,1,0.73706000000000005]
[null,"Abril",511.28833333333336,8.75,7.9928449678823039,18.895103607623714,21.184484763543033,36.421599999999998,1,1.7567999999999999,1.0052000000000001,6.8255999999999997,1936.5212779999999,1115.4591,39.6312,93.452699999999993,12.239599999999999,1,0.74579099999999998]
[null,"Mayo",522.39548387096761,8.75,7.9879061949656069,18.895099999999999,21.262304728708429,36.6982,1,1.8142,1.0403,6.8274999999999997,1985.691771,1164.8409999999999,39.759799999999998,91.972999999999999,12.7262,1,0.79625299999999999]
[null,"Junio",529.91333333333341,8.75,7.998232545050775,18.895099999999999,21.338955733031167,36.726900000000001,1,1.8042,1.0376000000000001,6.8183999999999996,1926.1785420000001,1214.1114,39.817100000000003,90.805899999999994,12.7102,1,0.81919299999999995]
[null,"Julio",518.70451612903219,8.75,7.9928699999999999,18.89510000000001,21.423151353151844,36.796199999999999,1,1.7688999999999999,1.0422,6.7762000000000002,1872.9649959999999,1203.8095000000001,39.826300000000003,87.500500000000002,12.803800000000001,1,0.78328600000000004]
[null,"Agosto",506.84580645161299,8.75,8,18.895099705569017,21.530391152863562,36.893099999999997,1,1.7588999999999999,1.0404,6.7873000000000001,1821.4239070000001,1179.5159000000001,39.832999999999998,85.372699999999995,12.766,1,0.77523600000000004]
[null,"Septiembre",505.0586666666668,8.75,8.0662800000000008,18.895099999999999,21.619256082981003,36.984699999999997,1,1.718,1.0329999999999999,6.7396000000000003,1806.7016289999999,1159.931,39.899500000000003,84.357100000000003,12.797700000000001,1,0.76570199999999999]
[null,"Octubre",505.05806451612915,8.75,8.0445899999999995,18.895100000000006,21.720137161989317,37.188600000000001,1,1.6837,1.0179,6.6677999999999997,1807.8968219999999,1121.94,39.966099999999997,81.728499999999997,12.439299999999999,1,0.71957800000000005]
[null,"Noviembre",507.39699999999999,8.75,7.9917899999999999,18.89510000000001,21.741055878191414,37.215699999999998,1,1.7131000000000001,1.0128999999999999,6.6538000000000004,1866.059614,1129.623,40.137900000000002,82.518000000000001,12.3376,1,0.73240499999999997]
[null,"Diciembre",501.12129032258042,8.75,7.96,18.89510000000001,21.799978904160877,37.309699999999999,1,1.6955,1.0081,6.6497000000000002,1918.793154,1145.4833000000001,40.061100000000003,83.337599999999995,12.3902,1,0.75646199999999997]
[2011,"Enero",501.86741935483877,8.75,7.94,18.895100000000006,21.959545617601595,37.4465,1,1.6745000000000001,0.99390000000000001,6.5964,1867.7322380000001,1118.8675000000001,40.2057,82.625,12.128,1,0.748475]
[null,"Febrero",497.19785714285723,8.75,7.7936800000000002,18.895100000000006,22.064175783052654,37.627600000000001,1,1.6664000000000001,0.98760000000000003,6.5761000000000003,1882.6582209999999,1117.4367999999999,40.4101,82.536799999999999,12.0649,1,0.73290200000000005]
[null,"Marzo",495.12,8.75,7.6911800000000001,18.895099999999999,22.129389726415965,37.762999999999998,1,1.6574,0.97660000000000002,6.5644999999999998,1882.028552,1119.2674,40.235399999999998,81.647000000000006,11.9963,1,0.71439399999999997]
[null,"Abril",494.49866666666662,8.75,7.6033400000000002,18.895100000000006,22.164416689609169,37.835299999999997,1,1.5832999999999999,0.95799999999999996,6.5266999999999999,1809.4825169999999,1083.1762000000001,40.253700000000002,83.177099999999996,11.7059,1,0.69223599999999996]
[null,"Mayo",497.77870967741922,8.75,7.65,18.895099999999999,22.251683335038216,37.891100000000002,1,1.6135999999999999,0.96799999999999997,6.4957000000000003,1802.460654,1084.3619000000001,40.275700000000001,81.125699999999995,11.654199999999999,1,0.69714299999999996]
[null,"Junio",500.2146666666668,8.75,7.76492,18.895099999999999,22.402375882596033,38.03,1,1.5853999999999999,0.97660000000000002,6.4745999999999997,1781.8953449999999,1080.4522999999999,40.299100000000003,80.425899999999999,11.8055,1,0.695079]
[null,"Julio",499.40903225806443,8.75,7.7444499999999996,18.872410000000009,22.513748801950989,38.044400000000003,1,1.5625,0.95530000000000004,6.4574999999999996,1760.766779,1057.425,40.358199999999997,79.242500000000007,11.674099999999999,1,0.70113300000000001]
[null,"Agosto",500.19096774193548,8.75,7.8148499999999999,18.848513043478263,22.604635227635427,38.061999999999998,1,1.5966,0.98170000000000002,6.4036,1785.6536000000001,1073.8869999999999,40.529499999999999,76.965699999999998,12.236599999999999,1,0.69723100000000005]
[null,"Septiembre",505.49799999999988,8.75,7.8399099999999997,18.924095416770832,22.676129355315798,38.145600000000002,1,1.7492000000000001,1.0024999999999999,6.3884999999999996,1835.400132,1121.9095,40.749000000000002,76.795699999999997,13.063700000000001,1,0.72645700000000002]
[null,"Octubre",509.52096774193552,8.75,7.8299174515732988,18.99443888888889,22.724166452708364,38.3001,1,1.7703,1.0198,6.3710000000000004,1904.7413630000001,1150.6849999999999,40.896299999999997,76.643000000000001,13.437900000000001,1,0.729854]
[null,"Noviembre",502.21600000000001,8.75,7.8008899999999999,18.983940909090908,22.759988452761522,38.441600000000001,1,1.7864,1.0247999999999999,6.3563999999999998,1920.130107,1133.4775,41.0471,77.5595,13.695499999999999,1,0.73780199999999996]
[null,"Diciembre",499.80580645161302,8.75,7.7856076542219848,19.010026469856818,22.83322030305397,38.5473,1,1.8391,1.0235000000000001,6.3482000000000003,1933.2295449999999,1148.1261999999999,41.0139,77.796700000000001,13.7746,1,0.75894200000000001]
[2012,"Enero",504.09741935483879,8.75,7.7961200000000002,19.087711479177649,23.013784602379719,38.858400000000003,1,1.7849999999999999,1.0129999999999999,6.3171999999999997,1847.872001,1140.3275000000001,41.173299999999998,76.963999999999999,13.382899999999999,1,0.77500400000000003]
[null,"Febrero",505.04931034482757,8.75,7.7717200000000002,19.162914048967881,23.128224881342625,38.942500000000003,1,1.7168000000000001,0.99670000000000003,6.2996999999999996,1781.6219229999999,1122.69,41.435600000000001,78.47,12.783300000000001,1,0.75626400000000005]
[null,"Marzo",503.25677419354849,8.75,7.7114099999999999,19.240354545454544,23.161915703074222,38.994399999999999,1,1.7952999999999999,0.99380000000000002,6.3125,1766.2085850000001,1126.17,41.578499999999998,82.465900000000005,12.7523,1,0.75755300000000003]
[null,"Abril",499.63499999999999,8.75,7.7361700000000004,19.30468947368421,23.2158340866951,39.017600000000002,1,1.8522000000000001,0.99280000000000002,6.3042999999999996,1772.1225440000001,1135.0237999999999,41.632399999999997,81.252399999999994,13.055899999999999,1,0.76002199999999998]
[null,"Mayo",499.32580645161295,8.75,7.7713799999999997,19.377786363636368,23.29195380026535,39.022199999999998,1,1.9810000000000001,1.0097,6.3242000000000003,1794.6508510000001,1156.6913999999999,41.807499999999997,79.666799999999995,13.619899999999999,1,0.78103199999999995]
[null,"Junio",494.77800000000002,8.75,7.8366899999999999,19.456114285714285,23.424567576646083,39.065399999999997,1,2.0482,1.028,6.3632999999999997,1790.8693760000001,1163.3886,41.991700000000002,79.315200000000004,13.9193,1,0.79836200000000002]
[null,"Julio",495.24806451612903,8.75,7.8116199999999996,19.534649999999999,23.604695946842575,39.0807,1,2.0295999999999998,1.0142,6.3716999999999997,1783.200902,1142.2781,41.994,78.934799999999996,13.363799999999999,1,0.813635]
[null,"Agosto",494.00354838709666,8.75,7.8730200000000004,19.617239130434779,23.733739868233521,39.110900000000001,1,2.0278999999999998,0.99239999999999995,6.3593000000000002,1804.7576879999999,1131.7456999999999,42.107399999999998,78.690899999999999,13.1793,1,0.80650699999999997]
[null,"Septiembre",492.61766666666665,8.75,7.9600799999999996,19.696496460991842,23.813753992857396,39.204599999999999,1,2.0268999999999999,0.97829999999999995,6.32,1801.477654,1122.9911,42.260599999999997,78.135300000000001,12.923500000000001,1,0.77708999999999995]
[null,"Octubre",492.40451612903229,8.75,7.8591300000000004,19.770308695652176,23.861465954030169,39.4283,1,2.0297000000000001,0.98719999999999997,6.2626999999999997,1805.396438,1105.3823,42.3568,79.013199999999998,12.897600000000001,1,0.77054400000000001]
[null,"Noviembre",494.43333333333345,8.75,7.8577599999999999,19.848518181818182,23.974316587035641,39.935499999999998,1,2.0661999999999998,0.997,6.2337999999999996,1820.8119549999999,1086.9525000000001,42.499200000000002,81.030500000000004,13.0639,1,0.76965099999999997]
[null,"Diciembre",494.33129032258068,8.75,7.8761000000000001,19.926769525306661,24.070408755498978,40.170400000000001,1,2.0775000000000001,0.98980000000000001,6.2328000000000001,1792.146291,1075.2225000000001,42.558700000000002,83.790499999999994,12.8651,1,0.76261800000000002]
[2013,"Enero",495.34322580645164,8.75,7.8676199999999996,20.001634609414715,24.226022614155656,40.575600000000001,1,2.0280999999999998,0.99209999999999998,6.2214999999999998,1770.638385,1066.5205000000001,42.645699999999998,89.058099999999996,12.696400000000001,1,0.75163500000000005]
[null,"Febrero",496.21857142857158,8.75,7.8144,20.080485000000003,24.356957650813889,40.757926315789469,1,1.9729000000000001,1.0098,6.2323000000000004,1792.3274240000001,1087.3083999999999,42.828400000000002,93.001599999999996,12.7249,1,0.74867300000000003]
[null,"Marzo",493.5019354838708,8.75,7.7964500000000001,20.151966666666663,24.4090695256725,40.991199999999999,1,1.9842,1.0244,6.2153999999999998,1812.395771,1102.8710000000001,42.941400000000002,94.77,12.5,1,0.77146800000000004]
[null,"Abril",493.49333333333351,8.75,7.7833199999999998,20.218299999999999,24.411461072966144,41.052700000000002,1,2.0011000000000001,1.0186999999999999,6.1860999999999997,1830.331862,1120.8977,43.183399999999999,97.758200000000002,12.206099999999999,1,0.76774600000000004]
[null,"Mayo",493.59483870967745,8.75,7.7759099999999997,20.3003,24.537025632561676,41.094900000000003,1,2.0365000000000002,1.0196000000000001,6.1416000000000004,1850.797793,1111.4945,43.5715,100.9186,12.299300000000001,1,0.77054699999999998]
[null,"Junio",493.33000000000004,8.75,7.8050800000000002,20.380034999999999,24.682677784300466,41.462600000000002,1,2.1734,1.0314000000000001,6.1341999999999999,1908.5430919999999,1135.0084999999999,43.723999999999997,97.234999999999999,12.9636,1,0.75897300000000001]
[null,"Julio",493.06677419354855,8.75,7.8101500000000001,20.45634347826087,24.825860099273971,41.907699999999998,1,2.2517999999999998,1.0402,6.1342999999999996,1900.077571,1125.03,43.753399999999999,99.672700000000006,12.7615,1,0.76466800000000001]
[null,"Agosto",493.1432258064516,8.75,7.8872658086161449,20.459227272727276,24.927736938926625,42.37,1,2.3408000000000002,1.0407,6.1212999999999997,1904.2727319999999,1115.9418000000001,43.774099999999997,97.812299999999993,12.912000000000001,1,0.75103699999999995]
[null,"Septiembre",495.12099999999998,8.75,7.9287700000000001,20.525571428571428,25.039504053469503,42.613700000000001,1,2.2641,1.0342,6.1197999999999997,1920.0784510000001,1082.3115,43.759,99.21,13.055300000000001,1,0.74876200000000004]
[null,"Octubre",493.96322580645176,8.75,7.9452600000000002,20.531204761904764,25.171504138764977,42.439,1,2.1882000000000001,1.0363,6.1032000000000002,1884.2854600000001,1065.8572999999999,43.7744,97.77,12.9916,1,0.73296700000000004]
[null,"Noviembre",493.58833333333331,8.75,7.8807799999999997,20.550342857142855,25.236673905645056,42.460999999999999,1,2.2959000000000001,1.0486,6.0929000000000002,1922.3106359999999,1061.5636999999999,43.805599999999998,100.0737,13.059699999999999,1,0.741259]
[null,"Diciembre",493.50612903225806,8.75,7.8451700000000004,20.59389047619047,25.25307800585588,42.604766666666663,1,2.3471000000000002,1.0639000000000001,6.0738000000000003,1932.6848339999999,1055.6348,43.886299999999999,103.46,13.0099,1,0.72962000000000005]
[2014,"Enero",496.41580645161287,8.75,7.8320800000000004,20.626459090909091,25.421351943528666,42.863799999999998,1,2.3858000000000001,1.0940000000000001,6.0509000000000004,1961.295901,1067.1267,43.8994,103.76139999999999,13.222,1,0.73419800000000002]
[null,"Febrero",518.76392857142855,8.75,7.7452699999999997,20.673604999999995,25.577839605967768,43.086500000000001,1,2.3792,1.1053999999999999,6.0815999999999999,2038.394992,1071.3063,44.148400000000002,102.1253,13.2928,1,0.73218000000000005]
[null,"Marzo",541.9990322580644,8.75,7.7161799999999996,20.730138095238093,25.65854239381266,43.115200000000002,1,2.3250999999999999,1.1107,6.1729000000000003,2017.7256259999999,1070.491,44.5122,102.3395,13.1929,1,0.723186]
[null,"Abril",540.12033333333352,8.75,7.7358900000000004,20.774422222222221,25.65793088764207,43.11,1,2.2324999999999999,1.0992,6.2245999999999997,1937.212084,1042.635,44.842799999999997,102.45820000000001,13.0669,1,0.724163]
[null,"Mayo",545.72774193548378,8.75,7.72384,20.821080952380953,25.798448197519736,43.173466666666663,1,2.2195,1.0893999999999999,6.2380000000000004,1915.2974549999999,1024.7867000000001,45.193899999999999,101.77379999999999,12.933,1,0.72824100000000003]
[null,"Junio",544.76266666666675,8.75,7.79406,20.919928571428564,25.977480477756416,43.362299999999998,1,2.2360000000000002,1.083,6.2305999999999999,1886.712088,1018.7443,45.3264,102.0629,12.9932,1,0.73534100000000002]
[null,"Julio",533.02290322580643,8.75,7.7608600000000001,20.964939130434782,26.11124710506866,43.469700000000003,1,2.2242000000000002,1.0739000000000001,6.1984000000000004,1858.0021380000001,1021.0341,45.320599999999999,101.74,12.991400000000001,1,0.73876500000000001]
[null,"Agosto",534.17161290322576,8.75,7.7919600000000004,21.048950000000005,26.185360498351528,43.492899999999999,1,2.2685,1.0926,6.1540999999999997,1899.4888980000001,1024.55,45.361899999999999,102.9438,13.143599999999999,1,0.75093500000000002]
[null,"Septiembre",534.25599999999997,8.75,7.7074100000000003,21.165080632488042,26.241220743874365,43.650766666666655,1,2.3378999999999999,1.1011,6.1382000000000003,1978.1368210000001,1035.8914,45.486699999999999,107.42570000000001,13.237,1,0.77596600000000004]
[null,"Octubre",533.83516129032239,8.75,7.6263300000000003,21.288829999999997,26.363768538015751,43.803800000000003,1,2.4495,1.1212,6.1250999999999998,2049.0839599999999,1060.3359,45.680999999999997,108.0264,13.4795,1,0.78941799999999995]
[null,"Noviembre",531.39433333333329,8.75,7.6028599999999997,21.354580000000006,26.438178876818817,44.023499999999999,1,2.5527000000000002,1.1325000000000001,6.1249000000000002,2134.5411829999998,1097.8728000000001,46.176400000000001,116.29940000000001,13.614800000000001,1,0.801875]
[null,"Diciembre",529.30741935483866,8.75,7.6081700000000003,21.475268181818187,26.491787829600035,44.143500000000003,1,2.6419000000000001,1.1532,6.1886000000000001,2351.057933,1102.6224,46.714500000000001,119.3233,14.5205,1,0.81232000000000004]
[2015,"Enero",531.4951612903227,8.75,7.6262100000000004,21.606090476190474,26.665335763898828,44.462299999999999,1,2.6345999999999998,1.2121999999999999,6.2180999999999997,2398.4480960000001,1088.1300000000001,46.777099999999997,118.25,14.6972,1,0.860294]
[null,"Febrero",530.87535714285707,8.75,7.6279399999999997,21.775469999999999,26.735556252641352,44.748800000000003,1,2.8170000000000002,1.2499,6.2518000000000002,2422.7252990000002,1101.4604999999999,46.999299999999998,118.76,14.917,1,0.88146100000000005]
[null,"Marzo",527.3925806451615,8.75,7.6120000000000001,21.835825,26.815441002766644,44.656799999999997,1,3.1414,1.2618,6.2385999999999999,2589.4611460000001,1112.9005,47.130200000000002,120.39449999999999,15.237500000000001,1,0.92481500000000005]
[null,"Abril",526.16600000000017,8.75,7.6911699999999996,21.940305555555558,26.901468609906921,44.696399999999997,1,3.0421,1.2337,6.2009999999999996,2496.0099489999998,1084.6709000000001,47.256799999999998,119.5095,15.1943,1,0.92443200000000003]
[null,"Mayo",526.91516129032266,8.75,7.6642000000000001,21.93779,27.030531121199854,44.7605,1,3.0562,1.2176,6.2035,2443.2824380000002,1092.6365000000001,47.729199999999999,120.798,15.2796,1,0.89604700000000004]
[null,"Junio",529.67066666666653,8.75,7.63225,21.924704545454542,27.165561681121606,44.812600000000003,1,3.1116999999999999,1.2364999999999999,6.2051999999999996,2563.5386560000002,1112.8832,49.4114,123.7186,15.479200000000001,1,0.89099799999999996]
[null,"Julio",528.33967741935476,8.75,7.6319800000000004,21.919126086956521,27.369750313341896,44.938000000000002,1,3.2288000000000001,1.2863,6.2084999999999999,2740.0791359999998,1146.5468000000001,54.947600000000001,123.3109,15.951499999999999,1,0.90869800000000001]
[null,"Agosto",528.0190322580645,8.75,7.6324800000000002,21.980742857142857,27.481611702601846,45.017000000000003,1,3.5154000000000001,1.3147,6.3383000000000003,3021.6412030000001,1178.1438000000001,52.0505,123.0038,16.533999999999999,1,0.89844599999999997]
[null,"Septiembre",528.78433333333328,8.75,7.6731100000000003,21.948009523809521,27.563860015561662,45.104900000000001,1,3.9032,1.3266,6.3676000000000004,3072.57854,1184.33,51.811199999999999,120.1476,16.838699999999999,1,0.89039100000000004]
[null,"Octubre",528.3567741935484,8.75,7.6631099999999996,22.084533333333336,27.72120380087468,45.226900000000001,1,3.8752,1.3071999999999999,6.3505000000000003,2923.814965,1143.1990000000001,52.851300000000002,120.04810000000001,16.569700000000001,1,0.89086399999999999]
[null,"Noviembre",527.24633333333338,8.75,7.6253399999999996,22.145080952380948,27.807767540305683,45.329500000000003,1,3.7858000000000001,1.3279000000000001,6.3639999999999999,3012.3208410000002,1153.4721,54.969900000000003,122.64319999999999,16.630600000000001,1,0.93280200000000002]
[null,"Diciembre",528.05999999999995,8.75,7.5987999999999998,22.290499999999994,27.880180930628832,45.439,1,3.8807999999999998,1.3713,6.4490999999999996,3249.2237709999999,1169.9464,56.5426,121.63500000000001,17.069600000000001,1,0.91735999999999995]
[2016,"Enero",530.06387096774199,8.75,7.6329700000000003,22.454819999999994,28.074363903224899,45.525399999999998,1,4.0556000000000001,1.4208000000000001,6.5726000000000004,3277.9121190000001,1203.3179,58.156399999999998,118.22580000000001,18.064800000000002,1,0.92086900000000005]
[null,"Febrero",530.38413793103462,8.75,7.6478799999999998,22.587499999999999,28.203694295794183,45.662500000000001,1,3.9643999999999999,1.3796999999999999,6.5500999999999996,3356.6389429999999,1216.2284999999999,60.462000000000003,114.6155,18.433199999999999,1,0.90081]
[null,"Marzo",529.09645161290337,8.75,7.7004700000000001,22.626094444444441,28.247724633349844,45.715200000000003,1,3.698,1.3226,6.5026999999999999,3123.5571399999999,1181.5730000000001,61.6736,112.93170000000001,17.630299999999998,1,0.89801600000000004]
[null,"Abril",529.80399999999986,8.75,7.7148000000000003,22.590244999999999,28.281513875542299,45.7682,1,3.5634000000000001,1.2818000000000001,6.4753999999999996,2993.677874,1145.7967000000001,61.824800000000003,109.5519,17.479500000000002,1,0.88155799999999995]
[null,"Mayo",531.25322580645184,8.75,7.6298599999999999,22.608000000000001,28.431792842135117,45.811500000000002,1,3.5402999999999998,1.2945,6.5259,2999.8198219999999,1173.7905000000001,62.070099999999996,108.8481,18.135999999999999,1,0.88521499999999997]
[null,"Junio",537.13233333333312,8.75,7.62439,22.741709090909094,28.54596112443053,45.865200000000002,1,3.4234,1.2894000000000001,6.5891999999999999,2985.4863839999998,1165.2022999999999,62.584899999999998,105.3509,18.6538,1,0.88988]
[null,"Julio",541.87258064516129,8.75,7.5793299999999997,22.839438095238094,28.7362,45.9255,1,3.2780999999999998,1.3051999999999999,6.6771000000000003,3018.18,1140.865,63.331299999999999,104.191,18.615500000000001,1,0.88988]
[null,"Agosto",544.30548387096792,8.75,7.5175099999999997,22.888999999999999,28.870924697396262,45.942100000000003,1,3.2086000000000001,1.2998000000000001,6.6466000000000003,2950.3817989999998,1110.0183,64.361400000000003,101.2383,18.4742,1,0.89265300000000003]
[null,"Septiembre",545.88833333333343,8.75,7.5067199999999996,22.965619047619043,29.011285472743189,46.080300000000001,1,3.2532000000000001,1.3108,6.6702000000000004,2922.2362440000002,1108.3638000000001,65.201599999999999,101.7843,19.243600000000001,1,0.89216799999999996]
[null,"Octubre",547.14451612903224,8.75,7.4790999999999999,23.081483333333335,29.123567808052513,46.344700000000003,1,3.1854,1.3250999999999999,6.7302999999999997,2934.7622959999999,1128.1659999999999,65.898799999999994,103.9075,18.891200000000001,1,0.90651400000000004]
[null,"Noviembre",548.04800000000012,8.75,7.4871699999999999,23.180459090909093,29.220847856347248,46.489699999999999,1,3.3369,1.3433999999999999,6.8402000000000003,3115.3507629999999,1162.7080000000001,66.763999999999996,108.443,20.008600000000001,1,0.92753300000000005]
[null,"Diciembre",546.17870967741931,8.75,7.4869700000000003,23.456028571428583,29.322151283359602,46.585799999999999,1,3.3540000000000001,1.3339000000000001,6.9198000000000004,3007.4485359999999,1183.07,67.255899999999997,115.99809999999999,20.499199999999998,1,0.94899999999999995]
[2017,"Enero",548.44967741935477,8.75,7.49892,23.587390476190478,29.453600000000002,46.687199999999997,1,3.1901000000000002,1.3183,6.8906999999999998,2939.6604459999999,1179.1074000000001,67.613600000000005,114.8721,21.391100000000002,1,0.94095300000000004]
[null,"Febrero",553.99285714285702,8.75,7.3861100000000004,23.567299999999999,29.5809,47.022100000000002,1,3.1057000000000001,1.3109,6.8693999999999997,2877.1758920000002,1140.4874,68.107600000000005,112.91160000000001,20.300799999999999,1,0.93908400000000003]
[null,"Marzo",553.5877419354839,8.75,7.34063,23.494,29.6478,47.214500000000001,1,3.1274999999999999,1.3387,6.8940000000000001,2939.9100039999998,1133.8616999999999,69.999700000000004,112.9165,19.28,1,0.93499200000000005]
[null,"Abril",555.71433333333334,8.75,7.3209200000000001,23.462326666666666,29.683299999999999,47.284100000000002,1,3.1389999999999998,1.3436999999999999,6.8875999999999999,2878.3500610000001,1134.1755000000001,68.841300000000004,110.09099999999999,18.767199999999999,1,0.934006]
[null,"Mayo",567.81935483870961,8.75,7.3227900000000004,23.47046666666667,29.876000000000001,47.338299999999997,1,3.2042999999999999,1.3606,6.8842999999999996,2920.6605079999999,1125.1359,64.138000000000005,112.2436,18.7666,1,0.90505400000000003]
[null,"Junio",564.16566666666688,8.75,7.32477,23.44368636363636,30.0517,47.4114,1,3.2953999999999999,1.3294999999999999,6.8066000000000004,2959.1342690000001,1130.8463999999999,62.202100000000002,110.9141,18.129300000000001,1,0.89094799999999996]
[null,"Julio",568.69516129032252,8.75,7.2821800000000003,23.434961904761906,30.159558935250928,47.440199999999997,1,3.1993999999999998,1.2689999999999999,6.7694000000000001,3036.5614300000002,1131.7460000000001,62.478999999999999,112.417,17.8081,1,0.86793600000000004]
[null,"Agosto",571.78096774193557,8.75,7.2568000000000001,23.372326086956527,30.277211689496212,47.476799999999997,1,3.1478000000000002,1.2607999999999999,6.6669999999999998,2970.2736500000001,1130.27,62.051000000000002,109.827,17.796900000000001,1,0.84622200000000003]
[null,"Septiembre",572.98466666666661,8.75,7.2866200000000001,23.382875000000006,30.425898344937345,47.6218,1,3.1324999999999998,1.2279,6.569,2914.3755200000001,1131.5989999999999,62.64,110.776,17.830500000000001,1,0.83914999999999995]
[null,"Octubre",568.42387096774178,8.75,7.32409,23.466164705882356,30.501995483373374,47.7346,1,3.1922999999999999,1.2606999999999999,6.6254,2953.2526400000002,1130.8838000000001,62.8461,112.9148,18.8215,1,0.85059700000000005]
[null,"Noviembre",564.96233333333328,8.75,7.3118999999999996,23.568261904761901,30.570122737046365,47.876199999999997,1,3.2629000000000001,1.2773000000000001,6.62,3010.6113169999999,1099.7945,63.133699999999997,112.819,18.930599999999998,1,0.85213499999999998]
[null,"Diciembre",563.62806451612914,8.75,7.3228799999999996,23.557952631578946,30.682788376160424,48.113500000000002,1,3.2949999999999999,1.2768999999999999,6.5932000000000004,2988.9482889999999,1082.902,63.517899999999997,112.9405,19.176500000000001,1,0.84467899999999996]
[2018,"Enero",566.15419354838718,8.75,7.3250900000000003,23.59,30.865200000000002,48.334600000000002,1,3.2115,1.2428999999999999,6.4233000000000002,2867.8325559999998,1065.6410000000001,63.760399999999997,110.871,18.911799999999999,1,0.82062800000000002]
[null,"Febrero",567.5839285714286,8.75,7.3437000000000001,23.563805000000002,30.956700000000001,48.744100000000003,1,3.2507000000000001,1.2587999999999999,6.3182999999999998,2858.537468,1078.4747,64.048900000000003,107.97,18.647300000000001,1,0.80940199999999995]
[null,"Marzo",564.26419354838708,8.75,7.3760000000000003,23.616310526315797,31.037500000000001,49.1068,1,3.2789999999999999,1.2932999999999999,6.3174000000000001,2847.3771969999998,1069.9418000000001,64.804599999999994,106.0468,18.5901,1,0.81107499999999999]
[null,"Abril",562.16666666666674,8.75,7.3936799999999998,23.651419047619044,31.1325,49.28,1,3.4089,1.2732000000000001,6.2967000000000004,2768.7010460000001,1068.0452,65.4084,107.6562,18.387599999999999,1,0.81421500000000002]
[null,"Mayo",562.10129032258067,8.75,7.4281600000000001,23.801586363636364,31.3916,49.3108,1,3.6316000000000002,1.2866,6.3700999999999999,2859.374973,1076.6595,65.857299999999995,109.68819999999999,19.552499999999998,1,0.84516599999999997]
[null,"Junio",564.20333333333349,8.75,7.46997,23.9526,31.6175,49.320599999999999,1,3.7709999999999999,1.3125,6.4650999999999996,2892.123564,1094.3552,66.458200000000005,110.0638,20.287800000000001,1,0.85650700000000002]
[null,"Julio",563.8848387096773,8.75,7.4656900000000004,23.986168181818179,31.772087016725656,49.489600000000003,1,3.8220999999999998,1.3132999999999999,6.7164000000000001,2884.5690599999998,1122.2029,67.2744,111.521,18.985600000000002,1,0.85522200000000004]
[null,"Agosto",564.65645161290331,8.75,7.49099,23.997621739130437,31.892294956461864,49.642800000000001,1,3.9333,1.3042,6.8452999999999999,2961.6159290000001,1120.4269999999999,68.422600000000003,110.9965,18.863299999999999,1,0.86602580756906555]
[null,"Septiembre",575.87133333333361,8.75,7.6479100000000004,24.039300000000001,32.036644858253105,49.749699999999997,1,4.1086999999999998,1.3033999999999999,6.8551000000000002,3031.1236560000002,1119.82,69.509,112.09739999999999,18.999099999999999,1,0.85711836804662722]
[null,"Octubre",588.9751612903226,8.75,7.70871,24.074044444444443,32.181762536757972,49.899099999999997,1,3.7610999999999999,1.3004,6.9191000000000003,3087.4656030000001,1131.615,71.061499999999995,112.7218,19.195799999999998,1,0.87047353760445678]
[null,"Noviembre",607.72766666666678,8.75,7.67943,24.222409090909085,32.391836681147325,50.066547619047611,1,3.771827,1.3189850000000001,6.9387259999999999,3194.7858219999998,1125.345,73.583799999999997,113.266778,20.228774999999999,1,0.87981932030438226]
[null,"Diciembre",597.92258064516102,8.75,7.71333,24.328657894736846,32.442911284768371,50.147174999999997,1,3.889319,1.3444,6.8941540000000003,3219.882928,1122.4244000000001,76.317899999999995,112.276652,20.11816,1,0.87938450119992018]
[2019,"Enero",602.63258064516117,8.75,7.7131499999999997,24.337213636363639,32.695103932403732,50.289995238095237,1,3.7476919999999998,1.3316870000000001,6.796138,3161.4808840000001,1120.33,78.295100000000005,108.970758,19.198509000000001,1,0.87565597578285825]
[null,"Febrero",606.81749999999988,8.75,7.7141200000000003,24.38353,32.80874790474693,50.39727894736842,1,3.716243,1.319928,6.7410170000000003,3113.3546200000001,1121.3553846153848,82.411000000000001,110.268331,19.179172000000001,1,0.88085859048531778]
[null,"Marzo",600.59354838709692,8.75,7.6695599999999997,24.422923809523809,32.827093694204507,50.437985714285723,1,3.8345172413793107,1.3357445282888916,6.7121172413793113,3125.0189655172408,1131.3617241379311,82.394199999999998,111.15257692307692,19.247072413793109,1,0.88442894803979932]
[null,"Abril",596.69733333333318,8.75,7.6245700000000003,24.433088235294115,32.759466412474417,50.455536842105261,1,3.8960518518518517,1.337838747474005,6.7152333333333338,3149.3648148148145,1141.0733333333333,84.215100000000007,111.69138461538461,18.941903703703701,1,0.890160982189933]
[null,"Mayo",588.7706451612903,8.75,7.65238,24.457490909090907,32.900556810968858,50.466221739130432,1,3.9966571428571425,1.345564285714286,6.8543714285714286,3307.5325000000003,1182.9527,88.899699999999996,109.94555555555554,19.110907142857144,1,0.89375562735024627]
[null,"Junio",583.02833333333319,8.75,7.6838300000000004,24.505320000000005,33.067627176838464,50.61342105263158,1,3.8617115384615386,1.3285378758107489,6.8979570239797194,3248.6680000000006,1173.7845,92.726500000000001,108.0820833333333,19.272967999999995,1,0.89375562735024627]
[null,"Julio",573.66,8.75,7.6551099999999996,24.499482608695658,33.144307307446283,50.81401739130434,1,3.7789033333333344,1.3099404913505706,6.8777620689655148,3207.3399789999999,1177.2345,93.057599999999994,108.23740740740739,19.047622222222223,1,0.89180816043241073]
[null,"Agosto",565.14290322580598,8.75,7.6528999999999998,24.540631818181826,33.224933239143191,51.058900000000001,1,4.0103679999999997,1.3263590000000001,7.0574923076923088,3414.8305759999998,1210.3782000000001,93.313699999999997,106.198881,19.657810000000001,1,0.89803999999999984]
[null,"Septiembre",574.54999999999995,8.75,7.6917900000000001,24.605589473684208,33.318465952573234,51.53329500000001,1,4.1199890000000003,1.3241909999999999,7.1147549999999997,3400.269358,1194.1144999999999,93.349800000000002,107.448035,19.589742999999999,1,0.90753799999999984]
[null,"Octubre",577.78645161290331,8.75,7.7392000000000003,24.634973684210525,33.451292410810211,52.617400000000004,1,4.0863100000000001,1.319007,7.0991499999999998,3432.6326859999999,1183.3857069999999,92.089799999999997,108.120434,19.325655000000001,1,0.90482300000000004]
[null,"Noviembre",573.14700000000016,8.75,7.6848799999999997,24.636852380952384,33.568297446372377,52.764200000000002,1,4.148657,1.323223,7.0211199999999998,3400.926825,1167.8623580000001,91.671700000000001,108.82135599999999,19.282540000000001,1,0.90434300000000001]
[null,"Diciembre",565.09161290322572,8.75,7.6698399999999998,24.645414285714288,33.607836285031119,52.842100000000002,1,4.11564,1.317798,7.0135319999999997,3376.4374200000002,1172.7923020000001,91.865799999999993,109.191329,19.112613,1,0.90046999999999999]
[2020,"Enero",566.71290322580637,8.75,7.6722400000000004,24.649518181818181,33.7249549370624,53.041699999999999,1,4.1335839999999999,1.3070649999999999,6.9241570000000001,3311.8344400000001,1164.445733,92.184600000000003,109.26337100000001,18.807302,1,0.90026399999999995]
[null,"Febrero",567.8155172413791,8.75,7.6280799999999997,24.671419999999998,33.833164100369935,53.290599999999998,1,4.3409560000000003,1.3277330000000001,6.9936579999999999,3409.6498190000002,1194.466705,93.775000000000006,109.918593,18.821793,1,0.91586999999999996]
[null,"Marzo",567.66483870967727,8.75,7.6709899999999998,24.715222727272728,33.898518496873308,53.657499999999999,1,4.8637980000000001,1.3902890000000001,7.0215750000000003,3871.8673159999998,1215.7247379999999,96.68,107.689561,22.195236999999999,1,0.90336099999999997]
[null,"Abril",565.62733333333335,8.75,7.6908099999999999,24.805818200000001,33.965013281703698,54.120866666666679,1,5.3079219999999996,1.40595,7.0726139999999997,3970.2849299999998,1222.667686,99.942800000000005,107.864493,24.205152999999999,1,0.91993999999999998]
[null,"Mayo",566.5529032258064,8.75,7.6796300000000004,24.830380952380946,34.115516230897619,55.310499999999998,1,5.6195139999999997,1.398093,7.0999109999999996,3859.859567,1228.6244650000001,106.31480000000001,107.21453099999999,23.521000999999998,1,0.91574999999999995]
[null,"Junio",573.92566666666653,8.75,7.6814200000000001,24.775468181818177,34.28264759635919,57.856900000000003,1,5.1900769999999996,1.356363,7.0851059999999997,3705.990871,1208.0667189999999,111.47029999999999,107.64194000000001,22.311230999999999,1,0.88888299999999998]
[null,"Julio",578.77161290322601,8.75,7.6795099999999996,24.679073913043478,34.451051980871128,58.269300000000001,1,5.2983799999999999,1.351504,7.0144679999999999,3656.8551969999999,1199.3131840000001,116.76519999999999,106.836528,22.422294000000001,1,0.87420500000000001]
[null,"Agosto",589.21451612903218,8.75,7.6889700000000003,24.54,34.558664594627629,58.357599999999998,1,5.4377579999999996,1.325145,6.9347750000000001,3781.076497,1187.4432200000001,119.6734,105.99124500000001,22.165531000000001,1,0.84566399999999997]
[null,"Septiembre",594.85766666666666,8.75,7.7428699999999999,24.482780999999999,34.583975001329897,58.343800000000002,1,5.3944130000000001,1.3208150000000001,6.8159289999999997,3754.0409709999999,1178.773451,86.798900000000003,105.632363,21.625679999999999,1,0.84791799999999995]
[null,"Octubre",600.095483870968,8.75,7.7643500000000003,24.398,34.60756106557502,58.335999999999999,1,5.6255980000000001,1.320838,6.727614,3832.4856930000001,1145.3087419999999,63.9816,105.242564,21.276066,1,0.84971200000000002]
[null,"Noviembre",603.93233333333342,8.75,7.7685899999999997,24.2852,34.636565809857736,58.289099999999998,null,5.4474200000000002,1.308897,6.6065290000000001,3682.3877130000001,1116.045408,64.269900000000007,104.317195,20.428621,1,0.84480200000000005]
[null,"Diciembre",602.91258064516126,8.75,7.7820299999999998,24.148672727272722,34.691499691468906,58.076500000000003,null,5.1478869999999999,1.2815319999999999,6.5421519999999997,3468.1280390000002,1094.9562599999999,71.251300000000001,103.785895,19.958867999999999,1,0.82217099999999999]
[2021,"Enero",608.38000000000011,8.75,7.7699199999999999,24.096350000000005,34.781043375747856,58.069000000000003,null,5.3495039999999996,1.2726649999999999,6.4779169999999997,3488.7927490000002,1098.737754,72.177800000000005,103.74303399999999,19.950751,1,0.82170399999999999]
[null,"Febrero"]
[null,"Marzo"]
[null,"Abril"]
[null,"Mayo"]
[null,"Junio"]
[null,"Julio"]
[null,"Agosto"]
[null,"Septiembre"]
[null,"Octubre"]
[null,"Noviembre"]
[null,"Diciembre"]
["FUENTE: Bancos Centrales de Centroamérica y República Dominicana y el sitio web x-rates.com que contiene datos de la Brasil, China, Colombia, Corea del Sur, Haití, Japón, zona Euro, Japón, México y Canadá.  Este sitio contiene datos oficiales del Federal Reserve Bank of New York, U.S.A."]
["Aclaración: para efectos de la actualización del cálculo de los diferentes índices de tipo de cambio real, los datos no disponibles son estimados por esta Secretaría."]
["NOTAS:"]
["1/ La Región CAPARD incluye a Centroamérica, República Dominicana y Panamá."]

{"sheet":"ITCER GLOBAL","index":4,"n_rows":334,"n_cols":54,"rows_kept":334,"cut":false,"hidden":false,"merged":[[3,26,3,32],[3,18,3,24],[3,10,3,16],[3,2,3,8],[331,0,331,16]]}
[]
["Secretaría Ejecutiva"]
["Consejo Monetario Centroamericano"]
[null,null,"ITCER GLOBAL\nPeriodo de referencia Diciembre 2000=100",null,null,null,null,null,null,null,"VARIACION INTERANUAL",null,null,null,null,null,null,null,"EFECTO TIPO DE CAMBIO",null,null,null,null,null,null,null,"EFECTO PRECIO"]
["Año","MES","COSTA RICA","EL SALVADOR","GUATEMALA","HONDURAS","NICARAGUA","REPÚBLICA \nDOMINICANA","PANAMÁ",null,"COSTA RICA","EL\nSALVADOR","GUATEMALA","HONDURAS","NICARAGUA","REPÚBLICA\nDOMINICANA","PANAMÁ",null,"COSTA\n RICA","EL\nSALVADOR","GUATEMALA","HONDURAS","NICARAGUA","REPÚBLICA \nDOMINICANA","PANAMÁ",null,"COSTA\n RICA","EL\nSALVADOR","GUATEMALA","HONDURAS","NICARAGUA","REPÚBLICA\nDOMINICANA","PANAMÁ"]
[1995,"Enero",93.373703649864282,119.00104547487229,102.16854684783964,139.00966450035196,93.615472742924013,78.372930097377576,101.42231325012314,null,null,null,null,null,null,null,null,null,60.66291634254101,120.21891221603782,87.039105765887598,70.078491601715996,66.668854683884945,85.608943543628229,118.22494355811403,null,64.967880646586295,101.02340843839283,85.191684183896228,50.41267587660321,71.215636401221019,109.23279688185703,116.56699573253965]
[null,"Febrero",94.053888419003172,118.72961074528449,103.28575179788393,131.53710777239652,94.672757861989325,78.669632345943072,102.34072867707715,null,null,null,null,null,null,null,null,null,61.615157745868018,120.44155587093644,86.871202164516376,69.215355059427424,67.422653760873189,85.744754965249243,118.48927768325592,null,65.510484235778762,101.441885570841,84.107634066034024,52.620402129559743,71.216530798817118,108.99346089250032,115.77920072968546]
[null,"Marzo",102.38410578791245,117.66199400204577,102.37848320913336,131.36783899144231,95.097336856392246,78.392996218177913,102.84042896788007,null,null,null,null,null,null,null,null,null,62.79138632458956,120.30681748224299,86.06772417786766,69.893527683177808,68.130132585730081,85.624477053182417,119.07597770120132,null,61.329232541876401,102.24781460031285,84.068176710581895,53.204443507463708,71.642524215598485,109.2246516702568,115.78712661573209]
[null,"Abril",104.95078345406525,118.80352260633333,104.28424654815453,129.55238404403391,97.800874946510646,79.886729415326428,104.58020975545725,null,null,null,null,null,null,null,null,null,64.284345391138501,121.21681700060944,87.470728406919889,70.289809276840032,69.457857665132693,86.463095818421706,120.42095969408946,null,61.251896627598221,102.03133235558408,83.877221442578303,54.255897948546462,71.019668998994803,108.23211370802919,115.14698619908401]
[null,"Mayo",105.84930601540751,118.63300284077521,103.61186971675869,127.9533811169142,98.474701296655709,79.96660444450859,104.60720046674918,null,null,null,null,null,null,null,null,null,65.075326638917801,121.06493395485951,87.603440803850887,70.351095493067334,69.959541596397997,86.524321142243309,120.18077744164077,null,61.479218984624609,102.04996169349971,84.549618729331229,54.981818283321317,71.043162025589083,108.20056915419653,114.88767207745119]
[null,"Junio",106.2147169903117,117.97246660593603,102.89254310011383,129.07071515389373,97.880306060567364,79.599911243284211,104.70598821368249,null,null,null,null,null,null,null,null,null,65.984750930650279,120.6913456564553,87.567130807264775,71.274043552014774,70.389276327662671,86.382727140192543,120.01869795003392,null,62.123924819824197,102.30467254668936,85.105419857357859,55.22092557326674,71.913625080112126,108.52113499998481,114.62448327702278]
[null,"Julio",106.09596789598181,115.13934389088173,103.42671238293472,129.40627546929861,97.880101906155616,79.169418287856303,104.58204956709866,null,null,null,null,null,null,null,null,null,66.868633577610865,120.52117198803292,87.705233606789434,72.20287215042849,70.89590164135511,86.38817717740821,119.73214640377606,null,63.026555017783473,104.67418687243135,84.799401997873701,55.795495147805632,72.431372935561399,109.11811536028321,114.48632619019124]
[null,"Agosto",105.50646794820915,113.65328643006647,103.02242338508391,128.8125246774301,99.658330174085478,77.944039290674922,103.33877518505204,null,null,null,null,null,null,null,null,null,67.025238792006647,119.30601787781372,87.495717500112562,72.553034192412312,70.679741989698769,85.692902212260591,118.05610534568831,null,63.527137336175343,104.97366299321709,84.928809306946107,56.324518422489,70.922061272985175,109.94157217422105,114.241827556289]
[null,"Septiembre",103.79869054727634,110.32122533737841,101.74614149622136,126.46229672852148,97.957063031858752,75.564311783408755,101.90471043770698,null,null,null,null,null,null,null,null,null,67.533684008440673,118.34165838682884,88.070108682748796,72.972136892462117,70.662997576869145,85.238179280162612,116.93788767130025,null,65.062173378460557,107.27007248598154,86.558671795941791,57.7026819694035,72.136704990723629,112.80216449860913,114.75219071721207]
[null,"Octubre",102.74880679619859,110.23910982913273,101.77443006895048,126.65652356704398,95.620019282189801,75.180436016207096,102.48093187812357,null,null,null,null,null,null,null,null,null,68.538290505288941,117.90684442765615,88.768139931132993,74.023496562224437,71.103062625427853,85.125411677924831,116.8306154508761,null,66.704706986266103,106.95554836247152,87.22047362092232,58.444282597920086,74.360017033244333,113.22814310304589,114.00229614404563]
[null,"Noviembre",101.52793261429917,109.29988655900107,100.45281607814586,127.62726517469279,93.433838223215744,74.02222019406733,102.01600471652266,null,null,null,null,null,null,null,null,null,69.158369580633632,116.81707988626077,88.390885690696138,75.389139675126827,71.07722216029137,84.495263826090351,116.00680337908729,null,68.117578876902471,106.87758566263641,87.992441766822822,59.069776016853595,76.072249103677123,114.14851324989357,113.71431737739741]
[null,"Diciembre",101.66312173414254,109.2704340011622,98.824329095578278,128.20286728953911,95.238490652917037,100.42041797298052,101.58314808865916,null,null,null,null,null,null,null,null,null,69.968284580444234,116.62286909962505,87.183840000423061,76.806748328456067,71.517664559271907,84.387085849468349,115.72266573416658,null,68.823663278230896,106.7286591891679,88.221028969600084,59.910320223175859,75.093236010960879,84.033792681657474,113.91915678097202]
[1996,"Enero",101.66058966214068,108.75311671724391,100.73981549188889,130.55426234248864,96.992264856971644,97.389668238186275,105.11711427839418,null,{"$f":"(C18/C6-1)*100","v":8.8749676711452175},{"$f":"(D18/D6-1)*100","v":-8.6116291808480572},-1.3984062610566061,-6.0826002193839601,3.6070876054010714,24.264421551140924,3.642986350704791,null,70.816708430496178,116.94547782494091,89.44050496854571,78.259655892540479,71.297003403226825,79.824664121333768,119.91723681824978,null,69.659942624618637,107.53298972478828,88.783669626382292,59.944159990149174,73.507927161371072,81.964201711937548,114.07965072239203]
[null,"Febrero",102.17128761877886,108.75393961681947,101.62857369764532,129.94088985922394,97.130755737727085,97.603528936204015,105.55472827662565,null,{"$f":"(C19/C7-1)*100","v":8.630583313699125},{"$f":"(D19/D7-1)*100","v":-8.4020077770373902},{"$f":"(E19/E7-1)*100","v":-1.6044595419913099},{"$f":"(F19/F7-1)*100","v":-1.2135114875222675},{"$f":"(G19/G7-1)*100","v":2.5963095733631647},{"$f":"(H19/H7-1)*100","v":24.067605282557736},{"$f":"(I19/I7-1)*100","v":3.1404892666827333},null,71.49277096586215,116.50025565244042,90.223835974000977,79.729035598604582,71.717260344429462,79.801778295471905,119.6695460551811,null,69.973446192256787,107.12279119534804,88.778020483122674,61.357926427148413,73.835789498107843,81.761160856829505,113.37203743404554]
[null,"Marzo",103.09329409575497,108.63924151859611,101.19588741246096,131.2237080526962,97.548564876830028,97.963818530726627,105.62102921024619,null,0.69267422163319381,-7.6683661193883808,-1.1551214274748145,-0.10971554366172587,2.5775990174566221,24.965013785262858,2.7038007039377199,null,72.096567788210635,116.15070202830175,90.197362243725166,81.28606873914211,72.164779674180025,79.772951967880132,119.33749483185964,null,69.933324393772878,106.91413195150103,89.131450447282234,61.94465157660354,73.978309947767144,81.431035625524473,112.98649116011721]
[null,"Abril",103.63599380138227,108.7981398961149,99.732935911129971,130.75784437076095,98.003742350148798,98.25845150472226,105.72550557748144,null,-1.2527678302262757,-8.421789599094808,-4.3643318983207386,0.93048100629109509,0.2074290273467394,22.997213960133877,1.0951362831479017,null,72.589328428187301,115.93961240605952,89.333823137582428,82.220723935238098,72.643085304179536,79.759064365134307,118.94028634211303,null,70.04258440103763,106.56396563099663,89.573040562233146,62.880146373553757,74.122766704805585,81.17272676671594,112.49914170894843]
[null,"Mayo",103.11570231349307,108.40262255029911,98.675148679233146,129.90693196421563,97.539584907357096,98.2441763914033,106.10657392073691,null,-2.5825428666641725,-8.623553349827052,-4.76462885094241,1.5267676635417837,-0.94960063547852025,22.856506255155693,1.4333367562630928,null,73.136880056653453,115.77596176092639,88.448801133761677,83.041805992302216,73.165202978921073,79.740326080697315,118.59616727377625,null,70.927005699192364,106.80180888354987,89.63634949391907,63.924076057139935,75.010779519323606,81.165448181898412,111.77080070681507]
[null,"Junio",102.88390534245467,106.59859603724998,98.839095860705569,129.97606452843567,98.166741539134918,97.943360817955508,106.0251895623701,null,-3.1359229137341238,-9.6411229636134124,-3.9394956303726247,0.7014367073603589,0.29263851953049702,23.04456033701787,1.2599101266256296,null,73.790508167036577,115.31257015245995,88.750288857983847,84.9390786422465,73.593721263128913,79.691746717920765,118.12759323908944,null,71.722110393672224,108.17456743254381,89.792695982427915,65.349784939567741,74.968079931419751,81.365133943117911,111.41464941177965]
[null,"Julio",103.16467133285333,107.08382417133936,97.156527334095287,133.66199126416356,99.211905718578407,97.920048339090457,106.0890827536865,null,-2.7628727285869847,-6.9963224101542876,-6.0624425783005087,3.2886471536495376,1.3606481669784953,23.68418318176564,1.4410055959181989,null,74.636989359765778,115.26378229065021,88.121764467001142,89.065827058621991,74.266885485235974,79.703235466514158,118.15050564484062,null,72.347430952360554,107.63883638132174,90.700817418035101,66.635119091257806,74.856827864892807,81.396237867966803,111.36914617233317]
[null,"Agosto",103.82089023533347,104.56565475728168,96.644682846707198,133.73837041058238,101.73553041221972,98.038921396856082,106.53716077534159,null,-1.5976060479089282,-7.9959251142083136,-6.190633387197253,3.8240425342857653,2.0843217365831279,25.781165935270266,3.0950488667609077,null,75.536924175376782,115.42006112482466,87.923948759042219,91.255348575568377,75.093116939633489,79.759480299527695,118.44854983264838,null,72.756960573305918,110.38046994755426,90.976498829741757,68.234230980541071,73.812085743658599,81.354914112799932,111.18050168656619]
[null,"Septiembre",104.05539275283121,105.37635210245692,96.019076545207867,133.17424232772501,101.70008883193941,97.779361158420258,106.27966650470971,null,0.24730774945369571,-4.4822501017363958,-5.6287785136561519,5.3074677376863999,3.8210882239939181,29.398864160487381,4.2931833555202248,null,76.089341382085834,115.07407836024252,87.257715005265396,92.10478097679146,75.522053330249889,79.709793324582407,117.97513668195103,null,73.123880818772406,109.20294360574994,90.875394916116051,69.161107558722378,74.259574595899295,81.52005942791763,111.00442875093425]
[null,"Octubre",103.85071691807619,105.38939956805309,95.780068875898721,132.80050819145541,100.07428697252132,97.791934627910067,105.82490199042425,null,1.0724310639083301,-4.3992647152145352,-5.8898499249670833,4.8509026233924724,4.6583003473219087,30.076306829117726,3.2630168861828235,null,76.640764021525314,114.58622534163909,86.976643562857035,92.827549375514167,75.903928042261924,79.639211327072275,117.56420990159006,null,73.798974427864806,108.72651880671104,90.808708516958589,69.899995594660552,75.847583168995087,81.437402409608367,111.09314319254278]
[null,"Noviembre",104.34055891829969,106.61494672279403,94.232456459581087,131.30460230947989,100.0620078089454,97.361833847146116,106.20551953257041,null,2.770298017084194,-2.4564891334609817,-6.1923197989051211,2.8813099847855073,7.0939712119016063,31.530550680442015,4.1067230849604286,null,77.579829389000835,114.71303892368535,86.288492654669284,93.339972250723648,76.714906430546108,79.640648693040987,117.79820632752759,null,74.352514681991565,107.5956443724039,91.569822008917725,71.086596059081714,76.667366676294009,81.798632529943276,110.91533363423925]
[null,"Diciembre",104.10976069622947,106.34171602950715,93.282245633967875,131.46210742748471,99.158219533211508,98.64771267362849,105.01264279454851,null,2.4066140409155334,-2.6802474049145819,-5.6080152654012565,2.5422521405740417,4.1156982365243122,-1.7652837292800316,3.3760468841703695,null,77.9782231195219,114.21600088793447,85.752457874021687,94.191053113618551,77.034031782298811,81.552461810043226,117.06371807427691,null,74.900011870208843,107.40469982282627,91.927951874687423,71.648823342935444,77.68799414202617,82.67040319511095,111.47583277501705]
[1997,"Enero",102.09552551700678,105.83708744262175,92.897219866583598,129.23841875381419,99.90632324727676,101.27873079767508,107.81386749001622,null,0.42783133199557621,-2.6813293840615038,-7.7850009819967809,-1.0078901791980899,3.0044234915044932,3.993300962867341,2.5654749277837841,null,78.023549037603885,115.05097084409111,86.006154421444023,94.535086631594055,76.554486964971574,85.91622890075233,119.98519802200956,null,76.422104340514849,108.70572275192715,92.582054172303188,73.147820549919913,76.626267964533753,84.831462859055293,111.28920686675157]
[null,"Febrero",102.02410897938231,104.28797850812607,91.339654836589489,123.83158069693536,100.58188580378022,101.9406460839668,106.80084359514383,null,-0.14405088046429704,-4.1064821416388568,-10.124041385906235,-4.7016063757200026,3.5530765099490269,4.4436069013422896,1.1805395540903652,null,78.010239101224172,114.04753095122251,85.997329946791055,92.254015019951069,76.563432196860703,86.065890978972661,118.17297333525538,null,76.462553686196841,109.35827176124234,94.151143991778738,74.499586051261815,76.120497826242953,84.427452920086111,110.64797744783792]
[null,"Marzo",101.8555740528159,104.20182977319897,89.803992915765306,123.57298667513129,101.60364332255976,102.40445600279001,106.70297515863939,null,-1.2005824954913757,-4.0845385915526444,-11.257270219158034,-5.8302889707190442,4.1569842168871274,4.5329362806234119,1.0243660343808081,null,78.535630797339238,113.85068495913664,84.299230039782572,92.510933905930344,77.073217374097467,86.344601036023832,117.5870845485602,null,77.104892420139521,109.2597751948684,93.870247082280514,74.863395629611261,75.856745736384795,84.317230329968623,110.20038042401252]
[null,"Abril",101.50138562083362,104.23827325792115,90.04385857978771,122.63947858190006,102.28752521230309,101.65376059438907,106.96896523979507,null,-2.0597169981692032,-4.1911255491570927,-9.715022668114381,-6.2087026808437145,4.3710400842134733,3.4554880905116159,1.1761208002948331,null,79.10403028934455,113.60108553136472,84.185788434652352,92.100862977856096,77.617058873995646,86.3052074468591,117.06991378906753,null,77.933941300903868,108.98212526053339,93.494203560874126,75.098870317154905,75.881256011324353,84.901145754191447,109.44287768571839]
[null,"Mayo",102.24112909969521,104.84230471138514,89.816028978320645,124.28468686205001,102.87894011141987,101.52026322240771,107.15845417252274,null,-0.84814746365104998,-3.2843465915799008,-8.9780657232259813,-4.327902304485443,5.474039293005073,3.3346371778338657,0.99134314955038327,null,79.966492474721534,113.75453674294025,83.961737257064286,94.41615706724545,78.519511120933544,86.365097791072301,117.36564664181226,null,78.213624183225022,108.5006067503849,93.481907641820328,75.967650923916977,76.322239552522021,85.071782765048695,109.5253263478924]
[null,"Junio",102.56618304922524,104.77069022580952,89.151154970884633,123.1979597524644,102.02149766044664,101.22846677952887,107.29299346852542,null,-0.30881632279787796,-1.7147559905964505,-9.8017295741699257,-5.2148869105729689,3.9267434783653243,3.3540874380237895,1.195757264276831,null,80.678994828519706,113.79017331054197,83.138903867805723,94.570984587465503,79.279200229398754,86.365576597559809,117.3270742436025,null,78.66042435234128,108.60878463747162,93.256115296495679,76.763434051572219,77.708328193004959,85.317479702285937,109.3520373052324]
[null,"Julio",102.31017689793518,103.73430600128474,89.219587954234697,121.32557703296025,101.03076684917703,99.423750138222516,106.55204259059337,null,-0.82828203093012753,-3.1279403737909384,-8.169229178568294,-9.2295604116971237,1.8333093366414532,1.5356424191344864,0.43638782133856857,null,80.99274347449095,113.1815945241962,83.308570098619924,94.175601492760691,79.614063557024977,86.315503947560288,116.45501839173795,null,79.163916953529906,109.10719788571627,93.374753245165365,77.622216020597378,78.801800718662449,86.815779758419225,109.294027181811]
[null,"Agosto",101.52723903674131,104.01267239943589,89.905317323615435,119.29768132179746,102.16816051371555,98.924350017514854,105.86070263874977,null,-2.2092386160367905,-0.52883746496817929,-6.9733433072375011,-10.797715752368898,0.42524976253908164,0.903139904074024,-0.63495040760311872,null,81.061960387030055,112.24070062775711,84.626322029090957,93.527593340951483,79.799815688567506,86.230000209286644,115.31272906140202,null,79.8425734375529,107.91060169738111,94.128272440747111,78.398500544756686,78.106344762715764,87.167618684398079,108.92873954833584]
[null,"Septiembre",103.17467270306331,104.66965906663962,90.14391316276307,119.34950350915776,104.3298183172451,98.577198886089619,105.78578050502607,null,-0.84639539236560646,-0.67063721766548179,-6.1187459761484426,-10.380940470865463,2.5857691133892136,0.81595718996028133,-0.46470413008095068,null,81.795558481950508,112.24354317601828,85.119502112000831,93.652011883892328,80.615057793853111,86.231514828894888,114.97991087954212,null,79.278718641888119,107.23598813344431,94.426233702889945,78.468706722945313,77.2694317828865,87.476126125818681,108.69127242869774]
[null,"Octubre",104.13206798087266,105.20564165642853,90.44658823635929,120.01464328257705,104.98924831418776,98.48879266008484,106.31583008764152,null,0.27091874870581734,-0.17436090572459095,-5.5684660724664603,-9.6278734795542054,4.9113128760198022,0.71259254132383099,0.46390602588197716,null,82.537977498307342,112.19448321060554,85.705670779093822,93.701688912924013,81.443474150622023,86.216197938184706,114.80585164375714,null,79.262785325139419,106.64302925597904,94.758323614290163,78.075213448996692,77.573156735913244,87.539095169684288,107.98566078928874]
[null,"Noviembre",103.07753051931049,105.05320816282855,90.702975877445141,118.95930374401121,102.84325570924584,98.099041212002078,104.99864824946768,null,-1.2104865184574876,-1.4648401635711572,-3.7455041657009525,-9.4020303541008321,2.7795243781344681,0.75718311347066081,-1.1363545778170336,null,82.983064360033993,111.58567090968243,86.110032978337173,93.440397474194043,81.959541149047055,86.036571966436838,113.07506923390258,null,80.505483534540048,106.21824203286472,94.936282018669587,78.548204750146013,79.693646981343775,87.703784770437238,107.69192853344742]
[null,"Diciembre",102.47855248592101,104.49291552805741,89.545690053786075,118.34023568750845,102.83931569213733,97.613042183627201,100.17062977039168,null,-1.5668158291785694,-1.7385468003325744,-4.005644970044731,-9.9814859176925665,3.7123459620943544,-1.0488540098486099,-4.6108857898471856,null,83.140580972975684,110.79410445379165,85.206387207892305,93.093707171394428,82.317663552609005,85.803945249797835,107.55619969864102,null,81.12973783894725,106.03025467697118,95.154090785064767,78.666149877561082,80.044935148185431,87.902132061805446,107.37298941334234]
[1998,"Enero",100.3774615529419,103.02432764903098,89.235301172880597,117.09420589380045,102.68574409123924,97.891063331238541,97.581084091341012,null,-1.6828004512094874,-2.6576315179834054,-3.9419034272092812,-9.3967513508093958,2.7820269564752031,-3.3448952605894089,-9.4911569697866405,null,82.309792550231293,110.65560152675305,85.553232724209238,92.490792996299021,82.944658963384839,85.96462328871975,104.50048288648868,null,82.000273046174613,107.40725423971631,95.873753547894808,78.988360090322743,80.775242656552322,87.816620193242017,107.09092224131345]
[null,"Febrero",100.49703899181327,103.27326163603526,88.412273665550671,115.09483371330904,102.62685020034765,98.171025212740616,98.758557636208437,null,-1.4967736575652313,-0.97299505331934766,-3.204940040857418,-7.0553464103866865,2.033133879152782,-3.6978585245783235,-7.5301708190824375,null,82.906125899963058,110.57793983836508,84.81505307888014,92.832644779622157,83.661299767162262,85.937447184320376,104.88309178229964,null,82.496088175012588,107.07315532269487,95.931310849126845,80.657525437553517,81.51989426143264,87.538504358175373,106.20152247327451]
[null,"Marzo",100.39738759800427,102.96163199961792,88.905782149206587,113.6389938564418,102.56980676786357,98.523768354014877,99.296446571613089,null,-1.4316216548497351,-1.1901880958140598,-1.000190233636078,-8.0389679702454586,0.95091417365471553,-3.7895691264346998,-6.9412578009326653,null,83.416994244547851,110.19101245833414,85.4973556283839,92.89542415381824,84.145050169730439,85.911424673779919,105.27309764823667,null,83.086817536083018,107.02143149667931,96.16624876534749,81.746081165740904,82.036861354499663,87.198679170577009,106.01899794300613]
[null,"Abril",100.82879525129425,102.20952647993329,88.925631163489726,112.0941645279793,101.82195553036296,98.89822949130324,100.25907155711545,null,-0.66264156437417787,-1.9462590031283922,-1.2418697220833996,-8.5986292308626204,-0.45515783178234903,-2.710702572117063,-6.2727480513977918,null,84.131534031124914,110.18607421291158,85.744444305374472,92.838817398697088,84.881644423421648,85.949415761541715,105.74951726326304,null,83.439987378055065,107.80411377264751,96.422643487042947,82.822168120557265,83.362811076742915,86.906930693941092,105.47625827855369]
[null,"Mayo",101.20850348234798,102.06442454398314,88.627752078022056,111.66267883041317,101.07071046634776,98.637599016884735,100.19770426221569,null,-1.0099904279620375,-2.649579456545792,-1.3230120656808508,-10.155722599717098,-1.7576285711281225,-2.8394963862610534,-6.4957543145409584,null,84.829781204313718,110.14888742476217,85.595127137539293,93.258783681496865,85.639226039210541,85.929667719291345,105.59072230900827,null,83.816851633528088,107.92094103004044,96.578244546005152,83.518311273127267,84.731991735355166,87.116544376330523,105.38237685833514]
[null,"Junio",101.02536873220737,101.64601126205713,88.60731238835821,109.81717942384745,99.791679464930795,98.034399321341013,99.446350243957511,null,-1.5022634860833106,-2.9823979941506984,-0.61002303638582056,-10.861202860422603,-2.1856356225403051,-3.1553055773771543,-7.3132857709573891,null,85.185626419927644,109.43652687568492,85.460384873391376,93.126884236160606,85.937050805644233,85.738078416561052,104.92677132999648,null,84.321024994952637,107.66435939482444,96.448456193802485,84.801744795074896,86.116449053094243,87.457136484842849,105.51093234954791]
[null,"Julio",100.29213966455066,101.29522675102201,89.028256945337958,108.03975674577025,101.78219795460264,105.91107528684707,99.938066269716359,null,-1.9724696941905595,-2.3512754307456585,-0.21444955450240499,-10.950551905127703,0.74376462622260942,6.5249250200335673,-6.2072731409664295,null,85.897980606833642,109.20381775099956,85.8885099587133,93.27598528257495,86.56193249870779,93.099989010779566,105.38913600340459,null,85.64776950032028,107.80746660394614,96.473314097846,86.334871617735942,85.046240146353028,87.903922001197472,105.45444787672467]
[null,"Agosto",98.870946330057194,102.14219384602066,89.175499811443672,107.90392518233355,102.94204151558631,106.32224976158285,99.457366231267002,null,-2.6163350169729704,-1.7983179455596465,-0.81176234498431254,-9.5506937043730247,0.75745809455665114,7.4783405124806857,-6.0488323314215942,null,86.316694794342254,108.49750944962977,86.046196389752566,93.212728451105477,86.930647706473735,93.539612952878244,104.69035750913366,null,87.302385582711466,106.2220277089307,96.490848463638741,86.384928345837992,84.446205288547432,87.977458304947078,105.26154218250508]
[null,"Septiembre",100.5842442001169,103.319236121617,90.472890040392315,108.78878035567321,104.03003930727189,106.00463606104751,99.176225701901345,null,-2.5107213185949884,-1.2901761189103134,0.36494630207060119,-8.848568986861526,-0.28733780505746376,7.5346401184929412,-6.2480559972903809,null,87.306626392442041,108.41975212235342,86.983004564936735,94.181580422817618,88.001465652723624,93.689967311534758,104.7426211306926,null,86.799505316897907,104.93665670808154,96.142617447173961,86.572880139754375,84.592360282394097,88.382896062752579,105.61263083909085]
[null,"Octubre",102.22614367214197,104.142652654347,92.53111384699983,109.80704816078294,103.61414174291208,104.87544460561098,100.49901740225384,null,-1.8302952641647163,-1.0103916342746544,2.3047034181025827,-8.5052913899515641,-1.3097594214224406,6.4846484285460138,-5.4712573664642221,null,88.735388782663932,108.9796539955484,88.640160654558386,95.280013877010845,89.479301063439848,94.470729035949546,105.9812504330024,null,86.803028653075899,104.64459202633869,95.794978542163506,86.770399052617137,86.35819354220618,90.078978345418363,105.45501157370083]
[null,"Noviembre",102.02812625310038,102.42391029471951,90.489735741005205,109.61324286756819,99.029492895566136,103.39044791402347,100.89580142869943,null,-1.0180727661238564,-2.5028249151932025,-0.23509717776851735,-7.8565194838016499,-3.7083256333908854,5.3939433420007843,-3.9075234673690673,null,89.392982536346295,108.66510652029442,88.51420382735455,95.720657876684271,90.062974150126578,94.775662236220185,106.04277696388115,null,87.616019052030623,106.09349536413536,97.816844200645136,87.325815177579798,90.945607734359086,91.667716068928257,105.10127821207602]
[null,"Diciembre",102.54937624424127,102.60051624645742,92.708999060724992,109.62517846428884,99.180170083882842,102.11875519897202,101.92859087380539,null,6.9110810605943485E-2,-1.8110311804744872,3.5326200569104627,-7.3644075259683976,-3.5581193667299504,4.6158924202657214,1.7549666079201609,null,90.393358898745305,108.44951034772659,90.898625299514691,96.283360731632584,90.922166613226025,94.838862305270993,106.87483690144344,null,88.146181097636273,105.70074529373639,98.047251313732247,87.829604549284781,91.673735320606426,92.87114998658511,104.85265810626368]
[1999,"Enero",100.1569215505572,101.43645124019893,95.921025493517291,108.2305090079614,100.50852269271999,103.4997627421908,99.959797815222103,null,-0.21971067904359431,-1.5412635491700577,7.4922415599674608,-7.5697143323027021,-2.1202762056091506,5.7295316038950661,2.4376791322122227,null,89.410310262614942,107.11535223452692,93.415996489204346,96.447978966380461,91.8356838620101,95.262712971496853,104.5749537946806,null,89.27022603972749,105.59848153685947,97.38844638969978,89.1134855138543,91.371041382008002,92.041479562410444,104.61701211920187]
[null,"Febrero",100.04574463271412,101.4730768831145,94.825874549119334,107.22869088872859,101.49535260150803,105.44497909310472,99.559035844144873,null,-0.4490623441511743,-1.7431276251011818,7.2541974294545009,-6.8344881962072339,-1.1025356391925811,7.4094712412355435,0.81054060234972969,null,89.808114769998298,106.69495443245809,91.656545160752586,96.262821395424439,92.197116390867777,96.621053340467284,103.90562158090466,null,89.76705116214589,105.14607195301528,96.657737771007774,89.773381170265836,90.838756679680614,91.631725067870548,104.36583751530515]
[null,"Marzo",101.34035874622322,101.26115852673539,96.695812722751143,107.02710530609284,104.02404407204921,106.00823123816247,99.278398140722061,null,0.93923872999031044,-1.6515603335510942,8.7621191616883856,-5.8183272536728499,1.4178025190950017,7.5966063917231264,-1.8176310949868935E-2,null,90.403431485880702,106.14366720246279,92.802680994473022,96.253464657608006,92.530900860892828,97.349058628751735,103.53467604780056,null,89.207727902630793,104.82169940257823,95.973836282403852,89.933726958537591,88.951455104748675,91.831603538449144,104.28721452681522]
[null,"Abril",102.5876399640603,102.01260922499371,98.447656304418544,107.52095966262424,104.79196715809006,106.4722471693358,99.705605082176518,null,1.7443873135471799,-0.19266037298220073,10.707852186533916,-4.0797885283435642,2.9168675972260694,7.6583956224399286,-0.55203630588542829,null,91.09172810191896,105.81613657275048,94.238794253990974,96.509276802775005,93.15630015047519,97.38613385537856,103.49020103867016,null,88.794057582210954,103.72848746508181,95.724771712784104,89.758570892222934,88.896413224058293,91.466214384010797,103.79577051197313]
[null,"Mayo",102.45066409251224,102.26023672163146,100.30854491472137,106.82421596939864,104.0430135876298,106.43278852593184,99.358295465682232,null,1.2273283048601868,0.19185154721950148,13.17961085870294,-4.3331065595899831,2.9408155019071458,7.9028581258478559,-0.83775252408652134,null,91.643683379385436,105.06231647300149,96.699804876706651,96.502844282448763,93.582098328787012,97.288604161286273,103.03364836066338,null,89.451526928738929,102.74014596601975,96.40236029634093,90.337985078302296,89.945586062794959,91.408489346854196,103.69909012403558]
[null,"Junio",101.57909650522591,101.9050110931978,100.63054851807907,105.73518953088039,103.87455337211306,106.62657368473144,98.878622171732502,null,0.54810764857124994,0.25480570061222618,13.569124043650094,-3.7170777053126769,4.0913971275702288,8.7644484210350093,-0.57088879665496695,null,92.078608669296131,104.32494878029053,97.535193252512954,96.547671232231721,93.920400584714187,96.934608330466205,102.64954142051967,null,90.647201872443304,102.37469940009089,96.924040153661679,91.310822499669882,90.417140229003152,90.910365944120088,103.81368506757489]
[null,"Julio",102.40654339433304,101.62788593490545,100.0149720572601,105.58995942782556,104.16303923730895,107.16025361149752,98.768024873038144,null,2.1082447107564795,0.32840558687043941,12.340705624134385,-2.2674961437661678,2.3391529467345906,1.1794595808485742,-1.1707664960421305,null,92.770616558006395,104.16537940319921,97.870682900105166,96.814941404421575,94.606636906438666,96.913196721906004,102.47322535033688,null,90.5905164680523,102.49684763679829,97.856031838985785,91.689533672562845,90.825534276991988,90.437632849636998,103.7514170016679]
[null,"Agosto",103.04687493431462,101.83890052773474,103.45451817924406,105.75732722431395,103.75065378876471,107.32003494518653,99.414666053682353,null,4.2236154899509826,-0.29693244962325505,16.012266147083597,-1.989360400367568,0.78550246456494666,0.93845379103725257,-4.2933147340096234E-2,null,93.627528235272607,103.87251318178581,101.83651175048911,97.426203998023382,95.436215686158548,97.07118320051039,102.88638524402329,null,90.859163167203079,101.99689180019892,98.436021493085875,92.122415113025653,91.98613425652789,90.450197160380412,103.49215998821164]
[null,"Septiembre",103.49888660499077,101.83239739886996,105.03855947861756,106.08845443097023,103.47200108091118,107.47664636164406,100.14351413044733,null,2.8977126865665559,-1.4390725082373601,16.099485085225297,-2.4821731761993759,-0.53642027829331473,1.3886282291925678,0.97532288781931875,null,94.222748554176022,103.59995781383799,103.42557380875326,97.982387050037531,96.020656060255234,97.126944583307989,103.13170996698445,null,91.037451362914027,101.73575449475535,98.464387099489258,92.359142731966969,92.798684723581133,90.370278447737604,102.98391349902568]
[null,"Octubre",103.06056112811322,101.72272818858659,104.88592577830342,105.95058045893484,102.86409264798434,104.33664327466659,100.44657432427962,null,0.81624663319725954,-2.3236631716999079,13.352062260627552,-3.5120402255065963,-0.7238867999203924,-0.51375356068389388,-5.2182677333356686E-2,null,94.955877625247226,103.58282335263146,103.66535814470382,98.387952388028253,96.781152566588176,97.403274919768933,103.20427953326299,null,92.135999053225447,101.82859346890145,98.836290355886717,92.862117377603454,94.08643004103206,93.354809837378482,102.74544475760861]
[null,"Noviembre",102.60879111000654,102.19738800227891,104.03080171089519,105.08447271592496,102.28666817057274,103.10144378538047,100.31336507655386,null,0.56912233736969853,-0.22116153522042659,14.964201032309887,-4.1315903381444201,3.2890961871747892,-0.27952691421100351,-0.57726520221672573,null,95.325272011975571,103.31926759036799,103.03999895777474,98.370839208562629,97.042728422275928,97.56850559132279,103.14767457656319,null,92.901661719976474,101.0977575944153,99.047587121481655,93.611203126544382,94.873291072936254,94.633500763020137,102.82545550918995]
[null,"Diciembre",101.99428287385982,102.89635608860759,102.67444106011772,104.35487585359438,102.36454704867104,102.78967969582345,100.19979708399273,null,-0.54129375595556306,0.28834147524123832,10.749163619882562,-4.8075658206670919,3.2106992376550458,0.65700418649266012,-1.69608328241585,null,95.886257898449202,103.30076183810928,101.79108786982525,98.576878634170626,97.352222443389351,97.502618314012722,103.32227339067737,null,94.011404557876403,100.39302242069044,99.139656197616659,94.463126737336125,95.103456470238186,94.85642780728935,103.11625012979539]
[2000,"Enero",100.55371664142206,101.68593033920016,105.45521258513605,103.95805753219706,101.87575319457346,103.26852718158668,100.44084575444077,null,0.39617340940791834,0.2459462017361691,9.9396217279423382,-3.9475481681880087,1.3603130015485743,-0.22341651273163343,0.48124140877905397,null,95.888147201674471,102.36494127347311,104.41772904976804,98.137080286144936,97.28962367566227,97.918469766894532,103.11569945271569,null,95.360122335025011,100.66775308246471,99.016185629960759,94.400648315067542,95.49831105527916,94.819275958797562,102.66311347558188]
[null,"Febrero",99.887860900857731,101.64988316039104,103.64947914329937,103.07663876829797,100.38541157097582,104.00148615281741,100.44897764304133,null,-0.15781154154632659,0.17423959409470502,9.3050600757807587,-3.8721466111520608,-1.0935880334246195,-1.3689536976556727,0.89388350474750577,null,96.063158346682258,102.07543010315814,102.79267484282124,98.151190166375159,97.255988225802042,98.098027210299577,102.40968750237268,null,96.171003643804482,100.41863987398357,99.173363621737494,95.22156653459129,96.882591507869492,94.32367828490122,101.95194605792703]
[null,"Marzo",100.45434776961558,102.4054923961732,102.34686577062189,103.06563206726308,100.50895953401862,104.78020575806212,100.59399822219584,null,-0.87429232298890103,1.1300817471248781,5.8441548695325585,-3.7013738038603528,-3.3791077528152691,-1.1584246484986682,1.3251624785574956,null,96.569376026954671,102.17479315265365,102.00757075033944,98.395978909844914,97.684410491495726,98.077979773241992,102.55389355760798,null,96.132599704324591,99.774719853279876,99.668485187379474,95.46924317664822,97.189753972563125,93.603538057278115,101.94832233537736]
[null,"Abril",101.21073364086509,102.31320583958797,100.98824566473645,101.9706248014347,100.26109056222997,104.62278429152634,100.48314827803928,null,-1.3421756496957982,0.29466613674322684,2.5806499166033392,-5.1620957240385508,-4.3236869377829112,-1.7370375163285767,0.7798390022526025,null,96.829288892236036,101.84477088768529,101.5403107159586,98.487496441063527,97.856582309052115,97.930497426555021,102.23372537486117,null,95.670968294552523,99.542155923999559,100.54666268097667,96.584184546133955,97.601753342503855,93.603413529577281,101.74215988135443]
[null,"Mayo",101.27869062207404,100.98722043476633,101.03437807595962,100.87531114103487,99.296096983052379,104.20906617343337,99.484864953160383,null,-1.1439393593192571,-1.2448790729191028,0.7236005286043401,-5.568872913673351,-4.5624558928979431,-2.0893207659937185,0.12738693521756606,null,96.693708534179763,101.09750791886954,100.61976876168333,98.219740524146076,97.556438837702302,97.515908942860818,101.21634984003019,null,95.472905445624946,100.10920934711184,99.589635407104126,97.367472192302813,98.248009540952054,93.577183371518515,101.74045055766526]
[null,"Junio",101.37386510731613,100.57507833743165,101.66254238436181,101.10519015595102,100.06696692831547,103.93796937702756,100.0974356001354,null,-0.20204097591989267,-1.3050710082842309,1.0255274183438745,-4.3788632672542409,-3.665562276987655,-2.5215143043547661,1.2326359344753568,null,97.620753438208823,101.27492501040913,101.22752603856671,98.884568284336922,98.36176716564762,97.756736052334347,101.66288602153004,null,96.297752221310489,100.69584501901106,99.57209771112116,97.803651950815919,98.295941393037936,94.052959316271384,101.56392660012612]
[null,"Julio",100.78201467571792,100.87011665473095,102.08951671092751,100.87702751812225,101.03891665568605,103.68690015690893,100.02572015877467,null,-1.5863524583186184,-0.74563125386655216,2.0742340981505292,-4.4634280903619095,-2.9992621226281435,-3.2412702821523753,1.2733830481608255,null,98.13233081467682,101.16714461142486,101.65565393283262,99.134746721770441,98.715334773506086,97.754748805776259,101.54563171977888,null,97.370876272351893,100.29446576106442,99.575017306308339,98.272866638503203,97.700309980462166,94.278784164484065,101.51952073785783]
[null,"Agosto",100.32060429366905,100.14585746197565,102.38957660482079,100.51876809633265,101.09934390446607,102.31020453833094,100.00533185334443,null,-2.6456606688784912,-1.6624718619168588,-1.0293814065985618,-4.953377005141391,-2.5554633031004137,-4.6681222284491009,0.59414352339435261,null,98.270226421350827,100.78350142953036,101.31515376424535,99.155055479634086,98.764536193174962,97.506992613508714,101.09711391038803,null,97.956174719286835,100.63671527082067,98.950652130614586,98.643325378409287,97.690580748479064,95.305246483968602,101.09172384792909]
[null,"Septiembre",100.5382093443481,99.77231221501215,103.0303020153931,100.87514359226077,101.04479799542409,100.77980319894509,99.597358642224606,null,-2.8605885123598074,-2.0230155004488437,-1.9119240336052723,-4.9141170607793772,-2.345758330883263,-6.2309751833575238,-0.54537280118940323,null,98.373490731146518,100.17174124846888,101.52011844217905,99.204290088222351,98.717549385589066,99.215048372437877,100.60903610893357,null,97.846869735080205,100.40034056001024,98.534233576265336,98.343642006803933,97.696815020660026,98.447352766289598,101.01576736622417]
[null,"Octubre",100.26671870483847,99.533558181031921,102.58324081404733,100.48478022840233,100.17878010661505,100.84828367304743,99.483793940277991,null,-2.7108744535184193,-2.1520952559354267,-2.1954184483466865,-5.1588204678604699,-2.6105441386226058,-3.3433695891826209,-0.95849996924077807,null,98.548938626410589,99.639573582248289,101.18914327617048,99.164604521056859,98.733419680982109,99.384220630359863,100.04327508064767,null,98.286789374762904,100.10651221874693,98.641008485583015,98.686193367448581,98.557218979813172,98.548251899423406,100.56238420169778]
[null,"Noviembre",100.10633717771441,99.673104187345004,101.27702805773511,99.857917208145011,99.893987260492011,100.65375458620841,99.796322695946316,null,-2.4388299532827062,-2.4700081521433992,-2.6470752968076772,-4.9736705839585893,-2.3391913656730989,-2.3740590910319881,-0.51542721173093442,null,99.065524801360482,99.647118965860315,100.38015942406315,99.479026251789421,99.179190560819066,99.583606748301378,99.935315885967242,null,98.960293218494044,99.973929555323309,99.114440213272573,99.620569938820353,99.284444720572623,98.936802862142144,100.13927686538551]
[null,"Diciembre",100,100,100,100,100,100,100,null,-1.9552888825408177,-2.8148286282494217,-2.6047778127682109,-4.1731407545384736,-2.3099277209196023,-2.7139686630785365,-0.19939869122215237,null,100,100,100,100,100,100,100,null,100,100,100,100,100,100,100]
[2001,"Enero",99.837965762892452,99.175724161486642,99.951407861692871,99.698314699284538,100.34481528194017,101.57931520205938,100.32952326870783,null,-0.71180947103327563,-2.4685875119006773,-5.2190921515613553,-4.0975590868396417,-1.5027500309218178,-1.6357471396459489,-0.11083387928164656,null,100.6813022136504,100.29104432305822,100.66324459356983,99.929374888703961,100.37313665940009,100.55663646320538,99.76813577282006,null,100.84470516232354,101.12458988426998,100.71218279672654,100.23175937338193,100.02822405659957,98.993221467559906,99.440456330701139]
[null,"Febrero",99.398246683920135,99.804242472495034,98.595130030413983,99.102775410491773,99.86204413684986,101.95850981937082,100.5630247136223,null,-0.49016388229953245,-1.815684022955355,-4.8763864079794939,-3.8552512046292953,-0.52135805983712924,-1.9643722498779326,0.11353731342715889,null,101.0057011056458,100.23609787221174,99.679807754395355,100.22593576708765,100.68752135181667,100.69386955193194,99.589773564149738,null,101.61718589145468,100.43270244732906,101.10013316443396,101.13332886182415,100.82661758238754,98.759652068592104,99.032197816002324]
[null,"Marzo",98.224090300281418,99.767358745352752,97.550525437463108,98.517543066485047,100.35831019845472,102.38031081612301,100.05531385919026,null,-2.2201701756593861,-2.5761642164800813,-4.6863578059227144,-4.4128085274923068,-0.14988647406394273,-2.2904086936806345,-0.5355034818436244,null,101.22933841217174,99.996093754111683,98.784513608086925,100.2305716260493,100.73673143462581,100.41823757496485,98.879150489921514,null,103.05958355297867,100.2292683815984,101.26497337158362,101.73880560379811,100.37707015534916,98.083544359733281,98.824486852418474]
[null,"Abril",97.690429038072651,99.886293067843411,98.007383004397909,98.522762776407816,100.3928789152401,102.02429201905082,99.925849330573058,null,-3.4781929506447762,-2.3720425450743821,-2.9516926853393355,-3.3812306551429194,0.13144516209739887,-2.483677231562631,-0.55461931380191842,null,101.50531128537337,99.770893947069311,99.233450285524697,100.43874960124603,100.96970320613462,100.27404841046841,98.443787777706319,null,103.90507267177007,99.884469513053489,101.25099481645354,101.94471487689241,100.57456693853908,98.284483455905203,98.51683867308067]
[null,"Mayo",97.723070687978733,100.04114987745095,98.395044048869124,98.048288469891872,100.49659189575455,102.11642565420301,100.12789480343694,null,-3.5107285770145435,-0.93682205851630673,-2.6123128358410797,-2.8024921451696994,1.2090051363318643,-2.0081175238127691,0.64635947445805808,null,101.79949248971548,99.634386282941151,99.536892272813361,100.79287013952725,101.39794687225556,100.21005673183529,98.351585335455709,null,104.17140166906177,99.59340371936139,101.16047330938447,102.79921425704252,100.89690103863025,98.133141744675569,98.225959437708795]
[null,"Junio",97.905091903211257,99.907751092170798,98.026373930594175,97.852641394025781,100.19973893793764,102.69269483925333,100.7250039054021,null,{"$f":"(C83/C71-1)*100","v":-3.4217627989549082},{"$f":"(D83/D71-1)*100","v":-0.66351153416153164},{"$f":"(E83/E71-1)*100","v":-3.5767042299809426},{"$f":"(F83/F71-1)*100","v":-3.2169948515089142},{"$f":"(G83/G71-1)*100","v":0.1326831557883601},{"$f":"(H83/H71-1)*100","v":-1.1980939643500998},{"$f":"(I83/I71-1)*100","v":0.626957425536534},null,102.11262115259765,99.402856379038568,99.765600336002862,101.0523103285468,101.58275828615871,100.08017115678216,98.132070121836236,null,104.29755916428324,99.494639096954103,101.77424333439093,103.26988509348136,101.38026242670921,97.455979038664225,97.42572977609305]
[null,"Julio",97.63595767766482,99.797883720082936,96.861791210426986,97.457541242370098,100.90735877087003,102.60977900495685,100.28030932637034,null,-3.1216452738874412,-1.0629837361229244,-5.1207270530069575,-3.3897571725513553,-0.1302051617045108,-1.0388208638912766,0.25452370369496435,null,102.66107027967408,99.259924312209506,99.589846106056484,101.32631915326496,101.91698321660849,100.00891324827927,97.927710380476412,null,105.14678477226509,99.460951086515692,102.81644068475148,103.96970605001566,101.00054590471544,97.465284710776018,97.65397717488365]
[null,"Agosto",98.034748489474026,100.0351936635146,96.905441478180819,97.430751729056368,101.99096797265825,102.25246823639576,101.10830532600356,null,-2.278550672904267,-0.11050262214097328,-5.3561459168899095,-3.0720793994578832,0.88192863945262268,-5.6432593596811298E-2,1.1029146668665835,null,103.80125353094498,99.520255131011794,100.70606309048213,101.83320647634446,102.93373302827693,100.34571368769798,98.644413856112294,null,105.88210316272715,99.485242629474087,103.92198988449692,104.51854744950629,100.92436131782907,98.135248389027069,97.563116638196107]
[null,"Septiembre",98.41035591744965,100.12338838870548,98.013877004143936,97.416211160047581,102.70590734961199,101.73380167688018,100.52110919426489,null,-2.1164624283395161,0.35187735544983667,-4.8688831471150102,-3.4289244198692392,1.6439335692106871,0.94661673038975991,0.92748499019799091,null,104.38793996612952,99.175260456964438,101.75082216907103,102.18924211190685,103.26383092464788,100.29633746249986,98.542514836928262,null,106.07414127604019,99.053040506319903,103.8126694700273,104.89962696662214,100.54322442538452,98.587033816994406,98.031662828637479]
[null,"Octubre",98.725453013565541,101.03551567278714,98.841540867718038,97.354016990918183,102.46472564925689,101.12613600763274,100.09001479898701,null,-1.5371657826063423,1.508996080521352,-3.6474768360183485,-3.1156591379987164,2.2818660201382235,0.27551518426045529,0.60936644522517902,null,104.91591586311159,98.753603078805256,103.60074402488448,102.53682877474218,103.36567007597586,100.18424215645352,98.224093808400156,null,106.27038181196843,97.741474788556459,104.81498276472216,105.32367532847411,100.87927276534458,99.068595035502867,98.135757103908688]
[null,"Noviembre",98.404370007175501,99.730413338033912,97.84131614525937,97.563464684578392,102.35208858891941,101.61670566744741,100.34015744526913,null,-1.7001592691554324,5.7497106321879876E-2,-3.3923901385782607,-2.2977171842909927,2.4607099945039179,0.95669663312385467,0.54494467795145329,null,105.58022732673737,98.66113502951886,103.2104177933052,103.27220495783979,103.57060703783401,100.71744420977573,98.087169673178764,null,107.29221407447518,98.927831267588587,105.48756073566572,105.85130949553474,101.19051644740595,99.115045649467703,97.754649953265954]
[null,"Diciembre",97.977147487587189,100.99829413767939,95.585134426344766,97.494648378571185,102.64052946307413,102.40039130058854,100.50624527423591,null,-2.0228525124128094,0.99829413767940078,-4.414865573655236,-2.5053516214288196,2.6405294630741372,2.4003913005885336,0.50624527423590582,null,106.49443413875936,98.830858047548105,101.58422917737953,103.79220490307439,103.94166566632028,102.00875087445296,97.952937837463153,null,108.69313597056012,97.853987427573102,106.27617964554676,106.45938687839545,101.26766318339604,99.617540107843965,97.459553453811822]
[2002,"Enero",97.5538545590816,99.78385157784048,95.088439516295693,97.980517607931404,102.90086113499419,101.89543737270712,99.864123933965502,null,-2.2878182526629653,0.6131817251605165,-4.8653325145017305,-1.7229951143451605,2.547262502673675,0.31120722759248043,-0.46387077260984233,null,106.76668147115306,98.894032051956515,101.64216671871654,103.77301049777464,103.90025696778511,102.1580914295489,97.576018821342345,null,109.44383689779464,99.108252976996155,106.89224393181644,105.91188231217747,100.97122203037721,100.25776822163397,97.708781670045852]
[null,"Febrero",98.151277958710438,99.889238177819294,93.550122056104371,97.865956191015101,102.64277697813658,102.71746217715135,100.1224033667721,null,-1.2545178278395297,8.5162417166473325E-2,-5.1168936769527722,-1.2480167324816716,2.7845743248315902,0.74437372527813572,-0.43815442913035518,null,107.50580300606052,98.875612376043833,100.52311697482044,104.38762636025885,104.11389332239631,102.65564459572722,97.36197773370759,null,109.5307215982305,98.985250242903007,107.45375288183396,106.66388029409812,101.43323903305254,99.939817845852247,97.242949090072855]
[null,"Marzo",98.916061853048049,99.92557071947779,93.222632056588296,98.46621647923061,103.57411103156207,102.20526490597517,100.47315708291458,null,0.70448252628372288,0.15858089871745307,-4.4365659349003721,-5.2098931476396437E-2,3.2043194297993072,-0.17097614644111525,0.41761222628551309,null,108.62082238999588,98.948829121203701,100.30194684570894,105.07443706267301,104.78999607061353,102.7776238424041,97.554837248335787,null,109.81110686691657,99.022530878491438,107.59398724638383,106.7111551755787,101.17392756446728,100.56000924899074,97.095423375448945]
[null,"Abril",100.15989749990594,100.15055098520342,92.058933258122693,98.816442058602235,104.01779078401587,104.54194765434367,101.07774234513634,null,2.5278509738869692,0.26455873898587612,-6.0693894316189319,0.29808267035802416,3.6107260872917157,2.46770213786216,1.1527477847624867,null,109.60895896370776,99.017289800557251,99.122172455234647,105.71060442597154,105.3507805227725,105.29428065800406,97.650081488767682,null,109.4339767708036,98.868442386489107,107.67251905614359,106.97673608131002,101.28150168226941,100.7196470130324,96.608886608621816]
[null,"Mayo",100.71333192814443,100.24980704471345,92.367034652436061,99.028903651408868,104.56325999778227,105.18661510843755,101.68494341409146,null,3.0599337690823569,0.20857134041152303,-6.1263343644006873,1.000134930267671,4.046573147720367,3.0065578917060076,1.55505977001833,null,110.82507975240783,98.97216058571739,99.682001779708813,106.35645198710368,106.21897370198351,105.52185602678006,97.927079574078462,null,110.04012838288162,98.725537238763764,107.91945649743755,107.39940367459633,101.58345646858788,100.31871062491831,96.304404847126818]
[null,"Junio",101.37279805157242,99.770016837179796,92.424936145701011,98.685547683990407,105.6159267510053,105.34050674430931,101.95897907230044,null,3.5419058201685116,-0.13786143065509515,-5.714215022233871,0.85118426860930629,5.4053911422088374,2.5783838949797078,1.2250931934013609,null,112.14359391633889,98.955525058088725,100.09233880594748,107.00186203843253,107.19522604315641,105.7383977916037,98.164678808631706,null,110.62493693750757,99.183630708993192,108.29581602107832,108.42708435998402,101.49532304523954,100.37771894173642,96.278601160788256]
[null,"Julio",101.2133370734191,100.00771302589952,91.477802335545121,98.837772540815408,106.48941017531672,105.24444734826872,102.10784488238488,null,3.6639978557537534,0.2102542639131677,-5.5584238197551432,1.4162385802580113,5.5318576092372229,2.5676581402485965,1.8224271228229671,null,113.47101080730422,99.106539931346077,99.683283840543069,107.8072583142152,107.92383360348907,105.96383033484014,98.336896116461631,null,112.11072975984729,99.098896407799998,108.96991542811645,109.07495742044956,101.34701039832112,100.68353533577965,96.306896134898452]
[null,"Agosto",100.97676949390173,100.69258629148534,90.508334364810466,98.873689355470304,106.81819605406538,104.52010740997355,101.59161611346038,null,3.0009981662201923,0.65716134881688149,-6.6013910217938783,1.4809878819641797,4.7329956537928153,2.2176864898119319,0.47801294453355681,null,114.23021999109433,99.082274379764115,98.31375048618645,108.25798012542509,108.04384543198292,105.82408002014951,97.856060876807362,null,113.12524708764131,98.400764176361804,108.62397499208727,109.49119106521495,101.14741628598294,101.24758062586103,96.322968981533819]
[null,"Septiembre",101.13912369780475,100.79365877669274,90.404048660438988,98.921514891058195,106.74204030786383,102.90071721907312,101.08909175924182,null,2.7728461653406589,0.66944437136415846,-7.7640315599220795,1.5452291903834237,3.9297963110464629,1.1470283455042862,0.56503809948940109,null,114.64430833917218,98.681468326661033,97.740885749296169,108.34853889865816,108.31739061255152,105.42397770203102,97.049568803887183,null,113.35307658163995,97.904441136806781,108.11560676492998,109.52980149766398,101.47584803526716,102.45213109407776,96.00399718203488]
[null,"Octubre",101.55680434658022,100.88332430969903,89.558821810889143,99.062633006616352,107.17460581104208,100.08222979559687,100.75184527668546,null,2.8679041185312393,-0.15063154978195437,-9.3915159307888292,1.7550544584693961,4.5965869053389286,-1.0322813203869186,0.66123526810102362,null,115.61898495918311,98.660573692032074,96.855018219679749,108.87324082621703,108.55496745233049,105.31049871202785,96.744791284758193,null,113.846615894503,97.796711564694874,108.14682044857302,109.90343939166793,101.28795588361864,105.22397325390224,96.022848037251279]
[null,"Noviembre",101.88942956298683,101.49573079935406,88.134695726202281,99.322557369189667,108.39015608374503,99.812713447839585,101.41662549844699,null,3.5415699074718088,1.7700893862102607,-9.9207786663930708,1.803024001144693,5.899310486058118,-1.7752909895658253,1.0728187802226952,null,117.08149153824561,98.906137820643849,95.565889481444827,109.70620512141468,109.32952629978483,105.45203182589178,97.296301013233716,null,114.91034157362441,97.448569552319839,108.43163262096934,110.45447079421061,100.86665639203807,105.64989988073934,95.937229754034405]
[null,"Diciembre",102.22457154755955,101.26571739135463,88.217996620312789,99.184355793798872,108.26683722267708,98.063826622118114,101.7109264248116,null,4.3351170848390685,0.26477997074949577,-7.7074095781168639,1.7331283750740445,5.4815654099164224,-4.2349102609781752,1.1986132277538308,null,118.32494752798235,98.885831652315531,96.058168802503332,110.25703267277338,109.73233783118219,105.55739864663359,97.276102472293019,null,115.75000583194634,97.649860386766719,108.88727071862034,111.16373322219711,101.35360064642045,107.64152520112376,95.639776267501631]
[2003,"Enero",102.9528314794042,100.14467943060544,89.564865589265935,99.646184275620413,108.47200576584764,95.794580439179285,101.86558371441507,null,5.5343553001822254,0.36160946591992094,-5.8088806116995517,1.6999978244186975,5.4140894151942565,-5.9873700833261818,2.0041829854463122,null,119.30080277172021,98.405730039392211,98.329597125183639,110.89461146763848,110.17326847842624,105.36200189364919,96.906845652871453,null,115.87908856648245,98.263562876130408,109.78590374501509,111.28836721023359,101.56838872902472,109.98743499956589,95.132077115028707]
[null,"Febrero",103.64688540941614,100.41287579282019,89.586708909421247,99.31806107333756,107.79439914838235,95.843304823508433,102.32501382983796,null,5.5991196090361184,0.52421824868533751,-4.2366734105447446,1.4837691663567298,5.0189816779246943,-6.6922967214546496,2.1999176897473882,null,120.23561894916057,98.18033510363307,98.393553280961669,111.26602191893913,110.43122955137675,108.8293972645761,96.662607880658399,null,116.00504778722214,97.776639030044834,109.83052562009483,112.02999808542282,102.44616642777954,113.5492953472139,94.466254401298315]
[null,"Marzo",104.34251258177765,100.49339817290381,90.390674228468541,99.784320909088848,108.56731466793234,118.53285935353419,102.64096446891622,null,5.4859146503337897,0.56825039810890488,-3.0378436712671819,1.3386362114728545,4.8208993411960721,15.975296832878193,2.1575985556148813,null,121.15695759604836,98.017214565672134,99.172885084743641,111.62673884568524,110.88518274496282,136.17210919074267,96.494713402731648,null,116.11466371493835,97.535973852758701,109.71583731533794,111.86801476294632,102.13495938820998,114.88131639902311,94.01189271945519]
[null,"Abril",104.48191756548007,100.71344689275799,90.295736028067793,99.925464032857889,109.64309330375727,123.91954423970238,103.05322196882815,null,4.3151202961027257,0.5620497361394694,-1.9152918327992152,1.1223051054580102,5.4080196063977848,18.535714151250147,1.9544160542747546,null,122.55527379738722,98.198823464739419,99.518684845118429,112.36856124789863,111.63694752046469,142.91295324228736,96.803835777821845,null,117.29807095144511,97.50318998544833,110.21415763661726,112.45237871594887,101.81849504298791,115.32721018231416,93.935768264580176]
[null,"Mayo",105.78889124759458,101.32574135037416,90.824279594245141,100.93699833724219,110.36860075166398,132.73706666530373,104.49016293638918,null,5.0396101710460606,1.0732532434509556,-1.6702442207829793,1.9268058268624211,5.5519890581116504,26.191974642842375,2.758736375427806,null,124.85250113542861,98.713223219692253,100.43105669508287,113.74126615173523,113.24732014178369,155.10236606846215,97.981852692645987,null,118.02042696828767,97.421663936661403,110.57732265398164,112.68540577332456,102.60827750874273,116.8493247327459,93.771365589978757]
[null,"Junio",106.09720263181961,101.00409708549486,90.741395546825999,101.1269312951739,109.68715068575753,142.62227308276024,104.45153109178568,null,4.6604263382803213,1.2369249674769822,-1.8215220578795321,2.4739018716309458,3.8547443174459239,35.391671723152186,2.4446616101537755,null,125.89896884142773,98.56752367874077,100.47708615448192,114.12864737868725,113.58394634939619,175.08151445864397,97.945897457319546,null,118.6637967056724,97.587648939931952,110.72905100146045,112.85682846003044,103.55264553712639,122.75888658502056,93.771624440096161]
[null,"Julio",105.74696965984759,101.27703458449737,90.249272317961768,100.91890408885148,110.25253186721305,163.78249989361149,103.87635355001201,null,4.4792837757536397,1.2692236630480025,-1.3429815607911566,2.1056034495077869,3.5337989812329607,55.62103656797408,1.7320007778679702,null,126.4001910076322,98.332075677145497,100.12739886486874,114.23341825687237,113.93977318656174,208.25609761572372,97.425153107494054,null,119.5307926214993,97.092175023257781,110.94538082490553,113.19328057337847,103.34435976834489,127.15405965289395,93.789538983564739]
[null,"Agosto",106.07131383793197,101.01182045630141,89.933052347822226,100.34793848679658,109.97504176785044,155.71447195558801,103.65136845032197,null,5.0452637468639816,0.31703840031673813,-0.63561220193210088,1.491042906294382,2.9553445296784941,48.980397948509371,2.0274825971477783,null,126.86361374553286,98.023360610978969,99.683181776662892,114.22421431147534,113.17931718632852,203.28766568957727,96.96149495451283,null,119.60218946601317,97.041475114672082,110.8415417627897,113.82816232593014,102.91363873745287,130.55155576519425,93.545793368839625]
[null,"Septiembre",107.40563238237313,101.24860982535695,90.713947121167436,100.81444544431851,111.19286135282923,145.05473234670839,104.59654629602669,null,6.1959293846485908,0.4513687211932238,0.34279267944341552,1.9135681002711902,4.1696983045559133,40.965715562400227,3.4696666828685885,null,128.17225071042725,97.989048744613399,100.60653468743321,114.90291230133248,114.33611897515374,191.50541454461856,97.297583206802699,null,119.33475728174403,96.780636211829517,110.90525534408965,113.97465094900043,102.82685199758512,132.02286574620967,93.021793407435609]
[null,"Octubre",107.51211419640966,100.97485167001648,91.883851776606363,101.15745225079741,112.23409429855896,156.28459322605374,105.46357776569026,null,5.8640185540950185,9.0725955893833365E-2,2.5960926223736136,2.1146411927503994,4.7207903861453682,56.156186313236489,4.6765719040335219,null,129.7469583520955,97.947394886955166,102.19445052494491,115.68928662453062,115.61056758449621,211.72077540273003,97.689666318812868,null,120.6812453851162,97.001771497565571,111.22133927668413,114.3655598775904,103.00842030849853,135.47130336545209,92.628818771776565]
[null,"Noviembre",106.79719449265242,100.88453799434494,91.259599725624184,100.89375979481639,111.6552795976253,167.53049845776121,105.36209491256496,null,4.8167557230572866,-0.60218572761191469,3.54560025841546,1.5819190194493737,3.0123801199783751,67.844849288973393,3.8903576161468445,null,130.73548836428523,97.880340244462076,101.83769812431822,116.09523993610485,115.73008838378993,240.93590563069526,97.610881839540255,null,122.41472164634413,97.022142530849223,111.59121717660119,115.06681897096817,103.6494546436578,143.81614562642838,92.643262190774522]
[null,"Diciembre",107.16027770899277,101.06336773597106,90.60328333775108,101.61522175436384,111.97171680044497,152.79499571427232,106.49166160986155,null,4.8282972349137143,-0.19982049265652169,2.7038550055772381,2.4508562273859669,3.4219892931275808,55.811781956109897,4.7003162325770731,null,132.7030478981747,98.122786503592692,101.50999951680049,117.089284642379,116.63747329910616,227.86966457970036,98.25424006202357,null,123.83604329446267,97.090358951761175,112.03788182641389,115.22809537868339,104.16690627953527,149.13424586615272,92.264726248693293]
[2004,"Enero",107.33061759528827,100.60851087996767,90.866649255101109,102.01086124527268,111.67658548970236,176.22035888644837,106.95915638290555,null,4.2522250752859092,0.46316135015804782,1.4534534912439945,2.3730732760540052,2.9542919403299894,83.956501587615406,5.0002881078761163,null,134.40623486167277,98.098244959651055,103.22171153291066,117.72662869713014,116.89106819136134,279.21908214823134,98.506857863999855,null,125.22636864764776,97.504916931618723,113.59691633739422,115.4059746776089,104.669271252155,158.44882164163141,92.097639131850372]
[null,"Febrero",107.18950727546165,100.63625048139788,90.539384111729618,101.68529608691561,110.9954001068138,169.88551909966182,107.43184618974463,null,3.4179723317799393,0.22245622069283488,1.063411318381613,2.3834889525582437,2.9695429296147102,77.253402741588602,4.9907956703520329,null,135.21629621069661,97.950217171464033,103.0190785600284,118.05752741867241,116.93134502686868,297.94585957556461,98.347934208073752,null,126.14695192432421,97.330948542811257,113.7837191745178,116.10088376766154,105.34791974653234,175.38037447487054,91.544488618740658]
[null,"Marzo",107.75167235646342,100.41341467775105,90.168524221532579,102.00908530764264,111.14820588712722,157.66379586611208,107.95233719140904,null,3.2672778240929068,-7.959079562136484E-2,-0.24576651168068953,2.2295731215936421,2.3772267252707424,33.012733115520817,5.1747104579296099,null,135.74566017145895,97.783059294257583,102.7351591405171,118.17437634039474,117.00485906439772,281.21028203350147,98.034790184884372,null,125.98009590272157,97.380474120977894,113.93683109208919,115.84691303132485,105.26922871181388,178.36072034717782,90.813031691069384]
[null,"Abril",107.61464914736597,99.818063821909831,89.235354779349507,101.52429271533956,110.77456047039283,149.66256552009816,108.14168699065976,null,2.9983480920730443,-0.88904024087427258,-1.1743425496733018,1.6000212738125796,1.0319548022062142,20.773979954768109,4.9377059005207835,null,136.30794823350135,97.638774985883572,101.82016680740813,118.38276276909674,117.03727804008115,267.78750280202757,97.830819472879554,null,126.6630048171631,97.816739022393335,114.10294390511122,116.6053558245671,105.65357022685924,178.92751061123997,90.465409034472756]
[null,"Mayo",107.73580926713753,99.376642264182877,87.750349398009789,101.25744470983925,110.22017381588495,154.48522860950035,107.43736090802625,null,1.8403803996643431,-1.9235971631843207,-3.3844806806814787,0.31747166834346086,-0.1344829369659184,16.384392461402332,2.8205506516735479,null,136.7044872405304,97.350530809777283,100.48408652719702,118.37396830024214,116.90739954030616,282.24679214358235,97.03087643302274,null,126.88862521240571,97.961179399662768,114.51132356343192,116.90396556959497,106.06715222169014,182.7014755287905,90.313905342563118]
[null,"Junio",107.97964547139868,99.714575300052729,87.342685918764204,101.61192918162493,111.00231909290243,156.16171274964719,107.69148557393738,null,1.7742624620477043,-1.2767024533179239,-3.7454897046496627,0.47959320058412747,1.1990177508692135,9.4932154524211896,3.1018736138052727,null,138.11640988981478,97.507308677269208,100.13471357894583,119.17479538641436,117.71703335586945,290.1669614348948,97.343658928807059,null,127.90967157453635,97.78641525961315,114.64579148857324,117.28425623471523,106.04916574521943,185.81184614700015,90.39123047659524]
[null,"Julio",107.64331668199254,99.591317953275777,86.598712847909823,100.94378035558262,110.88534570223072,144.73797684841256,107.94843914069833,null,1.7932873426490303,-1.6644608900107216,-4.0449738555126231,2.4649759087003176E-2,0.5739676216958145,-11.627935254114274,3.9201275858473217,null,139.52820794611648,97.621354240383511,99.658807276380657,119.88444920960207,118.08422422808087,270.86103505465138,97.637870285340995,null,129.62087405604615,98.021952361533678,115.08116460276703,118.76358185447324,106.49218206451,187.13888431529648,90.448617008793718]
[null,"Agosto",107.63609991744603,99.540955823009,86.735570121548037,101.27040771835568,111.21592263586379,132.62171356005928,107.93579575080112,null,1.4752207952330343,-1.4561311999408244,-3.5554027610535277,0.91927073487461097,1.1283295264690629,-14.830194076061931,4.133498056547702,null,140.63021754217431,97.596845425619733,99.872320831994202,120.43340031619177,118.35293470037523,249.20888605437278,97.699185295558408,null,130.65339384280355,98.046924121518359,115.14574780800635,118.92259844665631,106.41725743523165,187.90956576014653,90.516018912876063]
[null,"Septiembre",108.15808975310242,99.695096393366029,86.274398619954681,101.99693288600592,111.09260243690811,120.61699070318876,108.75119930700893,null,0.70057533672953642,-1.5343553207007643,-4.8940087407758899,1.1729345298442606,-9.016668399509653E-2,-16.847255686294183,3.9720747559138792,null,142.03110148350987,97.65227724725284,99.842434903284399,121.0855747276033,118.47215020883166,223.46332063296219,97.935517988560562,null,131.31805656676352,97.950933175235789,115.72660777746822,118.71491749946176,106.64269952278285,185.26686773578615,90.054655592426812]
[null,"Octubre",109.34109775704431,100.14205208397941,85.368554296681268,102.50805929016154,110.89234889528215,104.70914897481181,109.63505824438812,null,1.7011883491504509,-0.82475940520183588,-7.0907970812602468,1.3351532776997965,-1.1954882441582937,-33.000978014923064,3.9553754642817962,null,143.93118087539463,97.920151789328656,99.277392932366752,122.10950995269452,119.20280363594769,195.64780358756678,98.341948061872543,null,131.63502454969807,97.781251483854689,116.29269553675246,119.12186300108239,107.49416422634646,186.84881455261433,89.699362262988856]
[null,"Noviembre",109.76187783392849,100.80530952664904,84.602147755027289,102.88039607533491,111.23823224942882,98.141376693026672,110.92428372887898,null,2.7759936535411978,-7.8533806340408407E-2,-7.2950703165615476,1.9690378122082741,-0.37351332574635521,-41.418799802729254,5.2791175241245991,null,146.34777701701236,98.334473553219894,99.228736340250805,123.35314941806563,120.18715879921888,180.18723645735963,99.323393130248789,null,133.33206383225235,97.548902944664889,117.28867289229589,119.89956699597015,108.04482988341988,183.59966257755036,89.541613244052968]
[null,"Diciembre",110.01156420652663,100.8315079207544,84.57043536772882,103.23925125911485,112.09027078996641,97.495394701192467,111.31996678910602,null,2.6607681115542459,-0.22942023446357318,-6.6585312891288879,1.5982147917531497,0.10587851370782442,-36.192023668425946,4.5339748730123475,null,148.48528639236994,98.590358611418665,99.839486472452705,124.29808841725323,120.85022483953556,176.69328076074004,100.11912603792301,null,134.97243445572315,97.777332348240691,118.0548332739817,120.3980917154115,107.8150886672256,181.23243800620145,89.93815658209563]
[2005,"Enero",107.75229887777182,99.567546583545578,82.985822019775,103.34492639256069,112.38188964605745,98.926198809647786,109.38339086067589,null,0.39288070070888637,-1.0346682276850538,-8.6729590008335133,1.3077677523772868,0.63155956395184454,-43.862219192622831,2.2665048601278937,null,148.92984234240177,98.522154350087504,99.311779760253359,125.33400713640215,120.94909340660406,182.18050051588432,99.881917906795536,null,138.2150022723315,98.950067296696005,119.67318915824919,121.27736843153274,107.62329569962625,184.1579912177088,91.313605402869072]
[null,"Febrero",107.98382543853396,100.15785239812109,82.413118028481506,103.06494031836054,112.88074975538163,96.216200797429593,109.52001652961904,null,0.74104096871256964,-0.47537351698652142,-8.9753935958079225,1.3567784965347052,1.6985835870256816,-43.364095240521813,1.9437163317349127,null,150.00028235543726,98.578382524357991,98.787470073561721,125.78088381998072,122.24066334605084,176.22874312961108,99.915265472542529,null,138.90995410309827,98.42301942788788,119.86862339005464,122.04041784864201,108.29185987066229,183.15911631206188,91.230140972012208]
[null,"Marzo",108.61607605585992,100.8896839688834,81.489171434153619,103.312422799101,112.91904233897026,95.130139566533174,109.46654756330318,null,0.80221836050664574,0.47430843046301074,-9.6257012769277459,1.2776680503777893,1.5932209051051638,-39.662660635598556,1.4026656682840644,null,151.19650194532736,98.684604362943034,97.539420130125691,126.26765724477616,122.82083211683386,172.88849371135547,99.922631575442892,null,139.20269212042686,97.81436563264441,119.69617363080111,122.21923929740124,108.76892822748137,181.73892574859389,91.28143145069852]
[null,"Abril",108.64513313705116,100.98144627069108,81.213151868310632,102.98746318136581,111.77384304888038,95.144791288768943,109.55186638270325,null,0.95756850749386668,1.1655029202498834,-8.9899378232710774,1.4412023239883887,0.90208670135472069,-36.427127947374402,1.3040109057715021,null,151.84464940314254,98.62836765307533,97.294002683022711,126.26449536808263,122.95024621080415,172.42794807999334,99.740011343654629,null,139.76203537032538,97.669791130433907,119.80079635474267,122.60181139302837,109.99912220700523,181.22689192376947,91.043644108469707]
[null,"Mayo",107.83013400314209,100.34474125587337,80.746231153560402,102.82537405314648,111.69939255396328,96.951194539043072,110.01839163984062,null,8.7551888871684191E-2,0.97417156550418937,-7.9818693515176342,1.5484583358786663,1.3420580705572727,-37.242417665632473,2.4023586487980753,null,152.73717360411337,98.642542126989682,97.146329210388274,126.38302375485884,123.61031985073731,175.20605580687493,99.758122214267004,null,141.64609458768055,98.303648893225827,120.31066691600596,122.91034671027437,110.66337696601146,180.71572675292614,90.674041610095585]
[null,"Junio",107.54482362092206,100.24184148398841,80.273676500165806,101.71639567703575,110.76517048718118,97.350852474881052,109.37048232206041,null,-0.40268871839534981,0.52877543964768847,-8.0934188641429543,0.10280928258343813,-0.21364292895788006,-37.660230052067625,1.5590803109223339,null,152.96346509006455,98.432392021102189,97.174813891597552,125.76932074276661,123.35361648841344,175.94358038982102,99.223592423094132,null,142.23228970018656,98.194915979097175,121.05439557312022,123.647048153478,111.36498589390888,180.73142239326447,90.722460316955548]
[null,"Julio",107.15912856164198,100.57142089587259,79.488803076171095,101.18574207221981,111.15043461832605,97.153295271247913,109.12171944924509,null,-0.44980787964847835,0.98412488431636191,-8.2101795025817594,0.2396994800322183,0.23906577953698438,-32.876431337023028,1.086889553833692,null,153.8354146847087,98.420927103199602,96.731719898153827,125.71245139531644,124.24759230006627,175.95213222681778,99.00683023036737,null,143.55791872291752,97.861724758866117,121.69225872662783,124.23929381828425,111.78327167744679,181.10773467391593,90.730636146562588]
[null,"Agosto",107.38266096447734,100.93100813289107,79.749196646804194,101.12610973530241,111.77825888185579,96.773596654117469,110.05015025017379,null,-0.23545906360697977,1.3964626905468736,-8.0547962790276202,-0.14248780695599317,0.50562566282272847,-27.030352680300407,1.9589001819694918,null,155.46606630757233,98.565286281519832,96.990826028723546,126.1378247392333,125.20244985432529,176.82886602008514,99.421516726815881,null,144.77762509442863,97.656100047810469,121.61981575598769,124.73319211962081,112.00966190273031,182.72428858058933,90.342009075684004]
[null,"Septiembre",108.81796176515951,101.38400244903394,80.014890983592011,101.56790320433561,112.11199633048707,99.36069693387627,109.92650349899381,null,0.61009954369886099,1.6940713402833874,-7.2553477468284449,-0.42062998320724354,0.91760735748169786,-17.622968078866631,1.0807275684996842,null,156.35848986629017,98.465144673510636,97.289718716056498,126.06301425600077,125.50514163319188,185.54253826955249,99.333251227219989,null,143.6881258663235,97.120987823507335,121.58951605146457,124.11698014714902,111.94621962062303,186.73634947732856,90.363331922159432]
[null,"Octubre",108.09581065378121,99.644513120675114,79.230502415003187,101.65438616980613,111.62610561577345,104.71008111509195,109.14117900036872,null,-1.1389012263532616,-0.49683320138782516,-7.1900618819741418,-0.83278634506090965,0.66168381119260378,8.9021856186644044E-4,-0.45047565252210875,null,156.72508667943757,98.199160098915499,97.642129639583558,125.59850457690902,125.36860433795893,197.23522343556391,98.833460026397248,null,144.98719768281353,98.549490607667266,123.23805436464571,123.55443705803899,112.31118710661494,188.36316554732974,90.555609653129494]
[null,"Noviembre",106.26432488832903,100.49400094661712,78.085238211516682,100.88538347432817,112.06134343215977,107.62991830588375,109.08869453655004,null,-3.1864915347852518,-0.30882161018475074,-7.7030072125129356,-1.9391571933158991,0.73995349088729068,9.6682377327311997,-1.6548127521070932,null,157.37003416257542,98.199444754137332,96.726162685395934,125.42256476268466,125.7456785225358,202.19521638577524,98.555864975783606,null,148.09300706323813,97.716723216444862,123.87253327368337,124.32183973865784,112.21146799713348,187.86153475573337,90.344710232793716]
[null,"Diciembre",105.87055551113662,100.49313940025672,78.194162195493973,100.44920268836967,111.94506258001459,106.00374137683841,108.66163592762872,null,-3.7641576367517415,-0.33557816150444619,-7.5396007416889343,-2.7025075605620064,-0.12954577496195885,8.7269216168852193,-2.3880090321204084,null,158.5091462314719,98.198495162846498,96.855114417001275,125.48287124176976,125.93255898006419,201.4774999341665,98.561125004134936,null,149.71976435393142,97.716616028611838,123.86489182511207,124.92171951933129,112.49496501022705,190.06640456012138,90.704620966482636]
[2006,"Enero",106.34419540750615,101.35652982446615,78.348277468091851,101.11548818549025,112.46934608125619,109.80721613710037,110.3283946870169,null,-1.3067966854822699,1.7967533622207599,-5.5883576722033919,-2.1572788185090119,7.7820755171664757E-2,10.999126074165311,0.86393722018061059,null,160.11357165783096,97.983746816836842,97.228301266830726,125.41047200669794,127.01433289630788,210.60952801961204,99.197723349468887,null,150.56164658943817,96.672357455932598,124.09756080014391,124.02696585575497,112.93240098021313,191.79935110699324,89.911326663345505]
[null,"Febrero",106.24942968038138,101.17487111713375,78.483071685464395,100.59108039601826,111.78966061145331,109.00008350146155,110.82440633000476,null,-1.6061625443523631,1.0154158607255992,-4.7687145408803815,-2.4002923930297793,-0.96658566344816066,13.286621793503063,1.1910058468928009,null,160.98717449611121,98.036257944297276,97.098783968211279,125.30519936050865,127.67635230794174,208.30915808342945,99.18089806603983,null,151.51815400834758,96.897833287869688,123.71939818736051,124.56889703062446,114.21123528740793,191.10917293988706,89.49373278906296]
[null,"Marzo",107.11090741256869,101.15242356254761,78.414441140444893,100.7706472210089,111.53834777705789,104.2328355321677,110.82725918419631,null,-1.3857696742028636,0.2604226550508848,-3.7731765332688738,-2.4602806799282839,-1.2227296063738069,9.5686771901224645,1.2430387649763341,null,161.92656950829178,97.931237987445456,97.089331726553098,125.24207034291392,127.8129116722119,198.41663928556861,99.15610777965955,null,151.17654533966805,96.815513201114399,123.81562670664243,124.28427701593957,114.59100320159259,190.35905362503016,89.46906068917653]
[null,"Abril",108.13259650391268,101.24182328192141,78.048730676923995,101.09110025702691,110.98203448063086,102.93781862317768,110.35751925779377,null,-0.47175296153573187,0.25784638747632371,-3.8964393310554346,-1.8413531761621527,-0.70840238346573381,8.1907030630363522,0.73540771297868623,null,163.05799557648342,97.960247376932458,96.789977893795211,125.41575445896389,128.21629820763866,195.68064320336512,99.245993040110221,null,150.79448829343823,96.75867561585595,124.01223832127263,124.06211243135239,115.52887709047685,190.09596844060701,89.93133744541035]
[null,"Mayo",107.89592547454767,101.80927169756697,78.002320864229588,101.35467339476561,111.44371518729253,104.35796338451776,111.50497669386426,null,6.1013993920888687E-2,1.4594989466953034,-3.3981899218460621,-1.4302896263919451,-0.22889772345648929,7.6396880726331995,1.3512150394728417,null,164.71124520412181,98.186739833461061,96.984653437674979,126.05944569270493,129.36513029315094,198.70289229912896,99.760768067175547,null,152.65752110627824,96.441844830334361,124.33559971438022,124.37457639641032,116.08113573362091,190.40510743486581,89.467547570605461]
[null,"Junio",106.95779549061049,100.74682312427738,77.571046413468281,100.8087773211082,111.24956598063264,104.05812651737669,110.56548642829388,null,-0.54584508165705925,0.50376333157211572,-3.3667700353701147,-0.89230290739888973,0.43731751715898604,6.8897948728556591,1.0926203129602907,null,164.61957977900752,97.745948443138644,96.822404921240434,125.43390530922389,129.22996459881057,199.32886501803742,98.921243999438417,null,153.91078230801699,97.021370413400561,124.81771150173584,124.42756339527537,116.16221911491154,191.55530825816999,89.468465427131974]
[null,"Julio",107.07207399631113,100.07999651728694,77.422654364195452,100.83526218016689,111.69857178878897,103.57199234522899,111.16278595715727,null,-8.1238590215637618E-2,-0.48863223190855898,-2.5992952869044128,-0.34637280398929216,0.49314892230978291,6.6067723756156216,1.8704493644471132,null,165.99206827172654,98.021633722613032,96.749615865776747,125.74373447210611,129.96804519271657,199.69604175110732,99.201880320375096,null,155.02834873399885,97.94328250769037,124.96292804773579,124.70214462023625,116.35604924159048,192.80892182268258,89.240189031073797]
[null,"Agosto",107.27724161618066,101.04742398417088,77.457569548978384,100.90977879521297,112.60845212939473,103.6046563297424,111.82107486596334,null,-9.8171666961721638E-2,0.11534200780649595,-2.8735425486165589,-0.21392194424929567,0.74271442035647173,7.0588052028696335,1.6091978173258026,null,167.40128044449142,98.175644688186296,96.908064095989559,126.03500193309407,130.90879937358289,199.67181336663222,99.597044758819251,null,156.04547425205445,97.157988612916597,125.11116042017318,124.89870004459172,116.25130875891965,192.72474852012152,89.068223390092896]
[null,"Septiembre",107.60066226175697,100.65063305826112,77.771511610582905,100.46563941048322,112.85799624216081,105.35722473212549,111.80170818935663,null,-1.1186567765619437,-0.72335809699511922,-2.8037023426916052,-1.0852481532820812,0.66540596554418574,6.0351104443640002,1.7058713146279381,null,167.95146147859774,98.014192531026808,97.09757152979499,125.77104723337831,130.78706831582889,201.36023237955573,99.366233387335214,null,156.08775814969164,97.380602141162669,124.84979334847115,125.18812200010203,115.88639943172252,191.12142797185606,88.877205005705576]
[null,"Octubre",106.97287385437549,100.80801530573238,77.674474053944635,100.04661018162903,112.70387751724931,106.55682077483389,111.20408499835382,null,{"$f":"(C147/C135-1)*100","v":-1.0388347084073102},{"$f":"(D147/D135-1)*100","v":1.1676530384048256},{"$f":"(E147/E135-1)*100","v":-1.9639259043293666},{"$f":"(F147/F135-1)*100","v":-1.5816100502455743},{"$f":"(G147/G135-1)*100","v":0.96551957584691817},{"$f":"(H147/H135-1)*100","v":1.7636694003819064},{"$f":"(I147/I135-1)*100","v":1.8901261804933567},null,167.6854807063788,98.006174375114455,97.198592529874517,125.6803049922127,131.37385967643945,204.60296576291549,99.342242504616763,null,156.75514236875856,97.22061691015297,125.13582320798267,125.62175246522307,116.56551892487701,192.01301641240192,89.333267304062929]
[null,"Noviembre",105.71077432258838,100.46120651687549,77.459513723252513,99.979108710104796,113.0228260444043,106.4266220526313,111.78639526836463,null,-0.52091853622781015,-3.2633221319400274E-2,-0.80133518523591851,-0.89832117697603575,0.85799668538382168,-1.1179942084808436,2.472942538432088,null,167.33472408531321,98.181883037252419,97.395641831120926,126.10656643021818,132.41636540707469,205.78249650393627,99.891209580045228,null,158.29486176562511,97.731140647569077,125.73748162052274,126.13291722360864,117.15895809847392,193.35622284635735,89.35900414378446]
[null,"Diciembre",105.62359090817097,100.25926435565074,76.953206129371694,99.986161223240785,112.61995374908005,104.72809195984692,112.1009368207514,null,-0.23327033826668897,-0.23272737422848078,-1.5870188148058295,-0.46097077202833514,0.60287711982212056,-1.2034003709893715,3.1651473528461649,null,168.1920813253229,98.376398061637076,97.593178728775598,126.54906207955196,133.29531866369175,203.47357237745928,100.33213060795745,null,159.23723088675229,98.122002683627755,126.82145895871386,126.5665773456426,118.35852726478373,194.28748158180107,89.5015986961713]
[2007,"Enero",105.22963920706115,99.725015166140523,76.951771777607874,98.862146072149116,112.09029681186891,109.12157103312882,112.32885304229353,null,-1.0480649142852294,-1.6096788841835408,-1.7824331760870171,-2.2284836416034626,-0.33702451609652906,-0.62440805631160945,1.8131854097502176,null,168.88989421277992,97.774213491554946,98.184684481170052,124.58981163464922,133.13739451650065,206.39745811896611,100.34871229151558,null,160.49650600859138,98.043819124684461,127.59249360096048,126.02377814429011,118.77691317024252,189.14450751108117,89.334760903979642]
[null,"Febrero",105.79006312198847,100.53364007773216,77.27796801335667,98.44425633254869,111.84942357941448,108.384714990579,112.73394511289645,null,-0.43234731685127814,-0.63378488385640308,-1.5354950389013911,-2.1342091714471212,5.3460192681753504E-2,-0.56455783437477924,1.7230309154155021,null,169.54034608165958,97.837129571488873,98.488832996275718,124.68024456024725,133.89436750689333,204.56047054322838,100.52444967957248,null,160.26112574123289,97.317802773123148,127.44749315775614,126.65060330088971,119.70948371658497,188.73553393668945,89.169637041357092]
[null,"Marzo",105.98264752643075,100.74948537145632,77.184611359254461,98.657580464501308,111.72276866571222,106.7322905785077,112.95233472912086,null,-1.0533566687023987,-0.39834754017745722,-1.5683715439452461,-2.0969070009774216,0.16534303432838016,2.397953613733006,1.9174664794269214,null,169.93973066578823,97.917474770679419,98.525245234092665,124.88408365715611,134.40573620193567,201.47184634214472,100.85691873838532,null,160.34674980487478,97.189057005764866,127.64881949785118,126.58336345689276,120.30290495583185,188.76372393971124,89.291575052660548]
[null,"Abril",106.02398709304842,101.58431446120888,77.3785485985305,98.993578904857799,111.74635777313839,105.13301170440481,113.4677634060848,null,-1.9500219906288474,0.3382902126661147,-0.85867133594735856,-2.0748823059953847,0.68869100849013876,2.1325428405113422,2.8183345994082565,null,170.73224438651121,98.291325370178654,98.528138761317521,125.37764833944701,135.21751794820872,198.92236283877293,101.42852489479314,null,161.03171467856021,96.75836854489215,127.33262712450086,126.65230384280457,121.00395989882755,189.21018204830764,89.389727839963712]
[null,"Mayo",105.66945039100324,102.67732678904434,77.930248601805829,99.159025354780979,111.81753315674331,104.69800094698493,113.84145976706225,null,-2.0635395393773681,0.85262872133688994,-9.2397587181036744E-2,-2.1663017268407692,0.33543207781843165,0.32583767586022994,2.0954069876296,null,171.26155953972417,98.556788084266657,98.608096440386532,125.64444135741365,135.97144269638812,199.22566387455657,101.89812133304281,null,162.07291597146934,95.986904963699004,126.53378913781823,126.71004067241537,121.60118262114261,190.28602463521423,89.508797182979379]
[null,"Junio",105.33533862111483,102.29790346971546,78.209145557802913,99.019435422359763,111.23673437567884,105.61317929347376,113.73059321063771,null,-1.516913154439592,1.5395823881461101,0.82259963457684826,-1.774986212806462,-1.1534071922614242E-2,1.4944078162289376,2.8626535138490228,null,171.30568740253321,98.577830961104141,99.15160503302495,125.60231812071963,136.2491377013331,201.3773603123303,102.04872161089202,null,162.62888565698731,96.36349095882241,126.77750706244942,126.84612630335918,122.48574040404682,190.67446095221769,89.728470352642958]
[null,"Julio",105.03082210984149,102.09883164296926,78.082136114758185,98.896434198723227,111.60814379388897,107.59929788491819,113.92314494921271,null,-1.9064278950456925,2.0172214188013182,0.85179429196593492,-1.9227678289559846,-8.0957163061123882E-2,3.8884117689512721,2.483168236822797,null,172.12564528751025,98.84522505061166,99.464292027701077,126.00993978741386,137.34073675238236,205.5847923560215,102.51259253633968,null,163.88107969630173,96.813277350973834,127.38418411289018,127.41605984924445,123.056196513773,191.06518016121515,89.983991033639484]
[null,"Agosto",104.13573015933477,102.15527095600386,76.986810314742186,98.057991528337524,112.14820868533201,107.57584602524848,113.37213888561936,null,-2.9284043936230852,1.0963633986419419,-0.60776401451445583,-2.8260762246470561,-0.40871127820305553,3.8330224105632693,1.3870945360838549,null,171.61478744864752,98.544141522747921,98.886508344373084,125.70130160705075,138.01101904497895,204.23138787953184,102.06118790895104,null,164.7991397247277,96.465058141922839,128.44603892549804,128.19077736333674,123.06127816291156,189.84873968046497,90.023165225735141]
[null,"Septiembre",104.29924597468583,102.10374175451958,77.38115361264154,98.370919428233435,112.34697239702356,108.18956567596416,113.63837865636928,null,-3.0682118656852442,1.4437154065561897,-0.50192929243288997,-2.0850113477018373,-0.452802514799866,2.6883215185669496,1.6427928488372601,null,172.35697711605681,98.767579346920385,99.659070315890986,126.05373563120077,139.19945632141946,207.21424958847123,102.49237076338697,null,165.25237119920223,96.732575760426016,128.78984825526041,128.14126000231536,123.90138634933727,191.52886721913038,90.191686976908841]
[null,"Octubre",104.85895165210206,102.30234779463409,78.102615168720604,98.04507740406757,111.98993270507641,109.172987314797,114.40576336417315,null,-1.9761292055695878,1.4823548349500504,0.55119924529984932,-2.0006002941306944,-0.63346960894369309,2.4551844930615463,2.8791013979987623,null,173.6626760539981,99.244588589568878,100.5417431884733,126.67626885095081,141.05072408729382,209.55318158067615,103.41245548810949,null,165.61549902784742,97.011056665870981,128.73031584317471,129.20206929807108,125.94946767112407,191.9459994040796,90.390949238221438]
[null,"Noviembre",104.02143450724682,102.35281114066105,76.710574907310885,97.800370372499103,109.48488718359286,108.07018255707105,114.7669992780239,null,-1.5980772311688374,1.8829204718617376,-0.96687776612881526,-2.1791935992578892,-3.1302870266413763,1.5443133238100426,2.6663387816592277,null,173.14848082266539,99.696864004840123,99.839511354027891,127.41245036923804,142.60681620263549,209.9189177396886,104.16488790431953,null,166.4546173996502,97.405105823453226,130.15091005987586,130.27808574134571,130.25251235223101,194.2431416073828,90.762055782236942]
[null,"Diciembre",99.318434314906128,103.1447695462669,75.987194151870526,97.951868059167992,109.04979457017166,107.28227061910835,114.69747303999014,null,-5.9694586588582617,2.8780434498106633,-1.2553238858913018,-2.0345747243268875,-3.170094694642478,2.4388667944420295,2.3162484568622244,null,167.6461683783557,99.720053694108159,99.620712763137789,127.45618475074001,143.2090411983165,210.46211852315179,104.21528819258954,null,168.79662827426856,96.679699933187081,131.10197563556898,130.12123941704704,131.32444839789585,196.1760478302794,90.861015007936643]
[2008,"Enero",99.018804441967177,102.6354465955848,76.75754944447948,97.877371005612574,108.59959406296093,113.36302406502131,114.00209341859485,null,-5.9021724410485472,2.9184567428699237,-0.2523948814196264,-0.99610933573893723,-3.1141881573984342,3.8869061283995032,1.4895909029457588,null,167.34112514410279,99.590740508349867,100.73910021905337,127.43655870924988,143.80309793761285,213.32812355103277,105.10286049035615,null,168.99933915297663,97.033475092448327,131.24324701366388,130.20022646699644,132.41587059178377,188.18139804445829,92.193798673887201]
[null,"Febrero",98.737593282003829,102.68931143402116,77.139446543477746,97.600674345119501,108.01700833315358,114.69619567010011,114.13155728175757,null,-6.6664766348161653,2.1442288915652918,-0.1792509216274718,-0.85691336280659947,-3.426405897871998,5.8232202576439906,1.2397438654892179,null,167.58096579500776,99.827715286915989,101.32040168328476,127.69757990641412,145.07848080894846,214.59642281807868,105.59036486855848,null,169.72356751331864,97.21334566651197,131.34706848872452,130.83678034320837,134.31077480084181,187.09986112819377,92.516362155548819]
[null,"Marzo",99.928411964327324,103.40708812643255,76.372061886967998,98.379521738913198,108.29999637530059,114.86356801363934,114.84159622404265,null,-5.7124781305294086,2.6378325856234897,-1.0527350698243065,-0.28184223075302661,-3.0636300293031327,7.6183855804636824,1.6726183654836024,null,169.09207268753431,100.47500724121672,100.73590130322729,128.79461882336895,146.7835663274567,216.74092369708032,106.78192906249552,null,169.21320910002774,97.164526205755962,131.90150797855662,130.9160855296426,135.53423013865662,188.69422867949191,92.981926909284979]
[null,"Abril",99.833149011860911,103.7077277427515,75.016480611571325,98.484526229956074,108.37322336688733,114.1034783775322,115.43564045604275,null,-5.8390919365768905,2.0902964131863877,-3.0526134564948793,-0.51422797370622719,-3.0185631759909515,8.5324928180969817,1.7343049610621053,null,169.4666077218555,100.92083607979285,99.777734910523719,129.37285462277976,148.03424392433487,218.17511903847227,107.21959535621586,null,169.74983700225826,97.312744456351822,133.00775255928622,131.36363607080884,136.59669734393606,191.20812278535456,92.882575028502146]
[null,"Mayo",101.78788626821068,103.55326894381135,73.30211696244514,97.530719441903059,106.54133806126168,114.38740724917656,114.81723661358299,null,-3.6733077615429988,0.85310183091020786,-5.938812877408739,-1.642115689471535,-4.718575832007998,9.2546239799726102,0.85713662537123536,null,174.86242007402109,100.92928160322055,98.10711268172949,129.26703077868683,148.37564091164597,217.8874033144663,106.70626013974515,null,171.79099250893108,97.466050693180335,133.83939884300025,132.53981055239566,139.26579449033144,190.48198447214548,92.935750142519723]
[null,"Junio",103.07857479182182,103.29127288438734,73.398045163044301,97.161096611980199,105.66223140860328,113.2626864526616,114.41886013810495,null,-2.1424565191843659,0.97105549671989699,-6.1515828621383157,-1.8767414724725096,-5.0113867494966602,7.2429475282925537,0.60517307440093315,null,178.17106212681378,100.932370050233,98.972626509858571,129.07565810232609,148.99056154924034,219.07457010766089,106.72412805422292,null,172.8497531971598,97.716261240390921,134.84368185828876,132.84705772496471,141.0064500465482,193.42166159834431,93.274944292755237]
[null,"Julio",104.89111670392415,102.94734454452261,72.629394765352771,95.915238516933158,105.7391735370593,112.54752167031252,114.72016557131705,null,-0.13301372217313645,0.83107013851100309,-6.9833403909332903,-3.0144622563434753,-5.2585501893733895,4.5987509980656816,0.69961255235682085,null,184.32368852372738,101.15048389720076,98.50032447221453,129.25665879156648,149.78971014437533,220.13696624252881,106.84523137369001,null,175.72859772674298,98.254582810977951,135.62046715444097,134.76133802111863,141.65961879007619,195.59468122930329,93.135527517407994]
[null,"Agosto",104.77473354970486,102.40253322415472,71.405885577591619,94.320152347537075,105.13722707528301,112.62026426696322,112.73354601265426,null,0.61362549567989255,0.24204553111837335,-7.2491959523122045,-3.8118659402892829,-6.2515324071921397,4.689173664997992,-0.56327143444773187,null,187.61875370650199,100.62537049103524,97.329664913638439,128.27979675719573,149.36574329503651,220.84287267160084,105.42879227297985,null,179.06870039187086,98.264532451331704,136.30482155126739,136.00465389891346,142.06741746011988,196.09514691609934,93.520337115223498]
[null,"Septiembre",102.80256428626683,101.707573885141,71.084480640460811,93.203914509789911,103.29300673170997,110.29327152841667,109.97842885277829,null,-1.4349880235780987,-0.38800524111158863,-8.1372177567950565,-5.2525735740562185,-8.058931604598774,1.9444627948255855,-3.2206987171634172,null,185.78873529754333,99.461954244627009,96.679068222132386,126.90530139256961,146.86221215538603,218.80975899853502,103.54917969835799,null,180.72383367810841,97.792082187458348,136.00587266175131,136.15876764407764,142.18020832411372,198.38903676201085,94.154081649023396]
[null,"Octubre",98.8144557823871,99.243897825507048,68.784334719827527,90.152363218377602,100.42953145841552,108.46943215774316,106.1584900364315,null,-5.7644061613063009,-2.9896185523197394,-11.930817462082842,-8.050087158544617,-10.322714700708868,-0.64444069394672399,-7.2087918346291469,null,181.25516159617817,96.883356695992092,94.384455271987349,123.99111819330852,142.93120550007836,214.26106317739402,100.30364790650366,null,183.42980301925164,97.621474789648715,137.2179518148053,137.53507258923733,142.31989677185874,197.53128500368834,94.48481027949947]
[null,"Noviembre",95.431104319826233,98.16748889059555,68.540869061671927,88.776122530148939,99.265561909023418,110.5093112798525,104.82520355705699,null,-8.2582308426270892,-4.0891131405406238,-10.650038610074796,-9.2272123387456269,-9.3340053933040785,2.2569858448174385,-8.6625909743295093,null,179.14294722742412,96.090063199751,94.929563928840452,123.00084518728671,142.11078221032108,213.91704041627969,99.376676599591079,null,187.7196627915437,97.883794610291233,138.50067153864714,138.55172053219022,143.16222008652423,193.57377033556807,94.802273906866063]
[null,"Diciembre",95.360721505191094,98.00530172623337,69.328009973344933,88.619948900749279,99.710631133324014,112.14325213728725,105.82967672163386,null,-3.9848723321255997,-4.9827711503375394,-8.7635610879595376,-9.5270456228376936,-8.5641274920862376,4.5310203541805816,-7.7314661633952948,null,179.21926555741049,96.199302696022599,96.126641962275841,123.59752322704425,142.91138665380549,215.5561048446574,100.43295606714946,null,187.93824409943716,98.157243538461188,138.65484094990518,139.46918810060299,143.32612784560288,192.21495786547263,94.900560200444048]
[2009,"Enero",95.353402994337827,98.270007719187703,70.810771164876343,87.766848722202212,100.09878177091203,115.90962534275407,105.56707304803858,null,-3.7017225852060909,-4.2533442599010263,-7.7474832412472772,-10.329785301273153,-7.8276648871454686,2.2464126188730837,-7.3990048056261752,null,179.02913583521078,95.353188420183614,97.201025449336512,122.609712865281,143.50645750284764,216.08526626771996,99.957008350366877,null,187.75327383527329,97.031831617090049,137.26870058089452,139.69934508342973,143.36483917584457,186.4256446595686,94.685781716123898]
[null,"Febrero",95.201646662517021,97.683447215454663,71.428114139612092,86.444351592976361,98.842607790604987,115.17080976890425,103.9422344862477,null,-3.5811553654015116,-4.8747665639795601,-7.4039063796582987,-11.430579580520096,-8.4934777255191829,0.4138010820945448,-8.9276997862698053,null,178.91814109653856,94.357112505163641,97.094810313318192,121.35107685412653,142.13328749055685,214.52397598243289,98.377269162701992,null,187.93597313583291,96.594781608234712,135.93360469175829,140.38057388122783,143.79758958976663,186.26592659449517,94.646098045658249]
[null,"Marzo",95.84040305275002,97.195877024856344,72.939449446294006,86.511536497109773,99.465081828530998,115.69558456821619,103.3401207011724,null,-4.0909375333980647,-6.006562232931234,-4.4945918125849698,-12.063471169639916,-8.1578161056933602,0.72435200208829098,-10.015078073655648,null,179.77632527871413,94.180444153351047,98.639388223804744,121.18742918606364,141.9769539747827,215.35088994935242,98.230866860088554,null,187.57884937082983,96.897571210007044,135.2346212819084,140.08239142777489,142.74049884112941,186.13578966998318,95.055885549177717]
[null,"Abril",97.39780844658533,98.294160485079146,74.146353014376359,87.106236954787533,101.04495291854312,117.38998299298014,104.25454341039746,null,-2.439410746210402,-5.2200230161254524,-1.159915248091159,-11.553377683516342,-6.7620674375763912,2.8802843367964126,-9.6860007892475721,null,182.93493318402022,95.105284211809035,100.12699115843233,122.16621312146555,143.79837025514126,218.31721401350467,99.287303930804342,null,187.82243266217327,96.755782584099521,135.03967098559596,140.24967372299173,142.31128433605548,185.97601639192666,95.235469537246345]
[null,"Mayo",99.413612855543178,98.770601156660987,74.833008237526684,87.784054871356233,102.68075427141432,119.03027463166644,105.99106081462206,null,-2.3325697189656824,-4.6185580000815518,2.0884680259178223,-9.9934304046149336,-3.623554819282937,4.0588972983503835,-7.6871522597825592,null,186.3036125122994,95.719460477669017,101.07773514080966,122.94887127271754,146.17591319258568,221.29142724251955,100.50909571465203,null,187.40251677908046,96.910881736811021,135.0710569057706,140.05831862391619,142.35960207908226,185.91188496144818,94.827898638020088]
[null,"Junio",100.54414526367108,99.429676087744255,75.673534896062492,87.947834461570409,103.72108151891274,117.76252418216085,106.52527970642458,null,-2.4587355163469105,-3.7385508850929949,3.1002048187570797,-9.4824600294535664,-1.8371274804749982,3.972921595304002,-6.8988455418562245,null,187.95785379429176,95.950656885129618,101.72019152534327,123.28198612516492,147.24283513570307,222.52278844741187,101.10860799595814,null,186.94062523619189,96.501025308033306,134.41976995663785,140.17626116653742,141.96037389839063,188.95891540436304,94.915130262605857]
[null,"Julio",100.6275625738932,99.862001870084143,75.895359289065595,87.273657920816063,104.92135975513321,117.87558407709498,106.1696641058159,null,-4.0647428152239762,-2.9970104504289719,4.4967530491811569,-9.0096013206405026,-0.77342554757103832,4.7340557372645309,-7.4533552343817426,null,190.07593464772273,95.956620648319273,102.38980670678586,123.30786332650628,147.96208896846539,223.28121379233724,101.32693788146226,null,188.89052838594344,96.089221977699182,134.90917977844975,141.28875340413057,141.02189422037725,189.4210879551639,95.438691207003288]
[null,"Agosto",101.54170485198854,100.59082376925215,77.166946164981425,87.605488372328225,105.97258670081749,117.87498707564042,106.5678038674789,null,-3.0856949840703529,-1.7692037470760758,8.0680472495921585,-7.1190130720608309,0.79454218907288876,4.6658768232163084,-5.4693056000236666,null,192.54259279859775,96.23473737609487,103.94218730092133,123.6142927484089,149.53796358791502,224.58569587799383,101.74310415739194,null,189.61922402155443,95.669499234691799,134.69781100148111,141.10336583370352,141.11004387397998,190.52871304569229,95.472647896463499]
[null,"Septiembre",101.89931464921548,100.78923692133149,77.321067095497639,87.701529546055554,106.19399238440087,118.32624671790403,107.86818673440037,null,-0.8786255900544826,-0.90291895552104817,8.7734852936197871,-5.9035985695175874,2.8085015089412968,7.283286712025494,-1.9187782007713428,null,193.20117432744283,96.202524711148456,104.67973696170527,123.70733703550674,150.10744631086934,225.43511079433239,102.28259215626412,null,189.6000723778472,95.449204349306569,135.38320265603357,141.05493675631178,141.35210753496355,190.51995398094684,94.821833251086858]
[null,"Octubre",101.4818046069137,102.02617073549055,78.234837016960327,87.876074478390038,106.85229720286496,118.97402565975698,108.48797611919369,null,2.699350822111235,2.8034700076727814,13.739323547471383,-2.5249351860845537,6.3952959365432216,9.684381390267971,2.1943474157957166,null,192.74362080839876,96.599555036781211,105.66652909636613,124.20726872906826,151.60935446391522,226.98377755977612,103.0745220489989,null,189.92924057173067,94.681153218248099,135.06326992597806,141.34367001067233,141.88684607882271,190.78431304737592,95.010088432060783]
[null,"Noviembre",99.293694492046967,101.00909741618285,78.164968140528018,88.093385121699299,107.88464348928566,117.87732528106092,108.84408440321002,null,4.0475170016640583,2.8946533701744936,14.04140217451355,-0.76905522452591635,8.6828517509039074,6.6673241520343485,3.8338879484889565,null,187.96332674440058,96.842753178530728,105.35860224774152,124.54931280484249,152.85531637877668,226.99630566372079,103.36866994608376,null,189.30036565358711,95.875278223222068,134.79005333735151,141.38327484269112,141.68403531310477,192.56994941349569,94.969488248123128]
[null,"Diciembre",98.175096583323807,101.38972250264665,78.427873944572795,88.026741896931014,108.09492144279322,117.51407700383979,108.56720523367403,null,2.9512938175279002,3.4533037670423816,13.125811594370806,-0.66938314812461375,8.4086222443607852,4.7892537127222745,2.5867304869887864,null,187.54471310293653,96.747159191640321,105.59959218360164,124.35533592317078,153.26671580729774,226.37062033853255,103.04197246055296,null,191.03084145556443,95.421071094375336,134.64548619312549,141.26995188436749,141.78900707042993,192.63276886490445,94.91077184751245]
[2010,"Enero",95.786623091851013,101.79189553791082,77.975809614540267,88.046118004127834,109.1584523873435,120.65313539085409,107.34114309205837,null,0.45433102952698867,3.5838888186384477,10.118571414765132,0.31819449597598748,9.0507301449138655,4.0924211721615755,1.6805145703078228,null,184.93962365766697,96.287802523523069,105.44862925706555,123.81846309993927,155.02507221318703,225.05448849058834,101.11220440178298,null,193.07458357763173,94.592798389987891,135.23249040738702,140.62909973399886,142.01838595428967,186.53016165848288,94.197063203497549]
[null,"Febrero",93.194164132799798,101.98456794323894,75.552276904624478,87.572676190567037,108.47376395985303,120.74306760312734,107.13059390575711,null,-2.1086636629654154,4.4031213582149231,5.7738648355623257,1.3052612192678614,9.7439316753472838,4.8382553230320147,3.067433979333245,null,180.57142518618457,96.251489787758274,102.2954330941745,123.65900116431885,155.7148979712338,225.06652571991452,100.833307400422,null,193.75829684879616,94.378484636350564,135.39688978971475,141.20728809888635,143.55074654629396,186.40119899859585,94.121859801435576]
[null,"Marzo",90.847609626865975,102.76350714197127,74.214058131666775,88.059046060785576,109.01191256692059,120.78046819743702,107.74252265478488,null,-5.209487091927234,5.7282575017982396,1.7474887664339578,1.7887898265770641,9.5981731104866306,4.3950541830943379,4.2601091654836276,null,175.72355097931873,96.778102769587548,101.2228138898793,124.27999389733229,157.55585536502917,226.19343572247067,101.42436908423132,null,193.42671942724706,94.175554592434565,136.39304525066527,141.13256894873024,144.53086057756144,187.27650182040819,94.135877446644344]
[null,"Abril",87.257784665895997,103.39843055475568,74.487018224164814,87.940673489959991,109.78870969089375,121.01605633815349,107.88108327367836,null,-10.41093628533778,5.1928517874175739,0.45944971794149581,0.95795268438192416,8.6533335112733099,3.0889120627866529,3.4785437110448347,null,168.55113961072738,97.034064645448936,101.34782637806994,124.58145620303951,158.98321298418338,226.97588768832264,101.69159773421366,null,193.16458726988998,93.844813818584569,136.06105975818352,141.66534239388409,144.80834452995671,187.55848980410258,94.262677615349034]
[null,"Mayo",87.68299414339873,102.69934078481795,73.685177723198123,86.861904344297855,108.83536954780899,120.25313678990067,106.25713853093455,null,-11.799811288611028,3.9776406968765388,-1.5338559031132903,-1.0504761125579742,5.993932670309654,1.0273538912838109,0.25103788401350524,null,170.21093489924024,96.144389978596095,100.14787114597536,123.25733693452739,157.47920684452259,226.20229439141534,100.34231257744919,null,194.12080593515483,93.617338966219663,135.91318395428942,141.90033923959066,144.69487952199714,188.105109296752,94.433478978202118]
[null,"Junio",88.416338397096482,102.03802881739173,73.235511459268807,86.276833037982385,108.83505607304339,120.27606266355836,105.76964519022984,null,-12.062171133654919,2.6233141173523267,-3.2217649672931281,-1.8999915504664067,4.9305063919895087,2.1344128778264304,-0.70934760113018358,null,172.20361877373008,95.936161307622868,100.05100441675772,122.90081124182875,157.4024715617177,226.06605502637956,100.02927161938169,null,194.76447667435309,94.020006481417994,136.61542388818137,142.44937709723661,144.62479024780293,187.9559822794846,94.572758979644959]
[null,"Julio",87.054367908130416,102.69467703919776,73.388366340285373,86.355612721696062,109.27352493775064,121.01171144886264,105.7173127200065,null,-13.488545601803349,2.8365896097284349,-3.3032229799871415,-1.0519155733714647,4.1480259050917345,2.6605402605823114,-0.42606462930743216,null,169.93974898655776,96.392188508578883,100.49509964047223,123.64624384887964,159.20378661312972,228.15535928036908,101.04340808622976,null,195.21105381627413,93.862886848348282,136.93600859637482,143.18263741276732,145.69291756976142,188.53989960862873,95.578865453990844]
[null,"Agosto",85.323891705554345,103.28384238539786,73.791294645363905,86.337699563396811,111.11493828723441,121.67888336975346,106.00582568283724,null,-15.971578545065757,2.6772010758389753,-4.3744785654734164,-1.4471568305666427,4.852530023575663,3.227059776194996,-0.52734331031208947,null,166.56180554642842,96.612212433580225,100.91846482694118,124.00822637816029,160.77054900846375,229.49059493023546,101.67541696006437,null,195.21121483912077,93.54049016987301,136.7620195741905,143.63160821432638,144.68851037190748,188.6034688803542,95.914933264395117]
[null,"Septiembre",85.564155833440154,103.30768268488654,74.530867623740576,86.106622048653847,111.66777138517142,121.5989761312911,106.63809573607654,null,-16.030685654764699,2.4987249040497872,-3.6085889351616718,-1.8185629209170884,5.1545090996829357,2.7658524665194806,-1.1403649542683358,null,166.49803641441804,96.699372665688941,101.98373163533714,124.16707413622947,161.84285635654462,230.73647296857862,102.07574991659207,null,194.58853393998817,93.603273398983745,136.83422035308752,144.20153895489,144.93246739769364,189.75198666101528,95.721654828893392]
[null,"Octubre",86.528230718387718,103.87542763084913,74.918591020301889,86.391729652485608,111.52377085618201,122.95450550063634,108.08155435120788,null,-14.735226621607822,1.8125319043413857,-4.2388354384115594,-1.6891341980341257,4.3718981955511937,3.345671308343201,-0.37462379014175928,null,168.57923118496524,97.464048290969288,102.66045701681605,125.30187521263176,164.41056059928925,234.28464186347136,103.31360021242861,null,194.82569998873359,93.827819065482458,137.02934828151868,145.03920191974842,147.42198845778682,190.54579652004605,95.5885588735281]
[null,"Noviembre",86.387956030933267,103.7334977912144,73.973220022047457,85.820340804746166,110.21709620867158,122.56946992152561,107.68926600133092,null,-12.997540807737195,2.6971831693598292,-5.3626940791998701,-2.5802667405877999,2.1619876971809671,3.9805319888935209,-1.0609840747992316,null,168.90413513780584,97.38400263029186,101.82318858076478,125.12226957782804,164.34597228823148,233.6794821854001,102.92032495879819,null,195.51815194854905,93.879031078560331,137.64871740126594,145.79558692559789,149.11114331762008,190.65064272123561,95.571572525646346]
[null,"Diciembre",84.532970783051979,103.9403471573782,73.612831026413033,85.825212538526969,109.92378808004099,121.67762391883286,106.83210127018226,null,-13.895709069859075,2.5156639073205644,-6.1394535845287423,-2.5009778971278762,1.6919080127327346,3.5430197140186248,-1.5981842396672441,null,165.98734723193317,97.200807516390043,101.12074919653892,124.77406916180603,164.48388842913576,233.27852757321196,102.48036210745106,null,196.35811411138999,93.51595427059361,137.36837421760856,145.38160229524033,149.63447976280332,191.71850999393641,95.926562230835927]
[2011,"Enero",83.377507015593068,103.01797615556913,72.860936925229851,85.78987184631363,110.68365843202555,127.57803536017157,106.60950980130288,null,-12.954957253643528,1.2044972845619784,-6.5595634269075109,-2.5625731252664985,1.3972404438915342,5.7395109931328125,-0.68159632893795008,null,166.46450335696571,97.011658895435971,101.30716175295346,126.29703995092403,167.70034761579393,232.68260558562298,103.37199091680425,null,199.65157188716844,94.169641567154329,139.04180487949972,147.2167252763544,151.51319534562023,182.38453424112211,96.963198789176801]
[null,"Febrero",83.014221489902809,103.86601930670587,71.515650266489203,86.043977350603626,111.57355417561939,127.74924534934866,107.18924935488492,null,-10.923369223410573,1.8448392746185593,-5.3428259259890032,-1.7456344906450094,2.8576405045865449,5.8025507263489873,5.4751352521598129E-2,null,165.51788389923064,97.426038639166691,99.675555571907054,126.88635561243511,169.34269446461002,234.38540275310524,103.760240699058,null,199.38497395818246,93.799723229478388,139.37586416467644,147.4668646422642,151.77673214394574,183.47302335301057,96.800977078891492]
[null,"Marzo",83.476770402546833,104.42262459315303,70.634921124336898,86.529269885620451,112.47232509886155,128.25246706970927,107.42587376456744,null,-8.1134101982353037,1.6145006114764326,-4.8227210550593425,-1.7372163833221044,3.1743434735324705,6.1864297959649761,-0.29389407488814578,null,165.57043083703132,97.810306579591639,98.645452207996371,127.48711285468464,170.65226573103578,236.10812231363559,104.21553402846126,null,198.34311993457266,93.667734325464409,139.65535833805666,147.33409056057531,151.72822788275684,184.09635908625711,97.011576798395978]
[null,"Abril",84.377356870160796,102.65079642865498,70.387141044377813,86.831378716305494,113.57112796789812,129.0296063726681,107.82368490804961,null,-3.3010553806335552,-0.72306138699540501,-5.5041499546251593,-1.2614126429008388,3.4451796433837556,6.6218899185761515,-5.3205218085483619E-2,null,166.64863421728785,98.429311174854078,98.212369974605849,128.49470711101273,172.27410815228055,238.29991769918647,105.20433851792346,null,197.50397547262048,95.887528006921073,139.53169359824508,147.98188052596652,151.68829546271243,184.68623163192467,97.570713343399547]
[null,"Mayo",84.622989763335937,102.42705719324846,70.685339162042808,86.513885662241535,113.09974959009168,129.34194261848882,107.7239638845455,null,-3.4898493259233332,-0.26512691268388844,-4.0711560368685724,-0.40065743974120327,3.9181931939960224,7.5580613289677245,1.3804487622108397,null,167.76578927247138,98.325512419820484,98.820293313959411,128.36452429156589,172.8012101611742,238.61337140557194,105.19162736978478,null,198.25084145769355,95.995643254994988,139.80309705725332,148.37447573758647,152.7865541590136,184.48259441208,97.64923567287704]
[null,"Junio",84.605588210416457,102.24980076132047,71.360429598786155,86.074581257944004,113.04207490823148,128.64560262289612,107.67763147519116,null,-4.3100067880725179,0.20754217460210445,-2.5603451428416801,-0.2344218869848147,3.8654997635730659,6.9586082001614979,1.8039072377805221,null,168.5935533434953,98.086213033343071,100.2415007646422,128.15546011938221,173.66815614987934,239.62521349384502,105.23683781892004,null,199.26999730112203,95.928023627452959,140.47210944249602,148.88885690344787,153.63142997053498,186.26770648062322,97.733239835579511]
[null,"Julio",84.408861774895371,102.4278672267808,70.792556127484488,85.675261214649296,113.79588851736489,127.8963878719545,108.11476036254658,null,-3.0389125747565915,-0.25980880422371566,-3.5370867921554416,-0.78784862454670535,4.1385720669214976,5.6892645684142762,2.2677909425202092,null,168.54250614358691,98.237316720868193,100.20471430615004,128.18028641544186,175.01395926736637,240.0217774686657,105.57883073076664,null,199.67394726049287,95.908778910104104,141.54696452222973,149.61178360962475,153.79638187952617,187.66892596604632,97.654409422657849]
[null,"Agosto",84.422120879506465,102.24710986071608,70.865632222302793,85.185932683450176,113.3664394537583,127.36086335663343,107.59299938853442,null,-1.0568796242438339,-1.0037702904325263,-3.9647799067920597,-1.3340254440076915,2.026281255454343,4.6696516515636999,1.4972513967731471,null,168.53083471139217,97.848614676677812,100.64231233620522,127.56117823146889,174.96915011603946,239.61274086846819,105.25747165767787,null,199.62876193543153,95.698171625554977,142.01850626336631,149.74441696316757,154.33945968410575,188.13686917111204,97.829293965100248]
[null,"Septiembre",84.700922986775524,101.68785728649448,70.341616075520847,84.898927546092921,112.10516605836777,126.3620749931483,105.44979127759103,null,-1.0088720425700304,-1.5679621847030756,-5.6208275601575259,-1.4025570552268607,0.39169284724744902,3.9170550718407915,-1.114333906924303,null,168.37904833453533,96.89325386187511,99.65782192431837,126.62172283925241,173.21078916004052,237.58284560998146,103.70910684753358,null,198.79245986590323,95.284979394234753,141.67690122064124,149.14407813986523,154.50741054150706,188.01752473822856,98.349276552406636]
[null,"Octubre",84.901109210475184,101.44439413779774,69.931842055428632,84.836522941339425,111.38952848814125,126.36527433647474,104.63292958686249,null,-1.8804516103052116,-2.3403354850107139,-6.6562236381646827,-1.8001800836747517,-0.12037108054199219,2.7740088270459928,-3.190761629074268,null,169.13485108417947,96.570558772756982,98.999132990298151,126.60775873208448,172.74089925566082,237.64883718756354,103.09738616339446,null,199.21394744665065,95.195559689162963,141.56517271750184,149.23732649866844,155.07822108615096,188.06498734357382,98.532447261554239]
[null,"Noviembre",83.276525717656455,101.35897134869766,69.48764379892306,84.448309503337754,110.25070140532398,126.45427066652809,103.62999201918278,null,-3.6016945604809614,-2.2890642782488424,-6.0637839231379775,-1.5987250674405762,3.0490003645877728E-2,3.1694685042610526,-3.769432305442566,null,166.25717083512805,96.466167346054348,98.417472040557456,126.34250812785812,172.88115656334278,237.95717825196238,102.94604207568179,null,199.64470107556119,95.172796312414249,141.63305396474354,149.60928036441572,156.80730767214365,188.1764664789203,99.340007723464481]
[null,"Diciembre",81.80616818061074,101.41296204368913,69.045366485367907,84.209611137457244,109.1251158620524,126.22009068451382,103.08427914124509,null,-3.225726692416131,-2.4315727076245963,-6.2047125173141033,-1.8824321586672244,-0.72656904564373237,3.7331981176021989,-3.508142294663652,null,164.70931730448623,96.236604136575949,97.905497237737421,126.07698067109855,172.92712608437628,237.73850548769639,102.49582985567952,null,201.34095138259366,94.895763023977963,141.79879436006115,149.71804164408297,158.46684305286556,188.35234882053922,99.42915710284079]
[2012,"Enero",82.392023815745276,101.23678588704163,69.397582853294892,84.449674139594649,110.50756492455025,134.40374587644905,104.17758725668646,null,-1.1819533050604236,-1.7290091836377086,-4.753375701837415,-1.5621863955221249,-0.15909621164487131,5.3502238821968806,-2.2811497296526317,null,165.20720670198946,96.715408753083707,98.62017708236327,128.12908699407797,176.31409314430374,238.05844304382049,104.40200125753456,null,200.51359227617132,95.533859461912584,142.10895110114191,151.72241728521249,159.54934240446192,177.12188115847326,100.21541485722372,null,null,null,null,null,null,null,null,null,null,null,null,null,null,null,null,null,null,null,null,100]
[null,"Febrero",83.236170813593191,101.89793015308942,69.646138029978374,84.92470237887413,110.91165186761924,135.62863469840892,104.81979991196343,null,{"$f":"(C211/C199-1)*100","v":0.26736301287531017},{"$f":"(D211/D199-1)*100","v":-1.8948344865368116},{"$f":"(E211/E199-1)*100","v":-2.6141302351925133},{"$f":"(F211/F199-1)*100","v":-1.3008173334070561},{"$f":"(G211/G199-1)*100","v":-0.59324300717202849},{"$f":"(H211/H199-1)*100","v":6.1678558863599964},{"$f":"(I211/I199-1)*100","v":-2.2105290009790668},null,166.67997615564937,97.204952852370567,99.053800800811501,129.55634028697156,178.47822915494774,240.18142265300554,105.34148616254464,null,200.2494522831042,95.394433141411,142.22439836961951,152.5543648171795,160.91927777612935,177.08754732146775,100.49769819348955,null,null,null,null,null,null,null,null,null,null,null,null,null,null,null,null,null,null,null,null,100]
[null,"Marzo",82.968979066594358,102.29277506751774,69.158105265960813,85.107468170769565,111.01064767945002,136.21629180261871,104.19208956141163,null,-0.60830256549668782,-2.0396437399783029,-2.0907729984952939,-1.6431453966158638,-1.2995885148873176,6.2094904798835948,-3.0102470567220263,null,165.75518251937734,97.146454755110483,98.132303005317581,130.02345306745286,178.46439852713485,240.0766059720342,105.03235524486894,null,199.77970608308357,94.969028546727316,141.89559217669557,152.77560931146328,160.76331618428318,176.24661690241285,100.8064582320926,null,null,null,null,null,null,null,null,null,null,null,null,null,null,null,null,null,null,null,null,100]
[null,"Abril",81.919430437957715,101.79919531463314,69.153727663648311,84.551438797098726,110.22344540235466,136.38691828992114,103.5104494629424,null,-2.9130166236248867,-0.8296098458561274,-1.7523277155863659,-2.6257096834265026,-2.9476528281815795,5.7020339161567124,-4.0002671479698275,null,164.21249913891415,96.919752960728061,98.176164165752766,130.19789958863853,178.51013661956347,239.72532239549196,104.81263699485876,null,200.45610456640287,95.206796734665673,141.96800011022478,153.98661624325442,161.9529637890906,175.76856006519756,101.25802519327533,null,null,null,null,null,null,null,null,null,null,null,null,null,null,null,null,null,null,null,null,100]
[null,"Mayo",80.376820778959114,101.4077030318478,68.783085972934146,84.096216049303692,109.99862399739345,135.67673811073973,102.12673961845066,null,-5.0177487184653096,-0.99520008612319355,-2.6911566269036902,-2.7945451697507284,-2.7419385135136531,4.8977117275377902,-5.1958951975567214,null,162.88939128735194,96.313988240270305,97.853527514998845,129.73562498877996,177.63082436850698,237.99354507404956,103.86764799813852,null,202.65717119529666,94.976994213173569,142.26393906418187,154.27046671483879,161.48458763694731,175.4121954787847,101.70465481047566,null,null,null,null,null,null,null,null,null,null,null,null,null,null,null,null,null,null,null,null,100]
[null,"Junio",78.97131329140683,101.40628709806046,68.873248636084057,83.909515253459034,110.26013296756628,134.76991686471979,101.5388138234981,null,-6.6594595442053155,-0.82495384536641625,-3.4853783485972789,-2.5153372492127568,-2.4609791910875756,4.7606090818169022,-5.7011076187234337,null,160.51495626212395,95.862441881605548,98.220719874910799,129.59967754599722,177.67597379431609,237.07611146296586,103.32357531728059,null,203.25729631697817,94.533035993030694,142.61084211940457,154.45170569097607,161.14253539543674,175.91174423661599,101.75771355462639,null,null,null,null,null,null,null,null,null,null,null,null,null,null,null,null,null,null,null,null,100]
[null,"Julio",79.27433129491007,101.89509131073932,68.583531788724869,84.198595458555516,111.12323717686161,135.13626049722694,101.37314660947173,null,-6.0829282281737784,-0.52014742712731543,-3.1204189530627646,-1.723561428536724,-2.3486361197447292,5.6607326803636893,-6.2356090236595385,null,160.77841142956268,96.039201504804154,98.223370946259919,130.26769513370155,179.65760105740816,237.40303685692811,103.55322386092385,null,202.81269965109843,94.253020699420091,143.21713738633656,154.71480779964116,161.67419670421282,175.67678429417521,102.15054708704132,null,null,null,null,null,null,null,null,null,null,null,null,null,null,null,null,null,null,null,null,100]
[null,"Agosto",79.174983620888668,102.25312811287442,69.273821899421222,84.553596376243988,112.27589728347543,134.78259370601137,101.57985736154454,null,-6.2153582543927115,5.885987551668137E-3,-2.2462373832891513,-0.74230132521521108,-0.96196208996023325,5.827324151058666,-5.5887855726333369,null,160.64225499632894,96.065992751409695,99.20218871555717,131.00167355860148,181.14260332537566,237.93907749173519,103.78960137718872,null,202.89521721346699,93.949196982379917,143.20299645021609,154.93329577097379,161.33703466918175,176.53546422376272,102.17537617500211,null,null,null,null,null,null,null,null,null,null,null,null,null,null,null,null,null,null,null,null,100]
[null,"Septiembre",79.727387582319906,102.53406186393194,70.368558075142829,85.099219001024863,112.96528636200328,135.59815660723558,102.60468592117375,null,-5.8718786396603324,0.83215892243000411,3.8301650040373225E-2,0.23591753243668023,0.7672441278822939,7.309219648844878,-2.6980663706841157,null,161.14474441903528,96.279772922434148,100.81895542372578,132.21596280985057,182.70800291967936,239.77162378542789,104.47030873833749,null,202.11968472270652,93.900281693904248,143.27273171643876,155.36683457489576,161.73818418357459,176.82513522653122,101.81826278245907,null,null,null,null,null,null,null,null,null,null,null,null,null,null,null,null,null,null,null,null,100]
[null,"Octubre",79.545488883177413,102.77843577629052,69.607233705245477,85.328841998011242,113.00846486910157,136.3692797100081,102.77207521452544,null,-6.3080687367945369,1.3150471741993686,-0.46417817784045745,0.5803149865208912,1.4534008743314564,7.9167361651077739,-1.7784595917217705,null,161.3775147138318,96.484837664855107,99.641732001794736,133.04702818520983,183.43561261006184,241.48861899906092,104.69069443812518,null,202.87450235026535,93.876538338125528,143.14853025725964,155.92269280803171,162.32024107445091,177.08432537928712,101.8668682320512,null,null,null,null,null,null,null,null,null,null,null,null,null,null,null,null,null,null,null,null,100]
[null,"Noviembre",78.962330824637917,102.63310187343053,69.379732124434412,85.289002551589846,112.151153713962,136.82164454998815,102.2941305001809,null,-5.1805654184536092,1.2570476079019954,-0.15529620604335381,0.99551199212444264,1.7237552998880412,8.1985162136594134,-1.2890684375953643,null,161.77188204053641,96.305292325055007,99.405261393116135,133.38987933562311,183.8459252939698,244.20774021027975,104.46419546751906,null,204.87222242692482,93.834533466425739,143.27709022402988,156.39751356564156,163.9269139957874,178.48618982288127,102.12139734384303,null,null,null,null,null,null,null,null,null,null,null,null,null,null,null,null,null,null,null,null,100]
[null,"Diciembre",78.886147875428478,102.84568586884279,69.324550362706901,85.736807337085907,111.01656850221457,137.02745333490486,102.20225578435029,null,-3.5694378188396159,1.4127620338477476,0.40434846181627293,1.8135651964189536,1.7332880934149086,8.5623157072545411,-0.85563323936743707,null,161.93299075261979,96.345593052852379,99.812832262843088,134.14166383879552,184.79784913678651,246.04389467346542,104.64129138846818,null,205.27430368172256,93.679761322920356,143.97905466479207,156.45749824972995,166.45970203366548,179.55810217979939,102.38647922729254,null,null,null,null,null,null,null,null,null,null,null,null,null,null,null,null,null,null,null,null,100]
[2013,"Enero",78.176613657802605,103.11114901723383,69.159038796015977,86.168463324394011,111.32709271158059,139.97147136842162,102.55311789287461,null,-5.1162842745186898,1.8514644788146351,-0.34373539750396365,2.0352821989084502,0.74160333511092968,4.1425374387189517,-1.5593271130471376,null,162.117269085125,96.536163706724935,99.783225605858689,134.84139133199037,187.67214553981989,248.41188746922413,105.60431014239897,null,207.37310238935441,93.623400211154703,144.2808161347767,156.48577928604792,168.57724473774715,177.47322725169789,102.97523109215616,null,null,null,null,null,null,null,null,null,null,null,null,null,null,null,null,null,null,null,null,100]
[null,"Febrero",77.9813623281876,103.39264519161486,68.480762909823625,86.154684640135457,111.83874564332686,141.02376922033889,102.42346922998775,null,-6.313130979047199,1.466874779772076,-1.6732803183618361,1.4483209558674881,0.83588492290618266,3.9778727655313206,-2.2861431561482903,null,162.20421270099982,96.463170166779193,98.913601634786531,135.31326917404419,188.26267225500561,249.28043603233672,105.30680351264694,null,208.00382021842228,93.297903335393485,144.4399820209907,157.05851601597999,168.33403412392326,176.76483716929664,102.81511093535096,null,null,null,null,null,null,null,null,null,null,null,null,null,null,null,null,null,null,null,null,100]
[null,"Marzo",77.4476691153438,103.12357148218723,68.124277742217032,86.032895897831835,112.03309571507332,141.30094182986389,101.83566148945314,null,-6.6546678208718513,0.81217506722359722,-1.4948754303895417,1.0873637143163251,0.92103600600159652,3.7327767185242333,-2.2616189788281282,null,160.80035337330935,96.350556986717493,98.562257166523963,135.37024275220179,188.34387300925232,250.01971049710812,104.87845688247346,null,207.6245227391251,93.432137388065868,144.68007652056812,157.34707211641509,168.11449492412081,176.94129087840699,102.98794680421008,null,null,null,null,null,null,null,null,null,null,null,null,null,null,null,null,null,null,null,null,100]
[null,"Abril",76.971951634714031,103.94409762363868,67.999552178183919,86.221946338142772,111.5693778579255,141.74098643106649,101.55918125610806,null,-6.0394448262072515,2.1069933827828846,-1.6689996685039232,1.9757292895427048,1.2210945236357906,3.9256463950333442,-1.8850929707661224,null,160.97453201887316,96.431679129514677,98.554253667936365,135.99643350111853,188.68620026578532,250.60048095947815,104.88738873076224,null,209.13401388444765,92.772635805329699,144.93368045967105,157.72832704074159,169.12006133624033,176.80170518733743,103.27711136845544,null,null,null,null,null,null,null,null,null,null,null,null,null,null,null,null,null,null,null,null,100]
[null,"Mayo",76.923947847133206,104.09058122066345,67.672534388709281,86.320531784246327,110.88625046107867,142.01517285039336,100.97878936530114,null,-4.2958565645704105,2.6456354977028473,-1.6145707458689262,2.6449653021707542,0.80694324295025321,4.6717181057818191,-1.124044748161257,null,160.75691125898871,96.286617352218457,98.278810134615171,136.37446252924153,189.36317501886938,250.39536614904171,104.67275943895453,null,208.98161854413945,92.502718519842603,145.22702751178824,157.98612417043768,170.77245756933254,176.31592535033002,103.65816435003006,null,null,null,null,null,null,null,null,null,null,null,null,null,null,null,null,null,null,null,null,100]
[null,"Junio",76.794551691042415,103.67261855090865,67.213942802705816,86.253197093559308,110.97328919031627,142.94422958122516,100.29518307394052,null,-2.7563953410931541,2.234902310008291,-2.4092167368868656,2.7931061608697183,0.64679427056355543,6.0653838086957013,-1.2247836100580667,null,160.21566630300498,95.859875844265446,98.056639607296162,136.56332287220769,189.5455755186737,251.70442616009524,104.16893794594131,null,208.62894928741812,92.464024912415283,145.88734943748713,158.32841850960807,170.80288139752986,176.08575519102666,103.86235385715877,null,null,null,null,null,null,null,null,null,null,null,null,null,null,null,null,null,null,null,null,100]
[null,"Julio",76.390633826542071,103.78833717939537,67.073436687022877,86.145506364958379,111.91674470018123,143.44822727993261,99.912869921588339,null,-3.6376181561725174,1.8580344198155796,-2.2018333881578478,2.3122843033185569,0.7140788402849374,6.1508041972762939,-1.4404965582344387,null,159.90480307457037,95.768562644689354,98.119541708626045,136.96765036725412,190.43485101767254,254.15539374761212,104.03015085628763,null,209.32514244830253,92.272952093987172,146.28673668008105,158.99569942393279,170.15760378649057,177.17569506916217,104.12087145322772,null,null,null,null,null,null,null,null,null,null,null,null,null,null,null,null,null,null,null,null,100]
[null,"Agosto",76.582437081041419,103.78080379124233,67.770519130344482,86.025942350321642,111.98419068561297,144.43112548184752,99.951456555108095,null,-3.2744516276265512,1.4940136371002222,-2.1700878165194726,1.7413167945288244,-0.25981230604281702,7.1585888878808568,-1.6030745156892845,null,160.05933356000531,95.646647014527048,99.084906908968662,137.07470021845614,191.17034408152713,257.10889733403434,104.15266653825842,null,209.00266387530419,92.162175971312251,146.20650421519798,159.34112021725926,170.71190398493232,178.0148818173881,104.20325038568497,null,null,null,null,null,null,null,null,null,null,null,null,null,null,null,null,null,null,null,null,100]
[null,"Septiembre",76.973903797613843,103.72116376368037,68.039978543195218,86.192026285090691,112.61349431996859,144.94881278944848,100.22524238347609,null,-3.453623488996227,1.1577634574974516,-3.3091192936780756,1.2841566548955852,-0.31141605829896335,6.8958578908247192,-2.3190398336443208,null,160.66346973053828,95.52742090345113,99.527382139531355,137.43162200777007,191.92306060661423,258.63029479567979,104.20574743635254,null,208.72459600459914,92.100220858591641,146.27779765736747,159.44818555860161,170.42634345516663,178.42870860305987,103.97155941778267,null,null,null,null,null,null,null,null,null,null,null,null,null,null,null,null,null,null,null,null,100]
[null,"Octubre",77.62642236802003,104.0016231792291,68.370450910068342,86.327071315342693,113.48874746631328,145.00567839580719,100.5759677273095,null,-2.4125397204809107,1.1901206646119711,-1.7768021071119411,1.1698615543789037,0.42499701041689431,6.3330969439485019,-2.1368717938523685,null,160.95825404694233,95.758889864469566,100.09054267764965,138.008519178288,193.65273336414484,258.65105415269869,104.86586229119889,null,207.34982901035087,92.074418588107434,146.39444576620477,159.86702325874001,170.63606541399758,178.37305201709782,104.26532765314327,null,null,null,null,null,null,null,null,null,null,null,null,null,null,null,null,null,null,null,null,100]
[null,"Noviembre",77.183141942375315,103.83037510099719,67.342260072109383,85.996204349508275,113.04568306416722,144.43915531149568,100.04380310224698,null,-2.2532122135729304,1.1665566037779573,-2.9366963375856869,0.82918286855406809,0.79761047531146101,5.5674749317345507,-2.1998597445724744,null,160.34661000959116,95.624645146419823,98.995608153807126,137.84152105676102,193.61467404969491,257.94077209522783,104.38951398754558,null,207.74822840110008,92.096985158152862,147.00369136379396,160.28791282059555,171.27117887358418,178.58091979211312,104.34380816256774,null,null,null,null,null,null,null,null,null,null,null,null,null,null,null,null,null,null,null,null,100]
[null,"Diciembre",76.981586107940529,104.12608965247485,66.982936856955007,86.224882990251743,112.15136000088913,144.72250758057157,100.00756710337212,null,-2.4143171124232143,1.2449756864521655,-3.3777550571919224,0.5692720178474886,1.0221821066752845,5.6157025898010637,-2.1473974954222319,null,160.45989588890475,95.675534618752039,98.586300654817748,138.38363972871272,193.71587885126266,258.98807049196301,104.41930146242011,null,208.43932166312379,91.884305785488635,147.18121551665183,160.49153669986177,172.72717767285826,178.95493577443455,104.41140054380868,null,null,null,null,null,null,null,null,null,null,null,null,null,null,null,null,null,null,null,null,100]
[2014,"Enero",76.976287298273078,103.74668189568706,66.999578932274616,84.957713961274635,112.88363222794345,144.88070538454761,100.45689990541331,null,-1.5354033685619051,0.61635709087775048,-3.1224549984141148,-1.4050956886179189,1.3981677581354379,3.5073104312837389,-2.0440314546564808,null,161.76408406278995,95.39867534250665,98.306274223858452,137.34961737231606,195.12318574114977,262.012850446127,105.55507078226984,null,210.14794262027112,91.953471281545191,146.72670454127729,161.66821230020699,172.85339060240531,180.84730451213846,105.07498328303659,null,null,null,null,null,null,null,null,null,null,null,null,null,null,null,null,null,null,null,null,100]
[null,"Febrero",80.160062004940272,103.79358590622617,66.145108913794999,84.590610776762787,112.76092687687124,145.36938993598613,99.812038673483769,null,2.7938722942329797,0.3877845603700969,-3.4106716934568126,-1.8154252086299727,0.8245632837168726,3.0814810437079787,-2.5496407963297107,null,168.91803845270928,95.225060911681553,96.856874228282166,137.36819702805136,195.3940015697288,262.76780450472904,105.01579359629774,null,210.72593287452653,91.744648843440118,146.43089386172591,162.39177819695644,173.28165613882223,180.75868972170804,105.21355438880182,null,null,null,null,null,null,null,null,null,null,null,null,null,null,null,null,null,null,null,null,100]
[null,"Marzo",83.68215968169676,103.91426086399731,65.987309261874898,84.723260889987671,113.1336458840285,145.35828124848641,99.651311671752509,null,8.0499395754155767,0.76673971861676016,-3.1368677234692277,-1.5222491282862571,0.98234379933064275,2.8714171088171758,-2.1449753315805453,null,176.59215735401173,95.127931142933335,96.402254062725021,137.72289655700081,195.22128873139835,262.78252752038094,104.82597370926652,null,211.02724645936277,91.544635309908514,146.0921124699091,162.55618009773329,172.558116735243,180.78263258435248,105.19276861558946,null,null,null,null,null,null,null,null,null,null,null,null,null,null,null,null,null,null,null,null,100]
[null,"Abril",82.741436636861152,104.85414433254354,66.34646637286626,84.89058830617796,113.11256933207494,145.31810851799239,99.810772246457461,null,7.4955680343502085,0.87551552200679783,-2.4310245470234304,-1.5441057509227751,1.3831675893313466,2.5237033951824417,-1.721566664900076,null,176.17848698153,95.249470021667705,96.895952694250568,138.22750352192307,195.57740309962998,263.1212119465809,105.21371156640814,null,212.92655064082223,90.839966915933488,146.04538567238322,162.83018680866357,172.9051017535067,181.06567352822574,105.41318256371115,null,null,null,null,null,null,null,null,null,null,null,null,null,null,null,null,null,null,null,null,100]
[null,"Mayo",83.390160361347355,104.95150359640489,66.311192198592948,84.860566235386045,112.98029978914759,145.91354253277413,99.968293338939205,null,8.4059810958533987,0.82708960373307772,-2.0116613075207401,-1.6913305776537491,1.8884661708386874,2.7450374520809451,-1.0007012687648364,null,178.07095531064417,95.272815464877965,96.824942340692488,138.5460398771196,196.72014198010029,263.52786102878116,105.28564495881277,null,213.53952857150617,90.777942383039402,146.01598784518163,163.26315746329209,174.11897680147277,180.60548490184814,105.31903810925856,null,null,null,null,null,null,null,null,null,null,null,null,null,null,null,null,null,null,null,null,100]
[null,"Junio",82.953256162539191,104.60354401150555,66.640726467912742,84.946785579048893,112.33333486943201,146.65586459208382,99.58019715820852,null,8.0197153780834576,0.89794728213579145,-0.85282355251148356,-1.5146238731224559,1.2255612941086236,2.5965616252803025,-0.71288160988239868,null,177.47464416610202,95.072324071498784,97.616899916047785,138.95701766897045,197.79675762255425,264.42674278725781,105.19592741329502,null,213.94536197392537,90.888243768338853,146.48234659183967,163.58125468992736,176.0801972561917,180.30424049031245,105.63940463600861,null,null,null,null,null,null,null,null,null,null,null,null,null,null,null,null,null,null,null,null,100]
[null,"Julio",80.436383709738166,104.31586645918667,66.11259550785185,84.639238681597803,112.89400091673483,146.66827406476369,100.73559788321333,null,5.2961334139243643,0.50827414151501937,-1.432521168781753,-1.7485156764639798,0.87319928681950376,2.2447449131227648,0.82344543027406125,null,173.73102628793461,95.208615976670657,97.324623836448268,139.44835294096208,199.47545418244997,265.39153719763704,105.47151051974662,null,215.98562525493244,91.269544325666701,147.21041140320915,164.75615224464542,176.69269630152752,180.94679226977826,104.7013297543772,null,null,null,null,null,null,null,null,null,null,null,null,null,null,null,null,null,null,null,null,100]
[null,"Agosto",80.108863194099953,103.81801853313527,65.914318888046054,84.604236347273428,112.53592385938414,145.739627920396,100.15674300161058,null,4.6047452228854757,3.5858984063952271E-2,-2.7389494224300703,-1.6526479852538301,0.49268845039038833,0.90596984146118498,0.20538614801406396,null,173.56489260216898,94.922640534385749,97.383178207781341,139.50745723336144,199.23005368164527,264.67941687678342,104.9654188656455,null,216.66128525832343,91.431759029469049,147.74206856811253,164.89417463769519,177.03684907815494,181.61115178731836,104.80115039679117,null,null,null,null,null,null,null,null,null,null,null,null,null,null,null,null,null,null,null,null,100]
[null,"Septiembre",79.91645438005186,103.76222016784448,64.899213097466031,84.687029731926728,112.50387305034951,145.43117913372356,99.104637672392357,null,3.8227898511875136,3.9583439554968791E-2,-4.6160588421339188,-1.7460971948681236,-9.7342925269339187E-2,0.33278392212550134,-1.1180863068368851,null,172.5723500017636,94.625256248013969,95.777990253294107,139.58945988066711,198.6293413428784,264.08941943550622,103.99319818249782,null,215.94094900791768,91.194324962350777,147.57958638027571,164.82979781264231,176.55333630512851,181.59064721099233,104.93272628296715,null,null,null,null,null,null,null,null,null,null,null,null,null,null,null,null,null,null,null,null,100]
[null,"Octubre",79.649606743214932,103.34608589070039,63.730563083667803,84.556646796172146,112.25442603085001,145.2040224844888,98.393586506102679,null,2.6063089261065819,-0.63031447826443765,-6.7863934852552816,-2.0508335244032505,-1.0876157002522646,0.13678367004374969,-2.1698833931420802,null,171.6594178416093,94.343009339382462,94.246469707070574,139.8905462171156,198.59137242972963,263.61845017662421,103.22993269308702,null,215.51822395687142,91.288420385035522,147.88268790806129,165.44003519241778,176.91184165437923,181.55037695652328,104.91530633115438,null,null,null,null,null,null,null,null,null,null,null,null,null,null,null,null,null,null,null,null,100]
[null,"Noviembre",78.332018694614433,103.32104220541451,62.911928147542739,83.942103424727989,110.20635402121016,144.83127273749793,97.636642859237739,null,1.4885073648554847,-0.49054324910917657,-6.5788286876957924,-2.3885948691781178,-2.51166516579443,0.27147585096063409,-2.4061062938091959,null,169.85479143839694,93.952071245535436,93.392084215007415,139.68737159634793,197.95390157510801,263.25116369390594,102.2421002886509,null,216.83954309998521,90.932175324700609,148.4489300597842,166.40918668616337,179.62113285864632,181.76403391209595,104.71693546044267,null,null,null,null,null,null,null,null,null,null,null,null,null,null,null,null,null,null,null,null,100]
[null,"Diciembre",77.269631571152374,103.05129935739458,62.090563252509355,83.637776250187486,109.09017631351513,144.45054485130569,96.475779596065024,null,0.37417449779217904,-1.0322007660783394,-7.3039102703029162,-3.0004178032421835,-2.7295109817212504,-0.18792013337280977,-3.5315202735173967,null,167.63728270255356,93.182103301356932,92.318739032817859,139.26191172901369,196.23484715811651,261.29158527159962,100.82690802827486,null,216.9510573480446,90.423026087414911,148.68400960928125,166.50599522449824,179.88315152608754,180.88653493177722,104.51007335771484,null,null,null,null,null,null,null,null,null,null,null,null,null,null,null,null,null,null,null,null,100]
[2015,"Enero",76.820213588408521,103.02463393912802,62.150394265990393,83.655865561439782,106.85095577040786,140.7903895096444,95.319416229816824,null,-0.20275556972473296,-0.69597209603775578,-7.2376345397423103,-1.5323486698668232,-5.3441551609129112,-2.8232302321047786,-5.1141172785878926,null,167.39228237004374,93.150789962466035,92.735510983208485,139.03251758125498,193.60178524846194,263.77644212299191,101.55983635780204,null,217.90134985422861,90.416035855564473,149.21146048779727,166.19577915806113,181.18863219572577,187.35401119472203,106.54685097204064,null,null,null,null,null,null,null,null,null,null,null,null,null,null,null,null,null,null,null,null,100]
[null,"Febrero",76.754859727886242,103.14789292031759,61.868494035721156,83.68874694662415,106.05648788168045,141.15499615135968,95.785367648673699,null,-4.2480035467589383,-0.62209334061542609,-6.4655043257203388,-1.066151221580236,-5.9457111438181665,-2.8990929840747581,-4.0342538618838963,null,166.17508385128798,92.725800666746721,92.234409115089107,139.41703234735238,192.71049330756767,263.60367568822545,100.72796085679241,null,216.5010586175483,89.895971736793484,149.08138714647799,166.58993883164624,181.70552047938907,186.74767657927231,105.1600712399491,null,null,null,null,null,null,null,null,null,null,null,null,null,null,null,null,null,null,null,null,100]
[null,"Marzo",75.789963747810773,102.54404518776643,61.386362547430096,83.072790124572961,105.53812973177948,140.05913228408099,94.034977602889512,null,-9.4311570876106305,-1.3186021483848287,-6.9724720797231576,-1.9480727583866653,-6.7137553049736116,-3.6455776161432807,-5.6359860945563671,null,163.51681391284779,92.21252724731518,91.267351080571103,138.63279832776527,191.72606486778841,260.6401674892125,99.332828308372598,null,215.74995662611204,89.924799707741769,148.67691665238107,166.88111488716885,181.6652098678002,186.09294748489361,105.6339149968812,null,null,null,null,null,null,null,null,null,null,null,null,null,null,null,null,null,null,null,null,100]
[null,"Abril",75.97302573583319,102.75406936686241,62.07420807308629,83.518347363476778,106.05111910216544,141.28161891972499,94.176547534736841,null,-8.1801950463265776,-2.002853562965301,-6.4393155104447208,-1.616481838660222,-6.2428519408648135,-2.7776920849252762,-5.6449064413692014,null,163.49238408382482,92.244192245865605,92.477809130013682,139.47342629537599,192.86359534190657,261.78634756765632,99.81406935518919,null,215.19793703136995,89.771814210614437,148.97944251037424,166.99734932299296,181.85908548132286,185.293989104415,105.9861207147915,null,null,null,null,null,null,null,null,null,null,null,null,null,null,null,null,null,null,null,null,100]
[null,"Mayo",76.791784803262246,103.0084449662201,61.999866060749014,83.676500676245112,106.39094321114959,141.94033910857314,94.382752454319601,null,-7.9126548378045332,-1.8513871298661,-6.5016568016634357,-1.3953071628777236,-5.832305800476334,-2.7229846902720234,-5.5873124348357228,null,164.25003309467652,92.371919781050963,92.311907605647647,139.92252200678399,194.13586407285331,262.80871707544981,100.29948948730384,null,213.89011014066037,89.674123137518293,148.8904952071963,167.21841959926334,182.47405109245071,185.15435338957579,106.26887527554135,null,null,null,null,null,null,null,null,null,null,null,null,null,null,null,null,null,null,null,null,100]
[null,"Junio",76.873016736688072,103.21857488379531,61.430227208067073,83.189681070040677,106.83730553397677,141.30967255691127,94.067083138659029,null,-7.32971761100909,-1.3240174038060326,-7.8187912047364971,-2.0684767493328038,-4.8926076501186522,-3.6453994185931315,-5.5363557985233847,null,164.7618616452157,92.213015273939263,91.600914892740988,139.57130310232304,194.46287296387885,261.76662637016938,99.866264885057888,null,214.32990227191411,89.337617166051515,149.11374913604726,167.77477844254801,182.0177624210441,185.24324742507991,106.16494266953147,null,null,null,null,null,null,null,null,null,null,null,null,null,null,null,null,null,null,null,null,100]
[null,"Julio",76.528908256683394,102.90743815400957,60.670177319408431,82.371744622584103,107.09515389051012,139.53492421850171,93.012241152336316,null,-4.8578457569092626,-1.3501573183290816,-8.2320443580180651,-2.6790104617359867,-5.1365413388986481,-4.8635943197314351,-7.6669587446445693,null,163.28246944299002,91.78231540810377,90.913436108421706,138.66398395920245,194.43432995998,258.72117405221934,98.857258680553173,null,213.36051063910256,89.189194731233982,149.84864084011576,168.33925831550806,181.55287414663229,185.416787590095,106.28413793260161,null,null,null,null,null,null,null,null,null,null,null,null,null,null,null,null,null,null,null,null,100]
[null,"Agosto",76.05109490328465,102.62232425449737,60.099076834319725,82.071327189258966,106.5834409635625,138.86125758148171,92.450329881193312,null,-5.0653175304504412,-1.1517213442638341,-8.822426070431499,-2.9938325400369781,-5.2894068770958818,-4.7196294083248986,-7.6943527609452556,null,162.12256674253226,91.246979441262368,90.132112917005827,138.24834637150215,193.44520936533135,258.04518451206008,97.819445013557356,null,213.17584835393367,88.915331146637428,149.97254145097892,168.44902002461501,181.49649478052052,185.82950277592226,105.80756730588612,null,null,null,null,null,null,null,null,null,null,null,null,null,null,null,null,null,null,null,null,100]
[null,"Septiembre",76.173220658161625,102.6580934325509,60.233366245951053,81.879485824469256,106.47508808397349,138.57877037901932,92.665760674090592,null,-4.6839336791505541,-1.0640932060894226,-7.1893735360208151,-3.315199406974878,-5.3587354843134367,-4.7117879367556181,-6.4970491286054592,null,162.01513278533579,90.997061366796189,90.358564321594358,137.71737858386319,193.16101224973164,257.81459908988921,97.555785639061725,null,212.69303225657507,88.640903336650879,150.01413660434153,168.19521666159156,181.41427795522625,186.04191564462175,105.27705695113166,null,null,null,null,null,null,null,null,null,null,null,null,null,null,null,null,null,null,null,null,100]
[null,"Octubre",76.574278875916818,100.72617992782884,60.197584181319087,82.72564303582169,107.19588545871358,138.31532202131015,93.297368748961318,null,-3.8610709996507175,-2.5350800083927649,-5.5436178991710712,-2.1654167114315448,-4.506317257144266,-4.7441526379990773,-5.1794206696848866,null,162.28707862345811,91.152136774912961,90.569989204962042,138.93871355383155,194.93441760302704,259.03966509709335,98.082682187788933,null,211.93419122683846,90.494980391616394,150.45452477321894,167.95120407062728,181.84878717019964,187.28197376222951,105.12909796170527,null,null,null,null,null,null,null,null,null,null,null,null,null,null,null,null,null,null,null,null,100]
[null,"Noviembre",75.854755513646907,100.47974906994705,59.277496026878318,82.525876015236562,106.67108266570186,137.18286470802354,92.3106222534811,null,-3.1625167106000385,-2.7499656167023878,-5.7770159454354264,-1.6871478694376218,-3.2078652695723076,-5.2809092158824562,-5.454940327511193,null,160.88716772447259,90.886485166812065,89.656608119644687,138.56372893966466,194.68307031688161,257.47862057719442,97.124515726486621,null,212.09898658961154,90.452539947669649,151.24898001594318,167.90337240901502,182.50782259987167,187.69007421240639,105.21488573632054,null,null,null,null,null,null,null,null,null,null,null,null,null,null,null,null,null,null,null,null,100]
[null,"Diciembre",75.57513346870067,100.21980549314458,58.482903404166471,82.830579297342325,105.33751327030069,136.43705824923023,91.943246276134929,null,-2.1929677520092117,-2.7476546942217905,-5.8103190877352606,-0.96511049077939726,-3.4399642296201183,-5.5475641232951904,-4.6981048911005292,null,160.64660242986704,90.578712634619336,88.84946714076348,139.08802053931774,194.05672784319697,256.37227489195431,96.598353838256983,null,212.56542338280963,90.380052314924171,151.92383067362147,167.91868621372842,184.22376019570433,187.90516167802284,105.06302284361517,null,null,null,null,null,null,null,null,null,null,null,null,null,null,null,null,null,null,null,null,100]
[2016,"Enero",75.05922825122245,99.953847158909795,58.052807813624696,83.245542017890173,103.26993368198261,129.84379163000781,90.930459091290487,null,-2.2923463173653347,-2.9806335269607409,-6.5930176320827538,-0.49048986678436046,-3.3514179284646284,-7.7751030576463602,-4.6044733718726079,null,159.0880148992924,89.958265558904614,88.924931522719746,140.57765739407179,192.76878057506462,257.97998580909643,95.898079469547298,null,211.94997418149103,89.999803024976217,153.17938076002849,168.87109385852816,186.66496017000614,198.68488325126469,105.46309831480067,null,null,null,null,null,null,null,null,null,null,null,null,null,null,null,null,null,null,null,null,100]
[null,"Febrero",75.542511209281855,100.51724629809898,58.2216978972262,83.72429144787678,103.13556933353759,131.64876668159744,91.481510517949857,null,-1.5795071776594227,-2.5503638976423826,-5.894431722209692,4.2472258875259072E-2,-2.754115855129502,-6.734603612307688,-4.4932302671841668,null,159.53933400996092,89.928797921946583,89.100832701440595,141.65831391346848,193.68963642829556,259.06689995678801,96.159876863536439,null,211.19146220592998,89.466038151551857,153.03715954612437,169.19619319998546,187.80100568593227,196.78642382071155,105.11400207440676,null,null,null,null,null,null,null,null,null,null,null,null,null,null,null,null,null,null,null,null,100]
[null,"Marzo",76.866207666322282,101.3083115402933,59.152916967855987,84.399159440393561,103.79973113625314,133.31174656055308,92.476311631119813,null,1.4200348770355475,-1.205075970243219,-3.6383416232692367,1.5966350881337021,-1.6471758595157926,-4.8175264357930185,-1.6575385154574684,null,160.26092010786607,90.336976891479395,90.472306784069545,142.70150713086295,195.79578480994965,261.29803768810314,97.210888791747237,null,208.49333533346913,89.170350900132917,152.94648416616999,169.07929898477849,188.62841229611422,196.00526167393352,105.11977292034878,null,null,null,null,null,null,null,null,null,null,null,null,null,null,null,null,null,null,null,null,100]
[null,"Abril",77.55808206819674,102.16422065915057,59.598104185402782,84.671839316129009,104.46233023593824,134.88909807182236,93.071924025791617,null,2.0863409308916614,-0.5740392680759987,-3.9889415661463423,1.3811240153402071,-1.4981349368851316,-4.5246656265560015,-1.1729284390445405,null,161.42851651763846,90.632904961625485,91.121706346292385,143.13916774519305,196.98884762281753,263.27743402735939,98.104688636282148,null,208.13887116973123,88.712960737989775,152.89363242633246,169.05168105628562,188.57405073953379,195.18066158851178,105.40739289873915,null,null,null,null,null,null,null,null,null,null,null,null,null,null,null,null,null,null,null,null,100]
[null,"Mayo",77.530667442192737,102.16123345823669,58.471684392503349,84.423300482290571,103.99699258524355,134.56735426834524,92.580060814175269,null,0.9621896936286678,-0.82246801052208163,-5.6906278874677918,0.8924845088048361,-2.2501451285706464,-5.1944252680614973,-1.9099799415330909,null,161.28098274833701,90.435187923862998,89.634067141663181,142.85303077279778,196.89786264556739,262.55828654470446,97.585155480936123,null,208.02217763517768,88.522020401048437,153.29482650093652,169.21043119223225,189.33034287907461,195.1129142519427,105.40623393714006,null,null,null,null,null,null,null,null,null,null,null,null,null,null,null,null,null,null,null,null,100]
[null,"Junio",78.400551329364163,102.06506185723126,58.074530947887112,84.315242761700844,104.23228702790931,134.01643528568582,92.570531928947261,null,1.9870881325086076,-1.1175440349401211,-5.4626141114765154,1.3530063791355573,-2.4383041981894671,-5.1611734280172179,-1.5909403797562116,null,162.7210340418647,90.198791466525023,89.247846043475505,143.31076330808568,196.75772204611678,262.38200188096999,97.322744763375326,null,207.5508797868863,88.373817470169385,153.67811773385068,169.9701721942771,188.76849741715137,195.78345097871349,105.13361297099995,null,null,null,null,null,null,null,null,null,null,null,null,null,null,null,null,null,null,null,null,100]
[null,"Julio",78.287498128555171,102.2249350762857,57.275885537887731,84.387100003487234,104.56414806564375,133.71414998430265,92.388071406006063,null,{"$f":"(C264/C252-1)*100","v":2.2979419306144333},{"$f":"(D264/D252-1)*100","v":-0.66322035604700069},{"$f":"(E264/E252-1)*100","v":-5.5946627016612682},{"$f":"(F264/F252-1)*100","v":2.4466586086493658},{"$f":"(G264/G252-1)*100","v":-2.3633243269382431},{"$f":"(H264/H252-1)*100","v":-4.1715536571218177},{"$f":"(I264/I252-1)*100","v":-0.67106193614664411},null,164.08032935864611,90.158060355291411,88.63130146743417,143.84432135126428,197.88902281346728,262.31841167083587,97.235451538762362,null,209.58688587699066,88.195761912698373,154.74453277340422,170.45771373269139,189.25131268629056,196.17849846230237,105.24675973747102,null,null,null,null,null,null,null,null,null,null,null,null,null,null,null,null,null,null,null,null,100]
[null,"Agosto",78.877758449959373,102.80252971040075,56.871453710046644,84.695023467968895,105.8130905062711,134.23519285674575,92.852614089054526,null,{"$f":"(C265/C253-1)*100","v":3.7167953338073989},{"$f":"(D265/D253-1)*100","v":0.17560063778760959},{"$f":"(E265/E253-1)*100","v":-5.3705036654239198},{"$f":"(F265/F253-1)*100","v":3.1968488491231684},{"$f":"(G265/G253-1)*100","v":-0.72276748651298739},{"$f":"(H265/H253-1)*100","v":-3.3314293744037604},{"$f":"(I265/I253-1)*100","v":0.43513550289997482},null,165.243659669393,90.359646539501782,88.112495956418158,144.47048540057355,199.3477739058452,262.83858353416048,97.64081760332941,null,209.4933513789249,87.89632589202705,154.93273023343278,170.57730133956613,188.39613600930662,195.80452632467163,105.15677836456231,null,null,null,null,null,null,null,null,null,null,null,null,null,null,null,null,null,null,null,null,100]
[null,"Septiembre",79.446022309827882,102.99314404665789,56.772091006406384,84.749319395225129,106.22122910104186,134.57690656184425,92.635046494984621,null,{"$f":"(C266/C254-1)*100","v":4.2965252399572718},{"$f":"(D266/D254-1)*100","v":0.32637525489125352},{"$f":"(E266/E254-1)*100","v":-5.7464416406867169},{"$f":"(F266/F254-1)*100","v":3.5049482075499849},{"$f":"(G266/G254-1)*100","v":-0.23842101236997149},{"$f":"(H266/H254-1)*100","v":-2.8877899596235324},{"$f":"(I266/I254-1)*100","v":-3.3145121652855547E-2},null,165.19979721976398,90.074721858603255,87.573840085317642,144.52762050383717,199.05138995775587,262.69931471315795,97.316271141566915,null,207.93967075596171,87.457007641011188,154.25509001497846,170.53543501610707,187.39322792848711,195.20385883772383,105.05340562098789,null,null,null,null,null,null,null,null,null,null,null,null,null,null,null,null,null,null,null,null,100]
[null,"Octubre",79.658570392644165,102.83031626995785,56.178845620216421,85.198898024819982,106.48735501849617,134.84504612441793,92.285843902874547,null,{"$f":"(C267/C255-1)*100","v":4.0278427195184152},{"$f":"(D267/D255-1)*100","v":2.0889666853608935},{"$f":"(E267/E255-1)*100","v":-6.6759133539278981},{"$f":"(F267/F255-1)*100","v":2.9897077837488961},{"$f":"(G267/G255-1)*100","v":-0.66096794404509884},{"$f":"(H267/H255-1)*100","v":-2.5089598507080479},{"$f":"(I267/I255-1)*100","v":-1.0841943986743319},null,165.14534329419905,89.98106647331106,87.115171603398238,144.99361383902183,199.75860283965869,263.40831421004322,96.895808902100271,null,207.31647891768961,87.50441478472753,155.06757150604236,170.18249907033137,187.58903609255944,195.34148400750544,104.99531109460023,null,null,null,null,null,null,null,null,null,null,null,null,null,null,null,null,null,null,null,null,100]
[null,"Noviembre",78.84626891462338,102.0209922559872,55.345969060249878,84.584550998677102,105.19094001960886,133.5851831904217,90.851550189413672,null,{"$f":"(C268/C256-1)*100","v":3.9437387685446801},{"$f":"(D268/D256-1)*100","v":1.5338843899453281},{"$f":"(E268/E256-1)*100","v":-6.6324106619580547},{"$f":"(F268/F256-1)*100","v":2.4945811942189478},{"$f":"(G268/G256-1)*100","v":-1.3875762850665385},{"$f":"(H268/H256-1)*100","v":-2.6225443864720699},{"$f":"(I268/I256-1)*100","v":-1.5806112324331156},null,163.52364586020423,89.239151379394883,86.159332483454733,144.15871229525297,197.76716472651583,261.29192177785814,95.337529320611409,null,207.39554085593005,87.471361928611117,155.67408782681406,170.43149203157398,188.00779296168437,195.59947857794552,104.93770235273372,null,null,null,null,null,null,null,null,null,null,null,null,null,null,null,null,null,null,null,null,100]
[null,"Diciembre",77.852641240351673,101.84906506260518,55.067200573923031,85.016754204472235,104.11026846163215,132.18080383507623,90.18002498353755,null,{"$f":"(C269/C257-1)*100","v":3.0135676473455719},{"$f":"(D269/D257-1)*100","v":1.6256862218436918},{"$f":"(E269/E257-1)*100","v":-5.8405151444654413},{"$f":"(F269/F257-1)*100","v":2.6393331130548425},{"$f":"(G269/G257-1)*100","v":-1.1650595980174483},{"$f":"(H269/H257-1)*100","v":-3.1195735739032671},{"$f":"(I269/I257-1)*100","v":-1.9177279071720621},null,161.81622095229784,88.782809398445536,85.591907711314647,145.05687749283021,197.00006890219558,260.39759541171713,94.535441853681405,null,207.84936564031068,87.170961602712794,155.43173943700802,170.62151907605946,189.22251552429356,197.00106812530717,104.82969135453106,null,null,null,null,null,null,null,null,null,null,null,null,null,null,null,null,null,null,null,null,100]
[2017,"Enero",78.36796153309875,101.61795316872515,55.034206044753681,85.540375987920996,106.27298756082435,126.02333016318892,90.129648082481253,null,4.4081632051984343,1.6648743966499957,-5.1997515409798361,2.7567049410737843,2.9079653407056316,-2.942352051536945,-0.88068510465261207,null,162.16175142368624,88.086386875110875,85.200726222812634,145.7123234535581,198.84159778061397,264.79127085992513,93.617515152058303,null,206.92352876270377,86.683882255385882,154.81412805978815,170.34332824786028,187.10455247793692,210.11289776031484,103.86983322778001,null,null,null,null,null,null,null,null,null,null,null,null,null,null,null,null,null,null,null,null,100]
[null,"Febrero",79.563464476189921,102.3038219973115,54.570217757098007,85.481069614939273,107.12031423721022,127.3826233995787,90.835721411804172,null,5.3227688655576699,1.7773822552939356,-6.2716826750292327,2.0982896799505157,3.8635990758785432,-3.2405493720550571,-0.70592309034837042,null,164.79091179849874,88.5964801361459,84.483466321793472,146.44971599311012,201.30643177608692,267.9535830333059,94.350401222674606,null,207.11882380111027,86.601339428427394,154.81606963315559,171.32415007534664,187.92554261025444,210.35332440342259,103.86927054273791,null,null,null,null,null,null,null,null,null,null,null,null,null,null,null,null,null,null,null,null,100]
[null,"Marzo",80.223354235813886,102.58263371570889,54.429274227833005,85.361227641928778,108.00403854278224,128.38796382013328,91.340691596296892,null,4.3675194489430913,1.2578653775201509,-7.985477271712293,1.1399025866065227,4.0504029832315158,-3.6934350253848836,-1.2280118170724719,null,165.15352187447039,88.900118540927068,84.337041630710559,146.49050783803187,202.94510216852322,268.99978276795878,94.623455262903377,null,205.86713613221295,86.661957605123803,154.94794451546056,171.61246608650796,187.9051051300579,209.52102889085253,103.59397723975583,null,null,null,null,null,null,null,null,null,null,null,null,null,null,null,null,null,null,null,null,100]
[null,"Abril",80.854159353514817,103.01984007392488,54.45743407550772,85.360711764808556,108.41429831803681,128.97001362461961,91.917248707409158,null,4.2498179395666913,0.83749419244227852,-8.6255597894574478,0.81357917135540525,3.7831513744453815,-4.3881118131956836,-1.2406268920179264,null,166.25712818777939,89.109596495256767,84.397089262726666,146.65586588151322,203.92608488571605,270.10434726768227,94.973149720865905,null,205.62594369556328,86.4975100245871,154.97808645502144,171.80722003067302,188.09888367998505,209.43189790911285,103.32462193595926,null,null,null,null,null,null,null,null,null,null,null,null,null,null,null,null,null,null,null,null,100]
[null,"Mayo",82.732160524391759,102.92829632950684,54.374800368897205,85.388718710642607,109.02603721787899,130.05978407777388,92.177104818355019,null,{"$f":"(C274/C262-1)*100","v":6.7089491859170236},{"$f":"(D274/D262-1)*100","v":0.75083556189023959},{"$f":"(E274/E262-1)*100","v":-7.0066119458864211},{"$f":"(F274/F262-1)*100","v":1.1435447593695525},{"$f":"(G274/G262-1)*100","v":4.8357596769091904},{"$f":"(H274/H262-1)*100","v":-3.3496758668396409},{"$f":"(I274/I262-1)*100","v":-0.43525138380396955},null,170.37851488593788,89.073425532923025,84.464858781555492,147.01268782940485,205.15025118934389,271.61681928825681,95.172926994155375,null,205.93988336096399,86.539298433319175,155.3382416275868,172.16874787357781,188.16629167156566,208.83997402750865,103.25007189334481,null,null,null,null,null,null,null,null,null,null,null,null,null,null,null,null,null,null,null,null,100]
[null,"Junio",82.610506395488557,103.38192307254231,54.26989246871991,85.604159528678849,110.47636582875663,131.06130849922337,92.976690425871979,null,5.3698028837044554,1.2902174273436318,-6.5513029844033959,1.5286877256830644,5.990541874203914,-2.2050480451617283,0.4387557124944097,null,170.13896894836512,89.373590829893644,84.978565968870001,147.59813968212384,207.75816893135487,273.64882629595098,95.771268106375672,null,205.9531848574367,86.449921005223402,156.58510106289589,172.41935496449321,188.05666476519463,208.79451718397317,103.00567558137783,null,null,null,null,null,null,null,null,null,null,null,null,null,null,null,null,null,null,null,null,100]
[null,"Julio",83.462244469008823,103.92657469413687,53.371756578846828,85.843061432305262,111.10275320183648,131.69224704349853,93.644306897470315,null,6.6099268263193789,1.6646032756893581,-6.816357219755842,1.7253364895320145,6.2531998368005492,-1.5121084350769753,1.359737758723889,null,172.45073567048442,89.647390014875057,84.838493252841658,148.31119601976718,209.51200080705772,275.49207254736694,96.293798496441411,null,206.6212534393546,86.260314340883014,158.95765605448753,172.77016167081072,188.57498555993891,209.19384301823834,102.82931412143608,null,null,null,null,null,null,null,null,null,null,null,null,null,null,null,null,null,null,null,null,100]
[null,"Agosto",84.874308001827714,104.63830362940232,53.721643185698504,85.998583811955498,112.324565084517,132.31937594637537,94.410253175085614,null,{"$f":"(C277/C265-1)*100","v":7.6023326089731613},{"$f":"(D277/D265-1)*100","v":1.7857283514063571},{"$f":"(E277/E265-1)*100","v":-5.5384737313154186},{"$f":"(F277/F265-1)*100","v":1.5391227141930086},{"$f":"(G277/G265-1)*100","v":6.1537514376446723},{"$f":"(H277/H265-1)*100","v":-1.4272091167738088},{"$f":"(I277/I265-1)*100","v":1.67753929311798},null,174.49388828345252,89.947664348368178,84.915932617899514,148.74694161823413,211.27700008235396,277.48094144257954,97.086838943038259,null,205.59094075876874,85.960552903204544,158.06652139133632,172.96440827849469,188.09509738442489,209.70544900017765,102.83505835217798,null,null,null,null,null,null,null,null,null,null,null,null,null,null,null,null,null,null,null,null,100]
[null,"Septiembre",85.404920684917286,104.92477753443741,54.56968212841997,86.524477649663012,113.11185126265167,132.97645017608087,94.887454671936652,null,7.5005622708844699,1.8754971563004652,-3.8793865770029301,2.0945988323038955,6.4870480410796016,-1.1892503897226181,2.4314859895644192,null,175.33479049822813,90.027330336705603,85.455836494335443,149.15609701452698,212.74179786311259,279.31752011193646,97.478474269441733,null,205.29822999905051,85.801783384441947,156.59947641481665,172.38601268239833,188.08090884227062,210.0503658670975,102.73062398655675,null,null,null,null,null,null,null,null,null,null,null,null,null,null,null,null,null,null,null,null,100]
[null,"Octubre",83.675878342412616,104.34007857609055,54.166610918787441,86.079183831458096,111.96369185124887,132.44435762935763,94.327029282522872,null,5.0431584824668363,1.4682073934005668,-3.58183704064019,1.0332126671188435,5.1427109179315034,-1.7803312498742119,2.2118076763718575,null,172.60903736922435,89.49996241912153,85.19039320326597,148.63658618467466,211.37087467208383,277.9821563312945,96.61787463530537,null,206.28291066498954,85.777166013779848,157.2747339334056,172.67425127508542,188.78519560868352,209.88599386711581,102.42862026951056,null,null,null,null,null,null,null,null,null,null,null,null,null,null,null,null,null,null,null,null,100]
[null,"Noviembre",83.063586561971746,104.30070570783046,53.660948686022486,86.148724900340937,111.06285944842354,131.74302602584771,94.544626690542287,null,{"$f":"(C280/C268-1)*100","v":5.348785307666204},{"$f":"(D280/D268-1)*100","v":2.2345533026409736},{"$f":"(E280/E268-1)*100","v":-3.0445223072940841},{"$f":"(F280/F268-1)*100","v":1.8492430156522355},{"$f":"(G280/G268-1)*100","v":5.5821532041828714},{"$f":"(H280/H268-1)*100","v":-1.379013091555259},{"$f":"(I280/I268-1)*100","v":4.0649570573413785},null,171.39424983297749,89.441192682846875,84.975241786193052,149.21240027254282,211.73975007649187,278.35387293584176,96.575456706929145,null,206.34101767939478,85.753199919271509,158.35583206587486,173.20326034442826,190.64856706199035,211.28547091458893,102.14801209489571,null,null,null,null,null,null,null,null,null,null,null,null,null,null,null,null,null,null,null,null,100]
[null,"Diciembre",82.722632133023524,104.42341377205484,53.357404586014525,85.831738831151313,110.49724706562728,131.38926902411225,94.750331134051606,null,6.2553958543768662,2.5276115277712563,-3.1049262902210772,0.95861649189636911,6.1348209915998098,-0.59882735465248693,5.0679805770162289,null,171.12283466262684,89.424035483745342,85.1128392504516,149.23831550008288,212.46549032285591,279.92023070108473,96.75312612640549,null,206.86338218475674,85.636000829228266,159.51457892455377,173.87311212891231,192.28125221677874,213.0464936597786,102.11376041474762,null,null,null,null,null,null,null,null,null,null,null,null,null,null,null,null,null,null,null,null,100]
[2018,"Enero",83.884155412019368,105.3461203739259,54.223679857445696,86.904121652464966,113.48245083645037,130.08437588249535,96.209340340612826,null,7.0388380289703623,3.6688076161212946,-1.4727680211264693,1.5942713002998099,6.7839094779374332,3.2224554882399614,6.7454965014040802,null,174.1320179824254,89.602336171830771,85.862887854522029,150.96579973999792,217.06949000810849,285.90024000194052,97.693945212797317,null,207.58630414424465,85.055183668641448,158.34942976990121,173.71535074449017,191.28022739035359,219.78061397641858,101.54309848391902,null,null,null,null,null,null,null,null,null,null,null,null,null,null,null,null,null,null,null,null,100]
[null,"Febrero",84.676176019052392,105.94033521606914,54.928997414158111,86.895755739688468,114.55946547585341,132.4665134944612,96.937524945917914,null,6.4259538929359872,3.554621076476705,0.6574642209732362,1.6549700783130561,6.9446689842318055,3.9910389338859487,6.7174052666474582,null,175.36517329154074,89.806407940373646,86.409916211769982,151.34905939471344,218.65751226019395,289.28224026598582,98.220015111028729,null,207.1009598403252,84.770741717222464,157.31202148156734,174.17313205504101,190.8681324165938,218.3814102407712,101.32300692206277,null,null,null,null,null,null,null,null,null,null,null,null,null,null,null,null,null,null,null,null,100]
[null,"Marzo",84.32981891649483,106.14910745619133,55.120264602979063,86.908779286119284,114.78112684703879,133.00203854000989,97.007518089727654,null,5.1187895592225363,3.4766837341750678,1.269519729867552,1.8129444560967878,6.274847122102778,3.5938530237466404,6.2040547256601908,null,174.28458860517765,89.761375808651167,86.803482704464102,151.63804161055893,219.31019471072503,291.04345813920389,98.285673569284299,null,206.67018006733531,84.56159261225676,157.48016329328846,174.47954378848115,191.06816663595333,218.8263137422903,101.31758394063273,null,null,null,null,null,null,null,null,null,null,null,null,null,null,null,null,null,null,null,null,100]
[null,"Abril",84.268340580417515,106.34267597704097,55.391306429937892,87.03064312078746,114.99613251872691,133.30520183398863,97.058472259500832,null,4.2226414252543698,{"$f":"(D285/D273-1)*100","v":3.2254329852693386},1.714866611481014,1.9563231391275249,6.0710019829506967,3.3613923791518063,5.5933174941486863,null,173.61359499463717,89.769797437621193,87.104463633709074,151.8747441488249,220.14731651726191,292.01327023157182,98.344358292470616,null,206.02469895435669,84.415590084456966,157.25295041358845,174.50720654567849,191.43888728728444,219.05617051255808,101.32485707124235,null,null,null,null,null,null,null,null,null,null,null,null,null,null,null,null,null,null,null,null,100]
[null,"Mayo",83.518141800363779,105.5565342293187,54.831278420084367,86.743390125418671,114.02815200038404,131.9198294678846,95.736303756129729,null,{"$f":"(C286/C274-1)*100","v":0.95003112573168735},{"$f":"(D286/D274-1)*100","v":2.5534648814141692},{"$f":"(E286/E274-1)*100","v":0.83950294638373002},{"$f":"(F286/F274-1)*100","v":1.5864758661699119},{"$f":"(G286/G274-1)*100","v":4.5880001788093594},{"$f":"(H286/H274-1)*100","v":1.4301464540325881},{"$f":"(I286/I274-1)*100","v":3.8612613672218243},null,171.36053692087313,88.969213704945261,86.433475842284935,151.06551130753672,219.09189576683838,288.77797200912261,96.772190830725563,null,205.17762156452429,84.28584204144299,157.63534670864954,174.1521873760264,192.1384254005103,218.90414289795953,101.0820211706048,null,null,null,null,null,null,null,null,null,null,null,null,null,null,null,null,null,null,null,null,100]
[null,"Junio",83.207544155645678,104.99226745367309,54.49439400333253,86.504388643527108,113.55873918959196,130.94353080467081,94.75153386920914,null,0.72271407864137327,{"$f":"(D287/D275-1)*100","v":1.5576653376827121},{"$f":"(E287/E275-1)*100","v":0.41367602624609034},{"$f":"(F287/F275-1)*100","v":1.0516184257923333},{"$f":"(G287/G275-1)*100","v":2.7900749067118591},{"$f":"(H287/H275-1)*100","v":-8.9864580097076541E-2},1.9089122609200704,null,170.70561716615217,88.389631987618927,86.235757356157109,150.96085481452423,218.68591170584401,286.6176763027978,95.817463410430292,null,205.15641808492151,84.186801686724266,158.24702509928542,174.5123654206881,192.57514944819619,218.88647307849592,101.12497338849681,null,null,null,null,null,null,null,null,null,null,null,null,null,null,null,null,null,null,null,null,100]
[null,"Julio",82.90107942470334,104.9795568806063,54.433713583653329,86.366682892332818,114.44740947202705,131.18679666532614,94.618236827236316,null,-0.67235796002809156,{"$f":"(D288/D276-1)*100","v":1.0131982022581143},{"$f":"(E288/E276-1)*100","v":1.9897359069260823},{"$f":"(F288/F276-1)*100","v":0.60997528663453426},{"$f":"(G288/G276-1)*100","v":3.010417090307782},{"$f":"(H288/H276-1)*100","v":-0.3838117956977638},1.0400311156473663,null,170.43738655980988,88.381989531976942,86.352272492991602,151.16491000854424,219.84923496273203,286.74184727264924,95.550609484968106,null,205.59127546054842,84.189714796085653,158.63748182509369,175.02687951671217,192.09629643602111,218.57523360690286,100.98540481095013,null,null,null,null,null,null,null,null,null,null,null,null,null,null,null,null,null,null,null,null,100]
[null,"Agosto",82.873850955235767,104.64646543128821,54.334346199321644,85.855742844745151,115.00197560821459,131.13513229325642,94.225356234683801,null,-2.3569641905638483,{"$f":"(D289/D277-1)*100","v":7.8000135732336773E-3},{"$f":"(E289/E277-1)*100","v":1.1405142830520409},{"$f":"(F289/F277-1)*100","v":-0.16609688308668602},{"$f":"(G289/G277-1)*100","v":2.3836375611007377},{"$f":"(H289/H277-1)*100","v":-0.89498884396106426},-0.19584413152554658,null,169.91501690104286,88.131530165829304,86.390433262439956,150.62320158761793,219.80498444295839,286.1999892156752,94.971514990143419,null,205.02850409693437,84.218353484377587,158.99783342477861,175.43753812717367,191.13148559445943,218.24814160071804,100.79188743378289,null,null,null,null,null,null,null,null,null,null,null,null,null,null,null,null,null,null,null,null,100]
[null,"Septiembre",84.431525810905271,104.39973632246972,55.154798647641869,85.964878427531687,114.70610473818211,131.44948042398411,94.246963868285917,null,-1.1397409730092067,{"$f":"(D290/D278-1)*100","v":-0.50039773665030429},{"$f":"(E290/E278-1)*100","v":1.0722373603806901},{"$f":"(F290/F278-1)*100","v":-0.6467524997921803},{"$f":"(G290/G278-1)*100","v":1.4094486631895942},{"$f":"(H290/H278-1)*100","v":-1.1483008834081709},-0.67500051072627576,null,173.03437113517069,87.729678470622005,88.01837056821671,150.44188020729473,219.71053547825255,286.17326301081823,94.661965963978517,null,204.94047628927413,84.032471307822775,159.58424783766284,175.0038887498888,191.54214675822544,217.70589133390246,100.44033471069962,null,null,null,null,null,null,null,null,null,null,null,null,null,null,null,null,null,null,null,null,100]
[null,"Octubre",85.933081389335129,104.08238358147325,55.338744438386577,85.420759290058655,114.41191600176617,131.62232291535233,93.935709821511153,null,2.6975552472670028,{"$f":"(D291/D279-1)*100","v":-0.24697604039982668},{"$f":"(E291/E279-1)*100","v":2.1639410325237529},{"$f":"(F291/F279-1)*100","v":-0.76490565092790508},{"$f":"(G291/G279-1)*100","v":2.1866232794198526},{"$f":"(H291/H279-1)*100","v":-0.62066420096636987},-0.41485400737010236,null,176.35662075219088,87.421698398126736,88.383539105108639,149.97183269650486,219.68828509144504,286.43590590944206,94.210393440688151,null,205.22552886609034,83.992790508775272,159.71366897113774,175.56836762273863,192.01521377201104,217.61954930217416,100.29241661099802,null,null,null,null,null,null,null,null,null,null,null,null,null,null,null,null,null,null,null,null,100]
[null,"Noviembre",87.555037464683451,103.54388770276817,54.735792342732623,84.762970515658736,113.31967199650491,131.35231417422762,93.284630695255061,null,{"$f":"(C292/C280-1)*100","v":5.4072441229837009},{"$f":"(D292/D280-1)*100","v":-0.72561158615963572},{"$f":"(E292/E280-1)*100","v":2.0030276821962234},{"$f":"(F292/F280-1)*100","v":-1.6085605286500493},{"$f":"(G292/G280-1)*100","v":2.0320137256410353},{"$f":"(H292/H280-1)*100","v":-0.29657118361881007},{"$f":"(I292/I280-1)*100","v":-1.3326997412675512},null,180.89324870053866,86.923307677475293,87.281410376699725,149.95160492875507,218.9962488770972,285.50288288165319,93.35987959763375,null,206.60518679294094,83.948275080221336,159.45948097394856,176.90697248635675,193.25527952803435,217.35656861207491,100.08066591658012,null,null,null,null,null,null,null,null,null,null,null,null,null,null,null,null,null,null,null,null,100]
[null,"Diciembre",85.889700006440421,103.98334105590284,54.912507533169013,84.953422318442122,112.94603470192104,131.50083236044972,93.74683454358572,null,{"$f":"(C293/C281-1)*100","v":3.82853856526717},{"$f":"(D293/D281-1)*100","v":-0.42143107590087991},{"$f":"(E293/E281-1)*100","v":2.9145026060021229},{"$f":"(F293/F281-1)*100","v":-1.0233003835993792},{"$f":"(G293/G281-1)*100","v":2.2161526203809956},{"$f":"(H293/H281-1)*100","v":8.4910538863702811E-2},{"$f":"(I293/I281-1)*100","v":-1.0590956025748888},null,178.01175140122621,86.924408920239458,87.752203341010656,150.71309437368407,219.72500344567064,285.45122487920594,93.475042880052754,null,207.25622675114482,83.5945527788992,159.80367184653761,177.40673684545197,194.53981188941503,217.07180080561864,99.710079103090564,null,null,null,null,null,null,null,null,null,null,null,null,null,null,null,null,null,null,null,null,100]
[2019,"Enero",87.09538924491622,104.99194017455122,54.550832436620446,85.043766999658686,114.09345613617876,132.81106313406588,95.078395981686626,null,{"$f":"(C294/C282-1)*100","v":3.8281768674000682},{"$f":"(D294/D282-1)*100","v":-0.33620621064878176},{"$f":"(E294/E282-1)*100","v":0.60333894718107572},{"$f":"(F294/F282-1)*100","v":-2.1406978373775587},{"$f":"(G294/G282-1)*100","v":0.53841390913293985},{"$f":"(H294/H282-1)*100","v":2.0960912738925197},{"$f":"(I294/I282-1)*100","v":-1.1755037036136895},null,181.41175100161786,87.800311108565296,88.506967855184243,151.94158221152114,223.7006563784004,290.72670043752498,94.570940665220348,null,208.29087805265982,83.625763046759104,162.24677773343885,178.6628080716732,196.06791130193963,218.90247211111583,99.46627694837845,null,null,null,null,null,null,null,null,null,null,null,null,null,null,null,null,null,null,null,null,100]
[null,"Febrero",88.0044883207363,105.25283335317017,54.708806233216691,84.838668916002973,114.67175828370192,133.14506332473536,95.471313510079227,null,{"$f":"(C295/C283-1)*100","v":3.9306360515560135},-0.64895194214440455,-0.40086510096152272,-2.3673041406623629,9.8021413928628398E-2,0.51224253766031236,-1.512532362113328,null,182.69873103605715,87.808539805613847,88.53786321076943,152.19692534174251,224.5605157340953,291.06776541448028,94.633690738450184,null,207.60160592060197,83.426295528764584,161.83475624261249,179.39570161388266,195.82896355223295,218.60950616289691,99.122644550668511,null,null,null,null,null,null,null,null,null,null,null,null,null,null,null,null,null,null,null,null,100]
[null,"Marzo",87.567319214372475,105.47077233597668,54.619133372456368,85.020425650803375,113.06664184821933,132.79639206726918,95.323005259453623,null,{"$f":"(C296/C284-1)*100","v":3.839093145786876},-0.63903987180919941,-0.90915969676896857,-2.1727996306323827,-1.4936993963338918,-0.15461903817274303,-1.7364765777389879,null,180.63398396917674,87.829374946141513,87.959235125287378,152.42745543806669,224.6797648615325,290.83652741744197,94.515546163202714,null,206.28013463215527,83.273662457274355,161.04106691968121,179.28333605869963,198.71445829543842,219.00935928298125,99.152923164714394,null,null,null,null,null,null,null,null,null,null,null,null,null,null,null,null,null,null,null,null,100]
[null,"Abril",86.876968247939402,105.9584047116504,54.238167104057837,84.697852576490973,112.35791581364536,132.55115852742023,95.379797259569699,null,{"$f":"(C297/C285-1)*100","v":3.0956200745788642},-0.36135188611722269,-2.0818056121110096,-2.6804243432498431,-2.2941786365310302,-0.56565182468082398,-1.7295501988151329,null,179.4058866029813,87.933987535580641,87.504528119735284,152.54516175676594,224.49465467012669,290.42602515812837,94.45431064712929,null,206.50569445629401,82.989157655666432,161.33385914729524,180.10511142416723,199.80314964409729,219.10485610584033,99.029682764032543,null,null,null,null,null,null,null,null,null,null,null,null,null,null,null,null,null,null,null,null,100]
[null,"Mayo",85.347792765726055,105.62363218157357,54.149800788309491,84.316051419219079,111.67707909489133,132.01523416068915,94.748855886096976,null,{"$f":"(C298/C286-1)*100","v":2.190722788990862},{"$f":"(D298/D286-1)*100","v":6.3565891723094126E-2},{"$f":"(E298/E286-1)*100","v":-1.242862926802113},{"$f":"(F298/F286-1)*100","v":-2.7982981789044681},{"$f":"(G298/G286-1)*100","v":-2.0618354890858837},{"$f":"(H298/H286-1)*100","v":7.2320206286935473E-2},{"$f":"(I298/I286-1)*100","v":-1.0314246856115261},null,176.15295085327054,87.571277022197805,87.443054274029166,152.12788744148648,224.47091969874327,288.46848170465012,93.750720509293856,null,206.39426650059778,82.908791539811233,161.48361212975581,180.42577288766429,200.99999168854669,218.51151008339374,98.946546248534077,null,null,null,null,null,null,null,null,null,null,null,null,null,null,null,null,null,null,null,null,100]
[null,"Junio",84.3026100434287,105.8122719665776,53.931274686669177,84.456394591838645,112.24551117521021,132.72560278627631,95.243653267954116,null,{"$f":"(C299/C287-1)*100","v":1.3160656270958082},{"$f":"(D299/D287-1)*100","v":0.78101419541807271},{"$f":"(E299/E287-1)*100","v":-1.0333527456584224},{"$f":"(F299/F287-1)*100","v":-2.3675030640676109},{"$f":"(G299/G287-1)*100","v":-1.1564306047720851},{"$f":"(H299/H287-1)*100","v":1.3609469445755362},{"$f":"(I299/I287-1)*100","v":0.51937882021442228},null,174.4029568748139,87.497297170540875,87.801314487239722,152.3918548240955,225.64321309822489,289.2623472666038,93.88419441643498,null,206.87729215616196,82.691067438924478,162.80222375115233,180.43850387004528,201.02649160375415,217.94012699448308,98.572651504983213,null,null,null,null,null,null,null,null,null,null,null,null,null,null,null,null,null,null,null,null,100]
[null,"Julio",82.573112706934623,106.50559826698115,53.978799934542245,84.477562101696805,112.68081933998491,133.16555708480331,95.480030136532676,null,{"$f":"(C300/C288-1)*100","v":-0.39561211994423306},{"$f":"(D300/D288-1)*100","v":1.4536557704377007},{"$f":"(E300/E288-1)*100","v":-0.83572040039483486},{"$f":"(F300/F288-1)*100","v":-2.1873258615142666},{"$f":"(G300/G288-1)*100","v":-1.5435824543271304},{"$f":"(H300/H288-1)*100","v":1.5083533326339493},{"$f":"(I300/I288-1)*100","v":0.91081100028307382},null,171.94206997587312,87.707031158116649,87.713718047563091,152.7295493102348,226.97913491913252,291.09444598546804,94.234327028885161,null,208.23009371842795,82.349691082208182,162.49660636014457,180.7930360565733,201.43546723269941,218.59589848754322,98.695326021717619,null,null,null,null,null,null,null,null,null,null,null,null,null,null,null,null,null,null,null,null,100]
[null,"Agosto",80.845185118058467,106.21773076163669,54.034995911546666,84.051015913935544,112.13871057259179,132.48017521681075,94.777498761971174,null,{"$f":"(C301/C289-1)*100","v":-2.4478961865463278},{"$f":"(D301/D289-1)*100","v":1.5014987117555334},{"$f":"(E301/E289-1)*100","v":-0.55094117940949205},{"$f":"(F301/F289-1)*100","v":-2.1020456768665263},{"$f":"(G301/G289-1)*100","v":-2.4897529111824079},{"$f":"(H301/H289-1)*100","v":1.0256922763812959},{"$f":"(I301/I289-1)*100","v":0.58598083292162872},null,168.07645143107496,87.178961288284498,87.008466177084856,152.09228111298228,225.77693426632212,290.13318329614799,93.164120608840577,null,207.89914845965461,82.075714349351799,161.02243501510495,180.95234121705076,201.3371949021724,219.00120740430017,98.297720266724369,null,null,null,null,null,null,null,null,null,null,null,null,null,null,null,null,null,null,null,null,100]
[null,"Septiembre",82.152445292879065,106.16364778467371,54.583721396148675,83.949692350574182,112.40077789843917,133.1133281562291,94.644491026140088,null,{"$f":"(C302/C290-1)*100","v":-2.6993240926742046},{"$f":"(D302/D290-1)*100","v":1.68957463336461},{"$f":"(E302/E290-1)*100","v":-1.0354080977460156},{"$f":"(F302/F290-1)*100","v":-2.34419697185555},{"$f":"(G302/G290-1)*100","v":-2.0097682202746436},{"$f":"(H302/H290-1)*100","v":1.2657697290840098},{"$f":"(I302/I290-1)*100","v":0.42179306530205629},null,170.34171832543873,86.923747097656062,87.238862157651894,151.99257662347367,225.66985185382759,291.93702072819121,92.772929843412527,null,207.34832386079179,81.877129235384828,159.82578674785503,181.05197573417206,200.77250004242302,219.31464322307218,98.022535530133865,null,null,null,null,null,null,null,null,null,null,null,null,null,null,null,null,null,null,null,null,100]
[null,"Octubre",83.009958829425955,106.49071297655986,54.760942070198503,84.125694169617702,112.92748498199957,135.70912207893753,95.135732848357392,null,-3.4016266060161948,2.3138684109798691,-1.044119041825009,-1.5161011576160011,-1.2974444198134871,3.1049438066926172,1.2774939680835207,null,171.44180960718495,86.914148099794545,87.883894235719467,152.22552238616805,226.76363497598038,298.54580508019757,92.894618509667964,null,206.5316162359197,81.616645874955879,160.48645423787701,180.95009365301004,200.80464469046314,219.98948965755102,97.644298023896368,null,null,null,null,null,null,null,null,null,null,null,null,null,null,null,null,null,null,null,null,100]
[null,"Noviembre",82.358498172626668,106.79162334036886,54.287407762108849,84.112912483969524,112.88309871186787,135.89629596904049,95.492688688486339,null,-5.9351688292668232,3.1365788069727341,-0.81917984819910306,-0.76691275415969873,-0.38525816122243484,3.4593846506470127,2.367011561041199,null,170.31826247427696,87.110745285328179,87.404250163940262,152.52673861095079,228.12374008371964,299.80502442557827,93.152221795845207,null,206.80107852049844,81.570766096219643,161.00280666734298,181.33569996166736,202.08848152370575,220.61309492488226,97.549061687564247,null,null,null,null,null,null,null,null,null,null,null,null,null,null,null,null,null,null,null,null,100]
[null,"Diciembre",81.508636185809962,107.04137924062242,54.021453652352228,84.060161118802995,112.28951970147767,136.15236273487736,96.003710628797705,null,-5.1008023317137496,2.940892409944329,-1.6226792780835164,-1.0514717068028201,-0.58126431988160254,3.5372630658926818,2.4074157769697235,null,168.1631689995987,87.246541269461261,87.40560783751458,152.87732450116928,228.96196854239363,300.64612810987967,93.388405315334992,null,206.31331459926287,81.507302959294279,161.79795604909407,181.86656136086435,203.90323972449997,220.8159462464215,97.275828927514169,null,null,null,null,null,null,null,null,null,null,null,null,null,null,null,null,null,null,null,null,100]
[2020,"Enero",82.195838432185639,110.74833561164589,54.701901490706234,84.933810883727745,114.49473846631021,132.06634300704229,87.029051456432967,null,-5.6254996449385146,5.4827022222130095,0.27693262840911004,-0.12929356237404432,0.35171371235567239,-0.56073651505359479,-8.4660079107814035,null,170.23453857457059,86.681088401264418,87.307143677977322,152.03651430213071,229.36365611824229,305.9452823664293,95.287949692328851,null,207.10846415298735,78.268524689367297,159.60531772887393,179.00587848373468,200.32680906619302,231.66029693887648,109.48981759272687,null,null,null,null,null,null,null,null,null,null,null,null,null,null,null,null,null,null,null,null,100]
[null,"Febrero",81.903420909050936,110.8425369400712,54.518237671205199,84.445963459147606,114.51630185794093,132.48894751405632,86.949256177719263,null,-6.9326775578192663,5.3107393015683346,-0.34833251743626725,-0.46288498142772472,-0.13556644468325496,-0.49278267950408905,-8.9263015444532083,null,169.65476833728692,86.404990230145131,86.410570410739751,151.53200974353371,229.35150378619471,305.45759930662024,94.731200627667221,null,207.14002718601807,77.952916466411608,158.49846602136054,179.44257313949683,200.27847569746746,230.55326881075337,108.9499839240052,null,null,null,null,null,null,null,null,null,null,null,null,null,null,null,null,null,null,null,null,100]
[null,"Marzo",80.810741525468487,108.99273471777397,53.370463074373141,83.261051219909106,112.57616418387222,132.54274177951737,86.017501568519606,null,{"$f":"(C308/C296-1)*100","v":-7.715866774867564},{"$f":"(D308/D296-1)*100","v":3.3392780803558564},{"$f":"(E308/E296-1)*100","v":-2.2861408099765113},{"$f":"(F308/F296-1)*100","v":-2.0693550019619811},{"$f":"(G308/G296-1)*100","v":-0.43379519929983568},{"$f":"(H308/H296-1)*100","v":-0.19100691201258124},{"$f":"(I308/I296-1)*100","v":-9.7620754461170804},null,167.59137876544136,85.133788495868586,85.138933340222778,150.0246294738927,225.57573046701376,304.45862372245614,93.393758035791421,null,207.38750270299514,78.109599430011741,159.52444186511826,180.18584593370989,200.37610279435154,229.70599493778238,108.5752972741205,null,null,null,null,null,null,null,null,null,null,null,null,null,null,null,null,null,null,null,null,100]
[null,"Abril",79.636563656547693,107.90339298919909,52.161123633960173,82.055081305903357,111.1544569779246,132.96499128659732,85.906838538647847,null,{"$f":"(C309/C297-1)*100","v":-8.3340898484489223},{"$f":"(D309/D297-1)*100","v":1.8356149121361964},{"$f":"(E309/E297-1)*100","v":-3.8294868374013857},{"$f":"(F309/F297-1)*100","v":-3.1202340911783089},{"$f":"(G309/G297-1)*100","v":-1.0710939474142589},{"$f":"(H309/H297-1)*100","v":0.31220606728343814},-9.9318293738262291,null,165.22058440237404,84.290235951056303,84.272132860045133,149.14081037571916,223.46970672215062,304.23344543867785,92.409301120155547,null,207.46824927671227,78.116390612011216,161.56119153303413,181.75694667794986,201.04430609249607,228.80717886328634,107.56920251300177,null,null,null,null,null,null,null,null,null,null,null,null,null,null,null,null,null,null,null,null,100]
[null,"Mayo",79.918453641258679,107.66633160104665,52.080811478495342,82.762631120710353,111.28018613986399,135.70579196873524,85.961088398265986,null,-6.3614288647985795,1.9339416542327958,-3.8208622740876774,-1.8423779011959684,-0.3553933880112492,2.7955544915020392,-9.2748006354770869,null,165.69596158579301,84.38930055101423,84.356037268986412,149.50340431861034,224.9510269068245,310.25922667987084,92.545409446465342,null,207.33129088004637,78.380399235403928,161.9714341505946,180.6411931256242,202.14832011881415,228.62637045834441,107.65965295564146,null,null,null,null,null,null,null,null,null,null,null,null,null,null,null,null,null,null,null,null,100]
[null,"Junio",82.106490928837388,108.33979585682529,52.077542590610236,83.279996964775378,112.40806895420975,141.1564575786262,86.575344587619355,null,{"$f":"(C311/C299-1)*100","v":-2.6050428491596778},{"$f":"(D311/D299-1)*100","v":2.388686910575033},{"$f":"(E311/E299-1)*100","v":-3.4372117233067212},{"$f":"(F311/F299-1)*100","v":-1.3929053362372046},{"$f":"(G311/G299-1)*100","v":0.14482341190980019},{"$f":"(H311/H299-1)*100","v":6.3520938050858344},-9.1011929749772786,null,169.40244283459322,84.928027005963358,85.169329930979458,150.31143425201591,227.82399476885828,326.71119274308029,93.437488318100833,null,206.32040283077765,78.390425544274251,163.54329658084862,180.48924079042962,202.67583714267349,231.45323873057487,107.92621012733778,null,null,null,null,null,null,null,null,null,null,null,null,null,null,null,null,null,null,null,null,100]
[null,"Julio",83.141873736034924,109.13936240546774,52.123589399674124,82.836418506397166,113.41892565315598,140.2993761116926,87.382252725723404,null,{"$f":"(C312/C300-1)*100","v":0.68879688612311085},{"$f":"(D312/D300-1)*100","v":2.4728879808594062},{"$f":"(E312/E300-1)*100","v":-3.4369243797895743},{"$f":"(F312/F300-1)*100","v":-1.9426976281867292},{"$f":"(G312/G300-1)*100","v":0.6550416632524092},{"$f":"(H312/H300-1)*100","v":5.3571052328090119},-8.4811215489037579,null,171.40878779458134,85.08750870954988,85.304961933472271,150.07841378734923,229.27065048563037,329.49606928546382,93.710052434225361,null,206.16421075471894,77.962255628210542,163.65903215024096,181.17443570518347,202.14496757512771,234.85212722767304,107.24151588122102,null,null,null,null,null,null,null,null,null,null,null,null,null,null,null,null,null,null,null,null,100]
[null,"Agosto",85.318668507818757,110.44535396657223,52.24847356112388,82.712142385652399,115.04133789076344,140.38594644100593,87.84999312388986,null,5.5333949489108747,3.9801482997436244,-3.3062320451495153,-1.5929296198562204,2.5884258017151662,5.9675126570877257,-7.309230279941648,null,175.61719569541444,85.38903762545938,85.741313145446938,149.91957212769282,230.67684001143624,331.30864027660459,94.122690645186438,null,205.83677496012558,77.31338128655328,164.10300110517261,181.25461123794869,200.5164788942854,235.99843764691198,107.14023678118055,null,null,null,null,null,null,null,null,null,null,null,null,null,null,null,null,null,null,null,null,100]
[null,"Septiembre",86.285477288836177,111.20799315809509,52.811610433061432,82.521505955185788,115.92447086586233,141.5793346233045,88.150084756648283,null,5.030929975635634,4.7514808304746303,-3.2465924230887677,-1.7012407733720813,3.134936459787685,6.359999095762392,-6.8618957100187732,null,177.86342196093477,85.642752694561324,86.700863560130742,149.87479220675485,231.63168825405731,335.7693821317892,94.402877595597985,null,206.13367109918875,77.011328288974866,164.17008087648423,181.61907065552828,199.81259049444466,237.15988143690589,107.09334864079993,null,null,null,null,null,null,null,null,null,null,null,null,null,null,null,null,null,null,null,null,100]
[null,"Octubre",87.226621786993917,111.51021388928415,52.586627176208196,82.044289405828266,116.19905860350187,142.21050020389902,88.435753876768572,null,{"$f":"(C315/C303-1)*100","v":5.0797073231088063},{"$f":"(D315/D303-1)*100","v":4.7135574290211979},{"$f":"(E315/E303-1)*100","v":-3.9705578680568232},{"$f":"(F315/F303-1)*100","v":-2.4741605811808509},{"$f":"(G315/G303-1)*100","v":2.8970570114297489},{"$f":"(H315/H303-1)*100","v":4.7906714194052791},-7.0425472858534839,null,179.69124850580408,85.82749365874534,87.117530351951217,149.4785877054216,232.23760127370113,339.3680434983408,94.470033048687526,null,206.00505307268162,76.968280003445628,165.66479926547916,182.1925557378317,199.86186124463339,238.63782421956228,106.82334791913175,null,null,null,null,null,null,null,null,null,null,null,null,null,null,null,null,null,null,null,null,100]
[null,"Noviembre",88.317150785317637,112.15897943520785,52.725004264750673,81.708959896742186,116.24162365421334,141.96473619229215,null,null,{"$f":"(C316/C304-1)*100","v":7.2350185407720646},{"$f":"(D316/D304-1)*100","v":5.0260085266538468},{"$f":"(E316/E304-1)*100","v":-2.8780219239878502},{"$f":"(F316/F304-1)*100","v":-2.8580065964134649},2.9752239092213806,4.4654934705756544,null,null,182.10189097124234,86.417667055358606,87.877867746014843,149.63027962542446,234.09960255964148,341.18396038073951,null,null,206.19085800661497,77.049263010885795,166.67209224820419,183.12591399341798,201.39051331218755,240.33007740640863,null,null,null,null,null,null,null,null,null,null,null,null,null,null,null,null,null,null,null,null,null,100]
[null,"Diciembre",88.705008925352502,113.02351167270356,53.423247105583137,81.572283776414537,116.0371355722427,141.77791884589089,null,null,{"$f":"(C317/C305-1)*100","v":8.82896963597506},{"$f":"(D317/D305-1)*100","v":5.5886167335658765},{"$f":"(E317/E305-1)*100","v":-1.10734996251447},{"$f":"(F317/F305-1)*100","v":-2.9596390362282565},{"$f":"(G317/G305-1)*100","v":3.3374582781439344},{"$f":"(H317/H305-1)*100","v":4.1318093920763577},null,null,183.39156142075504,86.971585554315993,88.772794104969691,149.89246421493772,236.09469836021248,341.53756550735864,null,null,206.74318580485536,76.949994091645806,166.16884767323,183.75415922617208,203.46477633724766,240.89616231325945,null,null,null,null,null,null,null,null,null,null,null,null,null,null,null,null,null,null,null,null,null,100]
[2021,"Enero",88.126498528088362,111.22604514071467,52.624017706926097,80.117900417377115,114.66623349808228,138.11481472093229,null,null,{"$f":"(C318/C306-1)*100","v":7.2152802490064172},{"$f":"(D318/D306-1)*100","v":0.43134691499469024},{"$f":"(E318/E306-1)*100","v":-3.7985586006240912},{"$f":"(F318/F306-1)*100","v":-5.6701923724386871},{"$f":"(G318/G306-1)*100","v":0.14978420324749386},{"$f":"(H318/H306-1)*100","v":4.5798737029974834},null,null,185.17754877434839,87.044534738906592,88.6528189932462,149.59800290673047,236.77307652397914,341.46305351356443,null,null,210.12697868090964,78.259129531023518,168.46455830676376,186.72232063920075,206.48892817076705,247.23130114861837]
[null,"Febrero"]
[null,"Marzo"]
[null,"Abril"]
[null,"Mayo"]
[null,"Junio"]
[null,"Julio"]
[null,"Agosto"]
[null,"Septiembre"]
[null,"Octubre"]
[null,"Noviembre"]
[null,"Diciembre"]
["Notas:",null,null,null,null,null,null,null,null,null,null,null,null,null,null,null,null,null,null,null,null,null,null,null,null,null,null,null,null,null,null,null,null,null,null,null,null,null,null,null,null,null,null,null,null,null,null,null,null,null,null,null,null,100]
["El ITCER GLOBAL incluye dentro de los socios comerciales al resto de países centroamericanos, República Dominicana, Panamá, Brasil, Canadá, China, Colombia, Corea del Sur, Haití, Japón, México, \nEstados Unidos y Zona Euro.",null,null,null,null,null,null,null,null,null,null,null,null,null,null,null,null,null,null,null,null,null,null,null,null,null,null,null,null,null,null,null,null,null,null,null,null,null,null,null,null,null,null,null,null,null,null,null,null,null,null,null,null,100]
["Valores sobre (bajo) 100 significan una depreciación (apreciación) real de la moneda. El índice se descompone en efecto precio y efecto tipo de cambio, los cuales divididos generan el índice.",null,null,null,null,null,null,null,null,null,null,null,null,null,null,null,null,null,null,null,null,null,null,null,null,null,null,null,null,null,null,null,null,null,null,null,null,null,null,null,null,null,null,null,null,null,null,null,null,null,null,null,null,100]
["Fuente: Cálculos de la Secretaría Ejecutiva del Consejo Monetario Centroamericano",null,null,null,null,null,null,null,null,null,null,null,null,null,null,null,null,null,null,null,null,null,null,null,null,null,null,null,null,null,null,null,null,null,null,null,null,null,null,null,null,null,null,null,null,null,null,null,null,null,null,null,null,100]
[{"$f":"TODAY()","v":"2021-02-19"}]

{"sheet":"ITCER RESTOM","index":5,"n_rows":334,"n_cols":54,"rows_kept":334,"cut":false,"hidden":false,"merged":[[3,2,3,8],[3,10,3,16],[3,18,3,24],[3,26,3,32],[331,0,331,15]]}
[]
["Secretaría Ejecutiva"]
["Consejo Monetario Centroamericano"]
[null,null,"ITCER RESTO DEL MUNDO\nPeriodo de referencia Diciembre 2000=100",null,null,null,null,null,null,null,"VARIACION INTERANUAL",null,null,null,null,null,null,null,"EFECTO TIPO DE CAMBIO",null,null,null,null,null,null,null,"EFECTO PRECIO"]
["Año","MES","COSTA RICA ","EL SALVADOR ","GUATEMALA ","HONDURAS","NICARAGUA ","REPÚBLICA\nDOMINICANA","PANAMÁ",null,"COSTA RICA","EL\nSALVADOR","GUATEMALA","HONDURAS","NICARAGUA","REPÚBLICA\nDOMINICANA","PANAMÁ",null,"COSTA\n RICA","EL\nSALVADOR","GUATEMALA","HONDURAS","NICARAGUA","REPÚBLICA\nDOMINICANA","PANAMÁ",null,"COSTA\n RICA","EL\nSALVADOR","GUATEMALA","HONDURAS","NICARAGUA","REPÚBLICA\nDOMINICANA","PANAMÁ"]
[1995,"Enero",94.628107977496839,120.22078630612882,104.5696299132826,140.34310057407851,95.951077696251829,78.372573322740905,101.80167505583098,null,null,null,null,null,null,null,null,null,59.779419083507733,111.3777109988273,84.494671356198538,67.271049690457176,61.881776612026314,85.437179133463147,114.43305082057525,null,63.173004682418089,92.644304218087868,80.802305053836562,47.933278811200928,64.493050101972557,109.01413021316777,112.40782703999403]
[null,"Febrero",95.324561280486066,119.97340432719838,105.60780791024062,132.92375075170571,97.069207776292288,78.673855080647897,102.73541613350635,null,null,null,null,null,null,null,null,null,60.735145437571724,111.64715455601662,84.402220825720349,66.512284000780539,62.705732128848588,85.576578589714501,114.77820697376642,null,63.71405713461683,93.059920389960809,79.920436278211952,50.037922963084178,64.598994434323103,108.77384679064053,111.72214149073021]
[null,"Marzo",103.82742479225973,119.36673638154788,104.97358988087952,133.25393943143146,98.48890860571656,78.415345754210037,103.71578098427493,null,null,null,null,null,null,null,null,null,61.93960063764721,111.57136657012012,83.598602889394201,67.276568197975564,63.554268935748539,85.458192369799633,115.50523291600589,null,59.656300598399092,93.469395203609835,79.637747917603917,50.487489139181584,64.529366641859284,108.98146472205217,111.36707627310685]
[null,"Abril",106.62411632361064,121.14079318060028,107.45726298926085,131.8190621168053,102.16318952009628,79.926895942647306,105.70216672105349,null,null,null,null,null,null,null,null,null,63.523504548345123,112.99102789237688,85.324311333222994,67.862565436768222,65.334704741265952,86.311343735489316,117.06892212847688,null,59.577051363827906,93.272484788775074,79.403019358263563,51.481602392706293,63.951316563402827,107.98785905238117,110.75356897595117]
[null,"Mayo",107.47821031178182,120.8685546238034,106.84148826693063,130.10572844370188,102.83298115856586,80.007819494895571,105.73680438263129,null,null,null,null,null,null,null,null,null,64.313632588290076,112.9851400048685,85.561714059851411,67.955743338232281,65.90440570179635,86.377455555484275,116.91175627253061,null,59.838763970598031,93.477695961971577,80.08285493560868,52.231169335205294,64.088782566921225,107.96126691216111,110.56864916161109]
[null,"Junio",107.80456722591352,120.10168390796228,106.04311125266945,131.14818967969225,102.15632845094167,79.638739176886588,105.83421058599843,null,null,null,null,null,null,null,null,null,65.242331642159584,112.79623621437923,85.58560366085004,68.915405349507921,66.438141615177642,86.23961868090575,116.86226120412584,null,60.519079405456722,93.917281210493726,80.708310657657719,52.547736661727761,65.035757081934577,108.2885283873692,110.42011893608472]
[null,"Julio",107.61672309774934,117.24274243099725,106.35176391998827,131.31077418609848,101.96247547908355,79.205684309377048,105.64903410555337,null,null,null,null,null,null,null,null,null,66.151287515191967,112.83315337018678,85.848690177626011,69.874909259065106,67.058952927437502,86.249769540409176,116.6665405482924,null,61.469338232038609,96.238923647315971,80.721453987554582,53.213386100394011,65.768266818113773,108.89340871485682,110.42840243265405]
[null,"Agosto",106.9439171733237,115.60855623287193,105.74727968395156,130.57874513706815,103.37765655387706,77.975309573432114,104.29187424139525,null,null,null,null,null,null,null,null,null,66.251941070542998,111.64974588228418,85.537558508759176,70.158067922437141,66.679822634677478,85.552988463625397,114.98283169414098,null,61.950172409683354,96.575677026349624,80.88866093237246,53.728551188627527,64.501193833820494,109.71804912561085,110.25099753025852]
[null,"Septiembre",104.99432131546939,111.6352667638121,103.53945327458146,127.84808864504252,100.60298474449,75.579819759961282,102.64305817234913,null,null,null,null,null,null,null,null,null,66.756790685515739,110.90472949675714,86.067058850969175,70.595415213218686,66.647229129951796,85.101185922816384,113.91978395475621,null,63.581334541833066,99.345603510223555,83.124892134328391,55.218201508838995,66.247765212156935,112.59776246238032,110.9863501567463]
[null,"Octubre",103.90561244345758,111.42072006519491,103.40915171536287,127.93904604237188,98.066278090336738,75.193559436805955,103.15002530940122,null,null,null,null,null,null,null,null,null,67.822570722775666,110.79738136215416,86.811058314311765,71.743298067056074,67.258966417843808,84.994456706476285,113.94286240544656,null,65.273250527908431,99.440554052535276,83.949105929484944,56.07615523668634,68.585213722382903,113.03422439777862,110.46324231494073]
[null,"Noviembre",102.54174895285031,110.09179710105442,101.72346846336968,128.63877027313043,95.394626462166002,74.025482628357366,102.56210233108504,null,null,null,null,null,null,null,null,null,68.440823366185015,109.80610912035154,86.334015044664454,73.095943111204164,67.203741270284027,84.363872320794528,113.19276324476884,null,66.744349560153069,99.740500211436597,84.871285209620112,56.822638273052704,70.448141328943066,113.96598755639424,110.3650965337728]
[null,"Diciembre",102.71963247570542,109.97823346219229,100.26864500173595,129.17204998561013,97.168805450079162,100.41998477511017,102.18703628894774,null,null,null,null,null,null,null,null,null,69.221683842330478,109.57608567278552,85.244746352302002,74.444726105428799,67.65173773478945,84.255916398746677,112.97412735984736,null,67.388952018205813,99.634338744361614,85.016354166176427,57.632224706290572,69.622897411809575,83.903534328786449,110.55622265078485]
[1996,"Enero",103.04154222838095,110.3892114546242,102.30740266113921,131.8738232463912,99.665905358923226,97.351117590097161,106.16376430359142,null,{"$f":"(C18/C6-1)*100","v":8.8910519619444184},{"$f":"(D18/D6-1)*100","v":-8.1779325802025618},-2.1633692822853101,-6.0346944688006943,3.8715851367832066,24.215798285966649,4.2848894631332346,null,70.282834105004028,110.52005503522422,87.614387616318808,76.018995953693576,68.773356017866419,79.781503904863484,117.55264948442911,null,68.208251337338666,100.11852931901213,85.638365687489554,57.645250651193116,69.003894330960435,81.952324616126532,110.72765764811187]
[null,"Febrero",103.62531569888526,110.55064525338447,103.27649075450203,131.37366723837846,99.941911719529045,97.569195807806295,106.66808008427351,null,{"$f":"(C19/C7-1)*100","v":8.7078863064208534},-7.8540399238114622,-2.2075234794382337,-1.166144879723352,2.959438949844162,24.017306267487392,3.8279534933275627,null,71.011490027174304,110.41089045489163,88.48808944377457,77.545605000999075,69.331313644425194,79.761088147042258,117.41973187242316,null,68.527163992937489,99.8735830096943,85.680767033534394,59.026749143184091,69.371610420053216,81.748227487861229,110.07953998952196]
[null,"Marzo",104.56858066304949,110.48369714069099,102.94487520222772,132.68721923448285,100.45464404558889,97.931162041610392,106.78227282425846,null,0.71383439613634803,-7.441804568119248,-1.9325953136916763,-0.42529339047437942,1.9958952410995101,24.887751370212598,2.956629946650513,null,71.635490469637588,110.23882686271027,88.554775496253015,79.101363009153729,69.850496015650151,79.733210555532736,117.16198180085011,null,68.505750021096745,99.778365239109533,86.021548253172966,59.614907498639333,69.534362178367999,81.417608954394467,109.7204420753195]
[null,"Abril",105.04107736697345,110.42535648203119,101.5276766527702,132.06927444660712,100.80007257356591,98.224529360789489,106.87010203838398,null,-1.4846912792529587,-8.8454404311140706,-5.5180880021886036,0.18981498258583418,-1.3342544931628564,22.892961377196364,1.1049303468041893,null,72.097879135590688,109.98729745410745,87.776372157496823,79.97170699886972,70.283938393828223,79.718542589550111,116.78762554829709,null,68.637794796894752,99.603298515957221,86.455609988689545,60.552847991302194,69.72607915786331,81.159505785703615,109.27997945239267]
[null,"Mayo",104.4027222591467,109.76136632621058,100.35653964792375,130.98622329743685,100.10496978161049,98.210355740942092,107.16960915160182,null,-2.8614991296500802,-9.1894772235535775,-6.0696913944188076,0.6767533330524822,-2.6528564534649024,22.750946546178309,1.3550672136691588,null,72.611032960006014,109.7866197945865,86.967915688584696,80.741067442376476,70.776982530816923,79.698917322460389,116.47320232753984,null,69.548984345228206,100.023007611167,86.658942201166212,61.640885132655335,70.702765991762789,81.151235754291633,108.68118606533051]
[null,"Junio",104.1283465796878,107.92770358800141,100.33440744009003,130.94938844807663,100.58235065791746,97.910621778993146,107.03023077233429,null,-3.4100787571660907,-10.136394365036693,-5.3833801603361708,-0.15158518931992493,-1.5407540745555282,22.943460420088591,1.1300884465557548,null,73.311847023352399,109.5775512584041,87.351052670243362,82.659720212850019,71.31220002111327,79.651912951444032,116.08150642679914,null,70.405273329916938,101.52866003403606,87.059917827691294,63.123410649318011,70.89931737989248,81.351656750006924,108.45674683605789]
[null,"Julio",104.43019665228998,108.33958198029516,98.792532273376452,134.60493985242937,101.70176015078194,97.884326967546912,107.1049861462637,null,-2.9609956089863609,-7.5937838591092373,-7.1077633016964903,2.5086788854525199,-0.25569733088237623,23.58245222048858,1.3781025572422223,null,74.224702432764289,109.75448548774402,86.957608157664367,86.73127811086934,72.178160644664459,79.663946394210072,116.20700996943958,null,71.075900278060686,101.30598944687289,88.020426399272012,64.433948862467389,70.970414413333557,81.385803899558184,108.49822604033213]
[null,"Agosto",105.03858222211336,105.77430030139084,98.128131570185005,134.53197063932129,104.16293943823742,98.001693475808935,107.56509984502568,null,-1.7816206864036621,-8.5065121924642106,-7.2050535356918965,3.0274647670288424,0.75962534897575651,25.682980948626131,3.1385240963780037,null,75.18588034072333,110.10948256120659,86.958251197724337,88.948823841347362,73.186892288961062,79.720976990962626,116.61762390996304,null,71.579298530263998,104.09852133028834,88.61704569961006,66.117238466548727,70.261930667151191,81.346530007301581,108.41585614477165]
[null,"Septiembre",105.2553402926102,106.48373957949828,97.57346798555244,133.94240418925892,104.08082953270119,97.741427801229889,107.29984637750528,null,0.24860294715991493,-4.6146055217594961,-5.7620405558908345,4.7668413417870203,3.4569996079581111,29.322123434076786,4.5368759349871279,null,75.712725781176246,109.74837182994585,86.332025360472059,89.748212886233659,73.570882014458164,79.670700962229517,116.1719417852549,null,71.932431713863267,103.06585048885353,88.478996537516849,67.005078361457933,70.686294819876423,81.511701593157014,108.26850709229869]
[null,"Octubre",104.97921191238633,106.36199439578466,97.239804054823423,133.45346346191496,102.26788030579418,97.752355108810178,106.79573062204821,null,1.0332449265076704,-4.54020191796487,-5.9659590647458183,4.3101911340786225,4.2844515946521389,30.000967956521652,3.5343717092764626,null,76.258560943750197,109.3109874589221,86.05407875723769,90.456626197772422,73.928035949959451,79.600212431835843,115.8101079740203,null,72.641582609130424,102.7726003822041,88.496762816100215,67.781400235885968,72.288616649631408,81.430480465898953,108.44076565558048]
[null,"Noviembre",105.43419529723538,107.34367626881055,95.720128316858251,131.89765990563257,102.23799779301703,97.319724898693849,107.17611707295177,null,2.8207499617692644,-2.4962085319774951,-5.9016274584396626,2.5333650388469575,7.1737492819526238,31.467869500134849,4.4987521092070049,null,77.214194694170146,109.4550186931265,85.442600982392136,91.002070884590992,74.816639655699618,79.600875306901898,116.12669812145676,null,73.234489509301355,101.96689967933344,89.262940287287478,68.994454450290689,73.178897543717028,81.793156926577211,108.35128318971714]
[null,"Diciembre",105.05443210142759,106.82862377747117,94.70094604954582,131.8158079305185,101.0362707933744,98.59686448967939,105.88782504286687,null,2.2729828460731571,-2.8638482230248563,-5.5527816817448112,2.046695043705582,3.9801511661910594,-1.8154954808185297,3.6215834104970535,null,77.577667403630699,108.95681769238239,84.936846473805232,91.792835452437942,75.061552223712695,81.511326380576719,115.40387802638405,null,73.845211336472971,101.99215700779254,89.689543786994292,69.637198218913852,74.291689147176015,82.671316986057818,108.98691892072083]
[1997,"Enero",102.9427727804718,106.76879123532511,94.101673841483461,129.25573378606308,101.45075718929417,101.24351315644981,109.25264433273018,null,-9.5854007784779149E-2,-3.2796866392937996,-8.0206598996893863,-1.9852988226757629,1.7908349138486379,3.9983059904271645,2.9095426762616006,null,77.620663412568661,109.98029067991526,85.230912032570743,91.868612350886806,74.835838319132009,85.877987212960377,118.85656781056852,null,75.40176091632658,103.00790091133634,90.573215707240536,71.075077027486174,73.765677450290383,84.823199566627679,108.79056386826618]
[null,"Febrero",102.58969573560444,104.55684116859517,92.218570677576068,123.49001843360544,101.47020155802092,101.90156322850346,107.99430533787258,null,-0.99938895847625497,-5.4217721398652881,-10.707102842225424,-6.0009353247847503,1.5291781117623415,4.4403024795153012,1.2433197002807983,null,77.487434453380573,108.7276572374974,85.060307436259308,89.572321029345105,74.554989401678938,86.02677495381927,116.8905706863286,null,75.531400983079479,103.98904177123799,92.237720462677515,72.534057542070713,73.4747623015691,84.421447746501528,108.23771709130683]
[null,"Marzo",102.34042207280334,104.17780630920004,90.631595532761921,123.09214188384961,102.29660091871078,102.3639901797691,107.82973807974204,null,-2.1308107809418719,-5.7075306083041122,-11.961041912263493,-7.2313500923378076,1.8336204270316792,4.5264735409503487,0.98093553150671031,null,77.927175390083747,108.23822202315709,83.361521338292917,89.713413453362108,74.928008686259972,86.302519554632951,116.25703669331054,null,76.14505960767643,103.89758227573513,91.978432960676528,72.88313622653196,73.245843960935659,84.309452379758369,107.81537520506295]
[null,"Abril",102.01163196427561,104.2271982775526,90.876664967936051,122.18275603005934,102.95809028475566,101.61591904816102,108.0810326216092,null,-2.8840578168425668,-5.6129845553065323,-10.490746992331113,-7.4858580528847423,2.1408890451093399,3.4526912059966053,1.1330863919174483,null,78.483187741375232,108.00096747257861,83.256525058405487,89.336610704390836,75.430097456328255,86.262959485979536,115.74907888202097,null,76.935528066897291,103.62071441753294,91.614855241200601,73.117200501200259,73.262914305916098,84.8911866309993,107.09471965100255]
[null,"Mayo",102.80880982467187,104.99202268150592,90.796347132743421,123.91792553415061,103.80174237791618,101.48099588111521,108.37041448692791,null,-1.5266962393168715,-4.3451933994062886,-9.5262277363487353,-5.3962146440667329,3.6928961712596076,3.3302395816591446,1.1204718808178527,null,79.401589770190398,108.42719694685512,83.209209797582218,91.677260775703601,76.544808782480018,86.323943549018978,116.16835720516114,null,77.232281849775632,103.27184311494773,91.643785708615695,73.982242989080873,73.741352533177633,85.064147035123028,107.19563799322171]
[null,"Junio",103.03376520817633,104.73527082951639,90.061382025246346,122.72378535920447,102.86628967530014,101.18776043218229,108.46633953342369,null,{"$f":"(C35/C23-1)*100","v":-1.0511848189904804},-2.9579363336328046,-10.238786152175905,-6.281513175705844,2.2707154907826821,3.3470716390570976,1.3417786271471055,null,80.0788141625913,108.40937247538199,82.436322378369681,91.824067112549983,77.313162827384048,86.323317753930624,116.18135281612025,null,77.720943227489258,103.50798887210225,91.533485856635892,74.82173634376332,75.158891286372693,85.310038867582151,107.11281796351133]
[null,"Julio",102.62427310749591,103.46996682918945,89.95805101886944,120.68355834175775,101.56085614714176,99.382874174170112,107.56787240072377,null,-1.7293116384785368,-4.4947701127288848,-8.94245855553174,-10.342400157032849,-0.13854627828591148,1.5309368241557486,0.43217993028630275,null,80.351642770977293,107.80946860772448,82.589746637393489,91.439522434096844,77.556019166865909,86.27391998340515,115.28799153451403,null,78.296917812817355,104.1939723298634,91.809177390992616,75.768003272785364,76.364085641915466,86.809644720285206,107.17697483597186]
[null,"Agosto",101.84245584603141,103.71691644901333,90.639777315925201,118.74167572216291,102.54314826199719,98.885656235034332,106.84112292981274,null,-3.0428118015944472,-1.9450696875472073,-7.6312002831765424,-11.737206287932834,-1.5550551712307126,0.90198722886722926,-0.67305930664872671,null,80.417613929129104,107.06712409828872,83.852211398960392,90.886207659630287,77.677107618065662,86.191030577886323,114.12861314273546,null,78.962759942382917,103.23014582767927,92.511493167832128,76.541119288471137,75.750656123411659,87.162318438808725,106.82086636033404]
[null,"Septiembre",103.62090509234416,104.67879145862855,91.074354601582243,119.03899000281899,105.0325325834559,98.540585390318256,106.89278936341725,null,-1.5528287645285355,-1.6950457675485642,-6.6607383319946312,-11.126733372190035,0.91438841814350802,0.81762422246742794,-0.37936402318407003,null,81.204927978919002,107.32143714522637,84.407673679568944,91.131944650693626,78.624057488689715,86.193620948321652,113.84315634139499,null,78.367321638960163,102.5245282733726,92.679958094484832,76.556382617607483,74.856861540701445,87.470173438598522,106.50218505791599]
[null,"Octubre",104.69999391600143,105.47428139167086,91.519412844708782,119.891284653122,106.02390764291592,98.457444939672229,107.50077828405084,null,-0.26597455943747628,-0.8346148538833642,-5.8827671093305671,-10.162477958216009,3.6727341232562161,0.72130214159771278,0.66018337802080662,null,82.00787551604536,107.53459276839621,85.040494457802083,91.318389409028356,79.600238483356307,86.179458844882774,113.74418860194697,null,78.326533220086461,101.95337797000441,92.92071683425219,76.167662789866014,75.077631312596566,87.529651919859859,105.80778150405486]
[null,"Noviembre",103.58708562788065,105.12805360568535,91.577512586875116,118.75368286901623,103.7205574483116,98.066940727561928,105.86792106321438,null,-1.7519075895134684,-2.0640458200600786,-4.3278418059261359,-9.9652844834550613,1.4501063081223897,0.76779484287066158,-1.2206040351759873,null,82.473611594945311,107.03244474851562,85.358894954815383,91.153955378694604,80.138215806889249,86.000193113858032,111.87690056507114,null,79.617658026617349,101.81149662484313,93.209449070632473,76.758845011346921,77.263579929008344,87.695397119375514,105.67592094140466]
[null,"Diciembre",102.84029791627452,104.10641002132733,90.288285298803032,117.93816101594669,103.37359203796866,97.576252993339352,100.26159207049798,null,-2.1076066386379377,-2.5482063326157989,-4.6595740959484822,-10.528059670875646,2.313348687793737,-1.0351358551030532,-5.3133898728122908,null,82.537976980932399,105.9184799034911,84.376673270591667,90.734860457175913,80.307273471308989,85.765171264825298,105.65092638516479,null,80.258399336930282,101.74059395746386,93.452514898641297,76.93426764972827,77.686449593250558,87.895536704693626,105.37527302666143]
[1998,"Enero",100.43669409504609,102.58699521522247,89.668877282004772,116.51165592743297,102.86358955929376,97.84835618468037,97.304029508881115,null,-2.434438686404905,-3.9166838658739711,-4.7106458137459288,-9.8595841633790862,1.3926287088852574,-3.3534563014649299,-10.936682491143578,null,81.614739207195242,105.84605807791804,84.606258171363663,90.262178180784076,80.780745936890696,85.895819068381414,102.3771422316331,null,81.259882100421279,103.17687720149931,94.354095574633561,77.470513539866033,78.531914240000518,87.784631666433327,105.21367177531835]
[null,"Febrero",100.50706369796814,102.61278954667549,88.789056723080989,114.44213837267374,102.71603746899326,98.128428892287374,98.533691851149186,null,-2.0300596689590389,-1.8593251289841017,-3.7188973211108367,-7.3268108432555712,1.2277849968199472,-3.7027246851505491,-8.7602892181442122,null,82.19445636019185,105.72650344892445,83.896861092662505,90.598192567646663,81.501315952994375,85.868685131588919,102.85195338737378,null,81.779780779580662,103.03443061630502,94.490091672359512,79.165064421130666,79.346242282367115,87.506430196538034,104.38252282554075]
[null,"Marzo",100.39393179537311,102.28768141782149,89.236650133044193,112.97896477985785,102.55428363968521,98.48023127211178,99.147825322899777,null,-1.9019760110482342,-1.8143258706836751,-1.539138080398772,-8.2159404728976213,0.25189763751700678,-3.7940675239767074,-8.0515012940324819,null,82.730605840089908,105.54294450452011,84.610693018732434,90.726023517944384,82.011987827871707,85.845356699908876,103.38651057822771,null,82.405982473835877,103.18245857328765,94.816079371631673,80.303465069560659,79.969343958379227,87.170141246631147,104.27511671741019]
[null,"Abril",100.77099028225719,101.48824704370416,89.173816649742918,111.34060005505674,101.71013665643677,98.855151245284787,100.14947001588321,null,-1.2161766831187415,-2.6278661223865241,-1.8738015075640657,-8.8737202591298683,-1.2120986557417335,-2.7168654564525108,-7.3385333331282272,null,83.468771794942185,105.70784295119407,84.924853125966223,90.735643704442282,82.797901497332475,85.885306344547502,103.99447443502063,null,82.830159315838912,104.15771878065132,95.235189337621634,81.493762077422318,81.405751893749496,86.879950374507246,103.83926586783497]
[null,"Mayo",101.11378638995264,101.28767862397814,88.825499200382524,110.8597244371433,100.93526177833702,98.593063768579057,100.04391848210871,null,-1.6487141886088241,-3.528214775673888,-2.1706246942727048,-10.537782197950529,-2.761495649218515,-2.8457861370609239,-7.6833663913166816,null,84.186611635764891,105.79820466100587,84.822417596174176,91.201640265296746,83.613032890904734,85.866785844669309,103.87874056098636,null,83.25928109456126,104.45318334698209,95.493319328070712,82.267605055258315,82.838278137650761,87.092116384798331,103.83313862257748]
[null,"Junio",100.84147764421765,100.6215345977469,88.632703520766469,108.93147770635876,99.414532494153505,97.984781624442661,99.200943826043243,null,-2.1277370185678879,-3.9277467840472369,-1.5863386418824676,-11.238495954534422,-3.3555766345244709,-3.1653816568915083,-8.5421852965964042,null,84.516342619110617,105.04541132675173,84.618186463090396,91.060817532372354,83.808875709753877,85.674861898422009,103.21403669391913,null,83.811091024762334,104.39655064563476,95.470614233565058,83.594585743012246,84.302439097304628,87.436906505336438,104.04541803041025]
[null,"Julio",100.15080238149822,100.30592398932917,89.028824836016497,107.2611317948444,101.27657852926812,105.85569322342185,99.809695380149066,null,-2.4102199714552852,-3.0579335596807034,-1.0329549966106244,-11.122000984511116,-0.27990864655746961,6.5130125316239296,-7.2123551832215194,null,85.280664540478725,105.05260546821206,85.133710048268725,91.335389707069467,84.528016422811888,93.034515149825069,103.88955744046756,null,85.152252915183254,104.7322045300015,95.624883519554231,85.152364308223326,83.462551411513132,87.88805997752425,104.0876410300416]
[null,"Agosto",98.789253562946143,101.0996081020854,89.162187490568741,107.22100911211811,102.34741801603683,106.26601394142449,99.299060265025147,null,-2.9979660817500253,-2.5235115317129408,-1.6301781283137085,-9.7022941102847255,-0.19087598662396177,7.4635270547715349,-7.0591383336004565,null,85.695972667318514,104.40314696531468,85.213093278564173,91.318317383495724,84.856556143543187,93.473652557887519,103.20266298495252,null,86.746249796001436,103.26760798112443,95.570886803980343,85.168306229991387,82.910304713546367,87.96194483159185,103.93115776675914]
[null,"Septiembre",100.67337553600824,102.81876137160036,90.615792555840613,108.53125729833248,104.02195201593709,105.95162500828525,99.214863872330213,null,-2.8445317609503307,-1.7768929704956693,-0.5035029320248019,-8.827135297634559,-0.96215957347866032,7.520799261149036,-7.1828282682224742,null,86.790360567205525,104.79390101904818,86.170151333623195,92.532359675162098,86.267979548414019,93.627989517459127,103.37793024865998,null,86.209844564278953,101.9209914816124,95.093966408252896,85.258718988952324,82.932475190618419,88.368620594670034,104.19601077282815]
[null,"Octubre",102.48395295086247,104.34245563161403,92.895894716490957,109.9033202576133,104.28219384313761,104.833592440117,100.79268223782231,null,{"$f":"(C51/C39-1)*100","v":-2.1165626493892975},-1.0730822197819734,1.504032673502631,-8.3308510909751217,-1.6427557128382064,6.4760440455789103,-6.2400441683348902,null,88.382349110350617,106.08595471192059,88.035887563252942,93.95834028860375,88.266117750978637,94.416919001729795,104.90174859734147,null,86.240183526807257,101.67093928329814,94.768329463782791,85.491812320469904,84.641600351973295,90.063611104105362,104.07675068099064]
[null,"Noviembre",101.98061793874102,101.96448414356547,90.595504195239897,109.13047353881299,99.229940583039109,103.34189914592423,100.97056423757081,null,-1.5508378089819086,-3.0092533378253239,-1.0723248141334185,-8.103503906331488,-4.3295340632066637,5.378936448131455,-4.6259119631897994,null,89.033120343983256,105.81605071143223,87.980316548682737,94.397497230766476,88.857143493477764,94.724023701438966,105.05215741994685,null,87.303962403390003,103.77736091171094,97.113336175135984,86.499667938482233,89.546706338213497,91.660811814270645,104.04235948684268]
[null,"Diciembre",102.63581495394975,102.64979310270077,92.938298148185709,109.37447487957219,99.693844058756952,102.0779645836808,102.20568651919382,null,-0.19883544336992687,-1.3991616062144163,2.9350572342941694,-7.2611664134873077,-3.5596595868122249,4.6135319324556612,1.9390221205831892,null,90.177994297379954,106.26601151893746,90.490116242359704,95.23212100502387,90.059628426544478,94.79566109903071,106.15423131548518,null,87.862111620432586,103.52286965899549,97.365798648558751,87.069785806862242,90.336198064010517,92.865939760505071,103.86333180742329]
[1999,"Enero",100.18679897644492,101.72284844380036,95.946538046636618,108.30502354548257,101.27888225598468,103.46348314792007,100.02823190621801,null,-0.24880858619727997,-0.84235508566088413,7.0009360604447846,-7.0436149212931509,-1.5405910974899406,5.7386012215081328,2.7996809701372749,null,89.154485064949782,105.16005588128503,92.943842922908516,95.597515872760866,91.092065559342117,95.210059261475649,103.75636487469238,null,88.988255913746713,103.37899251748111,96.870449747474368,88.266926817678765,89.941815638431748,92.022862912275414,103.72708074253447]
[null,"Febrero",100.03868912440468,101.48537276540212,94.857730501463138,107.25017694822897,102.05314972390522,105.40398055470482,99.57807018976861,null,-0.46601159792206692,-1.0987098063059086,6.8349343965995457,-6.2843647687048527,-0.64535953822025816,7.414315855809317,1.059920032426187,null,89.481877407327076,104.36883920830357,91.172971966336931,95.293531548525053,91.235276687423308,96.562064826646051,103.04587137776848,null,89.447271041357311,102.84126309469937,96.115489464436038,88.851631074254044,89.399765645892742,91.611402452234898,103.48249487200465]
[null,"Marzo",101.45627557909226,101.75448739724872,96.878767800026381,107.35640766548516,104.80412443390549,105.98039201180848,99.421355233798792,null,1.0581752947822265,-0.52126904548240871,8.5638777963857216,-4.9766406740656244,2.1938047971987951,7.6159048804149476,0.27588089805117288,null,90.114388299881185,104.0652022768852,92.35693608905234,95.355572816286298,91.589041174235575,97.295288894390751,102.73635621529698,null,88.820911062944262,102.27087270423314,95.332484285609567,88.821501100714357,87.390683972553035,91.804990571793681,103.33429470328849]
[null,"Abril",102.82881686385255,102.98495654389215,98.864233940346054,108.10123237291242,105.97019070044756,106.46571985312873,99.990495528022976,null,2.0420823253115117,1.4747614071444648,10.866886329050129,-2.9094217927175592,4.1884262316947529,7.6987071609047275,-0.15873722330734807,null,90.853741853821006,104.09156711390517,93.882108779736683,95.722882845419406,92.360755270651822,97.340376909353495,102.78401756609266,null,88.35435885070352,101.07453613338311,94.960639493130003,88.549298416143927,87.157298349810134,91.42884399188415,102.79378757282662]
[null,"Mayo",102.74092893269355,103.45775698269082,100.76062402425534,107.47464601878551,105.31423815589507,106.43046576596343,99.661999573649396,null,1.6092192774442404,2.1424899733055502,13.43659752133588,-3.053479011917537,4.3384009714807936,7.9492427740967653,-0.38175124910527769,null,91.479998545745616,103.81646909954034,96.366386577289305,95.866607719478509,92.963856647351562,97.251750917107017,102.41312143879644,null,89.039489418744637,100.34672326881157,95.63893386973443,89.199277476775293,88.272828323306641,91.375857671204727,102.7604522053704]
[null,"Junio",101.83666118128077,102.92986360262202,100.99553379224919,106.32681300948599,104.9072597362638,106.61715122571154,99.13162454544225,null,0.98687916947655108,2.2940705626316449,13.948384490591703,-2.3911037945285596,5.5250747595009031,8.8099084961531524,-6.9877642215332436E-2,null,91.927866045164251,103.19809422487884,97.195283852138814,95.956333236742537,93.300350289852673,96.90129591742695,102.08254977696205,null,90.269913583991382,100.26059552871105,96.237209906798839,90.246599630689346,88.936028378216321,90.887155399870096,102.97677481333626]
[null,"Julio",102.63935493172306,102.610286437368,100.38891267433208,106.17917317085265,105.19384194672375,107.15146753730531,99.025916252508011,null,2.4848054044992463,2.2973343511435873,12.760010995584725,-1.0087145323631197,3.8678868049670356,1.2240950622736557,-0.78527353946512557,null,92.640159208095511,103.20690575570495,97.582585086154424,96.310330310973498,94.081233407150535,96.883553790577039,101.95301935943517,null,90.257932027847261,100.58144201624573,97.204544293370787,90.705481531675488,89.436065520640184,90.417383930692836,102.95589600954894]
[null,"Agosto",103.42116978706746,103.52826645432856,103.93724875788749,106.61186688772071,105.30083834537912,107.32736761326656,99.827080996731198,null,4.6886843022555746,2.4022430925655147,16.570994592165643,-0.56811834680686735,2.8856813260101255,0.99877056876067627,0.5317479644790124,null,93.659726053062215,103.81405187775678,101.64157806611134,97.26149495857122,95.455035463479604,97.057734784129863,102.55839054915734,null,90.561464587856662,100.27604579233855,97.79129165028823,91.229520500755399,90.649834287542902,90.43148727345914,102.73604068671062]
[null,"Septiembre",103.93952951019786,103.83990944645458,105.61201512858158,107.05389925241602,105.24801444191682,107.49841576408625,100.65769640821742,null,3.2443076004950333,0.9931534490710936,16.549237334650879,-1.3612281684487249,1.1786573912705434,1.4599028147799009,1.4542503810153429,null,94.320313935507954,103.90889232950522,103.30472874846146,97.970510739811601,96.261868114490383,97.121662968801203,102.91811832801507,null,90.745373179944863,100.06643195609317,97.815318288065015,91.515125954275391,91.461932678658172,90.347064445993652,102.24565234498364]
[null,"Octubre",103.47208723000335,103.64595636712839,105.37286103339288,106.84956523275547,104.57952645737321,104.35586765404764,100.91919432565716,null,0.96418439247230037,-0.66751281658988804,13.431127774785301,-2.7785830470815953,0.28512309079615772,-0.45569819267831102,0.12551713579398438,null,95.095114919409596,104.07601670680862,103.58439972277897,98.490826967995332,97.200605900308219,97.401825146847216,103.05083794644962,null,91.904123580717012,100.41493209648903,98.302730614814422,92.177096606287634,92.944201597553942,93.336222808041882,102.11222813958842]
[null,"Noviembre",102.95613600354123,103.81349778721048,104.51773857250829,105.85576931640408,103.77294485287207,103.11368742097117,100.74464911741009,null,0.95657202762411409,1.8133898868566867,15.367467183873673,-3.0007239190108059,4.5782595889304334,-0.22083175056692994,-0.22374354532591623,null,95.433590901017482,103.67434010008856,102.99162927698436,98.424315221280352,97.367018972796444,97.566456962514778,103.01926933099428,null,92.693446554496759,99.865954148460375,98.539856184828182,92.979641881482124,93.826978805354472,94.620277290822401,102.25780747018464]
[null,"Diciembre",102.280306205597,104.16840464768725,103.17155857839937,105.03213867854919,103.6086490528336,102.79045548992192,100.58962920246225,null,-0.34637884301134125,1.4794102346286531,11.010811080161176,-3.9701550163364629,3.9268272088789802,0.69798698391663194,-1.581181411494248,null,95.957833201576591,103.46382171134438,101.79130732498017,98.581164043924019,97.591548109574333,97.499629886598427,103.22499779842857,null,93.818484478027088,99.32361166639167,98.662178537924888,93.858094564399607,94.192472348335571,94.8528045934749,102.61992077797801]
[2000,"Enero",100.82284000591244,103.25378138418259,105.8495596625981,104.31461713781688,103.19429863414473,103.28155113179291,100.85220337804515,null,0.63485512658914001,1.5050040023486311,10.321395453734805,-3.684414884033449,1.8912297761331853,-0.17584176618823388,0.82373891462927951,null,95.972317325675462,102.90566138035477,104.44091915959784,98.064378615635803,97.671719992498737,97.927769138289761,103.1099386177289,null,95.189063628883559,99.662850116324023,98.669205136525477,94.008281203847517,94.648368451802526,94.816323017194591,102.23865732632595]
[null,"Febrero",100.06933937032437,102.67685659275254,103.95221288267314,103.28134500866393,101.24743847564029,104.01071858948636,100.72209351299749,null,{"$f":"(C67/C55-1)*100","v":3.0638392194015651E-2},1.1740448843841955,9.5874973321965697,-3.7005364956002262,-0.78950159837760658,-1.3218305019281007,1.1488707514101026,null,96.09102537871496,102.2602404281018,102.78425224435352,98.027084736196016,97.342747332264452,98.100889478256846,102.33098284173339,null,96.024442634834486,99.594245306609679,98.876444660550092,94.912672494701582,96.143417352415,94.318057608509889,101.59735493238958]
[null,"Marzo",100.61814868632774,103.26482952355131,102.72817689176701,103.29509606463218,101.38089360197132,104.78894799729088,100.88742631152726,null,-0.82609664900535895,1.4843002652121129,6.037864874391019,-3.7830174175608966,-3.2663130868413659,-1.124211745116821,1.4746037954128433,null,96.579767115201946,102.30001624889664,102.04888021372214,98.289822226494678,97.776705526043614,98.079853804685214,102.50710705571436,null,95.986428269799262,99.065690342872614,99.33874356715144,95.154393549326215,96.444904017044863,93.59751737103123,101.60543370309173]
[null,"Abril",101.31501442593388,102.84852472748425,101.33916918743741,102.16238903605534,100.99200439197983,104.62740062859537,100.75608241685664,null,-1.4721577900900784,-0.13247742290376507,2.5033676471763355,-5.4937794939932676,-4.6977232706317151,-1.7266771192355201,0.76565966074155778,null,96.821758390473065,101.85326694068692,101.55977698422387,98.379808811598721,97.870185045528856,97.930886688481067,102.18224479143912,null,95.565064012555013,99.032307182398171,100.21769252556079,96.297482605735013,96.908845046451148,93.599655635252304,101.41546032792546]
[null,"Mayo",101.32380899150412,101.25923426238116,101.22579166756249,100.96387170923305,99.666828350915878,104.20735008477025,99.680320442726284,null,-1.3793139266998433,-2.1250438675927352,0.46165617552664795,-6.0579630180074613,-5.3624371251866361,-2.0887963471678539,1.8383003707800327E-2,null,96.631614214135837,100.75542883208455,100.53414392158042,98.04789588981123,97.207903391402965,97.509351151675588,101.07811096258192,null,95.369109369189118,99.502459766789116,99.316727748345485,97.11186212448392,97.532855213516655,93.572431380659822,101.40227330093583]
[null,"Junio",101.46262846184692,101.04735350535732,101.83582843981681,101.2464551944354,100.63369981012711,103.94340031988058,100.32395965003762,null,-0.36728690345418924,-1.8289250868265494,0.83201169003783715,-4.778058959217879,-4.0736550901056656,-2.5078056157874173,1.2027797487055292,null,97.619310197128868,101.241555595611,101.22107744465953,98.815558490930215,98.373437038727005,97.758252500023957,101.62442756756536,null,96.212084860226881,100.19218919003492,99.396331326041491,97.599030307938335,97.753970314452616,94.049504056224691,101.29626853053269]
[null,"Julio",100.89387035090699,101.44325300074308,102.31462374688422,101.06195494269119,101.54134169438834,103.69279631958996,100.22341877373044,null,-1.7005997182827026,-1.137345462277084,1.9182507522511827,-4.8194180415469638,-3.4721616634035057,-3.2278337359319842,1.2092819400619348,null,98.144382644720281,101.31359108590739,101.71171216765073,99.090399353412394,98.789316913915286,97.758844228658674,101.53604357300389,null,97.27487141030069,99.872182810585983,99.410727853796317,98.049161437262129,97.289749441408915,94.277372872998484,101.30969868652844]
[null,"Agosto",100.40911126661886,100.6608407595464,102.55004891527993,100.66398468412692,101.40309050404011,102.31550995194851,100.1647608732268,null,-2.9124196976789918,-2.769703186372896,-1.3346513008429928,-5.5790057685209282,-3.7015354318022387,-4.6696921510059886,0.3382648006172273,null,98.256474613346896,100.82039067968263,101.35060049554576,99.091337511184818,98.697136660975133,97.507990824470653,101.07109855180059,null,97.856134143488219,100.15850247120164,98.830377525489936,98.43772608656721,97.33148779823712,95.301280197170826,100.90484684501058]
[null,"Septiembre",100.63632626582978,100.33936209538793,103.18648775282519,101.03542928008362,101.3080617590492,100.78699982435359,99.774926574147017,null,-3.1780048071547107,-3.3711001576631094,-2.2966396132138356,-5.6219063615252418,-3.7434935982017636,-6.243269625909087,-0.87700182457020048,null,98.357571398665613,100.17337992761193,101.5168907988573,99.136149693448189,98.549323121243788,99.21427131144354,100.59156232864186,null,97.735653762693147,99.834579207690993,98.381961640203059,98.120184572710272,97.276881434799549,98.439552208468427,100.81847793081357]
[null,"Octubre",100.33664737762142,99.882953778080221,102.65850181197392,100.58090263167193,100.26893434974173,100.85559672863086,99.604767178733042,null,-3.0302277032571157,-3.6306313540289903,-2.5759566503169906,-5.8668115190063759,-4.1218317328951422,-3.3541678145215692,-1.3024550539737612,null,98.517691223282938,99.511390959160337,101.12287404628751,99.081551547405795,98.437332292496833,99.380971503871507,100.00427024730621,null,98.187146768525395,99.628001771207693,98.504139707299615,98.509308382569614,98.173310538181042,98.537884586884076,100.4010883011817]
[null,"Noviembre",100.13195521634714,99.773786509549609,101.30167918328186,99.896900466278382,99.864221883592819,100.65844382015121,99.856704551458691,null,-2.7430912783060868,-3.891316027074998,-3.0770464737861825,-5.6292338987349533,-3.7666108202104032,-2.3811034812441623,-0.88138136737819783,null,99.027999877884994,99.471806268345375,100.32112558020356,99.41240177042296,98.914980306028184,99.579621541775424,99.904271543393904,null,98.897499468499433,99.697335089938335,99.032046051967001,99.515001272718209,99.04946780772886,98.928234694047788,100.04763525108193]
[null,"Diciembre",100,100,100,100,100,100,100,null,-2.229467519400341,-4.0016016965848777,-3.0740628736255049,-4.7910465709453458,-3.4829612062535653,-2.7147029134388045,-0.58617295553945459,null,100,100,100,100,100,100,100,null,100,100,100,100,100,100,100]
[2001,"Enero",99.853484410958373,99.165967719089707,99.816007135989167,99.638378297085382,100.2171676788944,101.64948667930719,100.26500275512902,null,-0.96144444542251017,-3.958996571644291,-5.7001205728594906,-4.4828222247639715,-2.8849761999014789,-1.5802090834239335,-0.58223876449680079,null,100.75582310367186,100.46891867941379,100.69626754137427,100.0077784193558,100.56432352649776,100.56153971131327,99.808471522099865,null,100.90366269944053,101.31390938876832,100.88188300718726,100.37074080147011,100.34640357100861,98.929707366426484,99.544675389732831]
[null,"Febrero",99.362097529874859,99.522393009522474,98.450856750253138,98.995648848822853,99.549192469887913,102.02713676599181,100.43033226883377,null,-0.70675178321327747,-3.0722245381367919,-5.2921972316540948,-4.1495355811657646,-1.6773224402718778,-1.90709366341697,-0.28966955906856162,null,101.0469141778096,100.30207023426394,99.726608796349055,100.26294009585686,100.80717441691583,100.69649700573035,99.621822429709709,null,101.69563313357808,100.78341888811582,101.29582625099161,101.28014843255315,101.26367870579003,98.695798194049686,99.194954531306507]
[null,"Marzo",98.150671468237846,99.249896284208248,97.297229056405698,98.300719299827065,99.675961691622405,102.43961710065568,99.78073291526151,null,-2.4523182450734038,-3.8879967728290166,-5.2867168479815208,-4.8350569921345565,-1.681709294300171,-2.2419643879771911,-1.0969586961693589,null,101.23519998786696,99.939949177000173,98.772060459586626,100.19237624337636,100.6748838622953,100.41584725990711,98.844041499584975,null,103.14264637570747,100.695268124831,101.51580000528683,101.92435717360271,101.00216958404012,98.024426586093099,99.061250215036992]
[null,"Abril",97.630292939573422,99.428399883202559,97.756394190645338,98.320892526292326,99.685121481935923,102.08471182815283,99.608892328723471,null,-3.6368957821687586,-3.3254000029110053,-3.5354296127742546,-3.7601866459948119,-1.2940459177060326,-2.4302322194436732,-1.1385814738081201,null,101.52193111832344,99.823882613396265,99.236898399010059,100.41676654514413,100.94286024497148,100.27237927780841,98.407292657767272,null,103.98609700081374,100.39775630570165,101.51448324237229,102.13166699874223,101.26171162189283,98.224677801515213,98.793682328089005]
[null,"Mayo",97.664565366327764,99.621716458597476,98.179398122626608,97.894366475738494,99.871922573979262,102.1812532105447,99.819588394215629,null,-3.6114351223049512,-1.6171540459614553,-3.0095033041980024,-3.0402015904604562,0.20577982309346599,-1.9442936343524453,0.13971459047361634,null,101.81797909385151,99.770979297026969,99.596647505650765,100.80216588661195,101.4801044447543,100.20999049966433,98.348473550382678,null,104.25273353948263,100.14982961921915,101.44353032318858,102.97034396927643,101.61024423013765,98.07081764125698,98.526226297364488]
[null,"Junio",97.835037598729016,99.443215926594419,97.815119760988054,97.6917090910719,99.512680260217152,102.76639417297649,100.40206360556337,null,{"$f":"(C83/C71-1)*100","v":-3.5752975436487811},-1.5875107294896718,-3.9482260226369359,-3.5109832700185972,-1.113960385064916,-1.1323529375428465,7.7851747277724037E-2,null,102.13342804500043,99.600453440482667,99.842717023569705,101.07950047308307,101.6529849083246,100.08062339246062,98.150649452925094,null,104.39350824793596,100.15811788911205,102.07288736908579,103.46783919897742,102.1507858521253,97.386528152388834,97.757601714758451]
[null,"Julio",97.528231810689846,99.121227250803543,96.584794216331758,97.202739073564715,100.00361378871351,102.67301217366102,99.894917119234137,null,-3.3358206286581371,-2.2889898354526705,-5.600205836389005,-3.8186633845692985,-1.514386042192517,-0.98346672297839888,-0.32776935621997572,null,102.69234163756444,99.488424115872192,99.674133536332548,101.35363151344691,102.02774788009594,100.01034717410084,97.962493318820478,null,105.29498969785338,100.37045229892034,103.19857731754468,104.27034513578957,102.0240609460964,97.406655416852331,98.065543416881638]
[null,"Agosto",97.959806799342175,99.438217106587089,96.728373632826546,97.203826262218641,101.33754758476732,102.31957642977348,100.7950212896188,null,-2.4393249142231621,-1.2145971002565537,-5.6769112682363172,-3.4373350436761374,-6.4636017449759553E-2,3.9744490614168626E-3,0.62922370192615151,null,103.92509780540821,100.07325632767359,100.96593443968173,101.99321481429047,103.5309383082225,100.35834526946022,98.831498653124257,null,106.08952916606415,100.6386269178638,104.3808870631286,104.92716052056625,102.16444030443941,98.083229789697825,98.051964659194155]
[null,"Septiembre",98.388559349767419,99.732763386604375,97.841274986855879,97.296151277786095,102.22984936422,101.80016900610813,100.27374423917546,null,-2.2335542238743011,-0.60454710506021581,-5.180147984853722,-3.700957207725375,0.90988573778381099,1.0052578045980587,0.49994290364898664,null,104.56437944411205,99.943875025914224,102.00222749091377,102.43917443579198,104.0688093562961,100.31418252788984,98.801513549934242,null,106.27696973627781,100.21167731860743,104.25275785154768,105.28594717310273,101.79884838284789,98.540290755186135,98.531788455281358]
[null,"Octubre",98.740334085643894,100.78559358483805,98.781087963611228,97.334829009985015,102.14831919331832,101.19178141236199,99.888289939761236,null,-1.5909573756931805,0.90369755059838131,-3.7770021770475837,-3.2273260000201698,1.8743440884902762,0.33333270005402316,0.28464778248959988,null,105.15725021396685,99.841852544806514,103.89039681189625,102.88893158931607,104.33701956981398,100.20790181035962,98.54816722206202,null,106.49877903264651,99.063615139363009,105.17235530972,105.70618208900464,102.14266900696964,99.027707993406096,98.658378556177723]
[null,"Noviembre",98.353310727011447,99.305303141097298,97.659428174521892,97.383001819813984,101.69651588934907,101.67979491096156,100.06616462174452,null,-1.7763005680781041,-0.46954554381622993,-3.595449787332905,-2.5164931391570056,1.8347852425987687,1.0146700585151436,0.20976064774687053,null,105.8210928285678,99.777906414523144,103.56790609910973,103.62674957104727,104.52802547658419,100.74249396396901,98.443869159512388,null,107.5928121243258,100.47590940108641,106.05008449776004,106.41153757283635,102.78427393748271,99.078183676694749,98.378777213692061]
[null,"Diciembre",97.891968761803682,100.22741795344731,95.4949216750625,97.224699316905244,101.77087930196444,102.45812372842484,100.15105518684037,null,-2.1080312381963173,0.22741795344731752,-4.5050783249374948,-2.7753006830947502,1.7708793019644453,2.4581237284248436,0.15105518684037644,null,106.71910403042311,99.81788696665113,102.01185308050444,104.07675072979561,104.81207838438287,102.0336206706771,98.305553932254554,null,109.01722110635872,99.591398246948359,106.82437483703782,107.04764474565872,102.98828024605633,99.58568140592449,98.157282266130025]
[2002,"Enero",97.382530765180974,99.165918273150069,94.712321903777948,97.261692566186625,101.7554662754162,101.9323994904597,99.466611223685149,null,-2.4745792902007402,-4.9861803175232922E-5,-5.1130929583848905,-2.385311535091772,1.5349651483373083,0.27832192802417222,-0.7962813638909827,null,107.02273126643085,99.801061770759375,102.15678619131432,104.14834641300097,104.71523833614154,102.20184262425846,97.995176290902691,null,109.89931194589238,100.64048567155888,107.8600800169375,107.08054082251135,102.90871062662548,100.26433512322446,98.520674511094541]
[null,"Febrero",97.921548070818773,99.124120721401979,93.191934241060579,97.019225734325303,101.36258096723664,102.75865739575271,99.699609712927014,null,-1.4497977547454299,-0.40018359293509942,-5.3416726707957611,-1.9964747314457854,1.8216004091617721,0.71698633613397345,-0.72759149491882225,null,107.72921024039972,99.73052823866341,101.0961324304527,104.67444227886919,104.88857350739988,102.70078751764737,97.786231003591169,null,110.01583651688989,100.61176584755371,108.48163336640941,107.89041191228088,103.47859388199967,99.943683695785893,98.080856369603481]
[null,"Marzo",98.713173848196561,99.207828557876766,92.986330416845419,97.654529954366978,102.43734042812936,102.25513428184442,100.10799774413822,null,0.57310089838840117,-4.2385662762833842E-2,-4.4306489314933533,-0.65735973252559754,2.7703557504166421,-0.18008932875061001,0.3279839898095771,null,108.87860763254325,99.86486525308419,101.03189977499957,105.42518223781066,105.78217855360063,102.8313523895586,98.061211187143215,null,110.29795050453887,100.66228311289377,108.65242162163722,107.95728809208836,103.26525279892249,100.56351019610025,97.955421541617184]
[null,"Abril",99.97158394168089,99.399714138817956,91.936783429950907,97.992644007449044,102.97280465470644,104.60663819478034,100.78040261976244,null,2.3981194070129108,-2.885065476091464E-2,-5.9531765761991817,-0.33385429119807686,3.2980680806676599,2.4704251219054951,1.1761101480506575,null,109.87664404107996,99.888694523070356,99.932323093572379,106.01058980960734,106.39726395681961,105.35397053586965,98.209657870197219,null,109.907875527087,100.49193339084405,108.6967798582093,108.18219151383322,103.32559583435281,100.71442152619201,97.449162056571197]
[null,"Mayo",100.5864109866103,99.574149866287883,92.32185208588659,98.325191514073012,103.75546394881763,105.26324651225083,101.47268611761237,null,2.9917151725634028,-4.7747212154647389E-2,-5.9661661700389672,0.44009175792694144,3.8885216933334465,3.0162022923673426,1.6560854938293179,null,111.18160658895215,99.999024180783451,100.61852824863087,106.82806075076034,107.60293171180318,105.59555671435265,98.612281459885551,null,110.5334264324753,100.42669138030915,108.98668730673418,108.64770167823201,103.70820737198332,100.31569442622421,97.181108762202811]
[null,"Junio",101.27043846192527,99.114348780810317,92.358001192299497,98.005647880024057,104.9508308060751,105.42221593435194,101.79793975113569,null,3.5114218254676421,-0.33070847791855096,-5.5790133284333354,0.3213566349417496,5.4647815048671777,2.5843290335799463,1.3902863103054441,null,112.58922150449426,100.12680241742054,101.16320501287055,107.6274835586232,108.95452158697292,105.82572709595188,98.968483827995527,null,111.17678881860923,101.02150056885229,109.5337747752224,109.81763386777254,103.81482523782562,100.38275723766914,97.220517497645531]
[null,"Julio",101.09583206027905,99.230983871527172,91.445174514084158,98.092535454402821,105.94616626169139,105.32387268252859,101.90297300615249,null,3.6580179742356167,0.11072968300314123,-5.3213549233597002,0.91540257951443493,5.9423377294476998,2.5818474132071945,2.0101682296022716,null,113.95396009641097,100.3212880160184,100.91437316227048,108.50441231015682,110.09736347922892,106.06208413612104,99.210769260288501,null,112.7187518754138,101.09875373794823,110.35505558221436,110.61434165966058,103.91821371552408,100.70089661041766,97.358071441447095]
[null,"Agosto",100.83477667065289,99.8277713116223,90.490394292773743,98.075033849699921,106.09830362154558,104.59483078187428,101.31293948609118,null,2.9348464081801584,0.39175501770878363,-6.4489653922350509,0.89626882087037174,4.6979191328820669,2.2236745220133081,0.51383311382435792,null,114.66529975751752,100.21713801950234,99.526523977257142,108.83365932295162,110.05622314398289,105.92193530256652,98.686944780575573,null,113.71602491076858,100.39003846601422,109.98573357438116,110.96979022177989,103.73042677152999,101.2688050745642,97.408036210541383]
[null,"Septiembre",100.98343059948979,99.96161431721525,90.3164996122009,98.120089210908532,106.07937429857795,102.97635356907081,100.7776655083089,null,2.6373709167726522,0.22946414281508343,-7.6907985670320311,0.84683507240697065,3.7655586487690407,1.1553856682616104,0.50254557956017631,null,115.03663936197512,99.79953935808723,98.803709191003989,108.82516588447402,110.30292831169109,105.51829979070915,97.833780699921107,null,113.91635110736308,99.837862803402004,109.39718613458813,110.9101782923933,103.98150351191293,102.46847565828143,97.078832106757758]
[null,"Octubre",101.37026488743511,99.985462746480849,89.47074783788716,98.175572824004092,106.39807156311144,100.15326773764797,100.40131154227679,null,{"$f":"(C99/C87-1)*100","v":2.6634817738312666},-0.79389405757052112,-9.425225331749532,0.86376461804111848,4.1603742512398734,-1.0262826291020821,0.5135953401794513,null,116.00228820782013,99.759387819494364,97.945876114757937,109.28538390951384,110.50723388162569,105.40649966108869,97.527072479082051,null,114.43423605199501,99.77389220314987,109.47251306340587,111.31626815707602,103.86206465788888,105.24519273520019,97.137249485048358]
[null,"Noviembre",101.70077337675261,100.44041401768814,88.181205263198109,98.370601993721209,107.61653823582034,99.881771342285305,101.10474440479418,null,3.4035078483858561,1.1430516202926455,-9.7053844042438655,1.0141402046063064,5.8212636831261211,-1.7683194289000448,1.0378930650290608,null,117.48065266883626,99.949591645093022,96.808742948587877,110.09514536587581,111.43500780644919,105.55408897225472,98.177568117521204,null,115.51598750741725,99.511329799468271,109.78387362662916,111.91874720142809,103.5482181765236,105.6790318731242,97.104808182340662]
[null,"Diciembre",102.03458241983424,100.19820949845082,88.273767643988464,98.227622940749086,107.5438421840864,98.134764910384447,101.39580073500304,null,4.2318217831644578,-2.9142180446128929E-2,-7.5618199422637584,1.0315523019256645,5.6725095839970097,-4.2196349695997508,1.2428681313846335,null,118.79596130613206,100.07161883235935,97.428112673649522,110.77338913124785,112.0924325008684,105.67008285659449,98.233953456397572,null,116.42715488100986,99.873659752279892,110.3704025261286,112.7721366097461,104.22952186234522,107.67854078327004,96.881678278897439]
[2003,"Enero",102.77342429892245,99.260422479199875,89.657445814317782,99.028630947013724,107.80844567824039,95.885757762870725,101.57524327489483,null,5.535791164372772,9.5299078247323976E-2,-5.3370839061422366,1.8166847956349264,5.9485545341032786,-5.9320115663076383,2.1199395709457614,null,119.92251736214425,99.815942149025389,99.807832122098716,111.99621240420687,112.97703584352128,105.52836545686029,98.004563099502505,null,116.68631086314947,100.55965878035823,111.32129765195695,113.09478009862781,104.79423493471633,110.05635030578378,96.484694439048567]
[null,"Febrero",103.49357508743161,99.561808729304445,89.680028681750429,98.794286638126636,107.223687689092,95.946302818598326,102.06131209539566,null,5.6902971066011387,0.44155550103959218,-3.7684651444467976,1.8295970621968305,5.782317957895966,-6.6294702069900291,2.3688180819051219,null,120.92054365893947,99.662899809033888,99.887938726668963,112.4449791861561,113.36050242810811,109.00613760412345,97.823668420972837,null,116.83869608020161,100.10153600162516,111.38259007603976,113.81728945321561,105.72337593611829,113.61160816192867,95.8479431751162]
[null,"Marzo",104.44076666230978,99.925332163725443,90.685703622002293,99.530852290865383,108.37836284523047,118.68644198507268,102.61171925490311,null,5.8022577846815526,0.72323284994599835,-2.4741559157455906,1.9213879144932555,5.7996648412298013,16.068931715388366,2.5010204650821599,null,122.11090610183264,99.735910823405419,100.85260293006033,113.06129460679664,114.19213119305751,136.41237943768019,97.871841003281759,null,116.91881437126561,99.810437117177003,111.21113792140366,113.59421928427818,105.36432567829925,114.93509886734739,95.380763244160477]
[null,"Abril",104.65160406579335,100.17119008398754,90.720573570415397,99.736682474690838,109.53976392154716,124.08348397644812,103.10164247805349,null,4.6813503793663891,0.77613497368027584,-1.322876235345094,1.7797646802031553,6.3773724420359112,18.619129835146197,2.3032651169780705,null,123.64462189801215,100.07902287193372,101.43755991786519,113.99717471409774,115.27222788640439,143.18821905729507,98.329100630243346,null,118.14880717956132,99.907990299429869,111.81318186787199,114.2981417524346,105.23322651029525,115.39667848500541,95.371032184258326]
[null,"Mayo",106.15127774083578,100.92820487400127,91.598489865020866,101.06863624042099,110.89118870843606,132.9454221978587,104.77467445579099,null,5.5324240119932755,1.3598459133536744,-0.78352221551273304,2.7901748108523305,6.8774447995707089,26.298044761887663,3.2540661576174523,null,126.2435284838859,100.85808581410016,102.83080379294725,115.84293782397341,117.73757707957057,155.44976136556713,99.814561722746546,null,118.92794054924572,99.930525802981805,112.2625536124867,114.61808740389796,106.17396968224011,116.92750212505693,95.265923985154146]
[null,"Junio",106.50723133044656,100.62052412274467,91.502232507880578,101.26830808398783,110.17955787988765,142.84970575177189,104.79381165533759,null,5.1710972600263583,1.5196339989734797,-0.92657774461479825,3.3290532479901991,4.9820730656949586,35.502469271492679,2.9429592696334383,null,127.45136051809487,100.81683341547367,102.995493539354,116.35749199905186,118.22226707362688,175.4909038060853,99.928912386814801,null,119.66451378561105,100.19509865848993,112.56063455116636,114.90020343042531,107.29963828907989,122.85002820449178,95.357646418546878]
[null,"Julio",106.22623827019657,100.9056751528194,91.076423925684011,101.02711273190913,110.66345307517761,164.03450823538051,104.25857565034039,null,5.0747949795383107,1.6876697337400381,-0.40324772778835838,2.9916417838647957,4.4525318658858559,55.742951771076491,2.3116132676969769,null,128.0779650436653,100.65184242000258,102.74581279873176,116.45726049485896,118.59781322650524,208.74517537844491,99.507193632175699,null,120.57093156013563,99.74844553348224,112.81274381454598,115.27327402090177,107.16981074676708,127.25686663376163,95.442694292985792]
[null,"Agosto",106.46586795330849,100.59045088513687,90.644622653377624,100.36246401718815,110.20258134920269,155.9572632316756,103.98331876622895,null,5.5844734015208841,0.76399539275879835,0.17043616818033236,2.3323266663294984,3.8683726200723578,49.106090679485234,2.6357731733806622,null,128.45633703072994,100.28975565918891,102.18602962233749,116.32574208004061,117.64056789103306,203.76342693051214,99.005435654058189,null,120.65494744951081,99.70106981000481,112.73258868658307,115.90562589228438,106.74937596811944,130.65337433359559,95.212806081558298]
[null,"Septiembre",107.8680272223806,101.01402187391086,91.599246176377747,101.05264327381154,111.78300555971823,145.3199017150333,105.05743793201611,null,6.8175507427508553,1.0528116856495906,1.4202793173835104,2.988739703038279,5.3767580162063178,41.119681051398651,4.2467469375487399,null,129.84026948251682,100.42614160059647,103.25702073599254,117.22185757896413,119.16437350900702,191.98628470138823,99.456206830387785,null,120.36955975364067,99.418021119832048,112.72693285834177,116.00078313769644,106.60330066482729,132.1128644016467,94.668410717142237]
[null,"Octubre",108.15327643844311,100.92045013378535,92.882107675692836,101.64554267807428,113.16607078119627,156.59503105573523,106.07222947927571,null,6.6913227054699709,0.93512332855349989,3.812821419562451,3.5344533820960589,6.361016810413056,56.355388688801234,5.6482508543835408,null,131.71579593184705,100.68619301183202,105.12151672781469,118.44593729620058,121.10413800179607,212.30539444185777,100.09750377352131,null,121.78622809158711,99.767879432124232,113.17735929815136,116.52841253584086,107.01452932473714,135.57607352579032,94.367304491396837]
[null,"Noviembre",107.42257296072412,100.68927438439286,92.207410300550009,101.27251191589737,112.45854969727577,167.83916844331733,105.94432355315584,null,5.6261121661041802,0.24776915660751353,4.5658312622681052,2.9499767850982295,4.4993191017212553,68.037837322836921,4.7866983659890172,null,132.83935563851742,100.68029672593497,104.87732434531691,118.92785743953979,121.41113069352836,241.61606686601633,100.14721589543724,null,123.660560324771,99.991083798634179,113.74066791754514,117.43350213165884,107.96078290210198,143.95690178101361,94.52815642849427]
[null,"Diciembre",107.76346840951318,100.76888847511427,91.582906393575627,102.01364650454002,112.85965768750187,153.08628171188874,107.07271872765745,null,5.6146512817651484,0.56955007431771509,3.7487226816159458,3.8543369476370826,4.9429287585952109,55.995973345109043,5.5987703154403601,null,134.88984351335219,100.97785941176909,104.68920321331913,120.11123711251537,122.70061948840339,228.55158260199099,100.91246476006668,null,125.17214368115526,100.20737644308385,114.31085487003376,117.74036242020809,108.7196452678868,149.29592648420933,94.246663351045058]
[2004,"Enero",108.10648711698239,100.37493654463456,91.906042032867887,102.63961105956871,112.49095185035097,176.63127739989343,107.62061423661434,null,5.1891457878725733,1.1228181762658052,2.5079860329804582,3.6464001148183822,4.3433574639279549,84.210128303631464,5.9516184916818871,null,137.02961136822,101.1419567689192,106.2960808870681,121.18879657142914,123.22304673048062,280.0452698384089,101.48403784887117,null,126.75429109072778,100.76415512745412,115.65733714117945,118.0721510149674,109.54040720928984,158.54795026159834,94.297954503166736]
[null,"Febrero",107.90968534474595,100.3263224279971,91.547849698908735,102.24233645306674,111.63202787201512,170.2838506548749,108.04048410583908,null,{"$f":"(C115/C103-1)*100","v":4.2670380780484241},0.76787847514026009,2.0827613958361635,3.4901307882002852,4.1113491598103069,77.478282802437406,5.8584118582120093,null,137.91594186655593,101.03072808321383,106.16960156567356,121.5365917326956,123.28827747413007,298.83865242952254,101.40053861180634,null,127.80682422152105,100.70211449813908,115.97170432167903,118.87110168739707,110.44167146679331,175.49441786772709,93.854206088591667]
[null,"Marzo",108.40073769810651,100.11725710935379,91.178475434982744,102.49685585736475,111.68390102589085,158.05835176904907,108.53422941429632,null,3.7915951427286654,0.19206835891611984,0.54338423069906217,2.9799840936070909,3.0499982596903008,33.173047506915943,5.7717677887072494,null,138.346933308785,100.84787701496489,105.84381981709979,121.54871292628557,123.25678884478091,282.06238161003773,101.05146435528663,null,127.62545370685385,100.72976420519899,116.08421758770749,118.58774779924323,110.36218086276124,178.45458873453282,93.105617371229016]
[null,"Abril",108.13193887199604,99.362171968446646,90.11904018959217,101.79231699321481,110.94712221056064,150.03323306191578,108.6244263288841,null,3.3256392362745357,-0.80763552360971769,-0.66306170381112972,2.0610616550692074,1.2847921509320015,20.913137070194686,5.356640028315951,null,138.79987271722584,100.61696149596457,104.86718480787572,121.59888601583766,123.09087456582837,268.59994635980132,100.81498338259274,null,128.361586932732,101.26284430247398,116.36518163892606,119.4578231517641,110.94553163102397,179.02696681138332,92.810601436322841]
[null,"Mayo",108.1741147683101,98.764708831897423,88.518959008434607,101.3017233006975,109.9969781953502,154.85354300264271,107.80574917980918,null,1.905617219618394,-2.1435990512312708,-3.3619886759314932,0.23062254419070616,-0.80638554199017332,16.479033608377126,2.8929459716881656,null,139.16171727071733,100.2239377239849,103.44107613966027,121.40293364047817,122.66519788460559,283.08088882175031,99.940503550749398,null,128.64604214120652,101.47748007293897,116.85753797647325,119.84291054961969,111.51687973351154,182.80556152139138,92.704242873038851]
[null,"Junio",108.44578437694972,99.085547753657877,88.185490542833804,101.69952814498791,110.89566000394463,156.53869270538269,108.10456685118173,null,1.8201140169427976,-1.5255102102373352,-3.6247661659633557,0.42581935963859063,0.64994100342790073,9.5827897450471369,3.1593041073198824,null,140.67341664903762,100.43279869981718,103.23708418666342,122.33741864286844,123.80431737926246,291.05797630962189,100.37056876446111,null,129.7177363391711,101.35968461264279,117.06810672728378,120.29300516366028,111.6403629996509,185.93356778404578,92.845817422896332]
[null,"Julio",107.99544886786602,98.765239982918402,87.3276322226817,100.90235219850702,110.55525182779061,145.07136774926479,108.26032919576572,null,1.665511860797797,-2.1212237732509687,-4.1160945296460305,-0.12349213001184856,-9.7775050732873403E-2,-11.560458034174525,3.8382967736354967,null,142.07452971191822,100.54294606558972,102.78188084472499,123.10463265729167,124.3014905880399,271.71855494979815,100.71302437666849,null,131.5560342600626,101.79993090988162,117.69685977816921,122.00372932348071,112.43381796249849,187.29991945717711,93.028559145197548]
[null,"Agosto",107.93042331890841,98.705495700072419,87.440985493933454,101.2032128752042,110.87274099270955,132.9252457288608,108.20853408888533,null,1.3756102249053326,-1.8738907803652949,-3.5342826365936664,0.83771245181074594,0.60811610336359845,-14.768159574973161,4.0633587894567391,null,143.14458404483685,100.571496530831,103.01680199117796,123.70990928009032,124.69895146996389,250.01913845794269,100.79780338469166,null,132.62672344189653,101.89047308614772,117.81294710856744,122.23911253947995,112.47034244256979,188.09003292567047,93.151436005864113]
[null,"Septiembre",108.39817143097575,98.817679035518736,86.996070419185259,101.918135454124,110.78077767758936,120.90497289626184,109.00806089028178,null,0.49147483480178611,-2.1742950113734505,-5.0253424011032832,0.85647653764713283,-0.89658340917793122,-16.800815669864811,3.7604409892635804,null,144.49660048212795,100.64563008691836,102.99693882607252,124.41998701976075,124.93200116821485,224.21172660972792,101.06162846165738,null,133.30169556793533,101.84982188333183,118.39263351756929,122.07835873897577,112.77407848842739,185.44458613964926,92.710234120554986]
[null,"Octubre",109.48338514576338,99.149125955843374,86.1051773242569,102.44168799013092,110.70946403009516,104.96965607709201,109.84450242441902,null,1.2298367198124716,-1.7551687250639714,-7.2962710698795341,0.78325649219872506,-2.1707979557325952,-32.967441323389593,3.5563247455643765,null,146.35056925356363,100.89644365592842,102.47059159166712,125.54702169472741,125.94232086508374,196.324338455571,101.48760932782612,null,133.67377073582099,101.76231276195338,119.00630690972385,122.55462025071515,113.75930862681052,187.0296100726348,92.392069778509807]
[null,"Noviembre",109.88941601600563,99.670671959411763,85.426790247829459,102.87223238822472,111.21253210928043,98.389763147382482,111.15375699669687,null,2.2963917054783511,-1.0116295218222215,-7.353660655493,1.5796196243812455,-1.1079794211729221,-41.378544674683205,4.9171425790710543,null,148.85744153202,101.36945544920002,102.6185956043782,127.05874810985503,127.44378642580965,180.84593692355617,102.63126621597462,null,135.46112713014926,101.70439654553553,120.12460646908778,123.5112188781458,114.5948069059159,183.80564312636758,92.33270110611241]
[null,"Diciembre",110.18160815232673,99.658299801983517,85.455262142700661,103.2918899480924,112.1683572607117,97.739370595020333,111.62702956211585,null,2.243932733887477,-1.102114640676044,-6.6908165422721382,1.253012207043791,-0.61253103274893084,-36.154063249790291,4.2534745438214117,null,151.16156195802176,101.77050908876753,103.44402880005778,128.30911119081472,128.58705752631255,177.37564774991108,103.62825700471213,null,137.19309827919736,102.1194514566081,121.05050784036902,124.21992787167927,114.63755079111932,181.47819724035352,92.834376594288273]
[2005,"Enero",107.70622419056662,98.144505022796167,83.619799879221901,103.15231073698909,111.75709777251383,99.100387379184326,109.32486919490758,null,-0.37024875850665273,-2.2221000566676086,-9.0159928230644777,0.49951443904325821,-0.65236720444271645,-43.894202183217566,1.5835766877767998,null,151.64720959191399,101.6623036884428,102.85273328986374,129.65085423701589,128.2243765581355,182.8007915505965,103.53652318677801,null,140.79707160061778,103.58430526989724,123.00045376623876,125.68875414491781,114.7348840600187,184.46021896075166,94.705371201670545]
[null,"Febrero",107.90715607197005,98.660920192652313,83.092902770595231,102.84274875586061,112.25920282842442,96.38721714522265,109.44922865193642,null,-2.3438792985275292E-3,-1.6599853309085644,-9.2355494488630114,0.5872443095717772,0.56182349130875497,-43.396148974469249,1.3039043260092198,null,152.71559006302112,101.73037179199696,102.38284424076407,130.10433848808984,129.66617891140149,176.83833263647364,103.60026806809731,null,141.52498835310377,103.11111187018227,123.21490864680098,126.50803295519238,115.50605709322707,183.46658184978887,94.656005660451385]
[null,"Marzo",108.51532919443029,99.295273559457911,82.234163748573536,103.0980901655531,112.2873597913874,95.300319640587219,109.39860198865084,null,0.10571099307730147,-0.82102084458631763,-9.809674535287872,0.58658805010081139,0.54032744196199634,-39.705609622047888,0.7964055017657623,null,153.88096010554787,101.73652126206065,101.15140191308156,130.55545380380468,130.25276820986619,173.48606618585023,103.60759921319055,null,141.80573495734836,102.4585739230991,123.0041108247254,126.63227184340759,115.99949313249127,182.04143159239172,94.706511170900484]
[null,"Abril",108.49050738592362,99.349398763049663,81.930168095312496,102.69505753573463,111.0693641489496,95.316152365292311,109.45496917369108,null,0.33160277866841614,-1.2855199462669109E-2,-9.0867280399923764,0.88684546062547387,0.11018035975458584,-36.469973738446868,0.76460044289885509,null,154.50578945746631,101.69179730533418,100.90542239869676,130.50125501846875,130.40600597239239,173.02719610873899,103.4361705204898,null,142.41410901311082,102.35773801497399,123.16027751988696,127.07647101035843,117.40951879179877,181.52977414113897,94.501118863182697]
[null,"Mayo",107.63033443465299,98.630047725559507,81.39999424776272,102.36991045082672,110.81219886688906,97.119583858084226,109.85706735120837,null,-0.50268988548858307,-0.13634536863478264,-8.042305106630943,1.0544609857805476,0.74113006094682632,-37.282943628595703,1.902791072837684,null,155.42873216224638,101.75363863626556,100.82270691911035,130.62622609172104,131.25006328481342,175.82385510486029,103.52347962720354,null,144.40978277979229,103.16697698392838,123.86082806373351,127.60216895419401,118.44369539356848,181.03851779449806,94.234701620282095]
[null,"Junio",107.22552985418076,98.419278451809831,80.842017277117193,101.08052253797925,109.68872379019426,97.510725041082367,109.12597821956506,null,{"$f":"(C131/C119-1)*100","v":-1.125220800217952},-0.6724182455997485,-8.3273033018393292,-0.60866123796186056,-1.0883529740545628,-37.708228326267736,0.94483646540983734,null,155.57021720992017,101.55319905967619,100.82188323757164,129.86739023892218,130.94443978769533,176.56132076556003,102.95365334131677,null,145.0869185925076,103.18425480979406,124.71470484459306,128.47914412999475,119.37821433510128,181.06861649441407,94.343853792696947]
[null,"Julio",106.78605237043892,98.63886637109276,80.022801685587581,100.45658828513099,109.94039622309339,97.305288312472328,108.79602077773214,null,-1.1198587626658263,-0.12795353086521022,-8.3648558321919424,-0.44177752417413618,-0.55615232612826748,-32.925917896734333,0.49481798729591464,null,156.44448049259313,101.55276829592465,100.37800173699169,129.80184092719745,131.96068743349417,176.57242010720148,102.74392365867729,null,146.50272860531447,102.9541113275465,125.43675005454122,129.21187464457219,120.02929948125414,181.46230607752989,94.437207284061287]
[null,"Agosto",107.08166381114461,99.042594413227519,80.359798570337333,100.52909580071906,110.71457690878533,96.935534129757798,109.7760173111789,null,-0.78639505124140641,0.34151970036138124,-8.0982469303109603,-0.66610244411549058,-0.14265371497816925,-27.075151452053248,1.4485763396498763,null,158.22115285034931,101.78746907262497,100.77067350316,130.43917053511234,133.30023572033764,177.47226904287513,103.29436372069314,null,147.75746586212674,102.77140827707444,125.39936049610358,129.75265468783749,120.39989623964331,183.08277829811195,94.095564997487187]
[null,"Septiembre",108.58984632401287,99.662552560299702,80.733832977345898,101.11830577771177,111.30674375248827,99.545815669763186,109.8009113912223,null,0.17682483985366204,0.85498215807850997,-7.1982992009468338,-0.78477659824561785,0.4747809917255319,-17.666070067130413,0.72733199220793576,null,159.21145262717121,101.77675933638785,101.11865281397728,130.45087510973755,133.77316315944742,186.23130082362559,103.292789760608,null,146.61725567979207,102.12136526887467,125.2494141363899,129.00816929874946,120.18423920199974,187.0809933804108,94.072798168836911]
[null,"Octubre",107.76985522835167,97.823065800284553,79.765610540439567,100.89829766909267,110.39976134553807,104.88534112860445,108.89854325385684,null,-1.5651049838570019,-1.3374400861076552,-7.3625849000271355,-1.5066037580198199,-0.27974364004951235,-8.0323163510831463E-2,-0.86118025907856444,null,159.62087754520459,101.5848368354504,101.4709962232001,129.97194098358977,133.62989697668294,197.97147226624335,102.81717482361638,null,148.1127326440095,103.84548470689508,127.21145809039641,128.81480063206556,121.0418350076295,188.75037267934511,94.415564939134214]
[null,"Noviembre",105.88564311456761,98.423631114209812,78.600600768314905,99.96386438498952,110.59481099297858,107.78985348328503,108.69749936519217,null,-3.6434563460186697,-1.2511612700973673,-7.9906894075163937,-2.8271652473326747,-0.55544200333004223,9.5539312578908575,-2.209783724699188,null,160.2167220701742,101.5264571226091,100.55458110809474,129.66933118768472,133.97727353378204,202.94723361410325,102.52966299322705,null,151.31109124663925,103.15252137446423,127.93105920970238,129.71620493610664,121.14245897331293,188.28046152375023,94.32568696797432]
[null,"Diciembre",105.45995383699345,98.336173141065714,78.681474846066067,99.506097413972327,110.45860648961563,106.14823606983792,108.23033912764977,null,-4.2853379928940338,-1.3266598602874158,-7.9267058888932258,-3.6651401538132067,-1.5242719184360598,8.6033554581187452,-3.0428924318692596,null,161.39373097428529,101.55896198008413,100.75593144987461,129.80361666713455,134.31356204941574,202.23792188591614,102.58526087641849,null,153.03793060989494,103.27731773169091,128.05546877075631,130.44790222966571,121.59628508625333,190.52405331809575,94.784199793947479]
[2006,"Enero",106.06159010473503,99.322506892108947,78.965434685509692,100.32900994666602,111.17454274358055,109.98964742482464,110.08503535984408,null,-1.5269629013470065,1.2002728721686173,-5.5661042007214112,-2.7370213717477831,-0.52126893105178818,10.988110474255897,0.69532776076892677,null,163.4416940681734,102.10593653259853,101.344185132584,130.45910356400029,135.97945672989246,211.48818106617276,103.72372666611473,null,154.10073892610507,102.80241581448718,128.33993194136224,130.03128769371008,122.31168518814908,192.28007909628039,94.221459190219974]
[null,"Febrero",105.93512475480489,99.129763189961665,79.078999569145211,99.762286057455256,110.46167541412844,109.18579929100643,110.55751890070844,null,-1.8275259852552184,0.4752063901227066,-4.8306209888126066,-2.9953134622238586,-1.6012294484607281,13.278298227555108,1.0126067240697756,null,164.3185311155529,102.19644021840683,101.25343431010958,130.34999357883251,136.77244665594594,209.18927772077689,103.73965019304873,null,155.11241573168576,103.09359866276337,128.04086402430454,130.66059202348384,123.81891379356379,191.59018762434218,93.833193096723861]
[null,"Marzo",106.76865921074247,99.118622816611079,78.998548556841413,99.977407746918416,110.19296757284432,104.41904406430588,110.58540442944098,null,-1.6096066764523798,-0.17790448277585913,-3.9346362195946227,-3.0269061372752426,-1.8652074663026541,9.5684090652673035,1.084842419570653,null,165.24125770799057,102.07888338556481,101.20679889475196,130.30855437367467,136.88085879404719,199.26269530713643,103.71613069585995,null,154.76569522319608,102.98658363568146,128.11222578593475,130.3380006646463,124.21923268702291,190.82984056473612,93.788263678174644]
[null,"Abril",107.76537262451909,99.171536746898212,78.635896970313269,100.3119396165026,109.64804745172096,103.12125604613776,110.15518565902993,null,-0.66838544576538483,-0.17902676650882743,-4.020827982638675,-2.3205770330308129,-1.2796658269535022,8.188647450783515,0.63973019281353682,null,166.4142617148496,102.09939971328426,100.92531572959305,130.54982951526927,137.34597620846876,196.52119975644104,103.84513176370605,null,154.42275905700953,102.95232186817718,128.34509380327219,130.14385925979261,125.26075876448547,190.57293063664289,94.271668775670918]
[null,"Mayo",107.62183100612175,99.739472934705816,78.659821059554758,100.72159213863335,110.23466355599884,104.55396256675171,111.33143467092606,null,-7.9005872980930647E-3,1.1248349105876132,-3.3663063659040482,-1.6101589861067023,-0.52118387397399601,7.654870844103856,1.3420778064320515,null,168.27393020979727,102.44010416567973,101.2602582025512,131.49290076552373,138.98367280495521,199.58217929319176,104.51464982847708,null,156.356687706071,102.70768548450408,128.73186950919356,130.55085605133871,126.07982672741771,190.88915847237254,93.877034942917916]
[null,"Junio",106.57640020161514,98.551115134191349,78.056631606041321,99.965239843891311,109.57338403008504,104.23290567707889,110.21257262870743,null,-0.60538721836898013,0.13395412408563345,-3.4454677961930247,-1.103360633764916,-0.10515188446338364,6.8937859226914755,0.99572478237592854,null,168.09211123650098,101.92648419718793,100.98691857427325,130.73735825172065,138.55558842498746,200.19183382960017,103.56370590245756,null,157.71982438749473,103.42499327217205,129.37647512637119,130.7828185636167,126.45004044681592,192.06202928834105,93.967233893859742]
[null,"Julio",106.66718673051342,97.904443815431605,77.898287730828798,99.941839852772205,110.00624906761375,103.74891561163597,110.79454626635386,null,-0.11131195253211157,-0.74455697097952633,-2.6548857450730989,-0.51240883365235579,5.9898678540992734E-2,6.6220730763075109,1.836947228708552,null,169.54497752864944,102.293099330901,101.02650621150239,131.17288266224779,139.65494666019674,200.57899820805764,103.93969042102992,null,158.94764146821646,104.48259072258543,129.69027838017604,131.24921740032315,126.95183032225728,193.33117558441418,93.813002465983615]
[null,"Agosto",106.95153020159937,98.909242389567765,78.034323689544806,100.16358815850559,111.11104304589061,103.79547415526413,111.53617434337033,null,-0.12152744448830077,-0.13464108492895477,-2.8938286583148676,-0.36358393488192808,0.358097504569721,7.0768063405145298,1.6034076251846274,null,171.08453645261278,102.54949896343027,101.27621526641599,131.6421659118821,140.92082261694802,200.58425181270673,104.46280198361765,null,159.96455228842939,103.68040082596615,129.78419044078316,131.42716663021568,126.82881804893643,193.24951636394044,93.658225771688294]
[null,"Septiembre",107.28976772819502,98.549872919654888,78.350052015399257,99.734266330658826,111.39663074748566,105.55290474653272,111.55796262981917,null,-1.1972377158897984,-1.1164470626734091,-2.9526418776816055,-1.3687328287476208,8.0756108719937103E-2,6.0344968157151513,1.6002155322158318,null,171.64378757165781,102.40412945002537,101.47538051796236,131.36877489180893,140.77999854244976,202.28358461528893,104.24467544707908,null,159.9815072826847,103.91097057376497,129.51539649012352,131.71879608184923,126.37725000998499,191.64189285083003,93.444405930029717]
[null,"Octubre",106.6351843598389,98.617978153707412,78.209965435178674,99.244751867561277,111.18937598913439,106.73926967761211,110.91985291390402,null,{"$f":"(C147/C135-1)*100","v":-1.0528647979609285},0.81260216792402584,-1.950270416938904,-1.6388242812127363,0.71523220156692879,1.7675764115926196,1.8561402197412757,null,171.40345846152761,102.43042469302081,101.59875023673648,131.27827623676384,141.41719906069602,205.54294088221167,104.23023935456801,null,160.73818364033497,103.86587375921583,129.90512100525436,132.27729806000241,127.18589146009376,192.56543679099482,93.968966435135385]
[null,"Noviembre",105.377818790001,98.158109955183406,77.928535203601911,99.096194241367499,111.3009150957831,106.59726622698828,111.41637111239845,null,-0.47959695916202083,-0.26977378909979199,-0.85503871235538265,-0.86798379490450328,0.63846042727027097,-1.1064002944225937,2.5013194996065691,null,171.16845037830862,102.65860744037664,101.86681856601072,131.84250801457216,142.60987418019428,206.73884798262293,104.85115976180627,null,162.43309298270492,104.58494717069027,130.71825140799305,133.04497617077487,128.13001048326277,193.94385550413,94.107498489634793]
[null,"Diciembre",105.25760117343553,97.819078522323451,77.377618973135341,99.027952560824843,110.82276269799412,104.88713007209459,111.68648723354094,null,-0.19187630583519244,-0.52584374826186719,-1.6571319684609565,-0.48051814469044496,0.32967662724654456,-1.1880611910626726,3.1933265050707371,null,172.14519929885651,102.93489607837607,102.15302091501563,132.47401652560532,143.7533419391556,204.43864505150526,105.38327935200995,null,163.54657276979799,105.22987706829106,132.01882181265108,133.77436683267513,129.71463482723439,194.91299353026776,94.356337962039461]
[2007,"Enero",104.91397290615359,97.26141601269039,77.23497337452045,97.416545402647074,110.03163860737185,109.44182806727075,111.83582769140024,null,-1.0820290337417937,-2.0751498768123766,-2.1914161783330055,-2.9029136693038082,-1.0280268378029311,-0.49806447277532806,1.5903999356799092,null,173.20584191210378,103.08446760435352,102.80329250356168,130.8195330741911,143.09737756932611,207.63937061156298,105.58168925095195,null,165.0932064759742,105.98701091386882,133.1045872250875,134.28882386814385,130.05111927846809,189.72578791715088,94.40775056656625]
[null,"Febrero",105.51632692423297,98.108983628504717,77.627836734544147,97.145096242630586,109.95783549256005,108.71959623131711,112.31524729423298,null,-0.39533424965634278,-1.0297407444632256,-1.8350799106053306,-2.6234260643519858,-0.45612192616077962,-0.42698140483157232,1.5898768451046319,null,173.93733697056052,103.23660434707742,103.16154506423145,131.02853891043745,144.03955071836978,205.80842015661872,105.81812277684588,null,164.8440028579254,105.22645381587962,132.89246410021997,134.87921056064343,130.99525838530693,189.30204608075502,94.215278269061244]
[null,"Marzo",105.71557009280448,98.310499243102356,77.536476198919544,97.39771541719243,109.82134682607281,107.06918510197774,112.56306364267719,null,-0.98632794091698672,-0.81530952564172754,-1.8507585071260824,-2.5802752720456512,-0.33724542950152037,2.5379863045286832,1.7883546417719609,null,174.39889490385073,103.34460507098294,103.21301868622845,131.32051413982282,144.64686900760782,202.71588025436989,106.20687624726615,null,164.96992330529102,105.12061871991132,133.11543643205533,134.82915238548028,131.71106819213315,189.33167377830858,94.353221039196072]
[null,"Abril",105.80109862464504,99.192633314376735,77.809079027781053,97.855012340758705,110.00547640397326,105.47917597603505,113.12722488161953,null,-1.8227320632185462,2.1272804849603588E-2,-1.051451022227623,-2.4492869793335093,0.32597840140262679,2.2865508240535126,2.6980474907364993,null,175.28955864743111,103.81996927602309,103.32285022887579,131.9749535515293,145.76474378593892,200.18080532231681,106.87585127726049,null,165.67839174271072,104.66499961441762,132.790223865759,134.86785234051717,132.50680652538318,189.78229917893751,94.474032567403015]
[null,"Mayo",105.51155121285723,100.37631840180883,78.456655886571156,98.163062840329886,110.25417127485606,105.05984109536111,113.55686667657334,null,-1.9608287403551916,0.63850895574706357,-0.25828328903746423,-2.5401994189904187,1.7696537756761721E-2,0.48384443419484668,1.9989251124134189,null,175.89953083561383,104.17957349355976,103.50368620172871,132.34038189963891,146.77962912495931,200.51663261621039,107.44318070742096,null,166.71115988121252,103.7889964010499,131.92467233292399,134.81688332698133,133.12841358087741,190.85944784002169,94.616189977691917]
[null,"Junio",105.16362285179861,100.00337900357722,78.692097695521937,97.963590008485482,109.61435762685497,105.97713493633998,113.43496820823052,null,-1.3256005524149073,1.4736148519561842,0.814109033922783,-2.0023458539504935,3.7393749524694542E-2,1.6733959855871561,2.9238003457000561,null,176.00853797464742,104.29795520354035,104.11053431470094,132.3725282918171,147.17399885433454,202.70480675093668,107.6529415326239,null,167.36636985460908,104.29443109098295,132.30112980026135,135.12421123026544,134.26525688846226,191.27220873889505,94.902782830605929]
[null,"Julio",104.88947224551903,99.768033626958669,78.545471622407902,97.801851013798029,109.9844296351758,107.95812098735811,113.61320636212298,null,-1.6665992040135524,1.9034782680960705,0.83080631222010037,-2.1412341839280424,-1.9834720866207523E-2,4.0571078270142946,2.5440422753236991,null,177.02542563371185,104.72271370650452,104.55182553128344,133.01305919064018,148.66146077978487,206.96467595842017,108.24068721901871,null,168.77330188042254,104.96619999354886,133.10993412057672,136.0025989404582,135.16591509625758,191.70829768578108,95.271219504200715]
[null,"Agosto",103.92806418400966,99.529459818914006,77.342434211428468,96.763066170747649,110.2077944033081,107.90040719525075,112.90256362766085,null,-2.8269497518086939,0.62705710241255375,-0.88664762556152077,-3.3949682217621069,-0.81292427631108888,3.9548285446879827,1.2250637896939365,null,176.44127759402076,104.2837885260258,103.85149556390219,132.55945464616187,149.12761724846752,205.57110804450457,107.68270577136605,null,169.77250464477331,104.77680549634442,134.27492504309703,136.99385508541872,135.31494578571403,190.51930700550014,95.376670211396373]
[null,"Septiembre",104.1499450072743,99.574876476295927,77.766189023199303,97.154991930586021,110.58373107045821,108.51744510616372,113.21414629960989,null,-2.9264885062246226,1.0400861272309214,-0.745197963729749,-2.5861466624935936,-0.72973452749224288,2.8085824513781388,1.4845947619950728,null,177.39727619237865,104.71563330558386,104.77246025655272,133.19619080664563,150.79144016890106,208.59815179377966,108.24143607242998,null,170.32872766278314,105.1627047014331,134.72752306956545,137.09660014362396,136.35951573457453,192.22545424812202,95.607695336923584]
[null,"Octubre",104.7695719940798,99.874889573695526,78.539755670305837,96.979562280517484,110.51238304720728,109.51998415457895,114.10959166773263,null,-1.7495279601745906,1.2745256428083218,0.42167290740013907,-2.2824275787062365,-0.60886477318954357,2.6051466207006158,2.8757149148984862,null,178.9795770308113,105.4963873188355,105.90580748119818,134.21419172022223,153.36926982768483,211.01296126604439,109.39701778684289,null,170.83163901912752,105.62853963507213,134.84356626441462,138.39430552594371,138.78016707156746,192.67073757809897,95.870133428737574]
[null,"Noviembre",103.81924287919102,99.52017187155694,77.003139915852103,96.444983454127851,107.76344338414791,108.37690272031163,114.29406608221039,null,-1.4790360331104813,1.3876203576000279,-1.18749221364427,-2.6753911263051378,-3.1782952625240557,1.669495434839563,2.5828295618324226,null,178.58549159083168,105.96135867826557,105.22741006337586,135.05712930810211,155.1526791074734,211.37441249531221,110.1930071778298,null,172.01579075147194,106.47224244650802,136.65340163838357,140.03541135173646,143.97524265663591,195.03640276637759,96.411835675326543]
[null,"Diciembre",99.064332784497921,99.951321257163002,76.128448912534822,96.245614053298482,106.77358629955729,107.52646378141549,113.80013540992093,null,-5.8839155746413185,2.1797820701745296,-1.6143816224614249,-2.8096496348517297,-3.6537407116183696,2.5163561130014056,1.8924833511508421,null,172.87802042497106,105.82749875808612,104.83913077566982,134.82456125482713,155.19639779428962,211.85175547152556,109.9747218601272,null,174.51086134203882,105.87903934336636,137.71347278613433,140.08384961850265,145.35092729664461,197.02289838358965,96.638480669628251]
[2008,"Enero",98.833646454414634,99.437864161123841,76.824591335119422,96.001342474339708,106.39705878325771,113.8812375423496,113.22220792075311,null,-5.7955354118348517,2.2377302713230796,-0.53134224234278049,-1.4527336423786896,-3.3032133939979613,4.0564101984390089,1.2396566091310568,null,173.14871056344464,105.89586085410043,106.28439723357484,134.92996398881613,155.49884571742652,214.99025215411899,110.80309677934343,null,175.19206947737842,106.4945046310653,138.34684361671083,140.55008035422182,146.14957170403972,188.78461175324816,97.863395189128553]
[null,"Febrero",98.585170856962733,99.480766080064441,77.194242249271113,95.697736215728867,105.89443905242086,115.21692246784069,113.35922052813547,null,{"$f":"(C163/C151-1)*100","v":-6.5687996060052605},1.3982230788915917,-0.55855541454252755,-1.4898950980364201,-3.6954132663098105,5.9762236632111332,0.92950268022611304,null,173.535455691019,106.30161294739749,107.00198015349112,135.37457493535175,157.1591893890452,216.30178882660101,111.38824479739935,null,176.02592173096872,106.85644787037876,138.61393937641958,141.46058233831198,148.41118267905151,187.73439195702795,98.261300914426329]
[null,"Marzo",99.843145563269843,100.16687068309716,76.510986741074277,96.587893522927331,106.3618273050359,115.40687874099224,114.1980385550826,null,-5.5549286868333709,1.888273840827881,-1.3225897127622566,-0.83145881892230378,-3.1501339411870943,7.7872019209572763,1.4524968133379224,null,175.3514471641615,107.08353145793322,106.54739888535562,136.80648353883174,159.37071110829407,218.51339280008756,112.78273630647027,null,175.62692578935489,106.90513812368027,139.2576457626007,141.63936964455863,149.838259783967,189.34174044382343,98.760659756927723]
[null,"Abril",99.695488248100261,100.25531518324014,75.158263815668207,96.532625800674424,106.32762327937594,114.63616429133735,114.71386587578264,null,-5.7708383522612543,1.0713314420188746,-3.4068199305718472,-1.3513733312703113,-3.3433363909003311,8.681323332847013,1.4025279907851074,null,175.7971796764088,107.53883184653239,105.63755527707492,137.41438204633965,160.86279964318547,219.96853856631051,113.25606555998036,null,176.33413784876939,107.26496809668387,140.55347996882907,142.3501960156766,151.28975395276004,191.88407072595393,98.729185609191433]
[null,"Mayo",101.47268306954471,99.785643842707387,73.373876934981453,95.371354326597626,104.40111565227292,114.91681562400069,114.1227764211494,null,-3.8278919197809569,-0.58846007554985702,-6.4784547520584379,-2.8439500897330383,-5.3086931359647815,9.3822477036611609,0.49834920699938223,null,181.2878959911028,107.50724657260504,103.97004596629142,137.28867840487374,161.55260447113164,219.7280169189701,112.88636324934869,null,178.65684685488841,107.73819001666136,141.69899466866394,143.9516921765952,154.74222038892023,191.20614831331898,98.91659385569281]
[null,"Junio",102.70469012113172,99.546349547488376,73.459072011721503,95.012806672941736,103.60398748202189,113.79540417993434,113.80683112914684,null,-2.3381970533024821,-0.4570140135689793,-6.6500015084719593,-3.0121224990715012,-5.4831960656954726,7.3773170488999895,0.32782035979743718,null,184.83726207212877,107.75056527971883,105.01798950862644,137.37153544677136,162.70995911796021,220.98957278818037,113.10039799296885,null,179.96964097173014,108.2416038051869,142.96122539074446,144.58212556507161,157.04990036816372,194.19903148175442,99.379270005878354]
[null,"Julio",104.4378152725741,99.063969591071526,72.676807900477954,93.73121863017694,103.70429084237993,113.08222071441968,114.17724797745757,null,-0.43060277001654157,-0.7057010249592599,-7.4716767252253735,-4.162122026756732,-5.7100253314286586,4.7463772805582671,0.49645779165565784,null,191.30972199681827,108.13514470090367,104.74167821515272,137.82521762929304,164.26903180930114,222.138008408704,113.50878774900109,null,183.18050937537868,109.15688635058464,144.11981103873427,147.04302327818019,158.40138385303027,196.43937570849107,99.414541653177295]
[null,"Agosto",104.08869349680705,98.171054250543122,71.28911755684328,91.8090181633264,102.78802276625285,113.09932186428951,112.02706165704879,null,0.1545581687281361,-1.3648276307762552,-7.8266435706399351,-5.1197716272026401,-6.7325289261324084,4.8182530577767668,-0.77544915056080299,null,194.45868268052203,107.45577295915521,103.44410208439427,136.56018568657092,163.75237387322974,222.83002140335677,112.02525516077246,null,186.82017820358854,109.45769481594489,145.10503935178019,148.7437600559382,159.31075378851688,197.02153623054934,99.998387446524433]
[null,"Septiembre",101.92523490281647,97.128084900296216,70.671427446452256,90.391034554500649,100.39573461715648,110.68518965250259,108.97360092109456,null,-2.136064598308185,-2.4572378722279131,-9.1231956533584615,-6.9620276237766454,-9.2129252238834951,1.997600057961324,-3.7455967448565608,null,192.22897049325238,105.86299514404752,102.36128924140277,134.65333815975177,160.10790678394025,220.6658293567057,109.78284827144972,null,188.59801566956267,108.99318693734963,144.84112312428095,148.96758160076539,159.47680187259635,199.3634650213715,100.74260861668793]
[null,"Octubre",97.558315819455288,93.725630549125327,67.688423520782933,86.559860995122762,95.792665518282305,108.70095667860383,104.58825994234122,null,-6.8829680577792152,-6.1569620260083386,-13.816355878511544,-10.744223876011416,-13.319518702838206,-0.74783381525980186,-8.344024009056028,null,186.89029005662653,102.27556962114375,99.053537564851496,130.54987823249124,153.27514666681324,215.86134743921099,105.88503200150197,null,191.56776999153203,109.1223062698277,146.33748640111003,150.82034182084359,160.00718409653214,198.58274851936062,101.23988300395823]
[null,"Noviembre",94.075252269860584,92.309887562695394,67.153349040078183,84.826619889823348,94.07374510645765,110.65464169690703,102.94631149919823,null,-9.3855342604154846,-7.2450480875046246,-12.791414592362893,-12.046623005364033,-12.703471462850469,2.1016830333983272,-9.9285596986722453,null,184.59559686247715,101.35140224676979,99.385024516814354,129.33529358422157,151.85504380970696,215.46048546602893,104.78526451586309,null,196.22120845655928,109.79474130323641,147.99712290968512,152.47017239659922,161.42128033476467,194.71436729802485,101.78632239454171]
[null,"Diciembre",94.135765370997703,92.217500243766722,67.93131400351173,84.845032417507156,94.562074842825965,112.29960427925154,104.04792911430474,null,-4.9751179611956857,-7.7375875737530908,-10.76750548069213,-11.845299910994346,-11.436828039541048,4.4390379167858596,-8.5695911173458974,null,184.98040174794065,101.63288328857401,100.71356188271142,130.33146587111119,152.8613750278638,217.16173818877456,106.03513996655462,null,196.50384847769163,110.20997426726898,148.25793282536091,153.61119226140838,161.65188346590173,193.37711791821275,101.90989947533389]
[2009,"Enero",94.146204961023159,92.52261446366515,69.240837061378343,84.17775219791298,95.127640175983203,116.25292070375515,104.02476452238567,null,-4.7427588291538703,-6.9543425492864408,-9.8715191866881487,-12.316067642061434,-10.591851632131599,2.0825934215226605,-8.1233563337723922,null,185.17995245301256,101.03323163478599,102.06678144006727,128.7842067343305,154.28342264722633,218.03717138770531,105.76127891735594,null,196.69401706598549,109.19841837636687,147.4083586678631,152.99078838734238,162.18569320316024,187.55414493483983,101.66932787874426]
[null,"Febrero",93.895613096132791,91.899830591398342,69.652717654116827,82.880719485649948,93.667579980397207,115.48243346460214,102.34418996848744,null,-4.7568591909568418,-7.6205037288964883,-9.769542877047277,-13.393228760590381,-11.546271155911224,0.23044444433546474,-9.7169251061620781,null,184.80979018281619,99.812969742895092,101.65175259666255,127.24624546458966,152.24764128813675,216.39052970752047,103.98396327896999,null,196.82473343414145,108.61061342613334,145.94082760912119,153.52936877752518,162.54038090874047,187.37960676404418,101.60221436213179]
[null,"Marzo",94.603476410258907,91.744397351222034,71.146442468448953,83.158219723771509,94.430100181160768,116.03324370500368,101.85165814279144,null,-5.2479007181224997,-8.4084421070931938,-7.0114692034750732,-13.904096372044783,-11.218053907306469,0.54274491334020958,-10.81137694526687,null,185.81176281616314,99.850262126019985,103.28369696734063,127.33276792662321,152.27446294639378,217.27097138527859,103.89910987040278,null,196.41113610917316,108.83526951925633,145.1705712666427,153.12108454171729,161.25627596948502,187.24889906349244,102.01022915575994]
[null,"Abril",96.306316858331584,93.227463061345219,72.646559405361998,84.076776716828178,96.702314078157684,117.79098238054215,102.98672021376241,null,-3.3995233378409817,-7.0099546433522004,-3.3418872161102176,-12.9032531546026,-9.0525010381617861,2.7520269094027938,-10.222953931932622,null,189.39115954437511,101.29815900599581,105.30366228643568,128.85744159315169,155.46571627917331,220.37853869251114,105.25774501890083,null,196.65497105758195,108.65699406551474,144.95340611913863,153.2616337412,160.76731747445186,187.09287777271766,102.2051627631452]
[null,"Mayo",98.500674561254712,94.052563267168665,73.568590415100573,85.04819815719047,98.803234019613498,119.51835767969351,104.98676259917769,null,-2.9288754553312923,-5.7453961860243208,0.26537166666504852,-10.82416858007036,-5.3618982878537391,4.0042373526505637,-8.0054254798857194,null,193.25159393614683,102.31932630579428,106.64665723239122,130.13322433373645,158.89143526336429,223.50830486263229,106.82582568135939,null,196.19316801324976,108.78951381169995,144.96221367114995,153.01114797660676,160.81602676266914,187.00751014470052,101.75170948855995]
[null,"Junio",99.733676860329368,94.962614221126827,74.514481135806292,85.483839731279176,100.05989156485408,118.3006640647988,105.67483255047047,null,{"$f":"(C179/C167-1)*100","v":-2.8927727227435196},-4.6046242249946907,1.4367308151080227,-10.02913951849006,-3.4208103407050827,3.9590877305912153,-7.1454397754456949,null,195.18008933602766,102.77422679789372,107.44526565731805,130.74568428980226,160.34922310498476,224.83230618152027,107.60233071727549,null,195.70128714833697,108.22598729072162,144.1938050423968,152.94783751034689,160.25324492886742,190.05160111220434,101.8239897999218]
[null,"Julio",99.844164092877335,95.39088651577201,74.748682371107591,84.888616778990695,101.26787720498079,118.41094910638047,105.35953177735419,null,-4.3984558348982183,-3.7077891088573622,2.8508055464775195,-9.433998597708781,-2.3493855631318561,4.7122601221442961,-7.7228312613072392,null,197.51405949238031,102.94864694690666,108.24869037701833,130.97974263429373,161.45479846649101,225.65340053139522,107.97042303398032,null,197.82233772686823,107.9229376171958,144.81685421502414,154.29600293205658,159.43337899705671,190.56801945626503,102.47807788491644]
[null,"Agosto",100.88736221856095,96.439284668947494,76.17894568913438,85.498102096870866,102.77312088916706,118.45376751291971,105.90446412866478,null,-3.0755802294168522,-1.7640327842216807,6.8591508772599674,-6.8739609601624725,-1.4497678508396117E-2,4.7342862542139041,-5.4652844034482229,null,200.32752981806397,103.61491713179841,110.11937774059044,131.71192910918822,163.91329058053955,227.05963759220072,108.58920776100804,null,198.56553428771113,107.44056997880386,144.55355970658579,154.05245950366975,159.49042819990595,191.68629445866753,102.53506181673468]
[null,"Septiembre",101.34197985208765,96.696918935856644,76.382073425821218,85.690757605322815,103.05265866525995,118.93801331071927,107.2888163667467,null,-0.57223812266407048,-0.44391482122001502,8.0805584176093284,-5.1999371091873474,2.6464511248762257,7.4561227966691179,-1.5460483457528151,null,201.19909635800929,103.695938392299,110.93297228039334,131.98382532869405,164.63328521170831,227.95921286381113,109.26972855466362,null,198.53479935133177,107.2380997589852,145.23430342346802,154.0234081446558,159.75646562062718,191.66219992953785,101.84633613735241]
[null,"Octubre",101.05147584532332,98.095599375556844,77.425349488019066,86.071866525507403,103.98865601587778,119.61120385443894,107.96773481731022,null,3.5805866435133948,4.6625120586849977,14.384920582832784,-0.5637653110866836,8.5559687197880976,10.0369375847293,3.2312181853222155,null,200.95972212838888,104.34369758048932,112.1351438812255,132.75220031059661,166.64249779228268,229.5673928074566,110.18101601447667,null,198.86866614001002,106.36939704197307,144.83001319687617,154.23413673880938,160.25065057753844,191.92800123208275,102.04994686691489]
[null,"Noviembre",98.849773457332745,97.038391016651261,77.236314541995625,86.128456002050171,104.71022562228842,118.46474355994864,108.11173673944964,null,5.0752148649850559,5.1224235873370993,15.014836409573217,1.5347023303742491,11.306534574332193,7.0580878879298758,5.0175913687705354,null,195.99941803198598,104.50831218992624,111.74712093411479,132.97553963632905,167.66998624034878,229.49633711558118,110.28673854237516,null,198.28008823569698,107.69790295883325,144.68209882458157,154.39210896009067,160.12761432218602,193.72543274822135,102.01180914165435]
[null,"Diciembre",97.728215417013345,97.395507051731968,77.501776872842399,86.040436273014649,104.94067437887865,118.07767723065695,107.73881145909057,null,3.8162435200451927,5.614993677206348,14.088440669403091,1.4089261580160883,10.975435504459075,5.1452300197223133,3.54729053831635,null,195.51136729556509,104.42344713269682,112.00289084571868,132.75053098876541,168.17687483540016,228.84284047406632,109.89986416582249,null,200.05621351142452,107.21587709095444,144.51654576834082,154.28853773769245,160.25899950691473,193.80703096575735,102.0058256420923]
[2010,"Enero",95.178491750314251,97.305090519101071,76.867676302912542,85.718819271432253,105.90640501614034,121.36373761721661,106.09602813901432,null,1.0964720136286576,5.1689806683036021,11.014943731505443,1.8307296563301101,11.330844347885382,4.3962911921028303,1.9911255037572628,null,193.1106814296904,104.78908109597114,111.98547382562553,132.62714122925397,171.87974201518637,227.8868918245648,108.33186687140677,null,202.89319349195591,107.69126315688587,145.68604023403054,154.7234812104499,162.29400099927059,187.77181413390883,102.10737269962915]
[null,"Febrero",92.410690399160927,96.827903116342441,74.290265045124769,84.736229124583502,104.49860713053084,121.36638285347331,105.53741599274865,null,-1.5814612078325352,5.362439183217993,6.6580997083806492,2.2387711526259402,11.563261431970751,5.0951033956820213,3.1200852977041782,null,188.22119827106894,104.17020812681623,108.42103875494891,131.73923219949711,171.50125002697584,227.7657384392835,107.71704414450747,null,203.67903048669137,107.58284004317609,145.94245785648056,155.46978377549397,164.11821624832851,187.66789706031452,102.06526579342115]
[null,"Marzo",90.030354355411276,97.3036081437549,72.982638179809697,84.985821196387676,104.7202566492884,121.34183624325696,105.88990833768365,null,-4.83398943503488,6.0594553488108049,2.5808679220679753,2.1977400173872841,10.897114848323074,4.575061739848918,3.964835004679812,null,183.15790476185839,104.57688080379511,107.30496195669561,132.15161126847815,173.12134082561337,228.80197151297205,108.11278628681885,null,203.4401686777874,107.4748231836324,147.02806671954619,155.49842245225639,165.31791113289808,188.55983937336097,102.09923493563373]
[null,"Abril",86.467987963776523,97.796788682827795,73.183309912781198,84.764380383949202,105.13988959449762,121.5080003036777,105.69670977383899,null,-10.215663121067575,4.9012656479517025,0.73885193161615792,0.81782829215359953,8.7253087961477682,3.1556048247625146,2.6313970912479112,null,175.66889436305377,104.74009515263451,107.33484635675892,132.23796801716651,174.07383591526278,229.45228374037731,108.03794899931492,null,203.16061296192717,107.09972849141813,146.66574453202381,156.00652941504518,165.56402768409674,188.83718205132246,102.21505402626583]
[null,"Mayo",86.72801684924481,96.829410678372014,72.209034288989002,83.468613128310324,103.81534354899017,120.70929514333591,104.05592153123865,null,-11.951854913124304,2.95244203320153,-1.8480116561163773,-1.8572821801123629,5.0728193050661785,0.99644731300114753,-0.88662708030424753,null,177.07886668520786,103.47764539967137,105.8189427545603,130.43496881049413,171.82761097323655,228.62467814539266,106.59196032968556,null,204.17723489863215,106.8659250063827,146.5452956081098,156.26828327671598,165.51273164371082,189.40105471903627,102.43718835134776]
[null,"Junio",87.37935181823147,96.089723435059341,71.706132817429889,82.80011628789596,103.65885969406817,120.73160741549407,103.60856761279685,null,-12.387315329203529,1.1868978367718164,-3.7688624755476074,-3.1394512130240915,3.5968139410598843,2.0548856339164256,-1.955304671702951,null,179.10015540221656,103.27259771117031,105.73183350770641,130.06046700253779,171.79191240636632,228.52454935065091,106.35105677448577,null,204.96850992301341,107.47517426352611,147.45159075432079,157.07763809209834,165.72815185636952,189.2831166938669,102.64697140871407]
[null,"Julio",86.087442088781785,96.659277268454673,71.831111073032091,82.876974523126947,104.02481122928437,121.44353422718736,103.4792559542438,null,-13.778193376729286,1.3296770781902278,-3.9031742172932593,-2.3697432378961936,2.7224171182369528,2.5610681644671285,-1.7846281123228502,null,177.01388873482185,103.88610952924742,106.26896843781654,131.01449897002738,173.83212133359734,230.64441465830333,107.39742566743855,null,205.62103419482233,107.476604900243,147.9428159335734,158.08311020507583,167.10640401975687,189.91905672543362,103.78643011786563]
[null,"Agosto",84.451433899351031,97.255073699140453,72.242131547193239,82.903953694829426,105.70982987045575,122.0901056001947,103.66744365827932,null,-16.291364902180071,0.84590945794897898,-5.1678506526018575,-3.0341590496385851,2.857467940917835,3.0698374257098981,-2.1123004481356622,null,173.62466150033558,104.15631150433096,106.7174637123621,131.4116690557276,175.36078204108975,231.95435787849746,107.95896997165926,null,205.59113502709843,107.09601827719504,147.72191991960725,158.51073826883544,165.88881304225836,189.98620464632276,104.13970496612819]
[null,"Septiembre",84.762434314717794,97.42575389471304,73.002899150070903,82.814763383207875,106.43260865920854,122.03164501973083,104.36188332115233,null,-16.359997664904824,0.75373131520339864,-4.4240410402475057,-3.3562478643977989,3.2798280391071577,2.6010453873393846,-2.7280877399086911,null,173.73680770419406,104.45417312846881,107.91739953181659,131.80459291277597,176.83071387980885,233.25154477421376,108.45065931299528,null,204.96911056036896,107.21412865981135,147.82618332728472,159.15591318286809,166.14336161393098,191.14021181677933,103.91788252734054]
[null,"Octubre",85.845575558906063,98.129223240376007,73.528250445214027,83.292881453869825,106.76984742944992,123.43126839104438,105.93297551244321,null,{"$f":"(C195/C183-1)*100","v":-15.047677591262998},3.4276629158913607E-2,-5.0333631925136952,-3.2286799204174654,2.6745142404258848,3.1937347117200421,-1.8845994206602379,null,176.30511963347465,105.64026096417373,108.98039595202947,133.49894936550601,180.62142327187419,236.9454450244734,109.98114587647984,null,205.37473071340349,107.6542313041639,148.21567940506196,160.27654108645748,169.16894387361845,191.96549473493468,103.82144496975931]
[null,"Noviembre",85.589294783629811,97.687110946810733,72.509660689420414,82.521505453026663,105.30974097071956,123.00758373541014,105.43778290689525,null,-13.414779022661749,0.66851884430787489,-6.1197299231635309,-4.1878732261700469,0.57254708875684734,3.8347613297812888,-2.473324278379363,null,176.52364825315288,105.42175130350245,108.06609273625267,133.14287929447565,180.42108865963357,236.30041157811513,109.52028659860427,null,206.2450084434106,107.91776958262498,149.03682034747149,161.34325054244673,171.32421654118212,192.10231142040669,103.87195517503814]
[null,"Diciembre",83.669732863618975,97.686472456524527,72.053342420135778,82.326060410491323,104.70618867405558,122.05665160439177,104.36835579399444,null,-14.385285245827738,0.29874622926704397,-7.0300768221687289,-4.3170118881513453,-0.22344596717235321,3.369793907752916,-3.1283579421849561,null,173.31997718747346,105.01053726796677,107.15920906558711,132.44928235408975,179.96571762474062,235.79796172496884,108.84381738844071,null,207.14775971614932,107.49752204912693,148.72205156112338,160.88378539392721,171.87686793276725,193.18730984791696,104.28814036630038]
[2011,"Enero",82.285360884065611,96.164716798445696,71.273064600647785,82.407900850038729,105.16478576066291,128.19843817753528,104.07292438585426,null,-13.546265158384452,-1.1719568982174855,-7.2782370579514648,-3.8625338630824624,-0.70025911592825896,5.6315837782414224,-1.9068609717502794,null,173.82514474292387,105.14895472076542,107.59009159349419,134.31145797840671,183.85822030691548,235.28152049463594,109.61407335926734,null,211.24674289006461,109.34255121985129,150.95477119769637,162.9837146596164,174.8286928719138,183.52916294409681,105.32429448496042]
[null,"Febrero",81.926594775972248,96.755659733608979,70.002918301856823,82.561198581364451,105.92954552244279,128.35291991974643,104.55860402799054,null,-11.345111239731498,-7.461008697736693E-2,-5.7710747709188599,-2.5668247993679394,1.3693372870746012,5.7565669355970073,-0.92745492728887324,null,172.84962969762569,105.42837507114695,105.90495307534999,134.7867449760308,185.47311026035521,236.9596109600827,109.93849289852193,null,210.98109859232142,108.96352250753701,151.28648297015476,163.25676866621288,175.0910091661442,184.61567614374758,105.14533349076771]
[null,"Marzo",82.407137589806169,97.22967121225615,69.214163269701785,83.035070922897958,106.84521615072705,128.86929851291185,104.8129509599904,null,-8.4673850505031503,-7.5985806599809802E-2,-5.1635224542354807,-2.2953832133737584,2.0291771328972308,6.2035176841764628,-1.0170538388406425,null,172.96989426204075,105.78007024117927,104.89622385547412,135.40542110688878,186.95395374804011,238.70110816588684,110.41322451671964,null,209.89673870608664,108.79402236201877,151.55311991092435,163.07015770796318,174.97643833141137,185.22728913742833,105.34311218741183]
[null,"Abril",83.29340555929474,95.590974036485107,68.947195335479989,83.281671220788226,107.86836423487871,129.65857886141148,105.28346370546356,null,-3.6713961770588277,-2.2555082595774545,-5.7883615572317577,-1.7492125305993977,2.5950898853938753,6.7078534231190812,-0.39097344587135652,null,174.26228214292655,106.54618948389121,104.67401847952407,136.6615678510889,189.18647357328649,240.97203321430638,111.57682013265251,null,209.2149804330825,111.46051241535078,151.81765983403125,164.0956117328447,175.38643041007009,185.8512065536942,105.97753550813542]
[null,"Mayo",83.532997799228895,95.403079104863849,69.214701552740237,82.992847511824834,107.42653085318261,129.97863787303635,105.22015690190807,null,-3.6839526211808415,-1.4730354791127054,-4.146756379908223,-0.56999343663962643,3.4784716601051757,7.6790629244364306,1.1188554707286968,null,175.50088492110012,106.56526860645596,105.37494110430332,136.65792576050791,190.00381789086887,241.32772834177226,111.65365701545423,null,210.09767342830861,111.70003065553367,152.24358227422204,164.66229302595849,176.86861558486217,185.66722369986837,106.1143228664293]
[null,"Junio",83.533359192089819,95.289117822257268,69.836215494400292,82.634244520138765,107.39053347148592,129.29083709576335,105.20942904072989,null,-4.4014890773533928,-0.83318546893638157,-2.607750898783745,-0.20032794057976977,3.5999564228577974,7.0894688338017042,1.5451052599392501,null,176.52140600319825,106.55182187174637,106.92212892931987,136.69975526283594,191.25530758409209,242.41379533744413,111.82002012065233,null,211.31845733304826,111.81950710310637,153.10412824116057,165.42748839377467,178.09326520840287,187.49495384417125,106.2832686577581]
[null,"Julio",83.304377858905937,95.312662057199688,69.288940164600433,82.169063152746915,108.04720279984069,128.51983971042705,105.61131274475461,null,-3.232834153680253,-1.393156714295507,-3.5390945099637694,-0.85417134789650406,3.8667617110022423,5.8268276926146445,2.0603712027592813,null,176.509613623815,106.74717725294623,106.95878698316525,136.75797518977288,192.8779774008602,242.81960650416417,112.21736659815436,null,211.88515917227346,111.99684800418686,154.3663198326856,166.43487213131388,178.51269852692994,188.93550369442596,106.25506272170435]
[null,"Agosto",83.306103557188578,95.069279712344297,69.256226880072688,81.676377660938897,107.51532913251167,127.97474368923628,105.08571701091633,null,-1.3561999948129455,-2.2474858160695388,-4.1331901525773258,-1.4807207366843489,1.7079766983529421,4.8199139972176397,1.3680990893458089,null,176.5292734115157,106.32069489768172,107.27661881567234,136.11391957456632,192.64435874520646,242.40792739268088,111.87191272849448,null,211.90436939633193,111.83496416442973,154.89815666891226,166.65028919329973,179.17850440449664,189.418568386685,106.45777172255787]
[null,"Septiembre",83.460601693948632,94.357326363620516,68.568645067918709,81.221089387200408,106.01887001627692,126.94806906387831,102.91796550310684,null,-1.5358603505127522,-3.1495035023373141,-6.0740794321562097,-1.9243839273356045,-0.38873297210668678,4.0288107591703426,-1.3835681880156714,null,176.07963117088127,104.9879620606096,105.88458676687362,134.70819811103655,189.89977930785716,240.28414255140191,110.08910882622098,null,210.97335460936176,111.26635959991309,154.42129075467756,165.85371992346751,179.11884863392916,189.27750876659232,106.96782460482825]
[null,"Octubre",83.607738194529432,94.020663107431318,68.092409009824593,81.068339225258157,105.23380064611557,126.93722808382788,102.08382761120797,null,-2.6068173575714004,-4.1868874503168341,-7.3928611145721241,-2.6707471152185858,-1.4386522228097443,2.8404145387830093,-3.6335691342712306,null,176.79192336821535,104.55786060810131,105.0866483110146,134.56154528542845,189.19241061533739,240.33972153606902,109.41788873384439,null,211.45401991006509,111.20732097861278,154.3294617405185,165.98532370514337,179.78293044034513,189.33745849354094,107.18435161989478]
[null,"Noviembre",81.898536788872079,93.639801747835847,67.508588917804047,80.477384243405453,103.78407596181496,126.95505675887311,100.9045860739033,null,-4.3121724557819814,-4.1431353223032596,-6.8971109836486244,-2.4770769733288178,-1.4487406339065978,3.2091297980082256,-4.2994045474143761,null,173.68992643545903,104.24514375845268,104.32012859018786,134.03116304319664,188.78166982937398,240.56326481849882,109.0796267579439,null,212.07940122693265,111.32567755661866,154.5286759247837,166.54512855166453,181.89849269249359,189.48694991756241,108.10175335148109]
[null,"Diciembre",80.361835313584578,93.435627809009873,66.969704648356583,80.048433193912231,102.41043403877242,126.66251516260682,100.18400215866313,null,-3.9535175227895625,-4.3515182200959295,-7.0553809178441895,-2.7665932333242549,-2.1925682372316291,3.773545724606242,-4.0092167817518565,null,171.95097944947702,103.85480343954485,103.66480352973278,133.5227242487845,188.40376647482489,240.28193109636442,108.47756670177957,null,213.97094625638792,111.15118063083243,154.7935802823892,166.80242063618437,183.96930766204497,189.70247889669275,108.27833223310621]
[2012,"Enero",80.996056880116072,93.593875139261883,67.55479649040106,80.889960850584629,104.43062809209316,135.07309974791116,101.68093546323979,null,-1.5668692342081125,-2.6733730881484452,-5.2169331164313775,-1.8419835765703607,-0.69810218625897535,5.3625158528495698,-2.2983777353522639,null,172.19605682129369,104.34613245295563,104.48812456805399,135.15128596239251,191.92061214768333,240.39282614354556,110.28740652626088,null,212.59807384965001,111.48820614350569,154.67165915139844,167.08041954926438,183.77808853015449,177.97239168435024,108.46419343391322,null,null,null,null,null,null,null,null,null,null,null,null,null,null,null,null,null,null,null,null,100]
[null,"Febrero",81.898845828548957,94.356841763934739,67.953657039010736,81.498441952206448,105.13212429630012,136.33790347776008,102.45300104589326,null,{"$f":"(C211/C199-1)*100","v":-3.3870500170507523E-2},-2.479253385568092,-2.9273940466446713,-1.2872349813461748,-0.75278452504426996,6.2211156263576317,-2.0138017350859072,null,173.9651949669595,105.14595993259481,105.24379072586629,136.94643424181234,194.94164652578317,242.61316459685034,111.44230949734862,null,212.41470890950859,111.43437822521938,154.87583054646799,168.03564701534114,185.42538527649984,177.94990124402653,108.7740801730431,null,null,null,null,null,null,null,null,null,null,null,null,null,null,null,null,null,null,null,null,100]
[null,"Marzo",81.616673384544541,94.643933723349647,67.480525074536729,81.644575229020916,105.10143232278375,136.9139852680602,101.77130664306149,null,-0.95921813131804035,-2.6594119435637498,-2.5047448575080122,-1.6745884340463646,-1.6320654220806086,6.242516136876719,-2.9019737437694815,null,172.91322729843705,104.94703029983982,104.23027704688374,137.28193250373633,194.57852238432426,242.46600209274516,111.01031106216266,null,211.86017529009092,110.8861668901113,154.45978959374497,168.14581020067442,185.13403488807049,177.09367061226615,109.07820163054873,null,null,null,null,null,null,null,null,null,null,null,null,null,null,null,null,null,null,null,null,100]
[null,"Abril",80.525467472930899,94.015979544623747,67.325965452112712,81.001827977865858,104.07119099641839,137.0443018691056,100.97546968129527,null,-3.3231179200535976,-1.6476393380615795,-2.351408023892454,-2.7375089974818967,-3.5201917312773334,5.6962856392159811,-4.0918049924916549,null,171.28944657217866,104.66712792415338,104.18231498097097,137.38602556148911,194.36179740596941,242.07850523270355,110.68998009831448,null,212.7146255062209,111.32908302516186,154.74314297813265,169.60854957375838,186.75850208407664,176.64251773409646,109.62066375891165,null,null,null,null,null,null,null,null,null,null,null,null,null,null,null,null,null,null,null,null,100]
[null,"Mayo",78.916592077428859,93.424354166176101,66.78855187492556,80.374578604748052,103.40547262843867,136.27036263449108,99.420085153523289,null,-5.5264456483359314,-2.0740682137866839,-3.5052519528181447,-3.1548127164858775,-3.7430774249234799,4.8405837023776987,-5.5123199956752744,null,169.75258819180999,103.86410329248655,103.62393264875074,136.66292389169024,192.81959258280708,240.26965741310332,109.55807390097991,null,215.10379975006722,111.17454781409677,155.1522375313759,170.03252304904402,186.46942727649954,176.31835181767485,110.1971233798499,null,null,null,null,null,null,null,null,null,null,null,null,null,null,null,null,null,null,null,null,100]
[null,"Junio",77.504925276359472,93.350073787917253,66.797261583273283,80.114081850438822,103.36382845330877,135.32525761701319,98.698879996934821,null,-7.2167981439218991,-2.0349060613163772,-4.3515443808244232,-3.0497800086812132,-3.7495902925617886,4.6673226477606189,-6.1881801879892562,null,167.22012090353991,103.34486348102216,103.86485607462568,136.38667331913373,192.38203462631049,239.28922638698177,108.84825416971179,null,215.75418634013616,110.70678285248296,155.49268579691969,170.24057465171671,186.12123554731991,176.82525095514626,110.28317056190727,null,null,null,null,null,null,null,null,null,null,null,null,null,null,null,null,null,null,null,null,100]
[null,"Julio",77.796064942684993,93.834227985975829,66.620275487178731,80.37797375148871,104.3428115186625,135.697436796961,98.578536626583727,null,-6.6122730374992607,-1.5511413062165968,-3.8515016553610337,-2.1797612538537625,-3.4284934595119831,5.584816400881043,-6.6591124903143335,null,167.54630669333073,103.6599499601885,104.02620237839596,137.12194958830256,194.83319466646708,239.63493858402026,109.13131338863747,null,215.3660430212862,110.47136230041899,156.1479618894943,170.59642485173106,186.72411815510614,176.59503690005366,110.70494361468131,null,null,null,null,null,null,null,null,null,null,null,null,null,null,null,null,null,null,null,null,100]
[null,"Agosto",77.769914179863903,94.374735885428606,67.366797523849343,80.841471598359263,105.65316066362732,135.36396765413116,98.818732958104675,null,-6.6455987507855863,-0.73056599252376841,-2.7281725287968239,-1.02221240276541,-1.732002760824225,5.7739705131492958,-5.9636877694431494,null,167.54976868938419,103.91847896852858,105.16343264408832,138.07767142900525,196.84236323699082,240.20857644454853,109.42683371138871,null,215.44291318347112,110.11260375307023,156.10573236297617,170.80054172567492,186.30996176601536,177.45385319844209,110.73490869163589,null,null,null,null,null,null,null,null,null,null,null,null,null,null,null,null,null,null,null,null,100]
[null,"Septiembre",78.445376649219412,94.956379134789955,68.563341734750907,81.609199462764309,106.68911975584516,136.23563853205997,99.952419986490085,null,-6.00909284493315,0.63487679680631626,-7.7343414946473565E-3,0.47784396699444009,0.63219853170037865,7.3160383900823911,-2.8814653516710198,null,168.35839674761186,104.51877287440274,107.07319063588901,139.74967467813283,199.2269913377026,242.1350021170023,110.26890356800779,null,214.61863520708476,110.07030157082869,156.16682023773006,171.24255059246863,186.73599687918278,177.73249696335611,110.32139450241635,null,null,null,null,null,null,null,null,null,null,null,null,null,null,null,null,null,null,null,null,100]
[null,"Octubre",78.250883908902864,95.04964591866451,67.834080884128937,81.760795010997526,106.64370563509365,136.99495298268423,100.07673322102129,null,-6.4071273799595208,1.0944219889807094,-0.3793787434637319,0.8541630337526751,1.3397833968948447,7.9233846923255191,-1.9661237603970094,null,168.60877631914283,104.66338451697968,105.8925582155519,140.54797280408681,199.95584348967088,243.86003946606661,110.49511437579476,null,215.47204056561421,110.11443914955959,156.10524508533211,171.90142633175464,187.49896423692039,178.00658648854741,110.4103929249612,null,null,null,null,null,null,null,null,null,null,null,null,null,null,null,null,null,null,null,null,100]
[null,"Noviembre",77.630873767292726,94.777662198476577,67.545435977551733,81.63365498433582,105.67990107407439,137.42325217448035,99.533362825900824,null,-5.2109148574669302,1.2151461551626275,5.4581291563571277E-2,1.436764815110303,1.8267013457410997,8.245591536766895,-1.3589305514797756,null,169.04146409260366,104.48938126867218,105.64881766699162,140.91148095346065,200.35514381859812,246.61134828862279,110.27080151614257,null,217.75030460087885,110.24684387114129,156.41148234220188,172.61444557456025,189.58680106841018,179.45387289736894,110.78777847486494,null,null,null,null,null,null,null,null,null,null,null,null,null,null,null,null,null,null,null,null,100]
[null,"Diciembre",77.541009218351761,94.933679792438411,67.509631359878966,82.053816446107177,104.6521876137424,137.6270495609659,99.443728904329006,null,-3.5101563873267794,1.6032984617930568,0.80622531390488472,2.5052123722859587,2.188989428676047,8.6564950840294141,-0.73891363729086112,null,169.31050684092438,104.67403993086984,106.18481360827478,141.83761374516067,201.59997025819217,248.49507762767749,110.49971603676224,null,218.34963014751861,110.26017337548446,157.28839199584269,172.85925248622578,192.63808512276057,180.55685885905692,111.11783242065445,null,null,null,null,null,null,null,null,null,null,null,null,null,null,null,null,null,null,null,null,100]
[2013,"Enero",76.854841784836225,95.284146211833317,67.383279924545747,82.516914011443347,105.30499821151344,140.58936394713706,99.807255442217809,null,-5.1128601252889982,1.8059633390073992,-0.25389250618153003,2.0113165388520038,0.83727363839007918,4.0839102748963185,-1.8427053335867138,null,169.42564623106065,105.34879232720655,106.26285742904575,143.23504552092501,205.17220320101325,250.82519036961921,111.68694625931693,null,220.44889078737131,110.56277094932223,157.69914665483256,173.58264937181406,194.83614898212963,178.40979098812329,111.90263249346309,null,null,null,null,null,null,null,null,null,null,null,null,null,null,null,null,null,null,null,null,100]
[null,"Febrero",76.658285244713014,95.4507754534539,66.723499961516922,82.458442515992061,105.64301717494844,141.6326176956708,99.615690231861606,null,-6.3988210466442874,1.1593581017219856,-1.8102882627606176,1.1779373209963806,0.48595315853072751,3.8835232777174156,-2.7693779440981836,null,169.48822371578024,105.20271769833273,105.3327999157077,143.64741038011135,205.57095824095705,251.68952528047734,111.32739905703919,null,221.09576698034675,110.21672395907807,157.86462037581791,174.20582537955681,194.59019984304737,177.70590516182386,111.75689170844258,null,null,null,null,null,null,null,null,null,null,null,null,null,null,null,null,null,null,null,null,100]
[null,"Marzo",76.087862428927252,95.101462683374308,66.344525718846555,82.217129896768114,105.62410993087776,141.88151909010656,98.934752240211594,null,-6.7741194615563156,0.48342132667693605,-1.6834477124109348,0.70127704889286768,0.49730778786039043,3.6282150521881107,-2.7871848131010402,null,167.95168827002675,105.01575979869796,104.92922400052669,143.49437853042443,205.34959027129185,252.39034203092606,110.75375866233594,null,220.73387647985038,110.42496806629754,158.15807387815775,174.5309994530289,194.41545155332071,177.88810244598324,111.9462637288746,null,null,null,null,null,null,null,null,null,null,null,null,null,null,null,null,null,null,null,null,100]
[null,"Abril",75.616282032718047,95.80441522668815,66.258334727357791,82.390703053174704,105.22575640841599,142.31085416044141,98.613517535763648,null,-6.0964382999243121,1.9022677748260275,-1.5857637058532825,1.714621891852075,1.1093996339845091,3.842956051077584,-2.3391345967357702,null,168.17120099064155,105.15776238984844,104.99493998362138,144.1981186979653,205.88128444093775,252.98643980207541,110.76201955161969,null,222.4007799244564,109.76296044501585,158.46299249091965,175.01746356612622,195.65673982123189,177.77030521990838,112.31930704778907,null,null,null,null,null,null,null,null,null,null,null,null,null,null,null,null,null,null,null,null,100]
[null,"Mayo",75.534460342055525,95.857651932171521,65.913875009766315,82.433835592305456,104.50409581558054,142.57325312715255,98.017377368099829,null,-4.2857042433547594,2.6045647173190467,-1.3096209464119601,2.5620750034461182,1.062442015123799,4.6252834224616457,-1.4108897445193391,null,167.93514638385957,104.99380547818336,104.68898116061254,144.54554685945823,206.51460598563926,252.76782505498687,110.50670342538334,null,222.32918011642678,109.53095904380858,158.82692550711212,175.34735078243818,197.61388716292777,177.28979279834371,112.74195085875481,null,null,null,null,null,null,null,null,null,null,null,null,null,null,null,null,null,null,null,null,100]
[null,"Junio",75.390517778047879,95.357267457318471,65.371035334693275,82.321188727470314,104.37028145156282,143.4861494787734,97.292893167399356,null,{"$f":"(C227/C215-1)*100","v":-2.7280943640320188},2.1501789853550335,-2.1351567635777946,2.7549549667832851,0.97369942011065191,6.0305755226097713,-1.424521564559933,null,167.37712660774281,104.47982522181955,104.3180349199411,144.71712289427106,206.38859469294019,254.0682993519392,109.91344224056243,null,222.01349923143718,109.56671474314665,159.57837348887475,175.79571569765176,197.7465154089127,177.06817018566991,112.97170704076866,null,null,null,null,null,null,null,null,null,null,null,null,null,null,null,null,null,null,null,null,100]
[null,"Julio",74.986042407910517,95.43659829181712,65.247299211238357,82.182433488550572,105.1650083704145,143.97624283298003,96.874203931249951,null,-3.6120368515357604,1.7076607760664553,-2.0608985266123758,2.2449679344255014,0.78797651681539183,6.1009302986365865,-1.7289084963695522,null,167.08358256889804,104.43805435600252,104.43848735584136,145.15461732625593,207.31267204246967,256.54115588942011,109.75338824308484,null,222.81957708875146,109.43187018952791,160.06560979286115,176.6248712341652,197.13084727979901,178.18297716451823,113.29475111968408,null,null,null,null,null,null,null,null,null,null,null,null,null,null,null,null,null,null,null,null,100]
[null,"Agosto",75.221287030281147,95.552067059817091,65.935550419836844,82.194649974688687,105.35803269119772,144.98304381770151,96.975895991540511,null,-3.2771376649437634,1.2475067223687519,-2.1245586202992772,1.6738665805743347,-0.27933662426741224,7.1060831994435025,-1.8648660141650009,null,167.37848117758895,104.4668046618866,105.49381996373491,145.49623730562161,208.3249562638552,259.55766680114436,109.94394072557914,null,222.51477977265787,109.32971716508104,159.99535803070643,177.01424283749154,197.73049186904566,179.02622263021772,113.37244126640486,null,null,null,null,null,null,null,null,null,null,null,null,null,null,null,null,null,null,null,null,100]
[null,"Septiembre",75.646981144483732,95.619572938667204,66.232670674887814,82.428795986209934,106.09850812807849,145.52710245696338,97.319756366164825,null,-3.5673173159065041,0.69841943208033275,-3.3992961849492298,1.0042942815773781,-0.55358187331403519,6.8201419430473642,-2.6339168383127665,null,168.0853034490122,104.47146762819222,106.00347473444901,145.98885265483921,209.37202938154758,261.13117396513866,110.07136136651552,null,222.19697455999429,109.25740872656151,160.04710915974033,177.10904412489865,197.33739246248481,179.43817306632818,113.10279174186675,null,null,null,null,null,null,null,null,null,null,null,null,null,null,null,null,null,null,null,null,100]
[null,"Octubre",76.341291442362859,96.012043201834231,66.631669507431539,82.686270854082238,107.153422917054,145.61696656645626,97.78548078637148,null,-2.4403461931025494,1.0125206399961284,-1.772577089606775,1.1319310715609099,0.47796283796106565,6.2936724281089651,-2.289495630907068,null,168.54405184118909,104.89256260736872,106.71831133238834,146.82714596831167,211.5786646977177,261.19788117419495,110.85928264911509,null,220.77705086825608,109.24938071244466,160.16154498498028,177.57137243185127,197.45394868206671,179.37324704191678,113.36988043378902,null,null,null,null,null,null,null,null,null,null,null,null,null,null,null,null,null,null,null,null,100]
[null,"Noviembre",75.81446555165887,95.558166114521754,65.55379944112201,82.169701710847221,106.44426242689622,144.99849875821639,97.139501716640879,null,-2.3398013283719377,0.82351041156796256,-2.9485878765985518,0.65664918055459154,0.72327977699946366,5.512347047440036,-2.4050841258595579,null,167.77982149965578,104.54988858222076,105.47222142511299,146.41436154478711,211.08909443125285,260.42407188897664,110.24848241561503,null,221.30317780230615,109.40968504661639,160.89413935472069,178.18533899516271,198.30950923843787,179.60466771675428,113.49500508785138,null,null,null,null,null,null,null,null,null,null,null,null,null,null,null,null,null,null,null,null,100]
[null,"Diciembre",75.596802876793447,95.720408188103718,65.202141995230747,82.362830351683527,105.52208776520506,145.26977641411506,97.066731774104667,null,-2.5073265890614316,0.82871368452734906,-3.4180150567664991,0.37659906505300711,0.83122978248035828,5.553215648762122,-2.3902936428612409,null,167.91349529860494,104.58062014150802,105.06784221584751,147.01178845811268,211.11224208032988,261.48003948137824,110.27145466819674,null,222.1171913477186,109.25634576901591,161.14170332553303,178.49288062392054,200.0645045519486,179.99617397082446,113.60375759309822,null,null,null,null,null,null,null,null,null,null,null,null,null,null,null,null,null,null,null,null,100]
[2014,"Enero",75.631708094715208,95.462294219897274,65.178770106888862,80.943022735269921,106.24500172377259,145.4063258907324,97.766778257225226,null,-1.5914855352188728,0.18696500430186447,-3.2715976724870699,-1.9073559585070732,0.89264852402455297,3.4262634159199834,-2.0444176888261278,null,168.96812240834217,104.4951467578024,105.08774031306183,146.24094640660923,213.51165859521427,264.70465932505516,111.28436964307416,null,223.40910534076497,109.46222025326352,161.23001422200034,180.67146674877827,200.96160302234765,182.04480286777286,113.82636477013084,null,null,null,null,null,null,null,null,null,null,null,null,null,null,null,null,null,null,null,null,100]
[null,"Febrero",78.731569930453176,95.49302479455821,64.421068266492838,80.639771683462698,106.44569058302164,145.95006322686856,97.372843963927224,null,2.7045800452250024,4.4262962666974381E-2,-3.4507058178183447,-2.2055604945201979,0.75979788303845996,3.0483412659044085,-2.2514989985152112,null,176.39565182743087,104.33504850514464,103.68826640122467,146.33868554786312,214.46766493551434,265.57718747858155,111.00004251698185,null,224.04691279908224,109.25933986237109,160.95396923921516,181.47209806383137,201.48083380439118,181.96442098538967,113.99486550696101,null,null,null,null,null,null,null,null,null,null,null,null,null,null,null,null,null,null,null,null,100]
[null,"Marzo",82.221899874868484,95.808396218007118,64.419285611913779,80.977413702568754,107.24011617395162,146.02545254247858,97.524196156603594,null,8.0617818008370978,0.74334664755517643,-2.9018823875409328,-1.5078563259942945,1.5299596315002217,2.92069994665074,-1.4257437873632095,null,184.43056576918863,104.40797462873765,103.42405382811151,147.00264395348947,215.16772954794496,265.73984168752662,111.1528996171771,null,224.30832424192224,108.97580874974946,160.54827812151979,181.53536551986258,200.64108211047306,181.98186484662548,113.97468935677115,null,null,null,null,null,null,null,null,null,null,null,null,null,null,null,null,null,null,null,null,100]
[null,"Abril",81.32136215706366,96.728925846864612,64.814393404875176,81.194033999995355,107.2530059289748,145.97770979522582,97.657659501796076,null,7.544777356121668,0.96499792623223613,-2.1792599050733719,-1.4524321420185227,1.9265715826174645,2.5766521158325562,-0.96929716924549769,null,184.0580916684421,104.65561297595521,104.03093890513244,147.63833085673281,215.71940226058129,266.09632141875943,111.60028364748651,null,226.33424574585118,108.19474325770932,160.50592073782721,181.83396437322139,201.13133463451388,182.28558441698615,114.27704106039323,null,null,null,null,null,null,null,null,null,null,null,null,null,null,null,null,null,null,null,null,100]
[null,"Mayo",81.962982592348894,96.862737061049799,64.822995453445685,81.191477386340779,107.2426633547644,146.59089971325986,97.87392815362486,null,8.5107144754619224,1.0485184110178958,-1.6550074717333718,-1.507097415809977,2.6205360831183411,2.817952524744749,-0.14635079852856059,null,186.07582986265331,104.78418535573772,104.06870765619578,148.06589846345045,217.32815470856437,266.5486565069595,111.7803075379808,null,227.02422969173787,108.17801410019545,160.54288594382439,182.3663064522093,202.65083681261379,181.83165328021306,114.20846148376533,null,null,null,null,null,null,null,null,null,null,null,null,null,null,null,null,null,null,null,null,100]
[null,"Junio",81.517092588703051,96.564961803741639,65.105041586876411,81.243802796213217,106.56171029404585,147.32918127832752,97.460435819042686,null,8.1264527572181056,1.2664942889263564,-0.40689847798035528,-1.3087589573370417,2.0996674647275393,2.6783294509709066,0.17220440896443812,null,185.53131022546302,104.72422407429312,104.94255179967737,148.59797180900222,218.59704290061063,267.47852991763466,111.69310810950283,null,227.59804641410219,108.44950603007986,161.18959337371996,182.90376212661528,205.13657513323972,181.55162989219801,114.6035385239671,null,null,null,null,null,null,null,null,null,null,null,null,null,null,null,null,null,null,null,null,100]
[null,"Julio",79.023161938112949,96.060773536895525,64.4950997471514,80.761420600361575,106.65048547136143,147.26994811040939,98.346291173344156,null,5.3838279772670639,0.65402084341885658,-1.1528438313618272,-1.7290956569045446,1.412520308765397,2.2876727525458662,1.5195864144998961,null,181.64276034922446,104.80794309757904,104.59140471189133,148.97974912070288,220.0384741966725,268.38265638435013,111.82436720349762,null,229.8601522569777,109.10587041788067,162.16953709961646,184.46895561423034,206.31736763707354,182.23857604889059,113.70471206321054,null,null,null,null,null,null,null,null,null,null,null,null,null,null,null,null,null,null,null,null,100]
[null,"Agosto",78.652971564253406,95.514641919274695,64.228626773113788,80.60684571355371,106.13779266768194,146.31589325658209,97.711677726927988,null,4.5621188754598085,-3.9167274653484352E-2,-2.588775912014718,-1.9317610837492838,0.74010491328142525,0.9193140134073019,0.75872641120187101,null,181.4336021184055,104.50562864945073,104.5937273839705,148.9550927555388,219.58115680857375,267.65391833879153,111.24921456297136,null,230.67609336309468,109.4132025724128,162.84596548116394,184.79211217973835,206.88310100444966,182.92880724134938,113.85457414197342,null,null,null,null,null,null,null,null,null,null,null,null,null,null,null,null,null,null,null,null,100]
[null,"Septiembre",78.387012455591432,95.277962986261642,63.189427960914898,80.492117255421107,105.88113825950448,145.97157325972043,96.575479431074854,null,3.6221290918064586,-0.35725944166753454,-4.5947757850669957,-2.3495171894938549,-0.20487551843010321,0.30542132376234488,-0.76477476196059602,null,180.18718023304618,103.93246589873158,102.73929459730726,148.60859865766071,218.24960171766267,266.97173214633654,110.05065145735658,null,229.86866649003571,109.0834256329744,162.58937279960105,184.62503376087051,206.12698853194598,182.89296072141809,113.95299521748565,null,null,null,null,null,null,null,null,null,null,null,null,null,null,null,null,null,null,null,null,100]
[null,"Octubre",78.037611897117614,94.624929321712372,61.963547799821598,80.145326388827783,105.31742679446828,145.69699745304973,95.760539627719737,null,{"$f":"(C243/C231-1)*100","v":2.2220222145907353},-1.4447290505066102,-7.0058603395631529,-3.0729943907356727,-1.7134274133332572,5.4959863867898306E-2,-2.0707994094497084,null,179.08287496315842,103.403753087122,100.97875547884006,148.57213298028091,217.55280293505902,266.41626082899751,109.10028984463582,null,229.48277197315542,109.27749571739469,162.96477374901181,185.37841153641094,206.56866537351237,182.85638378707776,113.93032064018847,null,null,null,null,null,null,null,null,null,null,null,null,null,null,null,null,null,null,null,null,100]
[null,"Noviembre",76.626845273044069,94.213875896449963,61.02146451732596,79.318143329988459,102.95081884763154,145.24616442958245,94.800302088334476,null,1.0715365668991783,-1.4067769116254514,-6.9139164509706692,-3.4703282614963249,-3.2819463441384644,0.1708056797050217,-2.4080827953286477,null,177.04160919373416,102.76995690435604,99.892234081434282,148.04923950956709,216.10722944434326,265.95498357235397,107.86797720681376,null,231.04384444235259,109.08155080819522,163.70015841404734,186.65242691528422,209.91307486750986,183.10637297502822,113.78442349930793,null,null,null,null,null,null,null,null,null,null,null,null,null,null,null,null,null,null,null,null,100]
[null,"Diciembre",75.499003883361581,93.669929744223879,60.049736193522037,78.798667942145286,101.47970065728661,144.80406922576279,93.483665740687897,null,-0.1293692189486606,-2.1421538861915113,-7.9022032774407673,-4.327391851784979,-3.8308445118268253,-0.32058092181865838,-3.6913430254923441,null,174.50586647965011,101.63403862873506,98.401690524155029,147.13715244471805,213.17611205747258,263.86035761328446,106.14243876000864,null,231.13664751026946,108.50231115391895,163.86698220794227,186.72543113640893,210.06773835232607,182.21888309084881,113.54116028615589,null,null,null,null,null,null,null,null,null,null,null,null,null,null,null,null,null,null,null,null,100]
[2015,"Enero",74.958067525463278,93.693756944339981,60.110959191813343,78.465382636620021,99.600289413212096,141.01007427769201,92.701314416331712,null,-0.89068538344831971,-1.8526029465450233,-7.7752478403084968,-3.0609680920283933,-6.2541410915839091,-3.023425278171199,-5.1811708754135655,null,174.43563841373384,101.48514887021516,98.823578302508835,146.38428726948462,206.73138805676169,266.25157626807527,106.30173699718335,null,232.71095983694883,108.3158069224439,164.40193207891426,186.55906891756703,207.56103147360787,188.81741438114867,114.6712294927887,null,null,null,null,null,null,null,null,null,null,null,null,null,null,null,null,null,null,null,null,100]
[null,"Febrero",74.892617709507817,93.782215561165813,59.838532382942468,78.464952546064197,98.760578840628995,141.36862219888104,93.118519980127516,null,-4.8760011064639786,-1.7915541340040253,-7.113411818310178,-2.6969559709759228,-7.2197490572891709,-3.1390469635261598,-4.369107248603898,null,173.04432760629899,100.94154109144694,98.178648142210207,146.54312263525557,205.30044723799895,266.01223548307581,105.32617414519254,null,231.05658861798676,107.63399061052436,164.07262048792651,186.76251992789381,207.87691774194079,188.16922124970768,113.10980261248812,null,null,null,null,null,null,null,null,null,null,null,null,null,null,null,null,null,null,null,null,100]
[null,"Marzo",73.833138105979501,93.013779035919526,59.208906525162988,77.651042402982625,97.9219915385479,140.21556269381279,91.239896777756925,null,-10.202588095939936,-2.916881288492279,-8.0882286061663144,-4.107776659555884,-8.6890288521219166,-3.9786829949906899,-6.4438361211974442,null,170.00624312377218,100.12057308336951,96.890616804025697,145.20834241866871,203.47024994081252,262.90578795222024,103.64229295340076,null,230.25737153383153,107.64058198807891,163.64196282336084,187.00115017785151,207.78810433069529,187.50114673527702,113.59317208112776,null,null,null,null,null,null,null,null,null,null,null,null,null,null,null,null,null,null,null,null,100]
[null,"Abril",74.075369819274812,93.417241656251548,59.944179196152078,78.204910847776887,98.584819369220426,141.47196326081354,91.456438923922846,null,-8.9103184521109888,-3.4236751433133095,-7.5140936339562643,-3.6814566353713163,-8.0819987138585514,-3.0865990025003454,-6.3499582209004091,null,170.1472821419928,100.41148246263339,98.291401151195615,146.3467142215172,205.07252503139705,264.12113692616185,104.22024269975978,null,229.69481294134502,107.48709840108386,163.97155231630083,187.13238418796482,208.01633186886335,186.69503895922892,113.95615653311668,null,null,null,null,null,null,null,null,null,null,null,null,null,null,null,null,null,null,null,null,100]
[null,"Mayo",74.910162684735141,93.698206592733641,59.920424056522734,78.458577974526847,98.985256348422581,142.15837862820294,91.744646530379455,null,-8.6048844057953104,-3.2670256533445352,-7.563012728166596,-3.3659929586078663,-7.6997407076938025,-3.0237355072703531,-6.2624252841111723,null,171.03230047683164,100.58564419979975,98.189614868623039,146.96671385546583,206.53466950001521,265.17759057929959,104.79355228014759,null,228.31655191650495,107.3506610825572,163.86668888725004,187.3175854693435,208.65195193617993,186.5367297645098,114.22307049321647,null,null,null,null,null,null,null,null,null,null,null,null,null,null,null,null,null,null,null,null,100]
[null,"Junio",74.965360472496315,93.764896495553003,59.334223688760304,77.955066264000806,99.277190331768566,141.50784787262276,91.399321844283065,null,-8.0372494996401542,-2.8996700831089073,-8.8638571721292969,-4.0479844849971691,-6.8359638205659596,-3.9512426222659602,-6.219050760262812,null,171.50183254911357,100.31319328852757,97.364684874390974,146.488756651497,206.67258070118427,264.08500477516606,104.31539484822316,null,228.77477206560627,106.98374022445077,164.09532108336117,187.91435075611588,208.17730639889928,186.62216177075933,114.13147575202495,null,null,null,null,null,null,null,null,null,null,null,null,null,null,null,null,null,null,null,null,100]
[null,"Julio",74.549455402206874,93.256350387653427,58.479348339551223,77.007200678940748,99.212702655933313,139.65855504040101,90.26446751229841,null,-5.6612598460811565,-2.9194259487874685,-9.3274550022939948,-4.6485313080339985,-6.9739793331042748,-5.168327393109462,-8.2177208358582661,null,169.81735807116709,99.665545507085014,96.424286210406393,145.23624165382523,205.99281465811848,260.86310277543282,103.1206931835668,null,227.7915474432024,106.87266346236956,164.88604772155432,188.60085858638826,207.62746013733283,186.78633951208306,114.24284220091006,null,null,null,null,null,null,null,null,null,null,null,null,null,null,null,null,null,null,null,null,100]
[null,"Agosto",74.029371669683854,92.808594998784756,57.817190977629721,76.599470521424536,98.453702767158788,138.97347924259145,89.61847493210945,null,-5.8784808795080634,-2.8331226146217303,-9.9822090516310187,-4.9715072667275368,-7.2397302670332291,-5.0181930688246172,-8.2827385457819869,null,168.45873443499042,98.887646536490863,95.369226015874517,144.52198201745489,204.26539025305738,260.14178195401342,101.90749513495557,null,227.55661791463888,106.55009542789189,164.94960132666114,188.67229895150871,207.47354798441791,187.18807600686975,113.71259688602788,null,null,null,null,null,null,null,null,null,null,null,null,null,null,null,null,null,null,null,null,100]
[null,"Septiembre",74.165272275299742,92.846613494868663,57.942628674020035,76.463522865938003,98.314474586627483,138.69983120864873,89.844286503001513,null,-5.3857648710408874,-2.5518487331048001,-8.3032865721465505,-5.0049551767900375,-7.1463754520014966,-4.9816151793701806,-6.9698778279193903,null,168.33613995298938,98.590476566460694,95.535356580288806,143.97117263145699,203.73979723882152,259.89822593730639,101.62339230241916,null,226.97434363637149,106.18640018777796,164.8792240989998,188.28739147145868,207.23275804042567,187.38178963342548,113.11057859981351,null,null,null,null,null,null,null,null,null,null,null,null,null,null,null,null,null,null,null,null,100]
[null,"Octubre",74.549065763448255,91.181966181824166,57.908472112979858,77.18113230971791,98.970077853820314,138.43925436359777,90.493005413617496,null,-4.47033942846502,-3.6385370795708472,-6.5442922989851997,-3.6985239347943843,-6.0268743111575489,-4.9813950982694362,-5.5007357253628602,null,168.73691373085381,98.920033104055477,95.921328825633836,145.38906206843828,205.90967557293277,261.15883052550737,102.23868540317029,null,226.34343167528505,108.48640059680331,165.64299717404148,188.37383919817444,208.05245387102067,188.64507160635097,112.97965509695105,null,null,null,null,null,null,null,null,null,null,null,null,null,null,null,null,null,null,null,null,100]
[null,"Noviembre",73.733395658370711,90.720436175542176,56.933150118014872,76.736547748260691,98.241431216758158,137.24620472373908,89.389967310962177,null,-3.7760260185097594,-3.7079885395516543,-6.6997972461809496,-3.2547352640208915,-4.5744052194896412,-5.507862969918131,-5.7070860094211255,null,167.09254777464531,98.468164079494215,94.821477989932831,144.6296828593803,205.20192948859543,259.48885226504086,101.09658442061604,null,226.61718788706816,108.54022338358288,166.54879941366406,188.4756183374935,208.87514254127822,189.06814420650991,113.0961196897297,null,null,null,null,null,null,null,null,null,null,null,null,null,null,null,null,null,null,null,null,100]
[null,"Diciembre",73.397175867913077,90.283556496376946,56.088994265221331,76.853568565411933,96.791306742838401,136.45631518695447,88.963667177174401,null,-2.7839148960105753,-3.6152191606140804,-6.5957690730504499,-2.4684419515333178,-4.6200312812132545,-5.7648615010904241,-4.8350677390544439,null,166.7740986369657,98.039599536876864,93.864622023259486,144.99869360215536,204.15225968005001,258.3136671514626,100.4909921717346,null,227.22141099419889,108.5907593159682,167.3494475215816,188.66878442832939,210.92003667483829,189.30136490755686,112.95734018203534,null,null,null,null,null,null,null,null,null,null,null,null,null,null,null,null,null,null,null,null,100]
[2016,"Enero",72.550691999872697,89.786688878954081,55.574196407160969,77.39791489901782,95.563125517935148,129.60092028510454,88.013046030721952,null,-3.2116296551706003,-4.1700409854489529,-7.5473139102232967,-1.360431443437593,-4.0533656268085245,-8.0910204827772567,-5.0573914891370748,null,165.66512270245889,97.413078754959031,93.94334270407937,146.98418203570446,200.1090989286472,260.02404735233659,99.549312369747753,null,228.34395942460418,108.49389811699869,169.04129753997557,189.90715993767643,209.39991010558882,200.63441430841601,113.10745038297951,null,null,null,null,null,null,null,null,null,null,null,null,null,null,null,null,null,null,null,null,100]
[null,"Febrero",73.09646401821351,90.404322318144466,55.805751391547147,77.980010391240114,95.571669444369419,131.43059772163716,88.627991772207736,null,{"$f":"(C259/C247-1)*100","v":-2.398305395414535},-3.6018484131655537,-6.7394383364671295,-0.61803663812756149,-3.2289294308466499,-7.029865837740723,-4.8223792741530991,null,166.27492893090024,97.506180878380945,94.186750529790118,148.27413762490468,201.17635565143641,261.14928589155545,99.868554055579366,null,227.47328638149909,107.85566262555912,168.77606372316762,190.1437777207081,210.49789840548678,198.6974802052224,112.68285793077904,null,null,null,null,null,null,null,null,null,null,null,null,null,null,null,null,null,null,null,null,100]
[null,"Marzo",74.523559568278941,91.482747284015744,56.899166039494006,78.899368601606696,96.60608025060823,133.16338031327487,89.782353757589632,null,0.93511054793364856,-1.6460268228780772,-3.9010017600770497,1.6076103552424614,-1.3438363203853387,-5.0295289945365695,-1.5974842932117594,null,167.31692266654144,98.281530745312821,95.89590764887663,149.77456044822338,204.01470555909037,263.48605420296917,101.09204613521936,null,224.51547354396649,107.43176572976071,168.53657851912064,189.82985935475963,211.18205503199258,197.86675104154187,112.59678756937654,null,null,null,null,null,null,null,null,null,null,null,null,null,null,null,null,null,null,null,null,100]
[null,"Abril",75.300374012388133,92.449651420727932,57.450501209992858,79.349809328202483,97.422103315324335,134.78645363493891,90.48488242623354,null,1.6537267327885408,-1.0357726457863814,-4.1600002195363972,1.4639726175944334,-1.1794067903512451,-4.725678128569843,-1.0623161246169688,null,168.74292528686016,98.772480026273598,96.746919141250132,150.52628502503097,205.60221189400184,265.55612651720872,102.14438267431585,null,224.09307722575087,106.8392130293398,168.40047885330216,189.69961780554777,211.042673990042,197.01989284208909,112.88557816007281,null,null,null,null,null,null,null,null,null,null,null,null,null,null,null,null,null,null,null,null,100]
[null,"Mayo",75.188104373625563,92.191870084381463,56.285543159699515,78.946213058780003,96.742896897654262,134.43953747637318,89.939495793281679,null,0.37103335372552504,-1.6076471078038668,-6.0661801949105865,0.62151914658901131,-2.2653469147721705,-5.4297476000464311,-1.9675815487501302,null,168.42213338006752,98.32932165222411,95.041868617723509,149.92743141418649,205.04097537397931,264.78046124424736,101.53532105375591,null,224.0010368437305,106.65725899932951,168.85662513384707,189.9108590586313,211.94421704251343,196.95133307847087,112.89291779790078,null,null,null,null,null,null,null,null,null,null,null,null,null,null,null,null,null,null,null,null,100]
[null,"Junio",76.020277625510872,92.095573735247299,55.906525138304438,78.825710218737711,96.929922029472706,133.90743249293232,89.97140932669609,null,1.4072061367617739,-1.7803280574035241,-5.7769333402522882,1.1168535881791231,-2.3643581113160672,-5.3710204020146701,-1.5622791162714589,null,169.90034472080805,98.099497278627794,94.628245410286311,150.35960269861158,204.8532398983281,264.63033503374771,101.30525496620255,null,223.49345467766736,106.5192313809134,169.26154000126118,190.74944238544836,211.3415915428468,197.62184227355337,112.59716361489018,null,null,null,null,null,null,null,null,null,null,null,null,null,null,null,null,null,null,null,null,100]
[null,"Julio",75.860994850039759,92.08544854629514,55.132742675503337,78.77076946149073,97.150600067875786,133.58260579146906,89.757659071090345,null,{"$f":"(C264/C252-1)*100","v":1.7592877650908445},{"$f":"(D264/D252-1)*100","v":-1.2555733057223573},{"$f":"(E264/E252-1)*100","v":-5.7227136742638463},{"$f":"(F264/F252-1)*100","v":2.2901349055689968},{"$f":"(G264/G252-1)*100","v":-2.0784662980191548},{"$f":"(H264/H252-1)*100","v":-4.3505743326459845},{"$f":"(I264/I252-1)*100","v":-0.56147059321988158},null,171.31550554036937,98.073027233351695,94.035409087293871,150.88260059083694,206.09384386315693,264.57648562442199,101.25281430226119,null,225.82818203086035,106.50219853579401,170.56181957201238,191.54643482897561,212.13851867015362,198.06207855942162,112.80687949099296,null,null,null,null,null,null,null,null,null,null,null,null,null,null,null,null,null,null,null,null,100]
[null,"Agosto",76.47464757470965,92.652027702821528,54.838945174655883,79.095252432528198,98.409203309822914,134.1187321704376,90.273245461614863,null,{"$f":"(C265/C253-1)*100","v":3.3031158442577535},{"$f":"(D265/D253-1)*100","v":-0.16869913391671654},{"$f":"(E265/E253-1)*100","v":-5.1511423377973546},{"$f":"(F265/F253-1)*100","v":3.2582234499983986},{"$f":"(G265/G253-1)*100","v":-4.5198358299547436E-2},{"$f":"(H265/H253-1)*100","v":-3.4932903015829631},{"$f":"(I265/I253-1)*100","v":0.73062003119495067},null,172.58561901552116,98.329333596171907,93.603048074291237,151.55858457476057,207.76565336920513,265.12025219744106,101.7380940958506,null,225.67690664663567,106.12755709088219,170.68717820187103,191.61527388011925,211.12421031912424,197.67578168016618,112.700162241437,null,null,null,null,null,null,null,null,null,null,null,null,null,null,null,null,null,null,null,null,100]
[null,"Septiembre",77.046826965888158,92.87711739014749,54.758546314725152,79.196409939757672,98.771726302959024,134.47807435261421,90.112358493682308,null,{"$f":"(C266/C254-1)*100","v":3.8853153264133633},{"$f":"(D266/D254-1)*100","v":3.2854074188182203E-2},{"$f":"(E266/E254-1)*100","v":-5.4952328400705515},{"$f":"(F266/F254-1)*100","v":3.5741056276091143},{"$f":"(G266/G254-1)*100","v":0.46509094236031334},{"$f":"(H266/H254-1)*100","v":-3.0438082146499901},{"$f":"(I266/I254-1)*100","v":0.2983739991878398},null,172.47391361683594,97.944489643130211,92.945283815703732,151.49210074064118,207.12579335549955,264.95730023932634,101.38137233023355,null,223.85595930277225,105.4559964772553,169.73658007920812,191.28657581306612,209.70150174371759,197.02639371871376,112.50551425456396,null,null,null,null,null,null,null,null,null,null,null,null,null,null,null,null,null,null,null,null,100]
[null,"Octubre",77.20912856657506,92.684285484382784,54.200833418680027,79.516466893495945,99.030289390405287,134.7374748142866,89.740575775127354,null,{"$f":"(C267/C255-1)*100","v":3.568204075913517},{"$f":"(D267/D255-1)*100","v":1.6476057333123073},{"$f":"(E267/E255-1)*100","v":-6.4025842143895613},{"$f":"(F267/F255-1)*100","v":3.0257842997257978},{"$f":"(G267/G255-1)*100","v":6.0838121875494977E-2},{"$f":"(H267/H255-1)*100","v":-2.67393779772086},{"$f":"(I267/I255-1)*100","v":-0.83147822867745136},null,172.35917776090767,97.838447358592191,92.471460091648154,151.86477468154163,207.88762579495699,265.64956374519892,100.90509280237629,null,223.23678684222892,105.56098787110777,170.60892657746174,190.98531488446127,209.92327405548158,197.16085974696577,112.4408796476023,null,null,null,null,null,null,null,null,null,null,null,null,null,null,null,null,null,null,null,null,100]
[null,"Noviembre",76.252543864661476,91.634174867074833,53.212977559697094,78.654356786610521,97.451632256592546,133.42251663214324,88.179549722071897,null,3.4165633954561736,1.0072027098332992,-6.53428196157485,2.4992120373219517,-0.80393674072500865,-2.7860064322306699,-1.3540866221368963,null,170.34751378524311,96.775797046683294,91.154706321854277,150.52685111453849,205.07037828249742,263.4154690528286,99.111872173142032,null,223.39912237890474,105.61103124141941,171.3016457678809,191.37763915979664,210.43298458310278,197.42954615305794,112.39779799911329,null,null,null,null,null,null,null,null,null,null,null,null,null,null,null,null,null,null,null,null,100]
[null,"Diciembre",75.210687352447181,91.379302051869658,52.871191727799484,78.909807466554625,96.267796557117904,131.99358958756022,87.423888953164877,null,{"$f":"(C269/C257-1)*100","v":2.4708191603962204},{"$f":"(D269/D257-1)*100","v":1.2136712354000823},{"$f":"(E269/E257-1)*100","v":-5.7369588803931943},{"$f":"(F269/F257-1)*100","v":2.6755282019111037},{"$f":"(G269/G257-1)*100","v":-0.54086488067713878},{"$f":"(H269/H257-1)*100","v":-3.2704427004935699},{"$f":"(I269/I257-1)*100","v":-1.7307944612298898},null,168.41213053066468,96.214603456972739,90.434011450759826,151.17151131986904,203.87356598666804,262.46397522289431,98.168920105492361,null,223.92047787233119,105.29146239523521,171.04591081727017,191.57506040544078,211.77753441744684,198.84600156948102,112.29072657484255,null,null,null,null,null,null,null,null,null,null,null,null,null,null,null,null,null,null,null,null,100]
[2017,"Enero",75.572441162971941,90.96649036390798,52.789370573613084,79.416341206811168,97.252058763655569,125.61747701172484,87.330706815016143,null,4.165017699768514,1.3140048928014902,-5.011005131131407,2.6078561811733847,1.7673482701269005,-3.073622675376575,-0.77527053826500492,null,169.13959819989739,95.786836444267493,90.176184516136175,152.11531197977791,206.59712292494268,267.07225533116065,97.246372678726459,null,223.8112142429645,105.29903490953198,170.82261738731737,191.54157654234982,212.43470374958363,212.60756200845586,111.35415734664058,null,null,null,null,null,null,null,null,null,null,null,null,null,null,null,null,null,null,null,null,100]
[null,"Febrero",76.755137776717859,91.569099063789778,52.471006587957227,79.410805149260497,98.250259686780254,126.9887995666862,88.112847859396439,null,5.0052677754599983,1.288408248386963,-5.9756292504557713,1.8348224767370747,2.8027032048132172,-3.3795769264919895,-0.58124290363626985,null,172.00047604497561,96.414441088362139,89.673933502679972,153.01927718257588,209.719445086581,270.31149444299956,98.13157927782089,null,224.08985382233078,105.29145975455863,170.90187388031029,192.69327000898801,213.45434175457871,212.86246926135379,111.3703411725059,null,null,null,null,null,null,null,null,null,null,null,null,null,null,null,null,null,null,null,null,100]
[null,"Marzo",77.429543131084884,91.833117050844308,52.419461003301514,79.361238767333859,99.235368487484379,127.99084507676213,88.649111066945508,null,3.8994159426100294,0.38298999235431008,-7.8730592168663849,0.5853914599232457,2.7216591647807764,-3.8843526083102153,-1.2622109392496639,null,172.43871107121294,96.765893390301727,89.63553005775033,153.13714839172792,211.72079006371564,271.34431921999965,98.431846020606997,null,222.70402755609911,105.3714569404481,170.99666486861599,192.96214470729913,213.3521478185653,212.00291244054347,111.03534467060119,null,null,null,null,null,null,null,null,null,null,null,null,null,null,null,null,null,null,null,null,100]
[null,"Abril",78.085803997483097,92.287437532028633,52.524664513682289,79.441283874198717,99.772047002143012,128.59291299088667,89.272880622205975,null,3.6990918327134859,-0.17546187163116622,-8.574053476584421,0.11528010813217637,2.41212579779011,-4.595076491015238,-1.3394522615594151,null,173.67139080582268,97.064093724303504,89.813332271108166,153.42730299028659,213.0543278918438,272.49191740211626,98.85779492979961,null,222.41096577736528,105.17584659409047,170.99268144342446,193.13295997739704,213.54110123376296,211.90274880967013,110.7366472783107,null,null,null,null,null,null,null,null,null,null,null,null,null,null,null,null,null,null,null,null,100]
[null,"Mayo",79.954967150203586,92.283812455266428,52.513967778411782,79.60034098656746,100.5083651457102,129.73605436923356,89.659501269549537,null,{"$f":"(C274/C262-1)*100","v":6.3399161560058426},{"$f":"(D274/D262-1)*100","v":9.9729369629675269E-2},{"$f":"(E274/E262-1)*100","v":-6.7007888163868383},{"$f":"(F274/F262-1)*100","v":0.82857416770634185},{"$f":"(G274/G262-1)*100","v":3.8922426026165802},{"$f":"(H274/H262-1)*100","v":-3.4985862012253843},{"$f":"(I274/I262-1)*100","v":-0.31131431331979931},null,178.12886926446518,97.162608652509221,90.029691820934715,154.11709985761183,214.80809541447132,274.14524818344302,99.231954321296769,null,222.78649546541854,105.28673021566782,171.43951529395852,193.61361766480255,213.72160924422278,211.3099935991699,110.67645137013298,null,null,null,null,null,null,null,null,null,null,null,null,null,null,null,null,null,null,null,null,100]
[null,"Junio",79.911361260789207,92.726316757277701,52.498147491820312,79.878996935330221,101.9611036210254,130.74745368263095,90.451533895685714,null,5.1184812221371834,0.6848787584988969,-6.0965650039102037,1.3362222981178284,5.190535065140045,-2.3598233133684698,0.53364126735664374,null,178.09675283290395,97.637553927788659,90.72878458897506,154.99447653878494,217.92723458297806,276.24010643404449,99.89504869538159,null,222.86787513441121,105.29648684673489,172.82283075438315,194.03658343915856,213.7356568765496,211.27761853364598,110.44041421186589,null,null,null,null,null,null,null,null,null,null,null,null,null,null,null,null,null,null,null,null,100]
[null,"Julio",80.738003475505693,93.074438538387625,51.704930840909505,80.084574757066761,102.61054842762222,131.39012718303417,91.138138641031446,null,6.4288751223295915,1.073991610732361,-6.2173794885718277,1.6678842983986808,5.6200871182800372,-1.6412904924593907,1.5380075463506948,null,180.68500762736545,98.033454598221965,90.750464817606229,155.99045859575034,220.23184446361412,278.18280387522327,100.54537002475132,null,223.79177072688168,105.32801071670073,175.51607427313968,194.78215257924629,214.62885428290807,211.72276017946027,110.32194811523684,null,null,null,null,null,null,null,null,null,null,null,null,null,null,null,null,null,null,null,null,100]
[null,"Agosto",82.238198226940341,93.918091053684122,52.169409295162858,80.478239332251007,104.05639622610003,132.0735042787903,92.048866197171321,null,{"$f":"(C277/C265-1)*100","v":7.5365507851476776},{"$f":"(D277/D265-1)*100","v":1.366471282121795},{"$f":"(E277/E265-1)*100","v":-4.86795628725325},{"$f":"(F277/F265-1)*100","v":1.7485081053411733},{"$f":"(G277/G265-1)*100","v":5.7384804737194983},{"$f":"(H277/H265-1)*100","v":-1.5249382830790803},{"$f":"(I277/I265-1)*100","v":1.966940178650689},null,183.041900498459,98.470250571898646,90.986136044766269,156.7472731406111,222.48865171342248,280.2703265882198,101.50152769951546,null,222.57528064190547,104.84694638396394,174.40514905964727,194.76975942961008,213.81544987391808,212.20783693041483,110.26917754977694,null,null,null,null,null,null,null,null,null,null,null,null,null,null,null,null,null,null,null,null,100]
[null,"Septiembre",82.889436482853753,94.506458368614446,53.085668068173796,81.209186450505726,105.06566555036605,132.78112847873322,92.620201622225906,null,7.5831929062469605,1.7542975323217691,-3.0550085039447117,2.5414996870175122,6.3722073947577229,-1.261875500560361,2.7830179683061118,null,184.10424338739708,98.719567044321678,91.662722693873846,157.43256386228205,224.34258189220481,282.18610882835662,101.98900153951827,null,222.10820968179738,104.45801138719466,172.66943419862127,193.86053566517614,213.52606554865457,212.51973986164211,110.11528775925723,null,null,null,null,null,null,null,null,null,null,null,null,null,null,null,null,null,null,null,null,100]
[null,"Octubre",81.098215099889345,93.71801091160863,52.529058489611202,80.563789425478063,103.55821951234407,132.19395755177456,91.903887594060507,null,5.0370812435227119,1.115318979720703,-3.0844081605812645,1.3171140178862561,4.5722678887551327,-1.8877578535725581,2.4106284144576939,null,181.0497580247785,97.986317164412881,91.128310414750288,156.5631174875123,222.11072114267623,280.75001825907952,100.94640832046298,null,223.24752499395703,104.55441404622849,173.48171285570052,194.3343512066721,214.47908450782199,212.37734572635222,109.83910579097946,null,null,null,null,null,null,null,null,null,null,null,null,null,null,null,null,null,null,null,null,100]
[null,"Noviembre",80.436452866735706,93.499706742620589,51.999344803196955,80.487072634271797,102.57953377852992,131.46227678983007,92.040872684339192,null,{"$f":"(C280/C268-1)*100","v":5.486910718021587},{"$f":"(D280/D268-1)*100","v":2.0358473006953037},{"$f":"(E280/E268-1)*100","v":-2.2807082259935996},{"$f":"(F280/F268-1)*100","v":2.3300881509125349},{"$f":"(G280/G268-1)*100","v":5.2619965445375838},{"$f":"(H280/H268-1)*100","v":-1.4691971728562958},{"$f":"(I280/I268-1)*100","v":4.378932501285826},null,179.76770770610577,97.908017747947298,90.879126121451336,157.08285783826062,222.32964260060686,281.09012267989499,100.85879227309356,null,223.49034709914247,104.71478591634688,174.76975232169468,195.16532617857189,216.73879224350779,213.81808496233208,109.58043891977867,null,null,null,null,null,null,null,null,null,null,null,null,null,null,null,null,null,null,null,null,100]
[null,"Diciembre",80.070176266714,93.427528281067225,51.669162161685144,80.129007740228133,101.93553889358499,131.08901711943466,92.215017687158721,null,6.4611680671054383,2.2414553221635769,-2.2735057161238914,1.5450554409098816,5.8874748765068929,-0.68531545429749707,5.4803427202381405,null,179.56046382161497,97.915532389343468,91.031943752906756,157.18463619959488,223.04458979931724,282.67624859985096,101.05934479123479,null,224.25386354027563,104.8037277565286,176.18234928611008,196.1644610765367,218.80944783365823,215.63686631528083,109.59098347091427,null,null,null,null,null,null,null,null,null,null,null,null,null,null,null,null,null,null,null,null,100]
[2018,"Enero",81.450532382231643,94.36527000507256,52.698538508374064,81.337376687467142,104.66446852404539,129.7270555939393,93.868851566089958,null,7.7780883200313733,3.7362985287965778,-0.17206506584949155,2.418942312707828,7.6218538246101808,3.2715022463242649,7.4866504457852479,null,183.15460341380876,98.583988727665357,92.043920703963479,159.41949375829148,229.84479298316495,288.57977993982604,102.16233299860218,null,224.86606048724087,104.47062645225942,174.66123977866528,195.99783058021296,219.60154790291693,222.45149912529746,108.83517939566252,null,null,null,null,null,null,null,null,null,null,null,null,null,null,null,null,null,null,null,null,100]
[null,"Febrero",82.370987975148921,95.179103752080479,53.495079524837514,81.589434246935454,106.04572271678737,132.1435994891855,94.706933321796257,null,7.3165788781041297,3.9423831021596634,1.9516929509702408,2.7434920141912844,7.9342925452399626,4.0592555722147372,7.4836821446540247,null,184.67849065899429,98.989515617280574,92.765018119659331,160.13539220339646,232.0711412940403,292.04441646150315,102.80483273295877,null,224.20332109493603,104.00341221443452,173.40850587312235,196.2697666449516,218.84064283650991,221.00534387623046,108.55048213170136,null,null,null,null,null,null,null,null,null,null,null,null,null,null,null,null,null,null,null,null,100]
[null,"Marzo",82.070530942419936,95.40662611823339,53.693211637394917,81.653158973021831,106.23963289402744,132.67298598445072,94.768428470491685,null,5.993820476866385,3.8913076046526607,2.4299193652776774,2.8879592119362973,7.0582338870706529,3.6581842278488708,6.9028525271111141,null,183.61702210020516,99.020699883763456,93.191695766717402,160.49179055746225,232.76741045332631,293.80395291484922,102.86007935839609,null,223.73075937455491,103.78807417532123,173.56327350292744,196.55306980895702,219.09658769765196,221.44971769104757,108.5383402663725,null,null,null,null,null,null,null,null,null,null,null,null,null,null,null,null,null,null,null,null,100]
[null,"Abril",82.04432380265672,95.685202861384056,53.990186640117933,81.82892429664912,106.49441148684345,132.98447696810109,94.831255413325863,null,{"$f":"(C285/C273-1)*100","v":5.0694487378284636},{"$f":"(D285/D273-1)*100","v":3.6817203080063976},{"$f":"(E285/E273-1)*100","v":2.7901598991724841},{"$f":"(F285/F273-1)*100","v":3.0055410814248784},{"$f":"(G285/G273-1)*100","v":6.7377233270116577},{"$f":"(H285/H273-1)*100","v":3.4150902060408717},{"$f":"(I285/I273-1)*100","v":6.2262747122974416},null,182.96341790613033,99.10330800258096,93.550498491800226,160.78833873791834,233.69827312553576,294.77823642588311,102.91473019393504,null,223.00557726116051,103.57224005277868,173.27315261082396,196.49328170931679,219.44651354255086,221.66364311572346,108.52406176146991,null,null,null,null,null,null,null,null,null,null,null,null,null,null,null,null,null,null,null,null,100]
[null,"Mayo",81.16774090632876,94.783016726936282,53.291518791392953,81.308376636152218,105.13237019536412,131.56635973048134,93.394928277988129,null,{"$f":"(C286/C274-1)*100","v":1.5168210298265095},{"$f":"(D286/D274-1)*100","v":2.7081718940483945},{"$f":"(E286/E274-1)*100","v":1.4806556157823225},{"$f":"(F286/F274-1)*100","v":2.1457642372072039},{"$f":"(G286/G274-1)*100","v":4.600617115749861},{"$f":"(H286/H274-1)*100","v":1.4107916031103063},{"$f":"(I286/I274-1)*100","v":4.1662366570705212},null,180.25269594753647,98.013134780431102,92.530955535034224,159.41240912490849,231.50218899185222,291.41140934874505,101.09557098483855,null,222.07430431697765,103.40790804622793,173.63167279439367,196.05902333810562,220.20067516946406,221.49386054741683,108.24524719793094,null,null,null,null,null,null,null,null,null,null,null,null,null,null,null,null,null,null,null,null,100]
[null,"Junio",80.774524368878517,94.136064676245852,52.867340126671593,80.93913106024533,104.41434837047836,130.56889563783801,92.354738891605137,null,{"$f":"(C287/C275-1)*100","v":1.0801506750365508},{"$f":"(D287/D275-1)*100","v":1.5203320570343903},{"$f":"(E287/E275-1)*100","v":0.70324888113204587},{"$f":"(F287/F275-1)*100","v":1.3271750592629417},{"$f":"(G287/G275-1)*100","v":2.4060594308309202},{"$f":"(H287/H275-1)*100","v":-0.13656712980916197},{"$f":"(I287/I275-1)*100","v":2.1041157777537789},null,179.419854846356,97.315709241863757,92.168301015698447,159.09166894054692,230.52580186242423,289.18920107266393,100.02570864199127,null,222.1243099210181,103.37771137613771,174.33882770508347,196.55717433157324,220.77981183628404,221.48399100716509,108.30598390775528,null,null,null,null,null,null,null,null,null,null,null,null,null,null,null,null,null,null,null,null,100]
[null,"Julio",80.469726875982971,94.10446953646732,52.846630442881846,80.787052255380175,105.20565882928732,130.79282620142143,92.176188275496173,null,{"$f":"(C288/C276-1)*100","v":-0.33228044783657484},{"$f":"(D288/D276-1)*100","v":1.106674414860831},{"$f":"(E288/E276-1)*100","v":2.208105848715336},{"$f":"(F288/F276-1)*100","v":0.87716954287933024},{"$f":"(G288/G276-1)*100","v":2.5290873515753542},{"$f":"(H288/H276-1)*100","v":-0.45460111381173673},{"$f":"(I288/I276-1)*100","v":1.1389848969302729},null,179.14384463267737,97.343926162217969,92.374112105850244,159.32119531129004,231.78180067251381,289.28410306170684,99.714409027662725,null,222.62265772166393,103.44240463997866,174.79659787522468,197.2112991666678,220.31305468902212,221.17734700235641,108.17805649506388,null,null,null,null,null,null,null,null,null,null,null,null,null,null,null,null,null,null,null,null,100]
[null,"Agosto",80.407228588198493,93.75359680259281,52.72495531886053,80.24851066253521,105.62187084113816,130.72501156144858,91.763178051244083,null,{"$f":"(C289/C277-1)*100","v":-2.2264223660265481},{"$f":"(D289/D277-1)*100","v":-0.17514650185690428},{"$f":"(E289/E277-1)*100","v":1.0648884685554361},{"$f":"(F289/F277-1)*100","v":-0.28545439316505217},{"$f":"(G289/G277-1)*100","v":1.5044482336641352},{"$f":"(H289/H277-1)*100","v":-1.0210168380898055},{"$f":"(I289/I277-1)*100","v":-0.31036574129581496},null,178.50324231546116,97.032687262807528,92.352999949381299,158.62761849682545,231.48358562080591,288.70053924280131,99.058617817339936,null,221.99899865925784,103.49756230378998,175.15993971140495,197.67048283786067,219.16255012086614,220.84567887538094,107.95029108737036,null,null,null,null,null,null,null,null,null,null,null,null,null,null,null,null,null,null,null,null,100]
[null,"Septiembre",82.000947414399562,93.803257997835672,53.577001224333635,80.568765799183154,105.65605351322294,131.08760772388996,91.916120318301381,null,{"$f":"(C290/C278-1)*100","v":-1.0718966205518599},{"$f":"(D290/D278-1)*100","v":-0.74407652441699224},{"$f":"(E290/E278-1)*100","v":0.92554765540269202},{"$f":"(F290/F278-1)*100","v":-0.78860616552646201},{"$f":"(G290/G278-1)*100","v":0.56192283155898082},{"$f":"(H290/H278-1)*100","v":-1.2754227759967485},{"$f":"(I290/I278-1)*100","v":-0.7601811393115887},null,181.95741218653794,96.895033305863038,94.15768654902584,158.88288092721521,232.00377072967501,288.77338869380213,98.872819030407854,null,221.89671939642221,103.29602124064678,175.74273363075284,197.20158221515916,219.58398313698089,220.29037962310366,107.5685295332481,null,null,null,null,null,null,null,null,null,null,null,null,null,null,null,null,null,null,null,null,100]
[null,"Octubre",83.441900341690115,93.59115978980148,53.756665961294544,80.101211571949847,105.54722968367459,131.29170339316013,91.697558956458906,null,{"$f":"(C291/C279-1)*100","v":2.8899344318663811},{"$f":"(D291/D279-1)*100","v":-0.13535404835554044},{"$f":"(E291/E279-1)*100","v":2.3370064245985533},{"$f":"(F291/F279-1)*100","v":-0.57417588823338583},{"$f":"(G291/G279-1)*100","v":1.9206685675910329},{"$f":"(H291/H279-1)*100","v":-0.68252299524436122},{"$f":"(I291/I279-1)*100","v":-0.22450479844003945},null,185.44148992583231,96.693217882179937,94.574449911924646,158.50509986911888,232.40174747232163,289.1165855271222,98.507934499656031,null,222.24025239892589,103.314477670055,175.93064640582324,197.88102671423863,220.18744420751779,220.20933391453292,107.42699764388593,null,null,null,null,null,null,null,null,null,null,null,null,null,null,null,null,null,null,null,null,100]
[null,"Noviembre",84.907402552922832,92.945004220415697,53.106295623999088,79.379743725918715,104.45001455423058,131.02424142497216,91.098890795444873,null,{"$f":"(C292/C280-1)*100","v":5.5583625667760872},{"$f":"(D292/D280-1)*100","v":-0.59326659037748364},{"$f":"(E292/E280-1)*100","v":2.1287784009426103},{"$f":"(F292/F280-1)*100","v":-1.3757847963793091},{"$f":"(G292/G280-1)*100","v":1.8234444111815185},{"$f":"(H292/H280-1)*100","v":-0.33320232659457272},{"$f":"(I292/I280-1)*100","v":-1.0234386761248104},null,190.03505313761642,96.091873373721185,93.353487839763559,158.35330417793989,231.63344703870385,288.21224794719524,97.706456794592199,null,223.81447014489399,103.38573243360428,175.78610359254,199.48830362151332,221.76487770467421,219.96864459027071,107.25317942013595,null,null,null,null,null,null,null,null,null,null,null,null,null,null,null,null,null,null,null,null,100]
[null,"Diciembre",83.314157684935935,93.308937110755721,53.2669310367706,79.542212123487346,104.03573977327262,131.14119737779419,91.464793826377601,null,{"$f":"(C293/C281-1)*100","v":4.0514228511452588},{"$f":"(D293/D281-1)*100","v":-0.1269338625279004},{"$f":"(E293/E281-1)*100","v":3.0923065291549756},{"$f":"(F293/F281-1)*100","v":-0.73231359440157906},{"$f":"(G293/G281-1)*100","v":2.0603225356763177},{"$f":"(H293/H281-1)*100","v":3.9805209853693846E-2},{"$f":"(I293/I281-1)*100","v":-0.81355930909894347},null,187.09125294829099,96.162499021616981,93.839207755993527,159.16357037653722,232.25664883040423,288.10487412797119,97.755468098609072,null,224.56117681199225,103.05818713535891,176.16785110299585,200.09950204734014,223.24698160129034,219.69059295531125,106.87770016097416,null,null,null,null,null,null,null,null,null,null,null,null,null,null,null,null,null,null,null,null,100]
[2019,"Enero",84.646694106963423,94.527991026791966,53.148389097352634,80.287692610443699,106.34716477895677,132.40875876589419,92.855387117881378,null,{"$f":"(C294/C282-1)*100","v":3.9240525890399391},{"$f":"(D294/D282-1)*100","v":0.1724374038358123},{"$f":"(E294/E282-1)*100","v":0.85363010381604987},{"$f":"(F294/F282-1)*100","v":-1.2905310200214348},{"$f":"(G294/G282-1)*100","v":1.6077053451284629},{"$f":"(H294/H282-1)*100","v":2.0671888062802735},{"$f":"(I294/I282-1)*100","v":-1.0796600057422001},null,190.4281058302754,97.604086673437479,94.663593011865061,161.01051877401213,237.02471490170248,293.25137272498847,98.884578595881905,null,224.96815479839265,103.25416378072994,178.11187623856003,200.54196793926562,222.87826421546808,221.47430083796246,106.49309820909625,null,null,null,null,null,null,null,null,null,null,null,null,null,null,null,null,null,null,null,null,100]
[null,"Febrero",85.574305962611064,94.883749854131182,53.356208751883941,80.187360432534589,107.03533244521898,132.76229943275891,93.319687532198728,null,{"$f":"(C295/C283-1)*100","v":3.8888910600763715},{"$f":"(D295/D283-1)*100","v":-0.31031380450757817},{"$f":"(E295/E283-1)*100","v":-0.25959541361013638},{"$f":"(F295/F283-1)*100","v":-1.7184502225587206},{"$f":"(G295/G283-1)*100","v":0.93319155462265879},{"$f":"(H295/H283-1)*100","v":0.4682027324554916},{"$f":"(I295/I283-1)*100","v":-1.4647774359707433},null,191.82175051223109,97.704100877760695,94.761467800836584,161.35279531461958,238.15625605233933,293.61113599013396,99.003902158348964,null,224.15811423120559,102.97242786880298,177.60157630669491,201.21973643261808,222.50246774748743,221.15550667969663,106.09112050893761,null,null,null,null,null,null,null,null,null,null,null,null,null,null,null,null,null,null,null,null,100]
[null,"Marzo",85.109119818712088,94.988562918944439,53.240994921897496,80.313171987995219,105.48153644520461,132.40199121751246,93.124186320589814,null,{"$f":"(C296/C284-1)*100","v":3.7024116225396364},{"$f":"(D296/D284-1)*100","v":-0.4381909478392676},{"$f":"(E296/E284-1)*100","v":-0.84222325636128526},{"$f":"(F296/F284-1)*100","v":-1.6410718236502531},{"$f":"(G296/G284-1)*100","v":-0.71357216527566658},{"$f":"(H296/H284-1)*100","v":-0.20425768284888512},{"$f":"(I296/I284-1)*100","v":-1.7350104633357288},null,189.57718312865003,97.612719735988208,94.08140638730255,161.40459603668083,237.96444402289922,293.31640974814712,98.790977173966354,null,222.74602713840969,102.76260292439943,176.70858053144269,200.96902169522917,225.59819665360737,221.53474207671201,106.08519770993543,null,null,null,null,null,null,null,null,null,null,null,null,null,null,null,null,null,null,null,null,100]
[null,"Abril",84.38714486385534,95.241800338528662,52.84933535256669,79.929131045733328,104.71083682221872,132.13004607069405,93.105114329724714,null,2.8555553298651892,-0.46339717071796072,-2.113071575684311,-2.3216647013818648,-1.6748058792221854,-0.64250423574775395,-1.8202238028777518,null,188.21452548578762,97.641974900345573,93.579825688619252,161.37711217702713,237.61793929897158,292.84808357885328,98.665036533532046,null,223.03696349656161,102.52008524963377,177.06906825664447,201.90024596250322,226.92774359391916,221.63625328804443,105.97166143217149,null,null,null,null,null,null,null,null,null,null,null,null,null,null,null,null,null,null,null,null,100]
[null,"Mayo",82.839538728387552,94.743358352549478,52.656250976982541,79.442786597035379,103.81129810743583,131.55208407065214,92.341180918746005,null,{"$f":"(C298/C286-1)*100","v":2.0596825825029752},-4.1841224046557102E-2,-1.1920617554495583,-2.2944622882648202,-1.2565797627061781,-1.0850539498419298E-2,-1.128270430387468,null,184.6957998036514,97.087632860744037,93.343132055097144,160.70420561832887,237.02023666568849,290.77512693212526,97.776379756094997,null,222.95609396043105,102.47434178918513,177.26885283933319,202.28923543868484,228.31834394402119,221.03422305036219,105.88599667371763,null,null,null,null,null,null,null,null,null,null,null,null,null,null,null,null,null,null,null,null,100]
[null,"Junio",81.845222970218387,94.852680833878765,52.43944878081566,79.541286799324851,104.2392751471457,132.24451882299303,92.769615463706813,null,1.3255399641231458,0.76125569949998528,-0.8093680234918077,-1.7270314650153828,-0.16767161416501031,1.2833249274028624,0.44922066488499723,null,182.93686227029804,97.053870433100059,93.707448686349679,160.9950397685792,238.16853342258838,291.55968149358483,97.888171732923823,null,223.51562575236014,102.32064036553314,178.69647920599695,202.40436916082899,228.48253030001038,220.47014431186545,105.51749216985758,null,null,null,null,null,null,null,null,null,null,null,null,null,null,null,null,null,null,null,null,100]
[null,"Julio",80.184180906308043,95.434003481246862,52.48576054178735,79.529637051003846,104.57109454805678,132.66333052806598,92.911112240313741,null,{"$f":"(C300/C288-1)*100","v":-0.35484893606635426},{"$f":"(D300/D288-1)*100","v":1.4128276279845808},{"$f":"(E300/E288-1)*100","v":-0.68286265003126845},{"$f":"(F300/F288-1)*100","v":-1.5564563494672945},{"$f":"(G300/G288-1)*100","v":-0.60316554099073549},{"$f":"(H300/H288-1)*100","v":1.4301276155344933},{"$f":"(I300/I288-1)*100","v":0.79730348864179845},null,180.4125986164247,97.268577669374451,93.624028675050653,161.30438170891489,239.44180655098694,293.37120145497136,98.192057459823502,null,224.99774466391256,101.9223485562859,178.37986476448302,202.82298233734846,228.97513656696864,221.13963239669033,105.68386826093592]
[null,"Agosto",78.459932003398023,95.008396958671653,52.419104937849184,79.020180792681046,103.77438334578628,131.94619925650665,92.066228802997017,null,{"$f":"(C301/C289-1)*100","v":-2.4217929395047966},1.338402150821949,-0.58008656273235149,-1.530657528361612,-1.7491524062574371,0.93416529895200551,0.33025311261962731,null,176.13219689849242,96.3695593226536,92.596891403333956,160.19559613889143,237.22626395624368,292.27581609172495,96.86174974877882,null,224.48680798100139,101.43267585556049,176.64721958362631,202.72744826942861,228.59809551051035,221.51135670344968,105.20877308447511]
[null,"Septiembre",79.772831464041616,95.189018786986708,53.009550149670893,79.057515079299961,104.23863608900706,132.61399278246606,92.046624213893281,null,{"$f":"(C302/C290-1)*100","v":-2.7171831797234591},1.4773056061475165,-1.0591318321209409,-1.8757277772505132,-1.3415392465311871,1.1644007279399959,0.14198151003324,null,178.49656276365343,96.182669571322748,92.883792105181101,160.16704140115311,237.35983332012674,294.13104464673034,96.52297746119082,null,223.75608272612527,101.04387123325604,175.2208646233112,202.5955928927122,227.70811498094665,221.79487886260202,104.8631367913022]
[null,"Octubre",80.678988309454311,95.659140784520673,53.268173768799258,79.345469466125394,104.92576354201093,135.23194491471673,92.612040479964492,null,{"$f":"(C303/C291-1)*100","v":-3.3111806189957682},2.2095900930854118,-0.90870998742185183,-0.94348398856066717,-0.58880384025823407,3.0011351972160316,0.99728011728186239,null,179.81044692650772,96.362429008023128,93.670124489878461,160.64454646693696,238.86869856070541,300.84432530815792,96.721603098686458,null,222.87146962827836,100.73520232121534,175.84632222692008,202.46215385431708,227.65495384273805,222.46542819293452,104.43739561014318]
[null,"Noviembre",80.015671121556764,95.797473366911802,52.800333588530357,79.245091564897152,104.79834788914134,135.39721755446436,92.908518267450688,null,{"$f":"(C304/C292-1)*100","v":-5.7612543597916011},3.0689859776987793,-0.57613138305671052,-0.16963038012126619,0.33349285435466669,3.337532110038044,1.9864429261484462,null,178.64905219493278,96.547386389366736,93.179003234635488,160.89880562703601,240.19291278418865,302.084386303607,96.95939594126169,null,223.26757957642562,100.78281085721615,176.4742699558937,203.03945954213356,229.19532380250072,223.10974461649607,104.36007133613944]
[null,"Diciembre",79.170202530414599,95.871438389900788,52.524552823346163,79.132032712532336,104.14967814445784,135.63143273694564,93.345152857826179,null,{"$f":"(C305/C293-1)*100","v":-4.9738907163801365},2.7462549231521471,-1.3936943596618456,-0.51567513651520347,0.10951848992810653,3.4239700787662475,2.0558282075373802,null,176.43052892103151,96.681637454814549,93.175846209482884,161.23188510486131,240.93473406029108,302.89662825693421,97.146580140985932,null,222.84966222393163,100.84508908859671,177.39483955790672,203.75046561811195,231.33507309173771,223.32332715558346,104.07244207843304]
[2020,"Enero",79.923652663349429,96.906260531851643,53.004245284973202,79.220559284318583,105.51309898591637,136.11554004663085,93.778228599431529,null,-5.5797116395895463,2.5159420815212385,-0.27121012476107875,-1.3291368719522856,-0.78428587614348677,2.7994985492541646,0.99384807946423237,null,178.26031930876863,97.23518494145128,93.2907268370124,161.27329896253178,243.9887164090523,307.22598940716762,97.65634806853582,null,223.03825384411317,100.33942534547759,176.00614127310379,203.57505730769972,231.24021448902695,225.7097090471207,104.135415572488]
[null,"Febrero",79.605408525476946,96.888372695793976,52.802161257165025,78.733503189746898,105.47880498167409,136.50910663794522,93.53052529708647,null,-6.9751046999341533,2.1127146057618784,-1.0383936709134178,-1.8130753212794559,-1.4542183669504993,2.8221921593667432,0.22593063742846198,null,177.46682371976888,96.736542113678638,92.23471684377796,160.51223590784181,243.73763785977317,306.53335003766114,96.813398643688544,null,222.93312352385243,99.843293289080165,174.67981356778671,203.86776836413469,231.07735995124347,224.55157577923418,103.50994858221365]
[null,"Marzo",78.386682804028084,94.666738556041253,51.359159461531995,77.389180317248048,103.15259134689106,136.40593771981179,91.860471442598012,null,{"$f":"(C308/C296-1)*100","v":-7.8986094897976038},{"$f":"(D308/D296-1)*100","v":-0.33880327590365411},{"$f":"(E308/E296-1)*100","v":-3.5345610335157707},{"$f":"(F308/F296-1)*100","v":-3.6407373764097306},{"$f":"(G308/G296-1)*100","v":-2.2079173064789348},{"$f":"(H308/H296-1)*100","v":3.0240832977515897},{"$f":"(I308/I296-1)*100","v":-1.3570211219256501},null,175.01507373801098,94.867061501237885,90.339463289231375,158.50894742331988,238.70630587398108,305.23651239846407,94.8145494292786,null,223.27143779710678,100.21160858423156,175.89747230364162,204.82055343334906,231.41086690807165,223.77069319771343,103.21583151086541]
[null,"Abril",77.08871722407595,93.164041441560457,49.980785296429737,76.033888130309663,101.43214093292436,136.6573067636202,91.130475298498794,null,{"$f":"(C309/C297-1)*100","v":-8.6487434212334069},{"$f":"(D309/D297-1)*100","v":-2.18156197130146},{"$f":"(E309/E297-1)*100","v":-5.4277883288415651},{"$f":"(F309/F297-1)*100","v":-4.8733707779143876},{"$f":"(G309/G297-1)*100","v":-3.1311906091067154},{"$f":"(H309/H297-1)*100","v":3.4263673006697637},-2.1208706368512575,null,172.27820489327769,93.637975193957985,89.091584843179234,157.19892211083788,235.86766514100663,304.72712960400133,93.331710587728082,null,223.48044058446553,100.50870888066274,178.25167074664449,206.74849856609282,232.53740182511044,222.9863421288523,102.41547658126342]
[null,"Mayo",77.387811253908708,93.045700509391693,49.960391015495674,76.707588349713035,101.655901097054,139.44386501038969,91.230080709503483,null,-6.5810693277202459,-1.7918489197317977,-5.1197339564970186,-3.4429787328537853,-2.0762643851646834,5.9989782719817253,-1.2032553603794738,null,172.87546182481444,93.838457689728486,89.290785237407292,157.70213634006055,237.62037985253141,310.69918346460554,93.551460956071722,null,223.38848847606192,100.85200839587078,178.72315132544284,205.58870345537397,233.74971574514691,222.81308929686938,102.54453380783472]
[null,"Junio",79.633555514100465,93.823532677316166,50.14173896271361,77.375927110771912,102.92282631517685,145.19561787212027,92.461857507906288,null,-2.7022560093980075,-1.0849963833547416,-4.3816437272365842,-2.7223090996955301,-1.2629105777170246,9.7932974193524416,-0.33174434782574647,null,177.15324793971428,94.796986721157566,90.508205676044568,159.11100404023034,241.34453456560325,327.43158293525073,94.980960237425066,null,222.46055296167998,101.03753718929916,180.50472031564016,205.63372870795575,234.49077644500608,225.51065089556155,102.72447774402909]
[null,"Julio",80.704611332848344,94.574338349577431,50.260872802290869,77.090971898864126,103.89884077194027,144.38948268336438,93.571606137509704,null,{"$f":"(C312/C300-1)*100","v":0.6490437648149161},{"$f":"(D312/D300-1)*100","v":-0.90079541914885874},{"$f":"(E312/E300-1)*100","v":-4.2390311515541512},{"$f":"(F312/F300-1)*100","v":-3.0663602181105865},-0.64286768635434255,8.8390304303551659,0.71088794576863457,null,179.38196732852273,95.064901970048851,90.741314636636986,159.0739835726917,243.00140712065325,330.28722072649146,95.441521046407502,null,222.26978652892763,100.51870690192737,180.54066628246264,206.34580114177484,233.88269331516938,228.74742300364582,101.99837855315836]
[null,"Agosto",82.936084453693411,95.917650676010922,50.53029597665418,77.212625933296891,105.58300278882237,144.59794150222692,94.422157471332795,null,{"$f":"(C313/C301-1)*100","v":5.7050169889282243},{"$f":"(D313/D301-1)*100","v":0.95702458566351289},{"$f":"(E313/E301-1)*100","v":-3.6032835040477607},{"$f":"(F313/F301-1)*100","v":-2.2874597871732183},1.7428380537898303,{"$f":"(H313/H301-1)*100","v":9.5885613356129884},2.5589498983139558,null,184.00048835089734,95.587685696443714,91.376379412186381,159.29310256710804,244.83268351988238,332.28584112654033,96.169071566336868,null,221.85818098710973,99.655991387151715,180.83483907239284,206.30447500220956,231.8864562031587,229.79984201325777,101.85011033616178]
[null,"Septiembre",83.95576968269269,96.823544783510528,51.171411926187901,77.184323936991177,106.5624204005773,146.05686596126347,94.978657901076971,null,{"$f":"(C314/C302-1)*100","v":5.24356242831443},{"$f":"(D314/D302-1)*100","v":1.7171371418183812},{"$f":"(E314/E302-1)*100","v":-3.4675605023869571},{"$f":"(F314/F302-1)*100","v":-2.3694030104915997},{"$f":"(G314/G302-1)*100","v":2.2292927063876755},{"$f":"(H314/H302-1)*100","v":10.136843704607013},3.1853788362410596,null,186.5138766868553,96.134087831087712,92.549531427379435,159.51962108238934,246.25965015065594,337.27032171125262,96.665183026267982,null,222.15730662916519,99.287924281264054,180.86178970569995,206.67360021526125,231.0942724695486,230.91712908635324,101.77568852041222]
[null,"Octubre",84.854856498383768,97.041794796318385,50.985604671699974,76.748714920689878,106.81278792856767,146.86605888213509,95.382464946717121,null,{"$f":"(C315/C303-1)*100","v":5.1759054946405536},{"$f":"(D315/D303-1)*100","v":1.4453966452743217},{"$f":"(E315/E303-1)*100","v":-4.2850522847025951},{"$f":"(F315/F303-1)*100","v":-3.2727193662193121},{"$f":"(G315/G303-1)*100","v":1.7984376027925686},{"$f":"(H315/H303-1)*100","v":8.6030811542016536},2.9914301125370191,null,188.49174215407712,96.473776403413069,93.075673941514381,159.25102391919498,247.11721379456679,341.28673812459641,96.823124282981169,null,222.13430077236333,99.414666233144672,182.55284906560476,207.49666503701181,231.35545713854921,232.37958499212561,101.51040271088489]
[null,"Noviembre",85.945978571561056,97.658285138946596,51.203835557733392,76.503581541522976,106.93670053042189,146.67965181282256,null,null,{"$f":"(C316/C304-1)*100","v":7.411432494261283},{"$f":"(D316/D304-1)*100","v":1.9424434764659493},{"$f":"(E316/E304-1)*100","v":-3.0236514095504985},{"$f":"(F316/F304-1)*100","v":-3.4595329114220696},2.0404449920742529,8.3328405576870601,null,null,191.24293612403164,97.392571845985159,94.124749832400667,159.72325661495225,249.54846297133506,343.33860267804653,null,null,222.51528146229361,99.727915258205286,183.82363119316142,208.77879622963937,233.36091513347398,234.07377808353394]
[null,"Diciembre",86.441848419484216,98.552744193333552,51.969018904609698,76.520675697036452,106.83303850551698,146.57316473285763,null,null,{"$f":"(C317/C305-1)*100","v":9.1848266856158212},{"$f":"(D317/D305-1)*100","v":2.7967722696806918},{"$f":"(E317/E305-1)*100","v":-1.0576652039378076},{"$f":"(F317/F305-1)*100","v":-3.2999999191001606},{"$f":"(G317/G305-1)*100","v":2.5764461387362658},{"$f":"(H317/H305-1)*100","v":8.067253862261591},null,null,192.88639929468968,98.225366830568007,95.283547682134355,160.33878249887678,251.9754347637342,343.84606146381338,null,null,223.1400679433095,99.667815071568853,183.34682795730558,209.53654817907795,235.8590921765479,234.59005070300748]
[2021,"Enero",85.618367873764015,96.31502523112664,50.981767349027159,74.887182059318505,105.18028335744047,142.54631556276084,null,null,{"$f":"(C318/C306-1)*100","v":7.1251938827190386},{"$f":"(D318/D306-1)*100","v":-0.61011053102257851},{"$f":"(E318/E306-1)*100","v":-3.8156904698337768},{"$f":"(F318/F306-1)*100","v":-5.4700159455423725},{"$f":"(G318/G306-1)*100","v":-0.31542588709324582},{"$f":"(H318/H306-1)*100","v":4.7244976686180884},null,null,194.77760663812626,98.340258506766972,95.201089818633662,160.10005667732216,252.77863387556451,343.78799797763139,null,null,227.49511754920039,102.10271789970503,186.73556208217698,213.78833102640468,240.32891508433352,241.17634792620589]
[null,"Febrero"]
[null,"Marzo"]
[null,"Abril"]
[null,"Mayo"]
[null,"Junio"]
[null,"Julio"]
[null,"Agosto"]
[null,"Septiembre"]
[null,"Octubre"]
[null,"Noviembre"]
[null,"Diciembre"]
["Notas:"]
["El ITCER RESTO DEL MUNDO incluye dentro de los socios comerciales a Brasil, Canadá, China, Colombia, Corea del Sur, Haití, Japón, México, \nEstados Unidos y Zona Euro."]
["Valores sobre (bajo) 100 significan una depreciación (apreciación) real de la moneda. El índice se descompone en efecto precio y efecto tipo de cambio, los cuales divididos generan el índice."]
["Fuente: Cálculos de la Secretaría Ejecutiva del Consejo Monetario Centroamericano"]
[{"$f":"TODAY()","v":"2021-02-19"}]

{"sheet":"ITCER REGION","index":6,"n_rows":322,"n_cols":33,"rows_kept":322,"cut":false,"hidden":false,"merged":[[3,2,3,8],[3,10,3,16],[3,18,3,24],[3,26,3,32],[319,0,319,17]]}
[]
["Secretaría Ejecutiva"]
["Consejo Monetario Centroamericano"]
[null,null,"ITCER REGIÓN CAPARD\nPeriodo de referencia Diciembre 2000=100",null,null,null,null,null,null,null,"VARIACION INTERANUAL",null,null,null,null,null,null,null,"EFECTO TIPO DE CAMBIO",null,null,null,null,null,null,null,"EFECTO PRECIO"]
["Año","MES","COSTA RICA ","EL SALVADOR ","GUATEMALA ","HONDURAS","NICARAGUA ","REPÚBLICA\nDOMINICANA","PANAMÁ",null,"COSTA RICA","EL\nSALVADOR","GUATEMALA","HONDURAS","NICARAGUA","REPÚBLICA\nDOMINICANA","PANAMÁ",null,"COSTA\n RICA","EL\nSALVADOR","GUATEMALA","HONDURAS","NICARAGUA","REPÚBLICA\nDOMINICANA","PANAMÁ",null,"COSTA\n RICA","EL\nSALVADOR","GUATEMALA","HONDURAS","NICARAGUA","REPÚBLICA\nDOMINICANA","PANAMÁ"]
[1995,"Enero",85.412055457543701,115.66853753370187,94.669452474801616,133.3541627140786,89.279826072586062,78.401708015076778,97.966820541348881,null,null,null,null,null,null,null,null,null,66.907628497318782,148.7215756446802,95.940054136956562,83.721802418311171,76.947374560770157,100.66114028921535,160.01476109643923,null,78.335111055343916,128.57565143965601,101.34214535833841,62.781544058596083,86.186743350295743,128.39151446784555,163.33566835406461]
[null,"Febrero",85.991271190646344,115.33282125762915,96.018122283730037,125.67062830843057,90.22646361751984,78.329829357742284,98.747767207387795,null,null,null,null,null,null,null,null,null,67.828323573398308,148.76230222535062,95.49258127749934,82.313781985562713,77.520869579980697,100.45469145098696,159.2177590662032,null,78.87814964732874,128.98522779829264,99.45266477438733,65.499618402115317,85.918107029663062,128.24576827838808,161.23681939239975]
[null,"Marzo",93.246095307114146,113.04102017801107,94.304349811033958,123.46780077974124,88.89605176348627,76.611401449977905,95.057602542495857,null,null,null,null,null,null,null,null,null,68.788274526763985,148.41376673853017,94.694721645364027,82.516746131380486,77.882979944149938,100.15715460623271,157.97649249173782,null,73.770675651568908,131.29195623395469,100.41394891657944,66.832603812701862,87.611292514275746,130.734006571631,166.1902764916818]
[null,"Abril",94.429211368400843,112.52851062979026,94.514857962633272,120.13574177285858,89.923655882212373,76.71302281374895,94.71530841663602,null,null,null,null,null,null,null,null,null,69.604605351199382,147.42374101170168,94.901385329565457,81.901814965938243,78.138380453698247,99.622206467011495,156.50856797164846,null,73.710882832270912,131.01012373363221,100.40895936920839,68.174394861431438,86.894132235958892,129.86348707556942,165.24104771236634]
[null,"Mayo",95.585895663135503,112.6218861129142,93.68338010581418,118.99597672077654,90.600978456412932,76.711713922817381,94.678563558731284,null,null,null,null,null,null,null,null,null,70.398817673452214,146.74703637620499,94.652418657855762,81.794895674274244,78.478177698289116,99.228990432566462,155.25210695083126,null,73.649796536459974,130.30063821616082,101.03437616250295,68.737530400885362,86.619569716947424,129.35311357064003,163.97809716929729]
[null,"Junio",96.181658399666148,112.23884235807638,93.196121969739409,120.40852891292819,90.149044436867968,76.530105364400015,94.788332102358837,null,null,null,null,null,null,null,null,null,71.164301171676556,145.71782713008207,94.398029452184218,82.512093060977591,78.665687051647566,98.741334104497653,153.71528885047653,null,73.989471959368473,129.82834112383077,101.28965396525305,68.526784444518128,87.261809088545263,129.02286444574759,162.16688852008113]
[null,"Julio",96.476196575950325,109.47754727858582,94.380954735682991,121.43667933373791,90.478594210736688,76.298705863711533,95.175720947734405,null,null,null,null,null,null,null,null,null,71.862988693565029,144.80957321693825,94.084676339505364,83.268220554167755,78.907928371934418,98.313637324564226,152.33474963655704,null,74.487792060698936,132.27330792170889,99.686082433678109,68.569250255374797,87.211709090160412,128.85361057129441,160.05631280714061]
[null,"Agosto",96.389523814224489,108.37983914389896,94.563868224668866,121.40209243602078,92.873551374066992,75.463054740404743,94.894988830696377,null,null,null,null,null,null,null,null,null,72.426276166674555,143.51326224011618,94.24235304056171,83.961515358701405,79.064362940300953,97.763536632956004,150.81693222624878,null,75.139157556442242,132.41693600372443,99.660002080981599,69.159858511457969,85.131193725814626,129.55152288661731,158.93034404095206]
[null,"Septiembre",96.155407312769455,106.74218484317701,96.076323508759046,120.60583618655413,93.059723284840601,74.324069345931932,95.297912150784853,null,null,null,null,null,null,null,null,null,72.959118298185814,141.79102003916375,94.97695939967646,84.279695122792688,79.083971382026803,97.044258939985056,149.07140920827024,null,75.876251099293953,132.83503635182251,98.85573878252913,69.880279253176553,84.981954158582312,130.56908723378007,156.42673154518059]
[null,"Octubre",95.346491508592848,107.01360471567052,96.589088804542271,121.22460351675865,91.08305239514155,74.129585889727963,96.472085929737389,null,null,null,null,null,null,null,null,null,73.515758718587648,140.2067177453352,95.506107939221707,84.818066419882825,79.129298943534351,96.378736749481646,147.39346501545973,null,77.103790139946824,131.01765716411199,98.878775150770821,69.967699591739375,86.875985007892837,130.01386098777158,152.78353691119463]
[null,"Noviembre",95.009462472425582,107.124073246736,96.39332413688733,123.31825362572822,89.77336990363311,73.759589605825951,97.082405413435694,null,null,null,null,null,null,null,null,null,74.147225617767262,138.79536419746938,95.491577170846071,86.23349634324849,79.170275434420859,95.793943357741995,145.71492593876684,null,78.041937811496283,129.56505479191941,99.064513052002752,69.927600990010589,88.189042607407842,129.87320546340951,150.0940621714351]
[null,"Diciembre",94.880532609677843,107.32291697418826,94.229035058376809,124.0701560379532,91.631216247529181,100.4553599504423,96.143806828867653,null,null,null,null,null,null,null,null,null,75.165154491571457,138.7318707388263,93.862742828107457,87.987076768852489,79.5893790542396,95.66637006910014,144.65936327968421,null,79.220839538061995,129.26584055872436,99.611274560922297,70.91719683332802,86.858368047019923,95.232718409744678,150.46144733708371]
[1996,"Enero",94.323622968486461,104.29740229217124,95.836243942113228,125.39703651082614,92.091515092239376,101.19720890375612,96.641697100688177,null,{"$f":"(C18/C6-1)*100","v":10.433617904644009},{"$f":"(D18/D6-1)*100","v":-9.8307936488065799},1.2324899287044833,-5.9669124992469342,3.1492993919671974,29.075260559751737,-1.3526247287992899,null,73.8552949706432,137.00661089441166,95.606249648208305,87.922139667231505,76.368370086091062,84.11804285991964,141.9933122078545,null,78.299892059191009,131.36147965661812,99.760013242960738,70.115005995090442,82.926608395572671,83.122888240841036,146.9275855740776]
[null,"Febrero",94.462043987654653,103.87425928624336,96.480701426425014,124.35385019148588,91.987914971573844,100.98716446849737,96.563827369904374,null,{"$f":"(C19/C7-1)*100","v":9.850735638304787},-9.9352134513295063,0.48176232954033615,-1.047801013386318,1.9522557833154153,28.925551474491474,-2.2116346518466168,null,74.224695306050251,135.408629931625,96.069444553876735,89.114138420822513,76.496503904090432,83.843296420394225,140.57877406583779,null,78.576211325419507,130.35821469348173,99.573741829746226,71.661744516635721,83.159297531343569,83.023715797613946,145.58119525164074]
[null,"Marzo",95.273310525855806,103.63413316276716,95.744339261174687,125.51859998062272,92.238410026849479,101.17930145168616,96.262752995754994,null,2.1740483738915239,-8.3216579259727474,1.526959735183131,1.6609992143133523,3.7598500687699543,32.068203344053735,1.267810696909133,null,74.710891105195159,134.45677981996954,95.716904687277179,90.664192351483962,76.792088663858678,83.717957322048619,139.49925302283731,null,78.417439986951749,129.7417903894584,99.971346009477742,72.231679102125497,83.253916282279192,82.742177620216665,144.91508780035508]
[null,"Abril",96.170196869585254,104.36587840500457,94.147001723830883,125.63141105219334,92.885079660527154,101.6005093064644,96.494198275720279,null,1.8436937849583668,-7.2538347651646244,-0.38920466763842088,4.5745497536656909,3.29326443554947,32.442322802400334,1.8781439756910601,null,75.37932703837383,134.38747568839372,94.558475202632394,91.886925169681874,77.362990768123922,83.783493894237992,138.87732697736485,null,78.381171602044702,128.76572088713388,100.43705425692526,73.140088454079063,83.288931926276263,82.463655414872221,143.92298133877438]
[null,"Mayo",96.253612478738333,104.68485855264734,93.43165924690733,125.66996486569847,92.828877250467144,101.57607371601688,97.50093237829509,null,0.69855161263121524,-7.0475001211658173,-0.26869318615803106,5.6085830200649722,2.4590228847539697,32.412728802039915,2.981000887083618,null,76.126315380891029,134.35341688326915,93.40917171313869,92.939406387714101,77.944470261217901,83.855129355133201,138.23897183436029,null,79.089307321017927,128.34083050864621,99.975931569716408,73.955146312833776,83.965757822225157,82.554017188705956,141.78220501318407]
[null,"Junio",96.240624454261777,102.9614737884811,94.157420797850548,126.14733509515568,93.72044049049417,101.16711666490247,97.868646168849907,null,6.1306963902207912E-2,-8.2657379341080741,1.0314794304673747,4.766112694871838,3.9616571378382925,32.192574651756601,3.2496764086583418,null,76.505355122553411,133.02905784136675,93.427270380873267,94.722450881810786,78.148183354861118,83.646244981935851,137.00499598301732,null,79.493826600130262,129.20275220093976,99.224542887018046,75.088745085545867,83.384353451462374,82.681258238285764,139.98864942572783]
[null,"Julio",96.412549358662503,103.64265317775109,92.052457510380904,129.94876114730116,94.63211073164895,101.44276030939933,97.848085177306942,null,-6.5971938723474732E-2,-5.3297632673362401,-2.4671261610174633,7.009481698828357,4.5906068249006671,32.954758748597037,2.8078213676364649,null,76.967935800068858,132.21623352133375,91.99158193556876,99.069807664113114,78.418471853391708,83.602330218337173,136.0045608319692,null,79.831864536370574,127.56932543455623,99.933868604425584,76.237593024695514,82.866662538855621,82.413303781709956,138.99562836157733]
[null,"Agosto",97.312752148380611,101.25254326564229,92.002273648934164,130.60456120097928,97.262787130650509,101.71290290643465,98.201342881275991,null,0.95780982997228925,-6.5762192807774511,-2.708851302115467,7.5801566351158423,4.726034152505898,34.785032565048148,3.4842240789748402,null,77.515878344151673,131.70209242467968,91.118714978212239,101.11518276210127,78.866429663331701,83.578672539839488,135.18667101141804,null,79.656444435932656,130.07287340837564,99.039633874600284,77.420866340572417,81.085924010580257,82.171160346021395,137.6627518982676]
[null,"Septiembre",97.6380366684987,102.33482929921101,91.163097092331938,130.13963631548404,97.310539329164072,101.52447775349417,98.004864113471143,null,1.5419094954344237,-4.1289725804668382,-5.1138784634896854,7.9049243638450006,4.5678365401027765,36.597038680647856,2.8405154967122703,null,78.214574032627112,131.41139727027357,90.317662213645107,102.18667445320564,79.386945616539705,83.588886206076936,134.4457464747847,null,80.106664063905484,128.4131689769543,99.072612816312542,78.52079300843063,81.581035480652559,82.333726856526525,137.18272831756786]
[null,"Octubre",97.802579383322737,102.71166880619329,91.210838374617978,130.21556312631441,96.021252050620134,101.70280704250986,97.934834218313824,null,2.5759604112003842,-4.019989720846473,-5.5681759673783855,7.416777905413241,5.4216448896062586,37.195973539901672,1.516239930420693,null,78.797792485480812,130.76076622087126,90.026250576986982,102.96968022763397,79.818934958147409,83.508888471213467,133.55779636092964,null,80.568215053556543,127.30857919133204,98.701264215152037,79.076323716965518,83.126321781420586,82.11070166068113,136.37414861315438]
[null,"Noviembre",98.471983340557045,104.59956795516608,89.58105069660219,128.9544455600396,96.040510540580897,101.52833808330929,98.31604514165069,null,3.6443958086136874,-2.3566180925134295,-7.0671631062448785,4.5704441707529186,6.9810687107715985,37.647645039622077,1.2707140114229798,null,79.641484562553444,130.8282428725802,89.079831165934479,103.3279995147015,80.468867665108249,83.589067459274474,132.98423713493514,null,80.877303229610064,125.07531859850162,99.440484871777983,80.127520277378309,83.786380572297134,82.330774872612693,135.26198795256218]
[null,"Diciembre",99.017517764405511,104.98937579683057,88.841168532865893,130.05408135205417,95.673489522028603,103.69955669350634,97.872074962856317,null,4.3602043969825921,-2.1743176976068535,-5.7178411326965435,4.823017480747338,4.4114587146587336,3.2294909347440504,1.7975865435252869,null,80.239947560139655,130.34159836544978,88.442191593297451,104.44780738510686,80.939783189055348,85.637101081869886,132.14295509548825,null,81.036112974530695,124.14741718026725,99.5509098471382,80.311056984339018,84.600011553272708,82.581935557331533,135.01599424109293]
[1997,"Enero",97.677581800505465,103.94531326782031,88.763765303777575,129.17134037644203,97.077929400935062,105.4790267927486,98.966204651704331,null,3.5557994131963699,-0.337581777314655,-7.3797535748662657,3.0098828254924825,5.4146294625528446,4.2311620403134853,2.4052842828228949,null,80.215915195939857,126.23300444936274,88.802153474448275,105.62008867652865,79.878774832834978,90.503648060327478,127.53792387465967,null,82.12315837197022,121.44174708879569,100.04324756902699,81.767432596674823,82.283146463634381,85.802505779802445,128.87017777786761]
[null,"Febrero",99.049262306810434,103.73688171120553,88.300808177551147,125.16417198695329,98.939730442275717,106.61181038646245,99.403462726893864,null,4.85614975656814,-0.13225372289709103,-8.4782688433414304,0.65162581956219601,7.5573138850360211,5.5696641722420726,2.9406822765130958,null,80.869240826366322,125.82793062012585,89.391462541673192,103.42677782775085,80.470018857842561,90.760813513260359,126.80203676654716,null,81.64547513324176,121.2952698640199,101.23515785034381,82.632894210758437,81.332361123412483,85.132044174333942,127.56299759388618]
[null,"Marzo",99.299094849149895,104.25128308403886,86.939956539688282,125.45419663299514,100.31895750017266,107.24429322848582,99.70330601581648,null,4.2255111122663891,0.59550835466768426,-9.1957214279473014,-5.1309803995214232E-2,8.7605016944362291,5.9943008992760616,3.5741269732990189,null,81.874231534955413,126.33247499941814,87.697628885170474,104.20110731874952,81.25573571269652,91.40534154686874,126.55241640092771,null,82.452142851185656,121.18073875175159,100.87148921582025,83.059084602470818,80.997388467236291,85.230960823368079,126.92900712926409]
[null,"Abril",98.813247792590033,104.26106723758215,87.162028138318888,124.42558337836181,101.0438845435043,106.17357669909424,100.0564534355981,null,2.7483056175802378,-0.10042666149532309,-7.4192204293468507,-0.95981384251950796,8.7837625943753661,4.5010280202786968,3.6916780734310262,null,82.511706447888173,126.05541409005447,87.552918454760871,103.645344177691,81.883152285138678,91.386619343702947,125.97217003258801,null,83.502676302150334,120.90362915891606,100.4484639983614,83.299062269629204,81.037217299265635,86.072846168403174,125.90109453926499]
[null,"Mayo",99.255350522685987,104.53488397503433,86.436354616112951,125.71626641520852,101.17336707795566,106.21442615133647,99.650124915066755,null,3.1185718298216702,-0.14326291279037617,-7.4870816671554818,3.6843767370764446E-2,8.9891099350192007,4.5663828750531765,2.2042789585159817,null,83.059312723101925,125.55501466233159,86.675494220424966,105.82550444788754,82.354319240386914,91.31113355509703,125.40207762968856,null,83.682453677011324,120.10824510248406,100.27666553659522,84.17805226443258,81.399207735106444,85.968673808014614,125.84236872414417]
[null,"Junio",100.09917785230107,104.84361453323031,86.008179104609354,125.0528807322673,100.45857629462741,106.0990864979896,100.01395114528442,null,{"$f":"(C35/C23-1)*100","v":4.0092771840576136},1.8280048599690568,-8.6549117681728465,-0.86760006627394359,7.1896117526428771,4.8750720547106052,2.1920247805750526,null,83.968925073532077,125.71785266873302,85.669570572477554,106.01483301082366,83.095204846241586,91.448232048647498,125.00463007072045,null,83.885729009113746,119.90988028067898,99.606306591237143,84.776002272028222,82.715889385628856,86.191347227462032,124.98719292584846]
[null,"Julio",100.64517345067891,104.28039411411525,86.658655390945185,123.84599641037755,100.04581762196075,104.31728213391833,100.21777315016799,null,4.3901173863484244,0.61532671811326267,-5.8594873676538706,-4.6962854305366726,5.720792708157596,2.8336392027895618,2.4218031130267104,null,84.512372840377779,125.09346831575189,85.8987958129444,105.57449537212582,83.614865888646449,91.314746861212967,124.28295874887138,null,83.970616714961494,119.95876058817025,99.123157895108321,85.246595313661103,83.576573090340162,87.535588536506125,124.01289196741952]
[null,"Agosto",99.856478612911758,104.62393995088925,87.357652719066124,121.47705300087496,101.46983146665745,103.55114323919064,99.741131446227939,null,2.6139703259574043,3.3296908665315206,-5.0483762472992355,-6.9886595967031839,4.3254408598796701,1.8072833241687958,1.5679913530444622,null,84.599788023732202,123.6869089951627,87.419095852373744,104.50929155299337,83.930908270039566,90.906639058054125,123.26277387502806,null,84.7213813253707,118.22046565367511,100.07033514683047,86.032126209252553,82.715135185396363,87.789121601555635,123.58269059889399]
[null,"Septiembre",100.81857494220715,104.65086878656729,86.931940188108172,120.56049523714417,103.02688719637422,102.95011795440155,98.906434188304246,null,3.2574787267661165,2.2631976847145019,-4.6413044742637073,-7.360663783567178,5.8743358187276495,1.4042329814972332,0.91992380479122282,null,85.030866024853708,123.09406464088657,87.682958353480473,104.09390498194414,84.478936075581345,90.775682004446267,122.60089304768016,null,84.340476021999393,117.62354777190976,100.8639151084713,86.341636849774034,81.996979986943046,88.174432247520542,123.95643827808505]
[null,"Octubre",101.14407406760841,104.65498114317907,86.755796424458978,120.49389047279486,103.07933824551762,102.22101151696113,98.970437976351974,null,3.4165711225152773,1.8920073634989043,-4.8843339558632408,-7.4658300591067821,7.3505458887128672,0.50952819250571491,1.0574416818122323,null,85.434286062888731,122.42871423821016,88.09782062631615,103.54005838370033,85.009700881830753,90.618399445836033,121.90615093165857,null,84.467910602237879,116.98316974584777,101.54689860178475,85.929716417512154,82.470165533418495,88.649484192200617,123.17430681754371]
[null,"Noviembre",100.39232771003421,104.89935758419236,87.679400277346389,119.75950731230434,101.22076610275663,101.92290960714129,99.553247276439166,null,1.9501428775287488,0.28660694770248352,-2.1228266519181749,-7.1303770938662359,5.3938234324429901,0.38863191428213373,1.258392903219363,null,85.764021345381252,121.57393358135502,88.817289156638267,102.85590639716334,85.481248700742938,90.394754116779538,121.1294928738796,null,85.428860254237478,115.89578466558257,101.29778360218309,85.885378710635138,84.450307967403305,88.68933830990828,121.67307063076261]
[null,"Diciembre",100.56374711086748,105.29279346494936,86.970519732954486,119.91137150046434,101.846513522667,102.0083719943792,99.585071637237306,null,1.5615715091353399,0.28899844942971153,-2.1056103052262132,-7.7988401026290681,6.4521781650046961,-1.6308504617098651,1.7502404797600235,null,86.441764696897778,121.54483084591949,88.203824337319091,102.82875413886639,86.217584469429681,90.457095107109865,120.71815598836646,null,85.957183558006449,115.43508994884843,101.41807201814075,85.753963825247553,84.654428990582062,88.676148181341588,121.22113686689057]
[1998,"Enero",99.9946151543638,103.88084066923221,87.560123273387219,119.44000195249291,102.3292948173374,100.69967315639182,99.44055110048285,null,2.3721239931907778,-6.2025498371420795E-2,-1.3560060530004692,-7.5336668301104854,5.4094328636883349,-4.5310937934112001,0.47930144481937997,null,86.957760750796808,120.65175071161336,89.358581134977271,101.9121797686188,87.469873259955804,90.544436930500851,119.75858137619548,null,86.962443544143127,116.14437266230982,102.05396908359157,85.324998411465387,85.478819546341683,89.915323548151576,120.43233877010763]
[null,"Febrero",100.43212601457201,104.57092207342919,86.954401958269713,117.72768109297081,102.44786346620435,100.97212673504403,100.26450275141231,null,1.3961373114300235,0.80399598336255984,-1.5247948994692617,-5.9413894375122229,3.5457272909949822,-5.2899239127211617,0.86620727376882645,null,87.667737139998437,120.66756461414289,88.502504027296595,102.2780787822927,88.176402131068926,90.514417903249949,119.42350297677218,null,87.290532042783255,115.39303873538643,101.78036078009004,86.876831202954392,86.069537370251439,89.642974581256823,119.10845782865064]
[null,"Marzo",100.41977618366946,104.28606961668768,87.623879272142858,116.3023410605697,102.6010074269951,101.38749092324414,100.28880319421269,null,1.1285916918195804,3.3367965956632162E-2,0.78666100108109038,-7.2949776237445141,2.2747942997897619,-5.461178519554089,0.58723948261387715,null,88.003253854993901,119.83237563811097,89.054144889328271,102.04894058051217,88.600639605977676,90.304528402680134,118.70163208475195,null,87.635381395427999,114.90736593925253,101.63227835729947,87.744528312947338,86.354551312783883,89.068708161488658,118.35980518670883]
[null,"Abril",101.2040432801434,103.62805040533399,87.961881658394034,115.14193875601303,102.04702617381146,101.73117973114719,100.9897603169091,null,2.4195090647882278,-0.60714593569782815,0.91766281391003623,-7.4612024073203891,0.99277817241403277,-4.1840890229564494,0.93278029478800484,null,88.554036880192825,119.4530532232118,89.025534874275266,101.696927120834,89.228814286714709,90.209015661710126,118.17653731214857,null,87.500493073252002,115.27096452744155,101.20922062582972,88.323097751837281,87.438916774248625,88.673910889574287,117.01833625637572]
[null,"Mayo",101.82420634364746,103.59328984812208,87.858812008679919,114.91403594043082,101.34344296174459,101.56790905892672,101.22469469957876,null,2.5881283048557968,-0.90074632611361061,1.6456702725195615,-8.5925479516713583,0.16810341367592407,-4.3746572483377211,1.5800981542712922,null,89.116730654079618,119.13602829580201,88.684448937931265,101.90975142620881,89.860518535329931,90.105749399852314,117.69454950508327,null,87.520181943101747,115.00361507050032,100.93973149690414,88.683467247670961,88.66929710415576,88.714782291693737,116.27058975518258]
[null,"Junio",102.22471150750003,103.66990602999982,88.508107329010883,113.41150250189972,100.553883974635,101.30502912647199,101.09106140933825,null,2.1234276852255984,-1.1194849666867235,2.9066168478708798,-9.3091643808600129,9.487261667742164E-2,-4.5184718641365968,1.0769600157973791,null,89.651291945860663,118.51596878747104,88.834468742116456,101.81821839246498,90.378399326994469,89.937156167198765,117.04116304967589,null,87.700215166939472,114.32051337364489,100.36873617903996,89.77768228646778,89.880565279599423,88.778569971011763,115.77795446795483]
[null,"Julio",101.21252557441878,103.24872458256229,89.026036627538204,111.19272449996804,102.80588025838905,109.56370195348988,100.79451310483222,null,0.56371518304143553,-0.98932262417803507,2.7318462603798777,-10.216940617508119,2.758798620505698,5.0292911320642064,0.57548669915068462,null,90.006444625032827,117.75930417889026,88.904431991582882,101.41057809746385,90.798246214509746,97.444094942123328,115.90880460127835,null,88.928167847025591,114.05400372255899,99.863405537793312,91.202530159689559,88.320090238321285,88.938300919668293,114.99515304045009]
[null,"Agosto",99.401767394773131,104.20225786736074,89.227567722458758,110.66323241246145,104.14739740148627,110.03192237088622,100.51477310606394,null,-0.45536476396418335,-0.40304550156153862,2.1405279848877079,-8.9019451174335078,2.6387803114747976,6.2585297747276059,0.77564957266711421,null,90.447899403209433,116.93223715286973,89.3824056460695,101.14391894093274,91.253064324699352,97.916275147886722,115.12589876293913,null,90.992244679107657,112.21660599879996,100.17353148535034,91.397943775897886,87.619149975414643,88.988970689650316,114.53629671079038]
[null,"Septiembre",100.00878492849345,104.3002829008848,89.91632612068625,109.81902219385398,104.04629253079261,109.49824536492676,98.920089455027423,null,-0.80321509620414622,-0.33500523191786202,3.4330142938490793,-8.9096125743026828,0.98945562868006931,6.3604855833438556,1.3806247121572746E-2,null,90.726039026731584,115.84019391562673,90.235391078826581,101.03670614094258,91.590925913416598,97.796423155355384,114.2710896804753,null,90.718069509194549,111.06412244893733,100.3548465244366,92.002919095920603,88.029014475753826,89.313233129378006,115.51858708379655]
[null,"Octubre",100.57176401886036,103.75488133948892,91.1185812753492,109.42500387925587,102.28461129255105,107.62444235645096,98.570963939710751,null,{"$f":"(C51/C39-1)*100","v":-0.56583646053796066},-0.86006398726374833,5.0288107892468403,-9.1862637600187096,-0.77098569557525476,5.2860275586230632,-0.40362965427784836,null,91.056683423485595,114.83978007803121,91.042838672624939,100.72295033783514,91.967833186321371,98.02516705996706,113.43522984209436,null,90.539013918866544,110.68373708825534,99.916874690470223,92.047472485335319,89.913655655666545,91.080766518918438,115.07976112668948]
[null,"Noviembre",102.33640805000478,103.32401431248431,90.077383584959179,111.55446638561381,98.62791901403051,106.5867475591207,100.40085540227264,null,1.9364829806374217,-1.5017663672951209,2.7349449243807777,-6.8512647645532887,-2.561576234360774,4.5758485211578215,0.85141183137888987,null,91.759555890066366,114.43189651685471,90.632888806772527,101.16904936601516,92.535783319046445,98.183866406978964,112.86058395569016,null,89.664624387861807,110.75053295042979,100.61669777662827,90.69027233414478,93.82311240479747,92.116392192677708,112.40998246827236]
[null,"Diciembre",101.99121131758947,102.50467871782078,91.81789706108114,110.62793743134911,98.155937094580295,104.79806003347228,100.10791509754193,null,1.4194620305350014,-2.6479635076418595,5.5735867084739432,-7.7419130087085009,-3.6236649645010388,2.7347638086477888,0.52502192518293356,null,91.800940732955368,112.8286226427164,92.513602364447095,100.58029782995639,92.680487028768354,97.681773603284711,111.78454898619563,null,90.008677754691305,110.07168068231871,100.75770119512009,90.917629095609016,94.421682245735227,93.209524653495819,111.66404662136493]
[1999,"Enero",99.902386657350661,100.8774631384068,95.796943698799765,107.89821152449133,99.025086741785998,105.20504741906618,99.367081725504818,null,-9.2233463642776847E-2,-2.8911756118613741,9.4070452592841747,-9.6632537167843591,-3.2289952563921864,4.4740703931354986,-7.3882710991612921E-2,null,91.622925064759102,111.05372449073644,95.748609455632078,100.34113350490314,93.301286239628311,97.749634258200587,111.96586856063462,null,91.712448651513398,110.08774510751476,99.949545109372522,92.996104464740981,94.219848029941303,92.9134453681027,112.67903476317554]
[null,"Febrero",100.10595837697502,101.44898185814121,94.670973043851063,107.13274597548536,100.41782304506445,107.37383569812862,99.393782838215202,null,-0.32476424680052407,-2.9854764148448121,8.8742730808321966,-8.999527570001586,-1.9815351462254549,6.3400753951464273,-0.86842291070440281,null,92.640187631160899,111.40548280628025,94.047142314874392,100.7153632841741,94.099418726246967,99.411032952052224,111.6853008078627,null,92.542131490615361,109.81429361416508,99.341053853235763,94.009877528221182,93.707885585229249,92.584038099874661,112.36648572844301]
[null,"Marzo",100.35679279704831,100.30118434290733,95.810227199383348,105.56811123165788,102.52152594944471,107.31404212820021,98.044741151044406,null,-6.2720102568192271E-2,-3.8211098456650383,9.3425992951251082,-9.2295905061115509,-7.746656640476024E-2,5.8454461699252391,-2.2375997835197836,null,92.907380299051539,110.33854418167029,95.003190181021395,100.36955773924848,94.392982880819332,99.888668402222848,110.73842221626455,null,92.577071974528195,110.00721965998675,99.157671323873913,95.075640331385927,92.071379163207425,93.080706328155244,112.94682500682487]
[null,"Abril",100.5529223179483,100.13340402438236,96.444954136179419,104.96617379775445,102.53493732280974,106.77694793874042,97.263868101261536,null,-0.64337445529989434,-3.3722977198572868,9.6440325261912605,-8.8375834801784343,0.47812382907390649,4.9599033658393354,-3.6893762337444791,null,93.147602293377346,109.27952954255275,95.99435434302795,100.10247115639919,94.725278020851547,99.54303145283663,109.83476064954465,null,92.635400489748733,109.13394047399339,99.532790702025494,95.366409515196295,92.38341632045757,93.225207663685978,112.924524588304]
[null,"Mayo",100.00739947655239,99.953211991519737,98.136911805539,103.96590967773936,101.6112779953025,106.54111506945124,96.757806321752,null,-1.7842583137486101,-3.513816253870361,11.698427923022292,-9.5272315284155145,0.26428452175146777,4.8964343724347215,-4.4128445050724885,null,93.052109208167195,107.54765218338503,98.339215922970041,99.397458250030269,94.797897936493754,99.022022732608946,108.58672945960205,null,93.0452243486084,107.59799514247686,100.20614477642411,95.605817866770167,93.29466158360519,92.942543982254364,112.22529074141568]
[null,"Junio",99.408022514319711,99.925853782148238,98.872782911837859,103.1318302685882,101.89252711394434,107.06670588680268,96.707071261148855,null,-2.7553895253337735,-3.6115131104374032,11.710425062303509,-9.064047302555867,1.3312694511601553,5.6874538312778666,-4.3366743677145987,null,93.37474906056201,106.56934642294308,99.206703471814222,99.234539663602149,95.139748690572773,98.50016691242584,107.71112200342637,null,93.930798238252237,106.64842219439879,100.33772748186335,96.221059400539801,93.372646047123681,91.998876865200387,111.37874469650937]
[null,"Julio",100.44167903961193,99.729626603804235,98.21466494739478,102.9970976005831,102.18453452835176,107.57059729801865,96.555069225581889,null,-0.76161179699054671,-3.4083694428051037,10.321282029322965,-7.3706503156933501,-0.60438734484410395,-1.819128616443888,-4.2060264479288234,null,93.891098962751983,106.06983875804985,99.285148730382105,99.101982435033207,95.638252869246983,98.305047256403995,107.10697663822025,null,93.478225235286502,106.35740087490085,101.0899429159186,96.218228225561333,93.59366689947737,91.386540305298354,110.92838262896989]
[null,"Agosto",99.90818727811957,98.607368796035132,101.1367207467288,102.02222809066873,100.7969863878338,106.97879432871315,95.901810208408961,null,0.50946768515212071,-5.3692589640882415,13.346943470781714,-7.8083787482243094,-3.2169896677654908,-2.7747657010679605,-4.589338218758499,null,93.353284759829933,103.98719007735137,102.79067459397298,98.165520654425038,95.399576358669037,97.700123290868035,105.78114624456884,null,93.439073716709103,105.45580046096164,101.63536432171465,96.219738082159722,94.645266468188538,91.326625901826304,110.30151153006456]
[null,"Septiembre",99.81472632415209,98.009650126934076,102.29150001603733,101.88019682559165,100.09891210938794,106.46679125083271,95.784481091756604,null,-0.1940415579292476,-6.0312710560225691,13.762988802212671,-7.2290075158824578,-3.7938693685182878,-2.7684956083004475,-3.1698397975027937,null,93.394469933747985,102.99712256399293,104.01579112174046,98.035466757402773,95.55264862021096,97.373454245398108,105.00655745897178,null,93.567826485288279,105.08875649550784,101.68566411229945,96.226224341938945,95.458228872448842,91.458992143370835,109.62794417436047]
[null,"Octubre",99.615544525918168,98.056193924226093,102.54777929646207,102.02550611099574,99.603762839439327,103.44446068792132,96.431641246459805,null,-0.95078325638483507,-5.492452347004817,12.543213317353175,-6.7621635877893604,-2.6209694882097678,-3.8838590723523359,-2.170337600187644,null,93.776244309479722,102.62295677715146,104.0603158774087,97.929630421658572,95.969489263649209,97.470876800519832,104.54732394266361,null,94.138163632766009,104.65729156941821,101.47495790871682,95.985439479338453,96.351268795287837,94.225322605312783,108.41599561233409]
[null,"Noviembre",99.69268955623609,99.102503261140725,101.69290737200868,101.70647111482533,99.453081883184808,102.53234438083892,96.642446272429808,null,-2.5833606476366455,-4.0857017407167406,12.895050149956866,-8.8279703985554505,0.83664227878204045,-3.8038529846620039,-3.743403494705444,null,94.406142485648431,102.62686591396499,103.27575589561695,98.132268623954829,96.41429562011875,97.66404560034367,104.27026017008139,null,94.697156738252559,103.55628015120605,101.55649844665959,96.485766882192507,96.944502668468985,95.25193848839271,107.892819554825]
[null,"Diciembre",99.586390967318152,100.44808313484074,100.28878528379727,101.38188393707209,99.984470941221105,102.7535242818241,96.875183129440444,null,-2.3578701725416096,-2.0063431335085924,9.2257484584742144,-8.3577925332059326,1.8628866482919726,-1.9509290066964668,-3.2292471229189212,null,95.277785500850669,102.98191727264113,101.79001971063093,98.557734144429062,96.887838365843464,97.642018880108111,104.17145506749208,null,95.673499737648427,102.52253110136405,101.49691156651809,97.214344730074288,96.902886472042155,95.025469503414243,107.53162131141747]
[2000,"Enero",97.976659378383602,99.012523018628514,103.31492671264816,101.5706465419719,99.726156616452272,102.63980742752646,97.002914454773162,null,-1.9276088824304094,-1.8487182981787864,7.8478318029498784,-5.8643835640252213,0.70797198743624001,-2.4383240675910911,-2.3792258257744892,null,95.074386357948669,101.43018763522376,104.29042608912407,98.631814193590316,96.659260855712773,97.469205452486193,103.16480236502181,null,97.037791409863843,102.44177659844138,100.94419984363836,97.106612541678388,96.924682686273769,94.962381453520152,106.35227090328463]
[null,"Febrero",98.142092769657083,99.886125674449517,102.00206901446695,101.69830570159874,98.972004590317638,103.5553872681685,98.151512573435525,null,{"$f":"(C67/C55-1)*100","v":-1.9617869297274937},-1.540534123720505,7.7437631989059286,-5.0726229635989721,-1.4398026275654008,-3.5562187055469652,-1.2498470521056015,null,95.792890220929323,101.75442698820962,102.83895666350378,98.99745252393059,97.112280437018782,97.959522562281094,103.08281460681579,null,97.606325193980297,101.87043125473633,100.82046144467731,97.3442495830826,98.12095939554122,94.596259206296736,105.02417324408601]
[null,"Marzo",98.877066362855771,100.92620842918198,100.27723933949099,101.52203882697522,99.079474104093094,104.35773686806445,98.127976598880764,null,-1.474465646969203,0.62314726428138734,4.6623541877337304,-3.832665335656138,-3.3573942774212662,-2.7548167989088324,8.4895372111937206E-2,null,96.468499648048478,101.95711489402888,101.78093546265976,99.11932669581708,97.531543700596742,97.987273152902929,102.95344306045489,null,97.564079514689055,101.02144574822729,101.49953881167187,97.633309812411184,98.437688110990479,93.895552063173369,104.91752365515417]
[null,"Abril",100.203363498697,101.38772619562816,99.082010992721095,100.67890540936375,99.060610946437322,104.39948300949796,98.187182248275079,null,-0.34763665858064119,1.2526510842878924,2.7342610924135702,-4.0844285671032265,-3.3884317551531096,-2.2265713481588345,0.94928791650799038,null,96.902467409591736,101.82997887732257,101.43343938345883,99.221317665753759,97.834028184062589,97.911649376191946,102.6734608164394,null,96.70580310495447,100.43619942796734,102.37321423654842,98.552241169405448,98.761785586969623,93.785569194135036,104.56910817220557]
[null,"Mayo",100.84147434987142,100.51532073214362,99.989285890405327,100.27644266644563,98.68432655534464,104.29220112348627,97.834799649512803,null,0.83401316071074483,0.56237186321894672,1.887540631538176,-3.5487276769182174,-2.8805379655722607,-2.1108413822203409,1.1130815886621459,null,97.298945952185207,101.69592521649705,101.09145083744484,99.393753374500335,98.137194327441691,97.833996517993853,102.40202201240281,null,96.487032324224714,101.17455177554429,101.10228304685319,99.119744110906055,99.445573327598183,93.80758624717717,104.66830041994444]
[null,"Junio",100.51568663766118,99.757993890522798,100.71584203973995,100.15184576663054,99.134143884298354,103.67531675535703,98.187786198036846,null,1.1142602934103296,-0.16798444573853377,1.8640712576538876,-2.8894905619311073,-2.7071496877895118,-3.1675478416523184,1.5311340914145211,null,97.634773567649262,101.33305555651108,101.26295869011071,99.354100424817872,98.342417316446046,97.68333063291665,101.99119335816169,null,97.133867193886843,101.57888265848329,100.54322799600372,99.203464164133791,99.201358344531272,94.220431333159368,103.87360516760576]
[null,"Julio",99.701928921589172,99.87986366635586,100.86169670810085,99.631131756699176,100.21118675771804,103.40178094834656,98.356811402222732,null,-0.73649716442018009,0.15064436483700483,2.6951492041680902,-3.2680200921165303,-1.9311608941039893,-3.8754236328377156,1.8660254620411765,null,98.01534153269867,100.91265058426046,101.34824887048516,99.436185015233747,98.592767540489703,97.556634257830325,101.62737201741557,null,98.308370352376102,101.03402916262939,100.4823953772981,99.80433149957436,98.38499146692952,94.347150854745806,103.32519992115049]
[null,"Agosto",99.464934920605941,99.255425774295077,101.51249096361782,99.538936737080078,100.5976256369951,102.05362028570293,98.657041185056059,null,-0.4436596935541659,0.65720948258991552,0.3715467676968176,-2.4340689279807926,-0.19778443580804606,-4.6038788097355621,2.8729707715209551,null,98.403905720210673,100.71930045229591,101.12064829773921,99.588489457030676,98.876410640074468,97.458666748761473,101.31907063550464,null,98.933263062764581,101.47485607621056,99.613995615555282,100.04978224760576,98.289010316076826,95.497510500776258,102.69826605224787]
[null,"Septiembre",99.590107523816641,98.792577316412618,102.17650333114466,99.794240742348848,100.60971791792788,100.43192283965833,98.097010220023549,null,-0.22503573230866492,0.79882663438197721,-0.11242056756880503,-2.0474598089104123,0.51030105899825262,-5.6683105973922014,2.4143045949705177,null,98.528258366986265,100.16888797214534,101.53785131752566,99.667887070829025,98.99716304258223,99.252684621654254,100.75805877519592,null,98.933780489616964,101.39313164320501,99.374952173153559,99.873385808058771,98.397217576277185,98.825833276251458,102.7126703955644]
[null,"Octubre",99.589992630083401,98.928089552063227,102.17077786769096,99.834975409842599,100.0294501726227,100.49478480800398,98.458885859485207,null,-2.5650510627006629E-2,0.88917955403295945,-0.36763490283022726,-2.1470422295871927,0.42738077462955992,-2.8514585124244873,2.1022608210558014,null,98.852978549309995,99.863164997176909,101.5539683606433,99.729992044053887,99.226404834149079,99.541685873039938,100.37626506222992,null,99.259951666518376,100.94520722006017,99.396295574996586,99.894843099467153,99.197191090136172,99.051593635644934,101.94739071644693]
[null,"Noviembre",99.857835423423708,99.498034108169136,101.14171415761483,99.593802627785834,99.943368655461654,100.42694094595417,99.283269202706293,null,0.16565494212537057,0.3991128720393311,-0.54201736250640842,-2.0772213054706445,0.49298298553757114,-2.0534041697755301,2.7325704513233795,null,99.430766365387754,99.95311887903263,100.70508173565752,99.932279358124617,99.618903934791774,99.77678025939295,100.20024595809767,null,99.572322936677878,100.45738066580165,99.568296399172269,100.33985722144156,99.675351426477917,99.352603314969926,100.92359645563161]
[null,"Diciembre",100,100,100,100,100,100,100,null,0.41532686209864167,-0.44608430629705653,-0.2879537158417711,-1.3630481930379412,1.5531470670104852E-2,-2.6797370708881552,3.2256113171774015,null,100,100,100,100,100,100,100,null,100,100,100,100,100,100,100]
[2001,"Enero",99.699221710217387,99.197530760277147,100.4905515955284,99.977793760042971,100.57131521017116,98.383314956752017,100.83302592070596,null,1.7581353995560267,0.18685287073618717,-2.7337532019697908,-1.5682215641609765,0.84747935987283807,-4.1470191512001264,3.9484498867490947,null,100.01698302211157,99.894678476994372,100.53230151301078,99.56521442151724,100.03538119529225,100.32990970213724,99.45480988140261,null,100.31871995231594,100.70278736917551,100.04154611236528,99.587329022766824,99.467110464093125,101.97858218768185,98.633170008815199]
[null,"Febrero",99.722272954288115,100.43699163164469,99.169758205610236,99.602977765486244,100.41860982044103,98.831553916060159,101.60161129750905,null,1.6100942419678965,0.55149396723079835,-2.7767189785679824,-2.0603371134427451,1.4616307269024631,-4.5616490621346761,3.5150744330019412,null,100.63769905855362,100.08882347539307,99.494296735936786,100.05386016059575,100.47592970529959,100.5723106646583,99.340729617485437,null,100.91797557069837,99.653346689705174,100.32725554261579,100.45267963390722,100.05708093844461,101.76133702205735,97.774758046500551]
[null,"Marzo",98.883445772510541,100.93352599340697,98.562236242390711,99.533170191889539,101.57843124548121,99.672077557362798,102.21801089916045,null,6.4518597582052806E-3,7.2504103135084819E-3,-1.7102615791945497,-1.95905111645297,2.5221744099718446,-4.489997053716821,4.1680613847757009,null,101.17690773146124,100.12167641364975,98.833948745889657,100.40856300918675,100.84637460571216,100.52895582053461,99.15278601238002,null,102.31935885833407,99.195659151142451,100.27567607418193,100.87949857882508,99.279318817200561,100.85969740389797,97.001286896685642]
[null,"Abril",98.230141025072996,100.91720229138822,99.009787855734601,99.467938519988252,101.65887743652081,99.266049057751616,102.42703690370314,null,-1.9692178034020458,-0.46408369325894316,-7.2892280105008034E-2,-1.2028010082664964,2.6229057798647926,-4.9171066788513791,4.3181345653725112,null,101.35672824719136,99.65257960385776,99.219767811745697,100.54114416544581,101.0172673594292,100.3513487464421,98.728246200887469,null,103.18292042492365,98.746871040004663,100.21207999790592,101.07894630312653,99.368859765845585,101.09332415160301,96.388853163551829]
[null,"Mayo",98.248102531729771,100.98486908333267,99.255503123235712,98.767987433271855,101.61266653587755,99.159929460265403,102.55982064120367,null,-2.5717313584129986,0.46714107637413349,-0.73386139388362803,-1.5042967152229636,2.9673810246763299,-4.921050287493733,4.8295913198759255,null,101.63423500099556,99.329811701075826,99.300110043545288,100.74960968509939,101.25258531352112,100.21312289559978,98.375803806116906,null,103.44651182263007,98.361083796730895,100.04494150843624,102.00634062040226,99.645633527165344,101.06211595860042,95.920413268150924]
[null,"Junio",98.534131351718855,100.95372561142686,98.869232445506384,98.605278260784559,101.42838144274506,99.338135159923937,103.27379292620319,null,{"$f":"(C83/C71-1)*100","v":-1.971389095798981},1.1986324847473417,-1.8334847396747622,-1.5442226690956184,2.31427585749302,-4.1834273877045973,5.1798771772980645,null,101.92664238282647,98.962693709462641,99.460153623938837,100.92583634467849,101.45848572239964,100.05923784286122,97.987610692963926,null,103.44298060435322,98.027777687345832,100.59767954480496,102.35338120314074,100.02968033131,100.72590720751539,94.881390444314732]
[null,"Julio",98.605133371501339,101.32677889799768,97.96889293413318,98.6524656294648,102.52824406378848,99.724734491770761,103.33058036874749,null,-1.1000745541747903,1.4486555933588274,-2.8680895408091378,-0.98228948118775916,2.3121743001331962,-3.5560765229107894,5.0568627587823212,null,102.3816967911215,98.7511813300532,99.256058011373483,101.1992768595172,101.72108208119455,99.942554372884274,97.65746020410073,null,103.82998662492724,97.458127460523286,101.31385079354291,102.58159916612539,99.212741825470317,100.21842111911712,94.509737442292931]
[null,"Agosto",98.707837288624475,101.38226795239358,97.611327077761089,98.494083236668601,103.15872207104132,99.193506423030556,103.57970637864427,null,-0.76117038892730138,2.1427968914615292,-3.8430382791561191,-1.0496932503622491,2.5458815929591649,-2.8025599235631082,4.9896744666754422,null,102.69971788208142,98.295460288484591,99.681354761432132,101.09166475556182,101.8843526415945,99.762691271803774,97.200617394941474,null,104.04413742931536,96.955278545003097,102.12068388540807,102.63729701676756,98.764651787204954,100.57381261062174,93.841371822021273]
[null,"Septiembre",98.60559323868118,101.00187323315008,98.701845962862279,97.977043225531077,103.55459102252692,98.708330299907402,102.46700646134987,null,-0.98856634420242395,2.2362974797808244,-3.4006422758678045,-1.8209442782469276,2.9270264995686635,-1.7161799665059485,4.4547700602951767,null,102.82245775300365,97.478902549616564,100.75922737166711,101.03380847413779,101.85323367154999,99.473693542776786,96.550115371850637,null,104.27649626742294,96.511974906246351,102.08444065937627,103.11987905327007,98.357043049296749,100.77537857295728,94.225564604806664]
[null,"Octubre",98.592406078444213,101.59626928409963,99.081809951849891,97.443386909757052,103.02758020174215,98.133348308505816,101.67376894702161,null,-1.0016935690964623,2.6970901228535515,-3.0233379644434288,-2.3955417330124962,2.9972473346054906,-2.3498099966179464,3.2652036019628516,null,102.78110253601412,96.364327087611642,102.45921185258054,100.91358257052244,101.66727151842724,99.095048482151128,95.738382720141644,null,104.24849805799161,94.850261497439831,103.40870024717145,103.56124286194932,98.679665502527342,100.97999323392288,94.162322998006815]
[null,"Noviembre",98.862398333781826,100.68701404025047,98.566474719379883,98.407931567905266,103.52368659446215,98.738539659235272,102.49809212637577,null,-0.99685426328436355,1.1949783156406379,-2.5461694610215968,-1.1907076832004759,3.5823466700857898,-1.6812234553948313,3.2380308882715925,null,103.44936199746444,96.21040982769857,101.80386792950024,101.63769798705493,101.89621536621902,99.564597520225561,95.355228222940809,null,104.63974548563549,95.553940838128,103.28447701851695,103.28201839799975,98.427923809728199,100.83661138177773,93.031222576681614]
[null,"Diciembre",98.742580362619535,102.74250108178875,95.943979884173004,98.761160956249554,104.19921021298363,99.763067812166966,103.31363159248234,null,-1.2574196373804636,2.7425010817887507,-4.0560201158269971,-1.2388390437504504,4.1992102129836395,-0.23693218783303882,3.3136315924823467,null,104.5051574582553,96.660236551497547,99.904825276417867,102.47784839156178,102.4176166899212,100.86405357312506,95.251838915483276,null,105.83595959764615,94.080089090444289,104.12828965092604,103.76330877373819,98.290204388861639,101.10360054587638,92.196777373194493]
[2002,"Enero",98.826433190766082,101.75332193768247,96.13522486570983,100.07438318452445,105.1873411187733,100.46469933229967,102.76426938448182,null,-0.8754215975608326,2.5764665287704602,-4.3340659003929467,9.6610878124891997E-2,4.5898036621632166,2.1155867501136738,1.9152886131718061,null,104.89753844462264,96.09361204705165,100.23398979656658,102.70268840779191,102.31855040098216,100.46677114429568,94.619680016630994,null,106.14319980782612,94.437813151597112,104.26354121143655,102.62635165926648,97.272684443509405,100.00206222883239,92.074492995830397]
[null,"Febrero",99.861889846896631,102.3353103441293,94.546767768442351,100.33875322001158,105.20350658044396,101.12408582721925,103.21007390934859,null,0.14000572637620223,1.8900593114604014,-4.661693767149222,0.73870829068756194,4.7649502104827102,2.3196356025183995,1.5831073851079625,null,105.87277089985699,96.233249976789807,98.957014115584855,103.56835947851715,102.60951230087676,100.91092265462262,94.370447182486089,null,106.01919417124586,94.037189757064581,104.66461884550489,103.21870279913092,97.534308157700323,99.789206329181738,91.435306271918265]
[null,"Marzo",100.42496602380449,102.21789403579321,93.878528292816853,100.83477560916019,105.84284497458988,100.27972061746313,103.13346407101359,null,1.5589265111577211,1.272489026560053,-4.7520309280071338,1.3077101982799322,4.1981488361471087,0.60964221373895899,0.89558891216954262,null,106.73881504137577,96.121099785509927,98.312781222298455,104.07370129715979,102.86896270919989,100.70450913761067,93.996276726026707,null,106.28713084759687,94.035492212206606,104.72339416703542,103.21211176246754,97.190285024836655,100.42360361350427,91.140424277133391]
[null,"Abril",101.55940335899163,102.55015087521765,92.39720981109555,101.22078269880191,106.1004391484976,102.05063307367651,103.23779327647527,null,3.3892472302048837,1.6181072669003038,-6.6787114565623806,1.7622202740850135,4.3690839639167312,2.8051726067034766,0.7915452767948139,null,107.65523716438415,96.324814381309096,96.91814332987822,104.85386906505003,103.32599138399591,102.9931709645449,93.726212787307929,null,106.00223475500836,93.929471150672896,104.89293294464805,103.58926918897569,97.385074193125078,100.92359827908948,90.786726268262129]
[null,"Mayo",101.65412823138244,102.40571946932617,92.491964071704317,101.07782455266886,106.16760658234506,102.24187865073073,103.22150133886235,null,3.4667597764065583,1.4069933435483462,-6.8142710869479757,2.3386495760658654,4.4826498523776515,3.1080590791467744,0.64516561507406145,null,108.23131779647248,95.809555258456498,97.139949058232304,105.01370959290419,103.55331612054739,102.68804360418937,93.146800310474404,null,106.47016474345166,93.55879315623045,105.02528520523644,103.89391546331159,97.537581804888859,100.43638180298191,90.239726318924511]
[null,"Junio",102.1307371965336,101.86141229273889,92.610092650412156,100.66429941822359,106.93404464319578,102.20358653696408,103.12233578872375,null,3.6501116876715756,0.89911162348355056,-6.330725585984565,2.0881449692718101,5.4281288157581153,2.884543153973107,-0.14665592614350187,null,108.91179570127123,95.358892881739109,97.192670513860747,105.22545336429403,103.82328415196443,102.38906018385809,92.583802929459281,null,106.63958636829243,93.616307427279494,104.94824887039805,104.53105417951652,97.090954053397184,100.18147469494814,89.780552604184876]
[null,"Julio",102.08397541245098,102.49146457036451,91.567995494550857,101.00943791752393,107.56411733867283,102.19393429681149,103.59044580375121,null,3.5280536844292554,1.1494352085733128,-6.5336018892096721,2.3891671363915234,4.9116936712104931,2.4760154214744867,0.25148937911347868,null,109.97265068921564,95.379621198205612,96.359953829746118,105.83009293122451,103.78042042364753,102.20308487031527,92.286532068389576,null,107.7276332988522,93.061038397713276,105.2332240203734,104.77247979306324,96.48237999005552,100.00895412586543,89.087880018610477]
[null,"Agosto",102.02993071557685,103.46277989403711,90.557911359243363,101.20346723366876,108.24585418678461,101.6479140892443,103.61443465525848,null,3.3655822254908596,2.0521457880785299,-7.2260217432539298,2.750808889189682,4.9313640316714924,2.4743632468706478,3.3528070148469702E-2,null,111.07275504912597,95.594735078691116,95.039777673730299,106.62171609857789,104.19921282022693,102.07839915678288,92.094186854881514,null,108.86291333349749,92.395289568476542,104.94917147184123,105.35381742643158,96.261619997404281,100.42350605164472,88.88161882202354]
[null,"Septiembre",102.2945460375266,103.45701645953439,90.646339602011196,101.25948394626502,108.05516760985066,99.994594476135688,103.35276972132131,null,3.7411192181726172,2.4307897940832435,-8.1614546134041515,3.3502141039081668,4.346090832751881,1.3030958707539675,0.86443753024594283,null,111.792501585344,95.244666789085414,94.863930269359287,106.99141688763456,104.52241304924794,101.81138731754302,91.602368127255573,null,109.28490903545638,92.062066013994226,104.65279754909653,105.66063811307913,96.730601008034853,101.81689105388685,88.630782101196388]
[null,"Octubre",102.94287304711366,103.76125264875068,89.802572362682881,101.65474486956033,108.71575809568658,97.351417615181276,103.30396792570004,null,{"$f":"(C99/C87-1)*100","v":4.4125781504997796},2.1309673868013634,-9.3652281823236585,4.3218509673760064,5.5210244507404749,-0.79680425339849759,1.6033623967730115,null,112.8315610133773,95.281635435415396,93.904305329244792,107.69833977977599,104.82170441453272,101.6348414953937,91.311121623657783,null,109.60599570767555,91.827761330098596,104.56750052770913,105.94521674120629,96.4181331672944,104.39996045783771,88.390720566834432]
[null,"Noviembre",103.29131352573812,104.88901111887252,88.006343007987667,102.10773792834435,109.92527221171679,97.15707092972842,103.68355862785587,null,4.479878362856704,4.1733257448098193,-10.713715532037703,3.7596627644653546,6.1836917017183302,-1.6016732017353985,1.1565742121506739,null,114.17988195209689,95.693583924643974,92.214868126693347,108.5969353837001,105.31070676411416,101.54885549272494,91.198932701892048,null,110.54161095903341,91.23318344206028,104.78207021773839,106.35524553477977,95.80208867828415,104.52029329514576,87.958914517224457]
[null,"Diciembre",103.636401806432,104.69923683595657,88.064115135231518,101.98385168357521,109.7005165915843,95.337582478268232,104.00165995127934,null,4.9561409331623008,1.9045046923766851,-8.212985075722667,3.2631154758835601,5.279604679686134,-4.435995635409884,0.66596086904668894,null,114.90914125380831,95.245796055184613,92.373050930674992,108.78759092655217,105.24217172247519,101.25630970295461,90.669806081532428,null,110.87720072376797,90.970859896922008,104.89295303634934,106.67138878426252,95.935894371666862,106.20817842327344,87.181114343759162]
[2003,"Enero",104.22327439694251,103.0005266236939,89.28829732232559,101.4483717224558,109.71265101953163,92.79776988612889,103.83340615522482,null,5.4609288546909607,1.2257139740118328,-7.1221839372078595,1.3729672811451543,4.3021430645808767,-7.6314660742789364,1.0403779223524978,null,115.01906546368421,94.065187228527492,94.034077083097401,107.77873433206042,105.15951762686339,99.95218637688302,89.859156499447479,null,110.35833035299302,91.324957562779147,105.315119565602,106.23998443949729,95.849946792501001,107.70968580336924,86.54166306083934]
[null,"Febrero",104.73137590929394,103.15947800972435,89.30793581477225,100.84381657740781,108.86018694668864,92.465074480578338,104.11039952133493,null,4.8762206181587109,0.80536000997464274,-5.5409952950487895,0.50335821523392887,3.4758160493905121,-8.5627585909015878,0.8723233865495672,null,115.52763745244677,93.624270758353276,94.052414370792576,107.93556937018671,105.2008581154749,103.08655581463282,89.227407879558655,null,110.30852640807784,90.756828712847664,105.31249380330605,107.0324121334056,96.638505835925287,111.48701971389798,85.704606158267254]
[null,"Marzo",103.65420818851334,102.31582292181824,89.513227249092594,100.51874675233141,108.91838510850494,113.51448005323672,102.83722313541259,null,3.2155770547568796,9.5804053633452568E-2,-4.6499461837625216,-0.31341256517862792,2.905761022063813,13.197842349661304,-0.28724036205844961,null,114.65609587157812,92.761654297299998,94.310020134616551,107.59168243844952,105.00730057783625,128.38362225590487,87.750379521062129,null,110.61402896740663,90.662081043106326,105.35875315072229,107.03643441113044,96.409160375658843,113.09889469228483,85.329394207305057]
[null,"Abril",103.29644890341592,102.45209111449184,89.035837797701191,100.4717660759009,109.83485939324947,118.56523239764978,102.72922493927572,null,1.7103739161249187,-9.562127397075848E-2,-3.6379583542258787,-0.73998303799904797,3.5197029104895527,16.182750490190866,-0.4926183726511657,null,115.16140203674948,92.46823120108661,93.988779168054265,107.80199252764902,105.19982088374817,134.01455564419845,87.17252023708059,null,111.48631270415453,90.255094059282698,105.56286265493078,107.29580730790632,95.779993223366233,113.03023064529911,84.856592939943951]
[null,"Mayo",103.27533462817219,102.59646577600503,88.54557278776457,100.55841594104481,109.40655158694003,125.96068346713696,102.60280411547456,null,1.5948259308265378,0.18626528641889628,-4.266739628191174,-0.51386999465288241,3.0507846120490623,23.198717716672856,-0.59938793309806115,null,115.49435490530533,92.210114577579944,93.576985948132346,107.89270919300438,105.37307673435241,143.93190965004587,86.535576874960768,null,111.83149909039362,89.876501963429007,105.68228653557597,107.29356482331573,96.313315067441451,114.26732984312329,84.340362450103314]
[null,"Junio",103.25816804318666,102.22986401233511,88.501432653140867,100.72041442583709,108.78034607408424,135.22858500800902,102.18576322841948,null,1.1039094376490199,0.36171864428635736,-4.4365142930812169,5.5744695922799181E-2,1.7265796286383583,32.312954554780468,-0.9082150371604425,null,115.50384492025454,91.762786533128121,93.300355046940624,107.93853402178925,105.46320028990273,161.93960974828246,85.631482427978767,null,111.85928155528214,89.761233099220377,105.42242340031707,107.16649115981053,96.950601920385154,119.75249888083313,83.799816845878681]
[null,"Julio",102.43732887817197,102.46344592206957,87.817822396718881,100.6075628331667,109.4949703874705,155.5820584486674,101.35008238114195,null,0.34613999336656764,-2.7337543094341221E-2,-4.0955063803434939,-0.39785894530506294,1.7950717177534603,52.241969662109035,-2.1627124057884251,null,115.2068789084425,91.325117012903334,92.68131043337803,108.05647647283089,105.78500879737349,192.55880063897285,84.54947487455668,null,112.465719450238,89.129460941965888,105.53815604159283,107.40393011210938,96.611751592818791,123.76671356517986,83.423193043490485]
[null,"Agosto",103.33784648123826,102.35942826133164,87.836178369389216,100.30606991198248,109.55456670584286,147.81671972714577,101.45335737690051,null,1.2818942015234924,-1.0664237263250387,-3.0055165241797854,-0.8867258664313149,1.2090186075856435,45.420317821147236,-2.0856913281901424,null,116.20778208340499,91.171106686975762,92.551390617905454,108.37517773674783,105.35345735274282,188.0156733327062,84.30784057024951,null,112.45423244280919,89.069573986100011,105.36818920865014,108.04448607332131,96.165281394083607,127.19513305380035,83.100099149055069]
[null,"Septiembre",104.20962747975456,101.99595142350839,88.114616698018125,100.13080652177639,110.10732756940014,136.46842030241294,101.55876305865857,null,1.8721246795752045,-1.4122435442524783,-2.7929676091817623,-1.1146387286425252,1.8991779893018368,36.475797534217655,-1.7358089846068681,null,117.03271350074249,90.64669249959681,93.072065089373297,108.47051145014817,105.89885401682146,176.11398288477241,83.98842078231489,null,112.30508766906316,88.872833906135071,105.62613624972697,108.32881030131128,96.177844249351978,129.05108925164168,82.69933411241395]
[null,"Octubre",103.10961385963178,101.14751939906512,88.959240956053165,99.763259794525965,110.52703795697528,146.25947321047371,101.47271985001221,null,0.16197411980312104,-2.5189877559916307,-0.93909493285312395,-1.8606953147749739,1.6660692920841269,50.238668109200255,-1.7726793195445567,null,116.70891192772605,89.747238990899262,93.910480528710679,108.09518454978675,106.07933024428924,193.08765506953208,82.977884874792792,null,113.18916593617318,88.729055862272361,105.56573945488526,108.35169657890225,95.975909791034653,132.01719576254084,81.773588997558349]
[null,"Noviembre",102.50123372354908,101.50610555856406,88.480162653421658,99.80964412909654,110.18165786050557,157.53806335580629,101.54092190688571,null,-0.76490440020609007,-3.2252240003240673,0.53839260812256207,-2.2506558718013436,0.23323631011344936,62.14781060016734,-2.0665154141367492,null,116.85294845060012,89.507902110136925,93.25507395891772,108.30024255070224,105.89449887237552,219.28023987744405,82.189752559127328,null,114.00150437775056,88.17982092564398,105.3965896561464,108.50679159883963,96.109008458052287,139.19191032721437,80.942491968406955]
[null,"Diciembre",103.01299903227387,102.00268132671361,87.732967220550577,100.4751641705774,110.34445869021053,143.37556394191907,102.6771655185964,null,-0.60152877106106617,-2.5755254677433226,-0.37603047980715454,-1.479339609253838,0.58700006037677444,50.387245213188493,-1.2735320121846305,null,118.294952483796,89.593943586376554,92.558566142316693,108.79526696014754,106.18123578041545,206.22014670945478,82.155181974529029,null,114.8349757749838,87.834890633323653,105.50032567533607,108.28075560587793,96.227066624629316,143.83214338601928,80.013098880928382]
[2004,"Enero",101.93480959707765,101.38988493616934,87.264592988058709,100.16278703909875,110.14390371978637,163.18783082853119,102.72008529643861,null,-2.1957329714561324,-1.5637217986359864,-2.2664832849947025,-1.2672304754916985,0.39307472406071575,75.853181632249516,-1.0722183736531443,null,117.03106215663357,88.611828739801311,92.991221161075515,107.99943707756864,105.73178550649406,253.28918427038505,81.030020360020131,null,114.80971281471713,87.39710948048463,106.56237309649796,107.82391372098186,95.994223861434008,155.21327968169845,78.884300111489011]
[null,"Febrero",102.17071855982462,101.6747587521314,87.04215395387763,100.04578112275031,109.79454302221106,157.25491411631197,103.52371085771225,null,{"$f":"(C115/C103-1)*100","v":-2.4449763284758785},-1.4392465784413888,-2.5370442617707933,-0.79135784596661152,0.85830835104112602,70.069526250522074,-0.56352551360870917,null,117.36729895244993,88.357517827920177,92.55342000240978,108.28399858548599,105.73106294024058,269.9431079178197,80.480370898772151,null,114.87371392394306,86.902117017384072,106.33172066428006,108.23444764015373,96.299014531944053,171.65956907277257,77.741002744181074]
[null,"Marzo",103.2157734699188,101.40549975573151,86.666631242616731,100.57147421747098,110.13640005071109,145.18590725242183,104.21209356542894,null,-0.42297821406069858,-0.88971885295036079,-3.1800842109675154,5.2455354690694733E-2,1.1182822266348813,27.900781630970471,1.3369385015443047,null,118.49283479986286,88.237116522693242,92.401280243821958,108.67843542188847,105.97555573152566,254.49886521655429,80.360705874507872,null,114.80109174824564,87.014133094596787,106.61690539828589,108.06089526627341,96.222098854448106,175.29171393617406,77.112648949955002]
[null,"Abril",103.98184692666524,101.35062044185301,86.1623365461341,100.73098872277581,110.44709012815282,137.93508476180452,105.02799088668155,null,0.6635252523445212,-1.0751080438250016,-3.2273535271224008,0.25800546461887119,0.55741022320732192,16.336873780326421,2.2376942381923337,null,119.7230421316752,88.346464284987732,91.683822986433611,109.30797712533986,106.33286211133152,242.32082505565864,80.330485157767299,null,115.13840701070801,87.169140060345228,106.40823666306119,108.51474656539806,96.274933081489493,175.67743948112573,76.484834642260964]
[null,"Mayo",104.64848722402385,101.44090517973589,85.070625585254092,101.12581410213785,110.64594028609551,142.81413818071698,105.05199199063894,null,1.3296036278124923,-1.1263161820720291,-3.9244731194405413,0.5642473141439508,1.1328285931492932,13.379932729546585,2.3870574457282245,null,120.33073687390289,88.366765437732397,90.636524919585611,109.80132634317911,106.69146037317212,256.06704687087824,79.93617376602046,null,114.98564390740557,87.11157030900074,106.54268062100192,108.57892944355328,96.426005416286998,179.30090825241058,76.092011442432693]
[null,"Junio",104.69957206720606,101.83720014615965,84.410161243713688,101.35173614549716,111.2054668053447,144.22200494521923,105.02080484153207,null,1.395922522484172,-0.38409898122147013,-4.6228307122008871,0.62680611796421815,2.2293739804880364,6.6505317175932666,2.7743998024219119,null,121.11385724144969,88.369949093815123,89.838001330260582,110.24018307337214,106.95286442408585,262.25452307508698,79.630041895090159,null,115.67750932516458,86.77570570183002,106.4303159792283,108.76990100605187,96.175905282873686,181.84085235446616,75.823111444675618]
[null,"Julio",105.15495908952208,102.39101319683186,84.055411451003707,101.06714492885293,111.51590339670544,134.15924780307674,105.92480643356701,null,2.6529686405452502,-7.069128369232569E-2,-4.2843364171778253,0.45680670790955169,1.8456856986978076,-13.769460861490579,4.5137842465891032,null,122.57912546694196,88.494748735832957,89.301418081213484,110.79286404614331,107.10433983191487,244.04045439026441,79.667563076209078,null,116.5699901633608,86.428238155739948,106.24112896439475,109.62302746766706,96.044004998016362,181.90356489511245,75.21143135264947]
[null,"Agosto",105.55171702168074,102.37305894296013,84.272701667714173,101.47060097408256,111.87158496799789,122.98805118162642,106.16377777251836,null,2.1423617927285088,1.3316488632275636E-2,-4.0569578137713114,1.160977658801654,2.1149444809327678,-16.79692837951653,4.6429418576248604,null,123.86944119356869,88.315120191629134,89.447284182485987,111.18891550714753,107.16049884396142,223.90269427367625,79.605956468865173,null,117.3542645148306,86.267931332242654,106.14028316687308,109.57746819253313,95.788844749643857,182.05239624703137,74.984102995505907]
[null,"Septiembre",106.4542870548547,102.6720876063054,83.756088181838109,102.23174460543085,111.68811437715095,111.49197958946417,107.08129893620115,null,2.1539848374721782,0.6629049225586936,-4.9464307733611772,2.0981935097042825,1.435678117566197,-18.301992986803228,5.4377738672859444,null,125.56235970015261,88.315574079087085,89.386671778916636,111.68370029259684,107.09304753409027,200.12676557572911,79.695009736060229,null,117.94955672893823,86.017121243050838,106.72259619486321,109.24561712572387,95.885804976934281,179.49880010439853,74.424769336747005]
[null,"Octubre",108.32754002507933,103.51919352867029,82.799597149643603,102.70579265622911,111.24102826135839,96.468560908836253,108.27111008515027,null,5.060562221240561,2.3447674680463715,-6.9241191136652063,2.9495155508787896,0.64598700696298916,-34.042863144998606,6.6997220979065242,null,127.73539492207679,88.631689766100834,88.706497618023789,112.42831814606275,107.36358790812486,174.59044399960263,79.99172798966822,null,117.91590106495934,85.618605347378164,107.13397247296344,109.46638474655106,96.51437925931107,180.98170259281915,73.880953032400214]
[null,"Noviembre",108.85286782471111,104.67581982369454,81.73344902851801,102.90468986813583,111.28713005057091,90.289847270463568,109.43079237695537,null,6.1966416114489942,3.122683357506717,-7.6251144014400696,3.1009485767087508,1.0033178040077306,-42.686963805984981,7.7701387006361422,null,129.57012901004913,88.872060864133033,88.055446381350421,112.95459432959123,107.50589198934617,159.75221400848943,80.116957208536348,null,119.03235220104591,84.902187548012748,107.73489608963716,109.76622588759906,96.602268331022231,176.9326439659944,73.212443653481103]
[null,"Diciembre",108.80149160760054,104.83693349013375,81.497312961599889,103.08279046088735,111.9419010943009,89.779610855402353,109.32667449411264,null,5.6191865392765994,2.7786055489483097,-7.1075383137047758,2.5952943812890483,1.4476870184982671,-37.381511613951346,6.4761321973890285,null,130.65537053669993,88.703914917746232,88.008490289129611,113.09022806823923,107.3962756445454,155.59635720411836,79.869677355229555,null,120.08601040867784,84.611321568361404,107.98943804515085,109.70815551520114,95.939299399671413,173.30923549526119,73.05598356925293]
[2005,"Enero",108.07623930234354,104.570101108486,80.803860704575186,103.96140567494777,113.64825002492722,92.884280356455747,109.76371544969646,null,6.0248601331982732,3.1366207529664125,-7.4036124644133894,3.79244502688032,3.1816071401066015,-43.081368331898815,6.857110888226714,null,131.17947136966944,88.538514045587462,87.847998204943679,112.50802608231734,107.55120643743061,161.29545018934215,79.115935775840825,null,121.37679125075267,84.669052728306539,108.71757542145464,108.22095502834192,94.635162806150291,173.65204270340411,72.078405374405179]
[null,"Febrero",108.52348134065721,105.42790017380496,80.0766714134365,103.77651547074102,114.14043137281135,90.286107779528891,109.98024957265432,null,6.2177920155399802,3.6913207050957242,-8.0024243703022755,3.72902715749035,3.9582006819055993,-42.586145376194921,6.2367728720778226,null,132.25349029156905,88.559251526718796,87.165926110582902,112.9334769337456,108.57751210955296,155.72403036907028,78.997898360926982,null,121.86624374537239,83.999824885749334,108.85308364098269,108.82373186406159,95.126250009439246,172.47839584505661,71.829168116899012]
[null,"Marzo",109.32582703017164,106.513758756228,78.933686182039054,103.99871240501606,114.1994361529222,89.230279134264194,109.9082586866849,null,5.9196897478402954,5.0374575469786187,-8.9226325630794143,3.4077636966265201,3.6890947046937628,-38.540674626823503,5.4659348319105128,null,133.62775182518212,88.962095082025357,85.880059601346062,113.51563273160367,109.14135788248107,152.78702934374476,79.005238855379801,null,122.22889636892815,83.521693460868164,108.80026482392712,109.15099822536705,95.570837789717316,171.2277836919541,71.882895607144292]
[null,"Abril",109.73662727611907,106.7429306017104,78.751917157200211,103.92524668687449,113.20332624139262,89.205298669203771,110.18241393731053,null,5.5344086679980586,5.3204510602390176,-8.6005320723470788,3.1710777434039494,2.4955262379857235,-35.328057525574863,4.9076660489395296,null,134.41303900890176,88.871948939105636,85.638639525231881,113.65408134069244,109.22942902778591,152.27698693635983,78.772246410889636,null,122.48694200405119,83.257924846295722,108.74483138522808,109.3613774938931,96.489593242929232,170.70397073725644,71.492576352255227]
[null,"Mayo",109.24294735226241,106.41063946438594,78.498462054016841,104.29100268101443,113.50411479618452,91.107884242824426,111.07048502087832,null,4.3903741469315971,4.8991422896360382,-7.7255380291648574,3.1299511474683461,2.5831716036744501,-36.205276729999568,5.7290613116367073,null,135.11291098147379,88.744315446179186,85.299684804151383,113.75392668828491,109.5738868899286,154.45022209919878,78.448909386855007,null,123.68112931427203,83.397972132176307,108.66414777076071,109.07357659242558,96.537369668656254,169.52454047506117,70.629843177608052]
[null,"Junio",109.81277307153807,106.70528155671857,78.315179005755425,103.77044007165065,112.96078987638883,91.79352222514791,110.96965555801435,null,{"$f":"(C131/C119-1)*100","v":4.8836885417734788},4.7802584945109583,-7.2206736110365881,2.3864454800076595,1.5784503419392859,-36.352623679018727,5.6644497492269519,null,135.8560932534281,88.506744890363436,85.414762014076814,113.54797133420675,109.40181880951796,155.18408729559226,78.102917801934097,null,123.71611193619889,82.945046017537734,109.06539843036001,109.42227021086637,96.849374839919761,169.05777611949807,70.382229636733712]
[null,"Julio",109.81458253781167,107.44097613076107,77.64716264889627,103.54586548436738,113.62293580893945,91.862377793520324,111.25795557448699,null,4.4311970530297895,4.9320372718857586,-7.6238384792665421,2.452548310590319,1.8894456737156728,-31.527360731510001,5.0348443584504077,null,136.70744590705812,88.462617553222813,84.978318880478469,113.51566005010719,110.08182436497631,155.11238846727935,77.857640763866627,null,124.48933716065133,82.336014376451089,109.44162797645562,109.62838498582541,96.883453662984365,168.85300837294511,69.979391911206818]
[null,"Agosto",109.51921934451842,107.63598095603373,77.64776751275754,103.05321259557304,113.94717431403284,91.147677473710331,111.84483291536937,null,3.7588231009285655,5.1409248364904014,-7.8613050535375484,1.559675025374796,1.8553320279038665,-25.888997672542047,5.3512179596924669,null,137.43275678694516,88.338478075600761,84.840024004772914,113.349147125172,110.38420633255635,155.25645589572829,77.596026925488601,null,125.48734149995914,82.071512974536404,109.26267003212126,109.99089137570589,96.873140555765673,170.33506524673524,69.378284988993528]
[null,"Septiembre",110.43258208610335,107.47231097630309,77.547902872390125,103.01464627515053,113.74814520709178,92.951588349720723,110.74457104968968,null,3.737092362657668,4.6752953815491605,-7.4122197492912267,0.76581073006367628,1.8444494666500333,-16.62934975951892,3.4210194962904783,null,137.72240696398785,87.975292113874247,84.991211066650848,113.03552666500636,110.40074545808396,162.4797764949262,77.089433901787231,null,124.71175115384592,81.858565536263754,109.59833589118347,109.72762684938044,97.05718300468682,174.80043039567315,69.610124605745398]
[null,"Octubre",110.41151221710149,106.10542438386493,77.385183222483263,104.1028916891799,114.1323058184702,98.621363943971616,110.72805820068693,null,1.9237695156187451,2.4983104746448603,-6.5391790703702046,1.3602923426403901,2.5991107798094104,2.2316110190238936,2.2692554953988919,null,137.82609442764812,87.493743358464059,85.340098056563704,112.6142031643206,110.27688179708642,172.59156845100239,76.488443990297398,null,124.82945995399601,82.459255845329722,110.27963558761627,108.17586460571424,96.621969569671265,175.00424000326589,69.077743467394143]
[null,"Noviembre",108.96057117149839,107.87658971760388,76.307402026671653,103.88035871286048,115.06802606328318,102.05456498660556,111.66033564808734,null,9.894396807321737E-2,3.0577930025295297,-6.6387104255849145,0.94812864795073004,3.3974243122220527,13.029945305922075,2.0374002807654668,null,138.76363644184553,87.666307444268256,84.435176665487205,112.79008007802165,110.69909179482799,177.01762598500699,76.267470962058823,null,127.35215587612755,81.265367837228169,110.65135808971016,108.57690662176942,96.203172664096599,173.45390282956981,68.303100218528883]
[null,"Diciembre",108.79779354191332,108.19957379867526,76.511709286257656,103.51598913978907,114.99348512708761,100.9553480080385,111.50099585852494,null,-3.3989108352949771E-3,3.2074958667672071,-6.1175068160730151,0.42024345379561012,2.7260427087226535,12.447967914046343,1.9888296927291993,null,139.66300038504053,87.567064692402468,84.350205178433399,112.64505631917896,110.63615573726513,176.0436165658337,76.030148716495489,null,128.36933161814233,80.931062496915857,110.24483175882156,108.81899236557737,96.210803259848248,174.37770265703639,68.187865167558058]
[2006,"Enero",108.31766027044638,107.58024261709949,76.242649431624145,103.41742278594201,115.08777541505923,103.85456654572286,111.85914927951697,null,0.22338024496528774,2.8785871646912042,-5.6447937427484547,-0.52325464962124091,1.2666498514638524,11.810702679901475,1.9090405433486168,null,138.89611089572583,86.804734691577877,84.192512590139685,111.92340273047996,110.91247081601303,183.13494430679594,75.091965927033755,null,128.23034632481119,80.688361152459962,110.42705522142842,108.22490032665387,96.372069419199264,176.33788325154603,67.130821582945998]
[null,"Febrero",108.44688316688357,107.43434569480404,76.448596576047933,103.01906568085982,114.47668454310991,102.94465805575524,112.5043909997671,null,-7.0582119949880173E-2,1.9031447251546485,-4.5307513079018813,-0.72988554919706239,0.29459602198302903,14.020485086296407,2.2950861058423921,null,139.74161916587309,86.761889483850354,83.952848830934713,111.82846068359787,111.35411948629186,180.81329520995985,74.927995647465579,null,128.85720187165879,80.758056395038409,109.81607588756958,108.55122781838116,97.272313511453817,175.64126067817006,66.60006332341348]
[null,"Marzo",109.50598399410747,107.37593874517782,76.419684793772277,103.09279802424535,114.26132209860194,98.169916093956203,112.34841989607601,null,0.16478902454231115,0.80945410153352437,-3.1849537375828629,-0.87108230459881364,5.4191113165269478E-2,10.01861368856709,2.2201800288250029,null,140.76940815528357,86.689116064748816,84.050642742933391,111.71221428729797,111.53453664653065,172.00227935248682,74.898405435349261,null,128.54951210963813,80.734210175780163,109.98559202351355,108.36083259766167,97.613553386229682,175.20874642275069,66.666184984738919]
[null,"Abril",110.70450951580796,107.58138112473942,76.043856826095151,103.37130170250528,113.68177706460854,96.964672275602041,111.62849715539703,null,0.88200472687529619,0.78548576313455243,-3.4387230544488001,-0.53302253497481411,0.42264731885677254,8.6983326351184775,1.3124446691731295,null,141.64463602255546,86.73906955822018,83.703412632656125,111.71759031311332,111.83294178330453,169.45188285262435,74.808857222230003,null,127.94838859055639,80.626469609687561,110.07255040216808,108.07408678535172,98.373674894039297,174.75630956704768,67.015913613966575]
[null,"Mayo",109.80906740743974,108.14581236683011,75.761786243834521,103.20207872746944,113.88627820440745,97.986249390386206,112.59400121656623,null,0.51822114735868841,1.6306385443956684,-3.4862795251952128,-1.0441207060551405,0.33669564218810066,7.5496925482642974,1.3716661049976819,null,142.07097928036555,86.678811706038488,83.492907783925162,111.62013829528104,112.17908944209083,171.32527246179734,74.611173611653186,null,129.38000716572884,80.149947380324207,110.20451328220868,108.15687016347952,98.500970626810272,174.84623967922451,66.26567384184537]
[null,"Junio",109.63076715784376,107.48879596760669,75.908375790283941,103.28057634170983,114.65757129860815,98.356942295916326,112.79332853569781,null,-0.16574202490610146,0.73427894051489861,-3.0732269861690642,-0.47206480921020422,1.5020976960908872,7.1501996128549239,1.6433978897321566,null,142.50736417695347,86.42347700513487,83.651478674700982,111.31878632141515,112.51705134256211,172.416057136115,74.302209826996346,null,129.988476657994,80.402311912750264,110.20059091477509,107.78288644818403,98.133119399091953,175.29627610564049,65.874649495320597]
[null,"Julio",109.91212523523711,106.75932107786169,75.793638582110958,103.45577073646979,115.139833611597,97.80368897942823,113.48839823576172,null,8.8824903916440157E-2,-0.63444607211105009,-2.387111136522202,-8.7009507792656926E-2,1.3350278197425514,6.4676218149526177,2.0047489186348244,null,143.39459345269054,86.470272879627615,83.257230535692017,111.31783226587415,112.66416790715216,172.2024913358338,74.146153513024998,null,130.46294314280001,80.995525268058927,109.84725379755372,107.59944222872902,97.849861662301834,176.06952573338458,65.333685791382109]
[null,"Agosto",109.55514988600925,107.60432629948272,75.487912319210508,103.09215474295155,115.64480647341507,97.397529055806658,113.61535800792639,null,3.2807521552724594E-2,-2.9408991556401087E-2,-2.7816063007763403,3.778838756955949E-2,1.4898413844854463,6.8568412880283924,1.5830191224808221,null,144.02782758130428,86.368819112647117,83.152938121569264,111.17193133868028,113.07189552596601,171.33085889245498,73.957815899368214,null,131.46604950215797,80.265192007491152,110.15397772552802,107.83743109829717,97.775160834360051,175.90883521725297,65.094910755118633]
[null,"Septiembre",109.77367691546027,107.08901694350787,75.795723163806386,102.60419729773147,115.81969625982218,98.993621462705761,113.33474948919967,null,-0.59665830337041204,-0.3566444503828814,-2.2594804548964564,-0.39843749627868075,1.8211734784412625,6.5001935096068664,2.3388762220658332,null,144.51884739607084,86.169183438624614,83.312366258520171,110.93348867613354,112.98235396265343,172.68793199693826,73.680655625548511,null,131.65164131959318,80.4650055608233,109.91697523416875,108.11788562044158,97.550207444160762,174.44349387904316,65.011530847888778]
[null,"Octubre",109.33568627720608,107.53162822190401,75.843496142203179,102.39465118039834,115.77554518193665,100.60877023231957,112.99421126886752,null,{"$f":"(C147/C135-1)*100","v":-0.97437841244309986},1.3441384795553901,-1.992225147090132,-1.6409155221949523,1.4397670770623483,2.0151884022583832,2.0465933431916161,null,144.10684963466443,86.076425601096005,83.348340627098708,110.84302759725605,113.48037070524093,175.41868150603906,73.615548203152727,null,131.80220890487732,80.047542313287863,109.89517211973494,108.25079857147361,98.017565390783574,174.35724649150671,65.149840311718236]
[null,"Noviembre",108.04039746489762,107.54916892252777,75.852828831903352,102.56864786462556,116.52470292218084,100.85305519870737,114.12325588910311,null,-0.84450154464815741,-0.30351422485009882,-0.59571310606200134,-1.2627130522918861,1.2659266946115189,-1.1773209636000925,2.2057252709484887,null,143.08983877080382,86.120807775181589,83.340670430212739,110.92985995770061,114.2685716368436,176.11627469915794,73.824589025631354,null,132.44105179943807,80.075753850983318,109.87153902315643,108.15182052912556,98.063817174591776,174.62661329610887,64.688470768279572]
[null,"Diciembre",108.18756461941847,107.7907429801627,75.497591242118759,102.80069258588829,116.27895111778801,99.526055691181639,114.72205673891858,null,-0.56088354609854507,-0.37784882523960173,-1.3254416266466063,-0.69100103263742829,1.1178598416073271,-1.4157668167743331,2.8888180375362671,null,143.24810210450698,86.111890233335885,83.283987720720958,110.91047609602201,114.71420624122257,173.58477099416015,73.846683136947405,null,132.40717878105886,79.888019928746118,110.31343695937454,107.8888413162763,98.654318033037313,174.41138382171454,64.370082995465921]
[2007,"Enero",107.43656143282674,106.41949046494095,75.959631012333759,102.48634869379636,116.40047837354078,101.05829341380156,115.38507481799989,null,-0.8134396878770489,-1.0789640587537064,-0.37120748216417088,-0.90030680233912364,1.1406102461771761,-2.6924893386274129,3.1521118846275398,null,141.8707599711272,85.224525259654655,83.468411288800127,110.58362421339139,114.95403869147643,176.38349304694586,73.584233100433266,null,132.05072656744511,80.083568232955599,109.88522479163589,107.90083325515643,98.757359331958597,174.53638596954289,63.772748092853213]
[null,"Febrero",107.70070432012066,107.11513201494324,76.054609480966747,101.69319879204632,115.80089796282209,99.970697579268986,115.3231550354427,null,-0.688059283008291,-0.29712442310357856,-0.51536210306917241,-1.287011176087427,1.1567538184716675,-2.8888924715992026,2.505470240429486,null,142.05314172504268,85.095386691485473,83.612928264619399,110.42860570401089,115.39767510579127,174.4337771835763,73.494302965742463,null,131.89620497078243,79.442918186026347,109.93801537504994,108.58996178282061,99.651796433253665,174.48490548469354,63.729008231829233]
[null,"Marzo",107.84631119614852,107.37098621892255,75.954359969722105,101.80590096502634,115.69544483991933,98.275237905795706,115.35726826211091,null,-1.515600095468983,-4.6123240580175917E-3,-0.60890701827140958,-1.2482899716393048,1.2551252820966141,0.10728522141010277,2.6781403501874967,null,142.09576448650699,85.11557163524661,83.605674972889076,110.44913672397556,115.7451730192502,171.4689654059035,73.573233157009824,null,131.75764929786641,79.272412997773358,110.07356918841398,108.48991627893794,100.0429819682181,174.47830100423624,63.778584796095551]
[null,"Abril",107.57672158551766,108.06939073392564,75.876653621430876,101.83247855661716,115.37551729641562,96.459069428244632,115.56828195935249,null,-2.8253482572393906,0.4536190222547809,-0.21987733347961225,-1.4886367111025978,1.4898959846875837,-0.52142995535563452,3.5293718936938889,null,142.32375943970496,85.267950009093241,83.303237913498066,110.60772755987753,116.04744460001355,168.63246081209817,73.707393070236591,null,132.29977391211469,78.90111106393563,109.78770667604876,108.61733812987914,100.58238291740149,174.82281532639388,63.778219958449192]
[null,"Mayo",106.76679148732256,108.90345348170899,76.098796048308458,101.63604785351991,115.06859222937378,95.651035345970584,115.59375602485625,null,-2.7705143044599367,0.70057369610296849,0.44482821905662551,-1.5174412117075819,1.0381531854472215,-2.3832058670925527,2.6642225836882805,null,142.39237824880257,85.329494359676247,83.095196510400811,110.66999115894684,116.36757388459537,168.21558213667058,73.74418995201836,null,133.36766635504839,78.353341084824152,109.19383856960228,108.8885228186429,101.12887594264841,175.86383830371878,63.795997714756382]
[null,"Junio",106.52934343660563,108.50671262907188,76.52669138732611,101.64822722603067,114.61366115134425,96.512115434340544,115.55146108385036,null,-2.8289720136435603,0.94699791945940248,0.81455516681112616,-1.5804996190943443,-3.8296770781531819E-2,-1.8756447877623539,2.4452975933586529,null,142.07341623628233,85.143523328990554,83.450176018784049,110.47665378525444,116.45271707684768,169.53790602931963,73.640066460548439,null,133.365523200496,78.468438740792052,109.0471500935745,108.68527351647008,101.60456956616628,175.6648947816922,63.729238704399634]
[null,"Julio",106.01257335251049,108.41045557111802,76.467145184291056,101.62360051882055,114.98766359978681,98.61322604509769,115.83300194229788,null,-3.547881431990052,1.5465951605781791,0.88860571253674969,-1.7709695695141803,-0.13216104890640956,0.82771628976052725,2.0659413146932204,null,141.78456474848451,85.074433962712476,83.394262273203239,110.40607831036198,116.89066430563845,172.53978835997179,73.565353237157254,null,133.74315919775464,78.474381012911664,109.05894560626967,108.64216357883809,101.65496075515981,174.96617368654594,63.509839168118752]
[null,"Agosto",105.58179782354685,109.3038043802745,75.743585328320506,101.29639364244701,116.20413071746437,99.413186582017545,116.28042067659968,null,-3.6268053729985539,1.5793770931308293,0.33869397265731127,-1.7418988913191935,0.48365703666759519,2.0695160809017565,2.3456887478956467,null,141.68925635477717,85.068900896229692,83.172387375954443,110.39539020565215,117.87736795521782,172.08402239278067,73.579747619969041,null,134.19856383917119,77.827941468779883,109.80782995079099,108.98254738991253,101.43991201295736,173.09979521761784,63.27784780260626]
[null,"Septiembre",105.33657426316809,108.97638087030781,76.036188800545773,101.40726735838901,116.02340281171738,99.944948601540816,116.26199352743072,null,-4.0420461234156546,1.7624252987545663,0.31725488814151603,-1.1665506586141738,0.1758824780875079,0.96099842068455565,2.5828301129390274,null,141.23623216998573,84.849169717186911,83.512802872749688,110.16720396690611,118.28390709218679,174.05847950695531,73.459242854401481,null,134.08090509676873,77.860146427660723,109.83296794611338,108.63837162435127,101.94831751671494,174.15435391426266,63.184227816521663]
[null,"Octubre",105.47852901648307,108.88668559461068,76.577774434374462,100.69889184424416,115.05881173671037,100.46489548975357,116.22992978488656,null,-3.5278118170344763,1.2601477305917319,0.96814932000832687,-1.6561014824559517,-0.61907153544382698,-0.14300417571327939,2.863614409697246,null,141.00167492387314,84.682855721929698,83.676690062837636,109.98648400012034,118.9482395886204,174.7112178440922,73.361635115521111,null,133.6780823913831,77.77154319602235,109.27020363401496,109.22313243550063,103.38038242634578,173.90275179444251,63.117679973906647]
[null,"Noviembre",105.42910006035504,110.09276083585009,75.685939993203945,101.19385606231695,113.0743262854202,100.33772032765644,117.69585725866652,null,-2.4169639003697618,2.3650502731030532,-0.22001663124423532,-1.3403626068300256,-2.9610688122199469,-0.5109759640256617,3.1304762046352907,null,139.84700457965707,85.101710797764625,82.921384385828048,110.49968979053078,120.11630486372388,175.16439813299897,73.895363153131967,null,132.64554520488062,77.300006060028352,109.55982629438677,109.19604617347831,106.22774312227909,174.57482346717995,62.785016290529363]
[null,"Diciembre",101.09182317858904,111.92431077151848,75.490297285376684,102.2506154072784,113.83405345018329,101.07952942274322,120.32903345320938,null,-6.5587403374785076,3.834807773907345,-9.6611780880273557E-3,-0.53509092669808966,-2.1026141396202402,1.5608713926952289,4.8874443796374845,null,135.57826020177913,85.453055627704174,83.180080103838151,111.09738581565438,121.59293758270412,177.13578959133332,75.052421944019869,null,134.11397276144311,76.348967475124738,110.18645189512462,108.65204612523658,106.81596051212945,175.24397927348997,62.372662515571875]
[2008,"Enero",100.24681369206749,111.37260273726594,76.523267535335918,102.6233533248561,113.49310317210423,101.95577586976167,119.26777765702491,null,-6.6920866089469344,4.6543281223064614,0.7420211439819191,0.1336808587737659,-2.4977347533800431,0.88808392230135258,3.3649957285630805,null,133.66925167092208,84.996766565655363,83.505422109030391,110.81088812584868,121.54048581150398,178.10184113434113,74.256274301801511,null,133.3401499238866,76.317482465743751,109.12422430271988,107.97823744374713,107.09063583114515,174.68538649722842,62.260130741547179]
[null,"Febrero",99.747238895310616,111.45790042502759,76.947889444169235,102.41753871793213,112.72805275328314,103.22937446570013,119.34479410193202,null,{"$f":"(C163/C151-1)*100","v":-7.384784969622693},4.0542996385221297,1.1745244230411123,0.71227961603117507,-2.6535590514380036,3.259632037525062,3.4872780451188135,null,133.15845006562134,84.881244209830214,83.701024818716462,110.70053375833344,122.14692131614022,178.51935972308769,74.287570729657887,null,133.49587571579536,76.155430782518437,108.77624509694587,108.08747714901983,108.3553901028267,172.93465222188678,62.24617612244495]
[null,"Marzo",100.49173584060215,112.26370912298454,75.887610857442695,102.90435241211456,112.58962205565213,102.92636888519849,119.16624764075925,null,-6.8194964426460896,4.5568389342033555,-8.7880553935304473E-2,1.0789663827694751,-2.68448147510435,4.7327598269069959,3.3018980390500552,null,133.09675393213857,85.240956005265545,82.774082630316968,111.11535166528503,122.97538387205167,179.34524157710069,74.525457687208231,null,132.44547207668279,75.929217617319551,109.07456657953132,107.97925360852261,109.22443971902305,174.24615627618024,62.539065517841962]
[null,"Abril",100.74444204773799,113.17885100929205,74.52214086909737,103.42814018599449,112.90776579089936,102.3911646473491,120.29797740713587,null,-6.3510761780822378,4.727944000300921,-1.7851508832895213,1.5669476497031098,-2.1388866228666759,6.1498573998967743,4.0925549533105565,null,133.10534013141449,85.659992161293914,81.705574721795571,111.62674944453785,123.80081179578922,180.35607340543953,74.782825952789594,null,132.12177012042235,75.685511380797806,109.63932835117598,107.92686520689614,109.64773851345473,176.14417613728054,62.164657764523312]
[null,"Mayo",103.88818035419624,113.94917625746196,73.051406914564595,103.02228740605435,111.2949211143075,102.74159952698361,119.49190445803575,null,-2.6961671255880448,4.6332073175259003,-4.0045168806735703,1.3639250854503127,-3.2794970738357243,7.4129507907221281,3.3722828699685792,null,137.87641786675903,85.750663217958504,80.064002387275963,111.56188351017337,123.56016429652148,179.17591726441285,73.679727993305917,null,132.71617367508347,75.253429673075971,109.59953513409096,108.28907639223819,111.02048778094442,174.39471264738765,61.660853367000634]
[null,"Junio",105.57493165686274,113.62206823891881,73.184763055350146,102.62421077048698,110.22924679034372,101.55452587620046,118.52763000615877,null,-0.89591444850201096,4.7143218017614119,-4.3670100867962418,0.96015795955404215,-3.8253854880449412,5.2246398487559631,2.5756220599830737,null,139.88996984401859,85.261064022169549,80.418895429345184,110.82994104215291,123.27346703861065,178.93606364770972,72.859750232969347,null,132.50301719226852,75.039176230172856,109.88475206037603,107.99590097702927,111.83371984122968,176.19703514330897,61.47068850459889]
[null,"Julio",107.92576787198519,113.68960684315539,72.463624517524721,101.47571252475784,110.25264133917551,100.80243184680208,118.35637886118656,null,1.8046864244234406,4.8695960590020793,-5.2356089103595789,-0.14552524542300604,-4.1178523959678799,2.2199920735817225,2.1784611264289655,null,144.2747262499752,85.136177699113631,79.435185277460334,110.4717488528799,122.82350929296221,178.36471139448199,71.766736839789957,null,133.67959208880023,74.884749858064268,109.62077291379428,108.86521129469993,111.40187464091164,176.94484957025423,60.636137680387357]
[null,"Agosto",109.40681934360217,114.18739297011473,71.816250215907743,100.75739446799589,110.3740339055331,102.03509762403118,117.49313805396214,null,3.6228039291847036,4.4679035807847489,-5.1850398887103299,-0.53210105026409993,-5.017116668689181,2.6373875862539808,1.0429248280200865,null,148.20678781310542,84.934475965645376,78.631318901181501,110.07621649802675,122.55907397928998,179.31630433101361,70.727037747467506,null,135.463939727238,74.381657866446375,109.48959137351922,109.24877233997039,111.03977053532881,175.73982728153069,60.196739076782556]
[null,"Septiembre",108.7716753308511,114.55140867398188,72.549876751472198,100.46062191514301,109.8116781483446,101.56102045483112,116.82309080895716,null,3.2610715620017272,5.1158129487791415,-4.5850694308452127,-0.93350848307588441,-5.3538549230909505,1.6169620134912854,0.48261453679103727,null,148.44340916618509,84.67160736282591,79.156286877878387,109.77664372231015,121.96632473093183,179.78911600756578,70.493027143443626,null,136.47248579620052,73.915815041441235,109.10602529214101,109.27330692322033,111.06862838956664,177.0257084877621,60.341689862256864]
[null,"Octubre",107.50025375187485,115.03671091715714,72.763323447839838,99.583181810552432,111.17846652250859,103.22255105329154,117.09167914765939,null,1.9167168467772777,5.6480967245556846,-4.9811463113276115,-1.1079665458657129,-3.3724885175080654,2.7448946720093126,0.74141777799205943,null,148.15976699123141,84.242414150206557,79.703452217585991,109.30009968434892,122.98557988400232,180.21728320511443,70.245248511850178,null,137.82271373349892,73.230896014467177,109.5379491217456,109.75758928077033,110.61996421681472,174.59099912389513,59.991665524983077]
[null,"Noviembre",104.86112057602597,115.06352107859286,73.629030750897471,99.231923370252119,111.42507065102713,107.18316702539579,118.06881392983485,null,-0.53873122696098674,4.5150654820567571,-2.7176900260354464,-1.9387863734104949,-1.458558886506256,6.8224060456878011,0.31688173216553039,null,147.04450717839919,83.737291287061055,80.845310909077639,108.78014379254537,123.21742847828163,180.9847288587508,70.127359691026882,null,140.22786173812591,72.774838195560889,109.80086262794136,109.62212572124305,110.58321772501907,168.85555249162269,59.395328331748722]
[null,"Diciembre",103.83528718061609,114.68020020844551,74.44866408605769,98.579187575520407,111.75531953052142,108.56826610865164,118.33511597459517,null,2.7138337362661247,2.4622795690499188,-1.3798239466209838,-3.5906168555897566,-1.8261090215605624,7.4087569745090454,-1.657054346231035,null,145.5111676300518,83.478948890464437,81.650741188166592,108.55268970740215,123.6487442188165,181.39051046373643,70.276466723076311,null,140.13652928694913,72.792817538451345,109.67388359552533,110.1172492664754,110.64237902791454,167.07507355989884,59.387668778018224]
[2009,"Enero",103.19874691525177,114.08300640399372,76.160452398451795,97.641451715174185,111.33235697431849,108.42903816469536,116.73635479750151,null,2.9446653858264948,2.4336359213241732,-0.47412394761708887,-4.8545496207979211,-1.9038568312905513,6.3490883568996015,-2.1224700495409143,null,145.17278802016597,82.626657142191078,82.939162394402842,108.15291201252106,123.36896797056001,176.41043981491313,67.967576475334965,null,140.67301431419884,72.426787956123277,108.90056424623975,110.76536666825625,110.8114220549719,162.69667498752435,58.223144446505927]
[null,"Febrero",103.72254254220694,113.61765503481773,77.513680408900711,96.254975944874417,110.5887743058352,108.36012363425799,115.55090921498422,null,3.9853771301565422,1.9377312882749909,0.73529107662140269,-6.0170971204746575,-1.8977338783008779,4.9702414599660738,-3.1789278413832278,null,146.33126875232824,82.098269497155158,83.654758143595856,107.50715604125267,123.12796458504319,176.44129106890577,67.360080521284587,null,141.07952347271365,72.258373464930628,107.92257276689701,111.68997237381517,111.33857424310595,162.82861734676348,58.294721330110988]
[null,"Marzo",103.88624379256198,112.1275963420926,79.081684147504603,95.700735445475786,110.86082222628555,108.33411582949655,114.11049756565799,null,3.3778976187097909,-0.12124379459333978,4.2089522307693583,-7.0003034835587012,-1.5354877277339529,5.2539956503563578,-4.2426023938778474,null,146.46675630410707,81.48981737681099,84.945779249665918,106.80730831015801,122.66510019036498,176.27129712800635,66.951260189825618,null,140.9876331620662,72.675969195122917,107.41523801038872,111.60552509129884,110.64783548148769,162.71079131289895,58.672305894821427]
[null,"Abril",104.45330842012488,112.05511445237671,79.235343242890707,95.346611355590241,110.75172020322999,108.69794268493875,113.34603688584929,null,3.6814600359089233,-0.99288563799174723,6.3245665232193993,-7.813665425938499,-1.9095635916330789,6.1594943853907402,-5.7789338367331577,null,147.50968745465528,81.353218651413954,85.003170327880923,106.61426866459777,122.1823506459409,176.61119389261225,66.618523954114039,null,141.22069438083474,72.601075862529214,107.27936151839378,111.81757500220473,110.32095070102356,162.47887451239095,58.774462508297063]
[null,"Mayo",105.27124305596467,111.49526742282428,79.092302932098974,95.176138761291512,111.27492590805711,108.5341260039004,113.11585470354596,null,1.3312993807890638,-2.1535116928736664,8.2693766933186641,-7.6159720797479906,-1.7965964709076854E-2,5.6379562938335015,-5.3359679749091171,null,148.43631749609088,81.15340549218314,84.916769908407446,106.35185068976899,122.81060292645532,176.72815287053857,66.270122061577908,null,141.00367126583529,72.786412704338844,107.36413881045897,111.74213628954517,110.36682516232791,162.83187544550501,58.586059606992002]
[null,"Junio",105.72297710179774,111.41451973782537,79.564525214822808,94.566793246011002,111.80357552357103,106.25243785853901,112.52284842071217,null,{"$f":"(C179/C167-1)*100","v":0.14022783876022071},-1.9428870951825328,8.7173366328283421,-7.8513807453252094,1.4282314168595267,4.6259996211941656,-5.0661449867297588,null,148.74510854402189,80.942873242642335,85.144909819181237,106.09957136825261,123.22732388072055,176.28514314204159,66.077813395845013,null,140.69326519324113,72.650201637194797,107.01365915185377,112.19537823624792,110.21769500988911,165.91162207190183,58.723907475916704]
[null,"Julio",105.62837570887493,111.85432408904478,79.743064713239548,93.672414929311557,112.98064177352384,106.42115942596472,111.87490653749906,null,-2.1286780797661664,-1.6142924626721067,10.045647377125544,-7.6898179882624156,2.4743175321814359,5.57400002779882,-5.4762340535014609,null,149.78676344139811,80.621185396660337,85.458437947441496,105.69489782340685,123.31367395685075,175.91949830652837,65.653680771519802,null,141.80542154148924,72.076950134247454,107.16723548907325,112.83460333884621,109.1458430587074,165.30500067414917,58.684903347394979]
[null,"Agosto",105.69828985084719,111.65464481651242,80.4656989057261,93.225462669240827,112.97807991406611,105.54412550895775,111.21327356108984,null,-3.3896694145800876,-2.2180628594131946,12.043860078763124,-7.4753141826702123,2.3592922324119803,3.4390400623286466,-5.3448776642497142,null,150.55799497165654,80.145961776942272,86.168212556042064,105.12412232272506,123.45679813421265,175.40849322353475,65.199377950598475,null,142.44127807943886,71.780230825730612,107.0868876153018,112.76331520681218,109.27500115785018,166.19446357405033,58.625536199853187]
[null,"Septiembre",105.42712762588822,111.68188874268283,80.451730935681425,93.052791203997728,113.06548525891949,105.33156697047697,111.91190963151156,null,-3.0748333100412029,-2.5050062365150172,10.891616275625005,-7.3738650726276838,2.9630793058087468,3.7125921921223437,-4.203947304798616,null,150.20671265943818,79.897984970774019,86.69781040357239,104.85197673526162,123.77647892348979,175.36231932190478,65.116995228001656,null,142.47444281366734,71.540682083968392,107.76376020161021,112.68009844583464,109.47326555052778,166.48600639450896,58.185938782038583]
[null,"Octubre",104.19355183309816,112.44864974690651,80.923274806940142,92.656638755945139,113.08859240734814,105.46839618731563,112.11074609023387,null,-3.0759945240771303,-2.2497697905448644,11.214374182550557,-6.9555349896174068,1.7180718034574216,2.1757310889018999,-4.2538744799656243,null,148.75709187324898,79.809956363907361,87.119122595394401,104.80049291572236,124.44859221202125,175.83671309981705,65.356031868895656,null,142.76995961471272,70.974579546788149,107.65644717571772,113.10629688582139,110.04522168226667,166.71981319174017,58.295956585903873]
[null,"Noviembre",102.09343580262824,111.553107761139,81.259396664462741,93.316697353778295,114.82676354207545,105.37297566366796,113.98308863263931,null,-2.6393812675224226,-3.0508481615612149,10.363257312703755,-5.9610111500137393,3.0528972260669418,-1.6888765390734584,-3.4604610321770313,null,144.95862412039034,80.196922296305544,87.01999471895715,105.37636931118047,126.00635860938272,177.29935089389369,66.394800390462635,null,141.98623347404143,71.891248846267644,107.08914696755765,112.92338059466684,109.73605344472742,168.25884414596214,58.249694044042897]
[null,"Diciembre",100.99433750553199,111.99779348586614,81.513301148680938,93.309386465095969,114.99024064590205,105.49083717384809,114.4010442471418,null,-2.7360156187967388,-2.3390321238572653,9.4892731110084014,-5.3457542510048643,2.894646204735829,-2.8345565837108899,-3.3245175745616917,null,144.87255968230053,80.083010519104064,87.218614935341336,105.24850034861184,126.25826593462885,177.17564098472945,66.34278635273202,null,143.44622011542489,71.50409666705653,106.99924270795248,112.79519064031345,109.79911445130833,167.95358320338795,57.991416764877592]
[2010,"Enero",99.401181611933382,112.40919070114096,81.517836286922361,93.799418368688066,115.71447829899193,106.60299244349802,115.34213244598949,null,-3.6798560223187615,-1.4671910879744954,7.034338320946576,-3.9348384103234713,3.9360716361051207,-1.6840928888659068,-1.1943343219261271,null,143.82392038354402,79.928080652293488,87.492564312816683,105.25924396678118,127.04687044193493,172.89028490459731,66.10664297895093,null,144.69035282200065,71.104577974229841,107.3293506035474,112.21737383599665,109.79340900942533,162.18145564368939,57.313525922460528]
[null,"Febrero",97.884124951042381,114.3219471479328,79.607283623232306,94.657871199208373,116.57162022657818,108.32178502630725,117.49188573547927,null,-5.6288801335435679,0.6198791137691062,2.7009467274517363,-1.6592438260861542,5.4099938789422763,-3.5380734780388057E-2,1.6797587606029563,null,141.85729172277132,80.879203823077788,85.401648798786894,106.48080691441777,129.25785700274949,175.04620101079934,67.125050790343053,null,144.92369604746685,70.746873930007467,107.2786872153286,112.49017706126934,110.88278326363938,161.59833496861899,57.131648173107131]
[null,"Marzo",95.749776060150666,115.88371960032752,78.1698473268751,95.769552379768626,117.79103458064482,109.53127772132984,119.89480605156521,null,-7.8320934855033002,3.3498651364783472,-1.1530316159285792,7.1908469639758721E-2,6.2512727356590858,1.1050645336114329,5.0690415074029271,null,138.09281905292917,81.601399794230659,84.455407094680311,107.49296217692175,131.38034441852091,177.61941869328189,68.430519623794169,null,144.22260263687545,70.416621140283127,108.04090065766854,112.24127032636075,111.53679470280251,162.16319428426857,57.075466300319199]
[null,"Abril",91.996154960595035,116.88331689002142,78.683033201729216,95.926863618479885,119.34201858510674,111.09561550884295,122.37270802010038,null,-11.926049684731431,4.3087747143363941,-0.69705010233680476,0.60857145800978785,7.7563566201170664,2.2058125155633101,7.9638171587259388,null,132.51405818209477,82.012264493570015,84.810927955522274,108.20517516810931,133.47656300097705,180.56001444587631,70.030444055437997,null,144.04303988449831,70.16592844532083,107.78807641805348,112.7996591220398,111.84372828903552,162.52667904027601,57.227175232515982]
[null,"Mayo",93.449057967629884,116.9024777252081,78.461554557301781,95.43811758620835,119.2118649008293,111.02716398192911,120.88595653296238,null,-11.230213252112776,4.8497218109518681,-0.79748389086443661,0.27525683257008104,7.1327290744100047,2.2970083878863345,6.8691536211084703,null,135.23113424268635,81.783409318400757,84.410610582465537,107.82761071026047,133.10480182796093,180.70236080065126,69.151188234644536,null,144.71107273176526,69.958662048756139,107.58212867273622,112.98170315740018,111.65398841691554,162.75509012376696,57.203657246810835]
[null,"Junio",94.695826317446802,116.45899739174364,78.193023935593246,95.08304417118984,119.55814694023563,111.06191731093631,120.11653316160464,null,-10.430231049711358,4.5276662914211396,-1.7237597729974907,0.5459114213969718,6.9358885709605467,4.5264650386662053,6.7485713768108857,null,137.04459026399809,81.573133018822062,84.291239412887393,107.51027530838869,132.96822584286184,179.96860372340032,68.570286501575453,null,144.720834690841,70.044509093983663,107.79892523700987,113.06987091707387,111.21636563113479,162.04348716540545,57.086468196115078]
[null,"Julio",92.896959322413764,117.33876697264527,78.439827959510353,95.166464602603952,120.15481181610157,112.2565675652025,120.61614232839604,null,-12.053026756324027,4.9032014884238695,-1.6342947921749729,1.5949729431229631,6.3499108607992794,5.4833156965343743,7.8134016478190516,null,134.05525811745403,81.748134226114004,84.497784901397807,107.84042450308753,134.37920019464548,181.50175807611379,69.392187475796021,null,144.30532397965126,69.668478999077621,107.72306250469403,113.31767440705869,111.83838430067578,161.68475663634672,57.531426669960219]
[null,"Agosto",90.579537960478874,117.90179290843643,78.814113961930019,95.026983840966096,122.33108085897049,113.32426922096104,121.62419910460872,null,-14.303686381021553,5.5950633331826483,-2.0525329006724768,1.9324346805517978,8.2785978944043936,7.3714606800574289,9.3612256973985453,null,130.82242395990616,81.87748264724101,84.851767747717332,108.12965581946396,135.97348252869429,183.22652571991284,70.266591113036228,null,144.42823059771601,69.445494107818845,107.66062508639467,113.78836983864085,111.15203231585231,161.68339489810035,57.773528319475375]
[null,"Septiembre",90.379380596192135,117.53446593502824,79.479818785518859,94.414219137988113,122.5016321187515,112.8256974720738,121.80081360572177,null,-14.273126251806389,5.2403995475307941,-1.2080686628601955,1.4630704961936747,8.3457359584344193,7.1148001659344207,8.8363285076370026,null,129.99235505519883,81.599683513360048,85.56642101238188,107.83274758803944,136.43246064374031,183.59062573917194,70.276686543380279,null,143.82965915200759,69.42617458139253,107.6580474387946,114.21240208579167,111.3719534050652,162.7205768301265,57.698043603280922]
[null,"Octubre",90.607373123786289,117.73541722489013,79.403377293100519,94.179789755284958,121.29733376978719,113.32061434130942,122.31618145560734,null,{"$f":"(C195/C183-1)*100","v":-13.039366131864671},4.7014948511011845,-1.8781957569879215,1.643866019521556,7.2586820542172248,7.4450910773763646,9.102994780856676,null,129.90449012300735,81.629207256750007,85.286107486765459,107.87733157795778,137.14282837994588,184.64611071865659,70.275157223939232,null,143.3707717643839,69.332754052102672,107.40866496389707,114.54403525242971,113.06334947166457,162.94132518777428,57.453687964780407]
[null,"Noviembre",91.182726586488528,118.3920696505148,78.706401688666574,94.148612066993238,120.33565109485079,113.68735309693223,122.66280107558434,null,-10.686984065491533,6.1306780480016698,-3.1417843112200639,0.89149609534617813,4.7975640720351098,7.8904267255413885,7.6149124813762681,null,130.67571542252907,81.786675574985495,84.652483815754749,108.03786235508308,137.27859035035624,184.71219865555474,70.174036697724219,null,143.31191916988871,69.081211111871013,107.55476301738287,114.75247481949779,114.07973372924265,162.4738316302124,57.208897956343954]
[null,"Diciembre",89.732835014327904,119.15111150484923,78.671170064378714,94.695676535672973,120.73106982581452,113.95488171179082,123.34955342556381,null,-11.150627618689246,6.387016919119759,-3.4867083583305702,1.4856919792260781,4.9924490527771148,8.0234878826433551,7.8220520077513012,null,129.08975278879313,81.997521280716683,84.462054281498695,108.35919935946758,138.28852150811207,186.00111530316792,70.70205820648053,null,143.8601073600104,68.818091787066166,107.36087211157678,114.42887713954649,114.54261252520057,163.22347275441257,57.318454946126906]
[2011,"Enero",89.901119814959628,119.05064207695359,78.026912941288089,95.721257648655723,122.82543160618704,115.26809741845599,123.99264626694074,null,-9.5572926225992116,5.9082814620292634,-4.2824043235729414,2.0488818730342917,6.145258062540182,8.1283881215160836,7.4998733225276171,null,130.00598507448598,81.907452187194323,84.023160529276012,106.81216346997201,139.07073810590575,184.44471151564218,71.561766401963339,null,144.6099729815077,68.800512755109594,107.68484534624589,111.58666955884071,113.22633780909943,160.01366869625286,57.71452465648629]
[null,"Febrero",89.510903207545198,120.5543660469889,76.430498486853097,96.292586404499133,124.00512955899329,115.75354187054927,125.26843401637973,null,-8.5542183144459045,5.4516381626979582,-3.9905709525454913,1.7269722893413553,6.3767744824741568,6.860814602009313,6.6187960404419321,null,129.21131985268437,82.535789991713742,82.554322230645653,107.63921921903759,140.71898472652478,186.51291783175921,72.188970891972843,null,144.35260423312616,68.463542796569854,108.01227764443524,111.78349573753717,113.47835789291292,161.12933981781941,57.627423427783597]
[null,"Marzo",89.859647847094976,121.31695888294267,75.24082943442609,96.809566505920273,124.85560246659509,116.00637405348878,125.36828690476412,null,-6.1515843226155109,4.6885268278873848,-3.7469919573989041,1.0859548784644346,5.9975429463721808,5.9116413748344199,4.5652360043393569,null,128.97342092855629,82.966924391912613,81.493696337171045,108.19124265372291,141.73538410961513,187.88612566870876,72.537336638231608,null,143.52762782691653,68.388562617998389,108.31047045832271,111.75676801228791,113.51944270785623,161.96189838851208,57.859398440480014]
[null,"Abril",90.846409577327435,119.22942182120192,75.058640883918699,97.285221217029232,126.12457856026538,116.55119804076672,125.21623937658698,null,-1.249775475681647,2.0072196730933189,-4.6063200290184847,1.4160346198243356,5.6832958379380516,4.9107091282909465,2.3236646491630708,null,129.10839455962122,83.332890542250794,80.562997736188876,108.64265796485817,142.38183141249087,188.72607648667554,72.74941346715724,null,142.11722308048468,69.89289159450756,107.33340863549994,111.67437006952179,112.88983720524972,161.92547108839142,58.09902439919464]
[null,"Mayo",91.128855132787919,118.9159538843296,75.459918966929393,96.87960421766374,125.58711728298059,116.71681384394243,124.84660250303472,null,-2.4828531023241229,1.7223554182096867,-3.825613202935263,1.5103887921440906,5.3478337810206833,5.1245566021477229,3.2763491175191728,null,129.6762621466878,83.029423651921945,80.934982774340881,108.24123046483396,142.4528935646953,188.34104461505126,72.372325546951942,null,142.29989168384782,69.821938049359858,107.25559195181611,111.72757293851402,113.42954328962875,161.36582075216242,57.968998832141018]
[null,"Junio",91.000876576274493,118.57633889266209,76.314750695680544,96.188219912755144,125.47839745773616,115.86390613352353,124.53623635176362,null,-3.9019140387305029,1.8181004030080716,-2.4020982248490808,1.1623268388162966,4.9517750726430387,4.3237042353079902,3.679512781319394,null,129.6653962039631,82.426218520347362,82.023289478886468,107.49662669794513,142.71362162007662,188.11886340812248,71.923988474199319,null,142.4880738322131,69.513209203533748,107.48025608570721,111.75654024520567,113.7356106800341,162.36192071008819,57.753462430841132]
[null,"Julio",91.005855988897054,119.15602686373552,75.678688395863389,96.001857633936112,126.45663818907552,115.52750918477571,125.22926127852574,null,-2.0356999274360854,1.5487293227769205,-3.5200734569079239,0.8778229125360415,5.2447557261535049,2.9138086888977233,3.8246281642549729,null,129.4514574936334,82.502491285354324,81.812447447770893,107.44950600485276,143.60631081324101,188.35501485190812,72.020858886235956,null,142.2451951986769,69.239041831851722,108.10500179366582,111.92440297829194,113.5617021532105,163.03910313746266,57.511206367378023]
[null,"Agosto",91.091086576029795,119.14347579958857,76.111847258626128,95.527992420716117,126.27555264489101,115.17473242403999,124.74335340881309,null,0.5647507451121303,1.0531501349741568,-3.42865835503674,0.52722769838564609,3.2244232277060414,1.6328922443531457,2.5645836331646521,null,129.308981112346,82.182721058514616,82.52567880675717,106.89526459695639,143.84909906216302,187.99954546065806,71.817299195830259,null,141.95569069693485,68.977944874425432,108.42685045645655,111.89941491304194,113.91682400051886,163.22985215932451,57.572044708841688]
[null,"Septiembre",92.149103939941114,118.99887802589441,76.151694592934419,95.782232294405347,125.59146291318787,114.70668922829367,122.81460962651285,null,1.9581051917759495,1.2459426936739515,-4.1873827135484376,1.4489482293105205,2.5222772472460742,1.6671660786191422,0.83233928475454633,null,130.41566473914975,81.860956713036074,82.543328939045253,106.9753897446934,143.64015366766091,187.54946498680002,71.315579965832796,null,141.52678557151154,68.791368516283796,108.39329233614174,111.68604780047693,114.37095351532673,163.50351165094816,58.067668156669697]
[null,"Octubre",92.683679754248374,119.00798085053567,75.973820979146382,96.011321594875426,125.05118765047933,114.97554867815394,122.13971752993743,null,2.2915426845290687,1.0808673002914437,-4.3191567296875348,1.9447185477367235,3.0947538284861853,1.4604000750119805,-0.14426866794722271,null,131.33194045379969,81.720280555543113,82.235948642595787,107.24916660362844,143.54680184365031,187.78389512119065,70.983850401462576,null,141.6991004263399,68.667899389182253,108.24248087399508,111.70470817615829,114.79043465374083,163.32506979100918,58.116926939890668]
[null,"Noviembre",91.605960743118658,119.71414512819319,76.018498947072828,96.285160503276728,124.68166607850138,116.42084910113937,122.48643426346142,null,0.46416045283388385,1.1166925973851827,-3.4151005304830173,2.2693360946874019,3.6115772375926891,2.4043976130541989,-0.14378182348391277,null,129.49728573327818,81.960853517819572,82.116563136407876,107.56569319867044,144.53871101660567,189.47621105529399,71.606807710194474,null,141.36338365187211,68.463800522531102,108.02181610239472,111.71575415820159,115.92619473467897,162.75109872346709,58.461010919929514]
[null,"Diciembre",90.570186875459783,120.46323693828808,75.918229789950971,96.672597589971929,124.18018576581288,117.31236703838287,123.29213381869731,null,0.93316104522740417,1.1012280262156393,-3.499300025886154,2.0876571419332191,2.8568585907294608,2.9463286488100149,-4.6550315969451361E-2,null,128.81212999106538,82.001329802750391,81.965662031173764,107.83682066146487,145.24647476038871,190.29766830036024,71.810627662192758,null,142.22354445198494,68.071663925782374,107.96571819173695,111.54848773056145,116.96429173838089,162.21449886702709,58.244289751519119]
[2012,"Enero",90.968147693783635,120.32251348115169,75.782606956099329,96.988039671991913,125.37124339043302,119.5210828873457,122.58887726302395,null,1.1868905315308931,1.068344850568681,-2.876322925754482,1.3234072080267723,2.0727073790455464,3.6896466274186412,-1.1321389180570018,null,129.9444980397987,81.833272281388602,81.634625108907542,107.9349326744703,145.91636169989584,189.04734829102043,72.264005985119695,null,142.84615146525462,68.011604739463522,107.72211248446266,111.28684839852437,116.38742486223967,158.17071241665917,58.948256643277411]
[null,"Febrero",91.426864306926745,120.6802044914126,75.481218072779939,96.944425323214361,124.97774198576627,119.90565446258867,122.17619803645222,null,{"$f":"(C211/C199-1)*100","v":2.1404778979149386},0.10438314973564289,-1.2420178238618296,0.67693572584812678,0.78433241449926694,3.5870285478459385,-2.4684877752388701,null,130.08404499371028,81.780664397549714,81.241171745413766,108.39692819749742,146.58497060913817,189.31682008102968,72.204146642139207,null,142.28208085208797,67.766428423121454,107.63097604900864,111.81347234366517,117.28886142448687,157.88815042087757,59.0983741535291]
[null,"Marzo",91.258157966447897,121.36911675380372,74.941250890752144,97.26501798078074,125.42021467620742,120.72992364761858,121.99124929631147,null,1.5563271756112718,4.2993058300599962E-2,-0.39815954439342827,0.47046122743727992,0.45221215424706696,4.0718017718162969,-2.6936936699294756,null,129.73884409453481,81.964073491386543,80.572367356839948,109.19138836599083,147.15916487487698,189.99682735948446,72.450177889103401,null,142.16684511891506,67.532891137083922,107.51404119781338,112.26172639742555,117.33289187456117,157.37343453810109,59.38965155863356]
[null,"Abril",90.485441777074129,121.26817891969306,75.484960644277933,97.049465672108028,125.29284253825035,121.74222393391538,122.24407999394893,null,-0.39733854307808514,1.7099446322472955,0.56798225405993996,-0.24233438745568936,-0.6594559375416309,4.4538588881196883,-2.3736213429148778,null,128.59432826704131,81.832972774011239,80.847873180403226,109.54290611321551,147.64772683566366,190.32546140072915,72.68558459285947,null,142.11604180908429,67.480994192386746,107.10461062753673,112.87327071260536,117.84210801234607,156.3347992591645,59.459390259599822]
[null,"Mayo",89.38633728086549,121.45732197648343,75.731479156398692,97.266763847129369,126.26392864962187,122.38140411980697,122.29287744912641,null,-1.9121472001193518,2.1371128171967957,0.35987341781842375,0.39962965640918391,0.53891782953841005,4.853276995239475,-2.0454902277747045,null,128.24217337314087,81.57812723741344,81.132837172548136,109.75923812564379,147.91649048149972,190.0696820730804,72.623050817327965,null,143.46954721971034,67.166084275436759,107.13224946391804,112.84351795454856,117.14865208413003,155.30928366127344,59.38453026222971]
[null,"Junio",88.031594235153037,121.66463185866171,76.123846339790305,97.370717505642432,127.35082070152039,122.29375513107281,122.82447858462966,null,-3.2629161968925513,2.6044765716668028,-0.25015394029328508,1.2293580169794538,1.4922275720128608,5.5494840560091463,-1.3745057802284522,null,126.62694131259218,81.251507499922297,81.81720712327035,109.98839874645043,148.79028318579168,190.3531207171531,72.850103885229643,null,143.84260834166187,66.783177870716372,107.47907660638543,112.95839402649656,116.83496216684792,155.65236386202645,59.312365682084931]
[null,"Julio",88.410535458734074,122.15311974203098,75.417313559138549,97.753509519463535,127.88200093057699,122.53386897736227,122.28490676192006,null,-2.8518170638157758,2.5152675506064703,-0.34537442741823243,1.824602074062609,1.1271553331746009,6.0646679237068346,-2.3511713528813871,null,126.6080417040362,81.186318652161191,81.412304618706983,110.47170657688214,149.92388893108395,190.32016204811902,72.827603468368153,null,143.20469958371754,66.462746775206796,107.94909123203847,113.01047616595935,117.23611441806636,155.32045436619654,59.555676490932996]
[null,"Agosto",87.831374481809661,121.98071853793654,75.89571926275849,97.680123984788537,128.58715169882927,121.75191733904573,122.20865579536138,null,-3.5785192786117359,2.3813664317805294,-0.28396104371667397,2.2528805531620399,1.8305990395772742,5.7106144521269275,-2.0319299940133262,null,125.86623440208888,80.814689557357895,81.966674311904882,110.62123961785224,150.48079803754064,190.14007130847531,72.786401450312113,null,143.30441160084138,66.252019602773672,107.99907439855487,113.2484635616136,117.02630943252372,156.1700837769867,59.55912122312602]
[null,"Septiembre",87.579665190596643,121.40409496661394,76.610949343388299,97.360828821129175,128.33133583977886,121.37651080579877,122.31326188390766,null,-4.9587446366517458,2.0212097631677972,0.60307883220303005,1.6481099770902174,2.1815757719813034,5.8146753448969024,-0.40821506832926513,null,125.02844708193983,80.366638278546716,82.805293301297368,110.64276417694012,150.62177649523488,190.18139294732032,72.711088805396244,null,142.75967692939301,66.197633861236312,108.08545516143464,113.64197030431247,117.36944489012842,156.68714785483385,59.446610846180526]
[null,"Octubre",87.480318167199158,122.06855226687678,75.736307885685179,97.887111809913605,128.61201049159089,122.39204015668447,122.83140139818337,null,-5.6141076841640043,2.5717362772375241,-0.31262491526705682,1.9537177323244892,2.8474922213966858,6.4504945301815386,0.56630544284368423,null,125.1781146276281,80.669931131454248,81.662575205946922,111.54237540434862,151.33053423413409,191.70814784965796,72.892828117008165,null,143.09288906377546,66.085760528302743,107.82486958462079,113.95001174511317,117.66438737385931,156.63448995885358,59.343805645195722]
[null,"Noviembre",87.139815997213944,122.28560019713515,75.733711902829882,98.184575411900809,128.05378132390177,123.35104417831326,122.90406322958817,null,-4.8753866120444638,2.1479960168352408,-0.37462860775667739,1.9726974527496832,2.7045798724547598,5.9527096140257196,0.34095936308216057,null,125.39522246435114,80.484618281524945,81.449697227602769,111.82642394109479,151.750057397186,193.7648994517848,72.669903322821156,null,143.90117884614341,65.816922149277318,107.54747810606034,113.89408516761836,118.5049405244398,157.084117724762,59.127339986369506]
[null,"Diciembre",87.153154684262788,122.65336051289903,75.607809659663388,98.732767819494796,126.64644955305162,123.59844505741302,122.79565587728136,null,-3.7728001995796401,1.8180846125967154,-0.40888747162104444,2.1310798311853452,1.9860364775824868,5.3584103515475379,-0.40268419893358942,null,125.08814125035587,80.279962482544704,81.524926855040761,112.12072398930242,152.18586157576476,194.67498687998236,72.607789158031835,null,143.52680829916417,65.452721512756213,107.82606614582851,113.55979019476466,120.16591235904708,157.50601618778731,59.128955857032992]
[2013,"Enero",86.339969749161313,122.76659806126384,75.448424815994457,97.948207936807819,126.42153258418314,125.77898989135061,122.95714424057012,null,-5.0876906499203063,2.0312778626379036,-0.44097472167784479,0.98998625816455466,0.83774330169104072,5.2358185291069281,0.30040814939191751,null,125.39732694837365,79.586312853188346,80.840026656446582,112.77583105817983,153.06449693681373,196.45287736851463,72.623259477933146,null,145.23670475294756,64.827334234245569,107.14607608257072,115.13822808370134,121.07470444948865,156.18894502031935,59.063879473195236]
[null,"Febrero",86.154478155557953,123.36842087579774,74.704418850481616,98.09175518737176,127.40409847015948,127.02222250566805,123.34163805063255,null,-5.7667800283174975,2.2275537199445417,-1.0291291557448456,1.1834923569170597,1.9414308866850361,5.9351396520668676,0.95390103220647227,null,125.5865863337513,79.63714293099487,80.145583547839337,113.37784025715847,153.96798904942025,197.38042369875956,72.614189114822793,null,145.76907552848957,64.552291717481154,107.28359149443092,115.58345555198571,120.85010678481629,155.39046617606769,58.872405347020106]
[null,"Marzo",85.865178875783755,123.33610090715277,74.434183383096823,98.393552397614755,128.18559203859064,127.91503198662036,123.54198136873484,null,-5.9095857409777297,1.6206628226017816,-0.67662002118767939,1.1602675250180994,2.2048896739034429,5.9513897813547656,1.2711830408890235,null,124.80060723745304,79.651590674517493,79.935880155048139,113.92573359404659,154.56663087396825,198.83579829005095,72.847854422330883,null,145.34484044806445,64.580921635003762,107.39135773631756,115.7857713416681,120.58034636797208,155.44365287017146,58.96607259754272]
[null,"Abril",85.365471176644874,124.47163780310774,74.165624800015181,98.634885744172365,127.5473202715127,128.58761667049512,123.64687211167923,null,-5.6583363023669069,2.6416318872373834,-1.7478128530530879,1.633620608917985,1.7993667376283495,5.6228582946665995,1.147533784703314,null,124.77323007358099,79.628900765683014,79.740439670844637,114.35887551604125,154.5752120952238,199.10997699128458,72.859209655852155,null,146.16358154386629,63.973530172103899,107.51670991225618,115.94161097590963,121.19048190599085,154.84381944919514,58.925234752436694]
[null,"Mayo",85.540522504877771,124.88218910122288,73.905729082335554,98.928814343063465,126.98105681093811,129.11937764505043,123.21374275505406,null,-4.302463769047371,2.8198111641244417,-2.4108205655044013,1.7087547998885677,0.56795964531266563,5.5057167988097566,0.75299994990365438,null,124.64217405910918,79.518770333781902,79.54938970768265,114.80216815410873,155.31079168875411,199.16772007795237,72.836315689449265,null,145.71126105992832,63.675029166351507,107.63629652994791,116.04522799191743,122.31020562381687,154.25083648208485,59.113792066398055]
[null,"Junio",85.508086009398014,124.71389382381753,73.7668572656614,99.023527752710478,127.68240965289027,130.40032083159053,122.89290091608096,null,{"$f":"(C227/C215-1)*100","v":-2.866593803827},2.5062846273173012,-3.0962558875547663,1.6974407598180363,0.26037441262121153,6.6287650516816843,5.5707406406080295E-2,null,124.19056544262278,79.247836772394237,79.711954242828668,115.02839761787378,156.02055407416776,200.61080096906662,72.756707699208405,null,145.23838766426519,63.543711404237854,108.05930630304175,116.16269408734048,122.19424312112834,153.84226027185284,59.203344665849563]
[null,"Julio",85.110825883222219,124.93148634350014,73.563897791637331,99.028054357703738,129.02728040969092,131.2094350496296,122.82906314097194,null,-3.7322583314202462,2.2744950004851772,-2.4575467887063662,1.3038353758403121,0.8955751949296209,7.0801372262799589,0.44499063168221831,null,123.81478554054969,79.07561640829465,79.62636025326006,115.3477392741725,156.82899794014759,202.58588835445255,72.720049188453117,null,145.47477862620192,63.295185803581646,108.24108379737309,116.47986019953464,121.54716230721125,154.39887251844729,59.204269192374859]
[null,"Agosto",85.014674944570245,124.56903145306666,74.290163790291828,98.441698253608507,128.7420921317995,131.66056509384256,122.33298127619891,null,-3.2069400642509183,2.1219033189455505,-2.115475665904254,0.77966144774608281,0.12049449025288705,8.1383915517354577,0.10173214002591191,null,123.36008262105275,78.705027999808081,80.338900707787914,114.90300793422298,157.06931464543422,204.26499238840896,72.534733824130569,null,145.10445720281092,63.181857546561595,108.14204278048251,116.72188713994586,122.00307766059508,155.1451584935981,59.292868584935668]
[null,"Septiembre",85.178627159013743,124.14544809265567,74.453903417060474,98.364803930358534,129.05189397107816,131.59594546379671,122.01035034825628,null,-2.7415473972840609,2.2580400824169899,-2.8155843842365691,1.0311899779261946,0.5614826079570312,8.4196147921478328,-0.24765224227187854,null,123.50396864307996,78.382788665178808,80.599479487392003,114.93674503566635,157.2974697841567,204.75640626999117,72.257593558298979,null,144.9940821569235,63.137867613702589,108.25420265195032,116.84742961216148,121.88699053065328,155.59476817340212,59.222511329614967]
[null,"Octubre",85.553655179648757,124.09772045593596,74.525476516445949,98.067159463530601,129.4167108652837,130.93031832593638,121.39329622132182,null,-2.2023959536452642,1.6623185508277682,-1.5987462328726609,0.1839339728059608,0.62568058038827701,6.9761711287117389,-1.1707960346390878,null,123.08908097158462,78.294925296767246,80.763552128791162,114.89551087564067,158.16728448642294,203.90409569360895,72.31871150600422,null,143.87355012841655,63.091348502705038,108.37039345997152,117.16002737732832,122.21550325990522,155.73482009416068,59.573892263502103]
[null,"Noviembre",85.660785491456167,124.74254004505342,73.68923150876202,98.395387955799904,129.71817268272306,131.50500250632052,121.82363765141983,null,-1.6973073546598494,2.0091816566770504,-2.6995644907660599,0.21471045020533541,1.2997596335022177,6.6103683048033934,-0.87908043865895236,null,123.14911521296162,78.508858260623484,80.079541081374998,115.30264868149762,158.90457062821017,204.41830207944443,72.459631131625429,null,143.76370063200571,62.936716081192792,108.67197206670983,117.18298090688215,122.49985282854237,155.44526685942571,59.479122876758829]
[null,"Diciembre",85.566728937573956,125.41551177359587,73.303103190539915,98.74700803234748,128.91534507172216,132.05327389121902,122.09513380860629,null,-1.8202734627749462,2.2519980285467645,-3.0482386402909234,1.4422985567175139E-2,1.7915192464358132,6.8405624600524906,-0.57047789164068607,null,123.17142941608736,78.591992843276117,79.667943698067788,115.70582124963282,159.13780266763513,205.27522074246659,72.517612598813798,null,143.9478065194572,62.665288951778884,108.6829073129189,117.17400208392135,123.44364635497713,155.44879327381562,59.394351221639063]
[2014,"Enero",85.641340086822979,125.02729194059658,73.331381657386316,97.283814172173763,129.21606069756476,132.95141271654737,121.92546998128327,null,-0.80916134713507892,1.8414568091270178,-2.8059474585072408,-0.67831130209415891,2.210484287176917,5.7024013560550868,-0.8390519035383015,null,124.2615570152299,77.779180894571581,79.000629640800611,115.23571709892441,159.62749548849285,205.58708281986623,72.391403278827312,null,145.09529730531287,62.209762114599997,107.73099845561586,118.45312406746224,123.53533657252349,154.6332442951759,59.373487172073304]
[null,"Febrero",89.377736253737751,125.1203175777664,72.125624701420051,96.707194515714633,128.22238684135888,132.24914466437821,119.08377995599899,null,3.7412542762547796,1.4200527894674186,-3.4519968011837876,-1.4114954605638164,0.64227790237929572,4.1149667007888358,-3.4520849260050279,null,129.95757654217354,77.587473851185791,77.467650098366477,115.07955978884152,158.7549467646142,204.16599389624278,70.715988946935553,null,145.4026270851526,62.010291656239303,107.4065568500251,118.99793015931346,123.81219120576132,154.37982182370641,59.383392913010354]
[null,"Marzo",93.092113031177973,124.66757673712885,71.398961939208476,96.153539243801177,127.46552740464161,130.39193196206841,116.23734363337807,null,8.4166064171938828,1.0795507723877273,-4.0777251874541403,-2.2765853038434258,-0.56173601299298603,1.9363634883092784,-5.9126765286001586,null,135.76771121167272,77.210152890212143,76.561781244227817,114.74937512092866,157.1562140676254,201.50035783599333,69.001913467506071,null,145.84233485623216,61.932825607908995,107.23094449106298,119.33973104201291,123.29311090419779,154.53437555830578,59.362947664344134]
[null,"Abril",91.882866570271119,125.63788796253202,71.626215592875454,96.155296702960825,127.35472401742611,130.5124752455132,116.61567134456175,null,7.6346973826688647,0.93696056387486681,-3.4239706251880775,-2.5139067405043791,-0.15099984356912177,1.4969237511808897,-5.6865172948061478,null,135.1845775386353,77.119724383841842,76.766802819750922,114.9579902125693,157.18400470411871,201.50862975534557,69.096813252156551,null,147.12707883928223,61.382538050019306,107.17696332875472,119.55450625636675,123.42220197706291,154.39798331636737,59.251739029137617]
[null,"Mayo",92.575699819625441,125.62652054541219,71.432390242964487,96.034645784621091,126.90168498751815,130.7283121475655,116.27156830502129,null,8.2243796375530707,0.59602690307261064,-3.3466131382258846,-2.9255061608299826,-6.25068222090297E-2,1.2460829132386664,-5.6342533672024242,null,136.45620242240932,76.968860509894611,76.435459917899138,115.03277694975536,157.53801797423819,201.08317773047321,68.687546961895023,null,147.39959048463115,61.268003106136703,107.00392309135619,119.78258055716869,124.14178581610904,153.81761947900884,59.075101474251547]
[null,"Junio",92.203311217840479,125.14209680411878,71.93236459389891,96.232148179004568,126.35152603216142,131.55189479451138,116.1047710671513,null,7.8299322565898777,0.34334825669557478,-2.48687925683998,-2.8189054026400373,-1.0423390538656929,0.88310669450581969,-5.5236143001986875,null,135.65086326563087,76.543150848303938,77.006177706829021,115.17234800267033,158.27180910059781,201.39910443854214,68.593719766015965,null,147.12146610997598,61.164989881953687,107.05358866148056,119.68178013488225,125.2630768070909,153.09479559616722,59.079156812895775]
[null,"Julio",89.547183422516824,125.494027528196,71.70367960316014,96.510530629728322,128.16133402811181,133.09127948455898,119.55526505236463,null,5.2124479973694404,0.4502797502537792,-2.5287107457873992,-2.542232849371906,-0.67113433595556993,1.4342295081276601,-2.6653285508250968,null,132.6788139406799,76.761815167950274,76.864512716853682,115.8917461696112,160.28504876304541,203.42100147650189,69.484590017179002,null,148.16637315620756,61.167703897863525,107.19744529465696,120.0819697222894,125.06505958176699,152.84322328579196,58.119222090925973]
[null,"Agosto",89.515453304329554,125.15230143343145,71.755451301346099,96.877044304676133,128.22336898707525,132.71259868922741,119.47276165808204,null,5.2941193537396014,0.46823032463292336,-3.4119086021950129,-1.589421938761626,-0.40291651015986751,0.79904988607255589,-2.3380609123382468,null,132.70882951412318,76.51073582222206,77.056909334027353,116.13223071980008,160.39135673681656,203.02974349316054,69.322460058786021,null,148.25242415177996,61.134102166645455,107.38823035258618,119.87590202955285,125.08746104852683,152.98452859671184,58.023652501797272]
[null,"Septiembre",89.833098204863902,125.63123075276405,70.833972693474962,97.626050710332308,128.79881427921447,133.17967150141214,119.17993256278218,null,5.4643649482176704,1.1968080045910989,-4.8619757426392134,-0.75103410011293503,-0.19610691798169766,1.2034763168680795,-2.3198177674231601,null,132.87857556404538,76.675966593427987,76.102461735062505,117.15284499648892,161.00341237310539,204.12322079682167,69.432624010831518,null,147.91716886020836,61.032568202983249,107.43779974672078,120.00162266534254,125.00380013132475,153.26905262313798,58.258653548285452]
[null,"Octubre",90.143669620808538,125.93202973485168,69.882814613727987,98.236251427243388,129.40986767552437,133.98391743221663,119.40499928368256,null,{"$f":"(C243/C231-1)*100","v":5.3650711141698171},1.4781168196937644,-6.2296306172472953,0.17242465738560586,-5.2877172612264545E-3,2.3322322479035318,-1.6378968192891308,null,132.85210523532467,76.810241491674574,75.172027780045781,118.1967943738113,162.05528816878274,205.20427774432562,69.568564318911712,null,147.37818617121999,60.993411805874622,107.56868937742922,120.31891756512236,125.22637653498867,153.15590234786188,58.262689783725577]
[null,"Noviembre",89.495121529072108,127.06732426820149,69.52812969215023,98.366639123340718,128.2766783053257,135.32714469730269,120.49453962698963,null,4.476185941580435,1.8636659332962324,-5.6468248228603297,-2.9217662592173621E-2,-1.1112509123321512,2.9064614411139722,-1.0910017547113515,null,132.16991422009522,76.834988416142764,74.909562292971458,118.71160319277656,162.78300554329726,206.57182047261929,69.765721240172383,null,147.68393177404693,60.467936079276264,107.73993579958014,120.68278864740469,126.89992264676452,152.64625654718083,57.899487774419875]
[null,"Diciembre",88.910187802683225,127.6412668373105,69.278148788031871,98.81944269637296,128.17574788361935,136.3108311790034,120.7947240038025,null,3.90742863099105,1.7747047651750059,-5.4908376689671741,7.3353781009499741E-2,-0.57370764333084523,3.2241209644613633,-1.0650791429921203,null,131.46312417857791,76.699883480174762,74.89668931172821,119.39108492104276,163.15429841615253,207.16354534528713,69.882508094593092,null,147.8605854149489,60.090192913813048,108.11011931177204,120.81740360333448,127.28952326012006,151.9787852171776,57.85228508191571]
[2015,"Enero",88.765453370895571,127.88304220154119,69.274538011251906,100.09426304751301,128.96340005196663,135.19389933286891,119.78126265549007,null,3.6479033150408124,2.2841015082542437,-5.5322067502948542,2.8889172358777859,-0.19553346869898292,1.6866963430486548,-1.7586213332803746,null,131.31340925346584,76.639854161517746,75.410072918305445,120.34843322759417,162.41655678628339,206.87705029689977,69.850758304979962,null,147.93301252547977,59.929645746724432,108.85683987680579,120.23509596196024,125.94003936065317,153.02247462182856,58.315262968868375]
[null,"Febrero",88.70165675221071,128.10952527856622,68.959488382845635,100.24541661598531,128.34880653915246,135.70942716965862,120.74844324407492,null,-0.75642943071158042,2.3890665870008876,-4.3897523684284678,3.6586958374598799,9.8594091802395312E-2,2.616487625732411,1.3978925498426609,null,130.90479052545268,76.42894637827618,75.278574654021781,121.24955759130506,162.68090499394486,208.05885619895136,69.846280754107582,null,147.57874353027813,59.659066109320278,109.16347615007551,120.95271952011659,126.74905936450564,153.31201416011012,57.844456522659904]
[null,"Marzo",88.414222660131557,128.04460382623546,69.037841626431586,100.35839848704293,128.9678005222361,136.05027479148731,120.44092603899637,null,-5.0250125587757548,2.7088254841331594,-3.3069392728527713,4.3730675712104317,1.1785720799832422,4.3394884516819054,3.6163785873124743,null,130.02000307586422,76.459853828980002,75.138001654826638,121.75835742991241,163.51911498584209,208.09141187304832,70.115302932540274,null,147.05779134163433,59.713452612763597,108.83596573224787,121.32353571348828,126.7906518710062,152.95184974228999,58.215512980893514]
[null,"Abril",88.178456211660318,127.64188737497453,69.539720357124892,100.40099875524788,128.93822066618378,136.4187058629357,119.76836881373815,null,-4.0316660732147565,1.5950597745165496,-2.9130329146666578,4.4154635239727957,1.2433748814382417,4.5254146060075939,2.7034938210501736,null,129.25337843578865,76.041944488570493,75.843322810315669,121.89308515526022,163.64244866925796,207.79106002762845,70.035632585159874,null,146.58158465094198,59.574443822803637,109.06475093776378,121.40624761353678,126.91539236680032,152.31859788818323,58.475900839960651]
[null,"Mayo",88.873381015209986,127.80338759157182,69.275498863406966,100.21247482742017,129.05589210819099,136.38395784237119,119.08999413770721,null,-3.9992339367988072,1.732808515836215,-3.0194864993614789,4.3503352448123644,1.6975402027835429,4.3262592485869611,2.4240025947634969,null,129.42130249988486,76.086709054223277,75.520480204329161,121.9391869245851,164.48864141314198,208.09222720331314,70.010983916568691,null,145.6243714613889,59.53418801180581,109.01470425097285,121.68064618160699,127.45535188369918,152.57822877073301,58.788300749778323]
[null,"Junio",89.135588419818532,128.45140844319707,68.773303749961855,99.797955278753705,130.02883521649593,136.250437452206,119.10215608888372,null,-3.3271286654490195,2.6444431758709142,-4.3917099928131638,3.7054219065298932,2.9103797158718026,3.5716267447412298,2.5816208879123614,null,130.10766312009858,76.12731558827825,75.110851218442406,121.88689476201297,165.21419090380815,208.10796725721451,69.848591660011706,null,145.96601136159691,59.26545805213398,109.21512727020051,122.13365937364236,127.0596561360633,152.73930208863715,58.645950630721586]
[null,"Julio",89.30128300437876,128.77161296455199,68.379655107326784,99.470045842683945,131.41477180578812,136.35678044146212,118.94809392174945,null,-0.2746043021563449,2.6117461531144137,-4.635779522375949,3.066520506772541,2.5385486210393937,2.4535799562149352,-0.50785812766108718,null,129.58727316874277,76.082137786997592,75.075635455107445,121.79693964739933,166.58765041040715,208.77507338000564,69.920703764299475,null,145.1124427432791,59.08300442578237,109.79235759126138,122.4458465013943,126.7647830767453,153.10941832454944,58.782534010420648]
[null,"Agosto",89.130130173503801,129.01221342690178,68.162465711996347,99.567728093595406,131.8025429590993,135.97338348156421,119.32334317158075,null,-0.43045431442518822,3.0841718044821054,-5.0072649871025892,2.7774214296393485,2.7913585489902637,2.4570273090444017,-0.1250648971594992,null,129.3533742250535,75.981154679453084,75.006597788676146,122.08938800533502,167.22011865308122,209.05860576782996,69.91742770460101,null,145.12867194656815,58.894543904948918,110.04091035321109,122.61943738494152,126.87169374643446,153.74965336225154,58.594928574925518]
[null,"Septiembre",89.152651340260022,129.0392379298188,68.329165021332457,99.178235969393484,131.80890980665691,135.46617241252943,119.416126265141,null,-0.75745674834917232,2.7127069890459987,-3.5361671481871304,1.5899293761935329,2.3370522036926911,1.7168542956595534,0.19818244336931023,null,129.31724180279446,75.819120283735117,75.383318068688368,121.61041838790068,167.46958975962011,209.10393445081255,69.782032627423774,null,145.05148176608037,58.75663984079884,110.3237805483992,122.61804941300814,127.05483264012413,154.3587825114281,58.436021004806271]
[null,"Octubre",89.669446602943424,126.349800839762,68.287558426642448,100.46729446655615,132.7369207367945,135.12985515460051,119.83460693936402,null,-0.52607467596997859,0.33174332676915164,-2.2827589242121915,2.2710995247667176,2.5709423253659658,0.85528005476001034,0.35979034232964668,null,129.00070367315399,75.66624449322471,75.144324127146788,122.35573058637088,168.35024828214409,209.56162594439104,69.785913294292101,null,143.86249559938679,59.886318767676848,110.04101751253883,121.7866284108019,126.83000882321782,155.0816625272291,58.235191883763235]
[null,"Noviembre",89.647234855057192,126.79620413735181,67.591029914762927,101.17208325066852,132.96745550140662,135.54527392285499,120.16439735646414,null,0.16996828808781839,-0.21336730934652381,-2.7860662813226855,2.8520280374834117,3.6567654058798471,0.1611866015795993,-0.27398940362568514,null,128.74145185635481,75.731381034751621,74.725129629516019,122.89468693874331,169.10486644692753,210.31629460794531,69.911892816137566,null,143.60894908192722,59.7268518801365,110.55480249931047,121.47094632246909,127.1776359179398,155.16313370516033,58.180205080832714]
[null,"Diciembre",89.779461827219095,127.11391815352982,66.998686124875363,102.1622724849648,132.11259625688936,135.93703276631939,120.46685494643665,null,0.97769900842525903,-0.4131490519071912,-3.290305389266257,3.3827652710639367,3.0714456036133875,-0.27422502632468149,-0.27142663727227623,null,128.86072317518594,75.641749522329278,74.317595905124918,123.78485411678761,169.42298633917963,210.68599506291332,69.862501840328775,null,143.53029139691088,59.507055262798367,110.92396016036525,121.16493800096802,128.24135709947083,154.98793137929533,57.993131697006476]
[2016,"Enero",89.855901163813215,127.15191731131736,66.671520633423683,102.96106571447903,133.10985151435125,136.18217283264497,120.05551697672504,null,1.2284596670298464,-0.57171371406037341,-3.7575384153488378,2.8641028763109144,3.2152156819018174,0.73100450882237489,0.22896262333098605,null,128.38348432792191,75.2430258042031,74.711189591901402,123.43375206644561,170.57691927310151,211.02437330006515,69.748239046803661,null,142.87707614647408,59.175691090822411,112.05862545521015,119.88391068983231,128.14747919293617,154.95741396298192,58.096654617151522]
[null,"Febrero",89.920638131746088,127.51492893644209,66.60023970603136,103.02325795335823,132.33271555310768,137.32628725558075,119.83909659656827,null,{"$f":"(C259/C247-1)*100","v":1.3742487166171102},-0.46413125084275864,-3.4212096582218243,2.7710407429539785,3.1039704391329304,1.1914132419856172,-0.75309181888875143,null,128.17562545508051,75.002186323402498,74.713889291029844,123.99120439281177,171.08153526011631,211.3005288958397,69.65585719307596,null,142.54305587476549,58.818357151566325,112.18261318699683,120.35263381880854,129.28136065601856,153.86750280562381,58.124484555794496]
[null,"Marzo",90.549750333633227,127.36477183269383,66.910676151383541,102.74059553679332,131.30390848415269,137.14486240830058,118.96848107282042,null,2.415366678855202,-0.53093373186128279,-3.0811587166329479,2.3736897814864433,1.8113885423003628,0.80454642116001285,-1.2225453710802525,null,127.5787010484418,74.771462770164078,75.214809769105969,123.91268534987043,171.14292338583081,211.32188362816819,69.637896428672946,null,140.89348736840722,58.70654945967614,112.41077522357503,120.60732634695989,130.34107313453384,154.08662046634427,58.534744497618398]
[null,"Abril",90.685885673385485,127.83688364777051,66.957026319014233,102.3330670069238,131.25923506244965,137.52859112729277,118.34081631654865,null,2.8435851220919739,0.15276824622871832,-3.713983928677167,1.9243516256106208,1.8000980502708153,0.81358729899712046,-1.1919278114320808,null,127.6759331835739,74.728741472959484,75.351320096535176,123.58949678662401,171.24373567178168,211.41534631982154,69.561213232177792,null,140.78920025483555,58.456322886327463,112.53683778835494,120.77180954447697,130.46223802104933,153.72465069764377,58.780406792284758]
[null,"Mayo",91.201815287734618,128.62804931976919,65.984945668156996,102.67778321590842,131.76171179194921,137.86241075917525,118.46689175270794,null,2.6199456416833522,0.64525811384028575,-4.7499523630108786,2.4600813349174855,2.0966262288046877,1.084037257895698,-0.52321976292882821,null,128.22846330577937,74.953654289958934,74.432275526762623,124.05913988830706,172.441793571142,211.85971437536512,69.589469698728379,null,140.59858666324629,58.271624802164453,112.8019046966983,120.82374200408907,130.87397789991252,153.67474949023776,58.741702993264951]
[null,"Junio",92.298493907743648,128.53673561236891,65.52453859832282,102.62024179095386,132.20192106885358,136.82138431820735,117.99363303289584,null,3.5484204951093057,6.6427585501771524E-2,-4.7238753622343417,2.8280003375990903,1.6712338065164367,0.41904222597570762,-0.93073298787353931,null,129.47662111136117,74.711216765006952,74.121745708701297,124.57319024193214,172.43415655463531,211.15503816633202,69.151927547967304,null,140.280318377436,58.124408099420876,113.12059160474352,121.39241544148601,130.43241365972884,154.3289736604666,58.60649068131346]
[null,"Julio",92.485222858195755,129.2228146881788,64.641854598415279,103.1730757325397,133.01609327005076,137.10682731554073,118.16874327319888,null,{"$f":"(C264/C252-1)*100","v":3.5653909403080775},{"$f":"(D264/D252-1)*100","v":0.35038912167002501},{"$f":"(E264/E252-1)*100","v":-5.466246507158834},{"$f":"(F264/F252-1)*100","v":3.7227588049092208},{"$f":"(G264/G252-1)*100","v":1.2185247078837946},{"$f":"(H264/H252-1)*100","v":0.55006202966239037},{"$f":"(I264/I252-1)*100","v":-0.65520230115100331},null,130.57477697517493,74.647024536001283,73.458624524933654,125.12601468436901,173.25283634210936,210.89504066912568,68.866816087535881,null,141.18447568146158,57.76613418932898,113.63941362959365,121.27777891272615,130.2495300251899,153.81804451193892,58.27836886470056]
[null,"Agosto",92.913969934525284,129.80737884089956,63.831476106247877,103.408045834608,134.16574059222938,137.23421446666617,118.04439176347887,null,{"$f":"(C265/C253-1)*100","v":4.2452981429015324},{"$f":"(D265/D253-1)*100","v":0.61634894315514277},{"$f":"(E265/E253-1)*100","v":-6.3539215615350475},{"$f":"(F265/F253-1)*100","v":3.8569904270614908},{"$f":"(G265/G253-1)*100","v":1.7929833370995185},{"$f":"(H265/H253-1)*100","v":0.92726308106683142},{"$f":"(I265/I253-1)*100","v":-1.0718367203832124},null,131.27692229948804,74.750744541759445,72.736780052881599,125.62428510744664,174.11087126219019,210.92569304943879,68.788930719015866,null,141.28868069246894,57.585897819706275,113.95127371300453,121.48405290278043,129.77297370672761,153.6975992970558,58.273781321899364]
[null,"Septiembre",93.446950554291092,129.88069408266389,63.663073281842905,103.28208617649385,134.7593761078987,137.11747225850399,117.20511133557321,null,{"$f":"(C266/C254-1)*100","v":4.81679361126508},{"$f":"(D266/D254-1)*100","v":0.65209324415163028},{"$f":"(E266/E254-1)*100","v":-6.8288434931596083},{"$f":"(F266/F254-1)*100","v":4.1378535996211996},{"$f":"(G266/G254-1)*100","v":2.2384422309308594},{"$f":"(H266/H254-1)*100","v":1.21897579046224},{"$f":"(I266/I254-1)*100","v":-1.8515212297698036},null,131.50770699809266,74.642756131519434,72.503406299227976,125.98027717576447,174.76279608945026,211.26961358002188,68.667284190035602,null,140.72980040337316,57.470247336384183,113.8861235590183,121.97689051369736,129.68507360075765,154.07927968634135,58.587277813705917]
[null,"Octubre",93.978834554168714,129.81978900195395,62.944400053299724,104.21175088439331,135.0474454210129,137.61258505304863,117.11952815758715,null,{"$f":"(C267/C255-1)*100","v":4.8058598714312062},{"$f":"(D267/D255-1)*100","v":2.7463344929151257},{"$f":"(E267/E255-1)*100","v":-7.8244976046150221},{"$f":"(F267/F255-1)*100","v":3.727040165378015},{"$f":"(G267/G255-1)*100","v":1.7406797380812744},{"$f":"(H267/H255-1)*100","v":1.8372919112565222},{"$f":"(I267/I255-1)*100","v":-2.2656883942972272},null,131.6982280840362,74.572335261955175,72.091562973991273,126.66786005244481,175.31212570600619,212.30375509355656,68.59177066395506,null,140.13605160013589,57.442964462708204,114.53213139365211,121.54853841095429,129.81521061688164,154.27640939359947,58.5656139014351]
[null,"Noviembre",94.118693723567802,129.81139197198212,62.695147146172928,104.57259716553467,135.08179635799954,137.79361792695036,117.1651456724256,null,4.9878380250546694,2.3779795737135068,-7.2433912824882984,3.3611188043255913,1.5901190623073491,1.6587402415631392,-2.4959569972637929,null,131.70333865854258,74.397037224053221,72.053018773221794,127.07341641929084,175.63586518399495,212.63642313499506,68.484132176079513,null,139.93324115330702,57.311639674976078,114.92599037247828,121.51693642851595,130.02186076835793,154.31514632827316,58.450942712562181]
[null,"Diciembre",93.463055943308603,129.91246345823041,62.65586133701828,105.6772302759734,134.52609280664709,137.03715534541718,117.48194039594753,null,{"$f":"(C269/C257-1)*100","v":4.1029362853372886},{"$f":"(D269/D257-1)*100","v":2.2016041558253763},{"$f":"(E269/E257-1)*100","v":-6.4819551532140807},{"$f":"(F269/F257-1)*100","v":3.4405634345358704},{"$f":"(G269/G257-1)*100","v":1.8268481720431495},{"$f":"(H269/H257-1)*100","v":0.80928835705051938},{"$f":"(I269/I257-1)*100","v":-2.4777890580909623},null,130.97136675942411,74.131093589893155,71.881180090174666,128.59017207369129,176.08442838869328,212.93661659841678,68.553774131562108,null,140.13169742584358,57.062341531017047,114.72379208632135,121.68200447521316,130.89239768657933,155.38604553027002,58.352606281881627]
[2017,"Enero",94.020795195728269,128.72548408855695,62.625882481851932,106.25511688649971,134.96305545500934,136.8599209768995,117.03726227518236,null,4.6350812556230192,1.2375486036808159,-6.068015418180817,3.1993172848029605,1.3922365020881067,0.49767758154910524,-2.5140491478853333,null,131.28667846265188,73.651723411405541,71.442945657069117,128.52111957851412,179.36490602858606,212.63762226797033,68.325754506133791,null,139.6357882204093,57.21611686520184,114.07894440093878,120.95522864635183,132.89926300488827,155.3688039202224,58.379488017656925]
[null,"Febrero",95.269187862926984,129.62867537570725,61.633797669975067,105.98825197949353,135.20958503394925,137.87975216201579,116.87218580524753,null,5.9480780411550693,1.6576462512234436,-7.4570933347654744,2.8779851123303057,2.1739669354000624,0.40302910498482003,-2.4757452914625055,null,132.95475891259824,73.958635290253355,70.213668771139695,128.84115947174135,180.28174572182942,214.16789333111828,68.143895922055805,null,139.55693534817692,57.054224365015315,113.92072438421934,121.56173638628304,133.33503366389533,155.32947367026014,58.306341626577307]
[null,"Marzo",95.824424627343262,129.93824733412251,61.169535804506282,105.59937216665621,135.67992115070405,138.97312416444123,117.01315104951115,null,5.8251671310802555,2.020555185235362,-8.5803053818916624,2.7825190373157893,3.332736029772887,1.3330880384696098,-1.6435697973755103,null,133.01596967279818,74.17768494746025,69.808432176871932,128.69226244770852,181.06966254485505,215.46213342547992,68.247619594408178,null,138.81217673895887,57.086875088225675,114.12287384356648,121.86839732778643,133.45354346405844,155.03870602385848,58.324742973147458]
[null,"Abril",96.284207545656244,130.30210145987314,60.919308617119327,105.28656462395263,135.60866601011116,138.99867799054414,117.05232240546123,null,6.1733111285185993,1.9284088768113827,-9.0173026399476335,2.8861615345008751,3.3136189964783513,1.0689318135242765,-1.0887992420475223,null,133.594367762513,74.237703905949999,69.583401862241587,128.55020885953644,181.23222071549097,215.66959108630957,68.143861675864812,null,138.75003094268075,56.973527728416329,114.22224487079539,122.09554877079857,133.64353919828255,155.15945489854317,58.216582358630312]
[null,"Mayo",98.178464543953893,129.95029648446885,60.579198960171389,104.80824587061444,135.74109823590493,138.61881093614065,115.93575524431101,null,{"$f":"(C274/C262-1)*100","v":7.6496824478860415},{"$f":"(D274/D262-1)*100","v":1.0279617639326499},{"$f":"(E274/E262-1)*100","v":-8.1923939669079857},{"$f":"(F274/F262-1)*100","v":2.0749012960536328},{"$f":"(G274/G262-1)*100","v":3.0201386957078524},{"$f":"(H274/H262-1)*100","v":0.54866310026067122},{"$f":"(I274/I262-1)*100","v":-2.1365771237423115},null,136.32025373202407,73.982814702768707,69.293652337365472,128.09195904834635,181.23643644703384,214.31267603891172,67.345776908361572,null,138.84944561441407,56.931624401188522,114.38522385039049,122.21553560439853,133.51625911561612,154.60576713332358,58.088875831656985]
[null,"Junio",97.580041354449776,130.41545487299675,60.157300355607873,104.77413751937722,137.12663447209394,139.34872771163725,116.78857359167309,null,5.7222466186558352,1.4616204866860327,-8.1911881526050561,2.0988994869170385,3.725145113946926,1.8471844924124126,-1.0212919207994831,null,135.29403744662548,73.992820204232274,69.354405538925661,127.96454349226593,182.66026172621778,215.03947647852186,67.549070264904316,null,138.64929299956265,56.736235959372408,115.28842738778324,122.13371211822175,133.20553109862126,154.3175025777889,57.838766402846545]
[null,"Julio",98.569389927458531,131.52519299426467,58.893734566466321,105.13298734341703,137.64597002495057,139.65901994874511,117.23102107980655,null,6.5785288516754914,1.7817119303906503,-8.892257296234618,1.8996347612608711,3.4806891715727817,1.861462833889882,-0.79354503349873262,null,136.49294792516434,74.063110961093599,68.835502788651922,127.98882275481364,183.15639606359531,214.86195795933583,67.330880628322717,null,138.47397049491266,56.310969233341638,116.88085888145795,121.73992767535273,133.06339156198706,153.84753382788324,57.434354838969071]
[null,"Agosto",99.419562340997913,131.80568571956275,58.838372918767618,104.37659466149422,138.01891783244545,138.76506399696189,116.44394267960212,null,{"$f":"(C277/C265-1)*100","v":7.001737640805783},{"$f":"(D277/D265-1)*100","v":1.5394401277545544},{"$f":"(E277/E265-1)*100","v":-7.8223213562681915},{"$f":"(F277/F265-1)*100","v":0.93662811154493486},{"$f":"(G277/G265-1)*100","v":2.8719531701666412},{"$f":"(H277/H265-1)*100","v":1.1155013611183318},{"$f":"(I277/I265-1)*100","v":-1.3558027280817453},null,137.29426887048191,74.136548537081097,68.539851328236495,127.65253604775985,183.80274155286054,214.85403900862633,67.179149816250444,null,138.0958290679032,56.246851668309837,116.48835263147529,122.29996242141476,133.17213642842535,154.83294773195243,57.692266570786977]
[null,"Septiembre",99.214275090648997,131.17925553885368,59.443847385641234,104.1159034031422,137.99084700600682,138.07029453422004,115.9272442228234,null,6.1717632326666383,0.99981099220436409,-6.6274304376144784,0.80732027935945805,2.3979562620717099,0.69489486643956599,-1.0902827514843616,null,137.28010701755943,73.942256524665765,68.746859748615677,127.40141279154381,184.38573380546367,215.08870670129286,67.023984487181693,null,138.36729330747099,56.367339653612369,115.6500845287171,122.36498808278971,133.62171318322095,155.7820293111522,57.815559178095441]
[null,"Octubre",97.887218779989098,131.22768976870154,59.580029734769731,104.43609811022556,138.16279741304049,139.0116178262528,117.01218793729852,null,4.1587919709385357,1.0845039709056925,-5.3449875059276568,0.21528016171719067,2.3068574028301203,1.0166459504156844,-9.1650147483690603E-2,null,135.86750052456986,73.75759545136637,69.117673940785167,127.71930871598025,184.94982799901288,215.76351252187797,67.211037921745799,null,138.80004173981598,56.205817218431228,116.00812260160632,122.29421725539839,133.86369664049406,155.21257567950576,57.439348076938032]
[null,"Noviembre",97.585483765153171,131.72687822602779,59.162498085457401,105.05894115321574,137.57547796183661,139.13005782591495,118.07611226056372,null,{"$f":"(C280/C268-1)*100","v":3.6834234565213286},{"$f":"(D280/D268-1)*100","v":1.4755917989532907},{"$f":"(E280/E268-1)*100","v":-5.6346451384493896},{"$f":"(F280/F268-1)*100","v":0.46507785104659138},{"$f":"(G280/G268-1)*100","v":1.8460530368046069},{"$f":"(H280/H268-1)*100","v":0.96988519430056819},{"$f":"(I280/I268-1)*100","v":0.7775064699574008},null,134.94086236036151,73.731603491766251,68.987936335777505,128.42097647506526,185.65158736703358,216.74723097309032,67.420733640752985,null,138.27964688386118,55.973089535494424,116.60754459037163,122.23707479383295,134.94526067976537,155.78749434884378,57.09938475275397]
[null,"Diciembre",97.404819576242275,132.43163348100128,58.955244142893257,104.90864158426524,137.3151464239935,139.30583471665324,118.61078002689827,null,4.2174563983063074,1.9391288223711056,-5.9062585928231881,-0.72729829283092462,2.0732436058743531,1.655521355151901,0.96086226286884457,null,134.43616299185308,73.675188864345557,69.08631503943144,128.26565366989627,186.39389190677653,217.88074484430356,67.461773178097403,null,138.01797855251408,55.632621094955404,117.18434219690943,122.26414500550948,135.74168382797382,156.40460809661775,56.876595165126297]
[2018,"Enero",97.400984299694642,131.64819330829059,59.305404086244025,104.70998398042613,137.98307767715508,140.1820891123372,118.31323242566319,null,3.5951505163614561,2.2704977498650969,-5.3020863962597753,-1.4541727037240659,2.2376658649021719,2.427422222462372,1.0902255620784507,null,134.75557704081342,73.844482101799613,69.025826040805271,129.49547060802689,189.05058904593326,221.87181788589311,67.106429050886447,null,138.35135035820772,56.092286757686352,116.39044890483414,123.670604927448,137.00998138935779,158.27401295759867,56.719293079115019]
[null,"Febrero",97.406924818417409,131.59899997381498,59.68605757098431,103.7636257354481,138.06438412509377,141.55170885441035,117.86657898543928,null,2.2438912343476725,1.5199758791001106,-3.1601818687534755,-2.0989366297651912,2.1113881019808822,2.663158755957018,0.85083818133493416,null,134.86611726482795,73.738911423781019,69.149381361393097,129.11517877955168,189.35490715660066,223.43457777313819,66.960441180022158,null,138.45639569901286,56.033033258955832,115.85516647527625,124.43202313375107,137.14971341561554,157.84661279006281,56.810371316787069]
[null,"Marzo",96.789931748074608,131.74654736065048,59.852365868064766,103.59500284193744,138.36701624718532,142.26474605842017,118.02368784322361,null,1.0075793561883151,1.39166108796136,-2.153310335149683,-1.89808829692234,1.9804662868993184,2.3685312637025335,0.86360958973310531,null,133.75193225508093,73.580185949514572,69.454582402809763,129.24681784764277,189.91312738889079,225.17988972217591,67.078959498931695,null,138.18785677337931,55.849802081030631,116.04316954807032,124.76163357497485,137.25317820659012,158.28228423484981,56.835166503215703]
[null,"Abril",96.518390118535365,131.69482440220116,60.031491616593179,103.52170784854088,138.4508142122589,142.32471624583715,117.94930386809334,null,{"$f":"(C285/C273-1)*100","v":0.24322012804445237},{"$f":"(D285/D273-1)*100","v":1.0688415050289279},{"$f":"(E285/E273-1)*100","v":-1.4573655228198978},{"$f":"(F285/F273-1)*100","v":-1.6762412010641659},{"$f":"(G285/G273-1)*100","v":2.0958455574924928},{"$f":"(H285/H273-1)*100","v":2.3928560353065231},{"$f":"(I285/I273-1)*100","v":0.76630812973110807},null,133.04007117816082,73.476902172800465,69.611996947438513,129.34426719780575,190.55451347949378,226.02872274733738,67.15607050706133,null,137.83909057618217,55.7933104101336,115.95913257000798,124.94410098705575,137.63336428441275,158.81199605338995,56.936385637480512]
[null,"Mayo",96.536607333822431,131.26589699396465,59.961212786060187,104.07741604062988,138.75943373938412,141.89910722603537,117.86278130896847,null,{"$f":"(C286/C274-1)*100","v":-1.6723190953922606},{"$f":"(D286/D274-1)*100","v":1.0123874628120033},{"$f":"(E286/E274-1)*100","v":-1.0201293261033473},{"$f":"(F286/F274-1)*100","v":-0.69730184291679764},{"$f":"(G286/G274-1)*100","v":2.2235973796481456},{"$f":"(H286/H274-1)*100","v":2.3664149675947543},{"$f":"(I286/I274-1)*100","v":1.6621499213910651},null,132.561624334984,73.13238163997238,69.778809496918512,129.83836584350493,191.77753576261142,225.63744513113258,67.043289328681198,null,137.31746743138331,55.713161845330518,116.37324572784613,124.75171923255517,138.20864686058397,159.01258967874116,56.882493849294313]
[null,"Junio",96.730886893224479,130.95843491837635,59.935933651147018,104.31581734618744,139.10225556516022,141.54786221843619,117.4963536966047,null,{"$f":"(C287/C275-1)*100","v":-0.87021326230107832},{"$f":"(D287/D275-1)*100","v":0.41634639537804219},{"$f":"(E287/E275-1)*100","v":-0.36797978491769356},{"$f":"(F287/F275-1)*100","v":-0.43743635981257079},{"$f":"(G287/G275-1)*100","v":1.4407274711232931},{"$f":"(H287/H275-1)*100","v":1.5781518374173853},{"$f":"(I287/I275-1)*100","v":0.60603540497567998},null,132.59346241900511,72.745075840943329,69.977923532329214,130.2318976423995,192.52252531538031,224.83965710517819,66.786876386740644,null,137.07458566503914,55.548217177674594,116.75453983853978,124.84386448337526,138.40359707553139,158.84355551637111,56.841658728572597]
[null,"Julio",96.418951134567152,130.99949470769269,59.73355953577407,104.23410798607757,140.27391665001022,142.36112788924999,117.85183217374529,null,{"$f":"(C288/C276-1)*100","v":-2.1816496931491458},{"$f":"(D288/D276-1)*100","v":-0.39969398607527795},{"$f":"(E288/E276-1)*100","v":1.4260005338257775},{"$f":"(F288/F276-1)*100","v":-0.85499269073678885},{"$f":"(G288/G276-1)*100","v":1.9092070945362805},{"$f":"(H288/H276-1)*100","v":1.9347894188979309},{"$f":"(I288/I276-1)*100","v":0.529562131439687},null,132.36294469305417,72.683374886555114,69.879054507179461,130.37456401085089,193.48675566896202,225.5800451801054,66.784645945978767,null,137.27897175351117,55.483706291186877,116.98458128102899,125.07860097796863,137.93494919780434,158.4562081831746,56.668313690295655]
[null,"Agosto",96.606890141233123,130.73134447073511,59.714061886630873,103.83796284897787,141.25559784936056,142.78827326082111,117.68797277132042,null,{"$f":"(C289/C277-1)*100","v":-2.8290933228187432},{"$f":"(D289/D277-1)*100","v":-0.81509476845593731},{"$f":"(E289/E277-1)*100","v":1.4882956894002319},{"$f":"(F289/F277-1)*100","v":-0.51604654689416662},{"$f":"(G289/G277-1)*100","v":2.3450988224994029},{"$f":"(H289/H277-1)*100","v":2.8992955056377223},{"$f":"(I289/I277-1)*100","v":1.0683510563888055},null,132.30105640468915,72.53092478050273,70.057252128863865,130.19033848122029,193.95625873642678,225.93726229112491,66.670029191585186,null,136.94784731324384,55.480898688943839,117.32119690981646,125.37836347056361,137.30872382365183,158.23236539769724,56.64982378541923]
[null,"Septiembre",97.921795163468005,129.662143126063,60.417403663475582,103.17894121939872,139.90832555819492,141.67673570308912,116.30397780684473,null,{"$f":"(C290/C278-1)*100","v":-1.3027156888462788},{"$f":"(D290/D278-1)*100","v":-1.1565185414101786},{"$f":"(E290/E278-1)*100","v":1.6377746741700783},{"$f":"(F290/F278-1)*100","v":-0.89992225310240315},{"$f":"(G290/G278-1)*100","v":1.3895693763693151},{"$f":"(H290/H278-1)*100","v":2.6120326468741295},{"$f":"(I290/I278-1)*100","v":0.32497415646075556},null,134.06556783045102,71.741112270454622,71.224251460261016,129.00800275492062,192.62389547297562,223.80349984063318,65.683061628625524,null,136.91085585864266,55.329266153425294,117.88697815778295,125.03326864015712,137.67865114850056,157.96771342167037,56.475335467640328]
[null,"Octubre",99.768630780355579,129.06380667024243,60.615427134162225,102.37310227736073,139.03194302959187,140.93416964079503,115.02069573686893,null,{"$f":"(C291/C279-1)*100","v":1.9220200796542519},{"$f":"(D291/D279-1)*100","v":-1.648953130450681},{"$f":"(E291/E279-1)*100","v":1.7378262548738865},{"$f":"(F291/F279-1)*100","v":-1.9753666310737383},{"$f":"(G291/G279-1)*100","v":0.62907355150971789},{"$f":"(H291/H279-1)*100","v":1.3830152073657453},{"$f":"(I291/I279-1)*100","v":-1.7019527927268019},null,136.67512057772007,71.282319327825817,71.457731051279396,128.3340837655505,191.76132662578436,222.3686278339004,64.777105054455191,null,136.99207807974784,55.230293578703971,117.88703706256088,125.35918215885786,137.92609270012824,157.78191222232397,56.317782325577973]
[null,"Noviembre",102.31831879033831,128.84941674524845,60.184478888168066,101.9622653270382,137.99030714527532,140.59055467793718,113.83555685507089,null,{"$f":"(C292/C280-1)*100","v":4.8499375548263446},{"$f":"(D292/D280-1)*100","v":-2.1844148434474908},{"$f":"(E292/E280-1)*100","v":1.7274132022526478},{"$f":"(F292/F280-1)*100","v":-2.9475604762296381},{"$f":"(G292/G280-1)*100","v":0.30152843339841251},{"$f":"(H292/H280-1)*100","v":1.0497349565179226},{"$f":"(I292/I280-1)*100","v":-3.591374516240009},null,140.85396245427165,70.950775438735917,70.66552970142088,128.61454285303594,191.2294992000231,220.86354293396249,63.709339561335511,null,137.66250669432634,55.064879012230641,117.41487341400465,126.13935404486362,138.58183459124987,157.09699946764812,55.966115791436508]
[null,"Diciembre",100.23937965179734,129.48202854759086,60.417300057058597,102.24884317101893,137.75869779746969,141.66221643112368,115.30039790475649,null,{"$f":"(C293/C281-1)*100","v":2.910081952707011},{"$f":"(D293/D281-1)*100","v":-2.2272661416908202},{"$f":"(E293/E281-1)*100","v":2.4799420906843617},{"$f":"(F293/F281-1)*100","v":-2.5353473013087213},{"$f":"(G293/G281-1)*100","v":0.32301707788784384},{"$f":"(H293/H281-1)*100","v":1.6915168838859573},{"$f":"(I293/I281-1)*100","v":-2.7909622728988448},null,138.29729906019381,70.848021607867011,71.089082476313493,129.25370423954178,192.16066936784756,221.97692406339277,64.180848806982382,null,137.96703405447909,54.716490313423662,117.66345468793935,126.41092087795572,139.49077077540224,156.6945157683017,55.664030630665096]
[2019,"Enero",101.53665065339113,130.61320585247094,59.336736918878863,100.38176770172156,139.54880610177133,144.77156774958871,116.37065891400836,null,{"$f":"(C294/C282-1)*100","v":4.2460211089565547},{"$f":"(D294/D282-1)*100","v":-0.78617672587115717},{"$f":"(E294/E282-1)*100","v":5.28330143223954E-2},{"$f":"(F294/F282-1)*100","v":-4.1335277823303489},{"$f":"(G294/G282-1)*100","v":1.1347249611866506},{"$f":"(H294/H282-1)*100","v":3.2739408196247322},{"$f":"(I294/I282-1)*100","v":-1.6418903209963087},null,139.74619175665435,70.450170476251188,71.232398625464583,128.56829322154979,189.53703278514632,227.3793230828343,64.610281070019553,null,137.6312797963925,53.938014932292091,120.04771803149315,128.07932771574895,135.82132164349665,157.06075897177004,55.521109593237824]
[null,"Febrero",102.31255357343827,130.59109836197786,59.314660998573707,99.804353766671269,139.69710547598362,144.49839158209485,115.99264772481649,null,{"$f":"(C295/C283-1)*100","v":5.0362217718768587},{"$f":"(D295/D283-1)*100","v":-0.76588850374066375},{"$f":"(E295/E283-1)*100","v":-0.6222501326526797},{"$f":"(F295/F283-1)*100","v":-3.8156646326827914},{"$f":"(G295/G283-1)*100","v":1.1825796792100496},{"$f":"(H295/H283-1)*100","v":2.0817005683168688},{"$f":"(I295/I283-1)*100","v":-1.589874989800355},null,140.56913044517196,70.320558034982156,71.09997769397819,128.6195556603424,189.76148481879196,227.29953249224778,64.354167135132855,null,137.39186984935699,53.847895390285103,119.86914617228931,128.87168826425858,135.83780721313175,157.30246544862786,55.481246783682451]
[null,"Marzo",102.06254466920925,131.12425999324239,59.317183501921164,100.18324626527091,137.94966010191874,144.5115494988444,116.35037256069505,null,{"$f":"(C296/C284-1)*100","v":5.4474807719239182},{"$f":"(D296/D284-1)*100","v":-0.47233675559223975},{"$f":"(E296/E284-1)*100","v":-0.89417077901871034},{"$f":"(F296/F284-1)*100","v":-3.2933601844406524},{"$f":"(G296/G284-1)*100","v":-0.30162979341911145},{"$f":"(H296/H284-1)*100","v":1.5793114616755366},{"$f":"(I296/I284-1)*100","v":-1.4177791874723567},null,139.2833371824598,70.509047120278311,70.78271111770249,129.25774359671311,190.59056983204187,228.47567212541392,64.771908313718043,null,136.46861111868742,53.772694026194742,119.32918412319759,129.02131685217816,138.15950665716136,158.10201531832649,55.669704263241002]
[null,"Abril",101.58758962142741,132.26592282663975,58.976554459750467,100.08880347654714,137.49606486469597,145.09855947162282,117.21836564800162,null,{"$f":"(C297/C285-1)*100","v":5.2520555892680232},{"$f":"(D297/D285-1)*100","v":0.43365289944456986},{"$f":"(E297/E285-1)*100","v":-1.7573062544911311},{"$f":"(F297/F285-1)*100","v":-3.3161203030153907},{"$f":"(G297/G285-1)*100","v":-0.68959460657213034},{"$f":"(H297/H285-1)*100","v":1.9489539828025482},{"$f":"(I297/I285-1)*100","v":-0.61970541251277211},null,138.62826090201077,70.723927731248466,70.453796347237855,129.7092057402802,190.77912800988938,229.35921182906642,65.077832582094359,null,136.46180741035175,53.471012200131049,119.46068567861185,129.59412165484997,138.75242771320546,158.07132246128373,55.518460970116614]
[null,"Mayo",100.20362772522415,132.42039518751753,59.267597795457711,100.09376913017518,137.66472578864222,145.88387704343694,118.047147952684,null,{"$f":"(C298/C286-1)*100","v":3.798580137295704},{"$f":"(D298/D286-1)*100","v":0.87951114492894611},{"$f":"(E298/E286-1)*100","v":-1.1567727842284881},{"$f":"(F298/F286-1)*100","v":-3.8275805280365227},{"$f":"(G298/G286-1)*100","v":-0.78892506350088931},{"$f":"(H298/H286-1)*100","v":2.8081711684444288},{"$f":"(I298/I286-1)*100","v":0.15642482017477199},null,136.53576589649563,70.661116379722927,70.82148033890256,129.89195187146692,192.08194081073188,230.03019473732502,65.465512340295433,null,136.25830620713708,53.36120337026734,119.49443367574844,129.77026742048074,139.52880064980249,157.68034096655759,55.45708937121929]
[null,"Junio",98.845496422286601,132.83114541666691,59.044060843682345,100.38292742526026,138.7475901428478,147.15643157957163,119.25258300371561,null,{"$f":"(C299/C287-1)*100","v":2.1860747864292041},{"$f":"(D299/D287-1)*100","v":1.4300037255773335},{"$f":"(E299/E287-1)*100","v":-1.4880435710833417},{"$f":"(F299/F287-1)*100","v":-3.7701760106766069},{"$f":"(G299/G287-1)*100","v":-0.2549674129089019},{"$f":"(H299/H287-1)*100","v":3.9623130107611981},{"$f":"(I299/I287-1)*100","v":1.4947096244754876},null,134.87780243621154,70.528430854362284,71.15604084765927,130.08942840831696,193.29307762848498,231.01561613313075,65.715699835828786,null,136.4531590392223,53.096305563825076,120.51346033946257,129.59318057861441,139.31274584984129,156.98642162861506,55.106311478201896]
[null,"Julio",96.700516675303319,133.81864880594705,59.095723888524496,100.52302569632108,139.56223815554,148.2638340313496,120.52734659890976,null,{"$f":"(C300/C288-1)*100","v":0.29202302806965452},{"$f":"(D300/D288-1)*100","v":2.1520343300139633},{"$f":"(E300/E288-1)*100","v":-1.0678011694039036},{"$f":"(F300/F288-1)*100","v":-3.5603339074501195},{"$f":"(G300/G288-1)*100","v":-0.50734912909424779},{"$f":"(H300/H288-1)*100","v":4.1462906550527201},{"$f":"(I300/I288-1)*100","v":2.2702357492584646},null,132.74861761972826,70.724603347503319,71.060369881987995,130.48815770974289,194.75585622100746,233.271347684364,66.31263963537674,null,137.27808514763748,52.851081653097843,120.24621276495921,129.80922212185109,139.54767334983194,157.33529974345601,55.018750106605751]
[null,"Agosto",94.977985839630122,133.94725713127801,59.600380865307798,100.40943018836046,140.01943471640547,148.59558903735959,121.44225818801704,null,{"$f":"(C301/C289-1)*100","v":-1.6861160722818513},{"$f":"(D301/D289-1)*100","v":2.4599400194058152},{"$f":"(E301/E289-1)*100","v":-0.19037562967815225},{"$f":"(F301/F289-1)*100","v":-3.3018104039693741},{"$f":"(G301/G289-1)*100","v":-0.87512505824609566},{"$f":"(H301/H289-1)*100","v":4.067081731516331},{"$f":"(I301/I289-1)*100","v":3.19003321094804},null,130.6558163506358,70.77506994739656,71.165617647417562,130.96468125682628,195.94856148218486,235.38067703432134,66.813850801757283,null,137.56431576812707,52.838013605632753,119.40463569896691,130.4306587649651,139.94383128246298,158.40354250027059,55.016970038811372]
[null,"Septiembre",96.226385168905907,133.21006387498005,59.992714846005647,99.804522877029996,139.49320017855169,148.12012509409615,120.04399414164476,null,{"$f":"(C302/C290-1)*100","v":-1.7313918640194714},{"$f":"(D302/D290-1)*100","v":2.7362811252221952},{"$f":"(E302/E290-1)*100","v":-0.70292464044872105},{"$f":"(F302/F290-1)*100","v":-3.2704525773271875},{"$f":"(G302/G290-1)*100","v":-0.29671242078481708},{"$f":"(H302/H290-1)*100","v":4.5479516160722433},{"$f":"(I302/I290-1)*100","v":3.2157252101999267},null,132.45455324055234,70.422640165205863,71.250663817233047,130.69888773222056,195.27455446332732,235.97432456156503,66.134329172610947,null,137.64889225346587,52.865855714399125,118.76552678125209,130.9548745533865,139.98858310897975,159.31280399044883,55.091743360835174]
[null,"Octubre",96.755347344928666,133.10713259070675,59.872443677545533,99.570573012860777,139.38810396762253,149.99948057709727,119.69499589688324,null,-3.0202714138282349,3.1328116106128956,-1.2257332691432143,-2.7375640692288705,0.25617202081025248,6.4323016621216755,4.0638774874981021,null,132.66857896711193,70.125831932907218,71.531436378328564,130.35518893236841,195.37881705512606,240.06930513641294,65.801095895274543,null,137.11756777034154,52.68375222876918,119.47305301847166,130.91738350800836,140.16893227883293,160.0467576372848,54.97397397629048]
[null,"Noviembre",96.190762432787153,133.86599205880626,59.380898007562038,99.875480761734607,139.66175493322183,150.87765147476142,120.70868134964361,null,-5.9887187651188949,3.8933628418948985,-1.3351962091408986,-2.0466243650142046,1.2112791271540635,7.3170611072627123,6.0377659533244143,null,131.73169072160053,70.334445612294928,71.091495211296888,130.76197723374031,196.80509914072033,241.7372330466761,66.160616489543486,null,136.94837985471571,52.540936297993866,119.72115208201049,130.92500405148417,140.91552782994967,160.22070245911371,54.810155947195938]
[null,"Diciembre",95.32620157456914,134.61629731361006,59.152171068341914,100.04328415972742,139.30062662938906,151.82577620118514,122.02876164292962,null,-4.9014450152177318,3.9652365842663073,-2.0939846493005843,-2.1570503322003831,1.1192968985423102,7.1745028604737193,5.8355078216911993,null,129.89843551482622,70.468725279355652,71.103943441758119,131.14862686445829,197.85897627596469,243.21872272644427,66.671194225180159,null,136.26729416383267,52.347841001143827,120.20512883560545,131.0918848436329,142.0373914055468,160.1959356388561,54.635639440698291]
[2020,"Enero",96.225842554521861,135.60274177235308,59.309012024228657,97.330162220802734,139.35263731700928,151.93128929428306,122.43154645252257,null,-5.2304345915431316,3.8200853331154638,-4.6724670229358889E-2,-3.0399997437647097,-0.14057360305826938,4.9455301589870881,5.2082609096446575,null,131.39339608949351,69.873861301014344,71.2298000291336,128.37177023329372,191.04339911182493,247.6087930220213,66.637551600922663,null,136.54689073264868,51.528354359026942,120.09945470013075,131.89310210135079,137.09349373648797,162.97419325022369,54.42841614907141]
[null,"Febrero",96.113353724911505,136.01579066373313,59.199753667537514,96.922173742549219,139.61845257628491,152.96785793158341,122.8246653142353,null,-6.0590803689373978,4.1539525816062017,-0.193725006771861,-2.8878299546532649,-5.6302454822321213E-2,5.8612876287115867,5.8900436565835212,null,131.72095181021928,69.961673498246199,70.750312455855791,128.5868850991921,191.73706338836865,248.96535452425434,66.635301266863507,null,137.04750350010798,51.436434811609409,119.51116022067517,132.67024472723102,137.32931417758488,162.75664567101862,54.252377644492967]
[null,"Marzo",95.901795516229186,135.80585518682111,59.204280604153666,96.676471024114349,140.02835190212082,154.74732899969482,123.30372068244942,null,{"$f":"(C308/C296-1)*100","v":-6.0362488246274992},{"$f":"(D308/D296-1)*100","v":3.5703501349178213},{"$f":"(E308/E296-1)*100","v":-0.19033759039459586},{"$f":"(F308/F296-1)*100","v":-3.5003609604255748},{"$f":"(G308/G296-1)*100","v":1.5068480768030357},{"$f":"(H308/H296-1)*100","v":7.0830183029296556},{"$f":"(I308/I296-1)*100","v":5.9762147457904424},null,131.3497625769663,69.742341617692929,71.097118494104066,128.55866307856729,191.75555045187642,250.23900885141691,66.531833799097555,null,136.96277725555029,51.354443828472625,120.08780069378298,132.97823319026659,136.94051800731947,161.70812799742114,53.957685486588439]
[null,"Abril",95.609485252275647,136.35979826711429,58.701925315704194,96.406609219666336,140.47364477736238,157.18640107895533,124.82074823666179,null,{"$f":"(C309/C297-1)*100","v":-5.8846798033397096},{"$f":"(D309/D297-1)*100","v":3.095185330419814},{"$f":"(E309/E297-1)*100","v":-0.46565816969470486},{"$f":"(F309/F297-1)*100","v":-3.6789272415906349},{"$f":"(G309/G297-1)*100","v":2.1655746406971987},{"$f":"(H309/H297-1)*100","v":8.3307798859964208},{"$f":"(I309/I297-1)*100","v":6.4856582384790862},null,130.59862778754706,69.58527426957987,71.238255916878757,128.94267161239554,191.90174818306792,252.29960524062602,66.576342022284749,null,136.59589050495239,51.03063744144719,121.35591044714984,133.74878823773844,136.61049977539508,160.50981733075943,53.337560431904429]
[null,"Mayo",95.76528535391212,135.79951788158945,58.397154610936852,97.149819449724674,140.11399629723539,160.6748384843132,124.62091587960781,null,{"$f":"(C310/C298-1)*100","v":-4.429323041559674},{"$f":"(D310/D298-1)*100","v":2.5518143857574449},{"$f":"(E310/E298-1)*100","v":-1.4686662137461726},{"$f":"(F310/F298-1)*100","v":-2.9411917505292484},{"$f":"(G310/G298-1)*100","v":1.779156203277199},{"$f":"(H310/H298-1)*100","v":10.138859578342752},{"$f":"(I310/I298-1)*100","v":5.5687647189567979},null,130.54235973329384,69.518011175660689,71.022530656111854,128.92222080738455,192.60908728304577,257.7638258561725,66.478258204256278,null,136.3149070676904,51.191647997069488,121.61984796911744,132.70453978980598,137.46598653459873,160.42575694347948,53.344382630343333]
[null,"Junio",97.508386034738777,135.83809199474015,57.680385176546324,96.823644808701573,140.20501806585744,165.7247542406615,123.57244206768488,null,{"$f":"(C311/C299-1)*100","v":-1.3527276769752183},{"$f":"(D311/D299-1)*100","v":2.2637360903882797},{"$f":"(E311/E299-1)*100","v":-2.3095899022703037},{"$f":"(F311/F299-1)*100","v":-3.5457051391619809},{"$f":"(G311/G299-1)*100","v":1.0504167470650527},{"$f":"(H311/H299-1)*100","v":12.618084348592973},{"$f":"(I311/I299-1)*100","v":3.6224448604477377},null,131.73233015600445,69.357240300573025,70.787334334123614,128.07584749134372,193.03027604040744,268.7594677689072,65.934307455746705,null,135.0984623097678,51.058756260547767,122.72340782305795,132.27744911316694,137.67715214710557,162.1721926819823,53.356805411057763]
[null,"Julio",98.27903110611102,136.54540372336152,57.445995894460474,95.734439107970729,141.11617924495167,163.95705554579661,123.92052896216694,null,{"$f":"(C312/C300-1)*100","v":1.6323743502922206},{"$f":"(D312/D300-1)*100","v":2.0376494171366},{"$f":"(E312/E300-1)*100","v":-2.791619910056431},{"$f":"(F312/F300-1)*100","v":-4.7636713630334064},{"$f":"(G312/G300-1)*100","v":1.1134395019373411},{"$f":"(H312/H300-1)*100","v":10.584659176646372},{"$f":"(I312/I300-1)*100","v":2.8152800663147293},null,132.74797999596507,69.33467559902563,70.674504101728374,127.31293860126382,193.89012268646667,270.241702996448,65.639981379454596,null,135.07253633039809,50.777744038529789,123.0277289152951,132.98551679785621,137.39751439125146,164.82468662104262,52.969416713428132]
[null,"Agosto",100.04479525361232,137.44235328756454,57.034982443844314,94.60245080066511,142.15010308295857,162.31504618062164,122.78014703476877,null,{"$f":"(C313/C301-1)*100","v":5.3347197976355121},{"$f":"(D313/D301-1)*100","v":2.6093077463027692},{"$f":"(E313/E301-1)*100","v":-4.3043322613341761},{"$f":"(F313/F301-1)*100","v":-5.7833008083024602},{"$f":"(G313/G301-1)*100","v":1.5216947353547949},{"$f":"(H313/H301-1)*100","v":9.2327485843558534},{"$f":"(I313/I301-1)*100","v":1.1016666411789},null,135.11884818791637,69.269007125185951,70.604192378322594,126.13821809398999,194.10745162245513,269.51961971872078,65.033683090076138,null,135.0583484581999,50.398589276376462,123.79103026434397,133.33504261932202,136.55104527724072,166.04721870257399,52.96758853991269]
[null,"Septiembre",100.6385114139382,137.59158535068104,57.292628491084592,93.775531520957898,142.39656892952064,160.88974868064648,122.14192903046388,null,4.5851522295965896,3.2891820244250747,-4.5006903952452664,-6.0407997376035416,2.0813693766094987,8.6211266554346864,1.7476383586034983,null,136.18869609102862,69.057778213471124,71.014231598974419,125.39642016470336,193.74657002724899,268.3792743155289,64.622323170050748,null,135.32463286431997,50.190408110687066,123.95003243746281,133.71976477326447,136.06126291086699,166.80943100249397,52.907567190897275]
[null,"Octubre",101.84846193188639,138.00249692219549,56.925519928616922,93.153579659531275,142.65696530105208,160.05917007461383,122.16546456322013,null,5.2639101886544637,3.6777625933401836,-4.9220034592204591,-6.4446684990962844,2.3451508703991486,6.7064828883497629,2.0639698826383501,null,137.33753848212649,68.991479832811891,71.151823764312184,124.68035379567559,193.65060055195346,267.67705119368577,64.304296130825435,null,134.84498035323719,49.992921411928251,124.99108282811413,133.84386756941825,135.74563298980067,167.23631083986274,52.637049562847793]
[null,"Noviembre"]
[null,"Diciembre"]
["Notas:"]
["El ITCER REGIÓN CAPARD incluye dentro de los socios comerciales al resto de países Centroamericanos, República Dominicana y Panamá.\n"]
["Valores sobre (bajo) 100 significan una depreciación (apreciación) real de la moneda. El índice se descompone en efecto precio y efecto tipo de cambio, los cuales divididos generan el índice."]
["Fuente: Cálculos de la Secretaría Ejecutiva del Consejo Monetario Centroamericano"]
[{"$f":"TODAY()","v":"2021-02-19"}]

{"sheet":"ITCER BILATERAL","index":7,"n_rows":334,"n_cols":33,"rows_kept":334,"cut":false,"hidden":false,"merged":[[3,2,3,8],[3,10,3,16],[3,18,3,24],[3,26,3,32],[331,0,331,17]]}
[]
["Secretaría Ejecutiva"]
["Consejo Monetario Centroamericano"]
[null,null,"ITCER BILATERAL con USA\nPeriodo de referencia Diciembre 2000=100",null,null,null,null,null,null,null,"VARIACION INTERANUAL",null,null,null,null,null,null,null,"EFECTO TIPO DE CAMBIO",null,null,null,null,null,null,null,"EFECTO PRECIO"]
["Año","MES","COSTA RICA ","EL SALVADOR ","GUATEMALA ","HONDURAS","NICARAGUA ","REPÚBLICA\nDOMINICANA","PANAMÁ",null,"COSTA RICA","EL\nSALVADOR","GUATEMALA","HONDURAS","NICARAGUA","REPÚBLICA\nDOMINICANA","PANAMÁ",null,"COSTA\n RICA","EL\nSALVADOR","GUATEMALA","HONDURAS","NICARAGUA","REPÚBLICA\nDOMINICANA","PANAMÁ",null,"COSTA\n RICA","EL\nSALVADOR","GUATEMALA","HONDURAS","NICARAGUA","REPÚBLICA\nDOMINICANA","PANAMÁ"]
[1995,"Enero",85.619030667544379,112.49084356097362,97.824269357465923,129.3748615746282,87.988160933217259,74.090194997468373,92.370002908573923,null,null,null,null,null,null,null,null,null,52.216031114470596,100.11481056257175,74.144753538816914,60.872036536440611,54.867081974617918,77.858439201451901,100,null,60.986477781118033,88.998186335322799,75.793822970330439,47.050899839090746,62.357346025520258,105.08602279169637,108.26025425048226]
[null,"Febrero",85.803286863165809,111.7150925819045,98.219398373736595,122.02254278340142,88.422214539053797,74.095780214207949,92.738745435155053,null,null,null,null,null,null,null,null,null,52.892078474482894,100.11481056257175,73.903264568323891,60.012822122788343,55.371865909861469,77.858439201451901,100,null,61.643417645331191,89.616190837573782,75.243043423166867,49.181750153588681,62.622120695026418,105.07810158198787,107.82979598308474]
[null,"Marzo",92.800746965121618,110.84438751979761,97.710242087071862,121.39560881893615,89.028875529819913,73.738318651651355,92.785154151896094,null,null,null,null,null,null,null,null,null,53.696674605346551,100.11481056257175,73.629015968053537,60.343289204962304,55.8814133677783,77.858439201451901,100,null,57.86233016586386,90.32014412519581,75.354450460209705,49.707967027839906,62.767740281141727,105.58748914423246,107.77586232846332]
[null,"Abril",93.991306750000291,110.52219773305002,97.866117161606311,118.62374741159626,90.19811482016037,74.085008383347585,92.91789972551048,null,null,null,null,null,null,null,null,null,54.513836396727811,100.11481056257175,74.068098594832009,60.277195788527493,56.413119313371581,77.858439201451901,100,null,57.998806785104783,90.583441712210828,75.683086999889198,50.813767988107749,62.543568040030209,105.09337975448281,107.62189017983705]
[null,"Mayo",94.654325064215726,109.96540733866047,96.776685191466484,117.12259887416035,90.600147779255877,73.916585496321602,92.841593156909994,null,null,null,null,null,null,null,null,null,55.2693877924739,100.11481056257175,74.17751316859426,60.475476037831868,56.949903519650668,77.858439201451901,100,null,58.390768467238921,91.04209495104962,76.648123483294356,51.634335831984345,62.858510626723415,105.33284063199385,107.71034468461964]
[null,"Junio",94.841103104849992,109.23118770800374,96.061714490640341,117.92729794255864,89.986271523546421,73.597325186591846,92.851844736870277,null,null,null,null,null,null,null,null,null,56.094820596347127,100.11481056257175,74.412786873358769,61.334690451484121,57.491764335685545,77.858439201451901,100,null,59.146107288874994,91.654052897601133,77.463521516273872,52.010595953245463,63.889483764911702,105.7897675004585,107.69845260843944]
[null,"Julio",94.530960078658026,106.45671914342638,96.072865267208925,117.99491274105621,89.760995444742008,73.114444543539719,92.765711300194155,null,null,null,null,null,null,null,null,null,56.85603860212769,100.11481056257175,74.578268323380286,62.193904865136382,58.038774402396307,77.858439201451901,100,null,60.145415380123602,94.042735271307436,77.626776422202667,52.708971446610583,64.659236581356424,106.48845065777274,107.79845117167845]
[null,"Agosto",94.976819671802957,106.00164850705254,96.442351754255697,118.57611259046642,92.340933947082661,72.490012467389235,92.836792252022249,null,null,null,null,null,null,null,null,null,57.607652873846206,100.11481056257175,75.123269436948718,63.119212695223439,58.60012362163851,77.858439201451901,100,null,60.65443449560879,94.446465665966386,77.89448107649838,53.23096812359006,63.460613962622659,107.40574673852863,107.71591475126795]
[null,"Septiembre",94.763171479100464,104.81891304757143,97.372992717238859,117.80280449383781,92.436679622242039,71.52501455166184,93.105152706316076,null,null,null,null,null,null,null,null,null,58.42997599405598,100.11481056257175,76.125740005075798,63.912333692440896,59.157712022336398,77.858439201451901,100,null,61.658949444238907,95.512162501756947,78.1795217346735,54.253660570350938,63.998092817801641,108.85483867356014,107.40544115257779]
[null,"Octubre",93.625684518707061,104.68716061690999,97.435052492482512,117.70742676903714,90.161544222966612,71.242292219002408,93.582482203652191,null,null,null,null,null,null,null,null,null,59.256666914220524,100.11481056257175,76.989920910743621,64.837641522527932,59.720618068570339,77.858439201451901,100,null,63.291037303316742,95.632367878358821,79.016656676696186,55.083730315293437,66.237350505979762,109.28682496923474,106.85760587369562]
[null,"Noviembre",92.744576881885934,104.16644321122232,96.778771061769831,118.73786984046144,88.434118465075088,70.547887342352951,93.521595748087051,null,null,null,null,null,null,null,null,null,60.127859883147792,100.11481056257175,77.526117064529998,66.357790100528064,60.288815345460392,77.858439201451901,100,null,64.831672001397038,96.110424313485566,80.106531849891255,55.885952973291253,68.173705343452923,110.36253831900378,106.92717462751962]
[null,"Diciembre",92.942406046237792,103.98199873383447,95.22894123305511,119.30394908405027,90.066511493697377,95.585013251632233,93.114878730847437,null,null,null,null,null,null,null,null,null,60.990018831050605,100.11481056257175,76.713471070527731,67.745751845658646,60.862483804376666,77.858439201451901,100,null,65.621304015638202,96.280906100716834,80.556887514674543,56.784165457868795,67.575042926621691,81.454651260533652,107.39422245187507]
[1996,"Enero",93.426294067201141,102.99270670120748,97.386071396479352,121.73435290966532,91.049224558760471,96.219557105115555,93.660829159888237,null,{"$f":"(C18/C6-1)*100","v":9.1186075558038926},{"$f":"(D18/D6-1)*100","v":-8.4434755390716205},-0.44794401620862345,-5.905713499492748,3.4789494326021408,29.868138568677448,1.3974517816048415,null,61.722100084337882,100.11481056257175,78.865247859617867,69.067620174354431,61.451098132600023,77.858439201451901,100,null,66.065020239314464,97.20572822016922,80.98206111892604,56.736343130362734,67.492170779490067,80.917478259014487,106.76821985986284]
[null,"Febrero",93.872178103181625,103.08253836169234,98.163107798191646,121.25478366213557,91.264250736307076,96.409544008446261,93.964134953799771,null,{"$f":"(C19/C7-1)*100","v":9.4039418943048467},-7.7272945138394444,-5.7311057160780443E-2,-0.62919449451949161,3.2141653679099269,30.114756508036102,1.3213350179527072,null,62.449512076214987,100.11481056257175,79.746002807228351,70.521675335919781,62.026147793713051,77.858439201451901,100,null,66.526113847675134,97.121017927684761,81.238262108789343,58.159911886380854,67.963246608934881,80.758020382951784,106.42358390163218]
[null,"Marzo",94.840327310773361,103.11232920017,97.871993634642365,122.61622003970683,91.849274842023235,96.77104300626992,94.188032828604207,null,2.1978059577670184,-6.9755974954046396,0.16554205998831062,1.0054821855963958,3.1679601650799638,31.235760152639113,1.5119645912442969,null,63.118812636642105,100.11481056257175,79.943596463513799,72.041823913919927,62.60663356882197,77.858439201451901,100,null,66.552714890801667,97.092958077031483,81.681790157401366,58.753910282498204,68.162360210793892,80.456339812734427,106.17060044344693]
[null,"Abril",95.364860661445235,103.12242554508632,96.364443249746842,122.26538269043263,92.314709775034174,97.024807782604,94.376865434686096,null,1.4613627142118002,-6.6952814364375506,-1.5344165635791551,3.0699040944986988,2.3466066437130451,30.96415847124705,1.5701664732904685,null,63.704864230261734,100.11481056257175,79.345895075955724,73.033225160441773,63.202323783033478,77.858439201451901,100,null,66.801192586460488,97.083452055538004,82.33939033956301,59.733363240972935,68.46397929111626,80.245909248182485,105.95817051076509]
[null,"Mayo",94.913617199548113,102.55300817707725,95.203946695019539,121.40468113595055,91.793591810072215,96.99052368105788,94.732472324723318,null,0.27393585571127144,-6.7406644880196325,-1.62512127103277,3.6560683445822306,1.3172649935672576,31.216185149521735,2.03667246922139,null,64.340541898833209,100.11481056257175,78.734079855805845,73.892439574094013,63.804193428241952,77.858439201451901,100,null,67.788525816651244,97.622500151048229,82.700436892628005,60.864572010488047,69.508330777879991,80.274274482196191,105.5604245788294]
[null,"Junio",94.716575389837203,100.96260250276919,95.314405917729644,121.46729622853087,92.385762751615374,96.720473017081289,94.88049373281973,null,-0.13130141988660915,-7.5698025250243495,-0.7779463201060266,3.0018480434415906,2.6665081100077481,31.418462249633606,2.1848235774942104,null,65.040590358352887,100.11481056257175,79.281670663427818,75.743055234268127,64.410758318375855,77.858439201451901,100,null,68.668646528505661,99.160291118511751,83.179105928498956,62.356747524670112,69.719355450415037,80.498406152027144,105.39574159636713]
[null,"Julio",94.762373012974763,101.15589402000485,93.702541071002116,124.58980983214589,93.193093314308598,96.657427505474857,94.799538536440892,null,0.24480121023227053,-4.9793241479477395,-2.467215055587435,5.5891368008063269,3.82359604253657,32.200180291208078,2.1924342601817415,null,65.707344516664605,100.11481056257175,78.849450725891245,79.312099721746719,65.023669383437039,77.858439201451901,100,null,69.339066158324286,98.97081285522799,84.148679240346212,63.658576755675497,69.773056211509498,80.550911824176012,105.48574554670438]
[null,"Agosto",94.943697909931899,98.406055084957117,92.642443378828446,124.15487815795059,95.01467315595626,96.686264005405121,94.806087305611968,null,-3.4873521755640624E-2,-7.1655427336019812,-3.9400826569532255,4.7047971514734055,2.8955080857269833,33.378738276394905,2.1212441811256477,null,66.337996502368895,100.11481056257175,78.58012254432262,81.096621965486008,65.652525130456468,77.858439201451901,100,null,69.870879229183032,101.73643326738322,84.820865769911805,65.31891712085158,69.097248824605202,80.526887663276895,105.47845907578193]
[null,"Septiembre",95.349330445168619,99.309205617253411,92.237652443897176,123.96213821163136,95.241777738852974,96.46686980978285,94.845918012579517,null,0.61855144453182298,-5.2564058051407851,-5.2738856330052268,5.2285119562800686,3.0346158344008334,34.871513713717242,1.8696766566232759,null,67.015585381841703,100.11481056257175,78.248771190171595,82.08802321200784,66.277224661196115,77.858439201451901,100,null,70.284274749448343,100.81120872965515,84.833871111112458,66.22023820843188,69.58839517141746,80.710029624653757,105.43416321484378]
[null,"Octubre",95.394509205149561,99.586089754431782,92.299138854180555,123.93507005121718,94.030928379957572,96.552559577678565,94.712381491735968,null,1.8892515398261978,-4.8726805010453571,-5.2711149703523974,5.2907819439462989,4.2916125609185451,35.527025549474331,1.2073833280302537,null,67.702357492896397,100.11481056257175,78.344978324260765,83.01333104209489,66.907760229492425,77.858439201451901,100,null,70.970916520257859,100.53091833351797,84.881591851073097,66.981308041209758,71.155056514100764,80.638399998928193,105.58281654941322]
[null,"Noviembre",95.568733948020579,100.35107015240224,90.772247571086936,122.24722503033979,93.773002923752557,96.105595410394073,94.805373065518367,null,3.0450913261821588,-3.6627659937312984,-6.2064473693814293,2.9555483811471328,6.0371319931073142,36.227460567338234,1.3727068140382714,null,68.389051607523328,100.11481056257175,77.776540479507744,83.343798124268844,67.544463672275839,77.858439201451901,100,null,71.560068635752614,99.764566945353266,85.683171410510909,68.176433537517326,72.029754370985316,81.013429935039255,105.47925372425011]
[null,"Diciembre",95.492145925308435,100.06931599482077,89.810132209400194,122.53589189242361,92.992949123299553,97.371068088820863,94.033900771133503,null,2.7433547156097582,-3.7628462490215231,-5.6902964093587745,2.7089990173723599,3.2491961563393845,1.8685511215934536,0.98697657432658126,null,69.071398269089684,100.11481056257175,77.622194713916485,84.46738620366024,68.187090651906004,79.79431336963097,100,null,72.332020188461982,100.04546305458241,86.429217733399554,68.932771369400598,73.325011514041336,81.948688594894975,106.34462590612637]
[1997,"Enero",94.658344809860736,99.597868903188839,90.006376047529898,121.87789655413562,94.405000332569671,100.19743512941918,94.58691551776252,null,1.3187408908389209,-3.2961924263893883,-7.5777729228907358,0.11791547828476912,3.6856719978361596,4.1341678801929627,0.98876591866741137,null,69.659016573562681,100.11481056257175,78.377608469335442,85.458787450182086,68.846628933010507,84.150030248033872,100,null,73.589937277570243,100.5190288357328,87.080062447960771,70.118364253376399,72.926888078468082,83.984215902674748,105.72286817114886]
[null,"Febrero",95.275367120684834,98.555210332019485,88.782781037296829,117.52353541071497,95.594941133187362,100.9993525209043,94.88417169475106,null,1.4947868962418953,-4.3919446509820386,-9.5558575632908145,-3.0771967412167034,4.7452210059699018,4.7607408163406806,0.97913607293214078,null,70.332982010293506,100.11481056257175,78.864988890212501,84.136919121486315,69.480032402567261,84.452510586811869,100,null,73.820741011895635,101.58246349969542,88.829149040828142,71.59154872889853,72.681704260651628,83.616883157079982,105.39165617813148]
[null,"Marzo",95.397727580783467,98.615172212701793,87.587841336304336,117.48579101589158,96.783187257293662,101.54586774120057,95.208294219496509,null,0.58772495394665558,-4.3614153829635178,-10.507758058683192,-4.1841356895147008,5.3717489046664069,4.9341461935274111,1.083217644803014,null,71.013000648048589,100.11481056257175,77.631129158401222,84.533479620095036,70.119396908666545,84.815486993345417,100,null,74.438880724820493,101.52069738988581,88.632312400903814,71.952087898578924,72.449977000919958,83.524311604196299,105.03286590709895]
[null,"Abril",95.096846723491424,98.680959914001448,87.763388627118857,116.6750191148284,97.489698144902178,100.80112486738804,95.587524708983153,null,-0.28104055948373619,-4.3069832847783545,-8.9255479848897252,-4.5723192064581646,5.6058112325534815,3.8921149869684202,1.2827924181640693,null,71.645948441648315,100.11481056257175,77.648998047370682,84.335199370790676,70.786616967069861,84.815486993345417,100,null,75.339983301412531,101.45301651891091,88.475387359162625,72.282138893665191,72.609330333403392,84.141409240151816,104.61616231244679]
[null,"Mayo",95.428536475592267,98.835127126147043,87.262150669691167,117.76999390951603,97.617122305168593,100.55067789246961,95.267799403383677,null,0.54251359418910905,-3.625326177181043,-8.3418768874881533,-2.9938608564560654,6.3441579965033856,3.6706206712718403,0.56509353711930999,null,72.308182198298809,100.11481056257175,77.375526355316367,86.251908447399558,71.460216219000444,84.815486993345417,100,null,75.772074967106988,101.29476581215037,88.670203245622346,73.237592687376591,73.204592116127969,84.35098476814683,104.96726136874351]
[null,"Junio",95.735199359487453,98.584731119056201,86.55199439525002,116.59290234868173,96.688030801326519,100.24088966508715,95.300330342535048,null,{"$f":"(C35/C23-1)*100","v":1.0754442561481614},-2.3552001679510659,-9.1931659628061606,-4.0129269615735597,4.6568517935799747,3.6397843581514877,0.44248990830251245,null,73.017627531789515,100.11481056257175,76.688351038208339,86.384095280269136,72.140041127968175,84.815486993345417,100,null,76.270408397654208,101.55204505418567,88.603794255741619,74.090355021723028,74.611139072840075,84.611666233929853,104.93143060530123]
[null,"Julio",95.926748649919887,97.939245609259729,86.729223692903048,115.21807226463339,96.100630949115256,98.496764772722187,95.246528319550691,null,1.2287320377526889,-3.1798922266546237,-7.4419725424683119,-7.5220739000553927,3.1199067778558742,1.9029445689966673,0.47151050523097648,null,73.701944450944154,100.11481056257175,77.088847223588999,86.450188696703918,72.826468106013436,84.815486993345417,100,null,76.831483906450231,102.2213413425622,88.884511980126376,75.031795791674696,75.781467183680249,86.109921670071259,104.99070335088905]
[null,"Agosto",95.818611011451992,98.785207273811437,87.700326271536213,114.0216955281894,97.769102211587096,98.077339861690305,95.424559213605917,null,0.92150729409137266,0.38529355589651537,-5.3346143808871709,-8.1617273361339056,2.8989512505186887,1.4387523094360199,0.65235463836861296,null,74.297803247567757,100.11481056257175,78.625312705556965,86.450188696703918,73.5308786645693,84.815486993345417,100,null,77.54005455024587,101.3459538380832,89.652246517440147,75.819069604460481,75.208708069587644,86.478168262876125,104.79482517299562]
[null,"Septiembre",97.214952117080728,99.351124685608028,87.863711445115328,114.03619403249682,99.781280902337386,97.704421490015577,95.5754401280373,null,1.9566174856203711,4.221065720348971E-2,-4.7420341724788155,-8.0072385990863637,4.7662940269042942,1.2828774092836115,0.76916553790014053,null,74.894014723690887,100.11481056257175,79.044972626933856,86.516282113138701,74.230466031124607,84.815486993345417,100,null,77.039604600630113,100.768673610269,89.963161499625315,75.86738828593684,74.393178119029088,86.808238255637932,104.62939000441469]
[null,"Octubre",98.071704962746139,99.924423661224466,88.239471265900832,114.62387325823906,100.46662972675664,97.63185519863859,96.247716287178889,null,2.8064463876418255,0.33974012598243508,-4.3983807852134067,-7.5129636745516759,6.8442388665927556,1.11783222079338,1.6210497204918184,null,75.496947457197791,100.11481056257175,79.591657041637092,86.516282113138701,74.936802399527664,84.815486993345417,100,null,76.981375500585344,100.19053089762393,90.199607839665745,75.478414447070691,74.588749123302406,86.872759736852885,103.89856908565523]
[null,"Noviembre",97.179072292212382,99.973976792953692,88.77177054499343,113.67530244093008,98.503558309080105,97.416956758453708,96.275600835945696,null,1.6850054172190543,-0.37577412864243653,-2.203842120937749,-7.0119567845260296,5.0446879569101544,1.3645005188925863,1.5507852802934208,null,76.113156539169623,100.11481056257175,80.417639960015109,86.516282113138701,75.64973175689326,84.815486993345417,100,null,78.322579896936389,100.14087042862137,90.58920360189947,76.108248894341656,76.798983768203456,87.064398042782457,103.868476677077]
[null,"Diciembre",97.001544923295668,99.83804613684535,87.925432934899888,113.37309019256558,98.765486752486197,97.133886760359019,96.069038596051712,null,1.5806525064038679,-0.2311096620140729,-2.0985374680286273,-7.4776472087885963,6.2075003358941006,-0.24358501258863186,2.164259706583338,null,76.717048967852946,100.11481056257175,80.045630409223463,86.582375529573497,76.369669312116869,84.815486993345417,100,null,79.08848155822389,100.27721338351019,91.038085042457922,76.369423628228077,77.324247389682839,87.31812328543532,104.09180882976989]
[1998,"Enero",96.304171087314174,98.809923643523504,88.008109382078317,112.73699583580128,99.29018503988496,97.223893703592935,95.899308264419858,null,1.7387017285791284,-0.7911266258429972,-2.2201390092590256,-7.5000479798025932,5.1747096976916263,-2.9676821786760232,1.387499253436264,null,77.233351408157674,100.11481056257175,80.950469511531892,86.648468946008279,77.108229357761786,84.815486993345417,100,null,80.1973066546973,101.32060310435608,91.980693688230033,76.858947946608126,77.659467878710601,87.237286805158092,104.27603890976297]
[null,"Febrero",96.276773706266013,98.736602800747903,87.083910775092178,110.63099544487144,99.021414501298764,97.463180747615382,96.338892713353005,null,1.051065575336696,0.18405162762813454,-1.9135132312322667,-5.8648167294796272,3.5843668372968374,-3.5011826165489701,1.5331545742759634,null,77.847286240252927,100.11481056257175,80.411683663691974,86.978936028182218,77.817639580942938,84.815486993345417,100,null,80.857805308017262,101.39584280067349,92.338163212912804,78.620765978305513,78.586677409988212,87.023105897783452,103.80023807990015]
[null,"Marzo",96.240491438016846,98.493795611752049,87.482877879028877,109.40699413581483,99.058508052778933,97.804399341627601,96.342557887722833,null,0.88342131265100043,-0.12308106169297561,-0.11983793146863597,-6.876403359265792,2.3509463368223571,-3.6845107366736518,1.191349637681105,null,78.491908548849338,100.11481056257175,81.156479673491361,87.309403110356186,78.533766141142564,84.815486993345417,100,null,81.558092000602059,101.64580412476893,92.768415535797033,79.802396364141671,79.280182676786652,86.719500926627717,103.79628919188499]
[null,"Abril",96.438349951569464,97.473283360350464,87.179382847204849,107.74302345204757,98.149844623553477,98.101308911916732,96.608257521284742,null,1.4106705682667586,-1.2238192197395081,-0.66543212272178742,-7.655448210375015,0.67714485859839968,-2.6783589558381782,1.067851495693839,null,79.138146255510193,100.11481056257175,81.318076582432553,87.309403110356186,79.281125643697465,84.815486993345417,100,null,82.060867170843025,102.7100012548626,93.276728885492204,81.034855263008623,80.775599745240967,86.457039089559544,103.51082046787563]
[null,"Mayo",96.658485272679769,97.143834677478438,86.832477842899522,107.15503179509975,97.308463678132981,97.850362440446617,96.611431840640805,null,1.2888689720208513,-1.7112260568147408,-0.49239312060742613,-9.0132993660268603,-0.31619312242240349,-2.6855268493671924,1.4103741722509167,null,79.772440335276116,100.11481056257175,81.259937950930478,87.705963608964908,80.035353015060352,84.815486993345417,100,null,82.53019909243659,103.0583267532696,93.582424421826261,81.849598791286766,82.249117897691946,86.678766310104933,103.50741945833965]
[null,"Junio",96.892167620141052,97.16728272561059,87.235238823392635,105.83003226656923,96.509044159755945,97.45921060884821,96.468214448732326,null,1.2085087495448343,-1.4377970882061053,0.78940344808520191,-9.23115375404684,-0.18511768218586466,-2.7749943815669975,1.2254775004447493,null,80.508458712590965,100.11481056257175,81.65810341166295,88.036430691138861,80.796863464126517,84.815486993345417,100,null,83.090780906273793,103.03345710025116,93.606786102780603,83.186623688622632,83.719473306957298,87.026650907066895,103.66108730367829]
[null,"Julio",96.288494023703421,96.863580891363895,87.558118809174218,104.29670534092485,98.4321402508604,105.26438631102489,96.499486956251388,null,0.37710584260883806,-1.0982979409371096,0.95572758636255362,-9.4788662134741344,2.4261123769100612,6.8709074393648928,1.3154900853677765,null,81.26763185550449,100.11481056257175,82.103271819467238,88.366897773312786,81.565690834960918,92.075015124016929,100,null,84.400148407657881,103.35650369446307,93.77002719576997,84.726451793907842,82.86489618846619,87.470243594032553,103.62749394236219]
[null,"Agosto",95.391948849691332,98.187860707329023,88.307336537135299,104.66229583460108,100.01890127807253,105.91198238062623,96.617746131442885,null,-0.44528109649769609,-0.60469232486064506,0.6921413994740222,-8.2084375699135297,2.3011350371373362,7.9882290139439149,1.2503981445343149,null,82.036846190705361,100.11481056257175,82.82359522046066,88.697364855486754,82.354521699163442,92.740471869328488,100,null,85.999759078169646,101.9625133304273,93.790163386517051,84.746244240290821,82.33895858363951,87.563720161556418,103.50065490448902]
[null,"Septiembre",96.756826288611535,99.326015593624788,89.751530824677729,105.17811119295227,100.81434596198261,105.55985909996976,96.215452811710776,null,-0.47125037712043572,-2.5273082778576317E-2,2.1485768680983064,-7.7677819000345316,1.0353295230358439,8.0400021720172798,0.66964136687843734,null,82.784848888703536,100.11481056257175,83.929135611918795,89.29220560339985,83.138166992229984,92.921960072595269,100,null,85.559698539272446,100.794147398577,93.512762223373642,84.896186659589972,82.466603536347534,88.027741667023406,103.93340890438401]
[null,"Octubre",97.5869495035776,99.504133969949123,91.078363448419395,105.31696644327702,99.657559006112294,104.08043271276735,96.278002449088817,null,{"$f":"(C51/C39-1)*100","v":-0.49428676635394631},-0.42060757107817981,3.2172588318937656,-8.1195186922311198,-0.80531289130013617,6.6049933200682309,3.1466888855380404E-2,null,83.55126552595199,100.11481056257175,84.970192621443701,89.688766102008572,83.929186989614834,93.405928614640047,100,null,85.617253076333682,100.61371982073332,93.293499580243392,85.160795198477643,84.21758251621155,89.74398566579184,103.86588572283617]
[null,"Noviembre",97.265618955132922,97.349637654250856,88.684853023670001,104.77268646729362,94.991057127466036,102.55170018968273,96.278002449088817,null,8.9058951561393762E-2,-2.6250222536789214,-9.7911217484814017E-2,-7.8316184628253733,-3.5658622306746546,5.2708928733635974,2.4945189874392426E-3,null,84.372981630484787,100.11481056257175,84.929793394208403,90.349700266356464,84.727730275018459,93.708408953418015,100,null,86.744918232006214,102.84045526511537,95.76583880850616,86.234020824273202,89.195480961249345,91.376748293877228,103.86588572283617]
[null,"Diciembre",97.400240671461361,97.347306101880221,90.357061417521024,104.55904160357872,94.884692432041902,101.0741673985644,96.305514357516614,null,0.41101999816699486,-2.4947804282459018,2.7655575883504868,-7.7743744781200714,-3.9293020750961971,4.0565458354678174,0.24615189755279321,null,85.177287575881195,100.11481056257175,87.007634418069841,90.878447597834779,85.53396524330077,93.647912885662421,100,null,87.450797850891206,102.84291838317041,96.293120928342091,86.915914878397572,90.145167835751494,92.652668130702352,103.83621401861609]
[1999,"Enero",96.687745085210608,97.407182973940365,93.870840934684708,103.72085157653096,96.349252953100589,101.92522002141699,96.454120746251803,null,0.39829427278770257,-1.4196354150052826,6.6615810676649456,-7.9975026764081196,-2.961956497112983,4.8355667920038536,0.57853647943129083,null,85.864910865343234,100.11481056257175,90.267152838563661,91.473288345747889,86.361130702147165,93.708408953418015,100,null,88.806405392607672,102.77970012679225,96.161014367999002,88.191802280232764,89.633420140978899,91.938392611492603,103.67623407513773]
[null,"Febrero",96.998250848998254,97.758546368357301,93.120920941674541,103.40923438714971,97.708190756333735,104.04310817503773,96.571532944360428,null,0.74937818848543891,-0.99057128222684865,6.9324058977712655,-6.5277918079661656,-1.3262017631022638,6.7511929909832569,0.24148111365533964,null,86.661956845109387,100.11481056257175,88.999627084056286,91.869848844356611,87.155783747886616,95.281306715063522,100,null,89.34383464297737,102.41028972069199,95.574255692553152,88.841049243637912,89.20007941323685,91.57868155454014,103.5501839425236]
[null,"Marzo",98.552569427451004,98.262640663661557,95.138216568405284,103.86055451072561,100.83204537599653,104.67494405193183,96.691935533573712,null,2.4023962834013979,-0.23468985701563527,8.7506708455135538,-5.0695475813950512,1.7903937360662203,7.0247808447814641,0.36264103165917216,null,87.456546664075844,100.11481056257175,90.225329279598895,92.266409342965346,87.957835908123755,96.067755595886268,100,null,88.741011190435316,101.88491769242177,94.836052780878035,88.836815649233841,87.232025870480328,91.777221823232765,103.42124133535175]
[null,"Abril",100.01590918267736,99.537500368406285,96.936521240763938,104.77986328092851,102.15289605021287,105.16347319992069,97.308189655172427,null,3.7096852371536038,2.1177259418097005,11.192025080815228,-2.7502107108010154,4.078510202448915,7.1988481767811363,0.72450549450544521,null,88.222471584714455,100.11481056257175,91.477057900379648,92.729063258008864,88.794604826791073,96.067755595886268,100,null,88.208438343121614,100.57999265807231,94.368001584434353,88.498935152635312,86.923237871929175,91.350877517383793,102.76627317224423]
[null,"Mayo",100.12213776032203,100.20391953041704,98.890090335055589,104.40829088434739,101.75330363680122,105.21581416806717,97.308189655172427,null,3.583392061101609,3.1500556500556165,13.886062901453933,-2.5633335782164979,4.5677835109702469,7.5272605475562582,0.72119603369600327,null,89.033125761101033,100.11481056257175,94.030496237174546,93.1256237566176,89.639630046397755,96.067755595886268,100,null,88.92451534967573,99.91107237295418,95.0858634253281,89.193705756348834,88.095056221818524,91.305433841372746,102.76627317224423]
[null,"Junio",99.659203690513522,100.27534071326124,99.493593869343528,103.76126815541818,101.92262814218942,105.59515778147802,97.134734771651637,null,2.8557892122100581,3.1986671855664284,14.052067961627168,-1.9547987153024415,5.6094058640474342,8.3480536337231079,0.69092221383815211,null,89.8536007050877,100.11481056257175,95.196376500080277,93.654371088095928,90.492316654317705,95.886267392619473,100,null,90.160865607679739,99.839910640494821,95.680910496703518,90.259470371754034,88.785305386821832,90.805553405251374,102.94978437433751]
[null,"Julio",100.55462613105395,100.00676613249178,98.940992132233987,103.6428685052494,102.31242243743833,106.17851815698305,97.25359962367574,null,4.4305730924614206,3.2449608121065454,13.000363047849174,-0.62690075735201134,3.942088607124461,0.86841511929511839,0.78146805875376479,null,90.616215864269947,100.11481056257175,95.567350173250517,93.984838170269853,91.302776930300382,95.886267392619473,100,null,90.116406724210606,100.10803712014528,96.590248504406929,90.681432814173448,89.239189880515156,90.30665435625437,102.82395755730533]
[null,"Agosto",100.90170068862199,100.2688623557832,102.01040803467862,103.40562956673105,101.68129479388567,106.13510350197015,97.400306513410001,null,5.7759086645900792,2.1194082786436086,15.517477975095373,-1.2006867017860468,1.6620793615712115,0.21066655191295247,0.80995512035904049,null,91.249004273865125,100.11481056257175,99.203021655021672,94.315305252443792,91.983438860779074,95.886267392619473,100,null,90.433564202703948,99.846361283461235,97.247941230955021,91.209062453973104,90.462497598240901,90.343594370584057,102.66908142248205]
[null,"Septiembre",101.3841689585114,100.48083649616198,103.45320231751801,103.72781881812435,101.5621210400538,106.2181033776244,97.866615581098387,null,4.7824456913222457,1.1626570296164429,15.266225953967716,-1.3788918230023373,0.74173479075405613,0.62357441859719476,1.7161097527845781,null,91.848149093901966,100.11481056257175,100.66671673408503,94.844052583922107,92.648217193709598,95.886267392619473,100,null,90.594172677480088,99.635725630524362,97.30652553907349,91.435502707543691,91.223200387052998,90.272998993143943,102.17988984929572]
[null,"Octubre",100.7428141445117,100.10090215798803,103.17543920994208,103.26024248619881,100.65546840789894,103.06097501922852,97.954410894020157,null,3.2339002878847056,0.59974210540754136,13.28205218396754,-1.9528894788153228,1.0013383949384558,-0.97949025284342905,1.741216479660368,null,92.442756556532274,100.11481056257175,100.95909319273019,95.108426249661278,93.317770016205543,96.128251663641862,100,null,91.761141815957899,100.01389438484955,97.85186665142075,92.105561598282065,92.710084700060293,93.2731828373512,102.08830729245366]
[null,"Noviembre",100.52435427510173,100.60762095451835,102.36680290407365,102.69964502628983,100.27641572852785,101.91967456218413,97.83886647101987,null,3.3503465612777505,3.3466825134353506,15.427606196462818,-1.9786086535548808,5.5640591450303978,-0.61629951168979957,1.6212052413077771,null,93.051732317616398,100.11481056257175,100.44685170893911,95.438893331835203,93.880756958009528,96.370235934664223,100,null,92.566356669115962,99.51016594242958,98.124439622351318,92.930110233004243,93.621971104518849,94.555086001443172,102.20887016267739]
[null,"Diciembre",99.889996862008516,100.99526994762167,100.86059160002097,101.98792917702984,100.23973969321341,101.55685645378517,97.407097422162764,null,2.5562115384758721,3.747370103825598,11.624470758256876,-2.4590053496252429,5.64374202404343,0.47755926924175629,1.1438421485987949,null,93.673947124526038,100.11481056257175,99.232414682529395,95.769360414009157,94.339010551423812,96.309739866908643,100,null,93.777104882614481,99.128217207096384,98.385715479492362,93.90264238797657,94.113383414752519,94.833321185690409,102.66192366517153]
[2000,"Enero",99.003371948716591,100.62476885940532,103.46601759435319,102.13672470765111,100.15904885474066,101.92412728463768,97.698897185922263,null,2.3949538397707304,3.303232664397826,10.221679665514882,-1.5272983636380855,3.9541519885935683,-1.0720965616606293E-3,1.2905373353049088,null,94.214564103398871,100.11481056257175,101.94744992826546,96.09982749618311,94.807024443009226,96.672716273442219,100,null,95.162985107418052,99.493207981877617,98.532302971163531,94.089396121965351,94.656474404530925,94.847725311858554,102.35530070487768]
[null,"Febrero",98.718122570141873,100.72435862987828,102.06197346451594,101.70019544930641,99.131864293208096,102.9285085935003,98.362068965517281,null,{"$f":"(C67/C55-1)*100","v":1.7730956033640499},3.0338137909147189,9.6015507926962442,-1.6526947017564186,1.4570667268056781,-1.0712863168815367,1.8541033434650744,null,94.743776297264503,100.11481056257175,100.75657911774303,96.562481411226614,95.260206436386312,97.096188747731404,100,null,95.974045930570156,99.394835494017514,98.720978732371094,94.948176829570841,96.094436552337655,94.33362056298445,101.66520595968444]
[null,"Marzo",99.431054069714193,101.46950213073055,100.96656725083456,101.85620246251857,99.452091398321002,103.82610964669851,98.563571594360894,null,0.89138684802112511,3.2635612531985547,6.1261929145357108,-1.9298491690606712,-1.3685668802311479,-0.81092415469760093,1.9356692473461834,null,95.289083586058737,100.11481056257175,99.924380933636499,96.826855076965785,95.716299780137874,97.096188747731404,100,null,95.834329101297271,98.664927352838049,98.967790680048665,95.062306208202202,96.243626890438406,93.518084302813804,101.45736237273417]
[null,"Abril",100.36956919907473,101.44353696764898,99.923005005473442,100.96867603251319,99.399127761762003,103.81819008819055,98.707805587540179,null,0.35360376092909984,1.9148929721844565,3.0808654225293441,-3.6373279455395258,-2.6957319811053315,-1.279230393211428,1.4383331324193005,null,95.796246879718993,100.11481056257175,99.782077245394234,97.157322159139724,96.182268945742535,97.096188747731404,100,null,95.443517038232045,98.690181311894747,99.858963648990041,96.225211597162897,96.763695126450628,93.525218138797257,101.30911066735631]
[null,"Mayo",101.06780335682636,100.95458229377861,100.71473948519635,100.53525479614919,99.217042691447219,103.86106085691839,98.736288133369698,null,0.94451199071290404,0.74913513052121683,1.8451284086793196,-3.7095100929181446,-2.4925588208977945,-1.2875947611684646,1.4676035832728695,null,96.274483672126109,100.11481056257175,99.640550465368023,97.553882657748446,96.650403355218074,97.096188747731404,100,null,95.25732278183871,99.168168782311312,98.933434147455429,97.034500838093123,97.413106391196251,93.486613699713274,101.27988593709674]
[null,"Junio",100.81620122686013,100.36762622041702,101.11582477675304,100.3834192784267,99.571240867260187,103.39302027479516,98.993699297461617,null,1.1609540248180172,9.2032105300621225E-2,1.6304877975760412,-3.2554043884004846,-2.3070316354567355,-2.0854531144695376,1.9137999709168074,null,96.825216448564944,100.11481056257175,100.01398434788914,97.818256323487617,97.120837510186249,97.096188747731404,100,null,96.041325967723651,99.748110354537957,98.910318507220225,97.444634807841851,97.539045073927909,93.909809859187575,101.01653005158904]
[null,"Julio",100.29194564676344,100.60968138709879,101.35769091033205,100.29511064441542,100.59124241596832,103.16128383256438,99.049915601639768,null,-0.26123162543327805,0.60287446332205619,2.4425657414756552,-3.2300899320095722,-1.6822786329025341,-2.8416617379776743,1.8470431787768193,null,97.365891076971309,100,100.24563248097868,98.148062471497198,97.593538392047023,97.096188747731404,100,null,97.082463052319341,99.394013201619217,98.902837644222615,97.859269351094966,97.019915499676316,94.120764244581423,100.95919758496443]
[null,"Agosto",100.15745918138448,100.18987647596414,101.78046524577938,100.23735044966602,100.96041655607188,101.99610128789907,99.310344827586235,null,-0.73759064729166379,-7.8774085955812811E-2,-0.22541110591486335,-3.0639329119121372,-0.70895855454541357,-3.8997486010783011,1.9610187919822053,null,97.875479042190307,100,100.22323162741556,98.549910443420714,98.076410653649432,97.096188747731404,100,null,97.721607399143863,99.810483371531362,98.47000736869947,98.316555656473923,97.143429077651717,95.195980553867514,100.69444444444441]
[null,"Septiembre",100.82961415441314,100.50707135409885,102.86072285872166,101.03366504701269,101.56056050433399,100.75861477951948,99.392038274056688,null,-0.54698362653167187,2.6109314822297947E-2,-0.57270287001645048,-2.5973300140780697,-1.5365332112216024E-3,-5.1398852215384316,1.558675227400963,null,98.394531704360972,100,100.90147250003882,99.001989411834685,98.553793572995573,99.092558983666052,100,null,97.584953120694266,99.495486887372948,98.095239558666279,97.989110229513471,97.039434484796786,98.346487990630777,100.61168050932507]
[null,"Octubre",100.90966440394287,100.70115370148525,102.96304672415231,101.00692862227763,101.12675260767118,101.09579031344795,99.825021872265978,null,0.16562001056654729,0.59964648725128189,-0.20585566430940672,-2.182169835812986,0.4682151970744286,-1.9068174984895325,1.9096750837179766,null,98.923547562391221,100,101.13325011783107,99.355589189760821,99.033512558294362,99.516031457955222,100,null,98.031787288875336,99.303728233776013,98.222860856843681,98.365122615803813,97.93008279668814,98.437364354544655,100.17528483786151]
[null,"Noviembre",100.67463805282854,100.53332709099797,101.7040113645759,100.33909138323958,100.65309015396679,100.91924802182542,100.14524097600321,null,0.1494998687736171,-7.3845164825003806E-2,-0.64746726545600319,-2.2985022416055823,0.37563610815396498,-0.98158333477440518,2.357319323263507,null,99.453356949295156,100,100.49825713590197,99.734965400096499,99.515597326285857,99.758015728977597,100,null,98.786902911046454,99.469502197499907,98.814447716962022,99.39791563306504,98.869887823671448,98.849345079744637,99.854969667467259]
[null,"Diciembre",100,100,100,100,100,100,100,null,0.11012427815313419,-0.98546194107688168,-0.85324861412054975,-1.949180842351661,-0.23916631661967669,-1.5329900000337626,2.6619236651715283,null,100,100,100,100,100,100,100,null,100,100,100,100,100,100,100]
[2001,"Enero",99.737046491607856,99.29895675910403,100.17696193463006,99.831863814492237,100.40714669099542,98.712074437059499,100.63218390804597,null,0.74106015628569999,-1.3175802690823968,-3.1788752831080624,-2.2566426520491456,0.24770386609258566,-3.15141560016311,3.0023744449659828,null,100.48761331948386,100.45924225028702,100.90820570457805,100.10574946629566,100.49540282031673,100.54446460980036,100,null,100.75254567312572,101.16847702035562,100.72995203270905,100.27434692826364,100.08789825448672,101.85629790802263,99.371787549971444]
[null,"Febrero",99.510385417698799,99.882647213000439,99.017459857410941,99.330666666058875,100.0808488923871,99.210777842385497,101.03448275862068,null,0.8025505620753659,-0.83565825419726902,-2.9830048388820307,-2.329915663169646,0.95729522081027252,-3.6119543573660318,2.7169149868535802,null,101.01194188287543,100.45924225028702,100.07238194879658,100.45670550756438,100.96981819298448,100.78644888082273,100,null,101.5089444773767,100.57727248263355,101.06538997557072,101.13362658210193,100.88825115937343,101.58820550821656,98.976109215017061]
[null,"Marzo",98.579718073721054,99.909424345093242,98.258898184386879,98.995704328528319,100.76690462900245,99.858820855812837,101.08717732122564,null,-0.85620735288216565,-1.5374844193355219,-2.6817481669164089,-2.8083691172787084,1.3220568941234356,-3.8210897089235418,2.5603838071642349,null,101.54626222466841,100.45924225028702,99.605848565050522,100.77858044560182,101.4464375572047,100.78644888082273,100,null,103.00928447444826,100.55031635783895,101.37081771274907,101.80096311164858,100.67436122078387,100.92893949383732,98.924515106628306]
[null,"Abril",98.221437741440923,100.17259854573285,98.803893902193067,99.182075451572871,100.96253609791133,99.63771932037541,101.31149927219795,null,-2.1402218568589926,-1.2528530253449688,-1.1199734267590022,-1.7694602436551743,1.5728592104917283,-4.0267228356263507,2.6377789164289123,null,102.04123433755431,100.45924225028702,100.19837056450152,101.18902056166186,101.94160181813629,100.78644888082273,100,null,103.8889642464496,100.28614981413635,101.41135800142538,102.02349577880018,100.96973170253519,101.15290631728904,98.705478369563664]
[null,"Mayo",98.478360418544909,100.46486820395867,99.235331420139659,98.809734755227595,101.1586654622058,99.827074688817859,101.68085895969989,null,-2.5620849096118725,-0.48508356797006824,-1.4689091910664587,-1.7163332846973467,1.9569448131978584,-3.8840217255799558,2.9822579742442512,null,102.54458258855222,100.45924225028702,100.48284845628336,101.58558106027058,102.43917478594039,100.78644888082273,100,null,104.12905145122784,99.994400078582473,101.25712991360105,102.80928423896627,101.26584244452394,100.96103606661364,98.34692686814725]
[null,"Junio",98.894592705342063,100.48733088778619,99.043880823807797,98.764867605706883,101.17904580992402,100.56289751971305,102.56853120012927,null,{"$f":"(C83/C71-1)*100","v":-1.9060513073627883},0.11926621349624966,-2.0490798126996945,-1.6123695370751867,1.6147282374508354,-2.7372473959656918,3.6111711432520677,null,103.09038802544583,100.45924225028702,100.85692976231788,101.98214155887931,102.93921795776002,100.78644888082273,100,null,104.24269437319511,99.972047583261485,101.83055118946255,103.25750849585155,101.7396607506486,100.2223000396999,97.495790209652498]
[null,"Julio",98.598385090925206,100.24503852850428,97.935892550776629,98.362947977639507,101.79214800460826,100.51873453799095,102.19061891354583,null,-1.6886306721011213,-0.36243317101019024,-3.3759632138646301,-1.9264774268270779,1.1938470584486049,-2.5615707719016112,3.1708288622247727,null,103.69814975517598,100.45924225028702,100.87402174307127,102.37870205748804,103.44161948308714,100.78644888082273,100,null,105.17225982915225,100.21368012315325,103.00005352049182,104.08258817208429,101.6204309574096,100.26633278270192,97.856340496969565]
[null,"Agosto",98.413229072292751,99.907528951788308,97.330125914298364,97.883588754580956,102.07066912117632,99.781930265954102,102.10097801976204,null,-1.7414879763802182,-0.28181242866744949,-4.3724886899802806,-2.3481882596916859,1.0996909511440389,-2.1708388791206179,2.81001258934368,null,104.32646184804737,100.45924225028702,101.50823781678433,102.57698230679242,103.95477805557425,100.78644888082273,100,null,106.00857509858849,100.55222394576984,104.29272217952837,104.7948727789078,101.84588672791118,101.00671395330923,97.942254755527031]
[null,"Septiembre",98.890141587058466,100.34619474716011,98.754045959410476,98.018723320574523,102.98554076635968,99.327834460760798,101.66931534232884,null,-1.9235148161774296,-0.1600649633615836,-3.9924635810227316,-2.9840961673866406,1.4030842828647749,-1.4200079287408962,2.2912067282421011,null,104.99600013971531,100.45924225028702,102.85449027051945,103.03963622183593,104.46215919851969,100.78644888082273,100,null,106.17438548945906,100.11265748881833,104.15217854749397,105.12240185463372,101.43381140805967,101.46848507065576,98.358093258808594]
[null,"Octubre",99.231266289408552,101.3583920039076,99.604711708579472,98.087421435786823,102.9577518544319,98.746245196892644,101.3271864067966,null,-1.6632679579783982,0.65266213768575554,-3.2616896279012875,-2.8904028924674141,1.8105982833882095,-2.3240780939251082,1.5047976011993924,null,105.70445525768829,100.45924225028702,104.86901327477172,103.63447696974903,104.97208112273803,100.78644888082273,100,null,106.52333605156326,99.112900534584327,105.2851933165515,105.65521598260548,101.95646197787428,102.06610760729392,98.690197118995926]
[null,"Noviembre",98.941659879022041,99.893832779333266,98.432766713094395,98.175392879884029,102.80119282315522,99.270464477586884,101.59785172915724,null,-1.7213651892119319,-0.63610180839420716,-3.216436212879703,-2.1563863829416441,2.1341646499899003,-1.6337651900477534,1.4505040269483294,null,106.51296283673686,100.45924225028702,104.53597861948589,104.4275979669665,105.48443073952416,101.39140955837871,100,null,107.65229021523632,100.56601038845186,106.20038642638254,106.36840342949476,102.61012332900145,102.13653183950871,98.427278035940319]
[null,"Diciembre",98.230190787090592,100.59585641812484,95.942529023043434,97.954975830756979,102.85023170264827,99.876220771562956,101.55172413793103,null,-1.7698092129094123,0.59585641812482937,-4.0574709769565676,-2.045024169243026,2.8502317026482649,-0.12377922843704869,1.551724137931032,null,107.32691660113269,100.45924225028702,102.89437155894403,104.95634529844482,105.99941358966329,102.66182698124619,100,null,109.26062114015318,99.864195034763654,107.2458404074703,107.1475383545442,103.06191034758159,102.78905848475634,98.47198641765705]
[2002,"Enero",98.037217733722315,99.595324325580236,95.616244627145591,98.404573167038649,103.23196821903944,100.00863102225229,100.98505747126438,null,-1.7043103016175287,0.2984598994279386,-4.5526608308011358,-1.429694481218724,2.8133669974085285,1.3134731415451073,0.35065676756140807,null,108.07049384964253,100.45924225028702,103.65289294722722,105.55118604635794,106.4169090231909,103.145795523291,100,null,110.23415020117307,100.86742819560746,108.40510767957939,107.26248044101381,103.08522724026106,103.13689375504069,99.02455125943294]
[null,"Febrero",98.801823906598599,99.672226776007136,94.25024773600866,98.348474460920997,103.20525594151775,100.95105845016646,101.47244480457769,null,-0.71204780096668641,-0.21066766136522697,-4.8145166804594464,-0.98881064439033661,3.1218830412701681,1.7541245473810418,0.43347779292672861,null,108.97036431259399,100.45924225028702,102.66867972217761,106.21212021070581,106.8222453572546,103.75075620084692,100,null,110.29185495159291,100.78960358340198,108.93199984974964,107.99569672319569,103.50465621420138,102.77332183898054,98.548921525037244]
[null,"Marzo",99.443720294648188,99.654040829915459,93.856407942368691,98.824609624853323,103.99212994495977,100.37379431024949,101.68914675359629,null,0.8764502859310408,-0.25561504017446168,-4.4805003143397082,-0.17283043222481309,3.2006791593249373,0.51570151742552639,0.59549534206277954,null,109.91727970163312,100.45924225028702,102.31712875440894,106.74086754218411,107.34503710630267,103.75075620084692,100,null,110.53214760665846,100.80799675925418,109.01453720372022,108.01041152338631,103.22419317992382,103.36438600712796,98.338911469392826]
[null,"Abril",100.63021404167478,99.84450734739562,92.835663106486336,99.139432040427124,104.50585385848815,102.65182517425482,102.25787799942178,null,2.4523936480900899,-0.32752589340830918,-6.0404813616098396,-4.299507844698347E-2,3.5095371981747725,3.0250650802110979,0.9341276498940676,null,110.8029291388889,100.45924225028702,101.19838092327772,107.26961487366245,107.8801117745648,106.23109497882636,100,null,110.10900671740717,100.615692259117,109.00808755704044,108.20075591104859,103.22877407484346,103.4868058103162,97.791976477905649]
[null,"Mayo",100.87127267848534,99.870624142412012,93.020209845258094,99.14486392949766,104.72247067352615,103.01981281542049,102.43556327830871,null,2.429886372772927,-0.59149439218917355,-6.2630128664237112,0.33916615108851023,3.5229855940041244,3.1982687427785317,0.74222850429295217,null,111.76498116386276,100.45924225028702,101.75840226235673,107.79836220514073,108.60096559593944,106.23109497882636,100,null,110.79961439576533,100.58938062411191,109.393864442614,108.72813571240221,103.7035937917322,103.11715006622997,97.622345989652544]
[null,"Junio",101.21019996127137,99.276961057663016,92.898745327636192,98.57098116085146,105.31834203862485,102.95967159470229,102.40356601213279,null,2.3414902600678023,-1.2044999299212988,-6.2044575041474541,-0.1963111474309498,4.0910607483657824,2.3833582107351425,-0.16083411360801048,null,112.79169561860152,100.45924225028702,102.15423699844099,108.32710953661906,109.34561757329134,106.23109497882636,100,null,111.44301232658553,101.19089180412895,109.96298888447033,109.89756646517215,103.82390707706878,103.1773832739113,97.652849304243944]
[null,"Julio",100.75703323617886,99.21972921436759,91.712346779358654,98.375849963815952,105.42670938710832,102.66474577888971,102.33973784338328,null,2.1893341795233168,-1.0228030525871401,-6.3547138942867782,1.3116713601735164E-2,3.570571457373628,2.1349365874554271,0.14592232772716596,null,113.80689373122361,100.45924225028702,101.57013150466403,108.85585686809736,109.50836625287752,106.23109497882636,100,null,112.95181098122977,101.249260651822,110.74859064398517,110.65302806342827,103.87155863015897,103.47378174745354,97.713754312167652]
[null,"Agosto",100.74300945315127,99.934074218063472,91.044601521384394,98.557754656705498,106.13661588039734,102.09645223986067,102.32599805451331,null,2.3673447186120633,2.6569835680723131E-2,-6.4579433488543225,0.68874252640536149,3.9834624326739787,2.3195802764463869,0.22038969568705102,null,114.75729715926836,100.45924225028702,100.47779855287897,109.38460419957568,110.00505679859573,106.23109497882636,100,null,113.91092819461004,100.52551448175481,110.36107234680897,110.98528429404875,103.64477507230647,104.0497418355458,97.726874793565017]
[null,"Septiembre",101.39015151139961,100.44150867396509,91.576001927229939,99.102045491288933,106.52430885536471,100.84806902291535,102.58446835355006,null,2.5280678985986071,9.498509340104544E-2,-7.2686075415389411,1.1052196294899286,3.4361795478001556,1.5305222049868838,0.90012705223776468,null,115.76107388194663,100.45924225028702,100.62838926209257,109.97944494748879,110.74203195143883,106.23109497882636,100,null,114.17388390915981,100.01765562520521,109.88510870135609,110.97595857106298,103.95939963506433,105.33775808309016,97.480643614935076]
[null,"Octubre",101.77971109242756,100.4833937715141,90.835586966643319,99.256547201223952,107.09981060744192,98.161068087222176,102.48875346809352,null,{"$f":"(C99/C87-1)*100","v":2.5681873247353826},-0.86327161973895894,-8.8039256291334915,1.1919222142081631,4.0230664310408892,-0.59260694774132538,1.1463528224632702,null,116.77692987748121,100.45924225028702,99.926711658284674,110.57428569540188,111.23488408490265,106.23109497882636,100,null,114.7349787340568,99.975964664089673,110.0083293290985,111.40251077970036,103.86095311841139,108.22120933365707,97.571681395394947]
[null,"Noviembre",101.63662148903126,100.67497121129877,89.057841723140541,99.051803970533712,107.76666830799438,97.694744723387402,102.3863671009925,null,2.7237885571198106,0.78196862632256003,-9.5241912860981497,0.89269934648690263,4.8301730247245933,-1.5872996691329577,0.7761142173924096,null,117.81733100971805,100.45924225028702,98.416920025068251,111.0369396104454,111.705473427291,106.23109497882636,100,null,115.92015681319457,99.785717384950658,110.50898845159851,112.0998660897454,103.65493819298524,108.73777835195615,97.669253076790355]
[null,"Diciembre",101.55116933325462,100.18027035711309,88.777917462912754,98.613758830786793,107.22698096682592,95.74059791902522,102.36499876809032,null,3.3808124768505143,-0.41312443256547038,-7.4676075699546036,0.67253653471166519,4.2554588275808047,-4.1407482387591958,0.80084768334869327,null,118.87367732470895,100.45924225028702,98.883582893516959,111.5656869419237,112.11925426831438,106.23109497882636,100,null,117.05791090854704,100.27846989450065,111.38308457711443,113.13399698449925,104.56253944424867,110.95720863230218,97.689641189320724]
[2003,"Enero",102.13890797146475,99.443311111319744,89.830467972665005,98.681074690343138,107.33506807245911,93.102161138204053,102.61226090595885,null,4.1838093048325531,-0.15263087428035726,-6.051039420176096,0.28098442420469993,3.9746407282612584,-6.905873836540688,1.611330899284269,null,119.80637895480039,100.45924225028702,100.7993090696265,112.09443427340202,112.79404714263634,106.23109497882636,100,null,117.29749351566548,101.02161837494531,112.21060219824221,113.59263630351555,105.08592314535265,114.10164241099974,97.454240962146898]
[null,"Febrero",102.99046821585254,99.96476355834136,90.241292269774178,98.626668367741331,107.10314591628924,93.364449725513751,103.40288922334103,null,4.2394402690517641,0.2934987927897259,-4.2535224707986092,0.28286550284100098,3.7768328165188159,-7.5151353944424066,1.902432155331546,null,120.85601709255374,100.45924225028702,101.18478502949661,112.62318160488032,113.32835412844757,109.92135511191772,100,null,117.3467983845434,100.49465299005793,112.12692381111644,114.19140833689249,105.81234860927793,117.73362927225548,96.709096574670085]
[null,"Marzo",103.85156830061183,100.26885374213734,91.302776540206324,99.251672223158721,108.10572393084743,115.39962275029261,103.92028072273997,null,4.4325051324541676,0.61694729797381331,-2.7207853551463379,0.43214195323064697,3.9556781730164303,14.969871910589694,2.1940728586797631,null,121.9229646238724,100.45924225028702,102.19515416448701,113.08583551992386,113.94096472424839,137.44706594071386,100,null,117.4011780649769,100.18987801400353,111.92995222821519,113.93846872993758,105.39771677319661,119.10529918986703,96.227607647443421]
[null,"Abril",103.49657175474883,100.08960077812354,90.71523944519231,98.919901013043415,108.65674484990866,120.17378173132829,103.69461236069279,null,2.8484066543741804,0.24547512651362791,-2.284061523707559,-0.2214366401596779,3.9719219911271697,17.06930834140492,1.4050109286241286,null,122.9429408654823,100.45924225028702,102.22260492145456,113.54848943496738,114.53438325877727,143.85964912280699,100,null,118.78938478929975,100.36931056702174,112.68515141076674,114.78831688276262,105.40936360369307,119.70967964079971,96.437025727198446]
[null,"Mayo",103.60501412149885,100.05452511848863,90.294461981551635,98.897704422776457,108.18139334762415,127.63542440422448,103.73241181133568,null,2.7101288309576255,0.18413920775579573,-2.9302749028848885,-0.2492912864321073,3.3029421974594575,23.894055828763271,1.2660139618733357,null,123.91991055505312,100.45924225028702,102.17042258627565,113.87895651714133,115.08481157605696,154.86993345432546,100,null,119.60802438550971,100.40449657955909,113.15247950328384,115.14823036773605,106.38133602721287,121.337735332668,96.401884670218564]
[null,"Junio",103.92749475000281,99.830338625936406,90.352666267990045,99.111204427421583,107.69158159974718,137.15187257596432,103.74172993079054,null,2.6848033002318195,0.55740784405353683,-2.7407033869689124,0.54805507686745969,2.2533962415131503,33.209314338004717,1.30675519493062,null,125.00224663623449,100.45924225028702,102.39999896412237,114.34161043218485,115.70586667881746,174.77313974591652,100,null,120.27832185979939,100.62997244425576,113.33367701667973,115.36698710579832,107.44188632019227,127.43037077318422,96.393225818302071]
[null,"Julio",104.12424360399312,100.31126336700208,90.208548714833043,99.307652007669205,108.70669853664143,157.94647446859625,103.75102945120456,null,3.3419109908897182,1.1001180524048859,-1.6396898752830347,0.94718576174537272,3.1111557674531554,53.846847104426153,1.3790260142947375,null,126.10638780569938,100.45924225028702,102.38925173380018,114.87035776366315,116.57488321321161,208.40895341802783,100,null,121.11145631492803,100.14751970847335,113.50282561076637,115.67120502938897,107.23799433014524,131.94910118710172,96.384585800212491]
[null,"Agosto",104.91542271454534,100.37873537434417,90.331819779920195,99.2027314739139,109.04908731128532,150.5762653278675,104.04211463903964,null,4.1416404811039254,0.44495449601145154,-0.78289292231872309,0.65441508834589435,2.744077910087106,47.484326854091478,1.6771071058716558,null,127.10796367265513,100.45924225028702,102.42978044573815,115.33301167870667,116.41981135813421,203.9927404718693,100,null,121.15279182403088,100.08020311836228,113.39280078193133,116.25991539258611,106.75908824968781,135.47469784012227,96.114924563900672]
[null,"Septiembre",105.95945717702341,100.628916715195,90.941201342454093,99.541641989936508,110.20510825147922,139.91181940959152,104.58883169941431,null,4.5066563147507122,0.18658425555737601,-0.69319534748883971,0.4435796420430238,3.4553609740967106,38.735248741153242,1.9538662899303061,null,128.12416217424197,100.45924225028702,103.20953732526038,115.86175901018501,117.52680945230061,191.77253478523895,100,null,120.91809979753731,99.831385976867665,113.49040457097973,116.39526603539294,106.64370401425845,137.06671501699606,95.612503146987535]
[null,"Octubre",105.49785286925901,100.20643015534675,91.719631868453121,99.393984590465521,110.62637032562063,150.02091217613966,104.78994056285377,null,3.6531266761554715,-0.2756312319597054,0.97323629574215254,0.13846682472535843,3.2927786689602723,52.831377143163124,2.245306940411429,null,129.19402900042832,100.45924225028702,104.65212639778736,116.32441292522853,118.56625149078972,211.1917725347852,100,null,122.46128758708996,100.25229128963913,114.10002882249069,117.03365490831432,107.17720480369974,140.77488896136347,95.429007271952088]
[null,"Noviembre",104.62986705188773,99.866460091405443,90.879580161153953,98.870089224514004,109.62122215136394,160.65277687167932,104.40211317143539,null,2.9450463022125506,-0.80309049028323143,2.0455676925977606,-0.18345425195260834,1.7208974467590288,64.443622148306034,1.968764130926326,null,130.3029957749674,100.45924225028702,104.44754056755734,116.78706684027205,118.77429343497774,240.41137326073806,100,null,124.5370938972406,100.59357481815118,114.92960286826121,118.12173707568141,108.34972563157098,149.64657190629552,95.783501849041301]
[null,"Diciembre",104.0867191167174,99.557656703516713,89.703984825946733,98.811652633080897,109.07324960531476,145.7830901475574,104.49814564581574,null,2.4968198791901708,-0.62149328543129601,1.0431280542493537,0.20067565078183414,1.7218321562742167,52.268831944058626,2.0838635308911613,null,131.39535948384002,100.45924225028702,103.81384243265499,117.18362733888077,119.20880170217481,226.49727767695097,100,null,126.23643112095803,100.90559136948676,115.72935431361908,118.59292321930982,109.29242700069533,155.36594638493187,95.695478022106073]
[2004,"Enero",103.50572441784227,98.948873816213634,89.682787474147773,98.646934285742702,108.62365036262561,165.09889144959365,104.58883169941431,null,1.3381937143477129,-0.49720518110325518,-0.16439911964186704,-3.4596709356449207E-2,1.2005231033129116,77.330890530580888,1.9262520638415159,null,132.24056946887487,100.45924225028702,104.86564667250211,117.51409442105472,120.00258535638291,278.82637628554147,100,null,127.76159986575514,101.52641296037257,116.92951303808547,119.12594676349599,110.47555937935269,168.88446302540439,95.612503146987535]
[null,"Febrero",103.50610998493984,99.047043967185317,89.444187270599201,98.496932796425256,108.21050929699761,159.36579698756159,105.15356621183012,null,{"$f":"(C115/C103-1)*100","v":0.5006694095288422},-0.91804307686922382,-0.88330406084173863,-0.13154208031477266,1.0339223663643704,70.692161155651974,1.6930638995084291,null,133.23095454402099,100.45924225028702,104.79818514240726,118.04284175253301,120.39256804142906,297.82214156079851,100,null,128.71796125214843,101.42578539100022,117.16600970989539,119.84418032235125,111.2577408826311,186.8795859528399,95.099009574769568]
[null,"Marzo",104.48405293051765,99.052644718944464,89.328694429886866,99.224392189961151,108.8745286560973,148.09208450803442,106.04312199635224,null,0.60902751904046148,-1.2129479671929011,-2.1621271390910524,-2.7485716448416575E-2,0.71116005452371844,28.32978217657034,2.0427593717496029,null,134.24545068879326,100.45924225028702,104.73059412760976,118.57158908401135,120.92917807459291,281.42770719903206,100,null,128.48415324974718,101.42005045431517,117.24182783149448,119.49842822620749,111.0720565841187,190.03561745649128,94.301259824696487]
[null,"Abril",104.61404129210665,98.535875719866027,88.543557506797413,98.962238601763488,108.75319846983487,140.65767524828127,106.38264106357643,null,1.0797164760257383,-1.5523341547757585,-2.3939549205588162,4.2799869678900038E-2,8.8769105000752191E-2,17.045226689086547,2.5922549317543675,null,135.20763157743028,100.45924225028702,104.03694457536785,119.1287565845566,121.41205033619534,268.30006049606772,100,null,129.24424858026393,101.9519454375065,117.4980399532524,120.37799292712619,111.63998120926226,190.74683270747869,94.000298357170848]
[null,"Mayo",105.29923851439406,98.420086045820227,87.661273980635755,99.193507812810651,108.9406567935884,145.84569618266457,106.68471815781828,null,1.6352725852711858,-1.6335483784794658,-2.9162231471669631,0.29910036007476659,0.70184291629935558,14.267411937901908,2.8460789592477109,null,136.20882424454527,100.45924225028702,103.24682891963144,119.62445720781754,121.98973686985137,283.84754990925592,100,null,129.35404487842138,102.07189028824608,117.77929321725178,120.59706309969643,111.97815440105825,194.62182110176965,93.73413711612416]
[null,"Junio",105.2954984199681,98.575321519056459,87.07457015428561,99.272829858003433,109.37336427980685,147.12169164729286,106.59768105595518,null,1.316305827688824,-1.2571500048522255,-3.6281122064305893,0.16307483247286481,1.5616658749708856,7.2691818814260456,2.7529434173402922,null,137.22078720098969,100.45924225028702,102.63993411818329,120.08578925453234,122.47145211840729,291.10707803992739,100,null,130.31970906646785,101.91114845196456,117.87590100797252,120.96541362455275,111.97557369186519,197.86822376799657,93.810671122862487]
[null,"Julio",104.56034569223405,98.107330461589328,86.041277713185849,98.222779034418863,108.76076711737393,136.03902296879534,106.32341347389514,null,0.41882857742479018,-2.1970941561660684,-4.6195965471307554,-1.0924364349753857,4.9738039569180437E-2,-13.870174420484883,2.4793816854611572,null,138.24829518460231,100.45924225028702,102.06333873716159,120.56100091869848,122.7290783947623,271.26436781609192,100,null,132.21866690411136,102.39728446144858,118.62136575584623,122.74240466811874,112.84315258857438,199.40187888464516,94.052661340253437]
[null,"Agosto",104.40276811890556,97.951837706850895,85.990259487776669,98.41959963891685,108.90851887044592,124.53606002038572,106.06357157713391,null,-0.48863606739175669,-2.4177408277187507,-4.8062358344170164,-0.78942567746028702,-0.1289038214855931,-17.293698479492349,1.9429218111410407,null,139.30043308364304,100.45924225028702,102.25743630647474,121.1492323249681,123.10694362161354,249.54627949183302,100,null,133.42599587492941,102.55983410024452,118.91746450772185,123.0946201462331,113.03701941632096,200.38074068746349,94.283078075751746]
[null,"Septiembre",104.64398748793374,97.944593452940865,85.400394972055707,98.929127973736385,108.59374494467693,113.07152877871761,106.49834026952037,null,-1.2414839827764923,-2.6675466157023653,-6.0927349634777421,-0.61533445094470451,-1.4621493797957963,-19.18371924840676,1.8257289416846456,null,140.41008826143593,100.45924225028702,102.1280810885002,121.68458899808989,123.22487388475176,223.53297035692682,100,null,134.17883973279046,102.56741971015926,119.58736387802192,123.00178065897298,113.47327044253667,197.69164949948066,93.898176954612893]
[null,"Octubre",105.26610094688202,98.050147792698411,84.271814445777935,98.988319360757245,107.919777187408,97.949874884972218,106.9530487994101,null,-0.21967453940905379,-2.151840315342568,-8.1201998644707345,-0.40813861259284545,-2.4466075586191294,-34.709185896717386,2.0642327163635343,null,141.55954874658039,100.45924225028702,101.23178797656844,122.18491616050125,123.47765009479608,195.22081064730793,100,null,134.47781144474257,102.45700237258389,120.12532142843901,123.43367070937464,114.41614624571643,199.30685044423609,93.49897092466199]
[null,"Noviembre",104.69714988168458,98.072429881227933,82.853838893254846,98.467187416678584,107.2133396152213,91.278690723938411,107.00907449286186,null,6.4305567514000295E-2,-1.796429160035784,-8.8311821573859746,-0.40750626503482934,-2.1965477932893829,-43.18262497457679,2.4970388455123116,null,142.68963220614935,100.45924225028702,100.46653338374603,122.53719407009866,123.65343787302383,178.82637628554141,100,null,136.28798144686752,102.4337241077331,121.25754790092778,124.44469806125798,115.33400444086948,195.91251240268181,93.450018583863738]
[null,"Diciembre",103.9894502458684,97.562083946958467,82.13889576012096,97.980015319032148,107.12358940890853,90.129461265299142,106.19589999057044,null,-9.3449838437054122E-2,-2.004439259253632,-8.4333924301182037,-0.84163890784914042,-1.7874778678192316,-38.175640827703184,1.6246741358540762,null,143.82497194671964,100.45924225028702,100.55587782859334,122.86766115227262,123.86922888856382,174.59165154264971,100,null,138.30727213834265,102.96955352542862,122.42175512348921,125.40073682597819,115.63207466446481,193.71207715170209,94.165593971970097]
[2005,"Enero",102.98370190489364,96.382613809850639,81.0611523881267,97.778630970872555,107.7182257173253,92.64322420191597,106.00055692155274,null,-0.50434168340418584,-2.5935211866377927,-9.6134780472856836,-0.88021317758847362,-0.83354282633447685,-43.886222742930478,1.3497858224439163,null,144.92187301299856,100.45924225028702,100.37123264257562,123.33031506731614,125.03397613943881,180.49364791288562,100,null,140.72311475735762,104.22963051041447,123.8216206969164,126.1321761643965,116.07504236799591,194.82660439310661,94.339126985914291]
[null,"Febrero",103.1897789026882,96.846368448459501,80.457476513271473,97.557785069969626,108.14159394264647,90.055126706936022,106.09040661530356,null,-0.30561585426953641,-2.2218487605292991,-10.047283151156439,-0.95347915898729152,-6.3686378336880178E-2,-43.491559412861491,0.89092594499950994,null,145.95787509826462,100.45924225028702,99.786350240582564,123.79296898235967,126.33980398838267,174.51603145795522,100,null,141.44605856352143,103.73052067899711,124.02371359996953,126.89194295829272,116.82813187993855,193.78800279286492,94.259229642329387]
[null,"Marzo",103.82950946161542,97.534193492144695,79.640012324563358,97.768889425580397,108.37560466742787,89.096081304581489,106.19275454930282,null,-0.62645298544985462,-1.5329739363429185,-10.846102886825527,-1.4668800002264115,-0.45825593444852597,-39.83737780411365,0.14110538254024085,null,146.93855543155249,100.45924225028702,98.456801313492818,124.05734264809882,126.8572219602746,171.19237749546278,100,null,141.51906928335626,102.99899825221594,123.62730547082776,126.8883623174718,117.05330027874932,192.14355445132213,94.168383167396158]
[null,"Abril",104.18039814329867,97.702613549235778,79.570193660191762,97.754362091479962,107.58557105551874,89.25411744266809,106.5961564459684,null,-0.41451715606429795,-0.84564344158181148,-10.134406273338147,-1.220542832649707,-1.0736488036625413,-36.545149573159385,0.20070509648690837,null,147.8535077876042,100.45924225028702,98.340912504596702,124.32171631383797,127.2003760158172,170.88384754990923,100,null,141.92065918603399,102.82144827135262,123.5901384437572,127.17766619713184,118.23181748989033,191.45766318251432,93.81201286623137]
[null,"Mayo",103.35907670779933,96.90340467126768,78.963940013862327,97.488041506261908,107.15121581772196,90.861418262439372,106.79705889490157,null,-1.8425221625221089,-1.5410282956331178,-9.9215235780108042,-1.7193325895553113,-1.6425832453506484,-37.700308860235474,0.10530162053490333,null,148.85279123781351,100.45924225028702,98.17853868743947,124.58608997957714,127.87593657258999,173.61766485178464,100,null,144.01520986746709,103.66946609469716,124.33338390941988,127.79627947657011,119.34156378600822,191.07963332722417,93.635537377868701]
[null,"Junio",103.6609590977282,96.919125648960801,78.721460137330993,96.911798081800413,106.58987221538284,91.488333430826074,106.74825585198694,null,{"$f":"(C131/C119-1)*100","v":-1.5523354243697995},-1.6801323541972724,-9.593053404861962,-2.3783262546057782,-2.5449450903814896,-37.814517759788465,0.14125522669927726,null,149.89231406245074,100.45924225028702,98.468713906139129,124.65218339601192,128.06171572570253,174.82516636418632,100,null,144.59861780859765,103.6526501633418,125.08496886917328,128.6243634555172,120.14435617948034,191.09012024617417,93.678345563468682]
[null,"Julio",103.51851783503842,97.207919511318522,78.100810211169275,96.55790083906048,107.00841995159186,91.455606683686625,106.82734318160733,null,-0.99638907111322395,-0.91676222973260391,-9.2286722292592049,-1.6950021285540906,-1.6111941945857633,-32.772520202041775,0.47395930138747211,null,150.90772581746194,100.45924225028702,98.151476384579922,124.71827681244672,129.03897548567053,174.99697519661223,100,null,145.77848386309049,103.34470972664931,125.67280175352546,129.16423796362665,120.58768416919415,191.34636086540476,93.608992811886381]
[null,"Agosto",103.39934498373084,97.450569123039514,78.202549917637043,96.268405768997482,107.35400312873671,90.942660463429334,107.37405425213757,null,-0.96110778790070572,-0.51175005548295127,-9.0565019997952625,-2.18573726962078,-1.4273591798254159,-26.974837289261732,1.2355634036429031,null,151.84032571308231,100.45924225028702,98.140340700149693,124.71827681244672,129.64237389206082,175.44464609800363,100,null,146.8484406134036,103.08738384426344,125.49506480736387,129.55265625953817,120.76156464943031,192.91787287062598,93.132368612233179]
[null,"Septiembre",105.15748282702586,98.228353589432814,78.839655716726128,97.134450091233163,108.35027285810324,93.517245619160406,107.74831283733276,null,0.49070696885602505,0.28971495667935443,-7.6823289370925636,-1.8141046214211753,-0.22420452181451944,-17.293728466186376,1.1737014536085999,null,152.81964207778415,100.45924225028702,98.569323520119326,124.78437022888149,130.13829675532816,184.04597701149422,100,null,145.3245532028929,102.27112496477207,125.02505575910001,128.46561658781025,120.10887773744582,196.80431752770284,92.808877806717618]
[null,"Octubre",104.75481771788122,96.589545810509236,78.179145741669331,97.321219962893736,107.93429947192296,98.717744329197515,107.34757863499463,null,-0.48570548771327271,-1.4896479149396513,-7.2297822755777226,-1.6841374907961226,1.3456555316770924E-2,0.78394122006490985,0.36888133626229447,null,153.81550046746989,100.45924225028702,99.260901317118382,124.8504636453163,130.57817879968135,196.04658197217179,100,null,146.83381997925449,104.00633050637738,126.965957961616,128.28698992153903,120.97931745380789,198.59305265161689,93.155338268059111]
[null,"Noviembre",102.92230855905368,97.04944822276704,76.861644977643948,96.411758033977634,107.82526053824631,101.32974221868785,107.09792060692632,null,-1.6952145542038166,-1.0430879093133449,-7.2322465629274806,-2.0874257065991886,0.57075073421006817,11.011388764490126,8.3026710104294743E-2,null,154.82302101868081,100.45924225028702,98.418862295608392,124.91655706175106,131.12400102225578,201.15910465819721,100,null,150.42707765328456,103.51346049870698,128.04678110159443,129.56568743174222,121.6078684787831,198.51930958637948,93.372494473560039]
[null,"Diciembre",102.14961963919919,96.770847558715175,76.594341025560098,95.608304725422414,107.16704523006855,99.569741143597994,106.25682119912277,null,-1.7692473633807992,-0.81100808452745365,-6.7502182531808286,-2.4206064735622035,4.0566061499447414E-2,10.474133258725548,5.7366817888193644E-2,null,155.84245806759444,100.45924225028702,98.438673455118021,124.91655706175106,131.31822468232798,200.37931034482756,100,null,152.56293524933596,103.81147296383237,128.51951219512196,130.65450477393054,122.53601319361857,201.24518557886324,94.111605138838442]
[2006,"Enero",102.37993930659064,96.991859031211774,76.577806016513378,95.98306320482402,107.38657563086096,103.10057299544465,106.9645426201087,null,-0.58627004772131563,0.63211112178704898,-5.5308199298064959,-1.8363601005862096,-0.30788669629098209,11.287764306148151,0.90941569228675245,null,156.83284314274059,100.45924225028702,98.556763503959644,124.91655706175106,132.18109975711511,209.10405323653961,100,null,153.18708352920908,103.57492190964135,128.70147191564442,130.14437432069045,123.08903508710884,202.81560728646829,93.488924040143175]
[null,"Febrero",102.28824335003462,96.708584963967652,76.623928651935742,95.508118204332305,106.64365661201944,102.26221905728711,107.38523935434533,null,-0.87366749133532817,-0.14227016118335545,-4.7646881650624362,-2.1009772456060505,-1.3851629849486624,13.555133168682666,1.2204993649774343,null,157.76164252919457,100.45924225028702,98.394778140910432,124.91655706175106,132.87815542251255,206.73744706594067,100,null,154.23242922388226,103.87830851595731,128.41259887347826,130.79155930441604,124.60014936091032,202.16405332464643,93.122668069886373]
[null,"Marzo",103.2471851344816,96.89971606388039,76.785349236053037,95.828866892410815,106.860571618649,97.884022383734759,107.56837098692031,null,-0.5608466515476529,-0.65051794201322899,-3.5844583710967881,-1.9842943338803987,-1.3979465705663552,9.86344287029981,1.2953957578893283,null,158.63049124524014,100.45924225028702,98.525946144722454,124.91655706175106,133.2857852572177,196.98185117967333,100,null,153.64146832537918,103.67341240098169,128.31347011502754,130.35378702953636,124.7286845262926,201.24004549735943,92.964129773945743]
[null,"Abril",104.21096409576539,97.070180965128657,76.549169095729042,96.119304236936543,106.61759400101026,96.763660033858997,107.2578138004184,null,2.9339446778342548E-2,-0.64730365046827831,-3.7966786625707405,-1.6726188167575651,-0.89972757964816852,8.4136651690210442,0.6207140824870061,null,159.44245101400443,100.45924225028702,98.202622842137416,124.91655706175106,133.72414148338035,194.23049001814877,100,null,152.99968904182066,103.49135156797105,128.28698730789554,129.95990561253811,125.42408477358178,200.72668804609575,93.233300639593963]
[null,"Mayo",103.51597607704798,97.43035192675886,76.358563640412711,95.959297004844586,106.64010405879532,97.854455626594344,107.89170358432861,null,0.15180028135526324,0.54378611079639594,-3.2994508290648095,-1.568135412094751,-0.4770004288109142,7.6963770738826209,1.0249764373233106,null,160.09485722075669,100.45924225028702,98.08336743097172,124.91655706175106,134.28608503742322,196.56684815486994,100,null,154.65714886521138,103.10877489779062,128.45103778125701,130.17660712483604,125.9245630174793,200.87674791728963,92.685532508845398]
[null,"Junio",103.29776622367568,96.822080548884387,76.320189993334409,95.86149164224237,107.08271544574629,98.127273475518493,107.90142728291998,null,-0.35036611392926797,-0.10012997891448716,-3.0503374045749765,-1.083775619013394,0.46237341327097781,7.2565974214757079,1.0802719180086573,null,160.96656225318796,100.45924225028702,98.424430137823521,124.91655706175106,135.04225252406994,198.216575922565,100,null,155.8277280697815,103.75654156653479,128.96250670552527,130.30942344183725,126.1102241962564,201.99947364482469,92.677180013381786]
[null,"Julio",103.22923742730482,95.912187052094779,75.931343843754689,95.630515866562263,107.06310021808989,97.5117040969957,108.22050493875906,null,-0.27944798069324817,-1.3329494816241461,-2.7777770314402317,-0.96044442188522039,5.1099031761014935E-2,6.6218984629942135,1.3041246891101199,null,161.87327750823792,100.45924225028702,98.073267624162881,124.91655706175106,135.33526649223617,198.15124016938896,100,null,156.80952561742103,104.7408523754364,129.16045292964921,130.62415896203362,126.40701251556818,203.20764774276356,92.403930342580665]
[null,"Agosto",103.05472115595686,96.622993952648983,75.825467067443455,95.477900356012114,107.63465736435317,97.16086974700292,108.33131245175956,null,-0.33329401441393181,-0.84922558979173557,-3.0396487744928202,-0.82114729819275922,0.2614287566714335,6.8375053598460633,0.89151723504277136,null,162.69732672330565,100.45924225028702,98.069512567785253,124.91655706175106,136.03025956581857,197.4252873563218,100,null,157.8746950147866,103.97032646237191,129.33585028966149,130.83295359027574,126.38146754659485,203.19423639413407,92.309414274409789]
[null,"Septiembre",103.23917531409255,96.180908785466727,75.979747340067462,95.009641894236665,107.71696899982726,98.704691328742641,108.20680868089049,null,-1.8242234992337569,-2.0843725148075198,-3.6274998294442362,-2.187491868230873,-0.58449678212196821,5.5470471518243691,0.42552484719637906,null,163.52248145295815,100.45924225028702,98.377815644859723,124.91655706175106,136.2528525504917,199.33151845130067,100,null,158.39189043835447,104.4482148472554,129.47899813952236,131.47776854143532,126.49153964841899,201.94736011828817,92.415626353889664]
[null,"Octubre",102.38852412730186,96.04105375334133,75.657082836084072,94.382729707483364,107.14063057507293,99.628534995591494,107.31645158054832,null,{"$f":"(C147/C135-1)*100","v":-2.2588876026228277},-0.5678586150968612,-3.2260046866193881,-3.0193726060264603,-0.73532593506707711,0.92262102683053904,-2.8996512862344836E-2,null,163.37111412471222,100.45924225028702,98.47259844721944,124.91655706175106,136.87163953198109,202.50272232304897,100,null,159.55998537647577,104.60031239171195,130.15648337983987,132.35107466048075,127.74951836416137,203.25775374696576,93.182357902453745]
[null,"Noviembre",100.57343658215564,95.295041401397356,75.05799102055694,93.743194302886295,106.69293267898014,99.098912592255715,107.05620136846272,null,-2.2821796457765275,-1.8077452819130091,-2.3466241941759391,-2.7678820358725154,-1.0501508214436739,-2.2015546251145213,-3.8954293628834513E-2,null,162.34423350367072,100.45924225028702,98.397108865558607,124.91655706175106,137.53385662870684,203.01875378100419,100,null,161.41860019972196,105.41917058111898,131.09478088563486,133.25400098714681,128.90624821657261,204.86476437569857,93.408881243435019]
[null,"Diciembre",99.791592269323388,94.607000299067465,74.168783901489434,93.115477644861016,105.56187481250016,97.128491062386786,106.6143813365634,null,-2.3084054333286308,-2.2360528136687097,-3.1667576110632534,-2.6073332099345925,-1.4978209151165545,-2.4517991642566184,0.33650558468201197,null,162.47930975196115,100.45924225028702,98.34427910686631,124.91655706175106,138.06461806064584,200.15486993345428,100,null,162.81863637715338,106.18584452812128,132.59524281466801,134.15230230378907,130.79022924315933,206.07225309913693,93.795976439911115]
[2007,"Enero",99.337023044979574,93.808486290671198,74.144467008656505,92.803777320341482,105.40111425455268,98.319852609215133,106.74031004312559,null,-2.9721801773086032,-3.2821030263129325,-3.177603452535771,-3.3123405091771918,-1.8488915999456568,-4.6369484158354286,-0.20963262356900048,null,162.7823767410583,100.45924225028702,99.3035017842992,124.91655706175106,138.64345062860804,203.87900786448881,100,null,163.8687890489237,107.08971674375817,133.93245078247759,134.6028800428696,131.53888515236403,207.36301210176958,93.68531903232963]
[null,"Febrero",99.71654880480574,94.516674379413558,74.446989138681289,92.452579510026041,105.23651305486641,97.552026805787975,107.01193623316648,null,-2.5141643467553099,-2.266510863922544,-2.8410700828760738,-3.1992449979688309,-1.3194817224547739,-4.6059945646793494,-0.34762982642990714,null,163.10896982657329,100.45924225028702,99.525827018795994,124.91655706175106,139.31824350293002,201.82577132486387,100,null,163.57261836834894,106.28732222107024,133.68683968319706,135.11419337759469,132.38584162351964,206.8903926790469,93.447519519796103]
[null,"Marzo",99.850068898283737,94.79675690283446,74.458487283496723,92.645197518582762,105.28780241442512,95.999194299285065,107.08978870407013,null,-3.2902749181714208,-2.1702428515472327,-3.030346251865168,-3.3222446190482757,-1.4717956121707787,-1.9255727733179961,-0.44490985450396092,null,163.02328396837694,100.45924225028702,99.486593153884812,124.91655706175106,139.6740911602802,198.37447065940711,100,null,163.26807358986116,105.97329015512264,133.61350301825891,134.83327836469377,132.65932801076673,206.64180788951106,93.379584748587078]
[null,"Abril",99.543056449944231,95.340030730099286,74.461569050147318,92.717824466921272,105.05622348514393,94.198760963703492,107.09389564675922,null,-4.4792864995774835,-1.7823704641602656,-2.7271361273315198,-3.5388102286201928,-1.4644585919388997,-2.6506842230420102,-0.15282630500393912,null,162.96594642052349,100.45924225028702,99.089204601368394,124.91655706175106,139.86411620051103,194.96733212341192,100,null,163.71402710792975,105.36942507883163,133.07429035592199,134.72766189236597,133.13263275667748,206.97441253875556,93.376003735863833]
[null,"Mayo",99.125813727525795,96.320168533327291,74.934168453632438,92.915267116306765,105.12432715015659,93.520728004226811,107.15899097491769,null,-4.2410481124715904,-1.1394635978181911,-1.8654033272391346,-3.1722094508301213,-1.4213948139088606,-4.4287483841356501,-0.6791185837919711,null,162.97658784618974,100.45924225028702,98.854189866009236,124.91655706175106,140.17022612917376,194.43315184513006,100,null,164.41387133948294,104.29720356596717,131.92138100148262,134.44136893605082,133.3375726904379,207.90380485098697,93.319281088981725]
[null,"Junio",98.738605252931123,95.869032146571485,75.086460920610847,92.728404787718375,104.46828143762676,94.127260741776581,106.87951787295535,null,-4.4136104171627277,-0.98432960427009553,-1.6165172974953457,-3.2683476971303138,-2.4415088814628949,-4.0763516523669274,-0.94707682344661315,null,162.94775968825846,100.45924225028702,99.309846534730397,124.91655706175106,140.43061537425254,196.10042347247426,100,null,165.02943227813239,104.78800088092855,132.2606570041049,134.71228945188963,134.42416534639489,208.33541943863113,93.563296307967221]
[null,"Julio",97.789418209283212,95.164164765081949,74.542824994436245,92.082636816534418,104.01120210417731,95.533229911308595,106.36970897552807,null,-5.2696497170701235,-0.77990327402975845,-1.8286504347606813,-3.7099863133420397,-2.8505601908554778,-2.0289607324666337,-1.7102082126472573,null,162.92226163867792,100.45924225028702,99.316709223972268,124.91655706175106,140.98411442133573,199.59286146400484,100,null,166.60520598455878,105.56415064249896,133.23443165909677,135.65701567672849,135.54704836516211,208.92506371793712,94.011726611949726]
[null,"Agosto",96.92664189786079,95.140427189430682,73.571962624764026,91.250313203595425,104.35534131739628,95.714840128967779,105.98315917365466,null,-5.9464323316368972,-1.5343829688664434,-2.9719624947051604,-4.427817470485973,-3.046710164976052,-1.4882839375568113,-2.1675665372839936,null,162.91595410147613,100.45924225028702,99.110310607904779,124.91655706175106,142.09878934001094,199.05323653962489,100,null,168.08170685739168,105.59048894143204,134.71206567288809,136.89438718203667,136.16819948661578,207.96486341242093,94.354613298655138]
[null,"Septiembre",96.543164642959084,94.748488273463181,73.626617845140032,91.147524835236524,103.94634806353821,95.983047666339999,105.70335425298018,null,-6.4859203405700168,-1.4892981674758166,-3.0970483284122774,-4.064973808973404,-3.500489264876272,-2.7573599853911945,-2.3135830900374965,null,162.8500979872513,100.45924225028702,99.576910684425641,124.91655706175106,142.7490163759048,201.48941318814275,100,null,168.68112681981364,106.02727714276713,135.24580321462986,137.04876494184276,137.32951569269954,209.92187483832362,94.604377227868923]
[null,"Octubre",96.241230555676722,94.291559530762555,73.73324603906886,90.244400190458123,102.72282027629517,96.160395803312412,105.362500852991,null,-6.0038892288183376,-1.8216108155913568,-2.5428376629103244,-4.3846257994984867,-4.1233753012889229,-3.4810701496639895,-1.8207373601900501,null,162.91809052536698,100.45924225028702,99.844100417976634,124.91655706175106,143.6663969047043,202.39019963702361,100,null,169.28097197501739,106.54107615805451,135.41259307242825,138.42028624282327,139.8583065751919,210.47147107317952,94.910427514934241]
[null,"Noviembre",94.646456565756552,93.573727357878568,72.030989034932276,89.220281375044721,99.489275229963582,94.887161708075666,104.8657544762938,null,-5.8931863301275422,-1.806299696401148,-4.0328843664302561,-4.8247907077157421,-6.7517662774263298,-4.2500475272714393,-2.0460719362065838,null,161.24945529668656,100.45924225028702,98.795176283724743,124.91655706175106,144.27056299354544,202.10465819721713,100,null,170.37030349325008,107.35838475908346,137.15649001544719,140.00914941822941,145.01117096297321,212.99473454480656,95.360015764351587]
[null,"Diciembre",90.199439216498433,93.907055112425141,71.169064518613752,89.017005179819321,98.484676357381289,94.065738642866293,104.33496715977505,null,-9.6121855906829197,-0.73984502672074237,-4.044450003197964,-4.4014943258661177,-6.7043129611798253,-3.153299702301815,-2.1379987842283898,null,156.34960440550955,100.45924225028702,98.596376942234357,124.91655706175106,144.63597984016349,202.7761645493043,100,null,173.33766790970418,106.97731084210619,138.53825058561392,140.32886953387464,146.86140543865761,215.56856670117938,95.845144463277947]
[2008,"Enero",89.781830189811956,93.390664197196045,71.574882950816317,88.864495538317556,98.088245618042762,94.177388665527516,103.3997963965486,null,-9.6189643722673797,-0.4453990358404325,-3.4656450595837218,-4.2447429358680626,-6.9381321898065673,-4.2132528006855079,-3.129570867114162,null,155.98793836111869,100.45924225028702,99.638483283745359,124.88417128769802,145.11414697434844,204.21657592256503,100,null,173.74109887416788,107.56882726325357,139.20872682699786,140.53325856539536,147.94244311334236,216.84247016854908,96.711989273644178]
[null,"Febrero",88.853743786732863,92.916535477897511,71.460490479471602,88.182952103804979,96.820323387092103,94.698705492824203,102.72093860942843,null,{"$f":"(C163/C151-1)*100","v":-10.893683293569179},-1.6929699569122492,-4.0115774912621083,-4.6181809408119783,-7.9974045352361856,-2.9249226350205104,-4.0098308420365996,null,155.64109046864127,100.45924225028702,99.882448979628265,124.88417128769807,145.82525063676962,204.68481548699336,100,null,175.16548412660211,108.11772278593375,139.77296868445288,141.61940410056818,150.61429825404895,216.14320324843655,97.351135370974234]
[null,"Marzo",89.064507205024924,93.0010916055395,70.458843606882837,88.166181981255562,96.468822639434407,94.142571626723409,102.3810157744677,null,-10.801756886363245,-1.8942265072796727,-5.371642404425236,-4.8345900891719751,-8.3760697561890076,-1.9339981820821195,-4.3970326084166285,null,155.27874736380554,100.45924225028702,98.776344477288021,124.89672903682063,146.34936023141,205.18390804597698,100,null,174.34413801488463,108.01942269277977,140.19013004016855,141.66058485256184,151.70638163421052,217.95018396091197,97.674358125423581]
[null,"Abril",88.659961671444037,92.794295222729318,69.002788195711148,87.85969969036384,96.036174765018572,93.264884049326,102.56695956323442,null,-10.933052657442577,-2.670164345317616,-7.3310043342759368,-5.2396880583524208,-8.5859251559722072,-0.99138980685460343,-4.2270720064722873,null,154.93739769327266,100.45924225028702,97.507382106865364,124.9403506916676,146.81843242097236,205.84271022383541,100,null,174.7546409589477,108.26014897700331,141.30933641450434,142.20439078665626,152.87825944776316,220.70762465642392,97.497284140852557]
[null,"Mayo",90.641379563622266,92.568300187499929,67.632978839046103,87.062106108392328,94.658080880171468,93.697016328587964,102.56441077099062,null,-8.5592580225624211,-3.8952053375292839,-9.743471857039621,-6.2994609923337386,-9.9560649316075338,0.18850187345973435,-4.2876292153614104,null,160.07105135454361,100.45924225028702,96.130570432777091,124.9952711734192,147.50170751512789,205.7555958862674,100,null,176.59820727043086,108.52445388626964,142.1356445966249,143.5702359621304,155.82579547735776,219.59674272305421,97.499707011707486]
[null,"Junio",91.877180029662938,92.348955470240199,67.744863364883628,86.820198429185098,94.049514718680584,92.836035479145664,102.39731350712516,null,-6.9490805604269905,-3.6717557249869137,-9.7775250900285613,-6.3715173058986991,-9.9731388088036503,-1.3717867198676847,-4.1936981519303362,null,162.8800587889597,100.45924225028702,96.881534224469917,124.90934973205414,148.17592924744045,206.63762855414399,100,null,177.28021118668772,108.78221820566276,143.00941711647121,143.87130183068686,157.55097694088261,222.58342623922397,97.658812106473519]
[null,"Julio",93.191976622450412,91.65888374462547,66.812883596266374,85.458117559539815,93.730167313338796,92.149681105612686,102.51070366968486,null,-4.7013691982435439,-3.6834043876804445,-10.36979937203456,-7.194102477965858,-9.88454568628201,-3.5417506650169184,-3.6279175180699563,null,167.86258928471506,100.45924225028702,96.229991386075184,124.88624029899506,148.74308095236199,207.34180278281912,100,null,180.12558094435366,109.60120628370358,144.02909469911381,146.13736396894672,158.69285761020322,225.00544797890814,97.550788766629694]
[null,"Agosto",93.740100891048442,91.228622115620595,65.901867727213698,84.32831882058494,93.366808188762619,92.772635558947343,101.68238982965907,null,-3.2875801166930563,-4.1116118451112627,-10.425296028420217,-7.5857212320644907,-10.529919206734316,-3.0739272677633434,-4.057974283394139,null,172.55875420036196,100.45924225028702,95.782405189278691,124.88483222186237,149.51063733448149,209.7719298245614,100,null,184.08210846809553,110.11811854723379,145.34095692970178,148.0935870280594,160.13253557111122,226.11401364281951,98.34544621494689]
[null,"Septiembre",93.037781182849486,91.4865492321061,66.38816486328264,84.088475142358675,92.83595528287357,91.93248513621721,100.79695610489442,null,-3.6308976125584702,-3.4427346555044425,-9.8312990514954013,-7.7446422221976841,-10.688584050950311,-4.2200811795469413,-4.6416674123162194,null,173.13369638974885,100.45924225028702,96.470908724033066,124.88432865297527,149.18343218364637,210.7180883242589,100,null,186.08966614270912,109.80766363306232,145.3134138030502,148.51539220035889,160.69574738481506,229.20960747665634,99.209345067855949]
[null,"Octubre",91.365089353630822,90.998533909338022,65.942341895395302,82.716038480899229,92.931433230124085,92.383058701801986,99.778772457207836,null,-5.0665823513395214,-3.4923864212365485,-10.566338201827453,-8.3421926387349359,-9.5318518512585992,-3.9281630134266887,-5.2995404917105855,null,173.53672767004659,100.45924225028702,97.281166449094073,124.88429717991987,150.82641218501399,211.67574107683001,100,null,189.93767630256283,110.39655028989228,147.52458534671351,150.97954335513555,162.29859687144375,229.12830994272016,100.22171804417322]
[null,"Noviembre",88.264102616932362,89.819474977015631,65.600327904010499,81.288925444153776,91.467697561572209,94.231537203212667,98.42925617109475,null,-6.7433628055478039,-4.0120795514584584,-8.9276313113001322,-8.8896333979836317,-8.0627561612545371,-0.69095175054351143,-6.1378457985100443,null,173.03256554328073,100.45924225028702,98.678555019427918,124.88427042782271,151.47593621758745,212.91046581972171,100,null,196.03956808380511,111.84572418842804,150.4238746547411,153.63011596655849,165.60593548954287,225.9439590384427,101.59580991466083]
[null,"Diciembre",87.05326565084296,89.114536452556138,65.752511471485207,80.370292520057021,91.030668251690841,94.753375187734449,97.812123525295632,null,-3.4880189865748146,-5.1034702921217363,-7.6108251299437661,-9.7135515200668205,-7.5686983817069509,0.73101700447903983,-6.2518289045805258,null,171.71720665628305,100.45924225028702,99.56425516226335,124.88417128769802,151.96951534530899,213.29038112522687,100,null,197.25533025379417,112.73047725919632,151.42274102403107,155.38598575653091,166.9432052559784,225.10056312256484,102.23681522887962]
[2009,"Enero",88.19660978270575,89.987410606746366,67.663825430949615,80.759168292876652,91.925924113287877,95.201751990570941,98.562327740853505,null,-1.7656361022656997,-3.6441047075793875,-5.4642876923099433,-9.1209961822671488,-6.2824260602550304,1.087695613096118,-4.6784121674117385,null,173.86990806255852,100.45924225028702,101.58737117797227,124.88417128769802,152.89196124227985,213.97035692679975,100,null,197.13899263353798,111.63699630085321,150.13542395950014,154.63776302747465,166.32083138360244,224.75464206582251,101.45864276148846]
[null,"Febrero",89.281491875611053,90.543946329609113,69.164804742419591,80.537064275104669,92.230380168395428,95.892598465643715,98.726372924648771,null,0.48140693981884031,-2.5534627782724195,-3.2125244616274973,-8.6704829519654965,-4.7406815616034104,1.2607278701502134,-3.8887550472723298,null,175.91214400020232,100.45924225028702,102.71304474184359,124.88417128769807,153.52057269430364,215.11191772534787,100,null,197.0309190680718,110.95081043251976,148.50478523631031,155.06422094193692,166.45336646558735,224.32588246361672,101.29005759820966]
[null,"Marzo",89.955670067908926,90.33753503701648,70.660531884941577,80.73291015675936,93.089133697851153,96.270483103125201,98.319082187132665,null,1.0005813660794782,-2.8640057041700029,0.28624977041069588,-8.4309784743503364,-3.5034002168921607,2.2603073610937496,-3.9674675589104869,null,176.83546789209231,100.45924225028702,104.41108195512037,124.88417128769808,153.75681503904772,215.77071990320627,100,null,196.58067997114188,111.20432078329685,147.76435892831333,154.6880584946214,165.17160374282977,224.12967396462747,101.70965572041042]
[null,"Abril",90.586008218331799,90.490658267162758,70.920008216494196,80.663247152883471,93.303357137565996,96.802213282287511,98.163201477998498,null,2.1723972248322232,-2.48252001918573,2.7784674661917697,-8.1908458176412893,-2.8456127434680067,3.7927771733364146,-4.2935445332382365,null,178.21830725370171,100.45924225028702,104.6179610202596,124.88417128769807,153.58681169465348,216.7307924984876,100,null,196.73933177865305,111.01614705210037,147.51543838079832,154.82165136620566,164.61016667193002,223.89032765859716,101.87116811019369]
[null,"Mayo",91.70829942493026,90.498870127164523,71.111148448446755,80.896264224005975,94.21314581271227,97.303519029437282,98.76849326069437,null,1.1770781363263705,-2.2355709850388483,5.1427124298015103,-7.0821189148696622,-0.47004446247166376,3.8491115749103466,-3.7010084509449426,null,179.68189665608963,100.45924225028702,104.73535683998246,124.88417128769802,154.80225024763575,217.47307924984875,100,null,195.92762899629602,111.00607345608478,147.28401822382625,154.37569643746122,164.31066908154139,223.49970629947774,101.24686192797851]
[null,"Junio",92.689934689578422,91.239880633450213,72.019069262155355,81.163772180817631,95.505370606716042,95.99569892612476,99.130967859916382,null,{"$f":"(C179/C167-1)*100","v":0.88460993214318773},-1.2009608892083135,6.3092693452642123,-6.5151040319046611,1.5479674641492691,3.403488129013077,-3.1898743583556044,null,180.36213402295743,100.45924225028702,105.1297117510228,124.88417128769808,155.63627252815311,217.32123411978219,100,null,194.5865369600227,110.10453055487319,145.97482698414495,153.86688904685161,162.96075449940048,226.38642829927801,100.87665051481356]
[null,"Julio",92.552109849201258,91.468739593386104,72.084264842166817,80.460363085910018,96.403685339830261,95.879091408108167,98.493331816543446,null,-0.68661144064091628,-0.20744759642625787,7.8897676049339394,-5.8481916245672005,2.8523559736684634,4.047122309865836,-3.9189779304280137,null,182.0351167046984,100.45924225028702,105.72596446267501,124.88417128769802,156.38227763330269,217.66424682395643,100,null,196.68391893096251,109.82904399565052,146.66996284718849,155.21204043580485,162.21607823605848,227.01951345937488,101.52971592662021]
[null,"Agosto",92.956348666668845,91.855672100327993,72.937068601290989,80.564639558542595,96.914967013720954,95.406062948507071,98.395804565737123,null,-0.83609065589819176,0.68733909398817072,10.67526781364978,-4.4631261653038106,3.8002357516440988,2.8385820599938105,-3.232206943038729,null,183.61505303926646,100.45924225028702,106.81673691919138,124.88417128769807,157.33902643444412,217.94857834240767,100,null,197.52825457644605,109.36640052076687,146.45054835299581,155.0111462944615,162.34750037336184,228.44311106311946,101.63034942530618]
[null,"Septiembre",92.901581256576122,91.966988208294026,73.011242848488308,80.538986002725935,97.034638788851822,95.437324603276011,99.01631229509276,null,-0.14639206195780075,0.52514711749487297,9.9762932125703419,-4.2211362896325433,4.5226911202504994,3.8124058779283931,-1.7665650616955464,null,183.59842623555676,100.45924225028702,107.51280413819764,124.88423738111452,157.97424482724287,218.12401693889899,100,null,197.62680435814494,109.23402430311089,147.25513488560438,155.06060304370811,162.80190950264279,228.55210772684589,100.99346025125196]
[null,"Octubre",92.031259358047748,92.71244251221718,73.510074233797809,80.426777882100694,97.121533513052327,95.413577454530966,98.87111270486281,null,0.72912970274510158,1.883446391110799,11.476286890761699,-2.767613924507728,4.5088084163647624,3.2803836496808625,-0.90967219779567454,null,182.12738986989177,100.45924225028702,107.93410998491831,124.88423738111452,158.58684851424823,218.35995160314582,100,null,197.89731352183816,108.35572823685342,146.82900420102325,155.27693719644586,163.28701038574053,228.85626703097319,101.1417766668683]
[null,"Noviembre",89.830572756661624,91.497951812532136,73.140951853767149,80.294682590700944,97.388719145987963,94.466837624183256,98.861104355691566,null,1.7747533745715138,1.8687226082606534,11.494796124785299,-1.2230975474462169,6.4733471403169096,0.249704534123385,0.43873966074290394,null,177.36279495790401,100.45924225028702,107.3765823490529,124.88423738111452,159.10282606963071,218.34906231094976,100,null,197.4414606465383,109.79397927520327,146.80774535684748,155.53238813796312,163.36884545234841,231.13832092020093,101.15201590325231]
[null,"Diciembre",88.809535248644806,91.713563383348514,73.234761517298608,80.190933751982172,97.255241613191643,94.199993103264376,98.607275504774478,null,2.0174654961778948,2.9165016553456269,11.379413315730492,-0.223165503634426,6.8378860454923585,-0.58402361221819854,0.81293806004856251,null,177.44241574605445,100.45924225028702,107.65529273446862,124.88423738111452,159.53564798586538,218.32728372655774,100,null,199.80108582851994,109.53586202989727,147.00026395121071,155.73361169151818,164.03809742242836,231.76995723048722,101.41239527012192]
[2010,"Enero",87.128195941500309,91.623847134841967,72.917228907383617,80.01377863005456,97.286627108608656,93.350063488491614,98.151440640339629,null,-1.2114001250589368,1.8185171870840788,7.763976457102717,-0.9229783795183466,5.8315464837909614,-1.9450151529382786,-0.41688047546341034,null,176.31163710093384,100.45924225028702,108.20182662184878,124.88423738111452,160.58561680090631,218.4513006654567,100,null,202.35887498383778,109.64311736707812,148.3899323152861,156.07841489216437,165.0644303061633,234.01301777624158,101.88337465818165]
[null,"Febrero",84.943498583558181,91.528215042266552,70.704359348014478,79.476597344702142,96.464783396545613,93.454517026288556,97.940466889270951,null,-4.8587822637379929,1.0870618661510401,2.2259220008332692,-1.3167439612401299,4.5911154441941493,-2.5425126426505962,-0.79604467590199679,null,173.02790998010803,100.45924225028702,105.35038844160316,124.88417128853717,161.51094176144937,218.9473684210526,100,null,203.69764945565785,109.75767658518878,149.00126302404806,157.13326370389944,167.42995326855527,234.28227483050733,102.10284183457846]
[null,"Marzo",82.605067872563083,91.612557204026018,69.102381867830942,79.434361100188909,96.18566856407746,93.309101234252765,97.951146821850401,null,-8.1713606155084602,1.4113980047021357,-2.2051207025271302,-1.608450697552033,3.3264192534834924,-3.0761057526845437,-0.37422579330222971,null,167.98446718096832,100.45924225028702,103.72148993507962,124.88419513171567,162.14832398472723,219.58439201451904,100,null,203.35854870323718,109.65662930525883,150.09828479351566,157.21684344411335,168.5784653840675,235.33009010905786,102.09170922916908]
[null,"Abril",79.382944166955326,91.935702118505873,69.135050744029016,79.170079616225294,96.335655531779054,93.457728662994427,97.809780574272224,null,-12.367322803732195,1.5968983749425236,-2.5168602166772525,-1.8511126062506933,3.249934929717746,-3.4549670982626624,-0.3600340029715543,null,161.24850916610629,100.45924225028702,103.49511542113999,124.88419513171567,162.62957183869202,220.33635813672109,100,null,203.12739828214768,109.27119708162367,149.69991966061954,157.74165661710614,168.81555530085538,235.76044623473246,102.2392642257945]
[null,"Mayo",80.753933744204261,92.199223802599121,69.216847692483796,79.086058141546246,96.820950072670016,93.920292821168729,97.653095088134535,null,-11.944792073800169,1.8788672975091902,-2.6638590393969874,-2.2376881056548892,2.7679834246717938,-3.4769823763979413,-1.1293056477188479,null,164.75144742718606,100.45924225028702,103.43116586686909,124.88417128769802,163.22698205454628,222.00967937084087,100,null,204.01662159152752,108.95888067926992,149.43062175612573,157.90921209422712,168.58642879669588,236.38094888988888,102.40330827174226]
[null,"Junio",81.637687970571079,91.68953922230979,68.892260734610574,78.684006796233334,97.085763635742524,94.061771584070911,97.480577813859327,null,-11.923890933812476,0.49283118931955361,-4.341639734558278,-3.055261378265961,1.6547687517327381,-2.0145979077064058,-1.6648581988922495,null,167.12240318523851,100.45924225028702,103.564876303921,124.88417128769802,163.81541836315387,222.1833030852994,100,null,204.71231772938393,109.5645622198125,150.32875275043975,158.71608014460739,168.73268770669125,236.20999194844578,102.5845375998402]
[null,"Julio",79.673003558332809,91.690725890038664,68.608414972257847,78.20047243917432,96.646694301849408,93.936689244893813,96.433062693330882,null,-13.915518848627951,0.24269088831809782,-4.8219259466952602,-2.8087005328608083,0.25207434877880797,-2.0258871195874661,-2.0917853881215809,null,163.58740161004971,100.45924225028702,103.4954395487717,124.88417128769808,164.46177336322842,222.60254083484571,100,null,205.32350269722008,109.56314422765516,150.8494833915353,159.69746395692832,170.16802752671211,236.97081792452667,103.69887381676597]
[null,"Agosto",77.802346157540626,91.972155278182456,68.729467417742597,77.954583334205381,97.757389519535522,94.107730392344735,96.040162797978425,null,-16.302278140752701,0.1268110887341134,-5.7688103789160454,-3.2397044641906514,0.86923880982727741,-1.3608491075279727,-2.3940469597816261,null,159.84743898729442,100.45924225028702,103.58776214178056,124.88416934170307,165.28503448597223,223.1887477313974,100,null,205.45323744302277,109.22788744749343,150.71812140223167,160.201188949086,169.07676780070136,237.16303304829549,104.12310546614871]
[null,"Septiembre",77.637624526263949,91.75261264910597,69.14235815970072,77.544408336681258,97.803322364874106,93.674767354162114,96.096032840281822,null,-16.430244269100314,-0.23310055419289988,-5.2990259278509093,-3.7181715522757175,0.79217440866137245,-1.8468217298008738,-2.9492912704199625,null,159.28381645338038,100.45924225028702,104.44598675112522,124.88417128769802,165.96723495946904,223.74289171203867,100,null,205.16317626320011,109.4892443384454,151.05933545090028,161.04858360060939,169.6948845360246,238.85075782053428,104.06256849979107]
[null,"Octubre",77.367449159371205,91.262119354083168,68.680202986231421,76.915350037957666,96.319808680283259,93.676568035153593,96.066172179430197,null,{"$f":"(C195/C183-1)*100","v":-15.933510310477194},-1.5643241822076881,-6.5703528365446129,-4.3659934372734739,-0.82548617569071503,-1.8205054937858733,-2.8369666818715333,null,159.28362654903452,100.45924225028702,104.16513443101832,124.88417128769807,166.74168129927247,224.9764065335753,100,null,205.87938245310644,110.0777003222119,151.66689948761609,162.36573223169086,173.11255450344828,240.16294709809333,104.09491471485124]
[null,"Noviembre",77.251664747047926,90.88972759039514,67.732118246210575,76.302511627706636,94.98190372434874,93.49388652435762,95.883078391972148,null,-14.002925311061066,-0.66474080576488515,-7.39508233140117,-4.9718995507389234,-2.4713492925513836,-1.0299393144674984,-3.012333296424452,null,160.02127267788526,100.45924225028702,103.48145520088256,124.88417128769808,166.90227061250496,225.14035087719293,100,null,207.14281459416739,110.52870870404408,152.78047974923928,163.66980407804908,175.72007305399936,240.80756426628804,104.29368943620875]
[null,"Diciembre",75.864239731235145,91.143977997269758,67.524558984740139,76.433632976006351,94.797579100253742,93.037573121297257,95.382389255187888,null,-14.576470286851551,-0.62104814715133738,-7.7971204032796333,-4.6854433539788349,-2.5270231939915733,-1.2339915786329647,-3.270434390442567,null,158.04205906499911,100.45924225028702,103.06982333107166,124.88417128769808,167.35461234239898,225.70901391409555,100,null,208.32220770272789,110.22038368052831,152.64049833241324,163.38902970489588,176.53890946456775,242.59985115887383,104.84115650789379]
[2011,"Enero",75.826142994039813,91.007815160268038,67.125298719870457,76.460279946905473,96.090275525546915,92.670941081593455,95.177290562906862,null,-12.971751366284378,-0.67234895045098497,-7.9431572953352685,-4.441108449056963,-1.2297184295701369,-0.72750074453016289,-3.0301644662874216,null,158.27737089641295,100.45924225028702,102.81085392571723,124.88417128769807,168.57957799892651,226.53660012099212,100,null,208.73720414455744,110.38529171739226,153.16260171112373,163.33208742423969,175.4387497349899,244.45268115010802,105.06707998154832]
[null,"Febrero",75.163318968686866,91.287836010385433,65.717825518729668,76.300947225039621,96.339737743804591,92.466555399406403,95.282415109250792,null,-11.513747111852989,-0.26262834009175284,-7.0526540021960349,-3.9957046800698337,-0.12962829370277706,-1.0571577044309555,-2.7139464048351769,null,156.80469902801434,100.45924225028702,100.91623375614405,124.88417128769807,169.38280541741915,227.63218390804596,100,null,208.61864694045696,110.04669038146353,153.55991005421018,163.67315980936465,175.81821311145492,246.17785633388829,104.95116007013469]
[null,"Marzo",75.389187036946666,91.58203105950696,64.885480366456946,76.510856059801895,96.941694704853631,92.633741705429571,95.340171179862224,null,-8.7353972600670673,-3.3320917405543771E-2,-6.102396744354599,-3.680403543121169,0.78600705496216783,-0.72378741182781425,-2.6655896604629969,null,156.14939096658938,100.45924225028702,99.589015553702481,124.88417128769802,169.88344141614496,228.4513006654567,100,null,207.12438627314529,109.69318007919256,153.48428491435783,163.22411971196206,175.24290444206491,246.61780519664185,104.88758176377391]
[null,"Abril",75.662634485098877,89.511388099321053,64.150754695793424,76.145747938573606,97.075372519071749,92.600186540039687,94.950853196151755,null,-4.6865352764342338,-2.636966883724734,-7.2095066027937698,-3.8200437492447281,0.76785379536725706,-0.91757218501105076,-2.9229463161401625,null,155.95343681085492,100.45924225028702,98.451621925385723,124.88417128769807,170.15233726565475,228.88868723532968,100,null,206.11684733442453,112.23068302640813,153.46915619660123,164.00675634369171,175.27858286840572,247.17950987750959,105.31764237380531]
[null,"Mayo",76.011724893581174,89.496348926492431,64.52907625444918,76.047795374443339,96.909278332961691,92.968483829544141,95.042618328048576,null,-5.8724183835359378,-2.9315592524874368,-6.7725873025327843,-3.8417172868384752,9.1228458536485313E-2,-1.0134220869997712,-2.6732145639930094,null,156.98788647653848,100.45924225028702,99.055797548077678,124.88417128769802,170.82226798808367,229.2262552934059,100,null,206.53114594666349,112.2495425291583,153.50568038117225,164.218003523698,176.27029209852449,246.56340068284607,105.21595654576828]
[null,"Junio",75.877480094202269,89.350505665029203,65.083048189907615,75.644186353751337,96.82295487318865,92.267133395312229,94.799759743789508,null,-7.0558194622626473,-2.5510364400560315,-5.5292314464420844,-3.8633269532831083,-0.27069752836256233,-1.9079357729879232,-2.7501048210740842,null,157.75613094311589,100.45924225028702,100.54383575124434,124.88417128769802,171.97910823046635,230.06654567453117,100,null,207.90902748386065,112.43276297383693,154.48544367169885,165.0942092280232,177.62224717858646,249.34831852727748,105.48549940449735]
[null,"Julio",75.567882004363526,89.196892766931612,64.357705825978499,75.110636905350162,97.045716059573607,91.604973782012891,94.813315860821319,null,-5.1524624033581272,-2.7198313666943918,-6.1956090196780389,-3.9511724641145718,0.41286643129041511,-2.4822201864088678,-1.6796592239951558,null,157.50205249295232,100.45924225028702,100.27878056486405,124.73420532580755,172.83409858738511,230.15366001209921,100,null,208.4245956289441,112.62639216904509,155.81472222769278,166.06729814179315,178.09554672283232,251.24581178286527,105.47041741140278]
[null,"Agosto",75.700711962295486,89.343194090428483,64.734233963565501,74.938294662436078,97.092415882963692,91.446059646378885,94.653154394207391,null,-2.7012478402509532,-2.8584316414052902,-5.8129847418921248,-3.8692897104432356,-0.6802285124839047,-2.8283231726756952,-1.4441962230828609,null,157.74865685064668,100.45924225028702,101.19035287171172,124.57626217591597,173.53181772759504,230.26013309134905,100,null,208.38464099151022,112.44196412835595,156.31659892455804,166.23845356646697,178.72849918244106,251.79885714241047,105.64888263894967]
[null,"Septiembre",76.739999671717712,89.720467926213672,65.083470477288188,75.51148168916805,97.312214248703881,91.589714390379655,94.101379923922195,null,-1.1561724872746204,-2.214808564268278,-5.8703344670969493,-2.6216289363981904,-0.50213847985455251,-2.2258426924076202,-2.0756870574198172,null,159.42237202057882,100.45924225028702,101.51484153662086,125.07581190323151,174.08066559920573,230.76588021778582,100,null,207.74351407683608,111.96914658637864,155.97638047289735,165.63813754587386,178.88881364296398,251.95610855843529,106.26836724482322]
[null,"Octubre",77.008851646865594,89.60214582811011,64.890979406348549,75.57227356606812,96.903243017243938,91.745390836701802,93.701040108889828,null,-0.46349920593469207,-1.8189074916533654,-5.517199156564101,-1.7461748158550172,0.60572622075827365,-2.0615370940223698,-2.4619822117225909,null,160.69112295526432,100.45924225028702,101.38545332041895,125.54073594284829,174.44943796579972,231.70054446460981,100,null,208.66578259358414,112.11700492419547,156.23967190499823,166.1200993683164,180.02435474193206,252.54734036395905,106.72240124953805]
[null,"Noviembre",75.61375611307669,89.393287292809134,64.45567527506077,75.182487613000347,95.776286020047465,91.921189784334842,92.80671163467359,null,-2.12022438524061,-1.6464350122490035,-4.8373549447246367,-1.4678730631713433,0.83635120433480648,-1.6821385851930049,-3.2084563917757269,null,158.38730516577124,100.45924225028702,101.00959222677433,125.47135120779708,174.72443717376143,232.55656382335147,100,null,209.46890262786408,112.37895516833514,156.71171203423421,166.88906578039447,182.42974794114369,252.99559804325295,107.75082775655518]
[null,"Diciembre",74.383969047284694,89.330713507936622,64.031757591298572,74.974568171395461,94.702781786350997,91.844199681807623,92.376692000575147,null,-1.9512100683993117,-1.9894506792181632,-5.1726385865487945,-1.9089303331544016,-9.9999720248644675E-2,-1.2826790289701351,-3.1512077628620072,null,157.62718589227748,100.45924225028702,100.81170922684663,125.64375959086071,175.28662523690997,233.1960072595281,100,null,211.91015740512103,112.45767363244185,157.44017190705097,167.58183828899564,185.0913161477724,253.90390255174634,108.2524150132778]
[2012,"Enero",75.221288855614944,89.423734072280112,64.339763904469081,75.454547660019671,95.746169281699892,92.589000496992782,92.315240493511524,null,-0.79768548754011182,-1.7405989641640085,-4.1497540696631585,-1.3153656873662878,-0.35810725067131344,-8.8421012719108738E-2,-3.0070724355235612,null,158.98066129440841,100.45924225028702,100.9478280235973,126.15720635803893,176.67278567538494,235.07803992740475,100,null,211.3506212311346,112.34069264999272,156.89803924907687,167.19629269593327,184.5220409346995,253.89413285116939,108.32447542291632]
[null,"Febrero",75.482778802396524,89.52638929211885,64.101193979942096,75.362533321626742,95.475163930391872,92.871860211800467,92.124353939462011,null,{"$f":"(C211/C199-1)*100","v":0.42502092522382906},-1.9295524959822563,-2.4599589624687557,-1.2298849982099846,-0.89742180502075941,0.43832584726808399,-3.3144218334177911,null,159.28086568597678,100.45924225028702,100.63188534906486,126.65424583425013,177.55132361371929,235.58681185722929,100,null,211.01616582366694,112.2118774638559,156.98909661581899,168.05996328935012,185.96597932334186,253.66866919641521,108.54892948906141]
[null,"Marzo",75.483456053494351,90.072861427797378,63.877521530055631,75.679074171587828,95.952557152770197,93.564059594711765,92.033445600686591,null,0.12504315307377833,-1.6478883622148222,-1.5534428206566586,-1.0871423103198996,-1.0203427483859606,1.0042970003743878,-3.4683444955614706,null,158.71554126299282,100.45924225028702,99.850963107218519,127.16607653257113,177.80996213970943,235.90078644888081,100,null,210.26533436745757,111.53108789689709,156.31627639190211,168.03334068840005,185.31029022666954,252.12756636546575,108.65615141030207]
[null,"Abril",74.692860227899331,89.788775240634223,64.037227196489724,75.327633993147131,95.453315880502203,93.893921826681137,91.660942374551581,null,-1.2817082881121933,0.3098903359708638,-0.1769698577079204,-1.0744052919231195,-1.6709249694106254,1.3971195253284385,-3.4648565135099951,null,157.57331748988506,100.45924225028702,100.17156723104732,127.59128805284968,178.22388410856411,236.04113732607379,100,null,210.9616863099161,111.88396543003947,156.42708408295718,169.38178101340227,186.71314083177811,251.3912857551976,109.09772189704614]
[null,"Mayo",73.829874977646881,89.931313982789305,64.169686825559324,75.432363845310803,95.946714930268072,94.045514804572022,91.167892233556515,null,-2.870412319926896,0.48601430283388147,-0.55694184660682877,-0.80926938920751201,-0.99326237822805474,1.1584904159592346,-4.0768301238483069,null,157.47580499943538,100.45924225028702,100.62748286917382,128.07441037161925,178.80824179130167,236.06896551724134,100,null,213.2955054401942,111.7066323188745,156.81467036409634,169.78708321306425,186.36202596540744,251.01565556613318,109.68773934557699]
[null,"Junio",72.935747674161107,90.290282684360207,64.536189883852501,75.626211885376094,96.676010861522343,93.812684381641404,91.098132434412378,null,-3.8769506003480725,1.0517870182561451,-0.84024691723015854,-2.3761863590132659E-2,-0.1517656756693353,1.6750829135520728,-3.9046800533897197,null,156.04153208043942,100.45924225028702,101.47314746235878,128.59210636885601,179.82629448002351,236.33030852994551,100,null,213.94383009214027,111.26251825069127,157.23448757198511,170.03642409560115,186.00922077515665,251.91722216211733,109.77173442276292]
[null,"Julio",73.106999001714783,90.419564435945176,63.999395143146806,75.746371409858199,97.002620959407011,93.886455367506599,90.694901028187701,null,-3.2565197506880583,1.3707558986481239,-0.55674868802899624,0.8463974354379955,-4.44070093110982E-2,2.4905651858192934,-4.3437093147118073,null,156.18977955157482,100.45924225028702,101.14852931274699,129.11117573578494,181.20910836707489,236.42286751361161,100,null,213.64545349195811,111.10343527639324,158.04607072693278,170.45196137142148,186.80846617835823,251.81786508838181,110.25978182491241]
[null,"Agosto",72.943439147992805,90.762510135258452,64.569072391708048,76.028412585310349,97.830438263508597,93.533636514819747,90.754756242568348,null,-3.6423340584643471,1.5886112638791694,-0.25513791041447131,1.454687390185172,0.76012361401587292,2.2828505421813805,-4.1186140880241195,null,155.79728796247215,100.45924225028702,101.94356538718516,129.65703551486624,182.19975590551826,236.60556563823349,100,null,213.58643050320069,110.68363149121596,157.88296410508252,170.53760706812079,186.24035539405324,252.96307772738524,110.18706251903873]
[null,"Septiembre",73.012824613719047,90.796912080279228,65.256267035749985,76.125020427439651,97.954702376911882,93.569931143115227,91.096241527804921,null,-4.8568869871552849,1.1997754569791352,0.26549991448612253,0.81251052760047404,0.66023379816018135,2.1620514551397907,-3.1935115070011011,null,155.3602129370301,100.45924225028702,103.07085920869308,130.18087429026801,182.81401029847964,237.1724137931034,100,null,212.78482754088387,110.64169468832235,157.94783227828026,171.00931278481951,186.63117324888046,253.47075806900844,109.77401298107061]
[null,"Octubre",72.629165848170132,90.68619461467172,64.3859465943505,76.046509435323102,97.637683430138424,93.846043811646723,90.934162657652479,null,-5.6872498486006506,1.2098469032663761,-0.77827891737544119,0.62752626972428782,0.75791107709759498,2.2896550505560498,-2.9528780555925116,null,155.29299018974498,100.45924225028702,101.76371113516649,130.66872456660681,183.18028665137285,238.52571082879609,100,null,213.816293187756,110.7767755358368,158.05267533970786,171.82737976650913,187.61228269251362,254.16703905763791,109.9696715485009]
[null,"Noviembre",71.999495070028146,90.381663254686259,64.075573278197524,75.864942017017583,96.705614745606042,94.007748074474605,90.377609671577034,null,-4.7798988290485012,1.1056489718737961,-0.58971067363918772,0.90773054428598954,0.97031192602734517,2.2699426487355456,-2.6173774722872745,null,155.93283218932928,100.45924225028702,101.7459717308997,131.18563778043887,184.04662115666085,241.59407138535988,100,null,216.57489686235425,111.15002604809692,158.7905757614501,172.91997369616664,190.31637577695381,256.9937865057301,110.64687411338909]
[null,"Diciembre",71.592249569742009,90.179940111575149,63.708172847251689,75.86856381933633,95.266917314358352,93.716471462321124,89.822333836661187,null,-3.7531198096837692,0.95065467440051954,-0.50535040145588406,1.1923985289213679,0.59569055667239024,2.0385302359865465,-2.7651544005256823,null,155.90065018500417,100.45924225028702,101.98344667560974,131.70282764361542,184.78430387062221,243.01512401693887,100,null,217.76191015360206,111.39865709158134,160.07906382769414,173.59341077977388,193.96481914165184,259.30887092205933,111.33088590399637]
[2013,"Enero",71.019648333907682,90.063487075445494,63.515580341414449,76.01711299636824,95.038086014268714,93.76103524610555,89.591954977728605,null,-5.5857066338921513,0.71541745578223015,-1.2809863030867952,0.74556849625997401,-0.7395421380753997,1.2658466370968569,-2.9499847492401088,null,156.21979122051863,100.45924225028702,101.87364364773946,132.19763656165335,185.97892415466399,245.46642468239565,100,null,219.96700192886328,111.5426967269578,160.39158124689945,173.90510024758393,195.68883587022333,261.80003669764443,111.617164760897]
[null,"Febrero",71.003425666069631,90.418088048441717,63.088302205405185,76.130645263897094,95.75572781027445,94.644845949175334,89.831119070736733,null,-5.9342716410232033,0.99601778131954699,-1.5801449421579461,1.0192225611528549,0.29386058984630647,1.9090666788965427,-2.4892819006711697,null,156.49585497431426,100.45924225028702,101.18452606009126,132.71878573175329,186.98408945314026,246.56942719775842,100,null,220.4060628149366,111.10524942361724,160.38555884837575,174.33030453334615,195.27196307631965,260.52071269698848,111.31999805240751]
[null,"Marzo",70.722367632533732,90.248966570850371,62.80886196944865,76.184931053859387,96.081441554364972,95.075993586640507,89.697615272823356,null,-6.3074595015714223,0.19551409854361435,-1.6729821931243172,0.66842371924982213,0.13432096592231879,1.6159345783818502,-2.5380233377308326,null,155.63909086007334,100.45924225028702,100.95210101878564,133.19123248799852,187.38414317125341,247.98064125831817,100,null,220.07053223777561,111.31345439996925,160.72907206612109,174.82621647821429,195.02636527911309,260.82361267393884,111.48568409075428]
[null,"Abril",70.135373995769115,90.726633491815818,62.531655227206592,76.178736178248499,95.385168923735378,95.177995634739105,89.29999944801304,null,-6.1016357095238121,1.0445161420991944,-2.3510886326534419,1.1298671416903883,-7.1392969577022125E-2,1.367579267194996,-2.5757349481430047,null,155.63637794084687,100.45924225028702,100.78208760417044,133.6296521503493,187.40250266013118,248.35269207501511,100,null,221.90853070839199,110.72739986472568,161.16971034587561,175.41594788035471,196.46922553543692,260.93498861660061,111.98208355893225]
[null,"Mayo",70.263733666410275,91.021958229915398,62.416192320109523,76.416624385788822,95.102200979226964,95.621438359467092,89.095827520773682,null,-4.8302144793233248,1.2127524872313389,-2.7325900938499958,1.304825263724263,-0.88019058459154476,1.6757030446054255,-2.2728009412289141,null,155.66839038772025,100.45924225028702,100.68613943948661,134.17161816511455,188.3664397486686,248.60798548094371,100,null,221.548702673251,110.36813995644181,161.31413291458841,175.57909583620182,198.06738204703927,259.99189067451425,112.23870161224316]
[null,"Junio",70.381989695270121,91.056077274674507,62.411716627770872,76.57539449385628,95.724542186929156,96.674585043506383,89.008520131312451,null,{"$f":"(C227/C215-1)*100","v":-3.5013804071768018},0.84814729508755349,-3.2919099499135296,1.2550973859682735,-0.98418280410438319,3.050654269973152,-2.2938036678242346,null,155.58486638703252,100.45924225028702,101.06384631719607,134.69861402105735,189.48458575689381,250.83242589231699,100,null,221.05778347651386,110.32678461125387,161.93088698384952,175.90325836566777,197.94775867078241,259.46056637267708,112.34879520800037]
[null,"Julio",70.134364255709713,91.200814643943829,62.289477374664187,76.568329822451403,96.623847239226848,97.145534981884268,88.804063809989103,null,-4.0661424851201282,0.86402783830274998,-2.6717717638706784,1.0851455948241329,-0.39047782053092117,3.4712990298977786,-2.0848329914500141,null,155.50185105869986,100.45924225028702,101.12949506145344,135.20296282417743,190.58377126170657,253.52510586811854,100,null,221.71991249787411,110.15169397607787,162.35405934323532,176.578179434878,197.24299612066611,260.97453260759329,112.60745928696061]
[null,"Agosto",70.196687955410127,91.235038945273203,62.891413643378812,76.378605009812176,96.642912911905654,97.687773793096852,88.672362155493389,null,-3.7655904693633557,0.52062113455275671,-2.5982388877320739,0.4606073079703954,-1.21386081129915,4.441329807185368,-2.2945288746180514,null,155.52596212832583,100.45924225028702,102.12802681649097,135.22202280703547,191.36586188122936,256.32183908045971,100,null,221.55740770436068,110.1103736148421,162.38786966309985,177.04175506958236,198.01334222579564,262.38886313793017,112.77471082211927]
[null,"Septiembre",70.467971760135086,91.182014788917769,63.112420962465237,76.481866012557646,97.07992773887257,97.888927328432487,88.71598751273801,null,-3.4854874702461291,0.424136349811155,-3.2852723127883898,0.46876254760170877,-0.89303996317945389,4.6157949808805165,-2.6129003514820059,null,156.14970634344948,100.45924225028702,102.6654426046107,135.66051399905768,192.223878405428,257.79612825166362,100,null,221.58961361193312,110.17440498857765,162.67074062278292,177.37605143784467,198.00579057132742,263.3557597242002,112.71925478555012]
[null,"Octubre",70.659750863199676,91.072455389163053,63.097436213722652,76.21883247092893,97.341656729771216,97.370901069466996,88.369061528184304,null,-2.7116034749558926,0.42593117522746748,-2.0012292259145026,0.22660216344629891,-0.30318898397361238,3.7559998425664265,-2.8208332869630426,null,155.78457115359774,100.45924225028702,102.87896287932543,135.69774662364929,193.23721989538564,256.73926194797338,100,null,220.47144130921629,110.30694387343918,163.04777032596922,178.03703130116375,198.51441447296168,263.67144509098125,113.16177661127038]
[null,"Noviembre",70.343580794553517,90.811402948027236,62.178932360339786,75.932039639599765,96.954174364708663,97.16367205543979,88.129585406235847,null,-2.2998970671447849,0.47547221180253008,-2.9600061627588992,8.8443516594427507E-2,0.25702708137111951,3.3570892246722162,-2.4873685789104982,null,155.66633874255515,100.45924225028702,102.04404551646266,135.82423683348327,193.73751675900229,256.87235329703566,100,null,221.29430572662562,110.62403948079226,164.1135375646148,178.87605479604264,199.82380132517821,264.37077547920279,113.46927316070663]
[null,"Diciembre",69.971448149782034,90.820274556076228,61.703765224472185,75.856373240073424,96.00082720387006,97.12388685939375,87.886874047621092,null,-2.2639341963700432,0.71006306248244666,-3.1462331019684431,-1.606802428992804E-2,0.7703722448475725,3.6358767502707279,-2.1547645294539564,null,155.64041340819634,100.45924225028702,101.58295049022909,136.11205792552903,193.86344815754524,257.74208509780192,100,null,222.43417497238283,110.61323337913859,164.63006774494295,179.4339118939366,201.93935177855428,265.37455762137603,113.78263373642743]
[2014,"Enero",70.12065193494891,90.716966673260643,61.674020370437383,75.123337236668647,96.301763796641467,97.850764460556334,88.037642239994,null,-1.2658418058225651,0.72557661160479459,-2.8993830507068608,-1.1757559902890513,1.3296540738236606,4.3618643967784587,-1.7348798093768436,null,156.55805833658036,100.45924225028702,101.4134550144246,136.32731502705923,195.15525764646102,259.30913490623107,100,null,223.26954187736251,110.73919899914155,164.43464266687531,181.47132441357536,202.64972307108158,265.00471032166405,113.5877761553361]
[null,"Febrero",73.063799437165571,90.878158764445686,61.093749292061254,74.959516131627268,96.613114771926632,98.385302031330099,87.8950480086515,null,2.9017948806947969,0.5088259726941935,-3.1615257403028396,-1.5383149955057629,0.89538973934903954,3.9520969627478753,-2.1552342686065096,null,163.60613891958283,100.45924225028702,100.28939831048361,136.63891844733342,196.35658596879551,260.65638233514818,100,null,223.92229829258073,110.54277905285832,164.15656179660198,182.2836185433728,203.24009471419285,264.93427062117877,113.77205231193118]
[null,"Marzo",76.358253378914597,91.238896588754812,61.118318972984447,75.204221586282259,97.550726318980182,98.570860087453113,88.079379796708338,null,7.9690286610091476,1.0968879262759135,-2.6915676282854961,-1.2872748639541465,1.5292076605489591,3.6758663979964856,-1.8041008907461076,null,170.93395296408465,100.45924225028702,99.912727310395539,137.01256498792534,196.97612710845024,260.83000604960677,100,null,223.85786133144578,110.10571807229483,163.47427250831132,182.18733217088086,201.92174322142913,264.61167714088691,113.53395111410303]
[null,"Abril",75.483795985526143,91.974516982954938,61.359528934706937,75.309221673635363,97.438289941124808,98.465216240182258,87.940359597188859,null,7.6258550928660851,1.3754323764825882,-1.8744526883876289,-1.1414136650660378,2.152453091560802,3.4537611172842819,-1.5225530338504711,null,170.34145479615304,100.45924225028702,100.16794165937237,137.30525391254665,196.97143268289264,260.79854809437381,100,null,225.66625402465937,109.22508271383965,163.24757278687997,182.32196650176661,202.14992771518135,264.86363210559387,113.713430850238]
[null,"Mayo",76.131967406373533,92.085449717232805,61.340055174817735,75.356244602545857,97.397081044019174,98.937827547799884,88.128893082721504,null,8.3517248995388584,1.168390032470068,-1.7241313596521257,-1.3876297098516788,2.4130672488783755,3.4682485907245875,-1.0852746587113993,null,172.10990171432755,100.45924225028702,100.0119125926463,137.6136374008166,198.05015941126962,261.18249647106268,100,null,226.06784978463469,109.09350234892446,163.04503200659775,182.61743021648323,203.34301324878487,263.98648822653541,113.47016455333869]
[null,"Junio",75.849523651745287,91.89677492247047,61.683123165816191,75.525300937271453,96.964738317247935,99.538749968583247,87.899296669649502,null,7.7683708291676812,0.92327461599290839,-1.1673985291897671,-1.3713198130100079,1.2955884687303465,2.9626865466119146,-1.2461991953428009,null,171.80553930629981,100.45924225028702,100.92115417484577,138.2669550857467,199.42455880805377,262.32486388384751,100,null,226.50839588014549,109.31748403035944,163.61226376872997,183.07368970378042,205.66709328454965,263.54044426581947,113.76655307701536]
[null,"Julio",73.515779018782823,91.346754958165789,61.045512060455778,75.087157108904009,96.927896323720702,99.384586896299993,88.635744498973963,null,4.8213380116264748,0.16002084498007996,-1.9970713620313441,-1.9344456343529659,0.31467292307361117,2.3048428472119298,-0.18954009962346419,null,168.10308957414969,100.45924225028702,100.4912649619574,138.56444524778277,200.45146173106156,262.97459165154265,100,null,228.66259708844328,109.97570991579776,164.61695802049613,184.53814285019916,206.8047170461555,264.60299314413408,112.82130089306983]
[null,"Agosto",73.307745760304641,90.972415187875512,60.933063870119057,75.154052569014013,96.734516450207792,98.887842834020205,88.342678370815023,null,4.4319153730881133,-0.28785405304120326,-3.1138587285769015,-1.6032663082035215,9.4785572518540917E-2,1.2284741419792189,-0.37179993479844464,null,168.46536602536648,100.45924225028702,100.89396238728357,139.11970178650509,201.02041724504448,263.11494252873564,100,null,229.80568325781019,110.42824579606838,165.58163331872257,185.1127078726079,207.80629771227092,266.07410475154654,113.19557188458087]
[null,"Septiembre",73.475560198033961,91.147589165765737,60.286515225874204,75.544213918925536,97.118343773585764,99.129903759262447,88.119675864820522,null,4.2680218584073337,-3.7754839297776677E-2,-4.4775746097137965,-1.2259796243440979,3.9571552645289998E-2,1.2677393293587746,-0.67215804573202975,null,168.49197976297901,100.45924225028702,99.799169226147626,139.88724881189179,201.4492465469408,264.06997378503718,100,null,229.31703999105744,110.21601686862681,165.54144629563044,185.17268438588764,207.42656713399489,266.38780405389338,113.48203340353228]
[null,"Octubre",73.445934217392306,90.869442623978529,59.411655939831867,75.578223561252074,97.157060274028254,99.310803534763053,87.988761264638498,null,{"$f":"(C243/C231-1)*100","v":3.9430981855381964},-0.22291346413910729,-5.8414105153280165,-0.84048638493799954,-0.18963767614457172,1.9922815173622377,-0.43035453468577289,null,168.35925697211758,100.45924225028702,98.749307256840694,140.70515065994275,202.39002445650257,264.9957652752571,100,null,229.2288317468898,110.55338224753008,166.21200957072693,186.17155052064541,208.31221517578675,266.83478115500014,113.65087831982999]
[null,"Noviembre",72.467358763785782,90.845430201804945,58.794377599832686,75.133683796417344,95.581380185639901,99.411829635939995,87.854857079442596,null,3.0191496441373866,3.7470243464010622E-2,-5.4432500398895689,-1.0514084001584822,-1.4159206533024271,2.3137840850821823,-0.31173223557887653,null,167.58947631502824,100.45924225028702,98.445406659657223,141.13971487300151,202.96125956913275,266.32486388384751,100,null,231.26201806430123,110.5826039098784,167.44017145601586,187.8514505630184,212.34393055942249,267.90057567511462,113.82409957092661]
[null,"Diciembre",71.927389837067395,91.072768492843366,58.566256385960855,75.31771303631416,95.296769677992387,99.81389446922671,87.668889325301166,null,2.7953425847331959,0.27801494545278693,-5.0847931679653291,-0.7101054014993391,-0.73338693674224187,2.7696663476074468,-0.24802875819864845,null,166.9313119372176,100.45924225028702,98.514163036778839,141.9373842989682,203.37280609173379,267.05081669691469,100,null,232.08309423622438,110.30656464361381,168.2097663670954,188.45153228501988,213.40996843747186,267.54873969900876,114.0655491013961]
[2015,"Enero",71.857069219567734,91.319705475708133,58.637468464718182,75.717395869408307,95.708582940875672,100.24830121922479,87.200592385836643,null,2.4763279243748437,0.66441683904445714,-4.9235510957134405,0.79077774575979642,-0.61596053112630278,2.4501972691638008,-0.95078631464882157,null,167.6212751195126,100.45924225028702,98.747753440408545,142.80203353705841,204.70510312720728,268.97943133696305,100,null,233.27040323245868,110.00828542642429,168.40384830021182,188.59871222110257,213.88374672067249,268.31320637419475,114.67812002644409]
[null,"Febrero",72.204101013243218,91.826140834601304,58.72080524689251,76.150926954456821,95.688979956759113,101.12665223622402,88.269588739797712,null,-1.1766407311758931,1.0431352076715861,-3.8841028299389291,1.5894057009885998,-0.95653143711297295,2.786341199644804,0.42612267656916281,null,167.42580323361562,100.45924225028702,98.7701542939717,143.92152067732533,205.24417349620455,270.71264367816093,100,null,231.87852335826111,109.40157272996565,168.20299701049925,188.99510016916759,214.49092005051398,267.69663356975093,113.28930091062432]
[null,"Marzo",72.050849945956983,91.915457872935036,58.822243921579755,76.300020572429702,96.176344298427253,101.3735475586512,88.014520439534735,null,-5.6410449982176374,0.74152725369940331,-3.756770621292127,1.4570977041364896,-1.4088895822864989,2.843322528292358,-7.3637390866398977E-2,null,166.32741611738538,100.45924225028702,98.563755677904211,144.3204274922175,205.85743470384435,270.15607985480938,100,null,230.84726445578676,109.2952639034481,167.56204644166036,189.14860888565255,214.04165047601077,266.4956355586811,113.61761616220949]
[null,"Abril",72.085731224853618,92.093869114362178,59.354099314228911,76.631137820932736,96.487477392807122,101.9280988991564,87.764903237561981,null,-4.5017141974737163,0.12976652155656243,-3.2683262979610106,1.7553177657659402,-0.97580997048716256,3.5168588372641807,-0.19951744617665579,null,165.94058096487012,100.45924225028702,99.588886068999798,145.01097517898464,206.51785354677071,270.39564428312156,100,null,230.19892861634364,109.08352881290797,167.78771343452169,189.2324442811198,214.03591339218292,265.2807687021027,113.94076254983165]
[null,"Mayo",72.770462141736644,92.377031848159731,59.32745299321406,76.688078833362837,96.946202906543164,102.29990972427075,87.785702989494808,null,-4.4153663423591949,0.31664300041134297,-3.2810570122048355,1.7673840274837538,-0.46292777221139669,3.3981766729682228,-0.38941836351509274,null,166.17684910031124,100.45924225028702,99.239665825879314,144.99434901289482,207.50864379662931,270.78342407743492,100,null,228.35755636214719,108.7491557592065,167.27444179548795,189.07025866165736,214.04514831454424,264.69566278922269,113.91376567545043]
[null,"Junio",73.093556744237759,92.776990212957315,59.068494528112559,76.480684220785122,97.787284035549177,102.36269042217882,88.00809068716859,null,-3.6334663354792407,0.95783044750965551,-4.2388071542275867,1.264984411392378,0.8482936504299543,2.8370262380096989,0.12377120368547434,null,167.04587173385715,100.45924225028702,98.825962200825586,144.90786277324366,208.54524970847118,271.09860859044159,100,null,228.53706834703456,108.28034194652803,167.30739963889073,189.46988282024563,213.26418027180048,264.84123021028267,113.62591691195479]
[null,"Julio",73.229000489537,92.851208602367919,58.769965621298383,76.200010726410937,98.732435680048951,102.40616115035822,87.929035789509399,null,-0.39009112475371088,1.6469699935056648,-3.7276228216479357,1.4820825029943308,1.8617337472190965,3.0402845636527065,-0.79731795954254281,null,166.62610852422958,100.45924225028702,98.822466113853295,144.87099283518629,210.11277000471463,271.85722928009682,100,null,227.54114819310854,108.19379064897284,168.1513083581587,190.11938640708615,212.81027714701915,265.46960283077249,113.72807526217721]
[null,"Agosto",73.144766408500203,93.009401465001986,58.651458632240008,76.279423699394499,99.001719336760857,102.11522678123683,88.144831516361762,null,-0.22232214360721203,2.2391252039639875,-3.7444452862937738,1.497419090403751,2.3437372405950452,3.2636812116871416,-0.22395387835402181,null,166.52498446005956,100.45924225028702,98.828940348987175,145.2782391203155,210.97151025937188,272.33514821536596,100,null,227.66493439878914,108.00977177354302,168.50210148850772,190.45534440956808,213.09883471996929,266.69396602212333,113.44964676849789]
[null,"Septiembre",73.330490538120415,93.215816746202364,58.891511593536563,76.206463779344048,99.227567923418533,101.99321333943074,88.436080854303668,null,-0.19743933836305905,2.2690974049519141,-2.3139563252429052,0.87663876035461996,2.1718081959367641,2.8884418037183446,0.3590628158557152,null,166.76634271019952,100.45924225028702,99.355036695964742,145.06189333718561,211.60291612410779,272.86690865093766,100,null,227.41746507683195,107.77059704771588,168.70858636080436,190.35379171668768,213.25012852014865,267.5343777461386,113.07601946398734]
[null,"Octubre",73.445219089336462,91.197024217335198,58.495809616500992,76.592561876941971,99.323900812281309,101.46877626860879,88.482468835873945,null,-9.7367956914951037E-4,0.36049697664837232,-1.5415263366137855,1.3421039393282763,2.2302450610810487,2.1729486189187464,0.56110299104059624,null,166.63150045119238,100.45924225028702,99.225551993287525,145.96422583679777,212.81081675150335,273.60496067755594,100,null,226.87862125989037,110.1562722166007,169.62847876422441,190.57232485748722,214.25942296981302,269.64448645095229,113.01673802240974]
[null,"Noviembre",73.142963984680947,91.062087423850741,57.811377058093122,76.693927221526025,99.06969747132031,101.31630393627142,88.295710625009363,null,0.93228900903834511,0.23848995107900173,-1.6719294971197396,2.0766230887018899,3.6495782744561112,1.91574212777883,0.5017975786678841,null,166.28129309938478,100.45924225028702,98.736488271275618,146.36440573678263,213.4753513879391,274.22565033272843,100,null,227.33737333123486,110.31950298118795,170.79075658768329,190.84223619689914,215.47996696945413,270.66290387499532,113.25578478517329]
[null,"Diciembre",72.869849706128093,90.816556172832932,57.167949036528654,76.933758106435548,98.030674946344305,101.12193070166585,88.07984346747034,null,1.3102934378622644,-0.28132703578739315,-2.3875648465852661,2.1456374669026612,2.8688330964310449,1.3104750990779346,0.4687570988201939,null,166.53790473787606,100.45924225028702,98.392835870370263,147.32552990396624,214.0312562775359,274.88808227465211,100,null,228.54157845733945,110.61776231539004,172.11188704268559,191.49659854149564,218.33090141905367,271.83824553907942,113.53335344758193]
[2016,"Enero",72.77324409497443,90.917367420769423,56.999978939246233,77.38599890300938,98.989986841208534,101.49008492900397,88.13945873544138,null,1.2749961630180273,-0.44058185781790105,-2.7925651777706229,2.2037248038468737,3.4285367095654884,1.2387079827553604,1.0766742792876149,null,167.16987927170331,100.45924225028702,98.835285099418343,148.41157692282266,215.52196488074955,275.41076830006045,100,null,229.7133807220884,110.49510682085348,173.39530108381709,191.78091518703809,217.72097538155236,271.36716704170698,113.45656240090958]
[null,"Febrero",72.895075924894371,91.239527992579113,57.037554480226035,77.529788302727979,98.614361516940875,102.45572137274996,88.126111359536011,null,{"$f":"(C259/C247-1)*100","v":0.9569746066423912},-0.63882989820819303,-2.8665321594096405,1.810695422126396,3.0571770767163775,1.3142619745992734,-0.16254452106335693,null,167.2708840609763,100.45924225028702,99.028346791110096,149.28850437207947,216.5148116081559,276.24016938898967,100,null,229.46801541618487,110.10495610899893,173.61955240462063,192.55631627569733,219.55707898687859,269.61907611189878,113.47374626802835]
[null,"Marzo",73.700325765659045,91.673935691213686,57.560116422510482,77.808146480776287,98.571460604153984,103.02422000671342,88.247799157955725,null,2.289321806667477,-0.26276557535647171,-2.1456636383200722,1.976573396746284,2.4903382668558072,1.6283068786827171,0.265045718883683,null,166.86477759318626,100.45924225028702,99.709306842489625,149.54358824095306,216.85282478263312,276.55898366606169,100,null,226.40982364685499,109.58321085795311,173.22638145932507,192.19528417618861,219.99554785281791,268.44074495108055,113.31727357983046]
[null,"Abril",74.080900673277398,92.334550000207742,57.842121206640861,77.891796177515687,99.017520744426676,103.7275820488188,88.237848900437655,null,2.7677730592762462,0.26134300595699322,-2.5473861537067988,1.6450993583428053,2.622146852611329,1.7654436500799786,0.53887789472690795,null,167.08792198186885,100.45924225028702,99.894858421426107,149.30664701489081,217.11221886522932,276.87961282516636,100,null,225.54790838570506,108.79918973998464,172.70261936721155,191.68468868611069,219.26646641215743,266.92959322512172,113.33005195178099]
[null,"Mayo",74.439567318977936,92.64077179578743,57.172866262639801,77.999618686193173,99.382555724845986,103.98604589612326,88.423973214122014,null,2.2936575199843379,0.28550381231258193,-3.6316858753749348,1.710226508190682,2.5130977235400254,1.6482284064542663,0.72707764805801656,null,167.54497426626565,100.45924225028702,98.795015356885742,149.42399587577083,218.26588411912357,277.14156079854808,100,null,225.07515868318464,108.43955669079941,172.80052901850814,191.57016199903626,219.62192713520281,266.51802980892103,113.0915026379172]
[null,"Junio",75.52591890319006,92.852295322060002,57.06656525915772,78.208333512512397,100.20951095934531,103.82901354820245,88.800021570625191,null,3.3277381308223886,8.1167872475518266E-2,-3.3891658911368694,2.2589354545258455,2.4770367105354518,1.432478103082313,0.89983872763650385,null,169.39910873821105,100.45924225028702,98.724187224521287,150.30772493842798,219.14233398677459,277.4664246823956,100,null,224.29268150361557,108.1925243763142,172.99829904986018,192.18888600200202,218.68416669120353,267.23399866799485,112.6125852576141]
[null,"Julio",75.367516704040611,92.803066946377442,56.249362669750681,78.177273194220888,100.38827709178945,103.600574108346,88.570837936168175,null,{"$f":"(C264/C252-1)*100","v":2.9203132641543617},{"$f":"(D264/D252-1)*100","v":-5.1848173777302442E-2},{"$f":"(E264/E252-1)*100","v":-4.2889304509550863},{"$f":"(F264/F252-1)*100","v":2.5948322696556225},{"$f":"(G264/G252-1)*100","v":1.6770997295219026},{"$f":"(H264/H252-1)*100","v":1.166348728016553},{"$f":"(I264/I252-1)*100","v":0.72990922838636063},null,170.89407305145423,100.45924225028702,98.140729154257713,150.9536493165154,220.60276444926944,277.83121597096186,100,null,226.74765008184519,108.24991625366584,174.47438423517465,193.09147422101998,219.74952737515613,268.17536327588743,112.90397870241293]
[null,"Agosto",75.750917950657964,93.116609963563093,55.739649971495773,78.312327770934942,101.31244581668653,103.79307279033317,88.652184060409311,null,{"$f":"(C265/C253-1)*100","v":3.5630048055699248},{"$f":"(D265/D253-1)*100","v":0.11526630305371821},{"$f":"(E265/E253-1)*100","v":-4.964597179077912},{"$f":"(F265/F253-1)*100","v":2.6650752889164631},{"$f":"(G265/G253-1)*100","v":2.3340266163111689},{"$f":"(H265/H253-1)*100","v":1.6430909101253111},{"$f":"(I265/I253-1)*100","v":0.57558966909292408},null,171.66135443170623,100.45924225028702,97.340254722307094,151.28122087758837,221.63702230817938,277.93163944343615,100,null,226.61290328326004,107.88541624270592,174.6337746506932,193.17676435323034,218.76583920321758,267.77474832532516,112.80037943775652]
[null,"Septiembre",76.515388612633146,93.630259708579018,55.909076416123554,78.629822065025735,102.36090610518956,104.31256367483783,88.694244249681645,null,{"$f":"(C266/C254-1)*100","v":4.3432111951536401},{"$f":"(D266/D254-1)*100","v":0.44460583712424562},{"$f":"(E266/E254-1)*100","v":-5.0642870198297611},{"$f":"(F266/F254-1)*100","v":3.1799904699665982},{"$f":"(G266/G254-1)*100","v":3.1577294972998438},{"$f":"(H266/H254-1)*100","v":2.274024182068235},{"$f":"(I266/I254-1)*100","v":0.29192089120648745},null,172.16054852513844,100.45924225028702,97.200540728118369,151.78762233970062,222.71454734843434,278.76769509981847,100,null,225.00120779196263,107.29356360108684,173.85467075983897,193.04078065212261,217.5777411735348,267.24268417828421,112.74688774447608]
[null,"Octubre",76.876917096529695,93.507907950669036,55.388722281051074,79.125045085335387,102.57218379252109,104.72255835894066,88.719434413287104,null,{"$f":"(C267/C255-1)*100","v":4.6724593509878787},{"$f":"(D267/D255-1)*100","v":2.5339464233248288},{"$f":"(E267/E255-1)*100","v":-5.3116408779022128},{"$f":"(F267/F255-1)*100","v":3.3064349152627237},{"$f":"(G267/G255-1)*100","v":3.2703940881046556},{"$f":"(H267/H255-1)*100","v":3.2066830900950638},{"$f":"(I267/I255-1)*100","v":0.26781076582831354},null,172.55671951094206,100.45924225028702,96.842903979323879,152.55340898826401,223.57651913204023,280.36721113127646,100,null,224.45842787149363,107.43395339705944,174.84227833949259,192.8004070313477,217.96993187186291,267.72379850605535,112.71487545126129]
[null,"Noviembre",76.884677056441433,93.370964564445202,55.148333625852644,79.233266317094817,102.47774570315411,104.74910216384676,88.666691238768578,null,5.1156158677738928,2.5354977092143072,-4.6064348710539438,3.3110041271378066,3.4400511143383605,3.388199227771449,0.42015700551385482,null,172.84165741730772,100.45924225028702,96.9473981343844,153.20757358450433,224.32332099100481,281.24440411373257,100,null,224.80637759644071,107.59152239554027,175.79388489253833,193.36268805499103,218.89954687410778,268.49337923089291,112.78192363207984]
[null,"Diciembre",76.349573893443491,93.571998729049511,55.160561714738186,79.984747637435945,102.04611107501998,104.06073572180824,88.610429403458966,null,{"$f":"(C269/C257-1)*100","v":4.7752591796861754},{"$f":"(D269/D257-1)*100","v":3.0340751426124246},{"$f":"(E269/E257-1)*100","v":-3.5113859349892085},{"$f":"(F269/F257-1)*100","v":3.9657357265447057},{"$f":"(G269/G257-1)*100","v":4.0961016853892529},{"$f":"(H269/H257-1)*100","v":2.9061994759698395},{"$f":"(I269/I257-1)*100","v":0.60239200604912391},null,172.25212650477997,100.45924225028702,96.94480844033086,155.02890642777365,225.10100962231689,281.82577132486387,100,null,225.60980725993559,107.36036807462077,175.75021977056565,193.82308628453322,220.58754346535773,270.82815566313644,112.85353278752585]
[2017,"Enero",76.67714341618246,93.426713703859335,55.282895640233235,80.547792105669103,102.47206612500642,104.25068723520189,88.870469749982163,null,5.3644706509347717,2.7600296338064378,-3.0124279534263665,4.0857432190317899,3.5176075832634934,2.7200709390765354,0.82937996786998092,null,172.9683371805919,100.45924225028702,97.099542660030139,155.89712213528315,226.11011835186989,282.4392014519056,100,null,225.58004833561327,107.52732089958673,175.64120246509663,193.54611474733494,220.65537165615115,270.92310750401992,112.5233165542259]
[null,"Febrero",77.384511610107694,93.466636678431925,54.438945026508286,80.032702124390525,102.47909517046922,104.88803056429451,88.894378152238673,null,6.1587639881723888,2.4409471802988136,-4.5559622557426511,3.2283253655865707,3.9190373431200687,2.374010117693115,0.87178111101293698,null,174.71652779669148,100.45924225028702,95.638825729128357,155.76433731436009,227.08737811183789,284.4652147610405,100,null,225.77712795679207,107.48139209920741,175.68089477589686,194.62586315311952,221.59385554106285,271.20846223408529,112.49305308007449]
[null,"Marzo",77.718326294920317,93.348639344140835,54.016808647541872,79.583351323945109,102.66991308611894,105.61530743546147,89.051766845986421,null,5.4518083706130316,1.8268045767862118,-6.1558384436882445,2.2815153984003578,4.1578489928475681,2.5150274649778481,0.91103426453917891,null,174.5887638346164,100.45924225028702,95.049929301352336,155.27987257189309,227.60095767147538,285.62915910465819,100,null,224.64297953625328,107.61725393760922,175.96361518050873,195.11602613946764,221.68223467820121,270.44295570431217,112.29423462529202]
[null,"Abril",78.128784948286139,93.55799003405798,53.892835790764693,79.42150558393493,102.76379320869201,105.80309211002529,89.315852831809494,null,5.4641402010773721,1.3250078479263516,-6.8276981090775628,1.9638902702064254,3.7834440168773797,2.0009239781851429,1.2217024154659528,null,175.25944155235953,100.45924225028702,94.794714952375543,155.07053269090534,227.87348494153713,286.05021173623715,100,null,224.32121742116519,107.37644343761208,175.89483567056976,195.25005418969593,221.74491406596212,270.36091860034844,111.96220696488204]
[null,"Mayo",79.722658751492887,93.477948790489194,53.785329902312178,79.28077784993296,103.38313571259542,106.16861278917742,89.392193040712698,null,{"$f":"(C274/C262-1)*100","v":7.0971549443276549},{"$f":"(D274/D262-1)*100","v":0.9036809371010035},{"$f":"(E274/E262-1)*100","v":-5.9250770195183318},{"$f":"(F274/F262-1)*100","v":1.6425197780698397},{"$f":"(G274/G262-1)*100","v":4.0254348044998833},{"$f":"(H274/H262-1)*100","v":2.098903631006821},{"$f":"(I274/I262-1)*100","v":1.0949743507296494},null,179.07708522601837,100.45924225028702,94.818928591776171,155.12433273188327,229.35280902437952,286.3781004234724,100,null,224.62507903082823,107.46838537872168,176.29143255975455,195.66449388969312,221.84741006693699,269.73894911120578,111.8665921468736]
[null,"Junio",79.217294949089904,93.503878018942174,53.389137907644717,79.053429274708805,104.0340512518973,106.36903974973006,89.644850776056884,null,4.8875619118669666,0.70174107664451313,-6.4441014363009526,1.0805699651702749,3.8165442141550709,2.446354939458617,0.95138400924799083,null,177.92479652258021,100.45924225028702,94.844566562906266,154.94733255984002,230.70162709057257,286.82032667876587,100,null,224.60347407333967,107.43858370230998,177.64768318037517,196.00330305900039,221.75588118929977,269.64643786726839,111.55130398935178]
[null,"Julio",79.539858367095121,93.45616717530585,52.25071251961144,78.736235301831954,103.92953870696807,106.17218611793329,89.755112279446806,null,5.5359946108332059,0.70374854023496081,-7.1087919228809415,0.71499309808671363,3.5275648888173361,2.4822372189732267,1.3370928523134484,null,179.35329431477257,100.45924225028702,94.293091214203955,154.88966963048429,231.52964120819806,286.994555353902,100,null,225.48857641538032,107.49343278956086,180.46278541907463,196.71967936582365,222.77558823868318,270.31048888370441,111.41426650847073]
[null,"Agosto",80.386540605351357,93.85413640338659,52.379234194068481,78.503293426540935,104.67473509103107,105.96766556001407,89.765190372159381,null,{"$f":"(C277/C265-1)*100","v":6.1195597097752685},{"$f":"(D277/D265-1)*100","v":0.79204605935729866},{"$f":"(E277/E265-1)*100","v":-6.028770864448818},{"$f":"(F277/F265-1)*100","v":0.24385133355322441},{"$f":"(G277/G265-1)*100","v":3.3187327057805138},{"$f":"(H277/H265-1)*100","v":2.0951232208662685},{"$f":"(I277/I265-1)*100","v":1.255475342820267},null,180.32648626432044,100.45924225028702,93.964459038809153,154.47568811148983,232.43284075551398,287.21597096188742,100,null,224.32422754651546,107.03762892080917,179.39257891908977,196.77606042864898,222.05247575107521,271.04114207293219,111.40175783664905]
[null,"Septiembre",80.780984660279714,94.249285814712152,53.163711130717502,78.954580421398916,105.40360684422113,106.17539822636755,89.981919872402315,null,5.5748211242075518,0.66113893954777847,-4.9104107264671626,0.41302186351714898,2.9725222790669692,1.7858199299333855,1.4518141888618663,null,180.70610505169299,100.45924225028702,94.350582422192645,154.54540948176154,233.57428211613333,288.09316394434359,100,null,223.69881453122073,106.58886312176756,177.47177617116677,195.73963746867736,221.59989502194088,271.33702228281231,111.13343674129612]
[null,"Octubre",79.644884123697935,94.071302502197923,53.115289819354011,78.953292492602799,105.02654544489265,106.35962569665152,90.097152864555724,null,3.6005177258769061,0.60251005917715261,-4.1045042529800675,-0.21706476444639522,2.3928140765103967,1.5632423074498858,1.5528936364164636,null,179.26773562466488,100.45924225028702,94.835761603124212,155.09589960332286,234.15846649352721,288.77555958862666,100,null,225.08380493873386,106.79052971328831,178.54700958172728,196.44006564748886,222.9516980698846,271.50862716670696,110.99129863773982]
[null,"Noviembre",79.034277959836132,93.854462163670462,52.576855532865871,78.912663615211855,104.0099171399993,105.87077124563923,90.272114045760134,null,{"$f":"(C280/C268-1)*100","v":2.7958768712999404},{"$f":"(D280/D268-1)*100","v":0.51782435951119865},{"$f":"(E280/E268-1)*100","v":-4.6628391538222402},{"$f":"(F280/F268-1)*100","v":-0.40463143422598824},{"$f":"(G280/G268-1)*100","v":1.4951260162215263},{"$f":"(H280/H268-1)*100","v":1.0708149842067138},{"$f":"(I280/I268-1)*100","v":1.8106267241532192},null,178.17604675444994,100.45924225028702,94.677919750560662,155.77069487156001,234.68146746424009,289.63218390804593,100,null,225.44148103054215,107.03725740295506,180.07527987552879,197.3963211166178,225.63374139444261,273.57143100058011,110.77618050388037]
[null,"Diciembre",78.431600353559631,93.639897282523521,52.130135426505952,78.323350261025581,103.17469486110949,105.31230345165075,90.046381146672744,null,{"$f":"(C281/C269-1)*100","v":2.7269653960634965},{"$f":"(D281/D269-1)*100","v":7.2562897443950725E-2},{"$f":"(E281/E269-1)*100","v":-5.4938278255831197},{"$f":"(F281/F269-1)*100","v":-2.077142737189519},{"$f":"(G281/G269-1)*100","v":1.1059547239971046},{"$f":"(H281/H269-1)*100","v":1.2027281194593842},{"$f":"(I281/I269-1)*100","v":1.6205222713408185},null,177.75524924436726,100.45924225028702,94.820093954100258,155.70255736299791,235.54638180388855,291.0677555958863,100,null,226.63728451678827,107.28252076909979,181.89113298540997,198.79455723496665,228.2985979468838,276.3853282627291,111.05387993007096]
[2018,"Enero",78.891642780860963,94.023884775943458,52.638094241775349,78.628960562514209,104.03140002563175,106.06634192496833,90.363985483341011,null,2.8880827662799202,0.63918663989082081,-4.7841224086190621,-2.3822273621573853,1.5217160730643275,1.7416237129162626,1.6805534364345398,null,178.55193188673704,100.45924225028702,94.848710073391928,155.91436936966707,236.94672382846696,292.40532365396251,100,null,226.32553410340896,106.84438585969815,180.19024328224413,198.29127620949134,227.76462084532832,275.68153888140216,110.66355635502092]
[null,"Febrero",79.282443566864188,94.374390285848804,53.118560360599744,78.39367141270013,104.58070416614399,107.56719393897907,90.514404547708665,null,2.4525992569662813,0.97120602567519754,-2.4254413182797641,-2.0479512351625151,2.0507684930071157,2.554308018055762,1.8224171529672706,null,179.00283722906116,100.45924225028702,95.089681105074249,155.74123766531616,237.64915327102054,294.88263762855411,100,null,225.77865814402665,106.4475669151429,179.0140404023567,198.66557447657107,227.23996282667497,274.13807763344249,110.47965293445823]
[null,"Marzo",79.021682282410538,94.689190096912441,53.348697304925501,78.470229337176491,104.94119343541875,108.20801302529051,90.632752105762705,null,1.6770252907201577,1.4360688727657944,-1.2368582286594876,-1.3986869970298743,2.2122161020966979,2.4548577784649028,1.775355297004455,null,177.95586962117136,100.45924225028702,95.5079166947217,156.08826462690791,238.26944069133012,297.07683000604959,100,null,225.19878656238456,106.09367568512209,179.02577104896577,198.91399062466954,227.05043929004117,274.54235753928538,110.33538944432173]
[null,"Abril ",79.103337020416873,95.031627205065249,53.665034543798079,78.723831836773726,105.35297545690941,108.59150221299069,90.820199334583606,null,{"$f":"(C285/C273-1)*100","v":1.2473662207543645},{"$f":"(D285/D273-1)*100","v":1.5751056328495494},{"$f":"(E285/E273-1)*100","v":-0.42269300478274818},{"$f":"(F285/F273-1)*100","v":-0.87844437351276561},{"$f":"(G285/G273-1)*100","v":2.5195471745182774},{"$f":"(H285/H273-1)*100","v":2.6354712772153288},{"$f":"(I285/I273-1)*100","v":1.6842995449049214},null,177.294358179265,100.45924225028702,95.736845649055013,156.32030883879844,238.99873901966444,298.12462189957654,100,null,224.13006183734657,105.71137757486748,178.39706330743257,198.56796244739908,226.85523401986657,274.53770859052742,110.1076640798792]
[null,"Mayo",79.511608701887198,95.307689316647611,53.885427139887142,79.477408057777893,106.08532031595921,108.82524918236004,91.197912998767578,null,{"$f":"(C286/C274-1)*100","v":-0.26473031997535923},{"$f":"(D286/D274-1)*100","v":1.9574033767679078},{"$f":"(E286/E274-1)*100","v":0.18610509177272583},{"$f":"(F286/F274-1)*100","v":0.24801750585383697},{"$f":"(G286/G274-1)*100","v":2.6137576353612024},{"$f":"(H286/H274-1)*100","v":2.5022804041510804},{"$f":"(I286/I274-1)*100","v":2.0199973807919491},null,177.2737399931431,100.45924225028702,96.183308903886086,157.31281593404117,240.9878042498899,298.31094978826377,100,null,222.95328051755985,105.40518081025343,178.4959570872347,197.93400386142318,227.1641387631615,274.11924349318951,109.65163205143891]
[null,"Junio",79.794577017409097,95.332046352892888,53.965526658102284,79.780001930393681,106.55515708000723,108.79388626497484,91.155851934581975,null,{"$f":"(C287/C275-1)*100","v":0.72873236670123465},{"$f":"(D287/D275-1)*100","v":1.9551791569333288},{"$f":"(E287/E275-1)*100","v":1.0795992837618673},{"$f":"(F287/F275-1)*100","v":0.91909062307726774},{"$f":"(G287/G275-1)*100","v":2.4233467771101136},{"$f":"(H287/H275-1)*100","v":2.2796544191336698},{"$f":"(I287/I275-1)*100","v":1.6855414956289616},null,177.93667571764348,100.45924225028702,96.724684445779559,158.31091664959254,242.72199890642386,298.37023593466421,100,null,222.99344437758265,105.37825012002224,179.23420827258337,198.43433544626308,227.79000618822738,274.25276013025524,109.70222742448288]
[null,"Julio",79.535474661203452,95.202788772082144,53.747144174126028,79.595320160467764,107.17271573980656,109.19084226326646,91.212484791884137,null,{"$f":"(C288/C276-1)*100","v":-5.5113322825373068E-3},{"$f":"(D288/D276-1)*100","v":1.8689206390199553},{"$f":"(E288/E276-1)*100","v":2.8639449729090716},{"$f":"(F288/F276-1)*100","v":1.0910921195845136},{"$f":"(G288/G276-1)*100","v":3.1205536685606772},{"$f":"(H288/H276-1)*100","v":2.8431703779557838},{"$f":"(I288/I276-1)*100","v":1.6237208950281135},null,177.83622988328,100.45924225028702,96.669264993033735,158.5327802315793,243.9087363051629,299.39261947973381,100,null,223.59359850533033,105.521323005347,179.85935155894384,199.17349400940913,227.5847305179085,274.19205976805097,109.63411448352272]
[null,"Agosto",79.74117785070986,95.010587483399632,53.721328898526131,79.327885034721106,107.89256733125093,109.55597883397832,91.203570243200502,null,-0.80282439047829612,1.2321791285176742,2.562264846189044,1.0503911010456779,3.0741250383117258,3.386234145105349,1.6023804607083303,null,178.07957873790255,100.45924225028702,96.996861290807104,158.60848070488919,244.83155156308004,300.31941923774951,100,null,223.32198186400035,105.73478694449648,180.55558803101064,199.94038746333354,226.92161065312325,274.12417143646269,109.64483049659484]
[null,"Septiembre",81.239759487854727,95.078813660747812,54.585493833413949,79.533068132739828,107.96417821209106,109.83498090063479,91.342270086971368,null,{"$f":"(C290/C278-1)*100","v":0.56792428255778571},{"$f":"(D290/D278-1)*100","v":0.88014231499478068},{"$f":"(E290/E278-1)*100","v":2.6743481078674192},{"$f":"(F290/F278-1)*100","v":0.7326841688644059},{"$f":"(G290/G278-1)*100","v":2.4293014675050628},{"$f":"(H290/H278-1)*100","v":3.4467331749158614},{"$f":"(I290/I278-1)*100","v":1.5118039451681886},null,181.61649292114606,100.45924225028702,99.02873524521813,158.88394657008214,245.93970042699138,300.96612220205679,100,null,223.5561676524874,105.65891430738419,181.41950963645715,199.77092585552788,227.79750144890954,274.01663817316449,109.47833889478025]
[null,"Octubre",82.925275728525321,95.027682296525683,54.932056921220394,79.341185045981433,108.088436979831,110.11398521929792,91.42989216356591,null,{"$f":"(C291/C279-1)*100","v":4.118772524965375},{"$f":"(D291/D279-1)*100","v":1.0166541430691955},{"$f":"(E291/E279-1)*100","v":3.4204220819376907},{"$f":"(F291/F279-1)*100","v":0.49129370179841203},{"$f":"(G291/G279-1)*100","v":2.915350135499728},{"$f":"(H291/H279-1)*100","v":3.5298728235037435},{"$f":"(I291/I279-1)*100","v":1.4792246554269139},null,185.74913703734978,100.45924225028702,99.816002237495667,159.11358447362835,247.05374337799512,301.86993345432541,100,null,223.99580273382708,105.71576599838836,181.70810967563915,200.54349374970334,228.56630207733937,274.14313708938533,109.37342004199499]
[null,"Noviembre",84.920595702638423,94.877296171773892,54.699420040643105,79.143502946044407,107.86532193666724,110.50332177734158,91.523132478449,null,{"$f":"(C292/C280-1)*100","v":7.4478035287342204},{"$f":"(D292/D280-1)*100","v":1.0898086084812242},{"$f":"(E292/E280-1)*100","v":4.0370700877126797},{"$f":"(F292/F280-1)*100","v":0.29252507805104244},{"$f":"(G292/G280-1)*100","v":3.706766530232386},{"$f":"(H292/H280-1)*100","v":4.3756652352649805},{"$f":"(I292/I280-1)*100","v":1.3858304371322294},null,191.6632433017177,100.45924225028702,99.436871028056743,160.09417710992713,248.66644571830477,302.88292570506718,100,null,225.69700755851252,105.88333173871976,181.78779766617731,202.2834107040604,230.53418953712335,274.09395557842186,109.26199452750053]
[null,"Diciembre",83.10835146518815,95.012183397103072,54.693519144073065,79.089668634106815,107.01941999772788,110.56605382279739,91.6213064638291,null,{"$f":"(C293/C281-1)*100","v":5.9628403482095527},{"$f":"(D293/D281-1)*100","v":1.4654929729783772},{"$f":"(E293/E281-1)*100","v":4.9172780707255503},{"$f":"(F293/F281-1)*100","v":0.97840346528506039},{"$f":"(G293/G281-1)*100","v":3.726422590145817},{"$f":"(H293/H281-1)*100","v":4.9887336986780939},{"$f":"(I293/I281-1)*100","v":1.7490156707031135},null,188.57094605936607,100.45924225028702,99.875824170132532,160.79641175363574,249.05853648715913,303.37068965517233,100,null,226.89770971856348,105.7330109238917,182.60997963404171,203.3089966497767,232.72274928461289,274.37959406725338,109.14491820685693]
[2019,"Enero",83.879676575670572,95.24445413724311,54.067107714183088,79.243808988874946,108.32846103179138,111.28119856345926,92.046277927496561,null,{"$f":"(C294/C282-1)*100","v":6.3226390261196252},{"$f":"(D294/D282-1)*100","v":1.2981481930982142},{"$f":"(E294/E282-1)*100","v":2.7147895321666615},{"$f":"(F294/F282-1)*100","v":0.78196178858538357},{"$f":"(G294/G282-1)*100","v":4.1305423219344384},{"$f":"(H294/H282-1)*100","v":4.9165989359564621},{"$f":"(I294/I282-1)*100","v":1.8616846469943438},null,190.05637107037884,100.45924225028702,99.873493445484343,160.85295957306056,250.99457518546103,304.23469593524032,100,null,226.58214579418748,105.47516195066817,184.72135401332955,202.98489134418406,231.69772079730845,273.39272030013888,108.64100347302308]
[null,"Febrero",84.749941770339547,95.476354399966709,54.228344689926601,79.118420408482635,108.86660538812899,111.5761700850355,92.352548448269474,null,{"$f":"(C295/C283-1)*100","v":6.8962281653998758},{"$f":"(D295/D283-1)*100","v":1.1676516380981994},{"$f":"(E295/E283-1)*100","v":2.089259049554415},{"$f":"(F295/F283-1)*100","v":0.92449936675003119},{"$f":"(G295/G283-1)*100","v":4.0981759074562474},{"$f":"(H295/H283-1)*100","v":3.7269505685261661},{"$f":"(I295/I283-1)*100","v":2.0307750017754866},null,191.37619779622784,100.45924225028702,99.886053461644039,161.15908024401688,251.86700001762063,304.88372018976656,100,null,225.81277791886922,105.21897582038599,184.19528391062758,203.69350071950922,231.35377384062781,273.25164500395169,108.28071523766793]
[null,"Marzo",84.475594838191569,95.798475588991948,54.242212088279139,79.375948693432306,107.58496616506336,111.56533098175176,92.490277557349259,null,{"$f":"(C296/C284-1)*100","v":6.9017925185262952},{"$f":"(D296/D284-1)*100","v":1.1715017215208734},{"$f":"(E296/E284-1)*100","v":1.6748577350381488},{"$f":"(F296/F284-1)*100","v":1.1542203507065807},{"$f":"(G296/G284-1)*100","v":2.5192897499032085},{"$f":"(H296/H284-1)*100","v":3.1026518855646668},{"$f":"(I296/I284-1)*100","v":2.0495079410354222},null,189.41330747921316,100.45924225028702,99.309069626514315,161.41944738979788,252.00783742376149,305.12998012272067,100,null,224.22251993847939,104.86517831587565,183.08447573061534,203.36065275041432,234.24075538315998,273.49892429632052,108.11947227425529]
[null,"Abril ",83.901630609913241,96.155040702911322,53.884602947734656,79.104574288204319,106.9035935226367,111.60700208287338,92.720454941997531,null,6.0658548301924409,1.1821469661062345,0.4091461149761777,0.48364318980309573,1.4718312975996684,2.7769206691404813,2.0923270608703914,null,188.18453140933096,100.45924225028702,98.726517949169477,161.48662755232363,251.48867464991363,305.23615754449645,100,null,224.29186422402663,104.47631399863302,183.21841963822061,204.14322307579087,235.24810192340374,273.49194212549895,107.85106701919902]
[null,"Mayo",82.851352036865876,96.239164108805014,54.053362006946855,79.064722136367592,106.77407407653536,111.90232588401228,92.834795785755205,null,{"$f":"(C298/C286-1)*100","v":4.2003216756692385},{"$f":"(D298/D286-1)*100","v":0.97733435658344803},{"$f":"(E298/E286-1)*100","v":0.31165173215339514},{"$f":"(F298/F286-1)*100","v":-0.51924934581446536},{"$f":"(G298/G286-1)*100","v":0.64924511565294107},{"$f":"(H298/H286-1)*100","v":2.8275393116683256},{"$f":"(I298/I286-1)*100","v":1.7948686907010014},null,185.68463738273832,100.45924225028702,99.086614907314853,161.64791316046097,252.57180087902958,305.30079696993607,100,null,224.11781198225387,104.38499043560989,183.31258450599316,204.4501122531706,236.54787275231888,272.82792788988399,107.71823124465175]
[null,"Junio",81.834741302560388,96.393126269911377,53.841225436686265,79.163433121168964,107.24616171214774,112.45647132299707,93.161802104379674,null,{"$f":"(C299/C287-1)*100","v":2.5567705994684164},{"$f":"(D299/D287-1)*100","v":1.1130359177339733},{"$f":"(E299/E287-1)*100","v":-0.2303344915051575},{"$f":"(F299/F287-1)*100","v":-0.77283629268730669},{"$f":"(G299/G287-1)*100","v":0.64849478061550503},{"$f":"(H299/H287-1)*100","v":3.3665357344637492},{"$f":"(I299/I287-1)*100","v":2.2005720172932675},null,183.87364510879311,100.45924225028702,99.49384429723473,161.9640319627762,253.85437075842864,306.19129493425032,100,null,224.68897949951753,104.21826341537057,184.79119576175501,204.59450225569574,236.70252315395882,272.27538916351801,107.34013054831068]
[null,"Julio",80.066677153136837,96.803562505631959,53.760009974243864,79.062237755086485,107.29778629632501,112.56729446955183,93.111986898913074,null,{"$f":"(C300/C288-1)*100","v":0.66788121174374826},{"$f":"(D300/D288-1)*100","v":1.6814357585491546},{"$f":"(E300/E288-1)*100","v":2.3937644158644744E-2},{"$f":"(F300/F288-1)*100","v":-0.66974088967362011},{"$f":"(G300/G288-1)*100","v":0.11669999743413317},{"$f":"(H300/H288-1)*100","v":3.0922485222199425},{"$f":"(I300/I288-1)*100","v":2.0825023146370247},null,180.91908955787218,100.45924225028702,99.121964231145725,161.9254506493391,254.44303066441535,307.4048239038375,100,null,225.96053188499803,103.77638968033058,184.37861949548471,204.80757343466612,237.13726018700734,273.08538004081373,107.39755785532199]
[null,"Agosto",78.951662832028561,97.147204309990386,54.209486287753357,79.143412564835486,107.587912260172,112.71910661770352,93.364429792948528,null,{"$f":"(C301/C289-1)*100","v":-0.99009701130753358},{"$f":"(D301/D289-1)*100","v":2.2488197191329551},{"$f":"(E301/E289-1)*100","v":0.90868450061856176},{"$f":"(F301/F289-1)*100","v":-0.23254429360479723},{"$f":"(G301/G289-1)*100","v":-0.28236891438830902},{"$f":"(H301/H289-1)*100","v":2.8872251586731013},{"$f":"(I301/I289-1)*100","v":2.3692707905907051},null,178.23299432016432,100.45924225028702,99.093348111854056,162.19741983319227,255.06198179290956,308.88626739261946,100,null,225.74951296384859,103.40929825394475,182.79706172799604,204.94114996660991,237.07308417335193,274.03186261955892,107.1071715660525]
[null,"Septiembre",80.406877711287137,97.366969531424743,54.84849358017226,79.295899317447081,108.12438965351031,113.42659357886436,93.481960355150406,null,{"$f":"(C302/C290-1)*100","v":-1.0252144784994144},{"$f":"(D302/D290-1)*100","v":2.406588579072233},{"$f":"(E302/E290-1)*100","v":0.4818125261648154},{"$f":"(F302/F290-1)*100","v":-0.29820151650243876},{"$f":"(G302/G290-1)*100","v":0.14839314675698656},{"$f":"(H302/H290-1)*100","v":3.270008014549397},{"$f":"(I302/I290-1)*100","v":2.3424973630956858},null,181.19977496335017,100.45924225028702,99.596914120565799,162.62674717076692,255.78001601974228,311.75617059891113,100,null,225.35357685940113,103.17589500191259,181.58550512419197,205.08847061525785,236.56088773254709,274.85280194203335,106.97251065348512]
[null,"Octubre",81.10416873787004,97.550485344979066,54.930394069020778,79.381505354182266,108.43576891165534,115.30430378772631,93.744768510775657,null,-2.196081923944504,2.6548085647098096,-3.027107107966831E-3,5.0818888295478537E-2,0.32134050739318631,4.7135870689736681,2.5318594306865005,null,182.22047691085317,100.45924225028702,100.21080109595853,162.82095745705928,256.79970142975066,318.31457955232906,100,null,224.67461259579969,102.98179644624155,182.43233603975662,205.11195489502137,236.82194907380625,276.06478604505691,106.67261927102132]
[null,"Noviembre",80.242135323279513,97.381643220948646,54.275799578286367,79.108137359943825,107.90496389989747,115.13313833629732,93.708449669205052,null,-5.5092175704244966,2.6395641003941206,-0.77445146958043942,-4.4685393979460031E-2,3.6751351146468991E-2,4.1897532893034439,2.3877211493724015,null,180.75730122864726,100.45924225028702,99.507440191015846,162.8333744056707,257.69792855440522,319.20266182698123,100,null,225.26481941241005,103.16034822123059,183.3366637878604,205.83644090212255,238.81934550617098,277.24655684674246,106.71396267146068]
[null,"Diciembre",79.135085186018728,97.191297976848858,53.795878698389082,78.734594081027396,106.84612863466943,114.96675987718176,93.77365603581805,null,-4.7808267269429772,2.2935106865592081,-1.6412190324038733,-0.44895187855964469,-0.16192515625867987,3.9801601868122427,2.3491801798729783,null,178.21681853927612,100.45924225028702,99.312695198189289,162.88996295936107,258.00146128006941,319.67392619479733,100,null,225.20582131219183,103.36238360991598,184.6102296330057,206.88487044427717,241.47010713156817,278.05769818711332,106.63975814465816]
[2020,"Enero",79.581877431069188,97.689451877839801,54.151334121361252,78.865675615340109,107.61534973451272,115.47066699611057,94.000609203662506,null,-5.1237669481524524,2.5670762279487169,0.15578123324704318,-0.47717718060211745,-0.65828618858471133,3.764758545678526,2.1232051096138127,null,178.72813599050207,100.45924225028702,99.34377152683183,162.91708701078102,258.90056061841869,320.88142770719901,100,null,224.58396529449766,102.83530137512781,183.45581533446165,206.57540272068897,240.57958391356519,277.88999237183532,106.38228927148671]
[null,"Febrero",79.727250274378576,98.087739298813872,54.205619472043352,78.778283140961946,107.96278372183718,116.47733406624081,94.495206023681789,null,-5.9264837131944752,2.7351116569738654,-4.1906530640367645E-2,-0.42990907270972212,-0.83021020364281162,4.3926619613041007,2.3200849477505336,null,179.075874936622,100.45924225028702,98.771967079809187,163.061843609758,259.73126337537281,322.38717483363575,100,null,224.61062474917745,102.41773637401164,182.21720928906828,206.98831849125634,240.5748114503628,276.7810384896805,105.82547433669664]
[null,"Marzo",79.556666185717489,97.795378629202915,54.130641730039606,78.514644748104288,108.03387678882085,117.63556296447207,94.710023681896374,null,{"$f":"(C308/C296-1)*100","v":-5.8228991010907061},{"$f":"(D308/D296-1)*100","v":2.084483106785906},{"$f":"(E308/E296-1)*100","v":-0.20568917443476442},{"$f":"(F308/F296-1)*100","v":-1.0850943636019572},{"$f":"(G308/G296-1)*100","v":0.41726148156122633},{"$f":"(H308/H296-1)*100","v":5.4409662296553307},{"$f":"(I308/I296-1)*100","v":2.3999777956885682},null,179.02835441441127,100.45924225028702,99.32758593899716,163.3513507992196,260.23297760820657,324.60677555958858,100,null,225.03249947212032,102.72391564757299,183.49604357983378,208.05207910357848,240.88090267916314,275.94272291417968,105.58544503786752]
[null,"Abril ",79.089798284684463,97.494464984255231,53.525731097555969,77.977175090277797,107.70590572285485,118.83387183619399,95.287378390738226,null,{"$f":"(C309/C297-1)*100","v":-5.7350879717708914},{"$f":"(D309/D297-1)*100","v":1.3929839471258809},{"$f":"(E309/E297-1)*100","v":-0.66600073220688394},{"$f":"(F309/F297-1)*100","v":-1.4252010178564811},{"$f":"(G309/G297-1)*100","v":0.75050068363535782},{"$f":"(H309/H297-1)*100","v":6.4752834664928427},2.7684543290328545,null,178.38577236640825,100.45924225028702,99.584224619703406,163.95012722982662,260.7434464020987,327.40996168582382,100,null,225.54839718304373,103.04096982993916,186.04925626929082,210.2539968138291,242.08834664371594,275.51905582706297,104.94569342640223]
[null,"Mayo",79.335946938443726,97.273809003080586,53.347940378274522,78.562617375428161,107.68900891808673,121.5856146553693,95.297216435834855,null,{"$f":"(C310/C298-1)*100","v":-4.2430268329935235},{"$f":"(D310/D298-1)*100","v":1.0750767671941164},{"$f":"(E310/E298-1)*100","v":-1.3050467213892691},{"$f":"(F310/F298-1)*100","v":-0.63505536650521055},{"$f":"(G310/G298-1)*100","v":0.85688857474479629},{"$f":"(H310/H298-1)*100","v":8.6533400399503968},2.6524759700688572,null,178.67767569288804,100.45924225028702,99.439460722110297,164.11247085201649,261.8988311311146,334.60677555958858,100,null,225.21654128805309,103.2747080430515,186.3979377966879,208.89384332470766,243.19922131545201,275.20260230457461,104.93485931704166]
[null,"Junio",80.825396942094173,97.239829456578235,52.907913842791956,78.470505457951504,107.9937756444571,125.73773272832864,95.323207167257323,null,-1.2333934761698084,0.87838544036427102,-1.7334516187634375,-0.87531280023802616,0.6971008755688457,11.810135289755962,2.3200550161706746,null,181.00287467703541,100.45924225028702,99.462638483889506,163.74953359077716,263.18186929367624,350.01149425287355,100,null,223.94306928886661,103.31079642128167,187.99198694438803,208.67653729912891,243.7009612110773,278.36631586885306,104.90624788204683]
[null,"Julio",81.711593730211675,97.818719204777224,52.939386990892757,78.010562035943522,108.87722409284954,124.92342050315546,96.194517287107004,null,{"$f":"(C312/C300-1)*100","v":2.0544334241931139},{"$f":"(D312/D300-1)*100","v":1.0486770040990967},{"$f":"(E312/E300-1)*100","v":-1.5264561590376591},{"$f":"(F312/F300-1)*100","v":-1.3301871399096665},1.4720134040441257,10.976657200325457,3.3105623570684584,null,182.53117398527502,100.45924225028702,99.437906905678147,163.11243093597184,264.47468020008392,352.50635208711429,100,null,223.38466997466821,102.69940464051876,187.833506502039,209.09018814762223,242.91093238613638,282.17795403561684,103.95602870123561]
[null,"Agosto",83.451608998163437,98.717956065146495,52.960577142269862,77.679584943719448,110.20902639550812,124.53810058446496,96.48179164816915,null,{"$f":"(C313/C301-1)*100","v":5.6996217745389544},{"$f":"(D313/D301-1)*100","v":1.6168779804964339},{"$f":"(E313/E301-1)*100","v":-2.3038571862756041},{"$f":"(F313/F301-1)*100","v":-1.8495887069777894},2.4362533673835562,{"$f":"(H313/H301-1)*100","v":10.485350994527099},3.3389181106058263,null,185.8246240148288,100.45924225028702,99.560399434410812,162.19324393097202,265.30080335082397,353.04053236539619,100,null,222.67350653349095,101.76390016016073,187.98964211994556,208.79777363445564,240.72511302181053,283.47993963980127,103.64649981279406]
[null,"Septiembre",84.138954762798633,99.088493392553843,53.322138869366199,77.35859828813696,110.66488677316606,123.93969164751809,96.55851035875726,null,{"$f":"(C314/C302-1)*100","v":4.6414898299024454},{"$f":"(D314/D302-1)*100","v":1.7680778906993488},{"$f":"(E314/E302-1)*100","v":-2.7828562120397748},{"$f":"(F314/F302-1)*100","v":-2.4431288956752728},2.3496059749302578,9.2686359846856128,3.291062780368148,null,187.60434311238981,100.45924225028702,100.25832198184106,161.81506401147379,265.49510690132314,352.9570477918935,100,null,222.9696620801588,101.38335825967476,188.02381920099589,209.17527927375636,239.90907562713937,284.78128604329277,103.56414947626686]
[null,"Octubre",84.847522270378576,98.909558710323594,52.93138290804,76.74399471467855,110.53675831237072,123.15825711591989,96.738197165941997,null,{"$f":"(C315/C303-1)*100","v":4.6154884400666507},{"$f":"(D315/D303-1)*100","v":1.3932000036066317},{"$f":"(E315/E303-1)*100","v":-3.6391713455923735},{"$f":"(F315/F303-1)*100","v":-3.3225757407040146},{"$f":"(G315/G303-1)*100","v":1.9375427700679682},{"$f":"(H315/H303-1)*100","v":6.8115005860081457},3.1931687524752395,null,189.25622945599534,100.45924225028702,100.53645512319174,161.25471741759802,265.67617297738582,352.90986085904416,100,null,223.05451519598148,101.56676822763106,189.937329424886,210.1203071551283,240.35097196047644,286.54989858038982,103.37178377271472]
[null,"Noviembre",85.336602006423107,98.699265017020721,52.635981823715142,75.991334596230573,109.74599249750149,122.25372081531242,null,null,{"$f":"(C316/C304-1)*100","v":6.3488672910049226},{"$f":"(D316/D304-1)*100","v":1.3530494582870478},{"$f":"(E316/E304-1)*100","v":-3.0212687188624132},{"$f":"(F316/F304-1)*100","v":-3.9399268744398919},1.7061574658529421,6.1846507286340779,null,null,190.46628299206506,100.45924225028702,100.59135663712688,160.5091836802136,265.89883730916631,352.62613430127038,null,null,223.19412598327867,101.78317156967967,191.10759057182713,211.22037734046506,242.28569194927081,288.43795669334224]
[null,"Diciembre",84.824457659091891,98.599167202407614,52.780236386268527,75.181324911419281,108.61057956146279,121.33737823178272,null,null,{"$f":"(C317/C305-1)*100","v":7.1894437968941904},{"$f":"(D317/D305-1)*100","v":1.4485548139238968},{"$f":"(E317/E305-1)*100","v":-1.8879556142485154},{"$f":"(F317/F305-1)*100","v":-4.512970710119335},{"$f":"(G317/G305-1)*100","v":1.6513943456261337},{"$f":"(H317/H305-1)*100","v":5.5412698082529799},null,null,190.14467659120342,100.45924225028702,100.76538407752508,159.60682829110658,266.32055507788152,351.33998790078647,null,null,224.16256093895913,101.88650178359111,190.91499200587236,212.29584405324027,245.20682621638215,289.5562711348889]
[2021,"Enero",84.6214448578489,97.391271856695013,52.111070355250988,74.001457304491794,107.56212460854859,119.00452421102008,null,null,{"$f":"(C318/C306-1)*100","v":6.332556593861205},{"$f":"(D318/D306-1)*100","v":-0.30523256647776442},{"$f":"(E318/E306-1)*100","v":-3.767707295147571},{"$f":"(F318/F306-1)*100","v":-6.1677254051218489},{"$f":"(G318/G306-1)*100","v":-4.9458674896696309E-2},{"$f":"(H318/H306-1)*100","v":3.0603938704437894},null,null,191.86897414011489,100.45924225028702,100.60857810258297,159.26100951084265,267.00796622796082,351.29461584996977,null,null,226.738002952355,103.1501492229266,193.0656526851499,215.21334215829788,248.23604702834228,295.19433666828536]
[null,"Febrero"]
[null,"Marzo"]
[null,"Abril "]
[null,"Mayo"]
[null,"Junio"]
[null,"Julio"]
[null,"Agosto"]
[null,"Septiembre"]
[null,"Octubre"]
[null,"Noviembre"]
[null,"Diciembre"]
["Notas:"]
["El ITCER BILATERAL incluye únicamente a Estados Unidos como socio comercial."]
["Valores sobre (bajo) 100 significan una depreciación (apreciación) real de la moneda. El índice se descompone en efecto precio y efecto tipo de cambio, los cuales divididos generan el índice."]
["Fuente: Cálculos de la Secretaría Ejecutiva del Consejo Monetario Centroamericano"]
[{"$f":"TODAY()","v":"2021-02-19"}]

{"sheet":"GRAFICOS","index":8,"n_rows":90,"n_cols":14,"rows_kept":90,"cut":false,"hidden":false,"merged":[[2,0,2,11],[3,0,3,11],[48,0,48,11],[49,0,49,11],[25,0,25,11],[26,0,26,11],[91,0,91,30],[69,0,69,11],[70,0,70,11],[4,0,4,11],[5,0,5,11]]}
["Secretaría Ejecutiva"]
["Consejo Monetario Centroamericano"]
["GRÁFICOS 2014-2020"]
["Valores sobre 100 indican depreciación real de la moneda respecto a diciembre del año 2000"]
["ITCER GLOBAL\n"]
["Diciembre 2000=100"]
[null,null,null,null,null,null,null,null,null,null,null,null,null,{"$f":"COUNT('ITCER BILATERAL'!$C$6:$C$364)","v":313}]
[{"$f":"CONCATENATE(\"Variación Interanual \",\"al mes de \", INDICE!I15)","v":"Variación Interanual al mes de Enero 2021"}]
[null,"GLOBAL"]
["Costa Rica",{"$f":"INDEX('ITCER GLOBAL'!$C$6:$C$365,$N$7)/INDEX('ITCER GLOBAL'!$C$6:$C$365,$N$7-12) -1","v":7.2152802490064172E-2}]
["El Salvador",{"$f":"INDEX('ITCER GLOBAL'!$D$6:$D$365,$N$7)/INDEX('ITCER GLOBAL'!$D$6:$D$365,$N$7-12) -1","v":4.3134691499469024E-3}]
["Guatemala",{"$f":"INDEX('ITCER GLOBAL'!$E$6:$E$365,$N$7)/INDEX('ITCER GLOBAL'!$E$6:$E$365,$N$7-12) -1","v":-3.7985586006240912E-2}]
["Honduras",{"$f":"INDEX('ITCER GLOBAL'!$F$6:$F$365,$N$7)/INDEX('ITCER GLOBAL'!$F$6:$F$365,$N$7-12) -1","v":-5.6701923724386871E-2}]
["Nicaragua 1/",{"$f":"INDEX('ITCER GLOBAL'!$G$6:$G$365,$N$7)/INDEX('ITCER GLOBAL'!$G$6:$G$365,$N$7-12) -1","v":1.4978420324749386E-3}]
["República Dominicana",{"$f":"INDEX('ITCER GLOBAL'!$H$6:$H$365,$N$7)/INDEX('ITCER GLOBAL'!$H$6:$H$365,$N$7-12) -1","v":4.5798737029974834E-2}]
["Panamá 1/",{"$f":"INDEX('ITCER GLOBAL'!$I$6:$I$365,$N$7-3)/INDEX('ITCER GLOBAL'!$I$6:$I$365,$N$7-12-3) -1","v":-7.0425472858534843E-2}]
["1/ La variación de Panamá corresponde a octubre 2020"]
[]
[]
[]
[]
[]
[]
[null,null,null,null,"Fuente: Cálculos de la Secretaría Ejecutiva del Consejo Monetario Centroamericano"]
[]
["ITCER con el RESTO DEL MUNDO\n"]
["Diciembre 2000=100"]
[]
[{"$f":"CONCATENATE(\"Variación Interanual \",\"al mes de \", INDICE!I15)","v":"Variación Interanual al mes de Enero 2021"}]
[null,"RESTO DEL MUNDO"]
["Costa Rica",{"$f":"INDEX('ITCER RESTOM'!$C$6:$C$364,$N$7)/INDEX('ITCER RESTOM'!$C$6:$C$364,$N$7-12) -1","v":7.1251938827190386E-2}]
["El Salvador",{"$f":"INDEX('ITCER RESTOM'!$D$6:$D$364,$N$7)/INDEX('ITCER RESTOM'!$D$6:$D$364,$N$7-12) -1","v":-6.1011053102257851E-3}]
["Guatemala",{"$f":"INDEX('ITCER RESTOM'!$E$6:$E$364,$N$7)/INDEX('ITCER RESTOM'!$E$6:$E$364,$N$7-12) -1","v":-3.8156904698337768E-2}]
["Honduras",{"$f":"INDEX('ITCER RESTOM'!$F$6:$F$364,$N$7)/INDEX('ITCER RESTOM'!$F$6:$F$364,$N$7-12) -1","v":-5.4700159455423725E-2}]
["Nicaragua 2/",{"$f":"INDEX('ITCER RESTOM'!$G$6:$G$364,$N$7)/INDEX('ITCER RESTOM'!$G$6:$G$364,$N$7-12) -1","v":-3.1542588709324582E-3}]
["República Dominicana",{"$f":"INDEX('ITCER RESTOM'!$H$6:$H$364,$N$7)/INDEX('ITCER RESTOM'!$H$6:$H$364,$N$7-12) -1","v":4.7244976686180884E-2}]
["Panamá 2/",{"$f":"INDEX('ITCER RESTOM'!$I$6:$I$364,$N$7-3)/INDEX('ITCER RESTOM'!$I$6:$I$364,$N$7-12-3) -1","v":2.9914301125370191E-2}]
["2/ La variación de Panamá corresponde a octubre 2020"]
[]
[]
[]
[]
[]
[]
[]
[]
[null,null,null,null,"Fuente: Cálculos de la Secretaría Ejecutiva del Consejo Monetario Centroamericano"]
[]
["ITCER con la REGIÓN CAPARD"]
["Diciembre 2000=100"]
[]
[{"$f":"CONCATENATE(\"Variación Interanual \",\"al mes de \", INDICE!I15)","v":"Variación Interanual al mes de Enero 2021"}]
[null,"REGIÓN CAPARD 3/"]
["Costa Rica",{"$f":"INDEX('ITCER REGION'!$C$6:$C$352,$N$7-5)/INDEX('ITCER REGION'!$C$6:$C$352,$N$7-12-5) -1","v":5.3347197976355121E-2}]
["El Salvador",{"$f":"INDEX('ITCER REGION'!$D$6:$D$352,$N$7-5)/INDEX('ITCER REGION'!$D$6:$D$352,$N$7-12-5) -1","v":2.6093077463027692E-2}]
["Guatemala",{"$f":"INDEX('ITCER REGION'!$E$6:$E$352,$N$7-5)/INDEX('ITCER REGION'!$E$6:$E$352,$N$7-12-5) -1","v":-4.3043322613341761E-2}]
["Honduras",{"$f":"INDEX('ITCER REGION'!$F$6:$F$352,$N$7-5)/INDEX('ITCER REGION'!$F$6:$F$352,$N$7-12-5) -1","v":-5.7833008083024606E-2}]
["Nicaragua",{"$f":"INDEX('ITCER REGION'!$G$6:$G$352,$N$7-5)/INDEX('ITCER REGION'!$G$6:$G$352,$N$7-12-5) -1","v":1.5216947353547949E-2}]
["República Dominicana",{"$f":"INDEX('ITCER REGION'!$H$6:$H$352,$N$7-5)/INDEX('ITCER REGION'!$H$6:$H$352,$N$7-12-5) -1","v":9.2327485843558543E-2}]
["Panamá",{"$f":"INDEX('ITCER REGION'!$I$6:$I$352,$N$7-3)/INDEX('ITCER REGION'!$I$6:$I$352,$N$7-12-3) -1","v":2.0639698826383501E-2}]
["3/ La variación corresponde a octubre 2020"]
[]
[]
[]
[]
[]
[]
[null,null,null,null,"Fuente: Cálculos de la Secretaría Ejecutiva del Consejo Monetario Centroamericano"]
[]
["ITCER BILATERAL con USA\n"]
["Diciembre 2000=100"]
[]
[{"$f":"CONCATENATE(\"Variación Interanual \",\"al mes de \", INDICE!I15)","v":"Variación Interanual al mes de Enero 2021"}]
[null,"BILATERAL"]
["Costa Rica",{"$f":"INDEX('ITCER BILATERAL'!$C$6:$C$364,$N$7)/INDEX('ITCER BILATERAL'!$C$6:$C$364,$N$7-12) -1","v":6.332556593861205E-2}]
["El Salvador",{"$f":"INDEX('ITCER BILATERAL'!$D$6:$D$364,$N$7)/INDEX('ITCER BILATERAL'!$D$6:$D$364,$N$7-12) -1","v":-3.0523256647776442E-3}]
["Guatemala",{"$f":"INDEX('ITCER BILATERAL'!$E$6:$E$364,$N$7)/INDEX('ITCER BILATERAL'!$E$6:$E$364,$N$7-12) -1","v":-3.767707295147571E-2}]
["Honduras",{"$f":"INDEX('ITCER BILATERAL'!$F$6:$F$364,$N$7)/INDEX('ITCER BILATERAL'!$F$6:$F$364,$N$7-12) -1","v":-6.1677254051218489E-2}]
["Nicaragua 4/",{"$f":"INDEX('ITCER BILATERAL'!$G$6:$G$364,$N$7)/INDEX('ITCER BILATERAL'!$G$6:$G$364,$N$7-12) -1","v":-4.9458674896696309E-4}]
["República Dominicana",{"$f":"INDEX('ITCER BILATERAL'!$H$6:$H$364,$N$7)/INDEX('ITCER BILATERAL'!$H$6:$H$364,$N$7-12) -1","v":3.0603938704437894E-2}]
["Panamá 4/",{"$f":"INDEX('ITCER BILATERAL'!$I$6:$I$364,$N$7-3)/INDEX('ITCER BILATERAL'!$I$6:$I$364,$N$7-12-3) -1","v":3.1931687524752395E-2}]
["4/ La variación de Panamá corresponde a octubre 2020"]
[]
[]
[]
[]
[]
[null,null,null,null,"Fuente: Cálculos de la Secretaría Ejecutiva del Consejo Monetario Centroamericano"]
[]
[null,null,null,null,"Fuente: Cálculos de la Secretaría Ejecutiva del Consejo Monetario Centroamericano"]

{"sheet":"EFECTOS","index":9,"n_rows":31,"n_cols":14,"rows_kept":31,"cut":false,"hidden":false,"merged":[[2,0,2,11],[3,0,3,11],[4,0,4,11],[5,0,5,11],[7,9,8,11]]}
["Secretaría Ejecutiva"]
["Consejo Monetario Centroamericano"]
["GRÁFICOS 1995-2020"]
["Descomposición del ITCER GLOBAL en Efecto Precio y Efecto Tipo de Cambio"]
[{"$f":"CONCATENATE(\"ITCER GLOBAL de \", N9\n)","v":"ITCER GLOBAL de COSTA RICA"}]
["Diciembre 2000=100"]
[null,null,null,null,null,null,null,null,null,null,null,null,null,{"$f":"COUNT('ITCER BILATERAL'!$C$6:$C$364)","v":313}]
[null,null,null,null,null,null,null,null,null,{"$f":"CONCATENATE(\"Nivel\",\" al mes de \", INDICE!I15)","v":"Nivel al mes de Enero 2021"},null,null,null,1]
[null,null,null,null,null,null,null,null,null,null,null,null,null,{"$f":"LOOKUP(N8,GEfectos!C4:I4,GEfectos!C5:I5)","v":"COSTA RICA"}]
[]
[]
[]
[]
[]
[]
[]
[]
[]
[]
[]
[]
[]
[]
[]
[]
[]
["Fuente: Cálculos de la Secretaría Ejecutiva del Consejo Monetario Centroamericano"]
[]
["Notas:"]
["En el periodo 2003-2004 República Dominicana atravesó una crisis financiera interna, producto de la quiebra de tres de los principales bancos del sistema nacional. "]
["Los datos en el caso de Pnama corresponden a abril 2020 y el resto de los paise a junio de 2020."]

{"sheet":"GEfectos","index":10,"n_rows":329,"n_cols":28,"rows_kept":329,"cut":false,"hidden":false,"merged":[]}
[]
[]
[null,null,"ITCER GLOBAL",null,null,null,null,null,null,"EFECTO TIPO DE CAMBIO",null,null,null,null,null,null,null,"EFECTO PRECIO",null,null,null,null,null,null,{"$f":"EFECTOS!N9","v":"COSTA RICA"}]
[null,null,1,2,3,4,5,6,7,1,2,3,4,5,6,7,1,2,3,4,5,6,7,null,"Gráfico Dinámico"]
[null,null,{"$f":"'ITCER GLOBAL'!C5","v":"COSTA RICA"},{"$f":"'ITCER GLOBAL'!D5","v":"EL SALVADOR"},{"$f":"'ITCER GLOBAL'!E5","v":"GUATEMALA"},{"$f":"'ITCER GLOBAL'!F5","v":"HONDURAS"},{"$f":"'ITCER GLOBAL'!G5","v":"NICARAGUA"},{"$f":"'ITCER GLOBAL'!H5","v":"REPÚBLICA \nDOMINICANA"},{"$f":"'ITCER GLOBAL'!I5","v":"PANAMÁ"},{"$f":"'ITCER GLOBAL'!S5","v":"COSTA\n RICA"},{"$f":"'ITCER GLOBAL'!T5","v":"EL\nSALVADOR"},{"$f":"'ITCER GLOBAL'!U5","v":"GUATEMALA"},{"$f":"'ITCER GLOBAL'!V5","v":"HONDURAS"},{"$f":"'ITCER GLOBAL'!W5","v":"NICARAGUA"},{"$f":"'ITCER GLOBAL'!X5","v":"REPÚBLICA \nDOMINICANA"},{"$f":"'ITCER GLOBAL'!Y5","v":"PANAMÁ"},{"$f":"'ITCER GLOBAL'!AA5","v":"COSTA\n RICA"},{"$f":"'ITCER GLOBAL'!AB5","v":"EL\nSALVADOR"},{"$f":"'ITCER GLOBAL'!AC5","v":"GUATEMALA"},{"$f":"'ITCER GLOBAL'!AD5","v":"HONDURAS"},{"$f":"'ITCER GLOBAL'!AE5","v":"NICARAGUA"},{"$f":"'ITCER GLOBAL'!AF5","v":"REPÚBLICA\nDOMINICANA"},{"$f":"'ITCER GLOBAL'!AG5","v":"PANAMÁ"},null,{"$f":"C3","v":"ITCER GLOBAL"},{"$f":"J3","v":"EFECTO TIPO DE CAMBIO"},{"$f":"R3","v":"EFECTO PRECIO"},"Nivel"]
[1995,{"$f":"'ITCER GLOBAL'!B6","v":"Enero"},{"$f":"'ITCER GLOBAL'!C6","v":93.373703649864282},{"$f":"'ITCER GLOBAL'!D6","v":119.00104547487229},{"$f":"'ITCER GLOBAL'!E6","v":102.16854684783964},{"$f":"'ITCER GLOBAL'!F6","v":139.00966450035196},{"$f":"'ITCER GLOBAL'!G6","v":93.615472742924013},{"$f":"'ITCER GLOBAL'!H6","v":78.372930097377576},{"$f":"'ITCER GLOBAL'!I6","v":101.42231325012314},{"$f":"'ITCER GLOBAL'!S6","v":60.66291634254101},{"$f":"'ITCER GLOBAL'!T6","v":120.21891221603782},{"$f":"'ITCER GLOBAL'!U6","v":87.039105765887598},{"$f":"'ITCER GLOBAL'!V6","v":70.078491601715996},{"$f":"'ITCER GLOBAL'!W6","v":66.668854683884945},{"$f":"'ITCER GLOBAL'!X6","v":85.608943543628229},{"$f":"'ITCER GLOBAL'!Y6","v":118.22494355811403},{"$f":"'ITCER GLOBAL'!AA6","v":64.967880646586295},{"$f":"'ITCER GLOBAL'!AB6","v":101.02340843839283},{"$f":"'ITCER GLOBAL'!AC6","v":85.191684183896228},{"$f":"'ITCER GLOBAL'!AD6","v":50.41267587660321},{"$f":"'ITCER GLOBAL'!AE6","v":71.215636401221019},{"$f":"'ITCER GLOBAL'!AF6","v":109.23279688185703},{"$f":"'ITCER GLOBAL'!AG6","v":116.56699573253965},null,{"$f":"IF(EFECTOS!$N$9=\"COSTA RICA\",LOOKUP(1,GEfectos!$C$4:$I$4,GEfectos!C6:I6),IF(EFECTOS!$N$9=\"EL SALVADOR\",LOOKUP(2,GEfectos!$C$4:$I$4,GEfectos!C6:I6),IF(EFECTOS!$N$9=\"GUATEMALA\",LOOKUP(3,GEfectos!$C$4:$I$4,GEfectos!C6:I6),IF(EFECTOS!$N$9=\"HONDURAS\",LOOKUP(4,GEfectos!$C$4:$I$4,GEfectos!C6:I6),IF(EFECTOS!$N$9=\"NICARAGUA\",LOOKUP(5,GEfectos!$C$4:$I$4,GEfectos!C6:I6),IF(EFECTOS!$N$9=\"REPÚBLICA \nDOMINICANA\",LOOKUP(6,$C$4:$I$4,C6:I6),IF(EFECTOS!$N$9=\"PANAMÁ\",LOOKUP(7,GEfectos!$C$4:$I$4,GEfectos!C6:I6))))))))","v":93.373703649864282},{"$f":"IF(EFECTOS!$N$9=\"COSTA RICA\",LOOKUP(1,GEfectos!$J$4:$P$4,GEfectos!J6:P6),IF(EFECTOS!$N$9=\"EL SALVADOR\",LOOKUP(2,GEfectos!$J$4:$P$4,GEfectos!J6:P6),IF(EFECTOS!$N$9=\"GUATEMALA\",LOOKUP(3,GEfectos!$J$4:$P$4,GEfectos!J6:P6),IF(EFECTOS!$N$9=\"HONDURAS\",LOOKUP(4,GEfectos!$J$4:$P$4,GEfectos!J6:P6),IF(EFECTOS!$N$9=\"NICARAGUA\",LOOKUP(5,GEfectos!$J$4:$P$4,GEfectos!J6:P6),IF(EFECTOS!$N$9=\"REPÚBLICA \nDOMINICANA\",LOOKUP(6,$J$4:$P$4,J6:P6),IF(EFECTOS!$N$9=\"PANAMÁ\",LOOKUP(7,GEfectos!$J$4:$P$4,GEfectos!J6:P6))))))))","v":60.66291634254101},{"$f":"IF(EFECTOS!$N$9=\"COSTA RICA\",LOOKUP(1,GEfectos!$Q$4:$W$4,GEfectos!Q6:W6),IF(EFECTOS!$N$9=\"EL SALVADOR\",LOOKUP(2,GEfectos!$Q$4:$W$4,GEfectos!Q6:W6),IF(EFECTOS!$N$9=\"GUATEMALA\",LOOKUP(3,GEfectos!$Q$4:$W$4,GEfectos!Q6:W6),IF(EFECTOS!$N$9=\"HONDURAS\",LOOKUP(4,GEfectos!$Q$4:$W$4,GEfectos!Q6:W6),IF(EFECTOS!$N$9=\"NICARAGUA\",LOOKUP(5,GEfectos!$Q$4:$W$4,GEfectos!Q6:W6),IF(EFECTOS!$N$9=\"REPÚBLICA \nDOMINICANA\",LOOKUP(6,$Q$4:$W$4,Q6:W6),IF(EFECTOS!$N$9=\"PANAMÁ\",LOOKUP(7,GEfectos!$Q$4:$W$4,GEfectos!Q6:W6))))))))","v":64.967880646586295},100]
[null,{"$f":"'ITCER GLOBAL'!B7","v":"Febrero"},{"$f":"'ITCER GLOBAL'!C7","v":94.053888419003172},{"$f":"'ITCER GLOBAL'!D7","v":118.72961074528449},{"$f":"'ITCER GLOBAL'!E7","v":103.28575179788393},{"$f":"'ITCER GLOBAL'!F7","v":131.53710777239652},{"$f":"'ITCER GLOBAL'!G7","v":94.672757861989325},{"$f":"'ITCER GLOBAL'!H7","v":78.669632345943072},{"$f":"'ITCER GLOBAL'!I7","v":102.34072867707715},{"$f":"'ITCER GLOBAL'!S7","v":61.615157745868018},{"$f":"'ITCER GLOBAL'!T7","v":120.44155587093644},{"$f":"'ITCER GLOBAL'!U7","v":86.871202164516376},{"$f":"'ITCER GLOBAL'!V7","v":69.215355059427424},{"$f":"'ITCER GLOBAL'!W7","v":67.422653760873189},{"$f":"'ITCER GLOBAL'!X7","v":85.744754965249243},{"$f":"'ITCER GLOBAL'!Y7","v":118.48927768325592},{"$f":"'ITCER GLOBAL'!AA7","v":65.510484235778762},{"$f":"'ITCER GLOBAL'!AB7","v":101.441885570841},{"$f":"'ITCER GLOBAL'!AC7","v":84.107634066034024},{"$f":"'ITCER GLOBAL'!AD7","v":52.620402129559743},{"$f":"'ITCER GLOBAL'!AE7","v":71.216530798817118},{"$f":"'ITCER GLOBAL'!AF7","v":108.99346089250032},{"$f":"'ITCER GLOBAL'!AG7","v":115.77920072968546},null,{"$f":"IF(EFECTOS!$N$9=\"COSTA RICA\",LOOKUP(1,GEfectos!$C$4:$I$4,GEfectos!C7:I7),IF(EFECTOS!$N$9=\"EL SALVADOR\",LOOKUP(2,GEfectos!$C$4:$I$4,GEfectos!C7:I7),IF(EFECTOS!$N$9=\"GUATEMALA\",LOOKUP(3,GEfectos!$C$4:$I$4,GEfectos!C7:I7),IF(EFECTOS!$N$9=\"HONDURAS\",LOOKUP(4,GEfectos!$C$4:$I$4,GEfectos!C7:I7),IF(EFECTOS!$N$9=\"NICARAGUA\",LOOKUP(5,GEfectos!$C$4:$I$4,GEfectos!C7:I7),IF(EFECTOS!$N$9=\"REPÚBLICA \nDOMINICANA\",LOOKUP(6,$C$4:$I$4,C7:I7),IF(EFECTOS!$N$9=\"PANAMÁ\",LOOKUP(7,GEfectos!$C$4:$I$4,GEfectos!C7:I7))))))))","v":94.053888419003172},{"$f":"IF(EFECTOS!$N$9=\"COSTA RICA\",LOOKUP(1,GEfectos!$J$4:$P$4,GEfectos!J7:P7),IF(EFECTOS!$N$9=\"EL SALVADOR\",LOOKUP(2,GEfectos!$J$4:$P$4,GEfectos!J7:P7),IF(EFECTOS!$N$9=\"GUATEMALA\",LOOKUP(3,GEfectos!$J$4:$P$4,GEfectos!J7:P7),IF(EFECTOS!$N$9=\"HONDURAS\",LOOKUP(4,GEfectos!$J$4:$P$4,GEfectos!J7:P7),IF(EFECTOS!$N$9=\"NICARAGUA\",LOOKUP(5,GEfectos!$J$4:$P$4,GEfectos!J7:P7),IF(EFECTOS!$N$9=\"REPÚBLICA \nDOMINICANA\",LOOKUP(6,$J$4:$P$4,J7:P7),IF(EFECTOS!$N$9=\"PANAMÁ\",LOOKUP(7,GEfectos!$J$4:$P$4,GEfectos!J7:P7))))))))","v":61.615157745868018},{"$f":"IF(EFECTOS!$N$9=\"COSTA RICA\",LOOKUP(1,GEfectos!$Q$4:$W$4,GEfectos!Q7:W7),IF(EFECTOS!$N$9=\"EL SALVADOR\",LOOKUP(2,GEfectos!$Q$4:$W$4,GEfectos!Q7:W7),IF(EFECTOS!$N$9=\"GUATEMALA\",LOOKUP(3,GEfectos!$Q$4:$W$4,GEfectos!Q7:W7),IF(EFECTOS!$N$9=\"HONDURAS\",LOOKUP(4,GEfectos!$Q$4:$W$4,GEfectos!Q7:W7),IF(EFECTOS!$N$9=\"NICARAGUA\",LOOKUP(5,GEfectos!$Q$4:$W$4,GEfectos!Q7:W7),IF(EFECTOS!$N$9=\"REPÚBLICA \nDOMINICANA\",LOOKUP(6,$Q$4:$W$4,Q7:W7),IF(EFECTOS!$N$9=\"PANAMÁ\",LOOKUP(7,GEfectos!$Q$4:$W$4,GEfectos!Q7:W7))))))))","v":65.510484235778762},100]
[null,{"$f":"'ITCER GLOBAL'!B8","v":"Marzo"},{"$f":"'ITCER GLOBAL'!C8","v":102.38410578791245},{"$f":"'ITCER GLOBAL'!D8","v":117.66199400204577},{"$f":"'ITCER GLOBAL'!E8","v":102.37848320913336},{"$f":"'ITCER GLOBAL'!F8","v":131.36783899144231},{"$f":"'ITCER GLOBAL'!G8","v":95.097336856392246},{"$f":"'ITCER GLOBAL'!H8","v":78.392996218177913},{"$f":"'ITCER GLOBAL'!I8","v":102.84042896788007},{"$f":"'ITCER GLOBAL'!S8","v":62.79138632458956},{"$f":"'ITCER GLOBAL'!T8","v":120.30681748224299},{"$f":"'ITCER GLOBAL'!U8","v":86.06772417786766},{"$f":"'ITCER GLOBAL'!V8","v":69.893527683177808},{"$f":"'ITCER GLOBAL'!W8","v":68.130132585730081},{"$f":"'ITCER GLOBAL'!X8","v":85.624477053182417},{"$f":"'ITCER GLOBAL'!Y8","v":119.07597770120132},{"$f":"'ITCER GLOBAL'!AA8","v":61.329232541876401},{"$f":"'ITCER GLOBAL'!AB8","v":102.24781460031285},{"$f":"'ITCER GLOBAL'!AC8","v":84.068176710581895},{"$f":"'ITCER GLOBAL'!AD8","v":53.204443507463708},{"$f":"'ITCER GLOBAL'!AE8","v":71.642524215598485},{"$f":"'ITCER GLOBAL'!AF8","v":109.2246516702568},{"$f":"'ITCER GLOBAL'!AG8","v":115.78712661573209},null,{"$f":"IF(EFECTOS!$N$9=\"COSTA RICA\",LOOKUP(1,GEfectos!$C$4:$I$4,GEfectos!C8:I8),IF(EFECTOS!$N$9=\"EL SALVADOR\",LOOKUP(2,GEfectos!$C$4:$I$4,GEfectos!C8:I8),IF(EFECTOS!$N$9=\"GUATEMALA\",LOOKUP(3,GEfectos!$C$4:$I$4,GEfectos!C8:I8),IF(EFECTOS!$N$9=\"HONDURAS\",LOOKUP(4,GEfectos!$C$4:$I$4,GEfectos!C8:I8),IF(EFECTOS!$N$9=\"NICARAGUA\",LOOKUP(5,GEfectos!$C$4:$I$4,GEfectos!C8:I8),IF(EFECTOS!$N$9=\"REPÚBLICA \nDOMINICANA\",LOOKUP(6,$C$4:$I$4,C8:I8),IF(EFECTOS!$N$9=\"PANAMÁ\",LOOKUP(7,GEfectos!$C$4:$I$4,GEfectos!C8:I8))))))))","v":102.38410578791245},{"$f":"IF(EFECTOS!$N$9=\"COSTA RICA\",LOOKUP(1,GEfectos!$J$4:$P$4,GEfectos!J8:P8),IF(EFECTOS!$N$9=\"EL SALVADOR\",LOOKUP(2,GEfectos!$J$4:$P$4,GEfectos!J8:P8),IF(EFECTOS!$N$9=\"GUATEMALA\",LOOKUP(3,GEfectos!$J$4:$P$4,GEfectos!J8:P8),IF(EFECTOS!$N$9=\"HONDURAS\",LOOKUP(4,GEfectos!$J$4:$P$4,GEfectos!J8:P8),IF(EFECTOS!$N$9=\"NICARAGUA\",LOOKUP(5,GEfectos!$J$4:$P$4,GEfectos!J8:P8),IF(EFECTOS!$N$9=\"REPÚBLICA \nDOMINICANA\",LOOKUP(6,$J$4:$P$4,J8:P8),IF(EFECTOS!$N$9=\"PANAMÁ\",LOOKUP(7,GEfectos!$J$4:$P$4,GEfectos!J8:P8))))))))","v":62.79138632458956},{"$f":"IF(EFECTOS!$N$9=\"COSTA RICA\",LOOKUP(1,GEfectos!$Q$4:$W$4,GEfectos!Q8:W8),IF(EFECTOS!$N$9=\"EL SALVADOR\",LOOKUP(2,GEfectos!$Q$4:$W$4,GEfectos!Q8:W8),IF(EFECTOS!$N$9=\"GUATEMALA\",LOOKUP(3,GEfectos!$Q$4:$W$4,GEfectos!Q8:W8),IF(EFECTOS!$N$9=\"HONDURAS\",LOOKUP(4,GEfectos!$Q$4:$W$4,GEfectos!Q8:W8),IF(EFECTOS!$N$9=\"NICARAGUA\",LOOKUP(5,GEfectos!$Q$4:$W$4,GEfectos!Q8:W8),IF(EFECTOS!$N$9=\"REPÚBLICA \nDOMINICANA\",LOOKUP(6,$Q$4:$W$4,Q8:W8),IF(EFECTOS!$N$9=\"PANAMÁ\",LOOKUP(7,GEfectos!$Q$4:$W$4,GEfectos!Q8:W8))))))))","v":61.329232541876401},100]
[null,{"$f":"'ITCER GLOBAL'!B9","v":"Abril"},{"$f":"'ITCER GLOBAL'!C9","v":104.95078345406525},{"$f":"'ITCER GLOBAL'!D9","v":118.80352260633333},{"$f":"'ITCER GLOBAL'!E9","v":104.28424654815453},{"$f":"'ITCER GLOBAL'!F9","v":129.55238404403391},{"$f":"'ITCER GLOBAL'!G9","v":97.800874946510646},{"$f":"'ITCER GLOBAL'!H9","v":79.886729415326428},{"$f":"'ITCER GLOBAL'!I9","v":104.58020975545725},{"$f":"'ITCER GLOBAL'!S9","v":64.284345391138501},{"$f":"'ITCER GLOBAL'!T9","v":121.21681700060944},{"$f":"'ITCER GLOBAL'!U9","v":87.470728406919889},{"$f":"'ITCER GLOBAL'!V9","v":70.289809276840032},{"$f":"'ITCER GLOBAL'!W9","v":69.457857665132693},{"$f":"'ITCER GLOBAL'!X9","v":86.463095818421706},{"$f":"'ITCER GLOBAL'!Y9","v":120.42095969408946},{"$f":"'ITCER GLOBAL'!AA9","v":61.251896627598221},{"$f":"'ITCER GLOBAL'!AB9","v":102.03133235558408},{"$f":"'ITCER GLOBAL'!AC9","v":83.877221442578303},{"$f":"'ITCER GLOBAL'!AD9","v":54.255897948546462},{"$f":"'ITCER GLOBAL'!AE9","v":71.019668998994803},{"$f":"'ITCER GLOBAL'!AF9","v":108.23211370802919},{"$f":"'ITCER GLOBAL'!AG9","v":115.14698619908401},null,{"$f":"IF(EFECTOS!$N$9=\"COSTA RICA\",LOOKUP(1,GEfectos!$C$4:$I$4,GEfectos!C9:I9),IF(EFECTOS!$N$9=\"EL SALVADOR\",LOOKUP(2,GEfectos!$C$4:$I$4,GEfectos!C9:I9),IF(EFECTOS!$N$9=\"GUATEMALA\",LOOKUP(3,GEfectos!$C$4:$I$4,GEfectos!C9:I9),IF(EFECTOS!$N$9=\"HONDURAS\",LOOKUP(4,GEfectos!$C$4:$I$4,GEfectos!C9:I9),IF(EFECTOS!$N$9=\"NICARAGUA\",LOOKUP(5,GEfectos!$C$4:$I$4,GEfectos!C9:I9),IF(EFECTOS!$N$9=\"REPÚBLICA \nDOMINICANA\",LOOKUP(6,$C$4:$I$4,C9:I9),IF(EFECTOS!$N$9=\"PANAMÁ\",LOOKUP(7,GEfectos!$C$4:$I$4,GEfectos!C9:I9))))))))","v":104.95078345406525},{"$f":"IF(EFECTOS!$N$9=\"COSTA RICA\",LOOKUP(1,GEfectos!$J$4:$P$4,GEfectos!J9:P9),IF(EFECTOS!$N$9=\"EL SALVADOR\",LOOKUP(2,GEfectos!$J$4:$P$4,GEfectos!J9:P9),IF(EFECTOS!$N$9=\"GUATEMALA\",LOOKUP(3,GEfectos!$J$4:$P$4,GEfectos!J9:P9),IF(EFECTOS!$N$9=\"HONDURAS\",LOOKUP(4,GEfectos!$J$4:$P$4,GEfectos!J9:P9),IF(EFECTOS!$N$9=\"NICARAGUA\",LOOKUP(5,GEfectos!$J$4:$P$4,GEfectos!J9:P9),IF(EFECTOS!$N$9=\"REPÚBLICA \nDOMINICANA\",LOOKUP(6,$J$4:$P$4,J9:P9),IF(EFECTOS!$N$9=\"PANAMÁ\",LOOKUP(7,GEfectos!$J$4:$P$4,GEfectos!J9:P9))))))))","v":64.284345391138501},{"$f":"IF(EFECTOS!$N$9=\"COSTA RICA\",LOOKUP(1,GEfectos!$Q$4:$W$4,GEfectos!Q9:W9),IF(EFECTOS!$N$9=\"EL SALVADOR\",LOOKUP(2,GEfectos!$Q$4:$W$4,GEfectos!Q9:W9),IF(EFECTOS!$N$9=\"GUATEMALA\",LOOKUP(3,GEfectos!$Q$4:$W$4,GEfectos!Q9:W9),IF(EFECTOS!$N$9=\"HONDURAS\",LOOKUP(4,GEfectos!$Q$4:$W$4,GEfectos!Q9:W9),IF(EFECTOS!$N$9=\"NICARAGUA\",LOOKUP(5,GEfectos!$Q$4:$W$4,GEfectos!Q9:W9),IF(EFECTOS!$N$9=\"REPÚBLICA \nDOMINICANA\",LOOKUP(6,$Q$4:$W$4,Q9:W9),IF(EFECTOS!$N$9=\"PANAMÁ\",LOOKUP(7,GEfectos!$Q$4:$W$4,GEfectos!Q9:W9))))))))","v":61.251896627598221},100]
[null,{"$f":"'ITCER GLOBAL'!B10","v":"Mayo"},{"$f":"'ITCER GLOBAL'!C10","v":105.84930601540751},{"$f":"'ITCER GLOBAL'!D10","v":118.63300284077521},{"$f":"'ITCER GLOBAL'!E10","v":103.61186971675869},{"$f":"'ITCER GLOBAL'!F10","v":127.9533811169142},{"$f":"'ITCER GLOBAL'!G10","v":98.474701296655709},{"$f":"'ITCER GLOBAL'!H10","v":79.96660444450859},{"$f":"'ITCER GLOBAL'!I10","v":104.60720046674918},{"$f":"'ITCER GLOBAL'!S10","v":65.075326638917801},{"$f":"'ITCER GLOBAL'!T10","v":121.06493395485951},{"$f":"'ITCER GLOBAL'!U10","v":87.603440803850887},{"$f":"'ITCER GLOBAL'!V10","v":70.351095493067334},{"$f":"'ITCER GLOBAL'!W10","v":69.959541596397997},{"$f":"'ITCER GLOBAL'!X10","v":86.524321142243309},{"$f":"'ITCER GLOBAL'!Y10","v":120.18077744164077},{"$f":"'ITCER GLOBAL'!AA10","v":61.479218984624609},{"$f":"'ITCER GLOBAL'!AB10","v":102.04996169349971},{"$f":"'ITCER GLOBAL'!AC10","v":84.549618729331229},{"$f":"'ITCER GLOBAL'!AD10","v":54.981818283321317},{"$f":"'ITCER GLOBAL'!AE10","v":71.043162025589083},{"$f":"'ITCER GLOBAL'!AF10","v":108.20056915419653},{"$f":"'ITCER GLOBAL'!AG10","v":114.88767207745119},null,{"$f":"IF(EFECTOS!$N$9=\"COSTA RICA\",LOOKUP(1,GEfectos!$C$4:$I$4,GEfectos!C10:I10),IF(EFECTOS!$N$9=\"EL SALVADOR\",LOOKUP(2,GEfectos!$C$4:$I$4,GEfectos!C10:I10),IF(EFECTOS!$N$9=\"GUATEMALA\",LOOKUP(3,GEfectos!$C$4:$I$4,GEfectos!C10:I10),IF(EFECTOS!$N$9=\"HONDURAS\",LOOKUP(4,GEfectos!$C$4:$I$4,GEfectos!C10:I10),IF(EFECTOS!$N$9=\"NICARAGUA\",LOOKUP(5,GEfectos!$C$4:$I$4,GEfectos!C10:I10),IF(EFECTOS!$N$9=\"REPÚBLICA \nDOMINICANA\",LOOKUP(6,$C$4:$I$4,C10:I10),IF(EFECTOS!$N$9=\"PANAMÁ\",LOOKUP(7,GEfectos!$C$4:$I$4,GEfectos!C10:I10))))))))","v":105.84930601540751},{"$f":"IF(EFECTOS!$N$9=\"COSTA RICA\",LOOKUP(1,GEfectos!$J$4:$P$4,GEfectos!J10:P10),IF(EFECTOS!$N$9=\"EL SALVADOR\",LOOKUP(2,GEfectos!$J$4:$P$4,GEfectos!J10:P10),IF(EFECTOS!$N$9=\"GUATEMALA\",LOOKUP(3,GEfectos!$J$4:$P$4,GEfectos!J10:P10),IF(EFECTOS!$N$9=\"HONDURAS\",LOOKUP(4,GEfectos!$J$4:$P$4,GEfectos!J10:P10),IF(EFECTOS!$N$9=\"NICARAGUA\",LOOKUP(5,GEfectos!$J$4:$P$4,GEfectos!J10:P10),IF(EFECTOS!$N$9=\"REPÚBLICA \nDOMINICANA\",LOOKUP(6,$J$4:$P$4,J10:P10),IF(EFECTOS!$N$9=\"PANAMÁ\",LOOKUP(7,GEfectos!$J$4:$P$4,GEfectos!J10:P10))))))))","v":65.075326638917801},{"$f":"IF(EFECTOS!$N$9=\"COSTA RICA\",LOOKUP(1,GEfectos!$Q$4:$W$4,GEfectos!Q10:W10),IF(EFECTOS!$N$9=\"EL SALVADOR\",LOOKUP(2,GEfectos!$Q$4:$W$4,GEfectos!Q10:W10),IF(EFECTOS!$N$9=\"GUATEMALA\",LOOKUP(3,GEfectos!$Q$4:$W$4,GEfectos!Q10:W10),IF(EFECTOS!$N$9=\"HONDURAS\",LOOKUP(4,GEfectos!$Q$4:$W$4,GEfectos!Q10:W10),IF(EFECTOS!$N$9=\"NICARAGUA\",LOOKUP(5,GEfectos!$Q$4:$W$4,GEfectos!Q10:W10),IF(EFECTOS!$N$9=\"REPÚBLICA \nDOMINICANA\",LOOKUP(6,$Q$4:$W$4,Q10:W10),IF(EFECTOS!$N$9=\"PANAMÁ\",LOOKUP(7,GEfectos!$Q$4:$W$4,GEfectos!Q10:W10))))))))","v":61.479218984624609},100]
[null,{"$f":"'ITCER GLOBAL'!B11","v":"Junio"},{"$f":"'ITCER GLOBAL'!C11","v":106.2147169903117},{"$f":"'ITCER GLOBAL'!D11","v":117.97246660593603},{"$f":"'ITCER GLOBAL'!E11","v":102.89254310011383},{"$f":"'ITCER GLOBAL'!F11","v":129.07071515389373},{"$f":"'ITCER GLOBAL'!G11","v":97.880306060567364},{"$f":"'ITCER GLOBAL'!H11","v":79.599911243284211},{"$f":"'ITCER GLOBAL'!I11","v":104.70598821368249},{"$f":"'ITCER GLOBAL'!S11","v":65.984750930650279},{"$f":"'ITCER GLOBAL'!T11","v":120.6913456564553},{"$f":"'ITCER GLOBAL'!U11","v":87.567130807264775},{"$f":"'ITCER GLOBAL'!V11","v":71.274043552014774},{"$f":"'ITCER GLOBAL'!W11","v":70.389276327662671},{"$f":"'ITCER GLOBAL'!X11","v":86.382727140192543},{"$f":"'ITCER GLOBAL'!Y11","v":120.01869795003392},{"$f":"'ITCER GLOBAL'!AA11","v":62.123924819824197},{"$f":"'ITCER GLOBAL'!AB11","v":102.30467254668936},{"$f":"'ITCER GLOBAL'!AC11","v":85.105419857357859},{"$f":"'ITCER GLOBAL'!AD11","v":55.22092557326674},{"$f":"'ITCER GLOBAL'!AE11","v":71.913625080112126},{"$f":"'ITCER GLOBAL'!AF11","v":108.52113499998481},{"$f":"'ITCER GLOBAL'!AG11","v":114.62448327702278},null,{"$f":"IF(EFECTOS!$N$9=\"COSTA RICA\",LOOKUP(1,GEfectos!$C$4:$I$4,GEfectos!C11:I11),IF(EFECTOS!$N$9=\"EL SALVADOR\",LOOKUP(2,GEfectos!$C$4:$I$4,GEfectos!C11:I11),IF(EFECTOS!$N$9=\"GUATEMALA\",LOOKUP(3,GEfectos!$C$4:$I$4,GEfectos!C11:I11),IF(EFECTOS!$N$9=\"HONDURAS\",LOOKUP(4,GEfectos!$C$4:$I$4,GEfectos!C11:I11),IF(EFECTOS!$N$9=\"NICARAGUA\",LOOKUP(5,GEfectos!$C$4:$I$4,GEfectos!C11:I11),IF(EFECTOS!$N$9=\"REPÚBLICA \nDOMINICANA\",LOOKUP(6,$C$4:$I$4,C11:I11),IF(EFECTOS!$N$9=\"PANAMÁ\",LOOKUP(7,GEfectos!$C$4:$I$4,GEfectos!C11:I11))))))))","v":106.2147169903117},{"$f":"IF(EFECTOS!$N$9=\"COSTA RICA\",LOOKUP(1,GEfectos!$J$4:$P$4,GEfectos!J11:P11),IF(EFECTOS!$N$9=\"EL SALVADOR\",LOOKUP(2,GEfectos!$J$4:$P$4,GEfectos!J11:P11),IF(EFECTOS!$N$9=\"GUATEMALA\",LOOKUP(3,GEfectos!$J$4:$P$4,GEfectos!J11:P11),IF(EFECTOS!$N$9=\"HONDURAS\",LOOKUP(4,GEfectos!$J$4:$P$4,GEfectos!J11:P11),IF(EFECTOS!$N$9=\"NICARAGUA\",LOOKUP(5,GEfectos!$J$4:$P$4,GEfectos!J11:P11),IF(EFECTOS!$N$9=\"REPÚBLICA \nDOMINICANA\",LOOKUP(6,$J$4:$P$4,J11:P11),IF(EFECTOS!$N$9=\"PANAMÁ\",LOOKUP(7,GEfectos!$J$4:$P$4,GEfectos!J11:P11))))))))","v":65.984750930650279},{"$f":"IF(EFECTOS!$N$9=\"COSTA RICA\",LOOKUP(1,GEfectos!$Q$4:$W$4,GEfectos!Q11:W11),IF(EFECTOS!$N$9=\"EL SALVADOR\",LOOKUP(2,GEfectos!$Q$4:$W$4,GEfectos!Q11:W11),IF(EFECTOS!$N$9=\"GUATEMALA\",LOOKUP(3,GEfectos!$Q$4:$W$4,GEfectos!Q11:W11),IF(EFECTOS!$N$9=\"HONDURAS\",LOOKUP(4,GEfectos!$Q$4:$W$4,GEfectos!Q11:W11),IF(EFECTOS!$N$9=\"NICARAGUA\",LOOKUP(5,GEfectos!$Q$4:$W$4,GEfectos!Q11:W11),IF(EFECTOS!$N$9=\"REPÚBLICA \nDOMINICANA\",LOOKUP(6,$Q$4:$W$4,Q11:W11),IF(EFECTOS!$N$9=\"PANAMÁ\",LOOKUP(7,GEfectos!$Q$4:$W$4,GEfectos!Q11:W11))))))))","v":62.123924819824197},100]
[null,{"$f":"'ITCER GLOBAL'!B12","v":"Julio"},{"$f":"'ITCER GLOBAL'!C12","v":106.09596789598181},{"$f":"'ITCER GLOBAL'!D12","v":115.13934389088173},{"$f":"'ITCER GLOBAL'!E12","v":103.42671238293472},{"$f":"'ITCER GLOBAL'!F12","v":129.40627546929861},{"$f":"'ITCER GLOBAL'!G12","v":97.880101906155616},{"$f":"'ITCER GLOBAL'!H12","v":79.169418287856303},{"$f":"'ITCER GLOBAL'!I12","v":104.58204956709866},{"$f":"'ITCER GLOBAL'!S12","v":66.868633577610865},{"$f":"'ITCER GLOBAL'!T12","v":120.52117198803292},{"$f":"'ITCER GLOBAL'!U12","v":87.705233606789434},{"$f":"'ITCER GLOBAL'!V12","v":72.20287215042849},{"$f":"'ITCER GLOBAL'!W12","v":70.89590164135511},{"$f":"'ITCER GLOBAL'!X12","v":86.38817717740821},{"$f":"'ITCER GLOBAL'!Y12","v":119.73214640377606},{"$f":"'ITCER GLOBAL'!AA12","v":63.026555017783473},{"$f":"'ITCER GLOBAL'!AB12","v":104.67418687243135},{"$f":"'ITCER GLOBAL'!AC12","v":84.799401997873701},{"$f":"'ITCER GLOBAL'!AD12","v":55.795495147805632},{"$f":"'ITCER GLOBAL'!AE12","v":72.431372935561399},{"$f":"'ITCER GLOBAL'!AF12","v":109.11811536028321},{"$f":"'ITCER GLOBAL'!AG12","v":114.48632619019124},null,{"$f":"IF(EFECTOS!$N$9=\"COSTA RICA\",LOOKUP(1,GEfectos!$C$4:$I$4,GEfectos!C12:I12),IF(EFECTOS!$N$9=\"EL SALVADOR\",LOOKUP(2,GEfectos!$C$4:$I$4,GEfectos!C12:I12),IF(EFECTOS!$N$9=\"GUATEMALA\",LOOKUP(3,GEfectos!$C$4:$I$4,GEfectos!C12:I12),IF(EFECTOS!$N$9=\"HONDURAS\",LOOKUP(4,GEfectos!$C$4:$I$4,GEfectos!C12:I12),IF(EFECTOS!$N$9=\"NICARAGUA\",LOOKUP(5,GEfectos!$C$4:$I$4,GEfectos!C12:I12),IF(EFECTOS!$N$9=\"REPÚBLICA \nDOMINICANA\",LOOKUP(6,$C$4:$I$4,C12:I12),IF(EFECTOS!$N$9=\"PANAMÁ\",LOOKUP(7,GEfectos!$C$4:$I$4,GEfectos!C12:I12))))))))","v":106.09596789598181},{"$f":"IF(EFECTOS!$N$9=\"COSTA RICA\",LOOKUP(1,GEfectos!$J$4:$P$4,GEfectos!J12:P12),IF(EFECTOS!$N$9=\"EL SALVADOR\",LOOKUP(2,GEfectos!$J$4:$P$4,GEfectos!J12:P12),IF(EFECTOS!$N$9=\"GUATEMALA\",LOOKUP(3,GEfectos!$J$4:$P$4,GEfectos!J12:P12),IF(EFECTOS!$N$9=\"HONDURAS\",LOOKUP(4,GEfectos!$J$4:$P$4,GEfectos!J12:P12),IF(EFECTOS!$N$9=\"NICARAGUA\",LOOKUP(5,GEfectos!$J$4:$P$4,GEfectos!J12:P12),IF(EFECTOS!$N$9=\"REPÚBLICA \nDOMINICANA\",LOOKUP(6,$J$4:$P$4,J12:P12),IF(EFECTOS!$N$9=\"PANAMÁ\",LOOKUP(7,GEfectos!$J$4:$P$4,GEfectos!J12:P12))))))))","v":66.868633577610865},{"$f":"IF(EFECTOS!$N$9=\"COSTA RICA\",LOOKUP(1,GEfectos!$Q$4:$W$4,GEfectos!Q12:W12),IF(EFECTOS!$N$9=\"EL SALVADOR\",LOOKUP(2,GEfectos!$Q$4:$W$4,GEfectos!Q12:W12),IF(EFECTOS!$N$9=\"GUATEMALA\",LOOKUP(3,GEfectos!$Q$4:$W$4,GEfectos!Q12:W12),IF(EFECTOS!$N$9=\"HONDURAS\",LOOKUP(4,GEfectos!$Q$4:$W$4,GEfectos!Q12:W12),IF(EFECTOS!$N$9=\"NICARAGUA\",LOOKUP(5,GEfectos!$Q$4:$W$4,GEfectos!Q12:W12),IF(EFECTOS!$N$9=\"REPÚBLICA \nDOMINICANA\",LOOKUP(6,$Q$4:$W$4,Q12:W12),IF(EFECTOS!$N$9=\"PANAMÁ\",LOOKUP(7,GEfectos!$Q$4:$W$4,GEfectos!Q12:W12))))))))","v":63.026555017783473},100]
[null,{"$f":"'ITCER GLOBAL'!B13","v":"Agosto"},{"$f":"'ITCER GLOBAL'!C13","v":105.50646794820915},{"$f":"'ITCER GLOBAL'!D13","v":113.65328643006647},{"$f":"'ITCER GLOBAL'!E13","v":103.02242338508391},{"$f":"'ITCER GLOBAL'!F13","v":128.8125246774301},{"$f":"'ITCER GLOBAL'!G13","v":99.658330174085478},{"$f":"'ITCER GLOBAL'!H13","v":77.944039290674922},{"$f":"'ITCER GLOBAL'!I13","v":103.33877518505204},{"$f":"'ITCER GLOBAL'!S13","v":67.025238792006647},{"$f":"'ITCER GLOBAL'!T13","v":119.30601787781372},{"$f":"'ITCER GLOBAL'!U13","v":87.495717500112562},{"$f":"'ITCER GLOBAL'!V13","v":72.553034192412312},{"$f":"'ITCER GLOBAL'!W13","v":70.679741989698769},{"$f":"'ITCER GLOBAL'!X13","v":85.692902212260591},{"$f":"'ITCER GLOBAL'!Y13","v":118.05610534568831},{"$f":"'ITCER GLOBAL'!AA13","v":63.527137336175343},{"$f":"'ITCER GLOBAL'!AB13","v":104.97366299321709},{"$f":"'ITCER GLOBAL'!AC13","v":84.928809306946107},{"$f":"'ITCER GLOBAL'!AD13","v":56.324518422489},{"$f":"'ITCER GLOBAL'!AE13","v":70.922061272985175},{"$f":"'ITCER GLOBAL'!AF13","v":109.94157217422105},{"$f":"'ITCER GLOBAL'!AG13","v":114.241827556289},null,{"$f":"IF(EFECTOS!$N$9=\"COSTA RICA\",LOOKUP(1,GEfectos!$C$4:$I$4,GEfectos!C13:I13),IF(EFECTOS!$N$9=\"EL SALVADOR\",LOOKUP(2,GEfectos!$C$4:$I$4,GEfectos!C13:I13),IF(EFECTOS!$N$9=\"GUATEMALA\",LOOKUP(3,GEfectos!$C$4:$I$4,GEfectos!C13:I13),IF(EFECTOS!$N$9=\"HONDURAS\",LOOKUP(4,GEfectos!$C$4:$I$4,GEfectos!C13:I13),IF(EFECTOS!$N$9=\"NICARAGUA\",LOOKUP(5,GEfectos!$C$4:$I$4,GEfectos!C13:I13),IF(EFECTOS!$N$9=\"REPÚBLICA \nDOMINICANA\",LOOKUP(6,$C$4:$I$4,C13:I13),IF(EFECTOS!$N$9=\"PANAMÁ\",LOOKUP(7,GEfectos!$C$4:$I$4,GEfectos!C13:I13))))))))","v":105.50646794820915},{"$f":"IF(EFECTOS!$N$9=\"COSTA RICA\",LOOKUP(1,GEfectos!$J$4:$P$4,GEfectos!J13:P13),IF(EFECTOS!$N$9=\"EL SALVADOR\",LOOKUP(2,GEfectos!$J$4:$P$4,GEfectos!J13:P13),IF(EFECTOS!$N$9=\"GUATEMALA\",LOOKUP(3,GEfectos!$J$4:$P$4,GEfectos!J13:P13),IF(EFECTOS!$N$9=\"HONDURAS\",LOOKUP(4,GEfectos!$J$4:$P$4,GEfectos!J13:P13),IF(EFECTOS!$N$9=\"NICARAGUA\",LOOKUP(5,GEfectos!$J$4:$P$4,GEfectos!J13:P13),IF(EFECTOS!$N$9=\"REPÚBLICA \nDOMINICANA\",LOOKUP(6,$J$4:$P$4,J13:P13),IF(EFECTOS!$N$9=\"PANAMÁ\",LOOKUP(7,GEfectos!$J$4:$P$4,GEfectos!J13:P13))))))))","v":67.025238792006647},{"$f":"IF(EFECTOS!$N$9=\"COSTA RICA\",LOOKUP(1,GEfectos!$Q$4:$W$4,GEfectos!Q13:W13),IF(EFECTOS!$N$9=\"EL SALVADOR\",LOOKUP(2,GEfectos!$Q$4:$W$4,GEfectos!Q13:W13),IF(EFECTOS!$N$9=\"GUATEMALA\",LOOKUP(3,GEfectos!$Q$4:$W$4,GEfectos!Q13:W13),IF(EFECTOS!$N$9=\"HONDURAS\",LOOKUP(4,GEfectos!$Q$4:$W$4,GEfectos!Q13:W13),IF(EFECTOS!$N$9=\"NICARAGUA\",LOOKUP(5,GEfectos!$Q$4:$W$4,GEfectos!Q13:W13),IF(EFECTOS!$N$9=\"REPÚBLICA \nDOMINICANA\",LOOKUP(6,$Q$4:$W$4,Q13:W13),IF(EFECTOS!$N$9=\"PANAMÁ\",LOOKUP(7,GEfectos!$Q$4:$W$4,GEfectos!Q13:W13))))))))","v":63.527137336175343},100]
[null,{"$f":"'ITCER GLOBAL'!B14","v":"Septiembre"},{"$f":"'ITCER GLOBAL'!C14","v":103.79869054727634},{"$f":"'ITCER GLOBAL'!D14","v":110.32122533737841},{"$f":"'ITCER GLOBAL'!E14","v":101.74614149622136},{"$f":"'ITCER GLOBAL'!F14","v":126.46229672852148},{"$f":"'ITCER GLOBAL'!G14","v":97.957063031858752},{"$f":"'ITCER GLOBAL'!H14","v":75.564311783408755},{"$f":"'ITCER GLOBAL'!I14","v":101.90471043770698},{"$f":"'ITCER GLOBAL'!S14","v":67.533684008440673},{"$f":"'ITCER GLOBAL'!T14","v":118.34165838682884},{"$f":"'ITCER GLOBAL'!U14","v":88.070108682748796},{"$f":"'ITCER GLOBAL'!V14","v":72.972136892462117},{"$f":"'ITCER GLOBAL'!W14","v":70.662997576869145},{"$f":"'ITCER GLOBAL'!X14","v":85.238179280162612},{"$f":"'ITCER GLOBAL'!Y14","v":116.93788767130025},{"$f":"'ITCER GLOBAL'!AA14","v":65.062173378460557},{"$f":"'ITCER GLOBAL'!AB14","v":107.27007248598154},{"$f":"'ITCER GLOBAL'!AC14","v":86.558671795941791},{"$f":"'ITCER GLOBAL'!AD14","v":57.7026819694035},{"$f":"'ITCER GLOBAL'!AE14","v":72.136704990723629},{"$f":"'ITCER GLOBAL'!AF14","v":112.80216449860913},{"$f":"'ITCER GLOBAL'!AG14","v":114.75219071721207},null,{"$f":"IF(EFECTOS!$N$9=\"COSTA RICA\",LOOKUP(1,GEfectos!$C$4:$I$4,GEfectos!C14:I14),IF(EFECTOS!$N$9=\"EL SALVADOR\",LOOKUP(2,GEfectos!$C$4:$I$4,GEfectos!C14:I14),IF(EFECTOS!$N$9=\"GUATEMALA\",LOOKUP(3,GEfectos!$C$4:$I$4,GEfectos!C14:I14),IF(EFECTOS!$N$9=\"HONDURAS\",LOOKUP(4,GEfectos!$C$4:$I$4,GEfectos!C14:I14),IF(EFECTOS!$N$9=\"NICARAGUA\",LOOKUP(5,GEfectos!$C$4:$I$4,GEfectos!C14:I14),IF(EFECTOS!$N$9=\"REPÚBLICA \nDOMINICANA\",LOOKUP(6,$C$4:$I$4,C14:I14),IF(EFECTOS!$N$9=\"PANAMÁ\",LOOKUP(7,GEfectos!$C$4:$I$4,GEfectos!C14:I14))))))))","v":103.79869054727634},{"$f":"IF(EFECTOS!$N$9=\"COSTA RICA\",LOOKUP(1,GEfectos!$J$4:$P$4,GEfectos!J14:P14),IF(EFECTOS!$N$9=\"EL SALVADOR\",LOOKUP(2,GEfectos!$J$4:$P$4,GEfectos!J14:P14),IF(EFECTOS!$N$9=\"GUATEMALA\",LOOKUP(3,GEfectos!$J$4:$P$4,GEfectos!J14:P14),IF(EFECTOS!$N$9=\"HONDURAS\",LOOKUP(4,GEfectos!$J$4:$P$4,GEfectos!J14:P14),IF(EFECTOS!$N$9=\"NICARAGUA\",LOOKUP(5,GEfectos!$J$4:$P$4,GEfectos!J14:P14),IF(EFECTOS!$N$9=\"REPÚBLICA \nDOMINICANA\",LOOKUP(6,$J$4:$P$4,J14:P14),IF(EFECTOS!$N$9=\"PANAMÁ\",LOOKUP(7,GEfectos!$J$4:$P$4,GEfectos!J14:P14))))))))","v":67.533684008440673},{"$f":"IF(EFECTOS!$N$9=\"COSTA RICA\",LOOKUP(1,GEfectos!$Q$4:$W$4,GEfectos!Q14:W14),IF(EFECTOS!$N$9=\"EL SALVADOR\",LOOKUP(2,GEfectos!$Q$4:$W$4,GEfectos!Q14:W14),IF(EFECTOS!$N$9=\"GUATEMALA\",LOOKUP(3,GEfectos!$Q$4:$W$4,GEfectos!Q14:W14),IF(EFECTOS!$N$9=\"HONDURAS\",LOOKUP(4,GEfectos!$Q$4:$W$4,GEfectos!Q14:W14),IF(EFECTOS!$N$9=\"NICARAGUA\",LOOKUP(5,GEfectos!$Q$4:$W$4,GEfectos!Q14:W14),IF(EFECTOS!$N$9=\"REPÚBLICA \nDOMINICANA\",LOOKUP(6,$Q$4:$W$4,Q14:W14),IF(EFECTOS!$N$9=\"PANAMÁ\",LOOKUP(7,GEfectos!$Q$4:$W$4,GEfectos!Q14:W14))))))))","v":65.062173378460557},100]
[null,{"$f":"'ITCER GLOBAL'!B15","v":"Octubre"},{"$f":"'ITCER GLOBAL'!C15","v":102.74880679619859},{"$f":"'ITCER GLOBAL'!D15","v":110.23910982913273},{"$f":"'ITCER GLOBAL'!E15","v":101.77443006895048},{"$f":"'ITCER GLOBAL'!F15","v":126.65652356704398},{"$f":"'ITCER GLOBAL'!G15","v":95.620019282189801},{"$f":"'ITCER GLOBAL'!H15","v":75.180436016207096},{"$f":"'ITCER GLOBAL'!I15","v":102.48093187812357},{"$f":"'ITCER GLOBAL'!S15","v":68.538290505288941},{"$f":"'ITCER GLOBAL'!T15","v":117.90684442765615},{"$f":"'ITCER GLOBAL'!U15","v":88.768139931132993},{"$f":"'ITCER GLOBAL'!V15","v":74.023496562224437},{"$f":"'ITCER GLOBAL'!W15","v":71.103062625427853},{"$f":"'ITCER GLOBAL'!X15","v":85.125411677924831},{"$f":"'ITCER GLOBAL'!Y15","v":116.8306154508761},{"$f":"'ITCER GLOBAL'!AA15","v":66.704706986266103},{"$f":"'ITCER GLOBAL'!AB15","v":106.95554836247152},{"$f":"'ITCER GLOBAL'!AC15","v":87.22047362092232},{"$f":"'ITCER GLOBAL'!AD15","v":58.444282597920086},{"$f":"'ITCER GLOBAL'!AE15","v":74.360017033244333},{"$f":"'ITCER GLOBAL'!AF15","v":113.22814310304589},{"$f":"'ITCER GLOBAL'!AG15","v":114.00229614404563},null,{"$f":"IF(EFECTOS!$N$9=\"COSTA RICA\",LOOKUP(1,GEfectos!$C$4:$I$4,GEfectos!C15:I15),IF(EFECTOS!$N$9=\"EL SALVADOR\",LOOKUP(2,GEfectos!$C$4:$I$4,GEfectos!C15:I15),IF(EFECTOS!$N$9=\"GUATEMALA\",LOOKUP(3,GEfectos!$C$4:$I$4,GEfectos!C15:I15),IF(EFECTOS!$N$9=\"HONDURAS\",LOOKUP(4,GEfectos!$C$4:$I$4,GEfectos!C15:I15),IF(EFECTOS!$N$9=\"NICARAGUA\",LOOKUP(5,GEfectos!$C$4:$I$4,GEfectos!C15:I15),IF(EFECTOS!$N$9=\"REPÚBLICA \nDOMINICANA\",LOOKUP(6,$C$4:$I$4,C15:I15),IF(EFECTOS!$N$9=\"PANAMÁ\",LOOKUP(7,GEfectos!$C$4:$I$4,GEfectos!C15:I15))))))))","v":102.74880679619859},{"$f":"IF(EFECTOS!$N$9=\"COSTA RICA\",LOOKUP(1,GEfectos!$J$4:$P$4,GEfectos!J15:P15),IF(EFECTOS!$N$9=\"EL SALVADOR\",LOOKUP(2,GEfectos!$J$4:$P$4,GEfectos!J15:P15),IF(EFECTOS!$N$9=\"GUATEMALA\",LOOKUP(3,GEfectos!$J$4:$P$4,GEfectos!J15:P15),IF(EFECTOS!$N$9=\"HONDURAS\",LOOKUP(4,GEfectos!$J$4:$P$4,GEfectos!J15:P15),IF(EFECTOS!$N$9=\"NICARAGUA\",LOOKUP(5,GEfectos!$J$4:$P$4,GEfectos!J15:P15),IF(EFECTOS!$N$9=\"REPÚBLICA \nDOMINICANA\",LOOKUP(6,$J$4:$P$4,J15:P15),IF(EFECTOS!$N$9=\"PANAMÁ\",LOOKUP(7,GEfectos!$J$4:$P$4,GEfectos!J15:P15))))))))","v":68.538290505288941},{"$f":"IF(EFECTOS!$N$9=\"COSTA RICA\",LOOKUP(1,GEfectos!$Q$4:$W$4,GEfectos!Q15:W15),IF(EFECTOS!$N$9=\"EL SALVADOR\",LOOKUP(2,GEfectos!$Q$4:$W$4,GEfectos!Q15:W15),IF(EFECTOS!$N$9=\"GUATEMALA\",LOOKUP(3,GEfectos!$Q$4:$W$4,GEfectos!Q15:W15),IF(EFECTOS!$N$9=\"HONDURAS\",LOOKUP(4,GEfectos!$Q$4:$W$4,GEfectos!Q15:W15),IF(EFECTOS!$N$9=\"NICARAGUA\",LOOKUP(5,GEfectos!$Q$4:$W$4,GEfectos!Q15:W15),IF(EFECTOS!$N$9=\"REPÚBLICA \nDOMINICANA\",LOOKUP(6,$Q$4:$W$4,Q15:W15),IF(EFECTOS!$N$9=\"PANAMÁ\",LOOKUP(7,GEfectos!$Q$4:$W$4,GEfectos!Q15:W15))))))))","v":66.704706986266103},100]
[null,{"$f":"'ITCER GLOBAL'!B16","v":"Noviembre"},{"$f":"'ITCER GLOBAL'!C16","v":101.52793261429917},{"$f":"'ITCER GLOBAL'!D16","v":109.29988655900107},{"$f":"'ITCER GLOBAL'!E16","v":100.45281607814586},{"$f":"'ITCER GLOBAL'!F16","v":127.62726517469279},{"$f":"'ITCER GLOBAL'!G16","v":93.433838223215744},{"$f":"'ITCER GLOBAL'!H16","v":74.02222019406733},{"$f":"'ITCER GLOBAL'!I16","v":102.01600471652266},{"$f":"'ITCER GLOBAL'!S16","v":69.158369580633632},{"$f":"'ITCER GLOBAL'!T16","v":116.81707988626077},{"$f":"'ITCER GLOBAL'!U16","v":88.390885690696138},{"$f":"'ITCER GLOBAL'!V16","v":75.389139675126827},{"$f":"'ITCER GLOBAL'!W16","v":71.07722216029137},{"$f":"'ITCER GLOBAL'!X16","v":84.495263826090351},{"$f":"'ITCER GLOBAL'!Y16","v":116.00680337908729},{"$f":"'ITCER GLOBAL'!AA16","v":68.117578876902471},{"$f":"'ITCER GLOBAL'!AB16","v":106.87758566263641},{"$f":"'ITCER GLOBAL'!AC16","v":87.992441766822822},{"$f":"'ITCER GLOBAL'!AD16","v":59.069776016853595},{"$f":"'ITCER GLOBAL'!AE16","v":76.072249103677123},{"$f":"'ITCER GLOBAL'!AF16","v":114.14851324989357},{"$f":"'ITCER GLOBAL'!AG16","v":113.71431737739741},null,{"$f":"IF(EFECTOS!$N$9=\"COSTA RICA\",LOOKUP(1,GEfectos!$C$4:$I$4,GEfectos!C16:I16),IF(EFECTOS!$N$9=\"EL SALVADOR\",LOOKUP(2,GEfectos!$C$4:$I$4,GEfectos!C16:I16),IF(EFECTOS!$N$9=\"GUATEMALA\",LOOKUP(3,GEfectos!$C$4:$I$4,GEfectos!C16:I16),IF(EFECTOS!$N$9=\"HONDURAS\",LOOKUP(4,GEfectos!$C$4:$I$4,GEfectos!C16:I16),IF(EFECTOS!$N$9=\"NICARAGUA\",LOOKUP(5,GEfectos!$C$4:$I$4,GEfectos!C16:I16),IF(EFECTOS!$N$9=\"REPÚBLICA \nDOMINICANA\",LOOKUP(6,$C$4:$I$4,C16:I16),IF(EFECTOS!$N$9=\"PANAMÁ\",LOOKUP(7,GEfectos!$C$4:$I$4,GEfectos!C16:I16))))))))","v":101.52793261429917},{"$f":"IF(EFECTOS!$N$9=\"COSTA RICA\",LOOKUP(1,GEfectos!$J$4:$P$4,GEfectos!J16:P16),IF(EFECTOS!$N$9=\"EL SALVADOR\",LOOKUP(2,GEfectos!$J$4:$P$4,GEfectos!J16:P16),IF(EFECTOS!$N$9=\"GUATEMALA\",LOOKUP(3,GEfectos!$J$4:$P$4,GEfectos!J16:P16),IF(EFECTOS!$N$9=\"HONDURAS\",LOOKUP(4,GEfectos!$J$4:$P$4,GEfectos!J16:P16),IF(EFECTOS!$N$9=\"NICARAGUA\",LOOKUP(5,GEfectos!$J$4:$P$4,GEfectos!J16:P16),IF(EFECTOS!$N$9=\"REPÚBLICA \nDOMINICANA\",LOOKUP(6,$J$4:$P$4,J16:P16),IF(EFECTOS!$N$9=\"PANAMÁ\",LOOKUP(7,GEfectos!$J$4:$P$4,GEfectos!J16:P16))))))))","v":69.158369580633632},{"$f":"IF(EFECTOS!$N$9=\"COSTA RICA\",LOOKUP(1,GEfectos!$Q$4:$W$4,GEfectos!Q16:W16),IF(EFECTOS!$N$9=\"EL SALVADOR\",LOOKUP(2,GEfectos!$Q$4:$W$4,GEfectos!Q16:W16),IF(EFECTOS!$N$9=\"GUATEMALA\",LOOKUP(3,GEfectos!$Q$4:$W$4,GEfectos!Q16:W16),IF(EFECTOS!$N$9=\"HONDURAS\",LOOKUP(4,GEfectos!$Q$4:$W$4,GEfectos!Q16:W16),IF(EFECTOS!$N$9=\"NICARAGUA\",LOOKUP(5,GEfectos!$Q$4:$W$4,GEfectos!Q16:W16),IF(EFECTOS!$N$9=\"REPÚBLICA \nDOMINICANA\",LOOKUP(6,$Q$4:$W$4,Q16:W16),IF(EFECTOS!$N$9=\"PANAMÁ\",LOOKUP(7,GEfectos!$Q$4:$W$4,GEfectos!Q16:W16))))))))","v":68.117578876902471},100]
[null,{"$f":"'ITCER GLOBAL'!B17","v":"Diciembre"},{"$f":"'ITCER GLOBAL'!C17","v":101.66312173414254},{"$f":"'ITCER GLOBAL'!D17","v":109.2704340011622},{"$f":"'ITCER GLOBAL'!E17","v":98.824329095578278},{"$f":"'ITCER GLOBAL'!F17","v":128.20286728953911},{"$f":"'ITCER GLOBAL'!G17","v":95.238490652917037},{"$f":"'ITCER GLOBAL'!H17","v":100.42041797298052},{"$f":"'ITCER GLOBAL'!I17","v":101.58314808865916},{"$f":"'ITCER GLOBAL'!S17","v":69.968284580444234},{"$f":"'ITCER GLOBAL'!T17","v":116.62286909962505},{"$f":"'ITCER GLOBAL'!U17","v":87.183840000423061},{"$f":"'ITCER GLOBAL'!V17","v":76.806748328456067},{"$f":"'ITCER GLOBAL'!W17","v":71.517664559271907},{"$f":"'ITCER GLOBAL'!X17","v":84.387085849468349},{"$f":"'ITCER GLOBAL'!Y17","v":115.72266573416658},{"$f":"'ITCER GLOBAL'!AA17","v":68.823663278230896},{"$f":"'ITCER GLOBAL'!AB17","v":106.7286591891679},{"$f":"'ITCER GLOBAL'!AC17","v":88.221028969600084},{"$f":"'ITCER GLOBAL'!AD17","v":59.910320223175859},{"$f":"'ITCER GLOBAL'!AE17","v":75.093236010960879},{"$f":"'ITCER GLOBAL'!AF17","v":84.033792681657474},{"$f":"'ITCER GLOBAL'!AG17","v":113.91915678097202},null,{"$f":"IF(EFECTOS!$N$9=\"COSTA RICA\",LOOKUP(1,GEfectos!$C$4:$I$4,GEfectos!C17:I17),IF(EFECTOS!$N$9=\"EL SALVADOR\",LOOKUP(2,GEfectos!$C$4:$I$4,GEfectos!C17:I17),IF(EFECTOS!$N$9=\"GUATEMALA\",LOOKUP(3,GEfectos!$C$4:$I$4,GEfectos!C17:I17),IF(EFECTOS!$N$9=\"HONDURAS\",LOOKUP(4,GEfectos!$C$4:$I$4,GEfectos!C17:I17),IF(EFECTOS!$N$9=\"NICARAGUA\",LOOKUP(5,GEfectos!$C$4:$I$4,GEfectos!C17:I17),IF(EFECTOS!$N$9=\"REPÚBLICA \nDOMINICANA\",LOOKUP(6,$C$4:$I$4,C17:I17),IF(EFECTOS!$N$9=\"PANAMÁ\",LOOKUP(7,GEfectos!$C$4:$I$4,GEfectos!C17:I17))))))))","v":101.66312173414254},{"$f":"IF(EFECTOS!$N$9=\"COSTA RICA\",LOOKUP(1,GEfectos!$J$4:$P$4,GEfectos!J17:P17),IF(EFECTOS!$N$9=\"EL SALVADOR\",LOOKUP(2,GEfectos!$J$4:$P$4,GEfectos!J17:P17),IF(EFECTOS!$N$9=\"GUATEMALA\",LOOKUP(3,GEfectos!$J$4:$P$4,GEfectos!J17:P17),IF(EFECTOS!$N$9=\"HONDURAS\",LOOKUP(4,GEfectos!$J$4:$P$4,GEfectos!J17:P17),IF(EFECTOS!$N$9=\"NICARAGUA\",LOOKUP(5,GEfectos!$J$4:$P$4,GEfectos!J17:P17),IF(EFECTOS!$N$9=\"REPÚBLICA \nDOMINICANA\",LOOKUP(6,$J$4:$P$4,J17:P17),IF(EFECTOS!$N$9=\"PANAMÁ\",LOOKUP(7,GEfectos!$J$4:$P$4,GEfectos!J17:P17))))))))","v":69.968284580444234},{"$f":"IF(EFECTOS!$N$9=\"COSTA RICA\",LOOKUP(1,GEfectos!$Q$4:$W$4,GEfectos!Q17:W17),IF(EFECTOS!$N$9=\"EL SALVADOR\",LOOKUP(2,GEfectos!$Q$4:$W$4,GEfectos!Q17:W17),IF(EFECTOS!$N$9=\"GUATEMALA\",LOOKUP(3,GEfectos!$Q$4:$W$4,GEfectos!Q17:W17),IF(EFECTOS!$N$9=\"HONDURAS\",LOOKUP(4,GEfectos!$Q$4:$W$4,GEfectos!Q17:W17),IF(EFECTOS!$N$9=\"NICARAGUA\",LOOKUP(5,GEfectos!$Q$4:$W$4,GEfectos!Q17:W17),IF(EFECTOS!$N$9=\"REPÚBLICA \nDOMINICANA\",LOOKUP(6,$Q$4:$W$4,Q17:W17),IF(EFECTOS!$N$9=\"PANAMÁ\",LOOKUP(7,GEfectos!$Q$4:$W$4,GEfectos!Q17:W17))))))))","v":68.823663278230896},100]
[1996,{"$f":"'ITCER GLOBAL'!B18","v":"Enero"},{"$f":"'ITCER GLOBAL'!C18","v":101.66058966214068},{"$f":"'ITCER GLOBAL'!D18","v":108.75311671724391},{"$f":"'ITCER GLOBAL'!E18","v":100.73981549188889},{"$f":"'ITCER GLOBAL'!F18","v":130.55426234248864},{"$f":"'ITCER GLOBAL'!G18","v":96.992264856971644},{"$f":"'ITCER GLOBAL'!H18","v":97.389668238186275},{"$f":"'ITCER GLOBAL'!I18","v":105.11711427839418},{"$f":"'ITCER GLOBAL'!S18","v":70.816708430496178},{"$f":"'ITCER GLOBAL'!T18","v":116.94547782494091},{"$f":"'ITCER GLOBAL'!U18","v":89.44050496854571},{"$f":"'ITCER GLOBAL'!V18","v":78.259655892540479},{"$f":"'ITCER GLOBAL'!W18","v":71.297003403226825},{"$f":"'ITCER GLOBAL'!X18","v":79.824664121333768},{"$f":"'ITCER GLOBAL'!Y18","v":119.91723681824978},{"$f":"'ITCER GLOBAL'!AA18","v":69.659942624618637},{"$f":"'ITCER GLOBAL'!AB18","v":107.53298972478828},{"$f":"'ITCER GLOBAL'!AC18","v":88.783669626382292},{"$f":"'ITCER GLOBAL'!AD18","v":59.944159990149174},{"$f":"'ITCER GLOBAL'!AE18","v":73.507927161371072},{"$f":"'ITCER GLOBAL'!AF18","v":81.964201711937548},{"$f":"'ITCER GLOBAL'!AG18","v":114.07965072239203},null,{"$f":"IF(EFECTOS!$N$9=\"COSTA RICA\",LOOKUP(1,GEfectos!$C$4:$I$4,GEfectos!C18:I18),IF(EFECTOS!$N$9=\"EL SALVADOR\",LOOKUP(2,GEfectos!$C$4:$I$4,GEfectos!C18:I18),IF(EFECTOS!$N$9=\"GUATEMALA\",LOOKUP(3,GEfectos!$C$4:$I$4,GEfectos!C18:I18),IF(EFECTOS!$N$9=\"HONDURAS\",LOOKUP(4,GEfectos!$C$4:$I$4,GEfectos!C18:I18),IF(EFECTOS!$N$9=\"NICARAGUA\",LOOKUP(5,GEfectos!$C$4:$I$4,GEfectos!C18:I18),IF(EFECTOS!$N$9=\"REPÚBLICA \nDOMINICANA\",LOOKUP(6,$C$4:$I$4,C18:I18),IF(EFECTOS!$N$9=\"PANAMÁ\",LOOKUP(7,GEfectos!$C$4:$I$4,GEfectos!C18:I18))))))))","v":101.66058966214068},{"$f":"IF(EFECTOS!$N$9=\"COSTA RICA\",LOOKUP(1,GEfectos!$J$4:$P$4,GEfectos!J18:P18),IF(EFECTOS!$N$9=\"EL SALVADOR\",LOOKUP(2,GEfectos!$J$4:$P$4,GEfectos!J18:P18),IF(EFECTOS!$N$9=\"GUATEMALA\",LOOKUP(3,GEfectos!$J$4:$P$4,GEfectos!J18:P18),IF(EFECTOS!$N$9=\"HONDURAS\",LOOKUP(4,GEfectos!$J$4:$P$4,GEfectos!J18:P18),IF(EFECTOS!$N$9=\"NICARAGUA\",LOOKUP(5,GEfectos!$J$4:$P$4,GEfectos!J18:P18),IF(EFECTOS!$N$9=\"REPÚBLICA \nDOMINICANA\",LOOKUP(6,$J$4:$P$4,J18:P18),IF(EFECTOS!$N$9=\"PANAMÁ\",LOOKUP(7,GEfectos!$J$4:$P$4,GEfectos!J18:P18))))))))","v":70.816708430496178},{"$f":"IF(EFECTOS!$N$9=\"COSTA RICA\",LOOKUP(1,GEfectos!$Q$4:$W$4,GEfectos!Q18:W18),IF(EFECTOS!$N$9=\"EL SALVADOR\",LOOKUP(2,GEfectos!$Q$4:$W$4,GEfectos!Q18:W18),IF(EFECTOS!$N$9=\"GUATEMALA\",LOOKUP(3,GEfectos!$Q$4:$W$4,GEfectos!Q18:W18),IF(EFECTOS!$N$9=\"HONDURAS\",LOOKUP(4,GEfectos!$Q$4:$W$4,GEfectos!Q18:W18),IF(EFECTOS!$N$9=\"NICARAGUA\",LOOKUP(5,GEfectos!$Q$4:$W$4,GEfectos!Q18:W18),IF(EFECTOS!$N$9=\"REPÚBLICA \nDOMINICANA\",LOOKUP(6,$Q$4:$W$4,Q18:W18),IF(EFECTOS!$N$9=\"PANAMÁ\",LOOKUP(7,GEfectos!$Q$4:$W$4,GEfectos!Q18:W18))))))))","v":69.659942624618637},100]
[null,{"$f":"'ITCER GLOBAL'!B19","v":"Febrero"},{"$f":"'ITCER GLOBAL'!C19","v":102.17128761877886},{"$f":"'ITCER GLOBAL'!D19","v":108.75393961681947},{"$f":"'ITCER GLOBAL'!E19","v":101.62857369764532},{"$f":"'ITCER GLOBAL'!F19","v":129.94088985922394},{"$f":"'ITCER GLOBAL'!G19","v":97.130755737727085},{"$f":"'ITCER GLOBAL'!H19","v":97.603528936204015},{"$f":"'ITCER GLOBAL'!I19","v":105.55472827662565},{"$f":"'ITCER GLOBAL'!S19","v":71.49277096586215},{"$f":"'ITCER GLOBAL'!T19","v":116.50025565244042},{"$f":"'ITCER GLOBAL'!U19","v":90.223835974000977},{"$f":"'ITCER GLOBAL'!V19","v":79.729035598604582},{"$f":"'ITCER GLOBAL'!W19","v":71.717260344429462},{"$f":"'ITCER GLOBAL'!X19","v":79.801778295471905},{"$f":"'ITCER GLOBAL'!Y19","v":119.6695460551811},{"$f":"'ITCER GLOBAL'!AA19","v":69.973446192256787},{"$f":"'ITCER GLOBAL'!AB19","v":107.12279119534804},{"$f":"'ITCER GLOBAL'!AC19","v":88.778020483122674},{"$f":"'ITCER GLOBAL'!AD19","v":61.357926427148413},{"$f":"'ITCER GLOBAL'!AE19","v":73.835789498107843},{"$f":"'ITCER GLOBAL'!AF19","v":81.761160856829505},{"$f":"'ITCER GLOBAL'!AG19","v":113.37203743404554},null,{"$f":"IF(EFECTOS!$N$9=\"COSTA RICA\",LOOKUP(1,GEfectos!$C$4:$I$4,GEfectos!C19:I19),IF(EFECTOS!$N$9=\"EL SALVADOR\",LOOKUP(2,GEfectos!$C$4:$I$4,GEfectos!C19:I19),IF(EFECTOS!$N$9=\"GUATEMALA\",LOOKUP(3,GEfectos!$C$4:$I$4,GEfectos!C19:I19),IF(EFECTOS!$N$9=\"HONDURAS\",LOOKUP(4,GEfectos!$C$4:$I$4,GEfectos!C19:I19),IF(EFECTOS!$N$9=\"NICARAGUA\",LOOKUP(5,GEfectos!$C$4:$I$4,GEfectos!C19:I19),IF(EFECTOS!$N$9=\"REPÚBLICA \nDOMINICANA\",LOOKUP(6,$C$4:$I$4,C19:I19),IF(EFECTOS!$N$9=\"PANAMÁ\",LOOKUP(7,GEfectos!$C$4:$I$4,GEfectos!C19:I19))))))))","v":102.17128761877886},{"$f":"IF(EFECTOS!$N$9=\"COSTA RICA\",LOOKUP(1,GEfectos!$J$4:$P$4,GEfectos!J19:P19),IF(EFECTOS!$N$9=\"EL SALVADOR\",LOOKUP(2,GEfectos!$J$4:$P$4,GEfectos!J19:P19),IF(EFECTOS!$N$9=\"GUATEMALA\",LOOKUP(3,GEfectos!$J$4:$P$4,GEfectos!J19:P19),IF(EFECTOS!$N$9=\"HONDURAS\",LOOKUP(4,GEfectos!$J$4:$P$4,GEfectos!J19:P19),IF(EFECTOS!$N$9=\"NICARAGUA\",LOOKUP(5,GEfectos!$J$4:$P$4,GEfectos!J19:P19),IF(EFECTOS!$N$9=\"REPÚBLICA \nDOMINICANA\",LOOKUP(6,$J$4:$P$4,J19:P19),IF(EFECTOS!$N$9=\"PANAMÁ\",LOOKUP(7,GEfectos!$J$4:$P$4,GEfectos!J19:P19))))))))","v":71.49277096586215},{"$f":"IF(EFECTOS!$N$9=\"COSTA RICA\",LOOKUP(1,GEfectos!$Q$4:$W$4,GEfectos!Q19:W19),IF(EFECTOS!$N$9=\"EL SALVADOR\",LOOKUP(2,GEfectos!$Q$4:$W$4,GEfectos!Q19:W19),IF(EFECTOS!$N$9=\"GUATEMALA\",LOOKUP(3,GEfectos!$Q$4:$W$4,GEfectos!Q19:W19),IF(EFECTOS!$N$9=\"HONDURAS\",LOOKUP(4,GEfectos!$Q$4:$W$4,GEfectos!Q19:W19),IF(EFECTOS!$N$9=\"NICARAGUA\",LOOKUP(5,GEfectos!$Q$4:$W$4,GEfectos!Q19:W19),IF(EFECTOS!$N$9=\"REPÚBLICA \nDOMINICANA\",LOOKUP(6,$Q$4:$W$4,Q19:W19),IF(EFECTOS!$N$9=\"PANAMÁ\",LOOKUP(7,GEfectos!$Q$4:$W$4,GEfectos!Q19:W19))))))))","v":69.973446192256787},100]
[null,{"$f":"'ITCER GLOBAL'!B20","v":"Marzo"},{"$f":"'ITCER GLOBAL'!C20","v":103.09329409575497},{"$f":"'ITCER GLOBAL'!D20","v":108.63924151859611},{"$f":"'ITCER GLOBAL'!E20","v":101.19588741246096},{"$f":"'ITCER GLOBAL'!F20","v":131.2237080526962},{"$f":"'ITCER GLOBAL'!G20","v":97.548564876830028},{"$f":"'ITCER GLOBAL'!H20","v":97.963818530726627},{"$f":"'ITCER GLOBAL'!I20","v":105.62102921024619},{"$f":"'ITCER GLOBAL'!S20","v":72.096567788210635},{"$f":"'ITCER GLOBAL'!T20","v":116.15070202830175},{"$f":"'ITCER GLOBAL'!U20","v":90.197362243725166},{"$f":"'ITCER GLOBAL'!V20","v":81.28606873914211},{"$f":"'ITCER GLOBAL'!W20","v":72.164779674180025},{"$f":"'ITCER GLOBAL'!X20","v":79.772951967880132},{"$f":"'ITCER GLOBAL'!Y20","v":119.33749483185964},{"$f":"'ITCER GLOBAL'!AA20","v":69.933324393772878},{"$f":"'ITCER GLOBAL'!AB20","v":106.91413195150103},{"$f":"'ITCER GLOBAL'!AC20","v":89.131450447282234},{"$f":"'ITCER GLOBAL'!AD20","v":61.94465157660354},{"$f":"'ITCER GLOBAL'!AE20","v":73.978309947767144},{"$f":"'ITCER GLOBAL'!AF20","v":81.431035625524473},{"$f":"'ITCER GLOBAL'!AG20","v":112.98649116011721},null,{"$f":"IF(EFECTOS!$N$9=\"COSTA RICA\",LOOKUP(1,GEfectos!$C$4:$I$4,GEfectos!C20:I20),IF(EFECTOS!$N$9=\"EL SALVADOR\",LOOKUP(2,GEfectos!$C$4:$I$4,GEfectos!C20:I20),IF(EFECTOS!$N$9=\"GUATEMALA\",LOOKUP(3,GEfectos!$C$4:$I$4,GEfectos!C20:I20),IF(EFECTOS!$N$9=\"HONDURAS\",LOOKUP(4,GEfectos!$C$4:$I$4,GEfectos!C20:I20),IF(EFECTOS!$N$9=\"NICARAGUA\",LOOKUP(5,GEfectos!$C$4:$I$4,GEfectos!C20:I20),IF(EFECTOS!$N$9=\"REPÚBLICA \nDOMINICANA\",LOOKUP(6,$C$4:$I$4,C20:I20),IF(EFECTOS!$N$9=\"PANAMÁ\",LOOKUP(7,GEfectos!$C$4:$I$4,GEfectos!C20:I20))))))))","v":103.09329409575497},{"$f":"IF(EFECTOS!$N$9=\"COSTA RICA\",LOOKUP(1,GEfectos!$J$4:$P$4,GEfectos!J20:P20),IF(EFECTOS!$N$9=\"EL SALVADOR\",LOOKUP(2,GEfectos!$J$4:$P$4,GEfectos!J20:P20),IF(EFECTOS!$N$9=\"GUATEMALA\",LOOKUP(3,GEfectos!$J$4:$P$4,GEfectos!J20:P20),IF(EFECTOS!$N$9=\"HONDURAS\",LOOKUP(4,GEfectos!$J$4:$P$4,GEfectos!J20:P20),IF(EFECTOS!$N$9=\"NICARAGUA\",LOOKUP(5,GEfectos!$J$4:$P$4,GEfectos!J20:P20),IF(EFECTOS!$N$9=\"REPÚBLICA \nDOMINICANA\",LOOKUP(6,$J$4:$P$4,J20:P20),IF(EFECTOS!$N$9=\"PANAMÁ\",LOOKUP(7,GEfectos!$J$4:$P$4,GEfectos!J20:P20))))))))","v":72.096567788210635},{"$f":"IF(EFECTOS!$N$9=\"COSTA RICA\",LOOKUP(1,GEfectos!$Q$4:$W$4,GEfectos!Q20:W20),IF(EFECTOS!$N$9=\"EL SALVADOR\",LOOKUP(2,GEfectos!$Q$4:$W$4,GEfectos!Q20:W20),IF(EFECTOS!$N$9=\"GUATEMALA\",LOOKUP(3,GEfectos!$Q$4:$W$4,GEfectos!Q20:W20),IF(EFECTOS!$N$9=\"HONDURAS\",LOOKUP(4,GEfectos!$Q$4:$W$4,GEfectos!Q20:W20),IF(EFECTOS!$N$9=\"NICARAGUA\",LOOKUP(5,GEfectos!$Q$4:$W$4,GEfectos!Q20:W20),IF(EFECTOS!$N$9=\"REPÚBLICA \nDOMINICANA\",LOOKUP(6,$Q$4:$W$4,Q20:W20),IF(EFECTOS!$N$9=\"PANAMÁ\",LOOKUP(7,GEfectos!$Q$4:$W$4,GEfectos!Q20:W20))))))))","v":69.933324393772878},100]
[null,{"$f":"'ITCER GLOBAL'!B21","v":"Abril"},{"$f":"'ITCER GLOBAL'!C21","v":103.63599380138227},{"$f":"'ITCER GLOBAL'!D21","v":108.7981398961149},{"$f":"'ITCER GLOBAL'!E21","v":99.732935911129971},{"$f":"'ITCER GLOBAL'!F21","v":130.75784437076095},{"$f":"'ITCER GLOBAL'!G21","v":98.003742350148798},{"$f":"'ITCER GLOBAL'!H21","v":98.25845150472226},{"$f":"'ITCER GLOBAL'!I21","v":105.72550557748144},{"$f":"'ITCER GLOBAL'!S21","v":72.589328428187301},{"$f":"'ITCER GLOBAL'!T21","v":115.93961240605952},{"$f":"'ITCER GLOBAL'!U21","v":89.333823137582428},{"$f":"'ITCER GLOBAL'!V21","v":82.220723935238098},{"$f":"'ITCER GLOBAL'!W21","v":72.643085304179536},{"$f":"'ITCER GLOBAL'!X21","v":79.759064365134307},{"$f":"'ITCER GLOBAL'!Y21","v":118.94028634211303},{"$f":"'ITCER GLOBAL'!AA21","v":70.04258440103763},{"$f":"'ITCER GLOBAL'!AB21","v":106.56396563099663},{"$f":"'ITCER GLOBAL'!AC21","v":89.573040562233146},{"$f":"'ITCER GLOBAL'!AD21","v":62.880146373553757},{"$f":"'ITCER GLOBAL'!AE21","v":74.122766704805585},{"$f":"'ITCER GLOBAL'!AF21","v":81.17272676671594},{"$f":"'ITCER GLOBAL'!AG21","v":112.49914170894843},null,{"$f":"IF(EFECTOS!$N$9=\"COSTA RICA\",LOOKUP(1,GEfectos!$C$4:$I$4,GEfectos!C21:I21),IF(EFECTOS!$N$9=\"EL SALVADOR\",LOOKUP(2,GEfectos!$C$4:$I$4,GEfectos!C21:I21),IF(EFECTOS!$N$9=\"GUATEMALA\",LOOKUP(3,GEfectos!$C$4:$I$4,GEfectos!C21:I21),IF(EFECTOS!$N$9=\"HONDURAS\",LOOKUP(4,GEfectos!$C$4:$I$4,GEfectos!C21:I21),IF(EFECTOS!$N$9=\"NICARAGUA\",LOOKUP(5,GEfectos!$C$4:$I$4,GEfectos!C21:I21),IF(EFECTOS!$N$9=\"REPÚBLICA \nDOMINICANA\",LOOKUP(6,$C$4:$I$4,C21:I21),IF(EFECTOS!$N$9=\"PANAMÁ\",LOOKUP(7,GEfectos!$C$4:$I$4,GEfectos!C21:I21))))))))","v":103.63599380138227},{"$f":"IF(EFECTOS!$N$9=\"COSTA RICA\",LOOKUP(1,GEfectos!$J$4:$P$4,GEfectos!J21:P21),IF(EFECTOS!$N$9=\"EL SALVADOR\",LOOKUP(2,GEfectos!$J$4:$P$4,GEfectos!J21:P21),IF(EFECTOS!$N$9=\"GUATEMALA\",LOOKUP(3,GEfectos!$J$4:$P$4,GEfectos!J21:P21),IF(EFECTOS!$N$9=\"HONDURAS\",LOOKUP(4,GEfectos!$J$4:$P$4,GEfectos!J21:P21),IF(EFECTOS!$N$9=\"NICARAGUA\",LOOKUP(5,GEfectos!$J$4:$P$4,GEfectos!J21:P21),IF(EFECTOS!$N$9=\"REPÚBLICA \nDOMINICANA\",LOOKUP(6,$J$4:$P$4,J21:P21),IF(EFECTOS!$N$9=\"PANAMÁ\",LOOKUP(7,GEfectos!$J$4:$P$4,GEfectos!J21:P21))))))))","v":72.589328428187301},{"$f":"IF(EFECTOS!$N$9=\"COSTA RICA\",LOOKUP(1,GEfectos!$Q$4:$W$4,GEfectos!Q21:W21),IF(EFECTOS!$N$9=\"EL SALVADOR\",LOOKUP(2,GEfectos!$Q$4:$W$4,GEfectos!Q21:W21),IF(EFECTOS!$N$9=\"GUATEMALA\",LOOKUP(3,GEfectos!$Q$4:$W$4,GEfectos!Q21:W21),IF(EFECTOS!$N$9=\"HONDURAS\",LOOKUP(4,GEfectos!$Q$4:$W$4,GEfectos!Q21:W21),IF(EFECTOS!$N$9=\"NICARAGUA\",LOOKUP(5,GEfectos!$Q$4:$W$4,GEfectos!Q21:W21),IF(EFECTOS!$N$9=\"REPÚBLICA \nDOMINICANA\",LOOKUP(6,$Q$4:$W$4,Q21:W21),IF(EFECTOS!$N$9=\"PANAMÁ\",LOOKUP(7,GEfectos!$Q$4:$W$4,GEfectos!Q21:W21))))))))","v":70.04258440103763},100]
[null,{"$f":"'ITCER GLOBAL'!B22","v":"Mayo"},{"$f":"'ITCER GLOBAL'!C22","v":103.11570231349307},{"$f":"'ITCER GLOBAL'!D22","v":108.40262255029911},{"$f":"'ITCER GLOBAL'!E22","v":98.675148679233146},{"$f":"'ITCER GLOBAL'!F22","v":129.90693196421563},{"$f":"'ITCER GLOBAL'!G22","v":97.539584907357096},{"$f":"'ITCER GLOBAL'!H22","v":98.2441763914033},{"$f":"'ITCER GLOBAL'!I22","v":106.10657392073691},{"$f":"'ITCER GLOBAL'!S22","v":73.136880056653453},{"$f":"'ITCER GLOBAL'!T22","v":115.77596176092639},{"$f":"'ITCER GLOBAL'!U22","v":88.448801133761677},{"$f":"'ITCER GLOBAL'!V22","v":83.041805992302216},{"$f":"'ITCER GLOBAL'!W22","v":73.165202978921073},{"$f":"'ITCER GLOBAL'!X22","v":79.740326080697315},{"$f":"'ITCER GLOBAL'!Y22","v":118.59616727377625},{"$f":"'ITCER GLOBAL'!AA22","v":70.927005699192364},{"$f":"'ITCER GLOBAL'!AB22","v":106.80180888354987},{"$f":"'ITCER GLOBAL'!AC22","v":89.63634949391907},{"$f":"'ITCER GLOBAL'!AD22","v":63.924076057139935},{"$f":"'ITCER GLOBAL'!AE22","v":75.010779519323606},{"$f":"'ITCER GLOBAL'!AF22","v":81.165448181898412},{"$f":"'ITCER GLOBAL'!AG22","v":111.77080070681507},null,{"$f":"IF(EFECTOS!$N$9=\"COSTA RICA\",LOOKUP(1,GEfectos!$C$4:$I$4,GEfectos!C22:I22),IF(EFECTOS!$N$9=\"EL SALVADOR\",LOOKUP(2,GEfectos!$C$4:$I$4,GEfectos!C22:I22),IF(EFECTOS!$N$9=\"GUATEMALA\",LOOKUP(3,GEfectos!$C$4:$I$4,GEfectos!C22:I22),IF(EFECTOS!$N$9=\"HONDURAS\",LOOKUP(4,GEfectos!$C$4:$I$4,GEfectos!C22:I22),IF(EFECTOS!$N$9=\"NICARAGUA\",LOOKUP(5,GEfectos!$C$4:$I$4,GEfectos!C22:I22),IF(EFECTOS!$N$9=\"REPÚBLICA \nDOMINICANA\",LOOKUP(6,$C$4:$I$4,C22:I22),IF(EFECTOS!$N$9=\"PANAMÁ\",LOOKUP(7,GEfectos!$C$4:$I$4,GEfectos!C22:I22))))))))","v":103.11570231349307},{"$f":"IF(EFECTOS!$N$9=\"COSTA RICA\",LOOKUP(1,GEfectos!$J$4:$P$4,GEfectos!J22:P22),IF(EFECTOS!$N$9=\"EL SALVADOR\",LOOKUP(2,GEfectos!$J$4:$P$4,GEfectos!J22:P22),IF(EFECTOS!$N$9=\"GUATEMALA\",LOOKUP(3,GEfectos!$J$4:$P$4,GEfectos!J22:P22),IF(EFECTOS!$N$9=\"HONDURAS\",LOOKUP(4,GEfectos!$J$4:$P$4,GEfectos!J22:P22),IF(EFECTOS!$N$9=\"NICARAGUA\",LOOKUP(5,GEfectos!$J$4:$P$4,GEfectos!J22:P22),IF(EFECTOS!$N$9=\"REPÚBLICA \nDOMINICANA\",LOOKUP(6,$J$4:$P$4,J22:P22),IF(EFECTOS!$N$9=\"PANAMÁ\",LOOKUP(7,GEfectos!$J$4:$P$4,GEfectos!J22:P22))))))))","v":73.136880056653453},{"$f":"IF(EFECTOS!$N$9=\"COSTA RICA\",LOOKUP(1,GEfectos!$Q$4:$W$4,GEfectos!Q22:W22),IF(EFECTOS!$N$9=\"EL SALVADOR\",LOOKUP(2,GEfectos!$Q$4:$W$4,GEfectos!Q22:W22),IF(EFECTOS!$N$9=\"GUATEMALA\",LOOKUP(3,GEfectos!$Q$4:$W$4,GEfectos!Q22:W22),IF(EFECTOS!$N$9=\"HONDURAS\",LOOKUP(4,GEfectos!$Q$4:$W$4,GEfectos!Q22:W22),IF(EFECTOS!$N$9=\"NICARAGUA\",LOOKUP(5,GEfectos!$Q$4:$W$4,GEfectos!Q22:W22),IF(EFECTOS!$N$9=\"REPÚBLICA \nDOMINICANA\",LOOKUP(6,$Q$4:$W$4,Q22:W22),IF(EFECTOS!$N$9=\"PANAMÁ\",LOOKUP(7,GEfectos!$Q$4:$W$4,GEfectos!Q22:W22))))))))","v":70.927005699192364},100]
[null,{"$f":"'ITCER GLOBAL'!B23","v":"Junio"},{"$f":"'ITCER GLOBAL'!C23","v":102.88390534245467},{"$f":"'ITCER GLOBAL'!D23","v":106.59859603724998},{"$f":"'ITCER GLOBAL'!E23","v":98.839095860705569},{"$f":"'ITCER GLOBAL'!F23","v":129.97606452843567},{"$f":"'ITCER GLOBAL'!G23","v":98.166741539134918},{"$f":"'ITCER GLOBAL'!H23","v":97.943360817955508},{"$f":"'ITCER GLOBAL'!I23","v":106.0251895623701},{"$f":"'ITCER GLOBAL'!S23","v":73.790508167036577},{"$f":"'ITCER GLOBAL'!T23","v":115.31257015245995},{"$f":"'ITCER GLOBAL'!U23","v":88.750288857983847},{"$f":"'ITCER GLOBAL'!V23","v":84.9390786422465},{"$f":"'ITCER GLOBAL'!W23","v":73.593721263128913},{"$f":"'ITCER GLOBAL'!X23","v":79.691746717920765},{"$f":"'ITCER GLOBAL'!Y23","v":118.12759323908944},{"$f":"'ITCER GLOBAL'!AA23","v":71.722110393672224},{"$f":"'ITCER GLOBAL'!AB23","v":108.17456743254381},{"$f":"'ITCER GLOBAL'!AC23","v":89.792695982427915},{"$f":"'ITCER GLOBAL'!AD23","v":65.349784939567741},{"$f":"'ITCER GLOBAL'!AE23","v":74.968079931419751},{"$f":"'ITCER GLOBAL'!AF23","v":81.365133943117911},{"$f":"'ITCER GLOBAL'!AG23","v":111.41464941177965},null,{"$f":"IF(EFECTOS!$N$9=\"COSTA RICA\",LOOKUP(1,GEfectos!$C$4:$I$4,GEfectos!C23:I23),IF(EFECTOS!$N$9=\"EL SALVADOR\",LOOKUP(2,GEfectos!$C$4:$I$4,GEfectos!C23:I23),IF(EFECTOS!$N$9=\"GUATEMALA\",LOOKUP(3,GEfectos!$C$4:$I$4,GEfectos!C23:I23),IF(EFECTOS!$N$9=\"HONDURAS\",LOOKUP(4,GEfectos!$C$4:$I$4,GEfectos!C23:I23),IF(EFECTOS!$N$9=\"NICARAGUA\",LOOKUP(5,GEfectos!$C$4:$I$4,GEfectos!C23:I23),IF(EFECTOS!$N$9=\"REPÚBLICA \nDOMINICANA\",LOOKUP(6,$C$4:$I$4,C23:I23),IF(EFECTOS!$N$9=\"PANAMÁ\",LOOKUP(7,GEfectos!$C$4:$I$4,GEfectos!C23:I23))))))))","v":102.88390534245467},{"$f":"IF(EFECTOS!$N$9=\"COSTA RICA\",LOOKUP(1,GEfectos!$J$4:$P$4,GEfectos!J23:P23),IF(EFECTOS!$N$9=\"EL SALVADOR\",LOOKUP(2,GEfectos!$J$4:$P$4,GEfectos!J23:P23),IF(EFECTOS!$N$9=\"GUATEMALA\",LOOKUP(3,GEfectos!$J$4:$P$4,GEfectos!J23:P23),IF(EFECTOS!$N$9=\"HONDURAS\",LOOKUP(4,GEfectos!$J$4:$P$4,GEfectos!J23:P23),IF(EFECTOS!$N$9=\"NICARAGUA\",LOOKUP(5,GEfectos!$J$4:$P$4,GEfectos!J23:P23),IF(EFECTOS!$N$9=\"REPÚBLICA \nDOMINICANA\",LOOKUP(6,$J$4:$P$4,J23:P23),IF(EFECTOS!$N$9=\"PANAMÁ\",LOOKUP(7,GEfectos!$J$4:$P$4,GEfectos!J23:P23))))))))","v":73.790508167036577},{"$f":"IF(EFECTOS!$N$9=\"COSTA RICA\",LOOKUP(1,GEfectos!$Q$4:$W$4,GEfectos!Q23:W23),IF(EFECTOS!$N$9=\"EL SALVADOR\",LOOKUP(2,GEfectos!$Q$4:$W$4,GEfectos!Q23:W23),IF(EFECTOS!$N$9=\"GUATEMALA\",LOOKUP(3,GEfectos!$Q$4:$W$4,GEfectos!Q23:W23),IF(EFECTOS!$N$9=\"HONDURAS\",LOOKUP(4,GEfectos!$Q$4:$W$4,GEfectos!Q23:W23),IF(EFECTOS!$N$9=\"NICARAGUA\",LOOKUP(5,GEfectos!$Q$4:$W$4,GEfectos!Q23:W23),IF(EFECTOS!$N$9=\"REPÚBLICA \nDOMINICANA\",LOOKUP(6,$Q$4:$W$4,Q23:W23),IF(EFECTOS!$N$9=\"PANAMÁ\",LOOKUP(7,GEfectos!$Q$4:$W$4,GEfectos!Q23:W23))))))))","v":71.722110393672224},100]
[null,{"$f":"'ITCER GLOBAL'!B24","v":"Julio"},{"$f":"'ITCER GLOBAL'!C24","v":103.16467133285333},{"$f":"'ITCER GLOBAL'!D24","v":107.08382417133936},{"$f":"'ITCER GLOBAL'!E24","v":97.156527334095287},{"$f":"'ITCER GLOBAL'!F24","v":133.66199126416356},{"$f":"'ITCER GLOBAL'!G24","v":99.211905718578407},{"$f":"'ITCER GLOBAL'!H24","v":97.920048339090457},{"$f":"'ITCER GLOBAL'!I24","v":106.0890827536865},{"$f":"'ITCER GLOBAL'!S24","v":74.636989359765778},{"$f":"'ITCER GLOBAL'!T24","v":115.26378229065021},{"$f":"'ITCER GLOBAL'!U24","v":88.121764467001142},{"$f":"'ITCER GLOBAL'!V24","v":89.065827058621991},{"$f":"'ITCER GLOBAL'!W24","v":74.266885485235974},{"$f":"'ITCER GLOBAL'!X24","v":79.703235466514158},{"$f":"'ITCER GLOBAL'!Y24","v":118.15050564484062},{"$f":"'ITCER GLOBAL'!AA24","v":72.347430952360554},{"$f":"'ITCER GLOBAL'!AB24","v":107.63883638132174},{"$f":"'ITCER GLOBAL'!AC24","v":90.700817418035101},{"$f":"'ITCER GLOBAL'!AD24","v":66.635119091257806},{"$f":"'ITCER GLOBAL'!AE24","v":74.856827864892807},{"$f":"'ITCER GLOBAL'!AF24","v":81.396237867966803},{"$f":"'ITCER GLOBAL'!AG24","v":111.36914617233317},null,{"$f":"IF(EFECTOS!$N$9=\"COSTA RICA\",LOOKUP(1,GEfectos!$C$4:$I$4,GEfectos!C24:I24),IF(EFECTOS!$N$9=\"EL SALVADOR\",LOOKUP(2,GEfectos!$C$4:$I$4,GEfectos!C24:I24),IF(EFECTOS!$N$9=\"GUATEMALA\",LOOKUP(3,GEfectos!$C$4:$I$4,GEfectos!C24:I24),IF(EFECTOS!$N$9=\"HONDURAS\",LOOKUP(4,GEfectos!$C$4:$I$4,GEfectos!C24:I24),IF(EFECTOS!$N$9=\"NICARAGUA\",LOOKUP(5,GEfectos!$C$4:$I$4,GEfectos!C24:I24),IF(EFECTOS!$N$9=\"REPÚBLICA \nDOMINICANA\",LOOKUP(6,$C$4:$I$4,C24:I24),IF(EFECTOS!$N$9=\"PANAMÁ\",LOOKUP(7,GEfectos!$C$4:$I$4,GEfectos!C24:I24))))))))","v":103.16467133285333},{"$f":"IF(EFECTOS!$N$9=\"COSTA RICA\",LOOKUP(1,GEfectos!$J$4:$P$4,GEfectos!J24:P24),IF(EFECTOS!$N$9=\"EL SALVADOR\",LOOKUP(2,GEfectos!$J$4:$P$4,GEfectos!J24:P24),IF(EFECTOS!$N$9=\"GUATEMALA\",LOOKUP(3,GEfectos!$J$4:$P$4,GEfectos!J24:P24),IF(EFECTOS!$N$9=\"HONDURAS\",LOOKUP(4,GEfectos!$J$4:$P$4,GEfectos!J24:P24),IF(EFECTOS!$N$9=\"NICARAGUA\",LOOKUP(5,GEfectos!$J$4:$P$4,GEfectos!J24:P24),IF(EFECTOS!$N$9=\"REPÚBLICA \nDOMINICANA\",LOOKUP(6,$J$4:$P$4,J24:P24),IF(EFECTOS!$N$9=\"PANAMÁ\",LOOKUP(7,GEfectos!$J$4:$P$4,GEfectos!J24:P24))))))))","v":74.636989359765778},{"$f":"IF(EFECTOS!$N$9=\"COSTA RICA\",LOOKUP(1,GEfectos!$Q$4:$W$4,GEfectos!Q24:W24),IF(EFECTOS!$N$9=\"EL SALVADOR\",LOOKUP(2,GEfectos!$Q$4:$W$4,GEfectos!Q24:W24),IF(EFECTOS!$N$9=\"GUATEMALA\",LOOKUP(3,GEfectos!$Q$4:$W$4,GEfectos!Q24:W24),IF(EFECTOS!$N$9=\"HONDURAS\",LOOKUP(4,GEfectos!$Q$4:$W$4,GEfectos!Q24:W24),IF(EFECTOS!$N$9=\"NICARAGUA\",LOOKUP(5,GEfectos!$Q$4:$W$4,GEfectos!Q24:W24),IF(EFECTOS!$N$9=\"REPÚBLICA \nDOMINICANA\",LOOKUP(6,$Q$4:$W$4,Q24:W24),IF(EFECTOS!$N$9=\"PANAMÁ\",LOOKUP(7,GEfectos!$Q$4:$W$4,GEfectos!Q24:W24))))))))","v":72.347430952360554},100]
[null,{"$f":"'ITCER GLOBAL'!B25","v":"Agosto"},{"$f":"'ITCER GLOBAL'!C25","v":103.82089023533347},{"$f":"'ITCER GLOBAL'!D25","v":104.56565475728168},{"$f":"'ITCER GLOBAL'!E25","v":96.644682846707198},{"$f":"'ITCER GLOBAL'!F25","v":133.73837041058238},{"$f":"'ITCER GLOBAL'!G25","v":101.73553041221972},{"$f":"'ITCER GLOBAL'!H25","v":98.038921396856082},{"$f":"'ITCER GLOBAL'!I25","v":106.53716077534159},{"$f":"'ITCER GLOBAL'!S25","v":75.536924175376782},{"$f":"'ITCER GLOBAL'!T25","v":115.42006112482466},{"$f":"'ITCER GLOBAL'!U25","v":87.923948759042219},{"$f":"'ITCER GLOBAL'!V25","v":91.255348575568377},{"$f":"'ITCER GLOBAL'!W25","v":75.093116939633489},{"$f":"'ITCER GLOBAL'!X25","v":79.759480299527695},{"$f":"'ITCER GLOBAL'!Y25","v":118.44854983264838},{"$f":"'ITCER GLOBAL'!AA25","v":72.756960573305918},{"$f":"'ITCER GLOBAL'!AB25","v":110.38046994755426},{"$f":"'ITCER GLOBAL'!AC25","v":90.976498829741757},{"$f":"'ITCER GLOBAL'!AD25","v":68.234230980541071},{"$f":"'ITCER GLOBAL'!AE25","v":73.812085743658599},{"$f":"'ITCER GLOBAL'!AF25","v":81.354914112799932},{"$f":"'ITCER GLOBAL'!AG25","v":111.18050168656619},null,{"$f":"IF(EFECTOS!$N$9=\"COSTA RICA\",LOOKUP(1,GEfectos!$C$4:$I$4,GEfectos!C25:I25),IF(EFECTOS!$N$9=\"EL SALVADOR\",LOOKUP(2,GEfectos!$C$4:$I$4,GEfectos!C25:I25),IF(EFECTOS!$N$9=\"GUATEMALA\",LOOKUP(3,GEfectos!$C$4:$I$4,GEfectos!C25:I25),IF(EFECTOS!$N$9=\"HONDURAS\",LOOKUP(4,GEfectos!$C$4:$I$4,GEfectos!C25:I25),IF(EFECTOS!$N$9=\"NICARAGUA\",LOOKUP(5,GEfectos!$C$4:$I$4,GEfectos!C25:I25),IF(EFECTOS!$N$9=\"REPÚBLICA \nDOMINICANA\",LOOKUP(6,$C$4:$I$4,C25:I25),IF(EFECTOS!$N$9=\"PANAMÁ\",LOOKUP(7,GEfectos!$C$4:$I$4,GEfectos!C25:I25))))))))","v":103.82089023533347},{"$f":"IF(EFECTOS!$N$9=\"COSTA RICA\",LOOKUP(1,GEfectos!$J$4:$P$4,GEfectos!J25:P25),IF(EFECTOS!$N$9=\"EL SALVADOR\",LOOKUP(2,GEfectos!$J$4:$P$4,GEfectos!J25:P25),IF(EFECTOS!$N$9=\"GUATEMALA\",LOOKUP(3,GEfectos!$J$4:$P$4,GEfectos!J25:P25),IF(EFECTOS!$N$9=\"HONDURAS\",LOOKUP(4,GEfectos!$J$4:$P$4,GEfectos!J25:P25),IF(EFECTOS!$N$9=\"NICARAGUA\",LOOKUP(5,GEfectos!$J$4:$P$4,GEfectos!J25:P25),IF(EFECTOS!$N$9=\"REPÚBLICA \nDOMINICANA\",LOOKUP(6,$J$4:$P$4,J25:P25),IF(EFECTOS!$N$9=\"PANAMÁ\",LOOKUP(7,GEfectos!$J$4:$P$4,GEfectos!J25:P25))))))))","v":75.536924175376782},{"$f":"IF(EFECTOS!$N$9=\"COSTA RICA\",LOOKUP(1,GEfectos!$Q$4:$W$4,GEfectos!Q25:W25),IF(EFECTOS!$N$9=\"EL SALVADOR\",LOOKUP(2,GEfectos!$Q$4:$W$4,GEfectos!Q25:W25),IF(EFECTOS!$N$9=\"GUATEMALA\",LOOKUP(3,GEfectos!$Q$4:$W$4,GEfectos!Q25:W25),IF(EFECTOS!$N$9=\"HONDURAS\",LOOKUP(4,GEfectos!$Q$4:$W$4,GEfectos!Q25:W25),IF(EFECTOS!$N$9=\"NICARAGUA\",LOOKUP(5,GEfectos!$Q$4:$W$4,GEfectos!Q25:W25),IF(EFECTOS!$N$9=\"REPÚBLICA \nDOMINICANA\",LOOKUP(6,$Q$4:$W$4,Q25:W25),IF(EFECTOS!$N$9=\"PANAMÁ\",LOOKUP(7,GEfectos!$Q$4:$W$4,GEfectos!Q25:W25))))))))","v":72.756960573305918},100]
[null,{"$f":"'ITCER GLOBAL'!B26","v":"Septiembre"},{"$f":"'ITCER GLOBAL'!C26","v":104.05539275283121},{"$f":"'ITCER GLOBAL'!D26","v":105.37635210245692},{"$f":"'ITCER GLOBAL'!E26","v":96.019076545207867},{"$f":"'ITCER GLOBAL'!F26","v":133.17424232772501},{"$f":"'ITCER GLOBAL'!G26","v":101.70008883193941},{"$f":"'ITCER GLOBAL'!H26","v":97.779361158420258},{"$f":"'ITCER GLOBAL'!I26","v":106.27966650470971},{"$f":"'ITCER GLOBAL'!S26","v":76.089341382085834},{"$f":"'ITCER GLOBAL'!T26","v":115.07407836024252},{"$f":"'ITCER GLOBAL'!U26","v":87.257715005265396},{"$f":"'ITCER GLOBAL'!V26","v":92.10478097679146},{"$f":"'ITCER GLOBAL'!W26","v":75.522053330249889},{"$f":"'ITCER GLOBAL'!X26","v":79.709793324582407},{"$f":"'ITCER GLOBAL'!Y26","v":117.97513668195103},{"$f":"'ITCER GLOBAL'!AA26","v":73.123880818772406},{"$f":"'ITCER GLOBAL'!AB26","v":109.20294360574994},{"$f":"'ITCER GLOBAL'!AC26","v":90.875394916116051},{"$f":"'ITCER GLOBAL'!AD26","v":69.161107558722378},{"$f":"'ITCER GLOBAL'!AE26","v":74.259574595899295},{"$f":"'ITCER GLOBAL'!AF26","v":81.52005942791763},{"$f":"'ITCER GLOBAL'!AG26","v":111.00442875093425},null,{"$f":"IF(EFECTOS!$N$9=\"COSTA RICA\",LOOKUP(1,GEfectos!$C$4:$I$4,GEfectos!C26:I26),IF(EFECTOS!$N$9=\"EL SALVADOR\",LOOKUP(2,GEfectos!$C$4:$I$4,GEfectos!C26:I26),IF(EFECTOS!$N$9=\"GUATEMALA\",LOOKUP(3,GEfectos!$C$4:$I$4,GEfectos!C26:I26),IF(EFECTOS!$N$9=\"HONDURAS\",LOOKUP(4,GEfectos!$C$4:$I$4,GEfectos!C26:I26),IF(EFECTOS!$N$9=\"NICARAGUA\",LOOKUP(5,GEfectos!$C$4:$I$4,GEfectos!C26:I26),IF(EFECTOS!$N$9=\"REPÚBLICA \nDOMINICANA\",LOOKUP(6,$C$4:$I$4,C26:I26),IF(EFECTOS!$N$9=\"PANAMÁ\",LOOKUP(7,GEfectos!$C$4:$I$4,GEfectos!C26:I26))))))))","v":104.05539275283121},{"$f":"IF(EFECTOS!$N$9=\"COSTA RICA\",LOOKUP(1,GEfectos!$J$4:$P$4,GEfectos!J26:P26),IF(EFECTOS!$N$9=\"EL SALVADOR\",LOOKUP(2,GEfectos!$J$4:$P$4,GEfectos!J26:P26),IF(EFECTOS!$N$9=\"GUATEMALA\",LOOKUP(3,GEfectos!$J$4:$P$4,GEfectos!J26:P26),IF(EFECTOS!$N$9=\"HONDURAS\",LOOKUP(4,GEfectos!$J$4:$P$4,GEfectos!J26:P26),IF(EFECTOS!$N$9=\"NICARAGUA\",LOOKUP(5,GEfectos!$J$4:$P$4,GEfectos!J26:P26),IF(EFECTOS!$N$9=\"REPÚBLICA \nDOMINICANA\",LOOKUP(6,$J$4:$P$4,J26:P26),IF(EFECTOS!$N$9=\"PANAMÁ\",LOOKUP(7,GEfectos!$J$4:$P$4,GEfectos!J26:P26))))))))","v":76.089341382085834},{"$f":"IF(EFECTOS!$N$9=\"COSTA RICA\",LOOKUP(1,GEfectos!$Q$4:$W$4,GEfectos!Q26:W26),IF(EFECTOS!$N$9=\"EL SALVADOR\",LOOKUP(2,GEfectos!$Q$4:$W$4,GEfectos!Q26:W26),IF(EFECTOS!$N$9=\"GUATEMALA\",LOOKUP(3,GEfectos!$Q$4:$W$4,GEfectos!Q26:W26),IF(EFECTOS!$N$9=\"HONDURAS\",LOOKUP(4,GEfectos!$Q$4:$W$4,GEfectos!Q26:W26),IF(EFECTOS!$N$9=\"NICARAGUA\",LOOKUP(5,GEfectos!$Q$4:$W$4,GEfectos!Q26:W26),IF(EFECTOS!$N$9=\"REPÚBLICA \nDOMINICANA\",LOOKUP(6,$Q$4:$W$4,Q26:W26),IF(EFECTOS!$N$9=\"PANAMÁ\",LOOKUP(7,GEfectos!$Q$4:$W$4,GEfectos!Q26:W26))))))))","v":73.123880818772406},100]
[null,{"$f":"'ITCER GLOBAL'!B27","v":"Octubre"},{"$f":"'ITCER GLOBAL'!C27","v":103.85071691807619},{"$f":"'ITCER GLOBAL'!D27","v":105.38939956805309},{"$f":"'ITCER GLOBAL'!E27","v":95.780068875898721},{"$f":"'ITCER GLOBAL'!F27","v":132.80050819145541},{"$f":"'ITCER GLOBAL'!G27","v":100.07428697252132},{"$f":"'ITCER GLOBAL'!H27","v":97.791934627910067},{"$f":"'ITCER GLOBAL'!I27","v":105.82490199042425},{"$f":"'ITCER GLOBAL'!S27","v":76.640764021525314},{"$f":"'ITCER GLOBAL'!T27","v":114.58622534163909},{"$f":"'ITCER GLOBAL'!U27","v":86.976643562857035},{"$f":"'ITCER GLOBAL'!V27","v":92.827549375514167},{"$f":"'ITCER GLOBAL'!W27","v":75.903928042261924},{"$f":"'ITCER GLOBAL'!X27","v":79.639211327072275},{"$f":"'ITCER GLOBAL'!Y27","v":117.56420990159006},{"$f":"'ITCER GLOBAL'!AA27","v":73.798974427864806},{"$f":"'ITCER GLOBAL'!AB27","v":108.72651880671104},{"$f":"'ITCER GLOBAL'!AC27","v":90.808708516958589},{"$f":"'ITCER GLOBAL'!AD27","v":69.899995594660552},{"$f":"'ITCER GLOBAL'!AE27","v":75.847583168995087},{"$f":"'ITCER GLOBAL'!AF27","v":81.437402409608367},{"$f":"'ITCER GLOBAL'!AG27","v":111.09314319254278},null,{"$f":"IF(EFECTOS!$N$9=\"COSTA RICA\",LOOKUP(1,GEfectos!$C$4:$I$4,GEfectos!C27:I27),IF(EFECTOS!$N$9=\"EL SALVADOR\",LOOKUP(2,GEfectos!$C$4:$I$4,GEfectos!C27:I27),IF(EFECTOS!$N$9=\"GUATEMALA\",LOOKUP(3,GEfectos!$C$4:$I$4,GEfectos!C27:I27),IF(EFECTOS!$N$9=\"HONDURAS\",LOOKUP(4,GEfectos!$C$4:$I$4,GEfectos!C27:I27),IF(EFECTOS!$N$9=\"NICARAGUA\",LOOKUP(5,GEfectos!$C$4:$I$4,GEfectos!C27:I27),IF(EFECTOS!$N$9=\"REPÚBLICA \nDOMINICANA\",LOOKUP(6,$C$4:$I$4,C27:I27),IF(EFECTOS!$N$9=\"PANAMÁ\",LOOKUP(7,GEfectos!$C$4:$I$4,GEfectos!C27:I27))))))))","v":103.85071691807619},{"$f":"IF(EFECTOS!$N$9=\"COSTA RICA\",LOOKUP(1,GEfectos!$J$4:$P$4,GEfectos!J27:P27),IF(EFECTOS!$N$9=\"EL SALVADOR\",LOOKUP(2,GEfectos!$J$4:$P$4,GEfectos!J27:P27),IF(EFECTOS!$N$9=\"GUATEMALA\",LOOKUP(3,GEfectos!$J$4:$P$4,GEfectos!J27:P27),IF(EFECTOS!$N$9=\"HONDURAS\",LOOKUP(4,GEfectos!$J$4:$P$4,GEfectos!J27:P27),IF(EFECTOS!$N$9=\"NICARAGUA\",LOOKUP(5,GEfectos!$J$4:$P$4,GEfectos!J27:P27),IF(EFECTOS!$N$9=\"REPÚBLICA \nDOMINICANA\",LOOKUP(6,$J$4:$P$4,J27:P27),IF(EFECTOS!$N$9=\"PANAMÁ\",LOOKUP(7,GEfectos!$J$4:$P$4,GEfectos!J27:P27))))))))","v":76.640764021525314},{"$f":"IF(EFECTOS!$N$9=\"COSTA RICA\",LOOKUP(1,GEfectos!$Q$4:$W$4,GEfectos!Q27:W27),IF(EFECTOS!$N$9=\"EL SALVADOR\",LOOKUP(2,GEfectos!$Q$4:$W$4,GEfectos!Q27:W27),IF(EFECTOS!$N$9=\"GUATEMALA\",LOOKUP(3,GEfectos!$Q$4:$W$4,GEfectos!Q27:W27),IF(EFECTOS!$N$9=\"HONDURAS\",LOOKUP(4,GEfectos!$Q$4:$W$4,GEfectos!Q27:W27),IF(EFECTOS!$N$9=\"NICARAGUA\",LOOKUP(5,GEfectos!$Q$4:$W$4,GEfectos!Q27:W27),IF(EFECTOS!$N$9=\"REPÚBLICA \nDOMINICANA\",LOOKUP(6,$Q$4:$W$4,Q27:W27),IF(EFECTOS!$N$9=\"PANAMÁ\",LOOKUP(7,GEfectos!$Q$4:$W$4,GEfectos!Q27:W27))))))))","v":73.798974427864806},100]
[null,{"$f":"'ITCER GLOBAL'!B28","v":"Noviembre"},{"$f":"'ITCER GLOBAL'!C28","v":104.34055891829969},{"$f":"'ITCER GLOBAL'!D28","v":106.61494672279403},{"$f":"'ITCER GLOBAL'!E28","v":94.232456459581087},{"$f":"'ITCER GLOBAL'!F28","v":131.30460230947989},{"$f":"'ITCER GLOBAL'!G28","v":100.0620078089454},{"$f":"'ITCER GLOBAL'!H28","v":97.361833847146116},{"$f":"'ITCER GLOBAL'!I28","v":106.20551953257041},{"$f":"'ITCER GLOBAL'!S28","v":77.579829389000835},{"$f":"'ITCER GLOBAL'!T28","v":114.71303892368535},{"$f":"'ITCER GLOBAL'!U28","v":86.288492654669284},{"$f":"'ITCER GLOBAL'!V28","v":93.339972250723648},{"$f":"'ITCER GLOBAL'!W28","v":76.714906430546108},{"$f":"'ITCER GLOBAL'!X28","v":79.640648693040987},{"$f":"'ITCER GLOBAL'!Y28","v":117.79820632752759},{"$f":"'ITCER GLOBAL'!AA28","v":74.352514681991565},{"$f":"'ITCER GLOBAL'!AB28","v":107.5956443724039},{"$f":"'ITCER GLOBAL'!AC28","v":91.569822008917725},{"$f":"'ITCER GLOBAL'!AD28","v":71.086596059081714},{"$f":"'ITCER GLOBAL'!AE28","v":76.667366676294009},{"$f":"'ITCER GLOBAL'!AF28","v":81.798632529943276},{"$f":"'ITCER GLOBAL'!AG28","v":110.91533363423925},null,{"$f":"IF(EFECTOS!$N$9=\"COSTA RICA\",LOOKUP(1,GEfectos!$C$4:$I$4,GEfectos!C28:I28),IF(EFECTOS!$N$9=\"EL SALVADOR\",LOOKUP(2,GEfectos!$C$4:$I$4,GEfectos!C28:I28),IF(EFECTOS!$N$9=\"GUATEMALA\",LOOKUP(3,GEfectos!$C$4:$I$4,GEfectos!C28:I28),IF(EFECTOS!$N$9=\"HONDURAS\",LOOKUP(4,GEfectos!$C$4:$I$4,GEfectos!C28:I28),IF(EFECTOS!$N$9=\"NICARAGUA\",LOOKUP(5,GEfectos!$C$4:$I$4,GEfectos!C28:I28),IF(EFECTOS!$N$9=\"REPÚBLICA \nDOMINICANA\",LOOKUP(6,$C$4:$I$4,C28:I28),IF(EFECTOS!$N$9=\"PANAMÁ\",LOOKUP(7,GEfectos!$C$4:$I$4,GEfectos!C28:I28))))))))","v":104.34055891829969},{"$f":"IF(EFECTOS!$N$9=\"COSTA RICA\",LOOKUP(1,GEfectos!$J$4:$P$4,GEfectos!J28:P28),IF(EFECTOS!$N$9=\"EL SALVADOR\",LOOKUP(2,GEfectos!$J$4:$P$4,GEfectos!J28:P28),IF(EFECTOS!$N$9=\"GUATEMALA\",LOOKUP(3,GEfectos!$J$4:$P$4,GEfectos!J28:P28),IF(EFECTOS!$N$9=\"HONDURAS\",LOOKUP(4,GEfectos!$J$4:$P$4,GEfectos!J28:P28),IF(EFECTOS!$N$9=\"NICARAGUA\",LOOKUP(5,GEfectos!$J$4:$P$4,GEfectos!J28:P28),IF(EFECTOS!$N$9=\"REPÚBLICA \nDOMINICANA\",LOOKUP(6,$J$4:$P$4,J28:P28),IF(EFECTOS!$N$9=\"PANAMÁ\",LOOKUP(7,GEfectos!$J$4:$P$4,GEfectos!J28:P28))))))))","v":77.579829389000835},{"$f":"IF(EFECTOS!$N$9=\"COSTA RICA\",LOOKUP(1,GEfectos!$Q$4:$W$4,GEfectos!Q28:W28),IF(EFECTOS!$N$9=\"EL SALVADOR\",LOOKUP(2,GEfectos!$Q$4:$W$4,GEfectos!Q28:W28),IF(EFECTOS!$N$9=\"GUATEMALA\",LOOKUP(3,GEfectos!$Q$4:$W$4,GEfectos!Q28:W28),IF(EFECTOS!$N$9=\"HONDURAS\",LOOKUP(4,GEfectos!$Q$4:$W$4,GEfectos!Q28:W28),IF(EFECTOS!$N$9=\"NICARAGUA\",LOOKUP(5,GEfectos!$Q$4:$W$4,GEfectos!Q28:W28),IF(EFECTOS!$N$9=\"REPÚBLICA \nDOMINICANA\",LOOKUP(6,$Q$4:$W$4,Q28:W28),IF(EFECTOS!$N$9=\"PANAMÁ\",LOOKUP(7,GEfectos!$Q$4:$W$4,GEfectos!Q28:W28))))))))","v":74.352514681991565},100]
[null,{"$f":"'ITCER GLOBAL'!B29","v":"Diciembre"},{"$f":"'ITCER GLOBAL'!C29","v":104.10976069622947},{"$f":"'ITCER GLOBAL'!D29","v":106.34171602950715},{"$f":"'ITCER GLOBAL'!E29","v":93.282245633967875},{"$f":"'ITCER GLOBAL'!F29","v":131.46210742748471},{"$f":"'ITCER GLOBAL'!G29","v":99.158219533211508},{"$f":"'ITCER GLOBAL'!H29","v":98.64771267362849},{"$f":"'ITCER GLOBAL'!I29","v":105.01264279454851},{"$f":"'ITCER GLOBAL'!S29","v":77.9782231195219},{"$f":"'ITCER GLOBAL'!T29","v":114.21600088793447},{"$f":"'ITCER GLOBAL'!U29","v":85.752457874021687},{"$f":"'ITCER GLOBAL'!V29","v":94.191053113618551},{"$f":"'ITCER GLOBAL'!W29","v":77.034031782298811},{"$f":"'ITCER GLOBAL'!X29","v":81.552461810043226},{"$f":"'ITCER GLOBAL'!Y29","v":117.06371807427691},{"$f":"'ITCER GLOBAL'!AA29","v":74.900011870208843},{"$f":"'ITCER GLOBAL'!AB29","v":107.40469982282627},{"$f":"'ITCER GLOBAL'!AC29","v":91.927951874687423},{"$f":"'ITCER GLOBAL'!AD29","v":71.648823342935444},{"$f":"'ITCER GLOBAL'!AE29","v":77.68799414202617},{"$f":"'ITCER GLOBAL'!AF29","v":82.67040319511095},{"$f":"'ITCER GLOBAL'!AG29","v":111.47583277501705},null,{"$f":"IF(EFECTOS!$N$9=\"COSTA RICA\",LOOKUP(1,GEfectos!$C$4:$I$4,GEfectos!C29:I29),IF(EFECTOS!$N$9=\"EL SALVADOR\",LOOKUP(2,GEfectos!$C$4:$I$4,GEfectos!C29:I29),IF(EFECTOS!$N$9=\"GUATEMALA\",LOOKUP(3,GEfectos!$C$4:$I$4,GEfectos!C29:I29),IF(EFECTOS!$N$9=\"HONDURAS\",LOOKUP(4,GEfectos!$C$4:$I$4,GEfectos!C29:I29),IF(EFECTOS!$N$9=\"NICARAGUA\",LOOKUP(5,GEfectos!$C$4:$I$4,GEfectos!C29:I29),IF(EFECTOS!$N$9=\"REPÚBLICA \nDOMINICANA\",LOOKUP(6,$C$4:$I$4,C29:I29),IF(EFECTOS!$N$9=\"PANAMÁ\",LOOKUP(7,GEfectos!$C$4:$I$4,GEfectos!C29:I29))))))))","v":104.10976069622947},{"$f":"IF(EFECTOS!$N$9=\"COSTA RICA\",LOOKUP(1,GEfectos!$J$4:$P$4,GEfectos!J29:P29),IF(EFECTOS!$N$9=\"EL SALVADOR\",LOOKUP(2,GEfectos!$J$4:$P$4,GEfectos!J29:P29),IF(EFECTOS!$N$9=\"GUATEMALA\",LOOKUP(3,GEfectos!$J$4:$P$4,GEfectos!J29:P29),IF(EFECTOS!$N$9=\"HONDURAS\",LOOKUP(4,GEfectos!$J$4:$P$4,GEfectos!J29:P29),IF(EFECTOS!$N$9=\"NICARAGUA\",LOOKUP(5,GEfectos!$J$4:$P$4,GEfectos!J29:P29),IF(EFECTOS!$N$9=\"REPÚBLICA \nDOMINICANA\",LOOKUP(6,$J$4:$P$4,J29:P29),IF(EFECTOS!$N$9=\"PANAMÁ\",LOOKUP(7,GEfectos!$J$4:$P$4,GEfectos!J29:P29))))))))","v":77.9782231195219},{"$f":"IF(EFECTOS!$N$9=\"COSTA RICA\",LOOKUP(1,GEfectos!$Q$4:$W$4,GEfectos!Q29:W29),IF(EFECTOS!$N$9=\"EL SALVADOR\",LOOKUP(2,GEfectos!$Q$4:$W$4,GEfectos!Q29:W29),IF(EFECTOS!$N$9=\"GUATEMALA\",LOOKUP(3,GEfectos!$Q$4:$W$4,GEfectos!Q29:W29),IF(EFECTOS!$N$9=\"HONDURAS\",LOOKUP(4,GEfectos!$Q$4:$W$4,GEfectos!Q29:W29),IF(EFECTOS!$N$9=\"NICARAGUA\",LOOKUP(5,GEfectos!$Q$4:$W$4,GEfectos!Q29:W29),IF(EFECTOS!$N$9=\"REPÚBLICA \nDOMINICANA\",LOOKUP(6,$Q$4:$W$4,Q29:W29),IF(EFECTOS!$N$9=\"PANAMÁ\",LOOKUP(7,GEfectos!$Q$4:$W$4,GEfectos!Q29:W29))))))))","v":74.900011870208843},100]
[1997,{"$f":"'ITCER GLOBAL'!B30","v":"Enero"},{"$f":"'ITCER GLOBAL'!C30","v":102.09552551700678},{"$f":"'ITCER GLOBAL'!D30","v":105.83708744262175},{"$f":"'ITCER GLOBAL'!E30","v":92.897219866583598},{"$f":"'ITCER GLOBAL'!F30","v":129.23841875381419},{"$f":"'ITCER GLOBAL'!G30","v":99.90632324727676},{"$f":"'ITCER GLOBAL'!H30","v":101.27873079767508},{"$f":"'ITCER GLOBAL'!I30","v":107.81386749001622},{"$f":"'ITCER GLOBAL'!S30","v":78.023549037603885},{"$f":"'ITCER GLOBAL'!T30","v":115.05097084409111},{"$f":"'ITCER GLOBAL'!U30","v":86.006154421444023},{"$f":"'ITCER GLOBAL'!V30","v":94.535086631594055},{"$f":"'ITCER GLOBAL'!W30","v":76.554486964971574},{"$f":"'ITCER GLOBAL'!X30","v":85.91622890075233},{"$f":"'ITCER GLOBAL'!Y30","v":119.98519802200956},{"$f":"'ITCER GLOBAL'!AA30","v":76.422104340514849},{"$f":"'ITCER GLOBAL'!AB30","v":108.70572275192715},{"$f":"'ITCER GLOBAL'!AC30","v":92.582054172303188},{"$f":"'ITCER GLOBAL'!AD30","v":73.147820549919913},{"$f":"'ITCER GLOBAL'!AE30","v":76.626267964533753},{"$f":"'ITCER GLOBAL'!AF30","v":84.831462859055293},{"$f":"'ITCER GLOBAL'!AG30","v":111.28920686675157},null,{"$f":"IF(EFECTOS!$N$9=\"COSTA RICA\",LOOKUP(1,GEfectos!$C$4:$I$4,GEfectos!C30:I30),IF(EFECTOS!$N$9=\"EL SALVADOR\",LOOKUP(2,GEfectos!$C$4:$I$4,GEfectos!C30:I30),IF(EFECTOS!$N$9=\"GUATEMALA\",LOOKUP(3,GEfectos!$C$4:$I$4,GEfectos!C30:I30),IF(EFECTOS!$N$9=\"HONDURAS\",LOOKUP(4,GEfectos!$C$4:$I$4,GEfectos!C30:I30),IF(EFECTOS!$N$9=\"NICARAGUA\",LOOKUP(5,GEfectos!$C$4:$I$4,GEfectos!C30:I30),IF(EFECTOS!$N$9=\"REPÚBLICA \nDOMINICANA\",LOOKUP(6,$C$4:$I$4,C30:I30),IF(EFECTOS!$N$9=\"PANAMÁ\",LOOKUP(7,GEfectos!$C$4:$I$4,GEfectos!C30:I30))))))))","v":102.09552551700678},{"$f":"IF(EFECTOS!$N$9=\"COSTA RICA\",LOOKUP(1,GEfectos!$J$4:$P$4,GEfectos!J30:P30),IF(EFECTOS!$N$9=\"EL SALVADOR\",LOOKUP(2,GEfectos!$J$4:$P$4,GEfectos!J30:P30),IF(EFECTOS!$N$9=\"GUATEMALA\",LOOKUP(3,GEfectos!$J$4:$P$4,GEfectos!J30:P30),IF(EFECTOS!$N$9=\"HONDURAS\",LOOKUP(4,GEfectos!$J$4:$P$4,GEfectos!J30:P30),IF(EFECTOS!$N$9=\"NICARAGUA\",LOOKUP(5,GEfectos!$J$4:$P$4,GEfectos!J30:P30),IF(EFECTOS!$N$9=\"REPÚBLICA \nDOMINICANA\",LOOKUP(6,$J$4:$P$4,J30:P30),IF(EFECTOS!$N$9=\"PANAMÁ\",LOOKUP(7,GEfectos!$J$4:$P$4,GEfectos!J30:P30))))))))","v":78.023549037603885},{"$f":"IF(EFECTOS!$N$9=\"COSTA RICA\",LOOKUP(1,GEfectos!$Q$4:$W$4,GEfectos!Q30:W30),IF(EFECTOS!$N$9=\"EL SALVADOR\",LOOKUP(2,GEfectos!$Q$4:$W$4,GEfectos!Q30:W30),IF(EFECTOS!$N$9=\"GUATEMALA\",LOOKUP(3,GEfectos!$Q$4:$W$4,GEfectos!Q30:W30),IF(EFECTOS!$N$9=\"HONDURAS\",LOOKUP(4,GEfectos!$Q$4:$W$4,GEfectos!Q30:W30),IF(EFECTOS!$N$9=\"NICARAGUA\",LOOKUP(5,GEfectos!$Q$4:$W$4,GEfectos!Q30:W30),IF(EFECTOS!$N$9=\"REPÚBLICA \nDOMINICANA\",LOOKUP(6,$Q$4:$W$4,Q30:W30),IF(EFECTOS!$N$9=\"PANAMÁ\",LOOKUP(7,GEfectos!$Q$4:$W$4,GEfectos!Q30:W30))))))))","v":76.422104340514849},100]
[null,{"$f":"'ITCER GLOBAL'!B31","v":"Febrero"},{"$f":"'ITCER GLOBAL'!C31","v":102.02410897938231},{"$f":"'ITCER GLOBAL'!D31","v":104.28797850812607},{"$f":"'ITCER GLOBAL'!E31","v":91.339654836589489},{"$f":"'ITCER GLOBAL'!F31","v":123.83158069693536},{"$f":"'ITCER GLOBAL'!G31","v":100.58188580378022},{"$f":"'ITCER GLOBAL'!H31","v":101.9406460839668},{"$f":"'ITCER GLOBAL'!I31","v":106.80084359514383},{"$f":"'ITCER GLOBAL'!S31","v":78.010239101224172},{"$f":"'ITCER GLOBAL'!T31","v":114.04753095122251},{"$f":"'ITCER GLOBAL'!U31","v":85.997329946791055},{"$f":"'ITCER GLOBAL'!V31","v":92.254015019951069},{"$f":"'ITCER GLOBAL'!W31","v":76.563432196860703},{"$f":"'ITCER GLOBAL'!X31","v":86.065890978972661},{"$f":"'ITCER GLOBAL'!Y31","v":118.17297333525538},{"$f":"'ITCER GLOBAL'!AA31","v":76.462553686196841},{"$f":"'ITCER GLOBAL'!AB31","v":109.35827176124234},{"$f":"'ITCER GLOBAL'!AC31","v":94.151143991778738},{"$f":"'ITCER GLOBAL'!AD31","v":74.499586051261815},{"$f":"'ITCER GLOBAL'!AE31","v":76.120497826242953},{"$f":"'ITCER GLOBAL'!AF31","v":84.427452920086111},{"$f":"'ITCER GLOBAL'!AG31","v":110.64797744783792},null,{"$f":"IF(EFECTOS!$N$9=\"COSTA RICA\",LOOKUP(1,GEfectos!$C$4:$I$4,GEfectos!C31:I31),IF(EFECTOS!$N$9=\"EL SALVADOR\",LOOKUP(2,GEfectos!$C$4:$I$4,GEfectos!C31:I31),IF(EFECTOS!$N$9=\"GUATEMALA\",LOOKUP(3,GEfectos!$C$4:$I$4,GEfectos!C31:I31),IF(EFECTOS!$N$9=\"HONDURAS\",LOOKUP(4,GEfectos!$C$4:$I$4,GEfectos!C31:I31),IF(EFECTOS!$N$9=\"NICARAGUA\",LOOKUP(5,GEfectos!$C$4:$I$4,GEfectos!C31:I31),IF(EFECTOS!$N$9=\"REPÚBLICA \nDOMINICANA\",LOOKUP(6,$C$4:$I$4,C31:I31),IF(EFECTOS!$N$9=\"PANAMÁ\",LOOKUP(7,GEfectos!$C$4:$I$4,GEfectos!C31:I31))))))))","v":102.02410897938231},{"$f":"IF(EFECTOS!$N$9=\"COSTA RICA\",LOOKUP(1,GEfectos!$J$4:$P$4,GEfectos!J31:P31),IF(EFECTOS!$N$9=\"EL SALVADOR\",LOOKUP(2,GEfectos!$J$4:$P$4,GEfectos!J31:P31),IF(EFECTOS!$N$9=\"GUATEMALA\",LOOKUP(3,GEfectos!$J$4:$P$4,GEfectos!J31:P31),IF(EFECTOS!$N$9=\"HONDURAS\",LOOKUP(4,GEfectos!$J$4:$P$4,GEfectos!J31:P31),IF(EFECTOS!$N$9=\"NICARAGUA\",LOOKUP(5,GEfectos!$J$4:$P$4,GEfectos!J31:P31),IF(EFECTOS!$N$9=\"REPÚBLICA \nDOMINICANA\",LOOKUP(6,$J$4:$P$4,J31:P31),IF(EFECTOS!$N$9=\"PANAMÁ\",LOOKUP(7,GEfectos!$J$4:$P$4,GEfectos!J31:P31))))))))","v":78.010239101224172},{"$f":"IF(EFECTOS!$N$9=\"COSTA RICA\",LOOKUP(1,GEfectos!$Q$4:$W$4,GEfectos!Q31:W31),IF(EFECTOS!$N$9=\"EL SALVADOR\",LOOKUP(2,GEfectos!$Q$4:$W$4,GEfectos!Q31:W31),IF(EFECTOS!$N$9=\"GUATEMALA\",LOOKUP(3,GEfectos!$Q$4:$W$4,GEfectos!Q31:W31),IF(EFECTOS!$N$9=\"HONDURAS\",LOOKUP(4,GEfectos!$Q$4:$W$4,GEfectos!Q31:W31),IF(EFECTOS!$N$9=\"NICARAGUA\",LOOKUP(5,GEfectos!$Q$4:$W$4,GEfectos!Q31:W31),IF(EFECTOS!$N$9=\"REPÚBLICA \nDOMINICANA\",LOOKUP(6,$Q$4:$W$4,Q31:W31),IF(EFECTOS!$N$9=\"PANAMÁ\",LOOKUP(7,GEfectos!$Q$4:$W$4,GEfectos!Q31:W31))))))))","v":76.462553686196841},100]
[null,{"$f":"'ITCER GLOBAL'!B32","v":"Marzo"},{"$f":"'ITCER GLOBAL'!C32","v":101.8555740528159},{"$f":"'ITCER GLOBAL'!D32","v":104.20182977319897},{"$f":"'ITCER GLOBAL'!E32","v":89.803992915765306},{"$f":"'ITCER GLOBAL'!F32","v":123.57298667513129},{"$f":"'ITCER GLOBAL'!G32","v":101.60364332255976},{"$f":"'ITCER GLOBAL'!H32","v":102.40445600279001},{"$f":"'ITCER GLOBAL'!I32","v":106.70297515863939},{"$f":"'ITCER GLOBAL'!S32","v":78.535630797339238},{"$f":"'ITCER GLOBAL'!T32","v":113.85068495913664},{"$f":"'ITCER GLOBAL'!U32","v":84.299230039782572},{"$f":"'ITCER GLOBAL'!V32","v":92.510933905930344},{"$f":"'ITCER GLOBAL'!W32","v":77.073217374097467},{"$f":"'ITCER GLOBAL'!X32","v":86.344601036023832},{"$f":"'ITCER GLOBAL'!Y32","v":117.5870845485602},{"$f":"'ITCER GLOBAL'!AA32","v":77.104892420139521},{"$f":"'ITCER GLOBAL'!AB32","v":109.2597751948684},{"$f":"'ITCER GLOBAL'!AC32","v":93.870247082280514},{"$f":"'ITCER GLOBAL'!AD32","v":74.863395629611261},{"$f":"'ITCER GLOBAL'!AE32","v":75.856745736384795},{"$f":"'ITCER GLOBAL'!AF32","v":84.317230329968623},{"$f":"'ITCER GLOBAL'!AG32","v":110.20038042401252},null,{"$f":"IF(EFECTOS!$N$9=\"COSTA RICA\",LOOKUP(1,GEfectos!$C$4:$I$4,GEfectos!C32:I32),IF(EFECTOS!$N$9=\"EL SALVADOR\",LOOKUP(2,GEfectos!$C$4:$I$4,GEfectos!C32:I32),IF(EFECTOS!$N$9=\"GUATEMALA\",LOOKUP(3,GEfectos!$C$4:$I$4,GEfectos!C32:I32),IF(EFECTOS!$N$9=\"HONDURAS\",LOOKUP(4,GEfectos!$C$4:$I$4,GEfectos!C32:I32),IF(EFECTOS!$N$9=\"NICARAGUA\",LOOKUP(5,GEfectos!$C$4:$I$4,GEfectos!C32:I32),IF(EFECTOS!$N$9=\"REPÚBLICA \nDOMINICANA\",LOOKUP(6,$C$4:$I$4,C32:I32),IF(EFECTOS!$N$9=\"PANAMÁ\",LOOKUP(7,GEfectos!$C$4:$I$4,GEfectos!C32:I32))))))))","v":101.8555740528159},{"$f":"IF(EFECTOS!$N$9=\"COSTA RICA\",LOOKUP(1,GEfectos!$J$4:$P$4,GEfectos!J32:P32),IF(EFECTOS!$N$9=\"EL SALVADOR\",LOOKUP(2,GEfectos!$J$4:$P$4,GEfectos!J32:P32),IF(EFECTOS!$N$9=\"GUATEMALA\",LOOKUP(3,GEfectos!$J$4:$P$4,GEfectos!J32:P32),IF(EFECTOS!$N$9=\"HONDURAS\",LOOKUP(4,GEfectos!$J$4:$P$4,GEfectos!J32:P32),IF(EFECTOS!$N$9=\"NICARAGUA\",LOOKUP(5,GEfectos!$J$4:$P$4,GEfectos!J32:P32),IF(EFECTOS!$N$9=\"REPÚBLICA \nDOMINICANA\",LOOKUP(6,$J$4:$P$4,J32:P32),IF(EFECTOS!$N$9=\"PANAMÁ\",LOOKUP(7,GEfectos!$J$4:$P$4,GEfectos!J32:P32))))))))","v":78.535630797339238},{"$f":"IF(EFECTOS!$N$9=\"COSTA RICA\",LOOKUP(1,GEfectos!$Q$4:$W$4,GEfectos!Q32:W32),IF(EFECTOS!$N$9=\"EL SALVADOR\",LOOKUP(2,GEfectos!$Q$4:$W$4,GEfectos!Q32:W32),IF(EFECTOS!$N$9=\"GUATEMALA\",LOOKUP(3,GEfectos!$Q$4:$W$4,GEfectos!Q32:W32),IF(EFECTOS!$N$9=\"HONDURAS\",LOOKUP(4,GEfectos!$Q$4:$W$4,GEfectos!Q32:W32),IF(EFECTOS!$N$9=\"NICARAGUA\",LOOKUP(5,GEfectos!$Q$4:$W$4,GEfectos!Q32:W32),IF(EFECTOS!$N$9=\"REPÚBLICA \nDOMINICANA\",LOOKUP(6,$Q$4:$W$4,Q32:W32),IF(EFECTOS!$N$9=\"PANAMÁ\",LOOKUP(7,GEfectos!$Q$4:$W$4,GEfectos!Q32:W32))))))))","v":77.104892420139521},100]
[null,{"$f":"'ITCER GLOBAL'!B33","v":"Abril"},{"$f":"'ITCER GLOBAL'!C33","v":101.50138562083362},{"$f":"'ITCER GLOBAL'!D33","v":104.23827325792115},{"$f":"'ITCER GLOBAL'!E33","v":90.04385857978771},{"$f":"'ITCER GLOBAL'!F33","v":122.63947858190006},{"$f":"'ITCER GLOBAL'!G33","v":102.28752521230309},{"$f":"'ITCER GLOBAL'!H33","v":101.65376059438907},{"$f":"'ITCER GLOBAL'!I33","v":106.96896523979507},{"$f":"'ITCER GLOBAL'!S33","v":79.10403028934455},{"$f":"'ITCER GLOBAL'!T33","v":113.60108553136472},{"$f":"'ITCER GLOBAL'!U33","v":84.185788434652352},{"$f":"'ITCER GLOBAL'!V33","v":92.100862977856096},{"$f":"'ITCER GLOBAL'!W33","v":77.617058873995646},{"$f":"'ITCER GLOBAL'!X33","v":86.3052074468591},{"$f":"'ITCER GLOBAL'!Y33","v":117.06991378906753},{"$f":"'ITCER GLOBAL'!AA33","v":77.933941300903868},{"$f":"'ITCER GLOBAL'!AB33","v":108.98212526053339},{"$f":"'ITCER GLOBAL'!AC33","v":93.494203560874126},{"$f":"'ITCER GLOBAL'!AD33","v":75.098870317154905},{"$f":"'ITCER GLOBAL'!AE33","v":75.881256011324353},{"$f":"'ITCER GLOBAL'!AF33","v":84.901145754191447},{"$f":"'ITCER GLOBAL'!AG33","v":109.44287768571839},null,{"$f":"IF(EFECTOS!$N$9=\"COSTA RICA\",LOOKUP(1,GEfectos!$C$4:$I$4,GEfectos!C33:I33),IF(EFECTOS!$N$9=\"EL SALVADOR\",LOOKUP(2,GEfectos!$C$4:$I$4,GEfectos!C33:I33),IF(EFECTOS!$N$9=\"GUATEMALA\",LOOKUP(3,GEfectos!$C$4:$I$4,GEfectos!C33:I33),IF(EFECTOS!$N$9=\"HONDURAS\",LOOKUP(4,GEfectos!$C$4:$I$4,GEfectos!C33:I33),IF(EFECTOS!$N$9=\"NICARAGUA\",LOOKUP(5,GEfectos!$C$4:$I$4,GEfectos!C33:I33),IF(EFECTOS!$N$9=\"REPÚBLICA \nDOMINICANA\",LOOKUP(6,$C$4:$I$4,C33:I33),IF(EFECTOS!$N$9=\"PANAMÁ\",LOOKUP(7,GEfectos!$C$4:$I$4,GEfectos!C33:I33))))))))","v":101.50138562083362},{"$f":"IF(EFECTOS!$N$9=\"COSTA RICA\",LOOKUP(1,GEfectos!$J$4:$P$4,GEfectos!J33:P33),IF(EFECTOS!$N$9=\"EL SALVADOR\",LOOKUP(2,GEfectos!$J$4:$P$4,GEfectos!J33:P33),IF(EFECTOS!$N$9=\"GUATEMALA\",LOOKUP(3,GEfectos!$J$4:$P$4,GEfectos!J33:P33),IF(EFECTOS!$N$9=\"HONDURAS\",LOOKUP(4,GEfectos!$J$4:$P$4,GEfectos!J33:P33),IF(EFECTOS!$N$9=\"NICARAGUA\",LOOKUP(5,GEfectos!$J$4:$P$4,GEfectos!J33:P33),IF(EFECTOS!$N$9=\"REPÚBLICA \nDOMINICANA\",LOOKUP(6,$J$4:$P$4,J33:P33),IF(EFECTOS!$N$9=\"PANAMÁ\",LOOKUP(7,GEfectos!$J$4:$P$4,GEfectos!J33:P33))))))))","v":79.10403028934455},{"$f":"IF(EFECTOS!$N$9=\"COSTA RICA\",LOOKUP(1,GEfectos!$Q$4:$W$4,GEfectos!Q33:W33),IF(EFECTOS!$N$9=\"EL SALVADOR\",LOOKUP(2,GEfectos!$Q$4:$W$4,GEfectos!Q33:W33),IF(EFECTOS!$N$9=\"GUATEMALA\",LOOKUP(3,GEfectos!$Q$4:$W$4,GEfectos!Q33:W33),IF(EFECTOS!$N$9=\"HONDURAS\",LOOKUP(4,GEfectos!$Q$4:$W$4,GEfectos!Q33:W33),IF(EFECTOS!$N$9=\"NICARAGUA\",LOOKUP(5,GEfectos!$Q$4:$W$4,GEfectos!Q33:W33),IF(EFECTOS!$N$9=\"REPÚBLICA \nDOMINICANA\",LOOKUP(6,$Q$4:$W$4,Q33:W33),IF(EFECTOS!$N$9=\"PANAMÁ\",LOOKUP(7,GEfectos!$Q$4:$W$4,GEfectos!Q33:W33))))))))","v":77.933941300903868},100]
[null,{"$f":"'ITCER GLOBAL'!B34","v":"Mayo"},{"$f":"'ITCER GLOBAL'!C34","v":102.24112909969521},{"$f":"'ITCER GLOBAL'!D34","v":104.84230471138514},{"$f":"'ITCER GLOBAL'!E34","v":89.816028978320645},{"$f":"'ITCER GLOBAL'!F34","v":124.28468686205001},{"$f":"'ITCER GLOBAL'!G34","v":102.87894011141987},{"$f":"'ITCER GLOBAL'!H34","v":101.52026322240771},{"$f":"'ITCER GLOBAL'!I34","v":107.15845417252274},{"$f":"'ITCER GLOBAL'!S34","v":79.966492474721534},{"$f":"'ITCER GLOBAL'!T34","v":113.75453674294025},{"$f":"'ITCER GLOBAL'!U34","v":83.961737257064286},{"$f":"'ITCER GLOBAL'!V34","v":94.41615706724545},{"$f":"'ITCER GLOBAL'!W34","v":78.519511120933544},{"$f":"'ITCER GLOBAL'!X34","v":86.365097791072301},{"$f":"'ITCER GLOBAL'!Y34","v":117.36564664181226},{"$f":"'ITCER GLOBAL'!AA34","v":78.213624183225022},{"$f":"'ITCER GLOBAL'!AB34","v":108.5006067503849},{"$f":"'ITCER GLOBAL'!AC34","v":93.481907641820328},{"$f":"'ITCER GLOBAL'!AD34","v":75.967650923916977},{"$f":"'ITCER GLOBAL'!AE34","v":76.322239552522021},{"$f":"'ITCER GLOBAL'!AF34","v":85.071782765048695},{"$f":"'ITCER GLOBAL'!AG34","v":109.5253263478924},null,{"$f":"IF(EFECTOS!$N$9=\"COSTA RICA\",LOOKUP(1,GEfectos!$C$4:$I$4,GEfectos!C34:I34),IF(EFECTOS!$N$9=\"EL SALVADOR\",LOOKUP(2,GEfectos!$C$4:$I$4,GEfectos!C34:I34),IF(EFECTOS!$N$9=\"GUATEMALA\",LOOKUP(3,GEfectos!$C$4:$I$4,GEfectos!C34:I34),IF(EFECTOS!$N$9=\"HONDURAS\",LOOKUP(4,GEfectos!$C$4:$I$4,GEfectos!C34:I34),IF(EFECTOS!$N$9=\"NICARAGUA\",LOOKUP(5,GEfectos!$C$4:$I$4,GEfectos!C34:I34),IF(EFECTOS!$N$9=\"REPÚBLICA \nDOMINICANA\",LOOKUP(6,$C$4:$I$4,C34:I34),IF(EFECTOS!$N$9=\"PANAMÁ\",LOOKUP(7,GEfectos!$C$4:$I$4,GEfectos!C34:I34))))))))","v":102.24112909969521},{"$f":"IF(EFECTOS!$N$9=\"COSTA RICA\",LOOKUP(1,GEfectos!$J$4:$P$4,GEfectos!J34:P34),IF(EFECTOS!$N$9=\"EL SALVADOR\",LOOKUP(2,GEfectos!$J$4:$P$4,GEfectos!J34:P34),IF(EFECTOS!$N$9=\"GUATEMALA\",LOOKUP(3,GEfectos!$J$4:$P$4,GEfectos!J34:P34),IF(EFECTOS!$N$9=\"HONDURAS\",LOOKUP(4,GEfectos!$J$4:$P$4,GEfectos!J34:P34),IF(EFECTOS!$N$9=\"NICARAGUA\",LOOKUP(5,GEfectos!$J$4:$P$4,GEfectos!J34:P34),IF(EFECTOS!$N$9=\"REPÚBLICA \nDOMINICANA\",LOOKUP(6,$J$4:$P$4,J34:P34),IF(EFECTOS!$N$9=\"PANAMÁ\",LOOKUP(7,GEfectos!$J$4:$P$4,GEfectos!J34:P34))))))))","v":79.966492474721534},{"$f":"IF(EFECTOS!$N$9=\"COSTA RICA\",LOOKUP(1,GEfectos!$Q$4:$W$4,GEfectos!Q34:W34),IF(EFECTOS!$N$9=\"EL SALVADOR\",LOOKUP(2,GEfectos!$Q$4:$W$4,GEfectos!Q34:W34),IF(EFECTOS!$N$9=\"GUATEMALA\",LOOKUP(3,GEfectos!$Q$4:$W$4,GEfectos!Q34:W34),IF(EFECTOS!$N$9=\"HONDURAS\",LOOKUP(4,GEfectos!$Q$4:$W$4,GEfectos!Q34:W34),IF(EFECTOS!$N$9=\"NICARAGUA\",LOOKUP(5,GEfectos!$Q$4:$W$4,GEfectos!Q34:W34),IF(EFECTOS!$N$9=\"REPÚBLICA \nDOMINICANA\",LOOKUP(6,$Q$4:$W$4,Q34:W34),IF(EFECTOS!$N$9=\"PANAMÁ\",LOOKUP(7,GEfectos!$Q$4:$W$4,GEfectos!Q34:W34))))))))","v":78.213624183225022},100]
[null,{"$f":"'ITCER GLOBAL'!B35","v":"Junio"},{"$f":"'ITCER GLOBAL'!C35","v":102.56618304922524},{"$f":"'ITCER GLOBAL'!D35","v":104.77069022580952},{"$f":"'ITCER GLOBAL'!E35","v":89.151154970884633},{"$f":"'ITCER GLOBAL'!F35","v":123.1979597524644},{"$f":"'ITCER GLOBAL'!G35","v":102.02149766044664},{"$f":"'ITCER GLOBAL'!H35","v":101.22846677952887},{"$f":"'ITCER GLOBAL'!I35","v":107.29299346852542},{"$f":"'ITCER GLOBAL'!S35","v":80.678994828519706},{"$f":"'ITCER GLOBAL'!T35","v":113.79017331054197},{"$f":"'ITCER GLOBAL'!U35","v":83.138903867805723},{"$f":"'ITCER GLOBAL'!V35","v":94.570984587465503},{"$f":"'ITCER GLOBAL'!W35","v":79.279200229398754},{"$f":"'ITCER GLOBAL'!X35","v":86.365576597559809},{"$f":"'ITCER GLOBAL'!Y35","v":117.3270742436025},{"$f":"'ITCER GLOBAL'!AA35","v":78.66042435234128},{"$f":"'ITCER GLOBAL'!AB35","v":108.60878463747162},{"$f":"'ITCER GLOBAL'!AC35","v":93.256115296495679},{"$f":"'ITCER GLOBAL'!AD35","v":76.763434051572219},{"$f":"'ITCER GLOBAL'!AE35","v":77.708328193004959},{"$f":"'ITCER GLOBAL'!AF35","v":85.317479702285937},{"$f":"'ITCER GLOBAL'!AG35","v":109.3520373052324},null,{"$f":"IF(EFECTOS!$N$9=\"COSTA RICA\",LOOKUP(1,GEfectos!$C$4:$I$4,GEfectos!C35:I35),IF(EFECTOS!$N$9=\"EL SALVADOR\",LOOKUP(2,GEfectos!$C$4:$I$4,GEfectos!C35:I35),IF(EFECTOS!$N$9=\"GUATEMALA\",LOOKUP(3,GEfectos!$C$4:$I$4,GEfectos!C35:I35),IF(EFECTOS!$N$9=\"HONDURAS\",LOOKUP(4,GEfectos!$C$4:$I$4,GEfectos!C35:I35),IF(EFECTOS!$N$9=\"NICARAGUA\",LOOKUP(5,GEfectos!$C$4:$I$4,GEfectos!C35:I35),IF(EFECTOS!$N$9=\"REPÚBLICA \nDOMINICANA\",LOOKUP(6,$C$4:$I$4,C35:I35),IF(EFECTOS!$N$9=\"PANAMÁ\",LOOKUP(7,GEfectos!$C$4:$I$4,GEfectos!C35:I35))))))))","v":102.56618304922524},{"$f":"IF(EFECTOS!$N$9=\"COSTA RICA\",LOOKUP(1,GEfectos!$J$4:$P$4,GEfectos!J35:P35),IF(EFECTOS!$N$9=\"EL SALVADOR\",LOOKUP(2,GEfectos!$J$4:$P$4,GEfectos!J35:P35),IF(EFECTOS!$N$9=\"GUATEMALA\",LOOKUP(3,GEfectos!$J$4:$P$4,GEfectos!J35:P35),IF(EFECTOS!$N$9=\"HONDURAS\",LOOKUP(4,GEfectos!$J$4:$P$4,GEfectos!J35:P35),IF(EFECTOS!$N$9=\"NICARAGUA\",LOOKUP(5,GEfectos!$J$4:$P$4,GEfectos!J35:P35),IF(EFECTOS!$N$9=\"REPÚBLICA \nDOMINICANA\",LOOKUP(6,$J$4:$P$4,J35:P35),IF(EFECTOS!$N$9=\"PANAMÁ\",LOOKUP(7,GEfectos!$J$4:$P$4,GEfectos!J35:P35))))))))","v":80.678994828519706},{"$f":"IF(EFECTOS!$N$9=\"COSTA RICA\",LOOKUP(1,GEfectos!$Q$4:$W$4,GEfectos!Q35:W35),IF(EFECTOS!$N$9=\"EL SALVADOR\",LOOKUP(2,GEfectos!$Q$4:$W$4,GEfectos!Q35:W35),IF(EFECTOS!$N$9=\"GUATEMALA\",LOOKUP(3,GEfectos!$Q$4:$W$4,GEfectos!Q35:W35),IF(EFECTOS!$N$9=\"HONDURAS\",LOOKUP(4,GEfectos!$Q$4:$W$4,GEfectos!Q35:W35),IF(EFECTOS!$N$9=\"NICARAGUA\",LOOKUP(5,GEfectos!$Q$4:$W$4,GEfectos!Q35:W35),IF(EFECTOS!$N$9=\"REPÚBLICA \nDOMINICANA\",LOOKUP(6,$Q$4:$W$4,Q35:W35),IF(EFECTOS!$N$9=\"PANAMÁ\",LOOKUP(7,GEfectos!$Q$4:$W$4,GEfectos!Q35:W35))))))))","v":78.66042435234128},100]
[null,{"$f":"'ITCER GLOBAL'!B36","v":"Julio"},{"$f":"'ITCER GLOBAL'!C36","v":102.31017689793518},{"$f":"'ITCER GLOBAL'!D36","v":103.73430600128474},{"$f":"'ITCER GLOBAL'!E36","v":89.219587954234697},{"$f":"'ITCER GLOBAL'!F36","v":121.32557703296025},{"$f":"'ITCER GLOBAL'!G36","v":101.03076684917703},{"$f":"'ITCER GLOBAL'!H36","v":99.423750138222516},{"$f":"'ITCER GLOBAL'!I36","v":106.55204259059337},{"$f":"'ITCER GLOBAL'!S36","v":80.99274347449095},{"$f":"'ITCER GLOBAL'!T36","v":113.1815945241962},{"$f":"'ITCER GLOBAL'!U36","v":83.308570098619924},{"$f":"'ITCER GLOBAL'!V36","v":94.175601492760691},{"$f":"'ITCER GLOBAL'!W36","v":79.614063557024977},{"$f":"'ITCER GLOBAL'!X36","v":86.315503947560288},{"$f":"'ITCER GLOBAL'!Y36","v":116.45501839173795},{"$f":"'ITCER GLOBAL'!AA36","v":79.163916953529906},{"$f":"'ITCER GLOBAL'!AB36","v":109.10719788571627},{"$f":"'ITCER GLOBAL'!AC36","v":93.374753245165365},{"$f":"'ITCER GLOBAL'!AD36","v":77.622216020597378},{"$f":"'ITCER GLOBAL'!AE36","v":78.801800718662449},{"$f":"'ITCER GLOBAL'!AF36","v":86.815779758419225},{"$f":"'ITCER GLOBAL'!AG36","v":109.294027181811},null,{"$f":"IF(EFECTOS!$N$9=\"COSTA RICA\",LOOKUP(1,GEfectos!$C$4:$I$4,GEfectos!C36:I36),IF(EFECTOS!$N$9=\"EL SALVADOR\",LOOKUP(2,GEfectos!$C$4:$I$4,GEfectos!C36:I36),IF(EFECTOS!$N$9=\"GUATEMALA\",LOOKUP(3,GEfectos!$C$4:$I$4,GEfectos!C36:I36),IF(EFECTOS!$N$9=\"HONDURAS\",LOOKUP(4,GEfectos!$C$4:$I$4,GEfectos!C36:I36),IF(EFECTOS!$N$9=\"NICARAGUA\",LOOKUP(5,GEfectos!$C$4:$I$4,GEfectos!C36:I36),IF(EFECTOS!$N$9=\"REPÚBLICA \nDOMINICANA\",LOOKUP(6,$C$4:$I$4,C36:I36),IF(EFECTOS!$N$9=\"PANAMÁ\",LOOKUP(7,GEfectos!$C$4:$I$4,GEfectos!C36:I36))))))))","v":102.31017689793518},{"$f":"IF(EFECTOS!$N$9=\"COSTA RICA\",LOOKUP(1,GEfectos!$J$4:$P$4,GEfectos!J36:P36),IF(EFECTOS!$N$9=\"EL SALVADOR\",LOOKUP(2,GEfectos!$J$4:$P$4,GEfectos!J36:P36),IF(EFECTOS!$N$9=\"GUATEMALA\",LOOKUP(3,GEfectos!$J$4:$P$4,GEfectos!J36:P36),IF(EFECTOS!$N$9=\"HONDURAS\",LOOKUP(4,GEfectos!$J$4:$P$4,GEfectos!J36:P36),IF(EFECTOS!$N$9=\"NICARAGUA\",LOOKUP(5,GEfectos!$J$4:$P$4,GEfectos!J36:P36),IF(EFECTOS!$N$9=\"REPÚBLICA \nDOMINICANA\",LOOKUP(6,$J$4:$P$4,J36:P36),IF(EFECTOS!$N$9=\"PANAMÁ\",LOOKUP(7,GEfectos!$J$4:$P$4,GEfectos!J36:P36))))))))","v":80.99274347449095},{"$f":"IF(EFECTOS!$N$9=\"COSTA RICA\",LOOKUP(1,GEfectos!$Q$4:$W$4,GEfectos!Q36:W36),IF(EFECTOS!$N$9=\"EL SALVADOR\",LOOKUP(2,GEfectos!$Q$4:$W$4,GEfectos!Q36:W36),IF(EFECTOS!$N$9=\"GUATEMALA\",LOOKUP(3,GEfectos!$Q$4:$W$4,GEfectos!Q36:W36),IF(EFECTOS!$N$9=\"HONDURAS\",LOOKUP(4,GEfectos!$Q$4:$W$4,GEfectos!Q36:W36),IF(EFECTOS!$N$9=\"NICARAGUA\",LOOKUP(5,GEfectos!$Q$4:$W$4,GEfectos!Q36:W36),IF(EFECTOS!$N$9=\"REPÚBLICA \nDOMINICANA\",LOOKUP(6,$Q$4:$W$4,Q36:W36),IF(EFECTOS!$N$9=\"PANAMÁ\",LOOKUP(7,GEfectos!$Q$4:$W$4,GEfectos!Q36:W36))))))))","v":79.163916953529906},100]
[null,{"$f":"'ITCER GLOBAL'!B37","v":"Agosto"},{"$f":"'ITCER GLOBAL'!C37","v":101.52723903674131},{"$f":"'ITCER GLOBAL'!D37","v":104.01267239943589},{"$f":"'ITCER GLOBAL'!E37","v":89.905317323615435},{"$f":"'ITCER GLOBAL'!F37","v":119.29768132179746},{"$f":"'ITCER GLOBAL'!G37","v":102.16816051371555},{"$f":"'ITCER GLOBAL'!H37","v":98.924350017514854},{"$f":"'ITCER GLOBAL'!I37","v":105.86070263874977},{"$f":"'ITCER GLOBAL'!S37","v":81.061960387030055},{"$f":"'ITCER GLOBAL'!T37","v":112.24070062775711},{"$f":"'ITCER GLOBAL'!U37","v":84.626322029090957},{"$f":"'ITCER GLOBAL'!V37","v":93.527593340951483},{"$f":"'ITCER GLOBAL'!W37","v":79.799815688567506},{"$f":"'ITCER GLOBAL'!X37","v":86.230000209286644},{"$f":"'ITCER GLOBAL'!Y37","v":115.31272906140202},{"$f":"'ITCER GLOBAL'!AA37","v":79.8425734375529},{"$f":"'ITCER GLOBAL'!AB37","v":107.91060169738111},{"$f":"'ITCER GLOBAL'!AC37","v":94.128272440747111},{"$f":"'ITCER GLOBAL'!AD37","v":78.398500544756686},{"$f":"'ITCER GLOBAL'!AE37","v":78.106344762715764},{"$f":"'ITCER GLOBAL'!AF37","v":87.167618684398079},{"$f":"'ITCER GLOBAL'!AG37","v":108.92873954833584},null,{"$f":"IF(EFECTOS!$N$9=\"COSTA RICA\",LOOKUP(1,GEfectos!$C$4:$I$4,GEfectos!C37:I37),IF(EFECTOS!$N$9=\"EL SALVADOR\",LOOKUP(2,GEfectos!$C$4:$I$4,GEfectos!C37:I37),IF(EFECTOS!$N$9=\"GUATEMALA\",LOOKUP(3,GEfectos!$C$4:$I$4,GEfectos!C37:I37),IF(EFECTOS!$N$9=\"HONDURAS\",LOOKUP(4,GEfectos!$C$4:$I$4,GEfectos!C37:I37),IF(EFECTOS!$N$9=\"NICARAGUA\",LOOKUP(5,GEfectos!$C$4:$I$4,GEfectos!C37:I37),IF(EFECTOS!$N$9=\"REPÚBLICA \nDOMINICANA\",LOOKUP(6,$C$4:$I$4,C37:I37),IF(EFECTOS!$N$9=\"PANAMÁ\",LOOKUP(7,GEfectos!$C$4:$I$4,GEfectos!C37:I37))))))))","v":101.52723903674131},{"$f":"IF(EFECTOS!$N$9=\"COSTA RICA\",LOOKUP(1,GEfectos!$J$4:$P$4,GEfectos!J37:P37),IF(EFECTOS!$N$9=\"EL SALVADOR\",LOOKUP(2,GEfectos!$J$4:$P$4,GEfectos!J37:P37),IF(EFECTOS!$N$9=\"GUATEMALA\",LOOKUP(3,GEfectos!$J$4:$P$4,GEfectos!J37:P37),IF(EFECTOS!$N$9=\"HONDURAS\",LOOKUP(4,GEfectos!$J$4:$P$4,GEfectos!J37:P37),IF(EFECTOS!$N$9=\"NICARAGUA\",LOOKUP(5,GEfectos!$J$4:$P$4,GEfectos!J37:P37),IF(EFECTOS!$N$9=\"REPÚBLICA \nDOMINICANA\",LOOKUP(6,$J$4:$P$4,J37:P37),IF(EFECTOS!$N$9=\"PANAMÁ\",LOOKUP(7,GEfectos!$J$4:$P$4,GEfectos!J37:P37))))))))","v":81.061960387030055},{"$f":"IF(EFECTOS!$N$9=\"COSTA RICA\",LOOKUP(1,GEfectos!$Q$4:$W$4,GEfectos!Q37:W37),IF(EFECTOS!$N$9=\"EL SALVADOR\",LOOKUP(2,GEfectos!$Q$4:$W$4,GEfectos!Q37:W37),IF(EFECTOS!$N$9=\"GUATEMALA\",LOOKUP(3,GEfectos!$Q$4:$W$4,GEfectos!Q37:W37),IF(EFECTOS!$N$9=\"HONDURAS\",LOOKUP(4,GEfectos!$Q$4:$W$4,GEfectos!Q37:W37),IF(EFECTOS!$N$9=\"NICARAGUA\",LOOKUP(5,GEfectos!$Q$4:$W$4,GEfectos!Q37:W37),IF(EFECTOS!$N$9=\"REPÚBLICA \nDOMINICANA\",LOOKUP(6,$Q$4:$W$4,Q37:W37),IF(EFECTOS!$N$9=\"PANAMÁ\",LOOKUP(7,GEfectos!$Q$4:$W$4,GEfectos!Q37:W37))))))))","v":79.8425734375529},100]
[null,{"$f":"'ITCER GLOBAL'!B38","v":"Septiembre"},{"$f":"'ITCER GLOBAL'!C38","v":103.17467270306331},{"$f":"'ITCER GLOBAL'!D38","v":104.66965906663962},{"$f":"'ITCER GLOBAL'!E38","v":90.14391316276307},{"$f":"'ITCER GLOBAL'!F38","v":119.34950350915776},{"$f":"'ITCER GLOBAL'!G38","v":104.3298183172451},{"$f":"'ITCER GLOBAL'!H38","v":98.577198886089619},{"$f":"'ITCER GLOBAL'!I38","v":105.78578050502607},{"$f":"'ITCER GLOBAL'!S38","v":81.795558481950508},{"$f":"'ITCER GLOBAL'!T38","v":112.24354317601828},{"$f":"'ITCER GLOBAL'!U38","v":85.119502112000831},{"$f":"'ITCER GLOBAL'!V38","v":93.652011883892328},{"$f":"'ITCER GLOBAL'!W38","v":80.615057793853111},{"$f":"'ITCER GLOBAL'!X38","v":86.231514828894888},{"$f":"'ITCER GLOBAL'!Y38","v":114.97991087954212},{"$f":"'ITCER GLOBAL'!AA38","v":79.278718641888119},{"$f":"'ITCER GLOBAL'!AB38","v":107.23598813344431},{"$f":"'ITCER GLOBAL'!AC38","v":94.426233702889945},{"$f":"'ITCER GLOBAL'!AD38","v":78.468706722945313},{"$f":"'ITCER GLOBAL'!AE38","v":77.2694317828865},{"$f":"'ITCER GLOBAL'!AF38","v":87.476126125818681},{"$f":"'ITCER GLOBAL'!AG38","v":108.69127242869774},null,{"$f":"IF(EFECTOS!$N$9=\"COSTA RICA\",LOOKUP(1,GEfectos!$C$4:$I$4,GEfectos!C38:I38),IF(EFECTOS!$N$9=\"EL SALVADOR\",LOOKUP(2,GEfectos!$C$4:$I$4,GEfectos!C38:I38),IF(EFECTOS!$N$9=\"GUATEMALA\",LOOKUP(3,GEfectos!$C$4:$I$4,GEfectos!C38:I38),IF(EFECTOS!$N$9=\"HONDURAS\",LOOKUP(4,GEfectos!$C$4:$I$4,GEfectos!C38:I38),IF(EFECTOS!$N$9=\"NICARAGUA\",LOOKUP(5,GEfectos!$C$4:$I$4,GEfectos!C38:I38),IF(EFECTOS!$N$9=\"REPÚBLICA \nDOMINICANA\",LOOKUP(6,$C$4:$I$4,C38:I38),IF(EFECTOS!$N$9=\"PANAMÁ\",LOOKUP(7,GEfectos!$C$4:$I$4,GEfectos!C38:I38))))))))","v":103.17467270306331},{"$f":"IF(EFECTOS!$N$9=\"COSTA RICA\",LOOKUP(1,GEfectos!$J$4:$P$4,GEfectos!J38:P38),IF(EFECTOS!$N$9=\"EL SALVADOR\",LOOKUP(2,GEfectos!$J$4:$P$4,GEfectos!J38:P38),IF(EFECTOS!$N$9=\"GUATEMALA\",LOOKUP(3,GEfectos!$J$4:$P$4,GEfectos!J38:P38),IF(EFECTOS!$N$9=\"HONDURAS\",LOOKUP(4,GEfectos!$J$4:$P$4,GEfectos!J38:P38),IF(EFECTOS!$N$9=\"NICARAGUA\",LOOKUP(5,GEfectos!$J$4:$P$4,GEfectos!J38:P38),IF(EFECTOS!$N$9=\"REPÚBLICA \nDOMINICANA\",LOOKUP(6,$J$4:$P$4,J38:P38),IF(EFECTOS!$N$9=\"PANAMÁ\",LOOKUP(7,GEfectos!$J$4:$P$4,GEfectos!J38:P38))))))))","v":81.795558481950508},{"$f":"IF(EFECTOS!$N$9=\"COSTA RICA\",LOOKUP(1,GEfectos!$Q$4:$W$4,GEfectos!Q38:W38),IF(EFECTOS!$N$9=\"EL SALVADOR\",LOOKUP(2,GEfectos!$Q$4:$W$4,GEfectos!Q38:W38),IF(EFECTOS!$N$9=\"GUATEMALA\",LOOKUP(3,GEfectos!$Q$4:$W$4,GEfectos!Q38:W38),IF(EFECTOS!$N$9=\"HONDURAS\",LOOKUP(4,GEfectos!$Q$4:$W$4,GEfectos!Q38:W38),IF(EFECTOS!$N$9=\"NICARAGUA\",LOOKUP(5,GEfectos!$Q$4:$W$4,GEfectos!Q38:W38),IF(EFECTOS!$N$9=\"REPÚBLICA \nDOMINICANA\",LOOKUP(6,$Q$4:$W$4,Q38:W38),IF(EFECTOS!$N$9=\"PANAMÁ\",LOOKUP(7,GEfectos!$Q$4:$W$4,GEfectos!Q38:W38))))))))","v":79.278718641888119},100]
[null,{"$f":"'ITCER GLOBAL'!B39","v":"Octubre"},{"$f":"'ITCER GLOBAL'!C39","v":104.13206798087266},{"$f":"'ITCER GLOBAL'!D39","v":105.20564165642853},{"$f":"'ITCER GLOBAL'!E39","v":90.44658823635929},{"$f":"'ITCER GLOBAL'!F39","v":120.01464328257705},{"$f":"'ITCER GLOBAL'!G39","v":104.98924831418776},{"$f":"'ITCER GLOBAL'!H39","v":98.48879266008484},{"$f":"'ITCER GLOBAL'!I39","v":106.31583008764152},{"$f":"'ITCER GLOBAL'!S39","v":82.537977498307342},{"$f":"'ITCER GLOBAL'!T39","v":112.19448321060554},{"$f":"'ITCER GLOBAL'!U39","v":85.705670779093822},{"$f":"'ITCER GLOBAL'!V39","v":93.701688912924013},{"$f":"'ITCER GLOBAL'!W39","v":81.443474150622023},{"$f":"'ITCER GLOBAL'!X39","v":86.216197938184706},{"$f":"'ITCER GLOBAL'!Y39","v":114.80585164375714},{"$f":"'ITCER GLOBAL'!AA39","v":79.262785325139419},{"$f":"'ITCER GLOBAL'!AB39","v":106.64302925597904},{"$f":"'ITCER GLOBAL'!AC39","v":94.758323614290163},{"$f":"'ITCER GLOBAL'!AD39","v":78.075213448996692},{"$f":"'ITCER GLOBAL'!AE39","v":77.573156735913244},{"$f":"'ITCER GLOBAL'!AF39","v":87.539095169684288},{"$f":"'ITCER GLOBAL'!AG39","v":107.98566078928874},null,{"$f":"IF(EFECTOS!$N$9=\"COSTA RICA\",LOOKUP(1,GEfectos!$C$4:$I$4,GEfectos!C39:I39),IF(EFECTOS!$N$9=\"EL SALVADOR\",LOOKUP(2,GEfectos!$C$4:$I$4,GEfectos!C39:I39),IF(EFECTOS!$N$9=\"GUATEMALA\",LOOKUP(3,GEfectos!$C$4:$I$4,GEfectos!C39:I39),IF(EFECTOS!$N$9=\"HONDURAS\",LOOKUP(4,GEfectos!$C$4:$I$4,GEfectos!C39:I39),IF(EFECTOS!$N$9=\"NICARAGUA\",LOOKUP(5,GEfectos!$C$4:$I$4,GEfectos!C39:I39),IF(EFECTOS!$N$9=\"REPÚBLICA \nDOMINICANA\",LOOKUP(6,$C$4:$I$4,C39:I39),IF(EFECTOS!$N$9=\"PANAMÁ\",LOOKUP(7,GEfectos!$C$4:$I$4,GEfectos!C39:I39))))))))","v":104.13206798087266},{"$f":"IF(EFECTOS!$N$9=\"COSTA RICA\",LOOKUP(1,GEfectos!$J$4:$P$4,GEfectos!J39:P39),IF(EFECTOS!$N$9=\"EL SALVADOR\",LOOKUP(2,GEfectos!$J$4:$P$4,GEfectos!J39:P39),IF(EFECTOS!$N$9=\"GUATEMALA\",LOOKUP(3,GEfectos!$J$4:$P$4,GEfectos!J39:P39),IF(EFECTOS!$N$9=\"HONDURAS\",LOOKUP(4,GEfectos!$J$4:$P$4,GEfectos!J39:P39),IF(EFECTOS!$N$9=\"NICARAGUA\",LOOKUP(5,GEfectos!$J$4:$P$4,GEfectos!J39:P39),IF(EFECTOS!$N$9=\"REPÚBLICA \nDOMINICANA\",LOOKUP(6,$J$4:$P$4,J39:P39),IF(EFECTOS!$N$9=\"PANAMÁ\",LOOKUP(7,GEfectos!$J$4:$P$4,GEfectos!J39:P39))))))))","v":82.537977498307342},{"$f":"IF(EFECTOS!$N$9=\"COSTA RICA\",LOOKUP(1,GEfectos!$Q$4:$W$4,GEfectos!Q39:W39),IF(EFECTOS!$N$9=\"EL SALVADOR\",LOOKUP(2,GEfectos!$Q$4:$W$4,GEfectos!Q39:W39),IF(EFECTOS!$N$9=\"GUATEMALA\",LOOKUP(3,GEfectos!$Q$4:$W$4,GEfectos!Q39:W39),IF(EFECTOS!$N$9=\"HONDURAS\",LOOKUP(4,GEfectos!$Q$4:$W$4,GEfectos!Q39:W39),IF(EFECTOS!$N$9=\"NICARAGUA\",LOOKUP(5,GEfectos!$Q$4:$W$4,GEfectos!Q39:W39),IF(EFECTOS!$N$9=\"REPÚBLICA \nDOMINICANA\",LOOKUP(6,$Q$4:$W$4,Q39:W39),IF(EFECTOS!$N$9=\"PANAMÁ\",LOOKUP(7,GEfectos!$Q$4:$W$4,GEfectos!Q39:W39))))))))","v":79.262785325139419},100]
[null,{"$f":"'ITCER GLOBAL'!B40","v":"Noviembre"},{"$f":"'ITCER GLOBAL'!C40","v":103.07753051931049},{"$f":"'ITCER GLOBAL'!D40","v":105.05320816282855},{"$f":"'ITCER GLOBAL'!E40","v":90.702975877445141},{"$f":"'ITCER GLOBAL'!F40","v":118.95930374401121},{"$f":"'ITCER GLOBAL'!G40","v":102.84325570924584},{"$f":"'ITCER GLOBAL'!H40","v":98.099041212002078},{"$f":"'ITCER GLOBAL'!I40","v":104.99864824946768},{"$f":"'ITCER GLOBAL'!S40","v":82.983064360033993},{"$f":"'ITCER GLOBAL'!T40","v":111.58567090968243},{"$f":"'ITCER GLOBAL'!U40","v":86.110032978337173},{"$f":"'ITCER GLOBAL'!V40","v":93.440397474194043},{"$f":"'ITCER GLOBAL'!W40","v":81.959541149047055},{"$f":"'ITCER GLOBAL'!X40","v":86.036571966436838},{"$f":"'ITCER GLOBAL'!Y40","v":113.07506923390258},{"$f":"'ITCER GLOBAL'!AA40","v":80.505483534540048},{"$f":"'ITCER GLOBAL'!AB40","v":106.21824203286472},{"$f":"'ITCER GLOBAL'!AC40","v":94.936282018669587},{"$f":"'ITCER GLOBAL'!AD40","v":78.548204750146013},{"$f":"'ITCER GLOBAL'!AE40","v":79.693646981343775},{"$f":"'ITCER GLOBAL'!AF40","v":87.703784770437238},{"$f":"'ITCER GLOBAL'!AG40","v":107.69192853344742},null,{"$f":"IF(EFECTOS!$N$9=\"COSTA RICA\",LOOKUP(1,GEfectos!$C$4:$I$4,GEfectos!C40:I40),IF(EFECTOS!$N$9=\"EL SALVADOR\",LOOKUP(2,GEfectos!$C$4:$I$4,GEfectos!C40:I40),IF(EFECTOS!$N$9=\"GUATEMALA\",LOOKUP(3,GEfectos!$C$4:$I$4,GEfectos!C40:I40),IF(EFECTOS!$N$9=\"HONDURAS\",LOOKUP(4,GEfectos!$C$4:$I$4,GEfectos!C40:I40),IF(EFECTOS!$N$9=\"NICARAGUA\",LOOKUP(5,GEfectos!$C$4:$I$4,GEfectos!C40:I40),IF(EFECTOS!$N$9=\"REPÚBLICA \nDOMINICANA\",LOOKUP(6,$C$4:$I$4,C40:I40),IF(EFECTOS!$N$9=\"PANAMÁ\",LOOKUP(7,GEfectos!$C$4:$I$4,GEfectos!C40:I40))))))))","v":103.07753051931049},{"$f":"IF(EFECTOS!$N$9=\"COSTA RICA\",LOOKUP(1,GEfectos!$J$4:$P$4,GEfectos!J40:P40),IF(EFECTOS!$N$9=\"EL SALVADOR\",LOOKUP(2,GEfectos!$J$4:$P$4,GEfectos!J40:P40),IF(EFECTOS!$N$9=\"GUATEMALA\",LOOKUP(3,GEfectos!$J$4:$P$4,GEfectos!J40:P40),IF(EFECTOS!$N$9=\"HONDURAS\",LOOKUP(4,GEfectos!$J$4:$P$4,GEfectos!J40:P40),IF(EFECTOS!$N$9=\"NICARAGUA\",LOOKUP(5,GEfectos!$J$4:$P$4,GEfectos!J40:P40),IF(EFECTOS!$N$9=\"REPÚBLICA \nDOMINICANA\",LOOKUP(6,$J$4:$P$4,J40:P40),IF(EFECTOS!$N$9=\"PANAMÁ\",LOOKUP(7,GEfectos!$J$4:$P$4,GEfectos!J40:P40))))))))","v":82.983064360033993},{"$f":"IF(EFECTOS!$N$9=\"COSTA RICA\",LOOKUP(1,GEfectos!$Q$4:$W$4,GEfectos!Q40:W40),IF(EFECTOS!$N$9=\"EL SALVADOR\",LOOKUP(2,GEfectos!$Q$4:$W$4,GEfectos!Q40:W40),IF(EFECTOS!$N$9=\"GUATEMALA\",LOOKUP(3,GEfectos!$Q$4:$W$4,GEfectos!Q40:W40),IF(EFECTOS!$N$9=\"HONDURAS\",LOOKUP(4,GEfectos!$Q$4:$W$4,GEfectos!Q40:W40),IF(EFECTOS!$N$9=\"NICARAGUA\",LOOKUP(5,GEfectos!$Q$4:$W$4,GEfectos!Q40:W40),IF(EFECTOS!$N$9=\"REPÚBLICA \nDOMINICANA\",LOOKUP(6,$Q$4:$W$4,Q40:W40),IF(EFECTOS!$N$9=\"PANAMÁ\",LOOKUP(7,GEfectos!$Q$4:$W$4,GEfectos!Q40:W40))))))))","v":80.505483534540048},100]
[null,{"$f":"'ITCER GLOBAL'!B41","v":"Diciembre"},{"$f":"'ITCER GLOBAL'!C41","v":102.47855248592101},{"$f":"'ITCER GLOBAL'!D41","v":104.49291552805741},{"$f":"'ITCER GLOBAL'!E41","v":89.545690053786075},{"$f":"'ITCER GLOBAL'!F41","v":118.34023568750845},{"$f":"'ITCER GLOBAL'!G41","v":102.83931569213733},{"$f":"'ITCER GLOBAL'!H41","v":97.613042183627201},{"$f":"'ITCER GLOBAL'!I41","v":100.17062977039168},{"$f":"'ITCER GLOBAL'!S41","v":83.140580972975684},{"$f":"'ITCER GLOBAL'!T41","v":110.79410445379165},{"$f":"'ITCER GLOBAL'!U41","v":85.206387207892305},{"$f":"'ITCER GLOBAL'!V41","v":93.093707171394428},{"$f":"'ITCER GLOBAL'!W41","v":82.317663552609005},{"$f":"'ITCER GLOBAL'!X41","v":85.803945249797835},{"$f":"'ITCER GLOBAL'!Y41","v":107.55619969864102},{"$f":"'ITCER GLOBAL'!AA41","v":81.12973783894725},{"$f":"'ITCER GLOBAL'!AB41","v":106.03025467697118},{"$f":"'ITCER GLOBAL'!AC41","v":95.154090785064767},{"$f":"'ITCER GLOBAL'!AD41","v":78.666149877561082},{"$f":"'ITCER GLOBAL'!AE41","v":80.044935148185431},{"$f":"'ITCER GLOBAL'!AF41","v":87.902132061805446},{"$f":"'ITCER GLOBAL'!AG41","v":107.37298941334234},null,{"$f":"IF(EFECTOS!$N$9=\"COSTA RICA\",LOOKUP(1,GEfectos!$C$4:$I$4,GEfectos!C41:I41),IF(EFECTOS!$N$9=\"EL SALVADOR\",LOOKUP(2,GEfectos!$C$4:$I$4,GEfectos!C41:I41),IF(EFECTOS!$N$9=\"GUATEMALA\",LOOKUP(3,GEfectos!$C$4:$I$4,GEfectos!C41:I41),IF(EFECTOS!$N$9=\"HONDURAS\",LOOKUP(4,GEfectos!$C$4:$I$4,GEfectos!C41:I41),IF(EFECTOS!$N$9=\"NICARAGUA\",LOOKUP(5,GEfectos!$C$4:$I$4,GEfectos!C41:I41),IF(EFECTOS!$N$9=\"REPÚBLICA \nDOMINICANA\",LOOKUP(6,$C$4:$I$4,C41:I41),IF(EFECTOS!$N$9=\"PANAMÁ\",LOOKUP(7,GEfectos!$C$4:$I$4,GEfectos!C41:I41))))))))","v":102.47855248592101},{"$f":"IF(EFECTOS!$N$9=\"COSTA RICA\",LOOKUP(1,GEfectos!$J$4:$P$4,GEfectos!J41:P41),IF(EFECTOS!$N$9=\"EL SALVADOR\",LOOKUP(2,GEfectos!$J$4:$P$4,GEfectos!J41:P41),IF(EFECTOS!$N$9=\"GUATEMALA\",LOOKUP(3,GEfectos!$J$4:$P$4,GEfectos!J41:P41),IF(EFECTOS!$N$9=\"HONDURAS\",LOOKUP(4,GEfectos!$J$4:$P$4,GEfectos!J41:P41),IF(EFECTOS!$N$9=\"NICARAGUA\",LOOKUP(5,GEfectos!$J$4:$P$4,GEfectos!J41:P41),IF(EFECTOS!$N$9=\"REPÚBLICA \nDOMINICANA\",LOOKUP(6,$J$4:$P$4,J41:P41),IF(EFECTOS!$N$9=\"PANAMÁ\",LOOKUP(7,GEfectos!$J$4:$P$4,GEfectos!J41:P41))))))))","v":83.140580972975684},{"$f":"IF(EFECTOS!$N$9=\"COSTA RICA\",LOOKUP(1,GEfectos!$Q$4:$W$4,GEfectos!Q41:W41),IF(EFECTOS!$N$9=\"EL SALVADOR\",LOOKUP(2,GEfectos!$Q$4:$W$4,GEfectos!Q41:W41),IF(EFECTOS!$N$9=\"GUATEMALA\",LOOKUP(3,GEfectos!$Q$4:$W$4,GEfectos!Q41:W41),IF(EFECTOS!$N$9=\"HONDURAS\",LOOKUP(4,GEfectos!$Q$4:$W$4,GEfectos!Q41:W41),IF(EFECTOS!$N$9=\"NICARAGUA\",LOOKUP(5,GEfectos!$Q$4:$W$4,GEfectos!Q41:W41),IF(EFECTOS!$N$9=\"REPÚBLICA \nDOMINICANA\",LOOKUP(6,$Q$4:$W$4,Q41:W41),IF(EFECTOS!$N$9=\"PANAMÁ\",LOOKUP(7,GEfectos!$Q$4:$W$4,GEfectos!Q41:W41))))))))","v":81.12973783894725},100]
[1998,{"$f":"'ITCER GLOBAL'!B42","v":"Enero"},{"$f":"'ITCER GLOBAL'!C42","v":100.3774615529419},{"$f":"'ITCER GLOBAL'!D42","v":103.02432764903098},{"$f":"'ITCER GLOBAL'!E42","v":89.235301172880597},{"$f":"'ITCER GLOBAL'!F42","v":117.09420589380045},{"$f":"'ITCER GLOBAL'!G42","v":102.68574409123924},{"$f":"'ITCER GLOBAL'!H42","v":97.891063331238541},{"$f":"'ITCER GLOBAL'!I42","v":97.581084091341012},{"$f":"'ITCER GLOBAL'!S42","v":82.309792550231293},{"$f":"'ITCER GLOBAL'!T42","v":110.65560152675305},{"$f":"'ITCER GLOBAL'!U42","v":85.553232724209238},{"$f":"'ITCER GLOBAL'!V42","v":92.490792996299021},{"$f":"'ITCER GLOBAL'!W42","v":82.944658963384839},{"$f":"'ITCER GLOBAL'!X42","v":85.96462328871975},{"$f":"'ITCER GLOBAL'!Y42","v":104.50048288648868},{"$f":"'ITCER GLOBAL'!AA42","v":82.000273046174613},{"$f":"'ITCER GLOBAL'!AB42","v":107.40725423971631},{"$f":"'ITCER GLOBAL'!AC42","v":95.873753547894808},{"$f":"'ITCER GLOBAL'!AD42","v":78.988360090322743},{"$f":"'ITCER GLOBAL'!AE42","v":80.775242656552322},{"$f":"'ITCER GLOBAL'!AF42","v":87.816620193242017},{"$f":"'ITCER GLOBAL'!AG42","v":107.09092224131345},null,{"$f":"IF(EFECTOS!$N$9=\"COSTA RICA\",LOOKUP(1,GEfectos!$C$4:$I$4,GEfectos!C42:I42),IF(EFECTOS!$N$9=\"EL SALVADOR\",LOOKUP(2,GEfectos!$C$4:$I$4,GEfectos!C42:I42),IF(EFECTOS!$N$9=\"GUATEMALA\",LOOKUP(3,GEfectos!$C$4:$I$4,GEfectos!C42:I42),IF(EFECTOS!$N$9=\"HONDURAS\",LOOKUP(4,GEfectos!$C$4:$I$4,GEfectos!C42:I42),IF(EFECTOS!$N$9=\"NICARAGUA\",LOOKUP(5,GEfectos!$C$4:$I$4,GEfectos!C42:I42),IF(EFECTOS!$N$9=\"REPÚBLICA \nDOMINICANA\",LOOKUP(6,$C$4:$I$4,C42:I42),IF(EFECTOS!$N$9=\"PANAMÁ\",LOOKUP(7,GEfectos!$C$4:$I$4,GEfectos!C42:I42))))))))","v":100.3774615529419},{"$f":"IF(EFECTOS!$N$9=\"COSTA RICA\",LOOKUP(1,GEfectos!$J$4:$P$4,GEfectos!J42:P42),IF(EFECTOS!$N$9=\"EL SALVADOR\",LOOKUP(2,GEfectos!$J$4:$P$4,GEfectos!J42:P42),IF(EFECTOS!$N$9=\"GUATEMALA\",LOOKUP(3,GEfectos!$J$4:$P$4,GEfectos!J42:P42),IF(EFECTOS!$N$9=\"HONDURAS\",LOOKUP(4,GEfectos!$J$4:$P$4,GEfectos!J42:P42),IF(EFECTOS!$N$9=\"NICARAGUA\",LOOKUP(5,GEfectos!$J$4:$P$4,GEfectos!J42:P42),IF(EFECTOS!$N$9=\"REPÚBLICA \nDOMINICANA\",LOOKUP(6,$J$4:$P$4,J42:P42),IF(EFECTOS!$N$9=\"PANAMÁ\",LOOKUP(7,GEfectos!$J$4:$P$4,GEfectos!J42:P42))))))))","v":82.309792550231293},{"$f":"IF(EFECTOS!$N$9=\"COSTA RICA\",LOOKUP(1,GEfectos!$Q$4:$W$4,GEfectos!Q42:W42),IF(EFECTOS!$N$9=\"EL SALVADOR\",LOOKUP(2,GEfectos!$Q$4:$W$4,GEfectos!Q42:W42),IF(EFECTOS!$N$9=\"GUATEMALA\",LOOKUP(3,GEfectos!$Q$4:$W$4,GEfectos!Q42:W42),IF(EFECTOS!$N$9=\"HONDURAS\",LOOKUP(4,GEfectos!$Q$4:$W$4,GEfectos!Q42:W42),IF(EFECTOS!$N$9=\"NICARAGUA\",LOOKUP(5,GEfectos!$Q$4:$W$4,GEfectos!Q42:W42),IF(EFECTOS!$N$9=\"REPÚBLICA \nDOMINICANA\",LOOKUP(6,$Q$4:$W$4,Q42:W42),IF(EFECTOS!$N$9=\"PANAMÁ\",LOOKUP(7,GEfectos!$Q$4:$W$4,GEfectos!Q42:W42))))))))","v":82.000273046174613},100]
[null,{"$f":"'ITCER GLOBAL'!B43","v":"Febrero"},{"$f":"'ITCER GLOBAL'!C43","v":100.49703899181327},{"$f":"'ITCER GLOBAL'!D43","v":103.27326163603526},{"$f":"'ITCER GLOBAL'!E43","v":88.412273665550671},{"$f":"'ITCER GLOBAL'!F43","v":115.09483371330904},{"$f":"'ITCER GLOBAL'!G43","v":102.62685020034765},{"$f":"'ITCER GLOBAL'!H43","v":98.171025212740616},{"$f":"'ITCER GLOBAL'!I43","v":98.758557636208437},{"$f":"'ITCER GLOBAL'!S43","v":82.906125899963058},{"$f":"'ITCER GLOBAL'!T43","v":110.57793983836508},{"$f":"'ITCER GLOBAL'!U43","v":84.81505307888014},{"$f":"'ITCER GLOBAL'!V43","v":92.832644779622157},{"$f":"'ITCER GLOBAL'!W43","v":83.661299767162262},{"$f":"'ITCER GLOBAL'!X43","v":85.937447184320376},{"$f":"'ITCER GLOBAL'!Y43","v":104.88309178229964},{"$f":"'ITCER GLOBAL'!AA43","v":82.496088175012588},{"$f":"'ITCER GLOBAL'!AB43","v":107.07315532269487},{"$f":"'ITCER GLOBAL'!AC43","v":95.931310849126845},{"$f":"'ITCER GLOBAL'!AD43","v":80.657525437553517},{"$f":"'ITCER GLOBAL'!AE43","v":81.51989426143264},{"$f":"'ITCER GLOBAL'!AF43","v":87.538504358175373},{"$f":"'ITCER GLOBAL'!AG43","v":106.20152247327451},null,{"$f":"IF(EFECTOS!$N$9=\"COSTA RICA\",LOOKUP(1,GEfectos!$C$4:$I$4,GEfectos!C43:I43),IF(EFECTOS!$N$9=\"EL SALVADOR\",LOOKUP(2,GEfectos!$C$4:$I$4,GEfectos!C43:I43),IF(EFECTOS!$N$9=\"GUATEMALA\",LOOKUP(3,GEfectos!$C$4:$I$4,GEfectos!C43:I43),IF(EFECTOS!$N$9=\"HONDURAS\",LOOKUP(4,GEfectos!$C$4:$I$4,GEfectos!C43:I43),IF(EFECTOS!$N$9=\"NICARAGUA\",LOOKUP(5,GEfectos!$C$4:$I$4,GEfectos!C43:I43),IF(EFECTOS!$N$9=\"REPÚBLICA \nDOMINICANA\",LOOKUP(6,$C$4:$I$4,C43:I43),IF(EFECTOS!$N$9=\"PANAMÁ\",LOOKUP(7,GEfectos!$C$4:$I$4,GEfectos!C43:I43))))))))","v":100.49703899181327},{"$f":"IF(EFECTOS!$N$9=\"COSTA RICA\",LOOKUP(1,GEfectos!$J$4:$P$4,GEfectos!J43:P43),IF(EFECTOS!$N$9=\"EL SALVADOR\",LOOKUP(2,GEfectos!$J$4:$P$4,GEfectos!J43:P43),IF(EFECTOS!$N$9=\"GUATEMALA\",LOOKUP(3,GEfectos!$J$4:$P$4,GEfectos!J43:P43),IF(EFECTOS!$N$9=\"HONDURAS\",LOOKUP(4,GEfectos!$J$4:$P$4,GEfectos!J43:P43),IF(EFECTOS!$N$9=\"NICARAGUA\",LOOKUP(5,GEfectos!$J$4:$P$4,GEfectos!J43:P43),IF(EFECTOS!$N$9=\"REPÚBLICA \nDOMINICANA\",LOOKUP(6,$J$4:$P$4,J43:P43),IF(EFECTOS!$N$9=\"PANAMÁ\",LOOKUP(7,GEfectos!$J$4:$P$4,GEfectos!J43:P43))))))))","v":82.906125899963058},{"$f":"IF(EFECTOS!$N$9=\"COSTA RICA\",LOOKUP(1,GEfectos!$Q$4:$W$4,GEfectos!Q43:W43),IF(EFECTOS!$N$9=\"EL SALVADOR\",LOOKUP(2,GEfectos!$Q$4:$W$4,GEfectos!Q43:W43),IF(EFECTOS!$N$9=\"GUATEMALA\",LOOKUP(3,GEfectos!$Q$4:$W$4,GEfectos!Q43:W43),IF(EFECTOS!$N$9=\"HONDURAS\",LOOKUP(4,GEfectos!$Q$4:$W$4,GEfectos!Q43:W43),IF(EFECTOS!$N$9=\"NICARAGUA\",LOOKUP(5,GEfectos!$Q$4:$W$4,GEfectos!Q43:W43),IF(EFECTOS!$N$9=\"REPÚBLICA \nDOMINICANA\",LOOKUP(6,$Q$4:$W$4,Q43:W43),IF(EFECTOS!$N$9=\"PANAMÁ\",LOOKUP(7,GEfectos!$Q$4:$W$4,GEfectos!Q43:W43))))))))","v":82.496088175012588},100]
[null,{"$f":"'ITCER GLOBAL'!B44","v":"Marzo"},{"$f":"'ITCER GLOBAL'!C44","v":100.39738759800427},{"$f":"'ITCER GLOBAL'!D44","v":102.96163199961792},{"$f":"'ITCER GLOBAL'!E44","v":88.905782149206587},{"$f":"'ITCER GLOBAL'!F44","v":113.6389938564418},{"$f":"'ITCER GLOBAL'!G44","v":102.56980676786357},{"$f":"'ITCER GLOBAL'!H44","v":98.523768354014877},{"$f":"'ITCER GLOBAL'!I44","v":99.296446571613089},{"$f":"'ITCER GLOBAL'!S44","v":83.416994244547851},{"$f":"'ITCER GLOBAL'!T44","v":110.19101245833414},{"$f":"'ITCER GLOBAL'!U44","v":85.4973556283839},{"$f":"'ITCER GLOBAL'!V44","v":92.89542415381824},{"$f":"'ITCER GLOBAL'!W44","v":84.145050169730439},{"$f":"'ITCER GLOBAL'!X44","v":85.911424673779919},{"$f":"'ITCER GLOBAL'!Y44","v":105.27309764823667},{"$f":"'ITCER GLOBAL'!AA44","v":83.086817536083018},{"$f":"'ITCER GLOBAL'!AB44","v":107.02143149667931},{"$f":"'ITCER GLOBAL'!AC44","v":96.16624876534749},{"$f":"'ITCER GLOBAL'!AD44","v":81.746081165740904},{"$f":"'ITCER GLOBAL'!AE44","v":82.036861354499663},{"$f":"'ITCER GLOBAL'!AF44","v":87.198679170577009},{"$f":"'ITCER GLOBAL'!AG44","v":106.01899794300613},null,{"$f":"IF(EFECTOS!$N$9=\"COSTA RICA\",LOOKUP(1,GEfectos!$C$4:$I$4,GEfectos!C44:I44),IF(EFECTOS!$N$9=\"EL SALVADOR\",LOOKUP(2,GEfectos!$C$4:$I$4,GEfectos!C44:I44),IF(EFECTOS!$N$9=\"GUATEMALA\",LOOKUP(3,GEfectos!$C$4:$I$4,GEfectos!C44:I44),IF(EFECTOS!$N$9=\"HONDURAS\",LOOKUP(4,GEfectos!$C$4:$I$4,GEfectos!C44:I44),IF(EFECTOS!$N$9=\"NICARAGUA\",LOOKUP(5,GEfectos!$C$4:$I$4,GEfectos!C44:I44),IF(EFECTOS!$N$9=\"REPÚBLICA \nDOMINICANA\",LOOKUP(6,$C$4:$I$4,C44:I44),IF(EFECTOS!$N$9=\"PANAMÁ\",LOOKUP(7,GEfectos!$C$4:$I$4,GEfectos!C44:I44))))))))","v":100.39738759800427},{"$f":"IF(EFECTOS!$N$9=\"COSTA RICA\",LOOKUP(1,GEfectos!$J$4:$P$4,GEfectos!J44:P44),IF(EFECTOS!$N$9=\"EL SALVADOR\",LOOKUP(2,GEfectos!$J$4:$P$4,GEfectos!J44:P44),IF(EFECTOS!$N$9=\"GUATEMALA\",LOOKUP(3,GEfectos!$J$4:$P$4,GEfectos!J44:P44),IF(EFECTOS!$N$9=\"HONDURAS\",LOOKUP(4,GEfectos!$J$4:$P$4,GEfectos!J44:P44),IF(EFECTOS!$N$9=\"NICARAGUA\",LOOKUP(5,GEfectos!$J$4:$P$4,GEfectos!J44:P44),IF(EFECTOS!$N$9=\"REPÚBLICA \nDOMINICANA\",LOOKUP(6,$J$4:$P$4,J44:P44),IF(EFECTOS!$N$9=\"PANAMÁ\",LOOKUP(7,GEfectos!$J$4:$P$4,GEfectos!J44:P44))))))))","v":83.416994244547851},{"$f":"IF(EFECTOS!$N$9=\"COSTA RICA\",LOOKUP(1,GEfectos!$Q$4:$W$4,GEfectos!Q44:W44),IF(EFECTOS!$N$9=\"EL SALVADOR\",LOOKUP(2,GEfectos!$Q$4:$W$4,GEfectos!Q44:W44),IF(EFECTOS!$N$9=\"GUATEMALA\",LOOKUP(3,GEfectos!$Q$4:$W$4,GEfectos!Q44:W44),IF(EFECTOS!$N$9=\"HONDURAS\",LOOKUP(4,GEfectos!$Q$4:$W$4,GEfectos!Q44:W44),IF(EFECTOS!$N$9=\"NICARAGUA\",LOOKUP(5,GEfectos!$Q$4:$W$4,GEfectos!Q44:W44),IF(EFECTOS!$N$9=\"REPÚBLICA \nDOMINICANA\",LOOKUP(6,$Q$4:$W$4,Q44:W44),IF(EFECTOS!$N$9=\"PANAMÁ\",LOOKUP(7,GEfectos!$Q$4:$W$4,GEfectos!Q44:W44))))))))","v":83.086817536083018},100]
[null,{"$f":"'ITCER GLOBAL'!B45","v":"Abril"},{"$f":"'ITCER GLOBAL'!C45","v":100.82879525129425},{"$f":"'ITCER GLOBAL'!D45","v":102.20952647993329},{"$f":"'ITCER GLOBAL'!E45","v":88.925631163489726},{"$f":"'ITCER GLOBAL'!F45","v":112.0941645279793},{"$f":"'ITCER GLOBAL'!G45","v":101.82195553036296},{"$f":"'ITCER GLOBAL'!H45","v":98.89822949130324},{"$f":"'ITCER GLOBAL'!I45","v":100.25907155711545},{"$f":"'ITCER GLOBAL'!S45","v":84.131534031124914},{"$f":"'ITCER GLOBAL'!T45","v":110.18607421291158},{"$f":"'ITCER GLOBAL'!U45","v":85.744444305374472},{"$f":"'ITCER GLOBAL'!V45","v":92.838817398697088},{"$f":"'ITCER GLOBAL'!W45","v":84.881644423421648},{"$f":"'ITCER GLOBAL'!X45","v":85.949415761541715},{"$f":"'ITCER GLOBAL'!Y45","v":105.74951726326304},{"$f":"'ITCER GLOBAL'!AA45","v":83.439987378055065},{"$f":"'ITCER GLOBAL'!AB45","v":107.80411377264751},{"$f":"'ITCER GLOBAL'!AC45","v":96.422643487042947},{"$f":"'ITCER GLOBAL'!AD45","v":82.822168120557265},{"$f":"'ITCER GLOBAL'!AE45","v":83.362811076742915},{"$f":"'ITCER GLOBAL'!AF45","v":86.906930693941092},{"$f":"'ITCER GLOBAL'!AG45","v":105.47625827855369},null,{"$f":"IF(EFECTOS!$N$9=\"COSTA RICA\",LOOKUP(1,GEfectos!$C$4:$I$4,GEfectos!C45:I45),IF(EFECTOS!$N$9=\"EL SALVADOR\",LOOKUP(2,GEfectos!$C$4:$I$4,GEfectos!C45:I45),IF(EFECTOS!$N$9=\"GUATEMALA\",LOOKUP(3,GEfectos!$C$4:$I$4,GEfectos!C45:I45),IF(EFECTOS!$N$9=\"HONDURAS\",LOOKUP(4,GEfectos!$C$4:$I$4,GEfectos!C45:I45),IF(EFECTOS!$N$9=\"NICARAGUA\",LOOKUP(5,GEfectos!$C$4:$I$4,GEfectos!C45:I45),IF(EFECTOS!$N$9=\"REPÚBLICA \nDOMINICANA\",LOOKUP(6,$C$4:$I$4,C45:I45),IF(EFECTOS!$N$9=\"PANAMÁ\",LOOKUP(7,GEfectos!$C$4:$I$4,GEfectos!C45:I45))))))))","v":100.82879525129425},{"$f":"IF(EFECTOS!$N$9=\"COSTA RICA\",LOOKUP(1,GEfectos!$J$4:$P$4,GEfectos!J45:P45),IF(EFECTOS!$N$9=\"EL SALVADOR\",LOOKUP(2,GEfectos!$J$4:$P$4,GEfectos!J45:P45),IF(EFECTOS!$N$9=\"GUATEMALA\",LOOKUP(3,GEfectos!$J$4:$P$4,GEfectos!J45:P45),IF(EFECTOS!$N$9=\"HONDURAS\",LOOKUP(4,GEfectos!$J$4:$P$4,GEfectos!J45:P45),IF(EFECTOS!$N$9=\"NICARAGUA\",LOOKUP(5,GEfectos!$J$4:$P$4,GEfectos!J45:P45),IF(EFECTOS!$N$9=\"REPÚBLICA \nDOMINICANA\",LOOKUP(6,$J$4:$P$4,J45:P45),IF(EFECTOS!$N$9=\"PANAMÁ\",LOOKUP(7,GEfectos!$J$4:$P$4,GEfectos!J45:P45))))))))","v":84.131534031124914},{"$f":"IF(EFECTOS!$N$9=\"COSTA RICA\",LOOKUP(1,GEfectos!$Q$4:$W$4,GEfectos!Q45:W45),IF(EFECTOS!$N$9=\"EL SALVADOR\",LOOKUP(2,GEfectos!$Q$4:$W$4,GEfectos!Q45:W45),IF(EFECTOS!$N$9=\"GUATEMALA\",LOOKUP(3,GEfectos!$Q$4:$W$4,GEfectos!Q45:W45),IF(EFECTOS!$N$9=\"HONDURAS\",LOOKUP(4,GEfectos!$Q$4:$W$4,GEfectos!Q45:W45),IF(EFECTOS!$N$9=\"NICARAGUA\",LOOKUP(5,GEfectos!$Q$4:$W$4,GEfectos!Q45:W45),IF(EFECTOS!$N$9=\"REPÚBLICA \nDOMINICANA\",LOOKUP(6,$Q$4:$W$4,Q45:W45),IF(EFECTOS!$N$9=\"PANAMÁ\",LOOKUP(7,GEfectos!$Q$4:$W$4,GEfectos!Q45:W45))))))))","v":83.439987378055065},100]
[null,{"$f":"'ITCER GLOBAL'!B46","v":"Mayo"},{"$f":"'ITCER GLOBAL'!C46","v":101.20850348234798},{"$f":"'ITCER GLOBAL'!D46","v":102.06442454398314},{"$f":"'ITCER GLOBAL'!E46","v":88.627752078022056},{"$f":"'ITCER GLOBAL'!F46","v":111.66267883041317},{"$f":"'ITCER GLOBAL'!G46","v":101.07071046634776},{"$f":"'ITCER GLOBAL'!H46","v":98.637599016884735},{"$f":"'ITCER GLOBAL'!I46","v":100.19770426221569},{"$f":"'ITCER GLOBAL'!S46","v":84.829781204313718},{"$f":"'ITCER GLOBAL'!T46","v":110.14888742476217},{"$f":"'ITCER GLOBAL'!U46","v":85.595127137539293},{"$f":"'ITCER GLOBAL'!V46","v":93.258783681496865},{"$f":"'ITCER GLOBAL'!W46","v":85.639226039210541},{"$f":"'ITCER GLOBAL'!X46","v":85.929667719291345},{"$f":"'ITCER GLOBAL'!Y46","v":105.59072230900827},{"$f":"'ITCER GLOBAL'!AA46","v":83.816851633528088},{"$f":"'ITCER GLOBAL'!AB46","v":107.92094103004044},{"$f":"'ITCER GLOBAL'!AC46","v":96.578244546005152},{"$f":"'ITCER GLOBAL'!AD46","v":83.518311273127267},{"$f":"'ITCER GLOBAL'!AE46","v":84.731991735355166},{"$f":"'ITCER GLOBAL'!AF46","v":87.116544376330523},{"$f":"'ITCER GLOBAL'!AG46","v":105.38237685833514},null,{"$f":"IF(EFECTOS!$N$9=\"COSTA RICA\",LOOKUP(1,GEfectos!$C$4:$I$4,GEfectos!C46:I46),IF(EFECTOS!$N$9=\"EL SALVADOR\",LOOKUP(2,GEfectos!$C$4:$I$4,GEfectos!C46:I46),IF(EFECTOS!$N$9=\"GUATEMALA\",LOOKUP(3,GEfectos!$C$4:$I$4,GEfectos!C46:I46),IF(EFECTOS!$N$9=\"HONDURAS\",LOOKUP(4,GEfectos!$C$4:$I$4,GEfectos!C46:I46),IF(EFECTOS!$N$9=\"NICARAGUA\",LOOKUP(5,GEfectos!$C$4:$I$4,GEfectos!C46:I46),IF(EFECTOS!$N$9=\"REPÚBLICA \nDOMINICANA\",LOOKUP(6,$C$4:$I$4,C46:I46),IF(EFECTOS!$N$9=\"PANAMÁ\",LOOKUP(7,GEfectos!$C$4:$I$4,GEfectos!C46:I46))))))))","v":101.20850348234798},{"$f":"IF(EFECTOS!$N$9=\"COSTA RICA\",LOOKUP(1,GEfectos!$J$4:$P$4,GEfectos!J46:P46),IF(EFECTOS!$N$9=\"EL SALVADOR\",LOOKUP(2,GEfectos!$J$4:$P$4,GEfectos!J46:P46),IF(EFECTOS!$N$9=\"GUATEMALA\",LOOKUP(3,GEfectos!$J$4:$P$4,GEfectos!J46:P46),IF(EFECTOS!$N$9=\"HONDURAS\",LOOKUP(4,GEfectos!$J$4:$P$4,GEfectos!J46:P46),IF(EFECTOS!$N$9=\"NICARAGUA\",LOOKUP(5,GEfectos!$J$4:$P$4,GEfectos!J46:P46),IF(EFECTOS!$N$9=\"REPÚBLICA \nDOMINICANA\",LOOKUP(6,$J$4:$P$4,J46:P46),IF(EFECTOS!$N$9=\"PANAMÁ\",LOOKUP(7,GEfectos!$J$4:$P$4,GEfectos!J46:P46))))))))","v":84.829781204313718},{"$f":"IF(EFECTOS!$N$9=\"COSTA RICA\",LOOKUP(1,GEfectos!$Q$4:$W$4,GEfectos!Q46:W46),IF(EFECTOS!$N$9=\"EL SALVADOR\",LOOKUP(2,GEfectos!$Q$4:$W$4,GEfectos!Q46:W46),IF(EFECTOS!$N$9=\"GUATEMALA\",LOOKUP(3,GEfectos!$Q$4:$W$4,GEfectos!Q46:W46),IF(EFECTOS!$N$9=\"HONDURAS\",LOOKUP(4,GEfectos!$Q$4:$W$4,GEfectos!Q46:W46),IF(EFECTOS!$N$9=\"NICARAGUA\",LOOKUP(5,GEfectos!$Q$4:$W$4,GEfectos!Q46:W46),IF(EFECTOS!$N$9=\"REPÚBLICA \nDOMINICANA\",LOOKUP(6,$Q$4:$W$4,Q46:W46),IF(EFECTOS!$N$9=\"PANAMÁ\",LOOKUP(7,GEfectos!$Q$4:$W$4,GEfectos!Q46:W46))))))))","v":83.816851633528088},100]
[null,{"$f":"'ITCER GLOBAL'!B47","v":"Junio"},{"$f":"'ITCER GLOBAL'!C47","v":101.02536873220737},{"$f":"'ITCER GLOBAL'!D47","v":101.64601126205713},{"$f":"'ITCER GLOBAL'!E47","v":88.60731238835821},{"$f":"'ITCER GLOBAL'!F47","v":109.81717942384745},{"$f":"'ITCER GLOBAL'!G47","v":99.791679464930795},{"$f":"'ITCER GLOBAL'!H47","v":98.034399321341013},{"$f":"'ITCER GLOBAL'!I47","v":99.446350243957511},{"$f":"'ITCER GLOBAL'!S47","v":85.185626419927644},{"$f":"'ITCER GLOBAL'!T47","v":109.43652687568492},{"$f":"'ITCER GLOBAL'!U47","v":85.460384873391376},{"$f":"'ITCER GLOBAL'!V47","v":93.126884236160606},{"$f":"'ITCER GLOBAL'!W47","v":85.937050805644233},{"$f":"'ITCER GLOBAL'!X47","v":85.738078416561052},{"$f":"'ITCER GLOBAL'!Y47","v":104.92677132999648},{"$f":"'ITCER GLOBAL'!AA47","v":84.321024994952637},{"$f":"'ITCER GLOBAL'!AB47","v":107.66435939482444},{"$f":"'ITCER GLOBAL'!AC47","v":96.448456193802485},{"$f":"'ITCER GLOBAL'!AD47","v":84.801744795074896},{"$f":"'ITCER GLOBAL'!AE47","v":86.116449053094243},{"$f":"'ITCER GLOBAL'!AF47","v":87.457136484842849},{"$f":"'ITCER GLOBAL'!AG47","v":105.51093234954791},null,{"$f":"IF(EFECTOS!$N$9=\"COSTA RICA\",LOOKUP(1,GEfectos!$C$4:$I$4,GEfectos!C47:I47),IF(EFECTOS!$N$9=\"EL SALVADOR\",LOOKUP(2,GEfectos!$C$4:$I$4,GEfectos!C47:I47),IF(EFECTOS!$N$9=\"GUATEMALA\",LOOKUP(3,GEfectos!$C$4:$I$4,GEfectos!C47:I47),IF(EFECTOS!$N$9=\"HONDURAS\",LOOKUP(4,GEfectos!$C$4:$I$4,GEfectos!C47:I47),IF(EFECTOS!$N$9=\"NICARAGUA\",LOOKUP(5,GEfectos!$C$4:$I$4,GEfectos!C47:I47),IF(EFECTOS!$N$9=\"REPÚBLICA \nDOMINICANA\",LOOKUP(6,$C$4:$I$4,C47:I47),IF(EFECTOS!$N$9=\"PANAMÁ\",LOOKUP(7,GEfectos!$C$4:$I$4,GEfectos!C47:I47))))))))","v":101.02536873220737},{"$f":"IF(EFECTOS!$N$9=\"COSTA RICA\",LOOKUP(1,GEfectos!$J$4:$P$4,GEfectos!J47:P47),IF(EFECTOS!$N$9=\"EL SALVADOR\",LOOKUP(2,GEfectos!$J$4:$P$4,GEfectos!J47:P47),IF(EFECTOS!$N$9=\"GUATEMALA\",LOOKUP(3,GEfectos!$J$4:$P$4,GEfectos!J47:P47),IF(EFECTOS!$N$9=\"HONDURAS\",LOOKUP(4,GEfectos!$J$4:$P$4,GEfectos!J47:P47),IF(EFECTOS!$N$9=\"NICARAGUA\",LOOKUP(5,GEfectos!$J$4:$P$4,GEfectos!J47:P47),IF(EFECTOS!$N$9=\"REPÚBLICA \nDOMINICANA\",LOOKUP(6,$J$4:$P$4,J47:P47),IF(EFECTOS!$N$9=\"PANAMÁ\",LOOKUP(7,GEfectos!$J$4:$P$4,GEfectos!J47:P47))))))))","v":85.185626419927644},{"$f":"IF(EFECTOS!$N$9=\"COSTA RICA\",LOOKUP(1,GEfectos!$Q$4:$W$4,GEfectos!Q47:W47),IF(EFECTOS!$N$9=\"EL SALVADOR\",LOOKUP(2,GEfectos!$Q$4:$W$4,GEfectos!Q47:W47),IF(EFECTOS!$N$9=\"GUATEMALA\",LOOKUP(3,GEfectos!$Q$4:$W$4,GEfectos!Q47:W47),IF(EFECTOS!$N$9=\"HONDURAS\",LOOKUP(4,GEfectos!$Q$4:$W$4,GEfectos!Q47:W47),IF(EFECTOS!$N$9=\"NICARAGUA\",LOOKUP(5,GEfectos!$Q$4:$W$4,GEfectos!Q47:W47),IF(EFECTOS!$N$9=\"REPÚBLICA \nDOMINICANA\",LOOKUP(6,$Q$4:$W$4,Q47:W47),IF(EFECTOS!$N$9=\"PANAMÁ\",LOOKUP(7,GEfectos!$Q$4:$W$4,GEfectos!Q47:W47))))))))","v":84.321024994952637},100]
[null,{"$f":"'ITCER GLOBAL'!B48","v":"Julio"},{"$f":"'ITCER GLOBAL'!C48","v":100.29213966455066},{"$f":"'ITCER GLOBAL'!D48","v":101.29522675102201},{"$f":"'ITCER GLOBAL'!E48","v":89.028256945337958},{"$f":"'ITCER GLOBAL'!F48","v":108.03975674577025},{"$f":"'ITCER GLOBAL'!G48","v":101.78219795460264},{"$f":"'ITCER GLOBAL'!H48","v":105.91107528684707},{"$f":"'ITCER GLOBAL'!I48","v":99.938066269716359},{"$f":"'ITCER GLOBAL'!S48","v":85.897980606833642},{"$f":"'ITCER GLOBAL'!T48","v":109.20381775099956},{"$f":"'ITCER GLOBAL'!U48","v":85.8885099587133},{"$f":"'ITCER GLOBAL'!V48","v":93.27598528257495},{"$f":"'ITCER GLOBAL'!W48","v":86.56193249870779},{"$f":"'ITCER GLOBAL'!X48","v":93.099989010779566},{"$f":"'ITCER GLOBAL'!Y48","v":105.38913600340459},{"$f":"'ITCER GLOBAL'!AA48","v":85.64776950032028},{"$f":"'ITCER GLOBAL'!AB48","v":107.80746660394614},{"$f":"'ITCER GLOBAL'!AC48","v":96.473314097846},{"$f":"'ITCER GLOBAL'!AD48","v":86.334871617735942},{"$f":"'ITCER GLOBAL'!AE48","v":85.046240146353028},{"$f":"'ITCER GLOBAL'!AF48","v":87.903922001197472},{"$f":"'ITCER GLOBAL'!AG48","v":105.45444787672467},null,{"$f":"IF(EFECTOS!$N$9=\"COSTA RICA\",LOOKUP(1,GEfectos!$C$4:$I$4,GEfectos!C48:I48),IF(EFECTOS!$N$9=\"EL SALVADOR\",LOOKUP(2,GEfectos!$C$4:$I$4,GEfectos!C48:I48),IF(EFECTOS!$N$9=\"GUATEMALA\",LOOKUP(3,GEfectos!$C$4:$I$4,GEfectos!C48:I48),IF(EFECTOS!$N$9=\"HONDURAS\",LOOKUP(4,GEfectos!$C$4:$I$4,GEfectos!C48:I48),IF(EFECTOS!$N$9=\"NICARAGUA\",LOOKUP(5,GEfectos!$C$4:$I$4,GEfectos!C48:I48),IF(EFECTOS!$N$9=\"REPÚBLICA \nDOMINICANA\",LOOKUP(6,$C$4:$I$4,C48:I48),IF(EFECTOS!$N$9=\"PANAMÁ\",LOOKUP(7,GEfectos!$C$4:$I$4,GEfectos!C48:I48))))))))","v":100.29213966455066},{"$f":"IF(EFECTOS!$N$9=\"COSTA RICA\",LOOKUP(1,GEfectos!$J$4:$P$4,GEfectos!J48:P48),IF(EFECTOS!$N$9=\"EL SALVADOR\",LOOKUP(2,GEfectos!$J$4:$P$4,GEfectos!J48:P48),IF(EFECTOS!$N$9=\"GUATEMALA\",LOOKUP(3,GEfectos!$J$4:$P$4,GEfectos!J48:P48),IF(EFECTOS!$N$9=\"HONDURAS\",LOOKUP(4,GEfectos!$J$4:$P$4,GEfectos!J48:P48),IF(EFECTOS!$N$9=\"NICARAGUA\",LOOKUP(5,GEfectos!$J$4:$P$4,GEfectos!J48:P48),IF(EFECTOS!$N$9=\"REPÚBLICA \nDOMINICANA\",LOOKUP(6,$J$4:$P$4,J48:P48),IF(EFECTOS!$N$9=\"PANAMÁ\",LOOKUP(7,GEfectos!$J$4:$P$4,GEfectos!J48:P48))))))))","v":85.897980606833642},{"$f":"IF(EFECTOS!$N$9=\"COSTA RICA\",LOOKUP(1,GEfectos!$Q$4:$W$4,GEfectos!Q48:W48),IF(EFECTOS!$N$9=\"EL SALVADOR\",LOOKUP(2,GEfectos!$Q$4:$W$4,GEfectos!Q48:W48),IF(EFECTOS!$N$9=\"GUATEMALA\",LOOKUP(3,GEfectos!$Q$4:$W$4,GEfectos!Q48:W48),IF(EFECTOS!$N$9=\"HONDURAS\",LOOKUP(4,GEfectos!$Q$4:$W$4,GEfectos!Q48:W48),IF(EFECTOS!$N$9=\"NICARAGUA\",LOOKUP(5,GEfectos!$Q$4:$W$4,GEfectos!Q48:W48),IF(EFECTOS!$N$9=\"REPÚBLICA \nDOMINICANA\",LOOKUP(6,$Q$4:$W$4,Q48:W48),IF(EFECTOS!$N$9=\"PANAMÁ\",LOOKUP(7,GEfectos!$Q$4:$W$4,GEfectos!Q48:W48))))))))","v":85.64776950032028},100]
[null,{"$f":"'ITCER GLOBAL'!B49","v":"Agosto"},{"$f":"'ITCER GLOBAL'!C49","v":98.870946330057194},{"$f":"'ITCER GLOBAL'!D49","v":102.14219384602066},{"$f":"'ITCER GLOBAL'!E49","v":89.175499811443672},{"$f":"'ITCER GLOBAL'!F49","v":107.90392518233355},{"$f":"'ITCER GLOBAL'!G49","v":102.94204151558631},{"$f":"'ITCER GLOBAL'!H49","v":106.32224976158285},{"$f":"'ITCER GLOBAL'!I49","v":99.457366231267002},{"$f":"'ITCER GLOBAL'!S49","v":86.316694794342254},{"$f":"'ITCER GLOBAL'!T49","v":108.49750944962977},{"$f":"'ITCER GLOBAL'!U49","v":86.046196389752566},{"$f":"'ITCER GLOBAL'!V49","v":93.212728451105477},{"$f":"'ITCER GLOBAL'!W49","v":86.930647706473735},{"$f":"'ITCER GLOBAL'!X49","v":93.539612952878244},{"$f":"'ITCER GLOBAL'!Y49","v":104.69035750913366},{"$f":"'ITCER GLOBAL'!AA49","v":87.302385582711466},{"$f":"'ITCER GLOBAL'!AB49","v":106.2220277089307},{"$f":"'ITCER GLOBAL'!AC49","v":96.490848463638741},{"$f":"'ITCER GLOBAL'!AD49","v":86.384928345837992},{"$f":"'ITCER GLOBAL'!AE49","v":84.446205288547432},{"$f":"'ITCER GLOBAL'!AF49","v":87.977458304947078},{"$f":"'ITCER GLOBAL'!AG49","v":105.26154218250508},null,{"$f":"IF(EFECTOS!$N$9=\"COSTA RICA\",LOOKUP(1,GEfectos!$C$4:$I$4,GEfectos!C49:I49),IF(EFECTOS!$N$9=\"EL SALVADOR\",LOOKUP(2,GEfectos!$C$4:$I$4,GEfectos!C49:I49),IF(EFECTOS!$N$9=\"GUATEMALA\",LOOKUP(3,GEfectos!$C$4:$I$4,GEfectos!C49:I49),IF(EFECTOS!$N$9=\"HONDURAS\",LOOKUP(4,GEfectos!$C$4:$I$4,GEfectos!C49:I49),IF(EFECTOS!$N$9=\"NICARAGUA\",LOOKUP(5,GEfectos!$C$4:$I$4,GEfectos!C49:I49),IF(EFECTOS!$N$9=\"REPÚBLICA \nDOMINICANA\",LOOKUP(6,$C$4:$I$4,C49:I49),IF(EFECTOS!$N$9=\"PANAMÁ\",LOOKUP(7,GEfectos!$C$4:$I$4,GEfectos!C49:I49))))))))","v":98.870946330057194},{"$f":"IF(EFECTOS!$N$9=\"COSTA RICA\",LOOKUP(1,GEfectos!$J$4:$P$4,GEfectos!J49:P49),IF(EFECTOS!$N$9=\"EL SALVADOR\",LOOKUP(2,GEfectos!$J$4:$P$4,GEfectos!J49:P49),IF(EFECTOS!$N$9=\"GUATEMALA\",LOOKUP(3,GEfectos!$J$4:$P$4,GEfectos!J49:P49),IF(EFECTOS!$N$9=\"HONDURAS\",LOOKUP(4,GEfectos!$J$4:$P$4,GEfectos!J49:P49),IF(EFECTOS!$N$9=\"NICARAGUA\",LOOKUP(5,GEfectos!$J$4:$P$4,GEfectos!J49:P49),IF(EFECTOS!$N$9=\"REPÚBLICA \nDOMINICANA\",LOOKUP(6,$J$4:$P$4,J49:P49),IF(EFECTOS!$N$9=\"PANAMÁ\",LOOKUP(7,GEfectos!$J$4:$P$4,GEfectos!J49:P49))))))))","v":86.316694794342254},{"$f":"IF(EFECTOS!$N$9=\"COSTA RICA\",LOOKUP(1,GEfectos!$Q$4:$W$4,GEfectos!Q49:W49),IF(EFECTOS!$N$9=\"EL SALVADOR\",LOOKUP(2,GEfectos!$Q$4:$W$4,GEfectos!Q49:W49),IF(EFECTOS!$N$9=\"GUATEMALA\",LOOKUP(3,GEfectos!$Q$4:$W$4,GEfectos!Q49:W49),IF(EFECTOS!$N$9=\"HONDURAS\",LOOKUP(4,GEfectos!$Q$4:$W$4,GEfectos!Q49:W49),IF(EFECTOS!$N$9=\"NICARAGUA\",LOOKUP(5,GEfectos!$Q$4:$W$4,GEfectos!Q49:W49),IF(EFECTOS!$N$9=\"REPÚBLICA \nDOMINICANA\",LOOKUP(6,$Q$4:$W$4,Q49:W49),IF(EFECTOS!$N$9=\"PANAMÁ\",LOOKUP(7,GEfectos!$Q$4:$W$4,GEfectos!Q49:W49))))))))","v":87.302385582711466},100]
[null,{"$f":"'ITCER GLOBAL'!B50","v":"Septiembre"},{"$f":"'ITCER GLOBAL'!C50","v":100.5842442001169},{"$f":"'ITCER GLOBAL'!D50","v":103.319236121617},{"$f":"'ITCER GLOBAL'!E50","v":90.472890040392315},{"$f":"'ITCER GLOBAL'!F50","v":108.78878035567321},{"$f":"'ITCER GLOBAL'!G50","v":104.03003930727189},{"$f":"'ITCER GLOBAL'!H50","v":106.00463606104751},{"$f":"'ITCER GLOBAL'!I50","v":99.176225701901345},{"$f":"'ITCER GLOBAL'!S50","v":87.306626392442041},{"$f":"'ITCER GLOBAL'!T50","v":108.41975212235342},{"$f":"'ITCER GLOBAL'!U50","v":86.983004564936735},{"$f":"'ITCER GLOBAL'!V50","v":94.181580422817618},{"$f":"'ITCER GLOBAL'!W50","v":88.001465652723624},{"$f":"'ITCER GLOBAL'!X50","v":93.689967311534758},{"$f":"'ITCER GLOBAL'!Y50","v":104.7426211306926},{"$f":"'ITCER GLOBAL'!AA50","v":86.799505316897907},{"$f":"'ITCER GLOBAL'!AB50","v":104.93665670808154},{"$f":"'ITCER GLOBAL'!AC50","v":96.142617447173961},{"$f":"'ITCER GLOBAL'!AD50","v":86.572880139754375},{"$f":"'ITCER GLOBAL'!AE50","v":84.592360282394097},{"$f":"'ITCER GLOBAL'!AF50","v":88.382896062752579},{"$f":"'ITCER GLOBAL'!AG50","v":105.61263083909085},null,{"$f":"IF(EFECTOS!$N$9=\"COSTA RICA\",LOOKUP(1,GEfectos!$C$4:$I$4,GEfectos!C50:I50),IF(EFECTOS!$N$9=\"EL SALVADOR\",LOOKUP(2,GEfectos!$C$4:$I$4,GEfectos!C50:I50),IF(EFECTOS!$N$9=\"GUATEMALA\",LOOKUP(3,GEfectos!$C$4:$I$4,GEfectos!C50:I50),IF(EFECTOS!$N$9=\"HONDURAS\",LOOKUP(4,GEfectos!$C$4:$I$4,GEfectos!C50:I50),IF(EFECTOS!$N$9=\"NICARAGUA\",LOOKUP(5,GEfectos!$C$4:$I$4,GEfectos!C50:I50),IF(EFECTOS!$N$9=\"REPÚBLICA \nDOMINICANA\",LOOKUP(6,$C$4:$I$4,C50:I50),IF(EFECTOS!$N$9=\"PANAMÁ\",LOOKUP(7,GEfectos!$C$4:$I$4,GEfectos!C50:I50))))))))","v":100.5842442001169},{"$f":"IF(EFECTOS!$N$9=\"COSTA RICA\",LOOKUP(1,GEfectos!$J$4:$P$4,GEfectos!J50:P50),IF(EFECTOS!$N$9=\"EL SALVADOR\",LOOKUP(2,GEfectos!$J$4:$P$4,GEfectos!J50:P50),IF(EFECTOS!$N$9=\"GUATEMALA\",LOOKUP(3,GEfectos!$J$4:$P$4,GEfectos!J50:P50),IF(EFECTOS!$N$9=\"HONDURAS\",LOOKUP(4,GEfectos!$J$4:$P$4,GEfectos!J50:P50),IF(EFECTOS!$N$9=\"NICARAGUA\",LOOKUP(5,GEfectos!$J$4:$P$4,GEfectos!J50:P50),IF(EFECTOS!$N$9=\"REPÚBLICA \nDOMINICANA\",LOOKUP(6,$J$4:$P$4,J50:P50),IF(EFECTOS!$N$9=\"PANAMÁ\",LOOKUP(7,GEfectos!$J$4:$P$4,GEfectos!J50:P50))))))))","v":87.306626392442041},{"$f":"IF(EFECTOS!$N$9=\"COSTA RICA\",LOOKUP(1,GEfectos!$Q$4:$W$4,GEfectos!Q50:W50),IF(EFECTOS!$N$9=\"EL SALVADOR\",LOOKUP(2,GEfectos!$Q$4:$W$4,GEfectos!Q50:W50),IF(EFECTOS!$N$9=\"GUATEMALA\",LOOKUP(3,GEfectos!$Q$4:$W$4,GEfectos!Q50:W50),IF(EFECTOS!$N$9=\"HONDURAS\",LOOKUP(4,GEfectos!$Q$4:$W$4,GEfectos!Q50:W50),IF(EFECTOS!$N$9=\"NICARAGUA\",LOOKUP(5,GEfectos!$Q$4:$W$4,GEfectos!Q50:W50),IF(EFECTOS!$N$9=\"REPÚBLICA \nDOMINICANA\",LOOKUP(6,$Q$4:$W$4,Q50:W50),IF(EFECTOS!$N$9=\"PANAMÁ\",LOOKUP(7,GEfectos!$Q$4:$W$4,GEfectos!Q50:W50))))))))","v":86.799505316897907},100]
[null,{"$f":"'ITCER GLOBAL'!B51","v":"Octubre"},{"$f":"'ITCER GLOBAL'!C51","v":102.22614367214197},{"$f":"'ITCER GLOBAL'!D51","v":104.142652654347},{"$f":"'ITCER GLOBAL'!E51","v":92.53111384699983},{"$f":"'ITCER GLOBAL'!F51","v":109.80704816078294},{"$f":"'ITCER GLOBAL'!G51","v":103.61414174291208},{"$f":"'ITCER GLOBAL'!H51","v":104.87544460561098},{"$f":"'ITCER GLOBAL'!I51","v":100.49901740225384},{"$f":"'ITCER GLOBAL'!S51","v":88.735388782663932},{"$f":"'ITCER GLOBAL'!T51","v":108.9796539955484},{"$f":"'ITCER GLOBAL'!U51","v":88.640160654558386},{"$f":"'ITCER GLOBAL'!V51","v":95.280013877010845},{"$f":"'ITCER GLOBAL'!W51","v":89.479301063439848},{"$f":"'ITCER GLOBAL'!X51","v":94.470729035949546},{"$f":"'ITCER GLOBAL'!Y51","v":105.9812504330024},{"$f":"'ITCER GLOBAL'!AA51","v":86.803028653075899},{"$f":"'ITCER GLOBAL'!AB51","v":104.64459202633869},{"$f":"'ITCER GLOBAL'!AC51","v":95.794978542163506},{"$f":"'ITCER GLOBAL'!AD51","v":86.770399052617137},{"$f":"'ITCER GLOBAL'!AE51","v":86.35819354220618},{"$f":"'ITCER GLOBAL'!AF51","v":90.078978345418363},{"$f":"'ITCER GLOBAL'!AG51","v":105.45501157370083},null,{"$f":"IF(EFECTOS!$N$9=\"COSTA RICA\",LOOKUP(1,GEfectos!$C$4:$I$4,GEfectos!C51:I51),IF(EFECTOS!$N$9=\"EL SALVADOR\",LOOKUP(2,GEfectos!$C$4:$I$4,GEfectos!C51:I51),IF(EFECTOS!$N$9=\"GUATEMALA\",LOOKUP(3,GEfectos!$C$4:$I$4,GEfectos!C51:I51),IF(EFECTOS!$N$9=\"HONDURAS\",LOOKUP(4,GEfectos!$C$4:$I$4,GEfectos!C51:I51),IF(EFECTOS!$N$9=\"NICARAGUA\",LOOKUP(5,GEfectos!$C$4:$I$4,GEfectos!C51:I51),IF(EFECTOS!$N$9=\"REPÚBLICA \nDOMINICANA\",LOOKUP(6,$C$4:$I$4,C51:I51),IF(EFECTOS!$N$9=\"PANAMÁ\",LOOKUP(7,GEfectos!$C$4:$I$4,GEfectos!C51:I51))))))))","v":102.22614367214197},{"$f":"IF(EFECTOS!$N$9=\"COSTA RICA\",LOOKUP(1,GEfectos!$J$4:$P$4,GEfectos!J51:P51),IF(EFECTOS!$N$9=\"EL SALVADOR\",LOOKUP(2,GEfectos!$J$4:$P$4,GEfectos!J51:P51),IF(EFECTOS!$N$9=\"GUATEMALA\",LOOKUP(3,GEfectos!$J$4:$P$4,GEfectos!J51:P51),IF(EFECTOS!$N$9=\"HONDURAS\",LOOKUP(4,GEfectos!$J$4:$P$4,GEfectos!J51:P51),IF(EFECTOS!$N$9=\"NICARAGUA\",LOOKUP(5,GEfectos!$J$4:$P$4,GEfectos!J51:P51),IF(EFECTOS!$N$9=\"REPÚBLICA \nDOMINICANA\",LOOKUP(6,$J$4:$P$4,J51:P51),IF(EFECTOS!$N$9=\"PANAMÁ\",LOOKUP(7,GEfectos!$J$4:$P$4,GEfectos!J51:P51))))))))","v":88.735388782663932},{"$f":"IF(EFECTOS!$N$9=\"COSTA RICA\",LOOKUP(1,GEfectos!$Q$4:$W$4,GEfectos!Q51:W51),IF(EFECTOS!$N$9=\"EL SALVADOR\",LOOKUP(2,GEfectos!$Q$4:$W$4,GEfectos!Q51:W51),IF(EFECTOS!$N$9=\"GUATEMALA\",LOOKUP(3,GEfectos!$Q$4:$W$4,GEfectos!Q51:W51),IF(EFECTOS!$N$9=\"HONDURAS\",LOOKUP(4,GEfectos!$Q$4:$W$4,GEfectos!Q51:W51),IF(EFECTOS!$N$9=\"NICARAGUA\",LOOKUP(5,GEfectos!$Q$4:$W$4,GEfectos!Q51:W51),IF(EFECTOS!$N$9=\"REPÚBLICA \nDOMINICANA\",LOOKUP(6,$Q$4:$W$4,Q51:W51),IF(EFECTOS!$N$9=\"PANAMÁ\",LOOKUP(7,GEfectos!$Q$4:$W$4,GEfectos!Q51:W51))))))))","v":86.803028653075899},100]
[null,{"$f":"'ITCER GLOBAL'!B52","v":"Noviembre"},{"$f":"'ITCER GLOBAL'!C52","v":102.02812625310038},{"$f":"'ITCER GLOBAL'!D52","v":102.42391029471951},{"$f":"'ITCER GLOBAL'!E52","v":90.489735741005205},{"$f":"'ITCER GLOBAL'!F52","v":109.61324286756819},{"$f":"'ITCER GLOBAL'!G52","v":99.029492895566136},{"$f":"'ITCER GLOBAL'!H52","v":103.39044791402347},{"$f":"'ITCER GLOBAL'!I52","v":100.89580142869943},{"$f":"'ITCER GLOBAL'!S52","v":89.392982536346295},{"$f":"'ITCER GLOBAL'!T52","v":108.66510652029442},{"$f":"'ITCER GLOBAL'!U52","v":88.51420382735455},{"$f":"'ITCER GLOBAL'!V52","v":95.720657876684271},{"$f":"'ITCER GLOBAL'!W52","v":90.062974150126578},{"$f":"'ITCER GLOBAL'!X52","v":94.775662236220185},{"$f":"'ITCER GLOBAL'!Y52","v":106.04277696388115},{"$f":"'ITCER GLOBAL'!AA52","v":87.616019052030623},{"$f":"'ITCER GLOBAL'!AB52","v":106.09349536413536},{"$f":"'ITCER GLOBAL'!AC52","v":97.816844200645136},{"$f":"'ITCER GLOBAL'!AD52","v":87.325815177579798},{"$f":"'ITCER GLOBAL'!AE52","v":90.945607734359086},{"$f":"'ITCER GLOBAL'!AF52","v":91.667716068928257},{"$f":"'ITCER GLOBAL'!AG52","v":105.10127821207602},null,{"$f":"IF(EFECTOS!$N$9=\"COSTA RICA\",LOOKUP(1,GEfectos!$C$4:$I$4,GEfectos!C52:I52),IF(EFECTOS!$N$9=\"EL SALVADOR\",LOOKUP(2,GEfectos!$C$4:$I$4,GEfectos!C52:I52),IF(EFECTOS!$N$9=\"GUATEMALA\",LOOKUP(3,GEfectos!$C$4:$I$4,GEfectos!C52:I52),IF(EFECTOS!$N$9=\"HONDURAS\",LOOKUP(4,GEfectos!$C$4:$I$4,GEfectos!C52:I52),IF(EFECTOS!$N$9=\"NICARAGUA\",LOOKUP(5,GEfectos!$C$4:$I$4,GEfectos!C52:I52),IF(EFECTOS!$N$9=\"REPÚBLICA \nDOMINICANA\",LOOKUP(6,$C$4:$I$4,C52:I52),IF(EFECTOS!$N$9=\"PANAMÁ\",LOOKUP(7,GEfectos!$C$4:$I$4,GEfectos!C52:I52))))))))","v":102.02812625310038},{"$f":"IF(EFECTOS!$N$9=\"COSTA RICA\",LOOKUP(1,GEfectos!$J$4:$P$4,GEfectos!J52:P52),IF(EFECTOS!$N$9=\"EL SALVADOR\",LOOKUP(2,GEfectos!$J$4:$P$4,GEfectos!J52:P52),IF(EFECTOS!$N$9=\"GUATEMALA\",LOOKUP(3,GEfectos!$J$4:$P$4,GEfectos!J52:P52),IF(EFECTOS!$N$9=\"HONDURAS\",LOOKUP(4,GEfectos!$J$4:$P$4,GEfectos!J52:P52),IF(EFECTOS!$N$9=\"NICARAGUA\",LOOKUP(5,GEfectos!$J$4:$P$4,GEfectos!J52:P52),IF(EFECTOS!$N$9=\"REPÚBLICA \nDOMINICANA\",LOOKUP(6,$J$4:$P$4,J52:P52),IF(EFECTOS!$N$9=\"PANAMÁ\",LOOKUP(7,GEfectos!$J$4:$P$4,GEfectos!J52:P52))))))))","v":89.392982536346295},{"$f":"IF(EFECTOS!$N$9=\"COSTA RICA\",LOOKUP(1,GEfectos!$Q$4:$W$4,GEfectos!Q52:W52),IF(EFECTOS!$N$9=\"EL SALVADOR\",LOOKUP(2,GEfectos!$Q$4:$W$4,GEfectos!Q52:W52),IF(EFECTOS!$N$9=\"GUATEMALA\",LOOKUP(3,GEfectos!$Q$4:$W$4,GEfectos!Q52:W52),IF(EFECTOS!$N$9=\"HONDURAS\",LOOKUP(4,GEfectos!$Q$4:$W$4,GEfectos!Q52:W52),IF(EFECTOS!$N$9=\"NICARAGUA\",LOOKUP(5,GEfectos!$Q$4:$W$4,GEfectos!Q52:W52),IF(EFECTOS!$N$9=\"REPÚBLICA \nDOMINICANA\",LOOKUP(6,$Q$4:$W$4,Q52:W52),IF(EFECTOS!$N$9=\"PANAMÁ\",LOOKUP(7,GEfectos!$Q$4:$W$4,GEfectos!Q52:W52))))))))","v":87.616019052030623},100]
[null,{"$f":"'ITCER GLOBAL'!B53","v":"Diciembre"},{"$f":"'ITCER GLOBAL'!C53","v":102.54937624424127},{"$f":"'ITCER GLOBAL'!D53","v":102.60051624645742},{"$f":"'ITCER GLOBAL'!E53","v":92.708999060724992},{"$f":"'ITCER GLOBAL'!F53","v":109.62517846428884},{"$f":"'ITCER GLOBAL'!G53","v":99.180170083882842},{"$f":"'ITCER GLOBAL'!H53","v":102.11875519897202},{"$f":"'ITCER GLOBAL'!I53","v":101.92859087380539},{"$f":"'ITCER GLOBAL'!S53","v":90.393358898745305},{"$f":"'ITCER GLOBAL'!T53","v":108.44951034772659},{"$f":"'ITCER GLOBAL'!U53","v":90.898625299514691},{"$f":"'ITCER GLOBAL'!V53","v":96.283360731632584},{"$f":"'ITCER GLOBAL'!W53","v":90.922166613226025},{"$f":"'ITCER GLOBAL'!X53","v":94.838862305270993},{"$f":"'ITCER GLOBAL'!Y53","v":106.87483690144344},{"$f":"'ITCER GLOBAL'!AA53","v":88.146181097636273},{"$f":"'ITCER GLOBAL'!AB53","v":105.70074529373639},{"$f":"'ITCER GLOBAL'!AC53","v":98.047251313732247},{"$f":"'ITCER GLOBAL'!AD53","v":87.829604549284781},{"$f":"'ITCER GLOBAL'!AE53","v":91.673735320606426},{"$f":"'ITCER GLOBAL'!AF53","v":92.87114998658511},{"$f":"'ITCER GLOBAL'!AG53","v":104.85265810626368},null,{"$f":"IF(EFECTOS!$N$9=\"COSTA RICA\",LOOKUP(1,GEfectos!$C$4:$I$4,GEfectos!C53:I53),IF(EFECTOS!$N$9=\"EL SALVADOR\",LOOKUP(2,GEfectos!$C$4:$I$4,GEfectos!C53:I53),IF(EFECTOS!$N$9=\"GUATEMALA\",LOOKUP(3,GEfectos!$C$4:$I$4,GEfectos!C53:I53),IF(EFECTOS!$N$9=\"HONDURAS\",LOOKUP(4,GEfectos!$C$4:$I$4,GEfectos!C53:I53),IF(EFECTOS!$N$9=\"NICARAGUA\",LOOKUP(5,GEfectos!$C$4:$I$4,GEfectos!C53:I53),IF(EFECTOS!$N$9=\"REPÚBLICA \nDOMINICANA\",LOOKUP(6,$C$4:$I$4,C53:I53),IF(EFECTOS!$N$9=\"PANAMÁ\",LOOKUP(7,GEfectos!$C$4:$I$4,GEfectos!C53:I53))))))))","v":102.54937624424127},{"$f":"IF(EFECTOS!$N$9=\"COSTA RICA\",LOOKUP(1,GEfectos!$J$4:$P$4,GEfectos!J53:P53),IF(EFECTOS!$N$9=\"EL SALVADOR\",LOOKUP(2,GEfectos!$J$4:$P$4,GEfectos!J53:P53),IF(EFECTOS!$N$9=\"GUATEMALA\",LOOKUP(3,GEfectos!$J$4:$P$4,GEfectos!J53:P53),IF(EFECTOS!$N$9=\"HONDURAS\",LOOKUP(4,GEfectos!$J$4:$P$4,GEfectos!J53:P53),IF(EFECTOS!$N$9=\"NICARAGUA\",LOOKUP(5,GEfectos!$J$4:$P$4,GEfectos!J53:P53),IF(EFECTOS!$N$9=\"REPÚBLICA \nDOMINICANA\",LOOKUP(6,$J$4:$P$4,J53:P53),IF(EFECTOS!$N$9=\"PANAMÁ\",LOOKUP(7,GEfectos!$J$4:$P$4,GEfectos!J53:P53))))))))","v":90.393358898745305},{"$f":"IF(EFECTOS!$N$9=\"COSTA RICA\",LOOKUP(1,GEfectos!$Q$4:$W$4,GEfectos!Q53:W53),IF(EFECTOS!$N$9=\"EL SALVADOR\",LOOKUP(2,GEfectos!$Q$4:$W$4,GEfectos!Q53:W53),IF(EFECTOS!$N$9=\"GUATEMALA\",LOOKUP(3,GEfectos!$Q$4:$W$4,GEfectos!Q53:W53),IF(EFECTOS!$N$9=\"HONDURAS\",LOOKUP(4,GEfectos!$Q$4:$W$4,GEfectos!Q53:W53),IF(EFECTOS!$N$9=\"NICARAGUA\",LOOKUP(5,GEfectos!$Q$4:$W$4,GEfectos!Q53:W53),IF(EFECTOS!$N$9=\"REPÚBLICA \nDOMINICANA\",LOOKUP(6,$Q$4:$W$4,Q53:W53),IF(EFECTOS!$N$9=\"PANAMÁ\",LOOKUP(7,GEfectos!$Q$4:$W$4,GEfectos!Q53:W53))))))))","v":88.146181097636273},100]
[1999,{"$f":"'ITCER GLOBAL'!B54","v":"Enero"},{"$f":"'ITCER GLOBAL'!C54","v":100.1569215505572},{"$f":"'ITCER GLOBAL'!D54","v":101.43645124019893},{"$f":"'ITCER GLOBAL'!E54","v":95.921025493517291},{"$f":"'ITCER GLOBAL'!F54","v":108.2305090079614},{"$f":"'ITCER GLOBAL'!G54","v":100.50852269271999},{"$f":"'ITCER GLOBAL'!H54","v":103.4997627421908},{"$f":"'ITCER GLOBAL'!I54","v":99.959797815222103},{"$f":"'ITCER GLOBAL'!S54","v":89.410310262614942},{"$f":"'ITCER GLOBAL'!T54","v":107.11535223452692},{"$f":"'ITCER GLOBAL'!U54","v":93.415996489204346},{"$f":"'ITCER GLOBAL'!V54","v":96.447978966380461},{"$f":"'ITCER GLOBAL'!W54","v":91.8356838620101},{"$f":"'ITCER GLOBAL'!X54","v":95.262712971496853},{"$f":"'ITCER GLOBAL'!Y54","v":104.5749537946806},{"$f":"'ITCER GLOBAL'!AA54","v":89.27022603972749},{"$f":"'ITCER GLOBAL'!AB54","v":105.59848153685947},{"$f":"'ITCER GLOBAL'!AC54","v":97.38844638969978},{"$f":"'ITCER GLOBAL'!AD54","v":89.1134855138543},{"$f":"'ITCER GLOBAL'!AE54","v":91.371041382008002},{"$f":"'ITCER GLOBAL'!AF54","v":92.041479562410444},{"$f":"'ITCER GLOBAL'!AG54","v":104.61701211920187},null,{"$f":"IF(EFECTOS!$N$9=\"COSTA RICA\",LOOKUP(1,GEfectos!$C$4:$I$4,GEfectos!C54:I54),IF(EFECTOS!$N$9=\"EL SALVADOR\",LOOKUP(2,GEfectos!$C$4:$I$4,GEfectos!C54:I54),IF(EFECTOS!$N$9=\"GUATEMALA\",LOOKUP(3,GEfectos!$C$4:$I$4,GEfectos!C54:I54),IF(EFECTOS!$N$9=\"HONDURAS\",LOOKUP(4,GEfectos!$C$4:$I$4,GEfectos!C54:I54),IF(EFECTOS!$N$9=\"NICARAGUA\",LOOKUP(5,GEfectos!$C$4:$I$4,GEfectos!C54:I54),IF(EFECTOS!$N$9=\"REPÚBLICA \nDOMINICANA\",LOOKUP(6,$C$4:$I$4,C54:I54),IF(EFECTOS!$N$9=\"PANAMÁ\",LOOKUP(7,GEfectos!$C$4:$I$4,GEfectos!C54:I54))))))))","v":100.1569215505572},{"$f":"IF(EFECTOS!$N$9=\"COSTA RICA\",LOOKUP(1,GEfectos!$J$4:$P$4,GEfectos!J54:P54),IF(EFECTOS!$N$9=\"EL SALVADOR\",LOOKUP(2,GEfectos!$J$4:$P$4,GEfectos!J54:P54),IF(EFECTOS!$N$9=\"GUATEMALA\",LOOKUP(3,GEfectos!$J$4:$P$4,GEfectos!J54:P54),IF(EFECTOS!$N$9=\"HONDURAS\",LOOKUP(4,GEfectos!$J$4:$P$4,GEfectos!J54:P54),IF(EFECTOS!$N$9=\"NICARAGUA\",LOOKUP(5,GEfectos!$J$4:$P$4,GEfectos!J54:P54),IF(EFECTOS!$N$9=\"REPÚBLICA \nDOMINICANA\",LOOKUP(6,$J$4:$P$4,J54:P54),IF(EFECTOS!$N$9=\"PANAMÁ\",LOOKUP(7,GEfectos!$J$4:$P$4,GEfectos!J54:P54))))))))","v":89.410310262614942},{"$f":"IF(EFECTOS!$N$9=\"COSTA RICA\",LOOKUP(1,GEfectos!$Q$4:$W$4,GEfectos!Q54:W54),IF(EFECTOS!$N$9=\"EL SALVADOR\",LOOKUP(2,GEfectos!$Q$4:$W$4,GEfectos!Q54:W54),IF(EFECTOS!$N$9=\"GUATEMALA\",LOOKUP(3,GEfectos!$Q$4:$W$4,GEfectos!Q54:W54),IF(EFECTOS!$N$9=\"HONDURAS\",LOOKUP(4,GEfectos!$Q$4:$W$4,GEfectos!Q54:W54),IF(EFECTOS!$N$9=\"NICARAGUA\",LOOKUP(5,GEfectos!$Q$4:$W$4,GEfectos!Q54:W54),IF(EFECTOS!$N$9=\"REPÚBLICA \nDOMINICANA\",LOOKUP(6,$Q$4:$W$4,Q54:W54),IF(EFECTOS!$N$9=\"PANAMÁ\",LOOKUP(7,GEfectos!$Q$4:$W$4,GEfectos!Q54:W54))))))))","v":89.27022603972749},100]
[null,{"$f":"'ITCER GLOBAL'!B55","v":"Febrero"},{"$f":"'ITCER GLOBAL'!C55","v":100.04574463271412},{"$f":"'ITCER GLOBAL'!D55","v":101.4730768831145},{"$f":"'ITCER GLOBAL'!E55","v":94.825874549119334},{"$f":"'ITCER GLOBAL'!F55","v":107.22869088872859},{"$f":"'ITCER GLOBAL'!G55","v":101.49535260150803},{"$f":"'ITCER GLOBAL'!H55","v":105.44497909310472},{"$f":"'ITCER GLOBAL'!I55","v":99.559035844144873},{"$f":"'ITCER GLOBAL'!S55","v":89.808114769998298},{"$f":"'ITCER GLOBAL'!T55","v":106.69495443245809},{"$f":"'ITCER GLOBAL'!U55","v":91.656545160752586},{"$f":"'ITCER GLOBAL'!V55","v":96.262821395424439},{"$f":"'ITCER GLOBAL'!W55","v":92.197116390867777},{"$f":"'ITCER GLOBAL'!X55","v":96.621053340467284},{"$f":"'ITCER GLOBAL'!Y55","v":103.90562158090466},{"$f":"'ITCER GLOBAL'!AA55","v":89.76705116214589},{"$f":"'ITCER GLOBAL'!AB55","v":105.14607195301528},{"$f":"'ITCER GLOBAL'!AC55","v":96.657737771007774},{"$f":"'ITCER GLOBAL'!AD55","v":89.773381170265836},{"$f":"'ITCER GLOBAL'!AE55","v":90.838756679680614},{"$f":"'ITCER GLOBAL'!AF55","v":91.631725067870548},{"$f":"'ITCER GLOBAL'!AG55","v":104.36583751530515},null,{"$f":"IF(EFECTOS!$N$9=\"COSTA RICA\",LOOKUP(1,GEfectos!$C$4:$I$4,GEfectos!C55:I55),IF(EFECTOS!$N$9=\"EL SALVADOR\",LOOKUP(2,GEfectos!$C$4:$I$4,GEfectos!C55:I55),IF(EFECTOS!$N$9=\"GUATEMALA\",LOOKUP(3,GEfectos!$C$4:$I$4,GEfectos!C55:I55),IF(EFECTOS!$N$9=\"HONDURAS\",LOOKUP(4,GEfectos!$C$4:$I$4,GEfectos!C55:I55),IF(EFECTOS!$N$9=\"NICARAGUA\",LOOKUP(5,GEfectos!$C$4:$I$4,GEfectos!C55:I55),IF(EFECTOS!$N$9=\"REPÚBLICA \nDOMINICANA\",LOOKUP(6,$C$4:$I$4,C55:I55),IF(EFECTOS!$N$9=\"PANAMÁ\",LOOKUP(7,GEfectos!$C$4:$I$4,GEfectos!C55:I55))))))))","v":100.04574463271412},{"$f":"IF(EFECTOS!$N$9=\"COSTA RICA\",LOOKUP(1,GEfectos!$J$4:$P$4,GEfectos!J55:P55),IF(EFECTOS!$N$9=\"EL SALVADOR\",LOOKUP(2,GEfectos!$J$4:$P$4,GEfectos!J55:P55),IF(EFECTOS!$N$9=\"GUATEMALA\",LOOKUP(3,GEfectos!$J$4:$P$4,GEfectos!J55:P55),IF(EFECTOS!$N$9=\"HONDURAS\",LOOKUP(4,GEfectos!$J$4:$P$4,GEfectos!J55:P55),IF(EFECTOS!$N$9=\"NICARAGUA\",LOOKUP(5,GEfectos!$J$4:$P$4,GEfectos!J55:P55),IF(EFECTOS!$N$9=\"REPÚBLICA \nDOMINICANA\",LOOKUP(6,$J$4:$P$4,J55:P55),IF(EFECTOS!$N$9=\"PANAMÁ\",LOOKUP(7,GEfectos!$J$4:$P$4,GEfectos!J55:P55))))))))","v":89.808114769998298},{"$f":"IF(EFECTOS!$N$9=\"COSTA RICA\",LOOKUP(1,GEfectos!$Q$4:$W$4,GEfectos!Q55:W55),IF(EFECTOS!$N$9=\"EL SALVADOR\",LOOKUP(2,GEfectos!$Q$4:$W$4,GEfectos!Q55:W55),IF(EFECTOS!$N$9=\"GUATEMALA\",LOOKUP(3,GEfectos!$Q$4:$W$4,GEfectos!Q55:W55),IF(EFECTOS!$N$9=\"HONDURAS\",LOOKUP(4,GEfectos!$Q$4:$W$4,GEfectos!Q55:W55),IF(EFECTOS!$N$9=\"NICARAGUA\",LOOKUP(5,GEfectos!$Q$4:$W$4,GEfectos!Q55:W55),IF(EFECTOS!$N$9=\"REPÚBLICA \nDOMINICANA\",LOOKUP(6,$Q$4:$W$4,Q55:W55),IF(EFECTOS!$N$9=\"PANAMÁ\",LOOKUP(7,GEfectos!$Q$4:$W$4,GEfectos!Q55:W55))))))))","v":89.76705116214589},100]
[null,{"$f":"'ITCER GLOBAL'!B56","v":"Marzo"},{"$f":"'ITCER GLOBAL'!C56","v":101.34035874622322},{"$f":"'ITCER GLOBAL'!D56","v":101.26115852673539},{"$f":"'ITCER GLOBAL'!E56","v":96.695812722751143},{"$f":"'ITCER GLOBAL'!F56","v":107.02710530609284},{"$f":"'ITCER GLOBAL'!G56","v":104.02404407204921},{"$f":"'ITCER GLOBAL'!H56","v":106.00823123816247},{"$f":"'ITCER GLOBAL'!I56","v":99.278398140722061},{"$f":"'ITCER GLOBAL'!S56","v":90.403431485880702},{"$f":"'ITCER GLOBAL'!T56","v":106.14366720246279},{"$f":"'ITCER GLOBAL'!U56","v":92.802680994473022},{"$f":"'ITCER GLOBAL'!V56","v":96.253464657608006},{"$f":"'ITCER GLOBAL'!W56","v":92.530900860892828},{"$f":"'ITCER GLOBAL'!X56","v":97.349058628751735},{"$f":"'ITCER GLOBAL'!Y56","v":103.53467604780056},{"$f":"'ITCER GLOBAL'!AA56","v":89.207727902630793},{"$f":"'ITCER GLOBAL'!AB56","v":104.82169940257823},{"$f":"'ITCER GLOBAL'!AC56","v":95.973836282403852},{"$f":"'ITCER GLOBAL'!AD56","v":89.933726958537591},{"$f":"'ITCER GLOBAL'!AE56","v":88.951455104748675},{"$f":"'ITCER GLOBAL'!AF56","v":91.831603538449144},{"$f":"'ITCER GLOBAL'!AG56","v":104.28721452681522},null,{"$f":"IF(EFECTOS!$N$9=\"COSTA RICA\",LOOKUP(1,GEfectos!$C$4:$I$4,GEfectos!C56:I56),IF(EFECTOS!$N$9=\"EL SALVADOR\",LOOKUP(2,GEfectos!$C$4:$I$4,GEfectos!C56:I56),IF(EFECTOS!$N$9=\"GUATEMALA\",LOOKUP(3,GEfectos!$C$4:$I$4,GEfectos!C56:I56),IF(EFECTOS!$N$9=\"HONDURAS\",LOOKUP(4,GEfectos!$C$4:$I$4,GEfectos!C56:I56),IF(EFECTOS!$N$9=\"NICARAGUA\",LOOKUP(5,GEfectos!$C$4:$I$4,GEfectos!C56:I56),IF(EFECTOS!$N$9=\"REPÚBLICA \nDOMINICANA\",LOOKUP(6,$C$4:$I$4,C56:I56),IF(EFECTOS!$N$9=\"PANAMÁ\",LOOKUP(7,GEfectos!$C$4:$I$4,GEfectos!C56:I56))))))))","v":101.34035874622322},{"$f":"IF(EFECTOS!$N$9=\"COSTA RICA\",LOOKUP(1,GEfectos!$J$4:$P$4,GEfectos!J56:P56),IF(EFECTOS!$N$9=\"EL SALVADOR\",LOOKUP(2,GEfectos!$J$4:$P$4,GEfectos!J56:P56),IF(EFECTOS!$N$9=\"GUATEMALA\",LOOKUP(3,GEfectos!$J$4:$P$4,GEfectos!J56:P56),IF(EFECTOS!$N$9=\"HONDURAS\",LOOKUP(4,GEfectos!$J$4:$P$4,GEfectos!J56:P56),IF(EFECTOS!$N$9=\"NICARAGUA\",LOOKUP(5,GEfectos!$J$4:$P$4,GEfectos!J56:P56),IF(EFECTOS!$N$9=\"REPÚBLICA \nDOMINICANA\",LOOKUP(6,$J$4:$P$4,J56:P56),IF(EFECTOS!$N$9=\"PANAMÁ\",LOOKUP(7,GEfectos!$J$4:$P$4,GEfectos!J56:P56))))))))","v":90.403431485880702},{"$f":"IF(EFECTOS!$N$9=\"COSTA RICA\",LOOKUP(1,GEfectos!$Q$4:$W$4,GEfectos!Q56:W56),IF(EFECTOS!$N$9=\"EL SALVADOR\",LOOKUP(2,GEfectos!$Q$4:$W$4,GEfectos!Q56:W56),IF(EFECTOS!$N$9=\"GUATEMALA\",LOOKUP(3,GEfectos!$Q$4:$W$4,GEfectos!Q56:W56),IF(EFECTOS!$N$9=\"HONDURAS\",LOOKUP(4,GEfectos!$Q$4:$W$4,GEfectos!Q56:W56),IF(EFECTOS!$N$9=\"NICARAGUA\",LOOKUP(5,GEfectos!$Q$4:$W$4,GEfectos!Q56:W56),IF(EFECTOS!$N$9=\"REPÚBLICA \nDOMINICANA\",LOOKUP(6,$Q$4:$W$4,Q56:W56),IF(EFECTOS!$N$9=\"PANAMÁ\",LOOKUP(7,GEfectos!$Q$4:$W$4,GEfectos!Q56:W56))))))))","v":89.207727902630793},100]
[null,{"$f":"'ITCER GLOBAL'!B57","v":"Abril"},{"$f":"'ITCER GLOBAL'!C57","v":102.5876399640603},{"$f":"'ITCER GLOBAL'!D57","v":102.01260922499371},{"$f":"'ITCER GLOBAL'!E57","v":98.447656304418544},{"$f":"'ITCER GLOBAL'!F57","v":107.52095966262424},{"$f":"'ITCER GLOBAL'!G57","v":104.79196715809006},{"$f":"'ITCER GLOBAL'!H57","v":106.4722471693358},{"$f":"'ITCER GLOBAL'!I57","v":99.705605082176518},{"$f":"'ITCER GLOBAL'!S57","v":91.09172810191896},{"$f":"'ITCER GLOBAL'!T57","v":105.81613657275048},{"$f":"'ITCER GLOBAL'!U57","v":94.238794253990974},{"$f":"'ITCER GLOBAL'!V57","v":96.509276802775005},{"$f":"'ITCER GLOBAL'!W57","v":93.15630015047519},{"$f":"'ITCER GLOBAL'!X57","v":97.38613385537856},{"$f":"'ITCER GLOBAL'!Y57","v":103.49020103867016},{"$f":"'ITCER GLOBAL'!AA57","v":88.794057582210954},{"$f":"'ITCER GLOBAL'!AB57","v":103.72848746508181},{"$f":"'ITCER GLOBAL'!AC57","v":95.724771712784104},{"$f":"'ITCER GLOBAL'!AD57","v":89.758570892222934},{"$f":"'ITCER GLOBAL'!AE57","v":88.896413224058293},{"$f":"'ITCER GLOBAL'!AF57","v":91.466214384010797},{"$f":"'ITCER GLOBAL'!AG57","v":103.79577051197313},null,{"$f":"IF(EFECTOS!$N$9=\"COSTA RICA\",LOOKUP(1,GEfectos!$C$4:$I$4,GEfectos!C57:I57),IF(EFECTOS!$N$9=\"EL SALVADOR\",LOOKUP(2,GEfectos!$C$4:$I$4,GEfectos!C57:I57),IF(EFECTOS!$N$9=\"GUATEMALA\",LOOKUP(3,GEfectos!$C$4:$I$4,GEfectos!C57:I57),IF(EFECTOS!$N$9=\"HONDURAS\",LOOKUP(4,GEfectos!$C$4:$I$4,GEfectos!C57:I57),IF(EFECTOS!$N$9=\"NICARAGUA\",LOOKUP(5,GEfectos!$C$4:$I$4,GEfectos!C57:I57),IF(EFECTOS!$N$9=\"REPÚBLICA \nDOMINICANA\",LOOKUP(6,$C$4:$I$4,C57:I57),IF(EFECTOS!$N$9=\"PANAMÁ\",LOOKUP(7,GEfectos!$C$4:$I$4,GEfectos!C57:I57))))))))","v":102.5876399640603},{"$f":"IF(EFECTOS!$N$9=\"COSTA RICA\",LOOKUP(1,GEfectos!$J$4:$P$4,GEfectos!J57:P57),IF(EFECTOS!$N$9=\"EL SALVADOR\",LOOKUP(2,GEfectos!$J$4:$P$4,GEfectos!J57:P57),IF(EFECTOS!$N$9=\"GUATEMALA\",LOOKUP(3,GEfectos!$J$4:$P$4,GEfectos!J57:P57),IF(EFECTOS!$N$9=\"HONDURAS\",LOOKUP(4,GEfectos!$J$4:$P$4,GEfectos!J57:P57),IF(EFECTOS!$N$9=\"NICARAGUA\",LOOKUP(5,GEfectos!$J$4:$P$4,GEfectos!J57:P57),IF(EFECTOS!$N$9=\"REPÚBLICA \nDOMINICANA\",LOOKUP(6,$J$4:$P$4,J57:P57),IF(EFECTOS!$N$9=\"PANAMÁ\",LOOKUP(7,GEfectos!$J$4:$P$4,GEfectos!J57:P57))))))))","v":91.09172810191896},{"$f":"IF(EFECTOS!$N$9=\"COSTA RICA\",LOOKUP(1,GEfectos!$Q$4:$W$4,GEfectos!Q57:W57),IF(EFECTOS!$N$9=\"EL SALVADOR\",LOOKUP(2,GEfectos!$Q$4:$W$4,GEfectos!Q57:W57),IF(EFECTOS!$N$9=\"GUATEMALA\",LOOKUP(3,GEfectos!$Q$4:$W$4,GEfectos!Q57:W57),IF(EFECTOS!$N$9=\"HONDURAS\",LOOKUP(4,GEfectos!$Q$4:$W$4,GEfectos!Q57:W57),IF(EFECTOS!$N$9=\"NICARAGUA\",LOOKUP(5,GEfectos!$Q$4:$W$4,GEfectos!Q57:W57),IF(EFECTOS!$N$9=\"REPÚBLICA \nDOMINICANA\",LOOKUP(6,$Q$4:$W$4,Q57:W57),IF(EFECTOS!$N$9=\"PANAMÁ\",LOOKUP(7,GEfectos!$Q$4:$W$4,GEfectos!Q57:W57))))))))","v":88.794057582210954},100]
[null,{"$f":"'ITCER GLOBAL'!B58","v":"Mayo"},{"$f":"'ITCER GLOBAL'!C58","v":102.45066409251224},{"$f":"'ITCER GLOBAL'!D58","v":102.26023672163146},{"$f":"'ITCER GLOBAL'!E58","v":100.30854491472137},{"$f":"'ITCER GLOBAL'!F58","v":106.82421596939864},{"$f":"'ITCER GLOBAL'!G58","v":104.0430135876298},{"$f":"'ITCER GLOBAL'!H58","v":106.43278852593184},{"$f":"'ITCER GLOBAL'!I58","v":99.358295465682232},{"$f":"'ITCER GLOBAL'!S58","v":91.643683379385436},{"$f":"'ITCER GLOBAL'!T58","v":105.06231647300149},{"$f":"'ITCER GLOBAL'!U58","v":96.699804876706651},{"$f":"'ITCER GLOBAL'!V58","v":96.502844282448763},{"$f":"'ITCER GLOBAL'!W58","v":93.582098328787012},{"$f":"'ITCER GLOBAL'!X58","v":97.288604161286273},{"$f":"'ITCER GLOBAL'!Y58","v":103.03364836066338},{"$f":"'ITCER GLOBAL'!AA58","v":89.451526928738929},{"$f":"'ITCER GLOBAL'!AB58","v":102.74014596601975},{"$f":"'ITCER GLOBAL'!AC58","v":96.40236029634093},{"$f":"'ITCER GLOBAL'!AD58","v":90.337985078302296},{"$f":"'ITCER GLOBAL'!AE58","v":89.945586062794959},{"$f":"'ITCER GLOBAL'!AF58","v":91.408489346854196},{"$f":"'ITCER GLOBAL'!AG58","v":103.69909012403558},null,{"$f":"IF(EFECTOS!$N$9=\"COSTA RICA\",LOOKUP(1,GEfectos!$C$4:$I$4,GEfectos!C58:I58),IF(EFECTOS!$N$9=\"EL SALVADOR\",LOOKUP(2,GEfectos!$C$4:$I$4,GEfectos!C58:I58),IF(EFECTOS!$N$9=\"GUATEMALA\",LOOKUP(3,GEfectos!$C$4:$I$4,GEfectos!C58:I58),IF(EFECTOS!$N$9=\"HONDURAS\",LOOKUP(4,GEfectos!$C$4:$I$4,GEfectos!C58:I58),IF(EFECTOS!$N$9=\"NICARAGUA\",LOOKUP(5,GEfectos!$C$4:$I$4,GEfectos!C58:I58),IF(EFECTOS!$N$9=\"REPÚBLICA \nDOMINICANA\",LOOKUP(6,$C$4:$I$4,C58:I58),IF(EFECTOS!$N$9=\"PANAMÁ\",LOOKUP(7,GEfectos!$C$4:$I$4,GEfectos!C58:I58))))))))","v":102.45066409251224},{"$f":"IF(EFECTOS!$N$9=\"COSTA RICA\",LOOKUP(1,GEfectos!$J$4:$P$4,GEfectos!J58:P58),IF(EFECTOS!$N$9=\"EL SALVADOR\",LOOKUP(2,GEfectos!$J$4:$P$4,GEfectos!J58:P58),IF(EFECTOS!$N$9=\"GUATEMALA\",LOOKUP(3,GEfectos!$J$4:$P$4,GEfectos!J58:P58),IF(EFECTOS!$N$9=\"HONDURAS\",LOOKUP(4,GEfectos!$J$4:$P$4,GEfectos!J58:P58),IF(EFECTOS!$N$9=\"NICARAGUA\",LOOKUP(5,GEfectos!$J$4:$P$4,GEfectos!J58:P58),IF(EFECTOS!$N$9=\"REPÚBLICA \nDOMINICANA\",LOOKUP(6,$J$4:$P$4,J58:P58),IF(EFECTOS!$N$9=\"PANAMÁ\",LOOKUP(7,GEfectos!$J$4:$P$4,GEfectos!J58:P58))))))))","v":91.643683379385436},{"$f":"IF(EFECTOS!$N$9=\"COSTA RICA\",LOOKUP(1,GEfectos!$Q$4:$W$4,GEfectos!Q58:W58),IF(EFECTOS!$N$9=\"EL SALVADOR\",LOOKUP(2,GEfectos!$Q$4:$W$4,GEfectos!Q58:W58),IF(EFECTOS!$N$9=\"GUATEMALA\",LOOKUP(3,GEfectos!$Q$4:$W$4,GEfectos!Q58:W58),IF(EFECTOS!$N$9=\"HONDURAS\",LOOKUP(4,GEfectos!$Q$4:$W$4,GEfectos!Q58:W58),IF(EFECTOS!$N$9=\"NICARAGUA\",LOOKUP(5,GEfectos!$Q$4:$W$4,GEfectos!Q58:W58),IF(EFECTOS!$N$9=\"REPÚBLICA \nDOMINICANA\",LOOKUP(6,$Q$4:$W$4,Q58:W58),IF(EFECTOS!$N$9=\"PANAMÁ\",LOOKUP(7,GEfectos!$Q$4:$W$4,GEfectos!Q58:W58))))))))","v":89.451526928738929},100]
[null,{"$f":"'ITCER GLOBAL'!B59","v":"Junio"},{"$f":"'ITCER GLOBAL'!C59","v":101.57909650522591},{"$f":"'ITCER GLOBAL'!D59","v":101.9050110931978},{"$f":"'ITCER GLOBAL'!E59","v":100.63054851807907},{"$f":"'ITCER GLOBAL'!F59","v":105.73518953088039},{"$f":"'ITCER GLOBAL'!G59","v":103.87455337211306},{"$f":"'ITCER GLOBAL'!H59","v":106.62657368473144},{"$f":"'ITCER GLOBAL'!I59","v":98.878622171732502},{"$f":"'ITCER GLOBAL'!S59","v":92.078608669296131},{"$f":"'ITCER GLOBAL'!T59","v":104.32494878029053},{"$f":"'ITCER GLOBAL'!U59","v":97.535193252512954},{"$f":"'ITCER GLOBAL'!V59","v":96.547671232231721},{"$f":"'ITCER GLOBAL'!W59","v":93.920400584714187},{"$f":"'ITCER GLOBAL'!X59","v":96.934608330466205},{"$f":"'ITCER GLOBAL'!Y59","v":102.64954142051967},{"$f":"'ITCER GLOBAL'!AA59","v":90.647201872443304},{"$f":"'ITCER GLOBAL'!AB59","v":102.37469940009089},{"$f":"'ITCER GLOBAL'!AC59","v":96.924040153661679},{"$f":"'ITCER GLOBAL'!AD59","v":91.310822499669882},{"$f":"'ITCER GLOBAL'!AE59","v":90.417140229003152},{"$f":"'ITCER GLOBAL'!AF59","v":90.910365944120088},{"$f":"'ITCER GLOBAL'!AG59","v":103.81368506757489},null,{"$f":"IF(EFECTOS!$N$9=\"COSTA RICA\",LOOKUP(1,GEfectos!$C$4:$I$4,GEfectos!C59:I59),IF(EFECTOS!$N$9=\"EL SALVADOR\",LOOKUP(2,GEfectos!$C$4:$I$4,GEfectos!C59:I59),IF(EFECTOS!$N$9=\"GUATEMALA\",LOOKUP(3,GEfectos!$C$4:$I$4,GEfectos!C59:I59),IF(EFECTOS!$N$9=\"HONDURAS\",LOOKUP(4,GEfectos!$C$4:$I$4,GEfectos!C59:I59),IF(EFECTOS!$N$9=\"NICARAGUA\",LOOKUP(5,GEfectos!$C$4:$I$4,GEfectos!C59:I59),IF(EFECTOS!$N$9=\"REPÚBLICA \nDOMINICANA\",LOOKUP(6,$C$4:$I$4,C59:I59),IF(EFECTOS!$N$9=\"PANAMÁ\",LOOKUP(7,GEfectos!$C$4:$I$4,GEfectos!C59:I59))))))))","v":101.57909650522591},{"$f":"IF(EFECTOS!$N$9=\"COSTA RICA\",LOOKUP(1,GEfectos!$J$4:$P$4,GEfectos!J59:P59),IF(EFECTOS!$N$9=\"EL SALVADOR\",LOOKUP(2,GEfectos!$J$4:$P$4,GEfectos!J59:P59),IF(EFECTOS!$N$9=\"GUATEMALA\",LOOKUP(3,GEfectos!$J$4:$P$4,GEfectos!J59:P59),IF(EFECTOS!$N$9=\"HONDURAS\",LOOKUP(4,GEfectos!$J$4:$P$4,GEfectos!J59:P59),IF(EFECTOS!$N$9=\"NICARAGUA\",LOOKUP(5,GEfectos!$J$4:$P$4,GEfectos!J59:P59),IF(EFECTOS!$N$9=\"REPÚBLICA \nDOMINICANA\",LOOKUP(6,$J$4:$P$4,J59:P59),IF(EFECTOS!$N$9=\"PANAMÁ\",LOOKUP(7,GEfectos!$J$4:$P$4,GEfectos!J59:P59))))))))","v":92.078608669296131},{"$f":"IF(EFECTOS!$N$9=\"COSTA RICA\",LOOKUP(1,GEfectos!$Q$4:$W$4,GEfectos!Q59:W59),IF(EFECTOS!$N$9=\"EL SALVADOR\",LOOKUP(2,GEfectos!$Q$4:$W$4,GEfectos!Q59:W59),IF(EFECTOS!$N$9=\"GUATEMALA\",LOOKUP(3,GEfectos!$Q$4:$W$4,GEfectos!Q59:W59),IF(EFECTOS!$N$9=\"HONDURAS\",LOOKUP(4,GEfectos!$Q$4:$W$4,GEfectos!Q59:W59),IF(EFECTOS!$N$9=\"NICARAGUA\",LOOKUP(5,GEfectos!$Q$4:$W$4,GEfectos!Q59:W59),IF(EFECTOS!$N$9=\"REPÚBLICA \nDOMINICANA\",LOOKUP(6,$Q$4:$W$4,Q59:W59),IF(EFECTOS!$N$9=\"PANAMÁ\",LOOKUP(7,GEfectos!$Q$4:$W$4,GEfectos!Q59:W59))))))))","v":90.647201872443304},100]
[null,{"$f":"'ITCER GLOBAL'!B60","v":"Julio"},{"$f":"'ITCER GLOBAL'!C60","v":102.40654339433304},{"$f":"'ITCER GLOBAL'!D60","v":101.62788593490545},{"$f":"'ITCER GLOBAL'!E60","v":100.0149720572601},{"$f":"'ITCER GLOBAL'!F60","v":105.58995942782556},{"$f":"'ITCER GLOBAL'!G60","v":104.16303923730895},{"$f":"'ITCER GLOBAL'!H60","v":107.16025361149752},{"$f":"'ITCER GLOBAL'!I60","v":98.768024873038144},{"$f":"'ITCER GLOBAL'!S60","v":92.770616558006395},{"$f":"'ITCER GLOBAL'!T60","v":104.16537940319921},{"$f":"'ITCER GLOBAL'!U60","v":97.870682900105166},{"$f":"'ITCER GLOBAL'!V60","v":96.814941404421575},{"$f":"'ITCER GLOBAL'!W60","v":94.606636906438666},{"$f":"'ITCER GLOBAL'!X60","v":96.913196721906004},{"$f":"'ITCER GLOBAL'!Y60","v":102.47322535033688},{"$f":"'ITCER GLOBAL'!AA60","v":90.5905164680523},{"$f":"'ITCER GLOBAL'!AB60","v":102.49684763679829},{"$f":"'ITCER GLOBAL'!AC60","v":97.856031838985785},{"$f":"'ITCER GLOBAL'!AD60","v":91.689533672562845},{"$f":"'ITCER GLOBAL'!AE60","v":90.825534276991988},{"$f":"'ITCER GLOBAL'!AF60","v":90.437632849636998},{"$f":"'ITCER GLOBAL'!AG60","v":103.7514170016679},null,{"$f":"IF(EFECTOS!$N$9=\"COSTA RICA\",LOOKUP(1,GEfectos!$C$4:$I$4,GEfectos!C60:I60),IF(EFECTOS!$N$9=\"EL SALVADOR\",LOOKUP(2,GEfectos!$C$4:$I$4,GEfectos!C60:I60),IF(EFECTOS!$N$9=\"GUATEMALA\",LOOKUP(3,GEfectos!$C$4:$I$4,GEfectos!C60:I60),IF(EFECTOS!$N$9=\"HONDURAS\",LOOKUP(4,GEfectos!$C$4:$I$4,GEfectos!C60:I60),IF(EFECTOS!$N$9=\"NICARAGUA\",LOOKUP(5,GEfectos!$C$4:$I$4,GEfectos!C60:I60),IF(EFECTOS!$N$9=\"REPÚBLICA \nDOMINICANA\",LOOKUP(6,$C$4:$I$4,C60:I60),IF(EFECTOS!$N$9=\"PANAMÁ\",LOOKUP(7,GEfectos!$C$4:$I$4,GEfectos!C60:I60))))))))","v":102.40654339433304},{"$f":"IF(EFECTOS!$N$9=\"COSTA RICA\",LOOKUP(1,GEfectos!$J$4:$P$4,GEfectos!J60:P60),IF(EFECTOS!$N$9=\"EL SALVADOR\",LOOKUP(2,GEfectos!$J$4:$P$4,GEfectos!J60:P60),IF(EFECTOS!$N$9=\"GUATEMALA\",LOOKUP(3,GEfectos!$J$4:$P$4,GEfectos!J60:P60),IF(EFECTOS!$N$9=\"HONDURAS\",LOOKUP(4,GEfectos!$J$4:$P$4,GEfectos!J60:P60),IF(EFECTOS!$N$9=\"NICARAGUA\",LOOKUP(5,GEfectos!$J$4:$P$4,GEfectos!J60:P60),IF(EFECTOS!$N$9=\"REPÚBLICA \nDOMINICANA\",LOOKUP(6,$J$4:$P$4,J60:P60),IF(EFECTOS!$N$9=\"PANAMÁ\",LOOKUP(7,GEfectos!$J$4:$P$4,GEfectos!J60:P60))))))))","v":92.770616558006395},{"$f":"IF(EFECTOS!$N$9=\"COSTA RICA\",LOOKUP(1,GEfectos!$Q$4:$W$4,GEfectos!Q60:W60),IF(EFECTOS!$N$9=\"EL SALVADOR\",LOOKUP(2,GEfectos!$Q$4:$W$4,GEfectos!Q60:W60),IF(EFECTOS!$N$9=\"GUATEMALA\",LOOKUP(3,GEfectos!$Q$4:$W$4,GEfectos!Q60:W60),IF(EFECTOS!$N$9=\"HONDURAS\",LOOKUP(4,GEfectos!$Q$4:$W$4,GEfectos!Q60:W60),IF(EFECTOS!$N$9=\"NICARAGUA\",LOOKUP(5,GEfectos!$Q$4:$W$4,GEfectos!Q60:W60),IF(EFECTOS!$N$9=\"REPÚBLICA \nDOMINICANA\",LOOKUP(6,$Q$4:$W$4,Q60:W60),IF(EFECTOS!$N$9=\"PANAMÁ\",LOOKUP(7,GEfectos!$Q$4:$W$4,GEfectos!Q60:W60))))))))","v":90.5905164680523},100]
[null,{"$f":"'ITCER GLOBAL'!B61","v":"Agosto"},{"$f":"'ITCER GLOBAL'!C61","v":103.04687493431462},{"$f":"'ITCER GLOBAL'!D61","v":101.83890052773474},{"$f":"'ITCER GLOBAL'!E61","v":103.45451817924406},{"$f":"'ITCER GLOBAL'!F61","v":105.75732722431395},{"$f":"'ITCER GLOBAL'!G61","v":103.75065378876471},{"$f":"'ITCER GLOBAL'!H61","v":107.32003494518653},{"$f":"'ITCER GLOBAL'!I61","v":99.414666053682353},{"$f":"'ITCER GLOBAL'!S61","v":93.627528235272607},{"$f":"'ITCER GLOBAL'!T61","v":103.87251318178581},{"$f":"'ITCER GLOBAL'!U61","v":101.83651175048911},{"$f":"'ITCER GLOBAL'!V61","v":97.426203998023382},{"$f":"'ITCER GLOBAL'!W61","v":95.436215686158548},{"$f":"'ITCER GLOBAL'!X61","v":97.07118320051039},{"$f":"'ITCER GLOBAL'!Y61","v":102.88638524402329},{"$f":"'ITCER GLOBAL'!AA61","v":90.859163167203079},{"$f":"'ITCER GLOBAL'!AB61","v":101.99689180019892},{"$f":"'ITCER GLOBAL'!AC61","v":98.436021493085875},{"$f":"'ITCER GLOBAL'!AD61","v":92.122415113025653},{"$f":"'ITCER GLOBAL'!AE61","v":91.98613425652789},{"$f":"'ITCER GLOBAL'!AF61","v":90.450197160380412},{"$f":"'ITCER GLOBAL'!AG61","v":103.49215998821164},null,{"$f":"IF(EFECTOS!$N$9=\"COSTA RICA\",LOOKUP(1,GEfectos!$C$4:$I$4,GEfectos!C61:I61),IF(EFECTOS!$N$9=\"EL SALVADOR\",LOOKUP(2,GEfectos!$C$4:$I$4,GEfectos!C61:I61),IF(EFECTOS!$N$9=\"GUATEMALA\",LOOKUP(3,GEfectos!$C$4:$I$4,GEfectos!C61:I61),IF(EFECTOS!$N$9=\"HONDURAS\",LOOKUP(4,GEfectos!$C$4:$I$4,GEfectos!C61:I61),IF(EFECTOS!$N$9=\"NICARAGUA\",LOOKUP(5,GEfectos!$C$4:$I$4,GEfectos!C61:I61),IF(EFECTOS!$N$9=\"REPÚBLICA \nDOMINICANA\",LOOKUP(6,$C$4:$I$4,C61:I61),IF(EFECTOS!$N$9=\"PANAMÁ\",LOOKUP(7,GEfectos!$C$4:$I$4,GEfectos!C61:I61))))))))","v":103.04687493431462},{"$f":"IF(EFECTOS!$N$9=\"COSTA RICA\",LOOKUP(1,GEfectos!$J$4:$P$4,GEfectos!J61:P61),IF(EFECTOS!$N$9=\"EL SALVADOR\",LOOKUP(2,GEfectos!$J$4:$P$4,GEfectos!J61:P61),IF(EFECTOS!$N$9=\"GUATEMALA\",LOOKUP(3,GEfectos!$J$4:$P$4,GEfectos!J61:P61),IF(EFECTOS!$N$9=\"HONDURAS\",LOOKUP(4,GEfectos!$J$4:$P$4,GEfectos!J61:P61),IF(EFECTOS!$N$9=\"NICARAGUA\",LOOKUP(5,GEfectos!$J$4:$P$4,GEfectos!J61:P61),IF(EFECTOS!$N$9=\"REPÚBLICA \nDOMINICANA\",LOOKUP(6,$J$4:$P$4,J61:P61),IF(EFECTOS!$N$9=\"PANAMÁ\",LOOKUP(7,GEfectos!$J$4:$P$4,GEfectos!J61:P61))))))))","v":93.627528235272607},{"$f":"IF(EFECTOS!$N$9=\"COSTA RICA\",LOOKUP(1,GEfectos!$Q$4:$W$4,GEfectos!Q61:W61),IF(EFECTOS!$N$9=\"EL SALVADOR\",LOOKUP(2,GEfectos!$Q$4:$W$4,GEfectos!Q61:W61),IF(EFECTOS!$N$9=\"GUATEMALA\",LOOKUP(3,GEfectos!$Q$4:$W$4,GEfectos!Q61:W61),IF(EFECTOS!$N$9=\"HONDURAS\",LOOKUP(4,GEfectos!$Q$4:$W$4,GEfectos!Q61:W61),IF(EFECTOS!$N$9=\"NICARAGUA\",LOOKUP(5,GEfectos!$Q$4:$W$4,GEfectos!Q61:W61),IF(EFECTOS!$N$9=\"REPÚBLICA \nDOMINICANA\",LOOKUP(6,$Q$4:$W$4,Q61:W61),IF(EFECTOS!$N$9=\"PANAMÁ\",LOOKUP(7,GEfectos!$Q$4:$W$4,GEfectos!Q61:W61))))))))","v":90.859163167203079},100]
[null,{"$f":"'ITCER GLOBAL'!B62","v":"Septiembre"},{"$f":"'ITCER GLOBAL'!C62","v":103.49888660499077},{"$f":"'ITCER GLOBAL'!D62","v":101.83239739886996},{"$f":"'ITCER GLOBAL'!E62","v":105.03855947861756},{"$f":"'ITCER GLOBAL'!F62","v":106.08845443097023},{"$f":"'ITCER GLOBAL'!G62","v":103.47200108091118},{"$f":"'ITCER GLOBAL'!H62","v":107.47664636164406},{"$f":"'ITCER GLOBAL'!I62","v":100.14351413044733},{"$f":"'ITCER GLOBAL'!S62","v":94.222748554176022},{"$f":"'ITCER GLOBAL'!T62","v":103.59995781383799},{"$f":"'ITCER GLOBAL'!U62","v":103.42557380875326},{"$f":"'ITCER GLOBAL'!V62","v":97.982387050037531},{"$f":"'ITCER GLOBAL'!W62","v":96.020656060255234},{"$f":"'ITCER GLOBAL'!X62","v":97.126944583307989},{"$f":"'ITCER GLOBAL'!Y62","v":103.13170996698445},{"$f":"'ITCER GLOBAL'!AA62","v":91.037451362914027},{"$f":"'ITCER GLOBAL'!AB62","v":101.73575449475535},{"$f":"'ITCER GLOBAL'!AC62","v":98.464387099489258},{"$f":"'ITCER GLOBAL'!AD62","v":92.359142731966969},{"$f":"'ITCER GLOBAL'!AE62","v":92.798684723581133},{"$f":"'ITCER GLOBAL'!AF62","v":90.370278447737604},{"$f":"'ITCER GLOBAL'!AG62","v":102.98391349902568},null,{"$f":"IF(EFECTOS!$N$9=\"COSTA RICA\",LOOKUP(1,GEfectos!$C$4:$I$4,GEfectos!C62:I62),IF(EFECTOS!$N$9=\"EL SALVADOR\",LOOKUP(2,GEfectos!$C$4:$I$4,GEfectos!C62:I62),IF(EFECTOS!$N$9=\"GUATEMALA\",LOOKUP(3,GEfectos!$C$4:$I$4,GEfectos!C62:I62),IF(EFECTOS!$N$9=\"HONDURAS\",LOOKUP(4,GEfectos!$C$4:$I$4,GEfectos!C62:I62),IF(EFECTOS!$N$9=\"NICARAGUA\",LOOKUP(5,GEfectos!$C$4:$I$4,GEfectos!C62:I62),IF(EFECTOS!$N$9=\"REPÚBLICA \nDOMINICANA\",LOOKUP(6,$C$4:$I$4,C62:I62),IF(EFECTOS!$N$9=\"PANAMÁ\",LOOKUP(7,GEfectos!$C$4:$I$4,GEfectos!C62:I62))))))))","v":103.49888660499077},{"$f":"IF(EFECTOS!$N$9=\"COSTA RICA\",LOOKUP(1,GEfectos!$J$4:$P$4,GEfectos!J62:P62),IF(EFECTOS!$N$9=\"EL SALVADOR\",LOOKUP(2,GEfectos!$J$4:$P$4,GEfectos!J62:P62),IF(EFECTOS!$N$9=\"GUATEMALA\",LOOKUP(3,GEfectos!$J$4:$P$4,GEfectos!J62:P62),IF(EFECTOS!$N$9=\"HONDURAS\",LOOKUP(4,GEfectos!$J$4:$P$4,GEfectos!J62:P62),IF(EFECTOS!$N$9=\"NICARAGUA\",LOOKUP(5,GEfectos!$J$4:$P$4,GEfectos!J62:P62),IF(EFECTOS!$N$9=\"REPÚBLICA \nDOMINICANA\",LOOKUP(6,$J$4:$P$4,J62:P62),IF(EFECTOS!$N$9=\"PANAMÁ\",LOOKUP(7,GEfectos!$J$4:$P$4,GEfectos!J62:P62))))))))","v":94.222748554176022},{"$f":"IF(EFECTOS!$N$9=\"COSTA RICA\",LOOKUP(1,GEfectos!$Q$4:$W$4,GEfectos!Q62:W62),IF(EFECTOS!$N$9=\"EL SALVADOR\",LOOKUP(2,GEfectos!$Q$4:$W$4,GEfectos!Q62:W62),IF(EFECTOS!$N$9=\"GUATEMALA\",LOOKUP(3,GEfectos!$Q$4:$W$4,GEfectos!Q62:W62),IF(EFECTOS!$N$9=\"HONDURAS\",LOOKUP(4,GEfectos!$Q$4:$W$4,GEfectos!Q62:W62),IF(EFECTOS!$N$9=\"NICARAGUA\",LOOKUP(5,GEfectos!$Q$4:$W$4,GEfectos!Q62:W62),IF(EFECTOS!$N$9=\"REPÚBLICA \nDOMINICANA\",LOOKUP(6,$Q$4:$W$4,Q62:W62),IF(EFECTOS!$N$9=\"PANAMÁ\",LOOKUP(7,GEfectos!$Q$4:$W$4,GEfectos!Q62:W62))))))))","v":91.037451362914027},100]
[null,{"$f":"'ITCER GLOBAL'!B63","v":"Octubre"},{"$f":"'ITCER GLOBAL'!C63","v":103.06056112811322},{"$f":"'ITCER GLOBAL'!D63","v":101.72272818858659},{"$f":"'ITCER GLOBAL'!E63","v":104.88592577830342},{"$f":"'ITCER GLOBAL'!F63","v":105.95058045893484},{"$f":"'ITCER GLOBAL'!G63","v":102.86409264798434},{"$f":"'ITCER GLOBAL'!H63","v":104.33664327466659},{"$f":"'ITCER GLOBAL'!I63","v":100.44657432427962},{"$f":"'ITCER GLOBAL'!S63","v":94.955877625247226},{"$f":"'ITCER GLOBAL'!T63","v":103.58282335263146},{"$f":"'ITCER GLOBAL'!U63","v":103.66535814470382},{"$f":"'ITCER GLOBAL'!V63","v":98.387952388028253},{"$f":"'ITCER GLOBAL'!W63","v":96.781152566588176},{"$f":"'ITCER GLOBAL'!X63","v":97.403274919768933},{"$f":"'ITCER GLOBAL'!Y63","v":103.20427953326299},{"$f":"'ITCER GLOBAL'!AA63","v":92.135999053225447},{"$f":"'ITCER GLOBAL'!AB63","v":101.82859346890145},{"$f":"'ITCER GLOBAL'!AC63","v":98.836290355886717},{"$f":"'ITCER GLOBAL'!AD63","v":92.862117377603454},{"$f":"'ITCER GLOBAL'!AE63","v":94.08643004103206},{"$f":"'ITCER GLOBAL'!AF63","v":93.354809837378482},{"$f":"'ITCER GLOBAL'!AG63","v":102.74544475760861},null,{"$f":"IF(EFECTOS!$N$9=\"COSTA RICA\",LOOKUP(1,GEfectos!$C$4:$I$4,GEfectos!C63:I63),IF(EFECTOS!$N$9=\"EL SALVADOR\",LOOKUP(2,GEfectos!$C$4:$I$4,GEfectos!C63:I63),IF(EFECTOS!$N$9=\"GUATEMALA\",LOOKUP(3,GEfectos!$C$4:$I$4,GEfectos!C63:I63),IF(EFECTOS!$N$9=\"HONDURAS\",LOOKUP(4,GEfectos!$C$4:$I$4,GEfectos!C63:I63),IF(EFECTOS!$N$9=\"NICARAGUA\",LOOKUP(5,GEfectos!$C$4:$I$4,GEfectos!C63:I63),IF(EFECTOS!$N$9=\"REPÚBLICA \nDOMINICANA\",LOOKUP(6,$C$4:$I$4,C63:I63),IF(EFECTOS!$N$9=\"PANAMÁ\",LOOKUP(7,GEfectos!$C$4:$I$4,GEfectos!C63:I63))))))))","v":103.06056112811322},{"$f":"IF(EFECTOS!$N$9=\"COSTA RICA\",LOOKUP(1,GEfectos!$J$4:$P$4,GEfectos!J63:P63),IF(EFECTOS!$N$9=\"EL SALVADOR\",LOOKUP(2,GEfectos!$J$4:$P$4,GEfectos!J63:P63),IF(EFECTOS!$N$9=\"GUATEMALA\",LOOKUP(3,GEfectos!$J$4:$P$4,GEfectos!J63:P63),IF(EFECTOS!$N$9=\"HONDURAS\",LOOKUP(4,GEfectos!$J$4:$P$4,GEfectos!J63:P63),IF(EFECTOS!$N$9=\"NICARAGUA\",LOOKUP(5,GEfectos!$J$4:$P$4,GEfectos!J63:P63),IF(EFECTOS!$N$9=\"REPÚBLICA \nDOMINICANA\",LOOKUP(6,$J$4:$P$4,J63:P63),IF(EFECTOS!$N$9=\"PANAMÁ\",LOOKUP(7,GEfectos!$J$4:$P$4,GEfectos!J63:P63))))))))","v":94.955877625247226},{"$f":"IF(EFECTOS!$N$9=\"COSTA RICA\",LOOKUP(1,GEfectos!$Q$4:$W$4,GEfectos!Q63:W63),IF(EFECTOS!$N$9=\"EL SALVADOR\",LOOKUP(2,GEfectos!$Q$4:$W$4,GEfectos!Q63:W63),IF(EFECTOS!$N$9=\"GUATEMALA\",LOOKUP(3,GEfectos!$Q$4:$W$4,GEfectos!Q63:W63),IF(EFECTOS!$N$9=\"HONDURAS\",LOOKUP(4,GEfectos!$Q$4:$W$4,GEfectos!Q63:W63),IF(EFECTOS!$N$9=\"NICARAGUA\",LOOKUP(5,GEfectos!$Q$4:$W$4,GEfectos!Q63:W63),IF(EFECTOS!$N$9=\"REPÚBLICA \nDOMINICANA\",LOOKUP(6,$Q$4:$W$4,Q63:W63),IF(EFECTOS!$N$9=\"PANAMÁ\",LOOKUP(7,GEfectos!$Q$4:$W$4,GEfectos!Q63:W63))))))))","v":92.135999053225447},100]
[null,{"$f":"'ITCER GLOBAL'!B64","v":"Noviembre"},{"$f":"'ITCER GLOBAL'!C64","v":102.60879111000654},{"$f":"'ITCER GLOBAL'!D64","v":102.19738800227891},{"$f":"'ITCER GLOBAL'!E64","v":104.03080171089519},{"$f":"'ITCER GLOBAL'!F64","v":105.08447271592496},{"$f":"'ITCER GLOBAL'!G64","v":102.28666817057274},{"$f":"'ITCER GLOBAL'!H64","v":103.10144378538047},{"$f":"'ITCER GLOBAL'!I64","v":100.31336507655386},{"$f":"'ITCER GLOBAL'!S64","v":95.325272011975571},{"$f":"'ITCER GLOBAL'!T64","v":103.31926759036799},{"$f":"'ITCER GLOBAL'!U64","v":103.03999895777474},{"$f":"'ITCER GLOBAL'!V64","v":98.370839208562629},{"$f":"'ITCER GLOBAL'!W64","v":97.042728422275928},{"$f":"'ITCER GLOBAL'!X64","v":97.56850559132279},{"$f":"'ITCER GLOBAL'!Y64","v":103.14767457656319},{"$f":"'ITCER GLOBAL'!AA64","v":92.901661719976474},{"$f":"'ITCER GLOBAL'!AB64","v":101.0977575944153},{"$f":"'ITCER GLOBAL'!AC64","v":99.047587121481655},{"$f":"'ITCER GLOBAL'!AD64","v":93.611203126544382},{"$f":"'ITCER GLOBAL'!AE64","v":94.873291072936254},{"$f":"'ITCER GLOBAL'!AF64","v":94.633500763020137},{"$f":"'ITCER GLOBAL'!AG64","v":102.82545550918995},null,{"$f":"IF(EFECTOS!$N$9=\"COSTA RICA\",LOOKUP(1,GEfectos!$C$4:$I$4,GEfectos!C64:I64),IF(EFECTOS!$N$9=\"EL SALVADOR\",LOOKUP(2,GEfectos!$C$4:$I$4,GEfectos!C64:I64),IF(EFECTOS!$N$9=\"GUATEMALA\",LOOKUP(3,GEfectos!$C$4:$I$4,GEfectos!C64:I64),IF(EFECTOS!$N$9=\"HONDURAS\",LOOKUP(4,GEfectos!$C$4:$I$4,GEfectos!C64:I64),IF(EFECTOS!$N$9=\"NICARAGUA\",LOOKUP(5,GEfectos!$C$4:$I$4,GEfectos!C64:I64),IF(EFECTOS!$N$9=\"REPÚBLICA \nDOMINICANA\",LOOKUP(6,$C$4:$I$4,C64:I64),IF(EFECTOS!$N$9=\"PANAMÁ\",LOOKUP(7,GEfectos!$C$4:$I$4,GEfectos!C64:I64))))))))","v":102.60879111000654},{"$f":"IF(EFECTOS!$N$9=\"COSTA RICA\",LOOKUP(1,GEfectos!$J$4:$P$4,GEfectos!J64:P64),IF(EFECTOS!$N$9=\"EL SALVADOR\",LOOKUP(2,GEfectos!$J$4:$P$4,GEfectos!J64:P64),IF(EFECTOS!$N$9=\"GUATEMALA\",LOOKUP(3,GEfectos!$J$4:$P$4,GEfectos!J64:P64),IF(EFECTOS!$N$9=\"HONDURAS\",LOOKUP(4,GEfectos!$J$4:$P$4,GEfectos!J64:P64),IF(EFECTOS!$N$9=\"NICARAGUA\",LOOKUP(5,GEfectos!$J$4:$P$4,GEfectos!J64:P64),IF(EFECTOS!$N$9=\"REPÚBLICA \nDOMINICANA\",LOOKUP(6,$J$4:$P$4,J64:P64),IF(EFECTOS!$N$9=\"PANAMÁ\",LOOKUP(7,GEfectos!$J$4:$P$4,GEfectos!J64:P64))))))))","v":95.325272011975571},{"$f":"IF(EFECTOS!$N$9=\"COSTA RICA\",LOOKUP(1,GEfectos!$Q$4:$W$4,GEfectos!Q64:W64),IF(EFECTOS!$N$9=\"EL SALVADOR\",LOOKUP(2,GEfectos!$Q$4:$W$4,GEfectos!Q64:W64),IF(EFECTOS!$N$9=\"GUATEMALA\",LOOKUP(3,GEfectos!$Q$4:$W$4,GEfectos!Q64:W64),IF(EFECTOS!$N$9=\"HONDURAS\",LOOKUP(4,GEfectos!$Q$4:$W$4,GEfectos!Q64:W64),IF(EFECTOS!$N$9=\"NICARAGUA\",LOOKUP(5,GEfectos!$Q$4:$W$4,GEfectos!Q64:W64),IF(EFECTOS!$N$9=\"REPÚBLICA \nDOMINICANA\",LOOKUP(6,$Q$4:$W$4,Q64:W64),IF(EFECTOS!$N$9=\"PANAMÁ\",LOOKUP(7,GEfectos!$Q$4:$W$4,GEfectos!Q64:W64))))))))","v":92.901661719976474},100]
[null,{"$f":"'ITCER GLOBAL'!B65","v":"Diciembre"},{"$f":"'ITCER GLOBAL'!C65","v":101.99428287385982},{"$f":"'ITCER GLOBAL'!D65","v":102.89635608860759},{"$f":"'ITCER GLOBAL'!E65","v":102.67444106011772},{"$f":"'ITCER GLOBAL'!F65","v":104.35487585359438},{"$f":"'ITCER GLOBAL'!G65","v":102.36454704867104},{"$f":"'ITCER GLOBAL'!H65","v":102.78967969582345},{"$f":"'ITCER GLOBAL'!I65","v":100.19979708399273},{"$f":"'ITCER GLOBAL'!S65","v":95.886257898449202},{"$f":"'ITCER GLOBAL'!T65","v":103.30076183810928},{"$f":"'ITCER GLOBAL'!U65","v":101.79108786982525},{"$f":"'ITCER GLOBAL'!V65","v":98.576878634170626},{"$f":"'ITCER GLOBAL'!W65","v":97.352222443389351},{"$f":"'ITCER GLOBAL'!X65","v":97.502618314012722},{"$f":"'ITCER GLOBAL'!Y65","v":103.32227339067737},{"$f":"'ITCER GLOBAL'!AA65","v":94.011404557876403},{"$f":"'ITCER GLOBAL'!AB65","v":100.39302242069044},{"$f":"'ITCER GLOBAL'!AC65","v":99.139656197616659},{"$f":"'ITCER GLOBAL'!AD65","v":94.463126737336125},{"$f":"'ITCER GLOBAL'!AE65","v":95.103456470238186},{"$f":"'ITCER GLOBAL'!AF65","v":94.85642780728935},{"$f":"'ITCER GLOBAL'!AG65","v":103.11625012979539},null,{"$f":"IF(EFECTOS!$N$9=\"COSTA RICA\",LOOKUP(1,GEfectos!$C$4:$I$4,GEfectos!C65:I65),IF(EFECTOS!$N$9=\"EL SALVADOR\",LOOKUP(2,GEfectos!$C$4:$I$4,GEfectos!C65:I65),IF(EFECTOS!$N$9=\"GUATEMALA\",LOOKUP(3,GEfectos!$C$4:$I$4,GEfectos!C65:I65),IF(EFECTOS!$N$9=\"HONDURAS\",LOOKUP(4,GEfectos!$C$4:$I$4,GEfectos!C65:I65),IF(EFECTOS!$N$9=\"NICARAGUA\",LOOKUP(5,GEfectos!$C$4:$I$4,GEfectos!C65:I65),IF(EFECTOS!$N$9=\"REPÚBLICA \nDOMINICANA\",LOOKUP(6,$C$4:$I$4,C65:I65),IF(EFECTOS!$N$9=\"PANAMÁ\",LOOKUP(7,GEfectos!$C$4:$I$4,GEfectos!C65:I65))))))))","v":101.99428287385982},{"$f":"IF(EFECTOS!$N$9=\"COSTA RICA\",LOOKUP(1,GEfectos!$J$4:$P$4,GEfectos!J65:P65),IF(EFECTOS!$N$9=\"EL SALVADOR\",LOOKUP(2,GEfectos!$J$4:$P$4,GEfectos!J65:P65),IF(EFECTOS!$N$9=\"GUATEMALA\",LOOKUP(3,GEfectos!$J$4:$P$4,GEfectos!J65:P65),IF(EFECTOS!$N$9=\"HONDURAS\",LOOKUP(4,GEfectos!$J$4:$P$4,GEfectos!J65:P65),IF(EFECTOS!$N$9=\"NICARAGUA\",LOOKUP(5,GEfectos!$J$4:$P$4,GEfectos!J65:P65),IF(EFECTOS!$N$9=\"REPÚBLICA \nDOMINICANA\",LOOKUP(6,$J$4:$P$4,J65:P65),IF(EFECTOS!$N$9=\"PANAMÁ\",LOOKUP(7,GEfectos!$J$4:$P$4,GEfectos!J65:P65))))))))","v":95.886257898449202},{"$f":"IF(EFECTOS!$N$9=\"COSTA RICA\",LOOKUP(1,GEfectos!$Q$4:$W$4,GEfectos!Q65:W65),IF(EFECTOS!$N$9=\"EL SALVADOR\",LOOKUP(2,GEfectos!$Q$4:$W$4,GEfectos!Q65:W65),IF(EFECTOS!$N$9=\"GUATEMALA\",LOOKUP(3,GEfectos!$Q$4:$W$4,GEfectos!Q65:W65),IF(EFECTOS!$N$9=\"HONDURAS\",LOOKUP(4,GEfectos!$Q$4:$W$4,GEfectos!Q65:W65),IF(EFECTOS!$N$9=\"NICARAGUA\",LOOKUP(5,GEfectos!$Q$4:$W$4,GEfectos!Q65:W65),IF(EFECTOS!$N$9=\"REPÚBLICA \nDOMINICANA\",LOOKUP(6,$Q$4:$W$4,Q65:W65),IF(EFECTOS!$N$9=\"PANAMÁ\",LOOKUP(7,GEfectos!$Q$4:$W$4,GEfectos!Q65:W65))))))))","v":94.011404557876403},100]
[2000,{"$f":"'ITCER GLOBAL'!B66","v":"Enero"},{"$f":"'ITCER GLOBAL'!C66","v":100.55371664142206},{"$f":"'ITCER GLOBAL'!D66","v":101.68593033920016},{"$f":"'ITCER GLOBAL'!E66","v":105.45521258513605},{"$f":"'ITCER GLOBAL'!F66","v":103.95805753219706},{"$f":"'ITCER GLOBAL'!G66","v":101.87575319457346},{"$f":"'ITCER GLOBAL'!H66","v":103.26852718158668},{"$f":"'ITCER GLOBAL'!I66","v":100.44084575444077},{"$f":"'ITCER GLOBAL'!S66","v":95.888147201674471},{"$f":"'ITCER GLOBAL'!T66","v":102.36494127347311},{"$f":"'ITCER GLOBAL'!U66","v":104.41772904976804},{"$f":"'ITCER GLOBAL'!V66","v":98.137080286144936},{"$f":"'ITCER GLOBAL'!W66","v":97.28962367566227},{"$f":"'ITCER GLOBAL'!X66","v":97.918469766894532},{"$f":"'ITCER GLOBAL'!Y66","v":103.11569945271569},{"$f":"'ITCER GLOBAL'!AA66","v":95.360122335025011},{"$f":"'ITCER GLOBAL'!AB66","v":100.66775308246471},{"$f":"'ITCER GLOBAL'!AC66","v":99.016185629960759},{"$f":"'ITCER GLOBAL'!AD66","v":94.400648315067542},{"$f":"'ITCER GLOBAL'!AE66","v":95.49831105527916},{"$f":"'ITCER GLOBAL'!AF66","v":94.819275958797562},{"$f":"'ITCER GLOBAL'!AG66","v":102.66311347558188},null,{"$f":"IF(EFECTOS!$N$9=\"COSTA RICA\",LOOKUP(1,GEfectos!$C$4:$I$4,GEfectos!C66:I66),IF(EFECTOS!$N$9=\"EL SALVADOR\",LOOKUP(2,GEfectos!$C$4:$I$4,GEfectos!C66:I66),IF(EFECTOS!$N$9=\"GUATEMALA\",LOOKUP(3,GEfectos!$C$4:$I$4,GEfectos!C66:I66),IF(EFECTOS!$N$9=\"HONDURAS\",LOOKUP(4,GEfectos!$C$4:$I$4,GEfectos!C66:I66),IF(EFECTOS!$N$9=\"NICARAGUA\",LOOKUP(5,GEfectos!$C$4:$I$4,GEfectos!C66:I66),IF(EFECTOS!$N$9=\"REPÚBLICA \nDOMINICANA\",LOOKUP(6,$C$4:$I$4,C66:I66),IF(EFECTOS!$N$9=\"PANAMÁ\",LOOKUP(7,GEfectos!$C$4:$I$4,GEfectos!C66:I66))))))))","v":100.55371664142206},{"$f":"IF(EFECTOS!$N$9=\"COSTA RICA\",LOOKUP(1,GEfectos!$J$4:$P$4,GEfectos!J66:P66),IF(EFECTOS!$N$9=\"EL SALVADOR\",LOOKUP(2,GEfectos!$J$4:$P$4,GEfectos!J66:P66),IF(EFECTOS!$N$9=\"GUATEMALA\",LOOKUP(3,GEfectos!$J$4:$P$4,GEfectos!J66:P66),IF(EFECTOS!$N$9=\"HONDURAS\",LOOKUP(4,GEfectos!$J$4:$P$4,GEfectos!J66:P66),IF(EFECTOS!$N$9=\"NICARAGUA\",LOOKUP(5,GEfectos!$J$4:$P$4,GEfectos!J66:P66),IF(EFECTOS!$N$9=\"REPÚBLICA \nDOMINICANA\",LOOKUP(6,$J$4:$P$4,J66:P66),IF(EFECTOS!$N$9=\"PANAMÁ\",LOOKUP(7,GEfectos!$J$4:$P$4,GEfectos!J66:P66))))))))","v":95.888147201674471},{"$f":"IF(EFECTOS!$N$9=\"COSTA RICA\",LOOKUP(1,GEfectos!$Q$4:$W$4,GEfectos!Q66:W66),IF(EFECTOS!$N$9=\"EL SALVADOR\",LOOKUP(2,GEfectos!$Q$4:$W$4,GEfectos!Q66:W66),IF(EFECTOS!$N$9=\"GUATEMALA\",LOOKUP(3,GEfectos!$Q$4:$W$4,GEfectos!Q66:W66),IF(EFECTOS!$N$9=\"HONDURAS\",LOOKUP(4,GEfectos!$Q$4:$W$4,GEfectos!Q66:W66),IF(EFECTOS!$N$9=\"NICARAGUA\",LOOKUP(5,GEfectos!$Q$4:$W$4,GEfectos!Q66:W66),IF(EFECTOS!$N$9=\"REPÚBLICA \nDOMINICANA\",LOOKUP(6,$Q$4:$W$4,Q66:W66),IF(EFECTOS!$N$9=\"PANAMÁ\",LOOKUP(7,GEfectos!$Q$4:$W$4,GEfectos!Q66:W66))))))))","v":95.360122335025011},100]
[null,{"$f":"'ITCER GLOBAL'!B67","v":"Febrero"},{"$f":"'ITCER GLOBAL'!C67","v":99.887860900857731},{"$f":"'ITCER GLOBAL'!D67","v":101.64988316039104},{"$f":"'ITCER GLOBAL'!E67","v":103.64947914329937},{"$f":"'ITCER GLOBAL'!F67","v":103.07663876829797},{"$f":"'ITCER GLOBAL'!G67","v":100.38541157097582},{"$f":"'ITCER GLOBAL'!H67","v":104.00148615281741},{"$f":"'ITCER GLOBAL'!I67","v":100.44897764304133},{"$f":"'ITCER GLOBAL'!S67","v":96.063158346682258},{"$f":"'ITCER GLOBAL'!T67","v":102.07543010315814},{"$f":"'ITCER GLOBAL'!U67","v":102.79267484282124},{"$f":"'ITCER GLOBAL'!V67","v":98.151190166375159},{"$f":"'ITCER GLOBAL'!W67","v":97.255988225802042},{"$f":"'ITCER GLOBAL'!X67","v":98.098027210299577},{"$f":"'ITCER GLOBAL'!Y67","v":102.40968750237268},{"$f":"'ITCER GLOBAL'!AA67","v":96.171003643804482},{"$f":"'ITCER GLOBAL'!AB67","v":100.41863987398357},{"$f":"'ITCER GLOBAL'!AC67","v":99.173363621737494},{"$f":"'ITCER GLOBAL'!AD67","v":95.22156653459129},{"$f":"'ITCER GLOBAL'!AE67","v":96.882591507869492},{"$f":"'ITCER GLOBAL'!AF67","v":94.32367828490122},{"$f":"'ITCER GLOBAL'!AG67","v":101.95194605792703},null,{"$f":"IF(EFECTOS!$N$9=\"COSTA RICA\",LOOKUP(1,GEfectos!$C$4:$I$4,GEfectos!C67:I67),IF(EFECTOS!$N$9=\"EL SALVADOR\",LOOKUP(2,GEfectos!$C$4:$I$4,GEfectos!C67:I67),IF(EFECTOS!$N$9=\"GUATEMALA\",LOOKUP(3,GEfectos!$C$4:$I$4,GEfectos!C67:I67),IF(EFECTOS!$N$9=\"HONDURAS\",LOOKUP(4,GEfectos!$C$4:$I$4,GEfectos!C67:I67),IF(EFECTOS!$N$9=\"NICARAGUA\",LOOKUP(5,GEfectos!$C$4:$I$4,GEfectos!C67:I67),IF(EFECTOS!$N$9=\"REPÚBLICA \nDOMINICANA\",LOOKUP(6,$C$4:$I$4,C67:I67),IF(EFECTOS!$N$9=\"PANAMÁ\",LOOKUP(7,GEfectos!$C$4:$I$4,GEfectos!C67:I67))))))))","v":99.887860900857731},{"$f":"IF(EFECTOS!$N$9=\"COSTA RICA\",LOOKUP(1,GEfectos!$J$4:$P$4,GEfectos!J67:P67),IF(EFECTOS!$N$9=\"EL SALVADOR\",LOOKUP(2,GEfectos!$J$4:$P$4,GEfectos!J67:P67),IF(EFECTOS!$N$9=\"GUATEMALA\",LOOKUP(3,GEfectos!$J$4:$P$4,GEfectos!J67:P67),IF(EFECTOS!$N$9=\"HONDURAS\",LOOKUP(4,GEfectos!$J$4:$P$4,GEfectos!J67:P67),IF(EFECTOS!$N$9=\"NICARAGUA\",LOOKUP(5,GEfectos!$J$4:$P$4,GEfectos!J67:P67),IF(EFECTOS!$N$9=\"REPÚBLICA \nDOMINICANA\",LOOKUP(6,$J$4:$P$4,J67:P67),IF(EFECTOS!$N$9=\"PANAMÁ\",LOOKUP(7,GEfectos!$J$4:$P$4,GEfectos!J67:P67))))))))","v":96.063158346682258},{"$f":"IF(EFECTOS!$N$9=\"COSTA RICA\",LOOKUP(1,GEfectos!$Q$4:$W$4,GEfectos!Q67:W67),IF(EFECTOS!$N$9=\"EL SALVADOR\",LOOKUP(2,GEfectos!$Q$4:$W$4,GEfectos!Q67:W67),IF(EFECTOS!$N$9=\"GUATEMALA\",LOOKUP(3,GEfectos!$Q$4:$W$4,GEfectos!Q67:W67),IF(EFECTOS!$N$9=\"HONDURAS\",LOOKUP(4,GEfectos!$Q$4:$W$4,GEfectos!Q67:W67),IF(EFECTOS!$N$9=\"NICARAGUA\",LOOKUP(5,GEfectos!$Q$4:$W$4,GEfectos!Q67:W67),IF(EFECTOS!$N$9=\"REPÚBLICA \nDOMINICANA\",LOOKUP(6,$Q$4:$W$4,Q67:W67),IF(EFECTOS!$N$9=\"PANAMÁ\",LOOKUP(7,GEfectos!$Q$4:$W$4,GEfectos!Q67:W67))))))))","v":96.171003643804482},100]
[null,{"$f":"'ITCER GLOBAL'!B68","v":"Marzo"},{"$f":"'ITCER GLOBAL'!C68","v":100.45434776961558},{"$f":"'ITCER GLOBAL'!D68","v":102.4054923961732},{"$f":"'ITCER GLOBAL'!E68","v":102.34686577062189},{"$f":"'ITCER GLOBAL'!F68","v":103.06563206726308},{"$f":"'ITCER GLOBAL'!G68","v":100.50895953401862},{"$f":"'ITCER GLOBAL'!H68","v":104.78020575806212},{"$f":"'ITCER GLOBAL'!I68","v":100.59399822219584},{"$f":"'ITCER GLOBAL'!S68","v":96.569376026954671},{"$f":"'ITCER GLOBAL'!T68","v":102.17479315265365},{"$f":"'ITCER GLOBAL'!U68","v":102.00757075033944},{"$f":"'ITCER GLOBAL'!V68","v":98.395978909844914},{"$f":"'ITCER GLOBAL'!W68","v":97.684410491495726},{"$f":"'ITCER GLOBAL'!X68","v":98.077979773241992},{"$f":"'ITCER GLOBAL'!Y68","v":102.55389355760798},{"$f":"'ITCER GLOBAL'!AA68","v":96.132599704324591},{"$f":"'ITCER GLOBAL'!AB68","v":99.774719853279876},{"$f":"'ITCER GLOBAL'!AC68","v":99.668485187379474},{"$f":"'ITCER GLOBAL'!AD68","v":95.46924317664822},{"$f":"'ITCER GLOBAL'!AE68","v":97.189753972563125},{"$f":"'ITCER GLOBAL'!AF68","v":93.603538057278115},{"$f":"'ITCER GLOBAL'!AG68","v":101.94832233537736},null,{"$f":"IF(EFECTOS!$N$9=\"COSTA RICA\",LOOKUP(1,GEfectos!$C$4:$I$4,GEfectos!C68:I68),IF(EFECTOS!$N$9=\"EL SALVADOR\",LOOKUP(2,GEfectos!$C$4:$I$4,GEfectos!C68:I68),IF(EFECTOS!$N$9=\"GUATEMALA\",LOOKUP(3,GEfectos!$C$4:$I$4,GEfectos!C68:I68),IF(EFECTOS!$N$9=\"HONDURAS\",LOOKUP(4,GEfectos!$C$4:$I$4,GEfectos!C68:I68),IF(EFECTOS!$N$9=\"NICARAGUA\",LOOKUP(5,GEfectos!$C$4:$I$4,GEfectos!C68:I68),IF(EFECTOS!$N$9=\"REPÚBLICA \nDOMINICANA\",LOOKUP(6,$C$4:$I$4,C68:I68),IF(EFECTOS!$N$9=\"PANAMÁ\",LOOKUP(7,GEfectos!$C$4:$I$4,GEfectos!C68:I68))))))))","v":100.45434776961558},{"$f":"IF(EFECTOS!$N$9=\"COSTA RICA\",LOOKUP(1,GEfectos!$J$4:$P$4,GEfectos!J68:P68),IF(EFECTOS!$N$9=\"EL SALVADOR\",LOOKUP(2,GEfectos!$J$4:$P$4,GEfectos!J68:P68),IF(EFECTOS!$N$9=\"GUATEMALA\",LOOKUP(3,GEfectos!$J$4:$P$4,GEfectos!J68:P68),IF(EFECTOS!$N$9=\"HONDURAS\",LOOKUP(4,GEfectos!$J$4:$P$4,GEfectos!J68:P68),IF(EFECTOS!$N$9=\"NICARAGUA\",LOOKUP(5,GEfectos!$J$4:$P$4,GEfectos!J68:P68),IF(EFECTOS!$N$9=\"REPÚBLICA \nDOMINICANA\",LOOKUP(6,$J$4:$P$4,J68:P68),IF(EFECTOS!$N$9=\"PANAMÁ\",LOOKUP(7,GEfectos!$J$4:$P$4,GEfectos!J68:P68))))))))","v":96.569376026954671},{"$f":"IF(EFECTOS!$N$9=\"COSTA RICA\",LOOKUP(1,GEfectos!$Q$4:$W$4,GEfectos!Q68:W68),IF(EFECTOS!$N$9=\"EL SALVADOR\",LOOKUP(2,GEfectos!$Q$4:$W$4,GEfectos!Q68:W68),IF(EFECTOS!$N$9=\"GUATEMALA\",LOOKUP(3,GEfectos!$Q$4:$W$4,GEfectos!Q68:W68),IF(EFECTOS!$N$9=\"HONDURAS\",LOOKUP(4,GEfectos!$Q$4:$W$4,GEfectos!Q68:W68),IF(EFECTOS!$N$9=\"NICARAGUA\",LOOKUP(5,GEfectos!$Q$4:$W$4,GEfectos!Q68:W68),IF(EFECTOS!$N$9=\"REPÚBLICA \nDOMINICANA\",LOOKUP(6,$Q$4:$W$4,Q68:W68),IF(EFECTOS!$N$9=\"PANAMÁ\",LOOKUP(7,GEfectos!$Q$4:$W$4,GEfectos!Q68:W68))))))))","v":96.132599704324591},100]
[null,{"$f":"'ITCER GLOBAL'!B69","v":"Abril"},{"$f":"'ITCER GLOBAL'!C69","v":101.21073364086509},{"$f":"'ITCER GLOBAL'!D69","v":102.31320583958797},{"$f":"'ITCER GLOBAL'!E69","v":100.98824566473645},{"$f":"'ITCER GLOBAL'!F69","v":101.9706248014347},{"$f":"'ITCER GLOBAL'!G69","v":100.26109056222997},{"$f":"'ITCER GLOBAL'!H69","v":104.62278429152634},{"$f":"'ITCER GLOBAL'!I69","v":100.48314827803928},{"$f":"'ITCER GLOBAL'!S69","v":96.829288892236036},{"$f":"'ITCER GLOBAL'!T69","v":101.84477088768529},{"$f":"'ITCER GLOBAL'!U69","v":101.5403107159586},{"$f":"'ITCER GLOBAL'!V69","v":98.487496441063527},{"$f":"'ITCER GLOBAL'!W69","v":97.856582309052115},{"$f":"'ITCER GLOBAL'!X69","v":97.930497426555021},{"$f":"'ITCER GLOBAL'!Y69","v":102.23372537486117},{"$f":"'ITCER GLOBAL'!AA69","v":95.670968294552523},{"$f":"'ITCER GLOBAL'!AB69","v":99.542155923999559},{"$f":"'ITCER GLOBAL'!AC69","v":100.54666268097667},{"$f":"'ITCER GLOBAL'!AD69","v":96.584184546133955},{"$f":"'ITCER GLOBAL'!AE69","v":97.601753342503855},{"$f":"'ITCER GLOBAL'!AF69","v":93.603413529577281},{"$f":"'ITCER GLOBAL'!AG69","v":101.74215988135443},null,{"$f":"IF(EFECTOS!$N$9=\"COSTA RICA\",LOOKUP(1,GEfectos!$C$4:$I$4,GEfectos!C69:I69),IF(EFECTOS!$N$9=\"EL SALVADOR\",LOOKUP(2,GEfectos!$C$4:$I$4,GEfectos!C69:I69),IF(EFECTOS!$N$9=\"GUATEMALA\",LOOKUP(3,GEfectos!$C$4:$I$4,GEfectos!C69:I69),IF(EFECTOS!$N$9=\"HONDURAS\",LOOKUP(4,GEfectos!$C$4:$I$4,GEfectos!C69:I69),IF(EFECTOS!$N$9=\"NICARAGUA\",LOOKUP(5,GEfectos!$C$4:$I$4,GEfectos!C69:I69),IF(EFECTOS!$N$9=\"REPÚBLICA \nDOMINICANA\",LOOKUP(6,$C$4:$I$4,C69:I69),IF(EFECTOS!$N$9=\"PANAMÁ\",LOOKUP(7,GEfectos!$C$4:$I$4,GEfectos!C69:I69))))))))","v":101.21073364086509},{"$f":"IF(EFECTOS!$N$9=\"COSTA RICA\",LOOKUP(1,GEfectos!$J$4:$P$4,GEfectos!J69:P69),IF(EFECTOS!$N$9=\"EL SALVADOR\",LOOKUP(2,GEfectos!$J$4:$P$4,GEfectos!J69:P69),IF(EFECTOS!$N$9=\"GUATEMALA\",LOOKUP(3,GEfectos!$J$4:$P$4,GEfectos!J69:P69),IF(EFECTOS!$N$9=\"HONDURAS\",LOOKUP(4,GEfectos!$J$4:$P$4,GEfectos!J69:P69),IF(EFECTOS!$N$9=\"NICARAGUA\",LOOKUP(5,GEfectos!$J$4:$P$4,GEfectos!J69:P69),IF(EFECTOS!$N$9=\"REPÚBLICA \nDOMINICANA\",LOOKUP(6,$J$4:$P$4,J69:P69),IF(EFECTOS!$N$9=\"PANAMÁ\",LOOKUP(7,GEfectos!$J$4:$P$4,GEfectos!J69:P69))))))))","v":96.829288892236036},{"$f":"IF(EFECTOS!$N$9=\"COSTA RICA\",LOOKUP(1,GEfectos!$Q$4:$W$4,GEfectos!Q69:W69),IF(EFECTOS!$N$9=\"EL SALVADOR\",LOOKUP(2,GEfectos!$Q$4:$W$4,GEfectos!Q69:W69),IF(EFECTOS!$N$9=\"GUATEMALA\",LOOKUP(3,GEfectos!$Q$4:$W$4,GEfectos!Q69:W69),IF(EFECTOS!$N$9=\"HONDURAS\",LOOKUP(4,GEfectos!$Q$4:$W$4,GEfectos!Q69:W69),IF(EFECTOS!$N$9=\"NICARAGUA\",LOOKUP(5,GEfectos!$Q$4:$W$4,GEfectos!Q69:W69),IF(EFECTOS!$N$9=\"REPÚBLICA \nDOMINICANA\",LOOKUP(6,$Q$4:$W$4,Q69:W69),IF(EFECTOS!$N$9=\"PANAMÁ\",LOOKUP(7,GEfectos!$Q$4:$W$4,GEfectos!Q69:W69))))))))","v":95.670968294552523},100]
[null,{"$f":"'ITCER GLOBAL'!B70","v":"Mayo"},{"$f":"'ITCER GLOBAL'!C70","v":101.27869062207404},{"$f":"'ITCER GLOBAL'!D70","v":100.98722043476633},{"$f":"'ITCER GLOBAL'!E70","v":101.03437807595962},{"$f":"'ITCER GLOBAL'!F70","v":100.87531114103487},{"$f":"'ITCER GLOBAL'!G70","v":99.296096983052379},{"$f":"'ITCER GLOBAL'!H70","v":104.20906617343337},{"$f":"'ITCER GLOBAL'!I70","v":99.484864953160383},{"$f":"'ITCER GLOBAL'!S70","v":96.693708534179763},{"$f":"'ITCER GLOBAL'!T70","v":101.09750791886954},{"$f":"'ITCER GLOBAL'!U70","v":100.61976876168333},{"$f":"'ITCER GLOBAL'!V70","v":98.219740524146076},{"$f":"'ITCER GLOBAL'!W70","v":97.556438837702302},{"$f":"'ITCER GLOBAL'!X70","v":97.515908942860818},{"$f":"'ITCER GLOBAL'!Y70","v":101.21634984003019},{"$f":"'ITCER GLOBAL'!AA70","v":95.472905445624946},{"$f":"'ITCER GLOBAL'!AB70","v":100.10920934711184},{"$f":"'ITCER GLOBAL'!AC70","v":99.589635407104126},{"$f":"'ITCER GLOBAL'!AD70","v":97.367472192302813},{"$f":"'ITCER GLOBAL'!AE70","v":98.248009540952054},{"$f":"'ITCER GLOBAL'!AF70","v":93.577183371518515},{"$f":"'ITCER GLOBAL'!AG70","v":101.74045055766526},null,{"$f":"IF(EFECTOS!$N$9=\"COSTA RICA\",LOOKUP(1,GEfectos!$C$4:$I$4,GEfectos!C70:I70),IF(EFECTOS!$N$9=\"EL SALVADOR\",LOOKUP(2,GEfectos!$C$4:$I$4,GEfectos!C70:I70),IF(EFECTOS!$N$9=\"GUATEMALA\",LOOKUP(3,GEfectos!$C$4:$I$4,GEfectos!C70:I70),IF(EFECTOS!$N$9=\"HONDURAS\",LOOKUP(4,GEfectos!$C$4:$I$4,GEfectos!C70:I70),IF(EFECTOS!$N$9=\"NICARAGUA\",LOOKUP(5,GEfectos!$C$4:$I$4,GEfectos!C70:I70),IF(EFECTOS!$N$9=\"REPÚBLICA \nDOMINICANA\",LOOKUP(6,$C$4:$I$4,C70:I70),IF(EFECTOS!$N$9=\"PANAMÁ\",LOOKUP(7,GEfectos!$C$4:$I$4,GEfectos!C70:I70))))))))","v":101.27869062207404},{"$f":"IF(EFECTOS!$N$9=\"COSTA RICA\",LOOKUP(1,GEfectos!$J$4:$P$4,GEfectos!J70:P70),IF(EFECTOS!$N$9=\"EL SALVADOR\",LOOKUP(2,GEfectos!$J$4:$P$4,GEfectos!J70:P70),IF(EFECTOS!$N$9=\"GUATEMALA\",LOOKUP(3,GEfectos!$J$4:$P$4,GEfectos!J70:P70),IF(EFECTOS!$N$9=\"HONDURAS\",LOOKUP(4,GEfectos!$J$4:$P$4,GEfectos!J70:P70),IF(EFECTOS!$N$9=\"NICARAGUA\",LOOKUP(5,GEfectos!$J$4:$P$4,GEfectos!J70:P70),IF(EFECTOS!$N$9=\"REPÚBLICA \nDOMINICANA\",LOOKUP(6,$J$4:$P$4,J70:P70),IF(EFECTOS!$N$9=\"PANAMÁ\",LOOKUP(7,GEfectos!$J$4:$P$4,GEfectos!J70:P70))))))))","v":96.693708534179763},{"$f":"IF(EFECTOS!$N$9=\"COSTA RICA\",LOOKUP(1,GEfectos!$Q$4:$W$4,GEfectos!Q70:W70),IF(EFECTOS!$N$9=\"EL SALVADOR\",LOOKUP(2,GEfectos!$Q$4:$W$4,GEfectos!Q70:W70),IF(EFECTOS!$N$9=\"GUATEMALA\",LOOKUP(3,GEfectos!$Q$4:$W$4,GEfectos!Q70:W70),IF(EFECTOS!$N$9=\"HONDURAS\",LOOKUP(4,GEfectos!$Q$4:$W$4,GEfectos!Q70:W70),IF(EFECTOS!$N$9=\"NICARAGUA\",LOOKUP(5,GEfectos!$Q$4:$W$4,GEfectos!Q70:W70),IF(EFECTOS!$N$9=\"REPÚBLICA \nDOMINICANA\",LOOKUP(6,$Q$4:$W$4,Q70:W70),IF(EFECTOS!$N$9=\"PANAMÁ\",LOOKUP(7,GEfectos!$Q$4:$W$4,GEfectos!Q70:W70))))))))","v":95.472905445624946},100]
[null,{"$f":"'ITCER GLOBAL'!B71","v":"Junio"},{"$f":"'ITCER GLOBAL'!C71","v":101.37386510731613},{"$f":"'ITCER GLOBAL'!D71","v":100.57507833743165},{"$f":"'ITCER GLOBAL'!E71","v":101.66254238436181},{"$f":"'ITCER GLOBAL'!F71","v":101.10519015595102},{"$f":"'ITCER GLOBAL'!G71","v":100.06696692831547},{"$f":"'ITCER GLOBAL'!H71","v":103.93796937702756},{"$f":"'ITCER GLOBAL'!I71","v":100.0974356001354},{"$f":"'ITCER GLOBAL'!S71","v":97.620753438208823},{"$f":"'ITCER GLOBAL'!T71","v":101.27492501040913},{"$f":"'ITCER GLOBAL'!U71","v":101.22752603856671},{"$f":"'ITCER GLOBAL'!V71","v":98.884568284336922},{"$f":"'ITCER GLOBAL'!W71","v":98.36176716564762},{"$f":"'ITCER GLOBAL'!X71","v":97.756736052334347},{"$f":"'ITCER GLOBAL'!Y71","v":101.66288602153004},{"$f":"'ITCER GLOBAL'!AA71","v":96.297752221310489},{"$f":"'ITCER GLOBAL'!AB71","v":100.69584501901106},{"$f":"'ITCER GLOBAL'!AC71","v":99.57209771112116},{"$f":"'ITCER GLOBAL'!AD71","v":97.803651950815919},{"$f":"'ITCER GLOBAL'!AE71","v":98.295941393037936},{"$f":"'ITCER GLOBAL'!AF71","v":94.052959316271384},{"$f":"'ITCER GLOBAL'!AG71","v":101.56392660012612},null,{"$f":"IF(EFECTOS!$N$9=\"COSTA RICA\",LOOKUP(1,GEfectos!$C$4:$I$4,GEfectos!C71:I71),IF(EFECTOS!$N$9=\"EL SALVADOR\",LOOKUP(2,GEfectos!$C$4:$I$4,GEfectos!C71:I71),IF(EFECTOS!$N$9=\"GUATEMALA\",LOOKUP(3,GEfectos!$C$4:$I$4,GEfectos!C71:I71),IF(EFECTOS!$N$9=\"HONDURAS\",LOOKUP(4,GEfectos!$C$4:$I$4,GEfectos!C71:I71),IF(EFECTOS!$N$9=\"NICARAGUA\",LOOKUP(5,GEfectos!$C$4:$I$4,GEfectos!C71:I71),IF(EFECTOS!$N$9=\"REPÚBLICA \nDOMINICANA\",LOOKUP(6,$C$4:$I$4,C71:I71),IF(EFECTOS!$N$9=\"PANAMÁ\",LOOKUP(7,GEfectos!$C$4:$I$4,GEfectos!C71:I71))))))))","v":101.37386510731613},{"$f":"IF(EFECTOS!$N$9=\"COSTA RICA\",LOOKUP(1,GEfectos!$J$4:$P$4,GEfectos!J71:P71),IF(EFECTOS!$N$9=\"EL SALVADOR\",LOOKUP(2,GEfectos!$J$4:$P$4,GEfectos!J71:P71),IF(EFECTOS!$N$9=\"GUATEMALA\",LOOKUP(3,GEfectos!$J$4:$P$4,GEfectos!J71:P71),IF(EFECTOS!$N$9=\"HONDURAS\",LOOKUP(4,GEfectos!$J$4:$P$4,GEfectos!J71:P71),IF(EFECTOS!$N$9=\"NICARAGUA\",LOOKUP(5,GEfectos!$J$4:$P$4,GEfectos!J71:P71),IF(EFECTOS!$N$9=\"REPÚBLICA \nDOMINICANA\",LOOKUP(6,$J$4:$P$4,J71:P71),IF(EFECTOS!$N$9=\"PANAMÁ\",LOOKUP(7,GEfectos!$J$4:$P$4,GEfectos!J71:P71))))))))","v":97.620753438208823},{"$f":"IF(EFECTOS!$N$9=\"COSTA RICA\",LOOKUP(1,GEfectos!$Q$4:$W$4,GEfectos!Q71:W71),IF(EFECTOS!$N$9=\"EL SALVADOR\",LOOKUP(2,GEfectos!$Q$4:$W$4,GEfectos!Q71:W71),IF(EFECTOS!$N$9=\"GUATEMALA\",LOOKUP(3,GEfectos!$Q$4:$W$4,GEfectos!Q71:W71),IF(EFECTOS!$N$9=\"HONDURAS\",LOOKUP(4,GEfectos!$Q$4:$W$4,GEfectos!Q71:W71),IF(EFECTOS!$N$9=\"NICARAGUA\",LOOKUP(5,GEfectos!$Q$4:$W$4,GEfectos!Q71:W71),IF(EFECTOS!$N$9=\"REPÚBLICA \nDOMINICANA\",LOOKUP(6,$Q$4:$W$4,Q71:W71),IF(EFECTOS!$N$9=\"PANAMÁ\",LOOKUP(7,GEfectos!$Q$4:$W$4,GEfectos!Q71:W71))))))))","v":96.297752221310489},100]
[null,{"$f":"'ITCER GLOBAL'!B72","v":"Julio"},{"$f":"'ITCER GLOBAL'!C72","v":100.78201467571792},{"$f":"'ITCER GLOBAL'!D72","v":100.87011665473095},{"$f":"'ITCER GLOBAL'!E72","v":102.08951671092751},{"$f":"'ITCER GLOBAL'!F72","v":100.87702751812225},{"$f":"'ITCER GLOBAL'!G72","v":101.03891665568605},{"$f":"'ITCER GLOBAL'!H72","v":103.68690015690893},{"$f":"'ITCER GLOBAL'!I72","v":100.02572015877467},{"$f":"'ITCER GLOBAL'!S72","v":98.13233081467682},{"$f":"'ITCER GLOBAL'!T72","v":101.16714461142486},{"$f":"'ITCER GLOBAL'!U72","v":101.65565393283262},{"$f":"'ITCER GLOBAL'!V72","v":99.134746721770441},{"$f":"'ITCER GLOBAL'!W72","v":98.715334773506086},{"$f":"'ITCER GLOBAL'!X72","v":97.754748805776259},{"$f":"'ITCER GLOBAL'!Y72","v":101.54563171977888},{"$f":"'ITCER GLOBAL'!AA72","v":97.370876272351893},{"$f":"'ITCER GLOBAL'!AB72","v":100.29446576106442},{"$f":"'ITCER GLOBAL'!AC72","v":99.575017306308339},{"$f":"'ITCER GLOBAL'!AD72","v":98.272866638503203},{"$f":"'ITCER GLOBAL'!AE72","v":97.700309980462166},{"$f":"'ITCER GLOBAL'!AF72","v":94.278784164484065},{"$f":"'ITCER GLOBAL'!AG72","v":101.51952073785783},null,{"$f":"IF(EFECTOS!$N$9=\"COSTA RICA\",LOOKUP(1,GEfectos!$C$4:$I$4,GEfectos!C72:I72),IF(EFECTOS!$N$9=\"EL SALVADOR\",LOOKUP(2,GEfectos!$C$4:$I$4,GEfectos!C72:I72),IF(EFECTOS!$N$9=\"GUATEMALA\",LOOKUP(3,GEfectos!$C$4:$I$4,GEfectos!C72:I72),IF(EFECTOS!$N$9=\"HONDURAS\",LOOKUP(4,GEfectos!$C$4:$I$4,GEfectos!C72:I72),IF(EFECTOS!$N$9=\"NICARAGUA\",LOOKUP(5,GEfectos!$C$4:$I$4,GEfectos!C72:I72),IF(EFECTOS!$N$9=\"REPÚBLICA \nDOMINICANA\",LOOKUP(6,$C$4:$I$4,C72:I72),IF(EFECTOS!$N$9=\"PANAMÁ\",LOOKUP(7,GEfectos!$C$4:$I$4,GEfectos!C72:I72))))))))","v":100.78201467571792},{"$f":"IF(EFECTOS!$N$9=\"COSTA RICA\",LOOKUP(1,GEfectos!$J$4:$P$4,GEfectos!J72:P72),IF(EFECTOS!$N$9=\"EL SALVADOR\",LOOKUP(2,GEfectos!$J$4:$P$4,GEfectos!J72:P72),IF(EFECTOS!$N$9=\"GUATEMALA\",LOOKUP(3,GEfectos!$J$4:$P$4,GEfectos!J72:P72),IF(EFECTOS!$N$9=\"HONDURAS\",LOOKUP(4,GEfectos!$J$4:$P$4,GEfectos!J72:P72),IF(EFECTOS!$N$9=\"NICARAGUA\",LOOKUP(5,GEfectos!$J$4:$P$4,GEfectos!J72:P72),IF(EFECTOS!$N$9=\"REPÚBLICA \nDOMINICANA\",LOOKUP(6,$J$4:$P$4,J72:P72),IF(EFECTOS!$N$9=\"PANAMÁ\",LOOKUP(7,GEfectos!$J$4:$P$4,GEfectos!J72:P72))))))))","v":98.13233081467682},{"$f":"IF(EFECTOS!$N$9=\"COSTA RICA\",LOOKUP(1,GEfectos!$Q$4:$W$4,GEfectos!Q72:W72),IF(EFECTOS!$N$9=\"EL SALVADOR\",LOOKUP(2,GEfectos!$Q$4:$W$4,GEfectos!Q72:W72),IF(EFECTOS!$N$9=\"GUATEMALA\",LOOKUP(3,GEfectos!$Q$4:$W$4,GEfectos!Q72:W72),IF(EFECTOS!$N$9=\"HONDURAS\",LOOKUP(4,GEfectos!$Q$4:$W$4,GEfectos!Q72:W72),IF(EFECTOS!$N$9=\"NICARAGUA\",LOOKUP(5,GEfectos!$Q$4:$W$4,GEfectos!Q72:W72),IF(EFECTOS!$N$9=\"REPÚBLICA \nDOMINICANA\",LOOKUP(6,$Q$4:$W$4,Q72:W72),IF(EFECTOS!$N$9=\"PANAMÁ\",LOOKUP(7,GEfectos!$Q$4:$W$4,GEfectos!Q72:W72))))))))","v":97.370876272351893},100]
[null,{"$f":"'ITCER GLOBAL'!B73","v":"Agosto"},{"$f":"'ITCER GLOBAL'!C73","v":100.32060429366905},{"$f":"'ITCER GLOBAL'!D73","v":100.14585746197565},{"$f":"'ITCER GLOBAL'!E73","v":102.38957660482079},{"$f":"'ITCER GLOBAL'!F73","v":100.51876809633265},{"$f":"'ITCER GLOBAL'!G73","v":101.09934390446607},{"$f":"'ITCER GLOBAL'!H73","v":102.31020453833094},{"$f":"'ITCER GLOBAL'!I73","v":100.00533185334443},{"$f":"'ITCER GLOBAL'!S73","v":98.270226421350827},{"$f":"'ITCER GLOBAL'!T73","v":100.78350142953036},{"$f":"'ITCER GLOBAL'!U73","v":101.31515376424535},{"$f":"'ITCER GLOBAL'!V73","v":99.155055479634086},{"$f":"'ITCER GLOBAL'!W73","v":98.764536193174962},{"$f":"'ITCER GLOBAL'!X73","v":97.506992613508714},{"$f":"'ITCER GLOBAL'!Y73","v":101.09711391038803},{"$f":"'ITCER GLOBAL'!AA73","v":97.956174719286835},{"$f":"'ITCER GLOBAL'!AB73","v":100.63671527082067},{"$f":"'ITCER GLOBAL'!AC73","v":98.950652130614586},{"$f":"'ITCER GLOBAL'!AD73","v":98.643325378409287},{"$f":"'ITCER GLOBAL'!AE73","v":97.690580748479064},{"$f":"'ITCER GLOBAL'!AF73","v":95.305246483968602},{"$f":"'ITCER GLOBAL'!AG73","v":101.09172384792909},null,{"$f":"IF(EFECTOS!$N$9=\"COSTA RICA\",LOOKUP(1,GEfectos!$C$4:$I$4,GEfectos!C73:I73),IF(EFECTOS!$N$9=\"EL SALVADOR\",LOOKUP(2,GEfectos!$C$4:$I$4,GEfectos!C73:I73),IF(EFECTOS!$N$9=\"GUATEMALA\",LOOKUP(3,GEfectos!$C$4:$I$4,GEfectos!C73:I73),IF(EFECTOS!$N$9=\"HONDURAS\",LOOKUP(4,GEfectos!$C$4:$I$4,GEfectos!C73:I73),IF(EFECTOS!$N$9=\"NICARAGUA\",LOOKUP(5,GEfectos!$C$4:$I$4,GEfectos!C73:I73),IF(EFECTOS!$N$9=\"REPÚBLICA \nDOMINICANA\",LOOKUP(6,$C$4:$I$4,C73:I73),IF(EFECTOS!$N$9=\"PANAMÁ\",LOOKUP(7,GEfectos!$C$4:$I$4,GEfectos!C73:I73))))))))","v":100.32060429366905},{"$f":"IF(EFECTOS!$N$9=\"COSTA RICA\",LOOKUP(1,GEfectos!$J$4:$P$4,GEfectos!J73:P73),IF(EFECTOS!$N$9=\"EL SALVADOR\",LOOKUP(2,GEfectos!$J$4:$P$4,GEfectos!J73:P73),IF(EFECTOS!$N$9=\"GUATEMALA\",LOOKUP(3,GEfectos!$J$4:$P$4,GEfectos!J73:P73),IF(EFECTOS!$N$9=\"HONDURAS\",LOOKUP(4,GEfectos!$J$4:$P$4,GEfectos!J73:P73),IF(EFECTOS!$N$9=\"NICARAGUA\",LOOKUP(5,GEfectos!$J$4:$P$4,GEfectos!J73:P73),IF(EFECTOS!$N$9=\"REPÚBLICA \nDOMINICANA\",LOOKUP(6,$J$4:$P$4,J73:P73),IF(EFECTOS!$N$9=\"PANAMÁ\",LOOKUP(7,GEfectos!$J$4:$P$4,GEfectos!J73:P73))))))))","v":98.270226421350827},{"$f":"IF(EFECTOS!$N$9=\"COSTA RICA\",LOOKUP(1,GEfectos!$Q$4:$W$4,GEfectos!Q73:W73),IF(EFECTOS!$N$9=\"EL SALVADOR\",LOOKUP(2,GEfectos!$Q$4:$W$4,GEfectos!Q73:W73),IF(EFECTOS!$N$9=\"GUATEMALA\",LOOKUP(3,GEfectos!$Q$4:$W$4,GEfectos!Q73:W73),IF(EFECTOS!$N$9=\"HONDURAS\",LOOKUP(4,GEfectos!$Q$4:$W$4,GEfectos!Q73:W73),IF(EFECTOS!$N$9=\"NICARAGUA\",LOOKUP(5,GEfectos!$Q$4:$W$4,GEfectos!Q73:W73),IF(EFECTOS!$N$9=\"REPÚBLICA \nDOMINICANA\",LOOKUP(6,$Q$4:$W$4,Q73:W73),IF(EFECTOS!$N$9=\"PANAMÁ\",LOOKUP(7,GEfectos!$Q$4:$W$4,GEfectos!Q73:W73))))))))","v":97.956174719286835},100]
[null,{"$f":"'ITCER GLOBAL'!B74","v":"Septiembre"},{"$f":"'ITCER GLOBAL'!C74","v":100.5382093443481},{"$f":"'ITCER GLOBAL'!D74","v":99.77231221501215},{"$f":"'ITCER GLOBAL'!E74","v":103.0303020153931},{"$f":"'ITCER GLOBAL'!F74","v":100.87514359226077},{"$f":"'ITCER GLOBAL'!G74","v":101.04479799542409},{"$f":"'ITCER GLOBAL'!H74","v":100.77980319894509},{"$f":"'ITCER GLOBAL'!I74","v":99.597358642224606},{"$f":"'ITCER GLOBAL'!S74","v":98.373490731146518},{"$f":"'ITCER GLOBAL'!T74","v":100.17174124846888},{"$f":"'ITCER GLOBAL'!U74","v":101.52011844217905},{"$f":"'ITCER GLOBAL'!V74","v":99.204290088222351},{"$f":"'ITCER GLOBAL'!W74","v":98.717549385589066},{"$f":"'ITCER GLOBAL'!X74","v":99.215048372437877},{"$f":"'ITCER GLOBAL'!Y74","v":100.60903610893357},{"$f":"'ITCER GLOBAL'!AA74","v":97.846869735080205},{"$f":"'ITCER GLOBAL'!AB74","v":100.40034056001024},{"$f":"'ITCER GLOBAL'!AC74","v":98.534233576265336},{"$f":"'ITCER GLOBAL'!AD74","v":98.343642006803933},{"$f":"'ITCER GLOBAL'!AE74","v":97.696815020660026},{"$f":"'ITCER GLOBAL'!AF74","v":98.447352766289598},{"$f":"'ITCER GLOBAL'!AG74","v":101.01576736622417},null,{"$f":"IF(EFECTOS!$N$9=\"COSTA RICA\",LOOKUP(1,GEfectos!$C$4:$I$4,GEfectos!C74:I74),IF(EFECTOS!$N$9=\"EL SALVADOR\",LOOKUP(2,GEfectos!$C$4:$I$4,GEfectos!C74:I74),IF(EFECTOS!$N$9=\"GUATEMALA\",LOOKUP(3,GEfectos!$C$4:$I$4,GEfectos!C74:I74),IF(EFECTOS!$N$9=\"HONDURAS\",LOOKUP(4,GEfectos!$C$4:$I$4,GEfectos!C74:I74),IF(EFECTOS!$N$9=\"NICARAGUA\",LOOKUP(5,GEfectos!$C$4:$I$4,GEfectos!C74:I74),IF(EFECTOS!$N$9=\"REPÚBLICA \nDOMINICANA\",LOOKUP(6,$C$4:$I$4,C74:I74),IF(EFECTOS!$N$9=\"PANAMÁ\",LOOKUP(7,GEfectos!$C$4:$I$4,GEfectos!C74:I74))))))))","v":100.5382093443481},{"$f":"IF(EFECTOS!$N$9=\"COSTA RICA\",LOOKUP(1,GEfectos!$J$4:$P$4,GEfectos!J74:P74),IF(EFECTOS!$N$9=\"EL SALVADOR\",LOOKUP(2,GEfectos!$J$4:$P$4,GEfectos!J74:P74),IF(EFECTOS!$N$9=\"GUATEMALA\",LOOKUP(3,GEfectos!$J$4:$P$4,GEfectos!J74:P74),IF(EFECTOS!$N$9=\"HONDURAS\",LOOKUP(4,GEfectos!$J$4:$P$4,GEfectos!J74:P74),IF(EFECTOS!$N$9=\"NICARAGUA\",LOOKUP(5,GEfectos!$J$4:$P$4,GEfectos!J74:P74),IF(EFECTOS!$N$9=\"REPÚBLICA \nDOMINICANA\",LOOKUP(6,$J$4:$P$4,J74:P74),IF(EFECTOS!$N$9=\"PANAMÁ\",LOOKUP(7,GEfectos!$J$4:$P$4,GEfectos!J74:P74))))))))","v":98.373490731146518},{"$f":"IF(EFECTOS!$N$9=\"COSTA RICA\",LOOKUP(1,GEfectos!$Q$4:$W$4,GEfectos!Q74:W74),IF(EFECTOS!$N$9=\"EL SALVADOR\",LOOKUP(2,GEfectos!$Q$4:$W$4,GEfectos!Q74:W74),IF(EFECTOS!$N$9=\"GUATEMALA\",LOOKUP(3,GEfectos!$Q$4:$W$4,GEfectos!Q74:W74),IF(EFECTOS!$N$9=\"HONDURAS\",LOOKUP(4,GEfectos!$Q$4:$W$4,GEfectos!Q74:W74),IF(EFECTOS!$N$9=\"NICARAGUA\",LOOKUP(5,GEfectos!$Q$4:$W$4,GEfectos!Q74:W74),IF(EFECTOS!$N$9=\"REPÚBLICA \nDOMINICANA\",LOOKUP(6,$Q$4:$W$4,Q74:W74),IF(EFECTOS!$N$9=\"PANAMÁ\",LOOKUP(7,GEfectos!$Q$4:$W$4,GEfectos!Q74:W74))))))))","v":97.846869735080205},100]
[null,{"$f":"'ITCER GLOBAL'!B75","v":"Octubre"},{"$f":"'ITCER GLOBAL'!C75","v":100.26671870483847},{"$f":"'ITCER GLOBAL'!D75","v":99.533558181031921},{"$f":"'ITCER GLOBAL'!E75","v":102.58324081404733},{"$f":"'ITCER GLOBAL'!F75","v":100.48478022840233},{"$f":"'ITCER GLOBAL'!G75","v":100.17878010661505},{"$f":"'ITCER GLOBAL'!H75","v":100.84828367304743},{"$f":"'ITCER GLOBAL'!I75","v":99.483793940277991},{"$f":"'ITCER GLOBAL'!S75","v":98.548938626410589},{"$f":"'ITCER GLOBAL'!T75","v":99.639573582248289},{"$f":"'ITCER GLOBAL'!U75","v":101.18914327617048},{"$f":"'ITCER GLOBAL'!V75","v":99.164604521056859},{"$f":"'ITCER GLOBAL'!W75","v":98.733419680982109},{"$f":"'ITCER GLOBAL'!X75","v":99.384220630359863},{"$f":"'ITCER GLOBAL'!Y75","v":100.04327508064767},{"$f":"'ITCER GLOBAL'!AA75","v":98.286789374762904},{"$f":"'ITCER GLOBAL'!AB75","v":100.10651221874693},{"$f":"'ITCER GLOBAL'!AC75","v":98.641008485583015},{"$f":"'ITCER GLOBAL'!AD75","v":98.686193367448581},{"$f":"'ITCER GLOBAL'!AE75","v":98.557218979813172},{"$f":"'ITCER GLOBAL'!AF75","v":98.548251899423406},{"$f":"'ITCER GLOBAL'!AG75","v":100.56238420169778},null,{"$f":"IF(EFECTOS!$N$9=\"COSTA RICA\",LOOKUP(1,GEfectos!$C$4:$I$4,GEfectos!C75:I75),IF(EFECTOS!$N$9=\"EL SALVADOR\",LOOKUP(2,GEfectos!$C$4:$I$4,GEfectos!C75:I75),IF(EFECTOS!$N$9=\"GUATEMALA\",LOOKUP(3,GEfectos!$C$4:$I$4,GEfectos!C75:I75),IF(EFECTOS!$N$9=\"HONDURAS\",LOOKUP(4,GEfectos!$C$4:$I$4,GEfectos!C75:I75),IF(EFECTOS!$N$9=\"NICARAGUA\",LOOKUP(5,GEfectos!$C$4:$I$4,GEfectos!C75:I75),IF(EFECTOS!$N$9=\"REPÚBLICA \nDOMINICANA\",LOOKUP(6,$C$4:$I$4,C75:I75),IF(EFECTOS!$N$9=\"PANAMÁ\",LOOKUP(7,GEfectos!$C$4:$I$4,GEfectos!C75:I75))))))))","v":100.26671870483847},{"$f":"IF(EFECTOS!$N$9=\"COSTA RICA\",LOOKUP(1,GEfectos!$J$4:$P$4,GEfectos!J75:P75),IF(EFECTOS!$N$9=\"EL SALVADOR\",LOOKUP(2,GEfectos!$J$4:$P$4,GEfectos!J75:P75),IF(EFECTOS!$N$9=\"GUATEMALA\",LOOKUP(3,GEfectos!$J$4:$P$4,GEfectos!J75:P75),IF(EFECTOS!$N$9=\"HONDURAS\",LOOKUP(4,GEfectos!$J$4:$P$4,GEfectos!J75:P75),IF(EFECTOS!$N$9=\"NICARAGUA\",LOOKUP(5,GEfectos!$J$4:$P$4,GEfectos!J75:P75),IF(EFECTOS!$N$9=\"REPÚBLICA \nDOMINICANA\",LOOKUP(6,$J$4:$P$4,J75:P75),IF(EFECTOS!$N$9=\"PANAMÁ\",LOOKUP(7,GEfectos!$J$4:$P$4,GEfectos!J75:P75))))))))","v":98.548938626410589},{"$f":"IF(EFECTOS!$N$9=\"COSTA RICA\",LOOKUP(1,GEfectos!$Q$4:$W$4,GEfectos!Q75:W75),IF(EFECTOS!$N$9=\"EL SALVADOR\",LOOKUP(2,GEfectos!$Q$4:$W$4,GEfectos!Q75:W75),IF(EFECTOS!$N$9=\"GUATEMALA\",LOOKUP(3,GEfectos!$Q$4:$W$4,GEfectos!Q75:W75),IF(EFECTOS!$N$9=\"HONDURAS\",LOOKUP(4,GEfectos!$Q$4:$W$4,GEfectos!Q75:W75),IF(EFECTOS!$N$9=\"NICARAGUA\",LOOKUP(5,GEfectos!$Q$4:$W$4,GEfectos!Q75:W75),IF(EFECTOS!$N$9=\"REPÚBLICA \nDOMINICANA\",LOOKUP(6,$Q$4:$W$4,Q75:W75),IF(EFECTOS!$N$9=\"PANAMÁ\",LOOKUP(7,GEfectos!$Q$4:$W$4,GEfectos!Q75:W75))))))))","v":98.286789374762904},100]
[null,{"$f":"'ITCER GLOBAL'!B76","v":"Noviembre"},{"$f":"'ITCER GLOBAL'!C76","v":100.10633717771441},{"$f":"'ITCER GLOBAL'!D76","v":99.673104187345004},{"$f":"'ITCER GLOBAL'!E76","v":101.27702805773511},{"$f":"'ITCER GLOBAL'!F76","v":99.857917208145011},{"$f":"'ITCER GLOBAL'!G76","v":99.893987260492011},{"$f":"'ITCER GLOBAL'!H76","v":100.65375458620841},{"$f":"'ITCER GLOBAL'!I76","v":99.796322695946316},{"$f":"'ITCER GLOBAL'!S76","v":99.065524801360482},{"$f":"'ITCER GLOBAL'!T76","v":99.647118965860315},{"$f":"'ITCER GLOBAL'!U76","v":100.38015942406315},{"$f":"'ITCER GLOBAL'!V76","v":99.479026251789421},{"$f":"'ITCER GLOBAL'!W76","v":99.179190560819066},{"$f":"'ITCER GLOBAL'!X76","v":99.583606748301378},{"$f":"'ITCER GLOBAL'!Y76","v":99.935315885967242},{"$f":"'ITCER GLOBAL'!AA76","v":98.960293218494044},{"$f":"'ITCER GLOBAL'!AB76","v":99.973929555323309},{"$f":"'ITCER GLOBAL'!AC76","v":99.114440213272573},{"$f":"'ITCER GLOBAL'!AD76","v":99.620569938820353},{"$f":"'ITCER GLOBAL'!AE76","v":99.284444720572623},{"$f":"'ITCER GLOBAL'!AF76","v":98.936802862142144},{"$f":"'ITCER GLOBAL'!AG76","v":100.13927686538551},null,{"$f":"IF(EFECTOS!$N$9=\"COSTA RICA\",LOOKUP(1,GEfectos!$C$4:$I$4,GEfectos!C76:I76),IF(EFECTOS!$N$9=\"EL SALVADOR\",LOOKUP(2,GEfectos!$C$4:$I$4,GEfectos!C76:I76),IF(EFECTOS!$N$9=\"GUATEMALA\",LOOKUP(3,GEfectos!$C$4:$I$4,GEfectos!C76:I76),IF(EFECTOS!$N$9=\"HONDURAS\",LOOKUP(4,GEfectos!$C$4:$I$4,GEfectos!C76:I76),IF(EFECTOS!$N$9=\"NICARAGUA\",LOOKUP(5,GEfectos!$C$4:$I$4,GEfectos!C76:I76),IF(EFECTOS!$N$9=\"REPÚBLICA \nDOMINICANA\",LOOKUP(6,$C$4:$I$4,C76:I76),IF(EFECTOS!$N$9=\"PANAMÁ\",LOOKUP(7,GEfectos!$C$4:$I$4,GEfectos!C76:I76))))))))","v":100.10633717771441},{"$f":"IF(EFECTOS!$N$9=\"COSTA RICA\",LOOKUP(1,GEfectos!$J$4:$P$4,GEfectos!J76:P76),IF(EFECTOS!$N$9=\"EL SALVADOR\",LOOKUP(2,GEfectos!$J$4:$P$4,GEfectos!J76:P76),IF(EFECTOS!$N$9=\"GUATEMALA\",LOOKUP(3,GEfectos!$J$4:$P$4,GEfectos!J76:P76),IF(EFECTOS!$N$9=\"HONDURAS\",LOOKUP(4,GEfectos!$J$4:$P$4,GEfectos!J76:P76),IF(EFECTOS!$N$9=\"NICARAGUA\",LOOKUP(5,GEfectos!$J$4:$P$4,GEfectos!J76:P76),IF(EFECTOS!$N$9=\"REPÚBLICA \nDOMINICANA\",LOOKUP(6,$J$4:$P$4,J76:P76),IF(EFECTOS!$N$9=\"PANAMÁ\",LOOKUP(7,GEfectos!$J$4:$P$4,GEfectos!J76:P76))))))))","v":99.065524801360482},{"$f":"IF(EFECTOS!$N$9=\"COSTA RICA\",LOOKUP(1,GEfectos!$Q$4:$W$4,GEfectos!Q76:W76),IF(EFECTOS!$N$9=\"EL SALVADOR\",LOOKUP(2,GEfectos!$Q$4:$W$4,GEfectos!Q76:W76),IF(EFECTOS!$N$9=\"GUATEMALA\",LOOKUP(3,GEfectos!$Q$4:$W$4,GEfectos!Q76:W76),IF(EFECTOS!$N$9=\"HONDURAS\",LOOKUP(4,GEfectos!$Q$4:$W$4,GEfectos!Q76:W76),IF(EFECTOS!$N$9=\"NICARAGUA\",LOOKUP(5,GEfectos!$Q$4:$W$4,GEfectos!Q76:W76),IF(EFECTOS!$N$9=\"REPÚBLICA \nDOMINICANA\",LOOKUP(6,$Q$4:$W$4,Q76:W76),IF(EFECTOS!$N$9=\"PANAMÁ\",LOOKUP(7,GEfectos!$Q$4:$W$4,GEfectos!Q76:W76))))))))","v":98.960293218494044},100]
[null,{"$f":"'ITCER GLOBAL'!B77","v":"Diciembre"},{"$f":"'ITCER GLOBAL'!C77","v":100},{"$f":"'ITCER GLOBAL'!D77","v":100},{"$f":"'ITCER GLOBAL'!E77","v":100},{"$f":"'ITCER GLOBAL'!F77","v":100},{"$f":"'ITCER GLOBAL'!G77","v":100},{"$f":"'ITCER GLOBAL'!H77","v":100},{"$f":"'ITCER GLOBAL'!I77","v":100},{"$f":"'ITCER GLOBAL'!S77","v":100},{"$f":"'ITCER GLOBAL'!T77","v":100},{"$f":"'ITCER GLOBAL'!U77","v":100},{"$f":"'ITCER GLOBAL'!V77","v":100},{"$f":"'ITCER GLOBAL'!W77","v":100},{"$f":"'ITCER GLOBAL'!X77","v":100},{"$f":"'ITCER GLOBAL'!Y77","v":100},{"$f":"'ITCER GLOBAL'!AA77","v":100},{"$f":"'ITCER GLOBAL'!AB77","v":100},{"$f":"'ITCER GLOBAL'!AC77","v":100},{"$f":"'ITCER GLOBAL'!AD77","v":100},{"$f":"'ITCER GLOBAL'!AE77","v":100},{"$f":"'ITCER GLOBAL'!AF77","v":100},{"$f":"'ITCER GLOBAL'!AG77","v":100},null,{"$f":"IF(EFECTOS!$N$9=\"COSTA RICA\",LOOKUP(1,GEfectos!$C$4:$I$4,GEfectos!C77:I77),IF(EFECTOS!$N$9=\"EL SALVADOR\",LOOKUP(2,GEfectos!$C$4:$I$4,GEfectos!C77:I77),IF(EFECTOS!$N$9=\"GUATEMALA\",LOOKUP(3,GEfectos!$C$4:$I$4,GEfectos!C77:I77),IF(EFECTOS!$N$9=\"HONDURAS\",LOOKUP(4,GEfectos!$C$4:$I$4,GEfectos!C77:I77),IF(EFECTOS!$N$9=\"NICARAGUA\",LOOKUP(5,GEfectos!$C$4:$I$4,GEfectos!C77:I77),IF(EFECTOS!$N$9=\"REPÚBLICA \nDOMINICANA\",LOOKUP(6,$C$4:$I$4,C77:I77),IF(EFECTOS!$N$9=\"PANAMÁ\",LOOKUP(7,GEfectos!$C$4:$I$4,GEfectos!C77:I77))))))))","v":100},{"$f":"IF(EFECTOS!$N$9=\"COSTA RICA\",LOOKUP(1,GEfectos!$J$4:$P$4,GEfectos!J77:P77),IF(EFECTOS!$N$9=\"EL SALVADOR\",LOOKUP(2,GEfectos!$J$4:$P$4,GEfectos!J77:P77),IF(EFECTOS!$N$9=\"GUATEMALA\",LOOKUP(3,GEfectos!$J$4:$P$4,GEfectos!J77:P77),IF(EFECTOS!$N$9=\"HONDURAS\",LOOKUP(4,GEfectos!$J$4:$P$4,GEfectos!J77:P77),IF(EFECTOS!$N$9=\"NICARAGUA\",LOOKUP(5,GEfectos!$J$4:$P$4,GEfectos!J77:P77),IF(EFECTOS!$N$9=\"REPÚBLICA \nDOMINICANA\",LOOKUP(6,$J$4:$P$4,J77:P77),IF(EFECTOS!$N$9=\"PANAMÁ\",LOOKUP(7,GEfectos!$J$4:$P$4,GEfectos!J77:P77))))))))","v":100},{"$f":"IF(EFECTOS!$N$9=\"COSTA RICA\",LOOKUP(1,GEfectos!$Q$4:$W$4,GEfectos!Q77:W77),IF(EFECTOS!$N$9=\"EL SALVADOR\",LOOKUP(2,GEfectos!$Q$4:$W$4,GEfectos!Q77:W77),IF(EFECTOS!$N$9=\"GUATEMALA\",LOOKUP(3,GEfectos!$Q$4:$W$4,GEfectos!Q77:W77),IF(EFECTOS!$N$9=\"HONDURAS\",LOOKUP(4,GEfectos!$Q$4:$W$4,GEfectos!Q77:W77),IF(EFECTOS!$N$9=\"NICARAGUA\",LOOKUP(5,GEfectos!$Q$4:$W$4,GEfectos!Q77:W77),IF(EFECTOS!$N$9=\"REPÚBLICA \nDOMINICANA\",LOOKUP(6,$Q$4:$W$4,Q77:W77),IF(EFECTOS!$N$9=\"PANAMÁ\",LOOKUP(7,GEfectos!$Q$4:$W$4,GEfectos!Q77:W77))))))))","v":100},100]
[2001,{"$f":"'ITCER GLOBAL'!B78","v":"Enero"},{"$f":"'ITCER GLOBAL'!C78","v":99.837965762892452},{"$f":"'ITCER GLOBAL'!D78","v":99.175724161486642},{"$f":"'ITCER GLOBAL'!E78","v":99.951407861692871},{"$f":"'ITCER GLOBAL'!F78","v":99.698314699284538},{"$f":"'ITCER GLOBAL'!G78","v":100.34481528194017},{"$f":"'ITCER GLOBAL'!H78","v":101.57931520205938},{"$f":"'ITCER GLOBAL'!I78","v":100.32952326870783},{"$f":"'ITCER GLOBAL'!S78","v":100.6813022136504},{"$f":"'ITCER GLOBAL'!T78","v":100.29104432305822},{"$f":"'ITCER GLOBAL'!U78","v":100.66324459356983},{"$f":"'ITCER GLOBAL'!V78","v":99.929374888703961},{"$f":"'ITCER GLOBAL'!W78","v":100.37313665940009},{"$f":"'ITCER GLOBAL'!X78","v":100.55663646320538},{"$f":"'ITCER GLOBAL'!Y78","v":99.76813577282006},{"$f":"'ITCER GLOBAL'!AA78","v":100.84470516232354},{"$f":"'ITCER GLOBAL'!AB78","v":101.12458988426998},{"$f":"'ITCER GLOBAL'!AC78","v":100.71218279672654},{"$f":"'ITCER GLOBAL'!AD78","v":100.23175937338193},{"$f":"'ITCER GLOBAL'!AE78","v":100.02822405659957},{"$f":"'ITCER GLOBAL'!AF78","v":98.993221467559906},{"$f":"'ITCER GLOBAL'!AG78","v":99.440456330701139},null,{"$f":"IF(EFECTOS!$N$9=\"COSTA RICA\",LOOKUP(1,GEfectos!$C$4:$I$4,GEfectos!C78:I78),IF(EFECTOS!$N$9=\"EL SALVADOR\",LOOKUP(2,GEfectos!$C$4:$I$4,GEfectos!C78:I78),IF(EFECTOS!$N$9=\"GUATEMALA\",LOOKUP(3,GEfectos!$C$4:$I$4,GEfectos!C78:I78),IF(EFECTOS!$N$9=\"HONDURAS\",LOOKUP(4,GEfectos!$C$4:$I$4,GEfectos!C78:I78),IF(EFECTOS!$N$9=\"NICARAGUA\",LOOKUP(5,GEfectos!$C$4:$I$4,GEfectos!C78:I78),IF(EFECTOS!$N$9=\"REPÚBLICA \nDOMINICANA\",LOOKUP(6,$C$4:$I$4,C78:I78),IF(EFECTOS!$N$9=\"PANAMÁ\",LOOKUP(7,GEfectos!$C$4:$I$4,GEfectos!C78:I78))))))))","v":99.837965762892452},{"$f":"IF(EFECTOS!$N$9=\"COSTA RICA\",LOOKUP(1,GEfectos!$J$4:$P$4,GEfectos!J78:P78),IF(EFECTOS!$N$9=\"EL SALVADOR\",LOOKUP(2,GEfectos!$J$4:$P$4,GEfectos!J78:P78),IF(EFECTOS!$N$9=\"GUATEMALA\",LOOKUP(3,GEfectos!$J$4:$P$4,GEfectos!J78:P78),IF(EFECTOS!$N$9=\"HONDURAS\",LOOKUP(4,GEfectos!$J$4:$P$4,GEfectos!J78:P78),IF(EFECTOS!$N$9=\"NICARAGUA\",LOOKUP(5,GEfectos!$J$4:$P$4,GEfectos!J78:P78),IF(EFECTOS!$N$9=\"REPÚBLICA \nDOMINICANA\",LOOKUP(6,$J$4:$P$4,J78:P78),IF(EFECTOS!$N$9=\"PANAMÁ\",LOOKUP(7,GEfectos!$J$4:$P$4,GEfectos!J78:P78))))))))","v":100.6813022136504},{"$f":"IF(EFECTOS!$N$9=\"COSTA RICA\",LOOKUP(1,GEfectos!$Q$4:$W$4,GEfectos!Q78:W78),IF(EFECTOS!$N$9=\"EL SALVADOR\",LOOKUP(2,GEfectos!$Q$4:$W$4,GEfectos!Q78:W78),IF(EFECTOS!$N$9=\"GUATEMALA\",LOOKUP(3,GEfectos!$Q$4:$W$4,GEfectos!Q78:W78),IF(EFECTOS!$N$9=\"HONDURAS\",LOOKUP(4,GEfectos!$Q$4:$W$4,GEfectos!Q78:W78),IF(EFECTOS!$N$9=\"NICARAGUA\",LOOKUP(5,GEfectos!$Q$4:$W$4,GEfectos!Q78:W78),IF(EFECTOS!$N$9=\"REPÚBLICA \nDOMINICANA\",LOOKUP(6,$Q$4:$W$4,Q78:W78),IF(EFECTOS!$N$9=\"PANAMÁ\",LOOKUP(7,GEfectos!$Q$4:$W$4,GEfectos!Q78:W78))))))))","v":100.84470516232354},100]
[null,{"$f":"'ITCER GLOBAL'!B79","v":"Febrero"},{"$f":"'ITCER GLOBAL'!C79","v":99.398246683920135},{"$f":"'ITCER GLOBAL'!D79","v":99.804242472495034},{"$f":"'ITCER GLOBAL'!E79","v":98.595130030413983},{"$f":"'ITCER GLOBAL'!F79","v":99.102775410491773},{"$f":"'ITCER GLOBAL'!G79","v":99.86204413684986},{"$f":"'ITCER GLOBAL'!H79","v":101.95850981937082},{"$f":"'ITCER GLOBAL'!I79","v":100.5630247136223},{"$f":"'ITCER GLOBAL'!S79","v":101.0057011056458},{"$f":"'ITCER GLOBAL'!T79","v":100.23609787221174},{"$f":"'ITCER GLOBAL'!U79","v":99.679807754395355},{"$f":"'ITCER GLOBAL'!V79","v":100.22593576708765},{"$f":"'ITCER GLOBAL'!W79","v":100.68752135181667},{"$f":"'ITCER GLOBAL'!X79","v":100.69386955193194},{"$f":"'ITCER GLOBAL'!Y79","v":99.589773564149738},{"$f":"'ITCER GLOBAL'!AA79","v":101.61718589145468},{"$f":"'ITCER GLOBAL'!AB79","v":100.43270244732906},{"$f":"'ITCER GLOBAL'!AC79","v":101.10013316443396},{"$f":"'ITCER GLOBAL'!AD79","v":101.13332886182415},{"$f":"'ITCER GLOBAL'!AE79","v":100.82661758238754},{"$f":"'ITCER GLOBAL'!AF79","v":98.759652068592104},{"$f":"'ITCER GLOBAL'!AG79","v":99.032197816002324},null,{"$f":"IF(EFECTOS!$N$9=\"COSTA RICA\",LOOKUP(1,GEfectos!$C$4:$I$4,GEfectos!C79:I79),IF(EFECTOS!$N$9=\"EL SALVADOR\",LOOKUP(2,GEfectos!$C$4:$I$4,GEfectos!C79:I79),IF(EFECTOS!$N$9=\"GUATEMALA\",LOOKUP(3,GEfectos!$C$4:$I$4,GEfectos!C79:I79),IF(EFECTOS!$N$9=\"HONDURAS\",LOOKUP(4,GEfectos!$C$4:$I$4,GEfectos!C79:I79),IF(EFECTOS!$N$9=\"NICARAGUA\",LOOKUP(5,GEfectos!$C$4:$I$4,GEfectos!C79:I79),IF(EFECTOS!$N$9=\"REPÚBLICA \nDOMINICANA\",LOOKUP(6,$C$4:$I$4,C79:I79),IF(EFECTOS!$N$9=\"PANAMÁ\",LOOKUP(7,GEfectos!$C$4:$I$4,GEfectos!C79:I79))))))))","v":99.398246683920135},{"$f":"IF(EFECTOS!$N$9=\"COSTA RICA\",LOOKUP(1,GEfectos!$J$4:$P$4,GEfectos!J79:P79),IF(EFECTOS!$N$9=\"EL SALVADOR\",LOOKUP(2,GEfectos!$J$4:$P$4,GEfectos!J79:P79),IF(EFECTOS!$N$9=\"GUATEMALA\",LOOKUP(3,GEfectos!$J$4:$P$4,GEfectos!J79:P79),IF(EFECTOS!$N$9=\"HONDURAS\",LOOKUP(4,GEfectos!$J$4:$P$4,GEfectos!J79:P79),IF(EFECTOS!$N$9=\"NICARAGUA\",LOOKUP(5,GEfectos!$J$4:$P$4,GEfectos!J79:P79),IF(EFECTOS!$N$9=\"REPÚBLICA \nDOMINICANA\",LOOKUP(6,$J$4:$P$4,J79:P79),IF(EFECTOS!$N$9=\"PANAMÁ\",LOOKUP(7,GEfectos!$J$4:$P$4,GEfectos!J79:P79))))))))","v":101.0057011056458},{"$f":"IF(EFECTOS!$N$9=\"COSTA RICA\",LOOKUP(1,GEfectos!$Q$4:$W$4,GEfectos!Q79:W79),IF(EFECTOS!$N$9=\"EL SALVADOR\",LOOKUP(2,GEfectos!$Q$4:$W$4,GEfectos!Q79:W79),IF(EFECTOS!$N$9=\"GUATEMALA\",LOOKUP(3,GEfectos!$Q$4:$W$4,GEfectos!Q79:W79),IF(EFECTOS!$N$9=\"HONDURAS\",LOOKUP(4,GEfectos!$Q$4:$W$4,GEfectos!Q79:W79),IF(EFECTOS!$N$9=\"NICARAGUA\",LOOKUP(5,GEfectos!$Q$4:$W$4,GEfectos!Q79:W79),IF(EFECTOS!$N$9=\"REPÚBLICA \nDOMINICANA\",LOOKUP(6,$Q$4:$W$4,Q79:W79),IF(EFECTOS!$N$9=\"PANAMÁ\",LOOKUP(7,GEfectos!$Q$4:$W$4,GEfectos!Q79:W79))))))))","v":101.61718589145468},100]
[null,{"$f":"'ITCER GLOBAL'!B80","v":"Marzo"},{"$f":"'ITCER GLOBAL'!C80","v":98.224090300281418},{"$f":"'ITCER GLOBAL'!D80","v":99.767358745352752},{"$f":"'ITCER GLOBAL'!E80","v":97.550525437463108},{"$f":"'ITCER GLOBAL'!F80","v":98.517543066485047},{"$f":"'ITCER GLOBAL'!G80","v":100.35831019845472},{"$f":"'ITCER GLOBAL'!H80","v":102.38031081612301},{"$f":"'ITCER GLOBAL'!I80","v":100.05531385919026},{"$f":"'ITCER GLOBAL'!S80","v":101.22933841217174},{"$f":"'ITCER GLOBAL'!T80","v":99.996093754111683},{"$f":"'ITCER GLOBAL'!U80","v":98.784513608086925},{"$f":"'ITCER GLOBAL'!V80","v":100.2305716260493},{"$f":"'ITCER GLOBAL'!W80","v":100.73673143462581},{"$f":"'ITCER GLOBAL'!X80","v":100.41823757496485},{"$f":"'ITCER GLOBAL'!Y80","v":98.879150489921514},{"$f":"'ITCER GLOBAL'!AA80","v":103.05958355297867},{"$f":"'ITCER GLOBAL'!AB80","v":100.2292683815984},{"$f":"'ITCER GLOBAL'!AC80","v":101.26497337158362},{"$f":"'ITCER GLOBAL'!AD80","v":101.73880560379811},{"$f":"'ITCER GLOBAL'!AE80","v":100.37707015534916},{"$f":"'ITCER GLOBAL'!AF80","v":98.083544359733281},{"$f":"'ITCER GLOBAL'!AG80","v":98.824486852418474},null,{"$f":"IF(EFECTOS!$N$9=\"COSTA RICA\",LOOKUP(1,GEfectos!$C$4:$I$4,GEfectos!C80:I80),IF(EFECTOS!$N$9=\"EL SALVADOR\",LOOKUP(2,GEfectos!$C$4:$I$4,GEfectos!C80:I80),IF(EFECTOS!$N$9=\"GUATEMALA\",LOOKUP(3,GEfectos!$C$4:$I$4,GEfectos!C80:I80),IF(EFECTOS!$N$9=\"HONDURAS\",LOOKUP(4,GEfectos!$C$4:$I$4,GEfectos!C80:I80),IF(EFECTOS!$N$9=\"NICARAGUA\",LOOKUP(5,GEfectos!$C$4:$I$4,GEfectos!C80:I80),IF(EFECTOS!$N$9=\"REPÚBLICA \nDOMINICANA\",LOOKUP(6,$C$4:$I$4,C80:I80),IF(EFECTOS!$N$9=\"PANAMÁ\",LOOKUP(7,GEfectos!$C$4:$I$4,GEfectos!C80:I80))))))))","v":98.224090300281418},{"$f":"IF(EFECTOS!$N$9=\"COSTA RICA\",LOOKUP(1,GEfectos!$J$4:$P$4,GEfectos!J80:P80),IF(EFECTOS!$N$9=\"EL SALVADOR\",LOOKUP(2,GEfectos!$J$4:$P$4,GEfectos!J80:P80),IF(EFECTOS!$N$9=\"GUATEMALA\",LOOKUP(3,GEfectos!$J$4:$P$4,GEfectos!J80:P80),IF(EFECTOS!$N$9=\"HONDURAS\",LOOKUP(4,GEfectos!$J$4:$P$4,GEfectos!J80:P80),IF(EFECTOS!$N$9=\"NICARAGUA\",LOOKUP(5,GEfectos!$J$4:$P$4,GEfectos!J80:P80),IF(EFECTOS!$N$9=\"REPÚBLICA \nDOMINICANA\",LOOKUP(6,$J$4:$P$4,J80:P80),IF(EFECTOS!$N$9=\"PANAMÁ\",LOOKUP(7,GEfectos!$J$4:$P$4,GEfectos!J80:P80))))))))","v":101.22933841217174},{"$f":"IF(EFECTOS!$N$9=\"COSTA RICA\",LOOKUP(1,GEfectos!$Q$4:$W$4,GEfectos!Q80:W80),IF(EFECTOS!$N$9=\"EL SALVADOR\",LOOKUP(2,GEfectos!$Q$4:$W$4,GEfectos!Q80:W80),IF(EFECTOS!$N$9=\"GUATEMALA\",LOOKUP(3,GEfectos!$Q$4:$W$4,GEfectos!Q80:W80),IF(EFECTOS!$N$9=\"HONDURAS\",LOOKUP(4,GEfectos!$Q$4:$W$4,GEfectos!Q80:W80),IF(EFECTOS!$N$9=\"NICARAGUA\",LOOKUP(5,GEfectos!$Q$4:$W$4,GEfectos!Q80:W80),IF(EFECTOS!$N$9=\"REPÚBLICA \nDOMINICANA\",LOOKUP(6,$Q$4:$W$4,Q80:W80),IF(EFECTOS!$N$9=\"PANAMÁ\",LOOKUP(7,GEfectos!$Q$4:$W$4,GEfectos!Q80:W80))))))))","v":103.05958355297867},100]
[null,{"$f":"'ITCER GLOBAL'!B81","v":"Abril"},{"$f":"'ITCER GLOBAL'!C81","v":97.690429038072651},{"$f":"'ITCER GLOBAL'!D81","v":99.886293067843411},{"$f":"'ITCER GLOBAL'!E81","v":98.007383004397909},{"$f":"'ITCER GLOBAL'!F81","v":98.522762776407816},{"$f":"'ITCER GLOBAL'!G81","v":100.3928789152401},{"$f":"'ITCER GLOBAL'!H81","v":102.02429201905082},{"$f":"'ITCER GLOBAL'!I81","v":99.925849330573058},{"$f":"'ITCER GLOBAL'!S81","v":101.50531128537337},{"$f":"'ITCER GLOBAL'!T81","v":99.770893947069311},{"$f":"'ITCER GLOBAL'!U81","v":99.233450285524697},{"$f":"'ITCER GLOBAL'!V81","v":100.43874960124603},{"$f":"'ITCER GLOBAL'!W81","v":100.96970320613462},{"$f":"'ITCER GLOBAL'!X81","v":100.27404841046841},{"$f":"'ITCER GLOBAL'!Y81","v":98.443787777706319},{"$f":"'ITCER GLOBAL'!AA81","v":103.90507267177007},{"$f":"'ITCER GLOBAL'!AB81","v":99.884469513053489},{"$f":"'ITCER GLOBAL'!AC81","v":101.25099481645354},{"$f":"'ITCER GLOBAL'!AD81","v":101.94471487689241},{"$f":"'ITCER GLOBAL'!AE81","v":100.57456693853908},{"$f":"'ITCER GLOBAL'!AF81","v":98.284483455905203},{"$f":"'ITCER GLOBAL'!AG81","v":98.51683867308067},null,{"$f":"IF(EFECTOS!$N$9=\"COSTA RICA\",LOOKUP(1,GEfectos!$C$4:$I$4,GEfectos!C81:I81),IF(EFECTOS!$N$9=\"EL SALVADOR\",LOOKUP(2,GEfectos!$C$4:$I$4,GEfectos!C81:I81),IF(EFECTOS!$N$9=\"GUATEMALA\",LOOKUP(3,GEfectos!$C$4:$I$4,GEfectos!C81:I81),IF(EFECTOS!$N$9=\"HONDURAS\",LOOKUP(4,GEfectos!$C$4:$I$4,GEfectos!C81:I81),IF(EFECTOS!$N$9=\"NICARAGUA\",LOOKUP(5,GEfectos!$C$4:$I$4,GEfectos!C81:I81),IF(EFECTOS!$N$9=\"REPÚBLICA \nDOMINICANA\",LOOKUP(6,$C$4:$I$4,C81:I81),IF(EFECTOS!$N$9=\"PANAMÁ\",LOOKUP(7,GEfectos!$C$4:$I$4,GEfectos!C81:I81))))))))","v":97.690429038072651},{"$f":"IF(EFECTOS!$N$9=\"COSTA RICA\",LOOKUP(1,GEfectos!$J$4:$P$4,GEfectos!J81:P81),IF(EFECTOS!$N$9=\"EL SALVADOR\",LOOKUP(2,GEfectos!$J$4:$P$4,GEfectos!J81:P81),IF(EFECTOS!$N$9=\"GUATEMALA\",LOOKUP(3,GEfectos!$J$4:$P$4,GEfectos!J81:P81),IF(EFECTOS!$N$9=\"HONDURAS\",LOOKUP(4,GEfectos!$J$4:$P$4,GEfectos!J81:P81),IF(EFECTOS!$N$9=\"NICARAGUA\",LOOKUP(5,GEfectos!$J$4:$P$4,GEfectos!J81:P81),IF(EFECTOS!$N$9=\"REPÚBLICA \nDOMINICANA\",LOOKUP(6,$J$4:$P$4,J81:P81),IF(EFECTOS!$N$9=\"PANAMÁ\",LOOKUP(7,GEfectos!$J$4:$P$4,GEfectos!J81:P81))))))))","v":101.50531128537337},{"$f":"IF(EFECTOS!$N$9=\"COSTA RICA\",LOOKUP(1,GEfectos!$Q$4:$W$4,GEfectos!Q81:W81),IF(EFECTOS!$N$9=\"EL SALVADOR\",LOOKUP(2,GEfectos!$Q$4:$W$4,GEfectos!Q81:W81),IF(EFECTOS!$N$9=\"GUATEMALA\",LOOKUP(3,GEfectos!$Q$4:$W$4,GEfectos!Q81:W81),IF(EFECTOS!$N$9=\"HONDURAS\",LOOKUP(4,GEfectos!$Q$4:$W$4,GEfectos!Q81:W81),IF(EFECTOS!$N$9=\"NICARAGUA\",LOOKUP(5,GEfectos!$Q$4:$W$4,GEfectos!Q81:W81),IF(EFECTOS!$N$9=\"REPÚBLICA \nDOMINICANA\",LOOKUP(6,$Q$4:$W$4,Q81:W81),IF(EFECTOS!$N$9=\"PANAMÁ\",LOOKUP(7,GEfectos!$Q$4:$W$4,GEfectos!Q81:W81))))))))","v":103.90507267177007},100]
[null,{"$f":"'ITCER GLOBAL'!B82","v":"Mayo"},{"$f":"'ITCER GLOBAL'!C82","v":97.723070687978733},{"$f":"'ITCER GLOBAL'!D82","v":100.04114987745095},{"$f":"'ITCER GLOBAL'!E82","v":98.395044048869124},{"$f":"'ITCER GLOBAL'!F82","v":98.048288469891872},{"$f":"'ITCER GLOBAL'!G82","v":100.49659189575455},{"$f":"'ITCER GLOBAL'!H82","v":102.11642565420301},{"$f":"'ITCER GLOBAL'!I82","v":100.12789480343694},{"$f":"'ITCER GLOBAL'!S82","v":101.79949248971548},{"$f":"'ITCER GLOBAL'!T82","v":99.634386282941151},{"$f":"'ITCER GLOBAL'!U82","v":99.536892272813361},{"$f":"'ITCER GLOBAL'!V82","v":100.79287013952725},{"$f":"'ITCER GLOBAL'!W82","v":101.39794687225556},{"$f":"'ITCER GLOBAL'!X82","v":100.21005673183529},{"$f":"'ITCER GLOBAL'!Y82","v":98.351585335455709},{"$f":"'ITCER GLOBAL'!AA82","v":104.17140166906177},{"$f":"'ITCER GLOBAL'!AB82","v":99.59340371936139},{"$f":"'ITCER GLOBAL'!AC82","v":101.16047330938447},{"$f":"'ITCER GLOBAL'!AD82","v":102.79921425704252},{"$f":"'ITCER GLOBAL'!AE82","v":100.89690103863025},{"$f":"'ITCER GLOBAL'!AF82","v":98.133141744675569},{"$f":"'ITCER GLOBAL'!AG82","v":98.225959437708795},null,{"$f":"IF(EFECTOS!$N$9=\"COSTA RICA\",LOOKUP(1,GEfectos!$C$4:$I$4,GEfectos!C82:I82),IF(EFECTOS!$N$9=\"EL SALVADOR\",LOOKUP(2,GEfectos!$C$4:$I$4,GEfectos!C82:I82),IF(EFECTOS!$N$9=\"GUATEMALA\",LOOKUP(3,GEfectos!$C$4:$I$4,GEfectos!C82:I82),IF(EFECTOS!$N$9=\"HONDURAS\",LOOKUP(4,GEfectos!$C$4:$I$4,GEfectos!C82:I82),IF(EFECTOS!$N$9=\"NICARAGUA\",LOOKUP(5,GEfectos!$C$4:$I$4,GEfectos!C82:I82),IF(EFECTOS!$N$9=\"REPÚBLICA \nDOMINICANA\",LOOKUP(6,$C$4:$I$4,C82:I82),IF(EFECTOS!$N$9=\"PANAMÁ\",LOOKUP(7,GEfectos!$C$4:$I$4,GEfectos!C82:I82))))))))","v":97.723070687978733},{"$f":"IF(EFECTOS!$N$9=\"COSTA RICA\",LOOKUP(1,GEfectos!$J$4:$P$4,GEfectos!J82:P82),IF(EFECTOS!$N$9=\"EL SALVADOR\",LOOKUP(2,GEfectos!$J$4:$P$4,GEfectos!J82:P82),IF(EFECTOS!$N$9=\"GUATEMALA\",LOOKUP(3,GEfectos!$J$4:$P$4,GEfectos!J82:P82),IF(EFECTOS!$N$9=\"HONDURAS\",LOOKUP(4,GEfectos!$J$4:$P$4,GEfectos!J82:P82),IF(EFECTOS!$N$9=\"NICARAGUA\",LOOKUP(5,GEfectos!$J$4:$P$4,GEfectos!J82:P82),IF(EFECTOS!$N$9=\"REPÚBLICA \nDOMINICANA\",LOOKUP(6,$J$4:$P$4,J82:P82),IF(EFECTOS!$N$9=\"PANAMÁ\",LOOKUP(7,GEfectos!$J$4:$P$4,GEfectos!J82:P82))))))))","v":101.79949248971548},{"$f":"IF(EFECTOS!$N$9=\"COSTA RICA\",LOOKUP(1,GEfectos!$Q$4:$W$4,GEfectos!Q82:W82),IF(EFECTOS!$N$9=\"EL SALVADOR\",LOOKUP(2,GEfectos!$Q$4:$W$4,GEfectos!Q82:W82),IF(EFECTOS!$N$9=\"GUATEMALA\",LOOKUP(3,GEfectos!$Q$4:$W$4,GEfectos!Q82:W82),IF(EFECTOS!$N$9=\"HONDURAS\",LOOKUP(4,GEfectos!$Q$4:$W$4,GEfectos!Q82:W82),IF(EFECTOS!$N$9=\"NICARAGUA\",LOOKUP(5,GEfectos!$Q$4:$W$4,GEfectos!Q82:W82),IF(EFECTOS!$N$9=\"REPÚBLICA \nDOMINICANA\",LOOKUP(6,$Q$4:$W$4,Q82:W82),IF(EFECTOS!$N$9=\"PANAMÁ\",LOOKUP(7,GEfectos!$Q$4:$W$4,GEfectos!Q82:W82))))))))","v":104.17140166906177},100]
[null,{"$f":"'ITCER GLOBAL'!B83","v":"Junio"},{"$f":"'ITCER GLOBAL'!C83","v":97.905091903211257},{"$f":"'ITCER GLOBAL'!D83","v":99.907751092170798},{"$f":"'ITCER GLOBAL'!E83","v":98.026373930594175},{"$f":"'ITCER GLOBAL'!F83","v":97.852641394025781},{"$f":"'ITCER GLOBAL'!G83","v":100.19973893793764},{"$f":"'ITCER GLOBAL'!H83","v":102.69269483925333},{"$f":"'ITCER GLOBAL'!I83","v":100.7250039054021},{"$f":"'ITCER GLOBAL'!S83","v":102.11262115259765},{"$f":"'ITCER GLOBAL'!T83","v":99.402856379038568},{"$f":"'ITCER GLOBAL'!U83","v":99.765600336002862},{"$f":"'ITCER GLOBAL'!V83","v":101.0523103285468},{"$f":"'ITCER GLOBAL'!W83","v":101.58275828615871},{"$f":"'ITCER GLOBAL'!X83","v":100.08017115678216},{"$f":"'ITCER GLOBAL'!Y83","v":98.132070121836236},{"$f":"'ITCER GLOBAL'!AA83","v":104.29755916428324},{"$f":"'ITCER GLOBAL'!AB83","v":99.494639096954103},{"$f":"'ITCER GLOBAL'!AC83","v":101.77424333439093},{"$f":"'ITCER GLOBAL'!AD83","v":103.26988509348136},{"$f":"'ITCER GLOBAL'!AE83","v":101.38026242670921},{"$f":"'ITCER GLOBAL'!AF83","v":97.455979038664225},{"$f":"'ITCER GLOBAL'!AG83","v":97.42572977609305},null,{"$f":"IF(EFECTOS!$N$9=\"COSTA RICA\",LOOKUP(1,GEfectos!$C$4:$I$4,GEfectos!C83:I83),IF(EFECTOS!$N$9=\"EL SALVADOR\",LOOKUP(2,GEfectos!$C$4:$I$4,GEfectos!C83:I83),IF(EFECTOS!$N$9=\"GUATEMALA\",LOOKUP(3,GEfectos!$C$4:$I$4,GEfectos!C83:I83),IF(EFECTOS!$N$9=\"HONDURAS\",LOOKUP(4,GEfectos!$C$4:$I$4,GEfectos!C83:I83),IF(EFECTOS!$N$9=\"NICARAGUA\",LOOKUP(5,GEfectos!$C$4:$I$4,GEfectos!C83:I83),IF(EFECTOS!$N$9=\"REPÚBLICA \nDOMINICANA\",LOOKUP(6,$C$4:$I$4,C83:I83),IF(EFECTOS!$N$9=\"PANAMÁ\",LOOKUP(7,GEfectos!$C$4:$I$4,GEfectos!C83:I83))))))))","v":97.905091903211257},{"$f":"IF(EFECTOS!$N$9=\"COSTA RICA\",LOOKUP(1,GEfectos!$J$4:$P$4,GEfectos!J83:P83),IF(EFECTOS!$N$9=\"EL SALVADOR\",LOOKUP(2,GEfectos!$J$4:$P$4,GEfectos!J83:P83),IF(EFECTOS!$N$9=\"GUATEMALA\",LOOKUP(3,GEfectos!$J$4:$P$4,GEfectos!J83:P83),IF(EFECTOS!$N$9=\"HONDURAS\",LOOKUP(4,GEfectos!$J$4:$P$4,GEfectos!J83:P83),IF(EFECTOS!$N$9=\"NICARAGUA\",LOOKUP(5,GEfectos!$J$4:$P$4,GEfectos!J83:P83),IF(EFECTOS!$N$9=\"REPÚBLICA \nDOMINICANA\",LOOKUP(6,$J$4:$P$4,J83:P83),IF(EFECTOS!$N$9=\"PANAMÁ\",LOOKUP(7,GEfectos!$J$4:$P$4,GEfectos!J83:P83))))))))","v":102.11262115259765},{"$f":"IF(EFECTOS!$N$9=\"COSTA RICA\",LOOKUP(1,GEfectos!$Q$4:$W$4,GEfectos!Q83:W83),IF(EFECTOS!$N$9=\"EL SALVADOR\",LOOKUP(2,GEfectos!$Q$4:$W$4,GEfectos!Q83:W83),IF(EFECTOS!$N$9=\"GUATEMALA\",LOOKUP(3,GEfectos!$Q$4:$W$4,GEfectos!Q83:W83),IF(EFECTOS!$N$9=\"HONDURAS\",LOOKUP(4,GEfectos!$Q$4:$W$4,GEfectos!Q83:W83),IF(EFECTOS!$N$9=\"NICARAGUA\",LOOKUP(5,GEfectos!$Q$4:$W$4,GEfectos!Q83:W83),IF(EFECTOS!$N$9=\"REPÚBLICA \nDOMINICANA\",LOOKUP(6,$Q$4:$W$4,Q83:W83),IF(EFECTOS!$N$9=\"PANAMÁ\",LOOKUP(7,GEfectos!$Q$4:$W$4,GEfectos!Q83:W83))))))))","v":104.29755916428324},100]
[null,{"$f":"'ITCER GLOBAL'!B84","v":"Julio"},{"$f":"'ITCER GLOBAL'!C84","v":97.63595767766482},{"$f":"'ITCER GLOBAL'!D84","v":99.797883720082936},{"$f":"'ITCER GLOBAL'!E84","v":96.861791210426986},{"$f":"'ITCER GLOBAL'!F84","v":97.457541242370098},{"$f":"'ITCER GLOBAL'!G84","v":100.90735877087003},{"$f":"'ITCER GLOBAL'!H84","v":102.60977900495685},{"$f":"'ITCER GLOBAL'!I84","v":100.28030932637034},{"$f":"'ITCER GLOBAL'!S84","v":102.66107027967408},{"$f":"'ITCER GLOBAL'!T84","v":99.259924312209506},{"$f":"'ITCER GLOBAL'!U84","v":99.589846106056484},{"$f":"'ITCER GLOBAL'!V84","v":101.32631915326496},{"$f":"'ITCER GLOBAL'!W84","v":101.91698321660849},{"$f":"'ITCER GLOBAL'!X84","v":100.00891324827927},{"$f":"'ITCER GLOBAL'!Y84","v":97.927710380476412},{"$f":"'ITCER GLOBAL'!AA84","v":105.14678477226509},{"$f":"'ITCER GLOBAL'!AB84","v":99.460951086515692},{"$f":"'ITCER GLOBAL'!AC84","v":102.81644068475148},{"$f":"'ITCER GLOBAL'!AD84","v":103.96970605001566},{"$f":"'ITCER GLOBAL'!AE84","v":101.00054590471544},{"$f":"'ITCER GLOBAL'!AF84","v":97.465284710776018},{"$f":"'ITCER GLOBAL'!AG84","v":97.65397717488365},null,{"$f":"IF(EFECTOS!$N$9=\"COSTA RICA\",LOOKUP(1,GEfectos!$C$4:$I$4,GEfectos!C84:I84),IF(EFECTOS!$N$9=\"EL SALVADOR\",LOOKUP(2,GEfectos!$C$4:$I$4,GEfectos!C84:I84),IF(EFECTOS!$N$9=\"GUATEMALA\",LOOKUP(3,GEfectos!$C$4:$I$4,GEfectos!C84:I84),IF(EFECTOS!$N$9=\"HONDURAS\",LOOKUP(4,GEfectos!$C$4:$I$4,GEfectos!C84:I84),IF(EFECTOS!$N$9=\"NICARAGUA\",LOOKUP(5,GEfectos!$C$4:$I$4,GEfectos!C84:I84),IF(EFECTOS!$N$9=\"REPÚBLICA \nDOMINICANA\",LOOKUP(6,$C$4:$I$4,C84:I84),IF(EFECTOS!$N$9=\"PANAMÁ\",LOOKUP(7,GEfectos!$C$4:$I$4,GEfectos!C84:I84))))))))","v":97.63595767766482},{"$f":"IF(EFECTOS!$N$9=\"COSTA RICA\",LOOKUP(1,GEfectos!$J$4:$P$4,GEfectos!J84:P84),IF(EFECTOS!$N$9=\"EL SALVADOR\",LOOKUP(2,GEfectos!$J$4:$P$4,GEfectos!J84:P84),IF(EFECTOS!$N$9=\"GUATEMALA\",LOOKUP(3,GEfectos!$J$4:$P$4,GEfectos!J84:P84),IF(EFECTOS!$N$9=\"HONDURAS\",LOOKUP(4,GEfectos!$J$4:$P$4,GEfectos!J84:P84),IF(EFECTOS!$N$9=\"NICARAGUA\",LOOKUP(5,GEfectos!$J$4:$P$4,GEfectos!J84:P84),IF(EFECTOS!$N$9=\"REPÚBLICA \nDOMINICANA\",LOOKUP(6,$J$4:$P$4,J84:P84),IF(EFECTOS!$N$9=\"PANAMÁ\",LOOKUP(7,GEfectos!$J$4:$P$4,GEfectos!J84:P84))))))))","v":102.66107027967408},{"$f":"IF(EFECTOS!$N$9=\"COSTA RICA\",LOOKUP(1,GEfectos!$Q$4:$W$4,GEfectos!Q84:W84),IF(EFECTOS!$N$9=\"EL SALVADOR\",LOOKUP(2,GEfectos!$Q$4:$W$4,GEfectos!Q84:W84),IF(EFECTOS!$N$9=\"GUATEMALA\",LOOKUP(3,GEfectos!$Q$4:$W$4,GEfectos!Q84:W84),IF(EFECTOS!$N$9=\"HONDURAS\",LOOKUP(4,GEfectos!$Q$4:$W$4,GEfectos!Q84:W84),IF(EFECTOS!$N$9=\"NICARAGUA\",LOOKUP(5,GEfectos!$Q$4:$W$4,GEfectos!Q84:W84),IF(EFECTOS!$N$9=\"REPÚBLICA \nDOMINICANA\",LOOKUP(6,$Q$4:$W$4,Q84:W84),IF(EFECTOS!$N$9=\"PANAMÁ\",LOOKUP(7,GEfectos!$Q$4:$W$4,GEfectos!Q84:W84))))))))","v":105.14678477226509},100]
[null,{"$f":"'ITCER GLOBAL'!B85","v":"Agosto"},{"$f":"'ITCER GLOBAL'!C85","v":98.034748489474026},{"$f":"'ITCER GLOBAL'!D85","v":100.0351936635146},{"$f":"'ITCER GLOBAL'!E85","v":96.905441478180819},{"$f":"'ITCER GLOBAL'!F85","v":97.430751729056368},{"$f":"'ITCER GLOBAL'!G85","v":101.99096797265825},{"$f":"'ITCER GLOBAL'!H85","v":102.25246823639576},{"$f":"'ITCER GLOBAL'!I85","v":101.10830532600356},{"$f":"'ITCER GLOBAL'!S85","v":103.80125353094498},{"$f":"'ITCER GLOBAL'!T85","v":99.520255131011794},{"$f":"'ITCER GLOBAL'!U85","v":100.70606309048213},{"$f":"'ITCER GLOBAL'!V85","v":101.83320647634446},{"$f":"'ITCER GLOBAL'!W85","v":102.93373302827693},{"$f":"'ITCER GLOBAL'!X85","v":100.34571368769798},{"$f":"'ITCER GLOBAL'!Y85","v":98.644413856112294},{"$f":"'ITCER GLOBAL'!AA85","v":105.88210316272715},{"$f":"'ITCER GLOBAL'!AB85","v":99.485242629474087},{"$f":"'ITCER GLOBAL'!AC85","v":103.92198988449692},{"$f":"'ITCER GLOBAL'!AD85","v":104.51854744950629},{"$f":"'ITCER GLOBAL'!AE85","v":100.92436131782907},{"$f":"'ITCER GLOBAL'!AF85","v":98.135248389027069},{"$f":"'ITCER GLOBAL'!AG85","v":97.563116638196107},null,{"$f":"IF(EFECTOS!$N$9=\"COSTA RICA\",LOOKUP(1,GEfectos!$C$4:$I$4,GEfectos!C85:I85),IF(EFECTOS!$N$9=\"EL SALVADOR\",LOOKUP(2,GEfectos!$C$4:$I$4,GEfectos!C85:I85),IF(EFECTOS!$N$9=\"GUATEMALA\",LOOKUP(3,GEfectos!$C$4:$I$4,GEfectos!C85:I85),IF(EFECTOS!$N$9=\"HONDURAS\",LOOKUP(4,GEfectos!$C$4:$I$4,GEfectos!C85:I85),IF(EFECTOS!$N$9=\"NICARAGUA\",LOOKUP(5,GEfectos!$C$4:$I$4,GEfectos!C85:I85),IF(EFECTOS!$N$9=\"REPÚBLICA \nDOMINICANA\",LOOKUP(6,$C$4:$I$4,C85:I85),IF(EFECTOS!$N$9=\"PANAMÁ\",LOOKUP(7,GEfectos!$C$4:$I$4,GEfectos!C85:I85))))))))","v":98.034748489474026},{"$f":"IF(EFECTOS!$N$9=\"COSTA RICA\",LOOKUP(1,GEfectos!$J$4:$P$4,GEfectos!J85:P85),IF(EFECTOS!$N$9=\"EL SALVADOR\",LOOKUP(2,GEfectos!$J$4:$P$4,GEfectos!J85:P85),IF(EFECTOS!$N$9=\"GUATEMALA\",LOOKUP(3,GEfectos!$J$4:$P$4,GEfectos!J85:P85),IF(EFECTOS!$N$9=\"HONDURAS\",LOOKUP(4,GEfectos!$J$4:$P$4,GEfectos!J85:P85),IF(EFECTOS!$N$9=\"NICARAGUA\",LOOKUP(5,GEfectos!$J$4:$P$4,GEfectos!J85:P85),IF(EFECTOS!$N$9=\"REPÚBLICA \nDOMINICANA\",LOOKUP(6,$J$4:$P$4,J85:P85),IF(EFECTOS!$N$9=\"PANAMÁ\",LOOKUP(7,GEfectos!$J$4:$P$4,GEfectos!J85:P85))))))))","v":103.80125353094498},{"$f":"IF(EFECTOS!$N$9=\"COSTA RICA\",LOOKUP(1,GEfectos!$Q$4:$W$4,GEfectos!Q85:W85),IF(EFECTOS!$N$9=\"EL SALVADOR\",LOOKUP(2,GEfectos!$Q$4:$W$4,GEfectos!Q85:W85),IF(EFECTOS!$N$9=\"GUATEMALA\",LOOKUP(3,GEfectos!$Q$4:$W$4,GEfectos!Q85:W85),IF(EFECTOS!$N$9=\"HONDURAS\",LOOKUP(4,GEfectos!$Q$4:$W$4,GEfectos!Q85:W85),IF(EFECTOS!$N$9=\"NICARAGUA\",LOOKUP(5,GEfectos!$Q$4:$W$4,GEfectos!Q85:W85),IF(EFECTOS!$N$9=\"REPÚBLICA \nDOMINICANA\",LOOKUP(6,$Q$4:$W$4,Q85:W85),IF(EFECTOS!$N$9=\"PANAMÁ\",LOOKUP(7,GEfectos!$Q$4:$W$4,GEfectos!Q85:W85))))))))","v":105.88210316272715},100]
[null,{"$f":"'ITCER GLOBAL'!B86","v":"Septiembre"},{"$f":"'ITCER GLOBAL'!C86","v":98.41035591744965},{"$f":"'ITCER GLOBAL'!D86","v":100.12338838870548},{"$f":"'ITCER GLOBAL'!E86","v":98.013877004143936},{"$f":"'ITCER GLOBAL'!F86","v":97.416211160047581},{"$f":"'ITCER GLOBAL'!G86","v":102.70590734961199},{"$f":"'ITCER GLOBAL'!H86","v":101.73380167688018},{"$f":"'ITCER GLOBAL'!I86","v":100.52110919426489},{"$f":"'ITCER GLOBAL'!S86","v":104.38793996612952},{"$f":"'ITCER GLOBAL'!T86","v":99.175260456964438},{"$f":"'ITCER GLOBAL'!U86","v":101.75082216907103},{"$f":"'ITCER GLOBAL'!V86","v":102.18924211190685},{"$f":"'ITCER GLOBAL'!W86","v":103.26383092464788},{"$f":"'ITCER GLOBAL'!X86","v":100.29633746249986},{"$f":"'ITCER GLOBAL'!Y86","v":98.542514836928262},{"$f":"'ITCER GLOBAL'!AA86","v":106.07414127604019},{"$f":"'ITCER GLOBAL'!AB86","v":99.053040506319903},{"$f":"'ITCER GLOBAL'!AC86","v":103.8126694700273},{"$f":"'ITCER GLOBAL'!AD86","v":104.89962696662214},{"$f":"'ITCER GLOBAL'!AE86","v":100.54322442538452},{"$f":"'ITCER GLOBAL'!AF86","v":98.587033816994406},{"$f":"'ITCER GLOBAL'!AG86","v":98.031662828637479},null,{"$f":"IF(EFECTOS!$N$9=\"COSTA RICA\",LOOKUP(1,GEfectos!$C$4:$I$4,GEfectos!C86:I86),IF(EFECTOS!$N$9=\"EL SALVADOR\",LOOKUP(2,GEfectos!$C$4:$I$4,GEfectos!C86:I86),IF(EFECTOS!$N$9=\"GUATEMALA\",LOOKUP(3,GEfectos!$C$4:$I$4,GEfectos!C86:I86),IF(EFECTOS!$N$9=\"HONDURAS\",LOOKUP(4,GEfectos!$C$4:$I$4,GEfectos!C86:I86),IF(EFECTOS!$N$9=\"NICARAGUA\",LOOKUP(5,GEfectos!$C$4:$I$4,GEfectos!C86:I86),IF(EFECTOS!$N$9=\"REPÚBLICA \nDOMINICANA\",LOOKUP(6,$C$4:$I$4,C86:I86),IF(EFECTOS!$N$9=\"PANAMÁ\",LOOKUP(7,GEfectos!$C$4:$I$4,GEfectos!C86:I86))))))))","v":98.41035591744965},{"$f":"IF(EFECTOS!$N$9=\"COSTA RICA\",LOOKUP(1,GEfectos!$J$4:$P$4,GEfectos!J86:P86),IF(EFECTOS!$N$9=\"EL SALVADOR\",LOOKUP(2,GEfectos!$J$4:$P$4,GEfectos!J86:P86),IF(EFECTOS!$N$9=\"GUATEMALA\",LOOKUP(3,GEfectos!$J$4:$P$4,GEfectos!J86:P86),IF(EFECTOS!$N$9=\"HONDURAS\",LOOKUP(4,GEfectos!$J$4:$P$4,GEfectos!J86:P86),IF(EFECTOS!$N$9=\"NICARAGUA\",LOOKUP(5,GEfectos!$J$4:$P$4,GEfectos!J86:P86),IF(EFECTOS!$N$9=\"REPÚBLICA \nDOMINICANA\",LOOKUP(6,$J$4:$P$4,J86:P86),IF(EFECTOS!$N$9=\"PANAMÁ\",LOOKUP(7,GEfectos!$J$4:$P$4,GEfectos!J86:P86))))))))","v":104.38793996612952},{"$f":"IF(EFECTOS!$N$9=\"COSTA RICA\",LOOKUP(1,GEfectos!$Q$4:$W$4,GEfectos!Q86:W86),IF(EFECTOS!$N$9=\"EL SALVADOR\",LOOKUP(2,GEfectos!$Q$4:$W$4,GEfectos!Q86:W86),IF(EFECTOS!$N$9=\"GUATEMALA\",LOOKUP(3,GEfectos!$Q$4:$W$4,GEfectos!Q86:W86),IF(EFECTOS!$N$9=\"HONDURAS\",LOOKUP(4,GEfectos!$Q$4:$W$4,GEfectos!Q86:W86),IF(EFECTOS!$N$9=\"NICARAGUA\",LOOKUP(5,GEfectos!$Q$4:$W$4,GEfectos!Q86:W86),IF(EFECTOS!$N$9=\"REPÚBLICA \nDOMINICANA\",LOOKUP(6,$Q$4:$W$4,Q86:W86),IF(EFECTOS!$N$9=\"PANAMÁ\",LOOKUP(7,GEfectos!$Q$4:$W$4,GEfectos!Q86:W86))))))))","v":106.07414127604019},100]
[null,{"$f":"'ITCER GLOBAL'!B87","v":"Octubre"},{"$f":"'ITCER GLOBAL'!C87","v":98.725453013565541},{"$f":"'ITCER GLOBAL'!D87","v":101.03551567278714},{"$f":"'ITCER GLOBAL'!E87","v":98.841540867718038},{"$f":"'ITCER GLOBAL'!F87","v":97.354016990918183},{"$f":"'ITCER GLOBAL'!G87","v":102.46472564925689},{"$f":"'ITCER GLOBAL'!H87","v":101.12613600763274},{"$f":"'ITCER GLOBAL'!I87","v":100.09001479898701},{"$f":"'ITCER GLOBAL'!S87","v":104.91591586311159},{"$f":"'ITCER GLOBAL'!T87","v":98.753603078805256},{"$f":"'ITCER GLOBAL'!U87","v":103.60074402488448},{"$f":"'ITCER GLOBAL'!V87","v":102.53682877474218},{"$f":"'ITCER GLOBAL'!W87","v":103.36567007597586},{"$f":"'ITCER GLOBAL'!X87","v":100.18424215645352},{"$f":"'ITCER GLOBAL'!Y87","v":98.224093808400156},{"$f":"'ITCER GLOBAL'!AA87","v":106.27038181196843},{"$f":"'ITCER GLOBAL'!AB87","v":97.741474788556459},{"$f":"'ITCER GLOBAL'!AC87","v":104.81498276472216},{"$f":"'ITCER GLOBAL'!AD87","v":105.32367532847411},{"$f":"'ITCER GLOBAL'!AE87","v":100.87927276534458},{"$f":"'ITCER GLOBAL'!AF87","v":99.068595035502867},{"$f":"'ITCER GLOBAL'!AG87","v":98.135757103908688},null,{"$f":"IF(EFECTOS!$N$9=\"COSTA RICA\",LOOKUP(1,GEfectos!$C$4:$I$4,GEfectos!C87:I87),IF(EFECTOS!$N$9=\"EL SALVADOR\",LOOKUP(2,GEfectos!$C$4:$I$4,GEfectos!C87:I87),IF(EFECTOS!$N$9=\"GUATEMALA\",LOOKUP(3,GEfectos!$C$4:$I$4,GEfectos!C87:I87),IF(EFECTOS!$N$9=\"HONDURAS\",LOOKUP(4,GEfectos!$C$4:$I$4,GEfectos!C87:I87),IF(EFECTOS!$N$9=\"NICARAGUA\",LOOKUP(5,GEfectos!$C$4:$I$4,GEfectos!C87:I87),IF(EFECTOS!$N$9=\"REPÚBLICA \nDOMINICANA\",LOOKUP(6,$C$4:$I$4,C87:I87),IF(EFECTOS!$N$9=\"PANAMÁ\",LOOKUP(7,GEfectos!$C$4:$I$4,GEfectos!C87:I87))))))))","v":98.725453013565541},{"$f":"IF(EFECTOS!$N$9=\"COSTA RICA\",LOOKUP(1,GEfectos!$J$4:$P$4,GEfectos!J87:P87),IF(EFECTOS!$N$9=\"EL SALVADOR\",LOOKUP(2,GEfectos!$J$4:$P$4,GEfectos!J87:P87),IF(EFECTOS!$N$9=\"GUATEMALA\",LOOKUP(3,GEfectos!$J$4:$P$4,GEfectos!J87:P87),IF(EFECTOS!$N$9=\"HONDURAS\",LOOKUP(4,GEfectos!$J$4:$P$4,GEfectos!J87:P87),IF(EFECTOS!$N$9=\"NICARAGUA\",LOOKUP(5,GEfectos!$J$4:$P$4,GEfectos!J87:P87),IF(EFECTOS!$N$9=\"REPÚBLICA \nDOMINICANA\",LOOKUP(6,$J$4:$P$4,J87:P87),IF(EFECTOS!$N$9=\"PANAMÁ\",LOOKUP(7,GEfectos!$J$4:$P$4,GEfectos!J87:P87))))))))","v":104.91591586311159},{"$f":"IF(EFECTOS!$N$9=\"COSTA RICA\",LOOKUP(1,GEfectos!$Q$4:$W$4,GEfectos!Q87:W87),IF(EFECTOS!$N$9=\"EL SALVADOR\",LOOKUP(2,GEfectos!$Q$4:$W$4,GEfectos!Q87:W87),IF(EFECTOS!$N$9=\"GUATEMALA\",LOOKUP(3,GEfectos!$Q$4:$W$4,GEfectos!Q87:W87),IF(EFECTOS!$N$9=\"HONDURAS\",LOOKUP(4,GEfectos!$Q$4:$W$4,GEfectos!Q87:W87),IF(EFECTOS!$N$9=\"NICARAGUA\",LOOKUP(5,GEfectos!$Q$4:$W$4,GEfectos!Q87:W87),IF(EFECTOS!$N$9=\"REPÚBLICA \nDOMINICANA\",LOOKUP(6,$Q$4:$W$4,Q87:W87),IF(EFECTOS!$N$9=\"PANAMÁ\",LOOKUP(7,GEfectos!$Q$4:$W$4,GEfectos!Q87:W87))))))))","v":106.27038181196843},100]
[null,{"$f":"'ITCER GLOBAL'!B88","v":"Noviembre"},{"$f":"'ITCER GLOBAL'!C88","v":98.404370007175501},{"$f":"'ITCER GLOBAL'!D88","v":99.730413338033912},{"$f":"'ITCER GLOBAL'!E88","v":97.84131614525937},{"$f":"'ITCER GLOBAL'!F88","v":97.563464684578392},{"$f":"'ITCER GLOBAL'!G88","v":102.35208858891941},{"$f":"'ITCER GLOBAL'!H88","v":101.61670566744741},{"$f":"'ITCER GLOBAL'!I88","v":100.34015744526913},{"$f":"'ITCER GLOBAL'!S88","v":105.58022732673737},{"$f":"'ITCER GLOBAL'!T88","v":98.66113502951886},{"$f":"'ITCER GLOBAL'!U88","v":103.2104177933052},{"$f":"'ITCER GLOBAL'!V88","v":103.27220495783979},{"$f":"'ITCER GLOBAL'!W88","v":103.57060703783401},{"$f":"'ITCER GLOBAL'!X88","v":100.71744420977573},{"$f":"'ITCER GLOBAL'!Y88","v":98.087169673178764},{"$f":"'ITCER GLOBAL'!AA88","v":107.29221407447518},{"$f":"'ITCER GLOBAL'!AB88","v":98.927831267588587},{"$f":"'ITCER GLOBAL'!AC88","v":105.48756073566572},{"$f":"'ITCER GLOBAL'!AD88","v":105.85130949553474},{"$f":"'ITCER GLOBAL'!AE88","v":101.19051644740595},{"$f":"'ITCER GLOBAL'!AF88","v":99.115045649467703},{"$f":"'ITCER GLOBAL'!AG88","v":97.754649953265954},null,{"$f":"IF(EFECTOS!$N$9=\"COSTA RICA\",LOOKUP(1,GEfectos!$C$4:$I$4,GEfectos!C88:I88),IF(EFECTOS!$N$9=\"EL SALVADOR\",LOOKUP(2,GEfectos!$C$4:$I$4,GEfectos!C88:I88),IF(EFECTOS!$N$9=\"GUATEMALA\",LOOKUP(3,GEfectos!$C$4:$I$4,GEfectos!C88:I88),IF(EFECTOS!$N$9=\"HONDURAS\",LOOKUP(4,GEfectos!$C$4:$I$4,GEfectos!C88:I88),IF(EFECTOS!$N$9=\"NICARAGUA\",LOOKUP(5,GEfectos!$C$4:$I$4,GEfectos!C88:I88),IF(EFECTOS!$N$9=\"REPÚBLICA \nDOMINICANA\",LOOKUP(6,$C$4:$I$4,C88:I88),IF(EFECTOS!$N$9=\"PANAMÁ\",LOOKUP(7,GEfectos!$C$4:$I$4,GEfectos!C88:I88))))))))","v":98.404370007175501},{"$f":"IF(EFECTOS!$N$9=\"COSTA RICA\",LOOKUP(1,GEfectos!$J$4:$P$4,GEfectos!J88:P88),IF(EFECTOS!$N$9=\"EL SALVADOR\",LOOKUP(2,GEfectos!$J$4:$P$4,GEfectos!J88:P88),IF(EFECTOS!$N$9=\"GUATEMALA\",LOOKUP(3,GEfectos!$J$4:$P$4,GEfectos!J88:P88),IF(EFECTOS!$N$9=\"HONDURAS\",LOOKUP(4,GEfectos!$J$4:$P$4,GEfectos!J88:P88),IF(EFECTOS!$N$9=\"NICARAGUA\",LOOKUP(5,GEfectos!$J$4:$P$4,GEfectos!J88:P88),IF(EFECTOS!$N$9=\"REPÚBLICA \nDOMINICANA\",LOOKUP(6,$J$4:$P$4,J88:P88),IF(EFECTOS!$N$9=\"PANAMÁ\",LOOKUP(7,GEfectos!$J$4:$P$4,GEfectos!J88:P88))))))))","v":105.58022732673737},{"$f":"IF(EFECTOS!$N$9=\"COSTA RICA\",LOOKUP(1,GEfectos!$Q$4:$W$4,GEfectos!Q88:W88),IF(EFECTOS!$N$9=\"EL SALVADOR\",LOOKUP(2,GEfectos!$Q$4:$W$4,GEfectos!Q88:W88),IF(EFECTOS!$N$9=\"GUATEMALA\",LOOKUP(3,GEfectos!$Q$4:$W$4,GEfectos!Q88:W88),IF(EFECTOS!$N$9=\"HONDURAS\",LOOKUP(4,GEfectos!$Q$4:$W$4,GEfectos!Q88:W88),IF(EFECTOS!$N$9=\"NICARAGUA\",LOOKUP(5,GEfectos!$Q$4:$W$4,GEfectos!Q88:W88),IF(EFECTOS!$N$9=\"REPÚBLICA \nDOMINICANA\",LOOKUP(6,$Q$4:$W$4,Q88:W88),IF(EFECTOS!$N$9=\"PANAMÁ\",LOOKUP(7,GEfectos!$Q$4:$W$4,GEfectos!Q88:W88))))))))","v":107.29221407447518},100]
[null,{"$f":"'ITCER GLOBAL'!B89","v":"Diciembre"},{"$f":"'ITCER GLOBAL'!C89","v":97.977147487587189},{"$f":"'ITCER GLOBAL'!D89","v":100.99829413767939},{"$f":"'ITCER GLOBAL'!E89","v":95.585134426344766},{"$f":"'ITCER GLOBAL'!F89","v":97.494648378571185},{"$f":"'ITCER GLOBAL'!G89","v":102.64052946307413},{"$f":"'ITCER GLOBAL'!H89","v":102.40039130058854},{"$f":"'ITCER GLOBAL'!I89","v":100.50624527423591},{"$f":"'ITCER GLOBAL'!S89","v":106.49443413875936},{"$f":"'ITCER GLOBAL'!T89","v":98.830858047548105},{"$f":"'ITCER GLOBAL'!U89","v":101.58422917737953},{"$f":"'ITCER GLOBAL'!V89","v":103.79220490307439},{"$f":"'ITCER GLOBAL'!W89","v":103.94166566632028},{"$f":"'ITCER GLOBAL'!X89","v":102.00875087445296},{"$f":"'ITCER GLOBAL'!Y89","v":97.952937837463153},{"$f":"'ITCER GLOBAL'!AA89","v":108.69313597056012},{"$f":"'ITCER GLOBAL'!AB89","v":97.853987427573102},{"$f":"'ITCER GLOBAL'!AC89","v":106.27617964554676},{"$f":"'ITCER GLOBAL'!AD89","v":106.45938687839545},{"$f":"'ITCER GLOBAL'!AE89","v":101.26766318339604},{"$f":"'ITCER GLOBAL'!AF89","v":99.617540107843965},{"$f":"'ITCER GLOBAL'!AG89","v":97.459553453811822},null,{"$f":"IF(EFECTOS!$N$9=\"COSTA RICA\",LOOKUP(1,GEfectos!$C$4:$I$4,GEfectos!C89:I89),IF(EFECTOS!$N$9=\"EL SALVADOR\",LOOKUP(2,GEfectos!$C$4:$I$4,GEfectos!C89:I89),IF(EFECTOS!$N$9=\"GUATEMALA\",LOOKUP(3,GEfectos!$C$4:$I$4,GEfectos!C89:I89),IF(EFECTOS!$N$9=\"HONDURAS\",LOOKUP(4,GEfectos!$C$4:$I$4,GEfectos!C89:I89),IF(EFECTOS!$N$9=\"NICARAGUA\",LOOKUP(5,GEfectos!$C$4:$I$4,GEfectos!C89:I89),IF(EFECTOS!$N$9=\"REPÚBLICA \nDOMINICANA\",LOOKUP(6,$C$4:$I$4,C89:I89),IF(EFECTOS!$N$9=\"PANAMÁ\",LOOKUP(7,GEfectos!$C$4:$I$4,GEfectos!C89:I89))))))))","v":97.977147487587189},{"$f":"IF(EFECTOS!$N$9=\"COSTA RICA\",LOOKUP(1,GEfectos!$J$4:$P$4,GEfectos!J89:P89),IF(EFECTOS!$N$9=\"EL SALVADOR\",LOOKUP(2,GEfectos!$J$4:$P$4,GEfectos!J89:P89),IF(EFECTOS!$N$9=\"GUATEMALA\",LOOKUP(3,GEfectos!$J$4:$P$4,GEfectos!J89:P89),IF(EFECTOS!$N$9=\"HONDURAS\",LOOKUP(4,GEfectos!$J$4:$P$4,GEfectos!J89:P89),IF(EFECTOS!$N$9=\"NICARAGUA\",LOOKUP(5,GEfectos!$J$4:$P$4,GEfectos!J89:P89),IF(EFECTOS!$N$9=\"REPÚBLICA \nDOMINICANA\",LOOKUP(6,$J$4:$P$4,J89:P89),IF(EFECTOS!$N$9=\"PANAMÁ\",LOOKUP(7,GEfectos!$J$4:$P$4,GEfectos!J89:P89))))))))","v":106.49443413875936},{"$f":"IF(EFECTOS!$N$9=\"COSTA RICA\",LOOKUP(1,GEfectos!$Q$4:$W$4,GEfectos!Q89:W89),IF(EFECTOS!$N$9=\"EL SALVADOR\",LOOKUP(2,GEfectos!$Q$4:$W$4,GEfectos!Q89:W89),IF(EFECTOS!$N$9=\"GUATEMALA\",LOOKUP(3,GEfectos!$Q$4:$W$4,GEfectos!Q89:W89),IF(EFECTOS!$N$9=\"HONDURAS\",LOOKUP(4,GEfectos!$Q$4:$W$4,GEfectos!Q89:W89),IF(EFECTOS!$N$9=\"NICARAGUA\",LOOKUP(5,GEfectos!$Q$4:$W$4,GEfectos!Q89:W89),IF(EFECTOS!$N$9=\"REPÚBLICA \nDOMINICANA\",LOOKUP(6,$Q$4:$W$4,Q89:W89),IF(EFECTOS!$N$9=\"PANAMÁ\",LOOKUP(7,GEfectos!$Q$4:$W$4,GEfectos!Q89:W89))))))))","v":108.69313597056012},100]
[2002,{"$f":"'ITCER GLOBAL'!B90","v":"Enero"},{"$f":"'ITCER GLOBAL'!C90","v":97.5538545590816},{"$f":"'ITCER GLOBAL'!D90","v":99.78385157784048},{"$f":"'ITCER GLOBAL'!E90","v":95.088439516295693},{"$f":"'ITCER GLOBAL'!F90","v":97.980517607931404},{"$f":"'ITCER GLOBAL'!G90","v":102.90086113499419},{"$f":"'ITCER GLOBAL'!H90","v":101.89543737270712},{"$f":"'ITCER GLOBAL'!I90","v":99.864123933965502},{"$f":"'ITCER GLOBAL'!S90","v":106.76668147115306},{"$f":"'ITCER GLOBAL'!T90","v":98.894032051956515},{"$f":"'ITCER GLOBAL'!U90","v":101.64216671871654},{"$f":"'ITCER GLOBAL'!V90","v":103.77301049777464},{"$f":"'ITCER GLOBAL'!W90","v":103.90025696778511},{"$f":"'ITCER GLOBAL'!X90","v":102.1580914295489},{"$f":"'ITCER GLOBAL'!Y90","v":97.576018821342345},{"$f":"'ITCER GLOBAL'!AA90","v":109.44383689779464},{"$f":"'ITCER GLOBAL'!AB90","v":99.108252976996155},{"$f":"'ITCER GLOBAL'!AC90","v":106.89224393181644},{"$f":"'ITCER GLOBAL'!AD90","v":105.91188231217747},{"$f":"'ITCER GLOBAL'!AE90","v":100.97122203037721},{"$f":"'ITCER GLOBAL'!AF90","v":100.25776822163397},{"$f":"'ITCER GLOBAL'!AG90","v":97.708781670045852},null,{"$f":"IF(EFECTOS!$N$9=\"COSTA RICA\",LOOKUP(1,GEfectos!$C$4:$I$4,GEfectos!C90:I90),IF(EFECTOS!$N$9=\"EL SALVADOR\",LOOKUP(2,GEfectos!$C$4:$I$4,GEfectos!C90:I90),IF(EFECTOS!$N$9=\"GUATEMALA\",LOOKUP(3,GEfectos!$C$4:$I$4,GEfectos!C90:I90),IF(EFECTOS!$N$9=\"HONDURAS\",LOOKUP(4,GEfectos!$C$4:$I$4,GEfectos!C90:I90),IF(EFECTOS!$N$9=\"NICARAGUA\",LOOKUP(5,GEfectos!$C$4:$I$4,GEfectos!C90:I90),IF(EFECTOS!$N$9=\"REPÚBLICA \nDOMINICANA\",LOOKUP(6,$C$4:$I$4,C90:I90),IF(EFECTOS!$N$9=\"PANAMÁ\",LOOKUP(7,GEfectos!$C$4:$I$4,GEfectos!C90:I90))))))))","v":97.5538545590816},{"$f":"IF(EFECTOS!$N$9=\"COSTA RICA\",LOOKUP(1,GEfectos!$J$4:$P$4,GEfectos!J90:P90),IF(EFECTOS!$N$9=\"EL SALVADOR\",LOOKUP(2,GEfectos!$J$4:$P$4,GEfectos!J90:P90),IF(EFECTOS!$N$9=\"GUATEMALA\",LOOKUP(3,GEfectos!$J$4:$P$4,GEfectos!J90:P90),IF(EFECTOS!$N$9=\"HONDURAS\",LOOKUP(4,GEfectos!$J$4:$P$4,GEfectos!J90:P90),IF(EFECTOS!$N$9=\"NICARAGUA\",LOOKUP(5,GEfectos!$J$4:$P$4,GEfectos!J90:P90),IF(EFECTOS!$N$9=\"REPÚBLICA \nDOMINICANA\",LOOKUP(6,$J$4:$P$4,J90:P90),IF(EFECTOS!$N$9=\"PANAMÁ\",LOOKUP(7,GEfectos!$J$4:$P$4,GEfectos!J90:P90))))))))","v":106.76668147115306},{"$f":"IF(EFECTOS!$N$9=\"COSTA RICA\",LOOKUP(1,GEfectos!$Q$4:$W$4,GEfectos!Q90:W90),IF(EFECTOS!$N$9=\"EL SALVADOR\",LOOKUP(2,GEfectos!$Q$4:$W$4,GEfectos!Q90:W90),IF(EFECTOS!$N$9=\"GUATEMALA\",LOOKUP(3,GEfectos!$Q$4:$W$4,GEfectos!Q90:W90),IF(EFECTOS!$N$9=\"HONDURAS\",LOOKUP(4,GEfectos!$Q$4:$W$4,GEfectos!Q90:W90),IF(EFECTOS!$N$9=\"NICARAGUA\",LOOKUP(5,GEfectos!$Q$4:$W$4,GEfectos!Q90:W90),IF(EFECTOS!$N$9=\"REPÚBLICA \nDOMINICANA\",LOOKUP(6,$Q$4:$W$4,Q90:W90),IF(EFECTOS!$N$9=\"PANAMÁ\",LOOKUP(7,GEfectos!$Q$4:$W$4,GEfectos!Q90:W90))))))))","v":109.44383689779464},100]
[null,{"$f":"'ITCER GLOBAL'!B91","v":"Febrero"},{"$f":"'ITCER GLOBAL'!C91","v":98.151277958710438},{"$f":"'ITCER GLOBAL'!D91","v":99.889238177819294},{"$f":"'ITCER GLOBAL'!E91","v":93.550122056104371},{"$f":"'ITCER GLOBAL'!F91","v":97.865956191015101},{"$f":"'ITCER GLOBAL'!G91","v":102.64277697813658},{"$f":"'ITCER GLOBAL'!H91","v":102.71746217715135},{"$f":"'ITCER GLOBAL'!I91","v":100.1224033667721},{"$f":"'ITCER GLOBAL'!S91","v":107.50580300606052},{"$f":"'ITCER GLOBAL'!T91","v":98.875612376043833},{"$f":"'ITCER GLOBAL'!U91","v":100.52311697482044},{"$f":"'ITCER GLOBAL'!V91","v":104.38762636025885},{"$f":"'ITCER GLOBAL'!W91","v":104.11389332239631},{"$f":"'ITCER GLOBAL'!X91","v":102.65564459572722},{"$f":"'ITCER GLOBAL'!Y91","v":97.36197773370759},{"$f":"'ITCER GLOBAL'!AA91","v":109.5307215982305},{"$f":"'ITCER GLOBAL'!AB91","v":98.985250242903007},{"$f":"'ITCER GLOBAL'!AC91","v":107.45375288183396},{"$f":"'ITCER GLOBAL'!AD91","v":106.66388029409812},{"$f":"'ITCER GLOBAL'!AE91","v":101.43323903305254},{"$f":"'ITCER GLOBAL'!AF91","v":99.939817845852247},{"$f":"'ITCER GLOBAL'!AG91","v":97.242949090072855},null,{"$f":"IF(EFECTOS!$N$9=\"COSTA RICA\",LOOKUP(1,GEfectos!$C$4:$I$4,GEfectos!C91:I91),IF(EFECTOS!$N$9=\"EL SALVADOR\",LOOKUP(2,GEfectos!$C$4:$I$4,GEfectos!C91:I91),IF(EFECTOS!$N$9=\"GUATEMALA\",LOOKUP(3,GEfectos!$C$4:$I$4,GEfectos!C91:I91),IF(EFECTOS!$N$9=\"HONDURAS\",LOOKUP(4,GEfectos!$C$4:$I$4,GEfectos!C91:I91),IF(EFECTOS!$N$9=\"NICARAGUA\",LOOKUP(5,GEfectos!$C$4:$I$4,GEfectos!C91:I91),IF(EFECTOS!$N$9=\"REPÚBLICA \nDOMINICANA\",LOOKUP(6,$C$4:$I$4,C91:I91),IF(EFECTOS!$N$9=\"PANAMÁ\",LOOKUP(7,GEfectos!$C$4:$I$4,GEfectos!C91:I91))))))))","v":98.151277958710438},{"$f":"IF(EFECTOS!$N$9=\"COSTA RICA\",LOOKUP(1,GEfectos!$J$4:$P$4,GEfectos!J91:P91),IF(EFECTOS!$N$9=\"EL SALVADOR\",LOOKUP(2,GEfectos!$J$4:$P$4,GEfectos!J91:P91),IF(EFECTOS!$N$9=\"GUATEMALA\",LOOKUP(3,GEfectos!$J$4:$P$4,GEfectos!J91:P91),IF(EFECTOS!$N$9=\"HONDURAS\",LOOKUP(4,GEfectos!$J$4:$P$4,GEfectos!J91:P91),IF(EFECTOS!$N$9=\"NICARAGUA\",LOOKUP(5,GEfectos!$J$4:$P$4,GEfectos!J91:P91),IF(EFECTOS!$N$9=\"REPÚBLICA \nDOMINICANA\",LOOKUP(6,$J$4:$P$4,J91:P91),IF(EFECTOS!$N$9=\"PANAMÁ\",LOOKUP(7,GEfectos!$J$4:$P$4,GEfectos!J91:P91))))))))","v":107.50580300606052},{"$f":"IF(EFECTOS!$N$9=\"COSTA RICA\",LOOKUP(1,GEfectos!$Q$4:$W$4,GEfectos!Q91:W91),IF(EFECTOS!$N$9=\"EL SALVADOR\",LOOKUP(2,GEfectos!$Q$4:$W$4,GEfectos!Q91:W91),IF(EFECTOS!$N$9=\"GUATEMALA\",LOOKUP(3,GEfectos!$Q$4:$W$4,GEfectos!Q91:W91),IF(EFECTOS!$N$9=\"HONDURAS\",LOOKUP(4,GEfectos!$Q$4:$W$4,GEfectos!Q91:W91),IF(EFECTOS!$N$9=\"NICARAGUA\",LOOKUP(5,GEfectos!$Q$4:$W$4,GEfectos!Q91:W91),IF(EFECTOS!$N$9=\"REPÚBLICA \nDOMINICANA\",LOOKUP(6,$Q$4:$W$4,Q91:W91),IF(EFECTOS!$N$9=\"PANAMÁ\",LOOKUP(7,GEfectos!$Q$4:$W$4,GEfectos!Q91:W91))))))))","v":109.5307215982305},100]
[null,{"$f":"'ITCER GLOBAL'!B92","v":"Marzo"},{"$f":"'ITCER GLOBAL'!C92","v":98.916061853048049},{"$f":"'ITCER GLOBAL'!D92","v":99.92557071947779},{"$f":"'ITCER GLOBAL'!E92","v":93.222632056588296},{"$f":"'ITCER GLOBAL'!F92","v":98.46621647923061},{"$f":"'ITCER GLOBAL'!G92","v":103.57411103156207},{"$f":"'ITCER GLOBAL'!H92","v":102.20526490597517},{"$f":"'ITCER GLOBAL'!I92","v":100.47315708291458},{"$f":"'ITCER GLOBAL'!S92","v":108.62082238999588},{"$f":"'ITCER GLOBAL'!T92","v":98.948829121203701},{"$f":"'ITCER GLOBAL'!U92","v":100.30194684570894},{"$f":"'ITCER GLOBAL'!V92","v":105.07443706267301},{"$f":"'ITCER GLOBAL'!W92","v":104.78999607061353},{"$f":"'ITCER GLOBAL'!X92","v":102.7776238424041},{"$f":"'ITCER GLOBAL'!Y92","v":97.554837248335787},{"$f":"'ITCER GLOBAL'!AA92","v":109.81110686691657},{"$f":"'ITCER GLOBAL'!AB92","v":99.022530878491438},{"$f":"'ITCER GLOBAL'!AC92","v":107.59398724638383},{"$f":"'ITCER GLOBAL'!AD92","v":106.7111551755787},{"$f":"'ITCER GLOBAL'!AE92","v":101.17392756446728},{"$f":"'ITCER GLOBAL'!AF92","v":100.56000924899074},{"$f":"'ITCER GLOBAL'!AG92","v":97.095423375448945},null,{"$f":"IF(EFECTOS!$N$9=\"COSTA RICA\",LOOKUP(1,GEfectos!$C$4:$I$4,GEfectos!C92:I92),IF(EFECTOS!$N$9=\"EL SALVADOR\",LOOKUP(2,GEfectos!$C$4:$I$4,GEfectos!C92:I92),IF(EFECTOS!$N$9=\"GUATEMALA\",LOOKUP(3,GEfectos!$C$4:$I$4,GEfectos!C92:I92),IF(EFECTOS!$N$9=\"HONDURAS\",LOOKUP(4,GEfectos!$C$4:$I$4,GEfectos!C92:I92),IF(EFECTOS!$N$9=\"NICARAGUA\",LOOKUP(5,GEfectos!$C$4:$I$4,GEfectos!C92:I92),IF(EFECTOS!$N$9=\"REPÚBLICA \nDOMINICANA\",LOOKUP(6,$C$4:$I$4,C92:I92),IF(EFECTOS!$N$9=\"PANAMÁ\",LOOKUP(7,GEfectos!$C$4:$I$4,GEfectos!C92:I92))))))))","v":98.916061853048049},{"$f":"IF(EFECTOS!$N$9=\"COSTA RICA\",LOOKUP(1,GEfectos!$J$4:$P$4,GEfectos!J92:P92),IF(EFECTOS!$N$9=\"EL SALVADOR\",LOOKUP(2,GEfectos!$J$4:$P$4,GEfectos!J92:P92),IF(EFECTOS!$N$9=\"GUATEMALA\",LOOKUP(3,GEfectos!$J$4:$P$4,GEfectos!J92:P92),IF(EFECTOS!$N$9=\"HONDURAS\",LOOKUP(4,GEfectos!$J$4:$P$4,GEfectos!J92:P92),IF(EFECTOS!$N$9=\"NICARAGUA\",LOOKUP(5,GEfectos!$J$4:$P$4,GEfectos!J92:P92),IF(EFECTOS!$N$9=\"REPÚBLICA \nDOMINICANA\",LOOKUP(6,$J$4:$P$4,J92:P92),IF(EFECTOS!$N$9=\"PANAMÁ\",LOOKUP(7,GEfectos!$J$4:$P$4,GEfectos!J92:P92))))))))","v":108.62082238999588},{"$f":"IF(EFECTOS!$N$9=\"COSTA RICA\",LOOKUP(1,GEfectos!$Q$4:$W$4,GEfectos!Q92:W92),IF(EFECTOS!$N$9=\"EL SALVADOR\",LOOKUP(2,GEfectos!$Q$4:$W$4,GEfectos!Q92:W92),IF(EFECTOS!$N$9=\"GUATEMALA\",LOOKUP(3,GEfectos!$Q$4:$W$4,GEfectos!Q92:W92),IF(EFECTOS!$N$9=\"HONDURAS\",LOOKUP(4,GEfectos!$Q$4:$W$4,GEfectos!Q92:W92),IF(EFECTOS!$N$9=\"NICARAGUA\",LOOKUP(5,GEfectos!$Q$4:$W$4,GEfectos!Q92:W92),IF(EFECTOS!$N$9=\"REPÚBLICA \nDOMINICANA\",LOOKUP(6,$Q$4:$W$4,Q92:W92),IF(EFECTOS!$N$9=\"PANAMÁ\",LOOKUP(7,GEfectos!$Q$4:$W$4,GEfectos!Q92:W92))))))))","v":109.81110686691657},100]
[null,{"$f":"'ITCER GLOBAL'!B93","v":"Abril"},{"$f":"'ITCER GLOBAL'!C93","v":100.15989749990594},{"$f":"'ITCER GLOBAL'!D93","v":100.15055098520342},{"$f":"'ITCER GLOBAL'!E93","v":92.058933258122693},{"$f":"'ITCER GLOBAL'!F93","v":98.816442058602235},{"$f":"'ITCER GLOBAL'!G93","v":104.01779078401587},{"$f":"'ITCER GLOBAL'!H93","v":104.54194765434367},{"$f":"'ITCER GLOBAL'!I93","v":101.07774234513634},{"$f":"'ITCER GLOBAL'!S93","v":109.60895896370776},{"$f":"'ITCER GLOBAL'!T93","v":99.017289800557251},{"$f":"'ITCER GLOBAL'!U93","v":99.122172455234647},{"$f":"'ITCER GLOBAL'!V93","v":105.71060442597154},{"$f":"'ITCER GLOBAL'!W93","v":105.3507805227725},{"$f":"'ITCER GLOBAL'!X93","v":105.29428065800406},{"$f":"'ITCER GLOBAL'!Y93","v":97.650081488767682},{"$f":"'ITCER GLOBAL'!AA93","v":109.4339767708036},{"$f":"'ITCER GLOBAL'!AB93","v":98.868442386489107},{"$f":"'ITCER GLOBAL'!AC93","v":107.67251905614359},{"$f":"'ITCER GLOBAL'!AD93","v":106.97673608131002},{"$f":"'ITCER GLOBAL'!AE93","v":101.28150168226941},{"$f":"'ITCER GLOBAL'!AF93","v":100.7196470130324},{"$f":"'ITCER GLOBAL'!AG93","v":96.608886608621816},null,{"$f":"IF(EFECTOS!$N$9=\"COSTA RICA\",LOOKUP(1,GEfectos!$C$4:$I$4,GEfectos!C93:I93),IF(EFECTOS!$N$9=\"EL SALVADOR\",LOOKUP(2,GEfectos!$C$4:$I$4,GEfectos!C93:I93),IF(EFECTOS!$N$9=\"GUATEMALA\",LOOKUP(3,GEfectos!$C$4:$I$4,GEfectos!C93:I93),IF(EFECTOS!$N$9=\"HONDURAS\",LOOKUP(4,GEfectos!$C$4:$I$4,GEfectos!C93:I93),IF(EFECTOS!$N$9=\"NICARAGUA\",LOOKUP(5,GEfectos!$C$4:$I$4,GEfectos!C93:I93),IF(EFECTOS!$N$9=\"REPÚBLICA \nDOMINICANA\",LOOKUP(6,$C$4:$I$4,C93:I93),IF(EFECTOS!$N$9=\"PANAMÁ\",LOOKUP(7,GEfectos!$C$4:$I$4,GEfectos!C93:I93))))))))","v":100.15989749990594},{"$f":"IF(EFECTOS!$N$9=\"COSTA RICA\",LOOKUP(1,GEfectos!$J$4:$P$4,GEfectos!J93:P93),IF(EFECTOS!$N$9=\"EL SALVADOR\",LOOKUP(2,GEfectos!$J$4:$P$4,GEfectos!J93:P93),IF(EFECTOS!$N$9=\"GUATEMALA\",LOOKUP(3,GEfectos!$J$4:$P$4,GEfectos!J93:P93),IF(EFECTOS!$N$9=\"HONDURAS\",LOOKUP(4,GEfectos!$J$4:$P$4,GEfectos!J93:P93),IF(EFECTOS!$N$9=\"NICARAGUA\",LOOKUP(5,GEfectos!$J$4:$P$4,GEfectos!J93:P93),IF(EFECTOS!$N$9=\"REPÚBLICA \nDOMINICANA\",LOOKUP(6,$J$4:$P$4,J93:P93),IF(EFECTOS!$N$9=\"PANAMÁ\",LOOKUP(7,GEfectos!$J$4:$P$4,GEfectos!J93:P93))))))))","v":109.60895896370776},{"$f":"IF(EFECTOS!$N$9=\"COSTA RICA\",LOOKUP(1,GEfectos!$Q$4:$W$4,GEfectos!Q93:W93),IF(EFECTOS!$N$9=\"EL SALVADOR\",LOOKUP(2,GEfectos!$Q$4:$W$4,GEfectos!Q93:W93),IF(EFECTOS!$N$9=\"GUATEMALA\",LOOKUP(3,GEfectos!$Q$4:$W$4,GEfectos!Q93:W93),IF(EFECTOS!$N$9=\"HONDURAS\",LOOKUP(4,GEfectos!$Q$4:$W$4,GEfectos!Q93:W93),IF(EFECTOS!$N$9=\"NICARAGUA\",LOOKUP(5,GEfectos!$Q$4:$W$4,GEfectos!Q93:W93),IF(EFECTOS!$N$9=\"REPÚBLICA \nDOMINICANA\",LOOKUP(6,$Q$4:$W$4,Q93:W93),IF(EFECTOS!$N$9=\"PANAMÁ\",LOOKUP(7,GEfectos!$Q$4:$W$4,GEfectos!Q93:W93))))))))","v":109.4339767708036},100]
[null,{"$f":"'ITCER GLOBAL'!B94","v":"Mayo"},{"$f":"'ITCER GLOBAL'!C94","v":100.71333192814443},{"$f":"'ITCER GLOBAL'!D94","v":100.24980704471345},{"$f":"'ITCER GLOBAL'!E94","v":92.367034652436061},{"$f":"'ITCER GLOBAL'!F94","v":99.028903651408868},{"$f":"'ITCER GLOBAL'!G94","v":104.56325999778227},{"$f":"'ITCER GLOBAL'!H94","v":105.18661510843755},{"$f":"'ITCER GLOBAL'!I94","v":101.68494341409146},{"$f":"'ITCER GLOBAL'!S94","v":110.82507975240783},{"$f":"'ITCER GLOBAL'!T94","v":98.97216058571739},{"$f":"'ITCER GLOBAL'!U94","v":99.682001779708813},{"$f":"'ITCER GLOBAL'!V94","v":106.35645198710368},{"$f":"'ITCER GLOBAL'!W94","v":106.21897370198351},{"$f":"'ITCER GLOBAL'!X94","v":105.52185602678006},{"$f":"'ITCER GLOBAL'!Y94","v":97.927079574078462},{"$f":"'ITCER GLOBAL'!AA94","v":110.04012838288162},{"$f":"'ITCER GLOBAL'!AB94","v":98.725537238763764},{"$f":"'ITCER GLOBAL'!AC94","v":107.91945649743755},{"$f":"'ITCER GLOBAL'!AD94","v":107.39940367459633},{"$f":"'ITCER GLOBAL'!AE94","v":101.58345646858788},{"$f":"'ITCER GLOBAL'!AF94","v":100.31871062491831},{"$f":"'ITCER GLOBAL'!AG94","v":96.304404847126818},null,{"$f":"IF(EFECTOS!$N$9=\"COSTA RICA\",LOOKUP(1,GEfectos!$C$4:$I$4,GEfectos!C94:I94),IF(EFECTOS!$N$9=\"EL SALVADOR\",LOOKUP(2,GEfectos!$C$4:$I$4,GEfectos!C94:I94),IF(EFECTOS!$N$9=\"GUATEMALA\",LOOKUP(3,GEfectos!$C$4:$I$4,GEfectos!C94:I94),IF(EFECTOS!$N$9=\"HONDURAS\",LOOKUP(4,GEfectos!$C$4:$I$4,GEfectos!C94:I94),IF(EFECTOS!$N$9=\"NICARAGUA\",LOOKUP(5,GEfectos!$C$4:$I$4,GEfectos!C94:I94),IF(EFECTOS!$N$9=\"REPÚBLICA \nDOMINICANA\",LOOKUP(6,$C$4:$I$4,C94:I94),IF(EFECTOS!$N$9=\"PANAMÁ\",LOOKUP(7,GEfectos!$C$4:$I$4,GEfectos!C94:I94))))))))","v":100.71333192814443},{"$f":"IF(EFECTOS!$N$9=\"COSTA RICA\",LOOKUP(1,GEfectos!$J$4:$P$4,GEfectos!J94:P94),IF(EFECTOS!$N$9=\"EL SALVADOR\",LOOKUP(2,GEfectos!$J$4:$P$4,GEfectos!J94:P94),IF(EFECTOS!$N$9=\"GUATEMALA\",LOOKUP(3,GEfectos!$J$4:$P$4,GEfectos!J94:P94),IF(EFECTOS!$N$9=\"HONDURAS\",LOOKUP(4,GEfectos!$J$4:$P$4,GEfectos!J94:P94),IF(EFECTOS!$N$9=\"NICARAGUA\",LOOKUP(5,GEfectos!$J$4:$P$4,GEfectos!J94:P94),IF(EFECTOS!$N$9=\"REPÚBLICA \nDOMINICANA\",LOOKUP(6,$J$4:$P$4,J94:P94),IF(EFECTOS!$N$9=\"PANAMÁ\",LOOKUP(7,GEfectos!$J$4:$P$4,GEfectos!J94:P94))))))))","v":110.82507975240783},{"$f":"IF(EFECTOS!$N$9=\"COSTA RICA\",LOOKUP(1,GEfectos!$Q$4:$W$4,GEfectos!Q94:W94),IF(EFECTOS!$N$9=\"EL SALVADOR\",LOOKUP(2,GEfectos!$Q$4:$W$4,GEfectos!Q94:W94),IF(EFECTOS!$N$9=\"GUATEMALA\",LOOKUP(3,GEfectos!$Q$4:$W$4,GEfectos!Q94:W94),IF(EFECTOS!$N$9=\"HONDURAS\",LOOKUP(4,GEfectos!$Q$4:$W$4,GEfectos!Q94:W94),IF(EFECTOS!$N$9=\"NICARAGUA\",LOOKUP(5,GEfectos!$Q$4:$W$4,GEfectos!Q94:W94),IF(EFECTOS!$N$9=\"REPÚBLICA \nDOMINICANA\",LOOKUP(6,$Q$4:$W$4,Q94:W94),IF(EFECTOS!$N$9=\"PANAMÁ\",LOOKUP(7,GEfectos!$Q$4:$W$4,GEfectos!Q94:W94))))))))","v":110.04012838288162},100]
[null,{"$f":"'ITCER GLOBAL'!B95","v":"Junio"},{"$f":"'ITCER GLOBAL'!C95","v":101.37279805157242},{"$f":"'ITCER GLOBAL'!D95","v":99.770016837179796},{"$f":"'ITCER GLOBAL'!E95","v":92.424936145701011},{"$f":"'ITCER GLOBAL'!F95","v":98.685547683990407},{"$f":"'ITCER GLOBAL'!G95","v":105.6159267510053},{"$f":"'ITCER GLOBAL'!H95","v":105.34050674430931},{"$f":"'ITCER GLOBAL'!I95","v":101.95897907230044},{"$f":"'ITCER GLOBAL'!S95","v":112.14359391633889},{"$f":"'ITCER GLOBAL'!T95","v":98.955525058088725},{"$f":"'ITCER GLOBAL'!U95","v":100.09233880594748},{"$f":"'ITCER GLOBAL'!V95","v":107.00186203843253},{"$f":"'ITCER GLOBAL'!W95","v":107.19522604315641},{"$f":"'ITCER GLOBAL'!X95","v":105.7383977916037},{"$f":"'ITCER GLOBAL'!Y95","v":98.164678808631706},{"$f":"'ITCER GLOBAL'!AA95","v":110.62493693750757},{"$f":"'ITCER GLOBAL'!AB95","v":99.183630708993192},{"$f":"'ITCER GLOBAL'!AC95","v":108.29581602107832},{"$f":"'ITCER GLOBAL'!AD95","v":108.42708435998402},{"$f":"'ITCER GLOBAL'!AE95","v":101.49532304523954},{"$f":"'ITCER GLOBAL'!AF95","v":100.37771894173642},{"$f":"'ITCER GLOBAL'!AG95","v":96.278601160788256},null,{"$f":"IF(EFECTOS!$N$9=\"COSTA RICA\",LOOKUP(1,GEfectos!$C$4:$I$4,GEfectos!C95:I95),IF(EFECTOS!$N$9=\"EL SALVADOR\",LOOKUP(2,GEfectos!$C$4:$I$4,GEfectos!C95:I95),IF(EFECTOS!$N$9=\"GUATEMALA\",LOOKUP(3,GEfectos!$C$4:$I$4,GEfectos!C95:I95),IF(EFECTOS!$N$9=\"HONDURAS\",LOOKUP(4,GEfectos!$C$4:$I$4,GEfectos!C95:I95),IF(EFECTOS!$N$9=\"NICARAGUA\",LOOKUP(5,GEfectos!$C$4:$I$4,GEfectos!C95:I95),IF(EFECTOS!$N$9=\"REPÚBLICA \nDOMINICANA\",LOOKUP(6,$C$4:$I$4,C95:I95),IF(EFECTOS!$N$9=\"PANAMÁ\",LOOKUP(7,GEfectos!$C$4:$I$4,GEfectos!C95:I95))))))))","v":101.37279805157242},{"$f":"IF(EFECTOS!$N$9=\"COSTA RICA\",LOOKUP(1,GEfectos!$J$4:$P$4,GEfectos!J95:P95),IF(EFECTOS!$N$9=\"EL SALVADOR\",LOOKUP(2,GEfectos!$J$4:$P$4,GEfectos!J95:P95),IF(EFECTOS!$N$9=\"GUATEMALA\",LOOKUP(3,GEfectos!$J$4:$P$4,GEfectos!J95:P95),IF(EFECTOS!$N$9=\"HONDURAS\",LOOKUP(4,GEfectos!$J$4:$P$4,GEfectos!J95:P95),IF(EFECTOS!$N$9=\"NICARAGUA\",LOOKUP(5,GEfectos!$J$4:$P$4,GEfectos!J95:P95),IF(EFECTOS!$N$9=\"REPÚBLICA \nDOMINICANA\",LOOKUP(6,$J$4:$P$4,J95:P95),IF(EFECTOS!$N$9=\"PANAMÁ\",LOOKUP(7,GEfectos!$J$4:$P$4,GEfectos!J95:P95))))))))","v":112.14359391633889},{"$f":"IF(EFECTOS!$N$9=\"COSTA RICA\",LOOKUP(1,GEfectos!$Q$4:$W$4,GEfectos!Q95:W95),IF(EFECTOS!$N$9=\"EL SALVADOR\",LOOKUP(2,GEfectos!$Q$4:$W$4,GEfectos!Q95:W95),IF(EFECTOS!$N$9=\"GUATEMALA\",LOOKUP(3,GEfectos!$Q$4:$W$4,GEfectos!Q95:W95),IF(EFECTOS!$N$9=\"HONDURAS\",LOOKUP(4,GEfectos!$Q$4:$W$4,GEfectos!Q95:W95),IF(EFECTOS!$N$9=\"NICARAGUA\",LOOKUP(5,GEfectos!$Q$4:$W$4,GEfectos!Q95:W95),IF(EFECTOS!$N$9=\"REPÚBLICA \nDOMINICANA\",LOOKUP(6,$Q$4:$W$4,Q95:W95),IF(EFECTOS!$N$9=\"PANAMÁ\",LOOKUP(7,GEfectos!$Q$4:$W$4,GEfectos!Q95:W95))))))))","v":110.62493693750757},100]
[null,{"$f":"'ITCER GLOBAL'!B96","v":"Julio"},{"$f":"'ITCER GLOBAL'!C96","v":101.2133370734191},{"$f":"'ITCER GLOBAL'!D96","v":100.00771302589952},{"$f":"'ITCER GLOBAL'!E96","v":91.477802335545121},{"$f":"'ITCER GLOBAL'!F96","v":98.837772540815408},{"$f":"'ITCER GLOBAL'!G96","v":106.48941017531672},{"$f":"'ITCER GLOBAL'!H96","v":105.24444734826872},{"$f":"'ITCER GLOBAL'!I96","v":102.10784488238488},{"$f":"'ITCER GLOBAL'!S96","v":113.47101080730422},{"$f":"'ITCER GLOBAL'!T96","v":99.106539931346077},{"$f":"'ITCER GLOBAL'!U96","v":99.683283840543069},{"$f":"'ITCER GLOBAL'!V96","v":107.8072583142152},{"$f":"'ITCER GLOBAL'!W96","v":107.92383360348907},{"$f":"'ITCER GLOBAL'!X96","v":105.96383033484014},{"$f":"'ITCER GLOBAL'!Y96","v":98.336896116461631},{"$f":"'ITCER GLOBAL'!AA96","v":112.11072975984729},{"$f":"'ITCER GLOBAL'!AB96","v":99.098896407799998},{"$f":"'ITCER GLOBAL'!AC96","v":108.96991542811645},{"$f":"'ITCER GLOBAL'!AD96","v":109.07495742044956},{"$f":"'ITCER GLOBAL'!AE96","v":101.34701039832112},{"$f":"'ITCER GLOBAL'!AF96","v":100.68353533577965},{"$f":"'ITCER GLOBAL'!AG96","v":96.306896134898452},null,{"$f":"IF(EFECTOS!$N$9=\"COSTA RICA\",LOOKUP(1,GEfectos!$C$4:$I$4,GEfectos!C96:I96),IF(EFECTOS!$N$9=\"EL SALVADOR\",LOOKUP(2,GEfectos!$C$4:$I$4,GEfectos!C96:I96),IF(EFECTOS!$N$9=\"GUATEMALA\",LOOKUP(3,GEfectos!$C$4:$I$4,GEfectos!C96:I96),IF(EFECTOS!$N$9=\"HONDURAS\",LOOKUP(4,GEfectos!$C$4:$I$4,GEfectos!C96:I96),IF(EFECTOS!$N$9=\"NICARAGUA\",LOOKUP(5,GEfectos!$C$4:$I$4,GEfectos!C96:I96),IF(EFECTOS!$N$9=\"REPÚBLICA \nDOMINICANA\",LOOKUP(6,$C$4:$I$4,C96:I96),IF(EFECTOS!$N$9=\"PANAMÁ\",LOOKUP(7,GEfectos!$C$4:$I$4,GEfectos!C96:I96))))))))","v":101.2133370734191},{"$f":"IF(EFECTOS!$N$9=\"COSTA RICA\",LOOKUP(1,GEfectos!$J$4:$P$4,GEfectos!J96:P96),IF(EFECTOS!$N$9=\"EL SALVADOR\",LOOKUP(2,GEfectos!$J$4:$P$4,GEfectos!J96:P96),IF(EFECTOS!$N$9=\"GUATEMALA\",LOOKUP(3,GEfectos!$J$4:$P$4,GEfectos!J96:P96),IF(EFECTOS!$N$9=\"HONDURAS\",LOOKUP(4,GEfectos!$J$4:$P$4,GEfectos!J96:P96),IF(EFECTOS!$N$9=\"NICARAGUA\",LOOKUP(5,GEfectos!$J$4:$P$4,GEfectos!J96:P96),IF(EFECTOS!$N$9=\"REPÚBLICA \nDOMINICANA\",LOOKUP(6,$J$4:$P$4,J96:P96),IF(EFECTOS!$N$9=\"PANAMÁ\",LOOKUP(7,GEfectos!$J$4:$P$4,GEfectos!J96:P96))))))))","v":113.47101080730422},{"$f":"IF(EFECTOS!$N$9=\"COSTA RICA\",LOOKUP(1,GEfectos!$Q$4:$W$4,GEfectos!Q96:W96),IF(EFECTOS!$N$9=\"EL SALVADOR\",LOOKUP(2,GEfectos!$Q$4:$W$4,GEfectos!Q96:W96),IF(EFECTOS!$N$9=\"GUATEMALA\",LOOKUP(3,GEfectos!$Q$4:$W$4,GEfectos!Q96:W96),IF(EFECTOS!$N$9=\"HONDURAS\",LOOKUP(4,GEfectos!$Q$4:$W$4,GEfectos!Q96:W96),IF(EFECTOS!$N$9=\"NICARAGUA\",LOOKUP(5,GEfectos!$Q$4:$W$4,GEfectos!Q96:W96),IF(EFECTOS!$N$9=\"REPÚBLICA \nDOMINICANA\",LOOKUP(6,$Q$4:$W$4,Q96:W96),IF(EFECTOS!$N$9=\"PANAMÁ\",LOOKUP(7,GEfectos!$Q$4:$W$4,GEfectos!Q96:W96))))))))","v":112.11072975984729},100]
[null,{"$f":"'ITCER GLOBAL'!B97","v":"Agosto"},{"$f":"'ITCER GLOBAL'!C97","v":100.97676949390173},{"$f":"'ITCER GLOBAL'!D97","v":100.69258629148534},{"$f":"'ITCER GLOBAL'!E97","v":90.508334364810466},{"$f":"'ITCER GLOBAL'!F97","v":98.873689355470304},{"$f":"'ITCER GLOBAL'!G97","v":106.81819605406538},{"$f":"'ITCER GLOBAL'!H97","v":104.52010740997355},{"$f":"'ITCER GLOBAL'!I97","v":101.59161611346038},{"$f":"'ITCER GLOBAL'!S97","v":114.23021999109433},{"$f":"'ITCER GLOBAL'!T97","v":99.082274379764115},{"$f":"'ITCER GLOBAL'!U97","v":98.31375048618645},{"$f":"'ITCER GLOBAL'!V97","v":108.25798012542509},{"$f":"'ITCER GLOBAL'!W97","v":108.04384543198292},{"$f":"'ITCER GLOBAL'!X97","v":105.82408002014951},{"$f":"'ITCER GLOBAL'!Y97","v":97.856060876807362},{"$f":"'ITCER GLOBAL'!AA97","v":113.12524708764131},{"$f":"'ITCER GLOBAL'!AB97","v":98.400764176361804},{"$f":"'ITCER GLOBAL'!AC97","v":108.62397499208727},{"$f":"'ITCER GLOBAL'!AD97","v":109.49119106521495},{"$f":"'ITCER GLOBAL'!AE97","v":101.14741628598294},{"$f":"'ITCER GLOBAL'!AF97","v":101.24758062586103},{"$f":"'ITCER GLOBAL'!AG97","v":96.322968981533819},null,{"$f":"IF(EFECTOS!$N$9=\"COSTA RICA\",LOOKUP(1,GEfectos!$C$4:$I$4,GEfectos!C97:I97),IF(EFECTOS!$N$9=\"EL SALVADOR\",LOOKUP(2,GEfectos!$C$4:$I$4,GEfectos!C97:I97),IF(EFECTOS!$N$9=\"GUATEMALA\",LOOKUP(3,GEfectos!$C$4:$I$4,GEfectos!C97:I97),IF(EFECTOS!$N$9=\"HONDURAS\",LOOKUP(4,GEfectos!$C$4:$I$4,GEfectos!C97:I97),IF(EFECTOS!$N$9=\"NICARAGUA\",LOOKUP(5,GEfectos!$C$4:$I$4,GEfectos!C97:I97),IF(EFECTOS!$N$9=\"REPÚBLICA \nDOMINICANA\",LOOKUP(6,$C$4:$I$4,C97:I97),IF(EFECTOS!$N$9=\"PANAMÁ\",LOOKUP(7,GEfectos!$C$4:$I$4,GEfectos!C97:I97))))))))","v":100.97676949390173},{"$f":"IF(EFECTOS!$N$9=\"COSTA RICA\",LOOKUP(1,GEfectos!$J$4:$P$4,GEfectos!J97:P97),IF(EFECTOS!$N$9=\"EL SALVADOR\",LOOKUP(2,GEfectos!$J$4:$P$4,GEfectos!J97:P97),IF(EFECTOS!$N$9=\"GUATEMALA\",LOOKUP(3,GEfectos!$J$4:$P$4,GEfectos!J97:P97),IF(EFECTOS!$N$9=\"HONDURAS\",LOOKUP(4,GEfectos!$J$4:$P$4,GEfectos!J97:P97),IF(EFECTOS!$N$9=\"NICARAGUA\",LOOKUP(5,GEfectos!$J$4:$P$4,GEfectos!J97:P97),IF(EFECTOS!$N$9=\"REPÚBLICA \nDOMINICANA\",LOOKUP(6,$J$4:$P$4,J97:P97),IF(EFECTOS!$N$9=\"PANAMÁ\",LOOKUP(7,GEfectos!$J$4:$P$4,GEfectos!J97:P97))))))))","v":114.23021999109433},{"$f":"IF(EFECTOS!$N$9=\"COSTA RICA\",LOOKUP(1,GEfectos!$Q$4:$W$4,GEfectos!Q97:W97),IF(EFECTOS!$N$9=\"EL SALVADOR\",LOOKUP(2,GEfectos!$Q$4:$W$4,GEfectos!Q97:W97),IF(EFECTOS!$N$9=\"GUATEMALA\",LOOKUP(3,GEfectos!$Q$4:$W$4,GEfectos!Q97:W97),IF(EFECTOS!$N$9=\"HONDURAS\",LOOKUP(4,GEfectos!$Q$4:$W$4,GEfectos!Q97:W97),IF(EFECTOS!$N$9=\"NICARAGUA\",LOOKUP(5,GEfectos!$Q$4:$W$4,GEfectos!Q97:W97),IF(EFECTOS!$N$9=\"REPÚBLICA \nDOMINICANA\",LOOKUP(6,$Q$4:$W$4,Q97:W97),IF(EFECTOS!$N$9=\"PANAMÁ\",LOOKUP(7,GEfectos!$Q$4:$W$4,GEfectos!Q97:W97))))))))","v":113.12524708764131},100]
[null,{"$f":"'ITCER GLOBAL'!B98","v":"Septiembre"},{"$f":"'ITCER GLOBAL'!C98","v":101.13912369780475},{"$f":"'ITCER GLOBAL'!D98","v":100.79365877669274},{"$f":"'ITCER GLOBAL'!E98","v":90.404048660438988},{"$f":"'ITCER GLOBAL'!F98","v":98.921514891058195},{"$f":"'ITCER GLOBAL'!G98","v":106.74204030786383},{"$f":"'ITCER GLOBAL'!H98","v":102.90071721907312},{"$f":"'ITCER GLOBAL'!I98","v":101.08909175924182},{"$f":"'ITCER GLOBAL'!S98","v":114.64430833917218},{"$f":"'ITCER GLOBAL'!T98","v":98.681468326661033},{"$f":"'ITCER GLOBAL'!U98","v":97.740885749296169},{"$f":"'ITCER GLOBAL'!V98","v":108.34853889865816},{"$f":"'ITCER GLOBAL'!W98","v":108.31739061255152},{"$f":"'ITCER GLOBAL'!X98","v":105.42397770203102},{"$f":"'ITCER GLOBAL'!Y98","v":97.049568803887183},{"$f":"'ITCER GLOBAL'!AA98","v":113.35307658163995},{"$f":"'ITCER GLOBAL'!AB98","v":97.904441136806781},{"$f":"'ITCER GLOBAL'!AC98","v":108.11560676492998},{"$f":"'ITCER GLOBAL'!AD98","v":109.52980149766398},{"$f":"'ITCER GLOBAL'!AE98","v":101.47584803526716},{"$f":"'ITCER GLOBAL'!AF98","v":102.45213109407776},{"$f":"'ITCER GLOBAL'!AG98","v":96.00399718203488},null,{"$f":"IF(EFECTOS!$N$9=\"COSTA RICA\",LOOKUP(1,GEfectos!$C$4:$I$4,GEfectos!C98:I98),IF(EFECTOS!$N$9=\"EL SALVADOR\",LOOKUP(2,GEfectos!$C$4:$I$4,GEfectos!C98:I98),IF(EFECTOS!$N$9=\"GUATEMALA\",LOOKUP(3,GEfectos!$C$4:$I$4,GEfectos!C98:I98),IF(EFECTOS!$N$9=\"HONDURAS\",LOOKUP(4,GEfectos!$C$4:$I$4,GEfectos!C98:I98),IF(EFECTOS!$N$9=\"NICARAGUA\",LOOKUP(5,GEfectos!$C$4:$I$4,GEfectos!C98:I98),IF(EFECTOS!$N$9=\"REPÚBLICA \nDOMINICANA\",LOOKUP(6,$C$4:$I$4,C98:I98),IF(EFECTOS!$N$9=\"PANAMÁ\",LOOKUP(7,GEfectos!$C$4:$I$4,GEfectos!C98:I98))))))))","v":101.13912369780475},{"$f":"IF(EFECTOS!$N$9=\"COSTA RICA\",LOOKUP(1,GEfectos!$J$4:$P$4,GEfectos!J98:P98),IF(EFECTOS!$N$9=\"EL SALVADOR\",LOOKUP(2,GEfectos!$J$4:$P$4,GEfectos!J98:P98),IF(EFECTOS!$N$9=\"GUATEMALA\",LOOKUP(3,GEfectos!$J$4:$P$4,GEfectos!J98:P98),IF(EFECTOS!$N$9=\"HONDURAS\",LOOKUP(4,GEfectos!$J$4:$P$4,GEfectos!J98:P98),IF(EFECTOS!$N$9=\"NICARAGUA\",LOOKUP(5,GEfectos!$J$4:$P$4,GEfectos!J98:P98),IF(EFECTOS!$N$9=\"REPÚBLICA \nDOMINICANA\",LOOKUP(6,$J$4:$P$4,J98:P98),IF(EFECTOS!$N$9=\"PANAMÁ\",LOOKUP(7,GEfectos!$J$4:$P$4,GEfectos!J98:P98))))))))","v":114.64430833917218},{"$f":"IF(EFECTOS!$N$9=\"COSTA RICA\",LOOKUP(1,GEfectos!$Q$4:$W$4,GEfectos!Q98:W98),IF(EFECTOS!$N$9=\"EL SALVADOR\",LOOKUP(2,GEfectos!$Q$4:$W$4,GEfectos!Q98:W98),IF(EFECTOS!$N$9=\"GUATEMALA\",LOOKUP(3,GEfectos!$Q$4:$W$4,GEfectos!Q98:W98),IF(EFECTOS!$N$9=\"HONDURAS\",LOOKUP(4,GEfectos!$Q$4:$W$4,GEfectos!Q98:W98),IF(EFECTOS!$N$9=\"NICARAGUA\",LOOKUP(5,GEfectos!$Q$4:$W$4,GEfectos!Q98:W98),IF(EFECTOS!$N$9=\"REPÚBLICA \nDOMINICANA\",LOOKUP(6,$Q$4:$W$4,Q98:W98),IF(EFECTOS!$N$9=\"PANAMÁ\",LOOKUP(7,GEfectos!$Q$4:$W$4,GEfectos!Q98:W98))))))))","v":113.35307658163995},100]
[null,{"$f":"'ITCER GLOBAL'!B99","v":"Octubre"},{"$f":"'ITCER GLOBAL'!C99","v":101.55680434658022},{"$f":"'ITCER GLOBAL'!D99","v":100.88332430969903},{"$f":"'ITCER GLOBAL'!E99","v":89.558821810889143},{"$f":"'ITCER GLOBAL'!F99","v":99.062633006616352},{"$f":"'ITCER GLOBAL'!G99","v":107.17460581104208},{"$f":"'ITCER GLOBAL'!H99","v":100.08222979559687},{"$f":"'ITCER GLOBAL'!I99","v":100.75184527668546},{"$f":"'ITCER GLOBAL'!S99","v":115.61898495918311},{"$f":"'ITCER GLOBAL'!T99","v":98.660573692032074},{"$f":"'ITCER GLOBAL'!U99","v":96.855018219679749},{"$f":"'ITCER GLOBAL'!V99","v":108.87324082621703},{"$f":"'ITCER GLOBAL'!W99","v":108.55496745233049},{"$f":"'ITCER GLOBAL'!X99","v":105.31049871202785},{"$f":"'ITCER GLOBAL'!Y99","v":96.744791284758193},{"$f":"'ITCER GLOBAL'!AA99","v":113.846615894503},{"$f":"'ITCER GLOBAL'!AB99","v":97.796711564694874},{"$f":"'ITCER GLOBAL'!AC99","v":108.14682044857302},{"$f":"'ITCER GLOBAL'!AD99","v":109.90343939166793},{"$f":"'ITCER GLOBAL'!AE99","v":101.28795588361864},{"$f":"'ITCER GLOBAL'!AF99","v":105.22397325390224},{"$f":"'ITCER GLOBAL'!AG99","v":96.022848037251279},null,{"$f":"IF(EFECTOS!$N$9=\"COSTA RICA\",LOOKUP(1,GEfectos!$C$4:$I$4,GEfectos!C99:I99),IF(EFECTOS!$N$9=\"EL SALVADOR\",LOOKUP(2,GEfectos!$C$4:$I$4,GEfectos!C99:I99),IF(EFECTOS!$N$9=\"GUATEMALA\",LOOKUP(3,GEfectos!$C$4:$I$4,GEfectos!C99:I99),IF(EFECTOS!$N$9=\"HONDURAS\",LOOKUP(4,GEfectos!$C$4:$I$4,GEfectos!C99:I99),IF(EFECTOS!$N$9=\"NICARAGUA\",LOOKUP(5,GEfectos!$C$4:$I$4,GEfectos!C99:I99),IF(EFECTOS!$N$9=\"REPÚBLICA \nDOMINICANA\",LOOKUP(6,$C$4:$I$4,C99:I99),IF(EFECTOS!$N$9=\"PANAMÁ\",LOOKUP(7,GEfectos!$C$4:$I$4,GEfectos!C99:I99))))))))","v":101.55680434658022},{"$f":"IF(EFECTOS!$N$9=\"COSTA RICA\",LOOKUP(1,GEfectos!$J$4:$P$4,GEfectos!J99:P99),IF(EFECTOS!$N$9=\"EL SALVADOR\",LOOKUP(2,GEfectos!$J$4:$P$4,GEfectos!J99:P99),IF(EFECTOS!$N$9=\"GUATEMALA\",LOOKUP(3,GEfectos!$J$4:$P$4,GEfectos!J99:P99),IF(EFECTOS!$N$9=\"HONDURAS\",LOOKUP(4,GEfectos!$J$4:$P$4,GEfectos!J99:P99),IF(EFECTOS!$N$9=\"NICARAGUA\",LOOKUP(5,GEfectos!$J$4:$P$4,GEfectos!J99:P99),IF(EFECTOS!$N$9=\"REPÚBLICA \nDOMINICANA\",LOOKUP(6,$J$4:$P$4,J99:P99),IF(EFECTOS!$N$9=\"PANAMÁ\",LOOKUP(7,GEfectos!$J$4:$P$4,GEfectos!J99:P99))))))))","v":115.61898495918311},{"$f":"IF(EFECTOS!$N$9=\"COSTA RICA\",LOOKUP(1,GEfectos!$Q$4:$W$4,GEfectos!Q99:W99),IF(EFECTOS!$N$9=\"EL SALVADOR\",LOOKUP(2,GEfectos!$Q$4:$W$4,GEfectos!Q99:W99),IF(EFECTOS!$N$9=\"GUATEMALA\",LOOKUP(3,GEfectos!$Q$4:$W$4,GEfectos!Q99:W99),IF(EFECTOS!$N$9=\"HONDURAS\",LOOKUP(4,GEfectos!$Q$4:$W$4,GEfectos!Q99:W99),IF(EFECTOS!$N$9=\"NICARAGUA\",LOOKUP(5,GEfectos!$Q$4:$W$4,GEfectos!Q99:W99),IF(EFECTOS!$N$9=\"REPÚBLICA \nDOMINICANA\",LOOKUP(6,$Q$4:$W$4,Q99:W99),IF(EFECTOS!$N$9=\"PANAMÁ\",LOOKUP(7,GEfectos!$Q$4:$W$4,GEfectos!Q99:W99))))))))","v":113.846615894503},100]
[null,{"$f":"'ITCER GLOBAL'!B100","v":"Noviembre"},{"$f":"'ITCER GLOBAL'!C100","v":101.88942956298683},{"$f":"'ITCER GLOBAL'!D100","v":101.49573079935406},{"$f":"'ITCER GLOBAL'!E100","v":88.134695726202281},{"$f":"'ITCER GLOBAL'!F100","v":99.322557369189667},{"$f":"'ITCER GLOBAL'!G100","v":108.39015608374503},{"$f":"'ITCER GLOBAL'!H100","v":99.812713447839585},{"$f":"'ITCER GLOBAL'!I100","v":101.41662549844699},{"$f":"'ITCER GLOBAL'!S100","v":117.08149153824561},{"$f":"'ITCER GLOBAL'!T100","v":98.906137820643849},{"$f":"'ITCER GLOBAL'!U100","v":95.565889481444827},{"$f":"'ITCER GLOBAL'!V100","v":109.70620512141468},{"$f":"'ITCER GLOBAL'!W100","v":109.32952629978483},{"$f":"'ITCER GLOBAL'!X100","v":105.45203182589178},{"$f":"'ITCER GLOBAL'!Y100","v":97.296301013233716},{"$f":"'ITCER GLOBAL'!AA100","v":114.91034157362441},{"$f":"'ITCER GLOBAL'!AB100","v":97.448569552319839},{"$f":"'ITCER GLOBAL'!AC100","v":108.43163262096934},{"$f":"'ITCER GLOBAL'!AD100","v":110.45447079421061},{"$f":"'ITCER GLOBAL'!AE100","v":100.86665639203807},{"$f":"'ITCER GLOBAL'!AF100","v":105.64989988073934},{"$f":"'ITCER GLOBAL'!AG100","v":95.937229754034405},null,{"$f":"IF(EFECTOS!$N$9=\"COSTA RICA\",LOOKUP(1,GEfectos!$C$4:$I$4,GEfectos!C100:I100),IF(EFECTOS!$N$9=\"EL SALVADOR\",LOOKUP(2,GEfectos!$C$4:$I$4,GEfectos!C100:I100),IF(EFECTOS!$N$9=\"GUATEMALA\",LOOKUP(3,GEfectos!$C$4:$I$4,GEfectos!C100:I100),IF(EFECTOS!$N$9=\"HONDURAS\",LOOKUP(4,GEfectos!$C$4:$I$4,GEfectos!C100:I100),IF(EFECTOS!$N$9=\"NICARAGUA\",LOOKUP(5,GEfectos!$C$4:$I$4,GEfectos!C100:I100),IF(EFECTOS!$N$9=\"REPÚBLICA \nDOMINICANA\",LOOKUP(6,$C$4:$I$4,C100:I100),IF(EFECTOS!$N$9=\"PANAMÁ\",LOOKUP(7,GEfectos!$C$4:$I$4,GEfectos!C100:I100))))))))","v":101.88942956298683},{"$f":"IF(EFECTOS!$N$9=\"COSTA RICA\",LOOKUP(1,GEfectos!$J$4:$P$4,GEfectos!J100:P100),IF(EFECTOS!$N$9=\"EL SALVADOR\",LOOKUP(2,GEfectos!$J$4:$P$4,GEfectos!J100:P100),IF(EFECTOS!$N$9=\"GUATEMALA\",LOOKUP(3,GEfectos!$J$4:$P$4,GEfectos!J100:P100),IF(EFECTOS!$N$9=\"HONDURAS\",LOOKUP(4,GEfectos!$J$4:$P$4,GEfectos!J100:P100),IF(EFECTOS!$N$9=\"NICARAGUA\",LOOKUP(5,GEfectos!$J$4:$P$4,GEfectos!J100:P100),IF(EFECTOS!$N$9=\"REPÚBLICA \nDOMINICANA\",LOOKUP(6,$J$4:$P$4,J100:P100),IF(EFECTOS!$N$9=\"PANAMÁ\",LOOKUP(7,GEfectos!$J$4:$P$4,GEfectos!J100:P100))))))))","v":117.08149153824561},{"$f":"IF(EFECTOS!$N$9=\"COSTA RICA\",LOOKUP(1,GEfectos!$Q$4:$W$4,GEfectos!Q100:W100),IF(EFECTOS!$N$9=\"EL SALVADOR\",LOOKUP(2,GEfectos!$Q$4:$W$4,GEfectos!Q100:W100),IF(EFECTOS!$N$9=\"GUATEMALA\",LOOKUP(3,GEfectos!$Q$4:$W$4,GEfectos!Q100:W100),IF(EFECTOS!$N$9=\"HONDURAS\",LOOKUP(4,GEfectos!$Q$4:$W$4,GEfectos!Q100:W100),IF(EFECTOS!$N$9=\"NICARAGUA\",LOOKUP(5,GEfectos!$Q$4:$W$4,GEfectos!Q100:W100),IF(EFECTOS!$N$9=\"REPÚBLICA \nDOMINICANA\",LOOKUP(6,$Q$4:$W$4,Q100:W100),IF(EFECTOS!$N$9=\"PANAMÁ\",LOOKUP(7,GEfectos!$Q$4:$W$4,GEfectos!Q100:W100))))))))","v":114.91034157362441},100]
[null,{"$f":"'ITCER GLOBAL'!B101","v":"Diciembre"},{"$f":"'ITCER GLOBAL'!C101","v":102.22457154755955},{"$f":"'ITCER GLOBAL'!D101","v":101.26571739135463},{"$f":"'ITCER GLOBAL'!E101","v":88.217996620312789},{"$f":"'ITCER GLOBAL'!F101","v":99.184355793798872},{"$f":"'ITCER GLOBAL'!G101","v":108.26683722267708},{"$f":"'ITCER GLOBAL'!H101","v":98.063826622118114},{"$f":"'ITCER GLOBAL'!I101","v":101.7109264248116},{"$f":"'ITCER GLOBAL'!S101","v":118.32494752798235},{"$f":"'ITCER GLOBAL'!T101","v":98.885831652315531},{"$f":"'ITCER GLOBAL'!U101","v":96.058168802503332},{"$f":"'ITCER GLOBAL'!V101","v":110.25703267277338},{"$f":"'ITCER GLOBAL'!W101","v":109.73233783118219},{"$f":"'ITCER GLOBAL'!X101","v":105.55739864663359},{"$f":"'ITCER GLOBAL'!Y101","v":97.276102472293019},{"$f":"'ITCER GLOBAL'!AA101","v":115.75000583194634},{"$f":"'ITCER GLOBAL'!AB101","v":97.649860386766719},{"$f":"'ITCER GLOBAL'!AC101","v":108.88727071862034},{"$f":"'ITCER GLOBAL'!AD101","v":111.16373322219711},{"$f":"'ITCER GLOBAL'!AE101","v":101.35360064642045},{"$f":"'ITCER GLOBAL'!AF101","v":107.64152520112376},{"$f":"'ITCER GLOBAL'!AG101","v":95.639776267501631},null,{"$f":"IF(EFECTOS!$N$9=\"COSTA RICA\",LOOKUP(1,GEfectos!$C$4:$I$4,GEfectos!C101:I101),IF(EFECTOS!$N$9=\"EL SALVADOR\",LOOKUP(2,GEfectos!$C$4:$I$4,GEfectos!C101:I101),IF(EFECTOS!$N$9=\"GUATEMALA\",LOOKUP(3,GEfectos!$C$4:$I$4,GEfectos!C101:I101),IF(EFECTOS!$N$9=\"HONDURAS\",LOOKUP(4,GEfectos!$C$4:$I$4,GEfectos!C101:I101),IF(EFECTOS!$N$9=\"NICARAGUA\",LOOKUP(5,GEfectos!$C$4:$I$4,GEfectos!C101:I101),IF(EFECTOS!$N$9=\"REPÚBLICA \nDOMINICANA\",LOOKUP(6,$C$4:$I$4,C101:I101),IF(EFECTOS!$N$9=\"PANAMÁ\",LOOKUP(7,GEfectos!$C$4:$I$4,GEfectos!C101:I101))))))))","v":102.22457154755955},{"$f":"IF(EFECTOS!$N$9=\"COSTA RICA\",LOOKUP(1,GEfectos!$J$4:$P$4,GEfectos!J101:P101),IF(EFECTOS!$N$9=\"EL SALVADOR\",LOOKUP(2,GEfectos!$J$4:$P$4,GEfectos!J101:P101),IF(EFECTOS!$N$9=\"GUATEMALA\",LOOKUP(3,GEfectos!$J$4:$P$4,GEfectos!J101:P101),IF(EFECTOS!$N$9=\"HONDURAS\",LOOKUP(4,GEfectos!$J$4:$P$4,GEfectos!J101:P101),IF(EFECTOS!$N$9=\"NICARAGUA\",LOOKUP(5,GEfectos!$J$4:$P$4,GEfectos!J101:P101),IF(EFECTOS!$N$9=\"REPÚBLICA \nDOMINICANA\",LOOKUP(6,$J$4:$P$4,J101:P101),IF(EFECTOS!$N$9=\"PANAMÁ\",LOOKUP(7,GEfectos!$J$4:$P$4,GEfectos!J101:P101))))))))","v":118.32494752798235},{"$f":"IF(EFECTOS!$N$9=\"COSTA RICA\",LOOKUP(1,GEfectos!$Q$4:$W$4,GEfectos!Q101:W101),IF(EFECTOS!$N$9=\"EL SALVADOR\",LOOKUP(2,GEfectos!$Q$4:$W$4,GEfectos!Q101:W101),IF(EFECTOS!$N$9=\"GUATEMALA\",LOOKUP(3,GEfectos!$Q$4:$W$4,GEfectos!Q101:W101),IF(EFECTOS!$N$9=\"HONDURAS\",LOOKUP(4,GEfectos!$Q$4:$W$4,GEfectos!Q101:W101),IF(EFECTOS!$N$9=\"NICARAGUA\",LOOKUP(5,GEfectos!$Q$4:$W$4,GEfectos!Q101:W101),IF(EFECTOS!$N$9=\"REPÚBLICA \nDOMINICANA\",LOOKUP(6,$Q$4:$W$4,Q101:W101),IF(EFECTOS!$N$9=\"PANAMÁ\",LOOKUP(7,GEfectos!$Q$4:$W$4,GEfectos!Q101:W101))))))))","v":115.75000583194634},100]
[2003,{"$f":"'ITCER GLOBAL'!B102","v":"Enero"},{"$f":"'ITCER GLOBAL'!C102","v":102.9528314794042},{"$f":"'ITCER GLOBAL'!D102","v":100.14467943060544},{"$f":"'ITCER GLOBAL'!E102","v":89.564865589265935},{"$f":"'ITCER GLOBAL'!F102","v":99.646184275620413},{"$f":"'ITCER GLOBAL'!G102","v":108.47200576584764},{"$f":"'ITCER GLOBAL'!H102","v":95.794580439179285},{"$f":"'ITCER GLOBAL'!I102","v":101.86558371441507},{"$f":"'ITCER GLOBAL'!S102","v":119.30080277172021},{"$f":"'ITCER GLOBAL'!T102","v":98.405730039392211},{"$f":"'ITCER GLOBAL'!U102","v":98.329597125183639},{"$f":"'ITCER GLOBAL'!V102","v":110.89461146763848},{"$f":"'ITCER GLOBAL'!W102","v":110.17326847842624},{"$f":"'ITCER GLOBAL'!X102","v":105.36200189364919},{"$f":"'ITCER GLOBAL'!Y102","v":96.906845652871453},{"$f":"'ITCER GLOBAL'!AA102","v":115.87908856648245},{"$f":"'ITCER GLOBAL'!AB102","v":98.263562876130408},{"$f":"'ITCER GLOBAL'!AC102","v":109.78590374501509},{"$f":"'ITCER GLOBAL'!AD102","v":111.28836721023359},{"$f":"'ITCER GLOBAL'!AE102","v":101.56838872902472},{"$f":"'ITCER GLOBAL'!AF102","v":109.98743499956589},{"$f":"'ITCER GLOBAL'!AG102","v":95.132077115028707},null,{"$f":"IF(EFECTOS!$N$9=\"COSTA RICA\",LOOKUP(1,GEfectos!$C$4:$I$4,GEfectos!C102:I102),IF(EFECTOS!$N$9=\"EL SALVADOR\",LOOKUP(2,GEfectos!$C$4:$I$4,GEfectos!C102:I102),IF(EFECTOS!$N$9=\"GUATEMALA\",LOOKUP(3,GEfectos!$C$4:$I$4,GEfectos!C102:I102),IF(EFECTOS!$N$9=\"HONDURAS\",LOOKUP(4,GEfectos!$C$4:$I$4,GEfectos!C102:I102),IF(EFECTOS!$N$9=\"NICARAGUA\",LOOKUP(5,GEfectos!$C$4:$I$4,GEfectos!C102:I102),IF(EFECTOS!$N$9=\"REPÚBLICA \nDOMINICANA\",LOOKUP(6,$C$4:$I$4,C102:I102),IF(EFECTOS!$N$9=\"PANAMÁ\",LOOKUP(7,GEfectos!$C$4:$I$4,GEfectos!C102:I102))))))))","v":102.9528314794042},{"$f":"IF(EFECTOS!$N$9=\"COSTA RICA\",LOOKUP(1,GEfectos!$J$4:$P$4,GEfectos!J102:P102),IF(EFECTOS!$N$9=\"EL SALVADOR\",LOOKUP(2,GEfectos!$J$4:$P$4,GEfectos!J102:P102),IF(EFECTOS!$N$9=\"GUATEMALA\",LOOKUP(3,GEfectos!$J$4:$P$4,GEfectos!J102:P102),IF(EFECTOS!$N$9=\"HONDURAS\",LOOKUP(4,GEfectos!$J$4:$P$4,GEfectos!J102:P102),IF(EFECTOS!$N$9=\"NICARAGUA\",LOOKUP(5,GEfectos!$J$4:$P$4,GEfectos!J102:P102),IF(EFECTOS!$N$9=\"REPÚBLICA \nDOMINICANA\",LOOKUP(6,$J$4:$P$4,J102:P102),IF(EFECTOS!$N$9=\"PANAMÁ\",LOOKUP(7,GEfectos!$J$4:$P$4,GEfectos!J102:P102))))))))","v":119.30080277172021},{"$f":"IF(EFECTOS!$N$9=\"COSTA RICA\",LOOKUP(1,GEfectos!$Q$4:$W$4,GEfectos!Q102:W102),IF(EFECTOS!$N$9=\"EL SALVADOR\",LOOKUP(2,GEfectos!$Q$4:$W$4,GEfectos!Q102:W102),IF(EFECTOS!$N$9=\"GUATEMALA\",LOOKUP(3,GEfectos!$Q$4:$W$4,GEfectos!Q102:W102),IF(EFECTOS!$N$9=\"HONDURAS\",LOOKUP(4,GEfectos!$Q$4:$W$4,GEfectos!Q102:W102),IF(EFECTOS!$N$9=\"NICARAGUA\",LOOKUP(5,GEfectos!$Q$4:$W$4,GEfectos!Q102:W102),IF(EFECTOS!$N$9=\"REPÚBLICA \nDOMINICANA\",LOOKUP(6,$Q$4:$W$4,Q102:W102),IF(EFECTOS!$N$9=\"PANAMÁ\",LOOKUP(7,GEfectos!$Q$4:$W$4,GEfectos!Q102:W102))))))))","v":115.87908856648245},100]
[null,{"$f":"'ITCER GLOBAL'!B103","v":"Febrero"},{"$f":"'ITCER GLOBAL'!C103","v":103.64688540941614},{"$f":"'ITCER GLOBAL'!D103","v":100.41287579282019},{"$f":"'ITCER GLOBAL'!E103","v":89.586708909421247},{"$f":"'ITCER GLOBAL'!F103","v":99.31806107333756},{"$f":"'ITCER GLOBAL'!G103","v":107.79439914838235},{"$f":"'ITCER GLOBAL'!H103","v":95.843304823508433},{"$f":"'ITCER GLOBAL'!I103","v":102.32501382983796},{"$f":"'ITCER GLOBAL'!S103","v":120.23561894916057},{"$f":"'ITCER GLOBAL'!T103","v":98.18033510363307},{"$f":"'ITCER GLOBAL'!U103","v":98.393553280961669},{"$f":"'ITCER GLOBAL'!V103","v":111.26602191893913},{"$f":"'ITCER GLOBAL'!W103","v":110.43122955137675},{"$f":"'ITCER GLOBAL'!X103","v":108.8293972645761},{"$f":"'ITCER GLOBAL'!Y103","v":96.662607880658399},{"$f":"'ITCER GLOBAL'!AA103","v":116.00504778722214},{"$f":"'ITCER GLOBAL'!AB103","v":97.776639030044834},{"$f":"'ITCER GLOBAL'!AC103","v":109.83052562009483},{"$f":"'ITCER GLOBAL'!AD103","v":112.02999808542282},{"$f":"'ITCER GLOBAL'!AE103","v":102.44616642777954},{"$f":"'ITCER GLOBAL'!AF103","v":113.5492953472139},{"$f":"'ITCER GLOBAL'!AG103","v":94.466254401298315},null,{"$f":"IF(EFECTOS!$N$9=\"COSTA RICA\",LOOKUP(1,GEfectos!$C$4:$I$4,GEfectos!C103:I103),IF(EFECTOS!$N$9=\"EL SALVADOR\",LOOKUP(2,GEfectos!$C$4:$I$4,GEfectos!C103:I103),IF(EFECTOS!$N$9=\"GUATEMALA\",LOOKUP(3,GEfectos!$C$4:$I$4,GEfectos!C103:I103),IF(EFECTOS!$N$9=\"HONDURAS\",LOOKUP(4,GEfectos!$C$4:$I$4,GEfectos!C103:I103),IF(EFECTOS!$N$9=\"NICARAGUA\",LOOKUP(5,GEfectos!$C$4:$I$4,GEfectos!C103:I103),IF(EFECTOS!$N$9=\"REPÚBLICA \nDOMINICANA\",LOOKUP(6,$C$4:$I$4,C103:I103),IF(EFECTOS!$N$9=\"PANAMÁ\",LOOKUP(7,GEfectos!$C$4:$I$4,GEfectos!C103:I103))))))))","v":103.64688540941614},{"$f":"IF(EFECTOS!$N$9=\"COSTA RICA\",LOOKUP(1,GEfectos!$J$4:$P$4,GEfectos!J103:P103),IF(EFECTOS!$N$9=\"EL SALVADOR\",LOOKUP(2,GEfectos!$J$4:$P$4,GEfectos!J103:P103),IF(EFECTOS!$N$9=\"GUATEMALA\",LOOKUP(3,GEfectos!$J$4:$P$4,GEfectos!J103:P103),IF(EFECTOS!$N$9=\"HONDURAS\",LOOKUP(4,GEfectos!$J$4:$P$4,GEfectos!J103:P103),IF(EFECTOS!$N$9=\"NICARAGUA\",LOOKUP(5,GEfectos!$J$4:$P$4,GEfectos!J103:P103),IF(EFECTOS!$N$9=\"REPÚBLICA \nDOMINICANA\",LOOKUP(6,$J$4:$P$4,J103:P103),IF(EFECTOS!$N$9=\"PANAMÁ\",LOOKUP(7,GEfectos!$J$4:$P$4,GEfectos!J103:P103))))))))","v":120.23561894916057},{"$f":"IF(EFECTOS!$N$9=\"COSTA RICA\",LOOKUP(1,GEfectos!$Q$4:$W$4,GEfectos!Q103:W103),IF(EFECTOS!$N$9=\"EL SALVADOR\",LOOKUP(2,GEfectos!$Q$4:$W$4,GEfectos!Q103:W103),IF(EFECTOS!$N$9=\"GUATEMALA\",LOOKUP(3,GEfectos!$Q$4:$W$4,GEfectos!Q103:W103),IF(EFECTOS!$N$9=\"HONDURAS\",LOOKUP(4,GEfectos!$Q$4:$W$4,GEfectos!Q103:W103),IF(EFECTOS!$N$9=\"NICARAGUA\",LOOKUP(5,GEfectos!$Q$4:$W$4,GEfectos!Q103:W103),IF(EFECTOS!$N$9=\"REPÚBLICA \nDOMINICANA\",LOOKUP(6,$Q$4:$W$4,Q103:W103),IF(EFECTOS!$N$9=\"PANAMÁ\",LOOKUP(7,GEfectos!$Q$4:$W$4,GEfectos!Q103:W103))))))))","v":116.00504778722214},100]
[null,{"$f":"'ITCER GLOBAL'!B104","v":"Marzo"},{"$f":"'ITCER GLOBAL'!C104","v":104.34251258177765},{"$f":"'ITCER GLOBAL'!D104","v":100.49339817290381},{"$f":"'ITCER GLOBAL'!E104","v":90.390674228468541},{"$f":"'ITCER GLOBAL'!F104","v":99.784320909088848},{"$f":"'ITCER GLOBAL'!G104","v":108.56731466793234},{"$f":"'ITCER GLOBAL'!H104","v":118.53285935353419},{"$f":"'ITCER GLOBAL'!I104","v":102.64096446891622},{"$f":"'ITCER GLOBAL'!S104","v":121.15695759604836},{"$f":"'ITCER GLOBAL'!T104","v":98.017214565672134},{"$f":"'ITCER GLOBAL'!U104","v":99.172885084743641},{"$f":"'ITCER GLOBAL'!V104","v":111.62673884568524},{"$f":"'ITCER GLOBAL'!W104","v":110.88518274496282},{"$f":"'ITCER GLOBAL'!X104","v":136.17210919074267},{"$f":"'ITCER GLOBAL'!Y104","v":96.494713402731648},{"$f":"'ITCER GLOBAL'!AA104","v":116.11466371493835},{"$f":"'ITCER GLOBAL'!AB104","v":97.535973852758701},{"$f":"'ITCER GLOBAL'!AC104","v":109.71583731533794},{"$f":"'ITCER GLOBAL'!AD104","v":111.86801476294632},{"$f":"'ITCER GLOBAL'!AE104","v":102.13495938820998},{"$f":"'ITCER GLOBAL'!AF104","v":114.88131639902311},{"$f":"'ITCER GLOBAL'!AG104","v":94.01189271945519},null,{"$f":"IF(EFECTOS!$N$9=\"COSTA RICA\",LOOKUP(1,GEfectos!$C$4:$I$4,GEfectos!C104:I104),IF(EFECTOS!$N$9=\"EL SALVADOR\",LOOKUP(2,GEfectos!$C$4:$I$4,GEfectos!C104:I104),IF(EFECTOS!$N$9=\"GUATEMALA\",LOOKUP(3,GEfectos!$C$4:$I$4,GEfectos!C104:I104),IF(EFECTOS!$N$9=\"HONDURAS\",LOOKUP(4,GEfectos!$C$4:$I$4,GEfectos!C104:I104),IF(EFECTOS!$N$9=\"NICARAGUA\",LOOKUP(5,GEfectos!$C$4:$I$4,GEfectos!C104:I104),IF(EFECTOS!$N$9=\"REPÚBLICA \nDOMINICANA\",LOOKUP(6,$C$4:$I$4,C104:I104),IF(EFECTOS!$N$9=\"PANAMÁ\",LOOKUP(7,GEfectos!$C$4:$I$4,GEfectos!C104:I104))))))))","v":104.34251258177765},{"$f":"IF(EFECTOS!$N$9=\"COSTA RICA\",LOOKUP(1,GEfectos!$J$4:$P$4,GEfectos!J104:P104),IF(EFECTOS!$N$9=\"EL SALVADOR\",LOOKUP(2,GEfectos!$J$4:$P$4,GEfectos!J104:P104),IF(EFECTOS!$N$9=\"GUATEMALA\",LOOKUP(3,GEfectos!$J$4:$P$4,GEfectos!J104:P104),IF(EFECTOS!$N$9=\"HONDURAS\",LOOKUP(4,GEfectos!$J$4:$P$4,GEfectos!J104:P104),IF(EFECTOS!$N$9=\"NICARAGUA\",LOOKUP(5,GEfectos!$J$4:$P$4,GEfectos!J104:P104),IF(EFECTOS!$N$9=\"REPÚBLICA \nDOMINICANA\",LOOKUP(6,$J$4:$P$4,J104:P104),IF(EFECTOS!$N$9=\"PANAMÁ\",LOOKUP(7,GEfectos!$J$4:$P$4,GEfectos!J104:P104))))))))","v":121.15695759604836},{"$f":"IF(EFECTOS!$N$9=\"COSTA RICA\",LOOKUP(1,GEfectos!$Q$4:$W$4,GEfectos!Q104:W104),IF(EFECTOS!$N$9=\"EL SALVADOR\",LOOKUP(2,GEfectos!$Q$4:$W$4,GEfectos!Q104:W104),IF(EFECTOS!$N$9=\"GUATEMALA\",LOOKUP(3,GEfectos!$Q$4:$W$4,GEfectos!Q104:W104),IF(EFECTOS!$N$9=\"HONDURAS\",LOOKUP(4,GEfectos!$Q$4:$W$4,GEfectos!Q104:W104),IF(EFECTOS!$N$9=\"NICARAGUA\",LOOKUP(5,GEfectos!$Q$4:$W$4,GEfectos!Q104:W104),IF(EFECTOS!$N$9=\"REPÚBLICA \nDOMINICANA\",LOOKUP(6,$Q$4:$W$4,Q104:W104),IF(EFECTOS!$N$9=\"PANAMÁ\",LOOKUP(7,GEfectos!$Q$4:$W$4,GEfectos!Q104:W104))))))))","v":116.11466371493835},100]
[null,{"$f":"'ITCER GLOBAL'!B105","v":"Abril"},{"$f":"'ITCER GLOBAL'!C105","v":104.48191756548007},{"$f":"'ITCER GLOBAL'!D105","v":100.71344689275799},{"$f":"'ITCER GLOBAL'!E105","v":90.295736028067793},{"$f":"'ITCER GLOBAL'!F105","v":99.925464032857889},{"$f":"'ITCER GLOBAL'!G105","v":109.64309330375727},{"$f":"'ITCER GLOBAL'!H105","v":123.91954423970238},{"$f":"'ITCER GLOBAL'!I105","v":103.05322196882815},{"$f":"'ITCER GLOBAL'!S105","v":122.55527379738722},{"$f":"'ITCER GLOBAL'!T105","v":98.198823464739419},{"$f":"'ITCER GLOBAL'!U105","v":99.518684845118429},{"$f":"'ITCER GLOBAL'!V105","v":112.36856124789863},{"$f":"'ITCER GLOBAL'!W105","v":111.63694752046469},{"$f":"'ITCER GLOBAL'!X105","v":142.91295324228736},{"$f":"'ITCER GLOBAL'!Y105","v":96.803835777821845},{"$f":"'ITCER GLOBAL'!AA105","v":117.29807095144511},{"$f":"'ITCER GLOBAL'!AB105","v":97.50318998544833},{"$f":"'ITCER GLOBAL'!AC105","v":110.21415763661726},{"$f":"'ITCER GLOBAL'!AD105","v":112.45237871594887},{"$f":"'ITCER GLOBAL'!AE105","v":101.81849504298791},{"$f":"'ITCER GLOBAL'!AF105","v":115.32721018231416},{"$f":"'ITCER GLOBAL'!AG105","v":93.935768264580176},null,{"$f":"IF(EFECTOS!$N$9=\"COSTA RICA\",LOOKUP(1,GEfectos!$C$4:$I$4,GEfectos!C105:I105),IF(EFECTOS!$N$9=\"EL SALVADOR\",LOOKUP(2,GEfectos!$C$4:$I$4,GEfectos!C105:I105),IF(EFECTOS!$N$9=\"GUATEMALA\",LOOKUP(3,GEfectos!$C$4:$I$4,GEfectos!C105:I105),IF(EFECTOS!$N$9=\"HONDURAS\",LOOKUP(4,GEfectos!$C$4:$I$4,GEfectos!C105:I105),IF(EFECTOS!$N$9=\"NICARAGUA\",LOOKUP(5,GEfectos!$C$4:$I$4,GEfectos!C105:I105),IF(EFECTOS!$N$9=\"REPÚBLICA \nDOMINICANA\",LOOKUP(6,$C$4:$I$4,C105:I105),IF(EFECTOS!$N$9=\"PANAMÁ\",LOOKUP(7,GEfectos!$C$4:$I$4,GEfectos!C105:I105))))))))","v":104.48191756548007},{"$f":"IF(EFECTOS!$N$9=\"COSTA RICA\",LOOKUP(1,GEfectos!$J$4:$P$4,GEfectos!J105:P105),IF(EFECTOS!$N$9=\"EL SALVADOR\",LOOKUP(2,GEfectos!$J$4:$P$4,GEfectos!J105:P105),IF(EFECTOS!$N$9=\"GUATEMALA\",LOOKUP(3,GEfectos!$J$4:$P$4,GEfectos!J105:P105),IF(EFECTOS!$N$9=\"HONDURAS\",LOOKUP(4,GEfectos!$J$4:$P$4,GEfectos!J105:P105),IF(EFECTOS!$N$9=\"NICARAGUA\",LOOKUP(5,GEfectos!$J$4:$P$4,GEfectos!J105:P105),IF(EFECTOS!$N$9=\"REPÚBLICA \nDOMINICANA\",LOOKUP(6,$J$4:$P$4,J105:P105),IF(EFECTOS!$N$9=\"PANAMÁ\",LOOKUP(7,GEfectos!$J$4:$P$4,GEfectos!J105:P105))))))))","v":122.55527379738722},{"$f":"IF(EFECTOS!$N$9=\"COSTA RICA\",LOOKUP(1,GEfectos!$Q$4:$W$4,GEfectos!Q105:W105),IF(EFECTOS!$N$9=\"EL SALVADOR\",LOOKUP(2,GEfectos!$Q$4:$W$4,GEfectos!Q105:W105),IF(EFECTOS!$N$9=\"GUATEMALA\",LOOKUP(3,GEfectos!$Q$4:$W$4,GEfectos!Q105:W105),IF(EFECTOS!$N$9=\"HONDURAS\",LOOKUP(4,GEfectos!$Q$4:$W$4,GEfectos!Q105:W105),IF(EFECTOS!$N$9=\"NICARAGUA\",LOOKUP(5,GEfectos!$Q$4:$W$4,GEfectos!Q105:W105),IF(EFECTOS!$N$9=\"REPÚBLICA \nDOMINICANA\",LOOKUP(6,$Q$4:$W$4,Q105:W105),IF(EFECTOS!$N$9=\"PANAMÁ\",LOOKUP(7,GEfectos!$Q$4:$W$4,GEfectos!Q105:W105))))))))","v":117.29807095144511},100]
[null,{"$f":"'ITCER GLOBAL'!B106","v":"Mayo"},{"$f":"'ITCER GLOBAL'!C106","v":105.78889124759458},{"$f":"'ITCER GLOBAL'!D106","v":101.32574135037416},{"$f":"'ITCER GLOBAL'!E106","v":90.824279594245141},{"$f":"'ITCER GLOBAL'!F106","v":100.93699833724219},{"$f":"'ITCER GLOBAL'!G106","v":110.36860075166398},{"$f":"'ITCER GLOBAL'!H106","v":132.73706666530373},{"$f":"'ITCER GLOBAL'!I106","v":104.49016293638918},{"$f":"'ITCER GLOBAL'!S106","v":124.85250113542861},{"$f":"'ITCER GLOBAL'!T106","v":98.713223219692253},{"$f":"'ITCER GLOBAL'!U106","v":100.43105669508287},{"$f":"'ITCER GLOBAL'!V106","v":113.74126615173523},{"$f":"'ITCER GLOBAL'!W106","v":113.24732014178369},{"$f":"'ITCER GLOBAL'!X106","v":155.10236606846215},{"$f":"'ITCER GLOBAL'!Y106","v":97.981852692645987},{"$f":"'ITCER GLOBAL'!AA106","v":118.02042696828767},{"$f":"'ITCER GLOBAL'!AB106","v":97.421663936661403},{"$f":"'ITCER GLOBAL'!AC106","v":110.57732265398164},{"$f":"'ITCER GLOBAL'!AD106","v":112.68540577332456},{"$f":"'ITCER GLOBAL'!AE106","v":102.60827750874273},{"$f":"'ITCER GLOBAL'!AF106","v":116.8493247327459},{"$f":"'ITCER GLOBAL'!AG106","v":93.771365589978757},null,{"$f":"IF(EFECTOS!$N$9=\"COSTA RICA\",LOOKUP(1,GEfectos!$C$4:$I$4,GEfectos!C106:I106),IF(EFECTOS!$N$9=\"EL SALVADOR\",LOOKUP(2,GEfectos!$C$4:$I$4,GEfectos!C106:I106),IF(EFECTOS!$N$9=\"GUATEMALA\",LOOKUP(3,GEfectos!$C$4:$I$4,GEfectos!C106:I106),IF(EFECTOS!$N$9=\"HONDURAS\",LOOKUP(4,GEfectos!$C$4:$I$4,GEfectos!C106:I106),IF(EFECTOS!$N$9=\"NICARAGUA\",LOOKUP(5,GEfectos!$C$4:$I$4,GEfectos!C106:I106),IF(EFECTOS!$N$9=\"REPÚBLICA \nDOMINICANA\",LOOKUP(6,$C$4:$I$4,C106:I106),IF(EFECTOS!$N$9=\"PANAMÁ\",LOOKUP(7,GEfectos!$C$4:$I$4,GEfectos!C106:I106))))))))","v":105.78889124759458},{"$f":"IF(EFECTOS!$N$9=\"COSTA RICA\",LOOKUP(1,GEfectos!$J$4:$P$4,GEfectos!J106:P106),IF(EFECTOS!$N$9=\"EL SALVADOR\",LOOKUP(2,GEfectos!$J$4:$P$4,GEfectos!J106:P106),IF(EFECTOS!$N$9=\"GUATEMALA\",LOOKUP(3,GEfectos!$J$4:$P$4,GEfectos!J106:P106),IF(EFECTOS!$N$9=\"HONDURAS\",LOOKUP(4,GEfectos!$J$4:$P$4,GEfectos!J106:P106),IF(EFECTOS!$N$9=\"NICARAGUA\",LOOKUP(5,GEfectos!$J$4:$P$4,GEfectos!J106:P106),IF(EFECTOS!$N$9=\"REPÚBLICA \nDOMINICANA\",LOOKUP(6,$J$4:$P$4,J106:P106),IF(EFECTOS!$N$9=\"PANAMÁ\",LOOKUP(7,GEfectos!$J$4:$P$4,GEfectos!J106:P106))))))))","v":124.85250113542861},{"$f":"IF(EFECTOS!$N$9=\"COSTA RICA\",LOOKUP(1,GEfectos!$Q$4:$W$4,GEfectos!Q106:W106),IF(EFECTOS!$N$9=\"EL SALVADOR\",LOOKUP(2,GEfectos!$Q$4:$W$4,GEfectos!Q106:W106),IF(EFECTOS!$N$9=\"GUATEMALA\",LOOKUP(3,GEfectos!$Q$4:$W$4,GEfectos!Q106:W106),IF(EFECTOS!$N$9=\"HONDURAS\",LOOKUP(4,GEfectos!$Q$4:$W$4,GEfectos!Q106:W106),IF(EFECTOS!$N$9=\"NICARAGUA\",LOOKUP(5,GEfectos!$Q$4:$W$4,GEfectos!Q106:W106),IF(EFECTOS!$N$9=\"REPÚBLICA \nDOMINICANA\",LOOKUP(6,$Q$4:$W$4,Q106:W106),IF(EFECTOS!$N$9=\"PANAMÁ\",LOOKUP(7,GEfectos!$Q$4:$W$4,GEfectos!Q106:W106))))))))","v":118.02042696828767},100]
[null,{"$f":"'ITCER GLOBAL'!B107","v":"Junio"},{"$f":"'ITCER GLOBAL'!C107","v":106.09720263181961},{"$f":"'ITCER GLOBAL'!D107","v":101.00409708549486},{"$f":"'ITCER GLOBAL'!E107","v":90.741395546825999},{"$f":"'ITCER GLOBAL'!F107","v":101.1269312951739},{"$f":"'ITCER GLOBAL'!G107","v":109.68715068575753},{"$f":"'ITCER GLOBAL'!H107","v":142.62227308276024},{"$f":"'ITCER GLOBAL'!I107","v":104.45153109178568},{"$f":"'ITCER GLOBAL'!S107","v":125.89896884142773},{"$f":"'ITCER GLOBAL'!T107","v":98.56752367874077},{"$f":"'ITCER GLOBAL'!U107","v":100.47708615448192},{"$f":"'ITCER GLOBAL'!V107","v":114.12864737868725},{"$f":"'ITCER GLOBAL'!W107","v":113.58394634939619},{"$f":"'ITCER GLOBAL'!X107","v":175.08151445864397},{"$f":"'ITCER GLOBAL'!Y107","v":97.945897457319546},{"$f":"'ITCER GLOBAL'!AA107","v":118.6637967056724},{"$f":"'ITCER GLOBAL'!AB107","v":97.587648939931952},{"$f":"'ITCER GLOBAL'!AC107","v":110.72905100146045},{"$f":"'ITCER GLOBAL'!AD107","v":112.85682846003044},{"$f":"'ITCER GLOBAL'!AE107","v":103.55264553712639},{"$f":"'ITCER GLOBAL'!AF107","v":122.75888658502056},{"$f":"'ITCER GLOBAL'!AG107","v":93.771624440096161},null,{"$f":"IF(EFECTOS!$N$9=\"COSTA RICA\",LOOKUP(1,GEfectos!$C$4:$I$4,GEfectos!C107:I107),IF(EFECTOS!$N$9=\"EL SALVADOR\",LOOKUP(2,GEfectos!$C$4:$I$4,GEfectos!C107:I107),IF(EFECTOS!$N$9=\"GUATEMALA\",LOOKUP(3,GEfectos!$C$4:$I$4,GEfectos!C107:I107),IF(EFECTOS!$N$9=\"HONDURAS\",LOOKUP(4,GEfectos!$C$4:$I$4,GEfectos!C107:I107),IF(EFECTOS!$N$9=\"NICARAGUA\",LOOKUP(5,GEfectos!$C$4:$I$4,GEfectos!C107:I107),IF(EFECTOS!$N$9=\"REPÚBLICA \nDOMINICANA\",LOOKUP(6,$C$4:$I$4,C107:I107),IF(EFECTOS!$N$9=\"PANAMÁ\",LOOKUP(7,GEfectos!$C$4:$I$4,GEfectos!C107:I107))))))))","v":106.09720263181961},{"$f":"IF(EFECTOS!$N$9=\"COSTA RICA\",LOOKUP(1,GEfectos!$J$4:$P$4,GEfectos!J107:P107),IF(EFECTOS!$N$9=\"EL SALVADOR\",LOOKUP(2,GEfectos!$J$4:$P$4,GEfectos!J107:P107),IF(EFECTOS!$N$9=\"GUATEMALA\",LOOKUP(3,GEfectos!$J$4:$P$4,GEfectos!J107:P107),IF(EFECTOS!$N$9=\"HONDURAS\",LOOKUP(4,GEfectos!$J$4:$P$4,GEfectos!J107:P107),IF(EFECTOS!$N$9=\"NICARAGUA\",LOOKUP(5,GEfectos!$J$4:$P$4,GEfectos!J107:P107),IF(EFECTOS!$N$9=\"REPÚBLICA \nDOMINICANA\",LOOKUP(6,$J$4:$P$4,J107:P107),IF(EFECTOS!$N$9=\"PANAMÁ\",LOOKUP(7,GEfectos!$J$4:$P$4,GEfectos!J107:P107))))))))","v":125.89896884142773},{"$f":"IF(EFECTOS!$N$9=\"COSTA RICA\",LOOKUP(1,GEfectos!$Q$4:$W$4,GEfectos!Q107:W107),IF(EFECTOS!$N$9=\"EL SALVADOR\",LOOKUP(2,GEfectos!$Q$4:$W$4,GEfectos!Q107:W107),IF(EFECTOS!$N$9=\"GUATEMALA\",LOOKUP(3,GEfectos!$Q$4:$W$4,GEfectos!Q107:W107),IF(EFECTOS!$N$9=\"HONDURAS\",LOOKUP(4,GEfectos!$Q$4:$W$4,GEfectos!Q107:W107),IF(EFECTOS!$N$9=\"NICARAGUA\",LOOKUP(5,GEfectos!$Q$4:$W$4,GEfectos!Q107:W107),IF(EFECTOS!$N$9=\"REPÚBLICA \nDOMINICANA\",LOOKUP(6,$Q$4:$W$4,Q107:W107),IF(EFECTOS!$N$9=\"PANAMÁ\",LOOKUP(7,GEfectos!$Q$4:$W$4,GEfectos!Q107:W107))))))))","v":118.6637967056724},100]
[null,{"$f":"'ITCER GLOBAL'!B108","v":"Julio"},{"$f":"'ITCER GLOBAL'!C108","v":105.74696965984759},{"$f":"'ITCER GLOBAL'!D108","v":101.27703458449737},{"$f":"'ITCER GLOBAL'!E108","v":90.249272317961768},{"$f":"'ITCER GLOBAL'!F108","v":100.91890408885148},{"$f":"'ITCER GLOBAL'!G108","v":110.25253186721305},{"$f":"'ITCER GLOBAL'!H108","v":163.78249989361149},{"$f":"'ITCER GLOBAL'!I108","v":103.87635355001201},{"$f":"'ITCER GLOBAL'!S108","v":126.4001910076322},{"$f":"'ITCER GLOBAL'!T108","v":98.332075677145497},{"$f":"'ITCER GLOBAL'!U108","v":100.12739886486874},{"$f":"'ITCER GLOBAL'!V108","v":114.23341825687237},{"$f":"'ITCER GLOBAL'!W108","v":113.93977318656174},{"$f":"'ITCER GLOBAL'!X108","v":208.25609761572372},{"$f":"'ITCER GLOBAL'!Y108","v":97.425153107494054},{"$f":"'ITCER GLOBAL'!AA108","v":119.5307926214993},{"$f":"'ITCER GLOBAL'!AB108","v":97.092175023257781},{"$f":"'ITCER GLOBAL'!AC108","v":110.94538082490553},{"$f":"'ITCER GLOBAL'!AD108","v":113.19328057337847},{"$f":"'ITCER GLOBAL'!AE108","v":103.34435976834489},{"$f":"'ITCER GLOBAL'!AF108","v":127.15405965289395},{"$f":"'ITCER GLOBAL'!AG108","v":93.789538983564739},null,{"$f":"IF(EFECTOS!$N$9=\"COSTA RICA\",LOOKUP(1,GEfectos!$C$4:$I$4,GEfectos!C108:I108),IF(EFECTOS!$N$9=\"EL SALVADOR\",LOOKUP(2,GEfectos!$C$4:$I$4,GEfectos!C108:I108),IF(EFECTOS!$N$9=\"GUATEMALA\",LOOKUP(3,GEfectos!$C$4:$I$4,GEfectos!C108:I108),IF(EFECTOS!$N$9=\"HONDURAS\",LOOKUP(4,GEfectos!$C$4:$I$4,GEfectos!C108:I108),IF(EFECTOS!$N$9=\"NICARAGUA\",LOOKUP(5,GEfectos!$C$4:$I$4,GEfectos!C108:I108),IF(EFECTOS!$N$9=\"REPÚBLICA \nDOMINICANA\",LOOKUP(6,$C$4:$I$4,C108:I108),IF(EFECTOS!$N$9=\"PANAMÁ\",LOOKUP(7,GEfectos!$C$4:$I$4,GEfectos!C108:I108))))))))","v":105.74696965984759},{"$f":"IF(EFECTOS!$N$9=\"COSTA RICA\",LOOKUP(1,GEfectos!$J$4:$P$4,GEfectos!J108:P108),IF(EFECTOS!$N$9=\"EL SALVADOR\",LOOKUP(2,GEfectos!$J$4:$P$4,GEfectos!J108:P108),IF(EFECTOS!$N$9=\"GUATEMALA\",LOOKUP(3,GEfectos!$J$4:$P$4,GEfectos!J108:P108),IF(EFECTOS!$N$9=\"HONDURAS\",LOOKUP(4,GEfectos!$J$4:$P$4,GEfectos!J108:P108),IF(EFECTOS!$N$9=\"NICARAGUA\",LOOKUP(5,GEfectos!$J$4:$P$4,GEfectos!J108:P108),IF(EFECTOS!$N$9=\"REPÚBLICA \nDOMINICANA\",LOOKUP(6,$J$4:$P$4,J108:P108),IF(EFECTOS!$N$9=\"PANAMÁ\",LOOKUP(7,GEfectos!$J$4:$P$4,GEfectos!J108:P108))))))))","v":126.4001910076322},{"$f":"IF(EFECTOS!$N$9=\"COSTA RICA\",LOOKUP(1,GEfectos!$Q$4:$W$4,GEfectos!Q108:W108),IF(EFECTOS!$N$9=\"EL SALVADOR\",LOOKUP(2,GEfectos!$Q$4:$W$4,GEfectos!Q108:W108),IF(EFECTOS!$N$9=\"GUATEMALA\",LOOKUP(3,GEfectos!$Q$4:$W$4,GEfectos!Q108:W108),IF(EFECTOS!$N$9=\"HONDURAS\",LOOKUP(4,GEfectos!$Q$4:$W$4,GEfectos!Q108:W108),IF(EFECTOS!$N$9=\"NICARAGUA\",LOOKUP(5,GEfectos!$Q$4:$W$4,GEfectos!Q108:W108),IF(EFECTOS!$N$9=\"REPÚBLICA \nDOMINICANA\",LOOKUP(6,$Q$4:$W$4,Q108:W108),IF(EFECTOS!$N$9=\"PANAMÁ\",LOOKUP(7,GEfectos!$Q$4:$W$4,GEfectos!Q108:W108))))))))","v":119.5307926214993},100]
[null,{"$f":"'ITCER GLOBAL'!B109","v":"Agosto"},{"$f":"'ITCER GLOBAL'!C109","v":106.07131383793197},{"$f":"'ITCER GLOBAL'!D109","v":101.01182045630141},{"$f":"'ITCER GLOBAL'!E109","v":89.933052347822226},{"$f":"'ITCER GLOBAL'!F109","v":100.34793848679658},{"$f":"'ITCER GLOBAL'!G109","v":109.97504176785044},{"$f":"'ITCER GLOBAL'!H109","v":155.71447195558801},{"$f":"'ITCER GLOBAL'!I109","v":103.65136845032197},{"$f":"'ITCER GLOBAL'!S109","v":126.86361374553286},{"$f":"'ITCER GLOBAL'!T109","v":98.023360610978969},{"$f":"'ITCER GLOBAL'!U109","v":99.683181776662892},{"$f":"'ITCER GLOBAL'!V109","v":114.22421431147534},{"$f":"'ITCER GLOBAL'!W109","v":113.17931718632852},{"$f":"'ITCER GLOBAL'!X109","v":203.28766568957727},{"$f":"'ITCER GLOBAL'!Y109","v":96.96149495451283},{"$f":"'ITCER GLOBAL'!AA109","v":119.60218946601317},{"$f":"'ITCER GLOBAL'!AB109","v":97.041475114672082},{"$f":"'ITCER GLOBAL'!AC109","v":110.8415417627897},{"$f":"'ITCER GLOBAL'!AD109","v":113.82816232593014},{"$f":"'ITCER GLOBAL'!AE109","v":102.91363873745287},{"$f":"'ITCER GLOBAL'!AF109","v":130.55155576519425},{"$f":"'ITCER GLOBAL'!AG109","v":93.545793368839625},null,{"$f":"IF(EFECTOS!$N$9=\"COSTA RICA\",LOOKUP(1,GEfectos!$C$4:$I$4,GEfectos!C109:I109),IF(EFECTOS!$N$9=\"EL SALVADOR\",LOOKUP(2,GEfectos!$C$4:$I$4,GEfectos!C109:I109),IF(EFECTOS!$N$9=\"GUATEMALA\",LOOKUP(3,GEfectos!$C$4:$I$4,GEfectos!C109:I109),IF(EFECTOS!$N$9=\"HONDURAS\",LOOKUP(4,GEfectos!$C$4:$I$4,GEfectos!C109:I109),IF(EFECTOS!$N$9=\"NICARAGUA\",LOOKUP(5,GEfectos!$C$4:$I$4,GEfectos!C109:I109),IF(EFECTOS!$N$9=\"REPÚBLICA \nDOMINICANA\",LOOKUP(6,$C$4:$I$4,C109:I109),IF(EFECTOS!$N$9=\"PANAMÁ\",LOOKUP(7,GEfectos!$C$4:$I$4,GEfectos!C109:I109))))))))","v":106.07131383793197},{"$f":"IF(EFECTOS!$N$9=\"COSTA RICA\",LOOKUP(1,GEfectos!$J$4:$P$4,GEfectos!J109:P109),IF(EFECTOS!$N$9=\"EL SALVADOR\",LOOKUP(2,GEfectos!$J$4:$P$4,GEfectos!J109:P109),IF(EFECTOS!$N$9=\"GUATEMALA\",LOOKUP(3,GEfectos!$J$4:$P$4,GEfectos!J109:P109),IF(EFECTOS!$N$9=\"HONDURAS\",LOOKUP(4,GEfectos!$J$4:$P$4,GEfectos!J109:P109),IF(EFECTOS!$N$9=\"NICARAGUA\",LOOKUP(5,GEfectos!$J$4:$P$4,GEfectos!J109:P109),IF(EFECTOS!$N$9=\"REPÚBLICA \nDOMINICANA\",LOOKUP(6,$J$4:$P$4,J109:P109),IF(EFECTOS!$N$9=\"PANAMÁ\",LOOKUP(7,GEfectos!$J$4:$P$4,GEfectos!J109:P109))))))))","v":126.86361374553286},{"$f":"IF(EFECTOS!$N$9=\"COSTA RICA\",LOOKUP(1,GEfectos!$Q$4:$W$4,GEfectos!Q109:W109),IF(EFECTOS!$N$9=\"EL SALVADOR\",LOOKUP(2,GEfectos!$Q$4:$W$4,GEfectos!Q109:W109),IF(EFECTOS!$N$9=\"GUATEMALA\",LOOKUP(3,GEfectos!$Q$4:$W$4,GEfectos!Q109:W109),IF(EFECTOS!$N$9=\"HONDURAS\",LOOKUP(4,GEfectos!$Q$4:$W$4,GEfectos!Q109:W109),IF(EFECTOS!$N$9=\"NICARAGUA\",LOOKUP(5,GEfectos!$Q$4:$W$4,GEfectos!Q109:W109),IF(EFECTOS!$N$9=\"REPÚBLICA \nDOMINICANA\",LOOKUP(6,$Q$4:$W$4,Q109:W109),IF(EFECTOS!$N$9=\"PANAMÁ\",LOOKUP(7,GEfectos!$Q$4:$W$4,GEfectos!Q109:W109))))))))","v":119.60218946601317},100]
[null,{"$f":"'ITCER GLOBAL'!B110","v":"Septiembre"},{"$f":"'ITCER GLOBAL'!C110","v":107.40563238237313},{"$f":"'ITCER GLOBAL'!D110","v":101.24860982535695},{"$f":"'ITCER GLOBAL'!E110","v":90.713947121167436},{"$f":"'ITCER GLOBAL'!F110","v":100.81444544431851},{"$f":"'ITCER GLOBAL'!G110","v":111.19286135282923},{"$f":"'ITCER GLOBAL'!H110","v":145.05473234670839},{"$f":"'ITCER GLOBAL'!I110","v":104.59654629602669},{"$f":"'ITCER GLOBAL'!S110","v":128.17225071042725},{"$f":"'ITCER GLOBAL'!T110","v":97.989048744613399},{"$f":"'ITCER GLOBAL'!U110","v":100.60653468743321},{"$f":"'ITCER GLOBAL'!V110","v":114.90291230133248},{"$f":"'ITCER GLOBAL'!W110","v":114.33611897515374},{"$f":"'ITCER GLOBAL'!X110","v":191.50541454461856},{"$f":"'ITCER GLOBAL'!Y110","v":97.297583206802699},{"$f":"'ITCER GLOBAL'!AA110","v":119.33475728174403},{"$f":"'ITCER GLOBAL'!AB110","v":96.780636211829517},{"$f":"'ITCER GLOBAL'!AC110","v":110.90525534408965},{"$f":"'ITCER GLOBAL'!AD110","v":113.97465094900043},{"$f":"'ITCER GLOBAL'!AE110","v":102.82685199758512},{"$f":"'ITCER GLOBAL'!AF110","v":132.02286574620967},{"$f":"'ITCER GLOBAL'!AG110","v":93.021793407435609},null,{"$f":"IF(EFECTOS!$N$9=\"COSTA RICA\",LOOKUP(1,GEfectos!$C$4:$I$4,GEfectos!C110:I110),IF(EFECTOS!$N$9=\"EL SALVADOR\",LOOKUP(2,GEfectos!$C$4:$I$4,GEfectos!C110:I110),IF(EFECTOS!$N$9=\"GUATEMALA\",LOOKUP(3,GEfectos!$C$4:$I$4,GEfectos!C110:I110),IF(EFECTOS!$N$9=\"HONDURAS\",LOOKUP(4,GEfectos!$C$4:$I$4,GEfectos!C110:I110),IF(EFECTOS!$N$9=\"NICARAGUA\",LOOKUP(5,GEfectos!$C$4:$I$4,GEfectos!C110:I110),IF(EFECTOS!$N$9=\"REPÚBLICA \nDOMINICANA\",LOOKUP(6,$C$4:$I$4,C110:I110),IF(EFECTOS!$N$9=\"PANAMÁ\",LOOKUP(7,GEfectos!$C$4:$I$4,GEfectos!C110:I110))))))))","v":107.40563238237313},{"$f":"IF(EFECTOS!$N$9=\"COSTA RICA\",LOOKUP(1,GEfectos!$J$4:$P$4,GEfectos!J110:P110),IF(EFECTOS!$N$9=\"EL SALVADOR\",LOOKUP(2,GEfectos!$J$4:$P$4,GEfectos!J110:P110),IF(EFECTOS!$N$9=\"GUATEMALA\",LOOKUP(3,GEfectos!$J$4:$P$4,GEfectos!J110:P110),IF(EFECTOS!$N$9=\"HONDURAS\",LOOKUP(4,GEfectos!$J$4:$P$4,GEfectos!J110:P110),IF(EFECTOS!$N$9=\"NICARAGUA\",LOOKUP(5,GEfectos!$J$4:$P$4,GEfectos!J110:P110),IF(EFECTOS!$N$9=\"REPÚBLICA \nDOMINICANA\",LOOKUP(6,$J$4:$P$4,J110:P110),IF(EFECTOS!$N$9=\"PANAMÁ\",LOOKUP(7,GEfectos!$J$4:$P$4,GEfectos!J110:P110))))))))","v":128.17225071042725},{"$f":"IF(EFECTOS!$N$9=\"COSTA RICA\",LOOKUP(1,GEfectos!$Q$4:$W$4,GEfectos!Q110:W110),IF(EFECTOS!$N$9=\"EL SALVADOR\",LOOKUP(2,GEfectos!$Q$4:$W$4,GEfectos!Q110:W110),IF(EFECTOS!$N$9=\"GUATEMALA\",LOOKUP(3,GEfectos!$Q$4:$W$4,GEfectos!Q110:W110),IF(EFECTOS!$N$9=\"HONDURAS\",LOOKUP(4,GEfectos!$Q$4:$W$4,GEfectos!Q110:W110),IF(EFECTOS!$N$9=\"NICARAGUA\",LOOKUP(5,GEfectos!$Q$4:$W$4,GEfectos!Q110:W110),IF(EFECTOS!$N$9=\"REPÚBLICA \nDOMINICANA\",LOOKUP(6,$Q$4:$W$4,Q110:W110),IF(EFECTOS!$N$9=\"PANAMÁ\",LOOKUP(7,GEfectos!$Q$4:$W$4,GEfectos!Q110:W110))))))))","v":119.33475728174403},100]
[null,{"$f":"'ITCER GLOBAL'!B111","v":"Octubre"},{"$f":"'ITCER GLOBAL'!C111","v":107.51211419640966},{"$f":"'ITCER GLOBAL'!D111","v":100.97485167001648},{"$f":"'ITCER GLOBAL'!E111","v":91.883851776606363},{"$f":"'ITCER GLOBAL'!F111","v":101.15745225079741},{"$f":"'ITCER GLOBAL'!G111","v":112.23409429855896},{"$f":"'ITCER GLOBAL'!H111","v":156.28459322605374},{"$f":"'ITCER GLOBAL'!I111","v":105.46357776569026},{"$f":"'ITCER GLOBAL'!S111","v":129.7469583520955},{"$f":"'ITCER GLOBAL'!T111","v":97.947394886955166},{"$f":"'ITCER GLOBAL'!U111","v":102.19445052494491},{"$f":"'ITCER GLOBAL'!V111","v":115.68928662453062},{"$f":"'ITCER GLOBAL'!W111","v":115.61056758449621},{"$f":"'ITCER GLOBAL'!X111","v":211.72077540273003},{"$f":"'ITCER GLOBAL'!Y111","v":97.689666318812868},{"$f":"'ITCER GLOBAL'!AA111","v":120.6812453851162},{"$f":"'ITCER GLOBAL'!AB111","v":97.001771497565571},{"$f":"'ITCER GLOBAL'!AC111","v":111.22133927668413},{"$f":"'ITCER GLOBAL'!AD111","v":114.3655598775904},{"$f":"'ITCER GLOBAL'!AE111","v":103.00842030849853},{"$f":"'ITCER GLOBAL'!AF111","v":135.47130336545209},{"$f":"'ITCER GLOBAL'!AG111","v":92.628818771776565},null,{"$f":"IF(EFECTOS!$N$9=\"COSTA RICA\",LOOKUP(1,GEfectos!$C$4:$I$4,GEfectos!C111:I111),IF(EFECTOS!$N$9=\"EL SALVADOR\",LOOKUP(2,GEfectos!$C$4:$I$4,GEfectos!C111:I111),IF(EFECTOS!$N$9=\"GUATEMALA\",LOOKUP(3,GEfectos!$C$4:$I$4,GEfectos!C111:I111),IF(EFECTOS!$N$9=\"HONDURAS\",LOOKUP(4,GEfectos!$C$4:$I$4,GEfectos!C111:I111),IF(EFECTOS!$N$9=\"NICARAGUA\",LOOKUP(5,GEfectos!$C$4:$I$4,GEfectos!C111:I111),IF(EFECTOS!$N$9=\"REPÚBLICA \nDOMINICANA\",LOOKUP(6,$C$4:$I$4,C111:I111),IF(EFECTOS!$N$9=\"PANAMÁ\",LOOKUP(7,GEfectos!$C$4:$I$4,GEfectos!C111:I111))))))))","v":107.51211419640966},{"$f":"IF(EFECTOS!$N$9=\"COSTA RICA\",LOOKUP(1,GEfectos!$J$4:$P$4,GEfectos!J111:P111),IF(EFECTOS!$N$9=\"EL SALVADOR\",LOOKUP(2,GEfectos!$J$4:$P$4,GEfectos!J111:P111),IF(EFECTOS!$N$9=\"GUATEMALA\",LOOKUP(3,GEfectos!$J$4:$P$4,GEfectos!J111:P111),IF(EFECTOS!$N$9=\"HONDURAS\",LOOKUP(4,GEfectos!$J$4:$P$4,GEfectos!J111:P111),IF(EFECTOS!$N$9=\"NICARAGUA\",LOOKUP(5,GEfectos!$J$4:$P$4,GEfectos!J111:P111),IF(EFECTOS!$N$9=\"REPÚBLICA \nDOMINICANA\",LOOKUP(6,$J$4:$P$4,J111:P111),IF(EFECTOS!$N$9=\"PANAMÁ\",LOOKUP(7,GEfectos!$J$4:$P$4,GEfectos!J111:P111))))))))","v":129.7469583520955},{"$f":"IF(EFECTOS!$N$9=\"COSTA RICA\",LOOKUP(1,GEfectos!$Q$4:$W$4,GEfectos!Q111:W111),IF(EFECTOS!$N$9=\"EL SALVADOR\",LOOKUP(2,GEfectos!$Q$4:$W$4,GEfectos!Q111:W111),IF(EFECTOS!$N$9=\"GUATEMALA\",LOOKUP(3,GEfectos!$Q$4:$W$4,GEfectos!Q111:W111),IF(EFECTOS!$N$9=\"HONDURAS\",LOOKUP(4,GEfectos!$Q$4:$W$4,GEfectos!Q111:W111),IF(EFECTOS!$N$9=\"NICARAGUA\",LOOKUP(5,GEfectos!$Q$4:$W$4,GEfectos!Q111:W111),IF(EFECTOS!$N$9=\"REPÚBLICA \nDOMINICANA\",LOOKUP(6,$Q$4:$W$4,Q111:W111),IF(EFECTOS!$N$9=\"PANAMÁ\",LOOKUP(7,GEfectos!$Q$4:$W$4,GEfectos!Q111:W111))))))))","v":120.6812453851162},100]
[null,{"$f":"'ITCER GLOBAL'!B112","v":"Noviembre"},{"$f":"'ITCER GLOBAL'!C112","v":106.79719449265242},{"$f":"'ITCER GLOBAL'!D112","v":100.88453799434494},{"$f":"'ITCER GLOBAL'!E112","v":91.259599725624184},{"$f":"'ITCER GLOBAL'!F112","v":100.89375979481639},{"$f":"'ITCER GLOBAL'!G112","v":111.6552795976253},{"$f":"'ITCER GLOBAL'!H112","v":167.53049845776121},{"$f":"'ITCER GLOBAL'!I112","v":105.36209491256496},{"$f":"'ITCER GLOBAL'!S112","v":130.73548836428523},{"$f":"'ITCER GLOBAL'!T112","v":97.880340244462076},{"$f":"'ITCER GLOBAL'!U112","v":101.83769812431822},{"$f":"'ITCER GLOBAL'!V112","v":116.09523993610485},{"$f":"'ITCER GLOBAL'!W112","v":115.73008838378993},{"$f":"'ITCER GLOBAL'!X112","v":240.93590563069526},{"$f":"'ITCER GLOBAL'!Y112","v":97.610881839540255},{"$f":"'ITCER GLOBAL'!AA112","v":122.41472164634413},{"$f":"'ITCER GLOBAL'!AB112","v":97.022142530849223},{"$f":"'ITCER GLOBAL'!AC112","v":111.59121717660119},{"$f":"'ITCER GLOBAL'!AD112","v":115.06681897096817},{"$f":"'ITCER GLOBAL'!AE112","v":103.6494546436578},{"$f":"'ITCER GLOBAL'!AF112","v":143.81614562642838},{"$f":"'ITCER GLOBAL'!AG112","v":92.643262190774522},null,{"$f":"IF(EFECTOS!$N$9=\"COSTA RICA\",LOOKUP(1,GEfectos!$C$4:$I$4,GEfectos!C112:I112),IF(EFECTOS!$N$9=\"EL SALVADOR\",LOOKUP(2,GEfectos!$C$4:$I$4,GEfectos!C112:I112),IF(EFECTOS!$N$9=\"GUATEMALA\",LOOKUP(3,GEfectos!$C$4:$I$4,GEfectos!C112:I112),IF(EFECTOS!$N$9=\"HONDURAS\",LOOKUP(4,GEfectos!$C$4:$I$4,GEfectos!C112:I112),IF(EFECTOS!$N$9=\"NICARAGUA\",LOOKUP(5,GEfectos!$C$4:$I$4,GEfectos!C112:I112),IF(EFECTOS!$N$9=\"REPÚBLICA \nDOMINICANA\",LOOKUP(6,$C$4:$I$4,C112:I112),IF(EFECTOS!$N$9=\"PANAMÁ\",LOOKUP(7,GEfectos!$C$4:$I$4,GEfectos!C112:I112))))))))","v":106.79719449265242},{"$f":"IF(EFECTOS!$N$9=\"COSTA RICA\",LOOKUP(1,GEfectos!$J$4:$P$4,GEfectos!J112:P112),IF(EFECTOS!$N$9=\"EL SALVADOR\",LOOKUP(2,GEfectos!$J$4:$P$4,GEfectos!J112:P112),IF(EFECTOS!$N$9=\"GUATEMALA\",LOOKUP(3,GEfectos!$J$4:$P$4,GEfectos!J112:P112),IF(EFECTOS!$N$9=\"HONDURAS\",LOOKUP(4,GEfectos!$J$4:$P$4,GEfectos!J112:P112),IF(EFECTOS!$N$9=\"NICARAGUA\",LOOKUP(5,GEfectos!$J$4:$P$4,GEfectos!J112:P112),IF(EFECTOS!$N$9=\"REPÚBLICA \nDOMINICANA\",LOOKUP(6,$J$4:$P$4,J112:P112),IF(EFECTOS!$N$9=\"PANAMÁ\",LOOKUP(7,GEfectos!$J$4:$P$4,GEfectos!J112:P112))))))))","v":130.73548836428523},{"$f":"IF(EFECTOS!$N$9=\"COSTA RICA\",LOOKUP(1,GEfectos!$Q$4:$W$4,GEfectos!Q112:W112),IF(EFECTOS!$N$9=\"EL SALVADOR\",LOOKUP(2,GEfectos!$Q$4:$W$4,GEfectos!Q112:W112),IF(EFECTOS!$N$9=\"GUATEMALA\",LOOKUP(3,GEfectos!$Q$4:$W$4,GEfectos!Q112:W112),IF(EFECTOS!$N$9=\"HONDURAS\",LOOKUP(4,GEfectos!$Q$4:$W$4,GEfectos!Q112:W112),IF(EFECTOS!$N$9=\"NICARAGUA\",LOOKUP(5,GEfectos!$Q$4:$W$4,GEfectos!Q112:W112),IF(EFECTOS!$N$9=\"REPÚBLICA \nDOMINICANA\",LOOKUP(6,$Q$4:$W$4,Q112:W112),IF(EFECTOS!$N$9=\"PANAMÁ\",LOOKUP(7,GEfectos!$Q$4:$W$4,GEfectos!Q112:W112))))))))","v":122.41472164634413},100]
[null,{"$f":"'ITCER GLOBAL'!B113","v":"Diciembre"},{"$f":"'ITCER GLOBAL'!C113","v":107.16027770899277},{"$f":"'ITCER GLOBAL'!D113","v":101.06336773597106},{"$f":"'ITCER GLOBAL'!E113","v":90.60328333775108},{"$f":"'ITCER GLOBAL'!F113","v":101.61522175436384},{"$f":"'ITCER GLOBAL'!G113","v":111.97171680044497},{"$f":"'ITCER GLOBAL'!H113","v":152.79499571427232},{"$f":"'ITCER GLOBAL'!I113","v":106.49166160986155},{"$f":"'ITCER GLOBAL'!S113","v":132.7030478981747},{"$f":"'ITCER GLOBAL'!T113","v":98.122786503592692},{"$f":"'ITCER GLOBAL'!U113","v":101.50999951680049},{"$f":"'ITCER GLOBAL'!V113","v":117.089284642379},{"$f":"'ITCER GLOBAL'!W113","v":116.63747329910616},{"$f":"'ITCER GLOBAL'!X113","v":227.86966457970036},{"$f":"'ITCER GLOBAL'!Y113","v":98.25424006202357},{"$f":"'ITCER GLOBAL'!AA113","v":123.83604329446267},{"$f":"'ITCER GLOBAL'!AB113","v":97.090358951761175},{"$f":"'ITCER GLOBAL'!AC113","v":112.03788182641389},{"$f":"'ITCER GLOBAL'!AD113","v":115.22809537868339},{"$f":"'ITCER GLOBAL'!AE113","v":104.16690627953527},{"$f":"'ITCER GLOBAL'!AF113","v":149.13424586615272},{"$f":"'ITCER GLOBAL'!AG113","v":92.264726248693293},null,{"$f":"IF(EFECTOS!$N$9=\"COSTA RICA\",LOOKUP(1,GEfectos!$C$4:$I$4,GEfectos!C113:I113),IF(EFECTOS!$N$9=\"EL SALVADOR\",LOOKUP(2,GEfectos!$C$4:$I$4,GEfectos!C113:I113),IF(EFECTOS!$N$9=\"GUATEMALA\",LOOKUP(3,GEfectos!$C$4:$I$4,GEfectos!C113:I113),IF(EFECTOS!$N$9=\"HONDURAS\",LOOKUP(4,GEfectos!$C$4:$I$4,GEfectos!C113:I113),IF(EFECTOS!$N$9=\"NICARAGUA\",LOOKUP(5,GEfectos!$C$4:$I$4,GEfectos!C113:I113),IF(EFECTOS!$N$9=\"REPÚBLICA \nDOMINICANA\",LOOKUP(6,$C$4:$I$4,C113:I113),IF(EFECTOS!$N$9=\"PANAMÁ\",LOOKUP(7,GEfectos!$C$4:$I$4,GEfectos!C113:I113))))))))","v":107.16027770899277},{"$f":"IF(EFECTOS!$N$9=\"COSTA RICA\",LOOKUP(1,GEfectos!$J$4:$P$4,GEfectos!J113:P113),IF(EFECTOS!$N$9=\"EL SALVADOR\",LOOKUP(2,GEfectos!$J$4:$P$4,GEfectos!J113:P113),IF(EFECTOS!$N$9=\"GUATEMALA\",LOOKUP(3,GEfectos!$J$4:$P$4,GEfectos!J113:P113),IF(EFECTOS!$N$9=\"HONDURAS\",LOOKUP(4,GEfectos!$J$4:$P$4,GEfectos!J113:P113),IF(EFECTOS!$N$9=\"NICARAGUA\",LOOKUP(5,GEfectos!$J$4:$P$4,GEfectos!J113:P113),IF(EFECTOS!$N$9=\"REPÚBLICA \nDOMINICANA\",LOOKUP(6,$J$4:$P$4,J113:P113),IF(EFECTOS!$N$9=\"PANAMÁ\",LOOKUP(7,GEfectos!$J$4:$P$4,GEfectos!J113:P113))))))))","v":132.7030478981747},{"$f":"IF(EFECTOS!$N$9=\"COSTA RICA\",LOOKUP(1,GEfectos!$Q$4:$W$4,GEfectos!Q113:W113),IF(EFECTOS!$N$9=\"EL SALVADOR\",LOOKUP(2,GEfectos!$Q$4:$W$4,GEfectos!Q113:W113),IF(EFECTOS!$N$9=\"GUATEMALA\",LOOKUP(3,GEfectos!$Q$4:$W$4,GEfectos!Q113:W113),IF(EFECTOS!$N$9=\"HONDURAS\",LOOKUP(4,GEfectos!$Q$4:$W$4,GEfectos!Q113:W113),IF(EFECTOS!$N$9=\"NICARAGUA\",LOOKUP(5,GEfectos!$Q$4:$W$4,GEfectos!Q113:W113),IF(EFECTOS!$N$9=\"REPÚBLICA \nDOMINICANA\",LOOKUP(6,$Q$4:$W$4,Q113:W113),IF(EFECTOS!$N$9=\"PANAMÁ\",LOOKUP(7,GEfectos!$Q$4:$W$4,GEfectos!Q113:W113))))))))","v":123.83604329446267},100]
[2004,{"$f":"'ITCER GLOBAL'!B114","v":"Enero"},{"$f":"'ITCER GLOBAL'!C114","v":107.33061759528827},{"$f":"'ITCER GLOBAL'!D114","v":100.60851087996767},{"$f":"'ITCER GLOBAL'!E114","v":90.866649255101109},{"$f":"'ITCER GLOBAL'!F114","v":102.01086124527268},{"$f":"'ITCER GLOBAL'!G114","v":111.67658548970236},{"$f":"'ITCER GLOBAL'!H114","v":176.22035888644837},{"$f":"'ITCER GLOBAL'!I114","v":106.95915638290555},{"$f":"'ITCER GLOBAL'!S114","v":134.40623486167277},{"$f":"'ITCER GLOBAL'!T114","v":98.098244959651055},{"$f":"'ITCER GLOBAL'!U114","v":103.22171153291066},{"$f":"'ITCER GLOBAL'!V114","v":117.72662869713014},{"$f":"'ITCER GLOBAL'!W114","v":116.89106819136134},{"$f":"'ITCER GLOBAL'!X114","v":279.21908214823134},{"$f":"'ITCER GLOBAL'!Y114","v":98.506857863999855},{"$f":"'ITCER GLOBAL'!AA114","v":125.22636864764776},{"$f":"'ITCER GLOBAL'!AB114","v":97.504916931618723},{"$f":"'ITCER GLOBAL'!AC114","v":113.59691633739422},{"$f":"'ITCER GLOBAL'!AD114","v":115.4059746776089},{"$f":"'ITCER GLOBAL'!AE114","v":104.669271252155},{"$f":"'ITCER GLOBAL'!AF114","v":158.44882164163141},{"$f":"'ITCER GLOBAL'!AG114","v":92.097639131850372},null,{"$f":"IF(EFECTOS!$N$9=\"COSTA RICA\",LOOKUP(1,GEfectos!$C$4:$I$4,GEfectos!C114:I114),IF(EFECTOS!$N$9=\"EL SALVADOR\",LOOKUP(2,GEfectos!$C$4:$I$4,GEfectos!C114:I114),IF(EFECTOS!$N$9=\"GUATEMALA\",LOOKUP(3,GEfectos!$C$4:$I$4,GEfectos!C114:I114),IF(EFECTOS!$N$9=\"HONDURAS\",LOOKUP(4,GEfectos!$C$4:$I$4,GEfectos!C114:I114),IF(EFECTOS!$N$9=\"NICARAGUA\",LOOKUP(5,GEfectos!$C$4:$I$4,GEfectos!C114:I114),IF(EFECTOS!$N$9=\"REPÚBLICA \nDOMINICANA\",LOOKUP(6,$C$4:$I$4,C114:I114),IF(EFECTOS!$N$9=\"PANAMÁ\",LOOKUP(7,GEfectos!$C$4:$I$4,GEfectos!C114:I114))))))))","v":107.33061759528827},{"$f":"IF(EFECTOS!$N$9=\"COSTA RICA\",LOOKUP(1,GEfectos!$J$4:$P$4,GEfectos!J114:P114),IF(EFECTOS!$N$9=\"EL SALVADOR\",LOOKUP(2,GEfectos!$J$4:$P$4,GEfectos!J114:P114),IF(EFECTOS!$N$9=\"GUATEMALA\",LOOKUP(3,GEfectos!$J$4:$P$4,GEfectos!J114:P114),IF(EFECTOS!$N$9=\"HONDURAS\",LOOKUP(4,GEfectos!$J$4:$P$4,GEfectos!J114:P114),IF(EFECTOS!$N$9=\"NICARAGUA\",LOOKUP(5,GEfectos!$J$4:$P$4,GEfectos!J114:P114),IF(EFECTOS!$N$9=\"REPÚBLICA \nDOMINICANA\",LOOKUP(6,$J$4:$P$4,J114:P114),IF(EFECTOS!$N$9=\"PANAMÁ\",LOOKUP(7,GEfectos!$J$4:$P$4,GEfectos!J114:P114))))))))","v":134.40623486167277},{"$f":"IF(EFECTOS!$N$9=\"COSTA RICA\",LOOKUP(1,GEfectos!$Q$4:$W$4,GEfectos!Q114:W114),IF(EFECTOS!$N$9=\"EL SALVADOR\",LOOKUP(2,GEfectos!$Q$4:$W$4,GEfectos!Q114:W114),IF(EFECTOS!$N$9=\"GUATEMALA\",LOOKUP(3,GEfectos!$Q$4:$W$4,GEfectos!Q114:W114),IF(EFECTOS!$N$9=\"HONDURAS\",LOOKUP(4,GEfectos!$Q$4:$W$4,GEfectos!Q114:W114),IF(EFECTOS!$N$9=\"NICARAGUA\",LOOKUP(5,GEfectos!$Q$4:$W$4,GEfectos!Q114:W114),IF(EFECTOS!$N$9=\"REPÚBLICA \nDOMINICANA\",LOOKUP(6,$Q$4:$W$4,Q114:W114),IF(EFECTOS!$N$9=\"PANAMÁ\",LOOKUP(7,GEfectos!$Q$4:$W$4,GEfectos!Q114:W114))))))))","v":125.22636864764776},100]
[null,{"$f":"'ITCER GLOBAL'!B115","v":"Febrero"},{"$f":"'ITCER GLOBAL'!C115","v":107.18950727546165},{"$f":"'ITCER GLOBAL'!D115","v":100.63625048139788},{"$f":"'ITCER GLOBAL'!E115","v":90.539384111729618},{"$f":"'ITCER GLOBAL'!F115","v":101.68529608691561},{"$f":"'ITCER GLOBAL'!G115","v":110.9954001068138},{"$f":"'ITCER GLOBAL'!H115","v":169.88551909966182},{"$f":"'ITCER GLOBAL'!I115","v":107.43184618974463},{"$f":"'ITCER GLOBAL'!S115","v":135.21629621069661},{"$f":"'ITCER GLOBAL'!T115","v":97.950217171464033},{"$f":"'ITCER GLOBAL'!U115","v":103.0190785600284},{"$f":"'ITCER GLOBAL'!V115","v":118.05752741867241},{"$f":"'ITCER GLOBAL'!W115","v":116.93134502686868},{"$f":"'ITCER GLOBAL'!X115","v":297.94585957556461},{"$f":"'ITCER GLOBAL'!Y115","v":98.347934208073752},{"$f":"'ITCER GLOBAL'!AA115","v":126.14695192432421},{"$f":"'ITCER GLOBAL'!AB115","v":97.330948542811257},{"$f":"'ITCER GLOBAL'!AC115","v":113.7837191745178},{"$f":"'ITCER GLOBAL'!AD115","v":116.10088376766154},{"$f":"'ITCER GLOBAL'!AE115","v":105.34791974653234},{"$f":"'ITCER GLOBAL'!AF115","v":175.38037447487054},{"$f":"'ITCER GLOBAL'!AG115","v":91.544488618740658},null,{"$f":"IF(EFECTOS!$N$9=\"COSTA RICA\",LOOKUP(1,GEfectos!$C$4:$I$4,GEfectos!C115:I115),IF(EFECTOS!$N$9=\"EL SALVADOR\",LOOKUP(2,GEfectos!$C$4:$I$4,GEfectos!C115:I115),IF(EFECTOS!$N$9=\"GUATEMALA\",LOOKUP(3,GEfectos!$C$4:$I$4,GEfectos!C115:I115),IF(EFECTOS!$N$9=\"HONDURAS\",LOOKUP(4,GEfectos!$C$4:$I$4,GEfectos!C115:I115),IF(EFECTOS!$N$9=\"NICARAGUA\",LOOKUP(5,GEfectos!$C$4:$I$4,GEfectos!C115:I115),IF(EFECTOS!$N$9=\"REPÚBLICA \nDOMINICANA\",LOOKUP(6,$C$4:$I$4,C115:I115),IF(EFECTOS!$N$9=\"PANAMÁ\",LOOKUP(7,GEfectos!$C$4:$I$4,GEfectos!C115:I115))))))))","v":107.18950727546165},{"$f":"IF(EFECTOS!$N$9=\"COSTA RICA\",LOOKUP(1,GEfectos!$J$4:$P$4,GEfectos!J115:P115),IF(EFECTOS!$N$9=\"EL SALVADOR\",LOOKUP(2,GEfectos!$J$4:$P$4,GEfectos!J115:P115),IF(EFECTOS!$N$9=\"GUATEMALA\",LOOKUP(3,GEfectos!$J$4:$P$4,GEfectos!J115:P115),IF(EFECTOS!$N$9=\"HONDURAS\",LOOKUP(4,GEfectos!$J$4:$P$4,GEfectos!J115:P115),IF(EFECTOS!$N$9=\"NICARAGUA\",LOOKUP(5,GEfectos!$J$4:$P$4,GEfectos!J115:P115),IF(EFECTOS!$N$9=\"REPÚBLICA \nDOMINICANA\",LOOKUP(6,$J$4:$P$4,J115:P115),IF(EFECTOS!$N$9=\"PANAMÁ\",LOOKUP(7,GEfectos!$J$4:$P$4,GEfectos!J115:P115))))))))","v":135.21629621069661},{"$f":"IF(EFECTOS!$N$9=\"COSTA RICA\",LOOKUP(1,GEfectos!$Q$4:$W$4,GEfectos!Q115:W115),IF(EFECTOS!$N$9=\"EL SALVADOR\",LOOKUP(2,GEfectos!$Q$4:$W$4,GEfectos!Q115:W115),IF(EFECTOS!$N$9=\"GUATEMALA\",LOOKUP(3,GEfectos!$Q$4:$W$4,GEfectos!Q115:W115),IF(EFECTOS!$N$9=\"HONDURAS\",LOOKUP(4,GEfectos!$Q$4:$W$4,GEfectos!Q115:W115),IF(EFECTOS!$N$9=\"NICARAGUA\",LOOKUP(5,GEfectos!$Q$4:$W$4,GEfectos!Q115:W115),IF(EFECTOS!$N$9=\"REPÚBLICA \nDOMINICANA\",LOOKUP(6,$Q$4:$W$4,Q115:W115),IF(EFECTOS!$N$9=\"PANAMÁ\",LOOKUP(7,GEfectos!$Q$4:$W$4,GEfectos!Q115:W115))))))))","v":126.14695192432421},100]
[null,{"$f":"'ITCER GLOBAL'!B116","v":"Marzo"},{"$f":"'ITCER GLOBAL'!C116","v":107.75167235646342},{"$f":"'ITCER GLOBAL'!D116","v":100.41341467775105},{"$f":"'ITCER GLOBAL'!E116","v":90.168524221532579},{"$f":"'ITCER GLOBAL'!F116","v":102.00908530764264},{"$f":"'ITCER GLOBAL'!G116","v":111.14820588712722},{"$f":"'ITCER GLOBAL'!H116","v":157.66379586611208},{"$f":"'ITCER GLOBAL'!I116","v":107.95233719140904},{"$f":"'ITCER GLOBAL'!S116","v":135.74566017145895},{"$f":"'ITCER GLOBAL'!T116","v":97.783059294257583},{"$f":"'ITCER GLOBAL'!U116","v":102.7351591405171},{"$f":"'ITCER GLOBAL'!V116","v":118.17437634039474},{"$f":"'ITCER GLOBAL'!W116","v":117.00485906439772},{"$f":"'ITCER GLOBAL'!X116","v":281.21028203350147},{"$f":"'ITCER GLOBAL'!Y116","v":98.034790184884372},{"$f":"'ITCER GLOBAL'!AA116","v":125.98009590272157},{"$f":"'ITCER GLOBAL'!AB116","v":97.380474120977894},{"$f":"'ITCER GLOBAL'!AC116","v":113.93683109208919},{"$f":"'ITCER GLOBAL'!AD116","v":115.84691303132485},{"$f":"'ITCER GLOBAL'!AE116","v":105.26922871181388},{"$f":"'ITCER GLOBAL'!AF116","v":178.36072034717782},{"$f":"'ITCER GLOBAL'!AG116","v":90.813031691069384},null,{"$f":"IF(EFECTOS!$N$9=\"COSTA RICA\",LOOKUP(1,GEfectos!$C$4:$I$4,GEfectos!C116:I116),IF(EFECTOS!$N$9=\"EL SALVADOR\",LOOKUP(2,GEfectos!$C$4:$I$4,GEfectos!C116:I116),IF(EFECTOS!$N$9=\"GUATEMALA\",LOOKUP(3,GEfectos!$C$4:$I$4,GEfectos!C116:I116),IF(EFECTOS!$N$9=\"HONDURAS\",LOOKUP(4,GEfectos!$C$4:$I$4,GEfectos!C116:I116),IF(EFECTOS!$N$9=\"NICARAGUA\",LOOKUP(5,GEfectos!$C$4:$I$4,GEfectos!C116:I116),IF(EFECTOS!$N$9=\"REPÚBLICA \nDOMINICANA\",LOOKUP(6,$C$4:$I$4,C116:I116),IF(EFECTOS!$N$9=\"PANAMÁ\",LOOKUP(7,GEfectos!$C$4:$I$4,GEfectos!C116:I116))))))))","v":107.75167235646342},{"$f":"IF(EFECTOS!$N$9=\"COSTA RICA\",LOOKUP(1,GEfectos!$J$4:$P$4,GEfectos!J116:P116),IF(EFECTOS!$N$9=\"EL SALVADOR\",LOOKUP(2,GEfectos!$J$4:$P$4,GEfectos!J116:P116),IF(EFECTOS!$N$9=\"GUATEMALA\",LOOKUP(3,GEfectos!$J$4:$P$4,GEfectos!J116:P116),IF(EFECTOS!$N$9=\"HONDURAS\",LOOKUP(4,GEfectos!$J$4:$P$4,GEfectos!J116:P116),IF(EFECTOS!$N$9=\"NICARAGUA\",LOOKUP(5,GEfectos!$J$4:$P$4,GEfectos!J116:P116),IF(EFECTOS!$N$9=\"REPÚBLICA \nDOMINICANA\",LOOKUP(6,$J$4:$P$4,J116:P116),IF(EFECTOS!$N$9=\"PANAMÁ\",LOOKUP(7,GEfectos!$J$4:$P$4,GEfectos!J116:P116))))))))","v":135.74566017145895},{"$f":"IF(EFECTOS!$N$9=\"COSTA RICA\",LOOKUP(1,GEfectos!$Q$4:$W$4,GEfectos!Q116:W116),IF(EFECTOS!$N$9=\"EL SALVADOR\",LOOKUP(2,GEfectos!$Q$4:$W$4,GEfectos!Q116:W116),IF(EFECTOS!$N$9=\"GUATEMALA\",LOOKUP(3,GEfectos!$Q$4:$W$4,GEfectos!Q116:W116),IF(EFECTOS!$N$9=\"HONDURAS\",LOOKUP(4,GEfectos!$Q$4:$W$4,GEfectos!Q116:W116),IF(EFECTOS!$N$9=\"NICARAGUA\",LOOKUP(5,GEfectos!$Q$4:$W$4,GEfectos!Q116:W116),IF(EFECTOS!$N$9=\"REPÚBLICA \nDOMINICANA\",LOOKUP(6,$Q$4:$W$4,Q116:W116),IF(EFECTOS!$N$9=\"PANAMÁ\",LOOKUP(7,GEfectos!$Q$4:$W$4,GEfectos!Q116:W116))))))))","v":125.98009590272157},100]
[null,{"$f":"'ITCER GLOBAL'!B117","v":"Abril"},{"$f":"'ITCER GLOBAL'!C117","v":107.61464914736597},{"$f":"'ITCER GLOBAL'!D117","v":99.818063821909831},{"$f":"'ITCER GLOBAL'!E117","v":89.235354779349507},{"$f":"'ITCER GLOBAL'!F117","v":101.52429271533956},{"$f":"'ITCER GLOBAL'!G117","v":110.77456047039283},{"$f":"'ITCER GLOBAL'!H117","v":149.66256552009816},{"$f":"'ITCER GLOBAL'!I117","v":108.14168699065976},{"$f":"'ITCER GLOBAL'!S117","v":136.30794823350135},{"$f":"'ITCER GLOBAL'!T117","v":97.638774985883572},{"$f":"'ITCER GLOBAL'!U117","v":101.82016680740813},{"$f":"'ITCER GLOBAL'!V117","v":118.38276276909674},{"$f":"'ITCER GLOBAL'!W117","v":117.03727804008115},{"$f":"'ITCER GLOBAL'!X117","v":267.78750280202757},{"$f":"'ITCER GLOBAL'!Y117","v":97.830819472879554},{"$f":"'ITCER GLOBAL'!AA117","v":126.6630048171631},{"$f":"'ITCER GLOBAL'!AB117","v":97.816739022393335},{"$f":"'ITCER GLOBAL'!AC117","v":114.10294390511122},{"$f":"'ITCER GLOBAL'!AD117","v":116.6053558245671},{"$f":"'ITCER GLOBAL'!AE117","v":105.65357022685924},{"$f":"'ITCER GLOBAL'!AF117","v":178.92751061123997},{"$f":"'ITCER GLOBAL'!AG117","v":90.465409034472756},null,{"$f":"IF(EFECTOS!$N$9=\"COSTA RICA\",LOOKUP(1,GEfectos!$C$4:$I$4,GEfectos!C117:I117),IF(EFECTOS!$N$9=\"EL SALVADOR\",LOOKUP(2,GEfectos!$C$4:$I$4,GEfectos!C117:I117),IF(EFECTOS!$N$9=\"GUATEMALA\",LOOKUP(3,GEfectos!$C$4:$I$4,GEfectos!C117:I117),IF(EFECTOS!$N$9=\"HONDURAS\",LOOKUP(4,GEfectos!$C$4:$I$4,GEfectos!C117:I117),IF(EFECTOS!$N$9=\"NICARAGUA\",LOOKUP(5,GEfectos!$C$4:$I$4,GEfectos!C117:I117),IF(EFECTOS!$N$9=\"REPÚBLICA \nDOMINICANA\",LOOKUP(6,$C$4:$I$4,C117:I117),IF(EFECTOS!$N$9=\"PANAMÁ\",LOOKUP(7,GEfectos!$C$4:$I$4,GEfectos!C117:I117))))))))","v":107.61464914736597},{"$f":"IF(EFECTOS!$N$9=\"COSTA RICA\",LOOKUP(1,GEfectos!$J$4:$P$4,GEfectos!J117:P117),IF(EFECTOS!$N$9=\"EL SALVADOR\",LOOKUP(2,GEfectos!$J$4:$P$4,GEfectos!J117:P117),IF(EFECTOS!$N$9=\"GUATEMALA\",LOOKUP(3,GEfectos!$J$4:$P$4,GEfectos!J117:P117),IF(EFECTOS!$N$9=\"HONDURAS\",LOOKUP(4,GEfectos!$J$4:$P$4,GEfectos!J117:P117),IF(EFECTOS!$N$9=\"NICARAGUA\",LOOKUP(5,GEfectos!$J$4:$P$4,GEfectos!J117:P117),IF(EFECTOS!$N$9=\"REPÚBLICA \nDOMINICANA\",LOOKUP(6,$J$4:$P$4,J117:P117),IF(EFECTOS!$N$9=\"PANAMÁ\",LOOKUP(7,GEfectos!$J$4:$P$4,GEfectos!J117:P117))))))))","v":136.30794823350135},{"$f":"IF(EFECTOS!$N$9=\"COSTA RICA\",LOOKUP(1,GEfectos!$Q$4:$W$4,GEfectos!Q117:W117),IF(EFECTOS!$N$9=\"EL SALVADOR\",LOOKUP(2,GEfectos!$Q$4:$W$4,GEfectos!Q117:W117),IF(EFECTOS!$N$9=\"GUATEMALA\",LOOKUP(3,GEfectos!$Q$4:$W$4,GEfectos!Q117:W117),IF(EFECTOS!$N$9=\"HONDURAS\",LOOKUP(4,GEfectos!$Q$4:$W$4,GEfectos!Q117:W117),IF(EFECTOS!$N$9=\"NICARAGUA\",LOOKUP(5,GEfectos!$Q$4:$W$4,GEfectos!Q117:W117),IF(EFECTOS!$N$9=\"REPÚBLICA \nDOMINICANA\",LOOKUP(6,$Q$4:$W$4,Q117:W117),IF(EFECTOS!$N$9=\"PANAMÁ\",LOOKUP(7,GEfectos!$Q$4:$W$4,GEfectos!Q117:W117))))))))","v":126.6630048171631},100]
[null,{"$f":"'ITCER GLOBAL'!B118","v":"Mayo"},{"$f":"'ITCER GLOBAL'!C118","v":107.73580926713753},{"$f":"'ITCER GLOBAL'!D118","v":99.376642264182877},{"$f":"'ITCER GLOBAL'!E118","v":87.750349398009789},{"$f":"'ITCER GLOBAL'!F118","v":101.25744470983925},{"$f":"'ITCER GLOBAL'!G118","v":110.22017381588495},{"$f":"'ITCER GLOBAL'!H118","v":154.48522860950035},{"$f":"'ITCER GLOBAL'!I118","v":107.43736090802625},{"$f":"'ITCER GLOBAL'!S118","v":136.7044872405304},{"$f":"'ITCER GLOBAL'!T118","v":97.350530809777283},{"$f":"'ITCER GLOBAL'!U118","v":100.48408652719702},{"$f":"'ITCER GLOBAL'!V118","v":118.37396830024214},{"$f":"'ITCER GLOBAL'!W118","v":116.90739954030616},{"$f":"'ITCER GLOBAL'!X118","v":282.24679214358235},{"$f":"'ITCER GLOBAL'!Y118","v":97.03087643302274},{"$f":"'ITCER GLOBAL'!AA118","v":126.88862521240571},{"$f":"'ITCER GLOBAL'!AB118","v":97.961179399662768},{"$f":"'ITCER GLOBAL'!AC118","v":114.51132356343192},{"$f":"'ITCER GLOBAL'!AD118","v":116.90396556959497},{"$f":"'ITCER GLOBAL'!AE118","v":106.06715222169014},{"$f":"'ITCER GLOBAL'!AF118","v":182.7014755287905},{"$f":"'ITCER GLOBAL'!AG118","v":90.313905342563118},null,{"$f":"IF(EFECTOS!$N$9=\"COSTA RICA\",LOOKUP(1,GEfectos!$C$4:$I$4,GEfectos!C118:I118),IF(EFECTOS!$N$9=\"EL SALVADOR\",LOOKUP(2,GEfectos!$C$4:$I$4,GEfectos!C118:I118),IF(EFECTOS!$N$9=\"GUATEMALA\",LOOKUP(3,GEfectos!$C$4:$I$4,GEfectos!C118:I118),IF(EFECTOS!$N$9=\"HONDURAS\",LOOKUP(4,GEfectos!$C$4:$I$4,GEfectos!C118:I118),IF(EFECTOS!$N$9=\"NICARAGUA\",LOOKUP(5,GEfectos!$C$4:$I$4,GEfectos!C118:I118),IF(EFECTOS!$N$9=\"REPÚBLICA \nDOMINICANA\",LOOKUP(6,$C$4:$I$4,C118:I118),IF(EFECTOS!$N$9=\"PANAMÁ\",LOOKUP(7,GEfectos!$C$4:$I$4,GEfectos!C118:I118))))))))","v":107.73580926713753},{"$f":"IF(EFECTOS!$N$9=\"COSTA RICA\",LOOKUP(1,GEfectos!$J$4:$P$4,GEfectos!J118:P118),IF(EFECTOS!$N$9=\"EL SALVADOR\",LOOKUP(2,GEfectos!$J$4:$P$4,GEfectos!J118:P118),IF(EFECTOS!$N$9=\"GUATEMALA\",LOOKUP(3,GEfectos!$J$4:$P$4,GEfectos!J118:P118),IF(EFECTOS!$N$9=\"HONDURAS\",LOOKUP(4,GEfectos!$J$4:$P$4,GEfectos!J118:P118),IF(EFECTOS!$N$9=\"NICARAGUA\",LOOKUP(5,GEfectos!$J$4:$P$4,GEfectos!J118:P118),IF(EFECTOS!$N$9=\"REPÚBLICA \nDOMINICANA\",LOOKUP(6,$J$4:$P$4,J118:P118),IF(EFECTOS!$N$9=\"PANAMÁ\",LOOKUP(7,GEfectos!$J$4:$P$4,GEfectos!J118:P118))))))))","v":136.7044872405304},{"$f":"IF(EFECTOS!$N$9=\"COSTA RICA\",LOOKUP(1,GEfectos!$Q$4:$W$4,GEfectos!Q118:W118),IF(EFECTOS!$N$9=\"EL SALVADOR\",LOOKUP(2,GEfectos!$Q$4:$W$4,GEfectos!Q118:W118),IF(EFECTOS!$N$9=\"GUATEMALA\",LOOKUP(3,GEfectos!$Q$4:$W$4,GEfectos!Q118:W118),IF(EFECTOS!$N$9=\"HONDURAS\",LOOKUP(4,GEfectos!$Q$4:$W$4,GEfectos!Q118:W118),IF(EFECTOS!$N$9=\"NICARAGUA\",LOOKUP(5,GEfectos!$Q$4:$W$4,GEfectos!Q118:W118),IF(EFECTOS!$N$9=\"REPÚBLICA \nDOMINICANA\",LOOKUP(6,$Q$4:$W$4,Q118:W118),IF(EFECTOS!$N$9=\"PANAMÁ\",LOOKUP(7,GEfectos!$Q$4:$W$4,GEfectos!Q118:W118))))))))","v":126.88862521240571},100]
[null,{"$f":"'ITCER GLOBAL'!B119","v":"Junio"},{"$f":"'ITCER GLOBAL'!C119","v":107.97964547139868},{"$f":"'ITCER GLOBAL'!D119","v":99.714575300052729},{"$f":"'ITCER GLOBAL'!E119","v":87.342685918764204},{"$f":"'ITCER GLOBAL'!F119","v":101.61192918162493},{"$f":"'ITCER GLOBAL'!G119","v":111.00231909290243},{"$f":"'ITCER GLOBAL'!H119","v":156.16171274964719},{"$f":"'ITCER GLOBAL'!I119","v":107.69148557393738},{"$f":"'ITCER GLOBAL'!S119","v":138.11640988981478},{"$f":"'ITCER GLOBAL'!T119","v":97.507308677269208},{"$f":"'ITCER GLOBAL'!U119","v":100.13471357894583},{"$f":"'ITCER GLOBAL'!V119","v":119.17479538641436},{"$f":"'ITCER GLOBAL'!W119","v":117.71703335586945},{"$f":"'ITCER GLOBAL'!X119","v":290.1669614348948},{"$f":"'ITCER GLOBAL'!Y119","v":97.343658928807059},{"$f":"'ITCER GLOBAL'!AA119","v":127.90967157453635},{"$f":"'ITCER GLOBAL'!AB119","v":97.78641525961315},{"$f":"'ITCER GLOBAL'!AC119","v":114.64579148857324},{"$f":"'ITCER GLOBAL'!AD119","v":117.28425623471523},{"$f":"'ITCER GLOBAL'!AE119","v":106.04916574521943},{"$f":"'ITCER GLOBAL'!AF119","v":185.81184614700015},{"$f":"'ITCER GLOBAL'!AG119","v":90.39123047659524},null,{"$f":"IF(EFECTOS!$N$9=\"COSTA RICA\",LOOKUP(1,GEfectos!$C$4:$I$4,GEfectos!C119:I119),IF(EFECTOS!$N$9=\"EL SALVADOR\",LOOKUP(2,GEfectos!$C$4:$I$4,GEfectos!C119:I119),IF(EFECTOS!$N$9=\"GUATEMALA\",LOOKUP(3,GEfectos!$C$4:$I$4,GEfectos!C119:I119),IF(EFECTOS!$N$9=\"HONDURAS\",LOOKUP(4,GEfectos!$C$4:$I$4,GEfectos!C119:I119),IF(EFECTOS!$N$9=\"NICARAGUA\",LOOKUP(5,GEfectos!$C$4:$I$4,GEfectos!C119:I119),IF(EFECTOS!$N$9=\"REPÚBLICA \nDOMINICANA\",LOOKUP(6,$C$4:$I$4,C119:I119),IF(EFECTOS!$N$9=\"PANAMÁ\",LOOKUP(7,GEfectos!$C$4:$I$4,GEfectos!C119:I119))))))))","v":107.97964547139868},{"$f":"IF(EFECTOS!$N$9=\"COSTA RICA\",LOOKUP(1,GEfectos!$J$4:$P$4,GEfectos!J119:P119),IF(EFECTOS!$N$9=\"EL SALVADOR\",LOOKUP(2,GEfectos!$J$4:$P$4,GEfectos!J119:P119),IF(EFECTOS!$N$9=\"GUATEMALA\",LOOKUP(3,GEfectos!$J$4:$P$4,GEfectos!J119:P119),IF(EFECTOS!$N$9=\"HONDURAS\",LOOKUP(4,GEfectos!$J$4:$P$4,GEfectos!J119:P119),IF(EFECTOS!$N$9=\"NICARAGUA\",LOOKUP(5,GEfectos!$J$4:$P$4,GEfectos!J119:P119),IF(EFECTOS!$N$9=\"REPÚBLICA \nDOMINICANA\",LOOKUP(6,$J$4:$P$4,J119:P119),IF(EFECTOS!$N$9=\"PANAMÁ\",LOOKUP(7,GEfectos!$J$4:$P$4,GEfectos!J119:P119))))))))","v":138.11640988981478},{"$f":"IF(EFECTOS!$N$9=\"COSTA RICA\",LOOKUP(1,GEfectos!$Q$4:$W$4,GEfectos!Q119:W119),IF(EFECTOS!$N$9=\"EL SALVADOR\",LOOKUP(2,GEfectos!$Q$4:$W$4,GEfectos!Q119:W119),IF(EFECTOS!$N$9=\"GUATEMALA\",LOOKUP(3,GEfectos!$Q$4:$W$4,GEfectos!Q119:W119),IF(EFECTOS!$N$9=\"HONDURAS\",LOOKUP(4,GEfectos!$Q$4:$W$4,GEfectos!Q119:W119),IF(EFECTOS!$N$9=\"NICARAGUA\",LOOKUP(5,GEfectos!$Q$4:$W$4,GEfectos!Q119:W119),IF(EFECTOS!$N$9=\"REPÚBLICA \nDOMINICANA\",LOOKUP(6,$Q$4:$W$4,Q119:W119),IF(EFECTOS!$N$9=\"PANAMÁ\",LOOKUP(7,GEfectos!$Q$4:$W$4,GEfectos!Q119:W119))))))))","v":127.90967157453635},100]
[null,{"$f":"'ITCER GLOBAL'!B120","v":"Julio"},{"$f":"'ITCER GLOBAL'!C120","v":107.64331668199254},{"$f":"'ITCER GLOBAL'!D120","v":99.591317953275777},{"$f":"'ITCER GLOBAL'!E120","v":86.598712847909823},{"$f":"'ITCER GLOBAL'!F120","v":100.94378035558262},{"$f":"'ITCER GLOBAL'!G120","v":110.88534570223072},{"$f":"'ITCER GLOBAL'!H120","v":144.73797684841256},{"$f":"'ITCER GLOBAL'!I120","v":107.94843914069833},{"$f":"'ITCER GLOBAL'!S120","v":139.52820794611648},{"$f":"'ITCER GLOBAL'!T120","v":97.621354240383511},{"$f":"'ITCER GLOBAL'!U120","v":99.658807276380657},{"$f":"'ITCER GLOBAL'!V120","v":119.88444920960207},{"$f":"'ITCER GLOBAL'!W120","v":118.08422422808087},{"$f":"'ITCER GLOBAL'!X120","v":270.86103505465138},{"$f":"'ITCER GLOBAL'!Y120","v":97.637870285340995},{"$f":"'ITCER GLOBAL'!AA120","v":129.62087405604615},{"$f":"'ITCER GLOBAL'!AB120","v":98.021952361533678},{"$f":"'ITCER GLOBAL'!AC120","v":115.08116460276703},{"$f":"'ITCER GLOBAL'!AD120","v":118.76358185447324},{"$f":"'ITCER GLOBAL'!AE120","v":106.49218206451},{"$f":"'ITCER GLOBAL'!AF120","v":187.13888431529648},{"$f":"'ITCER GLOBAL'!AG120","v":90.448617008793718},null,{"$f":"IF(EFECTOS!$N$9=\"COSTA RICA\",LOOKUP(1,GEfectos!$C$4:$I$4,GEfectos!C120:I120),IF(EFECTOS!$N$9=\"EL SALVADOR\",LOOKUP(2,GEfectos!$C$4:$I$4,GEfectos!C120:I120),IF(EFECTOS!$N$9=\"GUATEMALA\",LOOKUP(3,GEfectos!$C$4:$I$4,GEfectos!C120:I120),IF(EFECTOS!$N$9=\"HONDURAS\",LOOKUP(4,GEfectos!$C$4:$I$4,GEfectos!C120:I120),IF(EFECTOS!$N$9=\"NICARAGUA\",LOOKUP(5,GEfectos!$C$4:$I$4,GEfectos!C120:I120),IF(EFECTOS!$N$9=\"REPÚBLICA \nDOMINICANA\",LOOKUP(6,$C$4:$I$4,C120:I120),IF(EFECTOS!$N$9=\"PANAMÁ\",LOOKUP(7,GEfectos!$C$4:$I$4,GEfectos!C120:I120))))))))","v":107.64331668199254},{"$f":"IF(EFECTOS!$N$9=\"COSTA RICA\",LOOKUP(1,GEfectos!$J$4:$P$4,GEfectos!J120:P120),IF(EFECTOS!$N$9=\"EL SALVADOR\",LOOKUP(2,GEfectos!$J$4:$P$4,GEfectos!J120:P120),IF(EFECTOS!$N$9=\"GUATEMALA\",LOOKUP(3,GEfectos!$J$4:$P$4,GEfectos!J120:P120),IF(EFECTOS!$N$9=\"HONDURAS\",LOOKUP(4,GEfectos!$J$4:$P$4,GEfectos!J120:P120),IF(EFECTOS!$N$9=\"NICARAGUA\",LOOKUP(5,GEfectos!$J$4:$P$4,GEfectos!J120:P120),IF(EFECTOS!$N$9=\"REPÚBLICA \nDOMINICANA\",LOOKUP(6,$J$4:$P$4,J120:P120),IF(EFECTOS!$N$9=\"PANAMÁ\",LOOKUP(7,GEfectos!$J$4:$P$4,GEfectos!J120:P120))))))))","v":139.52820794611648},{"$f":"IF(EFECTOS!$N$9=\"COSTA RICA\",LOOKUP(1,GEfectos!$Q$4:$W$4,GEfectos!Q120:W120),IF(EFECTOS!$N$9=\"EL SALVADOR\",LOOKUP(2,GEfectos!$Q$4:$W$4,GEfectos!Q120:W120),IF(EFECTOS!$N$9=\"GUATEMALA\",LOOKUP(3,GEfectos!$Q$4:$W$4,GEfectos!Q120:W120),IF(EFECTOS!$N$9=\"HONDURAS\",LOOKUP(4,GEfectos!$Q$4:$W$4,GEfectos!Q120:W120),IF(EFECTOS!$N$9=\"NICARAGUA\",LOOKUP(5,GEfectos!$Q$4:$W$4,GEfectos!Q120:W120),IF(EFECTOS!$N$9=\"REPÚBLICA \nDOMINICANA\",LOOKUP(6,$Q$4:$W$4,Q120:W120),IF(EFECTOS!$N$9=\"PANAMÁ\",LOOKUP(7,GEfectos!$Q$4:$W$4,GEfectos!Q120:W120))))))))","v":129.62087405604615},100]
[null,{"$f":"'ITCER GLOBAL'!B121","v":"Agosto"},{"$f":"'ITCER GLOBAL'!C121","v":107.63609991744603},{"$f":"'ITCER GLOBAL'!D121","v":99.540955823009},{"$f":"'ITCER GLOBAL'!E121","v":86.735570121548037},{"$f":"'ITCER GLOBAL'!F121","v":101.27040771835568},{"$f":"'ITCER GLOBAL'!G121","v":111.21592263586379},{"$f":"'ITCER GLOBAL'!H121","v":132.62171356005928},{"$f":"'ITCER GLOBAL'!I121","v":107.93579575080112},{"$f":"'ITCER GLOBAL'!S121","v":140.63021754217431},{"$f":"'ITCER GLOBAL'!T121","v":97.596845425619733},{"$f":"'ITCER GLOBAL'!U121","v":99.872320831994202},{"$f":"'ITCER GLOBAL'!V121","v":120.43340031619177},{"$f":"'ITCER GLOBAL'!W121","v":118.35293470037523},{"$f":"'ITCER GLOBAL'!X121","v":249.20888605437278},{"$f":"'ITCER GLOBAL'!Y121","v":97.699185295558408},{"$f":"'ITCER GLOBAL'!AA121","v":130.65339384280355},{"$f":"'ITCER GLOBAL'!AB121","v":98.046924121518359},{"$f":"'ITCER GLOBAL'!AC121","v":115.14574780800635},{"$f":"'ITCER GLOBAL'!AD121","v":118.92259844665631},{"$f":"'ITCER GLOBAL'!AE121","v":106.41725743523165},{"$f":"'ITCER GLOBAL'!AF121","v":187.90956576014653},{"$f":"'ITCER GLOBAL'!AG121","v":90.516018912876063},null,{"$f":"IF(EFECTOS!$N$9=\"COSTA RICA\",LOOKUP(1,GEfectos!$C$4:$I$4,GEfectos!C121:I121),IF(EFECTOS!$N$9=\"EL SALVADOR\",LOOKUP(2,GEfectos!$C$4:$I$4,GEfectos!C121:I121),IF(EFECTOS!$N$9=\"GUATEMALA\",LOOKUP(3,GEfectos!$C$4:$I$4,GEfectos!C121:I121),IF(EFECTOS!$N$9=\"HONDURAS\",LOOKUP(4,GEfectos!$C$4:$I$4,GEfectos!C121:I121),IF(EFECTOS!$N$9=\"NICARAGUA\",LOOKUP(5,GEfectos!$C$4:$I$4,GEfectos!C121:I121),IF(EFECTOS!$N$9=\"REPÚBLICA \nDOMINICANA\",LOOKUP(6,$C$4:$I$4,C121:I121),IF(EFECTOS!$N$9=\"PANAMÁ\",LOOKUP(7,GEfectos!$C$4:$I$4,GEfectos!C121:I121))))))))","v":107.63609991744603},{"$f":"IF(EFECTOS!$N$9=\"COSTA RICA\",LOOKUP(1,GEfectos!$J$4:$P$4,GEfectos!J121:P121),IF(EFECTOS!$N$9=\"EL SALVADOR\",LOOKUP(2,GEfectos!$J$4:$P$4,GEfectos!J121:P121),IF(EFECTOS!$N$9=\"GUATEMALA\",LOOKUP(3,GEfectos!$J$4:$P$4,GEfectos!J121:P121),IF(EFECTOS!$N$9=\"HONDURAS\",LOOKUP(4,GEfectos!$J$4:$P$4,GEfectos!J121:P121),IF(EFECTOS!$N$9=\"NICARAGUA\",LOOKUP(5,GEfectos!$J$4:$P$4,GEfectos!J121:P121),IF(EFECTOS!$N$9=\"REPÚBLICA \nDOMINICANA\",LOOKUP(6,$J$4:$P$4,J121:P121),IF(EFECTOS!$N$9=\"PANAMÁ\",LOOKUP(7,GEfectos!$J$4:$P$4,GEfectos!J121:P121))))))))","v":140.63021754217431},{"$f":"IF(EFECTOS!$N$9=\"COSTA RICA\",LOOKUP(1,GEfectos!$Q$4:$W$4,GEfectos!Q121:W121),IF(EFECTOS!$N$9=\"EL SALVADOR\",LOOKUP(2,GEfectos!$Q$4:$W$4,GEfectos!Q121:W121),IF(EFECTOS!$N$9=\"GUATEMALA\",LOOKUP(3,GEfectos!$Q$4:$W$4,GEfectos!Q121:W121),IF(EFECTOS!$N$9=\"HONDURAS\",LOOKUP(4,GEfectos!$Q$4:$W$4,GEfectos!Q121:W121),IF(EFECTOS!$N$9=\"NICARAGUA\",LOOKUP(5,GEfectos!$Q$4:$W$4,GEfectos!Q121:W121),IF(EFECTOS!$N$9=\"REPÚBLICA \nDOMINICANA\",LOOKUP(6,$Q$4:$W$4,Q121:W121),IF(EFECTOS!$N$9=\"PANAMÁ\",LOOKUP(7,GEfectos!$Q$4:$W$4,GEfectos!Q121:W121))))))))","v":130.65339384280355},100]
[null,{"$f":"'ITCER GLOBAL'!B122","v":"Septiembre"},{"$f":"'ITCER GLOBAL'!C122","v":108.15808975310242},{"$f":"'ITCER GLOBAL'!D122","v":99.695096393366029},{"$f":"'ITCER GLOBAL'!E122","v":86.274398619954681},{"$f":"'ITCER GLOBAL'!F122","v":101.99693288600592},{"$f":"'ITCER GLOBAL'!G122","v":111.09260243690811},{"$f":"'ITCER GLOBAL'!H122","v":120.61699070318876},{"$f":"'ITCER GLOBAL'!I122","v":108.75119930700893},{"$f":"'ITCER GLOBAL'!S122","v":142.03110148350987},{"$f":"'ITCER GLOBAL'!T122","v":97.65227724725284},{"$f":"'ITCER GLOBAL'!U122","v":99.842434903284399},{"$f":"'ITCER GLOBAL'!V122","v":121.0855747276033},{"$f":"'ITCER GLOBAL'!W122","v":118.47215020883166},{"$f":"'ITCER GLOBAL'!X122","v":223.46332063296219},{"$f":"'ITCER GLOBAL'!Y122","v":97.935517988560562},{"$f":"'ITCER GLOBAL'!AA122","v":131.31805656676352},{"$f":"'ITCER GLOBAL'!AB122","v":97.950933175235789},{"$f":"'ITCER GLOBAL'!AC122","v":115.72660777746822},{"$f":"'ITCER GLOBAL'!AD122","v":118.71491749946176},{"$f":"'ITCER GLOBAL'!AE122","v":106.64269952278285},{"$f":"'ITCER GLOBAL'!AF122","v":185.26686773578615},{"$f":"'ITCER GLOBAL'!AG122","v":90.054655592426812},null,{"$f":"IF(EFECTOS!$N$9=\"COSTA RICA\",LOOKUP(1,GEfectos!$C$4:$I$4,GEfectos!C122:I122),IF(EFECTOS!$N$9=\"EL SALVADOR\",LOOKUP(2,GEfectos!$C$4:$I$4,GEfectos!C122:I122),IF(EFECTOS!$N$9=\"GUATEMALA\",LOOKUP(3,GEfectos!$C$4:$I$4,GEfectos!C122:I122),IF(EFECTOS!$N$9=\"HONDURAS\",LOOKUP(4,GEfectos!$C$4:$I$4,GEfectos!C122:I122),IF(EFECTOS!$N$9=\"NICARAGUA\",LOOKUP(5,GEfectos!$C$4:$I$4,GEfectos!C122:I122),IF(EFECTOS!$N$9=\"REPÚBLICA \nDOMINICANA\",LOOKUP(6,$C$4:$I$4,C122:I122),IF(EFECTOS!$N$9=\"PANAMÁ\",LOOKUP(7,GEfectos!$C$4:$I$4,GEfectos!C122:I122))))))))","v":108.15808975310242},{"$f":"IF(EFECTOS!$N$9=\"COSTA RICA\",LOOKUP(1,GEfectos!$J$4:$P$4,GEfectos!J122:P122),IF(EFECTOS!$N$9=\"EL SALVADOR\",LOOKUP(2,GEfectos!$J$4:$P$4,GEfectos!J122:P122),IF(EFECTOS!$N$9=\"GUATEMALA\",LOOKUP(3,GEfectos!$J$4:$P$4,GEfectos!J122:P122),IF(EFECTOS!$N$9=\"HONDURAS\",LOOKUP(4,GEfectos!$J$4:$P$4,GEfectos!J122:P122),IF(EFECTOS!$N$9=\"NICARAGUA\",LOOKUP(5,GEfectos!$J$4:$P$4,GEfectos!J122:P122),IF(EFECTOS!$N$9=\"REPÚBLICA \nDOMINICANA\",LOOKUP(6,$J$4:$P$4,J122:P122),IF(EFECTOS!$N$9=\"PANAMÁ\",LOOKUP(7,GEfectos!$J$4:$P$4,GEfectos!J122:P122))))))))","v":142.03110148350987},{"$f":"IF(EFECTOS!$N$9=\"COSTA RICA\",LOOKUP(1,GEfectos!$Q$4:$W$4,GEfectos!Q122:W122),IF(EFECTOS!$N$9=\"EL SALVADOR\",LOOKUP(2,GEfectos!$Q$4:$W$4,GEfectos!Q122:W122),IF(EFECTOS!$N$9=\"GUATEMALA\",LOOKUP(3,GEfectos!$Q$4:$W$4,GEfectos!Q122:W122),IF(EFECTOS!$N$9=\"HONDURAS\",LOOKUP(4,GEfectos!$Q$4:$W$4,GEfectos!Q122:W122),IF(EFECTOS!$N$9=\"NICARAGUA\",LOOKUP(5,GEfectos!$Q$4:$W$4,GEfectos!Q122:W122),IF(EFECTOS!$N$9=\"REPÚBLICA \nDOMINICANA\",LOOKUP(6,$Q$4:$W$4,Q122:W122),IF(EFECTOS!$N$9=\"PANAMÁ\",LOOKUP(7,GEfectos!$Q$4:$W$4,GEfectos!Q122:W122))))))))","v":131.31805656676352},100]
[null,{"$f":"'ITCER GLOBAL'!B123","v":"Octubre"},{"$f":"'ITCER GLOBAL'!C123","v":109.34109775704431},{"$f":"'ITCER GLOBAL'!D123","v":100.14205208397941},{"$f":"'ITCER GLOBAL'!E123","v":85.368554296681268},{"$f":"'ITCER GLOBAL'!F123","v":102.50805929016154},{"$f":"'ITCER GLOBAL'!G123","v":110.89234889528215},{"$f":"'ITCER GLOBAL'!H123","v":104.70914897481181},{"$f":"'ITCER GLOBAL'!I123","v":109.63505824438812},{"$f":"'ITCER GLOBAL'!S123","v":143.93118087539463},{"$f":"'ITCER GLOBAL'!T123","v":97.920151789328656},{"$f":"'ITCER GLOBAL'!U123","v":99.277392932366752},{"$f":"'ITCER GLOBAL'!V123","v":122.10950995269452},{"$f":"'ITCER GLOBAL'!W123","v":119.20280363594769},{"$f":"'ITCER GLOBAL'!X123","v":195.64780358756678},{"$f":"'ITCER GLOBAL'!Y123","v":98.341948061872543},{"$f":"'ITCER GLOBAL'!AA123","v":131.63502454969807},{"$f":"'ITCER GLOBAL'!AB123","v":97.781251483854689},{"$f":"'ITCER GLOBAL'!AC123","v":116.29269553675246},{"$f":"'ITCER GLOBAL'!AD123","v":119.12186300108239},{"$f":"'ITCER GLOBAL'!AE123","v":107.49416422634646},{"$f":"'ITCER GLOBAL'!AF123","v":186.84881455261433},{"$f":"'ITCER GLOBAL'!AG123","v":89.699362262988856},null,{"$f":"IF(EFECTOS!$N$9=\"COSTA RICA\",LOOKUP(1,GEfectos!$C$4:$I$4,GEfectos!C123:I123),IF(EFECTOS!$N$9=\"EL SALVADOR\",LOOKUP(2,GEfectos!$C$4:$I$4,GEfectos!C123:I123),IF(EFECTOS!$N$9=\"GUATEMALA\",LOOKUP(3,GEfectos!$C$4:$I$4,GEfectos!C123:I123),IF(EFECTOS!$N$9=\"HONDURAS\",LOOKUP(4,GEfectos!$C$4:$I$4,GEfectos!C123:I123),IF(EFECTOS!$N$9=\"NICARAGUA\",LOOKUP(5,GEfectos!$C$4:$I$4,GEfectos!C123:I123),IF(EFECTOS!$N$9=\"REPÚBLICA \nDOMINICANA\",LOOKUP(6,$C$4:$I$4,C123:I123),IF(EFECTOS!$N$9=\"PANAMÁ\",LOOKUP(7,GEfectos!$C$4:$I$4,GEfectos!C123:I123))))))))","v":109.34109775704431},{"$f":"IF(EFECTOS!$N$9=\"COSTA RICA\",LOOKUP(1,GEfectos!$J$4:$P$4,GEfectos!J123:P123),IF(EFECTOS!$N$9=\"EL SALVADOR\",LOOKUP(2,GEfectos!$J$4:$P$4,GEfectos!J123:P123),IF(EFECTOS!$N$9=\"GUATEMALA\",LOOKUP(3,GEfectos!$J$4:$P$4,GEfectos!J123:P123),IF(EFECTOS!$N$9=\"HONDURAS\",LOOKUP(4,GEfectos!$J$4:$P$4,GEfectos!J123:P123),IF(EFECTOS!$N$9=\"NICARAGUA\",LOOKUP(5,GEfectos!$J$4:$P$4,GEfectos!J123:P123),IF(EFECTOS!$N$9=\"REPÚBLICA \nDOMINICANA\",LOOKUP(6,$J$4:$P$4,J123:P123),IF(EFECTOS!$N$9=\"PANAMÁ\",LOOKUP(7,GEfectos!$J$4:$P$4,GEfectos!J123:P123))))))))","v":143.93118087539463},{"$f":"IF(EFECTOS!$N$9=\"COSTA RICA\",LOOKUP(1,GEfectos!$Q$4:$W$4,GEfectos!Q123:W123),IF(EFECTOS!$N$9=\"EL SALVADOR\",LOOKUP(2,GEfectos!$Q$4:$W$4,GEfectos!Q123:W123),IF(EFECTOS!$N$9=\"GUATEMALA\",LOOKUP(3,GEfectos!$Q$4:$W$4,GEfectos!Q123:W123),IF(EFECTOS!$N$9=\"HONDURAS\",LOOKUP(4,GEfectos!$Q$4:$W$4,GEfectos!Q123:W123),IF(EFECTOS!$N$9=\"NICARAGUA\",LOOKUP(5,GEfectos!$Q$4:$W$4,GEfectos!Q123:W123),IF(EFECTOS!$N$9=\"REPÚBLICA \nDOMINICANA\",LOOKUP(6,$Q$4:$W$4,Q123:W123),IF(EFECTOS!$N$9=\"PANAMÁ\",LOOKUP(7,GEfectos!$Q$4:$W$4,GEfectos!Q123:W123))))))))","v":131.63502454969807},100]
[null,{"$f":"'ITCER GLOBAL'!B124","v":"Noviembre"},{"$f":"'ITCER GLOBAL'!C124","v":109.76187783392849},{"$f":"'ITCER GLOBAL'!D124","v":100.80530952664904},{"$f":"'ITCER GLOBAL'!E124","v":84.602147755027289},{"$f":"'ITCER GLOBAL'!F124","v":102.88039607533491},{"$f":"'ITCER GLOBAL'!G124","v":111.23823224942882},{"$f":"'ITCER GLOBAL'!H124","v":98.141376693026672},{"$f":"'ITCER GLOBAL'!I124","v":110.92428372887898},{"$f":"'ITCER GLOBAL'!S124","v":146.34777701701236},{"$f":"'ITCER GLOBAL'!T124","v":98.334473553219894},{"$f":"'ITCER GLOBAL'!U124","v":99.228736340250805},{"$f":"'ITCER GLOBAL'!V124","v":123.35314941806563},{"$f":"'ITCER GLOBAL'!W124","v":120.18715879921888},{"$f":"'ITCER GLOBAL'!X124","v":180.18723645735963},{"$f":"'ITCER GLOBAL'!Y124","v":99.323393130248789},{"$f":"'ITCER GLOBAL'!AA124","v":133.33206383225235},{"$f":"'ITCER GLOBAL'!AB124","v":97.548902944664889},{"$f":"'ITCER GLOBAL'!AC124","v":117.28867289229589},{"$f":"'ITCER GLOBAL'!AD124","v":119.89956699597015},{"$f":"'ITCER GLOBAL'!AE124","v":108.04482988341988},{"$f":"'ITCER GLOBAL'!AF124","v":183.59966257755036},{"$f":"'ITCER GLOBAL'!AG124","v":89.541613244052968},null,{"$f":"IF(EFECTOS!$N$9=\"COSTA RICA\",LOOKUP(1,GEfectos!$C$4:$I$4,GEfectos!C124:I124),IF(EFECTOS!$N$9=\"EL SALVADOR\",LOOKUP(2,GEfectos!$C$4:$I$4,GEfectos!C124:I124),IF(EFECTOS!$N$9=\"GUATEMALA\",LOOKUP(3,GEfectos!$C$4:$I$4,GEfectos!C124:I124),IF(EFECTOS!$N$9=\"HONDURAS\",LOOKUP(4,GEfectos!$C$4:$I$4,GEfectos!C124:I124),IF(EFECTOS!$N$9=\"NICARAGUA\",LOOKUP(5,GEfectos!$C$4:$I$4,GEfectos!C124:I124),IF(EFECTOS!$N$9=\"REPÚBLICA \nDOMINICANA\",LOOKUP(6,$C$4:$I$4,C124:I124),IF(EFECTOS!$N$9=\"PANAMÁ\",LOOKUP(7,GEfectos!$C$4:$I$4,GEfectos!C124:I124))))))))","v":109.76187783392849},{"$f":"IF(EFECTOS!$N$9=\"COSTA RICA\",LOOKUP(1,GEfectos!$J$4:$P$4,GEfectos!J124:P124),IF(EFECTOS!$N$9=\"EL SALVADOR\",LOOKUP(2,GEfectos!$J$4:$P$4,GEfectos!J124:P124),IF(EFECTOS!$N$9=\"GUATEMALA\",LOOKUP(3,GEfectos!$J$4:$P$4,GEfectos!J124:P124),IF(EFECTOS!$N$9=\"HONDURAS\",LOOKUP(4,GEfectos!$J$4:$P$4,GEfectos!J124:P124),IF(EFECTOS!$N$9=\"NICARAGUA\",LOOKUP(5,GEfectos!$J$4:$P$4,GEfectos!J124:P124),IF(EFECTOS!$N$9=\"REPÚBLICA \nDOMINICANA\",LOOKUP(6,$J$4:$P$4,J124:P124),IF(EFECTOS!$N$9=\"PANAMÁ\",LOOKUP(7,GEfectos!$J$4:$P$4,GEfectos!J124:P124))))))))","v":146.34777701701236},{"$f":"IF(EFECTOS!$N$9=\"COSTA RICA\",LOOKUP(1,GEfectos!$Q$4:$W$4,GEfectos!Q124:W124),IF(EFECTOS!$N$9=\"EL SALVADOR\",LOOKUP(2,GEfectos!$Q$4:$W$4,GEfectos!Q124:W124),IF(EFECTOS!$N$9=\"GUATEMALA\",LOOKUP(3,GEfectos!$Q$4:$W$4,GEfectos!Q124:W124),IF(EFECTOS!$N$9=\"HONDURAS\",LOOKUP(4,GEfectos!$Q$4:$W$4,GEfectos!Q124:W124),IF(EFECTOS!$N$9=\"NICARAGUA\",LOOKUP(5,GEfectos!$Q$4:$W$4,GEfectos!Q124:W124),IF(EFECTOS!$N$9=\"REPÚBLICA \nDOMINICANA\",LOOKUP(6,$Q$4:$W$4,Q124:W124),IF(EFECTOS!$N$9=\"PANAMÁ\",LOOKUP(7,GEfectos!$Q$4:$W$4,GEfectos!Q124:W124))))))))","v":133.33206383225235},100]
[null,{"$f":"'ITCER GLOBAL'!B125","v":"Diciembre"},{"$f":"'ITCER GLOBAL'!C125","v":110.01156420652663},{"$f":"'ITCER GLOBAL'!D125","v":100.8315079207544},{"$f":"'ITCER GLOBAL'!E125","v":84.57043536772882},{"$f":"'ITCER GLOBAL'!F125","v":103.23925125911485},{"$f":"'ITCER GLOBAL'!G125","v":112.09027078996641},{"$f":"'ITCER GLOBAL'!H125","v":97.495394701192467},{"$f":"'ITCER GLOBAL'!I125","v":111.31996678910602},{"$f":"'ITCER GLOBAL'!S125","v":148.48528639236994},{"$f":"'ITCER GLOBAL'!T125","v":98.590358611418665},{"$f":"'ITCER GLOBAL'!U125","v":99.839486472452705},{"$f":"'ITCER GLOBAL'!V125","v":124.29808841725323},{"$f":"'ITCER GLOBAL'!W125","v":120.85022483953556},{"$f":"'ITCER GLOBAL'!X125","v":176.69328076074004},{"$f":"'ITCER GLOBAL'!Y125","v":100.11912603792301},{"$f":"'ITCER GLOBAL'!AA125","v":134.97243445572315},{"$f":"'ITCER GLOBAL'!AB125","v":97.777332348240691},{"$f":"'ITCER GLOBAL'!AC125","v":118.0548332739817},{"$f":"'ITCER GLOBAL'!AD125","v":120.3980917154115},{"$f":"'ITCER GLOBAL'!AE125","v":107.8150886672256},{"$f":"'ITCER GLOBAL'!AF125","v":181.23243800620145},{"$f":"'ITCER GLOBAL'!AG125","v":89.93815658209563},null,{"$f":"IF(EFECTOS!$N$9=\"COSTA RICA\",LOOKUP(1,GEfectos!$C$4:$I$4,GEfectos!C125:I125),IF(EFECTOS!$N$9=\"EL SALVADOR\",LOOKUP(2,GEfectos!$C$4:$I$4,GEfectos!C125:I125),IF(EFECTOS!$N$9=\"GUATEMALA\",LOOKUP(3,GEfectos!$C$4:$I$4,GEfectos!C125:I125),IF(EFECTOS!$N$9=\"HONDURAS\",LOOKUP(4,GEfectos!$C$4:$I$4,GEfectos!C125:I125),IF(EFECTOS!$N$9=\"NICARAGUA\",LOOKUP(5,GEfectos!$C$4:$I$4,GEfectos!C125:I125),IF(EFECTOS!$N$9=\"REPÚBLICA \nDOMINICANA\",LOOKUP(6,$C$4:$I$4,C125:I125),IF(EFECTOS!$N$9=\"PANAMÁ\",LOOKUP(7,GEfectos!$C$4:$I$4,GEfectos!C125:I125))))))))","v":110.01156420652663},{"$f":"IF(EFECTOS!$N$9=\"COSTA RICA\",LOOKUP(1,GEfectos!$J$4:$P$4,GEfectos!J125:P125),IF(EFECTOS!$N$9=\"EL SALVADOR\",LOOKUP(2,GEfectos!$J$4:$P$4,GEfectos!J125:P125),IF(EFECTOS!$N$9=\"GUATEMALA\",LOOKUP(3,GEfectos!$J$4:$P$4,GEfectos!J125:P125),IF(EFECTOS!$N$9=\"HONDURAS\",LOOKUP(4,GEfectos!$J$4:$P$4,GEfectos!J125:P125),IF(EFECTOS!$N$9=\"NICARAGUA\",LOOKUP(5,GEfectos!$J$4:$P$4,GEfectos!J125:P125),IF(EFECTOS!$N$9=\"REPÚBLICA \nDOMINICANA\",LOOKUP(6,$J$4:$P$4,J125:P125),IF(EFECTOS!$N$9=\"PANAMÁ\",LOOKUP(7,GEfectos!$J$4:$P$4,GEfectos!J125:P125))))))))","v":148.48528639236994},{"$f":"IF(EFECTOS!$N$9=\"COSTA RICA\",LOOKUP(1,GEfectos!$Q$4:$W$4,GEfectos!Q125:W125),IF(EFECTOS!$N$9=\"EL SALVADOR\",LOOKUP(2,GEfectos!$Q$4:$W$4,GEfectos!Q125:W125),IF(EFECTOS!$N$9=\"GUATEMALA\",LOOKUP(3,GEfectos!$Q$4:$W$4,GEfectos!Q125:W125),IF(EFECTOS!$N$9=\"HONDURAS\",LOOKUP(4,GEfectos!$Q$4:$W$4,GEfectos!Q125:W125),IF(EFECTOS!$N$9=\"NICARAGUA\",LOOKUP(5,GEfectos!$Q$4:$W$4,GEfectos!Q125:W125),IF(EFECTOS!$N$9=\"REPÚBLICA \nDOMINICANA\",LOOKUP(6,$Q$4:$W$4,Q125:W125),IF(EFECTOS!$N$9=\"PANAMÁ\",LOOKUP(7,GEfectos!$Q$4:$W$4,GEfectos!Q125:W125))))))))","v":134.97243445572315},100]
[2005,{"$f":"'ITCER GLOBAL'!B126","v":"Enero"},{"$f":"'ITCER GLOBAL'!C126","v":107.75229887777182},{"$f":"'ITCER GLOBAL'!D126","v":99.567546583545578},{"$f":"'ITCER GLOBAL'!E126","v":82.985822019775},{"$f":"'ITCER GLOBAL'!F126","v":103.34492639256069},{"$f":"'ITCER GLOBAL'!G126","v":112.38188964605745},{"$f":"'ITCER GLOBAL'!H126","v":98.926198809647786},{"$f":"'ITCER GLOBAL'!I126","v":109.38339086067589},{"$f":"'ITCER GLOBAL'!S126","v":148.92984234240177},{"$f":"'ITCER GLOBAL'!T126","v":98.522154350087504},{"$f":"'ITCER GLOBAL'!U126","v":99.311779760253359},{"$f":"'ITCER GLOBAL'!V126","v":125.33400713640215},{"$f":"'ITCER GLOBAL'!W126","v":120.94909340660406},{"$f":"'ITCER GLOBAL'!X126","v":182.18050051588432},{"$f":"'ITCER GLOBAL'!Y126","v":99.881917906795536},{"$f":"'ITCER GLOBAL'!AA126","v":138.2150022723315},{"$f":"'ITCER GLOBAL'!AB126","v":98.950067296696005},{"$f":"'ITCER GLOBAL'!AC126","v":119.67318915824919},{"$f":"'ITCER GLOBAL'!AD126","v":121.27736843153274},{"$f":"'ITCER GLOBAL'!AE126","v":107.62329569962625},{"$f":"'ITCER GLOBAL'!AF126","v":184.1579912177088},{"$f":"'ITCER GLOBAL'!AG126","v":91.313605402869072},null,{"$f":"IF(EFECTOS!$N$9=\"COSTA RICA\",LOOKUP(1,GEfectos!$C$4:$I$4,GEfectos!C126:I126),IF(EFECTOS!$N$9=\"EL SALVADOR\",LOOKUP(2,GEfectos!$C$4:$I$4,GEfectos!C126:I126),IF(EFECTOS!$N$9=\"GUATEMALA\",LOOKUP(3,GEfectos!$C$4:$I$4,GEfectos!C126:I126),IF(EFECTOS!$N$9=\"HONDURAS\",LOOKUP(4,GEfectos!$C$4:$I$4,GEfectos!C126:I126),IF(EFECTOS!$N$9=\"NICARAGUA\",LOOKUP(5,GEfectos!$C$4:$I$4,GEfectos!C126:I126),IF(EFECTOS!$N$9=\"REPÚBLICA \nDOMINICANA\",LOOKUP(6,$C$4:$I$4,C126:I126),IF(EFECTOS!$N$9=\"PANAMÁ\",LOOKUP(7,GEfectos!$C$4:$I$4,GEfectos!C126:I126))))))))","v":107.75229887777182},{"$f":"IF(EFECTOS!$N$9=\"COSTA RICA\",LOOKUP(1,GEfectos!$J$4:$P$4,GEfectos!J126:P126),IF(EFECTOS!$N$9=\"EL SALVADOR\",LOOKUP(2,GEfectos!$J$4:$P$4,GEfectos!J126:P126),IF(EFECTOS!$N$9=\"GUATEMALA\",LOOKUP(3,GEfectos!$J$4:$P$4,GEfectos!J126:P126),IF(EFECTOS!$N$9=\"HONDURAS\",LOOKUP(4,GEfectos!$J$4:$P$4,GEfectos!J126:P126),IF(EFECTOS!$N$9=\"NICARAGUA\",LOOKUP(5,GEfectos!$J$4:$P$4,GEfectos!J126:P126),IF(EFECTOS!$N$9=\"REPÚBLICA \nDOMINICANA\",LOOKUP(6,$J$4:$P$4,J126:P126),IF(EFECTOS!$N$9=\"PANAMÁ\",LOOKUP(7,GEfectos!$J$4:$P$4,GEfectos!J126:P126))))))))","v":148.92984234240177},{"$f":"IF(EFECTOS!$N$9=\"COSTA RICA\",LOOKUP(1,GEfectos!$Q$4:$W$4,GEfectos!Q126:W126),IF(EFECTOS!$N$9=\"EL SALVADOR\",LOOKUP(2,GEfectos!$Q$4:$W$4,GEfectos!Q126:W126),IF(EFECTOS!$N$9=\"GUATEMALA\",LOOKUP(3,GEfectos!$Q$4:$W$4,GEfectos!Q126:W126),IF(EFECTOS!$N$9=\"HONDURAS\",LOOKUP(4,GEfectos!$Q$4:$W$4,GEfectos!Q126:W126),IF(EFECTOS!$N$9=\"NICARAGUA\",LOOKUP(5,GEfectos!$Q$4:$W$4,GEfectos!Q126:W126),IF(EFECTOS!$N$9=\"REPÚBLICA \nDOMINICANA\",LOOKUP(6,$Q$4:$W$4,Q126:W126),IF(EFECTOS!$N$9=\"PANAMÁ\",LOOKUP(7,GEfectos!$Q$4:$W$4,GEfectos!Q126:W126))))))))","v":138.2150022723315},100]
[null,{"$f":"'ITCER GLOBAL'!B127","v":"Febrero"},{"$f":"'ITCER GLOBAL'!C127","v":107.98382543853396},{"$f":"'ITCER GLOBAL'!D127","v":100.15785239812109},{"$f":"'ITCER GLOBAL'!E127","v":82.413118028481506},{"$f":"'ITCER GLOBAL'!F127","v":103.06494031836054},{"$f":"'ITCER GLOBAL'!G127","v":112.88074975538163},{"$f":"'ITCER GLOBAL'!H127","v":96.216200797429593},{"$f":"'ITCER GLOBAL'!I127","v":109.52001652961904},{"$f":"'ITCER GLOBAL'!S127","v":150.00028235543726},{"$f":"'ITCER GLOBAL'!T127","v":98.578382524357991},{"$f":"'ITCER GLOBAL'!U127","v":98.787470073561721},{"$f":"'ITCER GLOBAL'!V127","v":125.78088381998072},{"$f":"'ITCER GLOBAL'!W127","v":122.24066334605084},{"$f":"'ITCER GLOBAL'!X127","v":176.22874312961108},{"$f":"'ITCER GLOBAL'!Y127","v":99.915265472542529},{"$f":"'ITCER GLOBAL'!AA127","v":138.90995410309827},{"$f":"'ITCER GLOBAL'!AB127","v":98.42301942788788},{"$f":"'ITCER GLOBAL'!AC127","v":119.86862339005464},{"$f":"'ITCER GLOBAL'!AD127","v":122.04041784864201},{"$f":"'ITCER GLOBAL'!AE127","v":108.29185987066229},{"$f":"'ITCER GLOBAL'!AF127","v":183.15911631206188},{"$f":"'ITCER GLOBAL'!AG127","v":91.230140972012208},null,{"$f":"IF(EFECTOS!$N$9=\"COSTA RICA\",LOOKUP(1,GEfectos!$C$4:$I$4,GEfectos!C127:I127),IF(EFECTOS!$N$9=\"EL SALVADOR\",LOOKUP(2,GEfectos!$C$4:$I$4,GEfectos!C127:I127),IF(EFECTOS!$N$9=\"GUATEMALA\",LOOKUP(3,GEfectos!$C$4:$I$4,GEfectos!C127:I127),IF(EFECTOS!$N$9=\"HONDURAS\",LOOKUP(4,GEfectos!$C$4:$I$4,GEfectos!C127:I127),IF(EFECTOS!$N$9=\"NICARAGUA\",LOOKUP(5,GEfectos!$C$4:$I$4,GEfectos!C127:I127),IF(EFECTOS!$N$9=\"REPÚBLICA \nDOMINICANA\",LOOKUP(6,$C$4:$I$4,C127:I127),IF(EFECTOS!$N$9=\"PANAMÁ\",LOOKUP(7,GEfectos!$C$4:$I$4,GEfectos!C127:I127))))))))","v":107.98382543853396},{"$f":"IF(EFECTOS!$N$9=\"COSTA RICA\",LOOKUP(1,GEfectos!$J$4:$P$4,GEfectos!J127:P127),IF(EFECTOS!$N$9=\"EL SALVADOR\",LOOKUP(2,GEfectos!$J$4:$P$4,GEfectos!J127:P127),IF(EFECTOS!$N$9=\"GUATEMALA\",LOOKUP(3,GEfectos!$J$4:$P$4,GEfectos!J127:P127),IF(EFECTOS!$N$9=\"HONDURAS\",LOOKUP(4,GEfectos!$J$4:$P$4,GEfectos!J127:P127),IF(EFECTOS!$N$9=\"NICARAGUA\",LOOKUP(5,GEfectos!$J$4:$P$4,GEfectos!J127:P127),IF(EFECTOS!$N$9=\"REPÚBLICA \nDOMINICANA\",LOOKUP(6,$J$4:$P$4,J127:P127),IF(EFECTOS!$N$9=\"PANAMÁ\",LOOKUP(7,GEfectos!$J$4:$P$4,GEfectos!J127:P127))))))))","v":150.00028235543726},{"$f":"IF(EFECTOS!$N$9=\"COSTA RICA\",LOOKUP(1,GEfectos!$Q$4:$W$4,GEfectos!Q127:W127),IF(EFECTOS!$N$9=\"EL SALVADOR\",LOOKUP(2,GEfectos!$Q$4:$W$4,GEfectos!Q127:W127),IF(EFECTOS!$N$9=\"GUATEMALA\",LOOKUP(3,GEfectos!$Q$4:$W$4,GEfectos!Q127:W127),IF(EFECTOS!$N$9=\"HONDURAS\",LOOKUP(4,GEfectos!$Q$4:$W$4,GEfectos!Q127:W127),IF(EFECTOS!$N$9=\"NICARAGUA\",LOOKUP(5,GEfectos!$Q$4:$W$4,GEfectos!Q127:W127),IF(EFECTOS!$N$9=\"REPÚBLICA \nDOMINICANA\",LOOKUP(6,$Q$4:$W$4,Q127:W127),IF(EFECTOS!$N$9=\"PANAMÁ\",LOOKUP(7,GEfectos!$Q$4:$W$4,GEfectos!Q127:W127))))))))","v":138.90995410309827},100]
[null,{"$f":"'ITCER GLOBAL'!B128","v":"Marzo"},{"$f":"'ITCER GLOBAL'!C128","v":108.61607605585992},{"$f":"'ITCER GLOBAL'!D128","v":100.8896839688834},{"$f":"'ITCER GLOBAL'!E128","v":81.489171434153619},{"$f":"'ITCER GLOBAL'!F128","v":103.312422799101},{"$f":"'ITCER GLOBAL'!G128","v":112.91904233897026},{"$f":"'ITCER GLOBAL'!H128","v":95.130139566533174},{"$f":"'ITCER GLOBAL'!I128","v":109.46654756330318},{"$f":"'ITCER GLOBAL'!S128","v":151.19650194532736},{"$f":"'ITCER GLOBAL'!T128","v":98.684604362943034},{"$f":"'ITCER GLOBAL'!U128","v":97.539420130125691},{"$f":"'ITCER GLOBAL'!V128","v":126.26765724477616},{"$f":"'ITCER GLOBAL'!W128","v":122.82083211683386},{"$f":"'ITCER GLOBAL'!X128","v":172.88849371135547},{"$f":"'ITCER GLOBAL'!Y128","v":99.922631575442892},{"$f":"'ITCER GLOBAL'!AA128","v":139.20269212042686},{"$f":"'ITCER GLOBAL'!AB128","v":97.81436563264441},{"$f":"'ITCER GLOBAL'!AC128","v":119.69617363080111},{"$f":"'ITCER GLOBAL'!AD128","v":122.21923929740124},{"$f":"'ITCER GLOBAL'!AE128","v":108.76892822748137},{"$f":"'ITCER GLOBAL'!AF128","v":181.73892574859389},{"$f":"'ITCER GLOBAL'!AG128","v":91.28143145069852},null,{"$f":"IF(EFECTOS!$N$9=\"COSTA RICA\",LOOKUP(1,GEfectos!$C$4:$I$4,GEfectos!C128:I128),IF(EFECTOS!$N$9=\"EL SALVADOR\",LOOKUP(2,GEfectos!$C$4:$I$4,GEfectos!C128:I128),IF(EFECTOS!$N$9=\"GUATEMALA\",LOOKUP(3,GEfectos!$C$4:$I$4,GEfectos!C128:I128),IF(EFECTOS!$N$9=\"HONDURAS\",LOOKUP(4,GEfectos!$C$4:$I$4,GEfectos!C128:I128),IF(EFECTOS!$N$9=\"NICARAGUA\",LOOKUP(5,GEfectos!$C$4:$I$4,GEfectos!C128:I128),IF(EFECTOS!$N$9=\"REPÚBLICA \nDOMINICANA\",LOOKUP(6,$C$4:$I$4,C128:I128),IF(EFECTOS!$N$9=\"PANAMÁ\",LOOKUP(7,GEfectos!$C$4:$I$4,GEfectos!C128:I128))))))))","v":108.61607605585992},{"$f":"IF(EFECTOS!$N$9=\"COSTA RICA\",LOOKUP(1,GEfectos!$J$4:$P$4,GEfectos!J128:P128),IF(EFECTOS!$N$9=\"EL SALVADOR\",LOOKUP(2,GEfectos!$J$4:$P$4,GEfectos!J128:P128),IF(EFECTOS!$N$9=\"GUATEMALA\",LOOKUP(3,GEfectos!$J$4:$P$4,GEfectos!J128:P128),IF(EFECTOS!$N$9=\"HONDURAS\",LOOKUP(4,GEfectos!$J$4:$P$4,GEfectos!J128:P128),IF(EFECTOS!$N$9=\"NICARAGUA\",LOOKUP(5,GEfectos!$J$4:$P$4,GEfectos!J128:P128),IF(EFECTOS!$N$9=\"REPÚBLICA \nDOMINICANA\",LOOKUP(6,$J$4:$P$4,J128:P128),IF(EFECTOS!$N$9=\"PANAMÁ\",LOOKUP(7,GEfectos!$J$4:$P$4,GEfectos!J128:P128))))))))","v":151.19650194532736},{"$f":"IF(EFECTOS!$N$9=\"COSTA RICA\",LOOKUP(1,GEfectos!$Q$4:$W$4,GEfectos!Q128:W128),IF(EFECTOS!$N$9=\"EL SALVADOR\",LOOKUP(2,GEfectos!$Q$4:$W$4,GEfectos!Q128:W128),IF(EFECTOS!$N$9=\"GUATEMALA\",LOOKUP(3,GEfectos!$Q$4:$W$4,GEfectos!Q128:W128),IF(EFECTOS!$N$9=\"HONDURAS\",LOOKUP(4,GEfectos!$Q$4:$W$4,GEfectos!Q128:W128),IF(EFECTOS!$N$9=\"NICARAGUA\",LOOKUP(5,GEfectos!$Q$4:$W$4,GEfectos!Q128:W128),IF(EFECTOS!$N$9=\"REPÚBLICA \nDOMINICANA\",LOOKUP(6,$Q$4:$W$4,Q128:W128),IF(EFECTOS!$N$9=\"PANAMÁ\",LOOKUP(7,GEfectos!$Q$4:$W$4,GEfectos!Q128:W128))))))))","v":139.20269212042686},100]
[null,{"$f":"'ITCER GLOBAL'!B129","v":"Abril"},{"$f":"'ITCER GLOBAL'!C129","v":108.64513313705116},{"$f":"'ITCER GLOBAL'!D129","v":100.98144627069108},{"$f":"'ITCER GLOBAL'!E129","v":81.213151868310632},{"$f":"'ITCER GLOBAL'!F129","v":102.98746318136581},{"$f":"'ITCER GLOBAL'!G129","v":111.77384304888038},{"$f":"'ITCER GLOBAL'!H129","v":95.144791288768943},{"$f":"'ITCER GLOBAL'!I129","v":109.55186638270325},{"$f":"'ITCER GLOBAL'!S129","v":151.84464940314254},{"$f":"'ITCER GLOBAL'!T129","v":98.62836765307533},{"$f":"'ITCER GLOBAL'!U129","v":97.294002683022711},{"$f":"'ITCER GLOBAL'!V129","v":126.26449536808263},{"$f":"'ITCER GLOBAL'!W129","v":122.95024621080415},{"$f":"'ITCER GLOBAL'!X129","v":172.42794807999334},{"$f":"'ITCER GLOBAL'!Y129","v":99.740011343654629},{"$f":"'ITCER GLOBAL'!AA129","v":139.76203537032538},{"$f":"'ITCER GLOBAL'!AB129","v":97.669791130433907},{"$f":"'ITCER GLOBAL'!AC129","v":119.80079635474267},{"$f":"'ITCER GLOBAL'!AD129","v":122.60181139302837},{"$f":"'ITCER GLOBAL'!AE129","v":109.99912220700523},{"$f":"'ITCER GLOBAL'!AF129","v":181.22689192376947},{"$f":"'ITCER GLOBAL'!AG129","v":91.043644108469707},null,{"$f":"IF(EFECTOS!$N$9=\"COSTA RICA\",LOOKUP(1,GEfectos!$C$4:$I$4,GEfectos!C129:I129),IF(EFECTOS!$N$9=\"EL SALVADOR\",LOOKUP(2,GEfectos!$C$4:$I$4,GEfectos!C129:I129),IF(EFECTOS!$N$9=\"GUATEMALA\",LOOKUP(3,GEfectos!$C$4:$I$4,GEfectos!C129:I129),IF(EFECTOS!$N$9=\"HONDURAS\",LOOKUP(4,GEfectos!$C$4:$I$4,GEfectos!C129:I129),IF(EFECTOS!$N$9=\"NICARAGUA\",LOOKUP(5,GEfectos!$C$4:$I$4,GEfectos!C129:I129),IF(EFECTOS!$N$9=\"REPÚBLICA \nDOMINICANA\",LOOKUP(6,$C$4:$I$4,C129:I129),IF(EFECTOS!$N$9=\"PANAMÁ\",LOOKUP(7,GEfectos!$C$4:$I$4,GEfectos!C129:I129))))))))","v":108.64513313705116},{"$f":"IF(EFECTOS!$N$9=\"COSTA RICA\",LOOKUP(1,GEfectos!$J$4:$P$4,GEfectos!J129:P129),IF(EFECTOS!$N$9=\"EL SALVADOR\",LOOKUP(2,GEfectos!$J$4:$P$4,GEfectos!J129:P129),IF(EFECTOS!$N$9=\"GUATEMALA\",LOOKUP(3,GEfectos!$J$4:$P$4,GEfectos!J129:P129),IF(EFECTOS!$N$9=\"HONDURAS\",LOOKUP(4,GEfectos!$J$4:$P$4,GEfectos!J129:P129),IF(EFECTOS!$N$9=\"NICARAGUA\",LOOKUP(5,GEfectos!$J$4:$P$4,GEfectos!J129:P129),IF(EFECTOS!$N$9=\"REPÚBLICA \nDOMINICANA\",LOOKUP(6,$J$4:$P$4,J129:P129),IF(EFECTOS!$N$9=\"PANAMÁ\",LOOKUP(7,GEfectos!$J$4:$P$4,GEfectos!J129:P129))))))))","v":151.84464940314254},{"$f":"IF(EFECTOS!$N$9=\"COSTA RICA\",LOOKUP(1,GEfectos!$Q$4:$W$4,GEfectos!Q129:W129),IF(EFECTOS!$N$9=\"EL SALVADOR\",LOOKUP(2,GEfectos!$Q$4:$W$4,GEfectos!Q129:W129),IF(EFECTOS!$N$9=\"GUATEMALA\",LOOKUP(3,GEfectos!$Q$4:$W$4,GEfectos!Q129:W129),IF(EFECTOS!$N$9=\"HONDURAS\",LOOKUP(4,GEfectos!$Q$4:$W$4,GEfectos!Q129:W129),IF(EFECTOS!$N$9=\"NICARAGUA\",LOOKUP(5,GEfectos!$Q$4:$W$4,GEfectos!Q129:W129),IF(EFECTOS!$N$9=\"REPÚBLICA \nDOMINICANA\",LOOKUP(6,$Q$4:$W$4,Q129:W129),IF(EFECTOS!$N$9=\"PANAMÁ\",LOOKUP(7,GEfectos!$Q$4:$W$4,GEfectos!Q129:W129))))))))","v":139.76203537032538},100]
[null,{"$f":"'ITCER GLOBAL'!B130","v":"Mayo"},{"$f":"'ITCER GLOBAL'!C130","v":107.83013400314209},{"$f":"'ITCER GLOBAL'!D130","v":100.34474125587337},{"$f":"'ITCER GLOBAL'!E130","v":80.746231153560402},{"$f":"'ITCER GLOBAL'!F130","v":102.82537405314648},{"$f":"'ITCER GLOBAL'!G130","v":111.69939255396328},{"$f":"'ITCER GLOBAL'!H130","v":96.951194539043072},{"$f":"'ITCER GLOBAL'!I130","v":110.01839163984062},{"$f":"'ITCER GLOBAL'!S130","v":152.73717360411337},{"$f":"'ITCER GLOBAL'!T130","v":98.642542126989682},{"$f":"'ITCER GLOBAL'!U130","v":97.146329210388274},{"$f":"'ITCER GLOBAL'!V130","v":126.38302375485884},{"$f":"'ITCER GLOBAL'!W130","v":123.61031985073731},{"$f":"'ITCER GLOBAL'!X130","v":175.20605580687493},{"$f":"'ITCER GLOBAL'!Y130","v":99.758122214267004},{"$f":"'ITCER GLOBAL'!AA130","v":141.64609458768055},{"$f":"'ITCER GLOBAL'!AB130","v":98.303648893225827},{"$f":"'ITCER GLOBAL'!AC130","v":120.31066691600596},{"$f":"'ITCER GLOBAL'!AD130","v":122.91034671027437},{"$f":"'ITCER GLOBAL'!AE130","v":110.66337696601146},{"$f":"'ITCER GLOBAL'!AF130","v":180.71572675292614},{"$f":"'ITCER GLOBAL'!AG130","v":90.674041610095585},null,{"$f":"IF(EFECTOS!$N$9=\"COSTA RICA\",LOOKUP(1,GEfectos!$C$4:$I$4,GEfectos!C130:I130),IF(EFECTOS!$N$9=\"EL SALVADOR\",LOOKUP(2,GEfectos!$C$4:$I$4,GEfectos!C130:I130),IF(EFECTOS!$N$9=\"GUATEMALA\",LOOKUP(3,GEfectos!$C$4:$I$4,GEfectos!C130:I130),IF(EFECTOS!$N$9=\"HONDURAS\",LOOKUP(4,GEfectos!$C$4:$I$4,GEfectos!C130:I130),IF(EFECTOS!$N$9=\"NICARAGUA\",LOOKUP(5,GEfectos!$C$4:$I$4,GEfectos!C130:I130),IF(EFECTOS!$N$9=\"REPÚBLICA \nDOMINICANA\",LOOKUP(6,$C$4:$I$4,C130:I130),IF(EFECTOS!$N$9=\"PANAMÁ\",LOOKUP(7,GEfectos!$C$4:$I$4,GEfectos!C130:I130))))))))","v":107.83013400314209},{"$f":"IF(EFECTOS!$N$9=\"COSTA RICA\",LOOKUP(1,GEfectos!$J$4:$P$4,GEfectos!J130:P130),IF(EFECTOS!$N$9=\"EL SALVADOR\",LOOKUP(2,GEfectos!$J$4:$P$4,GEfectos!J130:P130),IF(EFECTOS!$N$9=\"GUATEMALA\",LOOKUP(3,GEfectos!$J$4:$P$4,GEfectos!J130:P130),IF(EFECTOS!$N$9=\"HONDURAS\",LOOKUP(4,GEfectos!$J$4:$P$4,GEfectos!J130:P130),IF(EFECTOS!$N$9=\"NICARAGUA\",LOOKUP(5,GEfectos!$J$4:$P$4,GEfectos!J130:P130),IF(EFECTOS!$N$9=\"REPÚBLICA \nDOMINICANA\",LOOKUP(6,$J$4:$P$4,J130:P130),IF(EFECTOS!$N$9=\"PANAMÁ\",LOOKUP(7,GEfectos!$J$4:$P$4,GEfectos!J130:P130))))))))","v":152.73717360411337},{"$f":"IF(EFECTOS!$N$9=\"COSTA RICA\",LOOKUP(1,GEfectos!$Q$4:$W$4,GEfectos!Q130:W130),IF(EFECTOS!$N$9=\"EL SALVADOR\",LOOKUP(2,GEfectos!$Q$4:$W$4,GEfectos!Q130:W130),IF(EFECTOS!$N$9=\"GUATEMALA\",LOOKUP(3,GEfectos!$Q$4:$W$4,GEfectos!Q130:W130),IF(EFECTOS!$N$9=\"HONDURAS\",LOOKUP(4,GEfectos!$Q$4:$W$4,GEfectos!Q130:W130),IF(EFECTOS!$N$9=\"NICARAGUA\",LOOKUP(5,GEfectos!$Q$4:$W$4,GEfectos!Q130:W130),IF(EFECTOS!$N$9=\"REPÚBLICA \nDOMINICANA\",LOOKUP(6,$Q$4:$W$4,Q130:W130),IF(EFECTOS!$N$9=\"PANAMÁ\",LOOKUP(7,GEfectos!$Q$4:$W$4,GEfectos!Q130:W130))))))))","v":141.64609458768055},100]
[null,{"$f":"'ITCER GLOBAL'!B131","v":"Junio"},{"$f":"'ITCER GLOBAL'!C131","v":107.54482362092206},{"$f":"'ITCER GLOBAL'!D131","v":100.24184148398841},{"$f":"'ITCER GLOBAL'!E131","v":80.273676500165806},{"$f":"'ITCER GLOBAL'!F131","v":101.71639567703575},{"$f":"'ITCER GLOBAL'!G131","v":110.76517048718118},{"$f":"'ITCER GLOBAL'!H131","v":97.350852474881052},{"$f":"'ITCER GLOBAL'!I131","v":109.37048232206041},{"$f":"'ITCER GLOBAL'!S131","v":152.96346509006455},{"$f":"'ITCER GLOBAL'!T131","v":98.432392021102189},{"$f":"'ITCER GLOBAL'!U131","v":97.174813891597552},{"$f":"'ITCER GLOBAL'!V131","v":125.76932074276661},{"$f":"'ITCER GLOBAL'!W131","v":123.35361648841344},{"$f":"'ITCER GLOBAL'!X131","v":175.94358038982102},{"$f":"'ITCER GLOBAL'!Y131","v":99.223592423094132},{"$f":"'ITCER GLOBAL'!AA131","v":142.23228970018656},{"$f":"'ITCER GLOBAL'!AB131","v":98.194915979097175},{"$f":"'ITCER GLOBAL'!AC131","v":121.05439557312022},{"$f":"'ITCER GLOBAL'!AD131","v":123.647048153478},{"$f":"'ITCER GLOBAL'!AE131","v":111.36498589390888},{"$f":"'ITCER GLOBAL'!AF131","v":180.73142239326447},{"$f":"'ITCER GLOBAL'!AG131","v":90.722460316955548},null,{"$f":"IF(EFECTOS!$N$9=\"COSTA RICA\",LOOKUP(1,GEfectos!$C$4:$I$4,GEfectos!C131:I131),IF(EFECTOS!$N$9=\"EL SALVADOR\",LOOKUP(2,GEfectos!$C$4:$I$4,GEfectos!C131:I131),IF(EFECTOS!$N$9=\"GUATEMALA\",LOOKUP(3,GEfectos!$C$4:$I$4,GEfectos!C131:I131),IF(EFECTOS!$N$9=\"HONDURAS\",LOOKUP(4,GEfectos!$C$4:$I$4,GEfectos!C131:I131),IF(EFECTOS!$N$9=\"NICARAGUA\",LOOKUP(5,GEfectos!$C$4:$I$4,GEfectos!C131:I131),IF(EFECTOS!$N$9=\"REPÚBLICA \nDOMINICANA\",LOOKUP(6,$C$4:$I$4,C131:I131),IF(EFECTOS!$N$9=\"PANAMÁ\",LOOKUP(7,GEfectos!$C$4:$I$4,GEfectos!C131:I131))))))))","v":107.54482362092206},{"$f":"IF(EFECTOS!$N$9=\"COSTA RICA\",LOOKUP(1,GEfectos!$J$4:$P$4,GEfectos!J131:P131),IF(EFECTOS!$N$9=\"EL SALVADOR\",LOOKUP(2,GEfectos!$J$4:$P$4,GEfectos!J131:P131),IF(EFECTOS!$N$9=\"GUATEMALA\",LOOKUP(3,GEfectos!$J$4:$P$4,GEfectos!J131:P131),IF(EFECTOS!$N$9=\"HONDURAS\",LOOKUP(4,GEfectos!$J$4:$P$4,GEfectos!J131:P131),IF(EFECTOS!$N$9=\"NICARAGUA\",LOOKUP(5,GEfectos!$J$4:$P$4,GEfectos!J131:P131),IF(EFECTOS!$N$9=\"REPÚBLICA \nDOMINICANA\",LOOKUP(6,$J$4:$P$4,J131:P131),IF(EFECTOS!$N$9=\"PANAMÁ\",LOOKUP(7,GEfectos!$J$4:$P$4,GEfectos!J131:P131))))))))","v":152.96346509006455},{"$f":"IF(EFECTOS!$N$9=\"COSTA RICA\",LOOKUP(1,GEfectos!$Q$4:$W$4,GEfectos!Q131:W131),IF(EFECTOS!$N$9=\"EL SALVADOR\",LOOKUP(2,GEfectos!$Q$4:$W$4,GEfectos!Q131:W131),IF(EFECTOS!$N$9=\"GUATEMALA\",LOOKUP(3,GEfectos!$Q$4:$W$4,GEfectos!Q131:W131),IF(EFECTOS!$N$9=\"HONDURAS\",LOOKUP(4,GEfectos!$Q$4:$W$4,GEfectos!Q131:W131),IF(EFECTOS!$N$9=\"NICARAGUA\",LOOKUP(5,GEfectos!$Q$4:$W$4,GEfectos!Q131:W131),IF(EFECTOS!$N$9=\"REPÚBLICA \nDOMINICANA\",LOOKUP(6,$Q$4:$W$4,Q131:W131),IF(EFECTOS!$N$9=\"PANAMÁ\",LOOKUP(7,GEfectos!$Q$4:$W$4,GEfectos!Q131:W131))))))))","v":142.23228970018656},100]
[null,{"$f":"'ITCER GLOBAL'!B132","v":"Julio"},{"$f":"'ITCER GLOBAL'!C132","v":107.15912856164198},{"$f":"'ITCER GLOBAL'!D132","v":100.57142089587259},{"$f":"'ITCER GLOBAL'!E132","v":79.488803076171095},{"$f":"'ITCER GLOBAL'!F132","v":101.18574207221981},{"$f":"'ITCER GLOBAL'!G132","v":111.15043461832605},{"$f":"'ITCER GLOBAL'!H132","v":97.153295271247913},{"$f":"'ITCER GLOBAL'!I132","v":109.12171944924509},{"$f":"'ITCER GLOBAL'!S132","v":153.8354146847087},{"$f":"'ITCER GLOBAL'!T132","v":98.420927103199602},{"$f":"'ITCER GLOBAL'!U132","v":96.731719898153827},{"$f":"'ITCER GLOBAL'!V132","v":125.71245139531644},{"$f":"'ITCER GLOBAL'!W132","v":124.24759230006627},{"$f":"'ITCER GLOBAL'!X132","v":175.95213222681778},{"$f":"'ITCER GLOBAL'!Y132","v":99.00683023036737},{"$f":"'ITCER GLOBAL'!AA132","v":143.55791872291752},{"$f":"'ITCER GLOBAL'!AB132","v":97.861724758866117},{"$f":"'ITCER GLOBAL'!AC132","v":121.69225872662783},{"$f":"'ITCER GLOBAL'!AD132","v":124.23929381828425},{"$f":"'ITCER GLOBAL'!AE132","v":111.78327167744679},{"$f":"'ITCER GLOBAL'!AF132","v":181.10773467391593},{"$f":"'ITCER GLOBAL'!AG132","v":90.730636146562588},null,{"$f":"IF(EFECTOS!$N$9=\"COSTA RICA\",LOOKUP(1,GEfectos!$C$4:$I$4,GEfectos!C132:I132),IF(EFECTOS!$N$9=\"EL SALVADOR\",LOOKUP(2,GEfectos!$C$4:$I$4,GEfectos!C132:I132),IF(EFECTOS!$N$9=\"GUATEMALA\",LOOKUP(3,GEfectos!$C$4:$I$4,GEfectos!C132:I132),IF(EFECTOS!$N$9=\"HONDURAS\",LOOKUP(4,GEfectos!$C$4:$I$4,GEfectos!C132:I132),IF(EFECTOS!$N$9=\"NICARAGUA\",LOOKUP(5,GEfectos!$C$4:$I$4,GEfectos!C132:I132),IF(EFECTOS!$N$9=\"REPÚBLICA \nDOMINICANA\",LOOKUP(6,$C$4:$I$4,C132:I132),IF(EFECTOS!$N$9=\"PANAMÁ\",LOOKUP(7,GEfectos!$C$4:$I$4,GEfectos!C132:I132))))))))","v":107.15912856164198},{"$f":"IF(EFECTOS!$N$9=\"COSTA RICA\",LOOKUP(1,GEfectos!$J$4:$P$4,GEfectos!J132:P132),IF(EFECTOS!$N$9=\"EL SALVADOR\",LOOKUP(2,GEfectos!$J$4:$P$4,GEfectos!J132:P132),IF(EFECTOS!$N$9=\"GUATEMALA\",LOOKUP(3,GEfectos!$J$4:$P$4,GEfectos!J132:P132),IF(EFECTOS!$N$9=\"HONDURAS\",LOOKUP(4,GEfectos!$J$4:$P$4,GEfectos!J132:P132),IF(EFECTOS!$N$9=\"NICARAGUA\",LOOKUP(5,GEfectos!$J$4:$P$4,GEfectos!J132:P132),IF(EFECTOS!$N$9=\"REPÚBLICA \nDOMINICANA\",LOOKUP(6,$J$4:$P$4,J132:P132),IF(EFECTOS!$N$9=\"PANAMÁ\",LOOKUP(7,GEfectos!$J$4:$P$4,GEfectos!J132:P132))))))))","v":153.8354146847087},{"$f":"IF(EFECTOS!$N$9=\"COSTA RICA\",LOOKUP(1,GEfectos!$Q$4:$W$4,GEfectos!Q132:W132),IF(EFECTOS!$N$9=\"EL SALVADOR\",LOOKUP(2,GEfectos!$Q$4:$W$4,GEfectos!Q132:W132),IF(EFECTOS!$N$9=\"GUATEMALA\",LOOKUP(3,GEfectos!$Q$4:$W$4,GEfectos!Q132:W132),IF(EFECTOS!$N$9=\"HONDURAS\",LOOKUP(4,GEfectos!$Q$4:$W$4,GEfectos!Q132:W132),IF(EFECTOS!$N$9=\"NICARAGUA\",LOOKUP(5,GEfectos!$Q$4:$W$4,GEfectos!Q132:W132),IF(EFECTOS!$N$9=\"REPÚBLICA \nDOMINICANA\",LOOKUP(6,$Q$4:$W$4,Q132:W132),IF(EFECTOS!$N$9=\"PANAMÁ\",LOOKUP(7,GEfectos!$Q$4:$W$4,GEfectos!Q132:W132))))))))","v":143.55791872291752},100]
[null,{"$f":"'ITCER GLOBAL'!B133","v":"Agosto"},{"$f":"'ITCER GLOBAL'!C133","v":107.38266096447734},{"$f":"'ITCER GLOBAL'!D133","v":100.93100813289107},{"$f":"'ITCER GLOBAL'!E133","v":79.749196646804194},{"$f":"'ITCER GLOBAL'!F133","v":101.12610973530241},{"$f":"'ITCER GLOBAL'!G133","v":111.77825888185579},{"$f":"'ITCER GLOBAL'!H133","v":96.773596654117469},{"$f":"'ITCER GLOBAL'!I133","v":110.05015025017379},{"$f":"'ITCER GLOBAL'!S133","v":155.46606630757233},{"$f":"'ITCER GLOBAL'!T133","v":98.565286281519832},{"$f":"'ITCER GLOBAL'!U133","v":96.990826028723546},{"$f":"'ITCER GLOBAL'!V133","v":126.1378247392333},{"$f":"'ITCER GLOBAL'!W133","v":125.20244985432529},{"$f":"'ITCER GLOBAL'!X133","v":176.82886602008514},{"$f":"'ITCER GLOBAL'!Y133","v":99.421516726815881},{"$f":"'ITCER GLOBAL'!AA133","v":144.77762509442863},{"$f":"'ITCER GLOBAL'!AB133","v":97.656100047810469},{"$f":"'ITCER GLOBAL'!AC133","v":121.61981575598769},{"$f":"'ITCER GLOBAL'!AD133","v":124.73319211962081},{"$f":"'ITCER GLOBAL'!AE133","v":112.00966190273031},{"$f":"'ITCER GLOBAL'!AF133","v":182.72428858058933},{"$f":"'ITCER GLOBAL'!AG133","v":90.342009075684004},null,{"$f":"IF(EFECTOS!$N$9=\"COSTA RICA\",LOOKUP(1,GEfectos!$C$4:$I$4,GEfectos!C133:I133),IF(EFECTOS!$N$9=\"EL SALVADOR\",LOOKUP(2,GEfectos!$C$4:$I$4,GEfectos!C133:I133),IF(EFECTOS!$N$9=\"GUATEMALA\",LOOKUP(3,GEfectos!$C$4:$I$4,GEfectos!C133:I133),IF(EFECTOS!$N$9=\"HONDURAS\",LOOKUP(4,GEfectos!$C$4:$I$4,GEfectos!C133:I133),IF(EFECTOS!$N$9=\"NICARAGUA\",LOOKUP(5,GEfectos!$C$4:$I$4,GEfectos!C133:I133),IF(EFECTOS!$N$9=\"REPÚBLICA \nDOMINICANA\",LOOKUP(6,$C$4:$I$4,C133:I133),IF(EFECTOS!$N$9=\"PANAMÁ\",LOOKUP(7,GEfectos!$C$4:$I$4,GEfectos!C133:I133))))))))","v":107.38266096447734},{"$f":"IF(EFECTOS!$N$9=\"COSTA RICA\",LOOKUP(1,GEfectos!$J$4:$P$4,GEfectos!J133:P133),IF(EFECTOS!$N$9=\"EL SALVADOR\",LOOKUP(2,GEfectos!$J$4:$P$4,GEfectos!J133:P133),IF(EFECTOS!$N$9=\"GUATEMALA\",LOOKUP(3,GEfectos!$J$4:$P$4,GEfectos!J133:P133),IF(EFECTOS!$N$9=\"HONDURAS\",LOOKUP(4,GEfectos!$J$4:$P$4,GEfectos!J133:P133),IF(EFECTOS!$N$9=\"NICARAGUA\",LOOKUP(5,GEfectos!$J$4:$P$4,GEfectos!J133:P133),IF(EFECTOS!$N$9=\"REPÚBLICA \nDOMINICANA\",LOOKUP(6,$J$4:$P$4,J133:P133),IF(EFECTOS!$N$9=\"PANAMÁ\",LOOKUP(7,GEfectos!$J$4:$P$4,GEfectos!J133:P133))))))))","v":155.46606630757233},{"$f":"IF(EFECTOS!$N$9=\"COSTA RICA\",LOOKUP(1,GEfectos!$Q$4:$W$4,GEfectos!Q133:W133),IF(EFECTOS!$N$9=\"EL SALVADOR\",LOOKUP(2,GEfectos!$Q$4:$W$4,GEfectos!Q133:W133),IF(EFECTOS!$N$9=\"GUATEMALA\",LOOKUP(3,GEfectos!$Q$4:$W$4,GEfectos!Q133:W133),IF(EFECTOS!$N$9=\"HONDURAS\",LOOKUP(4,GEfectos!$Q$4:$W$4,GEfectos!Q133:W133),IF(EFECTOS!$N$9=\"NICARAGUA\",LOOKUP(5,GEfectos!$Q$4:$W$4,GEfectos!Q133:W133),IF(EFECTOS!$N$9=\"REPÚBLICA \nDOMINICANA\",LOOKUP(6,$Q$4:$W$4,Q133:W133),IF(EFECTOS!$N$9=\"PANAMÁ\",LOOKUP(7,GEfectos!$Q$4:$W$4,GEfectos!Q133:W133))))))))","v":144.77762509442863},100]
[null,{"$f":"'ITCER GLOBAL'!B134","v":"Septiembre"},{"$f":"'ITCER GLOBAL'!C134","v":108.81796176515951},{"$f":"'ITCER GLOBAL'!D134","v":101.38400244903394},{"$f":"'ITCER GLOBAL'!E134","v":80.014890983592011},{"$f":"'ITCER GLOBAL'!F134","v":101.56790320433561},{"$f":"'ITCER GLOBAL'!G134","v":112.11199633048707},{"$f":"'ITCER GLOBAL'!H134","v":99.36069693387627},{"$f":"'ITCER GLOBAL'!I134","v":109.92650349899381},{"$f":"'ITCER GLOBAL'!S134","v":156.35848986629017},{"$f":"'ITCER GLOBAL'!T134","v":98.465144673510636},{"$f":"'ITCER GLOBAL'!U134","v":97.289718716056498},{"$f":"'ITCER GLOBAL'!V134","v":126.06301425600077},{"$f":"'ITCER GLOBAL'!W134","v":125.50514163319188},{"$f":"'ITCER GLOBAL'!X134","v":185.54253826955249},{"$f":"'ITCER GLOBAL'!Y134","v":99.333251227219989},{"$f":"'ITCER GLOBAL'!AA134","v":143.6881258663235},{"$f":"'ITCER GLOBAL'!AB134","v":97.120987823507335},{"$f":"'ITCER GLOBAL'!AC134","v":121.58951605146457},{"$f":"'ITCER GLOBAL'!AD134","v":124.11698014714902},{"$f":"'ITCER GLOBAL'!AE134","v":111.94621962062303},{"$f":"'ITCER GLOBAL'!AF134","v":186.73634947732856},{"$f":"'ITCER GLOBAL'!AG134","v":90.363331922159432},null,{"$f":"IF(EFECTOS!$N$9=\"COSTA RICA\",LOOKUP(1,GEfectos!$C$4:$I$4,GEfectos!C134:I134),IF(EFECTOS!$N$9=\"EL SALVADOR\",LOOKUP(2,GEfectos!$C$4:$I$4,GEfectos!C134:I134),IF(EFECTOS!$N$9=\"GUATEMALA\",LOOKUP(3,GEfectos!$C$4:$I$4,GEfectos!C134:I134),IF(EFECTOS!$N$9=\"HONDURAS\",LOOKUP(4,GEfectos!$C$4:$I$4,GEfectos!C134:I134),IF(EFECTOS!$N$9=\"NICARAGUA\",LOOKUP(5,GEfectos!$C$4:$I$4,GEfectos!C134:I134),IF(EFECTOS!$N$9=\"REPÚBLICA \nDOMINICANA\",LOOKUP(6,$C$4:$I$4,C134:I134),IF(EFECTOS!$N$9=\"PANAMÁ\",LOOKUP(7,GEfectos!$C$4:$I$4,GEfectos!C134:I134))))))))","v":108.81796176515951},{"$f":"IF(EFECTOS!$N$9=\"COSTA RICA\",LOOKUP(1,GEfectos!$J$4:$P$4,GEfectos!J134:P134),IF(EFECTOS!$N$9=\"EL SALVADOR\",LOOKUP(2,GEfectos!$J$4:$P$4,GEfectos!J134:P134),IF(EFECTOS!$N$9=\"GUATEMALA\",LOOKUP(3,GEfectos!$J$4:$P$4,GEfectos!J134:P134),IF(EFECTOS!$N$9=\"HONDURAS\",LOOKUP(4,GEfectos!$J$4:$P$4,GEfectos!J134:P134),IF(EFECTOS!$N$9=\"NICARAGUA\",LOOKUP(5,GEfectos!$J$4:$P$4,GEfectos!J134:P134),IF(EFECTOS!$N$9=\"REPÚBLICA \nDOMINICANA\",LOOKUP(6,$J$4:$P$4,J134:P134),IF(EFECTOS!$N$9=\"PANAMÁ\",LOOKUP(7,GEfectos!$J$4:$P$4,GEfectos!J134:P134))))))))","v":156.35848986629017},{"$f":"IF(EFECTOS!$N$9=\"COSTA RICA\",LOOKUP(1,GEfectos!$Q$4:$W$4,GEfectos!Q134:W134),IF(EFECTOS!$N$9=\"EL SALVADOR\",LOOKUP(2,GEfectos!$Q$4:$W$4,GEfectos!Q134:W134),IF(EFECTOS!$N$9=\"GUATEMALA\",LOOKUP(3,GEfectos!$Q$4:$W$4,GEfectos!Q134:W134),IF(EFECTOS!$N$9=\"HONDURAS\",LOOKUP(4,GEfectos!$Q$4:$W$4,GEfectos!Q134:W134),IF(EFECTOS!$N$9=\"NICARAGUA\",LOOKUP(5,GEfectos!$Q$4:$W$4,GEfectos!Q134:W134),IF(EFECTOS!$N$9=\"REPÚBLICA \nDOMINICANA\",LOOKUP(6,$Q$4:$W$4,Q134:W134),IF(EFECTOS!$N$9=\"PANAMÁ\",LOOKUP(7,GEfectos!$Q$4:$W$4,GEfectos!Q134:W134))))))))","v":143.6881258663235},100]
[null,{"$f":"'ITCER GLOBAL'!B135","v":"Octubre"},{"$f":"'ITCER GLOBAL'!C135","v":108.09581065378121},{"$f":"'ITCER GLOBAL'!D135","v":99.644513120675114},{"$f":"'ITCER GLOBAL'!E135","v":79.230502415003187},{"$f":"'ITCER GLOBAL'!F135","v":101.65438616980613},{"$f":"'ITCER GLOBAL'!G135","v":111.62610561577345},{"$f":"'ITCER GLOBAL'!H135","v":104.71008111509195},{"$f":"'ITCER GLOBAL'!I135","v":109.14117900036872},{"$f":"'ITCER GLOBAL'!S135","v":156.72508667943757},{"$f":"'ITCER GLOBAL'!T135","v":98.199160098915499},{"$f":"'ITCER GLOBAL'!U135","v":97.642129639583558},{"$f":"'ITCER GLOBAL'!V135","v":125.59850457690902},{"$f":"'ITCER GLOBAL'!W135","v":125.36860433795893},{"$f":"'ITCER GLOBAL'!X135","v":197.23522343556391},{"$f":"'ITCER GLOBAL'!Y135","v":98.833460026397248},{"$f":"'ITCER GLOBAL'!AA135","v":144.98719768281353},{"$f":"'ITCER GLOBAL'!AB135","v":98.549490607667266},{"$f":"'ITCER GLOBAL'!AC135","v":123.23805436464571},{"$f":"'ITCER GLOBAL'!AD135","v":123.55443705803899},{"$f":"'ITCER GLOBAL'!AE135","v":112.31118710661494},{"$f":"'ITCER GLOBAL'!AF135","v":188.36316554732974},{"$f":"'ITCER GLOBAL'!AG135","v":90.555609653129494},null,{"$f":"IF(EFECTOS!$N$9=\"COSTA RICA\",LOOKUP(1,GEfectos!$C$4:$I$4,GEfectos!C135:I135),IF(EFECTOS!$N$9=\"EL SALVADOR\",LOOKUP(2,GEfectos!$C$4:$I$4,GEfectos!C135:I135),IF(EFECTOS!$N$9=\"GUATEMALA\",LOOKUP(3,GEfectos!$C$4:$I$4,GEfectos!C135:I135),IF(EFECTOS!$N$9=\"HONDURAS\",LOOKUP(4,GEfectos!$C$4:$I$4,GEfectos!C135:I135),IF(EFECTOS!$N$9=\"NICARAGUA\",LOOKUP(5,GEfectos!$C$4:$I$4,GEfectos!C135:I135),IF(EFECTOS!$N$9=\"REPÚBLICA \nDOMINICANA\",LOOKUP(6,$C$4:$I$4,C135:I135),IF(EFECTOS!$N$9=\"PANAMÁ\",LOOKUP(7,GEfectos!$C$4:$I$4,GEfectos!C135:I135))))))))","v":108.09581065378121},{"$f":"IF(EFECTOS!$N$9=\"COSTA RICA\",LOOKUP(1,GEfectos!$J$4:$P$4,GEfectos!J135:P135),IF(EFECTOS!$N$9=\"EL SALVADOR\",LOOKUP(2,GEfectos!$J$4:$P$4,GEfectos!J135:P135),IF(EFECTOS!$N$9=\"GUATEMALA\",LOOKUP(3,GEfectos!$J$4:$P$4,GEfectos!J135:P135),IF(EFECTOS!$N$9=\"HONDURAS\",LOOKUP(4,GEfectos!$J$4:$P$4,GEfectos!J135:P135),IF(EFECTOS!$N$9=\"NICARAGUA\",LOOKUP(5,GEfectos!$J$4:$P$4,GEfectos!J135:P135),IF(EFECTOS!$N$9=\"REPÚBLICA \nDOMINICANA\",LOOKUP(6,$J$4:$P$4,J135:P135),IF(EFECTOS!$N$9=\"PANAMÁ\",LOOKUP(7,GEfectos!$J$4:$P$4,GEfectos!J135:P135))))))))","v":156.72508667943757},{"$f":"IF(EFECTOS!$N$9=\"COSTA RICA\",LOOKUP(1,GEfectos!$Q$4:$W$4,GEfectos!Q135:W135),IF(EFECTOS!$N$9=\"EL SALVADOR\",LOOKUP(2,GEfectos!$Q$4:$W$4,GEfectos!Q135:W135),IF(EFECTOS!$N$9=\"GUATEMALA\",LOOKUP(3,GEfectos!$Q$4:$W$4,GEfectos!Q135:W135),IF(EFECTOS!$N$9=\"HONDURAS\",LOOKUP(4,GEfectos!$Q$4:$W$4,GEfectos!Q135:W135),IF(EFECTOS!$N$9=\"NICARAGUA\",LOOKUP(5,GEfectos!$Q$4:$W$4,GEfectos!Q135:W135),IF(EFECTOS!$N$9=\"REPÚBLICA \nDOMINICANA\",LOOKUP(6,$Q$4:$W$4,Q135:W135),IF(EFECTOS!$N$9=\"PANAMÁ\",LOOKUP(7,GEfectos!$Q$4:$W$4,GEfectos!Q135:W135))))))))","v":144.98719768281353},100]
[null,{"$f":"'ITCER GLOBAL'!B136","v":"Noviembre"},{"$f":"'ITCER GLOBAL'!C136","v":106.26432488832903},{"$f":"'ITCER GLOBAL'!D136","v":100.49400094661712},{"$f":"'ITCER GLOBAL'!E136","v":78.085238211516682},{"$f":"'ITCER GLOBAL'!F136","v":100.88538347432817},{"$f":"'ITCER GLOBAL'!G136","v":112.06134343215977},{"$f":"'ITCER GLOBAL'!H136","v":107.62991830588375},{"$f":"'ITCER GLOBAL'!I136","v":109.08869453655004},{"$f":"'ITCER GLOBAL'!S136","v":157.37003416257542},{"$f":"'ITCER GLOBAL'!T136","v":98.199444754137332},{"$f":"'ITCER GLOBAL'!U136","v":96.726162685395934},{"$f":"'ITCER GLOBAL'!V136","v":125.42256476268466},{"$f":"'ITCER GLOBAL'!W136","v":125.7456785225358},{"$f":"'ITCER GLOBAL'!X136","v":202.19521638577524},{"$f":"'ITCER GLOBAL'!Y136","v":98.555864975783606},{"$f":"'ITCER GLOBAL'!AA136","v":148.09300706323813},{"$f":"'ITCER GLOBAL'!AB136","v":97.716723216444862},{"$f":"'ITCER GLOBAL'!AC136","v":123.87253327368337},{"$f":"'ITCER GLOBAL'!AD136","v":124.32183973865784},{"$f":"'ITCER GLOBAL'!AE136","v":112.21146799713348},{"$f":"'ITCER GLOBAL'!AF136","v":187.86153475573337},{"$f":"'ITCER GLOBAL'!AG136","v":90.344710232793716},null,{"$f":"IF(EFECTOS!$N$9=\"COSTA RICA\",LOOKUP(1,GEfectos!$C$4:$I$4,GEfectos!C136:I136),IF(EFECTOS!$N$9=\"EL SALVADOR\",LOOKUP(2,GEfectos!$C$4:$I$4,GEfectos!C136:I136),IF(EFECTOS!$N$9=\"GUATEMALA\",LOOKUP(3,GEfectos!$C$4:$I$4,GEfectos!C136:I136),IF(EFECTOS!$N$9=\"HONDURAS\",LOOKUP(4,GEfectos!$C$4:$I$4,GEfectos!C136:I136),IF(EFECTOS!$N$9=\"NICARAGUA\",LOOKUP(5,GEfectos!$C$4:$I$4,GEfectos!C136:I136),IF(EFECTOS!$N$9=\"REPÚBLICA \nDOMINICANA\",LOOKUP(6,$C$4:$I$4,C136:I136),IF(EFECTOS!$N$9=\"PANAMÁ\",LOOKUP(7,GEfectos!$C$4:$I$4,GEfectos!C136:I136))))))))","v":106.26432488832903},{"$f":"IF(EFECTOS!$N$9=\"COSTA RICA\",LOOKUP(1,GEfectos!$J$4:$P$4,GEfectos!J136:P136),IF(EFECTOS!$N$9=\"EL SALVADOR\",LOOKUP(2,GEfectos!$J$4:$P$4,GEfectos!J136:P136),IF(EFECTOS!$N$9=\"GUATEMALA\",LOOKUP(3,GEfectos!$J$4:$P$4,GEfectos!J136:P136),IF(EFECTOS!$N$9=\"HONDURAS\",LOOKUP(4,GEfectos!$J$4:$P$4,GEfectos!J136:P136),IF(EFECTOS!$N$9=\"NICARAGUA\",LOOKUP(5,GEfectos!$J$4:$P$4,GEfectos!J136:P136),IF(EFECTOS!$N$9=\"REPÚBLICA \nDOMINICANA\",LOOKUP(6,$J$4:$P$4,J136:P136),IF(EFECTOS!$N$9=\"PANAMÁ\",LOOKUP(7,GEfectos!$J$4:$P$4,GEfectos!J136:P136))))))))","v":157.37003416257542},{"$f":"IF(EFECTOS!$N$9=\"COSTA RICA\",LOOKUP(1,GEfectos!$Q$4:$W$4,GEfectos!Q136:W136),IF(EFECTOS!$N$9=\"EL SALVADOR\",LOOKUP(2,GEfectos!$Q$4:$W$4,GEfectos!Q136:W136),IF(EFECTOS!$N$9=\"GUATEMALA\",LOOKUP(3,GEfectos!$Q$4:$W$4,GEfectos!Q136:W136),IF(EFECTOS!$N$9=\"HONDURAS\",LOOKUP(4,GEfectos!$Q$4:$W$4,GEfectos!Q136:W136),IF(EFECTOS!$N$9=\"NICARAGUA\",LOOKUP(5,GEfectos!$Q$4:$W$4,GEfectos!Q136:W136),IF(EFECTOS!$N$9=\"REPÚBLICA \nDOMINICANA\",LOOKUP(6,$Q$4:$W$4,Q136:W136),IF(EFECTOS!$N$9=\"PANAMÁ\",LOOKUP(7,GEfectos!$Q$4:$W$4,GEfectos!Q136:W136))))))))","v":148.09300706323813},100]
[null,{"$f":"'ITCER GLOBAL'!B137","v":"Diciembre"},{"$f":"'ITCER GLOBAL'!C137","v":105.87055551113662},{"$f":"'ITCER GLOBAL'!D137","v":100.49313940025672},{"$f":"'ITCER GLOBAL'!E137","v":78.194162195493973},{"$f":"'ITCER GLOBAL'!F137","v":100.44920268836967},{"$f":"'ITCER GLOBAL'!G137","v":111.94506258001459},{"$f":"'ITCER GLOBAL'!H137","v":106.00374137683841},{"$f":"'ITCER GLOBAL'!I137","v":108.66163592762872},{"$f":"'ITCER GLOBAL'!S137","v":158.5091462314719},{"$f":"'ITCER GLOBAL'!T137","v":98.198495162846498},{"$f":"'ITCER GLOBAL'!U137","v":96.855114417001275},{"$f":"'ITCER GLOBAL'!V137","v":125.48287124176976},{"$f":"'ITCER GLOBAL'!W137","v":125.93255898006419},{"$f":"'ITCER GLOBAL'!X137","v":201.4774999341665},{"$f":"'ITCER GLOBAL'!Y137","v":98.561125004134936},{"$f":"'ITCER GLOBAL'!AA137","v":149.71976435393142},{"$f":"'ITCER GLOBAL'!AB137","v":97.716616028611838},{"$f":"'ITCER GLOBAL'!AC137","v":123.86489182511207},{"$f":"'ITCER GLOBAL'!AD137","v":124.92171951933129},{"$f":"'ITCER GLOBAL'!AE137","v":112.49496501022705},{"$f":"'ITCER GLOBAL'!AF137","v":190.06640456012138},{"$f":"'ITCER GLOBAL'!AG137","v":90.704620966482636},null,{"$f":"IF(EFECTOS!$N$9=\"COSTA RICA\",LOOKUP(1,GEfectos!$C$4:$I$4,GEfectos!C137:I137),IF(EFECTOS!$N$9=\"EL SALVADOR\",LOOKUP(2,GEfectos!$C$4:$I$4,GEfectos!C137:I137),IF(EFECTOS!$N$9=\"GUATEMALA\",LOOKUP(3,GEfectos!$C$4:$I$4,GEfectos!C137:I137),IF(EFECTOS!$N$9=\"HONDURAS\",LOOKUP(4,GEfectos!$C$4:$I$4,GEfectos!C137:I137),IF(EFECTOS!$N$9=\"NICARAGUA\",LOOKUP(5,GEfectos!$C$4:$I$4,GEfectos!C137:I137),IF(EFECTOS!$N$9=\"REPÚBLICA \nDOMINICANA\",LOOKUP(6,$C$4:$I$4,C137:I137),IF(EFECTOS!$N$9=\"PANAMÁ\",LOOKUP(7,GEfectos!$C$4:$I$4,GEfectos!C137:I137))))))))","v":105.87055551113662},{"$f":"IF(EFECTOS!$N$9=\"COSTA RICA\",LOOKUP(1,GEfectos!$J$4:$P$4,GEfectos!J137:P137),IF(EFECTOS!$N$9=\"EL SALVADOR\",LOOKUP(2,GEfectos!$J$4:$P$4,GEfectos!J137:P137),IF(EFECTOS!$N$9=\"GUATEMALA\",LOOKUP(3,GEfectos!$J$4:$P$4,GEfectos!J137:P137),IF(EFECTOS!$N$9=\"HONDURAS\",LOOKUP(4,GEfectos!$J$4:$P$4,GEfectos!J137:P137),IF(EFECTOS!$N$9=\"NICARAGUA\",LOOKUP(5,GEfectos!$J$4:$P$4,GEfectos!J137:P137),IF(EFECTOS!$N$9=\"REPÚBLICA \nDOMINICANA\",LOOKUP(6,$J$4:$P$4,J137:P137),IF(EFECTOS!$N$9=\"PANAMÁ\",LOOKUP(7,GEfectos!$J$4:$P$4,GEfectos!J137:P137))))))))","v":158.5091462314719},{"$f":"IF(EFECTOS!$N$9=\"COSTA RICA\",LOOKUP(1,GEfectos!$Q$4:$W$4,GEfectos!Q137:W137),IF(EFECTOS!$N$9=\"EL SALVADOR\",LOOKUP(2,GEfectos!$Q$4:$W$4,GEfectos!Q137:W137),IF(EFECTOS!$N$9=\"GUATEMALA\",LOOKUP(3,GEfectos!$Q$4:$W$4,GEfectos!Q137:W137),IF(EFECTOS!$N$9=\"HONDURAS\",LOOKUP(4,GEfectos!$Q$4:$W$4,GEfectos!Q137:W137),IF(EFECTOS!$N$9=\"NICARAGUA\",LOOKUP(5,GEfectos!$Q$4:$W$4,GEfectos!Q137:W137),IF(EFECTOS!$N$9=\"REPÚBLICA \nDOMINICANA\",LOOKUP(6,$Q$4:$W$4,Q137:W137),IF(EFECTOS!$N$9=\"PANAMÁ\",LOOKUP(7,GEfectos!$Q$4:$W$4,GEfectos!Q137:W137))))))))","v":149.71976435393142},100]
[2006,{"$f":"'ITCER GLOBAL'!B138","v":"Enero"},{"$f":"'ITCER GLOBAL'!C138","v":106.34419540750615},{"$f":"'ITCER GLOBAL'!D138","v":101.35652982446615},{"$f":"'ITCER GLOBAL'!E138","v":78.348277468091851},{"$f":"'ITCER GLOBAL'!F138","v":101.11548818549025},{"$f":"'ITCER GLOBAL'!G138","v":112.46934608125619},{"$f":"'ITCER GLOBAL'!H138","v":109.80721613710037},{"$f":"'ITCER GLOBAL'!I138","v":110.3283946870169},{"$f":"'ITCER GLOBAL'!S138","v":160.11357165783096},{"$f":"'ITCER GLOBAL'!T138","v":97.983746816836842},{"$f":"'ITCER GLOBAL'!U138","v":97.228301266830726},{"$f":"'ITCER GLOBAL'!V138","v":125.41047200669794},{"$f":"'ITCER GLOBAL'!W138","v":127.01433289630788},{"$f":"'ITCER GLOBAL'!X138","v":210.60952801961204},{"$f":"'ITCER GLOBAL'!Y138","v":99.197723349468887},{"$f":"'ITCER GLOBAL'!AA138","v":150.56164658943817},{"$f":"'ITCER GLOBAL'!AB138","v":96.672357455932598},{"$f":"'ITCER GLOBAL'!AC138","v":124.09756080014391},{"$f":"'ITCER GLOBAL'!AD138","v":124.02696585575497},{"$f":"'ITCER GLOBAL'!AE138","v":112.93240098021313},{"$f":"'ITCER GLOBAL'!AF138","v":191.79935110699324},{"$f":"'ITCER GLOBAL'!AG138","v":89.911326663345505},null,{"$f":"IF(EFECTOS!$N$9=\"COSTA RICA\",LOOKUP(1,GEfectos!$C$4:$I$4,GEfectos!C138:I138),IF(EFECTOS!$N$9=\"EL SALVADOR\",LOOKUP(2,GEfectos!$C$4:$I$4,GEfectos!C138:I138),IF(EFECTOS!$N$9=\"GUATEMALA\",LOOKUP(3,GEfectos!$C$4:$I$4,GEfectos!C138:I138),IF(EFECTOS!$N$9=\"HONDURAS\",LOOKUP(4,GEfectos!$C$4:$I$4,GEfectos!C138:I138),IF(EFECTOS!$N$9=\"NICARAGUA\",LOOKUP(5,GEfectos!$C$4:$I$4,GEfectos!C138:I138),IF(EFECTOS!$N$9=\"REPÚBLICA \nDOMINICANA\",LOOKUP(6,$C$4:$I$4,C138:I138),IF(EFECTOS!$N$9=\"PANAMÁ\",LOOKUP(7,GEfectos!$C$4:$I$4,GEfectos!C138:I138))))))))","v":106.34419540750615},{"$f":"IF(EFECTOS!$N$9=\"COSTA RICA\",LOOKUP(1,GEfectos!$J$4:$P$4,GEfectos!J138:P138),IF(EFECTOS!$N$9=\"EL SALVADOR\",LOOKUP(2,GEfectos!$J$4:$P$4,GEfectos!J138:P138),IF(EFECTOS!$N$9=\"GUATEMALA\",LOOKUP(3,GEfectos!$J$4:$P$4,GEfectos!J138:P138),IF(EFECTOS!$N$9=\"HONDURAS\",LOOKUP(4,GEfectos!$J$4:$P$4,GEfectos!J138:P138),IF(EFECTOS!$N$9=\"NICARAGUA\",LOOKUP(5,GEfectos!$J$4:$P$4,GEfectos!J138:P138),IF(EFECTOS!$N$9=\"REPÚBLICA \nDOMINICANA\",LOOKUP(6,$J$4:$P$4,J138:P138),IF(EFECTOS!$N$9=\"PANAMÁ\",LOOKUP(7,GEfectos!$J$4:$P$4,GEfectos!J138:P138))))))))","v":160.11357165783096},{"$f":"IF(EFECTOS!$N$9=\"COSTA RICA\",LOOKUP(1,GEfectos!$Q$4:$W$4,GEfectos!Q138:W138),IF(EFECTOS!$N$9=\"EL SALVADOR\",LOOKUP(2,GEfectos!$Q$4:$W$4,GEfectos!Q138:W138),IF(EFECTOS!$N$9=\"GUATEMALA\",LOOKUP(3,GEfectos!$Q$4:$W$4,GEfectos!Q138:W138),IF(EFECTOS!$N$9=\"HONDURAS\",LOOKUP(4,GEfectos!$Q$4:$W$4,GEfectos!Q138:W138),IF(EFECTOS!$N$9=\"NICARAGUA\",LOOKUP(5,GEfectos!$Q$4:$W$4,GEfectos!Q138:W138),IF(EFECTOS!$N$9=\"REPÚBLICA \nDOMINICANA\",LOOKUP(6,$Q$4:$W$4,Q138:W138),IF(EFECTOS!$N$9=\"PANAMÁ\",LOOKUP(7,GEfectos!$Q$4:$W$4,GEfectos!Q138:W138))))))))","v":150.56164658943817},100]
[null,{"$f":"'ITCER GLOBAL'!B139","v":"Febrero"},{"$f":"'ITCER GLOBAL'!C139","v":106.24942968038138},{"$f":"'ITCER GLOBAL'!D139","v":101.17487111713375},{"$f":"'ITCER GLOBAL'!E139","v":78.483071685464395},{"$f":"'ITCER GLOBAL'!F139","v":100.59108039601826},{"$f":"'ITCER GLOBAL'!G139","v":111.78966061145331},{"$f":"'ITCER GLOBAL'!H139","v":109.00008350146155},{"$f":"'ITCER GLOBAL'!I139","v":110.82440633000476},{"$f":"'ITCER GLOBAL'!S139","v":160.98717449611121},{"$f":"'ITCER GLOBAL'!T139","v":98.036257944297276},{"$f":"'ITCER GLOBAL'!U139","v":97.098783968211279},{"$f":"'ITCER GLOBAL'!V139","v":125.30519936050865},{"$f":"'ITCER GLOBAL'!W139","v":127.67635230794174},{"$f":"'ITCER GLOBAL'!X139","v":208.30915808342945},{"$f":"'ITCER GLOBAL'!Y139","v":99.18089806603983},{"$f":"'ITCER GLOBAL'!AA139","v":151.51815400834758},{"$f":"'ITCER GLOBAL'!AB139","v":96.897833287869688},{"$f":"'ITCER GLOBAL'!AC139","v":123.71939818736051},{"$f":"'ITCER GLOBAL'!AD139","v":124.56889703062446},{"$f":"'ITCER GLOBAL'!AE139","v":114.21123528740793},{"$f":"'ITCER GLOBAL'!AF139","v":191.10917293988706},{"$f":"'ITCER GLOBAL'!AG139","v":89.49373278906296},null,{"$f":"IF(EFECTOS!$N$9=\"COSTA RICA\",LOOKUP(1,GEfectos!$C$4:$I$4,GEfectos!C139:I139),IF(EFECTOS!$N$9=\"EL SALVADOR\",LOOKUP(2,GEfectos!$C$4:$I$4,GEfectos!C139:I139),IF(EFECTOS!$N$9=\"GUATEMALA\",LOOKUP(3,GEfectos!$C$4:$I$4,GEfectos!C139:I139),IF(EFECTOS!$N$9=\"HONDURAS\",LOOKUP(4,GEfectos!$C$4:$I$4,GEfectos!C139:I139),IF(EFECTOS!$N$9=\"NICARAGUA\",LOOKUP(5,GEfectos!$C$4:$I$4,GEfectos!C139:I139),IF(EFECTOS!$N$9=\"REPÚBLICA \nDOMINICANA\",LOOKUP(6,$C$4:$I$4,C139:I139),IF(EFECTOS!$N$9=\"PANAMÁ\",LOOKUP(7,GEfectos!$C$4:$I$4,GEfectos!C139:I139))))))))","v":106.24942968038138},{"$f":"IF(EFECTOS!$N$9=\"COSTA RICA\",LOOKUP(1,GEfectos!$J$4:$P$4,GEfectos!J139:P139),IF(EFECTOS!$N$9=\"EL SALVADOR\",LOOKUP(2,GEfectos!$J$4:$P$4,GEfectos!J139:P139),IF(EFECTOS!$N$9=\"GUATEMALA\",LOOKUP(3,GEfectos!$J$4:$P$4,GEfectos!J139:P139),IF(EFECTOS!$N$9=\"HONDURAS\",LOOKUP(4,GEfectos!$J$4:$P$4,GEfectos!J139:P139),IF(EFECTOS!$N$9=\"NICARAGUA\",LOOKUP(5,GEfectos!$J$4:$P$4,GEfectos!J139:P139),IF(EFECTOS!$N$9=\"REPÚBLICA \nDOMINICANA\",LOOKUP(6,$J$4:$P$4,J139:P139),IF(EFECTOS!$N$9=\"PANAMÁ\",LOOKUP(7,GEfectos!$J$4:$P$4,GEfectos!J139:P139))))))))","v":160.98717449611121},{"$f":"IF(EFECTOS!$N$9=\"COSTA RICA\",LOOKUP(1,GEfectos!$Q$4:$W$4,GEfectos!Q139:W139),IF(EFECTOS!$N$9=\"EL SALVADOR\",LOOKUP(2,GEfectos!$Q$4:$W$4,GEfectos!Q139:W139),IF(EFECTOS!$N$9=\"GUATEMALA\",LOOKUP(3,GEfectos!$Q$4:$W$4,GEfectos!Q139:W139),IF(EFECTOS!$N$9=\"HONDURAS\",LOOKUP(4,GEfectos!$Q$4:$W$4,GEfectos!Q139:W139),IF(EFECTOS!$N$9=\"NICARAGUA\",LOOKUP(5,GEfectos!$Q$4:$W$4,GEfectos!Q139:W139),IF(EFECTOS!$N$9=\"REPÚBLICA \nDOMINICANA\",LOOKUP(6,$Q$4:$W$4,Q139:W139),IF(EFECTOS!$N$9=\"PANAMÁ\",LOOKUP(7,GEfectos!$Q$4:$W$4,GEfectos!Q139:W139))))))))","v":151.51815400834758},100]
[null,{"$f":"'ITCER GLOBAL'!B140","v":"Marzo"},{"$f":"'ITCER GLOBAL'!C140","v":107.11090741256869},{"$f":"'ITCER GLOBAL'!D140","v":101.15242356254761},{"$f":"'ITCER GLOBAL'!E140","v":78.414441140444893},{"$f":"'ITCER GLOBAL'!F140","v":100.7706472210089},{"$f":"'ITCER GLOBAL'!G140","v":111.53834777705789},{"$f":"'ITCER GLOBAL'!H140","v":104.2328355321677},{"$f":"'ITCER GLOBAL'!I140","v":110.82725918419631},{"$f":"'ITCER GLOBAL'!S140","v":161.92656950829178},{"$f":"'ITCER GLOBAL'!T140","v":97.931237987445456},{"$f":"'ITCER GLOBAL'!U140","v":97.089331726553098},{"$f":"'ITCER GLOBAL'!V140","v":125.24207034291392},{"$f":"'ITCER GLOBAL'!W140","v":127.8129116722119},{"$f":"'ITCER GLOBAL'!X140","v":198.41663928556861},{"$f":"'ITCER GLOBAL'!Y140","v":99.15610777965955},{"$f":"'ITCER GLOBAL'!AA140","v":151.17654533966805},{"$f":"'ITCER GLOBAL'!AB140","v":96.815513201114399},{"$f":"'ITCER GLOBAL'!AC140","v":123.81562670664243},{"$f":"'ITCER GLOBAL'!AD140","v":124.28427701593957},{"$f":"'ITCER GLOBAL'!AE140","v":114.59100320159259},{"$f":"'ITCER GLOBAL'!AF140","v":190.35905362503016},{"$f":"'ITCER GLOBAL'!AG140","v":89.46906068917653},null,{"$f":"IF(EFECTOS!$N$9=\"COSTA RICA\",LOOKUP(1,GEfectos!$C$4:$I$4,GEfectos!C140:I140),IF(EFECTOS!$N$9=\"EL SALVADOR\",LOOKUP(2,GEfectos!$C$4:$I$4,GEfectos!C140:I140),IF(EFECTOS!$N$9=\"GUATEMALA\",LOOKUP(3,GEfectos!$C$4:$I$4,GEfectos!C140:I140),IF(EFECTOS!$N$9=\"HONDURAS\",LOOKUP(4,GEfectos!$C$4:$I$4,GEfectos!C140:I140),IF(EFECTOS!$N$9=\"NICARAGUA\",LOOKUP(5,GEfectos!$C$4:$I$4,GEfectos!C140:I140),IF(EFECTOS!$N$9=\"REPÚBLICA \nDOMINICANA\",LOOKUP(6,$C$4:$I$4,C140:I140),IF(EFECTOS!$N$9=\"PANAMÁ\",LOOKUP(7,GEfectos!$C$4:$I$4,GEfectos!C140:I140))))))))","v":107.11090741256869},{"$f":"IF(EFECTOS!$N$9=\"COSTA RICA\",LOOKUP(1,GEfectos!$J$4:$P$4,GEfectos!J140:P140),IF(EFECTOS!$N$9=\"EL SALVADOR\",LOOKUP(2,GEfectos!$J$4:$P$4,GEfectos!J140:P140),IF(EFECTOS!$N$9=\"GUATEMALA\",LOOKUP(3,GEfectos!$J$4:$P$4,GEfectos!J140:P140),IF(EFECTOS!$N$9=\"HONDURAS\",LOOKUP(4,GEfectos!$J$4:$P$4,GEfectos!J140:P140),IF(EFECTOS!$N$9=\"NICARAGUA\",LOOKUP(5,GEfectos!$J$4:$P$4,GEfectos!J140:P140),IF(EFECTOS!$N$9=\"REPÚBLICA \nDOMINICANA\",LOOKUP(6,$J$4:$P$4,J140:P140),IF(EFECTOS!$N$9=\"PANAMÁ\",LOOKUP(7,GEfectos!$J$4:$P$4,GEfectos!J140:P140))))))))","v":161.92656950829178},{"$f":"IF(EFECTOS!$N$9=\"COSTA RICA\",LOOKUP(1,GEfectos!$Q$4:$W$4,GEfectos!Q140:W140),IF(EFECTOS!$N$9=\"EL SALVADOR\",LOOKUP(2,GEfectos!$Q$4:$W$4,GEfectos!Q140:W140),IF(EFECTOS!$N$9=\"GUATEMALA\",LOOKUP(3,GEfectos!$Q$4:$W$4,GEfectos!Q140:W140),IF(EFECTOS!$N$9=\"HONDURAS\",LOOKUP(4,GEfectos!$Q$4:$W$4,GEfectos!Q140:W140),IF(EFECTOS!$N$9=\"NICARAGUA\",LOOKUP(5,GEfectos!$Q$4:$W$4,GEfectos!Q140:W140),IF(EFECTOS!$N$9=\"REPÚBLICA \nDOMINICANA\",LOOKUP(6,$Q$4:$W$4,Q140:W140),IF(EFECTOS!$N$9=\"PANAMÁ\",LOOKUP(7,GEfectos!$Q$4:$W$4,GEfectos!Q140:W140))))))))","v":151.17654533966805},100]
[null,{"$f":"'ITCER GLOBAL'!B141","v":"Abril"},{"$f":"'ITCER GLOBAL'!C141","v":108.13259650391268},{"$f":"'ITCER GLOBAL'!D141","v":101.24182328192141},{"$f":"'ITCER GLOBAL'!E141","v":78.048730676923995},{"$f":"'ITCER GLOBAL'!F141","v":101.09110025702691},{"$f":"'ITCER GLOBAL'!G141","v":110.98203448063086},{"$f":"'ITCER GLOBAL'!H141","v":102.93781862317768},{"$f":"'ITCER GLOBAL'!I141","v":110.35751925779377},{"$f":"'ITCER GLOBAL'!S141","v":163.05799557648342},{"$f":"'ITCER GLOBAL'!T141","v":97.960247376932458},{"$f":"'ITCER GLOBAL'!U141","v":96.789977893795211},{"$f":"'ITCER GLOBAL'!V141","v":125.41575445896389},{"$f":"'ITCER GLOBAL'!W141","v":128.21629820763866},{"$f":"'ITCER GLOBAL'!X141","v":195.68064320336512},{"$f":"'ITCER GLOBAL'!Y141","v":99.245993040110221},{"$f":"'ITCER GLOBAL'!AA141","v":150.79448829343823},{"$f":"'ITCER GLOBAL'!AB141","v":96.75867561585595},{"$f":"'ITCER GLOBAL'!AC141","v":124.01223832127263},{"$f":"'ITCER GLOBAL'!AD141","v":124.06211243135239},{"$f":"'ITCER GLOBAL'!AE141","v":115.52887709047685},{"$f":"'ITCER GLOBAL'!AF141","v":190.09596844060701},{"$f":"'ITCER GLOBAL'!AG141","v":89.93133744541035},null,{"$f":"IF(EFECTOS!$N$9=\"COSTA RICA\",LOOKUP(1,GEfectos!$C$4:$I$4,GEfectos!C141:I141),IF(EFECTOS!$N$9=\"EL SALVADOR\",LOOKUP(2,GEfectos!$C$4:$I$4,GEfectos!C141:I141),IF(EFECTOS!$N$9=\"GUATEMALA\",LOOKUP(3,GEfectos!$C$4:$I$4,GEfectos!C141:I141),IF(EFECTOS!$N$9=\"HONDURAS\",LOOKUP(4,GEfectos!$C$4:$I$4,GEfectos!C141:I141),IF(EFECTOS!$N$9=\"NICARAGUA\",LOOKUP(5,GEfectos!$C$4:$I$4,GEfectos!C141:I141),IF(EFECTOS!$N$9=\"REPÚBLICA \nDOMINICANA\",LOOKUP(6,$C$4:$I$4,C141:I141),IF(EFECTOS!$N$9=\"PANAMÁ\",LOOKUP(7,GEfectos!$C$4:$I$4,GEfectos!C141:I141))))))))","v":108.13259650391268},{"$f":"IF(EFECTOS!$N$9=\"COSTA RICA\",LOOKUP(1,GEfectos!$J$4:$P$4,GEfectos!J141:P141),IF(EFECTOS!$N$9=\"EL SALVADOR\",LOOKUP(2,GEfectos!$J$4:$P$4,GEfectos!J141:P141),IF(EFECTOS!$N$9=\"GUATEMALA\",LOOKUP(3,GEfectos!$J$4:$P$4,GEfectos!J141:P141),IF(EFECTOS!$N$9=\"HONDURAS\",LOOKUP(4,GEfectos!$J$4:$P$4,GEfectos!J141:P141),IF(EFECTOS!$N$9=\"NICARAGUA\",LOOKUP(5,GEfectos!$J$4:$P$4,GEfectos!J141:P141),IF(EFECTOS!$N$9=\"REPÚBLICA \nDOMINICANA\",LOOKUP(6,$J$4:$P$4,J141:P141),IF(EFECTOS!$N$9=\"PANAMÁ\",LOOKUP(7,GEfectos!$J$4:$P$4,GEfectos!J141:P141))))))))","v":163.05799557648342},{"$f":"IF(EFECTOS!$N$9=\"COSTA RICA\",LOOKUP(1,GEfectos!$Q$4:$W$4,GEfectos!Q141:W141),IF(EFECTOS!$N$9=\"EL SALVADOR\",LOOKUP(2,GEfectos!$Q$4:$W$4,GEfectos!Q141:W141),IF(EFECTOS!$N$9=\"GUATEMALA\",LOOKUP(3,GEfectos!$Q$4:$W$4,GEfectos!Q141:W141),IF(EFECTOS!$N$9=\"HONDURAS\",LOOKUP(4,GEfectos!$Q$4:$W$4,GEfectos!Q141:W141),IF(EFECTOS!$N$9=\"NICARAGUA\",LOOKUP(5,GEfectos!$Q$4:$W$4,GEfectos!Q141:W141),IF(EFECTOS!$N$9=\"REPÚBLICA \nDOMINICANA\",LOOKUP(6,$Q$4:$W$4,Q141:W141),IF(EFECTOS!$N$9=\"PANAMÁ\",LOOKUP(7,GEfectos!$Q$4:$W$4,GEfectos!Q141:W141))))))))","v":150.79448829343823},100]
[null,{"$f":"'ITCER GLOBAL'!B142","v":"Mayo"},{"$f":"'ITCER GLOBAL'!C142","v":107.89592547454767},{"$f":"'ITCER GLOBAL'!D142","v":101.80927169756697},{"$f":"'ITCER GLOBAL'!E142","v":78.002320864229588},{"$f":"'ITCER GLOBAL'!F142","v":101.35467339476561},{"$f":"'ITCER GLOBAL'!G142","v":111.44371518729253},{"$f":"'ITCER GLOBAL'!H142","v":104.35796338451776},{"$f":"'ITCER GLOBAL'!I142","v":111.50497669386426},{"$f":"'ITCER GLOBAL'!S142","v":164.71124520412181},{"$f":"'ITCER GLOBAL'!T142","v":98.186739833461061},{"$f":"'ITCER GLOBAL'!U142","v":96.984653437674979},{"$f":"'ITCER GLOBAL'!V142","v":126.05944569270493},{"$f":"'ITCER GLOBAL'!W142","v":129.36513029315094},{"$f":"'ITCER GLOBAL'!X142","v":198.70289229912896},{"$f":"'ITCER GLOBAL'!Y142","v":99.760768067175547},{"$f":"'ITCER GLOBAL'!AA142","v":152.65752110627824},{"$f":"'ITCER GLOBAL'!AB142","v":96.441844830334361},{"$f":"'ITCER GLOBAL'!AC142","v":124.33559971438022},{"$f":"'ITCER GLOBAL'!AD142","v":124.37457639641032},{"$f":"'ITCER GLOBAL'!AE142","v":116.08113573362091},{"$f":"'ITCER GLOBAL'!AF142","v":190.40510743486581},{"$f":"'ITCER GLOBAL'!AG142","v":89.467547570605461},null,{"$f":"IF(EFECTOS!$N$9=\"COSTA RICA\",LOOKUP(1,GEfectos!$C$4:$I$4,GEfectos!C142:I142),IF(EFECTOS!$N$9=\"EL SALVADOR\",LOOKUP(2,GEfectos!$C$4:$I$4,GEfectos!C142:I142),IF(EFECTOS!$N$9=\"GUATEMALA\",LOOKUP(3,GEfectos!$C$4:$I$4,GEfectos!C142:I142),IF(EFECTOS!$N$9=\"HONDURAS\",LOOKUP(4,GEfectos!$C$4:$I$4,GEfectos!C142:I142),IF(EFECTOS!$N$9=\"NICARAGUA\",LOOKUP(5,GEfectos!$C$4:$I$4,GEfectos!C142:I142),IF(EFECTOS!$N$9=\"REPÚBLICA \nDOMINICANA\",LOOKUP(6,$C$4:$I$4,C142:I142),IF(EFECTOS!$N$9=\"PANAMÁ\",LOOKUP(7,GEfectos!$C$4:$I$4,GEfectos!C142:I142))))))))","v":107.89592547454767},{"$f":"IF(EFECTOS!$N$9=\"COSTA RICA\",LOOKUP(1,GEfectos!$J$4:$P$4,GEfectos!J142:P142),IF(EFECTOS!$N$9=\"EL SALVADOR\",LOOKUP(2,GEfectos!$J$4:$P$4,GEfectos!J142:P142),IF(EFECTOS!$N$9=\"GUATEMALA\",LOOKUP(3,GEfectos!$J$4:$P$4,GEfectos!J142:P142),IF(EFECTOS!$N$9=\"HONDURAS\",LOOKUP(4,GEfectos!$J$4:$P$4,GEfectos!J142:P142),IF(EFECTOS!$N$9=\"NICARAGUA\",LOOKUP(5,GEfectos!$J$4:$P$4,GEfectos!J142:P142),IF(EFECTOS!$N$9=\"REPÚBLICA \nDOMINICANA\",LOOKUP(6,$J$4:$P$4,J142:P142),IF(EFECTOS!$N$9=\"PANAMÁ\",LOOKUP(7,GEfectos!$J$4:$P$4,GEfectos!J142:P142))))))))","v":164.71124520412181},{"$f":"IF(EFECTOS!$N$9=\"COSTA RICA\",LOOKUP(1,GEfectos!$Q$4:$W$4,GEfectos!Q142:W142),IF(EFECTOS!$N$9=\"EL SALVADOR\",LOOKUP(2,GEfectos!$Q$4:$W$4,GEfectos!Q142:W142),IF(EFECTOS!$N$9=\"GUATEMALA\",LOOKUP(3,GEfectos!$Q$4:$W$4,GEfectos!Q142:W142),IF(EFECTOS!$N$9=\"HONDURAS\",LOOKUP(4,GEfectos!$Q$4:$W$4,GEfectos!Q142:W142),IF(EFECTOS!$N$9=\"NICARAGUA\",LOOKUP(5,GEfectos!$Q$4:$W$4,GEfectos!Q142:W142),IF(EFECTOS!$N$9=\"REPÚBLICA \nDOMINICANA\",LOOKUP(6,$Q$4:$W$4,Q142:W142),IF(EFECTOS!$N$9=\"PANAMÁ\",LOOKUP(7,GEfectos!$Q$4:$W$4,GEfectos!Q142:W142))))))))","v":152.65752110627824},100]
[null,{"$f":"'ITCER GLOBAL'!B143","v":"Junio"},{"$f":"'ITCER GLOBAL'!C143","v":106.95779549061049},{"$f":"'ITCER GLOBAL'!D143","v":100.74682312427738},{"$f":"'ITCER GLOBAL'!E143","v":77.571046413468281},{"$f":"'ITCER GLOBAL'!F143","v":100.8087773211082},{"$f":"'ITCER GLOBAL'!G143","v":111.24956598063264},{"$f":"'ITCER GLOBAL'!H143","v":104.05812651737669},{"$f":"'ITCER GLOBAL'!I143","v":110.56548642829388},{"$f":"'ITCER GLOBAL'!S143","v":164.61957977900752},{"$f":"'ITCER GLOBAL'!T143","v":97.745948443138644},{"$f":"'ITCER GLOBAL'!U143","v":96.822404921240434},{"$f":"'ITCER GLOBAL'!V143","v":125.43390530922389},{"$f":"'ITCER GLOBAL'!W143","v":129.22996459881057},{"$f":"'ITCER GLOBAL'!X143","v":199.32886501803742},{"$f":"'ITCER GLOBAL'!Y143","v":98.921243999438417},{"$f":"'ITCER GLOBAL'!AA143","v":153.91078230801699},{"$f":"'ITCER GLOBAL'!AB143","v":97.021370413400561},{"$f":"'ITCER GLOBAL'!AC143","v":124.81771150173584},{"$f":"'ITCER GLOBAL'!AD143","v":124.42756339527537},{"$f":"'ITCER GLOBAL'!AE143","v":116.16221911491154},{"$f":"'ITCER GLOBAL'!AF143","v":191.55530825816999},{"$f":"'ITCER GLOBAL'!AG143","v":89.468465427131974},null,{"$f":"IF(EFECTOS!$N$9=\"COSTA RICA\",LOOKUP(1,GEfectos!$C$4:$I$4,GEfectos!C143:I143),IF(EFECTOS!$N$9=\"EL SALVADOR\",LOOKUP(2,GEfectos!$C$4:$I$4,GEfectos!C143:I143),IF(EFECTOS!$N$9=\"GUATEMALA\",LOOKUP(3,GEfectos!$C$4:$I$4,GEfectos!C143:I143),IF(EFECTOS!$N$9=\"HONDURAS\",LOOKUP(4,GEfectos!$C$4:$I$4,GEfectos!C143:I143),IF(EFECTOS!$N$9=\"NICARAGUA\",LOOKUP(5,GEfectos!$C$4:$I$4,GEfectos!C143:I143),IF(EFECTOS!$N$9=\"REPÚBLICA \nDOMINICANA\",LOOKUP(6,$C$4:$I$4,C143:I143),IF(EFECTOS!$N$9=\"PANAMÁ\",LOOKUP(7,GEfectos!$C$4:$I$4,GEfectos!C143:I143))))))))","v":106.95779549061049},{"$f":"IF(EFECTOS!$N$9=\"COSTA RICA\",LOOKUP(1,GEfectos!$J$4:$P$4,GEfectos!J143:P143),IF(EFECTOS!$N$9=\"EL SALVADOR\",LOOKUP(2,GEfectos!$J$4:$P$4,GEfectos!J143:P143),IF(EFECTOS!$N$9=\"GUATEMALA\",LOOKUP(3,GEfectos!$J$4:$P$4,GEfectos!J143:P143),IF(EFECTOS!$N$9=\"HONDURAS\",LOOKUP(4,GEfectos!$J$4:$P$4,GEfectos!J143:P143),IF(EFECTOS!$N$9=\"NICARAGUA\",LOOKUP(5,GEfectos!$J$4:$P$4,GEfectos!J143:P143),IF(EFECTOS!$N$9=\"REPÚBLICA \nDOMINICANA\",LOOKUP(6,$J$4:$P$4,J143:P143),IF(EFECTOS!$N$9=\"PANAMÁ\",LOOKUP(7,GEfectos!$J$4:$P$4,GEfectos!J143:P143))))))))","v":164.61957977900752},{"$f":"IF(EFECTOS!$N$9=\"COSTA RICA\",LOOKUP(1,GEfectos!$Q$4:$W$4,GEfectos!Q143:W143),IF(EFECTOS!$N$9=\"EL SALVADOR\",LOOKUP(2,GEfectos!$Q$4:$W$4,GEfectos!Q143:W143),IF(EFECTOS!$N$9=\"GUATEMALA\",LOOKUP(3,GEfectos!$Q$4:$W$4,GEfectos!Q143:W143),IF(EFECTOS!$N$9=\"HONDURAS\",LOOKUP(4,GEfectos!$Q$4:$W$4,GEfectos!Q143:W143),IF(EFECTOS!$N$9=\"NICARAGUA\",LOOKUP(5,GEfectos!$Q$4:$W$4,GEfectos!Q143:W143),IF(EFECTOS!$N$9=\"REPÚBLICA \nDOMINICANA\",LOOKUP(6,$Q$4:$W$4,Q143:W143),IF(EFECTOS!$N$9=\"PANAMÁ\",LOOKUP(7,GEfectos!$Q$4:$W$4,GEfectos!Q143:W143))))))))","v":153.91078230801699},100]
[null,{"$f":"'ITCER GLOBAL'!B144","v":"Julio"},{"$f":"'ITCER GLOBAL'!C144","v":107.07207399631113},{"$f":"'ITCER GLOBAL'!D144","v":100.07999651728694},{"$f":"'ITCER GLOBAL'!E144","v":77.422654364195452},{"$f":"'ITCER GLOBAL'!F144","v":100.83526218016689},{"$f":"'ITCER GLOBAL'!G144","v":111.69857178878897},{"$f":"'ITCER GLOBAL'!H144","v":103.57199234522899},{"$f":"'ITCER GLOBAL'!I144","v":111.16278595715727},{"$f":"'ITCER GLOBAL'!S144","v":165.99206827172654},{"$f":"'ITCER GLOBAL'!T144","v":98.021633722613032},{"$f":"'ITCER GLOBAL'!U144","v":96.749615865776747},{"$f":"'ITCER GLOBAL'!V144","v":125.74373447210611},{"$f":"'ITCER GLOBAL'!W144","v":129.96804519271657},{"$f":"'ITCER GLOBAL'!X144","v":199.69604175110732},{"$f":"'ITCER GLOBAL'!Y144","v":99.201880320375096},{"$f":"'ITCER GLOBAL'!AA144","v":155.02834873399885},{"$f":"'ITCER GLOBAL'!AB144","v":97.94328250769037},{"$f":"'ITCER GLOBAL'!AC144","v":124.96292804773579},{"$f":"'ITCER GLOBAL'!AD144","v":124.70214462023625},{"$f":"'ITCER GLOBAL'!AE144","v":116.35604924159048},{"$f":"'ITCER GLOBAL'!AF144","v":192.80892182268258},{"$f":"'ITCER GLOBAL'!AG144","v":89.240189031073797},null,{"$f":"IF(EFECTOS!$N$9=\"COSTA RICA\",LOOKUP(1,GEfectos!$C$4:$I$4,GEfectos!C144:I144),IF(EFECTOS!$N$9=\"EL SALVADOR\",LOOKUP(2,GEfectos!$C$4:$I$4,GEfectos!C144:I144),IF(EFECTOS!$N$9=\"GUATEMALA\",LOOKUP(3,GEfectos!$C$4:$I$4,GEfectos!C144:I144),IF(EFECTOS!$N$9=\"HONDURAS\",LOOKUP(4,GEfectos!$C$4:$I$4,GEfectos!C144:I144),IF(EFECTOS!$N$9=\"NICARAGUA\",LOOKUP(5,GEfectos!$C$4:$I$4,GEfectos!C144:I144),IF(EFECTOS!$N$9=\"REPÚBLICA \nDOMINICANA\",LOOKUP(6,$C$4:$I$4,C144:I144),IF(EFECTOS!$N$9=\"PANAMÁ\",LOOKUP(7,GEfectos!$C$4:$I$4,GEfectos!C144:I144))))))))","v":107.07207399631113},{"$f":"IF(EFECTOS!$N$9=\"COSTA RICA\",LOOKUP(1,GEfectos!$J$4:$P$4,GEfectos!J144:P144),IF(EFECTOS!$N$9=\"EL SALVADOR\",LOOKUP(2,GEfectos!$J$4:$P$4,GEfectos!J144:P144),IF(EFECTOS!$N$9=\"GUATEMALA\",LOOKUP(3,GEfectos!$J$4:$P$4,GEfectos!J144:P144),IF(EFECTOS!$N$9=\"HONDURAS\",LOOKUP(4,GEfectos!$J$4:$P$4,GEfectos!J144:P144),IF(EFECTOS!$N$9=\"NICARAGUA\",LOOKUP(5,GEfectos!$J$4:$P$4,GEfectos!J144:P144),IF(EFECTOS!$N$9=\"REPÚBLICA \nDOMINICANA\",LOOKUP(6,$J$4:$P$4,J144:P144),IF(EFECTOS!$N$9=\"PANAMÁ\",LOOKUP(7,GEfectos!$J$4:$P$4,GEfectos!J144:P144))))))))","v":165.99206827172654},{"$f":"IF(EFECTOS!$N$9=\"COSTA RICA\",LOOKUP(1,GEfectos!$Q$4:$W$4,GEfectos!Q144:W144),IF(EFECTOS!$N$9=\"EL SALVADOR\",LOOKUP(2,GEfectos!$Q$4:$W$4,GEfectos!Q144:W144),IF(EFECTOS!$N$9=\"GUATEMALA\",LOOKUP(3,GEfectos!$Q$4:$W$4,GEfectos!Q144:W144),IF(EFECTOS!$N$9=\"HONDURAS\",LOOKUP(4,GEfectos!$Q$4:$W$4,GEfectos!Q144:W144),IF(EFECTOS!$N$9=\"NICARAGUA\",LOOKUP(5,GEfectos!$Q$4:$W$4,GEfectos!Q144:W144),IF(EFECTOS!$N$9=\"REPÚBLICA \nDOMINICANA\",LOOKUP(6,$Q$4:$W$4,Q144:W144),IF(EFECTOS!$N$9=\"PANAMÁ\",LOOKUP(7,GEfectos!$Q$4:$W$4,GEfectos!Q144:W144))))))))","v":155.02834873399885},100]
[null,{"$f":"'ITCER GLOBAL'!B145","v":"Agosto"},{"$f":"'ITCER GLOBAL'!C145","v":107.27724161618066},{"$f":"'ITCER GLOBAL'!D145","v":101.04742398417088},{"$f":"'ITCER GLOBAL'!E145","v":77.457569548978384},{"$f":"'ITCER GLOBAL'!F145","v":100.90977879521297},{"$f":"'ITCER GLOBAL'!G145","v":112.60845212939473},{"$f":"'ITCER GLOBAL'!H145","v":103.6046563297424},{"$f":"'ITCER GLOBAL'!I145","v":111.82107486596334},{"$f":"'ITCER GLOBAL'!S145","v":167.40128044449142},{"$f":"'ITCER GLOBAL'!T145","v":98.175644688186296},{"$f":"'ITCER GLOBAL'!U145","v":96.908064095989559},{"$f":"'ITCER GLOBAL'!V145","v":126.03500193309407},{"$f":"'ITCER GLOBAL'!W145","v":130.90879937358289},{"$f":"'ITCER GLOBAL'!X145","v":199.67181336663222},{"$f":"'ITCER GLOBAL'!Y145","v":99.597044758819251},{"$f":"'ITCER GLOBAL'!AA145","v":156.04547425205445},{"$f":"'ITCER GLOBAL'!AB145","v":97.157988612916597},{"$f":"'ITCER GLOBAL'!AC145","v":125.11116042017318},{"$f":"'ITCER GLOBAL'!AD145","v":124.89870004459172},{"$f":"'ITCER GLOBAL'!AE145","v":116.25130875891965},{"$f":"'ITCER GLOBAL'!AF145","v":192.72474852012152},{"$f":"'ITCER GLOBAL'!AG145","v":89.068223390092896},null,{"$f":"IF(EFECTOS!$N$9=\"COSTA RICA\",LOOKUP(1,GEfectos!$C$4:$I$4,GEfectos!C145:I145),IF(EFECTOS!$N$9=\"EL SALVADOR\",LOOKUP(2,GEfectos!$C$4:$I$4,GEfectos!C145:I145),IF(EFECTOS!$N$9=\"GUATEMALA\",LOOKUP(3,GEfectos!$C$4:$I$4,GEfectos!C145:I145),IF(EFECTOS!$N$9=\"HONDURAS\",LOOKUP(4,GEfectos!$C$4:$I$4,GEfectos!C145:I145),IF(EFECTOS!$N$9=\"NICARAGUA\",LOOKUP(5,GEfectos!$C$4:$I$4,GEfectos!C145:I145),IF(EFECTOS!$N$9=\"REPÚBLICA \nDOMINICANA\",LOOKUP(6,$C$4:$I$4,C145:I145),IF(EFECTOS!$N$9=\"PANAMÁ\",LOOKUP(7,GEfectos!$C$4:$I$4,GEfectos!C145:I145))))))))","v":107.27724161618066},{"$f":"IF(EFECTOS!$N$9=\"COSTA RICA\",LOOKUP(1,GEfectos!$J$4:$P$4,GEfectos!J145:P145),IF(EFECTOS!$N$9=\"EL SALVADOR\",LOOKUP(2,GEfectos!$J$4:$P$4,GEfectos!J145:P145),IF(EFECTOS!$N$9=\"GUATEMALA\",LOOKUP(3,GEfectos!$J$4:$P$4,GEfectos!J145:P145),IF(EFECTOS!$N$9=\"HONDURAS\",LOOKUP(4,GEfectos!$J$4:$P$4,GEfectos!J145:P145),IF(EFECTOS!$N$9=\"NICARAGUA\",LOOKUP(5,GEfectos!$J$4:$P$4,GEfectos!J145:P145),IF(EFECTOS!$N$9=\"REPÚBLICA \nDOMINICANA\",LOOKUP(6,$J$4:$P$4,J145:P145),IF(EFECTOS!$N$9=\"PANAMÁ\",LOOKUP(7,GEfectos!$J$4:$P$4,GEfectos!J145:P145))))))))","v":167.40128044449142},{"$f":"IF(EFECTOS!$N$9=\"COSTA RICA\",LOOKUP(1,GEfectos!$Q$4:$W$4,GEfectos!Q145:W145),IF(EFECTOS!$N$9=\"EL SALVADOR\",LOOKUP(2,GEfectos!$Q$4:$W$4,GEfectos!Q145:W145),IF(EFECTOS!$N$9=\"GUATEMALA\",LOOKUP(3,GEfectos!$Q$4:$W$4,GEfectos!Q145:W145),IF(EFECTOS!$N$9=\"HONDURAS\",LOOKUP(4,GEfectos!$Q$4:$W$4,GEfectos!Q145:W145),IF(EFECTOS!$N$9=\"NICARAGUA\",LOOKUP(5,GEfectos!$Q$4:$W$4,GEfectos!Q145:W145),IF(EFECTOS!$N$9=\"REPÚBLICA \nDOMINICANA\",LOOKUP(6,$Q$4:$W$4,Q145:W145),IF(EFECTOS!$N$9=\"PANAMÁ\",LOOKUP(7,GEfectos!$Q$4:$W$4,GEfectos!Q145:W145))))))))","v":156.04547425205445},100]
[null,{"$f":"'ITCER GLOBAL'!B146","v":"Septiembre"},{"$f":"'ITCER GLOBAL'!C146","v":107.60066226175697},{"$f":"'ITCER GLOBAL'!D146","v":100.65063305826112},{"$f":"'ITCER GLOBAL'!E146","v":77.771511610582905},{"$f":"'ITCER GLOBAL'!F146","v":100.46563941048322},{"$f":"'ITCER GLOBAL'!G146","v":112.85799624216081},{"$f":"'ITCER GLOBAL'!H146","v":105.35722473212549},{"$f":"'ITCER GLOBAL'!I146","v":111.80170818935663},{"$f":"'ITCER GLOBAL'!S146","v":167.95146147859774},{"$f":"'ITCER GLOBAL'!T146","v":98.014192531026808},{"$f":"'ITCER GLOBAL'!U146","v":97.09757152979499},{"$f":"'ITCER GLOBAL'!V146","v":125.77104723337831},{"$f":"'ITCER GLOBAL'!W146","v":130.78706831582889},{"$f":"'ITCER GLOBAL'!X146","v":201.36023237955573},{"$f":"'ITCER GLOBAL'!Y146","v":99.366233387335214},{"$f":"'ITCER GLOBAL'!AA146","v":156.08775814969164},{"$f":"'ITCER GLOBAL'!AB146","v":97.380602141162669},{"$f":"'ITCER GLOBAL'!AC146","v":124.84979334847115},{"$f":"'ITCER GLOBAL'!AD146","v":125.18812200010203},{"$f":"'ITCER GLOBAL'!AE146","v":115.88639943172252},{"$f":"'ITCER GLOBAL'!AF146","v":191.12142797185606},{"$f":"'ITCER GLOBAL'!AG146","v":88.877205005705576},null,{"$f":"IF(EFECTOS!$N$9=\"COSTA RICA\",LOOKUP(1,GEfectos!$C$4:$I$4,GEfectos!C146:I146),IF(EFECTOS!$N$9=\"EL SALVADOR\",LOOKUP(2,GEfectos!$C$4:$I$4,GEfectos!C146:I146),IF(EFECTOS!$N$9=\"GUATEMALA\",LOOKUP(3,GEfectos!$C$4:$I$4,GEfectos!C146:I146),IF(EFECTOS!$N$9=\"HONDURAS\",LOOKUP(4,GEfectos!$C$4:$I$4,GEfectos!C146:I146),IF(EFECTOS!$N$9=\"NICARAGUA\",LOOKUP(5,GEfectos!$C$4:$I$4,GEfectos!C146:I146),IF(EFECTOS!$N$9=\"REPÚBLICA \nDOMINICANA\",LOOKUP(6,$C$4:$I$4,C146:I146),IF(EFECTOS!$N$9=\"PANAMÁ\",LOOKUP(7,GEfectos!$C$4:$I$4,GEfectos!C146:I146))))))))","v":107.60066226175697},{"$f":"IF(EFECTOS!$N$9=\"COSTA RICA\",LOOKUP(1,GEfectos!$J$4:$P$4,GEfectos!J146:P146),IF(EFECTOS!$N$9=\"EL SALVADOR\",LOOKUP(2,GEfectos!$J$4:$P$4,GEfectos!J146:P146),IF(EFECTOS!$N$9=\"GUATEMALA\",LOOKUP(3,GEfectos!$J$4:$P$4,GEfectos!J146:P146),IF(EFECTOS!$N$9=\"HONDURAS\",LOOKUP(4,GEfectos!$J$4:$P$4,GEfectos!J146:P146),IF(EFECTOS!$N$9=\"NICARAGUA\",LOOKUP(5,GEfectos!$J$4:$P$4,GEfectos!J146:P146),IF(EFECTOS!$N$9=\"REPÚBLICA \nDOMINICANA\",LOOKUP(6,$J$4:$P$4,J146:P146),IF(EFECTOS!$N$9=\"PANAMÁ\",LOOKUP(7,GEfectos!$J$4:$P$4,GEfectos!J146:P146))))))))","v":167.95146147859774},{"$f":"IF(EFECTOS!$N$9=\"COSTA RICA\",LOOKUP(1,GEfectos!$Q$4:$W$4,GEfectos!Q146:W146),IF(EFECTOS!$N$9=\"EL SALVADOR\",LOOKUP(2,GEfectos!$Q$4:$W$4,GEfectos!Q146:W146),IF(EFECTOS!$N$9=\"GUATEMALA\",LOOKUP(3,GEfectos!$Q$4:$W$4,GEfectos!Q146:W146),IF(EFECTOS!$N$9=\"HONDURAS\",LOOKUP(4,GEfectos!$Q$4:$W$4,GEfectos!Q146:W146),IF(EFECTOS!$N$9=\"NICARAGUA\",LOOKUP(5,GEfectos!$Q$4:$W$4,GEfectos!Q146:W146),IF(EFECTOS!$N$9=\"REPÚBLICA \nDOMINICANA\",LOOKUP(6,$Q$4:$W$4,Q146:W146),IF(EFECTOS!$N$9=\"PANAMÁ\",LOOKUP(7,GEfectos!$Q$4:$W$4,GEfectos!Q146:W146))))))))","v":156.08775814969164},100]
[null,{"$f":"'ITCER GLOBAL'!B147","v":"Octubre"},{"$f":"'ITCER GLOBAL'!C147","v":106.97287385437549},{"$f":"'ITCER GLOBAL'!D147","v":100.80801530573238},{"$f":"'ITCER GLOBAL'!E147","v":77.674474053944635},{"$f":"'ITCER GLOBAL'!F147","v":100.04661018162903},{"$f":"'ITCER GLOBAL'!G147","v":112.70387751724931},{"$f":"'ITCER GLOBAL'!H147","v":106.55682077483389},{"$f":"'ITCER GLOBAL'!I147","v":111.20408499835382},{"$f":"'ITCER GLOBAL'!S147","v":167.6854807063788},{"$f":"'ITCER GLOBAL'!T147","v":98.006174375114455},{"$f":"'ITCER GLOBAL'!U147","v":97.198592529874517},{"$f":"'ITCER GLOBAL'!V147","v":125.6803049922127},{"$f":"'ITCER GLOBAL'!W147","v":131.37385967643945},{"$f":"'ITCER GLOBAL'!X147","v":204.60296576291549},{"$f":"'ITCER GLOBAL'!Y147","v":99.342242504616763},{"$f":"'ITCER GLOBAL'!AA147","v":156.75514236875856},{"$f":"'ITCER GLOBAL'!AB147","v":97.22061691015297},{"$f":"'ITCER GLOBAL'!AC147","v":125.13582320798267},{"$f":"'ITCER GLOBAL'!AD147","v":125.62175246522307},{"$f":"'ITCER GLOBAL'!AE147","v":116.56551892487701},{"$f":"'ITCER GLOBAL'!AF147","v":192.01301641240192},{"$f":"'ITCER GLOBAL'!AG147","v":89.333267304062929},null,{"$f":"IF(EFECTOS!$N$9=\"COSTA RICA\",LOOKUP(1,GEfectos!$C$4:$I$4,GEfectos!C147:I147),IF(EFECTOS!$N$9=\"EL SALVADOR\",LOOKUP(2,GEfectos!$C$4:$I$4,GEfectos!C147:I147),IF(EFECTOS!$N$9=\"GUATEMALA\",LOOKUP(3,GEfectos!$C$4:$I$4,GEfectos!C147:I147),IF(EFECTOS!$N$9=\"HONDURAS\",LOOKUP(4,GEfectos!$C$4:$I$4,GEfectos!C147:I147),IF(EFECTOS!$N$9=\"NICARAGUA\",LOOKUP(5,GEfectos!$C$4:$I$4,GEfectos!C147:I147),IF(EFECTOS!$N$9=\"REPÚBLICA \nDOMINICANA\",LOOKUP(6,$C$4:$I$4,C147:I147),IF(EFECTOS!$N$9=\"PANAMÁ\",LOOKUP(7,GEfectos!$C$4:$I$4,GEfectos!C147:I147))))))))","v":106.97287385437549},{"$f":"IF(EFECTOS!$N$9=\"COSTA RICA\",LOOKUP(1,GEfectos!$J$4:$P$4,GEfectos!J147:P147),IF(EFECTOS!$N$9=\"EL SALVADOR\",LOOKUP(2,GEfectos!$J$4:$P$4,GEfectos!J147:P147),IF(EFECTOS!$N$9=\"GUATEMALA\",LOOKUP(3,GEfectos!$J$4:$P$4,GEfectos!J147:P147),IF(EFECTOS!$N$9=\"HONDURAS\",LOOKUP(4,GEfectos!$J$4:$P$4,GEfectos!J147:P147),IF(EFECTOS!$N$9=\"NICARAGUA\",LOOKUP(5,GEfectos!$J$4:$P$4,GEfectos!J147:P147),IF(EFECTOS!$N$9=\"REPÚBLICA \nDOMINICANA\",LOOKUP(6,$J$4:$P$4,J147:P147),IF(EFECTOS!$N$9=\"PANAMÁ\",LOOKUP(7,GEfectos!$J$4:$P$4,GEfectos!J147:P147))))))))","v":167.6854807063788},{"$f":"IF(EFECTOS!$N$9=\"COSTA RICA\",LOOKUP(1,GEfectos!$Q$4:$W$4,GEfectos!Q147:W147),IF(EFECTOS!$N$9=\"EL SALVADOR\",LOOKUP(2,GEfectos!$Q$4:$W$4,GEfectos!Q147:W147),IF(EFECTOS!$N$9=\"GUATEMALA\",LOOKUP(3,GEfectos!$Q$4:$W$4,GEfectos!Q147:W147),IF(EFECTOS!$N$9=\"HONDURAS\",LOOKUP(4,GEfectos!$Q$4:$W$4,GEfectos!Q147:W147),IF(EFECTOS!$N$9=\"NICARAGUA\",LOOKUP(5,GEfectos!$Q$4:$W$4,GEfectos!Q147:W147),IF(EFECTOS!$N$9=\"REPÚBLICA \nDOMINICANA\",LOOKUP(6,$Q$4:$W$4,Q147:W147),IF(EFECTOS!$N$9=\"PANAMÁ\",LOOKUP(7,GEfectos!$Q$4:$W$4,GEfectos!Q147:W147))))))))","v":156.75514236875856},100]
[null,{"$f":"'ITCER GLOBAL'!B148","v":"Noviembre"},{"$f":"'ITCER GLOBAL'!C148","v":105.71077432258838},{"$f":"'ITCER GLOBAL'!D148","v":100.46120651687549},{"$f":"'ITCER GLOBAL'!E148","v":77.459513723252513},{"$f":"'ITCER GLOBAL'!F148","v":99.979108710104796},{"$f":"'ITCER GLOBAL'!G148","v":113.0228260444043},{"$f":"'ITCER GLOBAL'!H148","v":106.4266220526313},{"$f":"'ITCER GLOBAL'!I148","v":111.78639526836463},{"$f":"'ITCER GLOBAL'!S148","v":167.33472408531321},{"$f":"'ITCER GLOBAL'!T148","v":98.181883037252419},{"$f":"'ITCER GLOBAL'!U148","v":97.395641831120926},{"$f":"'ITCER GLOBAL'!V148","v":126.10656643021818},{"$f":"'ITCER GLOBAL'!W148","v":132.41636540707469},{"$f":"'ITCER GLOBAL'!X148","v":205.78249650393627},{"$f":"'ITCER GLOBAL'!Y148","v":99.891209580045228},{"$f":"'ITCER GLOBAL'!AA148","v":158.29486176562511},{"$f":"'ITCER GLOBAL'!AB148","v":97.731140647569077},{"$f":"'ITCER GLOBAL'!AC148","v":125.73748162052274},{"$f":"'ITCER GLOBAL'!AD148","v":126.13291722360864},{"$f":"'ITCER GLOBAL'!AE148","v":117.15895809847392},{"$f":"'ITCER GLOBAL'!AF148","v":193.35622284635735},{"$f":"'ITCER GLOBAL'!AG148","v":89.35900414378446},null,{"$f":"IF(EFECTOS!$N$9=\"COSTA RICA\",LOOKUP(1,GEfectos!$C$4:$I$4,GEfectos!C148:I148),IF(EFECTOS!$N$9=\"EL SALVADOR\",LOOKUP(2,GEfectos!$C$4:$I$4,GEfectos!C148:I148),IF(EFECTOS!$N$9=\"GUATEMALA\",LOOKUP(3,GEfectos!$C$4:$I$4,GEfectos!C148:I148),IF(EFECTOS!$N$9=\"HONDURAS\",LOOKUP(4,GEfectos!$C$4:$I$4,GEfectos!C148:I148),IF(EFECTOS!$N$9=\"NICARAGUA\",LOOKUP(5,GEfectos!$C$4:$I$4,GEfectos!C148:I148),IF(EFECTOS!$N$9=\"REPÚBLICA \nDOMINICANA\",LOOKUP(6,$C$4:$I$4,C148:I148),IF(EFECTOS!$N$9=\"PANAMÁ\",LOOKUP(7,GEfectos!$C$4:$I$4,GEfectos!C148:I148))))))))","v":105.71077432258838},{"$f":"IF(EFECTOS!$N$9=\"COSTA RICA\",LOOKUP(1,GEfectos!$J$4:$P$4,GEfectos!J148:P148),IF(EFECTOS!$N$9=\"EL SALVADOR\",LOOKUP(2,GEfectos!$J$4:$P$4,GEfectos!J148:P148),IF(EFECTOS!$N$9=\"GUATEMALA\",LOOKUP(3,GEfectos!$J$4:$P$4,GEfectos!J148:P148),IF(EFECTOS!$N$9=\"HONDURAS\",LOOKUP(4,GEfectos!$J$4:$P$4,GEfectos!J148:P148),IF(EFECTOS!$N$9=\"NICARAGUA\",LOOKUP(5,GEfectos!$J$4:$P$4,GEfectos!J148:P148),IF(EFECTOS!$N$9=\"REPÚBLICA \nDOMINICANA\",LOOKUP(6,$J$4:$P$4,J148:P148),IF(EFECTOS!$N$9=\"PANAMÁ\",LOOKUP(7,GEfectos!$J$4:$P$4,GEfectos!J148:P148))))))))","v":167.33472408531321},{"$f":"IF(EFECTOS!$N$9=\"COSTA RICA\",LOOKUP(1,GEfectos!$Q$4:$W$4,GEfectos!Q148:W148),IF(EFECTOS!$N$9=\"EL SALVADOR\",LOOKUP(2,GEfectos!$Q$4:$W$4,GEfectos!Q148:W148),IF(EFECTOS!$N$9=\"GUATEMALA\",LOOKUP(3,GEfectos!$Q$4:$W$4,GEfectos!Q148:W148),IF(EFECTOS!$N$9=\"HONDURAS\",LOOKUP(4,GEfectos!$Q$4:$W$4,GEfectos!Q148:W148),IF(EFECTOS!$N$9=\"NICARAGUA\",LOOKUP(5,GEfectos!$Q$4:$W$4,GEfectos!Q148:W148),IF(EFECTOS!$N$9=\"REPÚBLICA \nDOMINICANA\",LOOKUP(6,$Q$4:$W$4,Q148:W148),IF(EFECTOS!$N$9=\"PANAMÁ\",LOOKUP(7,GEfectos!$Q$4:$W$4,GEfectos!Q148:W148))))))))","v":158.29486176562511},100]
[null,{"$f":"'ITCER GLOBAL'!B149","v":"Diciembre"},{"$f":"'ITCER GLOBAL'!C149","v":105.62359090817097},{"$f":"'ITCER GLOBAL'!D149","v":100.25926435565074},{"$f":"'ITCER GLOBAL'!E149","v":76.953206129371694},{"$f":"'ITCER GLOBAL'!F149","v":99.986161223240785},{"$f":"'ITCER GLOBAL'!G149","v":112.61995374908005},{"$f":"'ITCER GLOBAL'!H149","v":104.72809195984692},{"$f":"'ITCER GLOBAL'!I149","v":112.1009368207514},{"$f":"'ITCER GLOBAL'!S149","v":168.1920813253229},{"$f":"'ITCER GLOBAL'!T149","v":98.376398061637076},{"$f":"'ITCER GLOBAL'!U149","v":97.593178728775598},{"$f":"'ITCER GLOBAL'!V149","v":126.54906207955196},{"$f":"'ITCER GLOBAL'!W149","v":133.29531866369175},{"$f":"'ITCER GLOBAL'!X149","v":203.47357237745928},{"$f":"'ITCER GLOBAL'!Y149","v":100.33213060795745},{"$f":"'ITCER GLOBAL'!AA149","v":159.23723088675229},{"$f":"'ITCER GLOBAL'!AB149","v":98.122002683627755},{"$f":"'ITCER GLOBAL'!AC149","v":126.82145895871386},{"$f":"'ITCER GLOBAL'!AD149","v":126.5665773456426},{"$f":"'ITCER GLOBAL'!AE149","v":118.35852726478373},{"$f":"'ITCER GLOBAL'!AF149","v":194.28748158180107},{"$f":"'ITCER GLOBAL'!AG149","v":89.5015986961713},null,{"$f":"IF(EFECTOS!$N$9=\"COSTA RICA\",LOOKUP(1,GEfectos!$C$4:$I$4,GEfectos!C149:I149),IF(EFECTOS!$N$9=\"EL SALVADOR\",LOOKUP(2,GEfectos!$C$4:$I$4,GEfectos!C149:I149),IF(EFECTOS!$N$9=\"GUATEMALA\",LOOKUP(3,GEfectos!$C$4:$I$4,GEfectos!C149:I149),IF(EFECTOS!$N$9=\"HONDURAS\",LOOKUP(4,GEfectos!$C$4:$I$4,GEfectos!C149:I149),IF(EFECTOS!$N$9=\"NICARAGUA\",LOOKUP(5,GEfectos!$C$4:$I$4,GEfectos!C149:I149),IF(EFECTOS!$N$9=\"REPÚBLICA \nDOMINICANA\",LOOKUP(6,$C$4:$I$4,C149:I149),IF(EFECTOS!$N$9=\"PANAMÁ\",LOOKUP(7,GEfectos!$C$4:$I$4,GEfectos!C149:I149))))))))","v":105.62359090817097},{"$f":"IF(EFECTOS!$N$9=\"COSTA RICA\",LOOKUP(1,GEfectos!$J$4:$P$4,GEfectos!J149:P149),IF(EFECTOS!$N$9=\"EL SALVADOR\",LOOKUP(2,GEfectos!$J$4:$P$4,GEfectos!J149:P149),IF(EFECTOS!$N$9=\"GUATEMALA\",LOOKUP(3,GEfectos!$J$4:$P$4,GEfectos!J149:P149),IF(EFECTOS!$N$9=\"HONDURAS\",LOOKUP(4,GEfectos!$J$4:$P$4,GEfectos!J149:P149),IF(EFECTOS!$N$9=\"NICARAGUA\",LOOKUP(5,GEfectos!$J$4:$P$4,GEfectos!J149:P149),IF(EFECTOS!$N$9=\"REPÚBLICA \nDOMINICANA\",LOOKUP(6,$J$4:$P$4,J149:P149),IF(EFECTOS!$N$9=\"PANAMÁ\",LOOKUP(7,GEfectos!$J$4:$P$4,GEfectos!J149:P149))))))))","v":168.1920813253229},{"$f":"IF(EFECTOS!$N$9=\"COSTA RICA\",LOOKUP(1,GEfectos!$Q$4:$W$4,GEfectos!Q149:W149),IF(EFECTOS!$N$9=\"EL SALVADOR\",LOOKUP(2,GEfectos!$Q$4:$W$4,GEfectos!Q149:W149),IF(EFECTOS!$N$9=\"GUATEMALA\",LOOKUP(3,GEfectos!$Q$4:$W$4,GEfectos!Q149:W149),IF(EFECTOS!$N$9=\"HONDURAS\",LOOKUP(4,GEfectos!$Q$4:$W$4,GEfectos!Q149:W149),IF(EFECTOS!$N$9=\"NICARAGUA\",LOOKUP(5,GEfectos!$Q$4:$W$4,GEfectos!Q149:W149),IF(EFECTOS!$N$9=\"REPÚBLICA \nDOMINICANA\",LOOKUP(6,$Q$4:$W$4,Q149:W149),IF(EFECTOS!$N$9=\"PANAMÁ\",LOOKUP(7,GEfectos!$Q$4:$W$4,GEfectos!Q149:W149))))))))","v":159.23723088675229},100]
[2007,{"$f":"'ITCER GLOBAL'!B150","v":"Enero"},{"$f":"'ITCER GLOBAL'!C150","v":105.22963920706115},{"$f":"'ITCER GLOBAL'!D150","v":99.725015166140523},{"$f":"'ITCER GLOBAL'!E150","v":76.951771777607874},{"$f":"'ITCER GLOBAL'!F150","v":98.862146072149116},{"$f":"'ITCER GLOBAL'!G150","v":112.09029681186891},{"$f":"'ITCER GLOBAL'!H150","v":109.12157103312882},{"$f":"'ITCER GLOBAL'!I150","v":112.32885304229353},{"$f":"'ITCER GLOBAL'!S150","v":168.88989421277992},{"$f":"'ITCER GLOBAL'!T150","v":97.774213491554946},{"$f":"'ITCER GLOBAL'!U150","v":98.184684481170052},{"$f":"'ITCER GLOBAL'!V150","v":124.58981163464922},{"$f":"'ITCER GLOBAL'!W150","v":133.13739451650065},{"$f":"'ITCER GLOBAL'!X150","v":206.39745811896611},{"$f":"'ITCER GLOBAL'!Y150","v":100.34871229151558},{"$f":"'ITCER GLOBAL'!AA150","v":160.49650600859138},{"$f":"'ITCER GLOBAL'!AB150","v":98.043819124684461},{"$f":"'ITCER GLOBAL'!AC150","v":127.59249360096048},{"$f":"'ITCER GLOBAL'!AD150","v":126.02377814429011},{"$f":"'ITCER GLOBAL'!AE150","v":118.77691317024252},{"$f":"'ITCER GLOBAL'!AF150","v":189.14450751108117},{"$f":"'ITCER GLOBAL'!AG150","v":89.334760903979642},null,{"$f":"IF(EFECTOS!$N$9=\"COSTA RICA\",LOOKUP(1,GEfectos!$C$4:$I$4,GEfectos!C150:I150),IF(EFECTOS!$N$9=\"EL SALVADOR\",LOOKUP(2,GEfectos!$C$4:$I$4,GEfectos!C150:I150),IF(EFECTOS!$N$9=\"GUATEMALA\",LOOKUP(3,GEfectos!$C$4:$I$4,GEfectos!C150:I150),IF(EFECTOS!$N$9=\"HONDURAS\",LOOKUP(4,GEfectos!$C$4:$I$4,GEfectos!C150:I150),IF(EFECTOS!$N$9=\"NICARAGUA\",LOOKUP(5,GEfectos!$C$4:$I$4,GEfectos!C150:I150),IF(EFECTOS!$N$9=\"REPÚBLICA \nDOMINICANA\",LOOKUP(6,$C$4:$I$4,C150:I150),IF(EFECTOS!$N$9=\"PANAMÁ\",LOOKUP(7,GEfectos!$C$4:$I$4,GEfectos!C150:I150))))))))","v":105.22963920706115},{"$f":"IF(EFECTOS!$N$9=\"COSTA RICA\",LOOKUP(1,GEfectos!$J$4:$P$4,GEfectos!J150:P150),IF(EFECTOS!$N$9=\"EL SALVADOR\",LOOKUP(2,GEfectos!$J$4:$P$4,GEfectos!J150:P150),IF(EFECTOS!$N$9=\"GUATEMALA\",LOOKUP(3,GEfectos!$J$4:$P$4,GEfectos!J150:P150),IF(EFECTOS!$N$9=\"HONDURAS\",LOOKUP(4,GEfectos!$J$4:$P$4,GEfectos!J150:P150),IF(EFECTOS!$N$9=\"NICARAGUA\",LOOKUP(5,GEfectos!$J$4:$P$4,GEfectos!J150:P150),IF(EFECTOS!$N$9=\"REPÚBLICA \nDOMINICANA\",LOOKUP(6,$J$4:$P$4,J150:P150),IF(EFECTOS!$N$9=\"PANAMÁ\",LOOKUP(7,GEfectos!$J$4:$P$4,GEfectos!J150:P150))))))))","v":168.88989421277992},{"$f":"IF(EFECTOS!$N$9=\"COSTA RICA\",LOOKUP(1,GEfectos!$Q$4:$W$4,GEfectos!Q150:W150),IF(EFECTOS!$N$9=\"EL SALVADOR\",LOOKUP(2,GEfectos!$Q$4:$W$4,GEfectos!Q150:W150),IF(EFECTOS!$N$9=\"GUATEMALA\",LOOKUP(3,GEfectos!$Q$4:$W$4,GEfectos!Q150:W150),IF(EFECTOS!$N$9=\"HONDURAS\",LOOKUP(4,GEfectos!$Q$4:$W$4,GEfectos!Q150:W150),IF(EFECTOS!$N$9=\"NICARAGUA\",LOOKUP(5,GEfectos!$Q$4:$W$4,GEfectos!Q150:W150),IF(EFECTOS!$N$9=\"REPÚBLICA \nDOMINICANA\",LOOKUP(6,$Q$4:$W$4,Q150:W150),IF(EFECTOS!$N$9=\"PANAMÁ\",LOOKUP(7,GEfectos!$Q$4:$W$4,GEfectos!Q150:W150))))))))","v":160.49650600859138},100]
[null,{"$f":"'ITCER GLOBAL'!B151","v":"Febrero"},{"$f":"'ITCER GLOBAL'!C151","v":105.79006312198847},{"$f":"'ITCER GLOBAL'!D151","v":100.53364007773216},{"$f":"'ITCER GLOBAL'!E151","v":77.27796801335667},{"$f":"'ITCER GLOBAL'!F151","v":98.44425633254869},{"$f":"'ITCER GLOBAL'!G151","v":111.84942357941448},{"$f":"'ITCER GLOBAL'!H151","v":108.384714990579},{"$f":"'ITCER GLOBAL'!I151","v":112.73394511289645},{"$f":"'ITCER GLOBAL'!S151","v":169.54034608165958},{"$f":"'ITCER GLOBAL'!T151","v":97.837129571488873},{"$f":"'ITCER GLOBAL'!U151","v":98.488832996275718},{"$f":"'ITCER GLOBAL'!V151","v":124.68024456024725},{"$f":"'ITCER GLOBAL'!W151","v":133.89436750689333},{"$f":"'ITCER GLOBAL'!X151","v":204.56047054322838},{"$f":"'ITCER GLOBAL'!Y151","v":100.52444967957248},{"$f":"'ITCER GLOBAL'!AA151","v":160.26112574123289},{"$f":"'ITCER GLOBAL'!AB151","v":97.317802773123148},{"$f":"'ITCER GLOBAL'!AC151","v":127.44749315775614},{"$f":"'ITCER GLOBAL'!AD151","v":126.65060330088971},{"$f":"'ITCER GLOBAL'!AE151","v":119.70948371658497},{"$f":"'ITCER GLOBAL'!AF151","v":188.73553393668945},{"$f":"'ITCER GLOBAL'!AG151","v":89.169637041357092},null,{"$f":"IF(EFECTOS!$N$9=\"COSTA RICA\",LOOKUP(1,GEfectos!$C$4:$I$4,GEfectos!C151:I151),IF(EFECTOS!$N$9=\"EL SALVADOR\",LOOKUP(2,GEfectos!$C$4:$I$4,GEfectos!C151:I151),IF(EFECTOS!$N$9=\"GUATEMALA\",LOOKUP(3,GEfectos!$C$4:$I$4,GEfectos!C151:I151),IF(EFECTOS!$N$9=\"HONDURAS\",LOOKUP(4,GEfectos!$C$4:$I$4,GEfectos!C151:I151),IF(EFECTOS!$N$9=\"NICARAGUA\",LOOKUP(5,GEfectos!$C$4:$I$4,GEfectos!C151:I151),IF(EFECTOS!$N$9=\"REPÚBLICA \nDOMINICANA\",LOOKUP(6,$C$4:$I$4,C151:I151),IF(EFECTOS!$N$9=\"PANAMÁ\",LOOKUP(7,GEfectos!$C$4:$I$4,GEfectos!C151:I151))))))))","v":105.79006312198847},{"$f":"IF(EFECTOS!$N$9=\"COSTA RICA\",LOOKUP(1,GEfectos!$J$4:$P$4,GEfectos!J151:P151),IF(EFECTOS!$N$9=\"EL SALVADOR\",LOOKUP(2,GEfectos!$J$4:$P$4,GEfectos!J151:P151),IF(EFECTOS!$N$9=\"GUATEMALA\",LOOKUP(3,GEfectos!$J$4:$P$4,GEfectos!J151:P151),IF(EFECTOS!$N$9=\"HONDURAS\",LOOKUP(4,GEfectos!$J$4:$P$4,GEfectos!J151:P151),IF(EFECTOS!$N$9=\"NICARAGUA\",LOOKUP(5,GEfectos!$J$4:$P$4,GEfectos!J151:P151),IF(EFECTOS!$N$9=\"REPÚBLICA \nDOMINICANA\",LOOKUP(6,$J$4:$P$4,J151:P151),IF(EFECTOS!$N$9=\"PANAMÁ\",LOOKUP(7,GEfectos!$J$4:$P$4,GEfectos!J151:P151))))))))","v":169.54034608165958},{"$f":"IF(EFECTOS!$N$9=\"COSTA RICA\",LOOKUP(1,GEfectos!$Q$4:$W$4,GEfectos!Q151:W151),IF(EFECTOS!$N$9=\"EL SALVADOR\",LOOKUP(2,GEfectos!$Q$4:$W$4,GEfectos!Q151:W151),IF(EFECTOS!$N$9=\"GUATEMALA\",LOOKUP(3,GEfectos!$Q$4:$W$4,GEfectos!Q151:W151),IF(EFECTOS!$N$9=\"HONDURAS\",LOOKUP(4,GEfectos!$Q$4:$W$4,GEfectos!Q151:W151),IF(EFECTOS!$N$9=\"NICARAGUA\",LOOKUP(5,GEfectos!$Q$4:$W$4,GEfectos!Q151:W151),IF(EFECTOS!$N$9=\"REPÚBLICA \nDOMINICANA\",LOOKUP(6,$Q$4:$W$4,Q151:W151),IF(EFECTOS!$N$9=\"PANAMÁ\",LOOKUP(7,GEfectos!$Q$4:$W$4,GEfectos!Q151:W151))))))))","v":160.26112574123289},100]
[null,{"$f":"'ITCER GLOBAL'!B152","v":"Marzo"},{"$f":"'ITCER GLOBAL'!C152","v":105.98264752643075},{"$f":"'ITCER GLOBAL'!D152","v":100.74948537145632},{"$f":"'ITCER GLOBAL'!E152","v":77.184611359254461},{"$f":"'ITCER GLOBAL'!F152","v":98.657580464501308},{"$f":"'ITCER GLOBAL'!G152","v":111.72276866571222},{"$f":"'ITCER GLOBAL'!H152","v":106.7322905785077},{"$f":"'ITCER GLOBAL'!I152","v":112.95233472912086},{"$f":"'ITCER GLOBAL'!S152","v":169.93973066578823},{"$f":"'ITCER GLOBAL'!T152","v":97.917474770679419},{"$f":"'ITCER GLOBAL'!U152","v":98.525245234092665},{"$f":"'ITCER GLOBAL'!V152","v":124.88408365715611},{"$f":"'ITCER GLOBAL'!W152","v":134.40573620193567},{"$f":"'ITCER GLOBAL'!X152","v":201.47184634214472},{"$f":"'ITCER GLOBAL'!Y152","v":100.85691873838532},{"$f":"'ITCER GLOBAL'!AA152","v":160.34674980487478},{"$f":"'ITCER GLOBAL'!AB152","v":97.189057005764866},{"$f":"'ITCER GLOBAL'!AC152","v":127.64881949785118},{"$f":"'ITCER GLOBAL'!AD152","v":126.58336345689276},{"$f":"'ITCER GLOBAL'!AE152","v":120.30290495583185},{"$f":"'ITCER GLOBAL'!AF152","v":188.76372393971124},{"$f":"'ITCER GLOBAL'!AG152","v":89.291575052660548},null,{"$f":"IF(EFECTOS!$N$9=\"COSTA RICA\",LOOKUP(1,GEfectos!$C$4:$I$4,GEfectos!C152:I152),IF(EFECTOS!$N$9=\"EL SALVADOR\",LOOKUP(2,GEfectos!$C$4:$I$4,GEfectos!C152:I152),IF(EFECTOS!$N$9=\"GUATEMALA\",LOOKUP(3,GEfectos!$C$4:$I$4,GEfectos!C152:I152),IF(EFECTOS!$N$9=\"HONDURAS\",LOOKUP(4,GEfectos!$C$4:$I$4,GEfectos!C152:I152),IF(EFECTOS!$N$9=\"NICARAGUA\",LOOKUP(5,GEfectos!$C$4:$I$4,GEfectos!C152:I152),IF(EFECTOS!$N$9=\"REPÚBLICA \nDOMINICANA\",LOOKUP(6,$C$4:$I$4,C152:I152),IF(EFECTOS!$N$9=\"PANAMÁ\",LOOKUP(7,GEfectos!$C$4:$I$4,GEfectos!C152:I152))))))))","v":105.98264752643075},{"$f":"IF(EFECTOS!$N$9=\"COSTA RICA\",LOOKUP(1,GEfectos!$J$4:$P$4,GEfectos!J152:P152),IF(EFECTOS!$N$9=\"EL SALVADOR\",LOOKUP(2,GEfectos!$J$4:$P$4,GEfectos!J152:P152),IF(EFECTOS!$N$9=\"GUATEMALA\",LOOKUP(3,GEfectos!$J$4:$P$4,GEfectos!J152:P152),IF(EFECTOS!$N$9=\"HONDURAS\",LOOKUP(4,GEfectos!$J$4:$P$4,GEfectos!J152:P152),IF(EFECTOS!$N$9=\"NICARAGUA\",LOOKUP(5,GEfectos!$J$4:$P$4,GEfectos!J152:P152),IF(EFECTOS!$N$9=\"REPÚBLICA \nDOMINICANA\",LOOKUP(6,$J$4:$P$4,J152:P152),IF(EFECTOS!$N$9=\"PANAMÁ\",LOOKUP(7,GEfectos!$J$4:$P$4,GEfectos!J152:P152))))))))","v":169.93973066578823},{"$f":"IF(EFECTOS!$N$9=\"COSTA RICA\",LOOKUP(1,GEfectos!$Q$4:$W$4,GEfectos!Q152:W152),IF(EFECTOS!$N$9=\"EL SALVADOR\",LOOKUP(2,GEfectos!$Q$4:$W$4,GEfectos!Q152:W152),IF(EFECTOS!$N$9=\"GUATEMALA\",LOOKUP(3,GEfectos!$Q$4:$W$4,GEfectos!Q152:W152),IF(EFECTOS!$N$9=\"HONDURAS\",LOOKUP(4,GEfectos!$Q$4:$W$4,GEfectos!Q152:W152),IF(EFECTOS!$N$9=\"NICARAGUA\",LOOKUP(5,GEfectos!$Q$4:$W$4,GEfectos!Q152:W152),IF(EFECTOS!$N$9=\"REPÚBLICA \nDOMINICANA\",LOOKUP(6,$Q$4:$W$4,Q152:W152),IF(EFECTOS!$N$9=\"PANAMÁ\",LOOKUP(7,GEfectos!$Q$4:$W$4,GEfectos!Q152:W152))))))))","v":160.34674980487478},100]
[null,{"$f":"'ITCER GLOBAL'!B153","v":"Abril"},{"$f":"'ITCER GLOBAL'!C153","v":106.02398709304842},{"$f":"'ITCER GLOBAL'!D153","v":101.58431446120888},{"$f":"'ITCER GLOBAL'!E153","v":77.3785485985305},{"$f":"'ITCER GLOBAL'!F153","v":98.993578904857799},{"$f":"'ITCER GLOBAL'!G153","v":111.74635777313839},{"$f":"'ITCER GLOBAL'!H153","v":105.13301170440481},{"$f":"'ITCER GLOBAL'!I153","v":113.4677634060848},{"$f":"'ITCER GLOBAL'!S153","v":170.73224438651121},{"$f":"'ITCER GLOBAL'!T153","v":98.291325370178654},{"$f":"'ITCER GLOBAL'!U153","v":98.528138761317521},{"$f":"'ITCER GLOBAL'!V153","v":125.37764833944701},{"$f":"'ITCER GLOBAL'!W153","v":135.21751794820872},{"$f":"'ITCER GLOBAL'!X153","v":198.92236283877293},{"$f":"'ITCER GLOBAL'!Y153","v":101.42852489479314},{"$f":"'ITCER GLOBAL'!AA153","v":161.03171467856021},{"$f":"'ITCER GLOBAL'!AB153","v":96.75836854489215},{"$f":"'ITCER GLOBAL'!AC153","v":127.33262712450086},{"$f":"'ITCER GLOBAL'!AD153","v":126.65230384280457},{"$f":"'ITCER GLOBAL'!AE153","v":121.00395989882755},{"$f":"'ITCER GLOBAL'!AF153","v":189.21018204830764},{"$f":"'ITCER GLOBAL'!AG153","v":89.389727839963712},null,{"$f":"IF(EFECTOS!$N$9=\"COSTA RICA\",LOOKUP(1,GEfectos!$C$4:$I$4,GEfectos!C153:I153),IF(EFECTOS!$N$9=\"EL SALVADOR\",LOOKUP(2,GEfectos!$C$4:$I$4,GEfectos!C153:I153),IF(EFECTOS!$N$9=\"GUATEMALA\",LOOKUP(3,GEfectos!$C$4:$I$4,GEfectos!C153:I153),IF(EFECTOS!$N$9=\"HONDURAS\",LOOKUP(4,GEfectos!$C$4:$I$4,GEfectos!C153:I153),IF(EFECTOS!$N$9=\"NICARAGUA\",LOOKUP(5,GEfectos!$C$4:$I$4,GEfectos!C153:I153),IF(EFECTOS!$N$9=\"REPÚBLICA \nDOMINICANA\",LOOKUP(6,$C$4:$I$4,C153:I153),IF(EFECTOS!$N$9=\"PANAMÁ\",LOOKUP(7,GEfectos!$C$4:$I$4,GEfectos!C153:I153))))))))","v":106.02398709304842},{"$f":"IF(EFECTOS!$N$9=\"COSTA RICA\",LOOKUP(1,GEfectos!$J$4:$P$4,GEfectos!J153:P153),IF(EFECTOS!$N$9=\"EL SALVADOR\",LOOKUP(2,GEfectos!$J$4:$P$4,GEfectos!J153:P153),IF(EFECTOS!$N$9=\"GUATEMALA\",LOOKUP(3,GEfectos!$J$4:$P$4,GEfectos!J153:P153),IF(EFECTOS!$N$9=\"HONDURAS\",LOOKUP(4,GEfectos!$J$4:$P$4,GEfectos!J153:P153),IF(EFECTOS!$N$9=\"NICARAGUA\",LOOKUP(5,GEfectos!$J$4:$P$4,GEfectos!J153:P153),IF(EFECTOS!$N$9=\"REPÚBLICA \nDOMINICANA\",LOOKUP(6,$J$4:$P$4,J153:P153),IF(EFECTOS!$N$9=\"PANAMÁ\",LOOKUP(7,GEfectos!$J$4:$P$4,GEfectos!J153:P153))))))))","v":170.73224438651121},{"$f":"IF(EFECTOS!$N$9=\"COSTA RICA\",LOOKUP(1,GEfectos!$Q$4:$W$4,GEfectos!Q153:W153),IF(EFECTOS!$N$9=\"EL SALVADOR\",LOOKUP(2,GEfectos!$Q$4:$W$4,GEfectos!Q153:W153),IF(EFECTOS!$N$9=\"GUATEMALA\",LOOKUP(3,GEfectos!$Q$4:$W$4,GEfectos!Q153:W153),IF(EFECTOS!$N$9=\"HONDURAS\",LOOKUP(4,GEfectos!$Q$4:$W$4,GEfectos!Q153:W153),IF(EFECTOS!$N$9=\"NICARAGUA\",LOOKUP(5,GEfectos!$Q$4:$W$4,GEfectos!Q153:W153),IF(EFECTOS!$N$9=\"REPÚBLICA \nDOMINICANA\",LOOKUP(6,$Q$4:$W$4,Q153:W153),IF(EFECTOS!$N$9=\"PANAMÁ\",LOOKUP(7,GEfectos!$Q$4:$W$4,GEfectos!Q153:W153))))))))","v":161.03171467856021},100]
[null,{"$f":"'ITCER GLOBAL'!B154","v":"Mayo"},{"$f":"'ITCER GLOBAL'!C154","v":105.66945039100324},{"$f":"'ITCER GLOBAL'!D154","v":102.67732678904434},{"$f":"'ITCER GLOBAL'!E154","v":77.930248601805829},{"$f":"'ITCER GLOBAL'!F154","v":99.159025354780979},{"$f":"'ITCER GLOBAL'!G154","v":111.81753315674331},{"$f":"'ITCER GLOBAL'!H154","v":104.69800094698493},{"$f":"'ITCER GLOBAL'!I154","v":113.84145976706225},{"$f":"'ITCER GLOBAL'!S154","v":171.26155953972417},{"$f":"'ITCER GLOBAL'!T154","v":98.556788084266657},{"$f":"'ITCER GLOBAL'!U154","v":98.608096440386532},{"$f":"'ITCER GLOBAL'!V154","v":125.64444135741365},{"$f":"'ITCER GLOBAL'!W154","v":135.97144269638812},{"$f":"'ITCER GLOBAL'!X154","v":199.22566387455657},{"$f":"'ITCER GLOBAL'!Y154","v":101.89812133304281},{"$f":"'ITCER GLOBAL'!AA154","v":162.07291597146934},{"$f":"'ITCER GLOBAL'!AB154","v":95.986904963699004},{"$f":"'ITCER GLOBAL'!AC154","v":126.53378913781823},{"$f":"'ITCER GLOBAL'!AD154","v":126.71004067241537},{"$f":"'ITCER GLOBAL'!AE154","v":121.60118262114261},{"$f":"'ITCER GLOBAL'!AF154","v":190.28602463521423},{"$f":"'ITCER GLOBAL'!AG154","v":89.508797182979379},null,{"$f":"IF(EFECTOS!$N$9=\"COSTA RICA\",LOOKUP(1,GEfectos!$C$4:$I$4,GEfectos!C154:I154),IF(EFECTOS!$N$9=\"EL SALVADOR\",LOOKUP(2,GEfectos!$C$4:$I$4,GEfectos!C154:I154),IF(EFECTOS!$N$9=\"GUATEMALA\",LOOKUP(3,GEfectos!$C$4:$I$4,GEfectos!C154:I154),IF(EFECTOS!$N$9=\"HONDURAS\",LOOKUP(4,GEfectos!$C$4:$I$4,GEfectos!C154:I154),IF(EFECTOS!$N$9=\"NICARAGUA\",LOOKUP(5,GEfectos!$C$4:$I$4,GEfectos!C154:I154),IF(EFECTOS!$N$9=\"REPÚBLICA \nDOMINICANA\",LOOKUP(6,$C$4:$I$4,C154:I154),IF(EFECTOS!$N$9=\"PANAMÁ\",LOOKUP(7,GEfectos!$C$4:$I$4,GEfectos!C154:I154))))))))","v":105.66945039100324},{"$f":"IF(EFECTOS!$N$9=\"COSTA RICA\",LOOKUP(1,GEfectos!$J$4:$P$4,GEfectos!J154:P154),IF(EFECTOS!$N$9=\"EL SALVADOR\",LOOKUP(2,GEfectos!$J$4:$P$4,GEfectos!J154:P154),IF(EFECTOS!$N$9=\"GUATEMALA\",LOOKUP(3,GEfectos!$J$4:$P$4,GEfectos!J154:P154),IF(EFECTOS!$N$9=\"HONDURAS\",LOOKUP(4,GEfectos!$J$4:$P$4,GEfectos!J154:P154),IF(EFECTOS!$N$9=\"NICARAGUA\",LOOKUP(5,GEfectos!$J$4:$P$4,GEfectos!J154:P154),IF(EFECTOS!$N$9=\"REPÚBLICA \nDOMINICANA\",LOOKUP(6,$J$4:$P$4,J154:P154),IF(EFECTOS!$N$9=\"PANAMÁ\",LOOKUP(7,GEfectos!$J$4:$P$4,GEfectos!J154:P154))))))))","v":171.26155953972417},{"$f":"IF(EFECTOS!$N$9=\"COSTA RICA\",LOOKUP(1,GEfectos!$Q$4:$W$4,GEfectos!Q154:W154),IF(EFECTOS!$N$9=\"EL SALVADOR\",LOOKUP(2,GEfectos!$Q$4:$W$4,GEfectos!Q154:W154),IF(EFECTOS!$N$9=\"GUATEMALA\",LOOKUP(3,GEfectos!$Q$4:$W$4,GEfectos!Q154:W154),IF(EFECTOS!$N$9=\"HONDURAS\",LOOKUP(4,GEfectos!$Q$4:$W$4,GEfectos!Q154:W154),IF(EFECTOS!$N$9=\"NICARAGUA\",LOOKUP(5,GEfectos!$Q$4:$W$4,GEfectos!Q154:W154),IF(EFECTOS!$N$9=\"REPÚBLICA \nDOMINICANA\",LOOKUP(6,$Q$4:$W$4,Q154:W154),IF(EFECTOS!$N$9=\"PANAMÁ\",LOOKUP(7,GEfectos!$Q$4:$W$4,GEfectos!Q154:W154))))))))","v":162.07291597146934},100]
[null,{"$f":"'ITCER GLOBAL'!B155","v":"Junio"},{"$f":"'ITCER GLOBAL'!C155","v":105.33533862111483},{"$f":"'ITCER GLOBAL'!D155","v":102.29790346971546},{"$f":"'ITCER GLOBAL'!E155","v":78.209145557802913},{"$f":"'ITCER GLOBAL'!F155","v":99.019435422359763},{"$f":"'ITCER GLOBAL'!G155","v":111.23673437567884},{"$f":"'ITCER GLOBAL'!H155","v":105.61317929347376},{"$f":"'ITCER GLOBAL'!I155","v":113.73059321063771},{"$f":"'ITCER GLOBAL'!S155","v":171.30568740253321},{"$f":"'ITCER GLOBAL'!T155","v":98.577830961104141},{"$f":"'ITCER GLOBAL'!U155","v":99.15160503302495},{"$f":"'ITCER GLOBAL'!V155","v":125.60231812071963},{"$f":"'ITCER GLOBAL'!W155","v":136.2491377013331},{"$f":"'ITCER GLOBAL'!X155","v":201.3773603123303},{"$f":"'ITCER GLOBAL'!Y155","v":102.04872161089202},{"$f":"'ITCER GLOBAL'!AA155","v":162.62888565698731},{"$f":"'ITCER GLOBAL'!AB155","v":96.36349095882241},{"$f":"'ITCER GLOBAL'!AC155","v":126.77750706244942},{"$f":"'ITCER GLOBAL'!AD155","v":126.84612630335918},{"$f":"'ITCER GLOBAL'!AE155","v":122.48574040404682},{"$f":"'ITCER GLOBAL'!AF155","v":190.67446095221769},{"$f":"'ITCER GLOBAL'!AG155","v":89.728470352642958},null,{"$f":"IF(EFECTOS!$N$9=\"COSTA RICA\",LOOKUP(1,GEfectos!$C$4:$I$4,GEfectos!C155:I155),IF(EFECTOS!$N$9=\"EL SALVADOR\",LOOKUP(2,GEfectos!$C$4:$I$4,GEfectos!C155:I155),IF(EFECTOS!$N$9=\"GUATEMALA\",LOOKUP(3,GEfectos!$C$4:$I$4,GEfectos!C155:I155),IF(EFECTOS!$N$9=\"HONDURAS\",LOOKUP(4,GEfectos!$C$4:$I$4,GEfectos!C155:I155),IF(EFECTOS!$N$9=\"NICARAGUA\",LOOKUP(5,GEfectos!$C$4:$I$4,GEfectos!C155:I155),IF(EFECTOS!$N$9=\"REPÚBLICA \nDOMINICANA\",LOOKUP(6,$C$4:$I$4,C155:I155),IF(EFECTOS!$N$9=\"PANAMÁ\",LOOKUP(7,GEfectos!$C$4:$I$4,GEfectos!C155:I155))))))))","v":105.33533862111483},{"$f":"IF(EFECTOS!$N$9=\"COSTA RICA\",LOOKUP(1,GEfectos!$J$4:$P$4,GEfectos!J155:P155),IF(EFECTOS!$N$9=\"EL SALVADOR\",LOOKUP(2,GEfectos!$J$4:$P$4,GEfectos!J155:P155),IF(EFECTOS!$N$9=\"GUATEMALA\",LOOKUP(3,GEfectos!$J$4:$P$4,GEfectos!J155:P155),IF(EFECTOS!$N$9=\"HONDURAS\",LOOKUP(4,GEfectos!$J$4:$P$4,GEfectos!J155:P155),IF(EFECTOS!$N$9=\"NICARAGUA\",LOOKUP(5,GEfectos!$J$4:$P$4,GEfectos!J155:P155),IF(EFECTOS!$N$9=\"REPÚBLICA \nDOMINICANA\",LOOKUP(6,$J$4:$P$4,J155:P155),IF(EFECTOS!$N$9=\"PANAMÁ\",LOOKUP(7,GEfectos!$J$4:$P$4,GEfectos!J155:P155))))))))","v":171.30568740253321},{"$f":"IF(EFECTOS!$N$9=\"COSTA RICA\",LOOKUP(1,GEfectos!$Q$4:$W$4,GEfectos!Q155:W155),IF(EFECTOS!$N$9=\"EL SALVADOR\",LOOKUP(2,GEfectos!$Q$4:$W$4,GEfectos!Q155:W155),IF(EFECTOS!$N$9=\"GUATEMALA\",LOOKUP(3,GEfectos!$Q$4:$W$4,GEfectos!Q155:W155),IF(EFECTOS!$N$9=\"HONDURAS\",LOOKUP(4,GEfectos!$Q$4:$W$4,GEfectos!Q155:W155),IF(EFECTOS!$N$9=\"NICARAGUA\",LOOKUP(5,GEfectos!$Q$4:$W$4,GEfectos!Q155:W155),IF(EFECTOS!$N$9=\"REPÚBLICA \nDOMINICANA\",LOOKUP(6,$Q$4:$W$4,Q155:W155),IF(EFECTOS!$N$9=\"PANAMÁ\",LOOKUP(7,GEfectos!$Q$4:$W$4,GEfectos!Q155:W155))))))))","v":162.62888565698731},100]
[null,{"$f":"'ITCER GLOBAL'!B156","v":"Julio"},{"$f":"'ITCER GLOBAL'!C156","v":105.03082210984149},{"$f":"'ITCER GLOBAL'!D156","v":102.09883164296926},{"$f":"'ITCER GLOBAL'!E156","v":78.082136114758185},{"$f":"'ITCER GLOBAL'!F156","v":98.896434198723227},{"$f":"'ITCER GLOBAL'!G156","v":111.60814379388897},{"$f":"'ITCER GLOBAL'!H156","v":107.59929788491819},{"$f":"'ITCER GLOBAL'!I156","v":113.92314494921271},{"$f":"'ITCER GLOBAL'!S156","v":172.12564528751025},{"$f":"'ITCER GLOBAL'!T156","v":98.84522505061166},{"$f":"'ITCER GLOBAL'!U156","v":99.464292027701077},{"$f":"'ITCER GLOBAL'!V156","v":126.00993978741386},{"$f":"'ITCER GLOBAL'!W156","v":137.34073675238236},{"$f":"'ITCER GLOBAL'!X156","v":205.5847923560215},{"$f":"'ITCER GLOBAL'!Y156","v":102.51259253633968},{"$f":"'ITCER GLOBAL'!AA156","v":163.88107969630173},{"$f":"'ITCER GLOBAL'!AB156","v":96.813277350973834},{"$f":"'ITCER GLOBAL'!AC156","v":127.38418411289018},{"$f":"'ITCER GLOBAL'!AD156","v":127.41605984924445},{"$f":"'ITCER GLOBAL'!AE156","v":123.056196513773},{"$f":"'ITCER GLOBAL'!AF156","v":191.06518016121515},{"$f":"'ITCER GLOBAL'!AG156","v":89.983991033639484},null,{"$f":"IF(EFECTOS!$N$9=\"COSTA RICA\",LOOKUP(1,GEfectos!$C$4:$I$4,GEfectos!C156:I156),IF(EFECTOS!$N$9=\"EL SALVADOR\",LOOKUP(2,GEfectos!$C$4:$I$4,GEfectos!C156:I156),IF(EFECTOS!$N$9=\"GUATEMALA\",LOOKUP(3,GEfectos!$C$4:$I$4,GEfectos!C156:I156),IF(EFECTOS!$N$9=\"HONDURAS\",LOOKUP(4,GEfectos!$C$4:$I$4,GEfectos!C156:I156),IF(EFECTOS!$N$9=\"NICARAGUA\",LOOKUP(5,GEfectos!$C$4:$I$4,GEfectos!C156:I156),IF(EFECTOS!$N$9=\"REPÚBLICA \nDOMINICANA\",LOOKUP(6,$C$4:$I$4,C156:I156),IF(EFECTOS!$N$9=\"PANAMÁ\",LOOKUP(7,GEfectos!$C$4:$I$4,GEfectos!C156:I156))))))))","v":105.03082210984149},{"$f":"IF(EFECTOS!$N$9=\"COSTA RICA\",LOOKUP(1,GEfectos!$J$4:$P$4,GEfectos!J156:P156),IF(EFECTOS!$N$9=\"EL SALVADOR\",LOOKUP(2,GEfectos!$J$4:$P$4,GEfectos!J156:P156),IF(EFECTOS!$N$9=\"GUATEMALA\",LOOKUP(3,GEfectos!$J$4:$P$4,GEfectos!J156:P156),IF(EFECTOS!$N$9=\"HONDURAS\",LOOKUP(4,GEfectos!$J$4:$P$4,GEfectos!J156:P156),IF(EFECTOS!$N$9=\"NICARAGUA\",LOOKUP(5,GEfectos!$J$4:$P$4,GEfectos!J156:P156),IF(EFECTOS!$N$9=\"REPÚBLICA \nDOMINICANA\",LOOKUP(6,$J$4:$P$4,J156:P156),IF(EFECTOS!$N$9=\"PANAMÁ\",LOOKUP(7,GEfectos!$J$4:$P$4,GEfectos!J156:P156))))))))","v":172.12564528751025},{"$f":"IF(EFECTOS!$N$9=\"COSTA RICA\",LOOKUP(1,GEfectos!$Q$4:$W$4,GEfectos!Q156:W156),IF(EFECTOS!$N$9=\"EL SALVADOR\",LOOKUP(2,GEfectos!$Q$4:$W$4,GEfectos!Q156:W156),IF(EFECTOS!$N$9=\"GUATEMALA\",LOOKUP(3,GEfectos!$Q$4:$W$4,GEfectos!Q156:W156),IF(EFECTOS!$N$9=\"HONDURAS\",LOOKUP(4,GEfectos!$Q$4:$W$4,GEfectos!Q156:W156),IF(EFECTOS!$N$9=\"NICARAGUA\",LOOKUP(5,GEfectos!$Q$4:$W$4,GEfectos!Q156:W156),IF(EFECTOS!$N$9=\"REPÚBLICA \nDOMINICANA\",LOOKUP(6,$Q$4:$W$4,Q156:W156),IF(EFECTOS!$N$9=\"PANAMÁ\",LOOKUP(7,GEfectos!$Q$4:$W$4,GEfectos!Q156:W156))))))))","v":163.88107969630173},100]
[null,{"$f":"'ITCER GLOBAL'!B157","v":"Agosto"},{"$f":"'ITCER GLOBAL'!C157","v":104.13573015933477},{"$f":"'ITCER GLOBAL'!D157","v":102.15527095600386},{"$f":"'ITCER GLOBAL'!E157","v":76.986810314742186},{"$f":"'ITCER GLOBAL'!F157","v":98.057991528337524},{"$f":"'ITCER GLOBAL'!G157","v":112.14820868533201},{"$f":"'ITCER GLOBAL'!H157","v":107.57584602524848},{"$f":"'ITCER GLOBAL'!I157","v":113.37213888561936},{"$f":"'ITCER GLOBAL'!S157","v":171.61478744864752},{"$f":"'ITCER GLOBAL'!T157","v":98.544141522747921},{"$f":"'ITCER GLOBAL'!U157","v":98.886508344373084},{"$f":"'ITCER GLOBAL'!V157","v":125.70130160705075},{"$f":"'ITCER GLOBAL'!W157","v":138.01101904497895},{"$f":"'ITCER GLOBAL'!X157","v":204.23138787953184},{"$f":"'ITCER GLOBAL'!Y157","v":102.06118790895104},{"$f":"'ITCER GLOBAL'!AA157","v":164.7991397247277},{"$f":"'ITCER GLOBAL'!AB157","v":96.465058141922839},{"$f":"'ITCER GLOBAL'!AC157","v":128.44603892549804},{"$f":"'ITCER GLOBAL'!AD157","v":128.19077736333674},{"$f":"'ITCER GLOBAL'!AE157","v":123.06127816291156},{"$f":"'ITCER GLOBAL'!AF157","v":189.84873968046497},{"$f":"'ITCER GLOBAL'!AG157","v":90.023165225735141},null,{"$f":"IF(EFECTOS!$N$9=\"COSTA RICA\",LOOKUP(1,GEfectos!$C$4:$I$4,GEfectos!C157:I157),IF(EFECTOS!$N$9=\"EL SALVADOR\",LOOKUP(2,GEfectos!$C$4:$I$4,GEfectos!C157:I157),IF(EFECTOS!$N$9=\"GUATEMALA\",LOOKUP(3,GEfectos!$C$4:$I$4,GEfectos!C157:I157),IF(EFECTOS!$N$9=\"HONDURAS\",LOOKUP(4,GEfectos!$C$4:$I$4,GEfectos!C157:I157),IF(EFECTOS!$N$9=\"NICARAGUA\",LOOKUP(5,GEfectos!$C$4:$I$4,GEfectos!C157:I157),IF(EFECTOS!$N$9=\"REPÚBLICA \nDOMINICANA\",LOOKUP(6,$C$4:$I$4,C157:I157),IF(EFECTOS!$N$9=\"PANAMÁ\",LOOKUP(7,GEfectos!$C$4:$I$4,GEfectos!C157:I157))))))))","v":104.13573015933477},{"$f":"IF(EFECTOS!$N$9=\"COSTA RICA\",LOOKUP(1,GEfectos!$J$4:$P$4,GEfectos!J157:P157),IF(EFECTOS!$N$9=\"EL SALVADOR\",LOOKUP(2,GEfectos!$J$4:$P$4,GEfectos!J157:P157),IF(EFECTOS!$N$9=\"GUATEMALA\",LOOKUP(3,GEfectos!$J$4:$P$4,GEfectos!J157:P157),IF(EFECTOS!$N$9=\"HONDURAS\",LOOKUP(4,GEfectos!$J$4:$P$4,GEfectos!J157:P157),IF(EFECTOS!$N$9=\"NICARAGUA\",LOOKUP(5,GEfectos!$J$4:$P$4,GEfectos!J157:P157),IF(EFECTOS!$N$9=\"REPÚBLICA \nDOMINICANA\",LOOKUP(6,$J$4:$P$4,J157:P157),IF(EFECTOS!$N$9=\"PANAMÁ\",LOOKUP(7,GEfectos!$J$4:$P$4,GEfectos!J157:P157))))))))","v":171.61478744864752},{"$f":"IF(EFECTOS!$N$9=\"COSTA RICA\",LOOKUP(1,GEfectos!$Q$4:$W$4,GEfectos!Q157:W157),IF(EFECTOS!$N$9=\"EL SALVADOR\",LOOKUP(2,GEfectos!$Q$4:$W$4,GEfectos!Q157:W157),IF(EFECTOS!$N$9=\"GUATEMALA\",LOOKUP(3,GEfectos!$Q$4:$W$4,GEfectos!Q157:W157),IF(EFECTOS!$N$9=\"HONDURAS\",LOOKUP(4,GEfectos!$Q$4:$W$4,GEfectos!Q157:W157),IF(EFECTOS!$N$9=\"NICARAGUA\",LOOKUP(5,GEfectos!$Q$4:$W$4,GEfectos!Q157:W157),IF(EFECTOS!$N$9=\"REPÚBLICA \nDOMINICANA\",LOOKUP(6,$Q$4:$W$4,Q157:W157),IF(EFECTOS!$N$9=\"PANAMÁ\",LOOKUP(7,GEfectos!$Q$4:$W$4,GEfectos!Q157:W157))))))))","v":164.7991397247277},100]
[null,{"$f":"'ITCER GLOBAL'!B158","v":"Septiembre"},{"$f":"'ITCER GLOBAL'!C158","v":104.29924597468583},{"$f":"'ITCER GLOBAL'!D158","v":102.10374175451958},{"$f":"'ITCER GLOBAL'!E158","v":77.38115361264154},{"$f":"'ITCER GLOBAL'!F158","v":98.370919428233435},{"$f":"'ITCER GLOBAL'!G158","v":112.34697239702356},{"$f":"'ITCER GLOBAL'!H158","v":108.18956567596416},{"$f":"'ITCER GLOBAL'!I158","v":113.63837865636928},{"$f":"'ITCER GLOBAL'!S158","v":172.35697711605681},{"$f":"'ITCER GLOBAL'!T158","v":98.767579346920385},{"$f":"'ITCER GLOBAL'!U158","v":99.659070315890986},{"$f":"'ITCER GLOBAL'!V158","v":126.05373563120077},{"$f":"'ITCER GLOBAL'!W158","v":139.19945632141946},{"$f":"'ITCER GLOBAL'!X158","v":207.21424958847123},{"$f":"'ITCER GLOBAL'!Y158","v":102.49237076338697},{"$f":"'ITCER GLOBAL'!AA158","v":165.25237119920223},{"$f":"'ITCER GLOBAL'!AB158","v":96.732575760426016},{"$f":"'ITCER GLOBAL'!AC158","v":128.78984825526041},{"$f":"'ITCER GLOBAL'!AD158","v":128.14126000231536},{"$f":"'ITCER GLOBAL'!AE158","v":123.90138634933727},{"$f":"'ITCER GLOBAL'!AF158","v":191.52886721913038},{"$f":"'ITCER GLOBAL'!AG158","v":90.191686976908841},null,{"$f":"IF(EFECTOS!$N$9=\"COSTA RICA\",LOOKUP(1,GEfectos!$C$4:$I$4,GEfectos!C158:I158),IF(EFECTOS!$N$9=\"EL SALVADOR\",LOOKUP(2,GEfectos!$C$4:$I$4,GEfectos!C158:I158),IF(EFECTOS!$N$9=\"GUATEMALA\",LOOKUP(3,GEfectos!$C$4:$I$4,GEfectos!C158:I158),IF(EFECTOS!$N$9=\"HONDURAS\",LOOKUP(4,GEfectos!$C$4:$I$4,GEfectos!C158:I158),IF(EFECTOS!$N$9=\"NICARAGUA\",LOOKUP(5,GEfectos!$C$4:$I$4,GEfectos!C158:I158),IF(EFECTOS!$N$9=\"REPÚBLICA \nDOMINICANA\",LOOKUP(6,$C$4:$I$4,C158:I158),IF(EFECTOS!$N$9=\"PANAMÁ\",LOOKUP(7,GEfectos!$C$4:$I$4,GEfectos!C158:I158))))))))","v":104.29924597468583},{"$f":"IF(EFECTOS!$N$9=\"COSTA RICA\",LOOKUP(1,GEfectos!$J$4:$P$4,GEfectos!J158:P158),IF(EFECTOS!$N$9=\"EL SALVADOR\",LOOKUP(2,GEfectos!$J$4:$P$4,GEfectos!J158:P158),IF(EFECTOS!$N$9=\"GUATEMALA\",LOOKUP(3,GEfectos!$J$4:$P$4,GEfectos!J158:P158),IF(EFECTOS!$N$9=\"HONDURAS\",LOOKUP(4,GEfectos!$J$4:$P$4,GEfectos!J158:P158),IF(EFECTOS!$N$9=\"NICARAGUA\",LOOKUP(5,GEfectos!$J$4:$P$4,GEfectos!J158:P158),IF(EFECTOS!$N$9=\"REPÚBLICA \nDOMINICANA\",LOOKUP(6,$J$4:$P$4,J158:P158),IF(EFECTOS!$N$9=\"PANAMÁ\",LOOKUP(7,GEfectos!$J$4:$P$4,GEfectos!J158:P158))))))))","v":172.35697711605681},{"$f":"IF(EFECTOS!$N$9=\"COSTA RICA\",LOOKUP(1,GEfectos!$Q$4:$W$4,GEfectos!Q158:W158),IF(EFECTOS!$N$9=\"EL SALVADOR\",LOOKUP(2,GEfectos!$Q$4:$W$4,GEfectos!Q158:W158),IF(EFECTOS!$N$9=\"GUATEMALA\",LOOKUP(3,GEfectos!$Q$4:$W$4,GEfectos!Q158:W158),IF(EFECTOS!$N$9=\"HONDURAS\",LOOKUP(4,GEfectos!$Q$4:$W$4,GEfectos!Q158:W158),IF(EFECTOS!$N$9=\"NICARAGUA\",LOOKUP(5,GEfectos!$Q$4:$W$4,GEfectos!Q158:W158),IF(EFECTOS!$N$9=\"REPÚBLICA \nDOMINICANA\",LOOKUP(6,$Q$4:$W$4,Q158:W158),IF(EFECTOS!$N$9=\"PANAMÁ\",LOOKUP(7,GEfectos!$Q$4:$W$4,GEfectos!Q158:W158))))))))","v":165.25237119920223},100]
[null,{"$f":"'ITCER GLOBAL'!B159","v":"Octubre"},{"$f":"'ITCER GLOBAL'!C159","v":104.85895165210206},{"$f":"'ITCER GLOBAL'!D159","v":102.30234779463409},{"$f":"'ITCER GLOBAL'!E159","v":78.102615168720604},{"$f":"'ITCER GLOBAL'!F159","v":98.04507740406757},{"$f":"'ITCER GLOBAL'!G159","v":111.98993270507641},{"$f":"'ITCER GLOBAL'!H159","v":109.172987314797},{"$f":"'ITCER GLOBAL'!I159","v":114.40576336417315},{"$f":"'ITCER GLOBAL'!S159","v":173.6626760539981},{"$f":"'ITCER GLOBAL'!T159","v":99.244588589568878},{"$f":"'ITCER GLOBAL'!U159","v":100.5417431884733},{"$f":"'ITCER GLOBAL'!V159","v":126.67626885095081},{"$f":"'ITCER GLOBAL'!W159","v":141.05072408729382},{"$f":"'ITCER GLOBAL'!X159","v":209.55318158067615},{"$f":"'ITCER GLOBAL'!Y159","v":103.41245548810949},{"$f":"'ITCER GLOBAL'!AA159","v":165.61549902784742},{"$f":"'ITCER GLOBAL'!AB159","v":97.011056665870981},{"$f":"'ITCER GLOBAL'!AC159","v":128.73031584317471},{"$f":"'ITCER GLOBAL'!AD159","v":129.20206929807108},{"$f":"'ITCER GLOBAL'!AE159","v":125.94946767112407},{"$f":"'ITCER GLOBAL'!AF159","v":191.9459994040796},{"$f":"'ITCER GLOBAL'!AG159","v":90.390949238221438},null,{"$f":"IF(EFECTOS!$N$9=\"COSTA RICA\",LOOKUP(1,GEfectos!$C$4:$I$4,GEfectos!C159:I159),IF(EFECTOS!$N$9=\"EL SALVADOR\",LOOKUP(2,GEfectos!$C$4:$I$4,GEfectos!C159:I159),IF(EFECTOS!$N$9=\"GUATEMALA\",LOOKUP(3,GEfectos!$C$4:$I$4,GEfectos!C159:I159),IF(EFECTOS!$N$9=\"HONDURAS\",LOOKUP(4,GEfectos!$C$4:$I$4,GEfectos!C159:I159),IF(EFECTOS!$N$9=\"NICARAGUA\",LOOKUP(5,GEfectos!$C$4:$I$4,GEfectos!C159:I159),IF(EFECTOS!$N$9=\"REPÚBLICA \nDOMINICANA\",LOOKUP(6,$C$4:$I$4,C159:I159),IF(EFECTOS!$N$9=\"PANAMÁ\",LOOKUP(7,GEfectos!$C$4:$I$4,GEfectos!C159:I159))))))))","v":104.85895165210206},{"$f":"IF(EFECTOS!$N$9=\"COSTA RICA\",LOOKUP(1,GEfectos!$J$4:$P$4,GEfectos!J159:P159),IF(EFECTOS!$N$9=\"EL SALVADOR\",LOOKUP(2,GEfectos!$J$4:$P$4,GEfectos!J159:P159),IF(EFECTOS!$N$9=\"GUATEMALA\",LOOKUP(3,GEfectos!$J$4:$P$4,GEfectos!J159:P159),IF(EFECTOS!$N$9=\"HONDURAS\",LOOKUP(4,GEfectos!$J$4:$P$4,GEfectos!J159:P159),IF(EFECTOS!$N$9=\"NICARAGUA\",LOOKUP(5,GEfectos!$J$4:$P$4,GEfectos!J159:P159),IF(EFECTOS!$N$9=\"REPÚBLICA \nDOMINICANA\",LOOKUP(6,$J$4:$P$4,J159:P159),IF(EFECTOS!$N$9=\"PANAMÁ\",LOOKUP(7,GEfectos!$J$4:$P$4,GEfectos!J159:P159))))))))","v":173.6626760539981},{"$f":"IF(EFECTOS!$N$9=\"COSTA RICA\",LOOKUP(1,GEfectos!$Q$4:$W$4,GEfectos!Q159:W159),IF(EFECTOS!$N$9=\"EL SALVADOR\",LOOKUP(2,GEfectos!$Q$4:$W$4,GEfectos!Q159:W159),IF(EFECTOS!$N$9=\"GUATEMALA\",LOOKUP(3,GEfectos!$Q$4:$W$4,GEfectos!Q159:W159),IF(EFECTOS!$N$9=\"HONDURAS\",LOOKUP(4,GEfectos!$Q$4:$W$4,GEfectos!Q159:W159),IF(EFECTOS!$N$9=\"NICARAGUA\",LOOKUP(5,GEfectos!$Q$4:$W$4,GEfectos!Q159:W159),IF(EFECTOS!$N$9=\"REPÚBLICA \nDOMINICANA\",LOOKUP(6,$Q$4:$W$4,Q159:W159),IF(EFECTOS!$N$9=\"PANAMÁ\",LOOKUP(7,GEfectos!$Q$4:$W$4,GEfectos!Q159:W159))))))))","v":165.61549902784742},100]
[null,{"$f":"'ITCER GLOBAL'!B160","v":"Noviembre"},{"$f":"'ITCER GLOBAL'!C160","v":104.02143450724682},{"$f":"'ITCER GLOBAL'!D160","v":102.35281114066105},{"$f":"'ITCER GLOBAL'!E160","v":76.710574907310885},{"$f":"'ITCER GLOBAL'!F160","v":97.800370372499103},{"$f":"'ITCER GLOBAL'!G160","v":109.48488718359286},{"$f":"'ITCER GLOBAL'!H160","v":108.07018255707105},{"$f":"'ITCER GLOBAL'!I160","v":114.7669992780239},{"$f":"'ITCER GLOBAL'!S160","v":173.14848082266539},{"$f":"'ITCER GLOBAL'!T160","v":99.696864004840123},{"$f":"'ITCER GLOBAL'!U160","v":99.839511354027891},{"$f":"'ITCER GLOBAL'!V160","v":127.41245036923804},{"$f":"'ITCER GLOBAL'!W160","v":142.60681620263549},{"$f":"'ITCER GLOBAL'!X160","v":209.9189177396886},{"$f":"'ITCER GLOBAL'!Y160","v":104.16488790431953},{"$f":"'ITCER GLOBAL'!AA160","v":166.4546173996502},{"$f":"'ITCER GLOBAL'!AB160","v":97.405105823453226},{"$f":"'ITCER GLOBAL'!AC160","v":130.15091005987586},{"$f":"'ITCER GLOBAL'!AD160","v":130.27808574134571},{"$f":"'ITCER GLOBAL'!AE160","v":130.25251235223101},{"$f":"'ITCER GLOBAL'!AF160","v":194.2431416073828},{"$f":"'ITCER GLOBAL'!AG160","v":90.762055782236942},null,{"$f":"IF(EFECTOS!$N$9=\"COSTA RICA\",LOOKUP(1,GEfectos!$C$4:$I$4,GEfectos!C160:I160),IF(EFECTOS!$N$9=\"EL SALVADOR\",LOOKUP(2,GEfectos!$C$4:$I$4,GEfectos!C160:I160),IF(EFECTOS!$N$9=\"GUATEMALA\",LOOKUP(3,GEfectos!$C$4:$I$4,GEfectos!C160:I160),IF(EFECTOS!$N$9=\"HONDURAS\",LOOKUP(4,GEfectos!$C$4:$I$4,GEfectos!C160:I160),IF(EFECTOS!$N$9=\"NICARAGUA\",LOOKUP(5,GEfectos!$C$4:$I$4,GEfectos!C160:I160),IF(EFECTOS!$N$9=\"REPÚBLICA \nDOMINICANA\",LOOKUP(6,$C$4:$I$4,C160:I160),IF(EFECTOS!$N$9=\"PANAMÁ\",LOOKUP(7,GEfectos!$C$4:$I$4,GEfectos!C160:I160))))))))","v":104.02143450724682},{"$f":"IF(EFECTOS!$N$9=\"COSTA RICA\",LOOKUP(1,GEfectos!$J$4:$P$4,GEfectos!J160:P160),IF(EFECTOS!$N$9=\"EL SALVADOR\",LOOKUP(2,GEfectos!$J$4:$P$4,GEfectos!J160:P160),IF(EFECTOS!$N$9=\"GUATEMALA\",LOOKUP(3,GEfectos!$J$4:$P$4,GEfectos!J160:P160),IF(EFECTOS!$N$9=\"HONDURAS\",LOOKUP(4,GEfectos!$J$4:$P$4,GEfectos!J160:P160),IF(EFECTOS!$N$9=\"NICARAGUA\",LOOKUP(5,GEfectos!$J$4:$P$4,GEfectos!J160:P160),IF(EFECTOS!$N$9=\"REPÚBLICA \nDOMINICANA\",LOOKUP(6,$J$4:$P$4,J160:P160),IF(EFECTOS!$N$9=\"PANAMÁ\",LOOKUP(7,GEfectos!$J$4:$P$4,GEfectos!J160:P160))))))))","v":173.14848082266539},{"$f":"IF(EFECTOS!$N$9=\"COSTA RICA\",LOOKUP(1,GEfectos!$Q$4:$W$4,GEfectos!Q160:W160),IF(EFECTOS!$N$9=\"EL SALVADOR\",LOOKUP(2,GEfectos!$Q$4:$W$4,GEfectos!Q160:W160),IF(EFECTOS!$N$9=\"GUATEMALA\",LOOKUP(3,GEfectos!$Q$4:$W$4,GEfectos!Q160:W160),IF(EFECTOS!$N$9=\"HONDURAS\",LOOKUP(4,GEfectos!$Q$4:$W$4,GEfectos!Q160:W160),IF(EFECTOS!$N$9=\"NICARAGUA\",LOOKUP(5,GEfectos!$Q$4:$W$4,GEfectos!Q160:W160),IF(EFECTOS!$N$9=\"REPÚBLICA \nDOMINICANA\",LOOKUP(6,$Q$4:$W$4,Q160:W160),IF(EFECTOS!$N$9=\"PANAMÁ\",LOOKUP(7,GEfectos!$Q$4:$W$4,GEfectos!Q160:W160))))))))","v":166.4546173996502},100]
[null,{"$f":"'ITCER GLOBAL'!B161","v":"Diciembre"},{"$f":"'ITCER GLOBAL'!C161","v":99.318434314906128},{"$f":"'ITCER GLOBAL'!D161","v":103.1447695462669},{"$f":"'ITCER GLOBAL'!E161","v":75.987194151870526},{"$f":"'ITCER GLOBAL'!F161","v":97.951868059167992},{"$f":"'ITCER GLOBAL'!G161","v":109.04979457017166},{"$f":"'ITCER GLOBAL'!H161","v":107.28227061910835},{"$f":"'ITCER GLOBAL'!I161","v":114.69747303999014},{"$f":"'ITCER GLOBAL'!S161","v":167.6461683783557},{"$f":"'ITCER GLOBAL'!T161","v":99.720053694108159},{"$f":"'ITCER GLOBAL'!U161","v":99.620712763137789},{"$f":"'ITCER GLOBAL'!V161","v":127.45618475074001},{"$f":"'ITCER GLOBAL'!W161","v":143.2090411983165},{"$f":"'ITCER GLOBAL'!X161","v":210.46211852315179},{"$f":"'ITCER GLOBAL'!Y161","v":104.21528819258954},{"$f":"'ITCER GLOBAL'!AA161","v":168.79662827426856},{"$f":"'ITCER GLOBAL'!AB161","v":96.679699933187081},{"$f":"'ITCER GLOBAL'!AC161","v":131.10197563556898},{"$f":"'ITCER GLOBAL'!AD161","v":130.12123941704704},{"$f":"'ITCER GLOBAL'!AE161","v":131.32444839789585},{"$f":"'ITCER GLOBAL'!AF161","v":196.1760478302794},{"$f":"'ITCER GLOBAL'!AG161","v":90.861015007936643},null,{"$f":"IF(EFECTOS!$N$9=\"COSTA RICA\",LOOKUP(1,GEfectos!$C$4:$I$4,GEfectos!C161:I161),IF(EFECTOS!$N$9=\"EL SALVADOR\",LOOKUP(2,GEfectos!$C$4:$I$4,GEfectos!C161:I161),IF(EFECTOS!$N$9=\"GUATEMALA\",LOOKUP(3,GEfectos!$C$4:$I$4,GEfectos!C161:I161),IF(EFECTOS!$N$9=\"HONDURAS\",LOOKUP(4,GEfectos!$C$4:$I$4,GEfectos!C161:I161),IF(EFECTOS!$N$9=\"NICARAGUA\",LOOKUP(5,GEfectos!$C$4:$I$4,GEfectos!C161:I161),IF(EFECTOS!$N$9=\"REPÚBLICA \nDOMINICANA\",LOOKUP(6,$C$4:$I$4,C161:I161),IF(EFECTOS!$N$9=\"PANAMÁ\",LOOKUP(7,GEfectos!$C$4:$I$4,GEfectos!C161:I161))))))))","v":99.318434314906128},{"$f":"IF(EFECTOS!$N$9=\"COSTA RICA\",LOOKUP(1,GEfectos!$J$4:$P$4,GEfectos!J161:P161),IF(EFECTOS!$N$9=\"EL SALVADOR\",LOOKUP(2,GEfectos!$J$4:$P$4,GEfectos!J161:P161),IF(EFECTOS!$N$9=\"GUATEMALA\",LOOKUP(3,GEfectos!$J$4:$P$4,GEfectos!J161:P161),IF(EFECTOS!$N$9=\"HONDURAS\",LOOKUP(4,GEfectos!$J$4:$P$4,GEfectos!J161:P161),IF(EFECTOS!$N$9=\"NICARAGUA\",LOOKUP(5,GEfectos!$J$4:$P$4,GEfectos!J161:P161),IF(EFECTOS!$N$9=\"REPÚBLICA \nDOMINICANA\",LOOKUP(6,$J$4:$P$4,J161:P161),IF(EFECTOS!$N$9=\"PANAMÁ\",LOOKUP(7,GEfectos!$J$4:$P$4,GEfectos!J161:P161))))))))","v":167.6461683783557},{"$f":"IF(EFECTOS!$N$9=\"COSTA RICA\",LOOKUP(1,GEfectos!$Q$4:$W$4,GEfectos!Q161:W161),IF(EFECTOS!$N$9=\"EL SALVADOR\",LOOKUP(2,GEfectos!$Q$4:$W$4,GEfectos!Q161:W161),IF(EFECTOS!$N$9=\"GUATEMALA\",LOOKUP(3,GEfectos!$Q$4:$W$4,GEfectos!Q161:W161),IF(EFECTOS!$N$9=\"HONDURAS\",LOOKUP(4,GEfectos!$Q$4:$W$4,GEfectos!Q161:W161),IF(EFECTOS!$N$9=\"NICARAGUA\",LOOKUP(5,GEfectos!$Q$4:$W$4,GEfectos!Q161:W161),IF(EFECTOS!$N$9=\"REPÚBLICA \nDOMINICANA\",LOOKUP(6,$Q$4:$W$4,Q161:W161),IF(EFECTOS!$N$9=\"PANAMÁ\",LOOKUP(7,GEfectos!$Q$4:$W$4,GEfectos!Q161:W161))))))))","v":168.79662827426856},100]
[2008,{"$f":"'ITCER GLOBAL'!B162","v":"Enero"},{"$f":"'ITCER GLOBAL'!C162","v":99.018804441967177},{"$f":"'ITCER GLOBAL'!D162","v":102.6354465955848},{"$f":"'ITCER GLOBAL'!E162","v":76.75754944447948},{"$f":"'ITCER GLOBAL'!F162","v":97.877371005612574},{"$f":"'ITCER GLOBAL'!G162","v":108.59959406296093},{"$f":"'ITCER GLOBAL'!H162","v":113.36302406502131},{"$f":"'ITCER GLOBAL'!I162","v":114.00209341859485},{"$f":"'ITCER GLOBAL'!S162","v":167.34112514410279},{"$f":"'ITCER GLOBAL'!T162","v":99.590740508349867},{"$f":"'ITCER GLOBAL'!U162","v":100.73910021905337},{"$f":"'ITCER GLOBAL'!V162","v":127.43655870924988},{"$f":"'ITCER GLOBAL'!W162","v":143.80309793761285},{"$f":"'ITCER GLOBAL'!X162","v":213.32812355103277},{"$f":"'ITCER GLOBAL'!Y162","v":105.10286049035615},{"$f":"'ITCER GLOBAL'!AA162","v":168.99933915297663},{"$f":"'ITCER GLOBAL'!AB162","v":97.033475092448327},{"$f":"'ITCER GLOBAL'!AC162","v":131.24324701366388},{"$f":"'ITCER GLOBAL'!AD162","v":130.20022646699644},{"$f":"'ITCER GLOBAL'!AE162","v":132.41587059178377},{"$f":"'ITCER GLOBAL'!AF162","v":188.18139804445829},{"$f":"'ITCER GLOBAL'!AG162","v":92.193798673887201},null,{"$f":"IF(EFECTOS!$N$9=\"COSTA RICA\",LOOKUP(1,GEfectos!$C$4:$I$4,GEfectos!C162:I162),IF(EFECTOS!$N$9=\"EL SALVADOR\",LOOKUP(2,GEfectos!$C$4:$I$4,GEfectos!C162:I162),IF(EFECTOS!$N$9=\"GUATEMALA\",LOOKUP(3,GEfectos!$C$4:$I$4,GEfectos!C162:I162),IF(EFECTOS!$N$9=\"HONDURAS\",LOOKUP(4,GEfectos!$C$4:$I$4,GEfectos!C162:I162),IF(EFECTOS!$N$9=\"NICARAGUA\",LOOKUP(5,GEfectos!$C$4:$I$4,GEfectos!C162:I162),IF(EFECTOS!$N$9=\"REPÚBLICA \nDOMINICANA\",LOOKUP(6,$C$4:$I$4,C162:I162),IF(EFECTOS!$N$9=\"PANAMÁ\",LOOKUP(7,GEfectos!$C$4:$I$4,GEfectos!C162:I162))))))))","v":99.018804441967177},{"$f":"IF(EFECTOS!$N$9=\"COSTA RICA\",LOOKUP(1,GEfectos!$J$4:$P$4,GEfectos!J162:P162),IF(EFECTOS!$N$9=\"EL SALVADOR\",LOOKUP(2,GEfectos!$J$4:$P$4,GEfectos!J162:P162),IF(EFECTOS!$N$9=\"GUATEMALA\",LOOKUP(3,GEfectos!$J$4:$P$4,GEfectos!J162:P162),IF(EFECTOS!$N$9=\"HONDURAS\",LOOKUP(4,GEfectos!$J$4:$P$4,GEfectos!J162:P162),IF(EFECTOS!$N$9=\"NICARAGUA\",LOOKUP(5,GEfectos!$J$4:$P$4,GEfectos!J162:P162),IF(EFECTOS!$N$9=\"REPÚBLICA \nDOMINICANA\",LOOKUP(6,$J$4:$P$4,J162:P162),IF(EFECTOS!$N$9=\"PANAMÁ\",LOOKUP(7,GEfectos!$J$4:$P$4,GEfectos!J162:P162))))))))","v":167.34112514410279},{"$f":"IF(EFECTOS!$N$9=\"COSTA RICA\",LOOKUP(1,GEfectos!$Q$4:$W$4,GEfectos!Q162:W162),IF(EFECTOS!$N$9=\"EL SALVADOR\",LOOKUP(2,GEfectos!$Q$4:$W$4,GEfectos!Q162:W162),IF(EFECTOS!$N$9=\"GUATEMALA\",LOOKUP(3,GEfectos!$Q$4:$W$4,GEfectos!Q162:W162),IF(EFECTOS!$N$9=\"HONDURAS\",LOOKUP(4,GEfectos!$Q$4:$W$4,GEfectos!Q162:W162),IF(EFECTOS!$N$9=\"NICARAGUA\",LOOKUP(5,GEfectos!$Q$4:$W$4,GEfectos!Q162:W162),IF(EFECTOS!$N$9=\"REPÚBLICA \nDOMINICANA\",LOOKUP(6,$Q$4:$W$4,Q162:W162),IF(EFECTOS!$N$9=\"PANAMÁ\",LOOKUP(7,GEfectos!$Q$4:$W$4,GEfectos!Q162:W162))))))))","v":168.99933915297663},100]
[null,{"$f":"'ITCER GLOBAL'!B163","v":"Febrero"},{"$f":"'ITCER GLOBAL'!C163","v":98.737593282003829},{"$f":"'ITCER GLOBAL'!D163","v":102.68931143402116},{"$f":"'ITCER GLOBAL'!E163","v":77.139446543477746},{"$f":"'ITCER GLOBAL'!F163","v":97.600674345119501},{"$f":"'ITCER GLOBAL'!G163","v":108.01700833315358},{"$f":"'ITCER GLOBAL'!H163","v":114.69619567010011},{"$f":"'ITCER GLOBAL'!I163","v":114.13155728175757},{"$f":"'ITCER GLOBAL'!S163","v":167.58096579500776},{"$f":"'ITCER GLOBAL'!T163","v":99.827715286915989},{"$f":"'ITCER GLOBAL'!U163","v":101.32040168328476},{"$f":"'ITCER GLOBAL'!V163","v":127.69757990641412},{"$f":"'ITCER GLOBAL'!W163","v":145.07848080894846},{"$f":"'ITCER GLOBAL'!X163","v":214.59642281807868},{"$f":"'ITCER GLOBAL'!Y163","v":105.59036486855848},{"$f":"'ITCER GLOBAL'!AA163","v":169.72356751331864},{"$f":"'ITCER GLOBAL'!AB163","v":97.21334566651197},{"$f":"'ITCER GLOBAL'!AC163","v":131.34706848872452},{"$f":"'ITCER GLOBAL'!AD163","v":130.83678034320837},{"$f":"'ITCER GLOBAL'!AE163","v":134.31077480084181},{"$f":"'ITCER GLOBAL'!AF163","v":187.09986112819377},{"$f":"'ITCER GLOBAL'!AG163","v":92.516362155548819},null,{"$f":"IF(EFECTOS!$N$9=\"COSTA RICA\",LOOKUP(1,GEfectos!$C$4:$I$4,GEfectos!C163:I163),IF(EFECTOS!$N$9=\"EL SALVADOR\",LOOKUP(2,GEfectos!$C$4:$I$4,GEfectos!C163:I163),IF(EFECTOS!$N$9=\"GUATEMALA\",LOOKUP(3,GEfectos!$C$4:$I$4,GEfectos!C163:I163),IF(EFECTOS!$N$9=\"HONDURAS\",LOOKUP(4,GEfectos!$C$4:$I$4,GEfectos!C163:I163),IF(EFECTOS!$N$9=\"NICARAGUA\",LOOKUP(5,GEfectos!$C$4:$I$4,GEfectos!C163:I163),IF(EFECTOS!$N$9=\"REPÚBLICA \nDOMINICANA\",LOOKUP(6,$C$4:$I$4,C163:I163),IF(EFECTOS!$N$9=\"PANAMÁ\",LOOKUP(7,GEfectos!$C$4:$I$4,GEfectos!C163:I163))))))))","v":98.737593282003829},{"$f":"IF(EFECTOS!$N$9=\"COSTA RICA\",LOOKUP(1,GEfectos!$J$4:$P$4,GEfectos!J163:P163),IF(EFECTOS!$N$9=\"EL SALVADOR\",LOOKUP(2,GEfectos!$J$4:$P$4,GEfectos!J163:P163),IF(EFECTOS!$N$9=\"GUATEMALA\",LOOKUP(3,GEfectos!$J$4:$P$4,GEfectos!J163:P163),IF(EFECTOS!$N$9=\"HONDURAS\",LOOKUP(4,GEfectos!$J$4:$P$4,GEfectos!J163:P163),IF(EFECTOS!$N$9=\"NICARAGUA\",LOOKUP(5,GEfectos!$J$4:$P$4,GEfectos!J163:P163),IF(EFECTOS!$N$9=\"REPÚBLICA \nDOMINICANA\",LOOKUP(6,$J$4:$P$4,J163:P163),IF(EFECTOS!$N$9=\"PANAMÁ\",LOOKUP(7,GEfectos!$J$4:$P$4,GEfectos!J163:P163))))))))","v":167.58096579500776},{"$f":"IF(EFECTOS!$N$9=\"COSTA RICA\",LOOKUP(1,GEfectos!$Q$4:$W$4,GEfectos!Q163:W163),IF(EFECTOS!$N$9=\"EL SALVADOR\",LOOKUP(2,GEfectos!$Q$4:$W$4,GEfectos!Q163:W163),IF(EFECTOS!$N$9=\"GUATEMALA\",LOOKUP(3,GEfectos!$Q$4:$W$4,GEfectos!Q163:W163),IF(EFECTOS!$N$9=\"HONDURAS\",LOOKUP(4,GEfectos!$Q$4:$W$4,GEfectos!Q163:W163),IF(EFECTOS!$N$9=\"NICARAGUA\",LOOKUP(5,GEfectos!$Q$4:$W$4,GEfectos!Q163:W163),IF(EFECTOS!$N$9=\"REPÚBLICA \nDOMINICANA\",LOOKUP(6,$Q$4:$W$4,Q163:W163),IF(EFECTOS!$N$9=\"PANAMÁ\",LOOKUP(7,GEfectos!$Q$4:$W$4,GEfectos!Q163:W163))))))))","v":169.72356751331864},100]
[null,{"$f":"'ITCER GLOBAL'!B164","v":"Marzo"},{"$f":"'ITCER GLOBAL'!C164","v":99.928411964327324},{"$f":"'ITCER GLOBAL'!D164","v":103.40708812643255},{"$f":"'ITCER GLOBAL'!E164","v":76.372061886967998},{"$f":"'ITCER GLOBAL'!F164","v":98.379521738913198},{"$f":"'ITCER GLOBAL'!G164","v":108.29999637530059},{"$f":"'ITCER GLOBAL'!H164","v":114.86356801363934},{"$f":"'ITCER GLOBAL'!I164","v":114.84159622404265},{"$f":"'ITCER GLOBAL'!S164","v":169.09207268753431},{"$f":"'ITCER GLOBAL'!T164","v":100.47500724121672},{"$f":"'ITCER GLOBAL'!U164","v":100.73590130322729},{"$f":"'ITCER GLOBAL'!V164","v":128.79461882336895},{"$f":"'ITCER GLOBAL'!W164","v":146.7835663274567},{"$f":"'ITCER GLOBAL'!X164","v":216.74092369708032},{"$f":"'ITCER GLOBAL'!Y164","v":106.78192906249552},{"$f":"'ITCER GLOBAL'!AA164","v":169.21320910002774},{"$f":"'ITCER GLOBAL'!AB164","v":97.164526205755962},{"$f":"'ITCER GLOBAL'!AC164","v":131.90150797855662},{"$f":"'ITCER GLOBAL'!AD164","v":130.9160855296426},{"$f":"'ITCER GLOBAL'!AE164","v":135.53423013865662},{"$f":"'ITCER GLOBAL'!AF164","v":188.69422867949191},{"$f":"'ITCER GLOBAL'!AG164","v":92.981926909284979},null,{"$f":"IF(EFECTOS!$N$9=\"COSTA RICA\",LOOKUP(1,GEfectos!$C$4:$I$4,GEfectos!C164:I164),IF(EFECTOS!$N$9=\"EL SALVADOR\",LOOKUP(2,GEfectos!$C$4:$I$4,GEfectos!C164:I164),IF(EFECTOS!$N$9=\"GUATEMALA\",LOOKUP(3,GEfectos!$C$4:$I$4,GEfectos!C164:I164),IF(EFECTOS!$N$9=\"HONDURAS\",LOOKUP(4,GEfectos!$C$4:$I$4,GEfectos!C164:I164),IF(EFECTOS!$N$9=\"NICARAGUA\",LOOKUP(5,GEfectos!$C$4:$I$4,GEfectos!C164:I164),IF(EFECTOS!$N$9=\"REPÚBLICA \nDOMINICANA\",LOOKUP(6,$C$4:$I$4,C164:I164),IF(EFECTOS!$N$9=\"PANAMÁ\",LOOKUP(7,GEfectos!$C$4:$I$4,GEfectos!C164:I164))))))))","v":99.928411964327324},{"$f":"IF(EFECTOS!$N$9=\"COSTA RICA\",LOOKUP(1,GEfectos!$J$4:$P$4,GEfectos!J164:P164),IF(EFECTOS!$N$9=\"EL SALVADOR\",LOOKUP(2,GEfectos!$J$4:$P$4,GEfectos!J164:P164),IF(EFECTOS!$N$9=\"GUATEMALA\",LOOKUP(3,GEfectos!$J$4:$P$4,GEfectos!J164:P164),IF(EFECTOS!$N$9=\"HONDURAS\",LOOKUP(4,GEfectos!$J$4:$P$4,GEfectos!J164:P164),IF(EFECTOS!$N$9=\"NICARAGUA\",LOOKUP(5,GEfectos!$J$4:$P$4,GEfectos!J164:P164),IF(EFECTOS!$N$9=\"REPÚBLICA \nDOMINICANA\",LOOKUP(6,$J$4:$P$4,J164:P164),IF(EFECTOS!$N$9=\"PANAMÁ\",LOOKUP(7,GEfectos!$J$4:$P$4,GEfectos!J164:P164))))))))","v":169.09207268753431},{"$f":"IF(EFECTOS!$N$9=\"COSTA RICA\",LOOKUP(1,GEfectos!$Q$4:$W$4,GEfectos!Q164:W164),IF(EFECTOS!$N$9=\"EL SALVADOR\",LOOKUP(2,GEfectos!$Q$4:$W$4,GEfectos!Q164:W164),IF(EFECTOS!$N$9=\"GUATEMALA\",LOOKUP(3,GEfectos!$Q$4:$W$4,GEfectos!Q164:W164),IF(EFECTOS!$N$9=\"HONDURAS\",LOOKUP(4,GEfectos!$Q$4:$W$4,GEfectos!Q164:W164),IF(EFECTOS!$N$9=\"NICARAGUA\",LOOKUP(5,GEfectos!$Q$4:$W$4,GEfectos!Q164:W164),IF(EFECTOS!$N$9=\"REPÚBLICA \nDOMINICANA\",LOOKUP(6,$Q$4:$W$4,Q164:W164),IF(EFECTOS!$N$9=\"PANAMÁ\",LOOKUP(7,GEfectos!$Q$4:$W$4,GEfectos!Q164:W164))))))))","v":169.21320910002774},100]
[null,{"$f":"'ITCER GLOBAL'!B165","v":"Abril"},{"$f":"'ITCER GLOBAL'!C165","v":99.833149011860911},{"$f":"'ITCER GLOBAL'!D165","v":103.7077277427515},{"$f":"'ITCER GLOBAL'!E165","v":75.016480611571325},{"$f":"'ITCER GLOBAL'!F165","v":98.484526229956074},{"$f":"'ITCER GLOBAL'!G165","v":108.37322336688733},{"$f":"'ITCER GLOBAL'!H165","v":114.1034783775322},{"$f":"'ITCER GLOBAL'!I165","v":115.43564045604275},{"$f":"'ITCER GLOBAL'!S165","v":169.4666077218555},{"$f":"'ITCER GLOBAL'!T165","v":100.92083607979285},{"$f":"'ITCER GLOBAL'!U165","v":99.777734910523719},{"$f":"'ITCER GLOBAL'!V165","v":129.37285462277976},{"$f":"'ITCER GLOBAL'!W165","v":148.03424392433487},{"$f":"'ITCER GLOBAL'!X165","v":218.17511903847227},{"$f":"'ITCER GLOBAL'!Y165","v":107.21959535621586},{"$f":"'ITCER GLOBAL'!AA165","v":169.74983700225826},{"$f":"'ITCER GLOBAL'!AB165","v":97.312744456351822},{"$f":"'ITCER GLOBAL'!AC165","v":133.00775255928622},{"$f":"'ITCER GLOBAL'!AD165","v":131.36363607080884},{"$f":"'ITCER GLOBAL'!AE165","v":136.59669734393606},{"$f":"'ITCER GLOBAL'!AF165","v":191.20812278535456},{"$f":"'ITCER GLOBAL'!AG165","v":92.882575028502146},null,{"$f":"IF(EFECTOS!$N$9=\"COSTA RICA\",LOOKUP(1,GEfectos!$C$4:$I$4,GEfectos!C165:I165),IF(EFECTOS!$N$9=\"EL SALVADOR\",LOOKUP(2,GEfectos!$C$4:$I$4,GEfectos!C165:I165),IF(EFECTOS!$N$9=\"GUATEMALA\",LOOKUP(3,GEfectos!$C$4:$I$4,GEfectos!C165:I165),IF(EFECTOS!$N$9=\"HONDURAS\",LOOKUP(4,GEfectos!$C$4:$I$4,GEfectos!C165:I165),IF(EFECTOS!$N$9=\"NICARAGUA\",LOOKUP(5,GEfectos!$C$4:$I$4,GEfectos!C165:I165),IF(EFECTOS!$N$9=\"REPÚBLICA \nDOMINICANA\",LOOKUP(6,$C$4:$I$4,C165:I165),IF(EFECTOS!$N$9=\"PANAMÁ\",LOOKUP(7,GEfectos!$C$4:$I$4,GEfectos!C165:I165))))))))","v":99.833149011860911},{"$f":"IF(EFECTOS!$N$9=\"COSTA RICA\",LOOKUP(1,GEfectos!$J$4:$P$4,GEfectos!J165:P165),IF(EFECTOS!$N$9=\"EL SALVADOR\",LOOKUP(2,GEfectos!$J$4:$P$4,GEfectos!J165:P165),IF(EFECTOS!$N$9=\"GUATEMALA\",LOOKUP(3,GEfectos!$J$4:$P$4,GEfectos!J165:P165),IF(EFECTOS!$N$9=\"HONDURAS\",LOOKUP(4,GEfectos!$J$4:$P$4,GEfectos!J165:P165),IF(EFECTOS!$N$9=\"NICARAGUA\",LOOKUP(5,GEfectos!$J$4:$P$4,GEfectos!J165:P165),IF(EFECTOS!$N$9=\"REPÚBLICA \nDOMINICANA\",LOOKUP(6,$J$4:$P$4,J165:P165),IF(EFECTOS!$N$9=\"PANAMÁ\",LOOKUP(7,GEfectos!$J$4:$P$4,GEfectos!J165:P165))))))))","v":169.4666077218555},{"$f":"IF(EFECTOS!$N$9=\"COSTA RICA\",LOOKUP(1,GEfectos!$Q$4:$W$4,GEfectos!Q165:W165),IF(EFECTOS!$N$9=\"EL SALVADOR\",LOOKUP(2,GEfectos!$Q$4:$W$4,GEfectos!Q165:W165),IF(EFECTOS!$N$9=\"GUATEMALA\",LOOKUP(3,GEfectos!$Q$4:$W$4,GEfectos!Q165:W165),IF(EFECTOS!$N$9=\"HONDURAS\",LOOKUP(4,GEfectos!$Q$4:$W$4,GEfectos!Q165:W165),IF(EFECTOS!$N$9=\"NICARAGUA\",LOOKUP(5,GEfectos!$Q$4:$W$4,GEfectos!Q165:W165),IF(EFECTOS!$N$9=\"REPÚBLICA \nDOMINICANA\",LOOKUP(6,$Q$4:$W$4,Q165:W165),IF(EFECTOS!$N$9=\"PANAMÁ\",LOOKUP(7,GEfectos!$Q$4:$W$4,GEfectos!Q165:W165))))))))","v":169.74983700225826},100]
[null,{"$f":"'ITCER GLOBAL'!B166","v":"Mayo"},{"$f":"'ITCER GLOBAL'!C166","v":101.78788626821068},{"$f":"'ITCER GLOBAL'!D166","v":103.55326894381135},{"$f":"'ITCER GLOBAL'!E166","v":73.30211696244514},{"$f":"'ITCER GLOBAL'!F166","v":97.530719441903059},{"$f":"'ITCER GLOBAL'!G166","v":106.54133806126168},{"$f":"'ITCER GLOBAL'!H166","v":114.38740724917656},{"$f":"'ITCER GLOBAL'!I166","v":114.81723661358299},{"$f":"'ITCER GLOBAL'!S166","v":174.86242007402109},{"$f":"'ITCER GLOBAL'!T166","v":100.92928160322055},{"$f":"'ITCER GLOBAL'!U166","v":98.10711268172949},{"$f":"'ITCER GLOBAL'!V166","v":129.26703077868683},{"$f":"'ITCER GLOBAL'!W166","v":148.37564091164597},{"$f":"'ITCER GLOBAL'!X166","v":217.8874033144663},{"$f":"'ITCER GLOBAL'!Y166","v":106.70626013974515},{"$f":"'ITCER GLOBAL'!AA166","v":171.79099250893108},{"$f":"'ITCER GLOBAL'!AB166","v":97.466050693180335},{"$f":"'ITCER GLOBAL'!AC166","v":133.83939884300025},{"$f":"'ITCER GLOBAL'!AD166","v":132.53981055239566},{"$f":"'ITCER GLOBAL'!AE166","v":139.26579449033144},{"$f":"'ITCER GLOBAL'!AF166","v":190.48198447214548},{"$f":"'ITCER GLOBAL'!AG166","v":92.935750142519723},null,{"$f":"IF(EFECTOS!$N$9=\"COSTA RICA\",LOOKUP(1,GEfectos!$C$4:$I$4,GEfectos!C166:I166),IF(EFECTOS!$N$9=\"EL SALVADOR\",LOOKUP(2,GEfectos!$C$4:$I$4,GEfectos!C166:I166),IF(EFECTOS!$N$9=\"GUATEMALA\",LOOKUP(3,GEfectos!$C$4:$I$4,GEfectos!C166:I166),IF(EFECTOS!$N$9=\"HONDURAS\",LOOKUP(4,GEfectos!$C$4:$I$4,GEfectos!C166:I166),IF(EFECTOS!$N$9=\"NICARAGUA\",LOOKUP(5,GEfectos!$C$4:$I$4,GEfectos!C166:I166),IF(EFECTOS!$N$9=\"REPÚBLICA \nDOMINICANA\",LOOKUP(6,$C$4:$I$4,C166:I166),IF(EFECTOS!$N$9=\"PANAMÁ\",LOOKUP(7,GEfectos!$C$4:$I$4,GEfectos!C166:I166))))))))","v":101.78788626821068},{"$f":"IF(EFECTOS!$N$9=\"COSTA RICA\",LOOKUP(1,GEfectos!$J$4:$P$4,GEfectos!J166:P166),IF(EFECTOS!$N$9=\"EL SALVADOR\",LOOKUP(2,GEfectos!$J$4:$P$4,GEfectos!J166:P166),IF(EFECTOS!$N$9=\"GUATEMALA\",LOOKUP(3,GEfectos!$J$4:$P$4,GEfectos!J166:P166),IF(EFECTOS!$N$9=\"HONDURAS\",LOOKUP(4,GEfectos!$J$4:$P$4,GEfectos!J166:P166),IF(EFECTOS!$N$9=\"NICARAGUA\",LOOKUP(5,GEfectos!$J$4:$P$4,GEfectos!J166:P166),IF(EFECTOS!$N$9=\"REPÚBLICA \nDOMINICANA\",LOOKUP(6,$J$4:$P$4,J166:P166),IF(EFECTOS!$N$9=\"PANAMÁ\",LOOKUP(7,GEfectos!$J$4:$P$4,GEfectos!J166:P166))))))))","v":174.86242007402109},{"$f":"IF(EFECTOS!$N$9=\"COSTA RICA\",LOOKUP(1,GEfectos!$Q$4:$W$4,GEfectos!Q166:W166),IF(EFECTOS!$N$9=\"EL SALVADOR\",LOOKUP(2,GEfectos!$Q$4:$W$4,GEfectos!Q166:W166),IF(EFECTOS!$N$9=\"GUATEMALA\",LOOKUP(3,GEfectos!$Q$4:$W$4,GEfectos!Q166:W166),IF(EFECTOS!$N$9=\"HONDURAS\",LOOKUP(4,GEfectos!$Q$4:$W$4,GEfectos!Q166:W166),IF(EFECTOS!$N$9=\"NICARAGUA\",LOOKUP(5,GEfectos!$Q$4:$W$4,GEfectos!Q166:W166),IF(EFECTOS!$N$9=\"REPÚBLICA \nDOMINICANA\",LOOKUP(6,$Q$4:$W$4,Q166:W166),IF(EFECTOS!$N$9=\"PANAMÁ\",LOOKUP(7,GEfectos!$Q$4:$W$4,GEfectos!Q166:W166))))))))","v":171.79099250893108},100]
[null,{"$f":"'ITCER GLOBAL'!B167","v":"Junio"},{"$f":"'ITCER GLOBAL'!C167","v":103.07857479182182},{"$f":"'ITCER GLOBAL'!D167","v":103.29127288438734},{"$f":"'ITCER GLOBAL'!E167","v":73.398045163044301},{"$f":"'ITCER GLOBAL'!F167","v":97.161096611980199},{"$f":"'ITCER GLOBAL'!G167","v":105.66223140860328},{"$f":"'ITCER GLOBAL'!H167","v":113.2626864526616},{"$f":"'ITCER GLOBAL'!I167","v":114.41886013810495},{"$f":"'ITCER GLOBAL'!S167","v":178.17106212681378},{"$f":"'ITCER GLOBAL'!T167","v":100.932370050233},{"$f":"'ITCER GLOBAL'!U167","v":98.972626509858571},{"$f":"'ITCER GLOBAL'!V167","v":129.07565810232609},{"$f":"'ITCER GLOBAL'!W167","v":148.99056154924034},{"$f":"'ITCER GLOBAL'!X167","v":219.07457010766089},{"$f":"'ITCER GLOBAL'!Y167","v":106.72412805422292},{"$f":"'ITCER GLOBAL'!AA167","v":172.8497531971598},{"$f":"'ITCER GLOBAL'!AB167","v":97.716261240390921},{"$f":"'ITCER GLOBAL'!AC167","v":134.84368185828876},{"$f":"'ITCER GLOBAL'!AD167","v":132.84705772496471},{"$f":"'ITCER GLOBAL'!AE167","v":141.0064500465482},{"$f":"'ITCER GLOBAL'!AF167","v":193.42166159834431},{"$f":"'ITCER GLOBAL'!AG167","v":93.274944292755237},null,{"$f":"IF(EFECTOS!$N$9=\"COSTA RICA\",LOOKUP(1,GEfectos!$C$4:$I$4,GEfectos!C167:I167),IF(EFECTOS!$N$9=\"EL SALVADOR\",LOOKUP(2,GEfectos!$C$4:$I$4,GEfectos!C167:I167),IF(EFECTOS!$N$9=\"GUATEMALA\",LOOKUP(3,GEfectos!$C$4:$I$4,GEfectos!C167:I167),IF(EFECTOS!$N$9=\"HONDURAS\",LOOKUP(4,GEfectos!$C$4:$I$4,GEfectos!C167:I167),IF(EFECTOS!$N$9=\"NICARAGUA\",LOOKUP(5,GEfectos!$C$4:$I$4,GEfectos!C167:I167),IF(EFECTOS!$N$9=\"REPÚBLICA \nDOMINICANA\",LOOKUP(6,$C$4:$I$4,C167:I167),IF(EFECTOS!$N$9=\"PANAMÁ\",LOOKUP(7,GEfectos!$C$4:$I$4,GEfectos!C167:I167))))))))","v":103.07857479182182},{"$f":"IF(EFECTOS!$N$9=\"COSTA RICA\",LOOKUP(1,GEfectos!$J$4:$P$4,GEfectos!J167:P167),IF(EFECTOS!$N$9=\"EL SALVADOR\",LOOKUP(2,GEfectos!$J$4:$P$4,GEfectos!J167:P167),IF(EFECTOS!$N$9=\"GUATEMALA\",LOOKUP(3,GEfectos!$J$4:$P$4,GEfectos!J167:P167),IF(EFECTOS!$N$9=\"HONDURAS\",LOOKUP(4,GEfectos!$J$4:$P$4,GEfectos!J167:P167),IF(EFECTOS!$N$9=\"NICARAGUA\",LOOKUP(5,GEfectos!$J$4:$P$4,GEfectos!J167:P167),IF(EFECTOS!$N$9=\"REPÚBLICA \nDOMINICANA\",LOOKUP(6,$J$4:$P$4,J167:P167),IF(EFECTOS!$N$9=\"PANAMÁ\",LOOKUP(7,GEfectos!$J$4:$P$4,GEfectos!J167:P167))))))))","v":178.17106212681378},{"$f":"IF(EFECTOS!$N$9=\"COSTA RICA\",LOOKUP(1,GEfectos!$Q$4:$W$4,GEfectos!Q167:W167),IF(EFECTOS!$N$9=\"EL SALVADOR\",LOOKUP(2,GEfectos!$Q$4:$W$4,GEfectos!Q167:W167),IF(EFECTOS!$N$9=\"GUATEMALA\",LOOKUP(3,GEfectos!$Q$4:$W$4,GEfectos!Q167:W167),IF(EFECTOS!$N$9=\"HONDURAS\",LOOKUP(4,GEfectos!$Q$4:$W$4,GEfectos!Q167:W167),IF(EFECTOS!$N$9=\"NICARAGUA\",LOOKUP(5,GEfectos!$Q$4:$W$4,GEfectos!Q167:W167),IF(EFECTOS!$N$9=\"REPÚBLICA \nDOMINICANA\",LOOKUP(6,$Q$4:$W$4,Q167:W167),IF(EFECTOS!$N$9=\"PANAMÁ\",LOOKUP(7,GEfectos!$Q$4:$W$4,GEfectos!Q167:W167))))))))","v":172.8497531971598},100]
[null,{"$f":"'ITCER GLOBAL'!B168","v":"Julio"},{"$f":"'ITCER GLOBAL'!C168","v":104.89111670392415},{"$f":"'ITCER GLOBAL'!D168","v":102.94734454452261},{"$f":"'ITCER GLOBAL'!E168","v":72.629394765352771},{"$f":"'ITCER GLOBAL'!F168","v":95.915238516933158},{"$f":"'ITCER GLOBAL'!G168","v":105.7391735370593},{"$f":"'ITCER GLOBAL'!H168","v":112.54752167031252},{"$f":"'ITCER GLOBAL'!I168","v":114.72016557131705},{"$f":"'ITCER GLOBAL'!S168","v":184.32368852372738},{"$f":"'ITCER GLOBAL'!T168","v":101.15048389720076},{"$f":"'ITCER GLOBAL'!U168","v":98.50032447221453},{"$f":"'ITCER GLOBAL'!V168","v":129.25665879156648},{"$f":"'ITCER GLOBAL'!W168","v":149.78971014437533},{"$f":"'ITCER GLOBAL'!X168","v":220.13696624252881},{"$f":"'ITCER GLOBAL'!Y168","v":106.84523137369001},{"$f":"'ITCER GLOBAL'!AA168","v":175.72859772674298},{"$f":"'ITCER GLOBAL'!AB168","v":98.254582810977951},{"$f":"'ITCER GLOBAL'!AC168","v":135.62046715444097},{"$f":"'ITCER GLOBAL'!AD168","v":134.76133802111863},{"$f":"'ITCER GLOBAL'!AE168","v":141.65961879007619},{"$f":"'ITCER GLOBAL'!AF168","v":195.59468122930329},{"$f":"'ITCER GLOBAL'!AG168","v":93.135527517407994},null,{"$f":"IF(EFECTOS!$N$9=\"COSTA RICA\",LOOKUP(1,GEfectos!$C$4:$I$4,GEfectos!C168:I168),IF(EFECTOS!$N$9=\"EL SALVADOR\",LOOKUP(2,GEfectos!$C$4:$I$4,GEfectos!C168:I168),IF(EFECTOS!$N$9=\"GUATEMALA\",LOOKUP(3,GEfectos!$C$4:$I$4,GEfectos!C168:I168),IF(EFECTOS!$N$9=\"HONDURAS\",LOOKUP(4,GEfectos!$C$4:$I$4,GEfectos!C168:I168),IF(EFECTOS!$N$9=\"NICARAGUA\",LOOKUP(5,GEfectos!$C$4:$I$4,GEfectos!C168:I168),IF(EFECTOS!$N$9=\"REPÚBLICA \nDOMINICANA\",LOOKUP(6,$C$4:$I$4,C168:I168),IF(EFECTOS!$N$9=\"PANAMÁ\",LOOKUP(7,GEfectos!$C$4:$I$4,GEfectos!C168:I168))))))))","v":104.89111670392415},{"$f":"IF(EFECTOS!$N$9=\"COSTA RICA\",LOOKUP(1,GEfectos!$J$4:$P$4,GEfectos!J168:P168),IF(EFECTOS!$N$9=\"EL SALVADOR\",LOOKUP(2,GEfectos!$J$4:$P$4,GEfectos!J168:P168),IF(EFECTOS!$N$9=\"GUATEMALA\",LOOKUP(3,GEfectos!$J$4:$P$4,GEfectos!J168:P168),IF(EFECTOS!$N$9=\"HONDURAS\",LOOKUP(4,GEfectos!$J$4:$P$4,GEfectos!J168:P168),IF(EFECTOS!$N$9=\"NICARAGUA\",LOOKUP(5,GEfectos!$J$4:$P$4,GEfectos!J168:P168),IF(EFECTOS!$N$9=\"REPÚBLICA \nDOMINICANA\",LOOKUP(6,$J$4:$P$4,J168:P168),IF(EFECTOS!$N$9=\"PANAMÁ\",LOOKUP(7,GEfectos!$J$4:$P$4,GEfectos!J168:P168))))))))","v":184.32368852372738},{"$f":"IF(EFECTOS!$N$9=\"COSTA RICA\",LOOKUP(1,GEfectos!$Q$4:$W$4,GEfectos!Q168:W168),IF(EFECTOS!$N$9=\"EL SALVADOR\",LOOKUP(2,GEfectos!$Q$4:$W$4,GEfectos!Q168:W168),IF(EFECTOS!$N$9=\"GUATEMALA\",LOOKUP(3,GEfectos!$Q$4:$W$4,GEfectos!Q168:W168),IF(EFECTOS!$N$9=\"HONDURAS\",LOOKUP(4,GEfectos!$Q$4:$W$4,GEfectos!Q168:W168),IF(EFECTOS!$N$9=\"NICARAGUA\",LOOKUP(5,GEfectos!$Q$4:$W$4,GEfectos!Q168:W168),IF(EFECTOS!$N$9=\"REPÚBLICA \nDOMINICANA\",LOOKUP(6,$Q$4:$W$4,Q168:W168),IF(EFECTOS!$N$9=\"PANAMÁ\",LOOKUP(7,GEfectos!$Q$4:$W$4,GEfectos!Q168:W168))))))))","v":175.72859772674298},100]
[null,{"$f":"'ITCER GLOBAL'!B169","v":"Agosto"},{"$f":"'ITCER GLOBAL'!C169","v":104.77473354970486},{"$f":"'ITCER GLOBAL'!D169","v":102.40253322415472},{"$f":"'ITCER GLOBAL'!E169","v":71.405885577591619},{"$f":"'ITCER GLOBAL'!F169","v":94.320152347537075},{"$f":"'ITCER GLOBAL'!G169","v":105.13722707528301},{"$f":"'ITCER GLOBAL'!H169","v":112.62026426696322},{"$f":"'ITCER GLOBAL'!I169","v":112.73354601265426},{"$f":"'ITCER GLOBAL'!S169","v":187.61875370650199},{"$f":"'ITCER GLOBAL'!T169","v":100.62537049103524},{"$f":"'ITCER GLOBAL'!U169","v":97.329664913638439},{"$f":"'ITCER GLOBAL'!V169","v":128.27979675719573},{"$f":"'ITCER GLOBAL'!W169","v":149.36574329503651},{"$f":"'ITCER GLOBAL'!X169","v":220.84287267160084},{"$f":"'ITCER GLOBAL'!Y169","v":105.42879227297985},{"$f":"'ITCER GLOBAL'!AA169","v":179.06870039187086},{"$f":"'ITCER GLOBAL'!AB169","v":98.264532451331704},{"$f":"'ITCER GLOBAL'!AC169","v":136.30482155126739},{"$f":"'ITCER GLOBAL'!AD169","v":136.00465389891346},{"$f":"'ITCER GLOBAL'!AE169","v":142.06741746011988},{"$f":"'ITCER GLOBAL'!AF169","v":196.09514691609934},{"$f":"'ITCER GLOBAL'!AG169","v":93.520337115223498},null,{"$f":"IF(EFECTOS!$N$9=\"COSTA RICA\",LOOKUP(1,GEfectos!$C$4:$I$4,GEfectos!C169:I169),IF(EFECTOS!$N$9=\"EL SALVADOR\",LOOKUP(2,GEfectos!$C$4:$I$4,GEfectos!C169:I169),IF(EFECTOS!$N$9=\"GUATEMALA\",LOOKUP(3,GEfectos!$C$4:$I$4,GEfectos!C169:I169),IF(EFECTOS!$N$9=\"HONDURAS\",LOOKUP(4,GEfectos!$C$4:$I$4,GEfectos!C169:I169),IF(EFECTOS!$N$9=\"NICARAGUA\",LOOKUP(5,GEfectos!$C$4:$I$4,GEfectos!C169:I169),IF(EFECTOS!$N$9=\"REPÚBLICA \nDOMINICANA\",LOOKUP(6,$C$4:$I$4,C169:I169),IF(EFECTOS!$N$9=\"PANAMÁ\",LOOKUP(7,GEfectos!$C$4:$I$4,GEfectos!C169:I169))))))))","v":104.77473354970486},{"$f":"IF(EFECTOS!$N$9=\"COSTA RICA\",LOOKUP(1,GEfectos!$J$4:$P$4,GEfectos!J169:P169),IF(EFECTOS!$N$9=\"EL SALVADOR\",LOOKUP(2,GEfectos!$J$4:$P$4,GEfectos!J169:P169),IF(EFECTOS!$N$9=\"GUATEMALA\",LOOKUP(3,GEfectos!$J$4:$P$4,GEfectos!J169:P169),IF(EFECTOS!$N$9=\"HONDURAS\",LOOKUP(4,GEfectos!$J$4:$P$4,GEfectos!J169:P169),IF(EFECTOS!$N$9=\"NICARAGUA\",LOOKUP(5,GEfectos!$J$4:$P$4,GEfectos!J169:P169),IF(EFECTOS!$N$9=\"REPÚBLICA \nDOMINICANA\",LOOKUP(6,$J$4:$P$4,J169:P169),IF(EFECTOS!$N$9=\"PANAMÁ\",LOOKUP(7,GEfectos!$J$4:$P$4,GEfectos!J169:P169))))))))","v":187.61875370650199},{"$f":"IF(EFECTOS!$N$9=\"COSTA RICA\",LOOKUP(1,GEfectos!$Q$4:$W$4,GEfectos!Q169:W169),IF(EFECTOS!$N$9=\"EL SALVADOR\",LOOKUP(2,GEfectos!$Q$4:$W$4,GEfectos!Q169:W169),IF(EFECTOS!$N$9=\"GUATEMALA\",LOOKUP(3,GEfectos!$Q$4:$W$4,GEfectos!Q169:W169),IF(EFECTOS!$N$9=\"HONDURAS\",LOOKUP(4,GEfectos!$Q$4:$W$4,GEfectos!Q169:W169),IF(EFECTOS!$N$9=\"NICARAGUA\",LOOKUP(5,GEfectos!$Q$4:$W$4,GEfectos!Q169:W169),IF(EFECTOS!$N$9=\"REPÚBLICA \nDOMINICANA\",LOOKUP(6,$Q$4:$W$4,Q169:W169),IF(EFECTOS!$N$9=\"PANAMÁ\",LOOKUP(7,GEfectos!$Q$4:$W$4,GEfectos!Q169:W169))))))))","v":179.06870039187086},100]
[null,{"$f":"'ITCER GLOBAL'!B170","v":"Septiembre"},{"$f":"'ITCER GLOBAL'!C170","v":102.80256428626683},{"$f":"'ITCER GLOBAL'!D170","v":101.707573885141},{"$f":"'ITCER GLOBAL'!E170","v":71.084480640460811},{"$f":"'ITCER GLOBAL'!F170","v":93.203914509789911},{"$f":"'ITCER GLOBAL'!G170","v":103.29300673170997},{"$f":"'ITCER GLOBAL'!H170","v":110.29327152841667},{"$f":"'ITCER GLOBAL'!I170","v":109.97842885277829},{"$f":"'ITCER GLOBAL'!S170","v":185.78873529754333},{"$f":"'ITCER GLOBAL'!T170","v":99.461954244627009},{"$f":"'ITCER GLOBAL'!U170","v":96.679068222132386},{"$f":"'ITCER GLOBAL'!V170","v":126.90530139256961},{"$f":"'ITCER GLOBAL'!W170","v":146.86221215538603},{"$f":"'ITCER GLOBAL'!X170","v":218.80975899853502},{"$f":"'ITCER GLOBAL'!Y170","v":103.54917969835799},{"$f":"'ITCER GLOBAL'!AA170","v":180.72383367810841},{"$f":"'ITCER GLOBAL'!AB170","v":97.792082187458348},{"$f":"'ITCER GLOBAL'!AC170","v":136.00587266175131},{"$f":"'ITCER GLOBAL'!AD170","v":136.15876764407764},{"$f":"'ITCER GLOBAL'!AE170","v":142.18020832411372},{"$f":"'ITCER GLOBAL'!AF170","v":198.38903676201085},{"$f":"'ITCER GLOBAL'!AG170","v":94.154081649023396},null,{"$f":"IF(EFECTOS!$N$9=\"COSTA RICA\",LOOKUP(1,GEfectos!$C$4:$I$4,GEfectos!C170:I170),IF(EFECTOS!$N$9=\"EL SALVADOR\",LOOKUP(2,GEfectos!$C$4:$I$4,GEfectos!C170:I170),IF(EFECTOS!$N$9=\"GUATEMALA\",LOOKUP(3,GEfectos!$C$4:$I$4,GEfectos!C170:I170),IF(EFECTOS!$N$9=\"HONDURAS\",LOOKUP(4,GEfectos!$C$4:$I$4,GEfectos!C170:I170),IF(EFECTOS!$N$9=\"NICARAGUA\",LOOKUP(5,GEfectos!$C$4:$I$4,GEfectos!C170:I170),IF(EFECTOS!$N$9=\"REPÚBLICA \nDOMINICANA\",LOOKUP(6,$C$4:$I$4,C170:I170),IF(EFECTOS!$N$9=\"PANAMÁ\",LOOKUP(7,GEfectos!$C$4:$I$4,GEfectos!C170:I170))))))))","v":102.80256428626683},{"$f":"IF(EFECTOS!$N$9=\"COSTA RICA\",LOOKUP(1,GEfectos!$J$4:$P$4,GEfectos!J170:P170),IF(EFECTOS!$N$9=\"EL SALVADOR\",LOOKUP(2,GEfectos!$J$4:$P$4,GEfectos!J170:P170),IF(EFECTOS!$N$9=\"GUATEMALA\",LOOKUP(3,GEfectos!$J$4:$P$4,GEfectos!J170:P170),IF(EFECTOS!$N$9=\"HONDURAS\",LOOKUP(4,GEfectos!$J$4:$P$4,GEfectos!J170:P170),IF(EFECTOS!$N$9=\"NICARAGUA\",LOOKUP(5,GEfectos!$J$4:$P$4,GEfectos!J170:P170),IF(EFECTOS!$N$9=\"REPÚBLICA \nDOMINICANA\",LOOKUP(6,$J$4:$P$4,J170:P170),IF(EFECTOS!$N$9=\"PANAMÁ\",LOOKUP(7,GEfectos!$J$4:$P$4,GEfectos!J170:P170))))))))","v":185.78873529754333},{"$f":"IF(EFECTOS!$N$9=\"COSTA RICA\",LOOKUP(1,GEfectos!$Q$4:$W$4,GEfectos!Q170:W170),IF(EFECTOS!$N$9=\"EL SALVADOR\",LOOKUP(2,GEfectos!$Q$4:$W$4,GEfectos!Q170:W170),IF(EFECTOS!$N$9=\"GUATEMALA\",LOOKUP(3,GEfectos!$Q$4:$W$4,GEfectos!Q170:W170),IF(EFECTOS!$N$9=\"HONDURAS\",LOOKUP(4,GEfectos!$Q$4:$W$4,GEfectos!Q170:W170),IF(EFECTOS!$N$9=\"NICARAGUA\",LOOKUP(5,GEfectos!$Q$4:$W$4,GEfectos!Q170:W170),IF(EFECTOS!$N$9=\"REPÚBLICA \nDOMINICANA\",LOOKUP(6,$Q$4:$W$4,Q170:W170),IF(EFECTOS!$N$9=\"PANAMÁ\",LOOKUP(7,GEfectos!$Q$4:$W$4,GEfectos!Q170:W170))))))))","v":180.72383367810841},100]
[null,{"$f":"'ITCER GLOBAL'!B171","v":"Octubre"},{"$f":"'ITCER GLOBAL'!C171","v":98.8144557823871},{"$f":"'ITCER GLOBAL'!D171","v":99.243897825507048},{"$f":"'ITCER GLOBAL'!E171","v":68.784334719827527},{"$f":"'ITCER GLOBAL'!F171","v":90.152363218377602},{"$f":"'ITCER GLOBAL'!G171","v":100.42953145841552},{"$f":"'ITCER GLOBAL'!H171","v":108.46943215774316},{"$f":"'ITCER GLOBAL'!I171","v":106.1584900364315},{"$f":"'ITCER GLOBAL'!S171","v":181.25516159617817},{"$f":"'ITCER GLOBAL'!T171","v":96.883356695992092},{"$f":"'ITCER GLOBAL'!U171","v":94.384455271987349},{"$f":"'ITCER GLOBAL'!V171","v":123.99111819330852},{"$f":"'ITCER GLOBAL'!W171","v":142.93120550007836},{"$f":"'ITCER GLOBAL'!X171","v":214.26106317739402},{"$f":"'ITCER GLOBAL'!Y171","v":100.30364790650366},{"$f":"'ITCER GLOBAL'!AA171","v":183.42980301925164},{"$f":"'ITCER GLOBAL'!AB171","v":97.621474789648715},{"$f":"'ITCER GLOBAL'!AC171","v":137.2179518148053},{"$f":"'ITCER GLOBAL'!AD171","v":137.53507258923733},{"$f":"'ITCER GLOBAL'!AE171","v":142.31989677185874},{"$f":"'ITCER GLOBAL'!AF171","v":197.53128500368834},{"$f":"'ITCER GLOBAL'!AG171","v":94.48481027949947},null,{"$f":"IF(EFECTOS!$N$9=\"COSTA RICA\",LOOKUP(1,GEfectos!$C$4:$I$4,GEfectos!C171:I171),IF(EFECTOS!$N$9=\"EL SALVADOR\",LOOKUP(2,GEfectos!$C$4:$I$4,GEfectos!C171:I171),IF(EFECTOS!$N$9=\"GUATEMALA\",LOOKUP(3,GEfectos!$C$4:$I$4,GEfectos!C171:I171),IF(EFECTOS!$N$9=\"HONDURAS\",LOOKUP(4,GEfectos!$C$4:$I$4,GEfectos!C171:I171),IF(EFECTOS!$N$9=\"NICARAGUA\",LOOKUP(5,GEfectos!$C$4:$I$4,GEfectos!C171:I171),IF(EFECTOS!$N$9=\"REPÚBLICA \nDOMINICANA\",LOOKUP(6,$C$4:$I$4,C171:I171),IF(EFECTOS!$N$9=\"PANAMÁ\",LOOKUP(7,GEfectos!$C$4:$I$4,GEfectos!C171:I171))))))))","v":98.8144557823871},{"$f":"IF(EFECTOS!$N$9=\"COSTA RICA\",LOOKUP(1,GEfectos!$J$4:$P$4,GEfectos!J171:P171),IF(EFECTOS!$N$9=\"EL SALVADOR\",LOOKUP(2,GEfectos!$J$4:$P$4,GEfectos!J171:P171),IF(EFECTOS!$N$9=\"GUATEMALA\",LOOKUP(3,GEfectos!$J$4:$P$4,GEfectos!J171:P171),IF(EFECTOS!$N$9=\"HONDURAS\",LOOKUP(4,GEfectos!$J$4:$P$4,GEfectos!J171:P171),IF(EFECTOS!$N$9=\"NICARAGUA\",LOOKUP(5,GEfectos!$J$4:$P$4,GEfectos!J171:P171),IF(EFECTOS!$N$9=\"REPÚBLICA \nDOMINICANA\",LOOKUP(6,$J$4:$P$4,J171:P171),IF(EFECTOS!$N$9=\"PANAMÁ\",LOOKUP(7,GEfectos!$J$4:$P$4,GEfectos!J171:P171))))))))","v":181.25516159617817},{"$f":"IF(EFECTOS!$N$9=\"COSTA RICA\",LOOKUP(1,GEfectos!$Q$4:$W$4,GEfectos!Q171:W171),IF(EFECTOS!$N$9=\"EL SALVADOR\",LOOKUP(2,GEfectos!$Q$4:$W$4,GEfectos!Q171:W171),IF(EFECTOS!$N$9=\"GUATEMALA\",LOOKUP(3,GEfectos!$Q$4:$W$4,GEfectos!Q171:W171),IF(EFECTOS!$N$9=\"HONDURAS\",LOOKUP(4,GEfectos!$Q$4:$W$4,GEfectos!Q171:W171),IF(EFECTOS!$N$9=\"NICARAGUA\",LOOKUP(5,GEfectos!$Q$4:$W$4,GEfectos!Q171:W171),IF(EFECTOS!$N$9=\"REPÚBLICA \nDOMINICANA\",LOOKUP(6,$Q$4:$W$4,Q171:W171),IF(EFECTOS!$N$9=\"PANAMÁ\",LOOKUP(7,GEfectos!$Q$4:$W$4,GEfectos!Q171:W171))))))))","v":183.42980301925164},100]
[null,{"$f":"'ITCER GLOBAL'!B172","v":"Noviembre"},{"$f":"'ITCER GLOBAL'!C172","v":95.431104319826233},{"$f":"'ITCER GLOBAL'!D172","v":98.16748889059555},{"$f":"'ITCER GLOBAL'!E172","v":68.540869061671927},{"$f":"'ITCER GLOBAL'!F172","v":88.776122530148939},{"$f":"'ITCER GLOBAL'!G172","v":99.265561909023418},{"$f":"'ITCER GLOBAL'!H172","v":110.5093112798525},{"$f":"'ITCER GLOBAL'!I172","v":104.82520355705699},{"$f":"'ITCER GLOBAL'!S172","v":179.14294722742412},{"$f":"'ITCER GLOBAL'!T172","v":96.090063199751},{"$f":"'ITCER GLOBAL'!U172","v":94.929563928840452},{"$f":"'ITCER GLOBAL'!V172","v":123.00084518728671},{"$f":"'ITCER GLOBAL'!W172","v":142.11078221032108},{"$f":"'ITCER GLOBAL'!X172","v":213.91704041627969},{"$f":"'ITCER GLOBAL'!Y172","v":99.376676599591079},{"$f":"'ITCER GLOBAL'!AA172","v":187.7196627915437},{"$f":"'ITCER GLOBAL'!AB172","v":97.883794610291233},{"$f":"'ITCER GLOBAL'!AC172","v":138.50067153864714},{"$f":"'ITCER GLOBAL'!AD172","v":138.55172053219022},{"$f":"'ITCER GLOBAL'!AE172","v":143.16222008652423},{"$f":"'ITCER GLOBAL'!AF172","v":193.57377033556807},{"$f":"'ITCER GLOBAL'!AG172","v":94.802273906866063},null,{"$f":"IF(EFECTOS!$N$9=\"COSTA RICA\",LOOKUP(1,GEfectos!$C$4:$I$4,GEfectos!C172:I172),IF(EFECTOS!$N$9=\"EL SALVADOR\",LOOKUP(2,GEfectos!$C$4:$I$4,GEfectos!C172:I172),IF(EFECTOS!$N$9=\"GUATEMALA\",LOOKUP(3,GEfectos!$C$4:$I$4,GEfectos!C172:I172),IF(EFECTOS!$N$9=\"HONDURAS\",LOOKUP(4,GEfectos!$C$4:$I$4,GEfectos!C172:I172),IF(EFECTOS!$N$9=\"NICARAGUA\",LOOKUP(5,GEfectos!$C$4:$I$4,GEfectos!C172:I172),IF(EFECTOS!$N$9=\"REPÚBLICA \nDOMINICANA\",LOOKUP(6,$C$4:$I$4,C172:I172),IF(EFECTOS!$N$9=\"PANAMÁ\",LOOKUP(7,GEfectos!$C$4:$I$4,GEfectos!C172:I172))))))))","v":95.431104319826233},{"$f":"IF(EFECTOS!$N$9=\"COSTA RICA\",LOOKUP(1,GEfectos!$J$4:$P$4,GEfectos!J172:P172),IF(EFECTOS!$N$9=\"EL SALVADOR\",LOOKUP(2,GEfectos!$J$4:$P$4,GEfectos!J172:P172),IF(EFECTOS!$N$9=\"GUATEMALA\",LOOKUP(3,GEfectos!$J$4:$P$4,GEfectos!J172:P172),IF(EFECTOS!$N$9=\"HONDURAS\",LOOKUP(4,GEfectos!$J$4:$P$4,GEfectos!J172:P172),IF(EFECTOS!$N$9=\"NICARAGUA\",LOOKUP(5,GEfectos!$J$4:$P$4,GEfectos!J172:P172),IF(EFECTOS!$N$9=\"REPÚBLICA \nDOMINICANA\",LOOKUP(6,$J$4:$P$4,J172:P172),IF(EFECTOS!$N$9=\"PANAMÁ\",LOOKUP(7,GEfectos!$J$4:$P$4,GEfectos!J172:P172))))))))","v":179.14294722742412},{"$f":"IF(EFECTOS!$N$9=\"COSTA RICA\",LOOKUP(1,GEfectos!$Q$4:$W$4,GEfectos!Q172:W172),IF(EFECTOS!$N$9=\"EL SALVADOR\",LOOKUP(2,GEfectos!$Q$4:$W$4,GEfectos!Q172:W172),IF(EFECTOS!$N$9=\"GUATEMALA\",LOOKUP(3,GEfectos!$Q$4:$W$4,GEfectos!Q172:W172),IF(EFECTOS!$N$9=\"HONDURAS\",LOOKUP(4,GEfectos!$Q$4:$W$4,GEfectos!Q172:W172),IF(EFECTOS!$N$9=\"NICARAGUA\",LOOKUP(5,GEfectos!$Q$4:$W$4,GEfectos!Q172:W172),IF(EFECTOS!$N$9=\"REPÚBLICA \nDOMINICANA\",LOOKUP(6,$Q$4:$W$4,Q172:W172),IF(EFECTOS!$N$9=\"PANAMÁ\",LOOKUP(7,GEfectos!$Q$4:$W$4,GEfectos!Q172:W172))))))))","v":187.7196627915437},100]
[null,{"$f":"'ITCER GLOBAL'!B173","v":"Diciembre"},{"$f":"'ITCER GLOBAL'!C173","v":95.360721505191094},{"$f":"'ITCER GLOBAL'!D173","v":98.00530172623337},{"$f":"'ITCER GLOBAL'!E173","v":69.328009973344933},{"$f":"'ITCER GLOBAL'!F173","v":88.619948900749279},{"$f":"'ITCER GLOBAL'!G173","v":99.710631133324014},{"$f":"'ITCER GLOBAL'!H173","v":112.14325213728725},{"$f":"'ITCER GLOBAL'!I173","v":105.82967672163386},{"$f":"'ITCER GLOBAL'!S173","v":179.21926555741049},{"$f":"'ITCER GLOBAL'!T173","v":96.199302696022599},{"$f":"'ITCER GLOBAL'!U173","v":96.126641962275841},{"$f":"'ITCER GLOBAL'!V173","v":123.59752322704425},{"$f":"'ITCER GLOBAL'!W173","v":142.91138665380549},{"$f":"'ITCER GLOBAL'!X173","v":215.5561048446574},{"$f":"'ITCER GLOBAL'!Y173","v":100.43295606714946},{"$f":"'ITCER GLOBAL'!AA173","v":187.93824409943716},{"$f":"'ITCER GLOBAL'!AB173","v":98.157243538461188},{"$f":"'ITCER GLOBAL'!AC173","v":138.65484094990518},{"$f":"'ITCER GLOBAL'!AD173","v":139.46918810060299},{"$f":"'ITCER GLOBAL'!AE173","v":143.32612784560288},{"$f":"'ITCER GLOBAL'!AF173","v":192.21495786547263},{"$f":"'ITCER GLOBAL'!AG173","v":94.900560200444048},null,{"$f":"IF(EFECTOS!$N$9=\"COSTA RICA\",LOOKUP(1,GEfectos!$C$4:$I$4,GEfectos!C173:I173),IF(EFECTOS!$N$9=\"EL SALVADOR\",LOOKUP(2,GEfectos!$C$4:$I$4,GEfectos!C173:I173),IF(EFECTOS!$N$9=\"GUATEMALA\",LOOKUP(3,GEfectos!$C$4:$I$4,GEfectos!C173:I173),IF(EFECTOS!$N$9=\"HONDURAS\",LOOKUP(4,GEfectos!$C$4:$I$4,GEfectos!C173:I173),IF(EFECTOS!$N$9=\"NICARAGUA\",LOOKUP(5,GEfectos!$C$4:$I$4,GEfectos!C173:I173),IF(EFECTOS!$N$9=\"REPÚBLICA \nDOMINICANA\",LOOKUP(6,$C$4:$I$4,C173:I173),IF(EFECTOS!$N$9=\"PANAMÁ\",LOOKUP(7,GEfectos!$C$4:$I$4,GEfectos!C173:I173))))))))","v":95.360721505191094},{"$f":"IF(EFECTOS!$N$9=\"COSTA RICA\",LOOKUP(1,GEfectos!$J$4:$P$4,GEfectos!J173:P173),IF(EFECTOS!$N$9=\"EL SALVADOR\",LOOKUP(2,GEfectos!$J$4:$P$4,GEfectos!J173:P173),IF(EFECTOS!$N$9=\"GUATEMALA\",LOOKUP(3,GEfectos!$J$4:$P$4,GEfectos!J173:P173),IF(EFECTOS!$N$9=\"HONDURAS\",LOOKUP(4,GEfectos!$J$4:$P$4,GEfectos!J173:P173),IF(EFECTOS!$N$9=\"NICARAGUA\",LOOKUP(5,GEfectos!$J$4:$P$4,GEfectos!J173:P173),IF(EFECTOS!$N$9=\"REPÚBLICA \nDOMINICANA\",LOOKUP(6,$J$4:$P$4,J173:P173),IF(EFECTOS!$N$9=\"PANAMÁ\",LOOKUP(7,GEfectos!$J$4:$P$4,GEfectos!J173:P173))))))))","v":179.21926555741049},{"$f":"IF(EFECTOS!$N$9=\"COSTA RICA\",LOOKUP(1,GEfectos!$Q$4:$W$4,GEfectos!Q173:W173),IF(EFECTOS!$N$9=\"EL SALVADOR\",LOOKUP(2,GEfectos!$Q$4:$W$4,GEfectos!Q173:W173),IF(EFECTOS!$N$9=\"GUATEMALA\",LOOKUP(3,GEfectos!$Q$4:$W$4,GEfectos!Q173:W173),IF(EFECTOS!$N$9=\"HONDURAS\",LOOKUP(4,GEfectos!$Q$4:$W$4,GEfectos!Q173:W173),IF(EFECTOS!$N$9=\"NICARAGUA\",LOOKUP(5,GEfectos!$Q$4:$W$4,GEfectos!Q173:W173),IF(EFECTOS!$N$9=\"REPÚBLICA \nDOMINICANA\",LOOKUP(6,$Q$4:$W$4,Q173:W173),IF(EFECTOS!$N$9=\"PANAMÁ\",LOOKUP(7,GEfectos!$Q$4:$W$4,GEfectos!Q173:W173))))))))","v":187.93824409943716},100]
[2009,{"$f":"'ITCER GLOBAL'!B174","v":"Enero"},{"$f":"'ITCER GLOBAL'!C174","v":95.353402994337827},{"$f":"'ITCER GLOBAL'!D174","v":98.270007719187703},{"$f":"'ITCER GLOBAL'!E174","v":70.810771164876343},{"$f":"'ITCER GLOBAL'!F174","v":87.766848722202212},{"$f":"'ITCER GLOBAL'!G174","v":100.09878177091203},{"$f":"'ITCER GLOBAL'!H174","v":115.90962534275407},{"$f":"'ITCER GLOBAL'!I174","v":105.56707304803858},{"$f":"'ITCER GLOBAL'!S174","v":179.02913583521078},{"$f":"'ITCER GLOBAL'!T174","v":95.353188420183614},{"$f":"'ITCER GLOBAL'!U174","v":97.201025449336512},{"$f":"'ITCER GLOBAL'!V174","v":122.609712865281},{"$f":"'ITCER GLOBAL'!W174","v":143.50645750284764},{"$f":"'ITCER GLOBAL'!X174","v":216.08526626771996},{"$f":"'ITCER GLOBAL'!Y174","v":99.957008350366877},{"$f":"'ITCER GLOBAL'!AA174","v":187.75327383527329},{"$f":"'ITCER GLOBAL'!AB174","v":97.031831617090049},{"$f":"'ITCER GLOBAL'!AC174","v":137.26870058089452},{"$f":"'ITCER GLOBAL'!AD174","v":139.69934508342973},{"$f":"'ITCER GLOBAL'!AE174","v":143.36483917584457},{"$f":"'ITCER GLOBAL'!AF174","v":186.4256446595686},{"$f":"'ITCER GLOBAL'!AG174","v":94.685781716123898},null,{"$f":"IF(EFECTOS!$N$9=\"COSTA RICA\",LOOKUP(1,GEfectos!$C$4:$I$4,GEfectos!C174:I174),IF(EFECTOS!$N$9=\"EL SALVADOR\",LOOKUP(2,GEfectos!$C$4:$I$4,GEfectos!C174:I174),IF(EFECTOS!$N$9=\"GUATEMALA\",LOOKUP(3,GEfectos!$C$4:$I$4,GEfectos!C174:I174),IF(EFECTOS!$N$9=\"HONDURAS\",LOOKUP(4,GEfectos!$C$4:$I$4,GEfectos!C174:I174),IF(EFECTOS!$N$9=\"NICARAGUA\",LOOKUP(5,GEfectos!$C$4:$I$4,GEfectos!C174:I174),IF(EFECTOS!$N$9=\"REPÚBLICA \nDOMINICANA\",LOOKUP(6,$C$4:$I$4,C174:I174),IF(EFECTOS!$N$9=\"PANAMÁ\",LOOKUP(7,GEfectos!$C$4:$I$4,GEfectos!C174:I174))))))))","v":95.353402994337827},{"$f":"IF(EFECTOS!$N$9=\"COSTA RICA\",LOOKUP(1,GEfectos!$J$4:$P$4,GEfectos!J174:P174),IF(EFECTOS!$N$9=\"EL SALVADOR\",LOOKUP(2,GEfectos!$J$4:$P$4,GEfectos!J174:P174),IF(EFECTOS!$N$9=\"GUATEMALA\",LOOKUP(3,GEfectos!$J$4:$P$4,GEfectos!J174:P174),IF(EFECTOS!$N$9=\"HONDURAS\",LOOKUP(4,GEfectos!$J$4:$P$4,GEfectos!J174:P174),IF(EFECTOS!$N$9=\"NICARAGUA\",LOOKUP(5,GEfectos!$J$4:$P$4,GEfectos!J174:P174),IF(EFECTOS!$N$9=\"REPÚBLICA \nDOMINICANA\",LOOKUP(6,$J$4:$P$4,J174:P174),IF(EFECTOS!$N$9=\"PANAMÁ\",LOOKUP(7,GEfectos!$J$4:$P$4,GEfectos!J174:P174))))))))","v":179.02913583521078},{"$f":"IF(EFECTOS!$N$9=\"COSTA RICA\",LOOKUP(1,GEfectos!$Q$4:$W$4,GEfectos!Q174:W174),IF(EFECTOS!$N$9=\"EL SALVADOR\",LOOKUP(2,GEfectos!$Q$4:$W$4,GEfectos!Q174:W174),IF(EFECTOS!$N$9=\"GUATEMALA\",LOOKUP(3,GEfectos!$Q$4:$W$4,GEfectos!Q174:W174),IF(EFECTOS!$N$9=\"HONDURAS\",LOOKUP(4,GEfectos!$Q$4:$W$4,GEfectos!Q174:W174),IF(EFECTOS!$N$9=\"NICARAGUA\",LOOKUP(5,GEfectos!$Q$4:$W$4,GEfectos!Q174:W174),IF(EFECTOS!$N$9=\"REPÚBLICA \nDOMINICANA\",LOOKUP(6,$Q$4:$W$4,Q174:W174),IF(EFECTOS!$N$9=\"PANAMÁ\",LOOKUP(7,GEfectos!$Q$4:$W$4,GEfectos!Q174:W174))))))))","v":187.75327383527329},100]
[null,{"$f":"'ITCER GLOBAL'!B175","v":"Febrero"},{"$f":"'ITCER GLOBAL'!C175","v":95.201646662517021},{"$f":"'ITCER GLOBAL'!D175","v":97.683447215454663},{"$f":"'ITCER GLOBAL'!E175","v":71.428114139612092},{"$f":"'ITCER GLOBAL'!F175","v":86.444351592976361},{"$f":"'ITCER GLOBAL'!G175","v":98.842607790604987},{"$f":"'ITCER GLOBAL'!H175","v":115.17080976890425},{"$f":"'ITCER GLOBAL'!I175","v":103.9422344862477},{"$f":"'ITCER GLOBAL'!S175","v":178.91814109653856},{"$f":"'ITCER GLOBAL'!T175","v":94.357112505163641},{"$f":"'ITCER GLOBAL'!U175","v":97.094810313318192},{"$f":"'ITCER GLOBAL'!V175","v":121.35107685412653},{"$f":"'ITCER GLOBAL'!W175","v":142.13328749055685},{"$f":"'ITCER GLOBAL'!X175","v":214.52397598243289},{"$f":"'ITCER GLOBAL'!Y175","v":98.377269162701992},{"$f":"'ITCER GLOBAL'!AA175","v":187.93597313583291},{"$f":"'ITCER GLOBAL'!AB175","v":96.594781608234712},{"$f":"'ITCER GLOBAL'!AC175","v":135.93360469175829},{"$f":"'ITCER GLOBAL'!AD175","v":140.38057388122783},{"$f":"'ITCER GLOBAL'!AE175","v":143.79758958976663},{"$f":"'ITCER GLOBAL'!AF175","v":186.26592659449517},{"$f":"'ITCER GLOBAL'!AG175","v":94.646098045658249},null,{"$f":"IF(EFECTOS!$N$9=\"COSTA RICA\",LOOKUP(1,GEfectos!$C$4:$I$4,GEfectos!C175:I175),IF(EFECTOS!$N$9=\"EL SALVADOR\",LOOKUP(2,GEfectos!$C$4:$I$4,GEfectos!C175:I175),IF(EFECTOS!$N$9=\"GUATEMALA\",LOOKUP(3,GEfectos!$C$4:$I$4,GEfectos!C175:I175),IF(EFECTOS!$N$9=\"HONDURAS\",LOOKUP(4,GEfectos!$C$4:$I$4,GEfectos!C175:I175),IF(EFECTOS!$N$9=\"NICARAGUA\",LOOKUP(5,GEfectos!$C$4:$I$4,GEfectos!C175:I175),IF(EFECTOS!$N$9=\"REPÚBLICA \nDOMINICANA\",LOOKUP(6,$C$4:$I$4,C175:I175),IF(EFECTOS!$N$9=\"PANAMÁ\",LOOKUP(7,GEfectos!$C$4:$I$4,GEfectos!C175:I175))))))))","v":95.201646662517021},{"$f":"IF(EFECTOS!$N$9=\"COSTA RICA\",LOOKUP(1,GEfectos!$J$4:$P$4,GEfectos!J175:P175),IF(EFECTOS!$N$9=\"EL SALVADOR\",LOOKUP(2,GEfectos!$J$4:$P$4,GEfectos!J175:P175),IF(EFECTOS!$N$9=\"GUATEMALA\",LOOKUP(3,GEfectos!$J$4:$P$4,GEfectos!J175:P175),IF(EFECTOS!$N$9=\"HONDURAS\",LOOKUP(4,GEfectos!$J$4:$P$4,GEfectos!J175:P175),IF(EFECTOS!$N$9=\"NICARAGUA\",LOOKUP(5,GEfectos!$J$4:$P$4,GEfectos!J175:P175),IF(EFECTOS!$N$9=\"REPÚBLICA \nDOMINICANA\",LOOKUP(6,$J$4:$P$4,J175:P175),IF(EFECTOS!$N$9=\"PANAMÁ\",LOOKUP(7,GEfectos!$J$4:$P$4,GEfectos!J175:P175))))))))","v":178.91814109653856},{"$f":"IF(EFECTOS!$N$9=\"COSTA RICA\",LOOKUP(1,GEfectos!$Q$4:$W$4,GEfectos!Q175:W175),IF(EFECTOS!$N$9=\"EL SALVADOR\",LOOKUP(2,GEfectos!$Q$4:$W$4,GEfectos!Q175:W175),IF(EFECTOS!$N$9=\"GUATEMALA\",LOOKUP(3,GEfectos!$Q$4:$W$4,GEfectos!Q175:W175),IF(EFECTOS!$N$9=\"HONDURAS\",LOOKUP(4,GEfectos!$Q$4:$W$4,GEfectos!Q175:W175),IF(EFECTOS!$N$9=\"NICARAGUA\",LOOKUP(5,GEfectos!$Q$4:$W$4,GEfectos!Q175:W175),IF(EFECTOS!$N$9=\"REPÚBLICA \nDOMINICANA\",LOOKUP(6,$Q$4:$W$4,Q175:W175),IF(EFECTOS!$N$9=\"PANAMÁ\",LOOKUP(7,GEfectos!$Q$4:$W$4,GEfectos!Q175:W175))))))))","v":187.93597313583291},100]
[null,{"$f":"'ITCER GLOBAL'!B176","v":"Marzo"},{"$f":"'ITCER GLOBAL'!C176","v":95.84040305275002},{"$f":"'ITCER GLOBAL'!D176","v":97.195877024856344},{"$f":"'ITCER GLOBAL'!E176","v":72.939449446294006},{"$f":"'ITCER GLOBAL'!F176","v":86.511536497109773},{"$f":"'ITCER GLOBAL'!G176","v":99.465081828530998},{"$f":"'ITCER GLOBAL'!H176","v":115.69558456821619},{"$f":"'ITCER GLOBAL'!I176","v":103.3401207011724},{"$f":"'ITCER GLOBAL'!S176","v":179.77632527871413},{"$f":"'ITCER GLOBAL'!T176","v":94.180444153351047},{"$f":"'ITCER GLOBAL'!U176","v":98.639388223804744},{"$f":"'ITCER GLOBAL'!V176","v":121.18742918606364},{"$f":"'ITCER GLOBAL'!W176","v":141.9769539747827},{"$f":"'ITCER GLOBAL'!X176","v":215.35088994935242},{"$f":"'ITCER GLOBAL'!Y176","v":98.230866860088554},{"$f":"'ITCER GLOBAL'!AA176","v":187.57884937082983},{"$f":"'ITCER GLOBAL'!AB176","v":96.897571210007044},{"$f":"'ITCER GLOBAL'!AC176","v":135.2346212819084},{"$f":"'ITCER GLOBAL'!AD176","v":140.08239142777489},{"$f":"'ITCER GLOBAL'!AE176","v":142.74049884112941},{"$f":"'ITCER GLOBAL'!AF176","v":186.13578966998318},{"$f":"'ITCER GLOBAL'!AG176","v":95.055885549177717},null,{"$f":"IF(EFECTOS!$N$9=\"COSTA RICA\",LOOKUP(1,GEfectos!$C$4:$I$4,GEfectos!C176:I176),IF(EFECTOS!$N$9=\"EL SALVADOR\",LOOKUP(2,GEfectos!$C$4:$I$4,GEfectos!C176:I176),IF(EFECTOS!$N$9=\"GUATEMALA\",LOOKUP(3,GEfectos!$C$4:$I$4,GEfectos!C176:I176),IF(EFECTOS!$N$9=\"HONDURAS\",LOOKUP(4,GEfectos!$C$4:$I$4,GEfectos!C176:I176),IF(EFECTOS!$N$9=\"NICARAGUA\",LOOKUP(5,GEfectos!$C$4:$I$4,GEfectos!C176:I176),IF(EFECTOS!$N$9=\"REPÚBLICA \nDOMINICANA\",LOOKUP(6,$C$4:$I$4,C176:I176),IF(EFECTOS!$N$9=\"PANAMÁ\",LOOKUP(7,GEfectos!$C$4:$I$4,GEfectos!C176:I176))))))))","v":95.84040305275002},{"$f":"IF(EFECTOS!$N$9=\"COSTA RICA\",LOOKUP(1,GEfectos!$J$4:$P$4,GEfectos!J176:P176),IF(EFECTOS!$N$9=\"EL SALVADOR\",LOOKUP(2,GEfectos!$J$4:$P$4,GEfectos!J176:P176),IF(EFECTOS!$N$9=\"GUATEMALA\",LOOKUP(3,GEfectos!$J$4:$P$4,GEfectos!J176:P176),IF(EFECTOS!$N$9=\"HONDURAS\",LOOKUP(4,GEfectos!$J$4:$P$4,GEfectos!J176:P176),IF(EFECTOS!$N$9=\"NICARAGUA\",LOOKUP(5,GEfectos!$J$4:$P$4,GEfectos!J176:P176),IF(EFECTOS!$N$9=\"REPÚBLICA \nDOMINICANA\",LOOKUP(6,$J$4:$P$4,J176:P176),IF(EFECTOS!$N$9=\"PANAMÁ\",LOOKUP(7,GEfectos!$J$4:$P$4,GEfectos!J176:P176))))))))","v":179.77632527871413},{"$f":"IF(EFECTOS!$N$9=\"COSTA RICA\",LOOKUP(1,GEfectos!$Q$4:$W$4,GEfectos!Q176:W176),IF(EFECTOS!$N$9=\"EL SALVADOR\",LOOKUP(2,GEfectos!$Q$4:$W$4,GEfectos!Q176:W176),IF(EFECTOS!$N$9=\"GUATEMALA\",LOOKUP(3,GEfectos!$Q$4:$W$4,GEfectos!Q176:W176),IF(EFECTOS!$N$9=\"HONDURAS\",LOOKUP(4,GEfectos!$Q$4:$W$4,GEfectos!Q176:W176),IF(EFECTOS!$N$9=\"NICARAGUA\",LOOKUP(5,GEfectos!$Q$4:$W$4,GEfectos!Q176:W176),IF(EFECTOS!$N$9=\"REPÚBLICA \nDOMINICANA\",LOOKUP(6,$Q$4:$W$4,Q176:W176),IF(EFECTOS!$N$9=\"PANAMÁ\",LOOKUP(7,GEfectos!$Q$4:$W$4,GEfectos!Q176:W176))))))))","v":187.57884937082983},100]
[null,{"$f":"'ITCER GLOBAL'!B177","v":"Abril"},{"$f":"'ITCER GLOBAL'!C177","v":97.39780844658533},{"$f":"'ITCER GLOBAL'!D177","v":98.294160485079146},{"$f":"'ITCER GLOBAL'!E177","v":74.146353014376359},{"$f":"'ITCER GLOBAL'!F177","v":87.106236954787533},{"$f":"'ITCER GLOBAL'!G177","v":101.04495291854312},{"$f":"'ITCER GLOBAL'!H177","v":117.38998299298014},{"$f":"'ITCER GLOBAL'!I177","v":104.25454341039746},{"$f":"'ITCER GLOBAL'!S177","v":182.93493318402022},{"$f":"'ITCER GLOBAL'!T177","v":95.105284211809035},{"$f":"'ITCER GLOBAL'!U177","v":100.12699115843233},{"$f":"'ITCER GLOBAL'!V177","v":122.16621312146555},{"$f":"'ITCER GLOBAL'!W177","v":143.79837025514126},{"$f":"'ITCER GLOBAL'!X177","v":218.31721401350467},{"$f":"'ITCER GLOBAL'!Y177","v":99.287303930804342},{"$f":"'ITCER GLOBAL'!AA177","v":187.82243266217327},{"$f":"'ITCER GLOBAL'!AB177","v":96.755782584099521},{"$f":"'ITCER GLOBAL'!AC177","v":135.03967098559596},{"$f":"'ITCER GLOBAL'!AD177","v":140.24967372299173},{"$f":"'ITCER GLOBAL'!AE177","v":142.31128433605548},{"$f":"'ITCER GLOBAL'!AF177","v":185.97601639192666},{"$f":"'ITCER GLOBAL'!AG177","v":95.235469537246345},null,{"$f":"IF(EFECTOS!$N$9=\"COSTA RICA\",LOOKUP(1,GEfectos!$C$4:$I$4,GEfectos!C177:I177),IF(EFECTOS!$N$9=\"EL SALVADOR\",LOOKUP(2,GEfectos!$C$4:$I$4,GEfectos!C177:I177),IF(EFECTOS!$N$9=\"GUATEMALA\",LOOKUP(3,GEfectos!$C$4:$I$4,GEfectos!C177:I177),IF(EFECTOS!$N$9=\"HONDURAS\",LOOKUP(4,GEfectos!$C$4:$I$4,GEfectos!C177:I177),IF(EFECTOS!$N$9=\"NICARAGUA\",LOOKUP(5,GEfectos!$C$4:$I$4,GEfectos!C177:I177),IF(EFECTOS!$N$9=\"REPÚBLICA \nDOMINICANA\",LOOKUP(6,$C$4:$I$4,C177:I177),IF(EFECTOS!$N$9=\"PANAMÁ\",LOOKUP(7,GEfectos!$C$4:$I$4,GEfectos!C177:I177))))))))","v":97.39780844658533},{"$f":"IF(EFECTOS!$N$9=\"COSTA RICA\",LOOKUP(1,GEfectos!$J$4:$P$4,GEfectos!J177:P177),IF(EFECTOS!$N$9=\"EL SALVADOR\",LOOKUP(2,GEfectos!$J$4:$P$4,GEfectos!J177:P177),IF(EFECTOS!$N$9=\"GUATEMALA\",LOOKUP(3,GEfectos!$J$4:$P$4,GEfectos!J177:P177),IF(EFECTOS!$N$9=\"HONDURAS\",LOOKUP(4,GEfectos!$J$4:$P$4,GEfectos!J177:P177),IF(EFECTOS!$N$9=\"NICARAGUA\",LOOKUP(5,GEfectos!$J$4:$P$4,GEfectos!J177:P177),IF(EFECTOS!$N$9=\"REPÚBLICA \nDOMINICANA\",LOOKUP(6,$J$4:$P$4,J177:P177),IF(EFECTOS!$N$9=\"PANAMÁ\",LOOKUP(7,GEfectos!$J$4:$P$4,GEfectos!J177:P177))))))))","v":182.93493318402022},{"$f":"IF(EFECTOS!$N$9=\"COSTA RICA\",LOOKUP(1,GEfectos!$Q$4:$W$4,GEfectos!Q177:W177),IF(EFECTOS!$N$9=\"EL SALVADOR\",LOOKUP(2,GEfectos!$Q$4:$W$4,GEfectos!Q177:W177),IF(EFECTOS!$N$9=\"GUATEMALA\",LOOKUP(3,GEfectos!$Q$4:$W$4,GEfectos!Q177:W177),IF(EFECTOS!$N$9=\"HONDURAS\",LOOKUP(4,GEfectos!$Q$4:$W$4,GEfectos!Q177:W177),IF(EFECTOS!$N$9=\"NICARAGUA\",LOOKUP(5,GEfectos!$Q$4:$W$4,GEfectos!Q177:W177),IF(EFECTOS!$N$9=\"REPÚBLICA \nDOMINICANA\",LOOKUP(6,$Q$4:$W$4,Q177:W177),IF(EFECTOS!$N$9=\"PANAMÁ\",LOOKUP(7,GEfectos!$Q$4:$W$4,GEfectos!Q177:W177))))))))","v":187.82243266217327},100]
[null,{"$f":"'ITCER GLOBAL'!B178","v":"Mayo"},{"$f":"'ITCER GLOBAL'!C178","v":99.413612855543178},{"$f":"'ITCER GLOBAL'!D178","v":98.770601156660987},{"$f":"'ITCER GLOBAL'!E178","v":74.833008237526684},{"$f":"'ITCER GLOBAL'!F178","v":87.784054871356233},{"$f":"'ITCER GLOBAL'!G178","v":102.68075427141432},{"$f":"'ITCER GLOBAL'!H178","v":119.03027463166644},{"$f":"'ITCER GLOBAL'!I178","v":105.99106081462206},{"$f":"'ITCER GLOBAL'!S178","v":186.3036125122994},{"$f":"'ITCER GLOBAL'!T178","v":95.719460477669017},{"$f":"'ITCER GLOBAL'!U178","v":101.07773514080966},{"$f":"'ITCER GLOBAL'!V178","v":122.94887127271754},{"$f":"'ITCER GLOBAL'!W178","v":146.17591319258568},{"$f":"'ITCER GLOBAL'!X178","v":221.29142724251955},{"$f":"'ITCER GLOBAL'!Y178","v":100.50909571465203},{"$f":"'ITCER GLOBAL'!AA178","v":187.40251677908046},{"$f":"'ITCER GLOBAL'!AB178","v":96.910881736811021},{"$f":"'ITCER GLOBAL'!AC178","v":135.0710569057706},{"$f":"'ITCER GLOBAL'!AD178","v":140.05831862391619},{"$f":"'ITCER GLOBAL'!AE178","v":142.35960207908226},{"$f":"'ITCER GLOBAL'!AF178","v":185.91188496144818},{"$f":"'ITCER GLOBAL'!AG178","v":94.827898638020088},null,{"$f":"IF(EFECTOS!$N$9=\"COSTA RICA\",LOOKUP(1,GEfectos!$C$4:$I$4,GEfectos!C178:I178),IF(EFECTOS!$N$9=\"EL SALVADOR\",LOOKUP(2,GEfectos!$C$4:$I$4,GEfectos!C178:I178),IF(EFECTOS!$N$9=\"GUATEMALA\",LOOKUP(3,GEfectos!$C$4:$I$4,GEfectos!C178:I178),IF(EFECTOS!$N$9=\"HONDURAS\",LOOKUP(4,GEfectos!$C$4:$I$4,GEfectos!C178:I178),IF(EFECTOS!$N$9=\"NICARAGUA\",LOOKUP(5,GEfectos!$C$4:$I$4,GEfectos!C178:I178),IF(EFECTOS!$N$9=\"REPÚBLICA \nDOMINICANA\",LOOKUP(6,$C$4:$I$4,C178:I178),IF(EFECTOS!$N$9=\"PANAMÁ\",LOOKUP(7,GEfectos!$C$4:$I$4,GEfectos!C178:I178))))))))","v":99.413612855543178},{"$f":"IF(EFECTOS!$N$9=\"COSTA RICA\",LOOKUP(1,GEfectos!$J$4:$P$4,GEfectos!J178:P178),IF(EFECTOS!$N$9=\"EL SALVADOR\",LOOKUP(2,GEfectos!$J$4:$P$4,GEfectos!J178:P178),IF(EFECTOS!$N$9=\"GUATEMALA\",LOOKUP(3,GEfectos!$J$4:$P$4,GEfectos!J178:P178),IF(EFECTOS!$N$9=\"HONDURAS\",LOOKUP(4,GEfectos!$J$4:$P$4,GEfectos!J178:P178),IF(EFECTOS!$N$9=\"NICARAGUA\",LOOKUP(5,GEfectos!$J$4:$P$4,GEfectos!J178:P178),IF(EFECTOS!$N$9=\"REPÚBLICA \nDOMINICANA\",LOOKUP(6,$J$4:$P$4,J178:P178),IF(EFECTOS!$N$9=\"PANAMÁ\",LOOKUP(7,GEfectos!$J$4:$P$4,GEfectos!J178:P178))))))))","v":186.3036125122994},{"$f":"IF(EFECTOS!$N$9=\"COSTA RICA\",LOOKUP(1,GEfectos!$Q$4:$W$4,GEfectos!Q178:W178),IF(EFECTOS!$N$9=\"EL SALVADOR\",LOOKUP(2,GEfectos!$Q$4:$W$4,GEfectos!Q178:W178),IF(EFECTOS!$N$9=\"GUATEMALA\",LOOKUP(3,GEfectos!$Q$4:$W$4,GEfectos!Q178:W178),IF(EFECTOS!$N$9=\"HONDURAS\",LOOKUP(4,GEfectos!$Q$4:$W$4,GEfectos!Q178:W178),IF(EFECTOS!$N$9=\"NICARAGUA\",LOOKUP(5,GEfectos!$Q$4:$W$4,GEfectos!Q178:W178),IF(EFECTOS!$N$9=\"REPÚBLICA \nDOMINICANA\",LOOKUP(6,$Q$4:$W$4,Q178:W178),IF(EFECTOS!$N$9=\"PANAMÁ\",LOOKUP(7,GEfectos!$Q$4:$W$4,GEfectos!Q178:W178))))))))","v":187.40251677908046},100]
[null,{"$f":"'ITCER GLOBAL'!B179","v":"Junio"},{"$f":"'ITCER GLOBAL'!C179","v":100.54414526367108},{"$f":"'ITCER GLOBAL'!D179","v":99.429676087744255},{"$f":"'ITCER GLOBAL'!E179","v":75.673534896062492},{"$f":"'ITCER GLOBAL'!F179","v":87.947834461570409},{"$f":"'ITCER GLOBAL'!G179","v":103.72108151891274},{"$f":"'ITCER GLOBAL'!H179","v":117.76252418216085},{"$f":"'ITCER GLOBAL'!I179","v":106.52527970642458},{"$f":"'ITCER GLOBAL'!S179","v":187.95785379429176},{"$f":"'ITCER GLOBAL'!T179","v":95.950656885129618},{"$f":"'ITCER GLOBAL'!U179","v":101.72019152534327},{"$f":"'ITCER GLOBAL'!V179","v":123.28198612516492},{"$f":"'ITCER GLOBAL'!W179","v":147.24283513570307},{"$f":"'ITCER GLOBAL'!X179","v":222.52278844741187},{"$f":"'ITCER GLOBAL'!Y179","v":101.10860799595814},{"$f":"'ITCER GLOBAL'!AA179","v":186.94062523619189},{"$f":"'ITCER GLOBAL'!AB179","v":96.501025308033306},{"$f":"'ITCER GLOBAL'!AC179","v":134.41976995663785},{"$f":"'ITCER GLOBAL'!AD179","v":140.17626116653742},{"$f":"'ITCER GLOBAL'!AE179","v":141.96037389839063},{"$f":"'ITCER GLOBAL'!AF179","v":188.95891540436304},{"$f":"'ITCER GLOBAL'!AG179","v":94.915130262605857},null,{"$f":"IF(EFECTOS!$N$9=\"COSTA RICA\",LOOKUP(1,GEfectos!$C$4:$I$4,GEfectos!C179:I179),IF(EFECTOS!$N$9=\"EL SALVADOR\",LOOKUP(2,GEfectos!$C$4:$I$4,GEfectos!C179:I179),IF(EFECTOS!$N$9=\"GUATEMALA\",LOOKUP(3,GEfectos!$C$4:$I$4,GEfectos!C179:I179),IF(EFECTOS!$N$9=\"HONDURAS\",LOOKUP(4,GEfectos!$C$4:$I$4,GEfectos!C179:I179),IF(EFECTOS!$N$9=\"NICARAGUA\",LOOKUP(5,GEfectos!$C$4:$I$4,GEfectos!C179:I179),IF(EFECTOS!$N$9=\"REPÚBLICA \nDOMINICANA\",LOOKUP(6,$C$4:$I$4,C179:I179),IF(EFECTOS!$N$9=\"PANAMÁ\",LOOKUP(7,GEfectos!$C$4:$I$4,GEfectos!C179:I179))))))))","v":100.54414526367108},{"$f":"IF(EFECTOS!$N$9=\"COSTA RICA\",LOOKUP(1,GEfectos!$J$4:$P$4,GEfectos!J179:P179),IF(EFECTOS!$N$9=\"EL SALVADOR\",LOOKUP(2,GEfectos!$J$4:$P$4,GEfectos!J179:P179),IF(EFECTOS!$N$9=\"GUATEMALA\",LOOKUP(3,GEfectos!$J$4:$P$4,GEfectos!J179:P179),IF(EFECTOS!$N$9=\"HONDURAS\",LOOKUP(4,GEfectos!$J$4:$P$4,GEfectos!J179:P179),IF(EFECTOS!$N$9=\"NICARAGUA\",LOOKUP(5,GEfectos!$J$4:$P$4,GEfectos!J179:P179),IF(EFECTOS!$N$9=\"REPÚBLICA \nDOMINICANA\",LOOKUP(6,$J$4:$P$4,J179:P179),IF(EFECTOS!$N$9=\"PANAMÁ\",LOOKUP(7,GEfectos!$J$4:$P$4,GEfectos!J179:P179))))))))","v":187.95785379429176},{"$f":"IF(EFECTOS!$N$9=\"COSTA RICA\",LOOKUP(1,GEfectos!$Q$4:$W$4,GEfectos!Q179:W179),IF(EFECTOS!$N$9=\"EL SALVADOR\",LOOKUP(2,GEfectos!$Q$4:$W$4,GEfectos!Q179:W179),IF(EFECTOS!$N$9=\"GUATEMALA\",LOOKUP(3,GEfectos!$Q$4:$W$4,GEfectos!Q179:W179),IF(EFECTOS!$N$9=\"HONDURAS\",LOOKUP(4,GEfectos!$Q$4:$W$4,GEfectos!Q179:W179),IF(EFECTOS!$N$9=\"NICARAGUA\",LOOKUP(5,GEfectos!$Q$4:$W$4,GEfectos!Q179:W179),IF(EFECTOS!$N$9=\"REPÚBLICA \nDOMINICANA\",LOOKUP(6,$Q$4:$W$4,Q179:W179),IF(EFECTOS!$N$9=\"PANAMÁ\",LOOKUP(7,GEfectos!$Q$4:$W$4,GEfectos!Q179:W179))))))))","v":186.94062523619189},100]
[null,{"$f":"'ITCER GLOBAL'!B180","v":"Julio"},{"$f":"'ITCER GLOBAL'!C180","v":100.6275625738932},{"$f":"'ITCER GLOBAL'!D180","v":99.862001870084143},{"$f":"'ITCER GLOBAL'!E180","v":75.895359289065595},{"$f":"'ITCER GLOBAL'!F180","v":87.273657920816063},{"$f":"'ITCER GLOBAL'!G180","v":104.92135975513321},{"$f":"'ITCER GLOBAL'!H180","v":117.87558407709498},{"$f":"'ITCER GLOBAL'!I180","v":106.1696641058159},{"$f":"'ITCER GLOBAL'!S180","v":190.07593464772273},{"$f":"'ITCER GLOBAL'!T180","v":95.956620648319273},{"$f":"'ITCER GLOBAL'!U180","v":102.38980670678586},{"$f":"'ITCER GLOBAL'!V180","v":123.30786332650628},{"$f":"'ITCER GLOBAL'!W180","v":147.96208896846539},{"$f":"'ITCER GLOBAL'!X180","v":223.28121379233724},{"$f":"'ITCER GLOBAL'!Y180","v":101.32693788146226},{"$f":"'ITCER GLOBAL'!AA180","v":188.89052838594344},{"$f":"'ITCER GLOBAL'!AB180","v":96.089221977699182},{"$f":"'ITCER GLOBAL'!AC180","v":134.90917977844975},{"$f":"'ITCER GLOBAL'!AD180","v":141.28875340413057},{"$f":"'ITCER GLOBAL'!AE180","v":141.02189422037725},{"$f":"'ITCER GLOBAL'!AF180","v":189.4210879551639},{"$f":"'ITCER GLOBAL'!AG180","v":95.438691207003288},null,{"$f":"IF(EFECTOS!$N$9=\"COSTA RICA\",LOOKUP(1,GEfectos!$C$4:$I$4,GEfectos!C180:I180),IF(EFECTOS!$N$9=\"EL SALVADOR\",LOOKUP(2,GEfectos!$C$4:$I$4,GEfectos!C180:I180),IF(EFECTOS!$N$9=\"GUATEMALA\",LOOKUP(3,GEfectos!$C$4:$I$4,GEfectos!C180:I180),IF(EFECTOS!$N$9=\"HONDURAS\",LOOKUP(4,GEfectos!$C$4:$I$4,GEfectos!C180:I180),IF(EFECTOS!$N$9=\"NICARAGUA\",LOOKUP(5,GEfectos!$C$4:$I$4,GEfectos!C180:I180),IF(EFECTOS!$N$9=\"REPÚBLICA \nDOMINICANA\",LOOKUP(6,$C$4:$I$4,C180:I180),IF(EFECTOS!$N$9=\"PANAMÁ\",LOOKUP(7,GEfectos!$C$4:$I$4,GEfectos!C180:I180))))))))","v":100.6275625738932},{"$f":"IF(EFECTOS!$N$9=\"COSTA RICA\",LOOKUP(1,GEfectos!$J$4:$P$4,GEfectos!J180:P180),IF(EFECTOS!$N$9=\"EL SALVADOR\",LOOKUP(2,GEfectos!$J$4:$P$4,GEfectos!J180:P180),IF(EFECTOS!$N$9=\"GUATEMALA\",LOOKUP(3,GEfectos!$J$4:$P$4,GEfectos!J180:P180),IF(EFECTOS!$N$9=\"HONDURAS\",LOOKUP(4,GEfectos!$J$4:$P$4,GEfectos!J180:P180),IF(EFECTOS!$N$9=\"NICARAGUA\",LOOKUP(5,GEfectos!$J$4:$P$4,GEfectos!J180:P180),IF(EFECTOS!$N$9=\"REPÚBLICA \nDOMINICANA\",LOOKUP(6,$J$4:$P$4,J180:P180),IF(EFECTOS!$N$9=\"PANAMÁ\",LOOKUP(7,GEfectos!$J$4:$P$4,GEfectos!J180:P180))))))))","v":190.07593464772273},{"$f":"IF(EFECTOS!$N$9=\"COSTA RICA\",LOOKUP(1,GEfectos!$Q$4:$W$4,GEfectos!Q180:W180),IF(EFECTOS!$N$9=\"EL SALVADOR\",LOOKUP(2,GEfectos!$Q$4:$W$4,GEfectos!Q180:W180),IF(EFECTOS!$N$9=\"GUATEMALA\",LOOKUP(3,GEfectos!$Q$4:$W$4,GEfectos!Q180:W180),IF(EFECTOS!$N$9=\"HONDURAS\",LOOKUP(4,GEfectos!$Q$4:$W$4,GEfectos!Q180:W180),IF(EFECTOS!$N$9=\"NICARAGUA\",LOOKUP(5,GEfectos!$Q$4:$W$4,GEfectos!Q180:W180),IF(EFECTOS!$N$9=\"REPÚBLICA \nDOMINICANA\",LOOKUP(6,$Q$4:$W$4,Q180:W180),IF(EFECTOS!$N$9=\"PANAMÁ\",LOOKUP(7,GEfectos!$Q$4:$W$4,GEfectos!Q180:W180))))))))","v":188.89052838594344},100]
[null,{"$f":"'ITCER GLOBAL'!B181","v":"Agosto"},{"$f":"'ITCER GLOBAL'!C181","v":101.54170485198854},{"$f":"'ITCER GLOBAL'!D181","v":100.59082376925215},{"$f":"'ITCER GLOBAL'!E181","v":77.166946164981425},{"$f":"'ITCER GLOBAL'!F181","v":87.605488372328225},{"$f":"'ITCER GLOBAL'!G181","v":105.97258670081749},{"$f":"'ITCER GLOBAL'!H181","v":117.87498707564042},{"$f":"'ITCER GLOBAL'!I181","v":106.5678038674789},{"$f":"'ITCER GLOBAL'!S181","v":192.54259279859775},{"$f":"'ITCER GLOBAL'!T181","v":96.23473737609487},{"$f":"'ITCER GLOBAL'!U181","v":103.94218730092133},{"$f":"'ITCER GLOBAL'!V181","v":123.6142927484089},{"$f":"'ITCER GLOBAL'!W181","v":149.53796358791502},{"$f":"'ITCER GLOBAL'!X181","v":224.58569587799383},{"$f":"'ITCER GLOBAL'!Y181","v":101.74310415739194},{"$f":"'ITCER GLOBAL'!AA181","v":189.61922402155443},{"$f":"'ITCER GLOBAL'!AB181","v":95.669499234691799},{"$f":"'ITCER GLOBAL'!AC181","v":134.69781100148111},{"$f":"'ITCER GLOBAL'!AD181","v":141.10336583370352},{"$f":"'ITCER GLOBAL'!AE181","v":141.11004387397998},{"$f":"'ITCER GLOBAL'!AF181","v":190.52871304569229},{"$f":"'ITCER GLOBAL'!AG181","v":95.472647896463499},null,{"$f":"IF(EFECTOS!$N$9=\"COSTA RICA\",LOOKUP(1,GEfectos!$C$4:$I$4,GEfectos!C181:I181),IF(EFECTOS!$N$9=\"EL SALVADOR\",LOOKUP(2,GEfectos!$C$4:$I$4,GEfectos!C181:I181),IF(EFECTOS!$N$9=\"GUATEMALA\",LOOKUP(3,GEfectos!$C$4:$I$4,GEfectos!C181:I181),IF(EFECTOS!$N$9=\"HONDURAS\",LOOKUP(4,GEfectos!$C$4:$I$4,GEfectos!C181:I181),IF(EFECTOS!$N$9=\"NICARAGUA\",LOOKUP(5,GEfectos!$C$4:$I$4,GEfectos!C181:I181),IF(EFECTOS!$N$9=\"REPÚBLICA \nDOMINICANA\",LOOKUP(6,$C$4:$I$4,C181:I181),IF(EFECTOS!$N$9=\"PANAMÁ\",LOOKUP(7,GEfectos!$C$4:$I$4,GEfectos!C181:I181))))))))","v":101.54170485198854},{"$f":"IF(EFECTOS!$N$9=\"COSTA RICA\",LOOKUP(1,GEfectos!$J$4:$P$4,GEfectos!J181:P181),IF(EFECTOS!$N$9=\"EL SALVADOR\",LOOKUP(2,GEfectos!$J$4:$P$4,GEfectos!J181:P181),IF(EFECTOS!$N$9=\"GUATEMALA\",LOOKUP(3,GEfectos!$J$4:$P$4,GEfectos!J181:P181),IF(EFECTOS!$N$9=\"HONDURAS\",LOOKUP(4,GEfectos!$J$4:$P$4,GEfectos!J181:P181),IF(EFECTOS!$N$9=\"NICARAGUA\",LOOKUP(5,GEfectos!$J$4:$P$4,GEfectos!J181:P181),IF(EFECTOS!$N$9=\"REPÚBLICA \nDOMINICANA\",LOOKUP(6,$J$4:$P$4,J181:P181),IF(EFECTOS!$N$9=\"PANAMÁ\",LOOKUP(7,GEfectos!$J$4:$P$4,GEfectos!J181:P181))))))))","v":192.54259279859775},{"$f":"IF(EFECTOS!$N$9=\"COSTA RICA\",LOOKUP(1,GEfectos!$Q$4:$W$4,GEfectos!Q181:W181),IF(EFECTOS!$N$9=\"EL SALVADOR\",LOOKUP(2,GEfectos!$Q$4:$W$4,GEfectos!Q181:W181),IF(EFECTOS!$N$9=\"GUATEMALA\",LOOKUP(3,GEfectos!$Q$4:$W$4,GEfectos!Q181:W181),IF(EFECTOS!$N$9=\"HONDURAS\",LOOKUP(4,GEfectos!$Q$4:$W$4,GEfectos!Q181:W181),IF(EFECTOS!$N$9=\"NICARAGUA\",LOOKUP(5,GEfectos!$Q$4:$W$4,GEfectos!Q181:W181),IF(EFECTOS!$N$9=\"REPÚBLICA \nDOMINICANA\",LOOKUP(6,$Q$4:$W$4,Q181:W181),IF(EFECTOS!$N$9=\"PANAMÁ\",LOOKUP(7,GEfectos!$Q$4:$W$4,GEfectos!Q181:W181))))))))","v":189.61922402155443},100]
[null,{"$f":"'ITCER GLOBAL'!B182","v":"Septiembre"},{"$f":"'ITCER GLOBAL'!C182","v":101.89931464921548},{"$f":"'ITCER GLOBAL'!D182","v":100.78923692133149},{"$f":"'ITCER GLOBAL'!E182","v":77.321067095497639},{"$f":"'ITCER GLOBAL'!F182","v":87.701529546055554},{"$f":"'ITCER GLOBAL'!G182","v":106.19399238440087},{"$f":"'ITCER GLOBAL'!H182","v":118.32624671790403},{"$f":"'ITCER GLOBAL'!I182","v":107.86818673440037},{"$f":"'ITCER GLOBAL'!S182","v":193.20117432744283},{"$f":"'ITCER GLOBAL'!T182","v":96.202524711148456},{"$f":"'ITCER GLOBAL'!U182","v":104.67973696170527},{"$f":"'ITCER GLOBAL'!V182","v":123.70733703550674},{"$f":"'ITCER GLOBAL'!W182","v":150.10744631086934},{"$f":"'ITCER GLOBAL'!X182","v":225.43511079433239},{"$f":"'ITCER GLOBAL'!Y182","v":102.28259215626412},{"$f":"'ITCER GLOBAL'!AA182","v":189.6000723778472},{"$f":"'ITCER GLOBAL'!AB182","v":95.449204349306569},{"$f":"'ITCER GLOBAL'!AC182","v":135.38320265603357},{"$f":"'ITCER GLOBAL'!AD182","v":141.05493675631178},{"$f":"'ITCER GLOBAL'!AE182","v":141.35210753496355},{"$f":"'ITCER GLOBAL'!AF182","v":190.51995398094684},{"$f":"'ITCER GLOBAL'!AG182","v":94.821833251086858},null,{"$f":"IF(EFECTOS!$N$9=\"COSTA RICA\",LOOKUP(1,GEfectos!$C$4:$I$4,GEfectos!C182:I182),IF(EFECTOS!$N$9=\"EL SALVADOR\",LOOKUP(2,GEfectos!$C$4:$I$4,GEfectos!C182:I182),IF(EFECTOS!$N$9=\"GUATEMALA\",LOOKUP(3,GEfectos!$C$4:$I$4,GEfectos!C182:I182),IF(EFECTOS!$N$9=\"HONDURAS\",LOOKUP(4,GEfectos!$C$4:$I$4,GEfectos!C182:I182),IF(EFECTOS!$N$9=\"NICARAGUA\",LOOKUP(5,GEfectos!$C$4:$I$4,GEfectos!C182:I182),IF(EFECTOS!$N$9=\"REPÚBLICA \nDOMINICANA\",LOOKUP(6,$C$4:$I$4,C182:I182),IF(EFECTOS!$N$9=\"PANAMÁ\",LOOKUP(7,GEfectos!$C$4:$I$4,GEfectos!C182:I182))))))))","v":101.89931464921548},{"$f":"IF(EFECTOS!$N$9=\"COSTA RICA\",LOOKUP(1,GEfectos!$J$4:$P$4,GEfectos!J182:P182),IF(EFECTOS!$N$9=\"EL SALVADOR\",LOOKUP(2,GEfectos!$J$4:$P$4,GEfectos!J182:P182),IF(EFECTOS!$N$9=\"GUATEMALA\",LOOKUP(3,GEfectos!$J$4:$P$4,GEfectos!J182:P182),IF(EFECTOS!$N$9=\"HONDURAS\",LOOKUP(4,GEfectos!$J$4:$P$4,GEfectos!J182:P182),IF(EFECTOS!$N$9=\"NICARAGUA\",LOOKUP(5,GEfectos!$J$4:$P$4,GEfectos!J182:P182),IF(EFECTOS!$N$9=\"REPÚBLICA \nDOMINICANA\",LOOKUP(6,$J$4:$P$4,J182:P182),IF(EFECTOS!$N$9=\"PANAMÁ\",LOOKUP(7,GEfectos!$J$4:$P$4,GEfectos!J182:P182))))))))","v":193.20117432744283},{"$f":"IF(EFECTOS!$N$9=\"COSTA RICA\",LOOKUP(1,GEfectos!$Q$4:$W$4,GEfectos!Q182:W182),IF(EFECTOS!$N$9=\"EL SALVADOR\",LOOKUP(2,GEfectos!$Q$4:$W$4,GEfectos!Q182:W182),IF(EFECTOS!$N$9=\"GUATEMALA\",LOOKUP(3,GEfectos!$Q$4:$W$4,GEfectos!Q182:W182),IF(EFECTOS!$N$9=\"HONDURAS\",LOOKUP(4,GEfectos!$Q$4:$W$4,GEfectos!Q182:W182),IF(EFECTOS!$N$9=\"NICARAGUA\",LOOKUP(5,GEfectos!$Q$4:$W$4,GEfectos!Q182:W182),IF(EFECTOS!$N$9=\"REPÚBLICA \nDOMINICANA\",LOOKUP(6,$Q$4:$W$4,Q182:W182),IF(EFECTOS!$N$9=\"PANAMÁ\",LOOKUP(7,GEfectos!$Q$4:$W$4,GEfectos!Q182:W182))))))))","v":189.6000723778472},100]
[null,{"$f":"'ITCER GLOBAL'!B183","v":"Octubre"},{"$f":"'ITCER GLOBAL'!C183","v":101.4818046069137},{"$f":"'ITCER GLOBAL'!D183","v":102.02617073549055},{"$f":"'ITCER GLOBAL'!E183","v":78.234837016960327},{"$f":"'ITCER GLOBAL'!F183","v":87.876074478390038},{"$f":"'ITCER GLOBAL'!G183","v":106.85229720286496},{"$f":"'ITCER GLOBAL'!H183","v":118.97402565975698},{"$f":"'ITCER GLOBAL'!I183","v":108.48797611919369},{"$f":"'ITCER GLOBAL'!S183","v":192.74362080839876},{"$f":"'ITCER GLOBAL'!T183","v":96.599555036781211},{"$f":"'ITCER GLOBAL'!U183","v":105.66652909636613},{"$f":"'ITCER GLOBAL'!V183","v":124.20726872906826},{"$f":"'ITCER GLOBAL'!W183","v":151.60935446391522},{"$f":"'ITCER GLOBAL'!X183","v":226.98377755977612},{"$f":"'ITCER GLOBAL'!Y183","v":103.0745220489989},{"$f":"'ITCER GLOBAL'!AA183","v":189.92924057173067},{"$f":"'ITCER GLOBAL'!AB183","v":94.681153218248099},{"$f":"'ITCER GLOBAL'!AC183","v":135.06326992597806},{"$f":"'ITCER GLOBAL'!AD183","v":141.34367001067233},{"$f":"'ITCER GLOBAL'!AE183","v":141.88684607882271},{"$f":"'ITCER GLOBAL'!AF183","v":190.78431304737592},{"$f":"'ITCER GLOBAL'!AG183","v":95.010088432060783},null,{"$f":"IF(EFECTOS!$N$9=\"COSTA RICA\",LOOKUP(1,GEfectos!$C$4:$I$4,GEfectos!C183:I183),IF(EFECTOS!$N$9=\"EL SALVADOR\",LOOKUP(2,GEfectos!$C$4:$I$4,GEfectos!C183:I183),IF(EFECTOS!$N$9=\"GUATEMALA\",LOOKUP(3,GEfectos!$C$4:$I$4,GEfectos!C183:I183),IF(EFECTOS!$N$9=\"HONDURAS\",LOOKUP(4,GEfectos!$C$4:$I$4,GEfectos!C183:I183),IF(EFECTOS!$N$9=\"NICARAGUA\",LOOKUP(5,GEfectos!$C$4:$I$4,GEfectos!C183:I183),IF(EFECTOS!$N$9=\"REPÚBLICA \nDOMINICANA\",LOOKUP(6,$C$4:$I$4,C183:I183),IF(EFECTOS!$N$9=\"PANAMÁ\",LOOKUP(7,GEfectos!$C$4:$I$4,GEfectos!C183:I183))))))))","v":101.4818046069137},{"$f":"IF(EFECTOS!$N$9=\"COSTA RICA\",LOOKUP(1,GEfectos!$J$4:$P$4,GEfectos!J183:P183),IF(EFECTOS!$N$9=\"EL SALVADOR\",LOOKUP(2,GEfectos!$J$4:$P$4,GEfectos!J183:P183),IF(EFECTOS!$N$9=\"GUATEMALA\",LOOKUP(3,GEfectos!$J$4:$P$4,GEfectos!J183:P183),IF(EFECTOS!$N$9=\"HONDURAS\",LOOKUP(4,GEfectos!$J$4:$P$4,GEfectos!J183:P183),IF(EFECTOS!$N$9=\"NICARAGUA\",LOOKUP(5,GEfectos!$J$4:$P$4,GEfectos!J183:P183),IF(EFECTOS!$N$9=\"REPÚBLICA \nDOMINICANA\",LOOKUP(6,$J$4:$P$4,J183:P183),IF(EFECTOS!$N$9=\"PANAMÁ\",LOOKUP(7,GEfectos!$J$4:$P$4,GEfectos!J183:P183))))))))","v":192.74362080839876},{"$f":"IF(EFECTOS!$N$9=\"COSTA RICA\",LOOKUP(1,GEfectos!$Q$4:$W$4,GEfectos!Q183:W183),IF(EFECTOS!$N$9=\"EL SALVADOR\",LOOKUP(2,GEfectos!$Q$4:$W$4,GEfectos!Q183:W183),IF(EFECTOS!$N$9=\"GUATEMALA\",LOOKUP(3,GEfectos!$Q$4:$W$4,GEfectos!Q183:W183),IF(EFECTOS!$N$9=\"HONDURAS\",LOOKUP(4,GEfectos!$Q$4:$W$4,GEfectos!Q183:W183),IF(EFECTOS!$N$9=\"NICARAGUA\",LOOKUP(5,GEfectos!$Q$4:$W$4,GEfectos!Q183:W183),IF(EFECTOS!$N$9=\"REPÚBLICA \nDOMINICANA\",LOOKUP(6,$Q$4:$W$4,Q183:W183),IF(EFECTOS!$N$9=\"PANAMÁ\",LOOKUP(7,GEfectos!$Q$4:$W$4,GEfectos!Q183:W183))))))))","v":189.92924057173067},100]
[null,{"$f":"'ITCER GLOBAL'!B184","v":"Noviembre"},{"$f":"'ITCER GLOBAL'!C184","v":99.293694492046967},{"$f":"'ITCER GLOBAL'!D184","v":101.00909741618285},{"$f":"'ITCER GLOBAL'!E184","v":78.164968140528018},{"$f":"'ITCER GLOBAL'!F184","v":88.093385121699299},{"$f":"'ITCER GLOBAL'!G184","v":107.88464348928566},{"$f":"'ITCER GLOBAL'!H184","v":117.87732528106092},{"$f":"'ITCER GLOBAL'!I184","v":108.84408440321002},{"$f":"'ITCER GLOBAL'!S184","v":187.96332674440058},{"$f":"'ITCER GLOBAL'!T184","v":96.842753178530728},{"$f":"'ITCER GLOBAL'!U184","v":105.35860224774152},{"$f":"'ITCER GLOBAL'!V184","v":124.54931280484249},{"$f":"'ITCER GLOBAL'!W184","v":152.85531637877668},{"$f":"'ITCER GLOBAL'!X184","v":226.99630566372079},{"$f":"'ITCER GLOBAL'!Y184","v":103.36866994608376},{"$f":"'ITCER GLOBAL'!AA184","v":189.30036565358711},{"$f":"'ITCER GLOBAL'!AB184","v":95.875278223222068},{"$f":"'ITCER GLOBAL'!AC184","v":134.79005333735151},{"$f":"'ITCER GLOBAL'!AD184","v":141.38327484269112},{"$f":"'ITCER GLOBAL'!AE184","v":141.68403531310477},{"$f":"'ITCER GLOBAL'!AF184","v":192.56994941349569},{"$f":"'ITCER GLOBAL'!AG184","v":94.969488248123128},null,{"$f":"IF(EFECTOS!$N$9=\"COSTA RICA\",LOOKUP(1,GEfectos!$C$4:$I$4,GEfectos!C184:I184),IF(EFECTOS!$N$9=\"EL SALVADOR\",LOOKUP(2,GEfectos!$C$4:$I$4,GEfectos!C184:I184),IF(EFECTOS!$N$9=\"GUATEMALA\",LOOKUP(3,GEfectos!$C$4:$I$4,GEfectos!C184:I184),IF(EFECTOS!$N$9=\"HONDURAS\",LOOKUP(4,GEfectos!$C$4:$I$4,GEfectos!C184:I184),IF(EFECTOS!$N$9=\"NICARAGUA\",LOOKUP(5,GEfectos!$C$4:$I$4,GEfectos!C184:I184),IF(EFECTOS!$N$9=\"REPÚBLICA \nDOMINICANA\",LOOKUP(6,$C$4:$I$4,C184:I184),IF(EFECTOS!$N$9=\"PANAMÁ\",LOOKUP(7,GEfectos!$C$4:$I$4,GEfectos!C184:I184))))))))","v":99.293694492046967},{"$f":"IF(EFECTOS!$N$9=\"COSTA RICA\",LOOKUP(1,GEfectos!$J$4:$P$4,GEfectos!J184:P184),IF(EFECTOS!$N$9=\"EL SALVADOR\",LOOKUP(2,GEfectos!$J$4:$P$4,GEfectos!J184:P184),IF(EFECTOS!$N$9=\"GUATEMALA\",LOOKUP(3,GEfectos!$J$4:$P$4,GEfectos!J184:P184),IF(EFECTOS!$N$9=\"HONDURAS\",LOOKUP(4,GEfectos!$J$4:$P$4,GEfectos!J184:P184),IF(EFECTOS!$N$9=\"NICARAGUA\",LOOKUP(5,GEfectos!$J$4:$P$4,GEfectos!J184:P184),IF(EFECTOS!$N$9=\"REPÚBLICA \nDOMINICANA\",LOOKUP(6,$J$4:$P$4,J184:P184),IF(EFECTOS!$N$9=\"PANAMÁ\",LOOKUP(7,GEfectos!$J$4:$P$4,GEfectos!J184:P184))))))))","v":187.96332674440058},{"$f":"IF(EFECTOS!$N$9=\"COSTA RICA\",LOOKUP(1,GEfectos!$Q$4:$W$4,GEfectos!Q184:W184),IF(EFECTOS!$N$9=\"EL SALVADOR\",LOOKUP(2,GEfectos!$Q$4:$W$4,GEfectos!Q184:W184),IF(EFECTOS!$N$9=\"GUATEMALA\",LOOKUP(3,GEfectos!$Q$4:$W$4,GEfectos!Q184:W184),IF(EFECTOS!$N$9=\"HONDURAS\",LOOKUP(4,GEfectos!$Q$4:$W$4,GEfectos!Q184:W184),IF(EFECTOS!$N$9=\"NICARAGUA\",LOOKUP(5,GEfectos!$Q$4:$W$4,GEfectos!Q184:W184),IF(EFECTOS!$N$9=\"REPÚBLICA \nDOMINICANA\",LOOKUP(6,$Q$4:$W$4,Q184:W184),IF(EFECTOS!$N$9=\"PANAMÁ\",LOOKUP(7,GEfectos!$Q$4:$W$4,GEfectos!Q184:W184))))))))","v":189.30036565358711},100]
[null,{"$f":"'ITCER GLOBAL'!B185","v":"Diciembre"},{"$f":"'ITCER GLOBAL'!C185","v":98.175096583323807},{"$f":"'ITCER GLOBAL'!D185","v":101.38972250264665},{"$f":"'ITCER GLOBAL'!E185","v":78.427873944572795},{"$f":"'ITCER GLOBAL'!F185","v":88.026741896931014},{"$f":"'ITCER GLOBAL'!G185","v":108.09492144279322},{"$f":"'ITCER GLOBAL'!H185","v":117.51407700383979},{"$f":"'ITCER GLOBAL'!I185","v":108.56720523367403},{"$f":"'ITCER GLOBAL'!S185","v":187.54471310293653},{"$f":"'ITCER GLOBAL'!T185","v":96.747159191640321},{"$f":"'ITCER GLOBAL'!U185","v":105.59959218360164},{"$f":"'ITCER GLOBAL'!V185","v":124.35533592317078},{"$f":"'ITCER GLOBAL'!W185","v":153.26671580729774},{"$f":"'ITCER GLOBAL'!X185","v":226.37062033853255},{"$f":"'ITCER GLOBAL'!Y185","v":103.04197246055296},{"$f":"'ITCER GLOBAL'!AA185","v":191.03084145556443},{"$f":"'ITCER GLOBAL'!AB185","v":95.421071094375336},{"$f":"'ITCER GLOBAL'!AC185","v":134.64548619312549},{"$f":"'ITCER GLOBAL'!AD185","v":141.26995188436749},{"$f":"'ITCER GLOBAL'!AE185","v":141.78900707042993},{"$f":"'ITCER GLOBAL'!AF185","v":192.63276886490445},{"$f":"'ITCER GLOBAL'!AG185","v":94.91077184751245},null,{"$f":"IF(EFECTOS!$N$9=\"COSTA RICA\",LOOKUP(1,GEfectos!$C$4:$I$4,GEfectos!C185:I185),IF(EFECTOS!$N$9=\"EL SALVADOR\",LOOKUP(2,GEfectos!$C$4:$I$4,GEfectos!C185:I185),IF(EFECTOS!$N$9=\"GUATEMALA\",LOOKUP(3,GEfectos!$C$4:$I$4,GEfectos!C185:I185),IF(EFECTOS!$N$9=\"HONDURAS\",LOOKUP(4,GEfectos!$C$4:$I$4,GEfectos!C185:I185),IF(EFECTOS!$N$9=\"NICARAGUA\",LOOKUP(5,GEfectos!$C$4:$I$4,GEfectos!C185:I185),IF(EFECTOS!$N$9=\"REPÚBLICA \nDOMINICANA\",LOOKUP(6,$C$4:$I$4,C185:I185),IF(EFECTOS!$N$9=\"PANAMÁ\",LOOKUP(7,GEfectos!$C$4:$I$4,GEfectos!C185:I185))))))))","v":98.175096583323807},{"$f":"IF(EFECTOS!$N$9=\"COSTA RICA\",LOOKUP(1,GEfectos!$J$4:$P$4,GEfectos!J185:P185),IF(EFECTOS!$N$9=\"EL SALVADOR\",LOOKUP(2,GEfectos!$J$4:$P$4,GEfectos!J185:P185),IF(EFECTOS!$N$9=\"GUATEMALA\",LOOKUP(3,GEfectos!$J$4:$P$4,GEfectos!J185:P185),IF(EFECTOS!$N$9=\"HONDURAS\",LOOKUP(4,GEfectos!$J$4:$P$4,GEfectos!J185:P185),IF(EFECTOS!$N$9=\"NICARAGUA\",LOOKUP(5,GEfectos!$J$4:$P$4,GEfectos!J185:P185),IF(EFECTOS!$N$9=\"REPÚBLICA \nDOMINICANA\",LOOKUP(6,$J$4:$P$4,J185:P185),IF(EFECTOS!$N$9=\"PANAMÁ\",LOOKUP(7,GEfectos!$J$4:$P$4,GEfectos!J185:P185))))))))","v":187.54471310293653},{"$f":"IF(EFECTOS!$N$9=\"COSTA RICA\",LOOKUP(1,GEfectos!$Q$4:$W$4,GEfectos!Q185:W185),IF(EFECTOS!$N$9=\"EL SALVADOR\",LOOKUP(2,GEfectos!$Q$4:$W$4,GEfectos!Q185:W185),IF(EFECTOS!$N$9=\"GUATEMALA\",LOOKUP(3,GEfectos!$Q$4:$W$4,GEfectos!Q185:W185),IF(EFECTOS!$N$9=\"HONDURAS\",LOOKUP(4,GEfectos!$Q$4:$W$4,GEfectos!Q185:W185),IF(EFECTOS!$N$9=\"NICARAGUA\",LOOKUP(5,GEfectos!$Q$4:$W$4,GEfectos!Q185:W185),IF(EFECTOS!$N$9=\"REPÚBLICA \nDOMINICANA\",LOOKUP(6,$Q$4:$W$4,Q185:W185),IF(EFECTOS!$N$9=\"PANAMÁ\",LOOKUP(7,GEfectos!$Q$4:$W$4,GEfectos!Q185:W185))))))))","v":191.03084145556443},100]
[2010,{"$f":"'ITCER GLOBAL'!B186","v":"Enero"},{"$f":"'ITCER GLOBAL'!C186","v":95.786623091851013},{"$f":"'ITCER GLOBAL'!D186","v":101.79189553791082},{"$f":"'ITCER GLOBAL'!E186","v":77.975809614540267},{"$f":"'ITCER GLOBAL'!F186","v":88.046118004127834},{"$f":"'ITCER GLOBAL'!G186","v":109.1584523873435},{"$f":"'ITCER GLOBAL'!H186","v":120.65313539085409},{"$f":"'ITCER GLOBAL'!I186","v":107.34114309205837},{"$f":"'ITCER GLOBAL'!S186","v":184.93962365766697},{"$f":"'ITCER GLOBAL'!T186","v":96.287802523523069},{"$f":"'ITCER GLOBAL'!U186","v":105.44862925706555},{"$f":"'ITCER GLOBAL'!V186","v":123.81846309993927},{"$f":"'ITCER GLOBAL'!W186","v":155.02507221318703},{"$f":"'ITCER GLOBAL'!X186","v":225.05448849058834},{"$f":"'ITCER GLOBAL'!Y186","v":101.11220440178298},{"$f":"'ITCER GLOBAL'!AA186","v":193.07458357763173},{"$f":"'ITCER GLOBAL'!AB186","v":94.592798389987891},{"$f":"'ITCER GLOBAL'!AC186","v":135.23249040738702},{"$f":"'ITCER GLOBAL'!AD186","v":140.62909973399886},{"$f":"'ITCER GLOBAL'!AE186","v":142.01838595428967},{"$f":"'ITCER GLOBAL'!AF186","v":186.53016165848288},{"$f":"'ITCER GLOBAL'!AG186","v":94.197063203497549},null,{"$f":"IF(EFECTOS!$N$9=\"COSTA RICA\",LOOKUP(1,GEfectos!$C$4:$I$4,GEfectos!C186:I186),IF(EFECTOS!$N$9=\"EL SALVADOR\",LOOKUP(2,GEfectos!$C$4:$I$4,GEfectos!C186:I186),IF(EFECTOS!$N$9=\"GUATEMALA\",LOOKUP(3,GEfectos!$C$4:$I$4,GEfectos!C186:I186),IF(EFECTOS!$N$9=\"HONDURAS\",LOOKUP(4,GEfectos!$C$4:$I$4,GEfectos!C186:I186),IF(EFECTOS!$N$9=\"NICARAGUA\",LOOKUP(5,GEfectos!$C$4:$I$4,GEfectos!C186:I186),IF(EFECTOS!$N$9=\"REPÚBLICA \nDOMINICANA\",LOOKUP(6,$C$4:$I$4,C186:I186),IF(EFECTOS!$N$9=\"PANAMÁ\",LOOKUP(7,GEfectos!$C$4:$I$4,GEfectos!C186:I186))))))))","v":95.786623091851013},{"$f":"IF(EFECTOS!$N$9=\"COSTA RICA\",LOOKUP(1,GEfectos!$J$4:$P$4,GEfectos!J186:P186),IF(EFECTOS!$N$9=\"EL SALVADOR\",LOOKUP(2,GEfectos!$J$4:$P$4,GEfectos!J186:P186),IF(EFECTOS!$N$9=\"GUATEMALA\",LOOKUP(3,GEfectos!$J$4:$P$4,GEfectos!J186:P186),IF(EFECTOS!$N$9=\"HONDURAS\",LOOKUP(4,GEfectos!$J$4:$P$4,GEfectos!J186:P186),IF(EFECTOS!$N$9=\"NICARAGUA\",LOOKUP(5,GEfectos!$J$4:$P$4,GEfectos!J186:P186),IF(EFECTOS!$N$9=\"REPÚBLICA \nDOMINICANA\",LOOKUP(6,$J$4:$P$4,J186:P186),IF(EFECTOS!$N$9=\"PANAMÁ\",LOOKUP(7,GEfectos!$J$4:$P$4,GEfectos!J186:P186))))))))","v":184.93962365766697},{"$f":"IF(EFECTOS!$N$9=\"COSTA RICA\",LOOKUP(1,GEfectos!$Q$4:$W$4,GEfectos!Q186:W186),IF(EFECTOS!$N$9=\"EL SALVADOR\",LOOKUP(2,GEfectos!$Q$4:$W$4,GEfectos!Q186:W186),IF(EFECTOS!$N$9=\"GUATEMALA\",LOOKUP(3,GEfectos!$Q$4:$W$4,GEfectos!Q186:W186),IF(EFECTOS!$N$9=\"HONDURAS\",LOOKUP(4,GEfectos!$Q$4:$W$4,GEfectos!Q186:W186),IF(EFECTOS!$N$9=\"NICARAGUA\",LOOKUP(5,GEfectos!$Q$4:$W$4,GEfectos!Q186:W186),IF(EFECTOS!$N$9=\"REPÚBLICA \nDOMINICANA\",LOOKUP(6,$Q$4:$W$4,Q186:W186),IF(EFECTOS!$N$9=\"PANAMÁ\",LOOKUP(7,GEfectos!$Q$4:$W$4,GEfectos!Q186:W186))))))))","v":193.07458357763173},100]
[null,{"$f":"'ITCER GLOBAL'!B187","v":"Febrero"},{"$f":"'ITCER GLOBAL'!C187","v":93.194164132799798},{"$f":"'ITCER GLOBAL'!D187","v":101.98456794323894},{"$f":"'ITCER GLOBAL'!E187","v":75.552276904624478},{"$f":"'ITCER GLOBAL'!F187","v":87.572676190567037},{"$f":"'ITCER GLOBAL'!G187","v":108.47376395985303},{"$f":"'ITCER GLOBAL'!H187","v":120.74306760312734},{"$f":"'ITCER GLOBAL'!I187","v":107.13059390575711},{"$f":"'ITCER GLOBAL'!S187","v":180.57142518618457},{"$f":"'ITCER GLOBAL'!T187","v":96.251489787758274},{"$f":"'ITCER GLOBAL'!U187","v":102.2954330941745},{"$f":"'ITCER GLOBAL'!V187","v":123.65900116431885},{"$f":"'ITCER GLOBAL'!W187","v":155.7148979712338},{"$f":"'ITCER GLOBAL'!X187","v":225.06652571991452},{"$f":"'ITCER GLOBAL'!Y187","v":100.833307400422},{"$f":"'ITCER GLOBAL'!AA187","v":193.75829684879616},{"$f":"'ITCER GLOBAL'!AB187","v":94.378484636350564},{"$f":"'ITCER GLOBAL'!AC187","v":135.39688978971475},{"$f":"'ITCER GLOBAL'!AD187","v":141.20728809888635},{"$f":"'ITCER GLOBAL'!AE187","v":143.55074654629396},{"$f":"'ITCER GLOBAL'!AF187","v":186.40119899859585},{"$f":"'ITCER GLOBAL'!AG187","v":94.121859801435576},null,{"$f":"IF(EFECTOS!$N$9=\"COSTA RICA\",LOOKUP(1,GEfectos!$C$4:$I$4,GEfectos!C187:I187),IF(EFECTOS!$N$9=\"EL SALVADOR\",LOOKUP(2,GEfectos!$C$4:$I$4,GEfectos!C187:I187),IF(EFECTOS!$N$9=\"GUATEMALA\",LOOKUP(3,GEfectos!$C$4:$I$4,GEfectos!C187:I187),IF(EFECTOS!$N$9=\"HONDURAS\",LOOKUP(4,GEfectos!$C$4:$I$4,GEfectos!C187:I187),IF(EFECTOS!$N$9=\"NICARAGUA\",LOOKUP(5,GEfectos!$C$4:$I$4,GEfectos!C187:I187),IF(EFECTOS!$N$9=\"REPÚBLICA \nDOMINICANA\",LOOKUP(6,$C$4:$I$4,C187:I187),IF(EFECTOS!$N$9=\"PANAMÁ\",LOOKUP(7,GEfectos!$C$4:$I$4,GEfectos!C187:I187))))))))","v":93.194164132799798},{"$f":"IF(EFECTOS!$N$9=\"COSTA RICA\",LOOKUP(1,GEfectos!$J$4:$P$4,GEfectos!J187:P187),IF(EFECTOS!$N$9=\"EL SALVADOR\",LOOKUP(2,GEfectos!$J$4:$P$4,GEfectos!J187:P187),IF(EFECTOS!$N$9=\"GUATEMALA\",LOOKUP(3,GEfectos!$J$4:$P$4,GEfectos!J187:P187),IF(EFECTOS!$N$9=\"HONDURAS\",LOOKUP(4,GEfectos!$J$4:$P$4,GEfectos!J187:P187),IF(EFECTOS!$N$9=\"NICARAGUA\",LOOKUP(5,GEfectos!$J$4:$P$4,GEfectos!J187:P187),IF(EFECTOS!$N$9=\"REPÚBLICA \nDOMINICANA\",LOOKUP(6,$J$4:$P$4,J187:P187),IF(EFECTOS!$N$9=\"PANAMÁ\",LOOKUP(7,GEfectos!$J$4:$P$4,GEfectos!J187:P187))))))))","v":180.57142518618457},{"$f":"IF(EFECTOS!$N$9=\"COSTA RICA\",LOOKUP(1,GEfectos!$Q$4:$W$4,GEfectos!Q187:W187),IF(EFECTOS!$N$9=\"EL SALVADOR\",LOOKUP(2,GEfectos!$Q$4:$W$4,GEfectos!Q187:W187),IF(EFECTOS!$N$9=\"GUATEMALA\",LOOKUP(3,GEfectos!$Q$4:$W$4,GEfectos!Q187:W187),IF(EFECTOS!$N$9=\"HONDURAS\",LOOKUP(4,GEfectos!$Q$4:$W$4,GEfectos!Q187:W187),IF(EFECTOS!$N$9=\"NICARAGUA\",LOOKUP(5,GEfectos!$Q$4:$W$4,GEfectos!Q187:W187),IF(EFECTOS!$N$9=\"REPÚBLICA \nDOMINICANA\",LOOKUP(6,$Q$4:$W$4,Q187:W187),IF(EFECTOS!$N$9=\"PANAMÁ\",LOOKUP(7,GEfectos!$Q$4:$W$4,GEfectos!Q187:W187))))))))","v":193.75829684879616},100]
[null,{"$f":"'ITCER GLOBAL'!B188","v":"Marzo"},{"$f":"'ITCER GLOBAL'!C188","v":90.847609626865975},{"$f":"'ITCER GLOBAL'!D188","v":102.76350714197127},{"$f":"'ITCER GLOBAL'!E188","v":74.214058131666775},{"$f":"'ITCER GLOBAL'!F188","v":88.059046060785576},{"$f":"'ITCER GLOBAL'!G188","v":109.01191256692059},{"$f":"'ITCER GLOBAL'!H188","v":120.78046819743702},{"$f":"'ITCER GLOBAL'!I188","v":107.74252265478488},{"$f":"'ITCER GLOBAL'!S188","v":175.72355097931873},{"$f":"'ITCER GLOBAL'!T188","v":96.778102769587548},{"$f":"'ITCER GLOBAL'!U188","v":101.2228138898793},{"$f":"'ITCER GLOBAL'!V188","v":124.27999389733229},{"$f":"'ITCER GLOBAL'!W188","v":157.55585536502917},{"$f":"'ITCER GLOBAL'!X188","v":226.19343572247067},{"$f":"'ITCER GLOBAL'!Y188","v":101.42436908423132},{"$f":"'ITCER GLOBAL'!AA188","v":193.42671942724706},{"$f":"'ITCER GLOBAL'!AB188","v":94.175554592434565},{"$f":"'ITCER GLOBAL'!AC188","v":136.39304525066527},{"$f":"'ITCER GLOBAL'!AD188","v":141.13256894873024},{"$f":"'ITCER GLOBAL'!AE188","v":144.53086057756144},{"$f":"'ITCER GLOBAL'!AF188","v":187.27650182040819},{"$f":"'ITCER GLOBAL'!AG188","v":94.135877446644344},null,{"$f":"IF(EFECTOS!$N$9=\"COSTA RICA\",LOOKUP(1,GEfectos!$C$4:$I$4,GEfectos!C188:I188),IF(EFECTOS!$N$9=\"EL SALVADOR\",LOOKUP(2,GEfectos!$C$4:$I$4,GEfectos!C188:I188),IF(EFECTOS!$N$9=\"GUATEMALA\",LOOKUP(3,GEfectos!$C$4:$I$4,GEfectos!C188:I188),IF(EFECTOS!$N$9=\"HONDURAS\",LOOKUP(4,GEfectos!$C$4:$I$4,GEfectos!C188:I188),IF(EFECTOS!$N$9=\"NICARAGUA\",LOOKUP(5,GEfectos!$C$4:$I$4,GEfectos!C188:I188),IF(EFECTOS!$N$9=\"REPÚBLICA \nDOMINICANA\",LOOKUP(6,$C$4:$I$4,C188:I188),IF(EFECTOS!$N$9=\"PANAMÁ\",LOOKUP(7,GEfectos!$C$4:$I$4,GEfectos!C188:I188))))))))","v":90.847609626865975},{"$f":"IF(EFECTOS!$N$9=\"COSTA RICA\",LOOKUP(1,GEfectos!$J$4:$P$4,GEfectos!J188:P188),IF(EFECTOS!$N$9=\"EL SALVADOR\",LOOKUP(2,GEfectos!$J$4:$P$4,GEfectos!J188:P188),IF(EFECTOS!$N$9=\"GUATEMALA\",LOOKUP(3,GEfectos!$J$4:$P$4,GEfectos!J188:P188),IF(EFECTOS!$N$9=\"HONDURAS\",LOOKUP(4,GEfectos!$J$4:$P$4,GEfectos!J188:P188),IF(EFECTOS!$N$9=\"NICARAGUA\",LOOKUP(5,GEfectos!$J$4:$P$4,GEfectos!J188:P188),IF(EFECTOS!$N$9=\"REPÚBLICA \nDOMINICANA\",LOOKUP(6,$J$4:$P$4,J188:P188),IF(EFECTOS!$N$9=\"PANAMÁ\",LOOKUP(7,GEfectos!$J$4:$P$4,GEfectos!J188:P188))))))))","v":175.72355097931873},{"$f":"IF(EFECTOS!$N$9=\"COSTA RICA\",LOOKUP(1,GEfectos!$Q$4:$W$4,GEfectos!Q188:W188),IF(EFECTOS!$N$9=\"EL SALVADOR\",LOOKUP(2,GEfectos!$Q$4:$W$4,GEfectos!Q188:W188),IF(EFECTOS!$N$9=\"GUATEMALA\",LOOKUP(3,GEfectos!$Q$4:$W$4,GEfectos!Q188:W188),IF(EFECTOS!$N$9=\"HONDURAS\",LOOKUP(4,GEfectos!$Q$4:$W$4,GEfectos!Q188:W188),IF(EFECTOS!$N$9=\"NICARAGUA\",LOOKUP(5,GEfectos!$Q$4:$W$4,GEfectos!Q188:W188),IF(EFECTOS!$N$9=\"REPÚBLICA \nDOMINICANA\",LOOKUP(6,$Q$4:$W$4,Q188:W188),IF(EFECTOS!$N$9=\"PANAMÁ\",LOOKUP(7,GEfectos!$Q$4:$W$4,GEfectos!Q188:W188))))))))","v":193.42671942724706},100]
[null,{"$f":"'ITCER GLOBAL'!B189","v":"Abril"},{"$f":"'ITCER GLOBAL'!C189","v":87.257784665895997},{"$f":"'ITCER GLOBAL'!D189","v":103.39843055475568},{"$f":"'ITCER GLOBAL'!E189","v":74.487018224164814},{"$f":"'ITCER GLOBAL'!F189","v":87.940673489959991},{"$f":"'ITCER GLOBAL'!G189","v":109.78870969089375},{"$f":"'ITCER GLOBAL'!H189","v":121.01605633815349},{"$f":"'ITCER GLOBAL'!I189","v":107.88108327367836},{"$f":"'ITCER GLOBAL'!S189","v":168.55113961072738},{"$f":"'ITCER GLOBAL'!T189","v":97.034064645448936},{"$f":"'ITCER GLOBAL'!U189","v":101.34782637806994},{"$f":"'ITCER GLOBAL'!V189","v":124.58145620303951},{"$f":"'ITCER GLOBAL'!W189","v":158.98321298418338},{"$f":"'ITCER GLOBAL'!X189","v":226.97588768832264},{"$f":"'ITCER GLOBAL'!Y189","v":101.69159773421366},{"$f":"'ITCER GLOBAL'!AA189","v":193.16458726988998},{"$f":"'ITCER GLOBAL'!AB189","v":93.844813818584569},{"$f":"'ITCER GLOBAL'!AC189","v":136.06105975818352},{"$f":"'ITCER GLOBAL'!AD189","v":141.66534239388409},{"$f":"'ITCER GLOBAL'!AE189","v":144.80834452995671},{"$f":"'ITCER GLOBAL'!AF189","v":187.55848980410258},{"$f":"'ITCER GLOBAL'!AG189","v":94.262677615349034},null,{"$f":"IF(EFECTOS!$N$9=\"COSTA RICA\",LOOKUP(1,GEfectos!$C$4:$I$4,GEfectos!C189:I189),IF(EFECTOS!$N$9=\"EL SALVADOR\",LOOKUP(2,GEfectos!$C$4:$I$4,GEfectos!C189:I189),IF(EFECTOS!$N$9=\"GUATEMALA\",LOOKUP(3,GEfectos!$C$4:$I$4,GEfectos!C189:I189),IF(EFECTOS!$N$9=\"HONDURAS\",LOOKUP(4,GEfectos!$C$4:$I$4,GEfectos!C189:I189),IF(EFECTOS!$N$9=\"NICARAGUA\",LOOKUP(5,GEfectos!$C$4:$I$4,GEfectos!C189:I189),IF(EFECTOS!$N$9=\"REPÚBLICA \nDOMINICANA\",LOOKUP(6,$C$4:$I$4,C189:I189),IF(EFECTOS!$N$9=\"PANAMÁ\",LOOKUP(7,GEfectos!$C$4:$I$4,GEfectos!C189:I189))))))))","v":87.257784665895997},{"$f":"IF(EFECTOS!$N$9=\"COSTA RICA\",LOOKUP(1,GEfectos!$J$4:$P$4,GEfectos!J189:P189),IF(EFECTOS!$N$9=\"EL SALVADOR\",LOOKUP(2,GEfectos!$J$4:$P$4,GEfectos!J189:P189),IF(EFECTOS!$N$9=\"GUATEMALA\",LOOKUP(3,GEfectos!$J$4:$P$4,GEfectos!J189:P189),IF(EFECTOS!$N$9=\"HONDURAS\",LOOKUP(4,GEfectos!$J$4:$P$4,GEfectos!J189:P189),IF(EFECTOS!$N$9=\"NICARAGUA\",LOOKUP(5,GEfectos!$J$4:$P$4,GEfectos!J189:P189),IF(EFECTOS!$N$9=\"REPÚBLICA \nDOMINICANA\",LOOKUP(6,$J$4:$P$4,J189:P189),IF(EFECTOS!$N$9=\"PANAMÁ\",LOOKUP(7,GEfectos!$J$4:$P$4,GEfectos!J189:P189))))))))","v":168.55113961072738},{"$f":"IF(EFECTOS!$N$9=\"COSTA RICA\",LOOKUP(1,GEfectos!$Q$4:$W$4,GEfectos!Q189:W189),IF(EFECTOS!$N$9=\"EL SALVADOR\",LOOKUP(2,GEfectos!$Q$4:$W$4,GEfectos!Q189:W189),IF(EFECTOS!$N$9=\"GUATEMALA\",LOOKUP(3,GEfectos!$Q$4:$W$4,GEfectos!Q189:W189),IF(EFECTOS!$N$9=\"HONDURAS\",LOOKUP(4,GEfectos!$Q$4:$W$4,GEfectos!Q189:W189),IF(EFECTOS!$N$9=\"NICARAGUA\",LOOKUP(5,GEfectos!$Q$4:$W$4,GEfectos!Q189:W189),IF(EFECTOS!$N$9=\"REPÚBLICA \nDOMINICANA\",LOOKUP(6,$Q$4:$W$4,Q189:W189),IF(EFECTOS!$N$9=\"PANAMÁ\",LOOKUP(7,GEfectos!$Q$4:$W$4,GEfectos!Q189:W189))))))))","v":193.16458726988998},100]
[null,{"$f":"'ITCER GLOBAL'!B190","v":"Mayo"},{"$f":"'ITCER GLOBAL'!C190","v":87.68299414339873},{"$f":"'ITCER GLOBAL'!D190","v":102.69934078481795},{"$f":"'ITCER GLOBAL'!E190","v":73.685177723198123},{"$f":"'ITCER GLOBAL'!F190","v":86.861904344297855},{"$f":"'ITCER GLOBAL'!G190","v":108.83536954780899},{"$f":"'ITCER GLOBAL'!H190","v":120.25313678990067},{"$f":"'ITCER GLOBAL'!I190","v":106.25713853093455},{"$f":"'ITCER GLOBAL'!S190","v":170.21093489924024},{"$f":"'ITCER GLOBAL'!T190","v":96.144389978596095},{"$f":"'ITCER GLOBAL'!U190","v":100.14787114597536},{"$f":"'ITCER GLOBAL'!V190","v":123.25733693452739},{"$f":"'ITCER GLOBAL'!W190","v":157.47920684452259},{"$f":"'ITCER GLOBAL'!X190","v":226.20229439141534},{"$f":"'ITCER GLOBAL'!Y190","v":100.34231257744919},{"$f":"'ITCER GLOBAL'!AA190","v":194.12080593515483},{"$f":"'ITCER GLOBAL'!AB190","v":93.617338966219663},{"$f":"'ITCER GLOBAL'!AC190","v":135.91318395428942},{"$f":"'ITCER GLOBAL'!AD190","v":141.90033923959066},{"$f":"'ITCER GLOBAL'!AE190","v":144.69487952199714},{"$f":"'ITCER GLOBAL'!AF190","v":188.105109296752},{"$f":"'ITCER GLOBAL'!AG190","v":94.433478978202118},null,{"$f":"IF(EFECTOS!$N$9=\"COSTA RICA\",LOOKUP(1,GEfectos!$C$4:$I$4,GEfectos!C190:I190),IF(EFECTOS!$N$9=\"EL SALVADOR\",LOOKUP(2,GEfectos!$C$4:$I$4,GEfectos!C190:I190),IF(EFECTOS!$N$9=\"GUATEMALA\",LOOKUP(3,GEfectos!$C$4:$I$4,GEfectos!C190:I190),IF(EFECTOS!$N$9=\"HONDURAS\",LOOKUP(4,GEfectos!$C$4:$I$4,GEfectos!C190:I190),IF(EFECTOS!$N$9=\"NICARAGUA\",LOOKUP(5,GEfectos!$C$4:$I$4,GEfectos!C190:I190),IF(EFECTOS!$N$9=\"REPÚBLICA \nDOMINICANA\",LOOKUP(6,$C$4:$I$4,C190:I190),IF(EFECTOS!$N$9=\"PANAMÁ\",LOOKUP(7,GEfectos!$C$4:$I$4,GEfectos!C190:I190))))))))","v":87.68299414339873},{"$f":"IF(EFECTOS!$N$9=\"COSTA RICA\",LOOKUP(1,GEfectos!$J$4:$P$4,GEfectos!J190:P190),IF(EFECTOS!$N$9=\"EL SALVADOR\",LOOKUP(2,GEfectos!$J$4:$P$4,GEfectos!J190:P190),IF(EFECTOS!$N$9=\"GUATEMALA\",LOOKUP(3,GEfectos!$J$4:$P$4,GEfectos!J190:P190),IF(EFECTOS!$N$9=\"HONDURAS\",LOOKUP(4,GEfectos!$J$4:$P$4,GEfectos!J190:P190),IF(EFECTOS!$N$9=\"NICARAGUA\",LOOKUP(5,GEfectos!$J$4:$P$4,GEfectos!J190:P190),IF(EFECTOS!$N$9=\"REPÚBLICA \nDOMINICANA\",LOOKUP(6,$J$4:$P$4,J190:P190),IF(EFECTOS!$N$9=\"PANAMÁ\",LOOKUP(7,GEfectos!$J$4:$P$4,GEfectos!J190:P190))))))))","v":170.21093489924024},{"$f":"IF(EFECTOS!$N$9=\"COSTA RICA\",LOOKUP(1,GEfectos!$Q$4:$W$4,GEfectos!Q190:W190),IF(EFECTOS!$N$9=\"EL SALVADOR\",LOOKUP(2,GEfectos!$Q$4:$W$4,GEfectos!Q190:W190),IF(EFECTOS!$N$9=\"GUATEMALA\",LOOKUP(3,GEfectos!$Q$4:$W$4,GEfectos!Q190:W190),IF(EFECTOS!$N$9=\"HONDURAS\",LOOKUP(4,GEfectos!$Q$4:$W$4,GEfectos!Q190:W190),IF(EFECTOS!$N$9=\"NICARAGUA\",LOOKUP(5,GEfectos!$Q$4:$W$4,GEfectos!Q190:W190),IF(EFECTOS!$N$9=\"REPÚBLICA \nDOMINICANA\",LOOKUP(6,$Q$4:$W$4,Q190:W190),IF(EFECTOS!$N$9=\"PANAMÁ\",LOOKUP(7,GEfectos!$Q$4:$W$4,GEfectos!Q190:W190))))))))","v":194.12080593515483},100]
[null,{"$f":"'ITCER GLOBAL'!B191","v":"Junio"},{"$f":"'ITCER GLOBAL'!C191","v":88.416338397096482},{"$f":"'ITCER GLOBAL'!D191","v":102.03802881739173},{"$f":"'ITCER GLOBAL'!E191","v":73.235511459268807},{"$f":"'ITCER GLOBAL'!F191","v":86.276833037982385},{"$f":"'ITCER GLOBAL'!G191","v":108.83505607304339},{"$f":"'ITCER GLOBAL'!H191","v":120.27606266355836},{"$f":"'ITCER GLOBAL'!I191","v":105.76964519022984},{"$f":"'ITCER GLOBAL'!S191","v":172.20361877373008},{"$f":"'ITCER GLOBAL'!T191","v":95.936161307622868},{"$f":"'ITCER GLOBAL'!U191","v":100.05100441675772},{"$f":"'ITCER GLOBAL'!V191","v":122.90081124182875},{"$f":"'ITCER GLOBAL'!W191","v":157.4024715617177},{"$f":"'ITCER GLOBAL'!X191","v":226.06605502637956},{"$f":"'ITCER GLOBAL'!Y191","v":100.02927161938169},{"$f":"'ITCER GLOBAL'!AA191","v":194.76447667435309},{"$f":"'ITCER GLOBAL'!AB191","v":94.020006481417994},{"$f":"'ITCER GLOBAL'!AC191","v":136.61542388818137},{"$f":"'ITCER GLOBAL'!AD191","v":142.44937709723661},{"$f":"'ITCER GLOBAL'!AE191","v":144.62479024780293},{"$f":"'ITCER GLOBAL'!AF191","v":187.9559822794846},{"$f":"'ITCER GLOBAL'!AG191","v":94.572758979644959},null,{"$f":"IF(EFECTOS!$N$9=\"COSTA RICA\",LOOKUP(1,GEfectos!$C$4:$I$4,GEfectos!C191:I191),IF(EFECTOS!$N$9=\"EL SALVADOR\",LOOKUP(2,GEfectos!$C$4:$I$4,GEfectos!C191:I191),IF(EFECTOS!$N$9=\"GUATEMALA\",LOOKUP(3,GEfectos!$C$4:$I$4,GEfectos!C191:I191),IF(EFECTOS!$N$9=\"HONDURAS\",LOOKUP(4,GEfectos!$C$4:$I$4,GEfectos!C191:I191),IF(EFECTOS!$N$9=\"NICARAGUA\",LOOKUP(5,GEfectos!$C$4:$I$4,GEfectos!C191:I191),IF(EFECTOS!$N$9=\"REPÚBLICA \nDOMINICANA\",LOOKUP(6,$C$4:$I$4,C191:I191),IF(EFECTOS!$N$9=\"PANAMÁ\",LOOKUP(7,GEfectos!$C$4:$I$4,GEfectos!C191:I191))))))))","v":88.416338397096482},{"$f":"IF(EFECTOS!$N$9=\"COSTA RICA\",LOOKUP(1,GEfectos!$J$4:$P$4,GEfectos!J191:P191),IF(EFECTOS!$N$9=\"EL SALVADOR\",LOOKUP(2,GEfectos!$J$4:$P$4,GEfectos!J191:P191),IF(EFECTOS!$N$9=\"GUATEMALA\",LOOKUP(3,GEfectos!$J$4:$P$4,GEfectos!J191:P191),IF(EFECTOS!$N$9=\"HONDURAS\",LOOKUP(4,GEfectos!$J$4:$P$4,GEfectos!J191:P191),IF(EFECTOS!$N$9=\"NICARAGUA\",LOOKUP(5,GEfectos!$J$4:$P$4,GEfectos!J191:P191),IF(EFECTOS!$N$9=\"REPÚBLICA \nDOMINICANA\",LOOKUP(6,$J$4:$P$4,J191:P191),IF(EFECTOS!$N$9=\"PANAMÁ\",LOOKUP(7,GEfectos!$J$4:$P$4,GEfectos!J191:P191))))))))","v":172.20361877373008},{"$f":"IF(EFECTOS!$N$9=\"COSTA RICA\",LOOKUP(1,GEfectos!$Q$4:$W$4,GEfectos!Q191:W191),IF(EFECTOS!$N$9=\"EL SALVADOR\",LOOKUP(2,GEfectos!$Q$4:$W$4,GEfectos!Q191:W191),IF(EFECTOS!$N$9=\"GUATEMALA\",LOOKUP(3,GEfectos!$Q$4:$W$4,GEfectos!Q191:W191),IF(EFECTOS!$N$9=\"HONDURAS\",LOOKUP(4,GEfectos!$Q$4:$W$4,GEfectos!Q191:W191),IF(EFECTOS!$N$9=\"NICARAGUA\",LOOKUP(5,GEfectos!$Q$4:$W$4,GEfectos!Q191:W191),IF(EFECTOS!$N$9=\"REPÚBLICA \nDOMINICANA\",LOOKUP(6,$Q$4:$W$4,Q191:W191),IF(EFECTOS!$N$9=\"PANAMÁ\",LOOKUP(7,GEfectos!$Q$4:$W$4,GEfectos!Q191:W191))))))))","v":194.76447667435309},100]
[null,{"$f":"'ITCER GLOBAL'!B192","v":"Julio"},{"$f":"'ITCER GLOBAL'!C192","v":87.054367908130416},{"$f":"'ITCER GLOBAL'!D192","v":102.69467703919776},{"$f":"'ITCER GLOBAL'!E192","v":73.388366340285373},{"$f":"'ITCER GLOBAL'!F192","v":86.355612721696062},{"$f":"'ITCER GLOBAL'!G192","v":109.27352493775064},{"$f":"'ITCER GLOBAL'!H192","v":121.01171144886264},{"$f":"'ITCER GLOBAL'!I192","v":105.7173127200065},{"$f":"'ITCER GLOBAL'!S192","v":169.93974898655776},{"$f":"'ITCER GLOBAL'!T192","v":96.392188508578883},{"$f":"'ITCER GLOBAL'!U192","v":100.49509964047223},{"$f":"'ITCER GLOBAL'!V192","v":123.64624384887964},{"$f":"'ITCER GLOBAL'!W192","v":159.20378661312972},{"$f":"'ITCER GLOBAL'!X192","v":228.15535928036908},{"$f":"'ITCER GLOBAL'!Y192","v":101.04340808622976},{"$f":"'ITCER GLOBAL'!AA192","v":195.21105381627413},{"$f":"'ITCER GLOBAL'!AB192","v":93.862886848348282},{"$f":"'ITCER GLOBAL'!AC192","v":136.93600859637482},{"$f":"'ITCER GLOBAL'!AD192","v":143.18263741276732},{"$f":"'ITCER GLOBAL'!AE192","v":145.69291756976142},{"$f":"'ITCER GLOBAL'!AF192","v":188.53989960862873},{"$f":"'ITCER GLOBAL'!AG192","v":95.578865453990844},null,{"$f":"IF(EFECTOS!$N$9=\"COSTA RICA\",LOOKUP(1,GEfectos!$C$4:$I$4,GEfectos!C192:I192),IF(EFECTOS!$N$9=\"EL SALVADOR\",LOOKUP(2,GEfectos!$C$4:$I$4,GEfectos!C192:I192),IF(EFECTOS!$N$9=\"GUATEMALA\",LOOKUP(3,GEfectos!$C$4:$I$4,GEfectos!C192:I192),IF(EFECTOS!$N$9=\"HONDURAS\",LOOKUP(4,GEfectos!$C$4:$I$4,GEfectos!C192:I192),IF(EFECTOS!$N$9=\"NICARAGUA\",LOOKUP(5,GEfectos!$C$4:$I$4,GEfectos!C192:I192),IF(EFECTOS!$N$9=\"REPÚBLICA \nDOMINICANA\",LOOKUP(6,$C$4:$I$4,C192:I192),IF(EFECTOS!$N$9=\"PANAMÁ\",LOOKUP(7,GEfectos!$C$4:$I$4,GEfectos!C192:I192))))))))","v":87.054367908130416},{"$f":"IF(EFECTOS!$N$9=\"COSTA RICA\",LOOKUP(1,GEfectos!$J$4:$P$4,GEfectos!J192:P192),IF(EFECTOS!$N$9=\"EL SALVADOR\",LOOKUP(2,GEfectos!$J$4:$P$4,GEfectos!J192:P192),IF(EFECTOS!$N$9=\"GUATEMALA\",LOOKUP(3,GEfectos!$J$4:$P$4,GEfectos!J192:P192),IF(EFECTOS!$N$9=\"HONDURAS\",LOOKUP(4,GEfectos!$J$4:$P$4,GEfectos!J192:P192),IF(EFECTOS!$N$9=\"NICARAGUA\",LOOKUP(5,GEfectos!$J$4:$P$4,GEfectos!J192:P192),IF(EFECTOS!$N$9=\"REPÚBLICA \nDOMINICANA\",LOOKUP(6,$J$4:$P$4,J192:P192),IF(EFECTOS!$N$9=\"PANAMÁ\",LOOKUP(7,GEfectos!$J$4:$P$4,GEfectos!J192:P192))))))))","v":169.93974898655776},{"$f":"IF(EFECTOS!$N$9=\"COSTA RICA\",LOOKUP(1,GEfectos!$Q$4:$W$4,GEfectos!Q192:W192),IF(EFECTOS!$N$9=\"EL SALVADOR\",LOOKUP(2,GEfectos!$Q$4:$W$4,GEfectos!Q192:W192),IF(EFECTOS!$N$9=\"GUATEMALA\",LOOKUP(3,GEfectos!$Q$4:$W$4,GEfectos!Q192:W192),IF(EFECTOS!$N$9=\"HONDURAS\",LOOKUP(4,GEfectos!$Q$4:$W$4,GEfectos!Q192:W192),IF(EFECTOS!$N$9=\"NICARAGUA\",LOOKUP(5,GEfectos!$Q$4:$W$4,GEfectos!Q192:W192),IF(EFECTOS!$N$9=\"REPÚBLICA \nDOMINICANA\",LOOKUP(6,$Q$4:$W$4,Q192:W192),IF(EFECTOS!$N$9=\"PANAMÁ\",LOOKUP(7,GEfectos!$Q$4:$W$4,GEfectos!Q192:W192))))))))","v":195.21105381627413},100]
[null,{"$f":"'ITCER GLOBAL'!B193","v":"Agosto"},{"$f":"'ITCER GLOBAL'!C193","v":85.323891705554345},{"$f":"'ITCER GLOBAL'!D193","v":103.28384238539786},{"$f":"'ITCER GLOBAL'!E193","v":73.791294645363905},{"$f":"'ITCER GLOBAL'!F193","v":86.337699563396811},{"$f":"'ITCER GLOBAL'!G193","v":111.11493828723441},{"$f":"'ITCER GLOBAL'!H193","v":121.67888336975346},{"$f":"'ITCER GLOBAL'!I193","v":106.00582568283724},{"$f":"'ITCER GLOBAL'!S193","v":166.56180554642842},{"$f":"'ITCER GLOBAL'!T193","v":96.612212433580225},{"$f":"'ITCER GLOBAL'!U193","v":100.91846482694118},{"$f":"'ITCER GLOBAL'!V193","v":124.00822637816029},{"$f":"'ITCER GLOBAL'!W193","v":160.77054900846375},{"$f":"'ITCER GLOBAL'!X193","v":229.49059493023546},{"$f":"'ITCER GLOBAL'!Y193","v":101.67541696006437},{"$f":"'ITCER GLOBAL'!AA193","v":195.21121483912077},{"$f":"'ITCER GLOBAL'!AB193","v":93.54049016987301},{"$f":"'ITCER GLOBAL'!AC193","v":136.7620195741905},{"$f":"'ITCER GLOBAL'!AD193","v":143.63160821432638},{"$f":"'ITCER GLOBAL'!AE193","v":144.68851037190748},{"$f":"'ITCER GLOBAL'!AF193","v":188.6034688803542},{"$f":"'ITCER GLOBAL'!AG193","v":95.914933264395117},null,{"$f":"IF(EFECTOS!$N$9=\"COSTA RICA\",LOOKUP(1,GEfectos!$C$4:$I$4,GEfectos!C193:I193),IF(EFECTOS!$N$9=\"EL SALVADOR\",LOOKUP(2,GEfectos!$C$4:$I$4,GEfectos!C193:I193),IF(EFECTOS!$N$9=\"GUATEMALA\",LOOKUP(3,GEfectos!$C$4:$I$4,GEfectos!C193:I193),IF(EFECTOS!$N$9=\"HONDURAS\",LOOKUP(4,GEfectos!$C$4:$I$4,GEfectos!C193:I193),IF(EFECTOS!$N$9=\"NICARAGUA\",LOOKUP(5,GEfectos!$C$4:$I$4,GEfectos!C193:I193),IF(EFECTOS!$N$9=\"REPÚBLICA \nDOMINICANA\",LOOKUP(6,$C$4:$I$4,C193:I193),IF(EFECTOS!$N$9=\"PANAMÁ\",LOOKUP(7,GEfectos!$C$4:$I$4,GEfectos!C193:I193))))))))","v":85.323891705554345},{"$f":"IF(EFECTOS!$N$9=\"COSTA RICA\",LOOKUP(1,GEfectos!$J$4:$P$4,GEfectos!J193:P193),IF(EFECTOS!$N$9=\"EL SALVADOR\",LOOKUP(2,GEfectos!$J$4:$P$4,GEfectos!J193:P193),IF(EFECTOS!$N$9=\"GUATEMALA\",LOOKUP(3,GEfectos!$J$4:$P$4,GEfectos!J193:P193),IF(EFECTOS!$N$9=\"HONDURAS\",LOOKUP(4,GEfectos!$J$4:$P$4,GEfectos!J193:P193),IF(EFECTOS!$N$9=\"NICARAGUA\",LOOKUP(5,GEfectos!$J$4:$P$4,GEfectos!J193:P193),IF(EFECTOS!$N$9=\"REPÚBLICA \nDOMINICANA\",LOOKUP(6,$J$4:$P$4,J193:P193),IF(EFECTOS!$N$9=\"PANAMÁ\",LOOKUP(7,GEfectos!$J$4:$P$4,GEfectos!J193:P193))))))))","v":166.56180554642842},{"$f":"IF(EFECTOS!$N$9=\"COSTA RICA\",LOOKUP(1,GEfectos!$Q$4:$W$4,GEfectos!Q193:W193),IF(EFECTOS!$N$9=\"EL SALVADOR\",LOOKUP(2,GEfectos!$Q$4:$W$4,GEfectos!Q193:W193),IF(EFECTOS!$N$9=\"GUATEMALA\",LOOKUP(3,GEfectos!$Q$4:$W$4,GEfectos!Q193:W193),IF(EFECTOS!$N$9=\"HONDURAS\",LOOKUP(4,GEfectos!$Q$4:$W$4,GEfectos!Q193:W193),IF(EFECTOS!$N$9=\"NICARAGUA\",LOOKUP(5,GEfectos!$Q$4:$W$4,GEfectos!Q193:W193),IF(EFECTOS!$N$9=\"REPÚBLICA \nDOMINICANA\",LOOKUP(6,$Q$4:$W$4,Q193:W193),IF(EFECTOS!$N$9=\"PANAMÁ\",LOOKUP(7,GEfectos!$Q$4:$W$4,GEfectos!Q193:W193))))))))","v":195.21121483912077},100]
[null,{"$f":"'ITCER GLOBAL'!B194","v":"Septiembre"},{"$f":"'ITCER GLOBAL'!C194","v":85.564155833440154},{"$f":"'ITCER GLOBAL'!D194","v":103.30768268488654},{"$f":"'ITCER GLOBAL'!E194","v":74.530867623740576},{"$f":"'ITCER GLOBAL'!F194","v":86.106622048653847},{"$f":"'ITCER GLOBAL'!G194","v":111.66777138517142},{"$f":"'ITCER GLOBAL'!H194","v":121.5989761312911},{"$f":"'ITCER GLOBAL'!I194","v":106.63809573607654},{"$f":"'ITCER GLOBAL'!S194","v":166.49803641441804},{"$f":"'ITCER GLOBAL'!T194","v":96.699372665688941},{"$f":"'ITCER GLOBAL'!U194","v":101.98373163533714},{"$f":"'ITCER GLOBAL'!V194","v":124.16707413622947},{"$f":"'ITCER GLOBAL'!W194","v":161.84285635654462},{"$f":"'ITCER GLOBAL'!X194","v":230.73647296857862},{"$f":"'ITCER GLOBAL'!Y194","v":102.07574991659207},{"$f":"'ITCER GLOBAL'!AA194","v":194.58853393998817},{"$f":"'ITCER GLOBAL'!AB194","v":93.603273398983745},{"$f":"'ITCER GLOBAL'!AC194","v":136.83422035308752},{"$f":"'ITCER GLOBAL'!AD194","v":144.20153895489},{"$f":"'ITCER GLOBAL'!AE194","v":144.93246739769364},{"$f":"'ITCER GLOBAL'!AF194","v":189.75198666101528},{"$f":"'ITCER GLOBAL'!AG194","v":95.721654828893392},null,{"$f":"IF(EFECTOS!$N$9=\"COSTA RICA\",LOOKUP(1,GEfectos!$C$4:$I$4,GEfectos!C194:I194),IF(EFECTOS!$N$9=\"EL SALVADOR\",LOOKUP(2,GEfectos!$C$4:$I$4,GEfectos!C194:I194),IF(EFECTOS!$N$9=\"GUATEMALA\",LOOKUP(3,GEfectos!$C$4:$I$4,GEfectos!C194:I194),IF(EFECTOS!$N$9=\"HONDURAS\",LOOKUP(4,GEfectos!$C$4:$I$4,GEfectos!C194:I194),IF(EFECTOS!$N$9=\"NICARAGUA\",LOOKUP(5,GEfectos!$C$4:$I$4,GEfectos!C194:I194),IF(EFECTOS!$N$9=\"REPÚBLICA \nDOMINICANA\",LOOKUP(6,$C$4:$I$4,C194:I194),IF(EFECTOS!$N$9=\"PANAMÁ\",LOOKUP(7,GEfectos!$C$4:$I$4,GEfectos!C194:I194))))))))","v":85.564155833440154},{"$f":"IF(EFECTOS!$N$9=\"COSTA RICA\",LOOKUP(1,GEfectos!$J$4:$P$4,GEfectos!J194:P194),IF(EFECTOS!$N$9=\"EL SALVADOR\",LOOKUP(2,GEfectos!$J$4:$P$4,GEfectos!J194:P194),IF(EFECTOS!$N$9=\"GUATEMALA\",LOOKUP(3,GEfectos!$J$4:$P$4,GEfectos!J194:P194),IF(EFECTOS!$N$9=\"HONDURAS\",LOOKUP(4,GEfectos!$J$4:$P$4,GEfectos!J194:P194),IF(EFECTOS!$N$9=\"NICARAGUA\",LOOKUP(5,GEfectos!$J$4:$P$4,GEfectos!J194:P194),IF(EFECTOS!$N$9=\"REPÚBLICA \nDOMINICANA\",LOOKUP(6,$J$4:$P$4,J194:P194),IF(EFECTOS!$N$9=\"PANAMÁ\",LOOKUP(7,GEfectos!$J$4:$P$4,GEfectos!J194:P194))))))))","v":166.49803641441804},{"$f":"IF(EFECTOS!$N$9=\"COSTA RICA\",LOOKUP(1,GEfectos!$Q$4:$W$4,GEfectos!Q194:W194),IF(EFECTOS!$N$9=\"EL SALVADOR\",LOOKUP(2,GEfectos!$Q$4:$W$4,GEfectos!Q194:W194),IF(EFECTOS!$N$9=\"GUATEMALA\",LOOKUP(3,GEfectos!$Q$4:$W$4,GEfectos!Q194:W194),IF(EFECTOS!$N$9=\"HONDURAS\",LOOKUP(4,GEfectos!$Q$4:$W$4,GEfectos!Q194:W194),IF(EFECTOS!$N$9=\"NICARAGUA\",LOOKUP(5,GEfectos!$Q$4:$W$4,GEfectos!Q194:W194),IF(EFECTOS!$N$9=\"REPÚBLICA \nDOMINICANA\",LOOKUP(6,$Q$4:$W$4,Q194:W194),IF(EFECTOS!$N$9=\"PANAMÁ\",LOOKUP(7,GEfectos!$Q$4:$W$4,GEfectos!Q194:W194))))))))","v":194.58853393998817},100]
[null,{"$f":"'ITCER GLOBAL'!B195","v":"Octubre"},{"$f":"'ITCER GLOBAL'!C195","v":86.528230718387718},{"$f":"'ITCER GLOBAL'!D195","v":103.87542763084913},{"$f":"'ITCER GLOBAL'!E195","v":74.918591020301889},{"$f":"'ITCER GLOBAL'!F195","v":86.391729652485608},{"$f":"'ITCER GLOBAL'!G195","v":111.52377085618201},{"$f":"'ITCER GLOBAL'!H195","v":122.95450550063634},{"$f":"'ITCER GLOBAL'!I195","v":108.08155435120788},{"$f":"'ITCER GLOBAL'!S195","v":168.57923118496524},{"$f":"'ITCER GLOBAL'!T195","v":97.464048290969288},{"$f":"'ITCER GLOBAL'!U195","v":102.66045701681605},{"$f":"'ITCER GLOBAL'!V195","v":125.30187521263176},{"$f":"'ITCER GLOBAL'!W195","v":164.41056059928925},{"$f":"'ITCER GLOBAL'!X195","v":234.28464186347136},{"$f":"'ITCER GLOBAL'!Y195","v":103.31360021242861},{"$f":"'ITCER GLOBAL'!AA195","v":194.82569998873359},{"$f":"'ITCER GLOBAL'!AB195","v":93.827819065482458},{"$f":"'ITCER GLOBAL'!AC195","v":137.02934828151868},{"$f":"'ITCER GLOBAL'!AD195","v":145.03920191974842},{"$f":"'ITCER GLOBAL'!AE195","v":147.42198845778682},{"$f":"'ITCER GLOBAL'!AF195","v":190.54579652004605},{"$f":"'ITCER GLOBAL'!AG195","v":95.5885588735281},null,{"$f":"IF(EFECTOS!$N$9=\"COSTA RICA\",LOOKUP(1,GEfectos!$C$4:$I$4,GEfectos!C195:I195),IF(EFECTOS!$N$9=\"EL SALVADOR\",LOOKUP(2,GEfectos!$C$4:$I$4,GEfectos!C195:I195),IF(EFECTOS!$N$9=\"GUATEMALA\",LOOKUP(3,GEfectos!$C$4:$I$4,GEfectos!C195:I195),IF(EFECTOS!$N$9=\"HONDURAS\",LOOKUP(4,GEfectos!$C$4:$I$4,GEfectos!C195:I195),IF(EFECTOS!$N$9=\"NICARAGUA\",LOOKUP(5,GEfectos!$C$4:$I$4,GEfectos!C195:I195),IF(EFECTOS!$N$9=\"REPÚBLICA \nDOMINICANA\",LOOKUP(6,$C$4:$I$4,C195:I195),IF(EFECTOS!$N$9=\"PANAMÁ\",LOOKUP(7,GEfectos!$C$4:$I$4,GEfectos!C195:I195))))))))","v":86.528230718387718},{"$f":"IF(EFECTOS!$N$9=\"COSTA RICA\",LOOKUP(1,GEfectos!$J$4:$P$4,GEfectos!J195:P195),IF(EFECTOS!$N$9=\"EL SALVADOR\",LOOKUP(2,GEfectos!$J$4:$P$4,GEfectos!J195:P195),IF(EFECTOS!$N$9=\"GUATEMALA\",LOOKUP(3,GEfectos!$J$4:$P$4,GEfectos!J195:P195),IF(EFECTOS!$N$9=\"HONDURAS\",LOOKUP(4,GEfectos!$J$4:$P$4,GEfectos!J195:P195),IF(EFECTOS!$N$9=\"NICARAGUA\",LOOKUP(5,GEfectos!$J$4:$P$4,GEfectos!J195:P195),IF(EFECTOS!$N$9=\"REPÚBLICA \nDOMINICANA\",LOOKUP(6,$J$4:$P$4,J195:P195),IF(EFECTOS!$N$9=\"PANAMÁ\",LOOKUP(7,GEfectos!$J$4:$P$4,GEfectos!J195:P195))))))))","v":168.57923118496524},{"$f":"IF(EFECTOS!$N$9=\"COSTA RICA\",LOOKUP(1,GEfectos!$Q$4:$W$4,GEfectos!Q195:W195),IF(EFECTOS!$N$9=\"EL SALVADOR\",LOOKUP(2,GEfectos!$Q$4:$W$4,GEfectos!Q195:W195),IF(EFECTOS!$N$9=\"GUATEMALA\",LOOKUP(3,GEfectos!$Q$4:$W$4,GEfectos!Q195:W195),IF(EFECTOS!$N$9=\"HONDURAS\",LOOKUP(4,GEfectos!$Q$4:$W$4,GEfectos!Q195:W195),IF(EFECTOS!$N$9=\"NICARAGUA\",LOOKUP(5,GEfectos!$Q$4:$W$4,GEfectos!Q195:W195),IF(EFECTOS!$N$9=\"REPÚBLICA \nDOMINICANA\",LOOKUP(6,$Q$4:$W$4,Q195:W195),IF(EFECTOS!$N$9=\"PANAMÁ\",LOOKUP(7,GEfectos!$Q$4:$W$4,GEfectos!Q195:W195))))))))","v":194.82569998873359},100]
[null,{"$f":"'ITCER GLOBAL'!B196","v":"Noviembre"},{"$f":"'ITCER GLOBAL'!C196","v":86.387956030933267},{"$f":"'ITCER GLOBAL'!D196","v":103.7334977912144},{"$f":"'ITCER GLOBAL'!E196","v":73.973220022047457},{"$f":"'ITCER GLOBAL'!F196","v":85.820340804746166},{"$f":"'ITCER GLOBAL'!G196","v":110.21709620867158},{"$f":"'ITCER GLOBAL'!H196","v":122.56946992152561},{"$f":"'ITCER GLOBAL'!I196","v":107.68926600133092},{"$f":"'ITCER GLOBAL'!S196","v":168.90413513780584},{"$f":"'ITCER GLOBAL'!T196","v":97.38400263029186},{"$f":"'ITCER GLOBAL'!U196","v":101.82318858076478},{"$f":"'ITCER GLOBAL'!V196","v":125.12226957782804},{"$f":"'ITCER GLOBAL'!W196","v":164.34597228823148},{"$f":"'ITCER GLOBAL'!X196","v":233.6794821854001},{"$f":"'ITCER GLOBAL'!Y196","v":102.92032495879819},{"$f":"'ITCER GLOBAL'!AA196","v":195.51815194854905},{"$f":"'ITCER GLOBAL'!AB196","v":93.879031078560331},{"$f":"'ITCER GLOBAL'!AC196","v":137.64871740126594},{"$f":"'ITCER GLOBAL'!AD196","v":145.79558692559789},{"$f":"'ITCER GLOBAL'!AE196","v":149.11114331762008},{"$f":"'ITCER GLOBAL'!AF196","v":190.65064272123561},{"$f":"'ITCER GLOBAL'!AG196","v":95.571572525646346},null,{"$f":"IF(EFECTOS!$N$9=\"COSTA RICA\",LOOKUP(1,GEfectos!$C$4:$I$4,GEfectos!C196:I196),IF(EFECTOS!$N$9=\"EL SALVADOR\",LOOKUP(2,GEfectos!$C$4:$I$4,GEfectos!C196:I196),IF(EFECTOS!$N$9=\"GUATEMALA\",LOOKUP(3,GEfectos!$C$4:$I$4,GEfectos!C196:I196),IF(EFECTOS!$N$9=\"HONDURAS\",LOOKUP(4,GEfectos!$C$4:$I$4,GEfectos!C196:I196),IF(EFECTOS!$N$9=\"NICARAGUA\",LOOKUP(5,GEfectos!$C$4:$I$4,GEfectos!C196:I196),IF(EFECTOS!$N$9=\"REPÚBLICA \nDOMINICANA\",LOOKUP(6,$C$4:$I$4,C196:I196),IF(EFECTOS!$N$9=\"PANAMÁ\",LOOKUP(7,GEfectos!$C$4:$I$4,GEfectos!C196:I196))))))))","v":86.387956030933267},{"$f":"IF(EFECTOS!$N$9=\"COSTA RICA\",LOOKUP(1,GEfectos!$J$4:$P$4,GEfectos!J196:P196),IF(EFECTOS!$N$9=\"EL SALVADOR\",LOOKUP(2,GEfectos!$J$4:$P$4,GEfectos!J196:P196),IF(EFECTOS!$N$9=\"GUATEMALA\",LOOKUP(3,GEfectos!$J$4:$P$4,GEfectos!J196:P196),IF(EFECTOS!$N$9=\"HONDURAS\",LOOKUP(4,GEfectos!$J$4:$P$4,GEfectos!J196:P196),IF(EFECTOS!$N$9=\"NICARAGUA\",LOOKUP(5,GEfectos!$J$4:$P$4,GEfectos!J196:P196),IF(EFECTOS!$N$9=\"REPÚBLICA \nDOMINICANA\",LOOKUP(6,$J$4:$P$4,J196:P196),IF(EFECTOS!$N$9=\"PANAMÁ\",LOOKUP(7,GEfectos!$J$4:$P$4,GEfectos!J196:P196))))))))","v":168.90413513780584},{"$f":"IF(EFECTOS!$N$9=\"COSTA RICA\",LOOKUP(1,GEfectos!$Q$4:$W$4,GEfectos!Q196:W196),IF(EFECTOS!$N$9=\"EL SALVADOR\",LOOKUP(2,GEfectos!$Q$4:$W$4,GEfectos!Q196:W196),IF(EFECTOS!$N$9=\"GUATEMALA\",LOOKUP(3,GEfectos!$Q$4:$W$4,GEfectos!Q196:W196),IF(EFECTOS!$N$9=\"HONDURAS\",LOOKUP(4,GEfectos!$Q$4:$W$4,GEfectos!Q196:W196),IF(EFECTOS!$N$9=\"NICARAGUA\",LOOKUP(5,GEfectos!$Q$4:$W$4,GEfectos!Q196:W196),IF(EFECTOS!$N$9=\"REPÚBLICA \nDOMINICANA\",LOOKUP(6,$Q$4:$W$4,Q196:W196),IF(EFECTOS!$N$9=\"PANAMÁ\",LOOKUP(7,GEfectos!$Q$4:$W$4,GEfectos!Q196:W196))))))))","v":195.51815194854905},100]
[null,{"$f":"'ITCER GLOBAL'!B197","v":"Diciembre"},{"$f":"'ITCER GLOBAL'!C197","v":84.532970783051979},{"$f":"'ITCER GLOBAL'!D197","v":103.9403471573782},{"$f":"'ITCER GLOBAL'!E197","v":73.612831026413033},{"$f":"'ITCER GLOBAL'!F197","v":85.825212538526969},{"$f":"'ITCER GLOBAL'!G197","v":109.92378808004099},{"$f":"'ITCER GLOBAL'!H197","v":121.67762391883286},{"$f":"'ITCER GLOBAL'!I197","v":106.83210127018226},{"$f":"'ITCER GLOBAL'!S197","v":165.98734723193317},{"$f":"'ITCER GLOBAL'!T197","v":97.200807516390043},{"$f":"'ITCER GLOBAL'!U197","v":101.12074919653892},{"$f":"'ITCER GLOBAL'!V197","v":124.77406916180603},{"$f":"'ITCER GLOBAL'!W197","v":164.48388842913576},{"$f":"'ITCER GLOBAL'!X197","v":233.27852757321196},{"$f":"'ITCER GLOBAL'!Y197","v":102.48036210745106},{"$f":"'ITCER GLOBAL'!AA197","v":196.35811411138999},{"$f":"'ITCER GLOBAL'!AB197","v":93.51595427059361},{"$f":"'ITCER GLOBAL'!AC197","v":137.36837421760856},{"$f":"'ITCER GLOBAL'!AD197","v":145.38160229524033},{"$f":"'ITCER GLOBAL'!AE197","v":149.63447976280332},{"$f":"'ITCER GLOBAL'!AF197","v":191.71850999393641},{"$f":"'ITCER GLOBAL'!AG197","v":95.926562230835927},null,{"$f":"IF(EFECTOS!$N$9=\"COSTA RICA\",LOOKUP(1,GEfectos!$C$4:$I$4,GEfectos!C197:I197),IF(EFECTOS!$N$9=\"EL SALVADOR\",LOOKUP(2,GEfectos!$C$4:$I$4,GEfectos!C197:I197),IF(EFECTOS!$N$9=\"GUATEMALA\",LOOKUP(3,GEfectos!$C$4:$I$4,GEfectos!C197:I197),IF(EFECTOS!$N$9=\"HONDURAS\",LOOKUP(4,GEfectos!$C$4:$I$4,GEfectos!C197:I197),IF(EFECTOS!$N$9=\"NICARAGUA\",LOOKUP(5,GEfectos!$C$4:$I$4,GEfectos!C197:I197),IF(EFECTOS!$N$9=\"REPÚBLICA \nDOMINICANA\",LOOKUP(6,$C$4:$I$4,C197:I197),IF(EFECTOS!$N$9=\"PANAMÁ\",LOOKUP(7,GEfectos!$C$4:$I$4,GEfectos!C197:I197))))))))","v":84.532970783051979},{"$f":"IF(EFECTOS!$N$9=\"COSTA RICA\",LOOKUP(1,GEfectos!$J$4:$P$4,GEfectos!J197:P197),IF(EFECTOS!$N$9=\"EL SALVADOR\",LOOKUP(2,GEfectos!$J$4:$P$4,GEfectos!J197:P197),IF(EFECTOS!$N$9=\"GUATEMALA\",LOOKUP(3,GEfectos!$J$4:$P$4,GEfectos!J197:P197),IF(EFECTOS!$N$9=\"HONDURAS\",LOOKUP(4,GEfectos!$J$4:$P$4,GEfectos!J197:P197),IF(EFECTOS!$N$9=\"NICARAGUA\",LOOKUP(5,GEfectos!$J$4:$P$4,GEfectos!J197:P197),IF(EFECTOS!$N$9=\"REPÚBLICA \nDOMINICANA\",LOOKUP(6,$J$4:$P$4,J197:P197),IF(EFECTOS!$N$9=\"PANAMÁ\",LOOKUP(7,GEfectos!$J$4:$P$4,GEfectos!J197:P197))))))))","v":165.98734723193317},{"$f":"IF(EFECTOS!$N$9=\"COSTA RICA\",LOOKUP(1,GEfectos!$Q$4:$W$4,GEfectos!Q197:W197),IF(EFECTOS!$N$9=\"EL SALVADOR\",LOOKUP(2,GEfectos!$Q$4:$W$4,GEfectos!Q197:W197),IF(EFECTOS!$N$9=\"GUATEMALA\",LOOKUP(3,GEfectos!$Q$4:$W$4,GEfectos!Q197:W197),IF(EFECTOS!$N$9=\"HONDURAS\",LOOKUP(4,GEfectos!$Q$4:$W$4,GEfectos!Q197:W197),IF(EFECTOS!$N$9=\"NICARAGUA\",LOOKUP(5,GEfectos!$Q$4:$W$4,GEfectos!Q197:W197),IF(EFECTOS!$N$9=\"REPÚBLICA \nDOMINICANA\",LOOKUP(6,$Q$4:$W$4,Q197:W197),IF(EFECTOS!$N$9=\"PANAMÁ\",LOOKUP(7,GEfectos!$Q$4:$W$4,GEfectos!Q197:W197))))))))","v":196.35811411138999},100]
[2011,{"$f":"'ITCER GLOBAL'!B198","v":"Enero"},{"$f":"'ITCER GLOBAL'!C198","v":83.377507015593068},{"$f":"'ITCER GLOBAL'!D198","v":103.01797615556913},{"$f":"'ITCER GLOBAL'!E198","v":72.860936925229851},{"$f":"'ITCER GLOBAL'!F198","v":85.78987184631363},{"$f":"'ITCER GLOBAL'!G198","v":110.68365843202555},{"$f":"'ITCER GLOBAL'!H198","v":127.57803536017157},{"$f":"'ITCER GLOBAL'!I198","v":106.60950980130288},{"$f":"'ITCER GLOBAL'!S198","v":166.46450335696571},{"$f":"'ITCER GLOBAL'!T198","v":97.011658895435971},{"$f":"'ITCER GLOBAL'!U198","v":101.30716175295346},{"$f":"'ITCER GLOBAL'!V198","v":126.29703995092403},{"$f":"'ITCER GLOBAL'!W198","v":167.70034761579393},{"$f":"'ITCER GLOBAL'!X198","v":232.68260558562298},{"$f":"'ITCER GLOBAL'!Y198","v":103.37199091680425},{"$f":"'ITCER GLOBAL'!AA198","v":199.65157188716844},{"$f":"'ITCER GLOBAL'!AB198","v":94.169641567154329},{"$f":"'ITCER GLOBAL'!AC198","v":139.04180487949972},{"$f":"'ITCER GLOBAL'!AD198","v":147.2167252763544},{"$f":"'ITCER GLOBAL'!AE198","v":151.51319534562023},{"$f":"'ITCER GLOBAL'!AF198","v":182.38453424112211},{"$f":"'ITCER GLOBAL'!AG198","v":96.963198789176801},null,{"$f":"IF(EFECTOS!$N$9=\"COSTA RICA\",LOOKUP(1,GEfectos!$C$4:$I$4,GEfectos!C198:I198),IF(EFECTOS!$N$9=\"EL SALVADOR\",LOOKUP(2,GEfectos!$C$4:$I$4,GEfectos!C198:I198),IF(EFECTOS!$N$9=\"GUATEMALA\",LOOKUP(3,GEfectos!$C$4:$I$4,GEfectos!C198:I198),IF(EFECTOS!$N$9=\"HONDURAS\",LOOKUP(4,GEfectos!$C$4:$I$4,GEfectos!C198:I198),IF(EFECTOS!$N$9=\"NICARAGUA\",LOOKUP(5,GEfectos!$C$4:$I$4,GEfectos!C198:I198),IF(EFECTOS!$N$9=\"REPÚBLICA \nDOMINICANA\",LOOKUP(6,$C$4:$I$4,C198:I198),IF(EFECTOS!$N$9=\"PANAMÁ\",LOOKUP(7,GEfectos!$C$4:$I$4,GEfectos!C198:I198))))))))","v":83.377507015593068},{"$f":"IF(EFECTOS!$N$9=\"COSTA RICA\",LOOKUP(1,GEfectos!$J$4:$P$4,GEfectos!J198:P198),IF(EFECTOS!$N$9=\"EL SALVADOR\",LOOKUP(2,GEfectos!$J$4:$P$4,GEfectos!J198:P198),IF(EFECTOS!$N$9=\"GUATEMALA\",LOOKUP(3,GEfectos!$J$4:$P$4,GEfectos!J198:P198),IF(EFECTOS!$N$9=\"HONDURAS\",LOOKUP(4,GEfectos!$J$4:$P$4,GEfectos!J198:P198),IF(EFECTOS!$N$9=\"NICARAGUA\",LOOKUP(5,GEfectos!$J$4:$P$4,GEfectos!J198:P198),IF(EFECTOS!$N$9=\"REPÚBLICA \nDOMINICANA\",LOOKUP(6,$J$4:$P$4,J198:P198),IF(EFECTOS!$N$9=\"PANAMÁ\",LOOKUP(7,GEfectos!$J$4:$P$4,GEfectos!J198:P198))))))))","v":166.46450335696571},{"$f":"IF(EFECTOS!$N$9=\"COSTA RICA\",LOOKUP(1,GEfectos!$Q$4:$W$4,GEfectos!Q198:W198),IF(EFECTOS!$N$9=\"EL SALVADOR\",LOOKUP(2,GEfectos!$Q$4:$W$4,GEfectos!Q198:W198),IF(EFECTOS!$N$9=\"GUATEMALA\",LOOKUP(3,GEfectos!$Q$4:$W$4,GEfectos!Q198:W198),IF(EFECTOS!$N$9=\"HONDURAS\",LOOKUP(4,GEfectos!$Q$4:$W$4,GEfectos!Q198:W198),IF(EFECTOS!$N$9=\"NICARAGUA\",LOOKUP(5,GEfectos!$Q$4:$W$4,GEfectos!Q198:W198),IF(EFECTOS!$N$9=\"REPÚBLICA \nDOMINICANA\",LOOKUP(6,$Q$4:$W$4,Q198:W198),IF(EFECTOS!$N$9=\"PANAMÁ\",LOOKUP(7,GEfectos!$Q$4:$W$4,GEfectos!Q198:W198))))))))","v":199.65157188716844},100]
[null,{"$f":"'ITCER GLOBAL'!B199","v":"Febrero"},{"$f":"'ITCER GLOBAL'!C199","v":83.014221489902809},{"$f":"'ITCER GLOBAL'!D199","v":103.86601930670587},{"$f":"'ITCER GLOBAL'!E199","v":71.515650266489203},{"$f":"'ITCER GLOBAL'!F199","v":86.043977350603626},{"$f":"'ITCER GLOBAL'!G199","v":111.57355417561939},{"$f":"'ITCER GLOBAL'!H199","v":127.74924534934866},{"$f":"'ITCER GLOBAL'!I199","v":107.18924935488492},{"$f":"'ITCER GLOBAL'!S199","v":165.51788389923064},{"$f":"'ITCER GLOBAL'!T199","v":97.426038639166691},{"$f":"'ITCER GLOBAL'!U199","v":99.675555571907054},{"$f":"'ITCER GLOBAL'!V199","v":126.88635561243511},{"$f":"'ITCER GLOBAL'!W199","v":169.34269446461002},{"$f":"'ITCER GLOBAL'!X199","v":234.38540275310524},{"$f":"'ITCER GLOBAL'!Y199","v":103.760240699058},{"$f":"'ITCER GLOBAL'!AA199","v":199.38497395818246},{"$f":"'ITCER GLOBAL'!AB199","v":93.799723229478388},{"$f":"'ITCER GLOBAL'!AC199","v":139.37586416467644},{"$f":"'ITCER GLOBAL'!AD199","v":147.4668646422642},{"$f":"'ITCER GLOBAL'!AE199","v":151.77673214394574},{"$f":"'ITCER GLOBAL'!AF199","v":183.47302335301057},{"$f":"'ITCER GLOBAL'!AG199","v":96.800977078891492},null,{"$f":"IF(EFECTOS!$N$9=\"COSTA RICA\",LOOKUP(1,GEfectos!$C$4:$I$4,GEfectos!C199:I199),IF(EFECTOS!$N$9=\"EL SALVADOR\",LOOKUP(2,GEfectos!$C$4:$I$4,GEfectos!C199:I199),IF(EFECTOS!$N$9=\"GUATEMALA\",LOOKUP(3,GEfectos!$C$4:$I$4,GEfectos!C199:I199),IF(EFECTOS!$N$9=\"HONDURAS\",LOOKUP(4,GEfectos!$C$4:$I$4,GEfectos!C199:I199),IF(EFECTOS!$N$9=\"NICARAGUA\",LOOKUP(5,GEfectos!$C$4:$I$4,GEfectos!C199:I199),IF(EFECTOS!$N$9=\"REPÚBLICA \nDOMINICANA\",LOOKUP(6,$C$4:$I$4,C199:I199),IF(EFECTOS!$N$9=\"PANAMÁ\",LOOKUP(7,GEfectos!$C$4:$I$4,GEfectos!C199:I199))))))))","v":83.014221489902809},{"$f":"IF(EFECTOS!$N$9=\"COSTA RICA\",LOOKUP(1,GEfectos!$J$4:$P$4,GEfectos!J199:P199),IF(EFECTOS!$N$9=\"EL SALVADOR\",LOOKUP(2,GEfectos!$J$4:$P$4,GEfectos!J199:P199),IF(EFECTOS!$N$9=\"GUATEMALA\",LOOKUP(3,GEfectos!$J$4:$P$4,GEfectos!J199:P199),IF(EFECTOS!$N$9=\"HONDURAS\",LOOKUP(4,GEfectos!$J$4:$P$4,GEfectos!J199:P199),IF(EFECTOS!$N$9=\"NICARAGUA\",LOOKUP(5,GEfectos!$J$4:$P$4,GEfectos!J199:P199),IF(EFECTOS!$N$9=\"REPÚBLICA \nDOMINICANA\",LOOKUP(6,$J$4:$P$4,J199:P199),IF(EFECTOS!$N$9=\"PANAMÁ\",LOOKUP(7,GEfectos!$J$4:$P$4,GEfectos!J199:P199))))))))","v":165.51788389923064},{"$f":"IF(EFECTOS!$N$9=\"COSTA RICA\",LOOKUP(1,GEfectos!$Q$4:$W$4,GEfectos!Q199:W199),IF(EFECTOS!$N$9=\"EL SALVADOR\",LOOKUP(2,GEfectos!$Q$4:$W$4,GEfectos!Q199:W199),IF(EFECTOS!$N$9=\"GUATEMALA\",LOOKUP(3,GEfectos!$Q$4:$W$4,GEfectos!Q199:W199),IF(EFECTOS!$N$9=\"HONDURAS\",LOOKUP(4,GEfectos!$Q$4:$W$4,GEfectos!Q199:W199),IF(EFECTOS!$N$9=\"NICARAGUA\",LOOKUP(5,GEfectos!$Q$4:$W$4,GEfectos!Q199:W199),IF(EFECTOS!$N$9=\"REPÚBLICA \nDOMINICANA\",LOOKUP(6,$Q$4:$W$4,Q199:W199),IF(EFECTOS!$N$9=\"PANAMÁ\",LOOKUP(7,GEfectos!$Q$4:$W$4,GEfectos!Q199:W199))))))))","v":199.38497395818246},100]
[null,{"$f":"'ITCER GLOBAL'!B200","v":"Marzo"},{"$f":"'ITCER GLOBAL'!C200","v":83.476770402546833},{"$f":"'ITCER GLOBAL'!D200","v":104.42262459315303},{"$f":"'ITCER GLOBAL'!E200","v":70.634921124336898},{"$f":"'ITCER GLOBAL'!F200","v":86.529269885620451},{"$f":"'ITCER GLOBAL'!G200","v":112.47232509886155},{"$f":"'ITCER GLOBAL'!H200","v":128.25246706970927},{"$f":"'ITCER GLOBAL'!I200","v":107.42587376456744},{"$f":"'ITCER GLOBAL'!S200","v":165.57043083703132},{"$f":"'ITCER GLOBAL'!T200","v":97.810306579591639},{"$f":"'ITCER GLOBAL'!U200","v":98.645452207996371},{"$f":"'ITCER GLOBAL'!V200","v":127.48711285468464},{"$f":"'ITCER GLOBAL'!W200","v":170.65226573103578},{"$f":"'ITCER GLOBAL'!X200","v":236.10812231363559},{"$f":"'ITCER GLOBAL'!Y200","v":104.21553402846126},{"$f":"'ITCER GLOBAL'!AA200","v":198.34311993457266},{"$f":"'ITCER GLOBAL'!AB200","v":93.667734325464409},{"$f":"'ITCER GLOBAL'!AC200","v":139.65535833805666},{"$f":"'ITCER GLOBAL'!AD200","v":147.33409056057531},{"$f":"'ITCER GLOBAL'!AE200","v":151.72822788275684},{"$f":"'ITCER GLOBAL'!AF200","v":184.09635908625711},{"$f":"'ITCER GLOBAL'!AG200","v":97.011576798395978},null,{"$f":"IF(EFECTOS!$N$9=\"COSTA RICA\",LOOKUP(1,GEfectos!$C$4:$I$4,GEfectos!C200:I200),IF(EFECTOS!$N$9=\"EL SALVADOR\",LOOKUP(2,GEfectos!$C$4:$I$4,GEfectos!C200:I200),IF(EFECTOS!$N$9=\"GUATEMALA\",LOOKUP(3,GEfectos!$C$4:$I$4,GEfectos!C200:I200),IF(EFECTOS!$N$9=\"HONDURAS\",LOOKUP(4,GEfectos!$C$4:$I$4,GEfectos!C200:I200),IF(EFECTOS!$N$9=\"NICARAGUA\",LOOKUP(5,GEfectos!$C$4:$I$4,GEfectos!C200:I200),IF(EFECTOS!$N$9=\"REPÚBLICA \nDOMINICANA\",LOOKUP(6,$C$4:$I$4,C200:I200),IF(EFECTOS!$N$9=\"PANAMÁ\",LOOKUP(7,GEfectos!$C$4:$I$4,GEfectos!C200:I200))))))))","v":83.476770402546833},{"$f":"IF(EFECTOS!$N$9=\"COSTA RICA\",LOOKUP(1,GEfectos!$J$4:$P$4,GEfectos!J200:P200),IF(EFECTOS!$N$9=\"EL SALVADOR\",LOOKUP(2,GEfectos!$J$4:$P$4,GEfectos!J200:P200),IF(EFECTOS!$N$9=\"GUATEMALA\",LOOKUP(3,GEfectos!$J$4:$P$4,GEfectos!J200:P200),IF(EFECTOS!$N$9=\"HONDURAS\",LOOKUP(4,GEfectos!$J$4:$P$4,GEfectos!J200:P200),IF(EFECTOS!$N$9=\"NICARAGUA\",LOOKUP(5,GEfectos!$J$4:$P$4,GEfectos!J200:P200),IF(EFECTOS!$N$9=\"REPÚBLICA \nDOMINICANA\",LOOKUP(6,$J$4:$P$4,J200:P200),IF(EFECTOS!$N$9=\"PANAMÁ\",LOOKUP(7,GEfectos!$J$4:$P$4,GEfectos!J200:P200))))))))","v":165.57043083703132},{"$f":"IF(EFECTOS!$N$9=\"COSTA RICA\",LOOKUP(1,GEfectos!$Q$4:$W$4,GEfectos!Q200:W200),IF(EFECTOS!$N$9=\"EL SALVADOR\",LOOKUP(2,GEfectos!$Q$4:$W$4,GEfectos!Q200:W200),IF(EFECTOS!$N$9=\"GUATEMALA\",LOOKUP(3,GEfectos!$Q$4:$W$4,GEfectos!Q200:W200),IF(EFECTOS!$N$9=\"HONDURAS\",LOOKUP(4,GEfectos!$Q$4:$W$4,GEfectos!Q200:W200),IF(EFECTOS!$N$9=\"NICARAGUA\",LOOKUP(5,GEfectos!$Q$4:$W$4,GEfectos!Q200:W200),IF(EFECTOS!$N$9=\"REPÚBLICA \nDOMINICANA\",LOOKUP(6,$Q$4:$W$4,Q200:W200),IF(EFECTOS!$N$9=\"PANAMÁ\",LOOKUP(7,GEfectos!$Q$4:$W$4,GEfectos!Q200:W200))))))))","v":198.34311993457266},100]
[null,{"$f":"'ITCER GLOBAL'!B201","v":"Abril"},{"$f":"'ITCER GLOBAL'!C201","v":84.377356870160796},{"$f":"'ITCER GLOBAL'!D201","v":102.65079642865498},{"$f":"'ITCER GLOBAL'!E201","v":70.387141044377813},{"$f":"'ITCER GLOBAL'!F201","v":86.831378716305494},{"$f":"'ITCER GLOBAL'!G201","v":113.57112796789812},{"$f":"'ITCER GLOBAL'!H201","v":129.0296063726681},{"$f":"'ITCER GLOBAL'!I201","v":107.82368490804961},{"$f":"'ITCER GLOBAL'!S201","v":166.64863421728785},{"$f":"'ITCER GLOBAL'!T201","v":98.429311174854078},{"$f":"'ITCER GLOBAL'!U201","v":98.212369974605849},{"$f":"'ITCER GLOBAL'!V201","v":128.49470711101273},{"$f":"'ITCER GLOBAL'!W201","v":172.27410815228055},{"$f":"'ITCER GLOBAL'!X201","v":238.29991769918647},{"$f":"'ITCER GLOBAL'!Y201","v":105.20433851792346},{"$f":"'ITCER GLOBAL'!AA201","v":197.50397547262048},{"$f":"'ITCER GLOBAL'!AB201","v":95.887528006921073},{"$f":"'ITCER GLOBAL'!AC201","v":139.53169359824508},{"$f":"'ITCER GLOBAL'!AD201","v":147.98188052596652},{"$f":"'ITCER GLOBAL'!AE201","v":151.68829546271243},{"$f":"'ITCER GLOBAL'!AF201","v":184.68623163192467},{"$f":"'ITCER GLOBAL'!AG201","v":97.570713343399547},null,{"$f":"IF(EFECTOS!$N$9=\"COSTA RICA\",LOOKUP(1,GEfectos!$C$4:$I$4,GEfectos!C201:I201),IF(EFECTOS!$N$9=\"EL SALVADOR\",LOOKUP(2,GEfectos!$C$4:$I$4,GEfectos!C201:I201),IF(EFECTOS!$N$9=\"GUATEMALA\",LOOKUP(3,GEfectos!$C$4:$I$4,GEfectos!C201:I201),IF(EFECTOS!$N$9=\"HONDURAS\",LOOKUP(4,GEfectos!$C$4:$I$4,GEfectos!C201:I201),IF(EFECTOS!$N$9=\"NICARAGUA\",LOOKUP(5,GEfectos!$C$4:$I$4,GEfectos!C201:I201),IF(EFECTOS!$N$9=\"REPÚBLICA \nDOMINICANA\",LOOKUP(6,$C$4:$I$4,C201:I201),IF(EFECTOS!$N$9=\"PANAMÁ\",LOOKUP(7,GEfectos!$C$4:$I$4,GEfectos!C201:I201))))))))","v":84.377356870160796},{"$f":"IF(EFECTOS!$N$9=\"COSTA RICA\",LOOKUP(1,GEfectos!$J$4:$P$4,GEfectos!J201:P201),IF(EFECTOS!$N$9=\"EL SALVADOR\",LOOKUP(2,GEfectos!$J$4:$P$4,GEfectos!J201:P201),IF(EFECTOS!$N$9=\"GUATEMALA\",LOOKUP(3,GEfectos!$J$4:$P$4,GEfectos!J201:P201),IF(EFECTOS!$N$9=\"HONDURAS\",LOOKUP(4,GEfectos!$J$4:$P$4,GEfectos!J201:P201),IF(EFECTOS!$N$9=\"NICARAGUA\",LOOKUP(5,GEfectos!$J$4:$P$4,GEfectos!J201:P201),IF(EFECTOS!$N$9=\"REPÚBLICA \nDOMINICANA\",LOOKUP(6,$J$4:$P$4,J201:P201),IF(EFECTOS!$N$9=\"PANAMÁ\",LOOKUP(7,GEfectos!$J$4:$P$4,GEfectos!J201:P201))))))))","v":166.64863421728785},{"$f":"IF(EFECTOS!$N$9=\"COSTA RICA\",LOOKUP(1,GEfectos!$Q$4:$W$4,GEfectos!Q201:W201),IF(EFECTOS!$N$9=\"EL SALVADOR\",LOOKUP(2,GEfectos!$Q$4:$W$4,GEfectos!Q201:W201),IF(EFECTOS!$N$9=\"GUATEMALA\",LOOKUP(3,GEfectos!$Q$4:$W$4,GEfectos!Q201:W201),IF(EFECTOS!$N$9=\"HONDURAS\",LOOKUP(4,GEfectos!$Q$4:$W$4,GEfectos!Q201:W201),IF(EFECTOS!$N$9=\"NICARAGUA\",LOOKUP(5,GEfectos!$Q$4:$W$4,GEfectos!Q201:W201),IF(EFECTOS!$N$9=\"REPÚBLICA \nDOMINICANA\",LOOKUP(6,$Q$4:$W$4,Q201:W201),IF(EFECTOS!$N$9=\"PANAMÁ\",LOOKUP(7,GEfectos!$Q$4:$W$4,GEfectos!Q201:W201))))))))","v":197.50397547262048},100]
[null,{"$f":"'ITCER GLOBAL'!B202","v":"Mayo"},{"$f":"'ITCER GLOBAL'!C202","v":84.622989763335937},{"$f":"'ITCER GLOBAL'!D202","v":102.42705719324846},{"$f":"'ITCER GLOBAL'!E202","v":70.685339162042808},{"$f":"'ITCER GLOBAL'!F202","v":86.513885662241535},{"$f":"'ITCER GLOBAL'!G202","v":113.09974959009168},{"$f":"'ITCER GLOBAL'!H202","v":129.34194261848882},{"$f":"'ITCER GLOBAL'!I202","v":107.7239638845455},{"$f":"'ITCER GLOBAL'!S202","v":167.76578927247138},{"$f":"'ITCER GLOBAL'!T202","v":98.325512419820484},{"$f":"'ITCER GLOBAL'!U202","v":98.820293313959411},{"$f":"'ITCER GLOBAL'!V202","v":128.36452429156589},{"$f":"'ITCER GLOBAL'!W202","v":172.8012101611742},{"$f":"'ITCER GLOBAL'!X202","v":238.61337140557194},{"$f":"'ITCER GLOBAL'!Y202","v":105.19162736978478},{"$f":"'ITCER GLOBAL'!AA202","v":198.25084145769355},{"$f":"'ITCER GLOBAL'!AB202","v":95.995643254994988},{"$f":"'ITCER GLOBAL'!AC202","v":139.80309705725332},{"$f":"'ITCER GLOBAL'!AD202","v":148.37447573758647},{"$f":"'ITCER GLOBAL'!AE202","v":152.7865541590136},{"$f":"'ITCER GLOBAL'!AF202","v":184.48259441208},{"$f":"'ITCER GLOBAL'!AG202","v":97.64923567287704},null,{"$f":"IF(EFECTOS!$N$9=\"COSTA RICA\",LOOKUP(1,GEfectos!$C$4:$I$4,GEfectos!C202:I202),IF(EFECTOS!$N$9=\"EL SALVADOR\",LOOKUP(2,GEfectos!$C$4:$I$4,GEfectos!C202:I202),IF(EFECTOS!$N$9=\"GUATEMALA\",LOOKUP(3,GEfectos!$C$4:$I$4,GEfectos!C202:I202),IF(EFECTOS!$N$9=\"HONDURAS\",LOOKUP(4,GEfectos!$C$4:$I$4,GEfectos!C202:I202),IF(EFECTOS!$N$9=\"NICARAGUA\",LOOKUP(5,GEfectos!$C$4:$I$4,GEfectos!C202:I202),IF(EFECTOS!$N$9=\"REPÚBLICA \nDOMINICANA\",LOOKUP(6,$C$4:$I$4,C202:I202),IF(EFECTOS!$N$9=\"PANAMÁ\",LOOKUP(7,GEfectos!$C$4:$I$4,GEfectos!C202:I202))))))))","v":84.622989763335937},{"$f":"IF(EFECTOS!$N$9=\"COSTA RICA\",LOOKUP(1,GEfectos!$J$4:$P$4,GEfectos!J202:P202),IF(EFECTOS!$N$9=\"EL SALVADOR\",LOOKUP(2,GEfectos!$J$4:$P$4,GEfectos!J202:P202),IF(EFECTOS!$N$9=\"GUATEMALA\",LOOKUP(3,GEfectos!$J$4:$P$4,GEfectos!J202:P202),IF(EFECTOS!$N$9=\"HONDURAS\",LOOKUP(4,GEfectos!$J$4:$P$4,GEfectos!J202:P202),IF(EFECTOS!$N$9=\"NICARAGUA\",LOOKUP(5,GEfectos!$J$4:$P$4,GEfectos!J202:P202),IF(EFECTOS!$N$9=\"REPÚBLICA \nDOMINICANA\",LOOKUP(6,$J$4:$P$4,J202:P202),IF(EFECTOS!$N$9=\"PANAMÁ\",LOOKUP(7,GEfectos!$J$4:$P$4,GEfectos!J202:P202))))))))","v":167.76578927247138},{"$f":"IF(EFECTOS!$N$9=\"COSTA RICA\",LOOKUP(1,GEfectos!$Q$4:$W$4,GEfectos!Q202:W202),IF(EFECTOS!$N$9=\"EL SALVADOR\",LOOKUP(2,GEfectos!$Q$4:$W$4,GEfectos!Q202:W202),IF(EFECTOS!$N$9=\"GUATEMALA\",LOOKUP(3,GEfectos!$Q$4:$W$4,GEfectos!Q202:W202),IF(EFECTOS!$N$9=\"HONDURAS\",LOOKUP(4,GEfectos!$Q$4:$W$4,GEfectos!Q202:W202),IF(EFECTOS!$N$9=\"NICARAGUA\",LOOKUP(5,GEfectos!$Q$4:$W$4,GEfectos!Q202:W202),IF(EFECTOS!$N$9=\"REPÚBLICA \nDOMINICANA\",LOOKUP(6,$Q$4:$W$4,Q202:W202),IF(EFECTOS!$N$9=\"PANAMÁ\",LOOKUP(7,GEfectos!$Q$4:$W$4,GEfectos!Q202:W202))))))))","v":198.25084145769355},100]
[null,{"$f":"'ITCER GLOBAL'!B203","v":"Junio"},{"$f":"'ITCER GLOBAL'!C203","v":84.605588210416457},{"$f":"'ITCER GLOBAL'!D203","v":102.24980076132047},{"$f":"'ITCER GLOBAL'!E203","v":71.360429598786155},{"$f":"'ITCER GLOBAL'!F203","v":86.074581257944004},{"$f":"'ITCER GLOBAL'!G203","v":113.04207490823148},{"$f":"'ITCER GLOBAL'!H203","v":128.64560262289612},{"$f":"'ITCER GLOBAL'!I203","v":107.67763147519116},{"$f":"'ITCER GLOBAL'!S203","v":168.5935533434953},{"$f":"'ITCER GLOBAL'!T203","v":98.086213033343071},{"$f":"'ITCER GLOBAL'!U203","v":100.2415007646422},{"$f":"'ITCER GLOBAL'!V203","v":128.15546011938221},{"$f":"'ITCER GLOBAL'!W203","v":173.66815614987934},{"$f":"'ITCER GLOBAL'!X203","v":239.62521349384502},{"$f":"'ITCER GLOBAL'!Y203","v":105.23683781892004},{"$f":"'ITCER GLOBAL'!AA203","v":199.26999730112203},{"$f":"'ITCER GLOBAL'!AB203","v":95.928023627452959},{"$f":"'ITCER GLOBAL'!AC203","v":140.47210944249602},{"$f":"'ITCER GLOBAL'!AD203","v":148.88885690344787},{"$f":"'ITCER GLOBAL'!AE203","v":153.63142997053498},{"$f":"'ITCER GLOBAL'!AF203","v":186.26770648062322},{"$f":"'ITCER GLOBAL'!AG203","v":97.733239835579511},null,{"$f":"IF(EFECTOS!$N$9=\"COSTA RICA\",LOOKUP(1,GEfectos!$C$4:$I$4,GEfectos!C203:I203),IF(EFECTOS!$N$9=\"EL SALVADOR\",LOOKUP(2,GEfectos!$C$4:$I$4,GEfectos!C203:I203),IF(EFECTOS!$N$9=\"GUATEMALA\",LOOKUP(3,GEfectos!$C$4:$I$4,GEfectos!C203:I203),IF(EFECTOS!$N$9=\"HONDURAS\",LOOKUP(4,GEfectos!$C$4:$I$4,GEfectos!C203:I203),IF(EFECTOS!$N$9=\"NICARAGUA\",LOOKUP(5,GEfectos!$C$4:$I$4,GEfectos!C203:I203),IF(EFECTOS!$N$9=\"REPÚBLICA \nDOMINICANA\",LOOKUP(6,$C$4:$I$4,C203:I203),IF(EFECTOS!$N$9=\"PANAMÁ\",LOOKUP(7,GEfectos!$C$4:$I$4,GEfectos!C203:I203))))))))","v":84.605588210416457},{"$f":"IF(EFECTOS!$N$9=\"COSTA RICA\",LOOKUP(1,GEfectos!$J$4:$P$4,GEfectos!J203:P203),IF(EFECTOS!$N$9=\"EL SALVADOR\",LOOKUP(2,GEfectos!$J$4:$P$4,GEfectos!J203:P203),IF(EFECTOS!$N$9=\"GUATEMALA\",LOOKUP(3,GEfectos!$J$4:$P$4,GEfectos!J203:P203),IF(EFECTOS!$N$9=\"HONDURAS\",LOOKUP(4,GEfectos!$J$4:$P$4,GEfectos!J203:P203),IF(EFECTOS!$N$9=\"NICARAGUA\",LOOKUP(5,GEfectos!$J$4:$P$4,GEfectos!J203:P203),IF(EFECTOS!$N$9=\"REPÚBLICA \nDOMINICANA\",LOOKUP(6,$J$4:$P$4,J203:P203),IF(EFECTOS!$N$9=\"PANAMÁ\",LOOKUP(7,GEfectos!$J$4:$P$4,GEfectos!J203:P203))))))))","v":168.5935533434953},{"$f":"IF(EFECTOS!$N$9=\"COSTA RICA\",LOOKUP(1,GEfectos!$Q$4:$W$4,GEfectos!Q203:W203),IF(EFECTOS!$N$9=\"EL SALVADOR\",LOOKUP(2,GEfectos!$Q$4:$W$4,GEfectos!Q203:W203),IF(EFECTOS!$N$9=\"GUATEMALA\",LOOKUP(3,GEfectos!$Q$4:$W$4,GEfectos!Q203:W203),IF(EFECTOS!$N$9=\"HONDURAS\",LOOKUP(4,GEfectos!$Q$4:$W$4,GEfectos!Q203:W203),IF(EFECTOS!$N$9=\"NICARAGUA\",LOOKUP(5,GEfectos!$Q$4:$W$4,GEfectos!Q203:W203),IF(EFECTOS!$N$9=\"REPÚBLICA \nDOMINICANA\",LOOKUP(6,$Q$4:$W$4,Q203:W203),IF(EFECTOS!$N$9=\"PANAMÁ\",LOOKUP(7,GEfectos!$Q$4:$W$4,GEfectos!Q203:W203))))))))","v":199.26999730112203},100]
[null,{"$f":"'ITCER GLOBAL'!B204","v":"Julio"},{"$f":"'ITCER GLOBAL'!C204","v":84.408861774895371},{"$f":"'ITCER GLOBAL'!D204","v":102.4278672267808},{"$f":"'ITCER GLOBAL'!E204","v":70.792556127484488},{"$f":"'ITCER GLOBAL'!F204","v":85.675261214649296},{"$f":"'ITCER GLOBAL'!G204","v":113.79588851736489},{"$f":"'ITCER GLOBAL'!H204","v":127.8963878719545},{"$f":"'ITCER GLOBAL'!I204","v":108.11476036254658},{"$f":"'ITCER GLOBAL'!S204","v":168.54250614358691},{"$f":"'ITCER GLOBAL'!T204","v":98.237316720868193},{"$f":"'ITCER GLOBAL'!U204","v":100.20471430615004},{"$f":"'ITCER GLOBAL'!V204","v":128.18028641544186},{"$f":"'ITCER GLOBAL'!W204","v":175.01395926736637},{"$f":"'ITCER GLOBAL'!X204","v":240.0217774686657},{"$f":"'ITCER GLOBAL'!Y204","v":105.57883073076664},{"$f":"'ITCER GLOBAL'!AA204","v":199.67394726049287},{"$f":"'ITCER GLOBAL'!AB204","v":95.908778910104104},{"$f":"'ITCER GLOBAL'!AC204","v":141.54696452222973},{"$f":"'ITCER GLOBAL'!AD204","v":149.61178360962475},{"$f":"'ITCER GLOBAL'!AE204","v":153.79638187952617},{"$f":"'ITCER GLOBAL'!AF204","v":187.66892596604632},{"$f":"'ITCER GLOBAL'!AG204","v":97.654409422657849},null,{"$f":"IF(EFECTOS!$N$9=\"COSTA RICA\",LOOKUP(1,GEfectos!$C$4:$I$4,GEfectos!C204:I204),IF(EFECTOS!$N$9=\"EL SALVADOR\",LOOKUP(2,GEfectos!$C$4:$I$4,GEfectos!C204:I204),IF(EFECTOS!$N$9=\"GUATEMALA\",LOOKUP(3,GEfectos!$C$4:$I$4,GEfectos!C204:I204),IF(EFECTOS!$N$9=\"HONDURAS\",LOOKUP(4,GEfectos!$C$4:$I$4,GEfectos!C204:I204),IF(EFECTOS!$N$9=\"NICARAGUA\",LOOKUP(5,GEfectos!$C$4:$I$4,GEfectos!C204:I204),IF(EFECTOS!$N$9=\"REPÚBLICA \nDOMINICANA\",LOOKUP(6,$C$4:$I$4,C204:I204),IF(EFECTOS!$N$9=\"PANAMÁ\",LOOKUP(7,GEfectos!$C$4:$I$4,GEfectos!C204:I204))))))))","v":84.408861774895371},{"$f":"IF(EFECTOS!$N$9=\"COSTA RICA\",LOOKUP(1,GEfectos!$J$4:$P$4,GEfectos!J204:P204),IF(EFECTOS!$N$9=\"EL SALVADOR\",LOOKUP(2,GEfectos!$J$4:$P$4,GEfectos!J204:P204),IF(EFECTOS!$N$9=\"GUATEMALA\",LOOKUP(3,GEfectos!$J$4:$P$4,GEfectos!J204:P204),IF(EFECTOS!$N$9=\"HONDURAS\",LOOKUP(4,GEfectos!$J$4:$P$4,GEfectos!J204:P204),IF(EFECTOS!$N$9=\"NICARAGUA\",LOOKUP(5,GEfectos!$J$4:$P$4,GEfectos!J204:P204),IF(EFECTOS!$N$9=\"REPÚBLICA \nDOMINICANA\",LOOKUP(6,$J$4:$P$4,J204:P204),IF(EFECTOS!$N$9=\"PANAMÁ\",LOOKUP(7,GEfectos!$J$4:$P$4,GEfectos!J204:P204))))))))","v":168.54250614358691},{"$f":"IF(EFECTOS!$N$9=\"COSTA RICA\",LOOKUP(1,GEfectos!$Q$4:$W$4,GEfectos!Q204:W204),IF(EFECTOS!$N$9=\"EL SALVADOR\",LOOKUP(2,GEfectos!$Q$4:$W$4,GEfectos!Q204:W204),IF(EFECTOS!$N$9=\"GUATEMALA\",LOOKUP(3,GEfectos!$Q$4:$W$4,GEfectos!Q204:W204),IF(EFECTOS!$N$9=\"HONDURAS\",LOOKUP(4,GEfectos!$Q$4:$W$4,GEfectos!Q204:W204),IF(EFECTOS!$N$9=\"NICARAGUA\",LOOKUP(5,GEfectos!$Q$4:$W$4,GEfectos!Q204:W204),IF(EFECTOS!$N$9=\"REPÚBLICA \nDOMINICANA\",LOOKUP(6,$Q$4:$W$4,Q204:W204),IF(EFECTOS!$N$9=\"PANAMÁ\",LOOKUP(7,GEfectos!$Q$4:$W$4,GEfectos!Q204:W204))))))))","v":199.67394726049287},100]
[null,{"$f":"'ITCER GLOBAL'!B205","v":"Agosto"},{"$f":"'ITCER GLOBAL'!C205","v":84.422120879506465},{"$f":"'ITCER GLOBAL'!D205","v":102.24710986071608},{"$f":"'ITCER GLOBAL'!E205","v":70.865632222302793},{"$f":"'ITCER GLOBAL'!F205","v":85.185932683450176},{"$f":"'ITCER GLOBAL'!G205","v":113.3664394537583},{"$f":"'ITCER GLOBAL'!H205","v":127.36086335663343},{"$f":"'ITCER GLOBAL'!I205","v":107.59299938853442},{"$f":"'ITCER GLOBAL'!S205","v":168.53083471139217},{"$f":"'ITCER GLOBAL'!T205","v":97.848614676677812},{"$f":"'ITCER GLOBAL'!U205","v":100.64231233620522},{"$f":"'ITCER GLOBAL'!V205","v":127.56117823146889},{"$f":"'ITCER GLOBAL'!W205","v":174.96915011603946},{"$f":"'ITCER GLOBAL'!X205","v":239.61274086846819},{"$f":"'ITCER GLOBAL'!Y205","v":105.25747165767787},{"$f":"'ITCER GLOBAL'!AA205","v":199.62876193543153},{"$f":"'ITCER GLOBAL'!AB205","v":95.698171625554977},{"$f":"'ITCER GLOBAL'!AC205","v":142.01850626336631},{"$f":"'ITCER GLOBAL'!AD205","v":149.74441696316757},{"$f":"'ITCER GLOBAL'!AE205","v":154.33945968410575},{"$f":"'ITCER GLOBAL'!AF205","v":188.13686917111204},{"$f":"'ITCER GLOBAL'!AG205","v":97.829293965100248},null,{"$f":"IF(EFECTOS!$N$9=\"COSTA RICA\",LOOKUP(1,GEfectos!$C$4:$I$4,GEfectos!C205:I205),IF(EFECTOS!$N$9=\"EL SALVADOR\",LOOKUP(2,GEfectos!$C$4:$I$4,GEfectos!C205:I205),IF(EFECTOS!$N$9=\"GUATEMALA\",LOOKUP(3,GEfectos!$C$4:$I$4,GEfectos!C205:I205),IF(EFECTOS!$N$9=\"HONDURAS\",LOOKUP(4,GEfectos!$C$4:$I$4,GEfectos!C205:I205),IF(EFECTOS!$N$9=\"NICARAGUA\",LOOKUP(5,GEfectos!$C$4:$I$4,GEfectos!C205:I205),IF(EFECTOS!$N$9=\"REPÚBLICA \nDOMINICANA\",LOOKUP(6,$C$4:$I$4,C205:I205),IF(EFECTOS!$N$9=\"PANAMÁ\",LOOKUP(7,GEfectos!$C$4:$I$4,GEfectos!C205:I205))))))))","v":84.422120879506465},{"$f":"IF(EFECTOS!$N$9=\"COSTA RICA\",LOOKUP(1,GEfectos!$J$4:$P$4,GEfectos!J205:P205),IF(EFECTOS!$N$9=\"EL SALVADOR\",LOOKUP(2,GEfectos!$J$4:$P$4,GEfectos!J205:P205),IF(EFECTOS!$N$9=\"GUATEMALA\",LOOKUP(3,GEfectos!$J$4:$P$4,GEfectos!J205:P205),IF(EFECTOS!$N$9=\"HONDURAS\",LOOKUP(4,GEfectos!$J$4:$P$4,GEfectos!J205:P205),IF(EFECTOS!$N$9=\"NICARAGUA\",LOOKUP(5,GEfectos!$J$4:$P$4,GEfectos!J205:P205),IF(EFECTOS!$N$9=\"REPÚBLICA \nDOMINICANA\",LOOKUP(6,$J$4:$P$4,J205:P205),IF(EFECTOS!$N$9=\"PANAMÁ\",LOOKUP(7,GEfectos!$J$4:$P$4,GEfectos!J205:P205))))))))","v":168.53083471139217},{"$f":"IF(EFECTOS!$N$9=\"COSTA RICA\",LOOKUP(1,GEfectos!$Q$4:$W$4,GEfectos!Q205:W205),IF(EFECTOS!$N$9=\"EL SALVADOR\",LOOKUP(2,GEfectos!$Q$4:$W$4,GEfectos!Q205:W205),IF(EFECTOS!$N$9=\"GUATEMALA\",LOOKUP(3,GEfectos!$Q$4:$W$4,GEfectos!Q205:W205),IF(EFECTOS!$N$9=\"HONDURAS\",LOOKUP(4,GEfectos!$Q$4:$W$4,GEfectos!Q205:W205),IF(EFECTOS!$N$9=\"NICARAGUA\",LOOKUP(5,GEfectos!$Q$4:$W$4,GEfectos!Q205:W205),IF(EFECTOS!$N$9=\"REPÚBLICA \nDOMINICANA\",LOOKUP(6,$Q$4:$W$4,Q205:W205),IF(EFECTOS!$N$9=\"PANAMÁ\",LOOKUP(7,GEfectos!$Q$4:$W$4,GEfectos!Q205:W205))))))))","v":199.62876193543153},100]
[null,{"$f":"'ITCER GLOBAL'!B206","v":"Septiembre"},{"$f":"'ITCER GLOBAL'!C206","v":84.700922986775524},{"$f":"'ITCER GLOBAL'!D206","v":101.68785728649448},{"$f":"'ITCER GLOBAL'!E206","v":70.341616075520847},{"$f":"'ITCER GLOBAL'!F206","v":84.898927546092921},{"$f":"'ITCER GLOBAL'!G206","v":112.10516605836777},{"$f":"'ITCER GLOBAL'!H206","v":126.3620749931483},{"$f":"'ITCER GLOBAL'!I206","v":105.44979127759103},{"$f":"'ITCER GLOBAL'!S206","v":168.37904833453533},{"$f":"'ITCER GLOBAL'!T206","v":96.89325386187511},{"$f":"'ITCER GLOBAL'!U206","v":99.65782192431837},{"$f":"'ITCER GLOBAL'!V206","v":126.62172283925241},{"$f":"'ITCER GLOBAL'!W206","v":173.21078916004052},{"$f":"'ITCER GLOBAL'!X206","v":237.58284560998146},{"$f":"'ITCER GLOBAL'!Y206","v":103.70910684753358},{"$f":"'ITCER GLOBAL'!AA206","v":198.79245986590323},{"$f":"'ITCER GLOBAL'!AB206","v":95.284979394234753},{"$f":"'ITCER GLOBAL'!AC206","v":141.67690122064124},{"$f":"'ITCER GLOBAL'!AD206","v":149.14407813986523},{"$f":"'ITCER GLOBAL'!AE206","v":154.50741054150706},{"$f":"'ITCER GLOBAL'!AF206","v":188.01752473822856},{"$f":"'ITCER GLOBAL'!AG206","v":98.349276552406636},null,{"$f":"IF(EFECTOS!$N$9=\"COSTA RICA\",LOOKUP(1,GEfectos!$C$4:$I$4,GEfectos!C206:I206),IF(EFECTOS!$N$9=\"EL SALVADOR\",LOOKUP(2,GEfectos!$C$4:$I$4,GEfectos!C206:I206),IF(EFECTOS!$N$9=\"GUATEMALA\",LOOKUP(3,GEfectos!$C$4:$I$4,GEfectos!C206:I206),IF(EFECTOS!$N$9=\"HONDURAS\",LOOKUP(4,GEfectos!$C$4:$I$4,GEfectos!C206:I206),IF(EFECTOS!$N$9=\"NICARAGUA\",LOOKUP(5,GEfectos!$C$4:$I$4,GEfectos!C206:I206),IF(EFECTOS!$N$9=\"REPÚBLICA \nDOMINICANA\",LOOKUP(6,$C$4:$I$4,C206:I206),IF(EFECTOS!$N$9=\"PANAMÁ\",LOOKUP(7,GEfectos!$C$4:$I$4,GEfectos!C206:I206))))))))","v":84.700922986775524},{"$f":"IF(EFECTOS!$N$9=\"COSTA RICA\",LOOKUP(1,GEfectos!$J$4:$P$4,GEfectos!J206:P206),IF(EFECTOS!$N$9=\"EL SALVADOR\",LOOKUP(2,GEfectos!$J$4:$P$4,GEfectos!J206:P206),IF(EFECTOS!$N$9=\"GUATEMALA\",LOOKUP(3,GEfectos!$J$4:$P$4,GEfectos!J206:P206),IF(EFECTOS!$N$9=\"HONDURAS\",LOOKUP(4,GEfectos!$J$4:$P$4,GEfectos!J206:P206),IF(EFECTOS!$N$9=\"NICARAGUA\",LOOKUP(5,GEfectos!$J$4:$P$4,GEfectos!J206:P206),IF(EFECTOS!$N$9=\"REPÚBLICA \nDOMINICANA\",LOOKUP(6,$J$4:$P$4,J206:P206),IF(EFECTOS!$N$9=\"PANAMÁ\",LOOKUP(7,GEfectos!$J$4:$P$4,GEfectos!J206:P206))))))))","v":168.37904833453533},{"$f":"IF(EFECTOS!$N$9=\"COSTA RICA\",LOOKUP(1,GEfectos!$Q$4:$W$4,GEfectos!Q206:W206),IF(EFECTOS!$N$9=\"EL SALVADOR\",LOOKUP(2,GEfectos!$Q$4:$W$4,GEfectos!Q206:W206),IF(EFECTOS!$N$9=\"GUATEMALA\",LOOKUP(3,GEfectos!$Q$4:$W$4,GEfectos!Q206:W206),IF(EFECTOS!$N$9=\"HONDURAS\",LOOKUP(4,GEfectos!$Q$4:$W$4,GEfectos!Q206:W206),IF(EFECTOS!$N$9=\"NICARAGUA\",LOOKUP(5,GEfectos!$Q$4:$W$4,GEfectos!Q206:W206),IF(EFECTOS!$N$9=\"REPÚBLICA \nDOMINICANA\",LOOKUP(6,$Q$4:$W$4,Q206:W206),IF(EFECTOS!$N$9=\"PANAMÁ\",LOOKUP(7,GEfectos!$Q$4:$W$4,GEfectos!Q206:W206))))))))","v":198.79245986590323},100]
[null,{"$f":"'ITCER GLOBAL'!B207","v":"Octubre"},{"$f":"'ITCER GLOBAL'!C207","v":84.901109210475184},{"$f":"'ITCER GLOBAL'!D207","v":101.44439413779774},{"$f":"'ITCER GLOBAL'!E207","v":69.931842055428632},{"$f":"'ITCER GLOBAL'!F207","v":84.836522941339425},{"$f":"'ITCER GLOBAL'!G207","v":111.38952848814125},{"$f":"'ITCER GLOBAL'!H207","v":126.36527433647474},{"$f":"'ITCER GLOBAL'!I207","v":104.63292958686249},{"$f":"'ITCER GLOBAL'!S207","v":169.13485108417947},{"$f":"'ITCER GLOBAL'!T207","v":96.570558772756982},{"$f":"'ITCER GLOBAL'!U207","v":98.999132990298151},{"$f":"'ITCER GLOBAL'!V207","v":126.60775873208448},{"$f":"'ITCER GLOBAL'!W207","v":172.74089925566082},{"$f":"'ITCER GLOBAL'!X207","v":237.64883718756354},{"$f":"'ITCER GLOBAL'!Y207","v":103.09738616339446},{"$f":"'ITCER GLOBAL'!AA207","v":199.21394744665065},{"$f":"'ITCER GLOBAL'!AB207","v":95.195559689162963},{"$f":"'ITCER GLOBAL'!AC207","v":141.56517271750184},{"$f":"'ITCER GLOBAL'!AD207","v":149.23732649866844},{"$f":"'ITCER GLOBAL'!AE207","v":155.07822108615096},{"$f":"'ITCER GLOBAL'!AF207","v":188.06498734357382},{"$f":"'ITCER GLOBAL'!AG207","v":98.532447261554239},null,{"$f":"IF(EFECTOS!$N$9=\"COSTA RICA\",LOOKUP(1,GEfectos!$C$4:$I$4,GEfectos!C207:I207),IF(EFECTOS!$N$9=\"EL SALVADOR\",LOOKUP(2,GEfectos!$C$4:$I$4,GEfectos!C207:I207),IF(EFECTOS!$N$9=\"GUATEMALA\",LOOKUP(3,GEfectos!$C$4:$I$4,GEfectos!C207:I207),IF(EFECTOS!$N$9=\"HONDURAS\",LOOKUP(4,GEfectos!$C$4:$I$4,GEfectos!C207:I207),IF(EFECTOS!$N$9=\"NICARAGUA\",LOOKUP(5,GEfectos!$C$4:$I$4,GEfectos!C207:I207),IF(EFECTOS!$N$9=\"REPÚBLICA \nDOMINICANA\",LOOKUP(6,$C$4:$I$4,C207:I207),IF(EFECTOS!$N$9=\"PANAMÁ\",LOOKUP(7,GEfectos!$C$4:$I$4,GEfectos!C207:I207))))))))","v":84.901109210475184},{"$f":"IF(EFECTOS!$N$9=\"COSTA RICA\",LOOKUP(1,GEfectos!$J$4:$P$4,GEfectos!J207:P207),IF(EFECTOS!$N$9=\"EL SALVADOR\",LOOKUP(2,GEfectos!$J$4:$P$4,GEfectos!J207:P207),IF(EFECTOS!$N$9=\"GUATEMALA\",LOOKUP(3,GEfectos!$J$4:$P$4,GEfectos!J207:P207),IF(EFECTOS!$N$9=\"HONDURAS\",LOOKUP(4,GEfectos!$J$4:$P$4,GEfectos!J207:P207),IF(EFECTOS!$N$9=\"NICARAGUA\",LOOKUP(5,GEfectos!$J$4:$P$4,GEfectos!J207:P207),IF(EFECTOS!$N$9=\"REPÚBLICA \nDOMINICANA\",LOOKUP(6,$J$4:$P$4,J207:P207),IF(EFECTOS!$N$9=\"PANAMÁ\",LOOKUP(7,GEfectos!$J$4:$P$4,GEfectos!J207:P207))))))))","v":169.13485108417947},{"$f":"IF(EFECTOS!$N$9=\"COSTA RICA\",LOOKUP(1,GEfectos!$Q$4:$W$4,GEfectos!Q207:W207),IF(EFECTOS!$N$9=\"EL SALVADOR\",LOOKUP(2,GEfectos!$Q$4:$W$4,GEfectos!Q207:W207),IF(EFECTOS!$N$9=\"GUATEMALA\",LOOKUP(3,GEfectos!$Q$4:$W$4,GEfectos!Q207:W207),IF(EFECTOS!$N$9=\"HONDURAS\",LOOKUP(4,GEfectos!$Q$4:$W$4,GEfectos!Q207:W207),IF(EFECTOS!$N$9=\"NICARAGUA\",LOOKUP(5,GEfectos!$Q$4:$W$4,GEfectos!Q207:W207),IF(EFECTOS!$N$9=\"REPÚBLICA \nDOMINICANA\",LOOKUP(6,$Q$4:$W$4,Q207:W207),IF(EFECTOS!$N$9=\"PANAMÁ\",LOOKUP(7,GEfectos!$Q$4:$W$4,GEfectos!Q207:W207))))))))","v":199.21394744665065},100]
[null,{"$f":"'ITCER GLOBAL'!B208","v":"Noviembre"},{"$f":"'ITCER GLOBAL'!C208","v":83.276525717656455},{"$f":"'ITCER GLOBAL'!D208","v":101.35897134869766},{"$f":"'ITCER GLOBAL'!E208","v":69.48764379892306},{"$f":"'ITCER GLOBAL'!F208","v":84.448309503337754},{"$f":"'ITCER GLOBAL'!G208","v":110.25070140532398},{"$f":"'ITCER GLOBAL'!H208","v":126.45427066652809},{"$f":"'ITCER GLOBAL'!I208","v":103.62999201918278},{"$f":"'ITCER GLOBAL'!S208","v":166.25717083512805},{"$f":"'ITCER GLOBAL'!T208","v":96.466167346054348},{"$f":"'ITCER GLOBAL'!U208","v":98.417472040557456},{"$f":"'ITCER GLOBAL'!V208","v":126.34250812785812},{"$f":"'ITCER GLOBAL'!W208","v":172.88115656334278},{"$f":"'ITCER GLOBAL'!X208","v":237.95717825196238},{"$f":"'ITCER GLOBAL'!Y208","v":102.94604207568179},{"$f":"'ITCER GLOBAL'!AA208","v":199.64470107556119},{"$f":"'ITCER GLOBAL'!AB208","v":95.172796312414249},{"$f":"'ITCER GLOBAL'!AC208","v":141.63305396474354},{"$f":"'ITCER GLOBAL'!AD208","v":149.60928036441572},{"$f":"'ITCER GLOBAL'!AE208","v":156.80730767214365},{"$f":"'ITCER GLOBAL'!AF208","v":188.1764664789203},{"$f":"'ITCER GLOBAL'!AG208","v":99.340007723464481},null,{"$f":"IF(EFECTOS!$N$9=\"COSTA RICA\",LOOKUP(1,GEfectos!$C$4:$I$4,GEfectos!C208:I208),IF(EFECTOS!$N$9=\"EL SALVADOR\",LOOKUP(2,GEfectos!$C$4:$I$4,GEfectos!C208:I208),IF(EFECTOS!$N$9=\"GUATEMALA\",LOOKUP(3,GEfectos!$C$4:$I$4,GEfectos!C208:I208),IF(EFECTOS!$N$9=\"HONDURAS\",LOOKUP(4,GEfectos!$C$4:$I$4,GEfectos!C208:I208),IF(EFECTOS!$N$9=\"NICARAGUA\",LOOKUP(5,GEfectos!$C$4:$I$4,GEfectos!C208:I208),IF(EFECTOS!$N$9=\"REPÚBLICA \nDOMINICANA\",LOOKUP(6,$C$4:$I$4,C208:I208),IF(EFECTOS!$N$9=\"PANAMÁ\",LOOKUP(7,GEfectos!$C$4:$I$4,GEfectos!C208:I208))))))))","v":83.276525717656455},{"$f":"IF(EFECTOS!$N$9=\"COSTA RICA\",LOOKUP(1,GEfectos!$J$4:$P$4,GEfectos!J208:P208),IF(EFECTOS!$N$9=\"EL SALVADOR\",LOOKUP(2,GEfectos!$J$4:$P$4,GEfectos!J208:P208),IF(EFECTOS!$N$9=\"GUATEMALA\",LOOKUP(3,GEfectos!$J$4:$P$4,GEfectos!J208:P208),IF(EFECTOS!$N$9=\"HONDURAS\",LOOKUP(4,GEfectos!$J$4:$P$4,GEfectos!J208:P208),IF(EFECTOS!$N$9=\"NICARAGUA\",LOOKUP(5,GEfectos!$J$4:$P$4,GEfectos!J208:P208),IF(EFECTOS!$N$9=\"REPÚBLICA \nDOMINICANA\",LOOKUP(6,$J$4:$P$4,J208:P208),IF(EFECTOS!$N$9=\"PANAMÁ\",LOOKUP(7,GEfectos!$J$4:$P$4,GEfectos!J208:P208))))))))","v":166.25717083512805},{"$f":"IF(EFECTOS!$N$9=\"COSTA RICA\",LOOKUP(1,GEfectos!$Q$4:$W$4,GEfectos!Q208:W208),IF(EFECTOS!$N$9=\"EL SALVADOR\",LOOKUP(2,GEfectos!$Q$4:$W$4,GEfectos!Q208:W208),IF(EFECTOS!$N$9=\"GUATEMALA\",LOOKUP(3,GEfectos!$Q$4:$W$4,GEfectos!Q208:W208),IF(EFECTOS!$N$9=\"HONDURAS\",LOOKUP(4,GEfectos!$Q$4:$W$4,GEfectos!Q208:W208),IF(EFECTOS!$N$9=\"NICARAGUA\",LOOKUP(5,GEfectos!$Q$4:$W$4,GEfectos!Q208:W208),IF(EFECTOS!$N$9=\"REPÚBLICA \nDOMINICANA\",LOOKUP(6,$Q$4:$W$4,Q208:W208),IF(EFECTOS!$N$9=\"PANAMÁ\",LOOKUP(7,GEfectos!$Q$4:$W$4,GEfectos!Q208:W208))))))))","v":199.64470107556119},100]
[null,{"$f":"'ITCER GLOBAL'!B209","v":"Diciembre"},{"$f":"'ITCER GLOBAL'!C209","v":81.80616818061074},{"$f":"'ITCER GLOBAL'!D209","v":101.41296204368913},{"$f":"'ITCER GLOBAL'!E209","v":69.045366485367907},{"$f":"'ITCER GLOBAL'!F209","v":84.209611137457244},{"$f":"'ITCER GLOBAL'!G209","v":109.1251158620524},{"$f":"'ITCER GLOBAL'!H209","v":126.22009068451382},{"$f":"'ITCER GLOBAL'!I209","v":103.08427914124509},{"$f":"'ITCER GLOBAL'!S209","v":164.70931730448623},{"$f":"'ITCER GLOBAL'!T209","v":96.236604136575949},{"$f":"'ITCER GLOBAL'!U209","v":97.905497237737421},{"$f":"'ITCER GLOBAL'!V209","v":126.07698067109855},{"$f":"'ITCER GLOBAL'!W209","v":172.92712608437628},{"$f":"'ITCER GLOBAL'!X209","v":237.73850548769639},{"$f":"'ITCER GLOBAL'!Y209","v":102.49582985567952},{"$f":"'ITCER GLOBAL'!AA209","v":201.34095138259366},{"$f":"'ITCER GLOBAL'!AB209","v":94.895763023977963},{"$f":"'ITCER GLOBAL'!AC209","v":141.79879436006115},{"$f":"'ITCER GLOBAL'!AD209","v":149.71804164408297},{"$f":"'ITCER GLOBAL'!AE209","v":158.46684305286556},{"$f":"'ITCER GLOBAL'!AF209","v":188.35234882053922},{"$f":"'ITCER GLOBAL'!AG209","v":99.42915710284079},null,{"$f":"IF(EFECTOS!$N$9=\"COSTA RICA\",LOOKUP(1,GEfectos!$C$4:$I$4,GEfectos!C209:I209),IF(EFECTOS!$N$9=\"EL SALVADOR\",LOOKUP(2,GEfectos!$C$4:$I$4,GEfectos!C209:I209),IF(EFECTOS!$N$9=\"GUATEMALA\",LOOKUP(3,GEfectos!$C$4:$I$4,GEfectos!C209:I209),IF(EFECTOS!$N$9=\"HONDURAS\",LOOKUP(4,GEfectos!$C$4:$I$4,GEfectos!C209:I209),IF(EFECTOS!$N$9=\"NICARAGUA\",LOOKUP(5,GEfectos!$C$4:$I$4,GEfectos!C209:I209),IF(EFECTOS!$N$9=\"REPÚBLICA \nDOMINICANA\",LOOKUP(6,$C$4:$I$4,C209:I209),IF(EFECTOS!$N$9=\"PANAMÁ\",LOOKUP(7,GEfectos!$C$4:$I$4,GEfectos!C209:I209))))))))","v":81.80616818061074},{"$f":"IF(EFECTOS!$N$9=\"COSTA RICA\",LOOKUP(1,GEfectos!$J$4:$P$4,GEfectos!J209:P209),IF(EFECTOS!$N$9=\"EL SALVADOR\",LOOKUP(2,GEfectos!$J$4:$P$4,GEfectos!J209:P209),IF(EFECTOS!$N$9=\"GUATEMALA\",LOOKUP(3,GEfectos!$J$4:$P$4,GEfectos!J209:P209),IF(EFECTOS!$N$9=\"HONDURAS\",LOOKUP(4,GEfectos!$J$4:$P$4,GEfectos!J209:P209),IF(EFECTOS!$N$9=\"NICARAGUA\",LOOKUP(5,GEfectos!$J$4:$P$4,GEfectos!J209:P209),IF(EFECTOS!$N$9=\"REPÚBLICA \nDOMINICANA\",LOOKUP(6,$J$4:$P$4,J209:P209),IF(EFECTOS!$N$9=\"PANAMÁ\",LOOKUP(7,GEfectos!$J$4:$P$4,GEfectos!J209:P209))))))))","v":164.70931730448623},{"$f":"IF(EFECTOS!$N$9=\"COSTA RICA\",LOOKUP(1,GEfectos!$Q$4:$W$4,GEfectos!Q209:W209),IF(EFECTOS!$N$9=\"EL SALVADOR\",LOOKUP(2,GEfectos!$Q$4:$W$4,GEfectos!Q209:W209),IF(EFECTOS!$N$9=\"GUATEMALA\",LOOKUP(3,GEfectos!$Q$4:$W$4,GEfectos!Q209:W209),IF(EFECTOS!$N$9=\"HONDURAS\",LOOKUP(4,GEfectos!$Q$4:$W$4,GEfectos!Q209:W209),IF(EFECTOS!$N$9=\"NICARAGUA\",LOOKUP(5,GEfectos!$Q$4:$W$4,GEfectos!Q209:W209),IF(EFECTOS!$N$9=\"REPÚBLICA \nDOMINICANA\",LOOKUP(6,$Q$4:$W$4,Q209:W209),IF(EFECTOS!$N$9=\"PANAMÁ\",LOOKUP(7,GEfectos!$Q$4:$W$4,GEfectos!Q209:W209))))))))","v":201.34095138259366},100]
[2012,{"$f":"'ITCER GLOBAL'!B210","v":"Enero"},{"$f":"'ITCER GLOBAL'!C210","v":82.392023815745276},{"$f":"'ITCER GLOBAL'!D210","v":101.23678588704163},{"$f":"'ITCER GLOBAL'!E210","v":69.397582853294892},{"$f":"'ITCER GLOBAL'!F210","v":84.449674139594649},{"$f":"'ITCER GLOBAL'!G210","v":110.50756492455025},{"$f":"'ITCER GLOBAL'!H210","v":134.40374587644905},{"$f":"'ITCER GLOBAL'!I210","v":104.17758725668646},{"$f":"'ITCER GLOBAL'!S210","v":165.20720670198946},{"$f":"'ITCER GLOBAL'!T210","v":96.715408753083707},{"$f":"'ITCER GLOBAL'!U210","v":98.62017708236327},{"$f":"'ITCER GLOBAL'!V210","v":128.12908699407797},{"$f":"'ITCER GLOBAL'!W210","v":176.31409314430374},{"$f":"'ITCER GLOBAL'!X210","v":238.05844304382049},{"$f":"'ITCER GLOBAL'!Y210","v":104.40200125753456},{"$f":"'ITCER GLOBAL'!AA210","v":200.51359227617132},{"$f":"'ITCER GLOBAL'!AB210","v":95.533859461912584},{"$f":"'ITCER GLOBAL'!AC210","v":142.10895110114191},{"$f":"'ITCER GLOBAL'!AD210","v":151.72241728521249},{"$f":"'ITCER GLOBAL'!AE210","v":159.54934240446192},{"$f":"'ITCER GLOBAL'!AF210","v":177.12188115847326},{"$f":"'ITCER GLOBAL'!AG210","v":100.21541485722372},null,{"$f":"IF(EFECTOS!$N$9=\"COSTA RICA\",LOOKUP(1,GEfectos!$C$4:$I$4,GEfectos!C210:I210),IF(EFECTOS!$N$9=\"EL SALVADOR\",LOOKUP(2,GEfectos!$C$4:$I$4,GEfectos!C210:I210),IF(EFECTOS!$N$9=\"GUATEMALA\",LOOKUP(3,GEfectos!$C$4:$I$4,GEfectos!C210:I210),IF(EFECTOS!$N$9=\"HONDURAS\",LOOKUP(4,GEfectos!$C$4:$I$4,GEfectos!C210:I210),IF(EFECTOS!$N$9=\"NICARAGUA\",LOOKUP(5,GEfectos!$C$4:$I$4,GEfectos!C210:I210),IF(EFECTOS!$N$9=\"REPÚBLICA \nDOMINICANA\",LOOKUP(6,$C$4:$I$4,C210:I210),IF(EFECTOS!$N$9=\"PANAMÁ\",LOOKUP(7,GEfectos!$C$4:$I$4,GEfectos!C210:I210))))))))","v":82.392023815745276},{"$f":"IF(EFECTOS!$N$9=\"COSTA RICA\",LOOKUP(1,GEfectos!$J$4:$P$4,GEfectos!J210:P210),IF(EFECTOS!$N$9=\"EL SALVADOR\",LOOKUP(2,GEfectos!$J$4:$P$4,GEfectos!J210:P210),IF(EFECTOS!$N$9=\"GUATEMALA\",LOOKUP(3,GEfectos!$J$4:$P$4,GEfectos!J210:P210),IF(EFECTOS!$N$9=\"HONDURAS\",LOOKUP(4,GEfectos!$J$4:$P$4,GEfectos!J210:P210),IF(EFECTOS!$N$9=\"NICARAGUA\",LOOKUP(5,GEfectos!$J$4:$P$4,GEfectos!J210:P210),IF(EFECTOS!$N$9=\"REPÚBLICA \nDOMINICANA\",LOOKUP(6,$J$4:$P$4,J210:P210),IF(EFECTOS!$N$9=\"PANAMÁ\",LOOKUP(7,GEfectos!$J$4:$P$4,GEfectos!J210:P210))))))))","v":165.20720670198946},{"$f":"IF(EFECTOS!$N$9=\"COSTA RICA\",LOOKUP(1,GEfectos!$Q$4:$W$4,GEfectos!Q210:W210),IF(EFECTOS!$N$9=\"EL SALVADOR\",LOOKUP(2,GEfectos!$Q$4:$W$4,GEfectos!Q210:W210),IF(EFECTOS!$N$9=\"GUATEMALA\",LOOKUP(3,GEfectos!$Q$4:$W$4,GEfectos!Q210:W210),IF(EFECTOS!$N$9=\"HONDURAS\",LOOKUP(4,GEfectos!$Q$4:$W$4,GEfectos!Q210:W210),IF(EFECTOS!$N$9=\"NICARAGUA\",LOOKUP(5,GEfectos!$Q$4:$W$4,GEfectos!Q210:W210),IF(EFECTOS!$N$9=\"REPÚBLICA \nDOMINICANA\",LOOKUP(6,$Q$4:$W$4,Q210:W210),IF(EFECTOS!$N$9=\"PANAMÁ\",LOOKUP(7,GEfectos!$Q$4:$W$4,GEfectos!Q210:W210))))))))","v":200.51359227617132},100]
[null,{"$f":"'ITCER GLOBAL'!B211","v":"Febrero"},{"$f":"'ITCER GLOBAL'!C211","v":83.236170813593191},{"$f":"'ITCER GLOBAL'!D211","v":101.89793015308942},{"$f":"'ITCER GLOBAL'!E211","v":69.646138029978374},{"$f":"'ITCER GLOBAL'!F211","v":84.92470237887413},{"$f":"'ITCER GLOBAL'!G211","v":110.91165186761924},{"$f":"'ITCER GLOBAL'!H211","v":135.62863469840892},{"$f":"'ITCER GLOBAL'!I211","v":104.81979991196343},{"$f":"'ITCER GLOBAL'!S211","v":166.67997615564937},{"$f":"'ITCER GLOBAL'!T211","v":97.204952852370567},{"$f":"'ITCER GLOBAL'!U211","v":99.053800800811501},{"$f":"'ITCER GLOBAL'!V211","v":129.55634028697156},{"$f":"'ITCER GLOBAL'!W211","v":178.47822915494774},{"$f":"'ITCER GLOBAL'!X211","v":240.18142265300554},{"$f":"'ITCER GLOBAL'!Y211","v":105.34148616254464},{"$f":"'ITCER GLOBAL'!AA211","v":200.2494522831042},{"$f":"'ITCER GLOBAL'!AB211","v":95.394433141411},{"$f":"'ITCER GLOBAL'!AC211","v":142.22439836961951},{"$f":"'ITCER GLOBAL'!AD211","v":152.5543648171795},{"$f":"'ITCER GLOBAL'!AE211","v":160.91927777612935},{"$f":"'ITCER GLOBAL'!AF211","v":177.08754732146775},{"$f":"'ITCER GLOBAL'!AG211","v":100.49769819348955},null,{"$f":"IF(EFECTOS!$N$9=\"COSTA RICA\",LOOKUP(1,GEfectos!$C$4:$I$4,GEfectos!C211:I211),IF(EFECTOS!$N$9=\"EL SALVADOR\",LOOKUP(2,GEfectos!$C$4:$I$4,GEfectos!C211:I211),IF(EFECTOS!$N$9=\"GUATEMALA\",LOOKUP(3,GEfectos!$C$4:$I$4,GEfectos!C211:I211),IF(EFECTOS!$N$9=\"HONDURAS\",LOOKUP(4,GEfectos!$C$4:$I$4,GEfectos!C211:I211),IF(EFECTOS!$N$9=\"NICARAGUA\",LOOKUP(5,GEfectos!$C$4:$I$4,GEfectos!C211:I211),IF(EFECTOS!$N$9=\"REPÚBLICA \nDOMINICANA\",LOOKUP(6,$C$4:$I$4,C211:I211),IF(EFECTOS!$N$9=\"PANAMÁ\",LOOKUP(7,GEfectos!$C$4:$I$4,GEfectos!C211:I211))))))))","v":83.236170813593191},{"$f":"IF(EFECTOS!$N$9=\"COSTA RICA\",LOOKUP(1,GEfectos!$J$4:$P$4,GEfectos!J211:P211),IF(EFECTOS!$N$9=\"EL SALVADOR\",LOOKUP(2,GEfectos!$J$4:$P$4,GEfectos!J211:P211),IF(EFECTOS!$N$9=\"GUATEMALA\",LOOKUP(3,GEfectos!$J$4:$P$4,GEfectos!J211:P211),IF(EFECTOS!$N$9=\"HONDURAS\",LOOKUP(4,GEfectos!$J$4:$P$4,GEfectos!J211:P211),IF(EFECTOS!$N$9=\"NICARAGUA\",LOOKUP(5,GEfectos!$J$4:$P$4,GEfectos!J211:P211),IF(EFECTOS!$N$9=\"REPÚBLICA \nDOMINICANA\",LOOKUP(6,$J$4:$P$4,J211:P211),IF(EFECTOS!$N$9=\"PANAMÁ\",LOOKUP(7,GEfectos!$J$4:$P$4,GEfectos!J211:P211))))))))","v":166.67997615564937},{"$f":"IF(EFECTOS!$N$9=\"COSTA RICA\",LOOKUP(1,GEfectos!$Q$4:$W$4,GEfectos!Q211:W211),IF(EFECTOS!$N$9=\"EL SALVADOR\",LOOKUP(2,GEfectos!$Q$4:$W$4,GEfectos!Q211:W211),IF(EFECTOS!$N$9=\"GUATEMALA\",LOOKUP(3,GEfectos!$Q$4:$W$4,GEfectos!Q211:W211),IF(EFECTOS!$N$9=\"HONDURAS\",LOOKUP(4,GEfectos!$Q$4:$W$4,GEfectos!Q211:W211),IF(EFECTOS!$N$9=\"NICARAGUA\",LOOKUP(5,GEfectos!$Q$4:$W$4,GEfectos!Q211:W211),IF(EFECTOS!$N$9=\"REPÚBLICA \nDOMINICANA\",LOOKUP(6,$Q$4:$W$4,Q211:W211),IF(EFECTOS!$N$9=\"PANAMÁ\",LOOKUP(7,GEfectos!$Q$4:$W$4,GEfectos!Q211:W211))))))))","v":200.2494522831042},100]
[null,{"$f":"'ITCER GLOBAL'!B212","v":"Marzo"},{"$f":"'ITCER GLOBAL'!C212","v":82.968979066594358},{"$f":"'ITCER GLOBAL'!D212","v":102.29277506751774},{"$f":"'ITCER GLOBAL'!E212","v":69.158105265960813},{"$f":"'ITCER GLOBAL'!F212","v":85.107468170769565},{"$f":"'ITCER GLOBAL'!G212","v":111.01064767945002},{"$f":"'ITCER GLOBAL'!H212","v":136.21629180261871},{"$f":"'ITCER GLOBAL'!I212","v":104.19208956141163},{"$f":"'ITCER GLOBAL'!S212","v":165.75518251937734},{"$f":"'ITCER GLOBAL'!T212","v":97.146454755110483},{"$f":"'ITCER GLOBAL'!U212","v":98.132303005317581},{"$f":"'ITCER GLOBAL'!V212","v":130.02345306745286},{"$f":"'ITCER GLOBAL'!W212","v":178.46439852713485},{"$f":"'ITCER GLOBAL'!X212","v":240.0766059720342},{"$f":"'ITCER GLOBAL'!Y212","v":105.03235524486894},{"$f":"'ITCER GLOBAL'!AA212","v":199.77970608308357},{"$f":"'ITCER GLOBAL'!AB212","v":94.969028546727316},{"$f":"'ITCER GLOBAL'!AC212","v":141.89559217669557},{"$f":"'ITCER GLOBAL'!AD212","v":152.77560931146328},{"$f":"'ITCER GLOBAL'!AE212","v":160.76331618428318},{"$f":"'ITCER GLOBAL'!AF212","v":176.24661690241285},{"$f":"'ITCER GLOBAL'!AG212","v":100.8064582320926},null,{"$f":"IF(EFECTOS!$N$9=\"COSTA RICA\",LOOKUP(1,GEfectos!$C$4:$I$4,GEfectos!C212:I212),IF(EFECTOS!$N$9=\"EL SALVADOR\",LOOKUP(2,GEfectos!$C$4:$I$4,GEfectos!C212:I212),IF(EFECTOS!$N$9=\"GUATEMALA\",LOOKUP(3,GEfectos!$C$4:$I$4,GEfectos!C212:I212),IF(EFECTOS!$N$9=\"HONDURAS\",LOOKUP(4,GEfectos!$C$4:$I$4,GEfectos!C212:I212),IF(EFECTOS!$N$9=\"NICARAGUA\",LOOKUP(5,GEfectos!$C$4:$I$4,GEfectos!C212:I212),IF(EFECTOS!$N$9=\"REPÚBLICA \nDOMINICANA\",LOOKUP(6,$C$4:$I$4,C212:I212),IF(EFECTOS!$N$9=\"PANAMÁ\",LOOKUP(7,GEfectos!$C$4:$I$4,GEfectos!C212:I212))))))))","v":82.968979066594358},{"$f":"IF(EFECTOS!$N$9=\"COSTA RICA\",LOOKUP(1,GEfectos!$J$4:$P$4,GEfectos!J212:P212),IF(EFECTOS!$N$9=\"EL SALVADOR\",LOOKUP(2,GEfectos!$J$4:$P$4,GEfectos!J212:P212),IF(EFECTOS!$N$9=\"GUATEMALA\",LOOKUP(3,GEfectos!$J$4:$P$4,GEfectos!J212:P212),IF(EFECTOS!$N$9=\"HONDURAS\",LOOKUP(4,GEfectos!$J$4:$P$4,GEfectos!J212:P212),IF(EFECTOS!$N$9=\"NICARAGUA\",LOOKUP(5,GEfectos!$J$4:$P$4,GEfectos!J212:P212),IF(EFECTOS!$N$9=\"REPÚBLICA \nDOMINICANA\",LOOKUP(6,$J$4:$P$4,J212:P212),IF(EFECTOS!$N$9=\"PANAMÁ\",LOOKUP(7,GEfectos!$J$4:$P$4,GEfectos!J212:P212))))))))","v":165.75518251937734},{"$f":"IF(EFECTOS!$N$9=\"COSTA RICA\",LOOKUP(1,GEfectos!$Q$4:$W$4,GEfectos!Q212:W212),IF(EFECTOS!$N$9=\"EL SALVADOR\",LOOKUP(2,GEfectos!$Q$4:$W$4,GEfectos!Q212:W212),IF(EFECTOS!$N$9=\"GUATEMALA\",LOOKUP(3,GEfectos!$Q$4:$W$4,GEfectos!Q212:W212),IF(EFECTOS!$N$9=\"HONDURAS\",LOOKUP(4,GEfectos!$Q$4:$W$4,GEfectos!Q212:W212),IF(EFECTOS!$N$9=\"NICARAGUA\",LOOKUP(5,GEfectos!$Q$4:$W$4,GEfectos!Q212:W212),IF(EFECTOS!$N$9=\"REPÚBLICA \nDOMINICANA\",LOOKUP(6,$Q$4:$W$4,Q212:W212),IF(EFECTOS!$N$9=\"PANAMÁ\",LOOKUP(7,GEfectos!$Q$4:$W$4,GEfectos!Q212:W212))))))))","v":199.77970608308357},100]
[null,{"$f":"'ITCER GLOBAL'!B213","v":"Abril"},{"$f":"'ITCER GLOBAL'!C213","v":81.919430437957715},{"$f":"'ITCER GLOBAL'!D213","v":101.79919531463314},{"$f":"'ITCER GLOBAL'!E213","v":69.153727663648311},{"$f":"'ITCER GLOBAL'!F213","v":84.551438797098726},{"$f":"'ITCER GLOBAL'!G213","v":110.22344540235466},{"$f":"'ITCER GLOBAL'!H213","v":136.38691828992114},{"$f":"'ITCER GLOBAL'!I213","v":103.5104494629424},{"$f":"'ITCER GLOBAL'!S213","v":164.21249913891415},{"$f":"'ITCER GLOBAL'!T213","v":96.919752960728061},{"$f":"'ITCER GLOBAL'!U213","v":98.176164165752766},{"$f":"'ITCER GLOBAL'!V213","v":130.19789958863853},{"$f":"'ITCER GLOBAL'!W213","v":178.51013661956347},{"$f":"'ITCER GLOBAL'!X213","v":239.72532239549196},{"$f":"'ITCER GLOBAL'!Y213","v":104.81263699485876},{"$f":"'ITCER GLOBAL'!AA213","v":200.45610456640287},{"$f":"'ITCER GLOBAL'!AB213","v":95.206796734665673},{"$f":"'ITCER GLOBAL'!AC213","v":141.96800011022478},{"$f":"'ITCER GLOBAL'!AD213","v":153.98661624325442},{"$f":"'ITCER GLOBAL'!AE213","v":161.9529637890906},{"$f":"'ITCER GLOBAL'!AF213","v":175.76856006519756},{"$f":"'ITCER GLOBAL'!AG213","v":101.25802519327533},null,{"$f":"IF(EFECTOS!$N$9=\"COSTA RICA\",LOOKUP(1,GEfectos!$C$4:$I$4,GEfectos!C213:I213),IF(EFECTOS!$N$9=\"EL SALVADOR\",LOOKUP(2,GEfectos!$C$4:$I$4,GEfectos!C213:I213),IF(EFECTOS!$N$9=\"GUATEMALA\",LOOKUP(3,GEfectos!$C$4:$I$4,GEfectos!C213:I213),IF(EFECTOS!$N$9=\"HONDURAS\",LOOKUP(4,GEfectos!$C$4:$I$4,GEfectos!C213:I213),IF(EFECTOS!$N$9=\"NICARAGUA\",LOOKUP(5,GEfectos!$C$4:$I$4,GEfectos!C213:I213),IF(EFECTOS!$N$9=\"REPÚBLICA \nDOMINICANA\",LOOKUP(6,$C$4:$I$4,C213:I213),IF(EFECTOS!$N$9=\"PANAMÁ\",LOOKUP(7,GEfectos!$C$4:$I$4,GEfectos!C213:I213))))))))","v":81.919430437957715},{"$f":"IF(EFECTOS!$N$9=\"COSTA RICA\",LOOKUP(1,GEfectos!$J$4:$P$4,GEfectos!J213:P213),IF(EFECTOS!$N$9=\"EL SALVADOR\",LOOKUP(2,GEfectos!$J$4:$P$4,GEfectos!J213:P213),IF(EFECTOS!$N$9=\"GUATEMALA\",LOOKUP(3,GEfectos!$J$4:$P$4,GEfectos!J213:P213),IF(EFECTOS!$N$9=\"HONDURAS\",LOOKUP(4,GEfectos!$J$4:$P$4,GEfectos!J213:P213),IF(EFECTOS!$N$9=\"NICARAGUA\",LOOKUP(5,GEfectos!$J$4:$P$4,GEfectos!J213:P213),IF(EFECTOS!$N$9=\"REPÚBLICA \nDOMINICANA\",LOOKUP(6,$J$4:$P$4,J213:P213),IF(EFECTOS!$N$9=\"PANAMÁ\",LOOKUP(7,GEfectos!$J$4:$P$4,GEfectos!J213:P213))))))))","v":164.21249913891415},{"$f":"IF(EFECTOS!$N$9=\"COSTA RICA\",LOOKUP(1,GEfectos!$Q$4:$W$4,GEfectos!Q213:W213),IF(EFECTOS!$N$9=\"EL SALVADOR\",LOOKUP(2,GEfectos!$Q$4:$W$4,GEfectos!Q213:W213),IF(EFECTOS!$N$9=\"GUATEMALA\",LOOKUP(3,GEfectos!$Q$4:$W$4,GEfectos!Q213:W213),IF(EFECTOS!$N$9=\"HONDURAS\",LOOKUP(4,GEfectos!$Q$4:$W$4,GEfectos!Q213:W213),IF(EFECTOS!$N$9=\"NICARAGUA\",LOOKUP(5,GEfectos!$Q$4:$W$4,GEfectos!Q213:W213),IF(EFECTOS!$N$9=\"REPÚBLICA \nDOMINICANA\",LOOKUP(6,$Q$4:$W$4,Q213:W213),IF(EFECTOS!$N$9=\"PANAMÁ\",LOOKUP(7,GEfectos!$Q$4:$W$4,GEfectos!Q213:W213))))))))","v":200.45610456640287},100]
[null,{"$f":"'ITCER GLOBAL'!B214","v":"Mayo"},{"$f":"'ITCER GLOBAL'!C214","v":80.376820778959114},{"$f":"'ITCER GLOBAL'!D214","v":101.4077030318478},{"$f":"'ITCER GLOBAL'!E214","v":68.783085972934146},{"$f":"'ITCER GLOBAL'!F214","v":84.096216049303692},{"$f":"'ITCER GLOBAL'!G214","v":109.99862399739345},{"$f":"'ITCER GLOBAL'!H214","v":135.67673811073973},{"$f":"'ITCER GLOBAL'!I214","v":102.12673961845066},{"$f":"'ITCER GLOBAL'!S214","v":162.88939128735194},{"$f":"'ITCER GLOBAL'!T214","v":96.313988240270305},{"$f":"'ITCER GLOBAL'!U214","v":97.853527514998845},{"$f":"'ITCER GLOBAL'!V214","v":129.73562498877996},{"$f":"'ITCER GLOBAL'!W214","v":177.63082436850698},{"$f":"'ITCER GLOBAL'!X214","v":237.99354507404956},{"$f":"'ITCER GLOBAL'!Y214","v":103.86764799813852},{"$f":"'ITCER GLOBAL'!AA214","v":202.65717119529666},{"$f":"'ITCER GLOBAL'!AB214","v":94.976994213173569},{"$f":"'ITCER GLOBAL'!AC214","v":142.26393906418187},{"$f":"'ITCER GLOBAL'!AD214","v":154.27046671483879},{"$f":"'ITCER GLOBAL'!AE214","v":161.48458763694731},{"$f":"'ITCER GLOBAL'!AF214","v":175.4121954787847},{"$f":"'ITCER GLOBAL'!AG214","v":101.70465481047566},null,{"$f":"IF(EFECTOS!$N$9=\"COSTA RICA\",LOOKUP(1,GEfectos!$C$4:$I$4,GEfectos!C214:I214),IF(EFECTOS!$N$9=\"EL SALVADOR\",LOOKUP(2,GEfectos!$C$4:$I$4,GEfectos!C214:I214),IF(EFECTOS!$N$9=\"GUATEMALA\",LOOKUP(3,GEfectos!$C$4:$I$4,GEfectos!C214:I214),IF(EFECTOS!$N$9=\"HONDURAS\",LOOKUP(4,GEfectos!$C$4:$I$4,GEfectos!C214:I214),IF(EFECTOS!$N$9=\"NICARAGUA\",LOOKUP(5,GEfectos!$C$4:$I$4,GEfectos!C214:I214),IF(EFECTOS!$N$9=\"REPÚBLICA \nDOMINICANA\",LOOKUP(6,$C$4:$I$4,C214:I214),IF(EFECTOS!$N$9=\"PANAMÁ\",LOOKUP(7,GEfectos!$C$4:$I$4,GEfectos!C214:I214))))))))","v":80.376820778959114},{"$f":"IF(EFECTOS!$N$9=\"COSTA RICA\",LOOKUP(1,GEfectos!$J$4:$P$4,GEfectos!J214:P214),IF(EFECTOS!$N$9=\"EL SALVADOR\",LOOKUP(2,GEfectos!$J$4:$P$4,GEfectos!J214:P214),IF(EFECTOS!$N$9=\"GUATEMALA\",LOOKUP(3,GEfectos!$J$4:$P$4,GEfectos!J214:P214),IF(EFECTOS!$N$9=\"HONDURAS\",LOOKUP(4,GEfectos!$J$4:$P$4,GEfectos!J214:P214),IF(EFECTOS!$N$9=\"NICARAGUA\",LOOKUP(5,GEfectos!$J$4:$P$4,GEfectos!J214:P214),IF(EFECTOS!$N$9=\"REPÚBLICA \nDOMINICANA\",LOOKUP(6,$J$4:$P$4,J214:P214),IF(EFECTOS!$N$9=\"PANAMÁ\",LOOKUP(7,GEfectos!$J$4:$P$4,GEfectos!J214:P214))))))))","v":162.88939128735194},{"$f":"IF(EFECTOS!$N$9=\"COSTA RICA\",LOOKUP(1,GEfectos!$Q$4:$W$4,GEfectos!Q214:W214),IF(EFECTOS!$N$9=\"EL SALVADOR\",LOOKUP(2,GEfectos!$Q$4:$W$4,GEfectos!Q214:W214),IF(EFECTOS!$N$9=\"GUATEMALA\",LOOKUP(3,GEfectos!$Q$4:$W$4,GEfectos!Q214:W214),IF(EFECTOS!$N$9=\"HONDURAS\",LOOKUP(4,GEfectos!$Q$4:$W$4,GEfectos!Q214:W214),IF(EFECTOS!$N$9=\"NICARAGUA\",LOOKUP(5,GEfectos!$Q$4:$W$4,GEfectos!Q214:W214),IF(EFECTOS!$N$9=\"REPÚBLICA \nDOMINICANA\",LOOKUP(6,$Q$4:$W$4,Q214:W214),IF(EFECTOS!$N$9=\"PANAMÁ\",LOOKUP(7,GEfectos!$Q$4:$W$4,GEfectos!Q214:W214))))))))","v":202.65717119529666},100]
[null,{"$f":"'ITCER GLOBAL'!B215","v":"Junio"},{"$f":"'ITCER GLOBAL'!C215","v":78.97131329140683},{"$f":"'ITCER GLOBAL'!D215","v":101.40628709806046},{"$f":"'ITCER GLOBAL'!E215","v":68.873248636084057},{"$f":"'ITCER GLOBAL'!F215","v":83.909515253459034},{"$f":"'ITCER GLOBAL'!G215","v":110.26013296756628},{"$f":"'ITCER GLOBAL'!H215","v":134.76991686471979},{"$f":"'ITCER GLOBAL'!I215","v":101.5388138234981},{"$f":"'ITCER GLOBAL'!S215","v":160.51495626212395},{"$f":"'ITCER GLOBAL'!T215","v":95.862441881605548},{"$f":"'ITCER GLOBAL'!U215","v":98.220719874910799},{"$f":"'ITCER GLOBAL'!V215","v":129.59967754599722},{"$f":"'ITCER GLOBAL'!W215","v":177.67597379431609},{"$f":"'ITCER GLOBAL'!X215","v":237.07611146296586},{"$f":"'ITCER GLOBAL'!Y215","v":103.32357531728059},{"$f":"'ITCER GLOBAL'!AA215","v":203.25729631697817},{"$f":"'ITCER GLOBAL'!AB215","v":94.533035993030694},{"$f":"'ITCER GLOBAL'!AC215","v":142.61084211940457},{"$f":"'ITCER GLOBAL'!AD215","v":154.45170569097607},{"$f":"'ITCER GLOBAL'!AE215","v":161.14253539543674},{"$f":"'ITCER GLOBAL'!AF215","v":175.91174423661599},{"$f":"'ITCER GLOBAL'!AG215","v":101.75771355462639},null,{"$f":"IF(EFECTOS!$N$9=\"COSTA RICA\",LOOKUP(1,GEfectos!$C$4:$I$4,GEfectos!C215:I215),IF(EFECTOS!$N$9=\"EL SALVADOR\",LOOKUP(2,GEfectos!$C$4:$I$4,GEfectos!C215:I215),IF(EFECTOS!$N$9=\"GUATEMALA\",LOOKUP(3,GEfectos!$C$4:$I$4,GEfectos!C215:I215),IF(EFECTOS!$N$9=\"HONDURAS\",LOOKUP(4,GEfectos!$C$4:$I$4,GEfectos!C215:I215),IF(EFECTOS!$N$9=\"NICARAGUA\",LOOKUP(5,GEfectos!$C$4:$I$4,GEfectos!C215:I215),IF(EFECTOS!$N$9=\"REPÚBLICA \nDOMINICANA\",LOOKUP(6,$C$4:$I$4,C215:I215),IF(EFECTOS!$N$9=\"PANAMÁ\",LOOKUP(7,GEfectos!$C$4:$I$4,GEfectos!C215:I215))))))))","v":78.97131329140683},{"$f":"IF(EFECTOS!$N$9=\"COSTA RICA\",LOOKUP(1,GEfectos!$J$4:$P$4,GEfectos!J215:P215),IF(EFECTOS!$N$9=\"EL SALVADOR\",LOOKUP(2,GEfectos!$J$4:$P$4,GEfectos!J215:P215),IF(EFECTOS!$N$9=\"GUATEMALA\",LOOKUP(3,GEfectos!$J$4:$P$4,GEfectos!J215:P215),IF(EFECTOS!$N$9=\"HONDURAS\",LOOKUP(4,GEfectos!$J$4:$P$4,GEfectos!J215:P215),IF(EFECTOS!$N$9=\"NICARAGUA\",LOOKUP(5,GEfectos!$J$4:$P$4,GEfectos!J215:P215),IF(EFECTOS!$N$9=\"REPÚBLICA \nDOMINICANA\",LOOKUP(6,$J$4:$P$4,J215:P215),IF(EFECTOS!$N$9=\"PANAMÁ\",LOOKUP(7,GEfectos!$J$4:$P$4,GEfectos!J215:P215))))))))","v":160.51495626212395},{"$f":"IF(EFECTOS!$N$9=\"COSTA RICA\",LOOKUP(1,GEfectos!$Q$4:$W$4,GEfectos!Q215:W215),IF(EFECTOS!$N$9=\"EL SALVADOR\",LOOKUP(2,GEfectos!$Q$4:$W$4,GEfectos!Q215:W215),IF(EFECTOS!$N$9=\"GUATEMALA\",LOOKUP(3,GEfectos!$Q$4:$W$4,GEfectos!Q215:W215),IF(EFECTOS!$N$9=\"HONDURAS\",LOOKUP(4,GEfectos!$Q$4:$W$4,GEfectos!Q215:W215),IF(EFECTOS!$N$9=\"NICARAGUA\",LOOKUP(5,GEfectos!$Q$4:$W$4,GEfectos!Q215:W215),IF(EFECTOS!$N$9=\"REPÚBLICA \nDOMINICANA\",LOOKUP(6,$Q$4:$W$4,Q215:W215),IF(EFECTOS!$N$9=\"PANAMÁ\",LOOKUP(7,GEfectos!$Q$4:$W$4,GEfectos!Q215:W215))))))))","v":203.25729631697817},100]
[null,{"$f":"'ITCER GLOBAL'!B216","v":"Julio"},{"$f":"'ITCER GLOBAL'!C216","v":79.27433129491007},{"$f":"'ITCER GLOBAL'!D216","v":101.89509131073932},{"$f":"'ITCER GLOBAL'!E216","v":68.583531788724869},{"$f":"'ITCER GLOBAL'!F216","v":84.198595458555516},{"$f":"'ITCER GLOBAL'!G216","v":111.12323717686161},{"$f":"'ITCER GLOBAL'!H216","v":135.13626049722694},{"$f":"'ITCER GLOBAL'!I216","v":101.37314660947173},{"$f":"'ITCER GLOBAL'!S216","v":160.77841142956268},{"$f":"'ITCER GLOBAL'!T216","v":96.039201504804154},{"$f":"'ITCER GLOBAL'!U216","v":98.223370946259919},{"$f":"'ITCER GLOBAL'!V216","v":130.26769513370155},{"$f":"'ITCER GLOBAL'!W216","v":179.65760105740816},{"$f":"'ITCER GLOBAL'!X216","v":237.40303685692811},{"$f":"'ITCER GLOBAL'!Y216","v":103.55322386092385},{"$f":"'ITCER GLOBAL'!AA216","v":202.81269965109843},{"$f":"'ITCER GLOBAL'!AB216","v":94.253020699420091},{"$f":"'ITCER GLOBAL'!AC216","v":143.21713738633656},{"$f":"'ITCER GLOBAL'!AD216","v":154.71480779964116},{"$f":"'ITCER GLOBAL'!AE216","v":161.67419670421282},{"$f":"'ITCER GLOBAL'!AF216","v":175.67678429417521},{"$f":"'ITCER GLOBAL'!AG216","v":102.15054708704132},null,{"$f":"IF(EFECTOS!$N$9=\"COSTA RICA\",LOOKUP(1,GEfectos!$C$4:$I$4,GEfectos!C216:I216),IF(EFECTOS!$N$9=\"EL SALVADOR\",LOOKUP(2,GEfectos!$C$4:$I$4,GEfectos!C216:I216),IF(EFECTOS!$N$9=\"GUATEMALA\",LOOKUP(3,GEfectos!$C$4:$I$4,GEfectos!C216:I216),IF(EFECTOS!$N$9=\"HONDURAS\",LOOKUP(4,GEfectos!$C$4:$I$4,GEfectos!C216:I216),IF(EFECTOS!$N$9=\"NICARAGUA\",LOOKUP(5,GEfectos!$C$4:$I$4,GEfectos!C216:I216),IF(EFECTOS!$N$9=\"REPÚBLICA \nDOMINICANA\",LOOKUP(6,$C$4:$I$4,C216:I216),IF(EFECTOS!$N$9=\"PANAMÁ\",LOOKUP(7,GEfectos!$C$4:$I$4,GEfectos!C216:I216))))))))","v":79.27433129491007},{"$f":"IF(EFECTOS!$N$9=\"COSTA RICA\",LOOKUP(1,GEfectos!$J$4:$P$4,GEfectos!J216:P216),IF(EFECTOS!$N$9=\"EL SALVADOR\",LOOKUP(2,GEfectos!$J$4:$P$4,GEfectos!J216:P216),IF(EFECTOS!$N$9=\"GUATEMALA\",LOOKUP(3,GEfectos!$J$4:$P$4,GEfectos!J216:P216),IF(EFECTOS!$N$9=\"HONDURAS\",LOOKUP(4,GEfectos!$J$4:$P$4,GEfectos!J216:P216),IF(EFECTOS!$N$9=\"NICARAGUA\",LOOKUP(5,GEfectos!$J$4:$P$4,GEfectos!J216:P216),IF(EFECTOS!$N$9=\"REPÚBLICA \nDOMINICANA\",LOOKUP(6,$J$4:$P$4,J216:P216),IF(EFECTOS!$N$9=\"PANAMÁ\",LOOKUP(7,GEfectos!$J$4:$P$4,GEfectos!J216:P216))))))))","v":160.77841142956268},{"$f":"IF(EFECTOS!$N$9=\"COSTA RICA\",LOOKUP(1,GEfectos!$Q$4:$W$4,GEfectos!Q216:W216),IF(EFECTOS!$N$9=\"EL SALVADOR\",LOOKUP(2,GEfectos!$Q$4:$W$4,GEfectos!Q216:W216),IF(EFECTOS!$N$9=\"GUATEMALA\",LOOKUP(3,GEfectos!$Q$4:$W$4,GEfectos!Q216:W216),IF(EFECTOS!$N$9=\"HONDURAS\",LOOKUP(4,GEfectos!$Q$4:$W$4,GEfectos!Q216:W216),IF(EFECTOS!$N$9=\"NICARAGUA\",LOOKUP(5,GEfectos!$Q$4:$W$4,GEfectos!Q216:W216),IF(EFECTOS!$N$9=\"REPÚBLICA \nDOMINICANA\",LOOKUP(6,$Q$4:$W$4,Q216:W216),IF(EFECTOS!$N$9=\"PANAMÁ\",LOOKUP(7,GEfectos!$Q$4:$W$4,GEfectos!Q216:W216))))))))","v":202.81269965109843},100]
[null,{"$f":"'ITCER GLOBAL'!B217","v":"Agosto"},{"$f":"'ITCER GLOBAL'!C217","v":79.174983620888668},{"$f":"'ITCER GLOBAL'!D217","v":102.25312811287442},{"$f":"'ITCER GLOBAL'!E217","v":69.273821899421222},{"$f":"'ITCER GLOBAL'!F217","v":84.553596376243988},{"$f":"'ITCER GLOBAL'!G217","v":112.27589728347543},{"$f":"'ITCER GLOBAL'!H217","v":134.78259370601137},{"$f":"'ITCER GLOBAL'!I217","v":101.57985736154454},{"$f":"'ITCER GLOBAL'!S217","v":160.64225499632894},{"$f":"'ITCER GLOBAL'!T217","v":96.065992751409695},{"$f":"'ITCER GLOBAL'!U217","v":99.20218871555717},{"$f":"'ITCER GLOBAL'!V217","v":131.00167355860148},{"$f":"'ITCER GLOBAL'!W217","v":181.14260332537566},{"$f":"'ITCER GLOBAL'!X217","v":237.93907749173519},{"$f":"'ITCER GLOBAL'!Y217","v":103.78960137718872},{"$f":"'ITCER GLOBAL'!AA217","v":202.89521721346699},{"$f":"'ITCER GLOBAL'!AB217","v":93.949196982379917},{"$f":"'ITCER GLOBAL'!AC217","v":143.20299645021609},{"$f":"'ITCER GLOBAL'!AD217","v":154.93329577097379},{"$f":"'ITCER GLOBAL'!AE217","v":161.33703466918175},{"$f":"'ITCER GLOBAL'!AF217","v":176.53546422376272},{"$f":"'ITCER GLOBAL'!AG217","v":102.17537617500211},null,{"$f":"IF(EFECTOS!$N$9=\"COSTA RICA\",LOOKUP(1,GEfectos!$C$4:$I$4,GEfectos!C217:I217),IF(EFECTOS!$N$9=\"EL SALVADOR\",LOOKUP(2,GEfectos!$C$4:$I$4,GEfectos!C217:I217),IF(EFECTOS!$N$9=\"GUATEMALA\",LOOKUP(3,GEfectos!$C$4:$I$4,GEfectos!C217:I217),IF(EFECTOS!$N$9=\"HONDURAS\",LOOKUP(4,GEfectos!$C$4:$I$4,GEfectos!C217:I217),IF(EFECTOS!$N$9=\"NICARAGUA\",LOOKUP(5,GEfectos!$C$4:$I$4,GEfectos!C217:I217),IF(EFECTOS!$N$9=\"REPÚBLICA \nDOMINICANA\",LOOKUP(6,$C$4:$I$4,C217:I217),IF(EFECTOS!$N$9=\"PANAMÁ\",LOOKUP(7,GEfectos!$C$4:$I$4,GEfectos!C217:I217))))))))","v":79.174983620888668},{"$f":"IF(EFECTOS!$N$9=\"COSTA RICA\",LOOKUP(1,GEfectos!$J$4:$P$4,GEfectos!J217:P217),IF(EFECTOS!$N$9=\"EL SALVADOR\",LOOKUP(2,GEfectos!$J$4:$P$4,GEfectos!J217:P217),IF(EFECTOS!$N$9=\"GUATEMALA\",LOOKUP(3,GEfectos!$J$4:$P$4,GEfectos!J217:P217),IF(EFECTOS!$N$9=\"HONDURAS\",LOOKUP(4,GEfectos!$J$4:$P$4,GEfectos!J217:P217),IF(EFECTOS!$N$9=\"NICARAGUA\",LOOKUP(5,GEfectos!$J$4:$P$4,GEfectos!J217:P217),IF(EFECTOS!$N$9=\"REPÚBLICA \nDOMINICANA\",LOOKUP(6,$J$4:$P$4,J217:P217),IF(EFECTOS!$N$9=\"PANAMÁ\",LOOKUP(7,GEfectos!$J$4:$P$4,GEfectos!J217:P217))))))))","v":160.64225499632894},{"$f":"IF(EFECTOS!$N$9=\"COSTA RICA\",LOOKUP(1,GEfectos!$Q$4:$W$4,GEfectos!Q217:W217),IF(EFECTOS!$N$9=\"EL SALVADOR\",LOOKUP(2,GEfectos!$Q$4:$W$4,GEfectos!Q217:W217),IF(EFECTOS!$N$9=\"GUATEMALA\",LOOKUP(3,GEfectos!$Q$4:$W$4,GEfectos!Q217:W217),IF(EFECTOS!$N$9=\"HONDURAS\",LOOKUP(4,GEfectos!$Q$4:$W$4,GEfectos!Q217:W217),IF(EFECTOS!$N$9=\"NICARAGUA\",LOOKUP(5,GEfectos!$Q$4:$W$4,GEfectos!Q217:W217),IF(EFECTOS!$N$9=\"REPÚBLICA \nDOMINICANA\",LOOKUP(6,$Q$4:$W$4,Q217:W217),IF(EFECTOS!$N$9=\"PANAMÁ\",LOOKUP(7,GEfectos!$Q$4:$W$4,GEfectos!Q217:W217))))))))","v":202.89521721346699},100]
[null,{"$f":"'ITCER GLOBAL'!B218","v":"Septiembre"},{"$f":"'ITCER GLOBAL'!C218","v":79.727387582319906},{"$f":"'ITCER GLOBAL'!D218","v":102.53406186393194},{"$f":"'ITCER GLOBAL'!E218","v":70.368558075142829},{"$f":"'ITCER GLOBAL'!F218","v":85.099219001024863},{"$f":"'ITCER GLOBAL'!G218","v":112.96528636200328},{"$f":"'ITCER GLOBAL'!H218","v":135.59815660723558},{"$f":"'ITCER GLOBAL'!I218","v":102.60468592117375},{"$f":"'ITCER GLOBAL'!S218","v":161.14474441903528},{"$f":"'ITCER GLOBAL'!T218","v":96.279772922434148},{"$f":"'ITCER GLOBAL'!U218","v":100.81895542372578},{"$f":"'ITCER GLOBAL'!V218","v":132.21596280985057},{"$f":"'ITCER GLOBAL'!W218","v":182.70800291967936},{"$f":"'ITCER GLOBAL'!X218","v":239.77162378542789},{"$f":"'ITCER GLOBAL'!Y218","v":104.47030873833749},{"$f":"'ITCER GLOBAL'!AA218","v":202.11968472270652},{"$f":"'ITCER GLOBAL'!AB218","v":93.900281693904248},{"$f":"'ITCER GLOBAL'!AC218","v":143.27273171643876},{"$f":"'ITCER GLOBAL'!AD218","v":155.36683457489576},{"$f":"'ITCER GLOBAL'!AE218","v":161.73818418357459},{"$f":"'ITCER GLOBAL'!AF218","v":176.82513522653122},{"$f":"'ITCER GLOBAL'!AG218","v":101.81826278245907},null,{"$f":"IF(EFECTOS!$N$9=\"COSTA RICA\",LOOKUP(1,GEfectos!$C$4:$I$4,GEfectos!C218:I218),IF(EFECTOS!$N$9=\"EL SALVADOR\",LOOKUP(2,GEfectos!$C$4:$I$4,GEfectos!C218:I218),IF(EFECTOS!$N$9=\"GUATEMALA\",LOOKUP(3,GEfectos!$C$4:$I$4,GEfectos!C218:I218),IF(EFECTOS!$N$9=\"HONDURAS\",LOOKUP(4,GEfectos!$C$4:$I$4,GEfectos!C218:I218),IF(EFECTOS!$N$9=\"NICARAGUA\",LOOKUP(5,GEfectos!$C$4:$I$4,GEfectos!C218:I218),IF(EFECTOS!$N$9=\"REPÚBLICA \nDOMINICANA\",LOOKUP(6,$C$4:$I$4,C218:I218),IF(EFECTOS!$N$9=\"PANAMÁ\",LOOKUP(7,GEfectos!$C$4:$I$4,GEfectos!C218:I218))))))))","v":79.727387582319906},{"$f":"IF(EFECTOS!$N$9=\"COSTA RICA\",LOOKUP(1,GEfectos!$J$4:$P$4,GEfectos!J218:P218),IF(EFECTOS!$N$9=\"EL SALVADOR\",LOOKUP(2,GEfectos!$J$4:$P$4,GEfectos!J218:P218),IF(EFECTOS!$N$9=\"GUATEMALA\",LOOKUP(3,GEfectos!$J$4:$P$4,GEfectos!J218:P218),IF(EFECTOS!$N$9=\"HONDURAS\",LOOKUP(4,GEfectos!$J$4:$P$4,GEfectos!J218:P218),IF(EFECTOS!$N$9=\"NICARAGUA\",LOOKUP(5,GEfectos!$J$4:$P$4,GEfectos!J218:P218),IF(EFECTOS!$N$9=\"REPÚBLICA \nDOMINICANA\",LOOKUP(6,$J$4:$P$4,J218:P218),IF(EFECTOS!$N$9=\"PANAMÁ\",LOOKUP(7,GEfectos!$J$4:$P$4,GEfectos!J218:P218))))))))","v":161.14474441903528},{"$f":"IF(EFECTOS!$N$9=\"COSTA RICA\",LOOKUP(1,GEfectos!$Q$4:$W$4,GEfectos!Q218:W218),IF(EFECTOS!$N$9=\"EL SALVADOR\",LOOKUP(2,GEfectos!$Q$4:$W$4,GEfectos!Q218:W218),IF(EFECTOS!$N$9=\"GUATEMALA\",LOOKUP(3,GEfectos!$Q$4:$W$4,GEfectos!Q218:W218),IF(EFECTOS!$N$9=\"HONDURAS\",LOOKUP(4,GEfectos!$Q$4:$W$4,GEfectos!Q218:W218),IF(EFECTOS!$N$9=\"NICARAGUA\",LOOKUP(5,GEfectos!$Q$4:$W$4,GEfectos!Q218:W218),IF(EFECTOS!$N$9=\"REPÚBLICA \nDOMINICANA\",LOOKUP(6,$Q$4:$W$4,Q218:W218),IF(EFECTOS!$N$9=\"PANAMÁ\",LOOKUP(7,GEfectos!$Q$4:$W$4,GEfectos!Q218:W218))))))))","v":202.11968472270652},100]
[null,{"$f":"'ITCER GLOBAL'!B219","v":"Octubre"},{"$f":"'ITCER GLOBAL'!C219","v":79.545488883177413},{"$f":"'ITCER GLOBAL'!D219","v":102.77843577629052},{"$f":"'ITCER GLOBAL'!E219","v":69.607233705245477},{"$f":"'ITCER GLOBAL'!F219","v":85.328841998011242},{"$f":"'ITCER GLOBAL'!G219","v":113.00846486910157},{"$f":"'ITCER GLOBAL'!H219","v":136.3692797100081},{"$f":"'ITCER GLOBAL'!I219","v":102.77207521452544},{"$f":"'ITCER GLOBAL'!S219","v":161.3775147138318},{"$f":"'ITCER GLOBAL'!T219","v":96.484837664855107},{"$f":"'ITCER GLOBAL'!U219","v":99.641732001794736},{"$f":"'ITCER GLOBAL'!V219","v":133.04702818520983},{"$f":"'ITCER GLOBAL'!W219","v":183.43561261006184},{"$f":"'ITCER GLOBAL'!X219","v":241.48861899906092},{"$f":"'ITCER GLOBAL'!Y219","v":104.69069443812518},{"$f":"'ITCER GLOBAL'!AA219","v":202.87450235026535},{"$f":"'ITCER GLOBAL'!AB219","v":93.876538338125528},{"$f":"'ITCER GLOBAL'!AC219","v":143.14853025725964},{"$f":"'ITCER GLOBAL'!AD219","v":155.92269280803171},{"$f":"'ITCER GLOBAL'!AE219","v":162.32024107445091},{"$f":"'ITCER GLOBAL'!AF219","v":177.08432537928712},{"$f":"'ITCER GLOBAL'!AG219","v":101.8668682320512},null,{"$f":"IF(EFECTOS!$N$9=\"COSTA RICA\",LOOKUP(1,GEfectos!$C$4:$I$4,GEfectos!C219:I219),IF(EFECTOS!$N$9=\"EL SALVADOR\",LOOKUP(2,GEfectos!$C$4:$I$4,GEfectos!C219:I219),IF(EFECTOS!$N$9=\"GUATEMALA\",LOOKUP(3,GEfectos!$C$4:$I$4,GEfectos!C219:I219),IF(EFECTOS!$N$9=\"HONDURAS\",LOOKUP(4,GEfectos!$C$4:$I$4,GEfectos!C219:I219),IF(EFECTOS!$N$9=\"NICARAGUA\",LOOKUP(5,GEfectos!$C$4:$I$4,GEfectos!C219:I219),IF(EFECTOS!$N$9=\"REPÚBLICA \nDOMINICANA\",LOOKUP(6,$C$4:$I$4,C219:I219),IF(EFECTOS!$N$9=\"PANAMÁ\",LOOKUP(7,GEfectos!$C$4:$I$4,GEfectos!C219:I219))))))))","v":79.545488883177413},{"$f":"IF(EFECTOS!$N$9=\"COSTA RICA\",LOOKUP(1,GEfectos!$J$4:$P$4,GEfectos!J219:P219),IF(EFECTOS!$N$9=\"EL SALVADOR\",LOOKUP(2,GEfectos!$J$4:$P$4,GEfectos!J219:P219),IF(EFECTOS!$N$9=\"GUATEMALA\",LOOKUP(3,GEfectos!$J$4:$P$4,GEfectos!J219:P219),IF(EFECTOS!$N$9=\"HONDURAS\",LOOKUP(4,GEfectos!$J$4:$P$4,GEfectos!J219:P219),IF(EFECTOS!$N$9=\"NICARAGUA\",LOOKUP(5,GEfectos!$J$4:$P$4,GEfectos!J219:P219),IF(EFECTOS!$N$9=\"REPÚBLICA \nDOMINICANA\",LOOKUP(6,$J$4:$P$4,J219:P219),IF(EFECTOS!$N$9=\"PANAMÁ\",LOOKUP(7,GEfectos!$J$4:$P$4,GEfectos!J219:P219))))))))","v":161.3775147138318},{"$f":"IF(EFECTOS!$N$9=\"COSTA RICA\",LOOKUP(1,GEfectos!$Q$4:$W$4,GEfectos!Q219:W219),IF(EFECTOS!$N$9=\"EL SALVADOR\",LOOKUP(2,GEfectos!$Q$4:$W$4,GEfectos!Q219:W219),IF(EFECTOS!$N$9=\"GUATEMALA\",LOOKUP(3,GEfectos!$Q$4:$W$4,GEfectos!Q219:W219),IF(EFECTOS!$N$9=\"HONDURAS\",LOOKUP(4,GEfectos!$Q$4:$W$4,GEfectos!Q219:W219),IF(EFECTOS!$N$9=\"NICARAGUA\",LOOKUP(5,GEfectos!$Q$4:$W$4,GEfectos!Q219:W219),IF(EFECTOS!$N$9=\"REPÚBLICA \nDOMINICANA\",LOOKUP(6,$Q$4:$W$4,Q219:W219),IF(EFECTOS!$N$9=\"PANAMÁ\",LOOKUP(7,GEfectos!$Q$4:$W$4,GEfectos!Q219:W219))))))))","v":202.87450235026535},100]
[null,{"$f":"'ITCER GLOBAL'!B220","v":"Noviembre"},{"$f":"'ITCER GLOBAL'!C220","v":78.962330824637917},{"$f":"'ITCER GLOBAL'!D220","v":102.63310187343053},{"$f":"'ITCER GLOBAL'!E220","v":69.379732124434412},{"$f":"'ITCER GLOBAL'!F220","v":85.289002551589846},{"$f":"'ITCER GLOBAL'!G220","v":112.151153713962},{"$f":"'ITCER GLOBAL'!H220","v":136.82164454998815},{"$f":"'ITCER GLOBAL'!I220","v":102.2941305001809},{"$f":"'ITCER GLOBAL'!S220","v":161.77188204053641},{"$f":"'ITCER GLOBAL'!T220","v":96.305292325055007},{"$f":"'ITCER GLOBAL'!U220","v":99.405261393116135},{"$f":"'ITCER GLOBAL'!V220","v":133.38987933562311},{"$f":"'ITCER GLOBAL'!W220","v":183.8459252939698},{"$f":"'ITCER GLOBAL'!X220","v":244.20774021027975},{"$f":"'ITCER GLOBAL'!Y220","v":104.46419546751906},{"$f":"'ITCER GLOBAL'!AA220","v":204.87222242692482},{"$f":"'ITCER GLOBAL'!AB220","v":93.834533466425739},{"$f":"'ITCER GLOBAL'!AC220","v":143.27709022402988},{"$f":"'ITCER GLOBAL'!AD220","v":156.39751356564156},{"$f":"'ITCER GLOBAL'!AE220","v":163.9269139957874},{"$f":"'ITCER GLOBAL'!AF220","v":178.48618982288127},{"$f":"'ITCER GLOBAL'!AG220","v":102.12139734384303},null,{"$f":"IF(EFECTOS!$N$9=\"COSTA RICA\",LOOKUP(1,GEfectos!$C$4:$I$4,GEfectos!C220:I220),IF(EFECTOS!$N$9=\"EL SALVADOR\",LOOKUP(2,GEfectos!$C$4:$I$4,GEfectos!C220:I220),IF(EFECTOS!$N$9=\"GUATEMALA\",LOOKUP(3,GEfectos!$C$4:$I$4,GEfectos!C220:I220),IF(EFECTOS!$N$9=\"HONDURAS\",LOOKUP(4,GEfectos!$C$4:$I$4,GEfectos!C220:I220),IF(EFECTOS!$N$9=\"NICARAGUA\",LOOKUP(5,GEfectos!$C$4:$I$4,GEfectos!C220:I220),IF(EFECTOS!$N$9=\"REPÚBLICA \nDOMINICANA\",LOOKUP(6,$C$4:$I$4,C220:I220),IF(EFECTOS!$N$9=\"PANAMÁ\",LOOKUP(7,GEfectos!$C$4:$I$4,GEfectos!C220:I220))))))))","v":78.962330824637917},{"$f":"IF(EFECTOS!$N$9=\"COSTA RICA\",LOOKUP(1,GEfectos!$J$4:$P$4,GEfectos!J220:P220),IF(EFECTOS!$N$9=\"EL SALVADOR\",LOOKUP(2,GEfectos!$J$4:$P$4,GEfectos!J220:P220),IF(EFECTOS!$N$9=\"GUATEMALA\",LOOKUP(3,GEfectos!$J$4:$P$4,GEfectos!J220:P220),IF(EFECTOS!$N$9=\"HONDURAS\",LOOKUP(4,GEfectos!$J$4:$P$4,GEfectos!J220:P220),IF(EFECTOS!$N$9=\"NICARAGUA\",LOOKUP(5,GEfectos!$J$4:$P$4,GEfectos!J220:P220),IF(EFECTOS!$N$9=\"REPÚBLICA \nDOMINICANA\",LOOKUP(6,$J$4:$P$4,J220:P220),IF(EFECTOS!$N$9=\"PANAMÁ\",LOOKUP(7,GEfectos!$J$4:$P$4,GEfectos!J220:P220))))))))","v":161.77188204053641},{"$f":"IF(EFECTOS!$N$9=\"COSTA RICA\",LOOKUP(1,GEfectos!$Q$4:$W$4,GEfectos!Q220:W220),IF(EFECTOS!$N$9=\"EL SALVADOR\",LOOKUP(2,GEfectos!$Q$4:$W$4,GEfectos!Q220:W220),IF(EFECTOS!$N$9=\"GUATEMALA\",LOOKUP(3,GEfectos!$Q$4:$W$4,GEfectos!Q220:W220),IF(EFECTOS!$N$9=\"HONDURAS\",LOOKUP(4,GEfectos!$Q$4:$W$4,GEfectos!Q220:W220),IF(EFECTOS!$N$9=\"NICARAGUA\",LOOKUP(5,GEfectos!$Q$4:$W$4,GEfectos!Q220:W220),IF(EFECTOS!$N$9=\"REPÚBLICA \nDOMINICANA\",LOOKUP(6,$Q$4:$W$4,Q220:W220),IF(EFECTOS!$N$9=\"PANAMÁ\",LOOKUP(7,GEfectos!$Q$4:$W$4,GEfectos!Q220:W220))))))))","v":204.87222242692482},100]
[null,{"$f":"'ITCER GLOBAL'!B221","v":"Diciembre"},{"$f":"'ITCER GLOBAL'!C221","v":78.886147875428478},{"$f":"'ITCER GLOBAL'!D221","v":102.84568586884279},{"$f":"'ITCER GLOBAL'!E221","v":69.324550362706901},{"$f":"'ITCER GLOBAL'!F221","v":85.736807337085907},{"$f":"'ITCER GLOBAL'!G221","v":111.01656850221457},{"$f":"'ITCER GLOBAL'!H221","v":137.02745333490486},{"$f":"'ITCER GLOBAL'!I221","v":102.20225578435029},{"$f":"'ITCER GLOBAL'!S221","v":161.93299075261979},{"$f":"'ITCER GLOBAL'!T221","v":96.345593052852379},{"$f":"'ITCER GLOBAL'!U221","v":99.812832262843088},{"$f":"'ITCER GLOBAL'!V221","v":134.14166383879552},{"$f":"'ITCER GLOBAL'!W221","v":184.79784913678651},{"$f":"'ITCER GLOBAL'!X221","v":246.04389467346542},{"$f":"'ITCER GLOBAL'!Y221","v":104.64129138846818},{"$f":"'ITCER GLOBAL'!AA221","v":205.27430368172256},{"$f":"'ITCER GLOBAL'!AB221","v":93.679761322920356},{"$f":"'ITCER GLOBAL'!AC221","v":143.97905466479207},{"$f":"'ITCER GLOBAL'!AD221","v":156.45749824972995},{"$f":"'ITCER GLOBAL'!AE221","v":166.45970203366548},{"$f":"'ITCER GLOBAL'!AF221","v":179.55810217979939},{"$f":"'ITCER GLOBAL'!AG221","v":102.38647922729254},null,{"$f":"IF(EFECTOS!$N$9=\"COSTA RICA\",LOOKUP(1,GEfectos!$C$4:$I$4,GEfectos!C221:I221),IF(EFECTOS!$N$9=\"EL SALVADOR\",LOOKUP(2,GEfectos!$C$4:$I$4,GEfectos!C221:I221),IF(EFECTOS!$N$9=\"GUATEMALA\",LOOKUP(3,GEfectos!$C$4:$I$4,GEfectos!C221:I221),IF(EFECTOS!$N$9=\"HONDURAS\",LOOKUP(4,GEfectos!$C$4:$I$4,GEfectos!C221:I221),IF(EFECTOS!$N$9=\"NICARAGUA\",LOOKUP(5,GEfectos!$C$4:$I$4,GEfectos!C221:I221),IF(EFECTOS!$N$9=\"REPÚBLICA \nDOMINICANA\",LOOKUP(6,$C$4:$I$4,C221:I221),IF(EFECTOS!$N$9=\"PANAMÁ\",LOOKUP(7,GEfectos!$C$4:$I$4,GEfectos!C221:I221))))))))","v":78.886147875428478},{"$f":"IF(EFECTOS!$N$9=\"COSTA RICA\",LOOKUP(1,GEfectos!$J$4:$P$4,GEfectos!J221:P221),IF(EFECTOS!$N$9=\"EL SALVADOR\",LOOKUP(2,GEfectos!$J$4:$P$4,GEfectos!J221:P221),IF(EFECTOS!$N$9=\"GUATEMALA\",LOOKUP(3,GEfectos!$J$4:$P$4,GEfectos!J221:P221),IF(EFECTOS!$N$9=\"HONDURAS\",LOOKUP(4,GEfectos!$J$4:$P$4,GEfectos!J221:P221),IF(EFECTOS!$N$9=\"NICARAGUA\",LOOKUP(5,GEfectos!$J$4:$P$4,GEfectos!J221:P221),IF(EFECTOS!$N$9=\"REPÚBLICA \nDOMINICANA\",LOOKUP(6,$J$4:$P$4,J221:P221),IF(EFECTOS!$N$9=\"PANAMÁ\",LOOKUP(7,GEfectos!$J$4:$P$4,GEfectos!J221:P221))))))))","v":161.93299075261979},{"$f":"IF(EFECTOS!$N$9=\"COSTA RICA\",LOOKUP(1,GEfectos!$Q$4:$W$4,GEfectos!Q221:W221),IF(EFECTOS!$N$9=\"EL SALVADOR\",LOOKUP(2,GEfectos!$Q$4:$W$4,GEfectos!Q221:W221),IF(EFECTOS!$N$9=\"GUATEMALA\",LOOKUP(3,GEfectos!$Q$4:$W$4,GEfectos!Q221:W221),IF(EFECTOS!$N$9=\"HONDURAS\",LOOKUP(4,GEfectos!$Q$4:$W$4,GEfectos!Q221:W221),IF(EFECTOS!$N$9=\"NICARAGUA\",LOOKUP(5,GEfectos!$Q$4:$W$4,GEfectos!Q221:W221),IF(EFECTOS!$N$9=\"REPÚBLICA \nDOMINICANA\",LOOKUP(6,$Q$4:$W$4,Q221:W221),IF(EFECTOS!$N$9=\"PANAMÁ\",LOOKUP(7,GEfectos!$Q$4:$W$4,GEfectos!Q221:W221))))))))","v":205.27430368172256},100]
[2013,{"$f":"'ITCER GLOBAL'!B222","v":"Enero"},{"$f":"'ITCER GLOBAL'!C222","v":78.176613657802605},{"$f":"'ITCER GLOBAL'!D222","v":103.11114901723383},{"$f":"'ITCER GLOBAL'!E222","v":69.159038796015977},{"$f":"'ITCER GLOBAL'!F222","v":86.168463324394011},{"$f":"'ITCER GLOBAL'!G222","v":111.32709271158059},{"$f":"'ITCER GLOBAL'!H222","v":139.97147136842162},{"$f":"'ITCER GLOBAL'!I222","v":102.55311789287461},{"$f":"'ITCER GLOBAL'!S222","v":162.117269085125},{"$f":"'ITCER GLOBAL'!T222","v":96.536163706724935},{"$f":"'ITCER GLOBAL'!U222","v":99.783225605858689},{"$f":"'ITCER GLOBAL'!V222","v":134.84139133199037},{"$f":"'ITCER GLOBAL'!W222","v":187.67214553981989},{"$f":"'ITCER GLOBAL'!X222","v":248.41188746922413},{"$f":"'ITCER GLOBAL'!Y222","v":105.60431014239897},{"$f":"'ITCER GLOBAL'!AA222","v":207.37310238935441},{"$f":"'ITCER GLOBAL'!AB222","v":93.623400211154703},{"$f":"'ITCER GLOBAL'!AC222","v":144.2808161347767},{"$f":"'ITCER GLOBAL'!AD222","v":156.48577928604792},{"$f":"'ITCER GLOBAL'!AE222","v":168.57724473774715},{"$f":"'ITCER GLOBAL'!AF222","v":177.47322725169789},{"$f":"'ITCER GLOBAL'!AG222","v":102.97523109215616},null,{"$f":"IF(EFECTOS!$N$9=\"COSTA RICA\",LOOKUP(1,GEfectos!$C$4:$I$4,GEfectos!C222:I222),IF(EFECTOS!$N$9=\"EL SALVADOR\",LOOKUP(2,GEfectos!$C$4:$I$4,GEfectos!C222:I222),IF(EFECTOS!$N$9=\"GUATEMALA\",LOOKUP(3,GEfectos!$C$4:$I$4,GEfectos!C222:I222),IF(EFECTOS!$N$9=\"HONDURAS\",LOOKUP(4,GEfectos!$C$4:$I$4,GEfectos!C222:I222),IF(EFECTOS!$N$9=\"NICARAGUA\",LOOKUP(5,GEfectos!$C$4:$I$4,GEfectos!C222:I222),IF(EFECTOS!$N$9=\"REPÚBLICA \nDOMINICANA\",LOOKUP(6,$C$4:$I$4,C222:I222),IF(EFECTOS!$N$9=\"PANAMÁ\",LOOKUP(7,GEfectos!$C$4:$I$4,GEfectos!C222:I222))))))))","v":78.176613657802605},{"$f":"IF(EFECTOS!$N$9=\"COSTA RICA\",LOOKUP(1,GEfectos!$J$4:$P$4,GEfectos!J222:P222),IF(EFECTOS!$N$9=\"EL SALVADOR\",LOOKUP(2,GEfectos!$J$4:$P$4,GEfectos!J222:P222),IF(EFECTOS!$N$9=\"GUATEMALA\",LOOKUP(3,GEfectos!$J$4:$P$4,GEfectos!J222:P222),IF(EFECTOS!$N$9=\"HONDURAS\",LOOKUP(4,GEfectos!$J$4:$P$4,GEfectos!J222:P222),IF(EFECTOS!$N$9=\"NICARAGUA\",LOOKUP(5,GEfectos!$J$4:$P$4,GEfectos!J222:P222),IF(EFECTOS!$N$9=\"REPÚBLICA \nDOMINICANA\",LOOKUP(6,$J$4:$P$4,J222:P222),IF(EFECTOS!$N$9=\"PANAMÁ\",LOOKUP(7,GEfectos!$J$4:$P$4,GEfectos!J222:P222))))))))","v":162.117269085125},{"$f":"IF(EFECTOS!$N$9=\"COSTA RICA\",LOOKUP(1,GEfectos!$Q$4:$W$4,GEfectos!Q222:W222),IF(EFECTOS!$N$9=\"EL SALVADOR\",LOOKUP(2,GEfectos!$Q$4:$W$4,GEfectos!Q222:W222),IF(EFECTOS!$N$9=\"GUATEMALA\",LOOKUP(3,GEfectos!$Q$4:$W$4,GEfectos!Q222:W222),IF(EFECTOS!$N$9=\"HONDURAS\",LOOKUP(4,GEfectos!$Q$4:$W$4,GEfectos!Q222:W222),IF(EFECTOS!$N$9=\"NICARAGUA\",LOOKUP(5,GEfectos!$Q$4:$W$4,GEfectos!Q222:W222),IF(EFECTOS!$N$9=\"REPÚBLICA \nDOMINICANA\",LOOKUP(6,$Q$4:$W$4,Q222:W222),IF(EFECTOS!$N$9=\"PANAMÁ\",LOOKUP(7,GEfectos!$Q$4:$W$4,GEfectos!Q222:W222))))))))","v":207.37310238935441},100]
[null,{"$f":"'ITCER GLOBAL'!B223","v":"Febrero"},{"$f":"'ITCER GLOBAL'!C223","v":77.9813623281876},{"$f":"'ITCER GLOBAL'!D223","v":103.39264519161486},{"$f":"'ITCER GLOBAL'!E223","v":68.480762909823625},{"$f":"'ITCER GLOBAL'!F223","v":86.154684640135457},{"$f":"'ITCER GLOBAL'!G223","v":111.83874564332686},{"$f":"'ITCER GLOBAL'!H223","v":141.02376922033889},{"$f":"'ITCER GLOBAL'!I223","v":102.42346922998775},{"$f":"'ITCER GLOBAL'!S223","v":162.20421270099982},{"$f":"'ITCER GLOBAL'!T223","v":96.463170166779193},{"$f":"'ITCER GLOBAL'!U223","v":98.913601634786531},{"$f":"'ITCER GLOBAL'!V223","v":135.31326917404419},{"$f":"'ITCER GLOBAL'!W223","v":188.26267225500561},{"$f":"'ITCER GLOBAL'!X223","v":249.28043603233672},{"$f":"'ITCER GLOBAL'!Y223","v":105.30680351264694},{"$f":"'ITCER GLOBAL'!AA223","v":208.00382021842228},{"$f":"'ITCER GLOBAL'!AB223","v":93.297903335393485},{"$f":"'ITCER GLOBAL'!AC223","v":144.4399820209907},{"$f":"'ITCER GLOBAL'!AD223","v":157.05851601597999},{"$f":"'ITCER GLOBAL'!AE223","v":168.33403412392326},{"$f":"'ITCER GLOBAL'!AF223","v":176.76483716929664},{"$f":"'ITCER GLOBAL'!AG223","v":102.81511093535096},null,{"$f":"IF(EFECTOS!$N$9=\"COSTA RICA\",LOOKUP(1,GEfectos!$C$4:$I$4,GEfectos!C223:I223),IF(EFECTOS!$N$9=\"EL SALVADOR\",LOOKUP(2,GEfectos!$C$4:$I$4,GEfectos!C223:I223),IF(EFECTOS!$N$9=\"GUATEMALA\",LOOKUP(3,GEfectos!$C$4:$I$4,GEfectos!C223:I223),IF(EFECTOS!$N$9=\"HONDURAS\",LOOKUP(4,GEfectos!$C$4:$I$4,GEfectos!C223:I223),IF(EFECTOS!$N$9=\"NICARAGUA\",LOOKUP(5,GEfectos!$C$4:$I$4,GEfectos!C223:I223),IF(EFECTOS!$N$9=\"REPÚBLICA \nDOMINICANA\",LOOKUP(6,$C$4:$I$4,C223:I223),IF(EFECTOS!$N$9=\"PANAMÁ\",LOOKUP(7,GEfectos!$C$4:$I$4,GEfectos!C223:I223))))))))","v":77.9813623281876},{"$f":"IF(EFECTOS!$N$9=\"COSTA RICA\",LOOKUP(1,GEfectos!$J$4:$P$4,GEfectos!J223:P223),IF(EFECTOS!$N$9=\"EL SALVADOR\",LOOKUP(2,GEfectos!$J$4:$P$4,GEfectos!J223:P223),IF(EFECTOS!$N$9=\"GUATEMALA\",LOOKUP(3,GEfectos!$J$4:$P$4,GEfectos!J223:P223),IF(EFECTOS!$N$9=\"HONDURAS\",LOOKUP(4,GEfectos!$J$4:$P$4,GEfectos!J223:P223),IF(EFECTOS!$N$9=\"NICARAGUA\",LOOKUP(5,GEfectos!$J$4:$P$4,GEfectos!J223:P223),IF(EFECTOS!$N$9=\"REPÚBLICA \nDOMINICANA\",LOOKUP(6,$J$4:$P$4,J223:P223),IF(EFECTOS!$N$9=\"PANAMÁ\",LOOKUP(7,GEfectos!$J$4:$P$4,GEfectos!J223:P223))))))))","v":162.20421270099982},{"$f":"IF(EFECTOS!$N$9=\"COSTA RICA\",LOOKUP(1,GEfectos!$Q$4:$W$4,GEfectos!Q223:W223),IF(EFECTOS!$N$9=\"EL SALVADOR\",LOOKUP(2,GEfectos!$Q$4:$W$4,GEfectos!Q223:W223),IF(EFECTOS!$N$9=\"GUATEMALA\",LOOKUP(3,GEfectos!$Q$4:$W$4,GEfectos!Q223:W223),IF(EFECTOS!$N$9=\"HONDURAS\",LOOKUP(4,GEfectos!$Q$4:$W$4,GEfectos!Q223:W223),IF(EFECTOS!$N$9=\"NICARAGUA\",LOOKUP(5,GEfectos!$Q$4:$W$4,GEfectos!Q223:W223),IF(EFECTOS!$N$9=\"REPÚBLICA \nDOMINICANA\",LOOKUP(6,$Q$4:$W$4,Q223:W223),IF(EFECTOS!$N$9=\"PANAMÁ\",LOOKUP(7,GEfectos!$Q$4:$W$4,GEfectos!Q223:W223))))))))","v":208.00382021842228},100]
[null,{"$f":"'ITCER GLOBAL'!B224","v":"Marzo"},{"$f":"'ITCER GLOBAL'!C224","v":77.4476691153438},{"$f":"'ITCER GLOBAL'!D224","v":103.12357148218723},{"$f":"'ITCER GLOBAL'!E224","v":68.124277742217032},{"$f":"'ITCER GLOBAL'!F224","v":86.032895897831835},{"$f":"'ITCER GLOBAL'!G224","v":112.03309571507332},{"$f":"'ITCER GLOBAL'!H224","v":141.30094182986389},{"$f":"'ITCER GLOBAL'!I224","v":101.83566148945314},{"$f":"'ITCER GLOBAL'!S224","v":160.80035337330935},{"$f":"'ITCER GLOBAL'!T224","v":96.350556986717493},{"$f":"'ITCER GLOBAL'!U224","v":98.562257166523963},{"$f":"'ITCER GLOBAL'!V224","v":135.37024275220179},{"$f":"'ITCER GLOBAL'!W224","v":188.34387300925232},{"$f":"'ITCER GLOBAL'!X224","v":250.01971049710812},{"$f":"'ITCER GLOBAL'!Y224","v":104.87845688247346},{"$f":"'ITCER GLOBAL'!AA224","v":207.6245227391251},{"$f":"'ITCER GLOBAL'!AB224","v":93.432137388065868},{"$f":"'ITCER GLOBAL'!AC224","v":144.68007652056812},{"$f":"'ITCER GLOBAL'!AD224","v":157.34707211641509},{"$f":"'ITCER GLOBAL'!AE224","v":168.11449492412081},{"$f":"'ITCER GLOBAL'!AF224","v":176.94129087840699},{"$f":"'ITCER GLOBAL'!AG224","v":102.98794680421008},null,{"$f":"IF(EFECTOS!$N$9=\"COSTA RICA\",LOOKUP(1,GEfectos!$C$4:$I$4,GEfectos!C224:I224),IF(EFECTOS!$N$9=\"EL SALVADOR\",LOOKUP(2,GEfectos!$C$4:$I$4,GEfectos!C224:I224),IF(EFECTOS!$N$9=\"GUATEMALA\",LOOKUP(3,GEfectos!$C$4:$I$4,GEfectos!C224:I224),IF(EFECTOS!$N$9=\"HONDURAS\",LOOKUP(4,GEfectos!$C$4:$I$4,GEfectos!C224:I224),IF(EFECTOS!$N$9=\"NICARAGUA\",LOOKUP(5,GEfectos!$C$4:$I$4,GEfectos!C224:I224),IF(EFECTOS!$N$9=\"REPÚBLICA \nDOMINICANA\",LOOKUP(6,$C$4:$I$4,C224:I224),IF(EFECTOS!$N$9=\"PANAMÁ\",LOOKUP(7,GEfectos!$C$4:$I$4,GEfectos!C224:I224))))))))","v":77.4476691153438},{"$f":"IF(EFECTOS!$N$9=\"COSTA RICA\",LOOKUP(1,GEfectos!$J$4:$P$4,GEfectos!J224:P224),IF(EFECTOS!$N$9=\"EL SALVADOR\",LOOKUP(2,GEfectos!$J$4:$P$4,GEfectos!J224:P224),IF(EFECTOS!$N$9=\"GUATEMALA\",LOOKUP(3,GEfectos!$J$4:$P$4,GEfectos!J224:P224),IF(EFECTOS!$N$9=\"HONDURAS\",LOOKUP(4,GEfectos!$J$4:$P$4,GEfectos!J224:P224),IF(EFECTOS!$N$9=\"NICARAGUA\",LOOKUP(5,GEfectos!$J$4:$P$4,GEfectos!J224:P224),IF(EFECTOS!$N$9=\"REPÚBLICA \nDOMINICANA\",LOOKUP(6,$J$4:$P$4,J224:P224),IF(EFECTOS!$N$9=\"PANAMÁ\",LOOKUP(7,GEfectos!$J$4:$P$4,GEfectos!J224:P224))))))))","v":160.80035337330935},{"$f":"IF(EFECTOS!$N$9=\"COSTA RICA\",LOOKUP(1,GEfectos!$Q$4:$W$4,GEfectos!Q224:W224),IF(EFECTOS!$N$9=\"EL SALVADOR\",LOOKUP(2,GEfectos!$Q$4:$W$4,GEfectos!Q224:W224),IF(EFECTOS!$N$9=\"GUATEMALA\",LOOKUP(3,GEfectos!$Q$4:$W$4,GEfectos!Q224:W224),IF(EFECTOS!$N$9=\"HONDURAS\",LOOKUP(4,GEfectos!$Q$4:$W$4,GEfectos!Q224:W224),IF(EFECTOS!$N$9=\"NICARAGUA\",LOOKUP(5,GEfectos!$Q$4:$W$4,GEfectos!Q224:W224),IF(EFECTOS!$N$9=\"REPÚBLICA \nDOMINICANA\",LOOKUP(6,$Q$4:$W$4,Q224:W224),IF(EFECTOS!$N$9=\"PANAMÁ\",LOOKUP(7,GEfectos!$Q$4:$W$4,GEfectos!Q224:W224))))))))","v":207.6245227391251},100]
[null,{"$f":"'ITCER GLOBAL'!B225","v":"Abril"},{"$f":"'ITCER GLOBAL'!C225","v":76.971951634714031},{"$f":"'ITCER GLOBAL'!D225","v":103.94409762363868},{"$f":"'ITCER GLOBAL'!E225","v":67.999552178183919},{"$f":"'ITCER GLOBAL'!F225","v":86.221946338142772},{"$f":"'ITCER GLOBAL'!G225","v":111.5693778579255},{"$f":"'ITCER GLOBAL'!H225","v":141.74098643106649},{"$f":"'ITCER GLOBAL'!I225","v":101.55918125610806},{"$f":"'ITCER GLOBAL'!S225","v":160.97453201887316},{"$f":"'ITCER GLOBAL'!T225","v":96.431679129514677},{"$f":"'ITCER GLOBAL'!U225","v":98.554253667936365},{"$f":"'ITCER GLOBAL'!V225","v":135.99643350111853},{"$f":"'ITCER GLOBAL'!W225","v":188.68620026578532},{"$f":"'ITCER GLOBAL'!X225","v":250.60048095947815},{"$f":"'ITCER GLOBAL'!Y225","v":104.88738873076224},{"$f":"'ITCER GLOBAL'!AA225","v":209.13401388444765},{"$f":"'ITCER GLOBAL'!AB225","v":92.772635805329699},{"$f":"'ITCER GLOBAL'!AC225","v":144.93368045967105},{"$f":"'ITCER GLOBAL'!AD225","v":157.72832704074159},{"$f":"'ITCER GLOBAL'!AE225","v":169.12006133624033},{"$f":"'ITCER GLOBAL'!AF225","v":176.80170518733743},{"$f":"'ITCER GLOBAL'!AG225","v":103.27711136845544},null,{"$f":"IF(EFECTOS!$N$9=\"COSTA RICA\",LOOKUP(1,GEfectos!$C$4:$I$4,GEfectos!C225:I225),IF(EFECTOS!$N$9=\"EL SALVADOR\",LOOKUP(2,GEfectos!$C$4:$I$4,GEfectos!C225:I225),IF(EFECTOS!$N$9=\"GUATEMALA\",LOOKUP(3,GEfectos!$C$4:$I$4,GEfectos!C225:I225),IF(EFECTOS!$N$9=\"HONDURAS\",LOOKUP(4,GEfectos!$C$4:$I$4,GEfectos!C225:I225),IF(EFECTOS!$N$9=\"NICARAGUA\",LOOKUP(5,GEfectos!$C$4:$I$4,GEfectos!C225:I225),IF(EFECTOS!$N$9=\"REPÚBLICA \nDOMINICANA\",LOOKUP(6,$C$4:$I$4,C225:I225),IF(EFECTOS!$N$9=\"PANAMÁ\",LOOKUP(7,GEfectos!$C$4:$I$4,GEfectos!C225:I225))))))))","v":76.971951634714031},{"$f":"IF(EFECTOS!$N$9=\"COSTA RICA\",LOOKUP(1,GEfectos!$J$4:$P$4,GEfectos!J225:P225),IF(EFECTOS!$N$9=\"EL SALVADOR\",LOOKUP(2,GEfectos!$J$4:$P$4,GEfectos!J225:P225),IF(EFECTOS!$N$9=\"GUATEMALA\",LOOKUP(3,GEfectos!$J$4:$P$4,GEfectos!J225:P225),IF(EFECTOS!$N$9=\"HONDURAS\",LOOKUP(4,GEfectos!$J$4:$P$4,GEfectos!J225:P225),IF(EFECTOS!$N$9=\"NICARAGUA\",LOOKUP(5,GEfectos!$J$4:$P$4,GEfectos!J225:P225),IF(EFECTOS!$N$9=\"REPÚBLICA \nDOMINICANA\",LOOKUP(6,$J$4:$P$4,J225:P225),IF(EFECTOS!$N$9=\"PANAMÁ\",LOOKUP(7,GEfectos!$J$4:$P$4,GEfectos!J225:P225))))))))","v":160.97453201887316},{"$f":"IF(EFECTOS!$N$9=\"COSTA RICA\",LOOKUP(1,GEfectos!$Q$4:$W$4,GEfectos!Q225:W225),IF(EFECTOS!$N$9=\"EL SALVADOR\",LOOKUP(2,GEfectos!$Q$4:$W$4,GEfectos!Q225:W225),IF(EFECTOS!$N$9=\"GUATEMALA\",LOOKUP(3,GEfectos!$Q$4:$W$4,GEfectos!Q225:W225),IF(EFECTOS!$N$9=\"HONDURAS\",LOOKUP(4,GEfectos!$Q$4:$W$4,GEfectos!Q225:W225),IF(EFECTOS!$N$9=\"NICARAGUA\",LOOKUP(5,GEfectos!$Q$4:$W$4,GEfectos!Q225:W225),IF(EFECTOS!$N$9=\"REPÚBLICA \nDOMINICANA\",LOOKUP(6,$Q$4:$W$4,Q225:W225),IF(EFECTOS!$N$9=\"PANAMÁ\",LOOKUP(7,GEfectos!$Q$4:$W$4,GEfectos!Q225:W225))))))))","v":209.13401388444765},100]
[null,{"$f":"'ITCER GLOBAL'!B226","v":"Mayo"},{"$f":"'ITCER GLOBAL'!C226","v":76.923947847133206},{"$f":"'ITCER GLOBAL'!D226","v":104.09058122066345},{"$f":"'ITCER GLOBAL'!E226","v":67.672534388709281},{"$f":"'ITCER GLOBAL'!F226","v":86.320531784246327},{"$f":"'ITCER GLOBAL'!G226","v":110.88625046107867},{"$f":"'ITCER GLOBAL'!H226","v":142.01517285039336},{"$f":"'ITCER GLOBAL'!I226","v":100.97878936530114},{"$f":"'ITCER GLOBAL'!S226","v":160.75691125898871},{"$f":"'ITCER GLOBAL'!T226","v":96.286617352218457},{"$f":"'ITCER GLOBAL'!U226","v":98.278810134615171},{"$f":"'ITCER GLOBAL'!V226","v":136.37446252924153},{"$f":"'ITCER GLOBAL'!W226","v":189.36317501886938},{"$f":"'ITCER GLOBAL'!X226","v":250.39536614904171},{"$f":"'ITCER GLOBAL'!Y226","v":104.67275943895453},{"$f":"'ITCER GLOBAL'!AA226","v":208.98161854413945},{"$f":"'ITCER GLOBAL'!AB226","v":92.502718519842603},{"$f":"'ITCER GLOBAL'!AC226","v":145.22702751178824},{"$f":"'ITCER GLOBAL'!AD226","v":157.98612417043768},{"$f":"'ITCER GLOBAL'!AE226","v":170.77245756933254},{"$f":"'ITCER GLOBAL'!AF226","v":176.31592535033002},{"$f":"'ITCER GLOBAL'!AG226","v":103.65816435003006},null,{"$f":"IF(EFECTOS!$N$9=\"COSTA RICA\",LOOKUP(1,GEfectos!$C$4:$I$4,GEfectos!C226:I226),IF(EFECTOS!$N$9=\"EL SALVADOR\",LOOKUP(2,GEfectos!$C$4:$I$4,GEfectos!C226:I226),IF(EFECTOS!$N$9=\"GUATEMALA\",LOOKUP(3,GEfectos!$C$4:$I$4,GEfectos!C226:I226),IF(EFECTOS!$N$9=\"HONDURAS\",LOOKUP(4,GEfectos!$C$4:$I$4,GEfectos!C226:I226),IF(EFECTOS!$N$9=\"NICARAGUA\",LOOKUP(5,GEfectos!$C$4:$I$4,GEfectos!C226:I226),IF(EFECTOS!$N$9=\"REPÚBLICA \nDOMINICANA\",LOOKUP(6,$C$4:$I$4,C226:I226),IF(EFECTOS!$N$9=\"PANAMÁ\",LOOKUP(7,GEfectos!$C$4:$I$4,GEfectos!C226:I226))))))))","v":76.923947847133206},{"$f":"IF(EFECTOS!$N$9=\"COSTA RICA\",LOOKUP(1,GEfectos!$J$4:$P$4,GEfectos!J226:P226),IF(EFECTOS!$N$9=\"EL SALVADOR\",LOOKUP(2,GEfectos!$J$4:$P$4,GEfectos!J226:P226),IF(EFECTOS!$N$9=\"GUATEMALA\",LOOKUP(3,GEfectos!$J$4:$P$4,GEfectos!J226:P226),IF(EFECTOS!$N$9=\"HONDURAS\",LOOKUP(4,GEfectos!$J$4:$P$4,GEfectos!J226:P226),IF(EFECTOS!$N$9=\"NICARAGUA\",LOOKUP(5,GEfectos!$J$4:$P$4,GEfectos!J226:P226),IF(EFECTOS!$N$9=\"REPÚBLICA \nDOMINICANA\",LOOKUP(6,$J$4:$P$4,J226:P226),IF(EFECTOS!$N$9=\"PANAMÁ\",LOOKUP(7,GEfectos!$J$4:$P$4,GEfectos!J226:P226))))))))","v":160.75691125898871},{"$f":"IF(EFECTOS!$N$9=\"COSTA RICA\",LOOKUP(1,GEfectos!$Q$4:$W$4,GEfectos!Q226:W226),IF(EFECTOS!$N$9=\"EL SALVADOR\",LOOKUP(2,GEfectos!$Q$4:$W$4,GEfectos!Q226:W226),IF(EFECTOS!$N$9=\"GUATEMALA\",LOOKUP(3,GEfectos!$Q$4:$W$4,GEfectos!Q226:W226),IF(EFECTOS!$N$9=\"HONDURAS\",LOOKUP(4,GEfectos!$Q$4:$W$4,GEfectos!Q226:W226),IF(EFECTOS!$N$9=\"NICARAGUA\",LOOKUP(5,GEfectos!$Q$4:$W$4,GEfectos!Q226:W226),IF(EFECTOS!$N$9=\"REPÚBLICA \nDOMINICANA\",LOOKUP(6,$Q$4:$W$4,Q226:W226),IF(EFECTOS!$N$9=\"PANAMÁ\",LOOKUP(7,GEfectos!$Q$4:$W$4,GEfectos!Q226:W226))))))))","v":208.98161854413945},100]
[null,{"$f":"'ITCER GLOBAL'!B227","v":"Junio"},{"$f":"'ITCER GLOBAL'!C227","v":76.794551691042415},{"$f":"'ITCER GLOBAL'!D227","v":103.67261855090865},{"$f":"'ITCER GLOBAL'!E227","v":67.213942802705816},{"$f":"'ITCER GLOBAL'!F227","v":86.253197093559308},{"$f":"'ITCER GLOBAL'!G227","v":110.97328919031627},{"$f":"'ITCER GLOBAL'!H227","v":142.94422958122516},{"$f":"'ITCER GLOBAL'!I227","v":100.29518307394052},{"$f":"'ITCER GLOBAL'!S227","v":160.21566630300498},{"$f":"'ITCER GLOBAL'!T227","v":95.859875844265446},{"$f":"'ITCER GLOBAL'!U227","v":98.056639607296162},{"$f":"'ITCER GLOBAL'!V227","v":136.56332287220769},{"$f":"'ITCER GLOBAL'!W227","v":189.5455755186737},{"$f":"'ITCER GLOBAL'!X227","v":251.70442616009524},{"$f":"'ITCER GLOBAL'!Y227","v":104.16893794594131},{"$f":"'ITCER GLOBAL'!AA227","v":208.62894928741812},{"$f":"'ITCER GLOBAL'!AB227","v":92.464024912415283},{"$f":"'ITCER GLOBAL'!AC227","v":145.88734943748713},{"$f":"'ITCER GLOBAL'!AD227","v":158.32841850960807},{"$f":"'ITCER GLOBAL'!AE227","v":170.80288139752986},{"$f":"'ITCER GLOBAL'!AF227","v":176.08575519102666},{"$f":"'ITCER GLOBAL'!AG227","v":103.86235385715877},null,{"$f":"IF(EFECTOS!$N$9=\"COSTA RICA\",LOOKUP(1,GEfectos!$C$4:$I$4,GEfectos!C227:I227),IF(EFECTOS!$N$9=\"EL SALVADOR\",LOOKUP(2,GEfectos!$C$4:$I$4,GEfectos!C227:I227),IF(EFECTOS!$N$9=\"GUATEMALA\",LOOKUP(3,GEfectos!$C$4:$I$4,GEfectos!C227:I227),IF(EFECTOS!$N$9=\"HONDURAS\",LOOKUP(4,GEfectos!$C$4:$I$4,GEfectos!C227:I227),IF(EFECTOS!$N$9=\"NICARAGUA\",LOOKUP(5,GEfectos!$C$4:$I$4,GEfectos!C227:I227),IF(EFECTOS!$N$9=\"REPÚBLICA \nDOMINICANA\",LOOKUP(6,$C$4:$I$4,C227:I227),IF(EFECTOS!$N$9=\"PANAMÁ\",LOOKUP(7,GEfectos!$C$4:$I$4,GEfectos!C227:I227))))))))","v":76.794551691042415},{"$f":"IF(EFECTOS!$N$9=\"COSTA RICA\",LOOKUP(1,GEfectos!$J$4:$P$4,GEfectos!J227:P227),IF(EFECTOS!$N$9=\"EL SALVADOR\",LOOKUP(2,GEfectos!$J$4:$P$4,GEfectos!J227:P227),IF(EFECTOS!$N$9=\"GUATEMALA\",LOOKUP(3,GEfectos!$J$4:$P$4,GEfectos!J227:P227),IF(EFECTOS!$N$9=\"HONDURAS\",LOOKUP(4,GEfectos!$J$4:$P$4,GEfectos!J227:P227),IF(EFECTOS!$N$9=\"NICARAGUA\",LOOKUP(5,GEfectos!$J$4:$P$4,GEfectos!J227:P227),IF(EFECTOS!$N$9=\"REPÚBLICA \nDOMINICANA\",LOOKUP(6,$J$4:$P$4,J227:P227),IF(EFECTOS!$N$9=\"PANAMÁ\",LOOKUP(7,GEfectos!$J$4:$P$4,GEfectos!J227:P227))))))))","v":160.21566630300498},{"$f":"IF(EFECTOS!$N$9=\"COSTA RICA\",LOOKUP(1,GEfectos!$Q$4:$W$4,GEfectos!Q227:W227),IF(EFECTOS!$N$9=\"EL SALVADOR\",LOOKUP(2,GEfectos!$Q$4:$W$4,GEfectos!Q227:W227),IF(EFECTOS!$N$9=\"GUATEMALA\",LOOKUP(3,GEfectos!$Q$4:$W$4,GEfectos!Q227:W227),IF(EFECTOS!$N$9=\"HONDURAS\",LOOKUP(4,GEfectos!$Q$4:$W$4,GEfectos!Q227:W227),IF(EFECTOS!$N$9=\"NICARAGUA\",LOOKUP(5,GEfectos!$Q$4:$W$4,GEfectos!Q227:W227),IF(EFECTOS!$N$9=\"REPÚBLICA \nDOMINICANA\",LOOKUP(6,$Q$4:$W$4,Q227:W227),IF(EFECTOS!$N$9=\"PANAMÁ\",LOOKUP(7,GEfectos!$Q$4:$W$4,GEfectos!Q227:W227))))))))","v":208.62894928741812},100]
[null,{"$f":"'ITCER GLOBAL'!B228","v":"Julio"},{"$f":"'ITCER GLOBAL'!C228","v":76.390633826542071},{"$f":"'ITCER GLOBAL'!D228","v":103.78833717939537},{"$f":"'ITCER GLOBAL'!E228","v":67.073436687022877},{"$f":"'ITCER GLOBAL'!F228","v":86.145506364958379},{"$f":"'ITCER GLOBAL'!G228","v":111.91674470018123},{"$f":"'ITCER GLOBAL'!H228","v":143.44822727993261},{"$f":"'ITCER GLOBAL'!I228","v":99.912869921588339},{"$f":"'ITCER GLOBAL'!S228","v":159.90480307457037},{"$f":"'ITCER GLOBAL'!T228","v":95.768562644689354},{"$f":"'ITCER GLOBAL'!U228","v":98.119541708626045},{"$f":"'ITCER GLOBAL'!V228","v":136.96765036725412},{"$f":"'ITCER GLOBAL'!W228","v":190.43485101767254},{"$f":"'ITCER GLOBAL'!X228","v":254.15539374761212},{"$f":"'ITCER GLOBAL'!Y228","v":104.03015085628763},{"$f":"'ITCER GLOBAL'!AA228","v":209.32514244830253},{"$f":"'ITCER GLOBAL'!AB228","v":92.272952093987172},{"$f":"'ITCER GLOBAL'!AC228","v":146.28673668008105},{"$f":"'ITCER GLOBAL'!AD228","v":158.99569942393279},{"$f":"'ITCER GLOBAL'!AE228","v":170.15760378649057},{"$f":"'ITCER GLOBAL'!AF228","v":177.17569506916217},{"$f":"'ITCER GLOBAL'!AG228","v":104.12087145322772},null,{"$f":"IF(EFECTOS!$N$9=\"COSTA RICA\",LOOKUP(1,GEfectos!$C$4:$I$4,GEfectos!C228:I228),IF(EFECTOS!$N$9=\"EL SALVADOR\",LOOKUP(2,GEfectos!$C$4:$I$4,GEfectos!C228:I228),IF(EFECTOS!$N$9=\"GUATEMALA\",LOOKUP(3,GEfectos!$C$4:$I$4,GEfectos!C228:I228),IF(EFECTOS!$N$9=\"HONDURAS\",LOOKUP(4,GEfectos!$C$4:$I$4,GEfectos!C228:I228),IF(EFECTOS!$N$9=\"NICARAGUA\",LOOKUP(5,GEfectos!$C$4:$I$4,GEfectos!C228:I228),IF(EFECTOS!$N$9=\"REPÚBLICA \nDOMINICANA\",LOOKUP(6,$C$4:$I$4,C228:I228),IF(EFECTOS!$N$9=\"PANAMÁ\",LOOKUP(7,GEfectos!$C$4:$I$4,GEfectos!C228:I228))))))))","v":76.390633826542071},{"$f":"IF(EFECTOS!$N$9=\"COSTA RICA\",LOOKUP(1,GEfectos!$J$4:$P$4,GEfectos!J228:P228),IF(EFECTOS!$N$9=\"EL SALVADOR\",LOOKUP(2,GEfectos!$J$4:$P$4,GEfectos!J228:P228),IF(EFECTOS!$N$9=\"GUATEMALA\",LOOKUP(3,GEfectos!$J$4:$P$4,GEfectos!J228:P228),IF(EFECTOS!$N$9=\"HONDURAS\",LOOKUP(4,GEfectos!$J$4:$P$4,GEfectos!J228:P228),IF(EFECTOS!$N$9=\"NICARAGUA\",LOOKUP(5,GEfectos!$J$4:$P$4,GEfectos!J228:P228),IF(EFECTOS!$N$9=\"REPÚBLICA \nDOMINICANA\",LOOKUP(6,$J$4:$P$4,J228:P228),IF(EFECTOS!$N$9=\"PANAMÁ\",LOOKUP(7,GEfectos!$J$4:$P$4,GEfectos!J228:P228))))))))","v":159.90480307457037},{"$f":"IF(EFECTOS!$N$9=\"COSTA RICA\",LOOKUP(1,GEfectos!$Q$4:$W$4,GEfectos!Q228:W228),IF(EFECTOS!$N$9=\"EL SALVADOR\",LOOKUP(2,GEfectos!$Q$4:$W$4,GEfectos!Q228:W228),IF(EFECTOS!$N$9=\"GUATEMALA\",LOOKUP(3,GEfectos!$Q$4:$W$4,GEfectos!Q228:W228),IF(EFECTOS!$N$9=\"HONDURAS\",LOOKUP(4,GEfectos!$Q$4:$W$4,GEfectos!Q228:W228),IF(EFECTOS!$N$9=\"NICARAGUA\",LOOKUP(5,GEfectos!$Q$4:$W$4,GEfectos!Q228:W228),IF(EFECTOS!$N$9=\"REPÚBLICA \nDOMINICANA\",LOOKUP(6,$Q$4:$W$4,Q228:W228),IF(EFECTOS!$N$9=\"PANAMÁ\",LOOKUP(7,GEfectos!$Q$4:$W$4,GEfectos!Q228:W228))))))))","v":209.32514244830253},100]
[null,{"$f":"'ITCER GLOBAL'!B229","v":"Agosto"},{"$f":"'ITCER GLOBAL'!C229","v":76.582437081041419},{"$f":"'ITCER GLOBAL'!D229","v":103.78080379124233},{"$f":"'ITCER GLOBAL'!E229","v":67.770519130344482},{"$f":"'ITCER GLOBAL'!F229","v":86.025942350321642},{"$f":"'ITCER GLOBAL'!G229","v":111.98419068561297},{"$f":"'ITCER GLOBAL'!H229","v":144.43112548184752},{"$f":"'ITCER GLOBAL'!I229","v":99.951456555108095},{"$f":"'ITCER GLOBAL'!S229","v":160.05933356000531},{"$f":"'ITCER GLOBAL'!T229","v":95.646647014527048},{"$f":"'ITCER GLOBAL'!U229","v":99.084906908968662},{"$f":"'ITCER GLOBAL'!V229","v":137.07470021845614},{"$f":"'ITCER GLOBAL'!W229","v":191.17034408152713},{"$f":"'ITCER GLOBAL'!X229","v":257.10889733403434},{"$f":"'ITCER GLOBAL'!Y229","v":104.15266653825842},{"$f":"'ITCER GLOBAL'!AA229","v":209.00266387530419},{"$f":"'ITCER GLOBAL'!AB229","v":92.162175971312251},{"$f":"'ITCER GLOBAL'!AC229","v":146.20650421519798},{"$f":"'ITCER GLOBAL'!AD229","v":159.34112021725926},{"$f":"'ITCER GLOBAL'!AE229","v":170.71190398493232},{"$f":"'ITCER GLOBAL'!AF229","v":178.0148818173881},{"$f":"'ITCER GLOBAL'!AG229","v":104.20325038568497},null,{"$f":"IF(EFECTOS!$N$9=\"COSTA RICA\",LOOKUP(1,GEfectos!$C$4:$I$4,GEfectos!C229:I229),IF(EFECTOS!$N$9=\"EL SALVADOR\",LOOKUP(2,GEfectos!$C$4:$I$4,GEfectos!C229:I229),IF(EFECTOS!$N$9=\"GUATEMALA\",LOOKUP(3,GEfectos!$C$4:$I$4,GEfectos!C229:I229),IF(EFECTOS!$N$9=\"HONDURAS\",LOOKUP(4,GEfectos!$C$4:$I$4,GEfectos!C229:I229),IF(EFECTOS!$N$9=\"NICARAGUA\",LOOKUP(5,GEfectos!$C$4:$I$4,GEfectos!C229:I229),IF(EFECTOS!$N$9=\"REPÚBLICA \nDOMINICANA\",LOOKUP(6,$C$4:$I$4,C229:I229),IF(EFECTOS!$N$9=\"PANAMÁ\",LOOKUP(7,GEfectos!$C$4:$I$4,GEfectos!C229:I229))))))))","v":76.582437081041419},{"$f":"IF(EFECTOS!$N$9=\"COSTA RICA\",LOOKUP(1,GEfectos!$J$4:$P$4,GEfectos!J229:P229),IF(EFECTOS!$N$9=\"EL SALVADOR\",LOOKUP(2,GEfectos!$J$4:$P$4,GEfectos!J229:P229),IF(EFECTOS!$N$9=\"GUATEMALA\",LOOKUP(3,GEfectos!$J$4:$P$4,GEfectos!J229:P229),IF(EFECTOS!$N$9=\"HONDURAS\",LOOKUP(4,GEfectos!$J$4:$P$4,GEfectos!J229:P229),IF(EFECTOS!$N$9=\"NICARAGUA\",LOOKUP(5,GEfectos!$J$4:$P$4,GEfectos!J229:P229),IF(EFECTOS!$N$9=\"REPÚBLICA \nDOMINICANA\",LOOKUP(6,$J$4:$P$4,J229:P229),IF(EFECTOS!$N$9=\"PANAMÁ\",LOOKUP(7,GEfectos!$J$4:$P$4,GEfectos!J229:P229))))))))","v":160.05933356000531},{"$f":"IF(EFECTOS!$N$9=\"COSTA RICA\",LOOKUP(1,GEfectos!$Q$4:$W$4,GEfectos!Q229:W229),IF(EFECTOS!$N$9=\"EL SALVADOR\",LOOKUP(2,GEfectos!$Q$4:$W$4,GEfectos!Q229:W229),IF(EFECTOS!$N$9=\"GUATEMALA\",LOOKUP(3,GEfectos!$Q$4:$W$4,GEfectos!Q229:W229),IF(EFECTOS!$N$9=\"HONDURAS\",LOOKUP(4,GEfectos!$Q$4:$W$4,GEfectos!Q229:W229),IF(EFECTOS!$N$9=\"NICARAGUA\",LOOKUP(5,GEfectos!$Q$4:$W$4,GEfectos!Q229:W229),IF(EFECTOS!$N$9=\"REPÚBLICA \nDOMINICANA\",LOOKUP(6,$Q$4:$W$4,Q229:W229),IF(EFECTOS!$N$9=\"PANAMÁ\",LOOKUP(7,GEfectos!$Q$4:$W$4,GEfectos!Q229:W229))))))))","v":209.00266387530419},100]
[null,{"$f":"'ITCER GLOBAL'!B230","v":"Septiembre"},{"$f":"'ITCER GLOBAL'!C230","v":76.973903797613843},{"$f":"'ITCER GLOBAL'!D230","v":103.72116376368037},{"$f":"'ITCER GLOBAL'!E230","v":68.039978543195218},{"$f":"'ITCER GLOBAL'!F230","v":86.192026285090691},{"$f":"'ITCER GLOBAL'!G230","v":112.61349431996859},{"$f":"'ITCER GLOBAL'!H230","v":144.94881278944848},{"$f":"'ITCER GLOBAL'!I230","v":100.22524238347609},{"$f":"'ITCER GLOBAL'!S230","v":160.66346973053828},{"$f":"'ITCER GLOBAL'!T230","v":95.52742090345113},{"$f":"'ITCER GLOBAL'!U230","v":99.527382139531355},{"$f":"'ITCER GLOBAL'!V230","v":137.43162200777007},{"$f":"'ITCER GLOBAL'!W230","v":191.92306060661423},{"$f":"'ITCER GLOBAL'!X230","v":258.63029479567979},{"$f":"'ITCER GLOBAL'!Y230","v":104.20574743635254},{"$f":"'ITCER GLOBAL'!AA230","v":208.72459600459914},{"$f":"'ITCER GLOBAL'!AB230","v":92.100220858591641},{"$f":"'ITCER GLOBAL'!AC230","v":146.27779765736747},{"$f":"'ITCER GLOBAL'!AD230","v":159.44818555860161},{"$f":"'ITCER GLOBAL'!AE230","v":170.42634345516663},{"$f":"'ITCER GLOBAL'!AF230","v":178.42870860305987},{"$f":"'ITCER GLOBAL'!AG230","v":103.97155941778267},null,{"$f":"IF(EFECTOS!$N$9=\"COSTA RICA\",LOOKUP(1,GEfectos!$C$4:$I$4,GEfectos!C230:I230),IF(EFECTOS!$N$9=\"EL SALVADOR\",LOOKUP(2,GEfectos!$C$4:$I$4,GEfectos!C230:I230),IF(EFECTOS!$N$9=\"GUATEMALA\",LOOKUP(3,GEfectos!$C$4:$I$4,GEfectos!C230:I230),IF(EFECTOS!$N$9=\"HONDURAS\",LOOKUP(4,GEfectos!$C$4:$I$4,GEfectos!C230:I230),IF(EFECTOS!$N$9=\"NICARAGUA\",LOOKUP(5,GEfectos!$C$4:$I$4,GEfectos!C230:I230),IF(EFECTOS!$N$9=\"REPÚBLICA \nDOMINICANA\",LOOKUP(6,$C$4:$I$4,C230:I230),IF(EFECTOS!$N$9=\"PANAMÁ\",LOOKUP(7,GEfectos!$C$4:$I$4,GEfectos!C230:I230))))))))","v":76.973903797613843},{"$f":"IF(EFECTOS!$N$9=\"COSTA RICA\",LOOKUP(1,GEfectos!$J$4:$P$4,GEfectos!J230:P230),IF(EFECTOS!$N$9=\"EL SALVADOR\",LOOKUP(2,GEfectos!$J$4:$P$4,GEfectos!J230:P230),IF(EFECTOS!$N$9=\"GUATEMALA\",LOOKUP(3,GEfectos!$J$4:$P$4,GEfectos!J230:P230),IF(EFECTOS!$N$9=\"HONDURAS\",LOOKUP(4,GEfectos!$J$4:$P$4,GEfectos!J230:P230),IF(EFECTOS!$N$9=\"NICARAGUA\",LOOKUP(5,GEfectos!$J$4:$P$4,GEfectos!J230:P230),IF(EFECTOS!$N$9=\"REPÚBLICA \nDOMINICANA\",LOOKUP(6,$J$4:$P$4,J230:P230),IF(EFECTOS!$N$9=\"PANAMÁ\",LOOKUP(7,GEfectos!$J$4:$P$4,GEfectos!J230:P230))))))))","v":160.66346973053828},{"$f":"IF(EFECTOS!$N$9=\"COSTA RICA\",LOOKUP(1,GEfectos!$Q$4:$W$4,GEfectos!Q230:W230),IF(EFECTOS!$N$9=\"EL SALVADOR\",LOOKUP(2,GEfectos!$Q$4:$W$4,GEfectos!Q230:W230),IF(EFECTOS!$N$9=\"GUATEMALA\",LOOKUP(3,GEfectos!$Q$4:$W$4,GEfectos!Q230:W230),IF(EFECTOS!$N$9=\"HONDURAS\",LOOKUP(4,GEfectos!$Q$4:$W$4,GEfectos!Q230:W230),IF(EFECTOS!$N$9=\"NICARAGUA\",LOOKUP(5,GEfectos!$Q$4:$W$4,GEfectos!Q230:W230),IF(EFECTOS!$N$9=\"REPÚBLICA \nDOMINICANA\",LOOKUP(6,$Q$4:$W$4,Q230:W230),IF(EFECTOS!$N$9=\"PANAMÁ\",LOOKUP(7,GEfectos!$Q$4:$W$4,GEfectos!Q230:W230))))))))","v":208.72459600459914},100]
[null,{"$f":"'ITCER GLOBAL'!B231","v":"Octubre"},{"$f":"'ITCER GLOBAL'!C231","v":77.62642236802003},{"$f":"'ITCER GLOBAL'!D231","v":104.0016231792291},{"$f":"'ITCER GLOBAL'!E231","v":68.370450910068342},{"$f":"'ITCER GLOBAL'!F231","v":86.327071315342693},{"$f":"'ITCER GLOBAL'!G231","v":113.48874746631328},{"$f":"'ITCER GLOBAL'!H231","v":145.00567839580719},{"$f":"'ITCER GLOBAL'!I231","v":100.5759677273095},{"$f":"'ITCER GLOBAL'!S231","v":160.95825404694233},{"$f":"'ITCER GLOBAL'!T231","v":95.758889864469566},{"$f":"'ITCER GLOBAL'!U231","v":100.09054267764965},{"$f":"'ITCER GLOBAL'!V231","v":138.008519178288},{"$f":"'ITCER GLOBAL'!W231","v":193.65273336414484},{"$f":"'ITCER GLOBAL'!X231","v":258.65105415269869},{"$f":"'ITCER GLOBAL'!Y231","v":104.86586229119889},{"$f":"'ITCER GLOBAL'!AA231","v":207.34982901035087},{"$f":"'ITCER GLOBAL'!AB231","v":92.074418588107434},{"$f":"'ITCER GLOBAL'!AC231","v":146.39444576620477},{"$f":"'ITCER GLOBAL'!AD231","v":159.86702325874001},{"$f":"'ITCER GLOBAL'!AE231","v":170.63606541399758},{"$f":"'ITCER GLOBAL'!AF231","v":178.37305201709782},{"$f":"'ITCER GLOBAL'!AG231","v":104.26532765314327},null,{"$f":"IF(EFECTOS!$N$9=\"COSTA RICA\",LOOKUP(1,GEfectos!$C$4:$I$4,GEfectos!C231:I231),IF(EFECTOS!$N$9=\"EL SALVADOR\",LOOKUP(2,GEfectos!$C$4:$I$4,GEfectos!C231:I231),IF(EFECTOS!$N$9=\"GUATEMALA\",LOOKUP(3,GEfectos!$C$4:$I$4,GEfectos!C231:I231),IF(EFECTOS!$N$9=\"HONDURAS\",LOOKUP(4,GEfectos!$C$4:$I$4,GEfectos!C231:I231),IF(EFECTOS!$N$9=\"NICARAGUA\",LOOKUP(5,GEfectos!$C$4:$I$4,GEfectos!C231:I231),IF(EFECTOS!$N$9=\"REPÚBLICA \nDOMINICANA\",LOOKUP(6,$C$4:$I$4,C231:I231),IF(EFECTOS!$N$9=\"PANAMÁ\",LOOKUP(7,GEfectos!$C$4:$I$4,GEfectos!C231:I231))))))))","v":77.62642236802003},{"$f":"IF(EFECTOS!$N$9=\"COSTA RICA\",LOOKUP(1,GEfectos!$J$4:$P$4,GEfectos!J231:P231),IF(EFECTOS!$N$9=\"EL SALVADOR\",LOOKUP(2,GEfectos!$J$4:$P$4,GEfectos!J231:P231),IF(EFECTOS!$N$9=\"GUATEMALA\",LOOKUP(3,GEfectos!$J$4:$P$4,GEfectos!J231:P231),IF(EFECTOS!$N$9=\"HONDURAS\",LOOKUP(4,GEfectos!$J$4:$P$4,GEfectos!J231:P231),IF(EFECTOS!$N$9=\"NICARAGUA\",LOOKUP(5,GEfectos!$J$4:$P$4,GEfectos!J231:P231),IF(EFECTOS!$N$9=\"REPÚBLICA \nDOMINICANA\",LOOKUP(6,$J$4:$P$4,J231:P231),IF(EFECTOS!$N$9=\"PANAMÁ\",LOOKUP(7,GEfectos!$J$4:$P$4,GEfectos!J231:P231))))))))","v":160.95825404694233},{"$f":"IF(EFECTOS!$N$9=\"COSTA RICA\",LOOKUP(1,GEfectos!$Q$4:$W$4,GEfectos!Q231:W231),IF(EFECTOS!$N$9=\"EL SALVADOR\",LOOKUP(2,GEfectos!$Q$4:$W$4,GEfectos!Q231:W231),IF(EFECTOS!$N$9=\"GUATEMALA\",LOOKUP(3,GEfectos!$Q$4:$W$4,GEfectos!Q231:W231),IF(EFECTOS!$N$9=\"HONDURAS\",LOOKUP(4,GEfectos!$Q$4:$W$4,GEfectos!Q231:W231),IF(EFECTOS!$N$9=\"NICARAGUA\",LOOKUP(5,GEfectos!$Q$4:$W$4,GEfectos!Q231:W231),IF(EFECTOS!$N$9=\"REPÚBLICA \nDOMINICANA\",LOOKUP(6,$Q$4:$W$4,Q231:W231),IF(EFECTOS!$N$9=\"PANAMÁ\",LOOKUP(7,GEfectos!$Q$4:$W$4,GEfectos!Q231:W231))))))))","v":207.34982901035087},100]
[null,{"$f":"'ITCER GLOBAL'!B232","v":"Noviembre"},{"$f":"'ITCER GLOBAL'!C232","v":77.183141942375315},{"$f":"'ITCER GLOBAL'!D232","v":103.83037510099719},{"$f":"'ITCER GLOBAL'!E232","v":67.342260072109383},{"$f":"'ITCER GLOBAL'!F232","v":85.996204349508275},{"$f":"'ITCER GLOBAL'!G232","v":113.04568306416722},{"$f":"'ITCER GLOBAL'!H232","v":144.43915531149568},{"$f":"'ITCER GLOBAL'!I232","v":100.04380310224698},{"$f":"'ITCER GLOBAL'!S232","v":160.34661000959116},{"$f":"'ITCER GLOBAL'!T232","v":95.624645146419823},{"$f":"'ITCER GLOBAL'!U232","v":98.995608153807126},{"$f":"'ITCER GLOBAL'!V232","v":137.84152105676102},{"$f":"'ITCER GLOBAL'!W232","v":193.61467404969491},{"$f":"'ITCER GLOBAL'!X232","v":257.94077209522783},{"$f":"'ITCER GLOBAL'!Y232","v":104.38951398754558},{"$f":"'ITCER GLOBAL'!AA232","v":207.74822840110008},{"$f":"'ITCER GLOBAL'!AB232","v":92.096985158152862},{"$f":"'ITCER GLOBAL'!AC232","v":147.00369136379396},{"$f":"'ITCER GLOBAL'!AD232","v":160.28791282059555},{"$f":"'ITCER GLOBAL'!AE232","v":171.27117887358418},{"$f":"'ITCER GLOBAL'!AF232","v":178.58091979211312},{"$f":"'ITCER GLOBAL'!AG232","v":104.34380816256774},null,{"$f":"IF(EFECTOS!$N$9=\"COSTA RICA\",LOOKUP(1,GEfectos!$C$4:$I$4,GEfectos!C232:I232),IF(EFECTOS!$N$9=\"EL SALVADOR\",LOOKUP(2,GEfectos!$C$4:$I$4,GEfectos!C232:I232),IF(EFECTOS!$N$9=\"GUATEMALA\",LOOKUP(3,GEfectos!$C$4:$I$4,GEfectos!C232:I232),IF(EFECTOS!$N$9=\"HONDURAS\",LOOKUP(4,GEfectos!$C$4:$I$4,GEfectos!C232:I232),IF(EFECTOS!$N$9=\"NICARAGUA\",LOOKUP(5,GEfectos!$C$4:$I$4,GEfectos!C232:I232),IF(EFECTOS!$N$9=\"REPÚBLICA \nDOMINICANA\",LOOKUP(6,$C$4:$I$4,C232:I232),IF(EFECTOS!$N$9=\"PANAMÁ\",LOOKUP(7,GEfectos!$C$4:$I$4,GEfectos!C232:I232))))))))","v":77.183141942375315},{"$f":"IF(EFECTOS!$N$9=\"COSTA RICA\",LOOKUP(1,GEfectos!$J$4:$P$4,GEfectos!J232:P232),IF(EFECTOS!$N$9=\"EL SALVADOR\",LOOKUP(2,GEfectos!$J$4:$P$4,GEfectos!J232:P232),IF(EFECTOS!$N$9=\"GUATEMALA\",LOOKUP(3,GEfectos!$J$4:$P$4,GEfectos!J232:P232),IF(EFECTOS!$N$9=\"HONDURAS\",LOOKUP(4,GEfectos!$J$4:$P$4,GEfectos!J232:P232),IF(EFECTOS!$N$9=\"NICARAGUA\",LOOKUP(5,GEfectos!$J$4:$P$4,GEfectos!J232:P232),IF(EFECTOS!$N$9=\"REPÚBLICA \nDOMINICANA\",LOOKUP(6,$J$4:$P$4,J232:P232),IF(EFECTOS!$N$9=\"PANAMÁ\",LOOKUP(7,GEfectos!$J$4:$P$4,GEfectos!J232:P232))))))))","v":160.34661000959116},{"$f":"IF(EFECTOS!$N$9=\"COSTA RICA\",LOOKUP(1,GEfectos!$Q$4:$W$4,GEfectos!Q232:W232),IF(EFECTOS!$N$9=\"EL SALVADOR\",LOOKUP(2,GEfectos!$Q$4:$W$4,GEfectos!Q232:W232),IF(EFECTOS!$N$9=\"GUATEMALA\",LOOKUP(3,GEfectos!$Q$4:$W$4,GEfectos!Q232:W232),IF(EFECTOS!$N$9=\"HONDURAS\",LOOKUP(4,GEfectos!$Q$4:$W$4,GEfectos!Q232:W232),IF(EFECTOS!$N$9=\"NICARAGUA\",LOOKUP(5,GEfectos!$Q$4:$W$4,GEfectos!Q232:W232),IF(EFECTOS!$N$9=\"REPÚBLICA \nDOMINICANA\",LOOKUP(6,$Q$4:$W$4,Q232:W232),IF(EFECTOS!$N$9=\"PANAMÁ\",LOOKUP(7,GEfectos!$Q$4:$W$4,GEfectos!Q232:W232))))))))","v":207.74822840110008},100]
[null,{"$f":"'ITCER GLOBAL'!B233","v":"Diciembre"},{"$f":"'ITCER GLOBAL'!C233","v":76.981586107940529},{"$f":"'ITCER GLOBAL'!D233","v":104.12608965247485},{"$f":"'ITCER GLOBAL'!E233","v":66.982936856955007},{"$f":"'ITCER GLOBAL'!F233","v":86.224882990251743},{"$f":"'ITCER GLOBAL'!G233","v":112.15136000088913},{"$f":"'ITCER GLOBAL'!H233","v":144.72250758057157},{"$f":"'ITCER GLOBAL'!I233","v":100.00756710337212},{"$f":"'ITCER GLOBAL'!S233","v":160.45989588890475},{"$f":"'ITCER GLOBAL'!T233","v":95.675534618752039},{"$f":"'ITCER GLOBAL'!U233","v":98.586300654817748},{"$f":"'ITCER GLOBAL'!V233","v":138.38363972871272},{"$f":"'ITCER GLOBAL'!W233","v":193.71587885126266},{"$f":"'ITCER GLOBAL'!X233","v":258.98807049196301},{"$f":"'ITCER GLOBAL'!Y233","v":104.41930146242011},{"$f":"'ITCER GLOBAL'!AA233","v":208.43932166312379},{"$f":"'ITCER GLOBAL'!AB233","v":91.884305785488635},{"$f":"'ITCER GLOBAL'!AC233","v":147.18121551665183},{"$f":"'ITCER GLOBAL'!AD233","v":160.49153669986177},{"$f":"'ITCER GLOBAL'!AE233","v":172.72717767285826},{"$f":"'ITCER GLOBAL'!AF233","v":178.95493577443455},{"$f":"'ITCER GLOBAL'!AG233","v":104.41140054380868},null,{"$f":"IF(EFECTOS!$N$9=\"COSTA RICA\",LOOKUP(1,GEfectos!$C$4:$I$4,GEfectos!C233:I233),IF(EFECTOS!$N$9=\"EL SALVADOR\",LOOKUP(2,GEfectos!$C$4:$I$4,GEfectos!C233:I233),IF(EFECTOS!$N$9=\"GUATEMALA\",LOOKUP(3,GEfectos!$C$4:$I$4,GEfectos!C233:I233),IF(EFECTOS!$N$9=\"HONDURAS\",LOOKUP(4,GEfectos!$C$4:$I$4,GEfectos!C233:I233),IF(EFECTOS!$N$9=\"NICARAGUA\",LOOKUP(5,GEfectos!$C$4:$I$4,GEfectos!C233:I233),IF(EFECTOS!$N$9=\"REPÚBLICA \nDOMINICANA\",LOOKUP(6,$C$4:$I$4,C233:I233),IF(EFECTOS!$N$9=\"PANAMÁ\",LOOKUP(7,GEfectos!$C$4:$I$4,GEfectos!C233:I233))))))))","v":76.981586107940529},{"$f":"IF(EFECTOS!$N$9=\"COSTA RICA\",LOOKUP(1,GEfectos!$J$4:$P$4,GEfectos!J233:P233),IF(EFECTOS!$N$9=\"EL SALVADOR\",LOOKUP(2,GEfectos!$J$4:$P$4,GEfectos!J233:P233),IF(EFECTOS!$N$9=\"GUATEMALA\",LOOKUP(3,GEfectos!$J$4:$P$4,GEfectos!J233:P233),IF(EFECTOS!$N$9=\"HONDURAS\",LOOKUP(4,GEfectos!$J$4:$P$4,GEfectos!J233:P233),IF(EFECTOS!$N$9=\"NICARAGUA\",LOOKUP(5,GEfectos!$J$4:$P$4,GEfectos!J233:P233),IF(EFECTOS!$N$9=\"REPÚBLICA \nDOMINICANA\",LOOKUP(6,$J$4:$P$4,J233:P233),IF(EFECTOS!$N$9=\"PANAMÁ\",LOOKUP(7,GEfectos!$J$4:$P$4,GEfectos!J233:P233))))))))","v":160.45989588890475},{"$f":"IF(EFECTOS!$N$9=\"COSTA RICA\",LOOKUP(1,GEfectos!$Q$4:$W$4,GEfectos!Q233:W233),IF(EFECTOS!$N$9=\"EL SALVADOR\",LOOKUP(2,GEfectos!$Q$4:$W$4,GEfectos!Q233:W233),IF(EFECTOS!$N$9=\"GUATEMALA\",LOOKUP(3,GEfectos!$Q$4:$W$4,GEfectos!Q233:W233),IF(EFECTOS!$N$9=\"HONDURAS\",LOOKUP(4,GEfectos!$Q$4:$W$4,GEfectos!Q233:W233),IF(EFECTOS!$N$9=\"NICARAGUA\",LOOKUP(5,GEfectos!$Q$4:$W$4,GEfectos!Q233:W233),IF(EFECTOS!$N$9=\"REPÚBLICA \nDOMINICANA\",LOOKUP(6,$Q$4:$W$4,Q233:W233),IF(EFECTOS!$N$9=\"PANAMÁ\",LOOKUP(7,GEfectos!$Q$4:$W$4,GEfectos!Q233:W233))))))))","v":208.43932166312379},100]
[2014,{"$f":"'ITCER GLOBAL'!B234","v":"Enero"},{"$f":"'ITCER GLOBAL'!C234","v":76.976287298273078},{"$f":"'ITCER GLOBAL'!D234","v":103.74668189568706},{"$f":"'ITCER GLOBAL'!E234","v":66.999578932274616},{"$f":"'ITCER GLOBAL'!F234","v":84.957713961274635},{"$f":"'ITCER GLOBAL'!G234","v":112.88363222794345},{"$f":"'ITCER GLOBAL'!H234","v":144.88070538454761},{"$f":"'ITCER GLOBAL'!I234","v":100.45689990541331},{"$f":"'ITCER GLOBAL'!S234","v":161.76408406278995},{"$f":"'ITCER GLOBAL'!T234","v":95.39867534250665},{"$f":"'ITCER GLOBAL'!U234","v":98.306274223858452},{"$f":"'ITCER GLOBAL'!V234","v":137.34961737231606},{"$f":"'ITCER GLOBAL'!W234","v":195.12318574114977},{"$f":"'ITCER GLOBAL'!X234","v":262.012850446127},{"$f":"'ITCER GLOBAL'!Y234","v":105.55507078226984},{"$f":"'ITCER GLOBAL'!AA234","v":210.14794262027112},{"$f":"'ITCER GLOBAL'!AB234","v":91.953471281545191},{"$f":"'ITCER GLOBAL'!AC234","v":146.72670454127729},{"$f":"'ITCER GLOBAL'!AD234","v":161.66821230020699},{"$f":"'ITCER GLOBAL'!AE234","v":172.85339060240531},{"$f":"'ITCER GLOBAL'!AF234","v":180.84730451213846},{"$f":"'ITCER GLOBAL'!AG234","v":105.07498328303659},null,{"$f":"IF(EFECTOS!$N$9=\"COSTA RICA\",LOOKUP(1,GEfectos!$C$4:$I$4,GEfectos!C234:I234),IF(EFECTOS!$N$9=\"EL SALVADOR\",LOOKUP(2,GEfectos!$C$4:$I$4,GEfectos!C234:I234),IF(EFECTOS!$N$9=\"GUATEMALA\",LOOKUP(3,GEfectos!$C$4:$I$4,GEfectos!C234:I234),IF(EFECTOS!$N$9=\"HONDURAS\",LOOKUP(4,GEfectos!$C$4:$I$4,GEfectos!C234:I234),IF(EFECTOS!$N$9=\"NICARAGUA\",LOOKUP(5,GEfectos!$C$4:$I$4,GEfectos!C234:I234),IF(EFECTOS!$N$9=\"REPÚBLICA \nDOMINICANA\",LOOKUP(6,$C$4:$I$4,C234:I234),IF(EFECTOS!$N$9=\"PANAMÁ\",LOOKUP(7,GEfectos!$C$4:$I$4,GEfectos!C234:I234))))))))","v":76.976287298273078},{"$f":"IF(EFECTOS!$N$9=\"COSTA RICA\",LOOKUP(1,GEfectos!$J$4:$P$4,GEfectos!J234:P234),IF(EFECTOS!$N$9=\"EL SALVADOR\",LOOKUP(2,GEfectos!$J$4:$P$4,GEfectos!J234:P234),IF(EFECTOS!$N$9=\"GUATEMALA\",LOOKUP(3,GEfectos!$J$4:$P$4,GEfectos!J234:P234),IF(EFECTOS!$N$9=\"HONDURAS\",LOOKUP(4,GEfectos!$J$4:$P$4,GEfectos!J234:P234),IF(EFECTOS!$N$9=\"NICARAGUA\",LOOKUP(5,GEfectos!$J$4:$P$4,GEfectos!J234:P234),IF(EFECTOS!$N$9=\"REPÚBLICA \nDOMINICANA\",LOOKUP(6,$J$4:$P$4,J234:P234),IF(EFECTOS!$N$9=\"PANAMÁ\",LOOKUP(7,GEfectos!$J$4:$P$4,GEfectos!J234:P234))))))))","v":161.76408406278995},{"$f":"IF(EFECTOS!$N$9=\"COSTA RICA\",LOOKUP(1,GEfectos!$Q$4:$W$4,GEfectos!Q234:W234),IF(EFECTOS!$N$9=\"EL SALVADOR\",LOOKUP(2,GEfectos!$Q$4:$W$4,GEfectos!Q234:W234),IF(EFECTOS!$N$9=\"GUATEMALA\",LOOKUP(3,GEfectos!$Q$4:$W$4,GEfectos!Q234:W234),IF(EFECTOS!$N$9=\"HONDURAS\",LOOKUP(4,GEfectos!$Q$4:$W$4,GEfectos!Q234:W234),IF(EFECTOS!$N$9=\"NICARAGUA\",LOOKUP(5,GEfectos!$Q$4:$W$4,GEfectos!Q234:W234),IF(EFECTOS!$N$9=\"REPÚBLICA \nDOMINICANA\",LOOKUP(6,$Q$4:$W$4,Q234:W234),IF(EFECTOS!$N$9=\"PANAMÁ\",LOOKUP(7,GEfectos!$Q$4:$W$4,GEfectos!Q234:W234))))))))","v":210.14794262027112},100]
[null,{"$f":"'ITCER GLOBAL'!B235","v":"Febrero"},{"$f":"'ITCER GLOBAL'!C235","v":80.160062004940272},{"$f":"'ITCER GLOBAL'!D235","v":103.79358590622617},{"$f":"'ITCER GLOBAL'!E235","v":66.145108913794999},{"$f":"'ITCER GLOBAL'!F235","v":84.590610776762787},{"$f":"'ITCER GLOBAL'!G235","v":112.76092687687124},{"$f":"'ITCER GLOBAL'!H235","v":145.36938993598613},{"$f":"'ITCER GLOBAL'!I235","v":99.812038673483769},{"$f":"'ITCER GLOBAL'!S235","v":168.91803845270928},{"$f":"'ITCER GLOBAL'!T235","v":95.225060911681553},{"$f":"'ITCER GLOBAL'!U235","v":96.856874228282166},{"$f":"'ITCER GLOBAL'!V235","v":137.36819702805136},{"$f":"'ITCER GLOBAL'!W235","v":195.3940015697288},{"$f":"'ITCER GLOBAL'!X235","v":262.76780450472904},{"$f":"'ITCER GLOBAL'!Y235","v":105.01579359629774},{"$f":"'ITCER GLOBAL'!AA235","v":210.72593287452653},{"$f":"'ITCER GLOBAL'!AB235","v":91.744648843440118},{"$f":"'ITCER GLOBAL'!AC235","v":146.43089386172591},{"$f":"'ITCER GLOBAL'!AD235","v":162.39177819695644},{"$f":"'ITCER GLOBAL'!AE235","v":173.28165613882223},{"$f":"'ITCER GLOBAL'!AF235","v":180.75868972170804},{"$f":"'ITCER GLOBAL'!AG235","v":105.21355438880182},null,{"$f":"IF(EFECTOS!$N$9=\"COSTA RICA\",LOOKUP(1,GEfectos!$C$4:$I$4,GEfectos!C235:I235),IF(EFECTOS!$N$9=\"EL SALVADOR\",LOOKUP(2,GEfectos!$C$4:$I$4,GEfectos!C235:I235),IF(EFECTOS!$N$9=\"GUATEMALA\",LOOKUP(3,GEfectos!$C$4:$I$4,GEfectos!C235:I235),IF(EFECTOS!$N$9=\"HONDURAS\",LOOKUP(4,GEfectos!$C$4:$I$4,GEfectos!C235:I235),IF(EFECTOS!$N$9=\"NICARAGUA\",LOOKUP(5,GEfectos!$C$4:$I$4,GEfectos!C235:I235),IF(EFECTOS!$N$9=\"REPÚBLICA \nDOMINICANA\",LOOKUP(6,$C$4:$I$4,C235:I235),IF(EFECTOS!$N$9=\"PANAMÁ\",LOOKUP(7,GEfectos!$C$4:$I$4,GEfectos!C235:I235))))))))","v":80.160062004940272},{"$f":"IF(EFECTOS!$N$9=\"COSTA RICA\",LOOKUP(1,GEfectos!$J$4:$P$4,GEfectos!J235:P235),IF(EFECTOS!$N$9=\"EL SALVADOR\",LOOKUP(2,GEfectos!$J$4:$P$4,GEfectos!J235:P235),IF(EFECTOS!$N$9=\"GUATEMALA\",LOOKUP(3,GEfectos!$J$4:$P$4,GEfectos!J235:P235),IF(EFECTOS!$N$9=\"HONDURAS\",LOOKUP(4,GEfectos!$J$4:$P$4,GEfectos!J235:P235),IF(EFECTOS!$N$9=\"NICARAGUA\",LOOKUP(5,GEfectos!$J$4:$P$4,GEfectos!J235:P235),IF(EFECTOS!$N$9=\"REPÚBLICA \nDOMINICANA\",LOOKUP(6,$J$4:$P$4,J235:P235),IF(EFECTOS!$N$9=\"PANAMÁ\",LOOKUP(7,GEfectos!$J$4:$P$4,GEfectos!J235:P235))))))))","v":168.91803845270928},{"$f":"IF(EFECTOS!$N$9=\"COSTA RICA\",LOOKUP(1,GEfectos!$Q$4:$W$4,GEfectos!Q235:W235),IF(EFECTOS!$N$9=\"EL SALVADOR\",LOOKUP(2,GEfectos!$Q$4:$W$4,GEfectos!Q235:W235),IF(EFECTOS!$N$9=\"GUATEMALA\",LOOKUP(3,GEfectos!$Q$4:$W$4,GEfectos!Q235:W235),IF(EFECTOS!$N$9=\"HONDURAS\",LOOKUP(4,GEfectos!$Q$4:$W$4,GEfectos!Q235:W235),IF(EFECTOS!$N$9=\"NICARAGUA\",LOOKUP(5,GEfectos!$Q$4:$W$4,GEfectos!Q235:W235),IF(EFECTOS!$N$9=\"REPÚBLICA \nDOMINICANA\",LOOKUP(6,$Q$4:$W$4,Q235:W235),IF(EFECTOS!$N$9=\"PANAMÁ\",LOOKUP(7,GEfectos!$Q$4:$W$4,GEfectos!Q235:W235))))))))","v":210.72593287452653},100]
[null,{"$f":"'ITCER GLOBAL'!B236","v":"Marzo"},{"$f":"'ITCER GLOBAL'!C236","v":83.68215968169676},{"$f":"'ITCER GLOBAL'!D236","v":103.91426086399731},{"$f":"'ITCER GLOBAL'!E236","v":65.987309261874898},{"$f":"'ITCER GLOBAL'!F236","v":84.723260889987671},{"$f":"'ITCER GLOBAL'!G236","v":113.1336458840285},{"$f":"'ITCER GLOBAL'!H236","v":145.35828124848641},{"$f":"'ITCER GLOBAL'!I236","v":99.651311671752509},{"$f":"'ITCER GLOBAL'!S236","v":176.59215735401173},{"$f":"'ITCER GLOBAL'!T236","v":95.127931142933335},{"$f":"'ITCER GLOBAL'!U236","v":96.402254062725021},{"$f":"'ITCER GLOBAL'!V236","v":137.72289655700081},{"$f":"'ITCER GLOBAL'!W236","v":195.22128873139835},{"$f":"'ITCER GLOBAL'!X236","v":262.78252752038094},{"$f":"'ITCER GLOBAL'!Y236","v":104.82597370926652},{"$f":"'ITCER GLOBAL'!AA236","v":211.02724645936277},{"$f":"'ITCER GLOBAL'!AB236","v":91.544635309908514},{"$f":"'ITCER GLOBAL'!AC236","v":146.0921124699091},{"$f":"'ITCER GLOBAL'!AD236","v":162.55618009773329},{"$f":"'ITCER GLOBAL'!AE236","v":172.558116735243},{"$f":"'ITCER GLOBAL'!AF236","v":180.78263258435248},{"$f":"'ITCER GLOBAL'!AG236","v":105.19276861558946},null,{"$f":"IF(EFECTOS!$N$9=\"COSTA RICA\",LOOKUP(1,GEfectos!$C$4:$I$4,GEfectos!C236:I236),IF(EFECTOS!$N$9=\"EL SALVADOR\",LOOKUP(2,GEfectos!$C$4:$I$4,GEfectos!C236:I236),IF(EFECTOS!$N$9=\"GUATEMALA\",LOOKUP(3,GEfectos!$C$4:$I$4,GEfectos!C236:I236),IF(EFECTOS!$N$9=\"HONDURAS\",LOOKUP(4,GEfectos!$C$4:$I$4,GEfectos!C236:I236),IF(EFECTOS!$N$9=\"NICARAGUA\",LOOKUP(5,GEfectos!$C$4:$I$4,GEfectos!C236:I236),IF(EFECTOS!$N$9=\"REPÚBLICA \nDOMINICANA\",LOOKUP(6,$C$4:$I$4,C236:I236),IF(EFECTOS!$N$9=\"PANAMÁ\",LOOKUP(7,GEfectos!$C$4:$I$4,GEfectos!C236:I236))))))))","v":83.68215968169676},{"$f":"IF(EFECTOS!$N$9=\"COSTA RICA\",LOOKUP(1,GEfectos!$J$4:$P$4,GEfectos!J236:P236),IF(EFECTOS!$N$9=\"EL SALVADOR\",LOOKUP(2,GEfectos!$J$4:$P$4,GEfectos!J236:P236),IF(EFECTOS!$N$9=\"GUATEMALA\",LOOKUP(3,GEfectos!$J$4:$P$4,GEfectos!J236:P236),IF(EFECTOS!$N$9=\"HONDURAS\",LOOKUP(4,GEfectos!$J$4:$P$4,GEfectos!J236:P236),IF(EFECTOS!$N$9=\"NICARAGUA\",LOOKUP(5,GEfectos!$J$4:$P$4,GEfectos!J236:P236),IF(EFECTOS!$N$9=\"REPÚBLICA \nDOMINICANA\",LOOKUP(6,$J$4:$P$4,J236:P236),IF(EFECTOS!$N$9=\"PANAMÁ\",LOOKUP(7,GEfectos!$J$4:$P$4,GEfectos!J236:P236))))))))","v":176.59215735401173},{"$f":"IF(EFECTOS!$N$9=\"COSTA RICA\",LOOKUP(1,GEfectos!$Q$4:$W$4,GEfectos!Q236:W236),IF(EFECTOS!$N$9=\"EL SALVADOR\",LOOKUP(2,GEfectos!$Q$4:$W$4,GEfectos!Q236:W236),IF(EFECTOS!$N$9=\"GUATEMALA\",LOOKUP(3,GEfectos!$Q$4:$W$4,GEfectos!Q236:W236),IF(EFECTOS!$N$9=\"HONDURAS\",LOOKUP(4,GEfectos!$Q$4:$W$4,GEfectos!Q236:W236),IF(EFECTOS!$N$9=\"NICARAGUA\",LOOKUP(5,GEfectos!$Q$4:$W$4,GEfectos!Q236:W236),IF(EFECTOS!$N$9=\"REPÚBLICA \nDOMINICANA\",LOOKUP(6,$Q$4:$W$4,Q236:W236),IF(EFECTOS!$N$9=\"PANAMÁ\",LOOKUP(7,GEfectos!$Q$4:$W$4,GEfectos!Q236:W236))))))))","v":211.02724645936277},100]
[null,{"$f":"'ITCER GLOBAL'!B237","v":"Abril"},{"$f":"'ITCER GLOBAL'!C237","v":82.741436636861152},{"$f":"'ITCER GLOBAL'!D237","v":104.85414433254354},{"$f":"'ITCER GLOBAL'!E237","v":66.34646637286626},{"$f":"'ITCER GLOBAL'!F237","v":84.89058830617796},{"$f":"'ITCER GLOBAL'!G237","v":113.11256933207494},{"$f":"'ITCER GLOBAL'!H237","v":145.31810851799239},{"$f":"'ITCER GLOBAL'!I237","v":99.810772246457461},{"$f":"'ITCER GLOBAL'!S237","v":176.17848698153},{"$f":"'ITCER GLOBAL'!T237","v":95.249470021667705},{"$f":"'ITCER GLOBAL'!U237","v":96.895952694250568},{"$f":"'ITCER GLOBAL'!V237","v":138.22750352192307},{"$f":"'ITCER GLOBAL'!W237","v":195.57740309962998},{"$f":"'ITCER GLOBAL'!X237","v":263.1212119465809},{"$f":"'ITCER GLOBAL'!Y237","v":105.21371156640814},{"$f":"'ITCER GLOBAL'!AA237","v":212.92655064082223},{"$f":"'ITCER GLOBAL'!AB237","v":90.839966915933488},{"$f":"'ITCER GLOBAL'!AC237","v":146.04538567238322},{"$f":"'ITCER GLOBAL'!AD237","v":162.83018680866357},{"$f":"'ITCER GLOBAL'!AE237","v":172.9051017535067},{"$f":"'ITCER GLOBAL'!AF237","v":181.06567352822574},{"$f":"'ITCER GLOBAL'!AG237","v":105.41318256371115},null,{"$f":"IF(EFECTOS!$N$9=\"COSTA RICA\",LOOKUP(1,GEfectos!$C$4:$I$4,GEfectos!C237:I237),IF(EFECTOS!$N$9=\"EL SALVADOR\",LOOKUP(2,GEfectos!$C$4:$I$4,GEfectos!C237:I237),IF(EFECTOS!$N$9=\"GUATEMALA\",LOOKUP(3,GEfectos!$C$4:$I$4,GEfectos!C237:I237),IF(EFECTOS!$N$9=\"HONDURAS\",LOOKUP(4,GEfectos!$C$4:$I$4,GEfectos!C237:I237),IF(EFECTOS!$N$9=\"NICARAGUA\",LOOKUP(5,GEfectos!$C$4:$I$4,GEfectos!C237:I237),IF(EFECTOS!$N$9=\"REPÚBLICA \nDOMINICANA\",LOOKUP(6,$C$4:$I$4,C237:I237),IF(EFECTOS!$N$9=\"PANAMÁ\",LOOKUP(7,GEfectos!$C$4:$I$4,GEfectos!C237:I237))))))))","v":82.741436636861152},{"$f":"IF(EFECTOS!$N$9=\"COSTA RICA\",LOOKUP(1,GEfectos!$J$4:$P$4,GEfectos!J237:P237),IF(EFECTOS!$N$9=\"EL SALVADOR\",LOOKUP(2,GEfectos!$J$4:$P$4,GEfectos!J237:P237),IF(EFECTOS!$N$9=\"GUATEMALA\",LOOKUP(3,GEfectos!$J$4:$P$4,GEfectos!J237:P237),IF(EFECTOS!$N$9=\"HONDURAS\",LOOKUP(4,GEfectos!$J$4:$P$4,GEfectos!J237:P237),IF(EFECTOS!$N$9=\"NICARAGUA\",LOOKUP(5,GEfectos!$J$4:$P$4,GEfectos!J237:P237),IF(EFECTOS!$N$9=\"REPÚBLICA \nDOMINICANA\",LOOKUP(6,$J$4:$P$4,J237:P237),IF(EFECTOS!$N$9=\"PANAMÁ\",LOOKUP(7,GEfectos!$J$4:$P$4,GEfectos!J237:P237))))))))","v":176.17848698153},{"$f":"IF(EFECTOS!$N$9=\"COSTA RICA\",LOOKUP(1,GEfectos!$Q$4:$W$4,GEfectos!Q237:W237),IF(EFECTOS!$N$9=\"EL SALVADOR\",LOOKUP(2,GEfectos!$Q$4:$W$4,GEfectos!Q237:W237),IF(EFECTOS!$N$9=\"GUATEMALA\",LOOKUP(3,GEfectos!$Q$4:$W$4,GEfectos!Q237:W237),IF(EFECTOS!$N$9=\"HONDURAS\",LOOKUP(4,GEfectos!$Q$4:$W$4,GEfectos!Q237:W237),IF(EFECTOS!$N$9=\"NICARAGUA\",LOOKUP(5,GEfectos!$Q$4:$W$4,GEfectos!Q237:W237),IF(EFECTOS!$N$9=\"REPÚBLICA \nDOMINICANA\",LOOKUP(6,$Q$4:$W$4,Q237:W237),IF(EFECTOS!$N$9=\"PANAMÁ\",LOOKUP(7,GEfectos!$Q$4:$W$4,GEfectos!Q237:W237))))))))","v":212.92655064082223},100]
[null,{"$f":"'ITCER GLOBAL'!B238","v":"Mayo"},{"$f":"'ITCER GLOBAL'!C238","v":83.390160361347355},{"$f":"'ITCER GLOBAL'!D238","v":104.95150359640489},{"$f":"'ITCER GLOBAL'!E238","v":66.311192198592948},{"$f":"'ITCER GLOBAL'!F238","v":84.860566235386045},{"$f":"'ITCER GLOBAL'!G238","v":112.98029978914759},{"$f":"'ITCER GLOBAL'!H238","v":145.91354253277413},{"$f":"'ITCER GLOBAL'!I238","v":99.968293338939205},{"$f":"'ITCER GLOBAL'!S238","v":178.07095531064417},{"$f":"'ITCER GLOBAL'!T238","v":95.272815464877965},{"$f":"'ITCER GLOBAL'!U238","v":96.824942340692488},{"$f":"'ITCER GLOBAL'!V238","v":138.5460398771196},{"$f":"'ITCER GLOBAL'!W238","v":196.72014198010029},{"$f":"'ITCER GLOBAL'!X238","v":263.52786102878116},{"$f":"'ITCER GLOBAL'!Y238","v":105.28564495881277},{"$f":"'ITCER GLOBAL'!AA238","v":213.53952857150617},{"$f":"'ITCER GLOBAL'!AB238","v":90.777942383039402},{"$f":"'ITCER GLOBAL'!AC238","v":146.01598784518163},{"$f":"'ITCER GLOBAL'!AD238","v":163.26315746329209},{"$f":"'ITCER GLOBAL'!AE238","v":174.11897680147277},{"$f":"'ITCER GLOBAL'!AF238","v":180.60548490184814},{"$f":"'ITCER GLOBAL'!AG238","v":105.31903810925856},null,{"$f":"IF(EFECTOS!$N$9=\"COSTA RICA\",LOOKUP(1,GEfectos!$C$4:$I$4,GEfectos!C238:I238),IF(EFECTOS!$N$9=\"EL SALVADOR\",LOOKUP(2,GEfectos!$C$4:$I$4,GEfectos!C238:I238),IF(EFECTOS!$N$9=\"GUATEMALA\",LOOKUP(3,GEfectos!$C$4:$I$4,GEfectos!C238:I238),IF(EFECTOS!$N$9=\"HONDURAS\",LOOKUP(4,GEfectos!$C$4:$I$4,GEfectos!C238:I238),IF(EFECTOS!$N$9=\"NICARAGUA\",LOOKUP(5,GEfectos!$C$4:$I$4,GEfectos!C238:I238),IF(EFECTOS!$N$9=\"REPÚBLICA \nDOMINICANA\",LOOKUP(6,$C$4:$I$4,C238:I238),IF(EFECTOS!$N$9=\"PANAMÁ\",LOOKUP(7,GEfectos!$C$4:$I$4,GEfectos!C238:I238))))))))","v":83.390160361347355},{"$f":"IF(EFECTOS!$N$9=\"COSTA RICA\",LOOKUP(1,GEfectos!$J$4:$P$4,GEfectos!J238:P238),IF(EFECTOS!$N$9=\"EL SALVADOR\",LOOKUP(2,GEfectos!$J$4:$P$4,GEfectos!J238:P238),IF(EFECTOS!$N$9=\"GUATEMALA\",LOOKUP(3,GEfectos!$J$4:$P$4,GEfectos!J238:P238),IF(EFECTOS!$N$9=\"HONDURAS\",LOOKUP(4,GEfectos!$J$4:$P$4,GEfectos!J238:P238),IF(EFECTOS!$N$9=\"NICARAGUA\",LOOKUP(5,GEfectos!$J$4:$P$4,GEfectos!J238:P238),IF(EFECTOS!$N$9=\"REPÚBLICA \nDOMINICANA\",LOOKUP(6,$J$4:$P$4,J238:P238),IF(EFECTOS!$N$9=\"PANAMÁ\",LOOKUP(7,GEfectos!$J$4:$P$4,GEfectos!J238:P238))))))))","v":178.07095531064417},{"$f":"IF(EFECTOS!$N$9=\"COSTA RICA\",LOOKUP(1,GEfectos!$Q$4:$W$4,GEfectos!Q238:W238),IF(EFECTOS!$N$9=\"EL SALVADOR\",LOOKUP(2,GEfectos!$Q$4:$W$4,GEfectos!Q238:W238),IF(EFECTOS!$N$9=\"GUATEMALA\",LOOKUP(3,GEfectos!$Q$4:$W$4,GEfectos!Q238:W238),IF(EFECTOS!$N$9=\"HONDURAS\",LOOKUP(4,GEfectos!$Q$4:$W$4,GEfectos!Q238:W238),IF(EFECTOS!$N$9=\"NICARAGUA\",LOOKUP(5,GEfectos!$Q$4:$W$4,GEfectos!Q238:W238),IF(EFECTOS!$N$9=\"REPÚBLICA \nDOMINICANA\",LOOKUP(6,$Q$4:$W$4,Q238:W238),IF(EFECTOS!$N$9=\"PANAMÁ\",LOOKUP(7,GEfectos!$Q$4:$W$4,GEfectos!Q238:W238))))))))","v":213.53952857150617},100]
[null,{"$f":"'ITCER GLOBAL'!B239","v":"Junio"},{"$f":"'ITCER GLOBAL'!C239","v":82.953256162539191},{"$f":"'ITCER GLOBAL'!D239","v":104.60354401150555},{"$f":"'ITCER GLOBAL'!E239","v":66.640726467912742},{"$f":"'ITCER GLOBAL'!F239","v":84.946785579048893},{"$f":"'ITCER GLOBAL'!G239","v":112.33333486943201},{"$f":"'ITCER GLOBAL'!H239","v":146.65586459208382},{"$f":"'ITCER GLOBAL'!I239","v":99.58019715820852},{"$f":"'ITCER GLOBAL'!S239","v":177.47464416610202},{"$f":"'ITCER GLOBAL'!T239","v":95.072324071498784},{"$f":"'ITCER GLOBAL'!U239","v":97.616899916047785},{"$f":"'ITCER GLOBAL'!V239","v":138.95701766897045},{"$f":"'ITCER GLOBAL'!W239","v":197.79675762255425},{"$f":"'ITCER GLOBAL'!X239","v":264.42674278725781},{"$f":"'ITCER GLOBAL'!Y239","v":105.19592741329502},{"$f":"'ITCER GLOBAL'!AA239","v":213.94536197392537},{"$f":"'ITCER GLOBAL'!AB239","v":90.888243768338853},{"$f":"'ITCER GLOBAL'!AC239","v":146.48234659183967},{"$f":"'ITCER GLOBAL'!AD239","v":163.58125468992736},{"$f":"'ITCER GLOBAL'!AE239","v":176.0801972561917},{"$f":"'ITCER GLOBAL'!AF239","v":180.30424049031245},{"$f":"'ITCER GLOBAL'!AG239","v":105.63940463600861},null,{"$f":"IF(EFECTOS!$N$9=\"COSTA RICA\",LOOKUP(1,GEfectos!$C$4:$I$4,GEfectos!C239:I239),IF(EFECTOS!$N$9=\"EL SALVADOR\",LOOKUP(2,GEfectos!$C$4:$I$4,GEfectos!C239:I239),IF(EFECTOS!$N$9=\"GUATEMALA\",LOOKUP(3,GEfectos!$C$4:$I$4,GEfectos!C239:I239),IF(EFECTOS!$N$9=\"HONDURAS\",LOOKUP(4,GEfectos!$C$4:$I$4,GEfectos!C239:I239),IF(EFECTOS!$N$9=\"NICARAGUA\",LOOKUP(5,GEfectos!$C$4:$I$4,GEfectos!C239:I239),IF(EFECTOS!$N$9=\"REPÚBLICA \nDOMINICANA\",LOOKUP(6,$C$4:$I$4,C239:I239),IF(EFECTOS!$N$9=\"PANAMÁ\",LOOKUP(7,GEfectos!$C$4:$I$4,GEfectos!C239:I239))))))))","v":82.953256162539191},{"$f":"IF(EFECTOS!$N$9=\"COSTA RICA\",LOOKUP(1,GEfectos!$J$4:$P$4,GEfectos!J239:P239),IF(EFECTOS!$N$9=\"EL SALVADOR\",LOOKUP(2,GEfectos!$J$4:$P$4,GEfectos!J239:P239),IF(EFECTOS!$N$9=\"GUATEMALA\",LOOKUP(3,GEfectos!$J$4:$P$4,GEfectos!J239:P239),IF(EFECTOS!$N$9=\"HONDURAS\",LOOKUP(4,GEfectos!$J$4:$P$4,GEfectos!J239:P239),IF(EFECTOS!$N$9=\"NICARAGUA\",LOOKUP(5,GEfectos!$J$4:$P$4,GEfectos!J239:P239),IF(EFECTOS!$N$9=\"REPÚBLICA \nDOMINICANA\",LOOKUP(6,$J$4:$P$4,J239:P239),IF(EFECTOS!$N$9=\"PANAMÁ\",LOOKUP(7,GEfectos!$J$4:$P$4,GEfectos!J239:P239))))))))","v":177.47464416610202},{"$f":"IF(EFECTOS!$N$9=\"COSTA RICA\",LOOKUP(1,GEfectos!$Q$4:$W$4,GEfectos!Q239:W239),IF(EFECTOS!$N$9=\"EL SALVADOR\",LOOKUP(2,GEfectos!$Q$4:$W$4,GEfectos!Q239:W239),IF(EFECTOS!$N$9=\"GUATEMALA\",LOOKUP(3,GEfectos!$Q$4:$W$4,GEfectos!Q239:W239),IF(EFECTOS!$N$9=\"HONDURAS\",LOOKUP(4,GEfectos!$Q$4:$W$4,GEfectos!Q239:W239),IF(EFECTOS!$N$9=\"NICARAGUA\",LOOKUP(5,GEfectos!$Q$4:$W$4,GEfectos!Q239:W239),IF(EFECTOS!$N$9=\"REPÚBLICA \nDOMINICANA\",LOOKUP(6,$Q$4:$W$4,Q239:W239),IF(EFECTOS!$N$9=\"PANAMÁ\",LOOKUP(7,GEfectos!$Q$4:$W$4,GEfectos!Q239:W239))))))))","v":213.94536197392537},100]
[null,{"$f":"'ITCER GLOBAL'!B240","v":"Julio"},{"$f":"'ITCER GLOBAL'!C240","v":80.436383709738166},{"$f":"'ITCER GLOBAL'!D240","v":104.31586645918667},{"$f":"'ITCER GLOBAL'!E240","v":66.11259550785185},{"$f":"'ITCER GLOBAL'!F240","v":84.639238681597803},{"$f":"'ITCER GLOBAL'!G240","v":112.89400091673483},{"$f":"'ITCER GLOBAL'!H240","v":146.66827406476369},{"$f":"'ITCER GLOBAL'!I240","v":100.73559788321333},{"$f":"'ITCER GLOBAL'!S240","v":173.73102628793461},{"$f":"'ITCER GLOBAL'!T240","v":95.208615976670657},{"$f":"'ITCER GLOBAL'!U240","v":97.324623836448268},{"$f":"'ITCER GLOBAL'!V240","v":139.44835294096208},{"$f":"'ITCER GLOBAL'!W240","v":199.47545418244997},{"$f":"'ITCER GLOBAL'!X240","v":265.39153719763704},{"$f":"'ITCER GLOBAL'!Y240","v":105.47151051974662},{"$f":"'ITCER GLOBAL'!AA240","v":215.98562525493244},{"$f":"'ITCER GLOBAL'!AB240","v":91.269544325666701},{"$f":"'ITCER GLOBAL'!AC240","v":147.21041140320915},{"$f":"'ITCER GLOBAL'!AD240","v":164.75615224464542},{"$f":"'ITCER GLOBAL'!AE240","v":176.69269630152752},{"$f":"'ITCER GLOBAL'!AF240","v":180.94679226977826},{"$f":"'ITCER GLOBAL'!AG240","v":104.7013297543772},null,{"$f":"IF(EFECTOS!$N$9=\"COSTA RICA\",LOOKUP(1,GEfectos!$C$4:$I$4,GEfectos!C240:I240),IF(EFECTOS!$N$9=\"EL SALVADOR\",LOOKUP(2,GEfectos!$C$4:$I$4,GEfectos!C240:I240),IF(EFECTOS!$N$9=\"GUATEMALA\",LOOKUP(3,GEfectos!$C$4:$I$4,GEfectos!C240:I240),IF(EFECTOS!$N$9=\"HONDURAS\",LOOKUP(4,GEfectos!$C$4:$I$4,GEfectos!C240:I240),IF(EFECTOS!$N$9=\"NICARAGUA\",LOOKUP(5,GEfectos!$C$4:$I$4,GEfectos!C240:I240),IF(EFECTOS!$N$9=\"REPÚBLICA \nDOMINICANA\",LOOKUP(6,$C$4:$I$4,C240:I240),IF(EFECTOS!$N$9=\"PANAMÁ\",LOOKUP(7,GEfectos!$C$4:$I$4,GEfectos!C240:I240))))))))","v":80.436383709738166},{"$f":"IF(EFECTOS!$N$9=\"COSTA RICA\",LOOKUP(1,GEfectos!$J$4:$P$4,GEfectos!J240:P240),IF(EFECTOS!$N$9=\"EL SALVADOR\",LOOKUP(2,GEfectos!$J$4:$P$4,GEfectos!J240:P240),IF(EFECTOS!$N$9=\"GUATEMALA\",LOOKUP(3,GEfectos!$J$4:$P$4,GEfectos!J240:P240),IF(EFECTOS!$N$9=\"HONDURAS\",LOOKUP(4,GEfectos!$J$4:$P$4,GEfectos!J240:P240),IF(EFECTOS!$N$9=\"NICARAGUA\",LOOKUP(5,GEfectos!$J$4:$P$4,GEfectos!J240:P240),IF(EFECTOS!$N$9=\"REPÚBLICA \nDOMINICANA\",LOOKUP(6,$J$4:$P$4,J240:P240),IF(EFECTOS!$N$9=\"PANAMÁ\",LOOKUP(7,GEfectos!$J$4:$P$4,GEfectos!J240:P240))))))))","v":173.73102628793461},{"$f":"IF(EFECTOS!$N$9=\"COSTA RICA\",LOOKUP(1,GEfectos!$Q$4:$W$4,GEfectos!Q240:W240),IF(EFECTOS!$N$9=\"EL SALVADOR\",LOOKUP(2,GEfectos!$Q$4:$W$4,GEfectos!Q240:W240),IF(EFECTOS!$N$9=\"GUATEMALA\",LOOKUP(3,GEfectos!$Q$4:$W$4,GEfectos!Q240:W240),IF(EFECTOS!$N$9=\"HONDURAS\",LOOKUP(4,GEfectos!$Q$4:$W$4,GEfectos!Q240:W240),IF(EFECTOS!$N$9=\"NICARAGUA\",LOOKUP(5,GEfectos!$Q$4:$W$4,GEfectos!Q240:W240),IF(EFECTOS!$N$9=\"REPÚBLICA \nDOMINICANA\",LOOKUP(6,$Q$4:$W$4,Q240:W240),IF(EFECTOS!$N$9=\"PANAMÁ\",LOOKUP(7,GEfectos!$Q$4:$W$4,GEfectos!Q240:W240))))))))","v":215.98562525493244},100]
[null,{"$f":"'ITCER GLOBAL'!B241","v":"Agosto"},{"$f":"'ITCER GLOBAL'!C241","v":80.108863194099953},{"$f":"'ITCER GLOBAL'!D241","v":103.81801853313527},{"$f":"'ITCER GLOBAL'!E241","v":65.914318888046054},{"$f":"'ITCER GLOBAL'!F241","v":84.604236347273428},{"$f":"'ITCER GLOBAL'!G241","v":112.53592385938414},{"$f":"'ITCER GLOBAL'!H241","v":145.739627920396},{"$f":"'ITCER GLOBAL'!I241","v":100.15674300161058},{"$f":"'ITCER GLOBAL'!S241","v":173.56489260216898},{"$f":"'ITCER GLOBAL'!T241","v":94.922640534385749},{"$f":"'ITCER GLOBAL'!U241","v":97.383178207781341},{"$f":"'ITCER GLOBAL'!V241","v":139.50745723336144},{"$f":"'ITCER GLOBAL'!W241","v":199.23005368164527},{"$f":"'ITCER GLOBAL'!X241","v":264.67941687678342},{"$f":"'ITCER GLOBAL'!Y241","v":104.9654188656455},{"$f":"'ITCER GLOBAL'!AA241","v":216.66128525832343},{"$f":"'ITCER GLOBAL'!AB241","v":91.431759029469049},{"$f":"'ITCER GLOBAL'!AC241","v":147.74206856811253},{"$f":"'ITCER GLOBAL'!AD241","v":164.89417463769519},{"$f":"'ITCER GLOBAL'!AE241","v":177.03684907815494},{"$f":"'ITCER GLOBAL'!AF241","v":181.61115178731836},{"$f":"'ITCER GLOBAL'!AG241","v":104.80115039679117},null,{"$f":"IF(EFECTOS!$N$9=\"COSTA RICA\",LOOKUP(1,GEfectos!$C$4:$I$4,GEfectos!C241:I241),IF(EFECTOS!$N$9=\"EL SALVADOR\",LOOKUP(2,GEfectos!$C$4:$I$4,GEfectos!C241:I241),IF(EFECTOS!$N$9=\"GUATEMALA\",LOOKUP(3,GEfectos!$C$4:$I$4,GEfectos!C241:I241),IF(EFECTOS!$N$9=\"HONDURAS\",LOOKUP(4,GEfectos!$C$4:$I$4,GEfectos!C241:I241),IF(EFECTOS!$N$9=\"NICARAGUA\",LOOKUP(5,GEfectos!$C$4:$I$4,GEfectos!C241:I241),IF(EFECTOS!$N$9=\"REPÚBLICA \nDOMINICANA\",LOOKUP(6,$C$4:$I$4,C241:I241),IF(EFECTOS!$N$9=\"PANAMÁ\",LOOKUP(7,GEfectos!$C$4:$I$4,GEfectos!C241:I241))))))))","v":80.108863194099953},{"$f":"IF(EFECTOS!$N$9=\"COSTA RICA\",LOOKUP(1,GEfectos!$J$4:$P$4,GEfectos!J241:P241),IF(EFECTOS!$N$9=\"EL SALVADOR\",LOOKUP(2,GEfectos!$J$4:$P$4,GEfectos!J241:P241),IF(EFECTOS!$N$9=\"GUATEMALA\",LOOKUP(3,GEfectos!$J$4:$P$4,GEfectos!J241:P241),IF(EFECTOS!$N$9=\"HONDURAS\",LOOKUP(4,GEfectos!$J$4:$P$4,GEfectos!J241:P241),IF(EFECTOS!$N$9=\"NICARAGUA\",LOOKUP(5,GEfectos!$J$4:$P$4,GEfectos!J241:P241),IF(EFECTOS!$N$9=\"REPÚBLICA \nDOMINICANA\",LOOKUP(6,$J$4:$P$4,J241:P241),IF(EFECTOS!$N$9=\"PANAMÁ\",LOOKUP(7,GEfectos!$J$4:$P$4,GEfectos!J241:P241))))))))","v":173.56489260216898},{"$f":"IF(EFECTOS!$N$9=\"COSTA RICA\",LOOKUP(1,GEfectos!$Q$4:$W$4,GEfectos!Q241:W241),IF(EFECTOS!$N$9=\"EL SALVADOR\",LOOKUP(2,GEfectos!$Q$4:$W$4,GEfectos!Q241:W241),IF(EFECTOS!$N$9=\"GUATEMALA\",LOOKUP(3,GEfectos!$Q$4:$W$4,GEfectos!Q241:W241),IF(EFECTOS!$N$9=\"HONDURAS\",LOOKUP(4,GEfectos!$Q$4:$W$4,GEfectos!Q241:W241),IF(EFECTOS!$N$9=\"NICARAGUA\",LOOKUP(5,GEfectos!$Q$4:$W$4,GEfectos!Q241:W241),IF(EFECTOS!$N$9=\"REPÚBLICA \nDOMINICANA\",LOOKUP(6,$Q$4:$W$4,Q241:W241),IF(EFECTOS!$N$9=\"PANAMÁ\",LOOKUP(7,GEfectos!$Q$4:$W$4,GEfectos!Q241:W241))))))))","v":216.66128525832343},100]
[null,{"$f":"'ITCER GLOBAL'!B242","v":"Septiembre"},{"$f":"'ITCER GLOBAL'!C242","v":79.91645438005186},{"$f":"'ITCER GLOBAL'!D242","v":103.76222016784448},{"$f":"'ITCER GLOBAL'!E242","v":64.899213097466031},{"$f":"'ITCER GLOBAL'!F242","v":84.687029731926728},{"$f":"'ITCER GLOBAL'!G242","v":112.50387305034951},{"$f":"'ITCER GLOBAL'!H242","v":145.43117913372356},{"$f":"'ITCER GLOBAL'!I242","v":99.104637672392357},{"$f":"'ITCER GLOBAL'!S242","v":172.5723500017636},{"$f":"'ITCER GLOBAL'!T242","v":94.625256248013969},{"$f":"'ITCER GLOBAL'!U242","v":95.777990253294107},{"$f":"'ITCER GLOBAL'!V242","v":139.58945988066711},{"$f":"'ITCER GLOBAL'!W242","v":198.6293413428784},{"$f":"'ITCER GLOBAL'!X242","v":264.08941943550622},{"$f":"'ITCER GLOBAL'!Y242","v":103.99319818249782},{"$f":"'ITCER GLOBAL'!AA242","v":215.94094900791768},{"$f":"'ITCER GLOBAL'!AB242","v":91.194324962350777},{"$f":"'ITCER GLOBAL'!AC242","v":147.57958638027571},{"$f":"'ITCER GLOBAL'!AD242","v":164.82979781264231},{"$f":"'ITCER GLOBAL'!AE242","v":176.55333630512851},{"$f":"'ITCER GLOBAL'!AF242","v":181.59064721099233},{"$f":"'ITCER GLOBAL'!AG242","v":104.93272628296715},null,{"$f":"IF(EFECTOS!$N$9=\"COSTA RICA\",LOOKUP(1,GEfectos!$C$4:$I$4,GEfectos!C242:I242),IF(EFECTOS!$N$9=\"EL SALVADOR\",LOOKUP(2,GEfectos!$C$4:$I$4,GEfectos!C242:I242),IF(EFECTOS!$N$9=\"GUATEMALA\",LOOKUP(3,GEfectos!$C$4:$I$4,GEfectos!C242:I242),IF(EFECTOS!$N$9=\"HONDURAS\",LOOKUP(4,GEfectos!$C$4:$I$4,GEfectos!C242:I242),IF(EFECTOS!$N$9=\"NICARAGUA\",LOOKUP(5,GEfectos!$C$4:$I$4,GEfectos!C242:I242),IF(EFECTOS!$N$9=\"REPÚBLICA \nDOMINICANA\",LOOKUP(6,$C$4:$I$4,C242:I242),IF(EFECTOS!$N$9=\"PANAMÁ\",LOOKUP(7,GEfectos!$C$4:$I$4,GEfectos!C242:I242))))))))","v":79.91645438005186},{"$f":"IF(EFECTOS!$N$9=\"COSTA RICA\",LOOKUP(1,GEfectos!$J$4:$P$4,GEfectos!J242:P242),IF(EFECTOS!$N$9=\"EL SALVADOR\",LOOKUP(2,GEfectos!$J$4:$P$4,GEfectos!J242:P242),IF(EFECTOS!$N$9=\"GUATEMALA\",LOOKUP(3,GEfectos!$J$4:$P$4,GEfectos!J242:P242),IF(EFECTOS!$N$9=\"HONDURAS\",LOOKUP(4,GEfectos!$J$4:$P$4,GEfectos!J242:P242),IF(EFECTOS!$N$9=\"NICARAGUA\",LOOKUP(5,GEfectos!$J$4:$P$4,GEfectos!J242:P242),IF(EFECTOS!$N$9=\"REPÚBLICA \nDOMINICANA\",LOOKUP(6,$J$4:$P$4,J242:P242),IF(EFECTOS!$N$9=\"PANAMÁ\",LOOKUP(7,GEfectos!$J$4:$P$4,GEfectos!J242:P242))))))))","v":172.5723500017636},{"$f":"IF(EFECTOS!$N$9=\"COSTA RICA\",LOOKUP(1,GEfectos!$Q$4:$W$4,GEfectos!Q242:W242),IF(EFECTOS!$N$9=\"EL SALVADOR\",LOOKUP(2,GEfectos!$Q$4:$W$4,GEfectos!Q242:W242),IF(EFECTOS!$N$9=\"GUATEMALA\",LOOKUP(3,GEfectos!$Q$4:$W$4,GEfectos!Q242:W242),IF(EFECTOS!$N$9=\"HONDURAS\",LOOKUP(4,GEfectos!$Q$4:$W$4,GEfectos!Q242:W242),IF(EFECTOS!$N$9=\"NICARAGUA\",LOOKUP(5,GEfectos!$Q$4:$W$4,GEfectos!Q242:W242),IF(EFECTOS!$N$9=\"REPÚBLICA \nDOMINICANA\",LOOKUP(6,$Q$4:$W$4,Q242:W242),IF(EFECTOS!$N$9=\"PANAMÁ\",LOOKUP(7,GEfectos!$Q$4:$W$4,GEfectos!Q242:W242))))))))","v":215.94094900791768},100]
[null,{"$f":"'ITCER GLOBAL'!B243","v":"Octubre"},{"$f":"'ITCER GLOBAL'!C243","v":79.649606743214932},{"$f":"'ITCER GLOBAL'!D243","v":103.34608589070039},{"$f":"'ITCER GLOBAL'!E243","v":63.730563083667803},{"$f":"'ITCER GLOBAL'!F243","v":84.556646796172146},{"$f":"'ITCER GLOBAL'!G243","v":112.25442603085001},{"$f":"'ITCER GLOBAL'!H243","v":145.2040224844888},{"$f":"'ITCER GLOBAL'!I243","v":98.393586506102679},{"$f":"'ITCER GLOBAL'!S243","v":171.6594178416093},{"$f":"'ITCER GLOBAL'!T243","v":94.343009339382462},{"$f":"'ITCER GLOBAL'!U243","v":94.246469707070574},{"$f":"'ITCER GLOBAL'!V243","v":139.8905462171156},{"$f":"'ITCER GLOBAL'!W243","v":198.59137242972963},{"$f":"'ITCER GLOBAL'!X243","v":263.61845017662421},{"$f":"'ITCER GLOBAL'!Y243","v":103.22993269308702},{"$f":"'ITCER GLOBAL'!AA243","v":215.51822395687142},{"$f":"'ITCER GLOBAL'!AB243","v":91.288420385035522},{"$f":"'ITCER GLOBAL'!AC243","v":147.88268790806129},{"$f":"'ITCER GLOBAL'!AD243","v":165.44003519241778},{"$f":"'ITCER GLOBAL'!AE243","v":176.91184165437923},{"$f":"'ITCER GLOBAL'!AF243","v":181.55037695652328},{"$f":"'ITCER GLOBAL'!AG243","v":104.91530633115438},null,{"$f":"IF(EFECTOS!$N$9=\"COSTA RICA\",LOOKUP(1,GEfectos!$C$4:$I$4,GEfectos!C243:I243),IF(EFECTOS!$N$9=\"EL SALVADOR\",LOOKUP(2,GEfectos!$C$4:$I$4,GEfectos!C243:I243),IF(EFECTOS!$N$9=\"GUATEMALA\",LOOKUP(3,GEfectos!$C$4:$I$4,GEfectos!C243:I243),IF(EFECTOS!$N$9=\"HONDURAS\",LOOKUP(4,GEfectos!$C$4:$I$4,GEfectos!C243:I243),IF(EFECTOS!$N$9=\"NICARAGUA\",LOOKUP(5,GEfectos!$C$4:$I$4,GEfectos!C243:I243),IF(EFECTOS!$N$9=\"REPÚBLICA \nDOMINICANA\",LOOKUP(6,$C$4:$I$4,C243:I243),IF(EFECTOS!$N$9=\"PANAMÁ\",LOOKUP(7,GEfectos!$C$4:$I$4,GEfectos!C243:I243))))))))","v":79.649606743214932},{"$f":"IF(EFECTOS!$N$9=\"COSTA RICA\",LOOKUP(1,GEfectos!$J$4:$P$4,GEfectos!J243:P243),IF(EFECTOS!$N$9=\"EL SALVADOR\",LOOKUP(2,GEfectos!$J$4:$P$4,GEfectos!J243:P243),IF(EFECTOS!$N$9=\"GUATEMALA\",LOOKUP(3,GEfectos!$J$4:$P$4,GEfectos!J243:P243),IF(EFECTOS!$N$9=\"HONDURAS\",LOOKUP(4,GEfectos!$J$4:$P$4,GEfectos!J243:P243),IF(EFECTOS!$N$9=\"NICARAGUA\",LOOKUP(5,GEfectos!$J$4:$P$4,GEfectos!J243:P243),IF(EFECTOS!$N$9=\"REPÚBLICA \nDOMINICANA\",LOOKUP(6,$J$4:$P$4,J243:P243),IF(EFECTOS!$N$9=\"PANAMÁ\",LOOKUP(7,GEfectos!$J$4:$P$4,GEfectos!J243:P243))))))))","v":171.6594178416093},{"$f":"IF(EFECTOS!$N$9=\"COSTA RICA\",LOOKUP(1,GEfectos!$Q$4:$W$4,GEfectos!Q243:W243),IF(EFECTOS!$N$9=\"EL SALVADOR\",LOOKUP(2,GEfectos!$Q$4:$W$4,GEfectos!Q243:W243),IF(EFECTOS!$N$9=\"GUATEMALA\",LOOKUP(3,GEfectos!$Q$4:$W$4,GEfectos!Q243:W243),IF(EFECTOS!$N$9=\"HONDURAS\",LOOKUP(4,GEfectos!$Q$4:$W$4,GEfectos!Q243:W243),IF(EFECTOS!$N$9=\"NICARAGUA\",LOOKUP(5,GEfectos!$Q$4:$W$4,GEfectos!Q243:W243),IF(EFECTOS!$N$9=\"REPÚBLICA \nDOMINICANA\",LOOKUP(6,$Q$4:$W$4,Q243:W243),IF(EFECTOS!$N$9=\"PANAMÁ\",LOOKUP(7,GEfectos!$Q$4:$W$4,GEfectos!Q243:W243))))))))","v":215.51822395687142},100]
[null,{"$f":"'ITCER GLOBAL'!B244","v":"Noviembre"},{"$f":"'ITCER GLOBAL'!C244","v":78.332018694614433},{"$f":"'ITCER GLOBAL'!D244","v":103.32104220541451},{"$f":"'ITCER GLOBAL'!E244","v":62.911928147542739},{"$f":"'ITCER GLOBAL'!F244","v":83.942103424727989},{"$f":"'ITCER GLOBAL'!G244","v":110.20635402121016},{"$f":"'ITCER GLOBAL'!H244","v":144.83127273749793},{"$f":"'ITCER GLOBAL'!I244","v":97.636642859237739},{"$f":"'ITCER GLOBAL'!S244","v":169.85479143839694},{"$f":"'ITCER GLOBAL'!T244","v":93.952071245535436},{"$f":"'ITCER GLOBAL'!U244","v":93.392084215007415},{"$f":"'ITCER GLOBAL'!V244","v":139.68737159634793},{"$f":"'ITCER GLOBAL'!W244","v":197.95390157510801},{"$f":"'ITCER GLOBAL'!X244","v":263.25116369390594},{"$f":"'ITCER GLOBAL'!Y244","v":102.2421002886509},{"$f":"'ITCER GLOBAL'!AA244","v":216.83954309998521},{"$f":"'ITCER GLOBAL'!AB244","v":90.932175324700609},{"$f":"'ITCER GLOBAL'!AC244","v":148.4489300597842},{"$f":"'ITCER GLOBAL'!AD244","v":166.40918668616337},{"$f":"'ITCER GLOBAL'!AE244","v":179.62113285864632},{"$f":"'ITCER GLOBAL'!AF244","v":181.76403391209595},{"$f":"'ITCER GLOBAL'!AG244","v":104.71693546044267},null,{"$f":"IF(EFECTOS!$N$9=\"COSTA RICA\",LOOKUP(1,GEfectos!$C$4:$I$4,GEfectos!C244:I244),IF(EFECTOS!$N$9=\"EL SALVADOR\",LOOKUP(2,GEfectos!$C$4:$I$4,GEfectos!C244:I244),IF(EFECTOS!$N$9=\"GUATEMALA\",LOOKUP(3,GEfectos!$C$4:$I$4,GEfectos!C244:I244),IF(EFECTOS!$N$9=\"HONDURAS\",LOOKUP(4,GEfectos!$C$4:$I$4,GEfectos!C244:I244),IF(EFECTOS!$N$9=\"NICARAGUA\",LOOKUP(5,GEfectos!$C$4:$I$4,GEfectos!C244:I244),IF(EFECTOS!$N$9=\"REPÚBLICA \nDOMINICANA\",LOOKUP(6,$C$4:$I$4,C244:I244),IF(EFECTOS!$N$9=\"PANAMÁ\",LOOKUP(7,GEfectos!$C$4:$I$4,GEfectos!C244:I244))))))))","v":78.332018694614433},{"$f":"IF(EFECTOS!$N$9=\"COSTA RICA\",LOOKUP(1,GEfectos!$J$4:$P$4,GEfectos!J244:P244),IF(EFECTOS!$N$9=\"EL SALVADOR\",LOOKUP(2,GEfectos!$J$4:$P$4,GEfectos!J244:P244),IF(EFECTOS!$N$9=\"GUATEMALA\",LOOKUP(3,GEfectos!$J$4:$P$4,GEfectos!J244:P244),IF(EFECTOS!$N$9=\"HONDURAS\",LOOKUP(4,GEfectos!$J$4:$P$4,GEfectos!J244:P244),IF(EFECTOS!$N$9=\"NICARAGUA\",LOOKUP(5,GEfectos!$J$4:$P$4,GEfectos!J244:P244),IF(EFECTOS!$N$9=\"REPÚBLICA \nDOMINICANA\",LOOKUP(6,$J$4:$P$4,J244:P244),IF(EFECTOS!$N$9=\"PANAMÁ\",LOOKUP(7,GEfectos!$J$4:$P$4,GEfectos!J244:P244))))))))","v":169.85479143839694},{"$f":"IF(EFECTOS!$N$9=\"COSTA RICA\",LOOKUP(1,GEfectos!$Q$4:$W$4,GEfectos!Q244:W244),IF(EFECTOS!$N$9=\"EL SALVADOR\",LOOKUP(2,GEfectos!$Q$4:$W$4,GEfectos!Q244:W244),IF(EFECTOS!$N$9=\"GUATEMALA\",LOOKUP(3,GEfectos!$Q$4:$W$4,GEfectos!Q244:W244),IF(EFECTOS!$N$9=\"HONDURAS\",LOOKUP(4,GEfectos!$Q$4:$W$4,GEfectos!Q244:W244),IF(EFECTOS!$N$9=\"NICARAGUA\",LOOKUP(5,GEfectos!$Q$4:$W$4,GEfectos!Q244:W244),IF(EFECTOS!$N$9=\"REPÚBLICA \nDOMINICANA\",LOOKUP(6,$Q$4:$W$4,Q244:W244),IF(EFECTOS!$N$9=\"PANAMÁ\",LOOKUP(7,GEfectos!$Q$4:$W$4,GEfectos!Q244:W244))))))))","v":216.83954309998521},100]
[null,{"$f":"'ITCER GLOBAL'!B245","v":"Diciembre"},{"$f":"'ITCER GLOBAL'!C245","v":77.269631571152374},{"$f":"'ITCER GLOBAL'!D245","v":103.05129935739458},{"$f":"'ITCER GLOBAL'!E245","v":62.090563252509355},{"$f":"'ITCER GLOBAL'!F245","v":83.637776250187486},{"$f":"'ITCER GLOBAL'!G245","v":109.09017631351513},{"$f":"'ITCER GLOBAL'!H245","v":144.45054485130569},{"$f":"'ITCER GLOBAL'!I245","v":96.475779596065024},{"$f":"'ITCER GLOBAL'!S245","v":167.63728270255356},{"$f":"'ITCER GLOBAL'!T245","v":93.182103301356932},{"$f":"'ITCER GLOBAL'!U245","v":92.318739032817859},{"$f":"'ITCER GLOBAL'!V245","v":139.26191172901369},{"$f":"'ITCER GLOBAL'!W245","v":196.23484715811651},{"$f":"'ITCER GLOBAL'!X245","v":261.29158527159962},{"$f":"'ITCER GLOBAL'!Y245","v":100.82690802827486},{"$f":"'ITCER GLOBAL'!AA245","v":216.9510573480446},{"$f":"'ITCER GLOBAL'!AB245","v":90.423026087414911},{"$f":"'ITCER GLOBAL'!AC245","v":148.68400960928125},{"$f":"'ITCER GLOBAL'!AD245","v":166.50599522449824},{"$f":"'ITCER GLOBAL'!AE245","v":179.88315152608754},{"$f":"'ITCER GLOBAL'!AF245","v":180.88653493177722},{"$f":"'ITCER GLOBAL'!AG245","v":104.51007335771484},null,{"$f":"IF(EFECTOS!$N$9=\"COSTA RICA\",LOOKUP(1,GEfectos!$C$4:$I$4,GEfectos!C245:I245),IF(EFECTOS!$N$9=\"EL SALVADOR\",LOOKUP(2,GEfectos!$C$4:$I$4,GEfectos!C245:I245),IF(EFECTOS!$N$9=\"GUATEMALA\",LOOKUP(3,GEfectos!$C$4:$I$4,GEfectos!C245:I245),IF(EFECTOS!$N$9=\"HONDURAS\",LOOKUP(4,GEfectos!$C$4:$I$4,GEfectos!C245:I245),IF(EFECTOS!$N$9=\"NICARAGUA\",LOOKUP(5,GEfectos!$C$4:$I$4,GEfectos!C245:I245),IF(EFECTOS!$N$9=\"REPÚBLICA \nDOMINICANA\",LOOKUP(6,$C$4:$I$4,C245:I245),IF(EFECTOS!$N$9=\"PANAMÁ\",LOOKUP(7,GEfectos!$C$4:$I$4,GEfectos!C245:I245))))))))","v":77.269631571152374},{"$f":"IF(EFECTOS!$N$9=\"COSTA RICA\",LOOKUP(1,GEfectos!$J$4:$P$4,GEfectos!J245:P245),IF(EFECTOS!$N$9=\"EL SALVADOR\",LOOKUP(2,GEfectos!$J$4:$P$4,GEfectos!J245:P245),IF(EFECTOS!$N$9=\"GUATEMALA\",LOOKUP(3,GEfectos!$J$4:$P$4,GEfectos!J245:P245),IF(EFECTOS!$N$9=\"HONDURAS\",LOOKUP(4,GEfectos!$J$4:$P$4,GEfectos!J245:P245),IF(EFECTOS!$N$9=\"NICARAGUA\",LOOKUP(5,GEfectos!$J$4:$P$4,GEfectos!J245:P245),IF(EFECTOS!$N$9=\"REPÚBLICA \nDOMINICANA\",LOOKUP(6,$J$4:$P$4,J245:P245),IF(EFECTOS!$N$9=\"PANAMÁ\",LOOKUP(7,GEfectos!$J$4:$P$4,GEfectos!J245:P245))))))))","v":167.63728270255356},{"$f":"IF(EFECTOS!$N$9=\"COSTA RICA\",LOOKUP(1,GEfectos!$Q$4:$W$4,GEfectos!Q245:W245),IF(EFECTOS!$N$9=\"EL SALVADOR\",LOOKUP(2,GEfectos!$Q$4:$W$4,GEfectos!Q245:W245),IF(EFECTOS!$N$9=\"GUATEMALA\",LOOKUP(3,GEfectos!$Q$4:$W$4,GEfectos!Q245:W245),IF(EFECTOS!$N$9=\"HONDURAS\",LOOKUP(4,GEfectos!$Q$4:$W$4,GEfectos!Q245:W245),IF(EFECTOS!$N$9=\"NICARAGUA\",LOOKUP(5,GEfectos!$Q$4:$W$4,GEfectos!Q245:W245),IF(EFECTOS!$N$9=\"REPÚBLICA \nDOMINICANA\",LOOKUP(6,$Q$4:$W$4,Q245:W245),IF(EFECTOS!$N$9=\"PANAMÁ\",LOOKUP(7,GEfectos!$Q$4:$W$4,GEfectos!Q245:W245))))))))","v":216.9510573480446},100]
[2015,{"$f":"'ITCER GLOBAL'!B246","v":"Enero"},{"$f":"'ITCER GLOBAL'!C246","v":76.820213588408521},{"$f":"'ITCER GLOBAL'!D246","v":103.02463393912802},{"$f":"'ITCER GLOBAL'!E246","v":62.150394265990393},{"$f":"'ITCER GLOBAL'!F246","v":83.655865561439782},{"$f":"'ITCER GLOBAL'!G246","v":106.85095577040786},{"$f":"'ITCER GLOBAL'!H246","v":140.7903895096444},{"$f":"'ITCER GLOBAL'!I246","v":95.319416229816824},{"$f":"'ITCER GLOBAL'!S246","v":167.39228237004374},{"$f":"'ITCER GLOBAL'!T246","v":93.150789962466035},{"$f":"'ITCER GLOBAL'!U246","v":92.735510983208485},{"$f":"'ITCER GLOBAL'!V246","v":139.03251758125498},{"$f":"'ITCER GLOBAL'!W246","v":193.60178524846194},{"$f":"'ITCER GLOBAL'!X246","v":263.77644212299191},{"$f":"'ITCER GLOBAL'!Y246","v":101.55983635780204},{"$f":"'ITCER GLOBAL'!AA246","v":217.90134985422861},{"$f":"'ITCER GLOBAL'!AB246","v":90.416035855564473},{"$f":"'ITCER GLOBAL'!AC246","v":149.21146048779727},{"$f":"'ITCER GLOBAL'!AD246","v":166.19577915806113},{"$f":"'ITCER GLOBAL'!AE246","v":181.18863219572577},{"$f":"'ITCER GLOBAL'!AF246","v":187.35401119472203},{"$f":"'ITCER GLOBAL'!AG246","v":106.54685097204064},null,{"$f":"IF(EFECTOS!$N$9=\"COSTA RICA\",LOOKUP(1,GEfectos!$C$4:$I$4,GEfectos!C246:I246),IF(EFECTOS!$N$9=\"EL SALVADOR\",LOOKUP(2,GEfectos!$C$4:$I$4,GEfectos!C246:I246),IF(EFECTOS!$N$9=\"GUATEMALA\",LOOKUP(3,GEfectos!$C$4:$I$4,GEfectos!C246:I246),IF(EFECTOS!$N$9=\"HONDURAS\",LOOKUP(4,GEfectos!$C$4:$I$4,GEfectos!C246:I246),IF(EFECTOS!$N$9=\"NICARAGUA\",LOOKUP(5,GEfectos!$C$4:$I$4,GEfectos!C246:I246),IF(EFECTOS!$N$9=\"REPÚBLICA \nDOMINICANA\",LOOKUP(6,$C$4:$I$4,C246:I246),IF(EFECTOS!$N$9=\"PANAMÁ\",LOOKUP(7,GEfectos!$C$4:$I$4,GEfectos!C246:I246))))))))","v":76.820213588408521},{"$f":"IF(EFECTOS!$N$9=\"COSTA RICA\",LOOKUP(1,GEfectos!$J$4:$P$4,GEfectos!J246:P246),IF(EFECTOS!$N$9=\"EL SALVADOR\",LOOKUP(2,GEfectos!$J$4:$P$4,GEfectos!J246:P246),IF(EFECTOS!$N$9=\"GUATEMALA\",LOOKUP(3,GEfectos!$J$4:$P$4,GEfectos!J246:P246),IF(EFECTOS!$N$9=\"HONDURAS\",LOOKUP(4,GEfectos!$J$4:$P$4,GEfectos!J246:P246),IF(EFECTOS!$N$9=\"NICARAGUA\",LOOKUP(5,GEfectos!$J$4:$P$4,GEfectos!J246:P246),IF(EFECTOS!$N$9=\"REPÚBLICA \nDOMINICANA\",LOOKUP(6,$J$4:$P$4,J246:P246),IF(EFECTOS!$N$9=\"PANAMÁ\",LOOKUP(7,GEfectos!$J$4:$P$4,GEfectos!J246:P246))))))))","v":167.39228237004374},{"$f":"IF(EFECTOS!$N$9=\"COSTA RICA\",LOOKUP(1,GEfectos!$Q$4:$W$4,GEfectos!Q246:W246),IF(EFECTOS!$N$9=\"EL SALVADOR\",LOOKUP(2,GEfectos!$Q$4:$W$4,GEfectos!Q246:W246),IF(EFECTOS!$N$9=\"GUATEMALA\",LOOKUP(3,GEfectos!$Q$4:$W$4,GEfectos!Q246:W246),IF(EFECTOS!$N$9=\"HONDURAS\",LOOKUP(4,GEfectos!$Q$4:$W$4,GEfectos!Q246:W246),IF(EFECTOS!$N$9=\"NICARAGUA\",LOOKUP(5,GEfectos!$Q$4:$W$4,GEfectos!Q246:W246),IF(EFECTOS!$N$9=\"REPÚBLICA \nDOMINICANA\",LOOKUP(6,$Q$4:$W$4,Q246:W246),IF(EFECTOS!$N$9=\"PANAMÁ\",LOOKUP(7,GEfectos!$Q$4:$W$4,GEfectos!Q246:W246))))))))","v":217.90134985422861},100]
[null,{"$f":"'ITCER GLOBAL'!B247","v":"Febrero"},{"$f":"'ITCER GLOBAL'!C247","v":76.754859727886242},{"$f":"'ITCER GLOBAL'!D247","v":103.14789292031759},{"$f":"'ITCER GLOBAL'!E247","v":61.868494035721156},{"$f":"'ITCER GLOBAL'!F247","v":83.68874694662415},{"$f":"'ITCER GLOBAL'!G247","v":106.05648788168045},{"$f":"'ITCER GLOBAL'!H247","v":141.15499615135968},{"$f":"'ITCER GLOBAL'!I247","v":95.785367648673699},{"$f":"'ITCER GLOBAL'!S247","v":166.17508385128798},{"$f":"'ITCER GLOBAL'!T247","v":92.725800666746721},{"$f":"'ITCER GLOBAL'!U247","v":92.234409115089107},{"$f":"'ITCER GLOBAL'!V247","v":139.41703234735238},{"$f":"'ITCER GLOBAL'!W247","v":192.71049330756767},{"$f":"'ITCER GLOBAL'!X247","v":263.60367568822545},{"$f":"'ITCER GLOBAL'!Y247","v":100.72796085679241},{"$f":"'ITCER GLOBAL'!AA247","v":216.5010586175483},{"$f":"'ITCER GLOBAL'!AB247","v":89.895971736793484},{"$f":"'ITCER GLOBAL'!AC247","v":149.08138714647799},{"$f":"'ITCER GLOBAL'!AD247","v":166.58993883164624},{"$f":"'ITCER GLOBAL'!AE247","v":181.70552047938907},{"$f":"'ITCER GLOBAL'!AF247","v":186.74767657927231},{"$f":"'ITCER GLOBAL'!AG247","v":105.1600712399491},null,{"$f":"IF(EFECTOS!$N$9=\"COSTA RICA\",LOOKUP(1,GEfectos!$C$4:$I$4,GEfectos!C247:I247),IF(EFECTOS!$N$9=\"EL SALVADOR\",LOOKUP(2,GEfectos!$C$4:$I$4,GEfectos!C247:I247),IF(EFECTOS!$N$9=\"GUATEMALA\",LOOKUP(3,GEfectos!$C$4:$I$4,GEfectos!C247:I247),IF(EFECTOS!$N$9=\"HONDURAS\",LOOKUP(4,GEfectos!$C$4:$I$4,GEfectos!C247:I247),IF(EFECTOS!$N$9=\"NICARAGUA\",LOOKUP(5,GEfectos!$C$4:$I$4,GEfectos!C247:I247),IF(EFECTOS!$N$9=\"REPÚBLICA \nDOMINICANA\",LOOKUP(6,$C$4:$I$4,C247:I247),IF(EFECTOS!$N$9=\"PANAMÁ\",LOOKUP(7,GEfectos!$C$4:$I$4,GEfectos!C247:I247))))))))","v":76.754859727886242},{"$f":"IF(EFECTOS!$N$9=\"COSTA RICA\",LOOKUP(1,GEfectos!$J$4:$P$4,GEfectos!J247:P247),IF(EFECTOS!$N$9=\"EL SALVADOR\",LOOKUP(2,GEfectos!$J$4:$P$4,GEfectos!J247:P247),IF(EFECTOS!$N$9=\"GUATEMALA\",LOOKUP(3,GEfectos!$J$4:$P$4,GEfectos!J247:P247),IF(EFECTOS!$N$9=\"HONDURAS\",LOOKUP(4,GEfectos!$J$4:$P$4,GEfectos!J247:P247),IF(EFECTOS!$N$9=\"NICARAGUA\",LOOKUP(5,GEfectos!$J$4:$P$4,GEfectos!J247:P247),IF(EFECTOS!$N$9=\"REPÚBLICA \nDOMINICANA\",LOOKUP(6,$J$4:$P$4,J247:P247),IF(EFECTOS!$N$9=\"PANAMÁ\",LOOKUP(7,GEfectos!$J$4:$P$4,GEfectos!J247:P247))))))))","v":166.17508385128798},{"$f":"IF(EFECTOS!$N$9=\"COSTA RICA\",LOOKUP(1,GEfectos!$Q$4:$W$4,GEfectos!Q247:W247),IF(EFECTOS!$N$9=\"EL SALVADOR\",LOOKUP(2,GEfectos!$Q$4:$W$4,GEfectos!Q247:W247),IF(EFECTOS!$N$9=\"GUATEMALA\",LOOKUP(3,GEfectos!$Q$4:$W$4,GEfectos!Q247:W247),IF(EFECTOS!$N$9=\"HONDURAS\",LOOKUP(4,GEfectos!$Q$4:$W$4,GEfectos!Q247:W247),IF(EFECTOS!$N$9=\"NICARAGUA\",LOOKUP(5,GEfectos!$Q$4:$W$4,GEfectos!Q247:W247),IF(EFECTOS!$N$9=\"REPÚBLICA \nDOMINICANA\",LOOKUP(6,$Q$4:$W$4,Q247:W247),IF(EFECTOS!$N$9=\"PANAMÁ\",LOOKUP(7,GEfectos!$Q$4:$W$4,GEfectos!Q247:W247))))))))","v":216.5010586175483},100]
[null,{"$f":"'ITCER GLOBAL'!B248","v":"Marzo"},{"$f":"'ITCER GLOBAL'!C248","v":75.789963747810773},{"$f":"'ITCER GLOBAL'!D248","v":102.54404518776643},{"$f":"'ITCER GLOBAL'!E248","v":61.386362547430096},{"$f":"'ITCER GLOBAL'!F248","v":83.072790124572961},{"$f":"'ITCER GLOBAL'!G248","v":105.53812973177948},{"$f":"'ITCER GLOBAL'!H248","v":140.05913228408099},{"$f":"'ITCER GLOBAL'!I248","v":94.034977602889512},{"$f":"'ITCER GLOBAL'!S248","v":163.51681391284779},{"$f":"'ITCER GLOBAL'!T248","v":92.21252724731518},{"$f":"'ITCER GLOBAL'!U248","v":91.267351080571103},{"$f":"'ITCER GLOBAL'!V248","v":138.63279832776527},{"$f":"'ITCER GLOBAL'!W248","v":191.72606486778841},{"$f":"'ITCER GLOBAL'!X248","v":260.6401674892125},{"$f":"'ITCER GLOBAL'!Y248","v":99.332828308372598},{"$f":"'ITCER GLOBAL'!AA248","v":215.74995662611204},{"$f":"'ITCER GLOBAL'!AB248","v":89.924799707741769},{"$f":"'ITCER GLOBAL'!AC248","v":148.67691665238107},{"$f":"'ITCER GLOBAL'!AD248","v":166.88111488716885},{"$f":"'ITCER GLOBAL'!AE248","v":181.6652098678002},{"$f":"'ITCER GLOBAL'!AF248","v":186.09294748489361},{"$f":"'ITCER GLOBAL'!AG248","v":105.6339149968812},null,{"$f":"IF(EFECTOS!$N$9=\"COSTA RICA\",LOOKUP(1,GEfectos!$C$4:$I$4,GEfectos!C248:I248),IF(EFECTOS!$N$9=\"EL SALVADOR\",LOOKUP(2,GEfectos!$C$4:$I$4,GEfectos!C248:I248),IF(EFECTOS!$N$9=\"GUATEMALA\",LOOKUP(3,GEfectos!$C$4:$I$4,GEfectos!C248:I248),IF(EFECTOS!$N$9=\"HONDURAS\",LOOKUP(4,GEfectos!$C$4:$I$4,GEfectos!C248:I248),IF(EFECTOS!$N$9=\"NICARAGUA\",LOOKUP(5,GEfectos!$C$4:$I$4,GEfectos!C248:I248),IF(EFECTOS!$N$9=\"REPÚBLICA \nDOMINICANA\",LOOKUP(6,$C$4:$I$4,C248:I248),IF(EFECTOS!$N$9=\"PANAMÁ\",LOOKUP(7,GEfectos!$C$4:$I$4,GEfectos!C248:I248))))))))","v":75.789963747810773},{"$f":"IF(EFECTOS!$N$9=\"COSTA RICA\",LOOKUP(1,GEfectos!$J$4:$P$4,GEfectos!J248:P248),IF(EFECTOS!$N$9=\"EL SALVADOR\",LOOKUP(2,GEfectos!$J$4:$P$4,GEfectos!J248:P248),IF(EFECTOS!$N$9=\"GUATEMALA\",LOOKUP(3,GEfectos!$J$4:$P$4,GEfectos!J248:P248),IF(EFECTOS!$N$9=\"HONDURAS\",LOOKUP(4,GEfectos!$J$4:$P$4,GEfectos!J248:P248),IF(EFECTOS!$N$9=\"NICARAGUA\",LOOKUP(5,GEfectos!$J$4:$P$4,GEfectos!J248:P248),IF(EFECTOS!$N$9=\"REPÚBLICA \nDOMINICANA\",LOOKUP(6,$J$4:$P$4,J248:P248),IF(EFECTOS!$N$9=\"PANAMÁ\",LOOKUP(7,GEfectos!$J$4:$P$4,GEfectos!J248:P248))))))))","v":163.51681391284779},{"$f":"IF(EFECTOS!$N$9=\"COSTA RICA\",LOOKUP(1,GEfectos!$Q$4:$W$4,GEfectos!Q248:W248),IF(EFECTOS!$N$9=\"EL SALVADOR\",LOOKUP(2,GEfectos!$Q$4:$W$4,GEfectos!Q248:W248),IF(EFECTOS!$N$9=\"GUATEMALA\",LOOKUP(3,GEfectos!$Q$4:$W$4,GEfectos!Q248:W248),IF(EFECTOS!$N$9=\"HONDURAS\",LOOKUP(4,GEfectos!$Q$4:$W$4,GEfectos!Q248:W248),IF(EFECTOS!$N$9=\"NICARAGUA\",LOOKUP(5,GEfectos!$Q$4:$W$4,GEfectos!Q248:W248),IF(EFECTOS!$N$9=\"REPÚBLICA \nDOMINICANA\",LOOKUP(6,$Q$4:$W$4,Q248:W248),IF(EFECTOS!$N$9=\"PANAMÁ\",LOOKUP(7,GEfectos!$Q$4:$W$4,GEfectos!Q248:W248))))))))","v":215.74995662611204},100]
[null,{"$f":"'ITCER GLOBAL'!B249","v":"Abril"},{"$f":"'ITCER GLOBAL'!C249","v":75.97302573583319},{"$f":"'ITCER GLOBAL'!D249","v":102.75406936686241},{"$f":"'ITCER GLOBAL'!E249","v":62.07420807308629},{"$f":"'ITCER GLOBAL'!F249","v":83.518347363476778},{"$f":"'ITCER GLOBAL'!G249","v":106.05111910216544},{"$f":"'ITCER GLOBAL'!H249","v":141.28161891972499},{"$f":"'ITCER GLOBAL'!I249","v":94.176547534736841},{"$f":"'ITCER GLOBAL'!S249","v":163.49238408382482},{"$f":"'ITCER GLOBAL'!T249","v":92.244192245865605},{"$f":"'ITCER GLOBAL'!U249","v":92.477809130013682},{"$f":"'ITCER GLOBAL'!V249","v":139.47342629537599},{"$f":"'ITCER GLOBAL'!W249","v":192.86359534190657},{"$f":"'ITCER GLOBAL'!X249","v":261.78634756765632},{"$f":"'ITCER GLOBAL'!Y249","v":99.81406935518919},{"$f":"'ITCER GLOBAL'!AA249","v":215.19793703136995},{"$f":"'ITCER GLOBAL'!AB249","v":89.771814210614437},{"$f":"'ITCER GLOBAL'!AC249","v":148.97944251037424},{"$f":"'ITCER GLOBAL'!AD249","v":166.99734932299296},{"$f":"'ITCER GLOBAL'!AE249","v":181.85908548132286},{"$f":"'ITCER GLOBAL'!AF249","v":185.293989104415},{"$f":"'ITCER GLOBAL'!AG249","v":105.9861207147915},null,{"$f":"IF(EFECTOS!$N$9=\"COSTA RICA\",LOOKUP(1,GEfectos!$C$4:$I$4,GEfectos!C249:I249),IF(EFECTOS!$N$9=\"EL SALVADOR\",LOOKUP(2,GEfectos!$C$4:$I$4,GEfectos!C249:I249),IF(EFECTOS!$N$9=\"GUATEMALA\",LOOKUP(3,GEfectos!$C$4:$I$4,GEfectos!C249:I249),IF(EFECTOS!$N$9=\"HONDURAS\",LOOKUP(4,GEfectos!$C$4:$I$4,GEfectos!C249:I249),IF(EFECTOS!$N$9=\"NICARAGUA\",LOOKUP(5,GEfectos!$C$4:$I$4,GEfectos!C249:I249),IF(EFECTOS!$N$9=\"REPÚBLICA \nDOMINICANA\",LOOKUP(6,$C$4:$I$4,C249:I249),IF(EFECTOS!$N$9=\"PANAMÁ\",LOOKUP(7,GEfectos!$C$4:$I$4,GEfectos!C249:I249))))))))","v":75.97302573583319},{"$f":"IF(EFECTOS!$N$9=\"COSTA RICA\",LOOKUP(1,GEfectos!$J$4:$P$4,GEfectos!J249:P249),IF(EFECTOS!$N$9=\"EL SALVADOR\",LOOKUP(2,GEfectos!$J$4:$P$4,GEfectos!J249:P249),IF(EFECTOS!$N$9=\"GUATEMALA\",LOOKUP(3,GEfectos!$J$4:$P$4,GEfectos!J249:P249),IF(EFECTOS!$N$9=\"HONDURAS\",LOOKUP(4,GEfectos!$J$4:$P$4,GEfectos!J249:P249),IF(EFECTOS!$N$9=\"NICARAGUA\",LOOKUP(5,GEfectos!$J$4:$P$4,GEfectos!J249:P249),IF(EFECTOS!$N$9=\"REPÚBLICA \nDOMINICANA\",LOOKUP(6,$J$4:$P$4,J249:P249),IF(EFECTOS!$N$9=\"PANAMÁ\",LOOKUP(7,GEfectos!$J$4:$P$4,GEfectos!J249:P249))))))))","v":163.49238408382482},{"$f":"IF(EFECTOS!$N$9=\"COSTA RICA\",LOOKUP(1,GEfectos!$Q$4:$W$4,GEfectos!Q249:W249),IF(EFECTOS!$N$9=\"EL SALVADOR\",LOOKUP(2,GEfectos!$Q$4:$W$4,GEfectos!Q249:W249),IF(EFECTOS!$N$9=\"GUATEMALA\",LOOKUP(3,GEfectos!$Q$4:$W$4,GEfectos!Q249:W249),IF(EFECTOS!$N$9=\"HONDURAS\",LOOKUP(4,GEfectos!$Q$4:$W$4,GEfectos!Q249:W249),IF(EFECTOS!$N$9=\"NICARAGUA\",LOOKUP(5,GEfectos!$Q$4:$W$4,GEfectos!Q249:W249),IF(EFECTOS!$N$9=\"REPÚBLICA \nDOMINICANA\",LOOKUP(6,$Q$4:$W$4,Q249:W249),IF(EFECTOS!$N$9=\"PANAMÁ\",LOOKUP(7,GEfectos!$Q$4:$W$4,GEfectos!Q249:W249))))))))","v":215.19793703136995},100]
[null,{"$f":"'ITCER GLOBAL'!B250","v":"Mayo"},{"$f":"'ITCER GLOBAL'!C250","v":76.791784803262246},{"$f":"'ITCER GLOBAL'!D250","v":103.0084449662201},{"$f":"'ITCER GLOBAL'!E250","v":61.999866060749014},{"$f":"'ITCER GLOBAL'!F250","v":83.676500676245112},{"$f":"'ITCER GLOBAL'!G250","v":106.39094321114959},{"$f":"'ITCER GLOBAL'!H250","v":141.94033910857314},{"$f":"'ITCER GLOBAL'!I250","v":94.382752454319601},{"$f":"'ITCER GLOBAL'!S250","v":164.25003309467652},{"$f":"'ITCER GLOBAL'!T250","v":92.371919781050963},{"$f":"'ITCER GLOBAL'!U250","v":92.311907605647647},{"$f":"'ITCER GLOBAL'!V250","v":139.92252200678399},{"$f":"'ITCER GLOBAL'!W250","v":194.13586407285331},{"$f":"'ITCER GLOBAL'!X250","v":262.80871707544981},{"$f":"'ITCER GLOBAL'!Y250","v":100.29948948730384},{"$f":"'ITCER GLOBAL'!AA250","v":213.89011014066037},{"$f":"'ITCER GLOBAL'!AB250","v":89.674123137518293},{"$f":"'ITCER GLOBAL'!AC250","v":148.8904952071963},{"$f":"'ITCER GLOBAL'!AD250","v":167.21841959926334},{"$f":"'ITCER GLOBAL'!AE250","v":182.47405109245071},{"$f":"'ITCER GLOBAL'!AF250","v":185.15435338957579},{"$f":"'ITCER GLOBAL'!AG250","v":106.26887527554135},null,{"$f":"IF(EFECTOS!$N$9=\"COSTA RICA\",LOOKUP(1,GEfectos!$C$4:$I$4,GEfectos!C250:I250),IF(EFECTOS!$N$9=\"EL SALVADOR\",LOOKUP(2,GEfectos!$C$4:$I$4,GEfectos!C250:I250),IF(EFECTOS!$N$9=\"GUATEMALA\",LOOKUP(3,GEfectos!$C$4:$I$4,GEfectos!C250:I250),IF(EFECTOS!$N$9=\"HONDURAS\",LOOKUP(4,GEfectos!$C$4:$I$4,GEfectos!C250:I250),IF(EFECTOS!$N$9=\"NICARAGUA\",LOOKUP(5,GEfectos!$C$4:$I$4,GEfectos!C250:I250),IF(EFECTOS!$N$9=\"REPÚBLICA \nDOMINICANA\",LOOKUP(6,$C$4:$I$4,C250:I250),IF(EFECTOS!$N$9=\"PANAMÁ\",LOOKUP(7,GEfectos!$C$4:$I$4,GEfectos!C250:I250))))))))","v":76.791784803262246},{"$f":"IF(EFECTOS!$N$9=\"COSTA RICA\",LOOKUP(1,GEfectos!$J$4:$P$4,GEfectos!J250:P250),IF(EFECTOS!$N$9=\"EL SALVADOR\",LOOKUP(2,GEfectos!$J$4:$P$4,GEfectos!J250:P250),IF(EFECTOS!$N$9=\"GUATEMALA\",LOOKUP(3,GEfectos!$J$4:$P$4,GEfectos!J250:P250),IF(EFECTOS!$N$9=\"HONDURAS\",LOOKUP(4,GEfectos!$J$4:$P$4,GEfectos!J250:P250),IF(EFECTOS!$N$9=\"NICARAGUA\",LOOKUP(5,GEfectos!$J$4:$P$4,GEfectos!J250:P250),IF(EFECTOS!$N$9=\"REPÚBLICA \nDOMINICANA\",LOOKUP(6,$J$4:$P$4,J250:P250),IF(EFECTOS!$N$9=\"PANAMÁ\",LOOKUP(7,GEfectos!$J$4:$P$4,GEfectos!J250:P250))))))))","v":164.25003309467652},{"$f":"IF(EFECTOS!$N$9=\"COSTA RICA\",LOOKUP(1,GEfectos!$Q$4:$W$4,GEfectos!Q250:W250),IF(EFECTOS!$N$9=\"EL SALVADOR\",LOOKUP(2,GEfectos!$Q$4:$W$4,GEfectos!Q250:W250),IF(EFECTOS!$N$9=\"GUATEMALA\",LOOKUP(3,GEfectos!$Q$4:$W$4,GEfectos!Q250:W250),IF(EFECTOS!$N$9=\"HONDURAS\",LOOKUP(4,GEfectos!$Q$4:$W$4,GEfectos!Q250:W250),IF(EFECTOS!$N$9=\"NICARAGUA\",LOOKUP(5,GEfectos!$Q$4:$W$4,GEfectos!Q250:W250),IF(EFECTOS!$N$9=\"REPÚBLICA \nDOMINICANA\",LOOKUP(6,$Q$4:$W$4,Q250:W250),IF(EFECTOS!$N$9=\"PANAMÁ\",LOOKUP(7,GEfectos!$Q$4:$W$4,GEfectos!Q250:W250))))))))","v":213.89011014066037},100]
[null,{"$f":"'ITCER GLOBAL'!B251","v":"Junio"},{"$f":"'ITCER GLOBAL'!C251","v":76.873016736688072},{"$f":"'ITCER GLOBAL'!D251","v":103.21857488379531},{"$f":"'ITCER GLOBAL'!E251","v":61.430227208067073},{"$f":"'ITCER GLOBAL'!F251","v":83.189681070040677},{"$f":"'ITCER GLOBAL'!G251","v":106.83730553397677},{"$f":"'ITCER GLOBAL'!H251","v":141.30967255691127},{"$f":"'ITCER GLOBAL'!I251","v":94.067083138659029},{"$f":"'ITCER GLOBAL'!S251","v":164.7618616452157},{"$f":"'ITCER GLOBAL'!T251","v":92.213015273939263},{"$f":"'ITCER GLOBAL'!U251","v":91.600914892740988},{"$f":"'ITCER GLOBAL'!V251","v":139.57130310232304},{"$f":"'ITCER GLOBAL'!W251","v":194.46287296387885},{"$f":"'ITCER GLOBAL'!X251","v":261.76662637016938},{"$f":"'ITCER GLOBAL'!Y251","v":99.866264885057888},{"$f":"'ITCER GLOBAL'!AA251","v":214.32990227191411},{"$f":"'ITCER GLOBAL'!AB251","v":89.337617166051515},{"$f":"'ITCER GLOBAL'!AC251","v":149.11374913604726},{"$f":"'ITCER GLOBAL'!AD251","v":167.77477844254801},{"$f":"'ITCER GLOBAL'!AE251","v":182.0177624210441},{"$f":"'ITCER GLOBAL'!AF251","v":185.24324742507991},{"$f":"'ITCER GLOBAL'!AG251","v":106.16494266953147},null,{"$f":"IF(EFECTOS!$N$9=\"COSTA RICA\",LOOKUP(1,GEfectos!$C$4:$I$4,GEfectos!C251:I251),IF(EFECTOS!$N$9=\"EL SALVADOR\",LOOKUP(2,GEfectos!$C$4:$I$4,GEfectos!C251:I251),IF(EFECTOS!$N$9=\"GUATEMALA\",LOOKUP(3,GEfectos!$C$4:$I$4,GEfectos!C251:I251),IF(EFECTOS!$N$9=\"HONDURAS\",LOOKUP(4,GEfectos!$C$4:$I$4,GEfectos!C251:I251),IF(EFECTOS!$N$9=\"NICARAGUA\",LOOKUP(5,GEfectos!$C$4:$I$4,GEfectos!C251:I251),IF(EFECTOS!$N$9=\"REPÚBLICA \nDOMINICANA\",LOOKUP(6,$C$4:$I$4,C251:I251),IF(EFECTOS!$N$9=\"PANAMÁ\",LOOKUP(7,GEfectos!$C$4:$I$4,GEfectos!C251:I251))))))))","v":76.873016736688072},{"$f":"IF(EFECTOS!$N$9=\"COSTA RICA\",LOOKUP(1,GEfectos!$J$4:$P$4,GEfectos!J251:P251),IF(EFECTOS!$N$9=\"EL SALVADOR\",LOOKUP(2,GEfectos!$J$4:$P$4,GEfectos!J251:P251),IF(EFECTOS!$N$9=\"GUATEMALA\",LOOKUP(3,GEfectos!$J$4:$P$4,GEfectos!J251:P251),IF(EFECTOS!$N$9=\"HONDURAS\",LOOKUP(4,GEfectos!$J$4:$P$4,GEfectos!J251:P251),IF(EFECTOS!$N$9=\"NICARAGUA\",LOOKUP(5,GEfectos!$J$4:$P$4,GEfectos!J251:P251),IF(EFECTOS!$N$9=\"REPÚBLICA \nDOMINICANA\",LOOKUP(6,$J$4:$P$4,J251:P251),IF(EFECTOS!$N$9=\"PANAMÁ\",LOOKUP(7,GEfectos!$J$4:$P$4,GEfectos!J251:P251))))))))","v":164.7618616452157},{"$f":"IF(EFECTOS!$N$9=\"COSTA RICA\",LOOKUP(1,GEfectos!$Q$4:$W$4,GEfectos!Q251:W251),IF(EFECTOS!$N$9=\"EL SALVADOR\",LOOKUP(2,GEfectos!$Q$4:$W$4,GEfectos!Q251:W251),IF(EFECTOS!$N$9=\"GUATEMALA\",LOOKUP(3,GEfectos!$Q$4:$W$4,GEfectos!Q251:W251),IF(EFECTOS!$N$9=\"HONDURAS\",LOOKUP(4,GEfectos!$Q$4:$W$4,GEfectos!Q251:W251),IF(EFECTOS!$N$9=\"NICARAGUA\",LOOKUP(5,GEfectos!$Q$4:$W$4,GEfectos!Q251:W251),IF(EFECTOS!$N$9=\"REPÚBLICA \nDOMINICANA\",LOOKUP(6,$Q$4:$W$4,Q251:W251),IF(EFECTOS!$N$9=\"PANAMÁ\",LOOKUP(7,GEfectos!$Q$4:$W$4,GEfectos!Q251:W251))))))))","v":214.32990227191411},100]
[null,{"$f":"'ITCER GLOBAL'!B252","v":"Julio"},{"$f":"'ITCER GLOBAL'!C252","v":76.528908256683394},{"$f":"'ITCER GLOBAL'!D252","v":102.90743815400957},{"$f":"'ITCER GLOBAL'!E252","v":60.670177319408431},{"$f":"'ITCER GLOBAL'!F252","v":82.371744622584103},{"$f":"'ITCER GLOBAL'!G252","v":107.09515389051012},{"$f":"'ITCER GLOBAL'!H252","v":139.53492421850171},{"$f":"'ITCER GLOBAL'!I252","v":93.012241152336316},{"$f":"'ITCER GLOBAL'!S252","v":163.28246944299002},{"$f":"'ITCER GLOBAL'!T252","v":91.78231540810377},{"$f":"'ITCER GLOBAL'!U252","v":90.913436108421706},{"$f":"'ITCER GLOBAL'!V252","v":138.66398395920245},{"$f":"'ITCER GLOBAL'!W252","v":194.43432995998},{"$f":"'ITCER GLOBAL'!X252","v":258.72117405221934},{"$f":"'ITCER GLOBAL'!Y252","v":98.857258680553173},{"$f":"'ITCER GLOBAL'!AA252","v":213.36051063910256},{"$f":"'ITCER GLOBAL'!AB252","v":89.189194731233982},{"$f":"'ITCER GLOBAL'!AC252","v":149.84864084011576},{"$f":"'ITCER GLOBAL'!AD252","v":168.33925831550806},{"$f":"'ITCER GLOBAL'!AE252","v":181.55287414663229},{"$f":"'ITCER GLOBAL'!AF252","v":185.416787590095},{"$f":"'ITCER GLOBAL'!AG252","v":106.28413793260161},null,{"$f":"IF(EFECTOS!$N$9=\"COSTA RICA\",LOOKUP(1,GEfectos!$C$4:$I$4,GEfectos!C252:I252),IF(EFECTOS!$N$9=\"EL SALVADOR\",LOOKUP(2,GEfectos!$C$4:$I$4,GEfectos!C252:I252),IF(EFECTOS!$N$9=\"GUATEMALA\",LOOKUP(3,GEfectos!$C$4:$I$4,GEfectos!C252:I252),IF(EFECTOS!$N$9=\"HONDURAS\",LOOKUP(4,GEfectos!$C$4:$I$4,GEfectos!C252:I252),IF(EFECTOS!$N$9=\"NICARAGUA\",LOOKUP(5,GEfectos!$C$4:$I$4,GEfectos!C252:I252),IF(EFECTOS!$N$9=\"REPÚBLICA \nDOMINICANA\",LOOKUP(6,$C$4:$I$4,C252:I252),IF(EFECTOS!$N$9=\"PANAMÁ\",LOOKUP(7,GEfectos!$C$4:$I$4,GEfectos!C252:I252))))))))","v":76.528908256683394},{"$f":"IF(EFECTOS!$N$9=\"COSTA RICA\",LOOKUP(1,GEfectos!$J$4:$P$4,GEfectos!J252:P252),IF(EFECTOS!$N$9=\"EL SALVADOR\",LOOKUP(2,GEfectos!$J$4:$P$4,GEfectos!J252:P252),IF(EFECTOS!$N$9=\"GUATEMALA\",LOOKUP(3,GEfectos!$J$4:$P$4,GEfectos!J252:P252),IF(EFECTOS!$N$9=\"HONDURAS\",LOOKUP(4,GEfectos!$J$4:$P$4,GEfectos!J252:P252),IF(EFECTOS!$N$9=\"NICARAGUA\",LOOKUP(5,GEfectos!$J$4:$P$4,GEfectos!J252:P252),IF(EFECTOS!$N$9=\"REPÚBLICA \nDOMINICANA\",LOOKUP(6,$J$4:$P$4,J252:P252),IF(EFECTOS!$N$9=\"PANAMÁ\",LOOKUP(7,GEfectos!$J$4:$P$4,GEfectos!J252:P252))))))))","v":163.28246944299002},{"$f":"IF(EFECTOS!$N$9=\"COSTA RICA\",LOOKUP(1,GEfectos!$Q$4:$W$4,GEfectos!Q252:W252),IF(EFECTOS!$N$9=\"EL SALVADOR\",LOOKUP(2,GEfectos!$Q$4:$W$4,GEfectos!Q252:W252),IF(EFECTOS!$N$9=\"GUATEMALA\",LOOKUP(3,GEfectos!$Q$4:$W$4,GEfectos!Q252:W252),IF(EFECTOS!$N$9=\"HONDURAS\",LOOKUP(4,GEfectos!$Q$4:$W$4,GEfectos!Q252:W252),IF(EFECTOS!$N$9=\"NICARAGUA\",LOOKUP(5,GEfectos!$Q$4:$W$4,GEfectos!Q252:W252),IF(EFECTOS!$N$9=\"REPÚBLICA \nDOMINICANA\",LOOKUP(6,$Q$4:$W$4,Q252:W252),IF(EFECTOS!$N$9=\"PANAMÁ\",LOOKUP(7,GEfectos!$Q$4:$W$4,GEfectos!Q252:W252))))))))","v":213.36051063910256},100]
[null,{"$f":"'ITCER GLOBAL'!B253","v":"Agosto"},{"$f":"'ITCER GLOBAL'!C253","v":76.05109490328465},{"$f":"'ITCER GLOBAL'!D253","v":102.62232425449737},{"$f":"'ITCER GLOBAL'!E253","v":60.099076834319725},{"$f":"'ITCER GLOBAL'!F253","v":82.071327189258966},{"$f":"'ITCER GLOBAL'!G253","v":106.5834409635625},{"$f":"'ITCER GLOBAL'!H253","v":138.86125758148171},{"$f":"'ITCER GLOBAL'!I253","v":92.450329881193312},{"$f":"'ITCER GLOBAL'!S253","v":162.12256674253226},{"$f":"'ITCER GLOBAL'!T253","v":91.246979441262368},{"$f":"'ITCER GLOBAL'!U253","v":90.132112917005827},{"$f":"'ITCER GLOBAL'!V253","v":138.24834637150215},{"$f":"'ITCER GLOBAL'!W253","v":193.44520936533135},{"$f":"'ITCER GLOBAL'!X253","v":258.04518451206008},{"$f":"'ITCER GLOBAL'!Y253","v":97.819445013557356},{"$f":"'ITCER GLOBAL'!AA253","v":213.17584835393367},{"$f":"'ITCER GLOBAL'!AB253","v":88.915331146637428},{"$f":"'ITCER GLOBAL'!AC253","v":149.97254145097892},{"$f":"'ITCER GLOBAL'!AD253","v":168.44902002461501},{"$f":"'ITCER GLOBAL'!AE253","v":181.49649478052052},{"$f":"'ITCER GLOBAL'!AF253","v":185.82950277592226},{"$f":"'ITCER GLOBAL'!AG253","v":105.80756730588612},null,{"$f":"IF(EFECTOS!$N$9=\"COSTA RICA\",LOOKUP(1,GEfectos!$C$4:$I$4,GEfectos!C253:I253),IF(EFECTOS!$N$9=\"EL SALVADOR\",LOOKUP(2,GEfectos!$C$4:$I$4,GEfectos!C253:I253),IF(EFECTOS!$N$9=\"GUATEMALA\",LOOKUP(3,GEfectos!$C$4:$I$4,GEfectos!C253:I253),IF(EFECTOS!$N$9=\"HONDURAS\",LOOKUP(4,GEfectos!$C$4:$I$4,GEfectos!C253:I253),IF(EFECTOS!$N$9=\"NICARAGUA\",LOOKUP(5,GEfectos!$C$4:$I$4,GEfectos!C253:I253),IF(EFECTOS!$N$9=\"REPÚBLICA \nDOMINICANA\",LOOKUP(6,$C$4:$I$4,C253:I253),IF(EFECTOS!$N$9=\"PANAMÁ\",LOOKUP(7,GEfectos!$C$4:$I$4,GEfectos!C253:I253))))))))","v":76.05109490328465},{"$f":"IF(EFECTOS!$N$9=\"COSTA RICA\",LOOKUP(1,GEfectos!$J$4:$P$4,GEfectos!J253:P253),IF(EFECTOS!$N$9=\"EL SALVADOR\",LOOKUP(2,GEfectos!$J$4:$P$4,GEfectos!J253:P253),IF(EFECTOS!$N$9=\"GUATEMALA\",LOOKUP(3,GEfectos!$J$4:$P$4,GEfectos!J253:P253),IF(EFECTOS!$N$9=\"HONDURAS\",LOOKUP(4,GEfectos!$J$4:$P$4,GEfectos!J253:P253),IF(EFECTOS!$N$9=\"NICARAGUA\",LOOKUP(5,GEfectos!$J$4:$P$4,GEfectos!J253:P253),IF(EFECTOS!$N$9=\"REPÚBLICA \nDOMINICANA\",LOOKUP(6,$J$4:$P$4,J253:P253),IF(EFECTOS!$N$9=\"PANAMÁ\",LOOKUP(7,GEfectos!$J$4:$P$4,GEfectos!J253:P253))))))))","v":162.12256674253226},{"$f":"IF(EFECTOS!$N$9=\"COSTA RICA\",LOOKUP(1,GEfectos!$Q$4:$W$4,GEfectos!Q253:W253),IF(EFECTOS!$N$9=\"EL SALVADOR\",LOOKUP(2,GEfectos!$Q$4:$W$4,GEfectos!Q253:W253),IF(EFECTOS!$N$9=\"GUATEMALA\",LOOKUP(3,GEfectos!$Q$4:$W$4,GEfectos!Q253:W253),IF(EFECTOS!$N$9=\"HONDURAS\",LOOKUP(4,GEfectos!$Q$4:$W$4,GEfectos!Q253:W253),IF(EFECTOS!$N$9=\"NICARAGUA\",LOOKUP(5,GEfectos!$Q$4:$W$4,GEfectos!Q253:W253),IF(EFECTOS!$N$9=\"REPÚBLICA \nDOMINICANA\",LOOKUP(6,$Q$4:$W$4,Q253:W253),IF(EFECTOS!$N$9=\"PANAMÁ\",LOOKUP(7,GEfectos!$Q$4:$W$4,GEfectos!Q253:W253))))))))","v":213.17584835393367},100]
[null,{"$f":"'ITCER GLOBAL'!B254","v":"Septiembre"},{"$f":"'ITCER GLOBAL'!C254","v":76.173220658161625},{"$f":"'ITCER GLOBAL'!D254","v":102.6580934325509},{"$f":"'ITCER GLOBAL'!E254","v":60.233366245951053},{"$f":"'ITCER GLOBAL'!F254","v":81.879485824469256},{"$f":"'ITCER GLOBAL'!G254","v":106.47508808397349},{"$f":"'ITCER GLOBAL'!H254","v":138.57877037901932},{"$f":"'ITCER GLOBAL'!I254","v":92.665760674090592},{"$f":"'ITCER GLOBAL'!S254","v":162.01513278533579},{"$f":"'ITCER GLOBAL'!T254","v":90.997061366796189},{"$f":"'ITCER GLOBAL'!U254","v":90.358564321594358},{"$f":"'ITCER GLOBAL'!V254","v":137.71737858386319},{"$f":"'ITCER GLOBAL'!W254","v":193.16101224973164},{"$f":"'ITCER GLOBAL'!X254","v":257.81459908988921},{"$f":"'ITCER GLOBAL'!Y254","v":97.555785639061725},{"$f":"'ITCER GLOBAL'!AA254","v":212.69303225657507},{"$f":"'ITCER GLOBAL'!AB254","v":88.640903336650879},{"$f":"'ITCER GLOBAL'!AC254","v":150.01413660434153},{"$f":"'ITCER GLOBAL'!AD254","v":168.19521666159156},{"$f":"'ITCER GLOBAL'!AE254","v":181.41427795522625},{"$f":"'ITCER GLOBAL'!AF254","v":186.04191564462175},{"$f":"'ITCER GLOBAL'!AG254","v":105.27705695113166},null,{"$f":"IF(EFECTOS!$N$9=\"COSTA RICA\",LOOKUP(1,GEfectos!$C$4:$I$4,GEfectos!C254:I254),IF(EFECTOS!$N$9=\"EL SALVADOR\",LOOKUP(2,GEfectos!$C$4:$I$4,GEfectos!C254:I254),IF(EFECTOS!$N$9=\"GUATEMALA\",LOOKUP(3,GEfectos!$C$4:$I$4,GEfectos!C254:I254),IF(EFECTOS!$N$9=\"HONDURAS\",LOOKUP(4,GEfectos!$C$4:$I$4,GEfectos!C254:I254),IF(EFECTOS!$N$9=\"NICARAGUA\",LOOKUP(5,GEfectos!$C$4:$I$4,GEfectos!C254:I254),IF(EFECTOS!$N$9=\"REPÚBLICA \nDOMINICANA\",LOOKUP(6,$C$4:$I$4,C254:I254),IF(EFECTOS!$N$9=\"PANAMÁ\",LOOKUP(7,GEfectos!$C$4:$I$4,GEfectos!C254:I254))))))))","v":76.173220658161625},{"$f":"IF(EFECTOS!$N$9=\"COSTA RICA\",LOOKUP(1,GEfectos!$J$4:$P$4,GEfectos!J254:P254),IF(EFECTOS!$N$9=\"EL SALVADOR\",LOOKUP(2,GEfectos!$J$4:$P$4,GEfectos!J254:P254),IF(EFECTOS!$N$9=\"GUATEMALA\",LOOKUP(3,GEfectos!$J$4:$P$4,GEfectos!J254:P254),IF(EFECTOS!$N$9=\"HONDURAS\",LOOKUP(4,GEfectos!$J$4:$P$4,GEfectos!J254:P254),IF(EFECTOS!$N$9=\"NICARAGUA\",LOOKUP(5,GEfectos!$J$4:$P$4,GEfectos!J254:P254),IF(EFECTOS!$N$9=\"REPÚBLICA \nDOMINICANA\",LOOKUP(6,$J$4:$P$4,J254:P254),IF(EFECTOS!$N$9=\"PANAMÁ\",LOOKUP(7,GEfectos!$J$4:$P$4,GEfectos!J254:P254))))))))","v":162.01513278533579},{"$f":"IF(EFECTOS!$N$9=\"COSTA RICA\",LOOKUP(1,GEfectos!$Q$4:$W$4,GEfectos!Q254:W254),IF(EFECTOS!$N$9=\"EL SALVADOR\",LOOKUP(2,GEfectos!$Q$4:$W$4,GEfectos!Q254:W254),IF(EFECTOS!$N$9=\"GUATEMALA\",LOOKUP(3,GEfectos!$Q$4:$W$4,GEfectos!Q254:W254),IF(EFECTOS!$N$9=\"HONDURAS\",LOOKUP(4,GEfectos!$Q$4:$W$4,GEfectos!Q254:W254),IF(EFECTOS!$N$9=\"NICARAGUA\",LOOKUP(5,GEfectos!$Q$4:$W$4,GEfectos!Q254:W254),IF(EFECTOS!$N$9=\"REPÚBLICA \nDOMINICANA\",LOOKUP(6,$Q$4:$W$4,Q254:W254),IF(EFECTOS!$N$9=\"PANAMÁ\",LOOKUP(7,GEfectos!$Q$4:$W$4,GEfectos!Q254:W254))))))))","v":212.69303225657507},100]
[null,{"$f":"'ITCER GLOBAL'!B255","v":"Octubre"},{"$f":"'ITCER GLOBAL'!C255","v":76.574278875916818},{"$f":"'ITCER GLOBAL'!D255","v":100.72617992782884},{"$f":"'ITCER GLOBAL'!E255","v":60.197584181319087},{"$f":"'ITCER GLOBAL'!F255","v":82.72564303582169},{"$f":"'ITCER GLOBAL'!G255","v":107.19588545871358},{"$f":"'ITCER GLOBAL'!H255","v":138.31532202131015},{"$f":"'ITCER GLOBAL'!I255","v":93.297368748961318},{"$f":"'ITCER GLOBAL'!S255","v":162.28707862345811},{"$f":"'ITCER GLOBAL'!T255","v":91.152136774912961},{"$f":"'ITCER GLOBAL'!U255","v":90.569989204962042},{"$f":"'ITCER GLOBAL'!V255","v":138.93871355383155},{"$f":"'ITCER GLOBAL'!W255","v":194.93441760302704},{"$f":"'ITCER GLOBAL'!X255","v":259.03966509709335},{"$f":"'ITCER GLOBAL'!Y255","v":98.082682187788933},{"$f":"'ITCER GLOBAL'!AA255","v":211.93419122683846},{"$f":"'ITCER GLOBAL'!AB255","v":90.494980391616394},{"$f":"'ITCER GLOBAL'!AC255","v":150.45452477321894},{"$f":"'ITCER GLOBAL'!AD255","v":167.95120407062728},{"$f":"'ITCER GLOBAL'!AE255","v":181.84878717019964},{"$f":"'ITCER GLOBAL'!AF255","v":187.28197376222951},{"$f":"'ITCER GLOBAL'!AG255","v":105.12909796170527},null,{"$f":"IF(EFECTOS!$N$9=\"COSTA RICA\",LOOKUP(1,GEfectos!$C$4:$I$4,GEfectos!C255:I255),IF(EFECTOS!$N$9=\"EL SALVADOR\",LOOKUP(2,GEfectos!$C$4:$I$4,GEfectos!C255:I255),IF(EFECTOS!$N$9=\"GUATEMALA\",LOOKUP(3,GEfectos!$C$4:$I$4,GEfectos!C255:I255),IF(EFECTOS!$N$9=\"HONDURAS\",LOOKUP(4,GEfectos!$C$4:$I$4,GEfectos!C255:I255),IF(EFECTOS!$N$9=\"NICARAGUA\",LOOKUP(5,GEfectos!$C$4:$I$4,GEfectos!C255:I255),IF(EFECTOS!$N$9=\"REPÚBLICA \nDOMINICANA\",LOOKUP(6,$C$4:$I$4,C255:I255),IF(EFECTOS!$N$9=\"PANAMÁ\",LOOKUP(7,GEfectos!$C$4:$I$4,GEfectos!C255:I255))))))))","v":76.574278875916818},{"$f":"IF(EFECTOS!$N$9=\"COSTA RICA\",LOOKUP(1,GEfectos!$J$4:$P$4,GEfectos!J255:P255),IF(EFECTOS!$N$9=\"EL SALVADOR\",LOOKUP(2,GEfectos!$J$4:$P$4,GEfectos!J255:P255),IF(EFECTOS!$N$9=\"GUATEMALA\",LOOKUP(3,GEfectos!$J$4:$P$4,GEfectos!J255:P255),IF(EFECTOS!$N$9=\"HONDURAS\",LOOKUP(4,GEfectos!$J$4:$P$4,GEfectos!J255:P255),IF(EFECTOS!$N$9=\"NICARAGUA\",LOOKUP(5,GEfectos!$J$4:$P$4,GEfectos!J255:P255),IF(EFECTOS!$N$9=\"REPÚBLICA \nDOMINICANA\",LOOKUP(6,$J$4:$P$4,J255:P255),IF(EFECTOS!$N$9=\"PANAMÁ\",LOOKUP(7,GEfectos!$J$4:$P$4,GEfectos!J255:P255))))))))","v":162.28707862345811},{"$f":"IF(EFECTOS!$N$9=\"COSTA RICA\",LOOKUP(1,GEfectos!$Q$4:$W$4,GEfectos!Q255:W255),IF(EFECTOS!$N$9=\"EL SALVADOR\",LOOKUP(2,GEfectos!$Q$4:$W$4,GEfectos!Q255:W255),IF(EFECTOS!$N$9=\"GUATEMALA\",LOOKUP(3,GEfectos!$Q$4:$W$4,GEfectos!Q255:W255),IF(EFECTOS!$N$9=\"HONDURAS\",LOOKUP(4,GEfectos!$Q$4:$W$4,GEfectos!Q255:W255),IF(EFECTOS!$N$9=\"NICARAGUA\",LOOKUP(5,GEfectos!$Q$4:$W$4,GEfectos!Q255:W255),IF(EFECTOS!$N$9=\"REPÚBLICA \nDOMINICANA\",LOOKUP(6,$Q$4:$W$4,Q255:W255),IF(EFECTOS!$N$9=\"PANAMÁ\",LOOKUP(7,GEfectos!$Q$4:$W$4,GEfectos!Q255:W255))))))))","v":211.93419122683846},100]
[null,{"$f":"'ITCER GLOBAL'!B256","v":"Noviembre"},{"$f":"'ITCER GLOBAL'!C256","v":75.854755513646907},{"$f":"'ITCER GLOBAL'!D256","v":100.47974906994705},{"$f":"'ITCER GLOBAL'!E256","v":59.277496026878318},{"$f":"'ITCER GLOBAL'!F256","v":82.525876015236562},{"$f":"'ITCER GLOBAL'!G256","v":106.67108266570186},{"$f":"'ITCER GLOBAL'!H256","v":137.18286470802354},{"$f":"'ITCER GLOBAL'!I256","v":92.3106222534811},{"$f":"'ITCER GLOBAL'!S256","v":160.88716772447259},{"$f":"'ITCER GLOBAL'!T256","v":90.886485166812065},{"$f":"'ITCER GLOBAL'!U256","v":89.656608119644687},{"$f":"'ITCER GLOBAL'!V256","v":138.56372893966466},{"$f":"'ITCER GLOBAL'!W256","v":194.68307031688161},{"$f":"'ITCER GLOBAL'!X256","v":257.47862057719442},{"$f":"'ITCER GLOBAL'!Y256","v":97.124515726486621},{"$f":"'ITCER GLOBAL'!AA256","v":212.09898658961154},{"$f":"'ITCER GLOBAL'!AB256","v":90.452539947669649},{"$f":"'ITCER GLOBAL'!AC256","v":151.24898001594318},{"$f":"'ITCER GLOBAL'!AD256","v":167.90337240901502},{"$f":"'ITCER GLOBAL'!AE256","v":182.50782259987167},{"$f":"'ITCER GLOBAL'!AF256","v":187.69007421240639},{"$f":"'ITCER GLOBAL'!AG256","v":105.21488573632054},null,{"$f":"IF(EFECTOS!$N$9=\"COSTA RICA\",LOOKUP(1,GEfectos!$C$4:$I$4,GEfectos!C256:I256),IF(EFECTOS!$N$9=\"EL SALVADOR\",LOOKUP(2,GEfectos!$C$4:$I$4,GEfectos!C256:I256),IF(EFECTOS!$N$9=\"GUATEMALA\",LOOKUP(3,GEfectos!$C$4:$I$4,GEfectos!C256:I256),IF(EFECTOS!$N$9=\"HONDURAS\",LOOKUP(4,GEfectos!$C$4:$I$4,GEfectos!C256:I256),IF(EFECTOS!$N$9=\"NICARAGUA\",LOOKUP(5,GEfectos!$C$4:$I$4,GEfectos!C256:I256),IF(EFECTOS!$N$9=\"REPÚBLICA \nDOMINICANA\",LOOKUP(6,$C$4:$I$4,C256:I256),IF(EFECTOS!$N$9=\"PANAMÁ\",LOOKUP(7,GEfectos!$C$4:$I$4,GEfectos!C256:I256))))))))","v":75.854755513646907},{"$f":"IF(EFECTOS!$N$9=\"COSTA RICA\",LOOKUP(1,GEfectos!$J$4:$P$4,GEfectos!J256:P256),IF(EFECTOS!$N$9=\"EL SALVADOR\",LOOKUP(2,GEfectos!$J$4:$P$4,GEfectos!J256:P256),IF(EFECTOS!$N$9=\"GUATEMALA\",LOOKUP(3,GEfectos!$J$4:$P$4,GEfectos!J256:P256),IF(EFECTOS!$N$9=\"HONDURAS\",LOOKUP(4,GEfectos!$J$4:$P$4,GEfectos!J256:P256),IF(EFECTOS!$N$9=\"NICARAGUA\",LOOKUP(5,GEfectos!$J$4:$P$4,GEfectos!J256:P256),IF(EFECTOS!$N$9=\"REPÚBLICA \nDOMINICANA\",LOOKUP(6,$J$4:$P$4,J256:P256),IF(EFECTOS!$N$9=\"PANAMÁ\",LOOKUP(7,GEfectos!$J$4:$P$4,GEfectos!J256:P256))))))))","v":160.88716772447259},{"$f":"IF(EFECTOS!$N$9=\"COSTA RICA\",LOOKUP(1,GEfectos!$Q$4:$W$4,GEfectos!Q256:W256),IF(EFECTOS!$N$9=\"EL SALVADOR\",LOOKUP(2,GEfectos!$Q$4:$W$4,GEfectos!Q256:W256),IF(EFECTOS!$N$9=\"GUATEMALA\",LOOKUP(3,GEfectos!$Q$4:$W$4,GEfectos!Q256:W256),IF(EFECTOS!$N$9=\"HONDURAS\",LOOKUP(4,GEfectos!$Q$4:$W$4,GEfectos!Q256:W256),IF(EFECTOS!$N$9=\"NICARAGUA\",LOOKUP(5,GEfectos!$Q$4:$W$4,GEfectos!Q256:W256),IF(EFECTOS!$N$9=\"REPÚBLICA \nDOMINICANA\",LOOKUP(6,$Q$4:$W$4,Q256:W256),IF(EFECTOS!$N$9=\"PANAMÁ\",LOOKUP(7,GEfectos!$Q$4:$W$4,GEfectos!Q256:W256))))))))","v":212.09898658961154},100]
[null,{"$f":"'ITCER GLOBAL'!B257","v":"Diciembre"},{"$f":"'ITCER GLOBAL'!C257","v":75.57513346870067},{"$f":"'ITCER GLOBAL'!D257","v":100.21980549314458},{"$f":"'ITCER GLOBAL'!E257","v":58.482903404166471},{"$f":"'ITCER GLOBAL'!F257","v":82.830579297342325},{"$f":"'ITCER GLOBAL'!G257","v":105.33751327030069},{"$f":"'ITCER GLOBAL'!H257","v":136.43705824923023},{"$f":"'ITCER GLOBAL'!I257","v":91.943246276134929},{"$f":"'ITCER GLOBAL'!S257","v":160.64660242986704},{"$f":"'ITCER GLOBAL'!T257","v":90.578712634619336},{"$f":"'ITCER GLOBAL'!U257","v":88.84946714076348},{"$f":"'ITCER GLOBAL'!V257","v":139.08802053931774},{"$f":"'ITCER GLOBAL'!W257","v":194.05672784319697},{"$f":"'ITCER GLOBAL'!X257","v":256.37227489195431},{"$f":"'ITCER GLOBAL'!Y257","v":96.598353838256983},{"$f":"'ITCER GLOBAL'!AA257","v":212.56542338280963},{"$f":"'ITCER GLOBAL'!AB257","v":90.380052314924171},{"$f":"'ITCER GLOBAL'!AC257","v":151.92383067362147},{"$f":"'ITCER GLOBAL'!AD257","v":167.91868621372842},{"$f":"'ITCER GLOBAL'!AE257","v":184.22376019570433},{"$f":"'ITCER GLOBAL'!AF257","v":187.90516167802284},{"$f":"'ITCER GLOBAL'!AG257","v":105.06302284361517},null,{"$f":"IF(EFECTOS!$N$9=\"COSTA RICA\",LOOKUP(1,GEfectos!$C$4:$I$4,GEfectos!C257:I257),IF(EFECTOS!$N$9=\"EL SALVADOR\",LOOKUP(2,GEfectos!$C$4:$I$4,GEfectos!C257:I257),IF(EFECTOS!$N$9=\"GUATEMALA\",LOOKUP(3,GEfectos!$C$4:$I$4,GEfectos!C257:I257),IF(EFECTOS!$N$9=\"HONDURAS\",LOOKUP(4,GEfectos!$C$4:$I$4,GEfectos!C257:I257),IF(EFECTOS!$N$9=\"NICARAGUA\",LOOKUP(5,GEfectos!$C$4:$I$4,GEfectos!C257:I257),IF(EFECTOS!$N$9=\"REPÚBLICA \nDOMINICANA\",LOOKUP(6,$C$4:$I$4,C257:I257),IF(EFECTOS!$N$9=\"PANAMÁ\",LOOKUP(7,GEfectos!$C$4:$I$4,GEfectos!C257:I257))))))))","v":75.57513346870067},{"$f":"IF(EFECTOS!$N$9=\"COSTA RICA\",LOOKUP(1,GEfectos!$J$4:$P$4,GEfectos!J257:P257),IF(EFECTOS!$N$9=\"EL SALVADOR\",LOOKUP(2,GEfectos!$J$4:$P$4,GEfectos!J257:P257),IF(EFECTOS!$N$9=\"GUATEMALA\",LOOKUP(3,GEfectos!$J$4:$P$4,GEfectos!J257:P257),IF(EFECTOS!$N$9=\"HONDURAS\",LOOKUP(4,GEfectos!$J$4:$P$4,GEfectos!J257:P257),IF(EFECTOS!$N$9=\"NICARAGUA\",LOOKUP(5,GEfectos!$J$4:$P$4,GEfectos!J257:P257),IF(EFECTOS!$N$9=\"REPÚBLICA \nDOMINICANA\",LOOKUP(6,$J$4:$P$4,J257:P257),IF(EFECTOS!$N$9=\"PANAMÁ\",LOOKUP(7,GEfectos!$J$4:$P$4,GEfectos!J257:P257))))))))","v":160.64660242986704},{"$f":"IF(EFECTOS!$N$9=\"COSTA RICA\",LOOKUP(1,GEfectos!$Q$4:$W$4,GEfectos!Q257:W257),IF(EFECTOS!$N$9=\"EL SALVADOR\",LOOKUP(2,GEfectos!$Q$4:$W$4,GEfectos!Q257:W257),IF(EFECTOS!$N$9=\"GUATEMALA\",LOOKUP(3,GEfectos!$Q$4:$W$4,GEfectos!Q257:W257),IF(EFECTOS!$N$9=\"HONDURAS\",LOOKUP(4,GEfectos!$Q$4:$W$4,GEfectos!Q257:W257),IF(EFECTOS!$N$9=\"NICARAGUA\",LOOKUP(5,GEfectos!$Q$4:$W$4,GEfectos!Q257:W257),IF(EFECTOS!$N$9=\"REPÚBLICA \nDOMINICANA\",LOOKUP(6,$Q$4:$W$4,Q257:W257),IF(EFECTOS!$N$9=\"PANAMÁ\",LOOKUP(7,GEfectos!$Q$4:$W$4,GEfectos!Q257:W257))))))))","v":212.56542338280963},100]
[2016,{"$f":"'ITCER GLOBAL'!B258","v":"Enero"},{"$f":"'ITCER GLOBAL'!C258","v":75.05922825122245},{"$f":"'ITCER GLOBAL'!D258","v":99.953847158909795},{"$f":"'ITCER GLOBAL'!E258","v":58.052807813624696},{"$f":"'ITCER GLOBAL'!F258","v":83.245542017890173},{"$f":"'ITCER GLOBAL'!G258","v":103.26993368198261},{"$f":"'ITCER GLOBAL'!H258","v":129.84379163000781},{"$f":"'ITCER GLOBAL'!I258","v":90.930459091290487},{"$f":"'ITCER GLOBAL'!S258","v":159.0880148992924},{"$f":"'ITCER GLOBAL'!T258","v":89.958265558904614},{"$f":"'ITCER GLOBAL'!U258","v":88.924931522719746},{"$f":"'ITCER GLOBAL'!V258","v":140.57765739407179},{"$f":"'ITCER GLOBAL'!W258","v":192.76878057506462},{"$f":"'ITCER GLOBAL'!X258","v":257.97998580909643},{"$f":"'ITCER GLOBAL'!Y258","v":95.898079469547298},{"$f":"'ITCER GLOBAL'!AA258","v":211.94997418149103},{"$f":"'ITCER GLOBAL'!AB258","v":89.999803024976217},{"$f":"'ITCER GLOBAL'!AC258","v":153.17938076002849},{"$f":"'ITCER GLOBAL'!AD258","v":168.87109385852816},{"$f":"'ITCER GLOBAL'!AE258","v":186.66496017000614},{"$f":"'ITCER GLOBAL'!AF258","v":198.68488325126469},{"$f":"'ITCER GLOBAL'!AG258","v":105.46309831480067},null,{"$f":"IF(EFECTOS!$N$9=\"COSTA RICA\",LOOKUP(1,GEfectos!$C$4:$I$4,GEfectos!C258:I258),IF(EFECTOS!$N$9=\"EL SALVADOR\",LOOKUP(2,GEfectos!$C$4:$I$4,GEfectos!C258:I258),IF(EFECTOS!$N$9=\"GUATEMALA\",LOOKUP(3,GEfectos!$C$4:$I$4,GEfectos!C258:I258),IF(EFECTOS!$N$9=\"HONDURAS\",LOOKUP(4,GEfectos!$C$4:$I$4,GEfectos!C258:I258),IF(EFECTOS!$N$9=\"NICARAGUA\",LOOKUP(5,GEfectos!$C$4:$I$4,GEfectos!C258:I258),IF(EFECTOS!$N$9=\"REPÚBLICA \nDOMINICANA\",LOOKUP(6,$C$4:$I$4,C258:I258),IF(EFECTOS!$N$9=\"PANAMÁ\",LOOKUP(7,GEfectos!$C$4:$I$4,GEfectos!C258:I258))))))))","v":75.05922825122245},{"$f":"IF(EFECTOS!$N$9=\"COSTA RICA\",LOOKUP(1,GEfectos!$J$4:$P$4,GEfectos!J258:P258),IF(EFECTOS!$N$9=\"EL SALVADOR\",LOOKUP(2,GEfectos!$J$4:$P$4,GEfectos!J258:P258),IF(EFECTOS!$N$9=\"GUATEMALA\",LOOKUP(3,GEfectos!$J$4:$P$4,GEfectos!J258:P258),IF(EFECTOS!$N$9=\"HONDURAS\",LOOKUP(4,GEfectos!$J$4:$P$4,GEfectos!J258:P258),IF(EFECTOS!$N$9=\"NICARAGUA\",LOOKUP(5,GEfectos!$J$4:$P$4,GEfectos!J258:P258),IF(EFECTOS!$N$9=\"REPÚBLICA \nDOMINICANA\",LOOKUP(6,$J$4:$P$4,J258:P258),IF(EFECTOS!$N$9=\"PANAMÁ\",LOOKUP(7,GEfectos!$J$4:$P$4,GEfectos!J258:P258))))))))","v":159.0880148992924},{"$f":"IF(EFECTOS!$N$9=\"COSTA RICA\",LOOKUP(1,GEfectos!$Q$4:$W$4,GEfectos!Q258:W258),IF(EFECTOS!$N$9=\"EL SALVADOR\",LOOKUP(2,GEfectos!$Q$4:$W$4,GEfectos!Q258:W258),IF(EFECTOS!$N$9=\"GUATEMALA\",LOOKUP(3,GEfectos!$Q$4:$W$4,GEfectos!Q258:W258),IF(EFECTOS!$N$9=\"HONDURAS\",LOOKUP(4,GEfectos!$Q$4:$W$4,GEfectos!Q258:W258),IF(EFECTOS!$N$9=\"NICARAGUA\",LOOKUP(5,GEfectos!$Q$4:$W$4,GEfectos!Q258:W258),IF(EFECTOS!$N$9=\"REPÚBLICA \nDOMINICANA\",LOOKUP(6,$Q$4:$W$4,Q258:W258),IF(EFECTOS!$N$9=\"PANAMÁ\",LOOKUP(7,GEfectos!$Q$4:$W$4,GEfectos!Q258:W258))))))))","v":211.94997418149103},100]
[null,{"$f":"'ITCER GLOBAL'!B259","v":"Febrero"},{"$f":"'ITCER GLOBAL'!C259","v":75.542511209281855},{"$f":"'ITCER GLOBAL'!D259","v":100.51724629809898},{"$f":"'ITCER GLOBAL'!E259","v":58.2216978972262},{"$f":"'ITCER GLOBAL'!F259","v":83.72429144787678},{"$f":"'ITCER GLOBAL'!G259","v":103.13556933353759},{"$f":"'ITCER GLOBAL'!H259","v":131.64876668159744},{"$f":"'ITCER GLOBAL'!I259","v":91.481510517949857},{"$f":"'ITCER GLOBAL'!S259","v":159.53933400996092},{"$f":"'ITCER GLOBAL'!T259","v":89.928797921946583},{"$f":"'ITCER GLOBAL'!U259","v":89.100832701440595},{"$f":"'ITCER GLOBAL'!V259","v":141.65831391346848},{"$f":"'ITCER GLOBAL'!W259","v":193.68963642829556},{"$f":"'ITCER GLOBAL'!X259","v":259.06689995678801},{"$f":"'ITCER GLOBAL'!Y259","v":96.159876863536439},{"$f":"'ITCER GLOBAL'!AA259","v":211.19146220592998},{"$f":"'ITCER GLOBAL'!AB259","v":89.466038151551857},{"$f":"'ITCER GLOBAL'!AC259","v":153.03715954612437},{"$f":"'ITCER GLOBAL'!AD259","v":169.19619319998546},{"$f":"'ITCER GLOBAL'!AE259","v":187.80100568593227},{"$f":"'ITCER GLOBAL'!AF259","v":196.78642382071155},{"$f":"'ITCER GLOBAL'!AG259","v":105.11400207440676},null,{"$f":"IF(EFECTOS!$N$9=\"COSTA RICA\",LOOKUP(1,GEfectos!$C$4:$I$4,GEfectos!C259:I259),IF(EFECTOS!$N$9=\"EL SALVADOR\",LOOKUP(2,GEfectos!$C$4:$I$4,GEfectos!C259:I259),IF(EFECTOS!$N$9=\"GUATEMALA\",LOOKUP(3,GEfectos!$C$4:$I$4,GEfectos!C259:I259),IF(EFECTOS!$N$9=\"HONDURAS\",LOOKUP(4,GEfectos!$C$4:$I$4,GEfectos!C259:I259),IF(EFECTOS!$N$9=\"NICARAGUA\",LOOKUP(5,GEfectos!$C$4:$I$4,GEfectos!C259:I259),IF(EFECTOS!$N$9=\"REPÚBLICA \nDOMINICANA\",LOOKUP(6,$C$4:$I$4,C259:I259),IF(EFECTOS!$N$9=\"PANAMÁ\",LOOKUP(7,GEfectos!$C$4:$I$4,GEfectos!C259:I259))))))))","v":75.542511209281855},{"$f":"IF(EFECTOS!$N$9=\"COSTA RICA\",LOOKUP(1,GEfectos!$J$4:$P$4,GEfectos!J259:P259),IF(EFECTOS!$N$9=\"EL SALVADOR\",LOOKUP(2,GEfectos!$J$4:$P$4,GEfectos!J259:P259),IF(EFECTOS!$N$9=\"GUATEMALA\",LOOKUP(3,GEfectos!$J$4:$P$4,GEfectos!J259:P259),IF(EFECTOS!$N$9=\"HONDURAS\",LOOKUP(4,GEfectos!$J$4:$P$4,GEfectos!J259:P259),IF(EFECTOS!$N$9=\"NICARAGUA\",LOOKUP(5,GEfectos!$J$4:$P$4,GEfectos!J259:P259),IF(EFECTOS!$N$9=\"REPÚBLICA \nDOMINICANA\",LOOKUP(6,$J$4:$P$4,J259:P259),IF(EFECTOS!$N$9=\"PANAMÁ\",LOOKUP(7,GEfectos!$J$4:$P$4,GEfectos!J259:P259))))))))","v":159.53933400996092},{"$f":"IF(EFECTOS!$N$9=\"COSTA RICA\",LOOKUP(1,GEfectos!$Q$4:$W$4,GEfectos!Q259:W259),IF(EFECTOS!$N$9=\"EL SALVADOR\",LOOKUP(2,GEfectos!$Q$4:$W$4,GEfectos!Q259:W259),IF(EFECTOS!$N$9=\"GUATEMALA\",LOOKUP(3,GEfectos!$Q$4:$W$4,GEfectos!Q259:W259),IF(EFECTOS!$N$9=\"HONDURAS\",LOOKUP(4,GEfectos!$Q$4:$W$4,GEfectos!Q259:W259),IF(EFECTOS!$N$9=\"NICARAGUA\",LOOKUP(5,GEfectos!$Q$4:$W$4,GEfectos!Q259:W259),IF(EFECTOS!$N$9=\"REPÚBLICA \nDOMINICANA\",LOOKUP(6,$Q$4:$W$4,Q259:W259),IF(EFECTOS!$N$9=\"PANAMÁ\",LOOKUP(7,GEfectos!$Q$4:$W$4,GEfectos!Q259:W259))))))))","v":211.19146220592998},100]
[null,{"$f":"'ITCER GLOBAL'!B260","v":"Marzo"},{"$f":"'ITCER GLOBAL'!C260","v":76.866207666322282},{"$f":"'ITCER GLOBAL'!D260","v":101.3083115402933},{"$f":"'ITCER GLOBAL'!E260","v":59.152916967855987},{"$f":"'ITCER GLOBAL'!F260","v":84.399159440393561},{"$f":"'ITCER GLOBAL'!G260","v":103.79973113625314},{"$f":"'ITCER GLOBAL'!H260","v":133.31174656055308},{"$f":"'ITCER GLOBAL'!I260","v":92.476311631119813},{"$f":"'ITCER GLOBAL'!S260","v":160.26092010786607},{"$f":"'ITCER GLOBAL'!T260","v":90.336976891479395},{"$f":"'ITCER GLOBAL'!U260","v":90.472306784069545},{"$f":"'ITCER GLOBAL'!V260","v":142.70150713086295},{"$f":"'ITCER GLOBAL'!W260","v":195.79578480994965},{"$f":"'ITCER GLOBAL'!X260","v":261.29803768810314},{"$f":"'ITCER GLOBAL'!Y260","v":97.210888791747237},{"$f":"'ITCER GLOBAL'!AA260","v":208.49333533346913},{"$f":"'ITCER GLOBAL'!AB260","v":89.170350900132917},{"$f":"'ITCER GLOBAL'!AC260","v":152.94648416616999},{"$f":"'ITCER GLOBAL'!AD260","v":169.07929898477849},{"$f":"'ITCER GLOBAL'!AE260","v":188.62841229611422},{"$f":"'ITCER GLOBAL'!AF260","v":196.00526167393352},{"$f":"'ITCER GLOBAL'!AG260","v":105.11977292034878},null,{"$f":"IF(EFECTOS!$N$9=\"COSTA RICA\",LOOKUP(1,GEfectos!$C$4:$I$4,GEfectos!C260:I260),IF(EFECTOS!$N$9=\"EL SALVADOR\",LOOKUP(2,GEfectos!$C$4:$I$4,GEfectos!C260:I260),IF(EFECTOS!$N$9=\"GUATEMALA\",LOOKUP(3,GEfectos!$C$4:$I$4,GEfectos!C260:I260),IF(EFECTOS!$N$9=\"HONDURAS\",LOOKUP(4,GEfectos!$C$4:$I$4,GEfectos!C260:I260),IF(EFECTOS!$N$9=\"NICARAGUA\",LOOKUP(5,GEfectos!$C$4:$I$4,GEfectos!C260:I260),IF(EFECTOS!$N$9=\"REPÚBLICA \nDOMINICANA\",LOOKUP(6,$C$4:$I$4,C260:I260),IF(EFECTOS!$N$9=\"PANAMÁ\",LOOKUP(7,GEfectos!$C$4:$I$4,GEfectos!C260:I260))))))))","v":76.866207666322282},{"$f":"IF(EFECTOS!$N$9=\"COSTA RICA\",LOOKUP(1,GEfectos!$J$4:$P$4,GEfectos!J260:P260),IF(EFECTOS!$N$9=\"EL SALVADOR\",LOOKUP(2,GEfectos!$J$4:$P$4,GEfectos!J260:P260),IF(EFECTOS!$N$9=\"GUATEMALA\",LOOKUP(3,GEfectos!$J$4:$P$4,GEfectos!J260:P260),IF(EFECTOS!$N$9=\"HONDURAS\",LOOKUP(4,GEfectos!$J$4:$P$4,GEfectos!J260:P260),IF(EFECTOS!$N$9=\"NICARAGUA\",LOOKUP(5,GEfectos!$J$4:$P$4,GEfectos!J260:P260),IF(EFECTOS!$N$9=\"REPÚBLICA \nDOMINICANA\",LOOKUP(6,$J$4:$P$4,J260:P260),IF(EFECTOS!$N$9=\"PANAMÁ\",LOOKUP(7,GEfectos!$J$4:$P$4,GEfectos!J260:P260))))))))","v":160.26092010786607},{"$f":"IF(EFECTOS!$N$9=\"COSTA RICA\",LOOKUP(1,GEfectos!$Q$4:$W$4,GEfectos!Q260:W260),IF(EFECTOS!$N$9=\"EL SALVADOR\",LOOKUP(2,GEfectos!$Q$4:$W$4,GEfectos!Q260:W260),IF(EFECTOS!$N$9=\"GUATEMALA\",LOOKUP(3,GEfectos!$Q$4:$W$4,GEfectos!Q260:W260),IF(EFECTOS!$N$9=\"HONDURAS\",LOOKUP(4,GEfectos!$Q$4:$W$4,GEfectos!Q260:W260),IF(EFECTOS!$N$9=\"NICARAGUA\",LOOKUP(5,GEfectos!$Q$4:$W$4,GEfectos!Q260:W260),IF(EFECTOS!$N$9=\"REPÚBLICA \nDOMINICANA\",LOOKUP(6,$Q$4:$W$4,Q260:W260),IF(EFECTOS!$N$9=\"PANAMÁ\",LOOKUP(7,GEfectos!$Q$4:$W$4,GEfectos!Q260:W260))))))))","v":208.49333533346913},100]
[null,{"$f":"'ITCER GLOBAL'!B261","v":"Abril"},{"$f":"'ITCER GLOBAL'!C261","v":77.55808206819674},{"$f":"'ITCER GLOBAL'!D261","v":102.16422065915057},{"$f":"'ITCER GLOBAL'!E261","v":59.598104185402782},{"$f":"'ITCER GLOBAL'!F261","v":84.671839316129009},{"$f":"'ITCER GLOBAL'!G261","v":104.46233023593824},{"$f":"'ITCER GLOBAL'!H261","v":134.88909807182236},{"$f":"'ITCER GLOBAL'!I261","v":93.071924025791617},{"$f":"'ITCER GLOBAL'!S261","v":161.42851651763846},{"$f":"'ITCER GLOBAL'!T261","v":90.632904961625485},{"$f":"'ITCER GLOBAL'!U261","v":91.121706346292385},{"$f":"'ITCER GLOBAL'!V261","v":143.13916774519305},{"$f":"'ITCER GLOBAL'!W261","v":196.98884762281753},{"$f":"'ITCER GLOBAL'!X261","v":263.27743402735939},{"$f":"'ITCER GLOBAL'!Y261","v":98.104688636282148},{"$f":"'ITCER GLOBAL'!AA261","v":208.13887116973123},{"$f":"'ITCER GLOBAL'!AB261","v":88.712960737989775},{"$f":"'ITCER GLOBAL'!AC261","v":152.89363242633246},{"$f":"'ITCER GLOBAL'!AD261","v":169.05168105628562},{"$f":"'ITCER GLOBAL'!AE261","v":188.57405073953379},{"$f":"'ITCER GLOBAL'!AF261","v":195.18066158851178},{"$f":"'ITCER GLOBAL'!AG261","v":105.40739289873915},null,{"$f":"IF(EFECTOS!$N$9=\"COSTA RICA\",LOOKUP(1,GEfectos!$C$4:$I$4,GEfectos!C261:I261),IF(EFECTOS!$N$9=\"EL SALVADOR\",LOOKUP(2,GEfectos!$C$4:$I$4,GEfectos!C261:I261),IF(EFECTOS!$N$9=\"GUATEMALA\",LOOKUP(3,GEfectos!$C$4:$I$4,GEfectos!C261:I261),IF(EFECTOS!$N$9=\"HONDURAS\",LOOKUP(4,GEfectos!$C$4:$I$4,GEfectos!C261:I261),IF(EFECTOS!$N$9=\"NICARAGUA\",LOOKUP(5,GEfectos!$C$4:$I$4,GEfectos!C261:I261),IF(EFECTOS!$N$9=\"REPÚBLICA \nDOMINICANA\",LOOKUP(6,$C$4:$I$4,C261:I261),IF(EFECTOS!$N$9=\"PANAMÁ\",LOOKUP(7,GEfectos!$C$4:$I$4,GEfectos!C261:I261))))))))","v":77.55808206819674},{"$f":"IF(EFECTOS!$N$9=\"COSTA RICA\",LOOKUP(1,GEfectos!$J$4:$P$4,GEfectos!J261:P261),IF(EFECTOS!$N$9=\"EL SALVADOR\",LOOKUP(2,GEfectos!$J$4:$P$4,GEfectos!J261:P261),IF(EFECTOS!$N$9=\"GUATEMALA\",LOOKUP(3,GEfectos!$J$4:$P$4,GEfectos!J261:P261),IF(EFECTOS!$N$9=\"HONDURAS\",LOOKUP(4,GEfectos!$J$4:$P$4,GEfectos!J261:P261),IF(EFECTOS!$N$9=\"NICARAGUA\",LOOKUP(5,GEfectos!$J$4:$P$4,GEfectos!J261:P261),IF(EFECTOS!$N$9=\"REPÚBLICA \nDOMINICANA\",LOOKUP(6,$J$4:$P$4,J261:P261),IF(EFECTOS!$N$9=\"PANAMÁ\",LOOKUP(7,GEfectos!$J$4:$P$4,GEfectos!J261:P261))))))))","v":161.42851651763846},{"$f":"IF(EFECTOS!$N$9=\"COSTA RICA\",LOOKUP(1,GEfectos!$Q$4:$W$4,GEfectos!Q261:W261),IF(EFECTOS!$N$9=\"EL SALVADOR\",LOOKUP(2,GEfectos!$Q$4:$W$4,GEfectos!Q261:W261),IF(EFECTOS!$N$9=\"GUATEMALA\",LOOKUP(3,GEfectos!$Q$4:$W$4,GEfectos!Q261:W261),IF(EFECTOS!$N$9=\"HONDURAS\",LOOKUP(4,GEfectos!$Q$4:$W$4,GEfectos!Q261:W261),IF(EFECTOS!$N$9=\"NICARAGUA\",LOOKUP(5,GEfectos!$Q$4:$W$4,GEfectos!Q261:W261),IF(EFECTOS!$N$9=\"REPÚBLICA \nDOMINICANA\",LOOKUP(6,$Q$4:$W$4,Q261:W261),IF(EFECTOS!$N$9=\"PANAMÁ\",LOOKUP(7,GEfectos!$Q$4:$W$4,GEfectos!Q261:W261))))))))","v":208.13887116973123},100]
[null,{"$f":"'ITCER GLOBAL'!B262","v":"Mayo"},{"$f":"'ITCER GLOBAL'!C262","v":77.530667442192737},{"$f":"'ITCER GLOBAL'!D262","v":102.16123345823669},{"$f":"'ITCER GLOBAL'!E262","v":58.471684392503349},{"$f":"'ITCER GLOBAL'!F262","v":84.423300482290571},{"$f":"'ITCER GLOBAL'!G262","v":103.99699258524355},{"$f":"'ITCER GLOBAL'!H262","v":134.56735426834524},{"$f":"'ITCER GLOBAL'!I262","v":92.580060814175269},{"$f":"'ITCER GLOBAL'!S262","v":161.28098274833701},{"$f":"'ITCER GLOBAL'!T262","v":90.435187923862998},{"$f":"'ITCER GLOBAL'!U262","v":89.634067141663181},{"$f":"'ITCER GLOBAL'!V262","v":142.85303077279778},{"$f":"'ITCER GLOBAL'!W262","v":196.89786264556739},{"$f":"'ITCER GLOBAL'!X262","v":262.55828654470446},{"$f":"'ITCER GLOBAL'!Y262","v":97.585155480936123},{"$f":"'ITCER GLOBAL'!AA262","v":208.02217763517768},{"$f":"'ITCER GLOBAL'!AB262","v":88.522020401048437},{"$f":"'ITCER GLOBAL'!AC262","v":153.29482650093652},{"$f":"'ITCER GLOBAL'!AD262","v":169.21043119223225},{"$f":"'ITCER GLOBAL'!AE262","v":189.33034287907461},{"$f":"'ITCER GLOBAL'!AF262","v":195.1129142519427},{"$f":"'ITCER GLOBAL'!AG262","v":105.40623393714006},null,{"$f":"IF(EFECTOS!$N$9=\"COSTA RICA\",LOOKUP(1,GEfectos!$C$4:$I$4,GEfectos!C262:I262),IF(EFECTOS!$N$9=\"EL SALVADOR\",LOOKUP(2,GEfectos!$C$4:$I$4,GEfectos!C262:I262),IF(EFECTOS!$N$9=\"GUATEMALA\",LOOKUP(3,GEfectos!$C$4:$I$4,GEfectos!C262:I262),IF(EFECTOS!$N$9=\"HONDURAS\",LOOKUP(4,GEfectos!$C$4:$I$4,GEfectos!C262:I262),IF(EFECTOS!$N$9=\"NICARAGUA\",LOOKUP(5,GEfectos!$C$4:$I$4,GEfectos!C262:I262),IF(EFECTOS!$N$9=\"REPÚBLICA \nDOMINICANA\",LOOKUP(6,$C$4:$I$4,C262:I262),IF(EFECTOS!$N$9=\"PANAMÁ\",LOOKUP(7,GEfectos!$C$4:$I$4,GEfectos!C262:I262))))))))","v":77.530667442192737},{"$f":"IF(EFECTOS!$N$9=\"COSTA RICA\",LOOKUP(1,GEfectos!$J$4:$P$4,GEfectos!J262:P262),IF(EFECTOS!$N$9=\"EL SALVADOR\",LOOKUP(2,GEfectos!$J$4:$P$4,GEfectos!J262:P262),IF(EFECTOS!$N$9=\"GUATEMALA\",LOOKUP(3,GEfectos!$J$4:$P$4,GEfectos!J262:P262),IF(EFECTOS!$N$9=\"HONDURAS\",LOOKUP(4,GEfectos!$J$4:$P$4,GEfectos!J262:P262),IF(EFECTOS!$N$9=\"NICARAGUA\",LOOKUP(5,GEfectos!$J$4:$P$4,GEfectos!J262:P262),IF(EFECTOS!$N$9=\"REPÚBLICA \nDOMINICANA\",LOOKUP(6,$J$4:$P$4,J262:P262),IF(EFECTOS!$N$9=\"PANAMÁ\",LOOKUP(7,GEfectos!$J$4:$P$4,GEfectos!J262:P262))))))))","v":161.28098274833701},{"$f":"IF(EFECTOS!$N$9=\"COSTA RICA\",LOOKUP(1,GEfectos!$Q$4:$W$4,GEfectos!Q262:W262),IF(EFECTOS!$N$9=\"EL SALVADOR\",LOOKUP(2,GEfectos!$Q$4:$W$4,GEfectos!Q262:W262),IF(EFECTOS!$N$9=\"GUATEMALA\",LOOKUP(3,GEfectos!$Q$4:$W$4,GEfectos!Q262:W262),IF(EFECTOS!$N$9=\"HONDURAS\",LOOKUP(4,GEfectos!$Q$4:$W$4,GEfectos!Q262:W262),IF(EFECTOS!$N$9=\"NICARAGUA\",LOOKUP(5,GEfectos!$Q$4:$W$4,GEfectos!Q262:W262),IF(EFECTOS!$N$9=\"REPÚBLICA \nDOMINICANA\",LOOKUP(6,$Q$4:$W$4,Q262:W262),IF(EFECTOS!$N$9=\"PANAMÁ\",LOOKUP(7,GEfectos!$Q$4:$W$4,GEfectos!Q262:W262))))))))","v":208.02217763517768},100]
[null,{"$f":"'ITCER GLOBAL'!B263","v":"Junio"},{"$f":"'ITCER GLOBAL'!C263","v":78.400551329364163},{"$f":"'ITCER GLOBAL'!D263","v":102.06506185723126},{"$f":"'ITCER GLOBAL'!E263","v":58.074530947887112},{"$f":"'ITCER GLOBAL'!F263","v":84.315242761700844},{"$f":"'ITCER GLOBAL'!G263","v":104.23228702790931},{"$f":"'ITCER GLOBAL'!H263","v":134.01643528568582},{"$f":"'ITCER GLOBAL'!I263","v":92.570531928947261},{"$f":"'ITCER GLOBAL'!S263","v":162.7210340418647},{"$f":"'ITCER GLOBAL'!T263","v":90.198791466525023},{"$f":"'ITCER GLOBAL'!U263","v":89.247846043475505},{"$f":"'ITCER GLOBAL'!V263","v":143.31076330808568},{"$f":"'ITCER GLOBAL'!W263","v":196.75772204611678},{"$f":"'ITCER GLOBAL'!X263","v":262.38200188096999},{"$f":"'ITCER GLOBAL'!Y263","v":97.322744763375326},{"$f":"'ITCER GLOBAL'!AA263","v":207.5508797868863},{"$f":"'ITCER GLOBAL'!AB263","v":88.373817470169385},{"$f":"'ITCER GLOBAL'!AC263","v":153.67811773385068},{"$f":"'ITCER GLOBAL'!AD263","v":169.9701721942771},{"$f":"'ITCER GLOBAL'!AE263","v":188.76849741715137},{"$f":"'ITCER GLOBAL'!AF263","v":195.78345097871349},{"$f":"'ITCER GLOBAL'!AG263","v":105.13361297099995},null,{"$f":"IF(EFECTOS!$N$9=\"COSTA RICA\",LOOKUP(1,GEfectos!$C$4:$I$4,GEfectos!C263:I263),IF(EFECTOS!$N$9=\"EL SALVADOR\",LOOKUP(2,GEfectos!$C$4:$I$4,GEfectos!C263:I263),IF(EFECTOS!$N$9=\"GUATEMALA\",LOOKUP(3,GEfectos!$C$4:$I$4,GEfectos!C263:I263),IF(EFECTOS!$N$9=\"HONDURAS\",LOOKUP(4,GEfectos!$C$4:$I$4,GEfectos!C263:I263),IF(EFECTOS!$N$9=\"NICARAGUA\",LOOKUP(5,GEfectos!$C$4:$I$4,GEfectos!C263:I263),IF(EFECTOS!$N$9=\"REPÚBLICA \nDOMINICANA\",LOOKUP(6,$C$4:$I$4,C263:I263),IF(EFECTOS!$N$9=\"PANAMÁ\",LOOKUP(7,GEfectos!$C$4:$I$4,GEfectos!C263:I263))))))))","v":78.400551329364163},{"$f":"IF(EFECTOS!$N$9=\"COSTA RICA\",LOOKUP(1,GEfectos!$J$4:$P$4,GEfectos!J263:P263),IF(EFECTOS!$N$9=\"EL SALVADOR\",LOOKUP(2,GEfectos!$J$4:$P$4,GEfectos!J263:P263),IF(EFECTOS!$N$9=\"GUATEMALA\",LOOKUP(3,GEfectos!$J$4:$P$4,GEfectos!J263:P263),IF(EFECTOS!$N$9=\"HONDURAS\",LOOKUP(4,GEfectos!$J$4:$P$4,GEfectos!J263:P263),IF(EFECTOS!$N$9=\"NICARAGUA\",LOOKUP(5,GEfectos!$J$4:$P$4,GEfectos!J263:P263),IF(EFECTOS!$N$9=\"REPÚBLICA \nDOMINICANA\",LOOKUP(6,$J$4:$P$4,J263:P263),IF(EFECTOS!$N$9=\"PANAMÁ\",LOOKUP(7,GEfectos!$J$4:$P$4,GEfectos!J263:P263))))))))","v":162.7210340418647},{"$f":"IF(EFECTOS!$N$9=\"COSTA RICA\",LOOKUP(1,GEfectos!$Q$4:$W$4,GEfectos!Q263:W263),IF(EFECTOS!$N$9=\"EL SALVADOR\",LOOKUP(2,GEfectos!$Q$4:$W$4,GEfectos!Q263:W263),IF(EFECTOS!$N$9=\"GUATEMALA\",LOOKUP(3,GEfectos!$Q$4:$W$4,GEfectos!Q263:W263),IF(EFECTOS!$N$9=\"HONDURAS\",LOOKUP(4,GEfectos!$Q$4:$W$4,GEfectos!Q263:W263),IF(EFECTOS!$N$9=\"NICARAGUA\",LOOKUP(5,GEfectos!$Q$4:$W$4,GEfectos!Q263:W263),IF(EFECTOS!$N$9=\"REPÚBLICA \nDOMINICANA\",LOOKUP(6,$Q$4:$W$4,Q263:W263),IF(EFECTOS!$N$9=\"PANAMÁ\",LOOKUP(7,GEfectos!$Q$4:$W$4,GEfectos!Q263:W263))))))))","v":207.5508797868863},100]
[null,{"$f":"'ITCER GLOBAL'!B264","v":"Julio"},{"$f":"'ITCER GLOBAL'!C264","v":78.287498128555171},{"$f":"'ITCER GLOBAL'!D264","v":102.2249350762857},{"$f":"'ITCER GLOBAL'!E264","v":57.275885537887731},{"$f":"'ITCER GLOBAL'!F264","v":84.387100003487234},{"$f":"'ITCER GLOBAL'!G264","v":104.56414806564375},{"$f":"'ITCER GLOBAL'!H264","v":133.71414998430265},{"$f":"'ITCER GLOBAL'!I264","v":92.388071406006063},{"$f":"'ITCER GLOBAL'!S264","v":164.08032935864611},{"$f":"'ITCER GLOBAL'!T264","v":90.158060355291411},{"$f":"'ITCER GLOBAL'!U264","v":88.63130146743417},{"$f":"'ITCER GLOBAL'!V264","v":143.84432135126428},{"$f":"'ITCER GLOBAL'!W264","v":197.88902281346728},{"$f":"'ITCER GLOBAL'!X264","v":262.31841167083587},{"$f":"'ITCER GLOBAL'!Y264","v":97.235451538762362},{"$f":"'ITCER GLOBAL'!AA264","v":209.58688587699066},{"$f":"'ITCER GLOBAL'!AB264","v":88.195761912698373},{"$f":"'ITCER GLOBAL'!AC264","v":154.74453277340422},{"$f":"'ITCER GLOBAL'!AD264","v":170.45771373269139},{"$f":"'ITCER GLOBAL'!AE264","v":189.25131268629056},{"$f":"'ITCER GLOBAL'!AF264","v":196.17849846230237},{"$f":"'ITCER GLOBAL'!AG264","v":105.24675973747102},null,{"$f":"IF(EFECTOS!$N$9=\"COSTA RICA\",LOOKUP(1,GEfectos!$C$4:$I$4,GEfectos!C264:I264),IF(EFECTOS!$N$9=\"EL SALVADOR\",LOOKUP(2,GEfectos!$C$4:$I$4,GEfectos!C264:I264),IF(EFECTOS!$N$9=\"GUATEMALA\",LOOKUP(3,GEfectos!$C$4:$I$4,GEfectos!C264:I264),IF(EFECTOS!$N$9=\"HONDURAS\",LOOKUP(4,GEfectos!$C$4:$I$4,GEfectos!C264:I264),IF(EFECTOS!$N$9=\"NICARAGUA\",LOOKUP(5,GEfectos!$C$4:$I$4,GEfectos!C264:I264),IF(EFECTOS!$N$9=\"REPÚBLICA \nDOMINICANA\",LOOKUP(6,$C$4:$I$4,C264:I264),IF(EFECTOS!$N$9=\"PANAMÁ\",LOOKUP(7,GEfectos!$C$4:$I$4,GEfectos!C264:I264))))))))","v":78.287498128555171},{"$f":"IF(EFECTOS!$N$9=\"COSTA RICA\",LOOKUP(1,GEfectos!$J$4:$P$4,GEfectos!J264:P264),IF(EFECTOS!$N$9=\"EL SALVADOR\",LOOKUP(2,GEfectos!$J$4:$P$4,GEfectos!J264:P264),IF(EFECTOS!$N$9=\"GUATEMALA\",LOOKUP(3,GEfectos!$J$4:$P$4,GEfectos!J264:P264),IF(EFECTOS!$N$9=\"HONDURAS\",LOOKUP(4,GEfectos!$J$4:$P$4,GEfectos!J264:P264),IF(EFECTOS!$N$9=\"NICARAGUA\",LOOKUP(5,GEfectos!$J$4:$P$4,GEfectos!J264:P264),IF(EFECTOS!$N$9=\"REPÚBLICA \nDOMINICANA\",LOOKUP(6,$J$4:$P$4,J264:P264),IF(EFECTOS!$N$9=\"PANAMÁ\",LOOKUP(7,GEfectos!$J$4:$P$4,GEfectos!J264:P264))))))))","v":164.08032935864611},{"$f":"IF(EFECTOS!$N$9=\"COSTA RICA\",LOOKUP(1,GEfectos!$Q$4:$W$4,GEfectos!Q264:W264),IF(EFECTOS!$N$9=\"EL SALVADOR\",LOOKUP(2,GEfectos!$Q$4:$W$4,GEfectos!Q264:W264),IF(EFECTOS!$N$9=\"GUATEMALA\",LOOKUP(3,GEfectos!$Q$4:$W$4,GEfectos!Q264:W264),IF(EFECTOS!$N$9=\"HONDURAS\",LOOKUP(4,GEfectos!$Q$4:$W$4,GEfectos!Q264:W264),IF(EFECTOS!$N$9=\"NICARAGUA\",LOOKUP(5,GEfectos!$Q$4:$W$4,GEfectos!Q264:W264),IF(EFECTOS!$N$9=\"REPÚBLICA \nDOMINICANA\",LOOKUP(6,$Q$4:$W$4,Q264:W264),IF(EFECTOS!$N$9=\"PANAMÁ\",LOOKUP(7,GEfectos!$Q$4:$W$4,GEfectos!Q264:W264))))))))","v":209.58688587699066},100]
[null,{"$f":"'ITCER GLOBAL'!B265","v":"Agosto"},{"$f":"'ITCER GLOBAL'!C265","v":78.877758449959373},{"$f":"'ITCER GLOBAL'!D265","v":102.80252971040075},{"$f":"'ITCER GLOBAL'!E265","v":56.871453710046644},{"$f":"'ITCER GLOBAL'!F265","v":84.695023467968895},{"$f":"'ITCER GLOBAL'!G265","v":105.8130905062711},{"$f":"'ITCER GLOBAL'!H265","v":134.23519285674575},{"$f":"'ITCER GLOBAL'!I265","v":92.852614089054526},{"$f":"'ITCER GLOBAL'!S265","v":165.243659669393},{"$f":"'ITCER GLOBAL'!T265","v":90.359646539501782},{"$f":"'ITCER GLOBAL'!U265","v":88.112495956418158},{"$f":"'ITCER GLOBAL'!V265","v":144.47048540057355},{"$f":"'ITCER GLOBAL'!W265","v":199.3477739058452},{"$f":"'ITCER GLOBAL'!X265","v":262.83858353416048},{"$f":"'ITCER GLOBAL'!Y265","v":97.64081760332941},{"$f":"'ITCER GLOBAL'!AA265","v":209.4933513789249},{"$f":"'ITCER GLOBAL'!AB265","v":87.89632589202705},{"$f":"'ITCER GLOBAL'!AC265","v":154.93273023343278},{"$f":"'ITCER GLOBAL'!AD265","v":170.57730133956613},{"$f":"'ITCER GLOBAL'!AE265","v":188.39613600930662},{"$f":"'ITCER GLOBAL'!AF265","v":195.80452632467163},{"$f":"'ITCER GLOBAL'!AG265","v":105.15677836456231},null,{"$f":"IF(EFECTOS!$N$9=\"COSTA RICA\",LOOKUP(1,GEfectos!$C$4:$I$4,GEfectos!C265:I265),IF(EFECTOS!$N$9=\"EL SALVADOR\",LOOKUP(2,GEfectos!$C$4:$I$4,GEfectos!C265:I265),IF(EFECTOS!$N$9=\"GUATEMALA\",LOOKUP(3,GEfectos!$C$4:$I$4,GEfectos!C265:I265),IF(EFECTOS!$N$9=\"HONDURAS\",LOOKUP(4,GEfectos!$C$4:$I$4,GEfectos!C265:I265),IF(EFECTOS!$N$9=\"NICARAGUA\",LOOKUP(5,GEfectos!$C$4:$I$4,GEfectos!C265:I265),IF(EFECTOS!$N$9=\"REPÚBLICA \nDOMINICANA\",LOOKUP(6,$C$4:$I$4,C265:I265),IF(EFECTOS!$N$9=\"PANAMÁ\",LOOKUP(7,GEfectos!$C$4:$I$4,GEfectos!C265:I265))))))))","v":78.877758449959373},{"$f":"IF(EFECTOS!$N$9=\"COSTA RICA\",LOOKUP(1,GEfectos!$J$4:$P$4,GEfectos!J265:P265),IF(EFECTOS!$N$9=\"EL SALVADOR\",LOOKUP(2,GEfectos!$J$4:$P$4,GEfectos!J265:P265),IF(EFECTOS!$N$9=\"GUATEMALA\",LOOKUP(3,GEfectos!$J$4:$P$4,GEfectos!J265:P265),IF(EFECTOS!$N$9=\"HONDURAS\",LOOKUP(4,GEfectos!$J$4:$P$4,GEfectos!J265:P265),IF(EFECTOS!$N$9=\"NICARAGUA\",LOOKUP(5,GEfectos!$J$4:$P$4,GEfectos!J265:P265),IF(EFECTOS!$N$9=\"REPÚBLICA \nDOMINICANA\",LOOKUP(6,$J$4:$P$4,J265:P265),IF(EFECTOS!$N$9=\"PANAMÁ\",LOOKUP(7,GEfectos!$J$4:$P$4,GEfectos!J265:P265))))))))","v":165.243659669393},{"$f":"IF(EFECTOS!$N$9=\"COSTA RICA\",LOOKUP(1,GEfectos!$Q$4:$W$4,GEfectos!Q265:W265),IF(EFECTOS!$N$9=\"EL SALVADOR\",LOOKUP(2,GEfectos!$Q$4:$W$4,GEfectos!Q265:W265),IF(EFECTOS!$N$9=\"GUATEMALA\",LOOKUP(3,GEfectos!$Q$4:$W$4,GEfectos!Q265:W265),IF(EFECTOS!$N$9=\"HONDURAS\",LOOKUP(4,GEfectos!$Q$4:$W$4,GEfectos!Q265:W265),IF(EFECTOS!$N$9=\"NICARAGUA\",LOOKUP(5,GEfectos!$Q$4:$W$4,GEfectos!Q265:W265),IF(EFECTOS!$N$9=\"REPÚBLICA \nDOMINICANA\",LOOKUP(6,$Q$4:$W$4,Q265:W265),IF(EFECTOS!$N$9=\"PANAMÁ\",LOOKUP(7,GEfectos!$Q$4:$W$4,GEfectos!Q265:W265))))))))","v":209.4933513789249},100]
[null,{"$f":"'ITCER GLOBAL'!B266","v":"Septiembre"},{"$f":"'ITCER GLOBAL'!C266","v":79.446022309827882},{"$f":"'ITCER GLOBAL'!D266","v":102.99314404665789},{"$f":"'ITCER GLOBAL'!E266","v":56.772091006406384},{"$f":"'ITCER GLOBAL'!F266","v":84.749319395225129},{"$f":"'ITCER GLOBAL'!G266","v":106.22122910104186},{"$f":"'ITCER GLOBAL'!H266","v":134.57690656184425},{"$f":"'ITCER GLOBAL'!I266","v":92.635046494984621},{"$f":"'ITCER GLOBAL'!S266","v":165.19979721976398},{"$f":"'ITCER GLOBAL'!T266","v":90.074721858603255},{"$f":"'ITCER GLOBAL'!U266","v":87.573840085317642},{"$f":"'ITCER GLOBAL'!V266","v":144.52762050383717},{"$f":"'ITCER GLOBAL'!W266","v":199.05138995775587},{"$f":"'ITCER GLOBAL'!X266","v":262.69931471315795},{"$f":"'ITCER GLOBAL'!Y266","v":97.316271141566915},{"$f":"'ITCER GLOBAL'!AA266","v":207.93967075596171},{"$f":"'ITCER GLOBAL'!AB266","v":87.457007641011188},{"$f":"'ITCER GLOBAL'!AC266","v":154.25509001497846},{"$f":"'ITCER GLOBAL'!AD266","v":170.53543501610707},{"$f":"'ITCER GLOBAL'!AE266","v":187.39322792848711},{"$f":"'ITCER GLOBAL'!AF266","v":195.20385883772383},{"$f":"'ITCER GLOBAL'!AG266","v":105.05340562098789},null,{"$f":"IF(EFECTOS!$N$9=\"COSTA RICA\",LOOKUP(1,GEfectos!$C$4:$I$4,GEfectos!C266:I266),IF(EFECTOS!$N$9=\"EL SALVADOR\",LOOKUP(2,GEfectos!$C$4:$I$4,GEfectos!C266:I266),IF(EFECTOS!$N$9=\"GUATEMALA\",LOOKUP(3,GEfectos!$C$4:$I$4,GEfectos!C266:I266),IF(EFECTOS!$N$9=\"HONDURAS\",LOOKUP(4,GEfectos!$C$4:$I$4,GEfectos!C266:I266),IF(EFECTOS!$N$9=\"NICARAGUA\",LOOKUP(5,GEfectos!$C$4:$I$4,GEfectos!C266:I266),IF(EFECTOS!$N$9=\"REPÚBLICA \nDOMINICANA\",LOOKUP(6,$C$4:$I$4,C266:I266),IF(EFECTOS!$N$9=\"PANAMÁ\",LOOKUP(7,GEfectos!$C$4:$I$4,GEfectos!C266:I266))))))))","v":79.446022309827882},{"$f":"IF(EFECTOS!$N$9=\"COSTA RICA\",LOOKUP(1,GEfectos!$J$4:$P$4,GEfectos!J266:P266),IF(EFECTOS!$N$9=\"EL SALVADOR\",LOOKUP(2,GEfectos!$J$4:$P$4,GEfectos!J266:P266),IF(EFECTOS!$N$9=\"GUATEMALA\",LOOKUP(3,GEfectos!$J$4:$P$4,GEfectos!J266:P266),IF(EFECTOS!$N$9=\"HONDURAS\",LOOKUP(4,GEfectos!$J$4:$P$4,GEfectos!J266:P266),IF(EFECTOS!$N$9=\"NICARAGUA\",LOOKUP(5,GEfectos!$J$4:$P$4,GEfectos!J266:P266),IF(EFECTOS!$N$9=\"REPÚBLICA \nDOMINICANA\",LOOKUP(6,$J$4:$P$4,J266:P266),IF(EFECTOS!$N$9=\"PANAMÁ\",LOOKUP(7,GEfectos!$J$4:$P$4,GEfectos!J266:P266))))))))","v":165.19979721976398},{"$f":"IF(EFECTOS!$N$9=\"COSTA RICA\",LOOKUP(1,GEfectos!$Q$4:$W$4,GEfectos!Q266:W266),IF(EFECTOS!$N$9=\"EL SALVADOR\",LOOKUP(2,GEfectos!$Q$4:$W$4,GEfectos!Q266:W266),IF(EFECTOS!$N$9=\"GUATEMALA\",LOOKUP(3,GEfectos!$Q$4:$W$4,GEfectos!Q266:W266),IF(EFECTOS!$N$9=\"HONDURAS\",LOOKUP(4,GEfectos!$Q$4:$W$4,GEfectos!Q266:W266),IF(EFECTOS!$N$9=\"NICARAGUA\",LOOKUP(5,GEfectos!$Q$4:$W$4,GEfectos!Q266:W266),IF(EFECTOS!$N$9=\"REPÚBLICA \nDOMINICANA\",LOOKUP(6,$Q$4:$W$4,Q266:W266),IF(EFECTOS!$N$9=\"PANAMÁ\",LOOKUP(7,GEfectos!$Q$4:$W$4,GEfectos!Q266:W266))))))))","v":207.93967075596171},100]
[null,"Octubre",{"$f":"'ITCER GLOBAL'!C267","v":79.658570392644165},{"$f":"'ITCER GLOBAL'!D267","v":102.83031626995785},{"$f":"'ITCER GLOBAL'!E267","v":56.178845620216421},{"$f":"'ITCER GLOBAL'!F267","v":85.198898024819982},{"$f":"'ITCER GLOBAL'!G267","v":106.48735501849617},{"$f":"'ITCER GLOBAL'!H267","v":134.84504612441793},{"$f":"'ITCER GLOBAL'!I267","v":92.285843902874547},{"$f":"'ITCER GLOBAL'!S267","v":165.14534329419905},{"$f":"'ITCER GLOBAL'!T267","v":89.98106647331106},{"$f":"'ITCER GLOBAL'!U267","v":87.115171603398238},{"$f":"'ITCER GLOBAL'!V267","v":144.99361383902183},{"$f":"'ITCER GLOBAL'!W267","v":199.75860283965869},{"$f":"'ITCER GLOBAL'!X267","v":263.40831421004322},{"$f":"'ITCER GLOBAL'!Y267","v":96.895808902100271},{"$f":"'ITCER GLOBAL'!AA267","v":207.31647891768961},{"$f":"'ITCER GLOBAL'!AB267","v":87.50441478472753},{"$f":"'ITCER GLOBAL'!AC267","v":155.06757150604236},{"$f":"'ITCER GLOBAL'!AD267","v":170.18249907033137},{"$f":"'ITCER GLOBAL'!AE267","v":187.58903609255944},{"$f":"'ITCER GLOBAL'!AF267","v":195.34148400750544},{"$f":"'ITCER GLOBAL'!AG267","v":104.99531109460023},null,{"$f":"IF(EFECTOS!$N$9=\"COSTA RICA\",LOOKUP(1,GEfectos!$C$4:$I$4,GEfectos!C267:I267),IF(EFECTOS!$N$9=\"EL SALVADOR\",LOOKUP(2,GEfectos!$C$4:$I$4,GEfectos!C267:I267),IF(EFECTOS!$N$9=\"GUATEMALA\",LOOKUP(3,GEfectos!$C$4:$I$4,GEfectos!C267:I267),IF(EFECTOS!$N$9=\"HONDURAS\",LOOKUP(4,GEfectos!$C$4:$I$4,GEfectos!C267:I267),IF(EFECTOS!$N$9=\"NICARAGUA\",LOOKUP(5,GEfectos!$C$4:$I$4,GEfectos!C267:I267),IF(EFECTOS!$N$9=\"REPÚBLICA \nDOMINICANA\",LOOKUP(6,$C$4:$I$4,C267:I267),IF(EFECTOS!$N$9=\"PANAMÁ\",LOOKUP(7,GEfectos!$C$4:$I$4,GEfectos!C267:I267))))))))","v":79.658570392644165},{"$f":"IF(EFECTOS!$N$9=\"COSTA RICA\",LOOKUP(1,GEfectos!$J$4:$P$4,GEfectos!J267:P267),IF(EFECTOS!$N$9=\"EL SALVADOR\",LOOKUP(2,GEfectos!$J$4:$P$4,GEfectos!J267:P267),IF(EFECTOS!$N$9=\"GUATEMALA\",LOOKUP(3,GEfectos!$J$4:$P$4,GEfectos!J267:P267),IF(EFECTOS!$N$9=\"HONDURAS\",LOOKUP(4,GEfectos!$J$4:$P$4,GEfectos!J267:P267),IF(EFECTOS!$N$9=\"NICARAGUA\",LOOKUP(5,GEfectos!$J$4:$P$4,GEfectos!J267:P267),IF(EFECTOS!$N$9=\"REPÚBLICA \nDOMINICANA\",LOOKUP(6,$J$4:$P$4,J267:P267),IF(EFECTOS!$N$9=\"PANAMÁ\",LOOKUP(7,GEfectos!$J$4:$P$4,GEfectos!J267:P267))))))))","v":165.14534329419905},{"$f":"IF(EFECTOS!$N$9=\"COSTA RICA\",LOOKUP(1,GEfectos!$Q$4:$W$4,GEfectos!Q267:W267),IF(EFECTOS!$N$9=\"EL SALVADOR\",LOOKUP(2,GEfectos!$Q$4:$W$4,GEfectos!Q267:W267),IF(EFECTOS!$N$9=\"GUATEMALA\",LOOKUP(3,GEfectos!$Q$4:$W$4,GEfectos!Q267:W267),IF(EFECTOS!$N$9=\"HONDURAS\",LOOKUP(4,GEfectos!$Q$4:$W$4,GEfectos!Q267:W267),IF(EFECTOS!$N$9=\"NICARAGUA\",LOOKUP(5,GEfectos!$Q$4:$W$4,GEfectos!Q267:W267),IF(EFECTOS!$N$9=\"REPÚBLICA \nDOMINICANA\",LOOKUP(6,$Q$4:$W$4,Q267:W267),IF(EFECTOS!$N$9=\"PANAMÁ\",LOOKUP(7,GEfectos!$Q$4:$W$4,GEfectos!Q267:W267))))))))","v":207.31647891768961},100]
[null,{"$f":"'ITCER GLOBAL'!B268","v":"Noviembre"},{"$f":"'ITCER GLOBAL'!C268","v":78.84626891462338},{"$f":"'ITCER GLOBAL'!D268","v":102.0209922559872},{"$f":"'ITCER GLOBAL'!E268","v":55.345969060249878},{"$f":"'ITCER GLOBAL'!F268","v":84.584550998677102},{"$f":"'ITCER GLOBAL'!G268","v":105.19094001960886},{"$f":"'ITCER GLOBAL'!H268","v":133.5851831904217},{"$f":"'ITCER GLOBAL'!I268","v":90.851550189413672},{"$f":"'ITCER GLOBAL'!S268","v":163.52364586020423},{"$f":"'ITCER GLOBAL'!T268","v":89.239151379394883},{"$f":"'ITCER GLOBAL'!U268","v":86.159332483454733},{"$f":"'ITCER GLOBAL'!V268","v":144.15871229525297},{"$f":"'ITCER GLOBAL'!W268","v":197.76716472651583},{"$f":"'ITCER GLOBAL'!X268","v":261.29192177785814},{"$f":"'ITCER GLOBAL'!Y268","v":95.337529320611409},{"$f":"'ITCER GLOBAL'!AA268","v":207.39554085593005},{"$f":"'ITCER GLOBAL'!AB268","v":87.471361928611117},{"$f":"'ITCER GLOBAL'!AC268","v":155.67408782681406},{"$f":"'ITCER GLOBAL'!AD268","v":170.43149203157398},{"$f":"'ITCER GLOBAL'!AE268","v":188.00779296168437},{"$f":"'ITCER GLOBAL'!AF268","v":195.59947857794552},{"$f":"'ITCER GLOBAL'!AG268","v":104.93770235273372},null,{"$f":"IF(EFECTOS!$N$9=\"COSTA RICA\",LOOKUP(1,GEfectos!$C$4:$I$4,GEfectos!C268:I268),IF(EFECTOS!$N$9=\"EL SALVADOR\",LOOKUP(2,GEfectos!$C$4:$I$4,GEfectos!C268:I268),IF(EFECTOS!$N$9=\"GUATEMALA\",LOOKUP(3,GEfectos!$C$4:$I$4,GEfectos!C268:I268),IF(EFECTOS!$N$9=\"HONDURAS\",LOOKUP(4,GEfectos!$C$4:$I$4,GEfectos!C268:I268),IF(EFECTOS!$N$9=\"NICARAGUA\",LOOKUP(5,GEfectos!$C$4:$I$4,GEfectos!C268:I268),IF(EFECTOS!$N$9=\"REPÚBLICA \nDOMINICANA\",LOOKUP(6,$C$4:$I$4,C268:I268),IF(EFECTOS!$N$9=\"PANAMÁ\",LOOKUP(7,GEfectos!$C$4:$I$4,GEfectos!C268:I268))))))))","v":78.84626891462338},{"$f":"IF(EFECTOS!$N$9=\"COSTA RICA\",LOOKUP(1,GEfectos!$J$4:$P$4,GEfectos!J268:P268),IF(EFECTOS!$N$9=\"EL SALVADOR\",LOOKUP(2,GEfectos!$J$4:$P$4,GEfectos!J268:P268),IF(EFECTOS!$N$9=\"GUATEMALA\",LOOKUP(3,GEfectos!$J$4:$P$4,GEfectos!J268:P268),IF(EFECTOS!$N$9=\"HONDURAS\",LOOKUP(4,GEfectos!$J$4:$P$4,GEfectos!J268:P268),IF(EFECTOS!$N$9=\"NICARAGUA\",LOOKUP(5,GEfectos!$J$4:$P$4,GEfectos!J268:P268),IF(EFECTOS!$N$9=\"REPÚBLICA \nDOMINICANA\",LOOKUP(6,$J$4:$P$4,J268:P268),IF(EFECTOS!$N$9=\"PANAMÁ\",LOOKUP(7,GEfectos!$J$4:$P$4,GEfectos!J268:P268))))))))","v":163.52364586020423},{"$f":"IF(EFECTOS!$N$9=\"COSTA RICA\",LOOKUP(1,GEfectos!$Q$4:$W$4,GEfectos!Q268:W268),IF(EFECTOS!$N$9=\"EL SALVADOR\",LOOKUP(2,GEfectos!$Q$4:$W$4,GEfectos!Q268:W268),IF(EFECTOS!$N$9=\"GUATEMALA\",LOOKUP(3,GEfectos!$Q$4:$W$4,GEfectos!Q268:W268),IF(EFECTOS!$N$9=\"HONDURAS\",LOOKUP(4,GEfectos!$Q$4:$W$4,GEfectos!Q268:W268),IF(EFECTOS!$N$9=\"NICARAGUA\",LOOKUP(5,GEfectos!$Q$4:$W$4,GEfectos!Q268:W268),IF(EFECTOS!$N$9=\"REPÚBLICA \nDOMINICANA\",LOOKUP(6,$Q$4:$W$4,Q268:W268),IF(EFECTOS!$N$9=\"PANAMÁ\",LOOKUP(7,GEfectos!$Q$4:$W$4,GEfectos!Q268:W268))))))))","v":207.39554085593005},100]
[null,{"$f":"'ITCER GLOBAL'!B269","v":"Diciembre"},{"$f":"'ITCER GLOBAL'!C269","v":77.852641240351673},{"$f":"'ITCER GLOBAL'!D269","v":101.84906506260518},{"$f":"'ITCER GLOBAL'!E269","v":55.067200573923031},{"$f":"'ITCER GLOBAL'!F269","v":85.016754204472235},{"$f":"'ITCER GLOBAL'!G269","v":104.11026846163215},{"$f":"'ITCER GLOBAL'!H269","v":132.18080383507623},{"$f":"'ITCER GLOBAL'!I269","v":90.18002498353755},{"$f":"'ITCER GLOBAL'!S269","v":161.81622095229784},{"$f":"'ITCER GLOBAL'!T269","v":88.782809398445536},{"$f":"'ITCER GLOBAL'!U269","v":85.591907711314647},{"$f":"'ITCER GLOBAL'!V269","v":145.05687749283021},{"$f":"'ITCER GLOBAL'!W269","v":197.00006890219558},{"$f":"'ITCER GLOBAL'!X269","v":260.39759541171713},{"$f":"'ITCER GLOBAL'!Y269","v":94.535441853681405},{"$f":"'ITCER GLOBAL'!AA269","v":207.84936564031068},{"$f":"'ITCER GLOBAL'!AB269","v":87.170961602712794},{"$f":"'ITCER GLOBAL'!AC269","v":155.43173943700802},{"$f":"'ITCER GLOBAL'!AD269","v":170.62151907605946},{"$f":"'ITCER GLOBAL'!AE269","v":189.22251552429356},{"$f":"'ITCER GLOBAL'!AF269","v":197.00106812530717},{"$f":"'ITCER GLOBAL'!AG269","v":104.82969135453106},null,{"$f":"IF(EFECTOS!$N$9=\"COSTA RICA\",LOOKUP(1,GEfectos!$C$4:$I$4,GEfectos!C269:I269),IF(EFECTOS!$N$9=\"EL SALVADOR\",LOOKUP(2,GEfectos!$C$4:$I$4,GEfectos!C269:I269),IF(EFECTOS!$N$9=\"GUATEMALA\",LOOKUP(3,GEfectos!$C$4:$I$4,GEfectos!C269:I269),IF(EFECTOS!$N$9=\"HONDURAS\",LOOKUP(4,GEfectos!$C$4:$I$4,GEfectos!C269:I269),IF(EFECTOS!$N$9=\"NICARAGUA\",LOOKUP(5,GEfectos!$C$4:$I$4,GEfectos!C269:I269),IF(EFECTOS!$N$9=\"REPÚBLICA \nDOMINICANA\",LOOKUP(6,$C$4:$I$4,C269:I269),IF(EFECTOS!$N$9=\"PANAMÁ\",LOOKUP(7,GEfectos!$C$4:$I$4,GEfectos!C269:I269))))))))","v":77.852641240351673},{"$f":"IF(EFECTOS!$N$9=\"COSTA RICA\",LOOKUP(1,GEfectos!$J$4:$P$4,GEfectos!J269:P269),IF(EFECTOS!$N$9=\"EL SALVADOR\",LOOKUP(2,GEfectos!$J$4:$P$4,GEfectos!J269:P269),IF(EFECTOS!$N$9=\"GUATEMALA\",LOOKUP(3,GEfectos!$J$4:$P$4,GEfectos!J269:P269),IF(EFECTOS!$N$9=\"HONDURAS\",LOOKUP(4,GEfectos!$J$4:$P$4,GEfectos!J269:P269),IF(EFECTOS!$N$9=\"NICARAGUA\",LOOKUP(5,GEfectos!$J$4:$P$4,GEfectos!J269:P269),IF(EFECTOS!$N$9=\"REPÚBLICA \nDOMINICANA\",LOOKUP(6,$J$4:$P$4,J269:P269),IF(EFECTOS!$N$9=\"PANAMÁ\",LOOKUP(7,GEfectos!$J$4:$P$4,GEfectos!J269:P269))))))))","v":161.81622095229784},{"$f":"IF(EFECTOS!$N$9=\"COSTA RICA\",LOOKUP(1,GEfectos!$Q$4:$W$4,GEfectos!Q269:W269),IF(EFECTOS!$N$9=\"EL SALVADOR\",LOOKUP(2,GEfectos!$Q$4:$W$4,GEfectos!Q269:W269),IF(EFECTOS!$N$9=\"GUATEMALA\",LOOKUP(3,GEfectos!$Q$4:$W$4,GEfectos!Q269:W269),IF(EFECTOS!$N$9=\"HONDURAS\",LOOKUP(4,GEfectos!$Q$4:$W$4,GEfectos!Q269:W269),IF(EFECTOS!$N$9=\"NICARAGUA\",LOOKUP(5,GEfectos!$Q$4:$W$4,GEfectos!Q269:W269),IF(EFECTOS!$N$9=\"REPÚBLICA \nDOMINICANA\",LOOKUP(6,$Q$4:$W$4,Q269:W269),IF(EFECTOS!$N$9=\"PANAMÁ\",LOOKUP(7,GEfectos!$Q$4:$W$4,GEfectos!Q269:W269))))))))","v":207.84936564031068},100]
[2017,{"$f":"'ITCER GLOBAL'!B270","v":"Enero"},{"$f":"'ITCER GLOBAL'!C270","v":78.36796153309875},{"$f":"'ITCER GLOBAL'!D270","v":101.61795316872515},{"$f":"'ITCER GLOBAL'!E270","v":55.034206044753681},{"$f":"'ITCER GLOBAL'!F270","v":85.540375987920996},{"$f":"'ITCER GLOBAL'!G270","v":106.27298756082435},{"$f":"'ITCER GLOBAL'!H270","v":126.02333016318892},{"$f":"'ITCER GLOBAL'!I270","v":90.129648082481253},{"$f":"'ITCER GLOBAL'!S270","v":162.16175142368624},{"$f":"'ITCER GLOBAL'!T270","v":88.086386875110875},{"$f":"'ITCER GLOBAL'!U270","v":85.200726222812634},{"$f":"'ITCER GLOBAL'!V270","v":145.7123234535581},{"$f":"'ITCER GLOBAL'!W270","v":198.84159778061397},{"$f":"'ITCER GLOBAL'!X270","v":264.79127085992513},{"$f":"'ITCER GLOBAL'!Y270","v":93.617515152058303},{"$f":"'ITCER GLOBAL'!AA270","v":206.92352876270377},{"$f":"'ITCER GLOBAL'!AB270","v":86.683882255385882},{"$f":"'ITCER GLOBAL'!AC270","v":154.81412805978815},{"$f":"'ITCER GLOBAL'!AD270","v":170.34332824786028},{"$f":"'ITCER GLOBAL'!AE270","v":187.10455247793692},{"$f":"'ITCER GLOBAL'!AF270","v":210.11289776031484},{"$f":"'ITCER GLOBAL'!AG270","v":103.86983322778001},null,{"$f":"IF(EFECTOS!$N$9=\"COSTA RICA\",LOOKUP(1,GEfectos!$C$4:$I$4,GEfectos!C270:I270),IF(EFECTOS!$N$9=\"EL SALVADOR\",LOOKUP(2,GEfectos!$C$4:$I$4,GEfectos!C270:I270),IF(EFECTOS!$N$9=\"GUATEMALA\",LOOKUP(3,GEfectos!$C$4:$I$4,GEfectos!C270:I270),IF(EFECTOS!$N$9=\"HONDURAS\",LOOKUP(4,GEfectos!$C$4:$I$4,GEfectos!C270:I270),IF(EFECTOS!$N$9=\"NICARAGUA\",LOOKUP(5,GEfectos!$C$4:$I$4,GEfectos!C270:I270),IF(EFECTOS!$N$9=\"REPÚBLICA \nDOMINICANA\",LOOKUP(6,$C$4:$I$4,C270:I270),IF(EFECTOS!$N$9=\"PANAMÁ\",LOOKUP(7,GEfectos!$C$4:$I$4,GEfectos!C270:I270))))))))","v":78.36796153309875},{"$f":"IF(EFECTOS!$N$9=\"COSTA RICA\",LOOKUP(1,GEfectos!$J$4:$P$4,GEfectos!J270:P270),IF(EFECTOS!$N$9=\"EL SALVADOR\",LOOKUP(2,GEfectos!$J$4:$P$4,GEfectos!J270:P270),IF(EFECTOS!$N$9=\"GUATEMALA\",LOOKUP(3,GEfectos!$J$4:$P$4,GEfectos!J270:P270),IF(EFECTOS!$N$9=\"HONDURAS\",LOOKUP(4,GEfectos!$J$4:$P$4,GEfectos!J270:P270),IF(EFECTOS!$N$9=\"NICARAGUA\",LOOKUP(5,GEfectos!$J$4:$P$4,GEfectos!J270:P270),IF(EFECTOS!$N$9=\"REPÚBLICA \nDOMINICANA\",LOOKUP(6,$J$4:$P$4,J270:P270),IF(EFECTOS!$N$9=\"PANAMÁ\",LOOKUP(7,GEfectos!$J$4:$P$4,GEfectos!J270:P270))))))))","v":162.16175142368624},{"$f":"IF(EFECTOS!$N$9=\"COSTA RICA\",LOOKUP(1,GEfectos!$Q$4:$W$4,GEfectos!Q270:W270),IF(EFECTOS!$N$9=\"EL SALVADOR\",LOOKUP(2,GEfectos!$Q$4:$W$4,GEfectos!Q270:W270),IF(EFECTOS!$N$9=\"GUATEMALA\",LOOKUP(3,GEfectos!$Q$4:$W$4,GEfectos!Q270:W270),IF(EFECTOS!$N$9=\"HONDURAS\",LOOKUP(4,GEfectos!$Q$4:$W$4,GEfectos!Q270:W270),IF(EFECTOS!$N$9=\"NICARAGUA\",LOOKUP(5,GEfectos!$Q$4:$W$4,GEfectos!Q270:W270),IF(EFECTOS!$N$9=\"REPÚBLICA \nDOMINICANA\",LOOKUP(6,$Q$4:$W$4,Q270:W270),IF(EFECTOS!$N$9=\"PANAMÁ\",LOOKUP(7,GEfectos!$Q$4:$W$4,GEfectos!Q270:W270))))))))","v":206.92352876270377},100]
[null,{"$f":"'ITCER GLOBAL'!B271","v":"Febrero"},{"$f":"'ITCER GLOBAL'!C271","v":79.563464476189921},{"$f":"'ITCER GLOBAL'!D271","v":102.3038219973115},{"$f":"'ITCER GLOBAL'!E271","v":54.570217757098007},{"$f":"'ITCER GLOBAL'!F271","v":85.481069614939273},{"$f":"'ITCER GLOBAL'!G271","v":107.12031423721022},{"$f":"'ITCER GLOBAL'!H271","v":127.3826233995787},{"$f":"'ITCER GLOBAL'!I271","v":90.835721411804172},{"$f":"'ITCER GLOBAL'!S271","v":164.79091179849874},{"$f":"'ITCER GLOBAL'!T271","v":88.5964801361459},{"$f":"'ITCER GLOBAL'!U271","v":84.483466321793472},{"$f":"'ITCER GLOBAL'!V271","v":146.44971599311012},{"$f":"'ITCER GLOBAL'!W271","v":201.30643177608692},{"$f":"'ITCER GLOBAL'!X271","v":267.9535830333059},{"$f":"'ITCER GLOBAL'!Y271","v":94.350401222674606},{"$f":"'ITCER GLOBAL'!AA271","v":207.11882380111027},{"$f":"'ITCER GLOBAL'!AB271","v":86.601339428427394},{"$f":"'ITCER GLOBAL'!AC271","v":154.81606963315559},{"$f":"'ITCER GLOBAL'!AD271","v":171.32415007534664},{"$f":"'ITCER GLOBAL'!AE271","v":187.92554261025444},{"$f":"'ITCER GLOBAL'!AF271","v":210.35332440342259},{"$f":"'ITCER GLOBAL'!AG271","v":103.86927054273791},null,{"$f":"IF(EFECTOS!$N$9=\"COSTA RICA\",LOOKUP(1,GEfectos!$C$4:$I$4,GEfectos!C271:I271),IF(EFECTOS!$N$9=\"EL SALVADOR\",LOOKUP(2,GEfectos!$C$4:$I$4,GEfectos!C271:I271),IF(EFECTOS!$N$9=\"GUATEMALA\",LOOKUP(3,GEfectos!$C$4:$I$4,GEfectos!C271:I271),IF(EFECTOS!$N$9=\"HONDURAS\",LOOKUP(4,GEfectos!$C$4:$I$4,GEfectos!C271:I271),IF(EFECTOS!$N$9=\"NICARAGUA\",LOOKUP(5,GEfectos!$C$4:$I$4,GEfectos!C271:I271),IF(EFECTOS!$N$9=\"REPÚBLICA \nDOMINICANA\",LOOKUP(6,$C$4:$I$4,C271:I271),IF(EFECTOS!$N$9=\"PANAMÁ\",LOOKUP(7,GEfectos!$C$4:$I$4,GEfectos!C271:I271))))))))","v":79.563464476189921},{"$f":"IF(EFECTOS!$N$9=\"COSTA RICA\",LOOKUP(1,GEfectos!$J$4:$P$4,GEfectos!J271:P271),IF(EFECTOS!$N$9=\"EL SALVADOR\",LOOKUP(2,GEfectos!$J$4:$P$4,GEfectos!J271:P271),IF(EFECTOS!$N$9=\"GUATEMALA\",LOOKUP(3,GEfectos!$J$4:$P$4,GEfectos!J271:P271),IF(EFECTOS!$N$9=\"HONDURAS\",LOOKUP(4,GEfectos!$J$4:$P$4,GEfectos!J271:P271),IF(EFECTOS!$N$9=\"NICARAGUA\",LOOKUP(5,GEfectos!$J$4:$P$4,GEfectos!J271:P271),IF(EFECTOS!$N$9=\"REPÚBLICA \nDOMINICANA\",LOOKUP(6,$J$4:$P$4,J271:P271),IF(EFECTOS!$N$9=\"PANAMÁ\",LOOKUP(7,GEfectos!$J$4:$P$4,GEfectos!J271:P271))))))))","v":164.79091179849874},{"$f":"IF(EFECTOS!$N$9=\"COSTA RICA\",LOOKUP(1,GEfectos!$Q$4:$W$4,GEfectos!Q271:W271),IF(EFECTOS!$N$9=\"EL SALVADOR\",LOOKUP(2,GEfectos!$Q$4:$W$4,GEfectos!Q271:W271),IF(EFECTOS!$N$9=\"GUATEMALA\",LOOKUP(3,GEfectos!$Q$4:$W$4,GEfectos!Q271:W271),IF(EFECTOS!$N$9=\"HONDURAS\",LOOKUP(4,GEfectos!$Q$4:$W$4,GEfectos!Q271:W271),IF(EFECTOS!$N$9=\"NICARAGUA\",LOOKUP(5,GEfectos!$Q$4:$W$4,GEfectos!Q271:W271),IF(EFECTOS!$N$9=\"REPÚBLICA \nDOMINICANA\",LOOKUP(6,$Q$4:$W$4,Q271:W271),IF(EFECTOS!$N$9=\"PANAMÁ\",LOOKUP(7,GEfectos!$Q$4:$W$4,GEfectos!Q271:W271))))))))","v":207.11882380111027},100]
[null,{"$f":"'ITCER GLOBAL'!B272","v":"Marzo"},{"$f":"'ITCER GLOBAL'!C272","v":80.223354235813886},{"$f":"'ITCER GLOBAL'!D272","v":102.58263371570889},{"$f":"'ITCER GLOBAL'!E272","v":54.429274227833005},{"$f":"'ITCER GLOBAL'!F272","v":85.361227641928778},{"$f":"'ITCER GLOBAL'!G272","v":108.00403854278224},{"$f":"'ITCER GLOBAL'!H272","v":128.38796382013328},{"$f":"'ITCER GLOBAL'!I272","v":91.340691596296892},{"$f":"'ITCER GLOBAL'!S272","v":165.15352187447039},{"$f":"'ITCER GLOBAL'!T272","v":88.900118540927068},{"$f":"'ITCER GLOBAL'!U272","v":84.337041630710559},{"$f":"'ITCER GLOBAL'!V272","v":146.49050783803187},{"$f":"'ITCER GLOBAL'!W272","v":202.94510216852322},{"$f":"'ITCER GLOBAL'!X272","v":268.99978276795878},{"$f":"'ITCER GLOBAL'!Y272","v":94.623455262903377},{"$f":"'ITCER GLOBAL'!AA272","v":205.86713613221295},{"$f":"'ITCER GLOBAL'!AB272","v":86.661957605123803},{"$f":"'ITCER GLOBAL'!AC272","v":154.94794451546056},{"$f":"'ITCER GLOBAL'!AD272","v":171.61246608650796},{"$f":"'ITCER GLOBAL'!AE272","v":187.9051051300579},{"$f":"'ITCER GLOBAL'!AF272","v":209.52102889085253},{"$f":"'ITCER GLOBAL'!AG272","v":103.59397723975583},null,{"$f":"IF(EFECTOS!$N$9=\"COSTA RICA\",LOOKUP(1,GEfectos!$C$4:$I$4,GEfectos!C272:I272),IF(EFECTOS!$N$9=\"EL SALVADOR\",LOOKUP(2,GEfectos!$C$4:$I$4,GEfectos!C272:I272),IF(EFECTOS!$N$9=\"GUATEMALA\",LOOKUP(3,GEfectos!$C$4:$I$4,GEfectos!C272:I272),IF(EFECTOS!$N$9=\"HONDURAS\",LOOKUP(4,GEfectos!$C$4:$I$4,GEfectos!C272:I272),IF(EFECTOS!$N$9=\"NICARAGUA\",LOOKUP(5,GEfectos!$C$4:$I$4,GEfectos!C272:I272),IF(EFECTOS!$N$9=\"REPÚBLICA \nDOMINICANA\",LOOKUP(6,$C$4:$I$4,C272:I272),IF(EFECTOS!$N$9=\"PANAMÁ\",LOOKUP(7,GEfectos!$C$4:$I$4,GEfectos!C272:I272))))))))","v":80.223354235813886},{"$f":"IF(EFECTOS!$N$9=\"COSTA RICA\",LOOKUP(1,GEfectos!$J$4:$P$4,GEfectos!J272:P272),IF(EFECTOS!$N$9=\"EL SALVADOR\",LOOKUP(2,GEfectos!$J$4:$P$4,GEfectos!J272:P272),IF(EFECTOS!$N$9=\"GUATEMALA\",LOOKUP(3,GEfectos!$J$4:$P$4,GEfectos!J272:P272),IF(EFECTOS!$N$9=\"HONDURAS\",LOOKUP(4,GEfectos!$J$4:$P$4,GEfectos!J272:P272),IF(EFECTOS!$N$9=\"NICARAGUA\",LOOKUP(5,GEfectos!$J$4:$P$4,GEfectos!J272:P272),IF(EFECTOS!$N$9=\"REPÚBLICA \nDOMINICANA\",LOOKUP(6,$J$4:$P$4,J272:P272),IF(EFECTOS!$N$9=\"PANAMÁ\",LOOKUP(7,GEfectos!$J$4:$P$4,GEfectos!J272:P272))))))))","v":165.15352187447039},{"$f":"IF(EFECTOS!$N$9=\"COSTA RICA\",LOOKUP(1,GEfectos!$Q$4:$W$4,GEfectos!Q272:W272),IF(EFECTOS!$N$9=\"EL SALVADOR\",LOOKUP(2,GEfectos!$Q$4:$W$4,GEfectos!Q272:W272),IF(EFECTOS!$N$9=\"GUATEMALA\",LOOKUP(3,GEfectos!$Q$4:$W$4,GEfectos!Q272:W272),IF(EFECTOS!$N$9=\"HONDURAS\",LOOKUP(4,GEfectos!$Q$4:$W$4,GEfectos!Q272:W272),IF(EFECTOS!$N$9=\"NICARAGUA\",LOOKUP(5,GEfectos!$Q$4:$W$4,GEfectos!Q272:W272),IF(EFECTOS!$N$9=\"REPÚBLICA \nDOMINICANA\",LOOKUP(6,$Q$4:$W$4,Q272:W272),IF(EFECTOS!$N$9=\"PANAMÁ\",LOOKUP(7,GEfectos!$Q$4:$W$4,GEfectos!Q272:W272))))))))","v":205.86713613221295},100]
[null,{"$f":"'ITCER GLOBAL'!B273","v":"Abril"},{"$f":"'ITCER GLOBAL'!C273","v":80.854159353514817},{"$f":"'ITCER GLOBAL'!D273","v":103.01984007392488},{"$f":"'ITCER GLOBAL'!E273","v":54.45743407550772},{"$f":"'ITCER GLOBAL'!F273","v":85.360711764808556},{"$f":"'ITCER GLOBAL'!G273","v":108.41429831803681},{"$f":"'ITCER GLOBAL'!H273","v":128.97001362461961},{"$f":"'ITCER GLOBAL'!I273","v":91.917248707409158},{"$f":"'ITCER GLOBAL'!S273","v":166.25712818777939},{"$f":"'ITCER GLOBAL'!T273","v":89.109596495256767},{"$f":"'ITCER GLOBAL'!U273","v":84.397089262726666},{"$f":"'ITCER GLOBAL'!V273","v":146.65586588151322},{"$f":"'ITCER GLOBAL'!W273","v":203.92608488571605},{"$f":"'ITCER GLOBAL'!X273","v":270.10434726768227},{"$f":"'ITCER GLOBAL'!Y273","v":94.973149720865905},{"$f":"'ITCER GLOBAL'!AA273","v":205.62594369556328},{"$f":"'ITCER GLOBAL'!AB273","v":86.4975100245871},{"$f":"'ITCER GLOBAL'!AC273","v":154.97808645502144},{"$f":"'ITCER GLOBAL'!AD273","v":171.80722003067302},{"$f":"'ITCER GLOBAL'!AE273","v":188.09888367998505},{"$f":"'ITCER GLOBAL'!AF273","v":209.43189790911285},{"$f":"'ITCER GLOBAL'!AG273","v":103.32462193595926},null,{"$f":"IF(EFECTOS!$N$9=\"COSTA RICA\",LOOKUP(1,GEfectos!$C$4:$I$4,GEfectos!C273:I273),IF(EFECTOS!$N$9=\"EL SALVADOR\",LOOKUP(2,GEfectos!$C$4:$I$4,GEfectos!C273:I273),IF(EFECTOS!$N$9=\"GUATEMALA\",LOOKUP(3,GEfectos!$C$4:$I$4,GEfectos!C273:I273),IF(EFECTOS!$N$9=\"HONDURAS\",LOOKUP(4,GEfectos!$C$4:$I$4,GEfectos!C273:I273),IF(EFECTOS!$N$9=\"NICARAGUA\",LOOKUP(5,GEfectos!$C$4:$I$4,GEfectos!C273:I273),IF(EFECTOS!$N$9=\"REPÚBLICA \nDOMINICANA\",LOOKUP(6,$C$4:$I$4,C273:I273),IF(EFECTOS!$N$9=\"PANAMÁ\",LOOKUP(7,GEfectos!$C$4:$I$4,GEfectos!C273:I273))))))))","v":80.854159353514817},{"$f":"IF(EFECTOS!$N$9=\"COSTA RICA\",LOOKUP(1,GEfectos!$J$4:$P$4,GEfectos!J273:P273),IF(EFECTOS!$N$9=\"EL SALVADOR\",LOOKUP(2,GEfectos!$J$4:$P$4,GEfectos!J273:P273),IF(EFECTOS!$N$9=\"GUATEMALA\",LOOKUP(3,GEfectos!$J$4:$P$4,GEfectos!J273:P273),IF(EFECTOS!$N$9=\"HONDURAS\",LOOKUP(4,GEfectos!$J$4:$P$4,GEfectos!J273:P273),IF(EFECTOS!$N$9=\"NICARAGUA\",LOOKUP(5,GEfectos!$J$4:$P$4,GEfectos!J273:P273),IF(EFECTOS!$N$9=\"REPÚBLICA \nDOMINICANA\",LOOKUP(6,$J$4:$P$4,J273:P273),IF(EFECTOS!$N$9=\"PANAMÁ\",LOOKUP(7,GEfectos!$J$4:$P$4,GEfectos!J273:P273))))))))","v":166.25712818777939},{"$f":"IF(EFECTOS!$N$9=\"COSTA RICA\",LOOKUP(1,GEfectos!$Q$4:$W$4,GEfectos!Q273:W273),IF(EFECTOS!$N$9=\"EL SALVADOR\",LOOKUP(2,GEfectos!$Q$4:$W$4,GEfectos!Q273:W273),IF(EFECTOS!$N$9=\"GUATEMALA\",LOOKUP(3,GEfectos!$Q$4:$W$4,GEfectos!Q273:W273),IF(EFECTOS!$N$9=\"HONDURAS\",LOOKUP(4,GEfectos!$Q$4:$W$4,GEfectos!Q273:W273),IF(EFECTOS!$N$9=\"NICARAGUA\",LOOKUP(5,GEfectos!$Q$4:$W$4,GEfectos!Q273:W273),IF(EFECTOS!$N$9=\"REPÚBLICA \nDOMINICANA\",LOOKUP(6,$Q$4:$W$4,Q273:W273),IF(EFECTOS!$N$9=\"PANAMÁ\",LOOKUP(7,GEfectos!$Q$4:$W$4,GEfectos!Q273:W273))))))))","v":205.62594369556328},100]
[null,{"$f":"'ITCER GLOBAL'!B274","v":"Mayo"},{"$f":"'ITCER GLOBAL'!C274","v":82.732160524391759},{"$f":"'ITCER GLOBAL'!D274","v":102.92829632950684},{"$f":"'ITCER GLOBAL'!E274","v":54.374800368897205},{"$f":"'ITCER GLOBAL'!F274","v":85.388718710642607},{"$f":"'ITCER GLOBAL'!G274","v":109.02603721787899},{"$f":"'ITCER GLOBAL'!H274","v":130.05978407777388},{"$f":"'ITCER GLOBAL'!I274","v":92.177104818355019},{"$f":"'ITCER GLOBAL'!S274","v":170.37851488593788},{"$f":"'ITCER GLOBAL'!T274","v":89.073425532923025},{"$f":"'ITCER GLOBAL'!U274","v":84.464858781555492},{"$f":"'ITCER GLOBAL'!V274","v":147.01268782940485},{"$f":"'ITCER GLOBAL'!W274","v":205.15025118934389},{"$f":"'ITCER GLOBAL'!X274","v":271.61681928825681},{"$f":"'ITCER GLOBAL'!Y274","v":95.172926994155375},{"$f":"'ITCER GLOBAL'!AA274","v":205.93988336096399},{"$f":"'ITCER GLOBAL'!AB274","v":86.539298433319175},{"$f":"'ITCER GLOBAL'!AC274","v":155.3382416275868},{"$f":"'ITCER GLOBAL'!AD274","v":172.16874787357781},{"$f":"'ITCER GLOBAL'!AE274","v":188.16629167156566},{"$f":"'ITCER GLOBAL'!AF274","v":208.83997402750865},{"$f":"'ITCER GLOBAL'!AG274","v":103.25007189334481},null,{"$f":"IF(EFECTOS!$N$9=\"COSTA RICA\",LOOKUP(1,GEfectos!$C$4:$I$4,GEfectos!C274:I274),IF(EFECTOS!$N$9=\"EL SALVADOR\",LOOKUP(2,GEfectos!$C$4:$I$4,GEfectos!C274:I274),IF(EFECTOS!$N$9=\"GUATEMALA\",LOOKUP(3,GEfectos!$C$4:$I$4,GEfectos!C274:I274),IF(EFECTOS!$N$9=\"HONDURAS\",LOOKUP(4,GEfectos!$C$4:$I$4,GEfectos!C274:I274),IF(EFECTOS!$N$9=\"NICARAGUA\",LOOKUP(5,GEfectos!$C$4:$I$4,GEfectos!C274:I274),IF(EFECTOS!$N$9=\"REPÚBLICA \nDOMINICANA\",LOOKUP(6,$C$4:$I$4,C274:I274),IF(EFECTOS!$N$9=\"PANAMÁ\",LOOKUP(7,GEfectos!$C$4:$I$4,GEfectos!C274:I274))))))))","v":82.732160524391759},{"$f":"IF(EFECTOS!$N$9=\"COSTA RICA\",LOOKUP(1,GEfectos!$J$4:$P$4,GEfectos!J274:P274),IF(EFECTOS!$N$9=\"EL SALVADOR\",LOOKUP(2,GEfectos!$J$4:$P$4,GEfectos!J274:P274),IF(EFECTOS!$N$9=\"GUATEMALA\",LOOKUP(3,GEfectos!$J$4:$P$4,GEfectos!J274:P274),IF(EFECTOS!$N$9=\"HONDURAS\",LOOKUP(4,GEfectos!$J$4:$P$4,GEfectos!J274:P274),IF(EFECTOS!$N$9=\"NICARAGUA\",LOOKUP(5,GEfectos!$J$4:$P$4,GEfectos!J274:P274),IF(EFECTOS!$N$9=\"REPÚBLICA \nDOMINICANA\",LOOKUP(6,$J$4:$P$4,J274:P274),IF(EFECTOS!$N$9=\"PANAMÁ\",LOOKUP(7,GEfectos!$J$4:$P$4,GEfectos!J274:P274))))))))","v":170.37851488593788},{"$f":"IF(EFECTOS!$N$9=\"COSTA RICA\",LOOKUP(1,GEfectos!$Q$4:$W$4,GEfectos!Q274:W274),IF(EFECTOS!$N$9=\"EL SALVADOR\",LOOKUP(2,GEfectos!$Q$4:$W$4,GEfectos!Q274:W274),IF(EFECTOS!$N$9=\"GUATEMALA\",LOOKUP(3,GEfectos!$Q$4:$W$4,GEfectos!Q274:W274),IF(EFECTOS!$N$9=\"HONDURAS\",LOOKUP(4,GEfectos!$Q$4:$W$4,GEfectos!Q274:W274),IF(EFECTOS!$N$9=\"NICARAGUA\",LOOKUP(5,GEfectos!$Q$4:$W$4,GEfectos!Q274:W274),IF(EFECTOS!$N$9=\"REPÚBLICA \nDOMINICANA\",LOOKUP(6,$Q$4:$W$4,Q274:W274),IF(EFECTOS!$N$9=\"PANAMÁ\",LOOKUP(7,GEfectos!$Q$4:$W$4,GEfectos!Q274:W274))))))))","v":205.93988336096399},100]
[null,{"$f":"'ITCER GLOBAL'!B275","v":"Junio"},{"$f":"'ITCER GLOBAL'!C275","v":82.610506395488557},{"$f":"'ITCER GLOBAL'!D275","v":103.38192307254231},{"$f":"'ITCER GLOBAL'!E275","v":54.26989246871991},{"$f":"'ITCER GLOBAL'!F275","v":85.604159528678849},{"$f":"'ITCER GLOBAL'!G275","v":110.47636582875663},{"$f":"'ITCER GLOBAL'!H275","v":131.06130849922337},{"$f":"'ITCER GLOBAL'!I275","v":92.976690425871979},{"$f":"'ITCER GLOBAL'!S275","v":170.13896894836512},{"$f":"'ITCER GLOBAL'!T275","v":89.373590829893644},{"$f":"'ITCER GLOBAL'!U275","v":84.978565968870001},{"$f":"'ITCER GLOBAL'!V275","v":147.59813968212384},{"$f":"'ITCER GLOBAL'!W275","v":207.75816893135487},{"$f":"'ITCER GLOBAL'!X275","v":273.64882629595098},{"$f":"'ITCER GLOBAL'!Y275","v":95.771268106375672},{"$f":"'ITCER GLOBAL'!AA275","v":205.9531848574367},{"$f":"'ITCER GLOBAL'!AB275","v":86.449921005223402},{"$f":"'ITCER GLOBAL'!AC275","v":156.58510106289589},{"$f":"'ITCER GLOBAL'!AD275","v":172.41935496449321},{"$f":"'ITCER GLOBAL'!AE275","v":188.05666476519463},{"$f":"'ITCER GLOBAL'!AF275","v":208.79451718397317},{"$f":"'ITCER GLOBAL'!AG275","v":103.00567558137783},null,{"$f":"IF(EFECTOS!$N$9=\"COSTA RICA\",LOOKUP(1,GEfectos!$C$4:$I$4,GEfectos!C275:I275),IF(EFECTOS!$N$9=\"EL SALVADOR\",LOOKUP(2,GEfectos!$C$4:$I$4,GEfectos!C275:I275),IF(EFECTOS!$N$9=\"GUATEMALA\",LOOKUP(3,GEfectos!$C$4:$I$4,GEfectos!C275:I275),IF(EFECTOS!$N$9=\"HONDURAS\",LOOKUP(4,GEfectos!$C$4:$I$4,GEfectos!C275:I275),IF(EFECTOS!$N$9=\"NICARAGUA\",LOOKUP(5,GEfectos!$C$4:$I$4,GEfectos!C275:I275),IF(EFECTOS!$N$9=\"REPÚBLICA \nDOMINICANA\",LOOKUP(6,$C$4:$I$4,C275:I275),IF(EFECTOS!$N$9=\"PANAMÁ\",LOOKUP(7,GEfectos!$C$4:$I$4,GEfectos!C275:I275))))))))","v":82.610506395488557},{"$f":"IF(EFECTOS!$N$9=\"COSTA RICA\",LOOKUP(1,GEfectos!$J$4:$P$4,GEfectos!J275:P275),IF(EFECTOS!$N$9=\"EL SALVADOR\",LOOKUP(2,GEfectos!$J$4:$P$4,GEfectos!J275:P275),IF(EFECTOS!$N$9=\"GUATEMALA\",LOOKUP(3,GEfectos!$J$4:$P$4,GEfectos!J275:P275),IF(EFECTOS!$N$9=\"HONDURAS\",LOOKUP(4,GEfectos!$J$4:$P$4,GEfectos!J275:P275),IF(EFECTOS!$N$9=\"NICARAGUA\",LOOKUP(5,GEfectos!$J$4:$P$4,GEfectos!J275:P275),IF(EFECTOS!$N$9=\"REPÚBLICA \nDOMINICANA\",LOOKUP(6,$J$4:$P$4,J275:P275),IF(EFECTOS!$N$9=\"PANAMÁ\",LOOKUP(7,GEfectos!$J$4:$P$4,GEfectos!J275:P275))))))))","v":170.13896894836512},{"$f":"IF(EFECTOS!$N$9=\"COSTA RICA\",LOOKUP(1,GEfectos!$Q$4:$W$4,GEfectos!Q275:W275),IF(EFECTOS!$N$9=\"EL SALVADOR\",LOOKUP(2,GEfectos!$Q$4:$W$4,GEfectos!Q275:W275),IF(EFECTOS!$N$9=\"GUATEMALA\",LOOKUP(3,GEfectos!$Q$4:$W$4,GEfectos!Q275:W275),IF(EFECTOS!$N$9=\"HONDURAS\",LOOKUP(4,GEfectos!$Q$4:$W$4,GEfectos!Q275:W275),IF(EFECTOS!$N$9=\"NICARAGUA\",LOOKUP(5,GEfectos!$Q$4:$W$4,GEfectos!Q275:W275),IF(EFECTOS!$N$9=\"REPÚBLICA \nDOMINICANA\",LOOKUP(6,$Q$4:$W$4,Q275:W275),IF(EFECTOS!$N$9=\"PANAMÁ\",LOOKUP(7,GEfectos!$Q$4:$W$4,GEfectos!Q275:W275))))))))","v":205.9531848574367},100]
[null,{"$f":"'ITCER GLOBAL'!B276","v":"Julio"},{"$f":"'ITCER GLOBAL'!C276","v":83.462244469008823},{"$f":"'ITCER GLOBAL'!D276","v":103.92657469413687},{"$f":"'ITCER GLOBAL'!E276","v":53.371756578846828},{"$f":"'ITCER GLOBAL'!F276","v":85.843061432305262},{"$f":"'ITCER GLOBAL'!G276","v":111.10275320183648},{"$f":"'ITCER GLOBAL'!H276","v":131.69224704349853},{"$f":"'ITCER GLOBAL'!I276","v":93.644306897470315},{"$f":"'ITCER GLOBAL'!S276","v":172.45073567048442},{"$f":"'ITCER GLOBAL'!T276","v":89.647390014875057},{"$f":"'ITCER GLOBAL'!U276","v":84.838493252841658},{"$f":"'ITCER GLOBAL'!V276","v":148.31119601976718},{"$f":"'ITCER GLOBAL'!W276","v":209.51200080705772},{"$f":"'ITCER GLOBAL'!X276","v":275.49207254736694},{"$f":"'ITCER GLOBAL'!Y276","v":96.293798496441411},{"$f":"'ITCER GLOBAL'!AA276","v":206.6212534393546},{"$f":"'ITCER GLOBAL'!AB276","v":86.260314340883014},{"$f":"'ITCER GLOBAL'!AC276","v":158.95765605448753},{"$f":"'ITCER GLOBAL'!AD276","v":172.77016167081072},{"$f":"'ITCER GLOBAL'!AE276","v":188.57498555993891},{"$f":"'ITCER GLOBAL'!AF276","v":209.19384301823834},{"$f":"'ITCER GLOBAL'!AG276","v":102.82931412143608},null,{"$f":"IF(EFECTOS!$N$9=\"COSTA RICA\",LOOKUP(1,GEfectos!$C$4:$I$4,GEfectos!C276:I276),IF(EFECTOS!$N$9=\"EL SALVADOR\",LOOKUP(2,GEfectos!$C$4:$I$4,GEfectos!C276:I276),IF(EFECTOS!$N$9=\"GUATEMALA\",LOOKUP(3,GEfectos!$C$4:$I$4,GEfectos!C276:I276),IF(EFECTOS!$N$9=\"HONDURAS\",LOOKUP(4,GEfectos!$C$4:$I$4,GEfectos!C276:I276),IF(EFECTOS!$N$9=\"NICARAGUA\",LOOKUP(5,GEfectos!$C$4:$I$4,GEfectos!C276:I276),IF(EFECTOS!$N$9=\"REPÚBLICA \nDOMINICANA\",LOOKUP(6,$C$4:$I$4,C276:I276),IF(EFECTOS!$N$9=\"PANAMÁ\",LOOKUP(7,GEfectos!$C$4:$I$4,GEfectos!C276:I276))))))))","v":83.462244469008823},{"$f":"IF(EFECTOS!$N$9=\"COSTA RICA\",LOOKUP(1,GEfectos!$J$4:$P$4,GEfectos!J276:P276),IF(EFECTOS!$N$9=\"EL SALVADOR\",LOOKUP(2,GEfectos!$J$4:$P$4,GEfectos!J276:P276),IF(EFECTOS!$N$9=\"GUATEMALA\",LOOKUP(3,GEfectos!$J$4:$P$4,GEfectos!J276:P276),IF(EFECTOS!$N$9=\"HONDURAS\",LOOKUP(4,GEfectos!$J$4:$P$4,GEfectos!J276:P276),IF(EFECTOS!$N$9=\"NICARAGUA\",LOOKUP(5,GEfectos!$J$4:$P$4,GEfectos!J276:P276),IF(EFECTOS!$N$9=\"REPÚBLICA \nDOMINICANA\",LOOKUP(6,$J$4:$P$4,J276:P276),IF(EFECTOS!$N$9=\"PANAMÁ\",LOOKUP(7,GEfectos!$J$4:$P$4,GEfectos!J276:P276))))))))","v":172.45073567048442},{"$f":"IF(EFECTOS!$N$9=\"COSTA RICA\",LOOKUP(1,GEfectos!$Q$4:$W$4,GEfectos!Q276:W276),IF(EFECTOS!$N$9=\"EL SALVADOR\",LOOKUP(2,GEfectos!$Q$4:$W$4,GEfectos!Q276:W276),IF(EFECTOS!$N$9=\"GUATEMALA\",LOOKUP(3,GEfectos!$Q$4:$W$4,GEfectos!Q276:W276),IF(EFECTOS!$N$9=\"HONDURAS\",LOOKUP(4,GEfectos!$Q$4:$W$4,GEfectos!Q276:W276),IF(EFECTOS!$N$9=\"NICARAGUA\",LOOKUP(5,GEfectos!$Q$4:$W$4,GEfectos!Q276:W276),IF(EFECTOS!$N$9=\"REPÚBLICA \nDOMINICANA\",LOOKUP(6,$Q$4:$W$4,Q276:W276),IF(EFECTOS!$N$9=\"PANAMÁ\",LOOKUP(7,GEfectos!$Q$4:$W$4,GEfectos!Q276:W276))))))))","v":206.6212534393546},100]
[null,{"$f":"'ITCER GLOBAL'!B277","v":"Agosto"},{"$f":"'ITCER GLOBAL'!C277","v":84.874308001827714},{"$f":"'ITCER GLOBAL'!D277","v":104.63830362940232},{"$f":"'ITCER GLOBAL'!E277","v":53.721643185698504},{"$f":"'ITCER GLOBAL'!F277","v":85.998583811955498},{"$f":"'ITCER GLOBAL'!G277","v":112.324565084517},{"$f":"'ITCER GLOBAL'!H277","v":132.31937594637537},{"$f":"'ITCER GLOBAL'!I277","v":94.410253175085614},{"$f":"'ITCER GLOBAL'!S277","v":174.49388828345252},{"$f":"'ITCER GLOBAL'!T277","v":89.947664348368178},{"$f":"'ITCER GLOBAL'!U277","v":84.915932617899514},{"$f":"'ITCER GLOBAL'!V277","v":148.74694161823413},{"$f":"'ITCER GLOBAL'!W277","v":211.27700008235396},{"$f":"'ITCER GLOBAL'!X277","v":277.48094144257954},{"$f":"'ITCER GLOBAL'!Y277","v":97.086838943038259},{"$f":"'ITCER GLOBAL'!AA277","v":205.59094075876874},{"$f":"'ITCER GLOBAL'!AB277","v":85.960552903204544},{"$f":"'ITCER GLOBAL'!AC277","v":158.06652139133632},{"$f":"'ITCER GLOBAL'!AD277","v":172.96440827849469},{"$f":"'ITCER GLOBAL'!AE277","v":188.09509738442489},{"$f":"'ITCER GLOBAL'!AF277","v":209.70544900017765},{"$f":"'ITCER GLOBAL'!AG277","v":102.83505835217798},null,{"$f":"IF(EFECTOS!$N$9=\"COSTA RICA\",LOOKUP(1,GEfectos!$C$4:$I$4,GEfectos!C277:I277),IF(EFECTOS!$N$9=\"EL SALVADOR\",LOOKUP(2,GEfectos!$C$4:$I$4,GEfectos!C277:I277),IF(EFECTOS!$N$9=\"GUATEMALA\",LOOKUP(3,GEfectos!$C$4:$I$4,GEfectos!C277:I277),IF(EFECTOS!$N$9=\"HONDURAS\",LOOKUP(4,GEfectos!$C$4:$I$4,GEfectos!C277:I277),IF(EFECTOS!$N$9=\"NICARAGUA\",LOOKUP(5,GEfectos!$C$4:$I$4,GEfectos!C277:I277),IF(EFECTOS!$N$9=\"REPÚBLICA \nDOMINICANA\",LOOKUP(6,$C$4:$I$4,C277:I277),IF(EFECTOS!$N$9=\"PANAMÁ\",LOOKUP(7,GEfectos!$C$4:$I$4,GEfectos!C277:I277))))))))","v":84.874308001827714},{"$f":"IF(EFECTOS!$N$9=\"COSTA RICA\",LOOKUP(1,GEfectos!$J$4:$P$4,GEfectos!J277:P277),IF(EFECTOS!$N$9=\"EL SALVADOR\",LOOKUP(2,GEfectos!$J$4:$P$4,GEfectos!J277:P277),IF(EFECTOS!$N$9=\"GUATEMALA\",LOOKUP(3,GEfectos!$J$4:$P$4,GEfectos!J277:P277),IF(EFECTOS!$N$9=\"HONDURAS\",LOOKUP(4,GEfectos!$J$4:$P$4,GEfectos!J277:P277),IF(EFECTOS!$N$9=\"NICARAGUA\",LOOKUP(5,GEfectos!$J$4:$P$4,GEfectos!J277:P277),IF(EFECTOS!$N$9=\"REPÚBLICA \nDOMINICANA\",LOOKUP(6,$J$4:$P$4,J277:P277),IF(EFECTOS!$N$9=\"PANAMÁ\",LOOKUP(7,GEfectos!$J$4:$P$4,GEfectos!J277:P277))))))))","v":174.49388828345252},{"$f":"IF(EFECTOS!$N$9=\"COSTA RICA\",LOOKUP(1,GEfectos!$Q$4:$W$4,GEfectos!Q277:W277),IF(EFECTOS!$N$9=\"EL SALVADOR\",LOOKUP(2,GEfectos!$Q$4:$W$4,GEfectos!Q277:W277),IF(EFECTOS!$N$9=\"GUATEMALA\",LOOKUP(3,GEfectos!$Q$4:$W$4,GEfectos!Q277:W277),IF(EFECTOS!$N$9=\"HONDURAS\",LOOKUP(4,GEfectos!$Q$4:$W$4,GEfectos!Q277:W277),IF(EFECTOS!$N$9=\"NICARAGUA\",LOOKUP(5,GEfectos!$Q$4:$W$4,GEfectos!Q277:W277),IF(EFECTOS!$N$9=\"REPÚBLICA \nDOMINICANA\",LOOKUP(6,$Q$4:$W$4,Q277:W277),IF(EFECTOS!$N$9=\"PANAMÁ\",LOOKUP(7,GEfectos!$Q$4:$W$4,GEfectos!Q277:W277))))))))","v":205.59094075876874},100]
[null,{"$f":"'ITCER GLOBAL'!B278","v":"Septiembre"},{"$f":"'ITCER GLOBAL'!C278","v":85.404920684917286},{"$f":"'ITCER GLOBAL'!D278","v":104.92477753443741},{"$f":"'ITCER GLOBAL'!E278","v":54.56968212841997},{"$f":"'ITCER GLOBAL'!F278","v":86.524477649663012},{"$f":"'ITCER GLOBAL'!G278","v":113.11185126265167},{"$f":"'ITCER GLOBAL'!H278","v":132.97645017608087},{"$f":"'ITCER GLOBAL'!I278","v":94.887454671936652},{"$f":"'ITCER GLOBAL'!S278","v":175.33479049822813},{"$f":"'ITCER GLOBAL'!T278","v":90.027330336705603},{"$f":"'ITCER GLOBAL'!U278","v":85.455836494335443},{"$f":"'ITCER GLOBAL'!V278","v":149.15609701452698},{"$f":"'ITCER GLOBAL'!W278","v":212.74179786311259},{"$f":"'ITCER GLOBAL'!X278","v":279.31752011193646},{"$f":"'ITCER GLOBAL'!Y278","v":97.478474269441733},{"$f":"'ITCER GLOBAL'!AA278","v":205.29822999905051},{"$f":"'ITCER GLOBAL'!AB278","v":85.801783384441947},{"$f":"'ITCER GLOBAL'!AC278","v":156.59947641481665},{"$f":"'ITCER GLOBAL'!AD278","v":172.38601268239833},{"$f":"'ITCER GLOBAL'!AE278","v":188.08090884227062},{"$f":"'ITCER GLOBAL'!AF278","v":210.0503658670975},{"$f":"'ITCER GLOBAL'!AG278","v":102.73062398655675},null,{"$f":"IF(EFECTOS!$N$9=\"COSTA RICA\",LOOKUP(1,GEfectos!$C$4:$I$4,GEfectos!C278:I278),IF(EFECTOS!$N$9=\"EL SALVADOR\",LOOKUP(2,GEfectos!$C$4:$I$4,GEfectos!C278:I278),IF(EFECTOS!$N$9=\"GUATEMALA\",LOOKUP(3,GEfectos!$C$4:$I$4,GEfectos!C278:I278),IF(EFECTOS!$N$9=\"HONDURAS\",LOOKUP(4,GEfectos!$C$4:$I$4,GEfectos!C278:I278),IF(EFECTOS!$N$9=\"NICARAGUA\",LOOKUP(5,GEfectos!$C$4:$I$4,GEfectos!C278:I278),IF(EFECTOS!$N$9=\"REPÚBLICA \nDOMINICANA\",LOOKUP(6,$C$4:$I$4,C278:I278),IF(EFECTOS!$N$9=\"PANAMÁ\",LOOKUP(7,GEfectos!$C$4:$I$4,GEfectos!C278:I278))))))))","v":85.404920684917286},{"$f":"IF(EFECTOS!$N$9=\"COSTA RICA\",LOOKUP(1,GEfectos!$J$4:$P$4,GEfectos!J278:P278),IF(EFECTOS!$N$9=\"EL SALVADOR\",LOOKUP(2,GEfectos!$J$4:$P$4,GEfectos!J278:P278),IF(EFECTOS!$N$9=\"GUATEMALA\",LOOKUP(3,GEfectos!$J$4:$P$4,GEfectos!J278:P278),IF(EFECTOS!$N$9=\"HONDURAS\",LOOKUP(4,GEfectos!$J$4:$P$4,GEfectos!J278:P278),IF(EFECTOS!$N$9=\"NICARAGUA\",LOOKUP(5,GEfectos!$J$4:$P$4,GEfectos!J278:P278),IF(EFECTOS!$N$9=\"REPÚBLICA \nDOMINICANA\",LOOKUP(6,$J$4:$P$4,J278:P278),IF(EFECTOS!$N$9=\"PANAMÁ\",LOOKUP(7,GEfectos!$J$4:$P$4,GEfectos!J278:P278))))))))","v":175.33479049822813},{"$f":"IF(EFECTOS!$N$9=\"COSTA RICA\",LOOKUP(1,GEfectos!$Q$4:$W$4,GEfectos!Q278:W278),IF(EFECTOS!$N$9=\"EL SALVADOR\",LOOKUP(2,GEfectos!$Q$4:$W$4,GEfectos!Q278:W278),IF(EFECTOS!$N$9=\"GUATEMALA\",LOOKUP(3,GEfectos!$Q$4:$W$4,GEfectos!Q278:W278),IF(EFECTOS!$N$9=\"HONDURAS\",LOOKUP(4,GEfectos!$Q$4:$W$4,GEfectos!Q278:W278),IF(EFECTOS!$N$9=\"NICARAGUA\",LOOKUP(5,GEfectos!$Q$4:$W$4,GEfectos!Q278:W278),IF(EFECTOS!$N$9=\"REPÚBLICA \nDOMINICANA\",LOOKUP(6,$Q$4:$W$4,Q278:W278),IF(EFECTOS!$N$9=\"PANAMÁ\",LOOKUP(7,GEfectos!$Q$4:$W$4,GEfectos!Q278:W278))))))))","v":205.29822999905051},100]
[null,{"$f":"'ITCER GLOBAL'!B279","v":"Octubre"},{"$f":"'ITCER GLOBAL'!C279","v":83.675878342412616},{"$f":"'ITCER GLOBAL'!D279","v":104.34007857609055},{"$f":"'ITCER GLOBAL'!E279","v":54.166610918787441},{"$f":"'ITCER GLOBAL'!F279","v":86.079183831458096},{"$f":"'ITCER GLOBAL'!G279","v":111.96369185124887},{"$f":"'ITCER GLOBAL'!H279","v":132.44435762935763},{"$f":"'ITCER GLOBAL'!I279","v":94.327029282522872},{"$f":"'ITCER GLOBAL'!S279","v":172.60903736922435},{"$f":"'ITCER GLOBAL'!T279","v":89.49996241912153},{"$f":"'ITCER GLOBAL'!U279","v":85.19039320326597},{"$f":"'ITCER GLOBAL'!V279","v":148.63658618467466},{"$f":"'ITCER GLOBAL'!W279","v":211.37087467208383},{"$f":"'ITCER GLOBAL'!X279","v":277.9821563312945},{"$f":"'ITCER GLOBAL'!Y279","v":96.61787463530537},{"$f":"'ITCER GLOBAL'!AA279","v":206.28291066498954},{"$f":"'ITCER GLOBAL'!AB279","v":85.777166013779848},{"$f":"'ITCER GLOBAL'!AC279","v":157.2747339334056},{"$f":"'ITCER GLOBAL'!AD279","v":172.67425127508542},{"$f":"'ITCER GLOBAL'!AE279","v":188.78519560868352},{"$f":"'ITCER GLOBAL'!AF279","v":209.88599386711581},{"$f":"'ITCER GLOBAL'!AG279","v":102.42862026951056},null,{"$f":"IF(EFECTOS!$N$9=\"COSTA RICA\",LOOKUP(1,GEfectos!$C$4:$I$4,GEfectos!C279:I279),IF(EFECTOS!$N$9=\"EL SALVADOR\",LOOKUP(2,GEfectos!$C$4:$I$4,GEfectos!C279:I279),IF(EFECTOS!$N$9=\"GUATEMALA\",LOOKUP(3,GEfectos!$C$4:$I$4,GEfectos!C279:I279),IF(EFECTOS!$N$9=\"HONDURAS\",LOOKUP(4,GEfectos!$C$4:$I$4,GEfectos!C279:I279),IF(EFECTOS!$N$9=\"NICARAGUA\",LOOKUP(5,GEfectos!$C$4:$I$4,GEfectos!C279:I279),IF(EFECTOS!$N$9=\"REPÚBLICA \nDOMINICANA\",LOOKUP(6,$C$4:$I$4,C279:I279),IF(EFECTOS!$N$9=\"PANAMÁ\",LOOKUP(7,GEfectos!$C$4:$I$4,GEfectos!C279:I279))))))))","v":83.675878342412616},{"$f":"IF(EFECTOS!$N$9=\"COSTA RICA\",LOOKUP(1,GEfectos!$J$4:$P$4,GEfectos!J279:P279),IF(EFECTOS!$N$9=\"EL SALVADOR\",LOOKUP(2,GEfectos!$J$4:$P$4,GEfectos!J279:P279),IF(EFECTOS!$N$9=\"GUATEMALA\",LOOKUP(3,GEfectos!$J$4:$P$4,GEfectos!J279:P279),IF(EFECTOS!$N$9=\"HONDURAS\",LOOKUP(4,GEfectos!$J$4:$P$4,GEfectos!J279:P279),IF(EFECTOS!$N$9=\"NICARAGUA\",LOOKUP(5,GEfectos!$J$4:$P$4,GEfectos!J279:P279),IF(EFECTOS!$N$9=\"REPÚBLICA \nDOMINICANA\",LOOKUP(6,$J$4:$P$4,J279:P279),IF(EFECTOS!$N$9=\"PANAMÁ\",LOOKUP(7,GEfectos!$J$4:$P$4,GEfectos!J279:P279))))))))","v":172.60903736922435},{"$f":"IF(EFECTOS!$N$9=\"COSTA RICA\",LOOKUP(1,GEfectos!$Q$4:$W$4,GEfectos!Q279:W279),IF(EFECTOS!$N$9=\"EL SALVADOR\",LOOKUP(2,GEfectos!$Q$4:$W$4,GEfectos!Q279:W279),IF(EFECTOS!$N$9=\"GUATEMALA\",LOOKUP(3,GEfectos!$Q$4:$W$4,GEfectos!Q279:W279),IF(EFECTOS!$N$9=\"HONDURAS\",LOOKUP(4,GEfectos!$Q$4:$W$4,GEfectos!Q279:W279),IF(EFECTOS!$N$9=\"NICARAGUA\",LOOKUP(5,GEfectos!$Q$4:$W$4,GEfectos!Q279:W279),IF(EFECTOS!$N$9=\"REPÚBLICA \nDOMINICANA\",LOOKUP(6,$Q$4:$W$4,Q279:W279),IF(EFECTOS!$N$9=\"PANAMÁ\",LOOKUP(7,GEfectos!$Q$4:$W$4,GEfectos!Q279:W279))))))))","v":206.28291066498954},100]
[null,{"$f":"'ITCER GLOBAL'!B280","v":"Noviembre"},{"$f":"'ITCER GLOBAL'!C280","v":83.063586561971746},{"$f":"'ITCER GLOBAL'!D280","v":104.30070570783046},{"$f":"'ITCER GLOBAL'!E280","v":53.660948686022486},{"$f":"'ITCER GLOBAL'!F280","v":86.148724900340937},{"$f":"'ITCER GLOBAL'!G280","v":111.06285944842354},{"$f":"'ITCER GLOBAL'!H280","v":131.74302602584771},{"$f":"'ITCER GLOBAL'!I280","v":94.544626690542287},{"$f":"'ITCER GLOBAL'!S280","v":171.39424983297749},{"$f":"'ITCER GLOBAL'!T280","v":89.441192682846875},{"$f":"'ITCER GLOBAL'!U280","v":84.975241786193052},{"$f":"'ITCER GLOBAL'!V280","v":149.21240027254282},{"$f":"'ITCER GLOBAL'!W280","v":211.73975007649187},{"$f":"'ITCER GLOBAL'!X280","v":278.35387293584176},{"$f":"'ITCER GLOBAL'!Y280","v":96.575456706929145},{"$f":"'ITCER GLOBAL'!AA280","v":206.34101767939478},{"$f":"'ITCER GLOBAL'!AB280","v":85.753199919271509},{"$f":"'ITCER GLOBAL'!AC280","v":158.35583206587486},{"$f":"'ITCER GLOBAL'!AD280","v":173.20326034442826},{"$f":"'ITCER GLOBAL'!AE280","v":190.64856706199035},{"$f":"'ITCER GLOBAL'!AF280","v":211.28547091458893},{"$f":"'ITCER GLOBAL'!AG280","v":102.14801209489571},null,{"$f":"IF(EFECTOS!$N$9=\"COSTA RICA\",LOOKUP(1,GEfectos!$C$4:$I$4,GEfectos!C280:I280),IF(EFECTOS!$N$9=\"EL SALVADOR\",LOOKUP(2,GEfectos!$C$4:$I$4,GEfectos!C280:I280),IF(EFECTOS!$N$9=\"GUATEMALA\",LOOKUP(3,GEfectos!$C$4:$I$4,GEfectos!C280:I280),IF(EFECTOS!$N$9=\"HONDURAS\",LOOKUP(4,GEfectos!$C$4:$I$4,GEfectos!C280:I280),IF(EFECTOS!$N$9=\"NICARAGUA\",LOOKUP(5,GEfectos!$C$4:$I$4,GEfectos!C280:I280),IF(EFECTOS!$N$9=\"REPÚBLICA \nDOMINICANA\",LOOKUP(6,$C$4:$I$4,C280:I280),IF(EFECTOS!$N$9=\"PANAMÁ\",LOOKUP(7,GEfectos!$C$4:$I$4,GEfectos!C280:I280))))))))","v":83.063586561971746},{"$f":"IF(EFECTOS!$N$9=\"COSTA RICA\",LOOKUP(1,GEfectos!$J$4:$P$4,GEfectos!J280:P280),IF(EFECTOS!$N$9=\"EL SALVADOR\",LOOKUP(2,GEfectos!$J$4:$P$4,GEfectos!J280:P280),IF(EFECTOS!$N$9=\"GUATEMALA\",LOOKUP(3,GEfectos!$J$4:$P$4,GEfectos!J280:P280),IF(EFECTOS!$N$9=\"HONDURAS\",LOOKUP(4,GEfectos!$J$4:$P$4,GEfectos!J280:P280),IF(EFECTOS!$N$9=\"NICARAGUA\",LOOKUP(5,GEfectos!$J$4:$P$4,GEfectos!J280:P280),IF(EFECTOS!$N$9=\"REPÚBLICA \nDOMINICANA\",LOOKUP(6,$J$4:$P$4,J280:P280),IF(EFECTOS!$N$9=\"PANAMÁ\",LOOKUP(7,GEfectos!$J$4:$P$4,GEfectos!J280:P280))))))))","v":171.39424983297749},{"$f":"IF(EFECTOS!$N$9=\"COSTA RICA\",LOOKUP(1,GEfectos!$Q$4:$W$4,GEfectos!Q280:W280),IF(EFECTOS!$N$9=\"EL SALVADOR\",LOOKUP(2,GEfectos!$Q$4:$W$4,GEfectos!Q280:W280),IF(EFECTOS!$N$9=\"GUATEMALA\",LOOKUP(3,GEfectos!$Q$4:$W$4,GEfectos!Q280:W280),IF(EFECTOS!$N$9=\"HONDURAS\",LOOKUP(4,GEfectos!$Q$4:$W$4,GEfectos!Q280:W280),IF(EFECTOS!$N$9=\"NICARAGUA\",LOOKUP(5,GEfectos!$Q$4:$W$4,GEfectos!Q280:W280),IF(EFECTOS!$N$9=\"REPÚBLICA \nDOMINICANA\",LOOKUP(6,$Q$4:$W$4,Q280:W280),IF(EFECTOS!$N$9=\"PANAMÁ\",LOOKUP(7,GEfectos!$Q$4:$W$4,GEfectos!Q280:W280))))))))","v":206.34101767939478},100]
[null,{"$f":"'ITCER GLOBAL'!B281","v":"Diciembre"},{"$f":"'ITCER GLOBAL'!C281","v":82.722632133023524},{"$f":"'ITCER GLOBAL'!D281","v":104.42341377205484},{"$f":"'ITCER GLOBAL'!E281","v":53.357404586014525},{"$f":"'ITCER GLOBAL'!F281","v":85.831738831151313},{"$f":"'ITCER GLOBAL'!G281","v":110.49724706562728},{"$f":"'ITCER GLOBAL'!H281","v":131.38926902411225},{"$f":"'ITCER GLOBAL'!I281","v":94.750331134051606},{"$f":"'ITCER GLOBAL'!S281","v":171.12283466262684},{"$f":"'ITCER GLOBAL'!T281","v":89.424035483745342},{"$f":"'ITCER GLOBAL'!U281","v":85.1128392504516},{"$f":"'ITCER GLOBAL'!V281","v":149.23831550008288},{"$f":"'ITCER GLOBAL'!W281","v":212.46549032285591},{"$f":"'ITCER GLOBAL'!X281","v":279.92023070108473},{"$f":"'ITCER GLOBAL'!Y281","v":96.75312612640549},{"$f":"'ITCER GLOBAL'!AA281","v":206.86338218475674},{"$f":"'ITCER GLOBAL'!AB281","v":85.636000829228266},{"$f":"'ITCER GLOBAL'!AC281","v":159.51457892455377},{"$f":"'ITCER GLOBAL'!AD281","v":173.87311212891231},{"$f":"'ITCER GLOBAL'!AE281","v":192.28125221677874},{"$f":"'ITCER GLOBAL'!AF281","v":213.0464936597786},{"$f":"'ITCER GLOBAL'!AG281","v":102.11376041474762},null,{"$f":"IF(EFECTOS!$N$9=\"COSTA RICA\",LOOKUP(1,GEfectos!$C$4:$I$4,GEfectos!C281:I281),IF(EFECTOS!$N$9=\"EL SALVADOR\",LOOKUP(2,GEfectos!$C$4:$I$4,GEfectos!C281:I281),IF(EFECTOS!$N$9=\"GUATEMALA\",LOOKUP(3,GEfectos!$C$4:$I$4,GEfectos!C281:I281),IF(EFECTOS!$N$9=\"HONDURAS\",LOOKUP(4,GEfectos!$C$4:$I$4,GEfectos!C281:I281),IF(EFECTOS!$N$9=\"NICARAGUA\",LOOKUP(5,GEfectos!$C$4:$I$4,GEfectos!C281:I281),IF(EFECTOS!$N$9=\"REPÚBLICA \nDOMINICANA\",LOOKUP(6,$C$4:$I$4,C281:I281),IF(EFECTOS!$N$9=\"PANAMÁ\",LOOKUP(7,GEfectos!$C$4:$I$4,GEfectos!C281:I281))))))))","v":82.722632133023524},{"$f":"IF(EFECTOS!$N$9=\"COSTA RICA\",LOOKUP(1,GEfectos!$J$4:$P$4,GEfectos!J281:P281),IF(EFECTOS!$N$9=\"EL SALVADOR\",LOOKUP(2,GEfectos!$J$4:$P$4,GEfectos!J281:P281),IF(EFECTOS!$N$9=\"GUATEMALA\",LOOKUP(3,GEfectos!$J$4:$P$4,GEfectos!J281:P281),IF(EFECTOS!$N$9=\"HONDURAS\",LOOKUP(4,GEfectos!$J$4:$P$4,GEfectos!J281:P281),IF(EFECTOS!$N$9=\"NICARAGUA\",LOOKUP(5,GEfectos!$J$4:$P$4,GEfectos!J281:P281),IF(EFECTOS!$N$9=\"REPÚBLICA \nDOMINICANA\",LOOKUP(6,$J$4:$P$4,J281:P281),IF(EFECTOS!$N$9=\"PANAMÁ\",LOOKUP(7,GEfectos!$J$4:$P$4,GEfectos!J281:P281))))))))","v":171.12283466262684},{"$f":"IF(EFECTOS!$N$9=\"COSTA RICA\",LOOKUP(1,GEfectos!$Q$4:$W$4,GEfectos!Q281:W281),IF(EFECTOS!$N$9=\"EL SALVADOR\",LOOKUP(2,GEfectos!$Q$4:$W$4,GEfectos!Q281:W281),IF(EFECTOS!$N$9=\"GUATEMALA\",LOOKUP(3,GEfectos!$Q$4:$W$4,GEfectos!Q281:W281),IF(EFECTOS!$N$9=\"HONDURAS\",LOOKUP(4,GEfectos!$Q$4:$W$4,GEfectos!Q281:W281),IF(EFECTOS!$N$9=\"NICARAGUA\",LOOKUP(5,GEfectos!$Q$4:$W$4,GEfectos!Q281:W281),IF(EFECTOS!$N$9=\"REPÚBLICA \nDOMINICANA\",LOOKUP(6,$Q$4:$W$4,Q281:W281),IF(EFECTOS!$N$9=\"PANAMÁ\",LOOKUP(7,GEfectos!$Q$4:$W$4,GEfectos!Q281:W281))))))))","v":206.86338218475674},100]
[2018,{"$f":"'ITCER GLOBAL'!B282","v":"Enero"},{"$f":"'ITCER GLOBAL'!C282","v":83.884155412019368},{"$f":"'ITCER GLOBAL'!D282","v":105.3461203739259},{"$f":"'ITCER GLOBAL'!E282","v":54.223679857445696},{"$f":"'ITCER GLOBAL'!F282","v":86.904121652464966},{"$f":"'ITCER GLOBAL'!G282","v":113.48245083645037},{"$f":"'ITCER GLOBAL'!H282","v":130.08437588249535},{"$f":"'ITCER GLOBAL'!I282","v":96.209340340612826},{"$f":"'ITCER GLOBAL'!S282","v":174.1320179824254},{"$f":"'ITCER GLOBAL'!T282","v":89.602336171830771},{"$f":"'ITCER GLOBAL'!U282","v":85.862887854522029},{"$f":"'ITCER GLOBAL'!V282","v":150.96579973999792},{"$f":"'ITCER GLOBAL'!W282","v":217.06949000810849},{"$f":"'ITCER GLOBAL'!X282","v":285.90024000194052},{"$f":"'ITCER GLOBAL'!Y282","v":97.693945212797317},{"$f":"'ITCER GLOBAL'!AA282","v":207.58630414424465},{"$f":"'ITCER GLOBAL'!AB282","v":85.055183668641448},{"$f":"'ITCER GLOBAL'!AC282","v":158.34942976990121},{"$f":"'ITCER GLOBAL'!AD282","v":173.71535074449017},{"$f":"'ITCER GLOBAL'!AE282","v":191.28022739035359},{"$f":"'ITCER GLOBAL'!AF282","v":219.78061397641858},{"$f":"'ITCER GLOBAL'!AG282","v":101.54309848391902},null,{"$f":"IF(EFECTOS!$N$9=\"COSTA RICA\",LOOKUP(1,GEfectos!$C$4:$I$4,GEfectos!C282:I282),IF(EFECTOS!$N$9=\"EL SALVADOR\",LOOKUP(2,GEfectos!$C$4:$I$4,GEfectos!C282:I282),IF(EFECTOS!$N$9=\"GUATEMALA\",LOOKUP(3,GEfectos!$C$4:$I$4,GEfectos!C282:I282),IF(EFECTOS!$N$9=\"HONDURAS\",LOOKUP(4,GEfectos!$C$4:$I$4,GEfectos!C282:I282),IF(EFECTOS!$N$9=\"NICARAGUA\",LOOKUP(5,GEfectos!$C$4:$I$4,GEfectos!C282:I282),IF(EFECTOS!$N$9=\"REPÚBLICA \nDOMINICANA\",LOOKUP(6,$C$4:$I$4,C282:I282),IF(EFECTOS!$N$9=\"PANAMÁ\",LOOKUP(7,GEfectos!$C$4:$I$4,GEfectos!C282:I282))))))))","v":83.884155412019368},{"$f":"IF(EFECTOS!$N$9=\"COSTA RICA\",LOOKUP(1,GEfectos!$J$4:$P$4,GEfectos!J282:P282),IF(EFECTOS!$N$9=\"EL SALVADOR\",LOOKUP(2,GEfectos!$J$4:$P$4,GEfectos!J282:P282),IF(EFECTOS!$N$9=\"GUATEMALA\",LOOKUP(3,GEfectos!$J$4:$P$4,GEfectos!J282:P282),IF(EFECTOS!$N$9=\"HONDURAS\",LOOKUP(4,GEfectos!$J$4:$P$4,GEfectos!J282:P282),IF(EFECTOS!$N$9=\"NICARAGUA\",LOOKUP(5,GEfectos!$J$4:$P$4,GEfectos!J282:P282),IF(EFECTOS!$N$9=\"REPÚBLICA \nDOMINICANA\",LOOKUP(6,$J$4:$P$4,J282:P282),IF(EFECTOS!$N$9=\"PANAMÁ\",LOOKUP(7,GEfectos!$J$4:$P$4,GEfectos!J282:P282))))))))","v":174.1320179824254},{"$f":"IF(EFECTOS!$N$9=\"COSTA RICA\",LOOKUP(1,GEfectos!$Q$4:$W$4,GEfectos!Q282:W282),IF(EFECTOS!$N$9=\"EL SALVADOR\",LOOKUP(2,GEfectos!$Q$4:$W$4,GEfectos!Q282:W282),IF(EFECTOS!$N$9=\"GUATEMALA\",LOOKUP(3,GEfectos!$Q$4:$W$4,GEfectos!Q282:W282),IF(EFECTOS!$N$9=\"HONDURAS\",LOOKUP(4,GEfectos!$Q$4:$W$4,GEfectos!Q282:W282),IF(EFECTOS!$N$9=\"NICARAGUA\",LOOKUP(5,GEfectos!$Q$4:$W$4,GEfectos!Q282:W282),IF(EFECTOS!$N$9=\"REPÚBLICA \nDOMINICANA\",LOOKUP(6,$Q$4:$W$4,Q282:W282),IF(EFECTOS!$N$9=\"PANAMÁ\",LOOKUP(7,GEfectos!$Q$4:$W$4,GEfectos!Q282:W282))))))))","v":207.58630414424465},100]
[null,{"$f":"'ITCER GLOBAL'!B283","v":"Febrero"},{"$f":"'ITCER GLOBAL'!C283","v":84.676176019052392},{"$f":"'ITCER GLOBAL'!D283","v":105.94033521606914},{"$f":"'ITCER GLOBAL'!E283","v":54.928997414158111},{"$f":"'ITCER GLOBAL'!F283","v":86.895755739688468},{"$f":"'ITCER GLOBAL'!G283","v":114.55946547585341},{"$f":"'ITCER GLOBAL'!H283","v":132.4665134944612},{"$f":"'ITCER GLOBAL'!I283","v":96.937524945917914},{"$f":"'ITCER GLOBAL'!S283","v":175.36517329154074},{"$f":"'ITCER GLOBAL'!T283","v":89.806407940373646},{"$f":"'ITCER GLOBAL'!U283","v":86.409916211769982},{"$f":"'ITCER GLOBAL'!V283","v":151.34905939471344},{"$f":"'ITCER GLOBAL'!W283","v":218.65751226019395},{"$f":"'ITCER GLOBAL'!X283","v":289.28224026598582},{"$f":"'ITCER GLOBAL'!Y283","v":98.220015111028729},{"$f":"'ITCER GLOBAL'!AA283","v":207.1009598403252},{"$f":"'ITCER GLOBAL'!AB283","v":84.770741717222464},{"$f":"'ITCER GLOBAL'!AC283","v":157.31202148156734},{"$f":"'ITCER GLOBAL'!AD283","v":174.17313205504101},{"$f":"'ITCER GLOBAL'!AE283","v":190.8681324165938},{"$f":"'ITCER GLOBAL'!AF283","v":218.3814102407712},{"$f":"'ITCER GLOBAL'!AG283","v":101.32300692206277},null,{"$f":"IF(EFECTOS!$N$9=\"COSTA RICA\",LOOKUP(1,GEfectos!$C$4:$I$4,GEfectos!C283:I283),IF(EFECTOS!$N$9=\"EL SALVADOR\",LOOKUP(2,GEfectos!$C$4:$I$4,GEfectos!C283:I283),IF(EFECTOS!$N$9=\"GUATEMALA\",LOOKUP(3,GEfectos!$C$4:$I$4,GEfectos!C283:I283),IF(EFECTOS!$N$9=\"HONDURAS\",LOOKUP(4,GEfectos!$C$4:$I$4,GEfectos!C283:I283),IF(EFECTOS!$N$9=\"NICARAGUA\",LOOKUP(5,GEfectos!$C$4:$I$4,GEfectos!C283:I283),IF(EFECTOS!$N$9=\"REPÚBLICA \nDOMINICANA\",LOOKUP(6,$C$4:$I$4,C283:I283),IF(EFECTOS!$N$9=\"PANAMÁ\",LOOKUP(7,GEfectos!$C$4:$I$4,GEfectos!C283:I283))))))))","v":84.676176019052392},{"$f":"IF(EFECTOS!$N$9=\"COSTA RICA\",LOOKUP(1,GEfectos!$J$4:$P$4,GEfectos!J283:P283),IF(EFECTOS!$N$9=\"EL SALVADOR\",LOOKUP(2,GEfectos!$J$4:$P$4,GEfectos!J283:P283),IF(EFECTOS!$N$9=\"GUATEMALA\",LOOKUP(3,GEfectos!$J$4:$P$4,GEfectos!J283:P283),IF(EFECTOS!$N$9=\"HONDURAS\",LOOKUP(4,GEfectos!$J$4:$P$4,GEfectos!J283:P283),IF(EFECTOS!$N$9=\"NICARAGUA\",LOOKUP(5,GEfectos!$J$4:$P$4,GEfectos!J283:P283),IF(EFECTOS!$N$9=\"REPÚBLICA \nDOMINICANA\",LOOKUP(6,$J$4:$P$4,J283:P283),IF(EFECTOS!$N$9=\"PANAMÁ\",LOOKUP(7,GEfectos!$J$4:$P$4,GEfectos!J283:P283))))))))","v":175.36517329154074},{"$f":"IF(EFECTOS!$N$9=\"COSTA RICA\",LOOKUP(1,GEfectos!$Q$4:$W$4,GEfectos!Q283:W283),IF(EFECTOS!$N$9=\"EL SALVADOR\",LOOKUP(2,GEfectos!$Q$4:$W$4,GEfectos!Q283:W283),IF(EFECTOS!$N$9=\"GUATEMALA\",LOOKUP(3,GEfectos!$Q$4:$W$4,GEfectos!Q283:W283),IF(EFECTOS!$N$9=\"HONDURAS\",LOOKUP(4,GEfectos!$Q$4:$W$4,GEfectos!Q283:W283),IF(EFECTOS!$N$9=\"NICARAGUA\",LOOKUP(5,GEfectos!$Q$4:$W$4,GEfectos!Q283:W283),IF(EFECTOS!$N$9=\"REPÚBLICA \nDOMINICANA\",LOOKUP(6,$Q$4:$W$4,Q283:W283),IF(EFECTOS!$N$9=\"PANAMÁ\",LOOKUP(7,GEfectos!$Q$4:$W$4,GEfectos!Q283:W283))))))))","v":207.1009598403252},100]
[null,{"$f":"'ITCER GLOBAL'!B284","v":"Marzo"},{"$f":"'ITCER GLOBAL'!C284","v":84.32981891649483},{"$f":"'ITCER GLOBAL'!D284","v":106.14910745619133},{"$f":"'ITCER GLOBAL'!E284","v":55.120264602979063},{"$f":"'ITCER GLOBAL'!F284","v":86.908779286119284},{"$f":"'ITCER GLOBAL'!G284","v":114.78112684703879},{"$f":"'ITCER GLOBAL'!H284","v":133.00203854000989},{"$f":"'ITCER GLOBAL'!I284","v":97.007518089727654},{"$f":"'ITCER GLOBAL'!S284","v":174.28458860517765},{"$f":"'ITCER GLOBAL'!T284","v":89.761375808651167},{"$f":"'ITCER GLOBAL'!U284","v":86.803482704464102},{"$f":"'ITCER GLOBAL'!V284","v":151.63804161055893},{"$f":"'ITCER GLOBAL'!W284","v":219.31019471072503},{"$f":"'ITCER GLOBAL'!X284","v":291.04345813920389},{"$f":"'ITCER GLOBAL'!Y284","v":98.285673569284299},{"$f":"'ITCER GLOBAL'!AA284","v":206.67018006733531},{"$f":"'ITCER GLOBAL'!AB284","v":84.56159261225676},{"$f":"'ITCER GLOBAL'!AC284","v":157.48016329328846},{"$f":"'ITCER GLOBAL'!AD284","v":174.47954378848115},{"$f":"'ITCER GLOBAL'!AE284","v":191.06816663595333},{"$f":"'ITCER GLOBAL'!AF284","v":218.8263137422903},{"$f":"'ITCER GLOBAL'!AG284","v":101.31758394063273},null,{"$f":"IF(EFECTOS!$N$9=\"COSTA RICA\",LOOKUP(1,GEfectos!$C$4:$I$4,GEfectos!C284:I284),IF(EFECTOS!$N$9=\"EL SALVADOR\",LOOKUP(2,GEfectos!$C$4:$I$4,GEfectos!C284:I284),IF(EFECTOS!$N$9=\"GUATEMALA\",LOOKUP(3,GEfectos!$C$4:$I$4,GEfectos!C284:I284),IF(EFECTOS!$N$9=\"HONDURAS\",LOOKUP(4,GEfectos!$C$4:$I$4,GEfectos!C284:I284),IF(EFECTOS!$N$9=\"NICARAGUA\",LOOKUP(5,GEfectos!$C$4:$I$4,GEfectos!C284:I284),IF(EFECTOS!$N$9=\"REPÚBLICA \nDOMINICANA\",LOOKUP(6,$C$4:$I$4,C284:I284),IF(EFECTOS!$N$9=\"PANAMÁ\",LOOKUP(7,GEfectos!$C$4:$I$4,GEfectos!C284:I284))))))))","v":84.32981891649483},{"$f":"IF(EFECTOS!$N$9=\"COSTA RICA\",LOOKUP(1,GEfectos!$J$4:$P$4,GEfectos!J284:P284),IF(EFECTOS!$N$9=\"EL SALVADOR\",LOOKUP(2,GEfectos!$J$4:$P$4,GEfectos!J284:P284),IF(EFECTOS!$N$9=\"GUATEMALA\",LOOKUP(3,GEfectos!$J$4:$P$4,GEfectos!J284:P284),IF(EFECTOS!$N$9=\"HONDURAS\",LOOKUP(4,GEfectos!$J$4:$P$4,GEfectos!J284:P284),IF(EFECTOS!$N$9=\"NICARAGUA\",LOOKUP(5,GEfectos!$J$4:$P$4,GEfectos!J284:P284),IF(EFECTOS!$N$9=\"REPÚBLICA \nDOMINICANA\",LOOKUP(6,$J$4:$P$4,J284:P284),IF(EFECTOS!$N$9=\"PANAMÁ\",LOOKUP(7,GEfectos!$J$4:$P$4,GEfectos!J284:P284))))))))","v":174.28458860517765},{"$f":"IF(EFECTOS!$N$9=\"COSTA RICA\",LOOKUP(1,GEfectos!$Q$4:$W$4,GEfectos!Q284:W284),IF(EFECTOS!$N$9=\"EL SALVADOR\",LOOKUP(2,GEfectos!$Q$4:$W$4,GEfectos!Q284:W284),IF(EFECTOS!$N$9=\"GUATEMALA\",LOOKUP(3,GEfectos!$Q$4:$W$4,GEfectos!Q284:W284),IF(EFECTOS!$N$9=\"HONDURAS\",LOOKUP(4,GEfectos!$Q$4:$W$4,GEfectos!Q284:W284),IF(EFECTOS!$N$9=\"NICARAGUA\",LOOKUP(5,GEfectos!$Q$4:$W$4,GEfectos!Q284:W284),IF(EFECTOS!$N$9=\"REPÚBLICA \nDOMINICANA\",LOOKUP(6,$Q$4:$W$4,Q284:W284),IF(EFECTOS!$N$9=\"PANAMÁ\",LOOKUP(7,GEfectos!$Q$4:$W$4,GEfectos!Q284:W284))))))))","v":206.67018006733531},100]
[null,{"$f":"'ITCER GLOBAL'!B285","v":"Abril"},{"$f":"'ITCER GLOBAL'!C285","v":84.268340580417515},{"$f":"'ITCER GLOBAL'!D285","v":106.34267597704097},{"$f":"'ITCER GLOBAL'!E285","v":55.391306429937892},{"$f":"'ITCER GLOBAL'!F285","v":87.03064312078746},{"$f":"'ITCER GLOBAL'!G285","v":114.99613251872691},{"$f":"'ITCER GLOBAL'!H285","v":133.30520183398863},{"$f":"'ITCER GLOBAL'!I285","v":97.058472259500832},{"$f":"'ITCER GLOBAL'!S285","v":173.61359499463717},{"$f":"'ITCER GLOBAL'!T285","v":89.769797437621193},{"$f":"'ITCER GLOBAL'!U285","v":87.104463633709074},{"$f":"'ITCER GLOBAL'!V285","v":151.8747441488249},{"$f":"'ITCER GLOBAL'!W285","v":220.14731651726191},{"$f":"'ITCER GLOBAL'!X285","v":292.01327023157182},{"$f":"'ITCER GLOBAL'!Y285","v":98.344358292470616},{"$f":"'ITCER GLOBAL'!AA285","v":206.02469895435669},{"$f":"'ITCER GLOBAL'!AB285","v":84.415590084456966},{"$f":"'ITCER GLOBAL'!AC285","v":157.25295041358845},{"$f":"'ITCER GLOBAL'!AD285","v":174.50720654567849},{"$f":"'ITCER GLOBAL'!AE285","v":191.43888728728444},{"$f":"'ITCER GLOBAL'!AF285","v":219.05617051255808},{"$f":"'ITCER GLOBAL'!AG285","v":101.32485707124235},null,{"$f":"IF(EFECTOS!$N$9=\"COSTA RICA\",LOOKUP(1,GEfectos!$C$4:$I$4,GEfectos!C285:I285),IF(EFECTOS!$N$9=\"EL SALVADOR\",LOOKUP(2,GEfectos!$C$4:$I$4,GEfectos!C285:I285),IF(EFECTOS!$N$9=\"GUATEMALA\",LOOKUP(3,GEfectos!$C$4:$I$4,GEfectos!C285:I285),IF(EFECTOS!$N$9=\"HONDURAS\",LOOKUP(4,GEfectos!$C$4:$I$4,GEfectos!C285:I285),IF(EFECTOS!$N$9=\"NICARAGUA\",LOOKUP(5,GEfectos!$C$4:$I$4,GEfectos!C285:I285),IF(EFECTOS!$N$9=\"REPÚBLICA \nDOMINICANA\",LOOKUP(6,$C$4:$I$4,C285:I285),IF(EFECTOS!$N$9=\"PANAMÁ\",LOOKUP(7,GEfectos!$C$4:$I$4,GEfectos!C285:I285))))))))","v":84.268340580417515},{"$f":"IF(EFECTOS!$N$9=\"COSTA RICA\",LOOKUP(1,GEfectos!$J$4:$P$4,GEfectos!J285:P285),IF(EFECTOS!$N$9=\"EL SALVADOR\",LOOKUP(2,GEfectos!$J$4:$P$4,GEfectos!J285:P285),IF(EFECTOS!$N$9=\"GUATEMALA\",LOOKUP(3,GEfectos!$J$4:$P$4,GEfectos!J285:P285),IF(EFECTOS!$N$9=\"HONDURAS\",LOOKUP(4,GEfectos!$J$4:$P$4,GEfectos!J285:P285),IF(EFECTOS!$N$9=\"NICARAGUA\",LOOKUP(5,GEfectos!$J$4:$P$4,GEfectos!J285:P285),IF(EFECTOS!$N$9=\"REPÚBLICA \nDOMINICANA\",LOOKUP(6,$J$4:$P$4,J285:P285),IF(EFECTOS!$N$9=\"PANAMÁ\",LOOKUP(7,GEfectos!$J$4:$P$4,GEfectos!J285:P285))))))))","v":173.61359499463717},{"$f":"IF(EFECTOS!$N$9=\"COSTA RICA\",LOOKUP(1,GEfectos!$Q$4:$W$4,GEfectos!Q285:W285),IF(EFECTOS!$N$9=\"EL SALVADOR\",LOOKUP(2,GEfectos!$Q$4:$W$4,GEfectos!Q285:W285),IF(EFECTOS!$N$9=\"GUATEMALA\",LOOKUP(3,GEfectos!$Q$4:$W$4,GEfectos!Q285:W285),IF(EFECTOS!$N$9=\"HONDURAS\",LOOKUP(4,GEfectos!$Q$4:$W$4,GEfectos!Q285:W285),IF(EFECTOS!$N$9=\"NICARAGUA\",LOOKUP(5,GEfectos!$Q$4:$W$4,GEfectos!Q285:W285),IF(EFECTOS!$N$9=\"REPÚBLICA \nDOMINICANA\",LOOKUP(6,$Q$4:$W$4,Q285:W285),IF(EFECTOS!$N$9=\"PANAMÁ\",LOOKUP(7,GEfectos!$Q$4:$W$4,GEfectos!Q285:W285))))))))","v":206.02469895435669},100]
[null,{"$f":"'ITCER GLOBAL'!B286","v":"Mayo"},{"$f":"'ITCER GLOBAL'!C286","v":83.518141800363779},{"$f":"'ITCER GLOBAL'!D286","v":105.5565342293187},{"$f":"'ITCER GLOBAL'!E286","v":54.831278420084367},{"$f":"'ITCER GLOBAL'!F286","v":86.743390125418671},{"$f":"'ITCER GLOBAL'!G286","v":114.02815200038404},{"$f":"'ITCER GLOBAL'!H286","v":131.9198294678846},{"$f":"'ITCER GLOBAL'!I286","v":95.736303756129729},{"$f":"'ITCER GLOBAL'!S286","v":171.36053692087313},{"$f":"'ITCER GLOBAL'!T286","v":88.969213704945261},{"$f":"'ITCER GLOBAL'!U286","v":86.433475842284935},{"$f":"'ITCER GLOBAL'!V286","v":151.06551130753672},{"$f":"'ITCER GLOBAL'!W286","v":219.09189576683838},{"$f":"'ITCER GLOBAL'!X286","v":288.77797200912261},{"$f":"'ITCER GLOBAL'!Y286","v":96.772190830725563},{"$f":"'ITCER GLOBAL'!AA286","v":205.17762156452429},{"$f":"'ITCER GLOBAL'!AB286","v":84.28584204144299},{"$f":"'ITCER GLOBAL'!AC286","v":157.63534670864954},{"$f":"'ITCER GLOBAL'!AD286","v":174.1521873760264},{"$f":"'ITCER GLOBAL'!AE286","v":192.1384254005103},{"$f":"'ITCER GLOBAL'!AF286","v":218.90414289795953},{"$f":"'ITCER GLOBAL'!AG286","v":101.0820211706048},null,{"$f":"IF(EFECTOS!$N$9=\"COSTA RICA\",LOOKUP(1,GEfectos!$C$4:$I$4,GEfectos!C286:I286),IF(EFECTOS!$N$9=\"EL SALVADOR\",LOOKUP(2,GEfectos!$C$4:$I$4,GEfectos!C286:I286),IF(EFECTOS!$N$9=\"GUATEMALA\",LOOKUP(3,GEfectos!$C$4:$I$4,GEfectos!C286:I286),IF(EFECTOS!$N$9=\"HONDURAS\",LOOKUP(4,GEfectos!$C$4:$I$4,GEfectos!C286:I286),IF(EFECTOS!$N$9=\"NICARAGUA\",LOOKUP(5,GEfectos!$C$4:$I$4,GEfectos!C286:I286),IF(EFECTOS!$N$9=\"REPÚBLICA \nDOMINICANA\",LOOKUP(6,$C$4:$I$4,C286:I286),IF(EFECTOS!$N$9=\"PANAMÁ\",LOOKUP(7,GEfectos!$C$4:$I$4,GEfectos!C286:I286))))))))","v":83.518141800363779},{"$f":"IF(EFECTOS!$N$9=\"COSTA RICA\",LOOKUP(1,GEfectos!$J$4:$P$4,GEfectos!J286:P286),IF(EFECTOS!$N$9=\"EL SALVADOR\",LOOKUP(2,GEfectos!$J$4:$P$4,GEfectos!J286:P286),IF(EFECTOS!$N$9=\"GUATEMALA\",LOOKUP(3,GEfectos!$J$4:$P$4,GEfectos!J286:P286),IF(EFECTOS!$N$9=\"HONDURAS\",LOOKUP(4,GEfectos!$J$4:$P$4,GEfectos!J286:P286),IF(EFECTOS!$N$9=\"NICARAGUA\",LOOKUP(5,GEfectos!$J$4:$P$4,GEfectos!J286:P286),IF(EFECTOS!$N$9=\"REPÚBLICA \nDOMINICANA\",LOOKUP(6,$J$4:$P$4,J286:P286),IF(EFECTOS!$N$9=\"PANAMÁ\",LOOKUP(7,GEfectos!$J$4:$P$4,GEfectos!J286:P286))))))))","v":171.36053692087313},{"$f":"IF(EFECTOS!$N$9=\"COSTA RICA\",LOOKUP(1,GEfectos!$Q$4:$W$4,GEfectos!Q286:W286),IF(EFECTOS!$N$9=\"EL SALVADOR\",LOOKUP(2,GEfectos!$Q$4:$W$4,GEfectos!Q286:W286),IF(EFECTOS!$N$9=\"GUATEMALA\",LOOKUP(3,GEfectos!$Q$4:$W$4,GEfectos!Q286:W286),IF(EFECTOS!$N$9=\"HONDURAS\",LOOKUP(4,GEfectos!$Q$4:$W$4,GEfectos!Q286:W286),IF(EFECTOS!$N$9=\"NICARAGUA\",LOOKUP(5,GEfectos!$Q$4:$W$4,GEfectos!Q286:W286),IF(EFECTOS!$N$9=\"REPÚBLICA \nDOMINICANA\",LOOKUP(6,$Q$4:$W$4,Q286:W286),IF(EFECTOS!$N$9=\"PANAMÁ\",LOOKUP(7,GEfectos!$Q$4:$W$4,GEfectos!Q286:W286))))))))","v":205.17762156452429},100]
[null,{"$f":"'ITCER GLOBAL'!B287","v":"Junio"},{"$f":"'ITCER GLOBAL'!C287","v":83.207544155645678},{"$f":"'ITCER GLOBAL'!D287","v":104.99226745367309},{"$f":"'ITCER GLOBAL'!E287","v":54.49439400333253},{"$f":"'ITCER GLOBAL'!F287","v":86.504388643527108},{"$f":"'ITCER GLOBAL'!G287","v":113.55873918959196},{"$f":"'ITCER GLOBAL'!H287","v":130.94353080467081},{"$f":"'ITCER GLOBAL'!I287","v":94.75153386920914},{"$f":"'ITCER GLOBAL'!S287","v":170.70561716615217},{"$f":"'ITCER GLOBAL'!T287","v":88.389631987618927},{"$f":"'ITCER GLOBAL'!U287","v":86.235757356157109},{"$f":"'ITCER GLOBAL'!V287","v":150.96085481452423},{"$f":"'ITCER GLOBAL'!W287","v":218.68591170584401},{"$f":"'ITCER GLOBAL'!X287","v":286.6176763027978},{"$f":"'ITCER GLOBAL'!Y287","v":95.817463410430292},{"$f":"'ITCER GLOBAL'!AA287","v":205.15641808492151},{"$f":"'ITCER GLOBAL'!AB287","v":84.186801686724266},{"$f":"'ITCER GLOBAL'!AC287","v":158.24702509928542},{"$f":"'ITCER GLOBAL'!AD287","v":174.5123654206881},{"$f":"'ITCER GLOBAL'!AE287","v":192.57514944819619},{"$f":"'ITCER GLOBAL'!AF287","v":218.88647307849592},{"$f":"'ITCER GLOBAL'!AG287","v":101.12497338849681},null,{"$f":"IF(EFECTOS!$N$9=\"COSTA RICA\",LOOKUP(1,GEfectos!$C$4:$I$4,GEfectos!C287:I287),IF(EFECTOS!$N$9=\"EL SALVADOR\",LOOKUP(2,GEfectos!$C$4:$I$4,GEfectos!C287:I287),IF(EFECTOS!$N$9=\"GUATEMALA\",LOOKUP(3,GEfectos!$C$4:$I$4,GEfectos!C287:I287),IF(EFECTOS!$N$9=\"HONDURAS\",LOOKUP(4,GEfectos!$C$4:$I$4,GEfectos!C287:I287),IF(EFECTOS!$N$9=\"NICARAGUA\",LOOKUP(5,GEfectos!$C$4:$I$4,GEfectos!C287:I287),IF(EFECTOS!$N$9=\"REPÚBLICA \nDOMINICANA\",LOOKUP(6,$C$4:$I$4,C287:I287),IF(EFECTOS!$N$9=\"PANAMÁ\",LOOKUP(7,GEfectos!$C$4:$I$4,GEfectos!C287:I287))))))))","v":83.207544155645678},{"$f":"IF(EFECTOS!$N$9=\"COSTA RICA\",LOOKUP(1,GEfectos!$J$4:$P$4,GEfectos!J287:P287),IF(EFECTOS!$N$9=\"EL SALVADOR\",LOOKUP(2,GEfectos!$J$4:$P$4,GEfectos!J287:P287),IF(EFECTOS!$N$9=\"GUATEMALA\",LOOKUP(3,GEfectos!$J$4:$P$4,GEfectos!J287:P287),IF(EFECTOS!$N$9=\"HONDURAS\",LOOKUP(4,GEfectos!$J$4:$P$4,GEfectos!J287:P287),IF(EFECTOS!$N$9=\"NICARAGUA\",LOOKUP(5,GEfectos!$J$4:$P$4,GEfectos!J287:P287),IF(EFECTOS!$N$9=\"REPÚBLICA \nDOMINICANA\",LOOKUP(6,$J$4:$P$4,J287:P287),IF(EFECTOS!$N$9=\"PANAMÁ\",LOOKUP(7,GEfectos!$J$4:$P$4,GEfectos!J287:P287))))))))","v":170.70561716615217},{"$f":"IF(EFECTOS!$N$9=\"COSTA RICA\",LOOKUP(1,GEfectos!$Q$4:$W$4,GEfectos!Q287:W287),IF(EFECTOS!$N$9=\"EL SALVADOR\",LOOKUP(2,GEfectos!$Q$4:$W$4,GEfectos!Q287:W287),IF(EFECTOS!$N$9=\"GUATEMALA\",LOOKUP(3,GEfectos!$Q$4:$W$4,GEfectos!Q287:W287),IF(EFECTOS!$N$9=\"HONDURAS\",LOOKUP(4,GEfectos!$Q$4:$W$4,GEfectos!Q287:W287),IF(EFECTOS!$N$9=\"NICARAGUA\",LOOKUP(5,GEfectos!$Q$4:$W$4,GEfectos!Q287:W287),IF(EFECTOS!$N$9=\"REPÚBLICA \nDOMINICANA\",LOOKUP(6,$Q$4:$W$4,Q287:W287),IF(EFECTOS!$N$9=\"PANAMÁ\",LOOKUP(7,GEfectos!$Q$4:$W$4,GEfectos!Q287:W287))))))))","v":205.15641808492151},100]
[null,{"$f":"'ITCER GLOBAL'!B288","v":"Julio"},{"$f":"'ITCER GLOBAL'!C288","v":82.90107942470334},{"$f":"'ITCER GLOBAL'!D288","v":104.9795568806063},{"$f":"'ITCER GLOBAL'!E288","v":54.433713583653329},{"$f":"'ITCER GLOBAL'!F288","v":86.366682892332818},{"$f":"'ITCER GLOBAL'!G288","v":114.44740947202705},{"$f":"'ITCER GLOBAL'!H288","v":131.18679666532614},{"$f":"'ITCER GLOBAL'!I288","v":94.618236827236316},{"$f":"'ITCER GLOBAL'!S288","v":170.43738655980988},{"$f":"'ITCER GLOBAL'!T288","v":88.381989531976942},{"$f":"'ITCER GLOBAL'!U288","v":86.352272492991602},{"$f":"'ITCER GLOBAL'!V288","v":151.16491000854424},{"$f":"'ITCER GLOBAL'!W288","v":219.84923496273203},{"$f":"'ITCER GLOBAL'!X288","v":286.74184727264924},{"$f":"'ITCER GLOBAL'!Y288","v":95.550609484968106},{"$f":"'ITCER GLOBAL'!AA288","v":205.59127546054842},{"$f":"'ITCER GLOBAL'!AB288","v":84.189714796085653},{"$f":"'ITCER GLOBAL'!AC288","v":158.63748182509369},{"$f":"'ITCER GLOBAL'!AD288","v":175.02687951671217},{"$f":"'ITCER GLOBAL'!AE288","v":192.09629643602111},{"$f":"'ITCER GLOBAL'!AF288","v":218.57523360690286},{"$f":"'ITCER GLOBAL'!AG288","v":100.98540481095013},null,{"$f":"IF(EFECTOS!$N$9=\"COSTA RICA\",LOOKUP(1,GEfectos!$C$4:$I$4,GEfectos!C288:I288),IF(EFECTOS!$N$9=\"EL SALVADOR\",LOOKUP(2,GEfectos!$C$4:$I$4,GEfectos!C288:I288),IF(EFECTOS!$N$9=\"GUATEMALA\",LOOKUP(3,GEfectos!$C$4:$I$4,GEfectos!C288:I288),IF(EFECTOS!$N$9=\"HONDURAS\",LOOKUP(4,GEfectos!$C$4:$I$4,GEfectos!C288:I288),IF(EFECTOS!$N$9=\"NICARAGUA\",LOOKUP(5,GEfectos!$C$4:$I$4,GEfectos!C288:I288),IF(EFECTOS!$N$9=\"REPÚBLICA \nDOMINICANA\",LOOKUP(6,$C$4:$I$4,C288:I288),IF(EFECTOS!$N$9=\"PANAMÁ\",LOOKUP(7,GEfectos!$C$4:$I$4,GEfectos!C288:I288))))))))","v":82.90107942470334},{"$f":"IF(EFECTOS!$N$9=\"COSTA RICA\",LOOKUP(1,GEfectos!$J$4:$P$4,GEfectos!J288:P288),IF(EFECTOS!$N$9=\"EL SALVADOR\",LOOKUP(2,GEfectos!$J$4:$P$4,GEfectos!J288:P288),IF(EFECTOS!$N$9=\"GUATEMALA\",LOOKUP(3,GEfectos!$J$4:$P$4,GEfectos!J288:P288),IF(EFECTOS!$N$9=\"HONDURAS\",LOOKUP(4,GEfectos!$J$4:$P$4,GEfectos!J288:P288),IF(EFECTOS!$N$9=\"NICARAGUA\",LOOKUP(5,GEfectos!$J$4:$P$4,GEfectos!J288:P288),IF(EFECTOS!$N$9=\"REPÚBLICA \nDOMINICANA\",LOOKUP(6,$J$4:$P$4,J288:P288),IF(EFECTOS!$N$9=\"PANAMÁ\",LOOKUP(7,GEfectos!$J$4:$P$4,GEfectos!J288:P288))))))))","v":170.43738655980988},{"$f":"IF(EFECTOS!$N$9=\"COSTA RICA\",LOOKUP(1,GEfectos!$Q$4:$W$4,GEfectos!Q288:W288),IF(EFECTOS!$N$9=\"EL SALVADOR\",LOOKUP(2,GEfectos!$Q$4:$W$4,GEfectos!Q288:W288),IF(EFECTOS!$N$9=\"GUATEMALA\",LOOKUP(3,GEfectos!$Q$4:$W$4,GEfectos!Q288:W288),IF(EFECTOS!$N$9=\"HONDURAS\",LOOKUP(4,GEfectos!$Q$4:$W$4,GEfectos!Q288:W288),IF(EFECTOS!$N$9=\"NICARAGUA\",LOOKUP(5,GEfectos!$Q$4:$W$4,GEfectos!Q288:W288),IF(EFECTOS!$N$9=\"REPÚBLICA \nDOMINICANA\",LOOKUP(6,$Q$4:$W$4,Q288:W288),IF(EFECTOS!$N$9=\"PANAMÁ\",LOOKUP(7,GEfectos!$Q$4:$W$4,GEfectos!Q288:W288))))))))","v":205.59127546054842},100]
[null,{"$f":"'ITCER GLOBAL'!B289","v":"Agosto"},{"$f":"'ITCER GLOBAL'!C289","v":82.873850955235767},{"$f":"'ITCER GLOBAL'!D289","v":104.64646543128821},{"$f":"'ITCER GLOBAL'!E289","v":54.334346199321644},{"$f":"'ITCER GLOBAL'!F289","v":85.855742844745151},{"$f":"'ITCER GLOBAL'!G289","v":115.00197560821459},{"$f":"'ITCER GLOBAL'!H289","v":131.13513229325642},{"$f":"'ITCER GLOBAL'!I289","v":94.225356234683801},{"$f":"'ITCER GLOBAL'!S289","v":169.91501690104286},{"$f":"'ITCER GLOBAL'!T289","v":88.131530165829304},{"$f":"'ITCER GLOBAL'!U289","v":86.390433262439956},{"$f":"'ITCER GLOBAL'!V289","v":150.62320158761793},{"$f":"'ITCER GLOBAL'!W289","v":219.80498444295839},{"$f":"'ITCER GLOBAL'!X289","v":286.1999892156752},{"$f":"'ITCER GLOBAL'!Y289","v":94.971514990143419},{"$f":"'ITCER GLOBAL'!AA289","v":205.02850409693437},{"$f":"'ITCER GLOBAL'!AB289","v":84.218353484377587},{"$f":"'ITCER GLOBAL'!AC289","v":158.99783342477861},{"$f":"'ITCER GLOBAL'!AD289","v":175.43753812717367},{"$f":"'ITCER GLOBAL'!AE289","v":191.13148559445943},{"$f":"'ITCER GLOBAL'!AF289","v":218.24814160071804},{"$f":"'ITCER GLOBAL'!AG289","v":100.79188743378289},null,{"$f":"IF(EFECTOS!$N$9=\"COSTA RICA\",LOOKUP(1,GEfectos!$C$4:$I$4,GEfectos!C289:I289),IF(EFECTOS!$N$9=\"EL SALVADOR\",LOOKUP(2,GEfectos!$C$4:$I$4,GEfectos!C289:I289),IF(EFECTOS!$N$9=\"GUATEMALA\",LOOKUP(3,GEfectos!$C$4:$I$4,GEfectos!C289:I289),IF(EFECTOS!$N$9=\"HONDURAS\",LOOKUP(4,GEfectos!$C$4:$I$4,GEfectos!C289:I289),IF(EFECTOS!$N$9=\"NICARAGUA\",LOOKUP(5,GEfectos!$C$4:$I$4,GEfectos!C289:I289),IF(EFECTOS!$N$9=\"REPÚBLICA \nDOMINICANA\",LOOKUP(6,$C$4:$I$4,C289:I289),IF(EFECTOS!$N$9=\"PANAMÁ\",LOOKUP(7,GEfectos!$C$4:$I$4,GEfectos!C289:I289))))))))","v":82.873850955235767},{"$f":"IF(EFECTOS!$N$9=\"COSTA RICA\",LOOKUP(1,GEfectos!$J$4:$P$4,GEfectos!J289:P289),IF(EFECTOS!$N$9=\"EL SALVADOR\",LOOKUP(2,GEfectos!$J$4:$P$4,GEfectos!J289:P289),IF(EFECTOS!$N$9=\"GUATEMALA\",LOOKUP(3,GEfectos!$J$4:$P$4,GEfectos!J289:P289),IF(EFECTOS!$N$9=\"HONDURAS\",LOOKUP(4,GEfectos!$J$4:$P$4,GEfectos!J289:P289),IF(EFECTOS!$N$9=\"NICARAGUA\",LOOKUP(5,GEfectos!$J$4:$P$4,GEfectos!J289:P289),IF(EFECTOS!$N$9=\"REPÚBLICA \nDOMINICANA\",LOOKUP(6,$J$4:$P$4,J289:P289),IF(EFECTOS!$N$9=\"PANAMÁ\",LOOKUP(7,GEfectos!$J$4:$P$4,GEfectos!J289:P289))))))))","v":169.91501690104286},{"$f":"IF(EFECTOS!$N$9=\"COSTA RICA\",LOOKUP(1,GEfectos!$Q$4:$W$4,GEfectos!Q289:W289),IF(EFECTOS!$N$9=\"EL SALVADOR\",LOOKUP(2,GEfectos!$Q$4:$W$4,GEfectos!Q289:W289),IF(EFECTOS!$N$9=\"GUATEMALA\",LOOKUP(3,GEfectos!$Q$4:$W$4,GEfectos!Q289:W289),IF(EFECTOS!$N$9=\"HONDURAS\",LOOKUP(4,GEfectos!$Q$4:$W$4,GEfectos!Q289:W289),IF(EFECTOS!$N$9=\"NICARAGUA\",LOOKUP(5,GEfectos!$Q$4:$W$4,GEfectos!Q289:W289),IF(EFECTOS!$N$9=\"REPÚBLICA \nDOMINICANA\",LOOKUP(6,$Q$4:$W$4,Q289:W289),IF(EFECTOS!$N$9=\"PANAMÁ\",LOOKUP(7,GEfectos!$Q$4:$W$4,GEfectos!Q289:W289))))))))","v":205.02850409693437},100]
[null,{"$f":"'ITCER GLOBAL'!B290","v":"Septiembre"},{"$f":"'ITCER GLOBAL'!C290","v":84.431525810905271},{"$f":"'ITCER GLOBAL'!D290","v":104.39973632246972},{"$f":"'ITCER GLOBAL'!E290","v":55.154798647641869},{"$f":"'ITCER GLOBAL'!F290","v":85.964878427531687},{"$f":"'ITCER GLOBAL'!G290","v":114.70610473818211},{"$f":"'ITCER GLOBAL'!H290","v":131.44948042398411},{"$f":"'ITCER GLOBAL'!I290","v":94.246963868285917},{"$f":"'ITCER GLOBAL'!S290","v":173.03437113517069},{"$f":"'ITCER GLOBAL'!T290","v":87.729678470622005},{"$f":"'ITCER GLOBAL'!U290","v":88.01837056821671},{"$f":"'ITCER GLOBAL'!V290","v":150.44188020729473},{"$f":"'ITCER GLOBAL'!W290","v":219.71053547825255},{"$f":"'ITCER GLOBAL'!X290","v":286.17326301081823},{"$f":"'ITCER GLOBAL'!Y290","v":94.661965963978517},{"$f":"'ITCER GLOBAL'!AA290","v":204.94047628927413},{"$f":"'ITCER GLOBAL'!AB290","v":84.032471307822775},{"$f":"'ITCER GLOBAL'!AC290","v":159.58424783766284},{"$f":"'ITCER GLOBAL'!AD290","v":175.0038887498888},{"$f":"'ITCER GLOBAL'!AE290","v":191.54214675822544},{"$f":"'ITCER GLOBAL'!AF290","v":217.70589133390246},{"$f":"'ITCER GLOBAL'!AG290","v":100.44033471069962},null,{"$f":"IF(EFECTOS!$N$9=\"COSTA RICA\",LOOKUP(1,GEfectos!$C$4:$I$4,GEfectos!C290:I290),IF(EFECTOS!$N$9=\"EL SALVADOR\",LOOKUP(2,GEfectos!$C$4:$I$4,GEfectos!C290:I290),IF(EFECTOS!$N$9=\"GUATEMALA\",LOOKUP(3,GEfectos!$C$4:$I$4,GEfectos!C290:I290),IF(EFECTOS!$N$9=\"HONDURAS\",LOOKUP(4,GEfectos!$C$4:$I$4,GEfectos!C290:I290),IF(EFECTOS!$N$9=\"NICARAGUA\",LOOKUP(5,GEfectos!$C$4:$I$4,GEfectos!C290:I290),IF(EFECTOS!$N$9=\"REPÚBLICA \nDOMINICANA\",LOOKUP(6,$C$4:$I$4,C290:I290),IF(EFECTOS!$N$9=\"PANAMÁ\",LOOKUP(7,GEfectos!$C$4:$I$4,GEfectos!C290:I290))))))))","v":84.431525810905271},{"$f":"IF(EFECTOS!$N$9=\"COSTA RICA\",LOOKUP(1,GEfectos!$J$4:$P$4,GEfectos!J290:P290),IF(EFECTOS!$N$9=\"EL SALVADOR\",LOOKUP(2,GEfectos!$J$4:$P$4,GEfectos!J290:P290),IF(EFECTOS!$N$9=\"GUATEMALA\",LOOKUP(3,GEfectos!$J$4:$P$4,GEfectos!J290:P290),IF(EFECTOS!$N$9=\"HONDURAS\",LOOKUP(4,GEfectos!$J$4:$P$4,GEfectos!J290:P290),IF(EFECTOS!$N$9=\"NICARAGUA\",LOOKUP(5,GEfectos!$J$4:$P$4,GEfectos!J290:P290),IF(EFECTOS!$N$9=\"REPÚBLICA \nDOMINICANA\",LOOKUP(6,$J$4:$P$4,J290:P290),IF(EFECTOS!$N$9=\"PANAMÁ\",LOOKUP(7,GEfectos!$J$4:$P$4,GEfectos!J290:P290))))))))","v":173.03437113517069},{"$f":"IF(EFECTOS!$N$9=\"COSTA RICA\",LOOKUP(1,GEfectos!$Q$4:$W$4,GEfectos!Q290:W290),IF(EFECTOS!$N$9=\"EL SALVADOR\",LOOKUP(2,GEfectos!$Q$4:$W$4,GEfectos!Q290:W290),IF(EFECTOS!$N$9=\"GUATEMALA\",LOOKUP(3,GEfectos!$Q$4:$W$4,GEfectos!Q290:W290),IF(EFECTOS!$N$9=\"HONDURAS\",LOOKUP(4,GEfectos!$Q$4:$W$4,GEfectos!Q290:W290),IF(EFECTOS!$N$9=\"NICARAGUA\",LOOKUP(5,GEfectos!$Q$4:$W$4,GEfectos!Q290:W290),IF(EFECTOS!$N$9=\"REPÚBLICA \nDOMINICANA\",LOOKUP(6,$Q$4:$W$4,Q290:W290),IF(EFECTOS!$N$9=\"PANAMÁ\",LOOKUP(7,GEfectos!$Q$4:$W$4,GEfectos!Q290:W290))))))))","v":204.94047628927413},100]
[null,{"$f":"'ITCER GLOBAL'!B291","v":"Octubre"},{"$f":"'ITCER GLOBAL'!C291","v":85.933081389335129},{"$f":"'ITCER GLOBAL'!D291","v":104.08238358147325},{"$f":"'ITCER GLOBAL'!E291","v":55.338744438386577},{"$f":"'ITCER GLOBAL'!F291","v":85.420759290058655},{"$f":"'ITCER GLOBAL'!G291","v":114.41191600176617},{"$f":"'ITCER GLOBAL'!H291","v":131.62232291535233},{"$f":"'ITCER GLOBAL'!I291","v":93.935709821511153},{"$f":"'ITCER GLOBAL'!S291","v":176.35662075219088},{"$f":"'ITCER GLOBAL'!T291","v":87.421698398126736},{"$f":"'ITCER GLOBAL'!U291","v":88.383539105108639},{"$f":"'ITCER GLOBAL'!V291","v":149.97183269650486},{"$f":"'ITCER GLOBAL'!W291","v":219.68828509144504},{"$f":"'ITCER GLOBAL'!X291","v":286.43590590944206},{"$f":"'ITCER GLOBAL'!Y291","v":94.210393440688151},{"$f":"'ITCER GLOBAL'!AA291","v":205.22552886609034},{"$f":"'ITCER GLOBAL'!AB291","v":83.992790508775272},{"$f":"'ITCER GLOBAL'!AC291","v":159.71366897113774},{"$f":"'ITCER GLOBAL'!AD291","v":175.56836762273863},{"$f":"'ITCER GLOBAL'!AE291","v":192.01521377201104},{"$f":"'ITCER GLOBAL'!AF291","v":217.61954930217416},{"$f":"'ITCER GLOBAL'!AG291","v":100.29241661099802},null,{"$f":"IF(EFECTOS!$N$9=\"COSTA RICA\",LOOKUP(1,GEfectos!$C$4:$I$4,GEfectos!C291:I291),IF(EFECTOS!$N$9=\"EL SALVADOR\",LOOKUP(2,GEfectos!$C$4:$I$4,GEfectos!C291:I291),IF(EFECTOS!$N$9=\"GUATEMALA\",LOOKUP(3,GEfectos!$C$4:$I$4,GEfectos!C291:I291),IF(EFECTOS!$N$9=\"HONDURAS\",LOOKUP(4,GEfectos!$C$4:$I$4,GEfectos!C291:I291),IF(EFECTOS!$N$9=\"NICARAGUA\",LOOKUP(5,GEfectos!$C$4:$I$4,GEfectos!C291:I291),IF(EFECTOS!$N$9=\"REPÚBLICA \nDOMINICANA\",LOOKUP(6,$C$4:$I$4,C291:I291),IF(EFECTOS!$N$9=\"PANAMÁ\",LOOKUP(7,GEfectos!$C$4:$I$4,GEfectos!C291:I291))))))))","v":85.933081389335129},{"$f":"IF(EFECTOS!$N$9=\"COSTA RICA\",LOOKUP(1,GEfectos!$J$4:$P$4,GEfectos!J291:P291),IF(EFECTOS!$N$9=\"EL SALVADOR\",LOOKUP(2,GEfectos!$J$4:$P$4,GEfectos!J291:P291),IF(EFECTOS!$N$9=\"GUATEMALA\",LOOKUP(3,GEfectos!$J$4:$P$4,GEfectos!J291:P291),IF(EFECTOS!$N$9=\"HONDURAS\",LOOKUP(4,GEfectos!$J$4:$P$4,GEfectos!J291:P291),IF(EFECTOS!$N$9=\"NICARAGUA\",LOOKUP(5,GEfectos!$J$4:$P$4,GEfectos!J291:P291),IF(EFECTOS!$N$9=\"REPÚBLICA \nDOMINICANA\",LOOKUP(6,$J$4:$P$4,J291:P291),IF(EFECTOS!$N$9=\"PANAMÁ\",LOOKUP(7,GEfectos!$J$4:$P$4,GEfectos!J291:P291))))))))","v":176.35662075219088},{"$f":"IF(EFECTOS!$N$9=\"COSTA RICA\",LOOKUP(1,GEfectos!$Q$4:$W$4,GEfectos!Q291:W291),IF(EFECTOS!$N$9=\"EL SALVADOR\",LOOKUP(2,GEfectos!$Q$4:$W$4,GEfectos!Q291:W291),IF(EFECTOS!$N$9=\"GUATEMALA\",LOOKUP(3,GEfectos!$Q$4:$W$4,GEfectos!Q291:W291),IF(EFECTOS!$N$9=\"HONDURAS\",LOOKUP(4,GEfectos!$Q$4:$W$4,GEfectos!Q291:W291),IF(EFECTOS!$N$9=\"NICARAGUA\",LOOKUP(5,GEfectos!$Q$4:$W$4,GEfectos!Q291:W291),IF(EFECTOS!$N$9=\"REPÚBLICA \nDOMINICANA\",LOOKUP(6,$Q$4:$W$4,Q291:W291),IF(EFECTOS!$N$9=\"PANAMÁ\",LOOKUP(7,GEfectos!$Q$4:$W$4,GEfectos!Q291:W291))))))))","v":205.22552886609034},100]
[null,{"$f":"'ITCER GLOBAL'!B292","v":"Noviembre"},{"$f":"'ITCER GLOBAL'!C292","v":87.555037464683451},{"$f":"'ITCER GLOBAL'!D292","v":103.54388770276817},{"$f":"'ITCER GLOBAL'!E292","v":54.735792342732623},{"$f":"'ITCER GLOBAL'!F292","v":84.762970515658736},{"$f":"'ITCER GLOBAL'!G292","v":113.31967199650491},{"$f":"'ITCER GLOBAL'!H292","v":131.35231417422762},{"$f":"'ITCER GLOBAL'!I292","v":93.284630695255061},{"$f":"'ITCER GLOBAL'!S292","v":180.89324870053866},{"$f":"'ITCER GLOBAL'!T292","v":86.923307677475293},{"$f":"'ITCER GLOBAL'!U292","v":87.281410376699725},{"$f":"'ITCER GLOBAL'!V292","v":149.95160492875507},{"$f":"'ITCER GLOBAL'!W292","v":218.9962488770972},{"$f":"'ITCER GLOBAL'!X292","v":285.50288288165319},{"$f":"'ITCER GLOBAL'!Y292","v":93.35987959763375},{"$f":"'ITCER GLOBAL'!AA292","v":206.60518679294094},{"$f":"'ITCER GLOBAL'!AB292","v":83.948275080221336},{"$f":"'ITCER GLOBAL'!AC292","v":159.45948097394856},{"$f":"'ITCER GLOBAL'!AD292","v":176.90697248635675},{"$f":"'ITCER GLOBAL'!AE292","v":193.25527952803435},{"$f":"'ITCER GLOBAL'!AF292","v":217.35656861207491},{"$f":"'ITCER GLOBAL'!AG292","v":100.08066591658012},null,{"$f":"IF(EFECTOS!$N$9=\"COSTA RICA\",LOOKUP(1,GEfectos!$C$4:$I$4,GEfectos!C292:I292),IF(EFECTOS!$N$9=\"EL SALVADOR\",LOOKUP(2,GEfectos!$C$4:$I$4,GEfectos!C292:I292),IF(EFECTOS!$N$9=\"GUATEMALA\",LOOKUP(3,GEfectos!$C$4:$I$4,GEfectos!C292:I292),IF(EFECTOS!$N$9=\"HONDURAS\",LOOKUP(4,GEfectos!$C$4:$I$4,GEfectos!C292:I292),IF(EFECTOS!$N$9=\"NICARAGUA\",LOOKUP(5,GEfectos!$C$4:$I$4,GEfectos!C292:I292),IF(EFECTOS!$N$9=\"REPÚBLICA \nDOMINICANA\",LOOKUP(6,$C$4:$I$4,C292:I292),IF(EFECTOS!$N$9=\"PANAMÁ\",LOOKUP(7,GEfectos!$C$4:$I$4,GEfectos!C292:I292))))))))","v":87.555037464683451},{"$f":"IF(EFECTOS!$N$9=\"COSTA RICA\",LOOKUP(1,GEfectos!$J$4:$P$4,GEfectos!J292:P292),IF(EFECTOS!$N$9=\"EL SALVADOR\",LOOKUP(2,GEfectos!$J$4:$P$4,GEfectos!J292:P292),IF(EFECTOS!$N$9=\"GUATEMALA\",LOOKUP(3,GEfectos!$J$4:$P$4,GEfectos!J292:P292),IF(EFECTOS!$N$9=\"HONDURAS\",LOOKUP(4,GEfectos!$J$4:$P$4,GEfectos!J292:P292),IF(EFECTOS!$N$9=\"NICARAGUA\",LOOKUP(5,GEfectos!$J$4:$P$4,GEfectos!J292:P292),IF(EFECTOS!$N$9=\"REPÚBLICA \nDOMINICANA\",LOOKUP(6,$J$4:$P$4,J292:P292),IF(EFECTOS!$N$9=\"PANAMÁ\",LOOKUP(7,GEfectos!$J$4:$P$4,GEfectos!J292:P292))))))))","v":180.89324870053866},{"$f":"IF(EFECTOS!$N$9=\"COSTA RICA\",LOOKUP(1,GEfectos!$Q$4:$W$4,GEfectos!Q292:W292),IF(EFECTOS!$N$9=\"EL SALVADOR\",LOOKUP(2,GEfectos!$Q$4:$W$4,GEfectos!Q292:W292),IF(EFECTOS!$N$9=\"GUATEMALA\",LOOKUP(3,GEfectos!$Q$4:$W$4,GEfectos!Q292:W292),IF(EFECTOS!$N$9=\"HONDURAS\",LOOKUP(4,GEfectos!$Q$4:$W$4,GEfectos!Q292:W292),IF(EFECTOS!$N$9=\"NICARAGUA\",LOOKUP(5,GEfectos!$Q$4:$W$4,GEfectos!Q292:W292),IF(EFECTOS!$N$9=\"REPÚBLICA \nDOMINICANA\",LOOKUP(6,$Q$4:$W$4,Q292:W292),IF(EFECTOS!$N$9=\"PANAMÁ\",LOOKUP(7,GEfectos!$Q$4:$W$4,GEfectos!Q292:W292))))))))","v":206.60518679294094},100]
[null,{"$f":"'ITCER GLOBAL'!B293","v":"Diciembre"},{"$f":"'ITCER GLOBAL'!C293","v":85.889700006440421},{"$f":"'ITCER GLOBAL'!D293","v":103.98334105590284},{"$f":"'ITCER GLOBAL'!E293","v":54.912507533169013},{"$f":"'ITCER GLOBAL'!F293","v":84.953422318442122},{"$f":"'ITCER GLOBAL'!G293","v":112.94603470192104},{"$f":"'ITCER GLOBAL'!H293","v":131.50083236044972},{"$f":"'ITCER GLOBAL'!I293","v":93.74683454358572},{"$f":"'ITCER GLOBAL'!S293","v":178.01175140122621},{"$f":"'ITCER GLOBAL'!T293","v":86.924408920239458},{"$f":"'ITCER GLOBAL'!U293","v":87.752203341010656},{"$f":"'ITCER GLOBAL'!V293","v":150.71309437368407},{"$f":"'ITCER GLOBAL'!W293","v":219.72500344567064},{"$f":"'ITCER GLOBAL'!X293","v":285.45122487920594},{"$f":"'ITCER GLOBAL'!Y293","v":93.475042880052754},{"$f":"'ITCER GLOBAL'!AA293","v":207.25622675114482},{"$f":"'ITCER GLOBAL'!AB293","v":83.5945527788992},{"$f":"'ITCER GLOBAL'!AC293","v":159.80367184653761},{"$f":"'ITCER GLOBAL'!AD293","v":177.40673684545197},{"$f":"'ITCER GLOBAL'!AE293","v":194.53981188941503},{"$f":"'ITCER GLOBAL'!AF293","v":217.07180080561864},{"$f":"'ITCER GLOBAL'!AG293","v":99.710079103090564},null,{"$f":"IF(EFECTOS!$N$9=\"COSTA RICA\",LOOKUP(1,GEfectos!$C$4:$I$4,GEfectos!C293:I293),IF(EFECTOS!$N$9=\"EL SALVADOR\",LOOKUP(2,GEfectos!$C$4:$I$4,GEfectos!C293:I293),IF(EFECTOS!$N$9=\"GUATEMALA\",LOOKUP(3,GEfectos!$C$4:$I$4,GEfectos!C293:I293),IF(EFECTOS!$N$9=\"HONDURAS\",LOOKUP(4,GEfectos!$C$4:$I$4,GEfectos!C293:I293),IF(EFECTOS!$N$9=\"NICARAGUA\",LOOKUP(5,GEfectos!$C$4:$I$4,GEfectos!C293:I293),IF(EFECTOS!$N$9=\"REPÚBLICA \nDOMINICANA\",LOOKUP(6,$C$4:$I$4,C293:I293),IF(EFECTOS!$N$9=\"PANAMÁ\",LOOKUP(7,GEfectos!$C$4:$I$4,GEfectos!C293:I293))))))))","v":85.889700006440421},{"$f":"IF(EFECTOS!$N$9=\"COSTA RICA\",LOOKUP(1,GEfectos!$J$4:$P$4,GEfectos!J293:P293),IF(EFECTOS!$N$9=\"EL SALVADOR\",LOOKUP(2,GEfectos!$J$4:$P$4,GEfectos!J293:P293),IF(EFECTOS!$N$9=\"GUATEMALA\",LOOKUP(3,GEfectos!$J$4:$P$4,GEfectos!J293:P293),IF(EFECTOS!$N$9=\"HONDURAS\",LOOKUP(4,GEfectos!$J$4:$P$4,GEfectos!J293:P293),IF(EFECTOS!$N$9=\"NICARAGUA\",LOOKUP(5,GEfectos!$J$4:$P$4,GEfectos!J293:P293),IF(EFECTOS!$N$9=\"REPÚBLICA \nDOMINICANA\",LOOKUP(6,$J$4:$P$4,J293:P293),IF(EFECTOS!$N$9=\"PANAMÁ\",LOOKUP(7,GEfectos!$J$4:$P$4,GEfectos!J293:P293))))))))","v":178.01175140122621},{"$f":"IF(EFECTOS!$N$9=\"COSTA RICA\",LOOKUP(1,GEfectos!$Q$4:$W$4,GEfectos!Q293:W293),IF(EFECTOS!$N$9=\"EL SALVADOR\",LOOKUP(2,GEfectos!$Q$4:$W$4,GEfectos!Q293:W293),IF(EFECTOS!$N$9=\"GUATEMALA\",LOOKUP(3,GEfectos!$Q$4:$W$4,GEfectos!Q293:W293),IF(EFECTOS!$N$9=\"HONDURAS\",LOOKUP(4,GEfectos!$Q$4:$W$4,GEfectos!Q293:W293),IF(EFECTOS!$N$9=\"NICARAGUA\",LOOKUP(5,GEfectos!$Q$4:$W$4,GEfectos!Q293:W293),IF(EFECTOS!$N$9=\"REPÚBLICA \nDOMINICANA\",LOOKUP(6,$Q$4:$W$4,Q293:W293),IF(EFECTOS!$N$9=\"PANAMÁ\",LOOKUP(7,GEfectos!$Q$4:$W$4,GEfectos!Q293:W293))))))))","v":207.25622675114482},100]
[2019,{"$f":"'ITCER GLOBAL'!B294","v":"Enero"},{"$f":"'ITCER GLOBAL'!C294","v":87.09538924491622},{"$f":"'ITCER GLOBAL'!D294","v":104.99194017455122},{"$f":"'ITCER GLOBAL'!E294","v":54.550832436620446},{"$f":"'ITCER GLOBAL'!F294","v":85.043766999658686},{"$f":"'ITCER GLOBAL'!G294","v":114.09345613617876},{"$f":"'ITCER GLOBAL'!H294","v":132.81106313406588},{"$f":"'ITCER GLOBAL'!I294","v":95.078395981686626},{"$f":"'ITCER GLOBAL'!S294","v":181.41175100161786},{"$f":"'ITCER GLOBAL'!T294","v":87.800311108565296},{"$f":"'ITCER GLOBAL'!U294","v":88.506967855184243},{"$f":"'ITCER GLOBAL'!V294","v":151.94158221152114},{"$f":"'ITCER GLOBAL'!W294","v":223.7006563784004},{"$f":"'ITCER GLOBAL'!X294","v":290.72670043752498},{"$f":"'ITCER GLOBAL'!Y294","v":94.570940665220348},{"$f":"'ITCER GLOBAL'!AA294","v":208.29087805265982},{"$f":"'ITCER GLOBAL'!AB294","v":83.625763046759104},{"$f":"'ITCER GLOBAL'!AC294","v":162.24677773343885},{"$f":"'ITCER GLOBAL'!AD294","v":178.6628080716732},{"$f":"'ITCER GLOBAL'!AE294","v":196.06791130193963},{"$f":"'ITCER GLOBAL'!AF294","v":218.90247211111583},{"$f":"'ITCER GLOBAL'!AG294","v":99.46627694837845},null,{"$f":"IF(EFECTOS!$N$9=\"COSTA RICA\",LOOKUP(1,GEfectos!$C$4:$I$4,GEfectos!C294:I294),IF(EFECTOS!$N$9=\"EL SALVADOR\",LOOKUP(2,GEfectos!$C$4:$I$4,GEfectos!C294:I294),IF(EFECTOS!$N$9=\"GUATEMALA\",LOOKUP(3,GEfectos!$C$4:$I$4,GEfectos!C294:I294),IF(EFECTOS!$N$9=\"HONDURAS\",LOOKUP(4,GEfectos!$C$4:$I$4,GEfectos!C294:I294),IF(EFECTOS!$N$9=\"NICARAGUA\",LOOKUP(5,GEfectos!$C$4:$I$4,GEfectos!C294:I294),IF(EFECTOS!$N$9=\"REPÚBLICA \nDOMINICANA\",LOOKUP(6,$C$4:$I$4,C294:I294),IF(EFECTOS!$N$9=\"PANAMÁ\",LOOKUP(7,GEfectos!$C$4:$I$4,GEfectos!C294:I294))))))))","v":87.09538924491622},{"$f":"IF(EFECTOS!$N$9=\"COSTA RICA\",LOOKUP(1,GEfectos!$J$4:$P$4,GEfectos!J294:P294),IF(EFECTOS!$N$9=\"EL SALVADOR\",LOOKUP(2,GEfectos!$J$4:$P$4,GEfectos!J294:P294),IF(EFECTOS!$N$9=\"GUATEMALA\",LOOKUP(3,GEfectos!$J$4:$P$4,GEfectos!J294:P294),IF(EFECTOS!$N$9=\"HONDURAS\",LOOKUP(4,GEfectos!$J$4:$P$4,GEfectos!J294:P294),IF(EFECTOS!$N$9=\"NICARAGUA\",LOOKUP(5,GEfectos!$J$4:$P$4,GEfectos!J294:P294),IF(EFECTOS!$N$9=\"REPÚBLICA \nDOMINICANA\",LOOKUP(6,$J$4:$P$4,J294:P294),IF(EFECTOS!$N$9=\"PANAMÁ\",LOOKUP(7,GEfectos!$J$4:$P$4,GEfectos!J294:P294))))))))","v":181.41175100161786},{"$f":"IF(EFECTOS!$N$9=\"COSTA RICA\",LOOKUP(1,GEfectos!$Q$4:$W$4,GEfectos!Q294:W294),IF(EFECTOS!$N$9=\"EL SALVADOR\",LOOKUP(2,GEfectos!$Q$4:$W$4,GEfectos!Q294:W294),IF(EFECTOS!$N$9=\"GUATEMALA\",LOOKUP(3,GEfectos!$Q$4:$W$4,GEfectos!Q294:W294),IF(EFECTOS!$N$9=\"HONDURAS\",LOOKUP(4,GEfectos!$Q$4:$W$4,GEfectos!Q294:W294),IF(EFECTOS!$N$9=\"NICARAGUA\",LOOKUP(5,GEfectos!$Q$4:$W$4,GEfectos!Q294:W294),IF(EFECTOS!$N$9=\"REPÚBLICA \nDOMINICANA\",LOOKUP(6,$Q$4:$W$4,Q294:W294),IF(EFECTOS!$N$9=\"PANAMÁ\",LOOKUP(7,GEfectos!$Q$4:$W$4,GEfectos!Q294:W294))))))))","v":208.29087805265982},100]
[null,{"$f":"'ITCER GLOBAL'!B295","v":"Febrero"},{"$f":"'ITCER GLOBAL'!C295","v":88.0044883207363},{"$f":"'ITCER GLOBAL'!D295","v":105.25283335317017},{"$f":"'ITCER GLOBAL'!E295","v":54.708806233216691},{"$f":"'ITCER GLOBAL'!F295","v":84.838668916002973},{"$f":"'ITCER GLOBAL'!G295","v":114.67175828370192},{"$f":"'ITCER GLOBAL'!H295","v":133.14506332473536},{"$f":"'ITCER GLOBAL'!I295","v":95.471313510079227},{"$f":"'ITCER GLOBAL'!S295","v":182.69873103605715},{"$f":"'ITCER GLOBAL'!T295","v":87.808539805613847},{"$f":"'ITCER GLOBAL'!U295","v":88.53786321076943},{"$f":"'ITCER GLOBAL'!V295","v":152.19692534174251},{"$f":"'ITCER GLOBAL'!W295","v":224.5605157340953},{"$f":"'ITCER GLOBAL'!X295","v":291.06776541448028},{"$f":"'ITCER GLOBAL'!Y295","v":94.633690738450184},{"$f":"'ITCER GLOBAL'!AA295","v":207.60160592060197},{"$f":"'ITCER GLOBAL'!AB295","v":83.426295528764584},{"$f":"'ITCER GLOBAL'!AC295","v":161.83475624261249},{"$f":"'ITCER GLOBAL'!AD295","v":179.39570161388266},{"$f":"'ITCER GLOBAL'!AE295","v":195.82896355223295},{"$f":"'ITCER GLOBAL'!AF295","v":218.60950616289691},{"$f":"'ITCER GLOBAL'!AG295","v":99.122644550668511},null,{"$f":"IF(EFECTOS!$N$9=\"COSTA RICA\",LOOKUP(1,GEfectos!$C$4:$I$4,GEfectos!C295:I295),IF(EFECTOS!$N$9=\"EL SALVADOR\",LOOKUP(2,GEfectos!$C$4:$I$4,GEfectos!C295:I295),IF(EFECTOS!$N$9=\"GUATEMALA\",LOOKUP(3,GEfectos!$C$4:$I$4,GEfectos!C295:I295),IF(EFECTOS!$N$9=\"HONDURAS\",LOOKUP(4,GEfectos!$C$4:$I$4,GEfectos!C295:I295),IF(EFECTOS!$N$9=\"NICARAGUA\",LOOKUP(5,GEfectos!$C$4:$I$4,GEfectos!C295:I295),IF(EFECTOS!$N$9=\"REPÚBLICA \nDOMINICANA\",LOOKUP(6,$C$4:$I$4,C295:I295),IF(EFECTOS!$N$9=\"PANAMÁ\",LOOKUP(7,GEfectos!$C$4:$I$4,GEfectos!C295:I295))))))))","v":88.0044883207363},{"$f":"IF(EFECTOS!$N$9=\"COSTA RICA\",LOOKUP(1,GEfectos!$J$4:$P$4,GEfectos!J295:P295),IF(EFECTOS!$N$9=\"EL SALVADOR\",LOOKUP(2,GEfectos!$J$4:$P$4,GEfectos!J295:P295),IF(EFECTOS!$N$9=\"GUATEMALA\",LOOKUP(3,GEfectos!$J$4:$P$4,GEfectos!J295:P295),IF(EFECTOS!$N$9=\"HONDURAS\",LOOKUP(4,GEfectos!$J$4:$P$4,GEfectos!J295:P295),IF(EFECTOS!$N$9=\"NICARAGUA\",LOOKUP(5,GEfectos!$J$4:$P$4,GEfectos!J295:P295),IF(EFECTOS!$N$9=\"REPÚBLICA \nDOMINICANA\",LOOKUP(6,$J$4:$P$4,J295:P295),IF(EFECTOS!$N$9=\"PANAMÁ\",LOOKUP(7,GEfectos!$J$4:$P$4,GEfectos!J295:P295))))))))","v":182.69873103605715},{"$f":"IF(EFECTOS!$N$9=\"COSTA RICA\",LOOKUP(1,GEfectos!$Q$4:$W$4,GEfectos!Q295:W295),IF(EFECTOS!$N$9=\"EL SALVADOR\",LOOKUP(2,GEfectos!$Q$4:$W$4,GEfectos!Q295:W295),IF(EFECTOS!$N$9=\"GUATEMALA\",LOOKUP(3,GEfectos!$Q$4:$W$4,GEfectos!Q295:W295),IF(EFECTOS!$N$9=\"HONDURAS\",LOOKUP(4,GEfectos!$Q$4:$W$4,GEfectos!Q295:W295),IF(EFECTOS!$N$9=\"NICARAGUA\",LOOKUP(5,GEfectos!$Q$4:$W$4,GEfectos!Q295:W295),IF(EFECTOS!$N$9=\"REPÚBLICA \nDOMINICANA\",LOOKUP(6,$Q$4:$W$4,Q295:W295),IF(EFECTOS!$N$9=\"PANAMÁ\",LOOKUP(7,GEfectos!$Q$4:$W$4,GEfectos!Q295:W295))))))))","v":207.60160592060197},100]
[null,{"$f":"'ITCER GLOBAL'!B296","v":"Marzo"},{"$f":"'ITCER GLOBAL'!C296","v":87.567319214372475},{"$f":"'ITCER GLOBAL'!D296","v":105.47077233597668},{"$f":"'ITCER GLOBAL'!E296","v":54.619133372456368},{"$f":"'ITCER GLOBAL'!F296","v":85.020425650803375},{"$f":"'ITCER GLOBAL'!G296","v":113.06664184821933},{"$f":"'ITCER GLOBAL'!H296","v":132.79639206726918},{"$f":"'ITCER GLOBAL'!I296","v":95.323005259453623},{"$f":"'ITCER GLOBAL'!S296","v":180.63398396917674},{"$f":"'ITCER GLOBAL'!T296","v":87.829374946141513},{"$f":"'ITCER GLOBAL'!U296","v":87.959235125287378},{"$f":"'ITCER GLOBAL'!V296","v":152.42745543806669},{"$f":"'ITCER GLOBAL'!W296","v":224.6797648615325},{"$f":"'ITCER GLOBAL'!X296","v":290.83652741744197},{"$f":"'ITCER GLOBAL'!Y296","v":94.515546163202714},{"$f":"'ITCER GLOBAL'!AA296","v":206.28013463215527},{"$f":"'ITCER GLOBAL'!AB296","v":83.273662457274355},{"$f":"'ITCER GLOBAL'!AC296","v":161.04106691968121},{"$f":"'ITCER GLOBAL'!AD296","v":179.28333605869963},{"$f":"'ITCER GLOBAL'!AE296","v":198.71445829543842},{"$f":"'ITCER GLOBAL'!AF296","v":219.00935928298125},{"$f":"'ITCER GLOBAL'!AG296","v":99.152923164714394},null,{"$f":"IF(EFECTOS!$N$9=\"COSTA RICA\",LOOKUP(1,GEfectos!$C$4:$I$4,GEfectos!C296:I296),IF(EFECTOS!$N$9=\"EL SALVADOR\",LOOKUP(2,GEfectos!$C$4:$I$4,GEfectos!C296:I296),IF(EFECTOS!$N$9=\"GUATEMALA\",LOOKUP(3,GEfectos!$C$4:$I$4,GEfectos!C296:I296),IF(EFECTOS!$N$9=\"HONDURAS\",LOOKUP(4,GEfectos!$C$4:$I$4,GEfectos!C296:I296),IF(EFECTOS!$N$9=\"NICARAGUA\",LOOKUP(5,GEfectos!$C$4:$I$4,GEfectos!C296:I296),IF(EFECTOS!$N$9=\"REPÚBLICA \nDOMINICANA\",LOOKUP(6,$C$4:$I$4,C296:I296),IF(EFECTOS!$N$9=\"PANAMÁ\",LOOKUP(7,GEfectos!$C$4:$I$4,GEfectos!C296:I296))))))))","v":87.567319214372475},{"$f":"IF(EFECTOS!$N$9=\"COSTA RICA\",LOOKUP(1,GEfectos!$J$4:$P$4,GEfectos!J296:P296),IF(EFECTOS!$N$9=\"EL SALVADOR\",LOOKUP(2,GEfectos!$J$4:$P$4,GEfectos!J296:P296),IF(EFECTOS!$N$9=\"GUATEMALA\",LOOKUP(3,GEfectos!$J$4:$P$4,GEfectos!J296:P296),IF(EFECTOS!$N$9=\"HONDURAS\",LOOKUP(4,GEfectos!$J$4:$P$4,GEfectos!J296:P296),IF(EFECTOS!$N$9=\"NICARAGUA\",LOOKUP(5,GEfectos!$J$4:$P$4,GEfectos!J296:P296),IF(EFECTOS!$N$9=\"REPÚBLICA \nDOMINICANA\",LOOKUP(6,$J$4:$P$4,J296:P296),IF(EFECTOS!$N$9=\"PANAMÁ\",LOOKUP(7,GEfectos!$J$4:$P$4,GEfectos!J296:P296))))))))","v":180.63398396917674},{"$f":"IF(EFECTOS!$N$9=\"COSTA RICA\",LOOKUP(1,GEfectos!$Q$4:$W$4,GEfectos!Q296:W296),IF(EFECTOS!$N$9=\"EL SALVADOR\",LOOKUP(2,GEfectos!$Q$4:$W$4,GEfectos!Q296:W296),IF(EFECTOS!$N$9=\"GUATEMALA\",LOOKUP(3,GEfectos!$Q$4:$W$4,GEfectos!Q296:W296),IF(EFECTOS!$N$9=\"HONDURAS\",LOOKUP(4,GEfectos!$Q$4:$W$4,GEfectos!Q296:W296),IF(EFECTOS!$N$9=\"NICARAGUA\",LOOKUP(5,GEfectos!$Q$4:$W$4,GEfectos!Q296:W296),IF(EFECTOS!$N$9=\"REPÚBLICA \nDOMINICANA\",LOOKUP(6,$Q$4:$W$4,Q296:W296),IF(EFECTOS!$N$9=\"PANAMÁ\",LOOKUP(7,GEfectos!$Q$4:$W$4,GEfectos!Q296:W296))))))))","v":206.28013463215527},100]
[null,{"$f":"'ITCER GLOBAL'!B297","v":"Abril"},{"$f":"'ITCER GLOBAL'!C297","v":86.876968247939402},{"$f":"'ITCER GLOBAL'!D297","v":105.9584047116504},{"$f":"'ITCER GLOBAL'!E297","v":54.238167104057837},{"$f":"'ITCER GLOBAL'!F297","v":84.697852576490973},{"$f":"'ITCER GLOBAL'!G297","v":112.35791581364536},{"$f":"'ITCER GLOBAL'!H297","v":132.55115852742023},{"$f":"'ITCER GLOBAL'!I297","v":95.379797259569699},{"$f":"'ITCER GLOBAL'!S297","v":179.4058866029813},{"$f":"'ITCER GLOBAL'!T297","v":87.933987535580641},{"$f":"'ITCER GLOBAL'!U297","v":87.504528119735284},{"$f":"'ITCER GLOBAL'!V297","v":152.54516175676594},{"$f":"'ITCER GLOBAL'!W297","v":224.49465467012669},{"$f":"'ITCER GLOBAL'!X297","v":290.42602515812837},{"$f":"'ITCER GLOBAL'!Y297","v":94.45431064712929},{"$f":"'ITCER GLOBAL'!AA297","v":206.50569445629401},{"$f":"'ITCER GLOBAL'!AB297","v":82.989157655666432},{"$f":"'ITCER GLOBAL'!AC297","v":161.33385914729524},{"$f":"'ITCER GLOBAL'!AD297","v":180.10511142416723},{"$f":"'ITCER GLOBAL'!AE297","v":199.80314964409729},{"$f":"'ITCER GLOBAL'!AF297","v":219.10485610584033},{"$f":"'ITCER GLOBAL'!AG297","v":99.029682764032543},null,{"$f":"IF(EFECTOS!$N$9=\"COSTA RICA\",LOOKUP(1,GEfectos!$C$4:$I$4,GEfectos!C297:I297),IF(EFECTOS!$N$9=\"EL SALVADOR\",LOOKUP(2,GEfectos!$C$4:$I$4,GEfectos!C297:I297),IF(EFECTOS!$N$9=\"GUATEMALA\",LOOKUP(3,GEfectos!$C$4:$I$4,GEfectos!C297:I297),IF(EFECTOS!$N$9=\"HONDURAS\",LOOKUP(4,GEfectos!$C$4:$I$4,GEfectos!C297:I297),IF(EFECTOS!$N$9=\"NICARAGUA\",LOOKUP(5,GEfectos!$C$4:$I$4,GEfectos!C297:I297),IF(EFECTOS!$N$9=\"REPÚBLICA \nDOMINICANA\",LOOKUP(6,$C$4:$I$4,C297:I297),IF(EFECTOS!$N$9=\"PANAMÁ\",LOOKUP(7,GEfectos!$C$4:$I$4,GEfectos!C297:I297))))))))","v":86.876968247939402},{"$f":"IF(EFECTOS!$N$9=\"COSTA RICA\",LOOKUP(1,GEfectos!$J$4:$P$4,GEfectos!J297:P297),IF(EFECTOS!$N$9=\"EL SALVADOR\",LOOKUP(2,GEfectos!$J$4:$P$4,GEfectos!J297:P297),IF(EFECTOS!$N$9=\"GUATEMALA\",LOOKUP(3,GEfectos!$J$4:$P$4,GEfectos!J297:P297),IF(EFECTOS!$N$9=\"HONDURAS\",LOOKUP(4,GEfectos!$J$4:$P$4,GEfectos!J297:P297),IF(EFECTOS!$N$9=\"NICARAGUA\",LOOKUP(5,GEfectos!$J$4:$P$4,GEfectos!J297:P297),IF(EFECTOS!$N$9=\"REPÚBLICA \nDOMINICANA\",LOOKUP(6,$J$4:$P$4,J297:P297),IF(EFECTOS!$N$9=\"PANAMÁ\",LOOKUP(7,GEfectos!$J$4:$P$4,GEfectos!J297:P297))))))))","v":179.4058866029813},{"$f":"IF(EFECTOS!$N$9=\"COSTA RICA\",LOOKUP(1,GEfectos!$Q$4:$W$4,GEfectos!Q297:W297),IF(EFECTOS!$N$9=\"EL SALVADOR\",LOOKUP(2,GEfectos!$Q$4:$W$4,GEfectos!Q297:W297),IF(EFECTOS!$N$9=\"GUATEMALA\",LOOKUP(3,GEfectos!$Q$4:$W$4,GEfectos!Q297:W297),IF(EFECTOS!$N$9=\"HONDURAS\",LOOKUP(4,GEfectos!$Q$4:$W$4,GEfectos!Q297:W297),IF(EFECTOS!$N$9=\"NICARAGUA\",LOOKUP(5,GEfectos!$Q$4:$W$4,GEfectos!Q297:W297),IF(EFECTOS!$N$9=\"REPÚBLICA \nDOMINICANA\",LOOKUP(6,$Q$4:$W$4,Q297:W297),IF(EFECTOS!$N$9=\"PANAMÁ\",LOOKUP(7,GEfectos!$Q$4:$W$4,GEfectos!Q297:W297))))))))","v":206.50569445629401},100]
[null,{"$f":"'ITCER GLOBAL'!B298","v":"Mayo"},{"$f":"'ITCER GLOBAL'!C298","v":85.347792765726055},{"$f":"'ITCER GLOBAL'!D298","v":105.62363218157357},{"$f":"'ITCER GLOBAL'!E298","v":54.149800788309491},{"$f":"'ITCER GLOBAL'!F298","v":84.316051419219079},{"$f":"'ITCER GLOBAL'!G298","v":111.67707909489133},{"$f":"'ITCER GLOBAL'!H298","v":132.01523416068915},{"$f":"'ITCER GLOBAL'!I298","v":94.748855886096976},{"$f":"'ITCER GLOBAL'!S298","v":176.15295085327054},{"$f":"'ITCER GLOBAL'!T298","v":87.571277022197805},{"$f":"'ITCER GLOBAL'!U298","v":87.443054274029166},{"$f":"'ITCER GLOBAL'!V298","v":152.12788744148648},{"$f":"'ITCER GLOBAL'!W298","v":224.47091969874327},{"$f":"'ITCER GLOBAL'!X298","v":288.46848170465012},{"$f":"'ITCER GLOBAL'!Y298","v":93.750720509293856},{"$f":"'ITCER GLOBAL'!AA298","v":206.39426650059778},{"$f":"'ITCER GLOBAL'!AB298","v":82.908791539811233},{"$f":"'ITCER GLOBAL'!AC298","v":161.48361212975581},{"$f":"'ITCER GLOBAL'!AD298","v":180.42577288766429},{"$f":"'ITCER GLOBAL'!AE298","v":200.99999168854669},{"$f":"'ITCER GLOBAL'!AF298","v":218.51151008339374},{"$f":"'ITCER GLOBAL'!AG298","v":98.946546248534077},null,{"$f":"IF(EFECTOS!$N$9=\"COSTA RICA\",LOOKUP(1,GEfectos!$C$4:$I$4,GEfectos!C298:I298),IF(EFECTOS!$N$9=\"EL SALVADOR\",LOOKUP(2,GEfectos!$C$4:$I$4,GEfectos!C298:I298),IF(EFECTOS!$N$9=\"GUATEMALA\",LOOKUP(3,GEfectos!$C$4:$I$4,GEfectos!C298:I298),IF(EFECTOS!$N$9=\"HONDURAS\",LOOKUP(4,GEfectos!$C$4:$I$4,GEfectos!C298:I298),IF(EFECTOS!$N$9=\"NICARAGUA\",LOOKUP(5,GEfectos!$C$4:$I$4,GEfectos!C298:I298),IF(EFECTOS!$N$9=\"REPÚBLICA \nDOMINICANA\",LOOKUP(6,$C$4:$I$4,C298:I298),IF(EFECTOS!$N$9=\"PANAMÁ\",LOOKUP(7,GEfectos!$C$4:$I$4,GEfectos!C298:I298))))))))","v":85.347792765726055},{"$f":"IF(EFECTOS!$N$9=\"COSTA RICA\",LOOKUP(1,GEfectos!$J$4:$P$4,GEfectos!J298:P298),IF(EFECTOS!$N$9=\"EL SALVADOR\",LOOKUP(2,GEfectos!$J$4:$P$4,GEfectos!J298:P298),IF(EFECTOS!$N$9=\"GUATEMALA\",LOOKUP(3,GEfectos!$J$4:$P$4,GEfectos!J298:P298),IF(EFECTOS!$N$9=\"HONDURAS\",LOOKUP(4,GEfectos!$J$4:$P$4,GEfectos!J298:P298),IF(EFECTOS!$N$9=\"NICARAGUA\",LOOKUP(5,GEfectos!$J$4:$P$4,GEfectos!J298:P298),IF(EFECTOS!$N$9=\"REPÚBLICA \nDOMINICANA\",LOOKUP(6,$J$4:$P$4,J298:P298),IF(EFECTOS!$N$9=\"PANAMÁ\",LOOKUP(7,GEfectos!$J$4:$P$4,GEfectos!J298:P298))))))))","v":176.15295085327054},{"$f":"IF(EFECTOS!$N$9=\"COSTA RICA\",LOOKUP(1,GEfectos!$Q$4:$W$4,GEfectos!Q298:W298),IF(EFECTOS!$N$9=\"EL SALVADOR\",LOOKUP(2,GEfectos!$Q$4:$W$4,GEfectos!Q298:W298),IF(EFECTOS!$N$9=\"GUATEMALA\",LOOKUP(3,GEfectos!$Q$4:$W$4,GEfectos!Q298:W298),IF(EFECTOS!$N$9=\"HONDURAS\",LOOKUP(4,GEfectos!$Q$4:$W$4,GEfectos!Q298:W298),IF(EFECTOS!$N$9=\"NICARAGUA\",LOOKUP(5,GEfectos!$Q$4:$W$4,GEfectos!Q298:W298),IF(EFECTOS!$N$9=\"REPÚBLICA \nDOMINICANA\",LOOKUP(6,$Q$4:$W$4,Q298:W298),IF(EFECTOS!$N$9=\"PANAMÁ\",LOOKUP(7,GEfectos!$Q$4:$W$4,GEfectos!Q298:W298))))))))","v":206.39426650059778},100]
[null,{"$f":"'ITCER GLOBAL'!B299","v":"Junio"},{"$f":"'ITCER GLOBAL'!C299","v":84.3026100434287},{"$f":"'ITCER GLOBAL'!D299","v":105.8122719665776},{"$f":"'ITCER GLOBAL'!E299","v":53.931274686669177},{"$f":"'ITCER GLOBAL'!F299","v":84.456394591838645},{"$f":"'ITCER GLOBAL'!G299","v":112.24551117521021},{"$f":"'ITCER GLOBAL'!H299","v":132.72560278627631},{"$f":"'ITCER GLOBAL'!I299","v":95.243653267954116},{"$f":"'ITCER GLOBAL'!S299","v":174.4029568748139},{"$f":"'ITCER GLOBAL'!T299","v":87.497297170540875},{"$f":"'ITCER GLOBAL'!U299","v":87.801314487239722},{"$f":"'ITCER GLOBAL'!V299","v":152.3918548240955},{"$f":"'ITCER GLOBAL'!W299","v":225.64321309822489},{"$f":"'ITCER GLOBAL'!X299","v":289.2623472666038},{"$f":"'ITCER GLOBAL'!Y299","v":93.88419441643498},{"$f":"'ITCER GLOBAL'!AA299","v":206.87729215616196},{"$f":"'ITCER GLOBAL'!AB299","v":82.691067438924478},{"$f":"'ITCER GLOBAL'!AC299","v":162.80222375115233},{"$f":"'ITCER GLOBAL'!AD299","v":180.43850387004528},{"$f":"'ITCER GLOBAL'!AE299","v":201.02649160375415},{"$f":"'ITCER GLOBAL'!AF299","v":217.94012699448308},{"$f":"'ITCER GLOBAL'!AG299","v":98.572651504983213},null,{"$f":"IF(EFECTOS!$N$9=\"COSTA RICA\",LOOKUP(1,GEfectos!$C$4:$I$4,GEfectos!C299:I299),IF(EFECTOS!$N$9=\"EL SALVADOR\",LOOKUP(2,GEfectos!$C$4:$I$4,GEfectos!C299:I299),IF(EFECTOS!$N$9=\"GUATEMALA\",LOOKUP(3,GEfectos!$C$4:$I$4,GEfectos!C299:I299),IF(EFECTOS!$N$9=\"HONDURAS\",LOOKUP(4,GEfectos!$C$4:$I$4,GEfectos!C299:I299),IF(EFECTOS!$N$9=\"NICARAGUA\",LOOKUP(5,GEfectos!$C$4:$I$4,GEfectos!C299:I299),IF(EFECTOS!$N$9=\"REPÚBLICA \nDOMINICANA\",LOOKUP(6,$C$4:$I$4,C299:I299),IF(EFECTOS!$N$9=\"PANAMÁ\",LOOKUP(7,GEfectos!$C$4:$I$4,GEfectos!C299:I299))))))))","v":84.3026100434287},{"$f":"IF(EFECTOS!$N$9=\"COSTA RICA\",LOOKUP(1,GEfectos!$J$4:$P$4,GEfectos!J299:P299),IF(EFECTOS!$N$9=\"EL SALVADOR\",LOOKUP(2,GEfectos!$J$4:$P$4,GEfectos!J299:P299),IF(EFECTOS!$N$9=\"GUATEMALA\",LOOKUP(3,GEfectos!$J$4:$P$4,GEfectos!J299:P299),IF(EFECTOS!$N$9=\"HONDURAS\",LOOKUP(4,GEfectos!$J$4:$P$4,GEfectos!J299:P299),IF(EFECTOS!$N$9=\"NICARAGUA\",LOOKUP(5,GEfectos!$J$4:$P$4,GEfectos!J299:P299),IF(EFECTOS!$N$9=\"REPÚBLICA \nDOMINICANA\",LOOKUP(6,$J$4:$P$4,J299:P299),IF(EFECTOS!$N$9=\"PANAMÁ\",LOOKUP(7,GEfectos!$J$4:$P$4,GEfectos!J299:P299))))))))","v":174.4029568748139},{"$f":"IF(EFECTOS!$N$9=\"COSTA RICA\",LOOKUP(1,GEfectos!$Q$4:$W$4,GEfectos!Q299:W299),IF(EFECTOS!$N$9=\"EL SALVADOR\",LOOKUP(2,GEfectos!$Q$4:$W$4,GEfectos!Q299:W299),IF(EFECTOS!$N$9=\"GUATEMALA\",LOOKUP(3,GEfectos!$Q$4:$W$4,GEfectos!Q299:W299),IF(EFECTOS!$N$9=\"HONDURAS\",LOOKUP(4,GEfectos!$Q$4:$W$4,GEfectos!Q299:W299),IF(EFECTOS!$N$9=\"NICARAGUA\",LOOKUP(5,GEfectos!$Q$4:$W$4,GEfectos!Q299:W299),IF(EFECTOS!$N$9=\"REPÚBLICA \nDOMINICANA\",LOOKUP(6,$Q$4:$W$4,Q299:W299),IF(EFECTOS!$N$9=\"PANAMÁ\",LOOKUP(7,GEfectos!$Q$4:$W$4,GEfectos!Q299:W299))))))))","v":206.87729215616196},100]
[null,{"$f":"'ITCER GLOBAL'!B300","v":"Julio"},{"$f":"'ITCER GLOBAL'!C300","v":82.573112706934623},{"$f":"'ITCER GLOBAL'!D300","v":106.50559826698115},{"$f":"'ITCER GLOBAL'!E300","v":53.978799934542245},{"$f":"'ITCER GLOBAL'!F300","v":84.477562101696805},{"$f":"'ITCER GLOBAL'!G300","v":112.68081933998491},{"$f":"'ITCER GLOBAL'!H300","v":133.16555708480331},{"$f":"'ITCER GLOBAL'!I300","v":95.480030136532676},{"$f":"'ITCER GLOBAL'!S300","v":171.94206997587312},{"$f":"'ITCER GLOBAL'!T300","v":87.707031158116649},{"$f":"'ITCER GLOBAL'!U300","v":87.713718047563091},{"$f":"'ITCER GLOBAL'!V300","v":152.7295493102348},{"$f":"'ITCER GLOBAL'!W300","v":226.97913491913252},{"$f":"'ITCER GLOBAL'!X300","v":291.09444598546804},{"$f":"'ITCER GLOBAL'!Y300","v":94.234327028885161},{"$f":"'ITCER GLOBAL'!AA300","v":208.23009371842795},{"$f":"'ITCER GLOBAL'!AB300","v":82.349691082208182},{"$f":"'ITCER GLOBAL'!AC300","v":162.49660636014457},{"$f":"'ITCER GLOBAL'!AD300","v":180.7930360565733},{"$f":"'ITCER GLOBAL'!AE300","v":201.43546723269941},{"$f":"'ITCER GLOBAL'!AF300","v":218.59589848754322},{"$f":"'ITCER GLOBAL'!AG300","v":98.695326021717619},null,{"$f":"IF(EFECTOS!$N$9=\"COSTA RICA\",LOOKUP(1,GEfectos!$C$4:$I$4,GEfectos!C300:I300),IF(EFECTOS!$N$9=\"EL SALVADOR\",LOOKUP(2,GEfectos!$C$4:$I$4,GEfectos!C300:I300),IF(EFECTOS!$N$9=\"GUATEMALA\",LOOKUP(3,GEfectos!$C$4:$I$4,GEfectos!C300:I300),IF(EFECTOS!$N$9=\"HONDURAS\",LOOKUP(4,GEfectos!$C$4:$I$4,GEfectos!C300:I300),IF(EFECTOS!$N$9=\"NICARAGUA\",LOOKUP(5,GEfectos!$C$4:$I$4,GEfectos!C300:I300),IF(EFECTOS!$N$9=\"REPÚBLICA \nDOMINICANA\",LOOKUP(6,$C$4:$I$4,C300:I300),IF(EFECTOS!$N$9=\"PANAMÁ\",LOOKUP(7,GEfectos!$C$4:$I$4,GEfectos!C300:I300))))))))","v":82.573112706934623},{"$f":"IF(EFECTOS!$N$9=\"COSTA RICA\",LOOKUP(1,GEfectos!$J$4:$P$4,GEfectos!J300:P300),IF(EFECTOS!$N$9=\"EL SALVADOR\",LOOKUP(2,GEfectos!$J$4:$P$4,GEfectos!J300:P300),IF(EFECTOS!$N$9=\"GUATEMALA\",LOOKUP(3,GEfectos!$J$4:$P$4,GEfectos!J300:P300),IF(EFECTOS!$N$9=\"HONDURAS\",LOOKUP(4,GEfectos!$J$4:$P$4,GEfectos!J300:P300),IF(EFECTOS!$N$9=\"NICARAGUA\",LOOKUP(5,GEfectos!$J$4:$P$4,GEfectos!J300:P300),IF(EFECTOS!$N$9=\"REPÚBLICA \nDOMINICANA\",LOOKUP(6,$J$4:$P$4,J300:P300),IF(EFECTOS!$N$9=\"PANAMÁ\",LOOKUP(7,GEfectos!$J$4:$P$4,GEfectos!J300:P300))))))))","v":171.94206997587312},{"$f":"IF(EFECTOS!$N$9=\"COSTA RICA\",LOOKUP(1,GEfectos!$Q$4:$W$4,GEfectos!Q300:W300),IF(EFECTOS!$N$9=\"EL SALVADOR\",LOOKUP(2,GEfectos!$Q$4:$W$4,GEfectos!Q300:W300),IF(EFECTOS!$N$9=\"GUATEMALA\",LOOKUP(3,GEfectos!$Q$4:$W$4,GEfectos!Q300:W300),IF(EFECTOS!$N$9=\"HONDURAS\",LOOKUP(4,GEfectos!$Q$4:$W$4,GEfectos!Q300:W300),IF(EFECTOS!$N$9=\"NICARAGUA\",LOOKUP(5,GEfectos!$Q$4:$W$4,GEfectos!Q300:W300),IF(EFECTOS!$N$9=\"REPÚBLICA \nDOMINICANA\",LOOKUP(6,$Q$4:$W$4,Q300:W300),IF(EFECTOS!$N$9=\"PANAMÁ\",LOOKUP(7,GEfectos!$Q$4:$W$4,GEfectos!Q300:W300))))))))","v":208.23009371842795},100]
[null,{"$f":"'ITCER GLOBAL'!B301","v":"Agosto"},{"$f":"'ITCER GLOBAL'!C301","v":80.845185118058467},{"$f":"'ITCER GLOBAL'!D301","v":106.21773076163669},{"$f":"'ITCER GLOBAL'!E301","v":54.034995911546666},{"$f":"'ITCER GLOBAL'!F301","v":84.051015913935544},{"$f":"'ITCER GLOBAL'!G301","v":112.13871057259179},{"$f":"'ITCER GLOBAL'!H301","v":132.48017521681075},{"$f":"'ITCER GLOBAL'!I301","v":94.777498761971174},{"$f":"'ITCER GLOBAL'!S301","v":168.07645143107496},{"$f":"'ITCER GLOBAL'!T301","v":87.178961288284498},{"$f":"'ITCER GLOBAL'!U301","v":87.008466177084856},{"$f":"'ITCER GLOBAL'!V301","v":152.09228111298228},{"$f":"'ITCER GLOBAL'!W301","v":225.77693426632212},{"$f":"'ITCER GLOBAL'!X301","v":290.13318329614799},{"$f":"'ITCER GLOBAL'!Y301","v":93.164120608840577},{"$f":"'ITCER GLOBAL'!AA301","v":207.89914845965461},{"$f":"'ITCER GLOBAL'!AB301","v":82.075714349351799},{"$f":"'ITCER GLOBAL'!AC301","v":161.02243501510495},{"$f":"'ITCER GLOBAL'!AD301","v":180.95234121705076},{"$f":"'ITCER GLOBAL'!AE301","v":201.3371949021724},{"$f":"'ITCER GLOBAL'!AF301","v":219.00120740430017},{"$f":"'ITCER GLOBAL'!AG301","v":98.297720266724369},null,{"$f":"IF(EFECTOS!$N$9=\"COSTA RICA\",LOOKUP(1,GEfectos!$C$4:$I$4,GEfectos!C301:I301),IF(EFECTOS!$N$9=\"EL SALVADOR\",LOOKUP(2,GEfectos!$C$4:$I$4,GEfectos!C301:I301),IF(EFECTOS!$N$9=\"GUATEMALA\",LOOKUP(3,GEfectos!$C$4:$I$4,GEfectos!C301:I301),IF(EFECTOS!$N$9=\"HONDURAS\",LOOKUP(4,GEfectos!$C$4:$I$4,GEfectos!C301:I301),IF(EFECTOS!$N$9=\"NICARAGUA\",LOOKUP(5,GEfectos!$C$4:$I$4,GEfectos!C301:I301),IF(EFECTOS!$N$9=\"REPÚBLICA \nDOMINICANA\",LOOKUP(6,$C$4:$I$4,C301:I301),IF(EFECTOS!$N$9=\"PANAMÁ\",LOOKUP(7,GEfectos!$C$4:$I$4,GEfectos!C301:I301))))))))","v":80.845185118058467},{"$f":"IF(EFECTOS!$N$9=\"COSTA RICA\",LOOKUP(1,GEfectos!$J$4:$P$4,GEfectos!J301:P301),IF(EFECTOS!$N$9=\"EL SALVADOR\",LOOKUP(2,GEfectos!$J$4:$P$4,GEfectos!J301:P301),IF(EFECTOS!$N$9=\"GUATEMALA\",LOOKUP(3,GEfectos!$J$4:$P$4,GEfectos!J301:P301),IF(EFECTOS!$N$9=\"HONDURAS\",LOOKUP(4,GEfectos!$J$4:$P$4,GEfectos!J301:P301),IF(EFECTOS!$N$9=\"NICARAGUA\",LOOKUP(5,GEfectos!$J$4:$P$4,GEfectos!J301:P301),IF(EFECTOS!$N$9=\"REPÚBLICA \nDOMINICANA\",LOOKUP(6,$J$4:$P$4,J301:P301),IF(EFECTOS!$N$9=\"PANAMÁ\",LOOKUP(7,GEfectos!$J$4:$P$4,GEfectos!J301:P301))))))))","v":168.07645143107496},{"$f":"IF(EFECTOS!$N$9=\"COSTA RICA\",LOOKUP(1,GEfectos!$Q$4:$W$4,GEfectos!Q301:W301),IF(EFECTOS!$N$9=\"EL SALVADOR\",LOOKUP(2,GEfectos!$Q$4:$W$4,GEfectos!Q301:W301),IF(EFECTOS!$N$9=\"GUATEMALA\",LOOKUP(3,GEfectos!$Q$4:$W$4,GEfectos!Q301:W301),IF(EFECTOS!$N$9=\"HONDURAS\",LOOKUP(4,GEfectos!$Q$4:$W$4,GEfectos!Q301:W301),IF(EFECTOS!$N$9=\"NICARAGUA\",LOOKUP(5,GEfectos!$Q$4:$W$4,GEfectos!Q301:W301),IF(EFECTOS!$N$9=\"REPÚBLICA \nDOMINICANA\",LOOKUP(6,$Q$4:$W$4,Q301:W301),IF(EFECTOS!$N$9=\"PANAMÁ\",LOOKUP(7,GEfectos!$Q$4:$W$4,GEfectos!Q301:W301))))))))","v":207.89914845965461},100]
[null,{"$f":"'ITCER GLOBAL'!B302","v":"Septiembre"},{"$f":"'ITCER GLOBAL'!C302","v":82.152445292879065},{"$f":"'ITCER GLOBAL'!D302","v":106.16364778467371},{"$f":"'ITCER GLOBAL'!E302","v":54.583721396148675},{"$f":"'ITCER GLOBAL'!F302","v":83.949692350574182},{"$f":"'ITCER GLOBAL'!G302","v":112.40077789843917},{"$f":"'ITCER GLOBAL'!H302","v":133.1133281562291},{"$f":"'ITCER GLOBAL'!I302","v":94.644491026140088},{"$f":"'ITCER GLOBAL'!S302","v":170.34171832543873},{"$f":"'ITCER GLOBAL'!T302","v":86.923747097656062},{"$f":"'ITCER GLOBAL'!U302","v":87.238862157651894},{"$f":"'ITCER GLOBAL'!V302","v":151.99257662347367},{"$f":"'ITCER GLOBAL'!W302","v":225.66985185382759},{"$f":"'ITCER GLOBAL'!X302","v":291.93702072819121},{"$f":"'ITCER GLOBAL'!Y302","v":92.772929843412527},{"$f":"'ITCER GLOBAL'!AA302","v":207.34832386079179},{"$f":"'ITCER GLOBAL'!AB302","v":81.877129235384828},{"$f":"'ITCER GLOBAL'!AC302","v":159.82578674785503},{"$f":"'ITCER GLOBAL'!AD302","v":181.05197573417206},{"$f":"'ITCER GLOBAL'!AE302","v":200.77250004242302},{"$f":"'ITCER GLOBAL'!AF302","v":219.31464322307218},{"$f":"'ITCER GLOBAL'!AG302","v":98.022535530133865},null,{"$f":"IF(EFECTOS!$N$9=\"COSTA RICA\",LOOKUP(1,GEfectos!$C$4:$I$4,GEfectos!C302:I302),IF(EFECTOS!$N$9=\"EL SALVADOR\",LOOKUP(2,GEfectos!$C$4:$I$4,GEfectos!C302:I302),IF(EFECTOS!$N$9=\"GUATEMALA\",LOOKUP(3,GEfectos!$C$4:$I$4,GEfectos!C302:I302),IF(EFECTOS!$N$9=\"HONDURAS\",LOOKUP(4,GEfectos!$C$4:$I$4,GEfectos!C302:I302),IF(EFECTOS!$N$9=\"NICARAGUA\",LOOKUP(5,GEfectos!$C$4:$I$4,GEfectos!C302:I302),IF(EFECTOS!$N$9=\"REPÚBLICA \nDOMINICANA\",LOOKUP(6,$C$4:$I$4,C302:I302),IF(EFECTOS!$N$9=\"PANAMÁ\",LOOKUP(7,GEfectos!$C$4:$I$4,GEfectos!C302:I302))))))))","v":82.152445292879065},{"$f":"IF(EFECTOS!$N$9=\"COSTA RICA\",LOOKUP(1,GEfectos!$J$4:$P$4,GEfectos!J302:P302),IF(EFECTOS!$N$9=\"EL SALVADOR\",LOOKUP(2,GEfectos!$J$4:$P$4,GEfectos!J302:P302),IF(EFECTOS!$N$9=\"GUATEMALA\",LOOKUP(3,GEfectos!$J$4:$P$4,GEfectos!J302:P302),IF(EFECTOS!$N$9=\"HONDURAS\",LOOKUP(4,GEfectos!$J$4:$P$4,GEfectos!J302:P302),IF(EFECTOS!$N$9=\"NICARAGUA\",LOOKUP(5,GEfectos!$J$4:$P$4,GEfectos!J302:P302),IF(EFECTOS!$N$9=\"REPÚBLICA \nDOMINICANA\",LOOKUP(6,$J$4:$P$4,J302:P302),IF(EFECTOS!$N$9=\"PANAMÁ\",LOOKUP(7,GEfectos!$J$4:$P$4,GEfectos!J302:P302))))))))","v":170.34171832543873},{"$f":"IF(EFECTOS!$N$9=\"COSTA RICA\",LOOKUP(1,GEfectos!$Q$4:$W$4,GEfectos!Q302:W302),IF(EFECTOS!$N$9=\"EL SALVADOR\",LOOKUP(2,GEfectos!$Q$4:$W$4,GEfectos!Q302:W302),IF(EFECTOS!$N$9=\"GUATEMALA\",LOOKUP(3,GEfectos!$Q$4:$W$4,GEfectos!Q302:W302),IF(EFECTOS!$N$9=\"HONDURAS\",LOOKUP(4,GEfectos!$Q$4:$W$4,GEfectos!Q302:W302),IF(EFECTOS!$N$9=\"NICARAGUA\",LOOKUP(5,GEfectos!$Q$4:$W$4,GEfectos!Q302:W302),IF(EFECTOS!$N$9=\"REPÚBLICA \nDOMINICANA\",LOOKUP(6,$Q$4:$W$4,Q302:W302),IF(EFECTOS!$N$9=\"PANAMÁ\",LOOKUP(7,GEfectos!$Q$4:$W$4,GEfectos!Q302:W302))))))))","v":207.34832386079179},100]
[null,{"$f":"'ITCER GLOBAL'!B303","v":"Octubre"},{"$f":"'ITCER GLOBAL'!C303","v":83.009958829425955},{"$f":"'ITCER GLOBAL'!D303","v":106.49071297655986},{"$f":"'ITCER GLOBAL'!E303","v":54.760942070198503},{"$f":"'ITCER GLOBAL'!F303","v":84.125694169617702},{"$f":"'ITCER GLOBAL'!G303","v":112.92748498199957},{"$f":"'ITCER GLOBAL'!H303","v":135.70912207893753},{"$f":"'ITCER GLOBAL'!I303","v":95.135732848357392},{"$f":"'ITCER GLOBAL'!S303","v":171.44180960718495},{"$f":"'ITCER GLOBAL'!T303","v":86.914148099794545},{"$f":"'ITCER GLOBAL'!U303","v":87.883894235719467},{"$f":"'ITCER GLOBAL'!V303","v":152.22552238616805},{"$f":"'ITCER GLOBAL'!W303","v":226.76363497598038},{"$f":"'ITCER GLOBAL'!X303","v":298.54580508019757},{"$f":"'ITCER GLOBAL'!Y303","v":92.894618509667964},{"$f":"'ITCER GLOBAL'!AA303","v":206.5316162359197},{"$f":"'ITCER GLOBAL'!AB303","v":81.616645874955879},{"$f":"'ITCER GLOBAL'!AC303","v":160.48645423787701},{"$f":"'ITCER GLOBAL'!AD303","v":180.95009365301004},{"$f":"'ITCER GLOBAL'!AE303","v":200.80464469046314},{"$f":"'ITCER GLOBAL'!AF303","v":219.98948965755102},{"$f":"'ITCER GLOBAL'!AG303","v":97.644298023896368},null,{"$f":"IF(EFECTOS!$N$9=\"COSTA RICA\",LOOKUP(1,GEfectos!$C$4:$I$4,GEfectos!C303:I303),IF(EFECTOS!$N$9=\"EL SALVADOR\",LOOKUP(2,GEfectos!$C$4:$I$4,GEfectos!C303:I303),IF(EFECTOS!$N$9=\"GUATEMALA\",LOOKUP(3,GEfectos!$C$4:$I$4,GEfectos!C303:I303),IF(EFECTOS!$N$9=\"HONDURAS\",LOOKUP(4,GEfectos!$C$4:$I$4,GEfectos!C303:I303),IF(EFECTOS!$N$9=\"NICARAGUA\",LOOKUP(5,GEfectos!$C$4:$I$4,GEfectos!C303:I303),IF(EFECTOS!$N$9=\"REPÚBLICA \nDOMINICANA\",LOOKUP(6,$C$4:$I$4,C303:I303),IF(EFECTOS!$N$9=\"PANAMÁ\",LOOKUP(7,GEfectos!$C$4:$I$4,GEfectos!C303:I303))))))))","v":83.009958829425955},{"$f":"IF(EFECTOS!$N$9=\"COSTA RICA\",LOOKUP(1,GEfectos!$J$4:$P$4,GEfectos!J303:P303),IF(EFECTOS!$N$9=\"EL SALVADOR\",LOOKUP(2,GEfectos!$J$4:$P$4,GEfectos!J303:P303),IF(EFECTOS!$N$9=\"GUATEMALA\",LOOKUP(3,GEfectos!$J$4:$P$4,GEfectos!J303:P303),IF(EFECTOS!$N$9=\"HONDURAS\",LOOKUP(4,GEfectos!$J$4:$P$4,GEfectos!J303:P303),IF(EFECTOS!$N$9=\"NICARAGUA\",LOOKUP(5,GEfectos!$J$4:$P$4,GEfectos!J303:P303),IF(EFECTOS!$N$9=\"REPÚBLICA \nDOMINICANA\",LOOKUP(6,$J$4:$P$4,J303:P303),IF(EFECTOS!$N$9=\"PANAMÁ\",LOOKUP(7,GEfectos!$J$4:$P$4,GEfectos!J303:P303))))))))","v":171.44180960718495},{"$f":"IF(EFECTOS!$N$9=\"COSTA RICA\",LOOKUP(1,GEfectos!$Q$4:$W$4,GEfectos!Q303:W303),IF(EFECTOS!$N$9=\"EL SALVADOR\",LOOKUP(2,GEfectos!$Q$4:$W$4,GEfectos!Q303:W303),IF(EFECTOS!$N$9=\"GUATEMALA\",LOOKUP(3,GEfectos!$Q$4:$W$4,GEfectos!Q303:W303),IF(EFECTOS!$N$9=\"HONDURAS\",LOOKUP(4,GEfectos!$Q$4:$W$4,GEfectos!Q303:W303),IF(EFECTOS!$N$9=\"NICARAGUA\",LOOKUP(5,GEfectos!$Q$4:$W$4,GEfectos!Q303:W303),IF(EFECTOS!$N$9=\"REPÚBLICA \nDOMINICANA\",LOOKUP(6,$Q$4:$W$4,Q303:W303),IF(EFECTOS!$N$9=\"PANAMÁ\",LOOKUP(7,GEfectos!$Q$4:$W$4,GEfectos!Q303:W303))))))))","v":206.5316162359197},100]
[null,{"$f":"'ITCER GLOBAL'!B304","v":"Noviembre"},{"$f":"'ITCER GLOBAL'!C304","v":82.358498172626668},{"$f":"'ITCER GLOBAL'!D304","v":106.79162334036886},{"$f":"'ITCER GLOBAL'!E304","v":54.287407762108849},{"$f":"'ITCER GLOBAL'!F304","v":84.112912483969524},{"$f":"'ITCER GLOBAL'!G304","v":112.88309871186787},{"$f":"'ITCER GLOBAL'!H304","v":135.89629596904049},{"$f":"'ITCER GLOBAL'!I304","v":95.492688688486339},{"$f":"'ITCER GLOBAL'!S304","v":170.31826247427696},{"$f":"'ITCER GLOBAL'!T304","v":87.110745285328179},{"$f":"'ITCER GLOBAL'!U304","v":87.404250163940262},{"$f":"'ITCER GLOBAL'!V304","v":152.52673861095079},{"$f":"'ITCER GLOBAL'!W304","v":228.12374008371964},{"$f":"'ITCER GLOBAL'!X304","v":299.80502442557827},{"$f":"'ITCER GLOBAL'!Y304","v":93.152221795845207},{"$f":"'ITCER GLOBAL'!AA304","v":206.80107852049844},{"$f":"'ITCER GLOBAL'!AB304","v":81.570766096219643},{"$f":"'ITCER GLOBAL'!AC304","v":161.00280666734298},{"$f":"'ITCER GLOBAL'!AD304","v":181.33569996166736},{"$f":"'ITCER GLOBAL'!AE304","v":202.08848152370575},{"$f":"'ITCER GLOBAL'!AF304","v":220.61309492488226},{"$f":"'ITCER GLOBAL'!AG304","v":97.549061687564247},null,{"$f":"IF(EFECTOS!$N$9=\"COSTA RICA\",LOOKUP(1,GEfectos!$C$4:$I$4,GEfectos!C304:I304),IF(EFECTOS!$N$9=\"EL SALVADOR\",LOOKUP(2,GEfectos!$C$4:$I$4,GEfectos!C304:I304),IF(EFECTOS!$N$9=\"GUATEMALA\",LOOKUP(3,GEfectos!$C$4:$I$4,GEfectos!C304:I304),IF(EFECTOS!$N$9=\"HONDURAS\",LOOKUP(4,GEfectos!$C$4:$I$4,GEfectos!C304:I304),IF(EFECTOS!$N$9=\"NICARAGUA\",LOOKUP(5,GEfectos!$C$4:$I$4,GEfectos!C304:I304),IF(EFECTOS!$N$9=\"REPÚBLICA \nDOMINICANA\",LOOKUP(6,$C$4:$I$4,C304:I304),IF(EFECTOS!$N$9=\"PANAMÁ\",LOOKUP(7,GEfectos!$C$4:$I$4,GEfectos!C304:I304))))))))","v":82.358498172626668},{"$f":"IF(EFECTOS!$N$9=\"COSTA RICA\",LOOKUP(1,GEfectos!$J$4:$P$4,GEfectos!J304:P304),IF(EFECTOS!$N$9=\"EL SALVADOR\",LOOKUP(2,GEfectos!$J$4:$P$4,GEfectos!J304:P304),IF(EFECTOS!$N$9=\"GUATEMALA\",LOOKUP(3,GEfectos!$J$4:$P$4,GEfectos!J304:P304),IF(EFECTOS!$N$9=\"HONDURAS\",LOOKUP(4,GEfectos!$J$4:$P$4,GEfectos!J304:P304),IF(EFECTOS!$N$9=\"NICARAGUA\",LOOKUP(5,GEfectos!$J$4:$P$4,GEfectos!J304:P304),IF(EFECTOS!$N$9=\"REPÚBLICA \nDOMINICANA\",LOOKUP(6,$J$4:$P$4,J304:P304),IF(EFECTOS!$N$9=\"PANAMÁ\",LOOKUP(7,GEfectos!$J$4:$P$4,GEfectos!J304:P304))))))))","v":170.31826247427696},{"$f":"IF(EFECTOS!$N$9=\"COSTA RICA\",LOOKUP(1,GEfectos!$Q$4:$W$4,GEfectos!Q304:W304),IF(EFECTOS!$N$9=\"EL SALVADOR\",LOOKUP(2,GEfectos!$Q$4:$W$4,GEfectos!Q304:W304),IF(EFECTOS!$N$9=\"GUATEMALA\",LOOKUP(3,GEfectos!$Q$4:$W$4,GEfectos!Q304:W304),IF(EFECTOS!$N$9=\"HONDURAS\",LOOKUP(4,GEfectos!$Q$4:$W$4,GEfectos!Q304:W304),IF(EFECTOS!$N$9=\"NICARAGUA\",LOOKUP(5,GEfectos!$Q$4:$W$4,GEfectos!Q304:W304),IF(EFECTOS!$N$9=\"REPÚBLICA \nDOMINICANA\",LOOKUP(6,$Q$4:$W$4,Q304:W304),IF(EFECTOS!$N$9=\"PANAMÁ\",LOOKUP(7,GEfectos!$Q$4:$W$4,GEfectos!Q304:W304))))))))","v":206.80107852049844},100]
[null,{"$f":"'ITCER GLOBAL'!B305","v":"Diciembre"},{"$f":"'ITCER GLOBAL'!C305","v":81.508636185809962},{"$f":"'ITCER GLOBAL'!D305","v":107.04137924062242},{"$f":"'ITCER GLOBAL'!E305","v":54.021453652352228},{"$f":"'ITCER GLOBAL'!F305","v":84.060161118802995},{"$f":"'ITCER GLOBAL'!G305","v":112.28951970147767},{"$f":"'ITCER GLOBAL'!H305","v":136.15236273487736},{"$f":"'ITCER GLOBAL'!I305","v":96.003710628797705},{"$f":"'ITCER GLOBAL'!S305","v":168.1631689995987},{"$f":"'ITCER GLOBAL'!T305","v":87.246541269461261},{"$f":"'ITCER GLOBAL'!U305","v":87.40560783751458},{"$f":"'ITCER GLOBAL'!V305","v":152.87732450116928},{"$f":"'ITCER GLOBAL'!W305","v":228.96196854239363},{"$f":"'ITCER GLOBAL'!X305","v":300.64612810987967},{"$f":"'ITCER GLOBAL'!Y305","v":93.388405315334992},{"$f":"'ITCER GLOBAL'!AA305","v":206.31331459926287},{"$f":"'ITCER GLOBAL'!AB305","v":81.507302959294279},{"$f":"'ITCER GLOBAL'!AC305","v":161.79795604909407},{"$f":"'ITCER GLOBAL'!AD305","v":181.86656136086435},{"$f":"'ITCER GLOBAL'!AE305","v":203.90323972449997},{"$f":"'ITCER GLOBAL'!AF305","v":220.8159462464215},{"$f":"'ITCER GLOBAL'!AG305","v":97.275828927514169},null,{"$f":"IF(EFECTOS!$N$9=\"COSTA RICA\",LOOKUP(1,GEfectos!$C$4:$I$4,GEfectos!C305:I305),IF(EFECTOS!$N$9=\"EL SALVADOR\",LOOKUP(2,GEfectos!$C$4:$I$4,GEfectos!C305:I305),IF(EFECTOS!$N$9=\"GUATEMALA\",LOOKUP(3,GEfectos!$C$4:$I$4,GEfectos!C305:I305),IF(EFECTOS!$N$9=\"HONDURAS\",LOOKUP(4,GEfectos!$C$4:$I$4,GEfectos!C305:I305),IF(EFECTOS!$N$9=\"NICARAGUA\",LOOKUP(5,GEfectos!$C$4:$I$4,GEfectos!C305:I305),IF(EFECTOS!$N$9=\"REPÚBLICA \nDOMINICANA\",LOOKUP(6,$C$4:$I$4,C305:I305),IF(EFECTOS!$N$9=\"PANAMÁ\",LOOKUP(7,GEfectos!$C$4:$I$4,GEfectos!C305:I305))))))))","v":81.508636185809962},{"$f":"IF(EFECTOS!$N$9=\"COSTA RICA\",LOOKUP(1,GEfectos!$J$4:$P$4,GEfectos!J305:P305),IF(EFECTOS!$N$9=\"EL SALVADOR\",LOOKUP(2,GEfectos!$J$4:$P$4,GEfectos!J305:P305),IF(EFECTOS!$N$9=\"GUATEMALA\",LOOKUP(3,GEfectos!$J$4:$P$4,GEfectos!J305:P305),IF(EFECTOS!$N$9=\"HONDURAS\",LOOKUP(4,GEfectos!$J$4:$P$4,GEfectos!J305:P305),IF(EFECTOS!$N$9=\"NICARAGUA\",LOOKUP(5,GEfectos!$J$4:$P$4,GEfectos!J305:P305),IF(EFECTOS!$N$9=\"REPÚBLICA \nDOMINICANA\",LOOKUP(6,$J$4:$P$4,J305:P305),IF(EFECTOS!$N$9=\"PANAMÁ\",LOOKUP(7,GEfectos!$J$4:$P$4,GEfectos!J305:P305))))))))","v":168.1631689995987},{"$f":"IF(EFECTOS!$N$9=\"COSTA RICA\",LOOKUP(1,GEfectos!$Q$4:$W$4,GEfectos!Q305:W305),IF(EFECTOS!$N$9=\"EL SALVADOR\",LOOKUP(2,GEfectos!$Q$4:$W$4,GEfectos!Q305:W305),IF(EFECTOS!$N$9=\"GUATEMALA\",LOOKUP(3,GEfectos!$Q$4:$W$4,GEfectos!Q305:W305),IF(EFECTOS!$N$9=\"HONDURAS\",LOOKUP(4,GEfectos!$Q$4:$W$4,GEfectos!Q305:W305),IF(EFECTOS!$N$9=\"NICARAGUA\",LOOKUP(5,GEfectos!$Q$4:$W$4,GEfectos!Q305:W305),IF(EFECTOS!$N$9=\"REPÚBLICA \nDOMINICANA\",LOOKUP(6,$Q$4:$W$4,Q305:W305),IF(EFECTOS!$N$9=\"PANAMÁ\",LOOKUP(7,GEfectos!$Q$4:$W$4,GEfectos!Q305:W305))))))))","v":206.31331459926287},100]
[2020,{"$f":"'ITCER GLOBAL'!B306","v":"Enero"},{"$f":"'ITCER GLOBAL'!C306","v":82.195838432185639},{"$f":"'ITCER GLOBAL'!D306","v":110.74833561164589},{"$f":"'ITCER GLOBAL'!E306","v":54.701901490706234},{"$f":"'ITCER GLOBAL'!F306","v":84.933810883727745},{"$f":"'ITCER GLOBAL'!G306","v":114.49473846631021},{"$f":"'ITCER GLOBAL'!H306","v":132.06634300704229},{"$f":"'ITCER GLOBAL'!I306","v":87.029051456432967},{"$f":"'ITCER GLOBAL'!S306","v":170.23453857457059},{"$f":"'ITCER GLOBAL'!T306","v":86.681088401264418},{"$f":"'ITCER GLOBAL'!U306","v":87.307143677977322},{"$f":"'ITCER GLOBAL'!V306","v":152.03651430213071},{"$f":"'ITCER GLOBAL'!W306","v":229.36365611824229},{"$f":"'ITCER GLOBAL'!X306","v":305.9452823664293},{"$f":"'ITCER GLOBAL'!Y306","v":95.287949692328851},{"$f":"'ITCER GLOBAL'!AA306","v":207.10846415298735},{"$f":"'ITCER GLOBAL'!AB306","v":78.268524689367297},{"$f":"'ITCER GLOBAL'!AC306","v":159.60531772887393},{"$f":"'ITCER GLOBAL'!AD306","v":179.00587848373468},{"$f":"'ITCER GLOBAL'!AE306","v":200.32680906619302},{"$f":"'ITCER GLOBAL'!AF306","v":231.66029693887648},{"$f":"'ITCER GLOBAL'!AG306","v":109.48981759272687},null,{"$f":"IF(EFECTOS!$N$9=\"COSTA RICA\",LOOKUP(1,GEfectos!$C$4:$I$4,GEfectos!C306:I306),IF(EFECTOS!$N$9=\"EL SALVADOR\",LOOKUP(2,GEfectos!$C$4:$I$4,GEfectos!C306:I306),IF(EFECTOS!$N$9=\"GUATEMALA\",LOOKUP(3,GEfectos!$C$4:$I$4,GEfectos!C306:I306),IF(EFECTOS!$N$9=\"HONDURAS\",LOOKUP(4,GEfectos!$C$4:$I$4,GEfectos!C306:I306),IF(EFECTOS!$N$9=\"NICARAGUA\",LOOKUP(5,GEfectos!$C$4:$I$4,GEfectos!C306:I306),IF(EFECTOS!$N$9=\"REPÚBLICA \nDOMINICANA\",LOOKUP(6,$C$4:$I$4,C306:I306),IF(EFECTOS!$N$9=\"PANAMÁ\",LOOKUP(7,GEfectos!$C$4:$I$4,GEfectos!C306:I306))))))))","v":82.195838432185639},{"$f":"IF(EFECTOS!$N$9=\"COSTA RICA\",LOOKUP(1,GEfectos!$J$4:$P$4,GEfectos!J306:P306),IF(EFECTOS!$N$9=\"EL SALVADOR\",LOOKUP(2,GEfectos!$J$4:$P$4,GEfectos!J306:P306),IF(EFECTOS!$N$9=\"GUATEMALA\",LOOKUP(3,GEfectos!$J$4:$P$4,GEfectos!J306:P306),IF(EFECTOS!$N$9=\"HONDURAS\",LOOKUP(4,GEfectos!$J$4:$P$4,GEfectos!J306:P306),IF(EFECTOS!$N$9=\"NICARAGUA\",LOOKUP(5,GEfectos!$J$4:$P$4,GEfectos!J306:P306),IF(EFECTOS!$N$9=\"REPÚBLICA \nDOMINICANA\",LOOKUP(6,$J$4:$P$4,J306:P306),IF(EFECTOS!$N$9=\"PANAMÁ\",LOOKUP(7,GEfectos!$J$4:$P$4,GEfectos!J306:P306))))))))","v":170.23453857457059},{"$f":"IF(EFECTOS!$N$9=\"COSTA RICA\",LOOKUP(1,GEfectos!$Q$4:$W$4,GEfectos!Q306:W306),IF(EFECTOS!$N$9=\"EL SALVADOR\",LOOKUP(2,GEfectos!$Q$4:$W$4,GEfectos!Q306:W306),IF(EFECTOS!$N$9=\"GUATEMALA\",LOOKUP(3,GEfectos!$Q$4:$W$4,GEfectos!Q306:W306),IF(EFECTOS!$N$9=\"HONDURAS\",LOOKUP(4,GEfectos!$Q$4:$W$4,GEfectos!Q306:W306),IF(EFECTOS!$N$9=\"NICARAGUA\",LOOKUP(5,GEfectos!$Q$4:$W$4,GEfectos!Q306:W306),IF(EFECTOS!$N$9=\"REPÚBLICA \nDOMINICANA\",LOOKUP(6,$Q$4:$W$4,Q306:W306),IF(EFECTOS!$N$9=\"PANAMÁ\",LOOKUP(7,GEfectos!$Q$4:$W$4,GEfectos!Q306:W306))))))))","v":207.10846415298735},100]
[null,{"$f":"'ITCER GLOBAL'!B307","v":"Febrero"},{"$f":"'ITCER GLOBAL'!C307","v":81.903420909050936},{"$f":"'ITCER GLOBAL'!D307","v":110.8425369400712},{"$f":"'ITCER GLOBAL'!E307","v":54.518237671205199},{"$f":"'ITCER GLOBAL'!F307","v":84.445963459147606},{"$f":"'ITCER GLOBAL'!G307","v":114.51630185794093},{"$f":"'ITCER GLOBAL'!H307","v":132.48894751405632},{"$f":"'ITCER GLOBAL'!I307","v":86.949256177719263},{"$f":"'ITCER GLOBAL'!S307","v":169.65476833728692},{"$f":"'ITCER GLOBAL'!T307","v":86.404990230145131},{"$f":"'ITCER GLOBAL'!U307","v":86.410570410739751},{"$f":"'ITCER GLOBAL'!V307","v":151.53200974353371},{"$f":"'ITCER GLOBAL'!W307","v":229.35150378619471},{"$f":"'ITCER GLOBAL'!X307","v":305.45759930662024},{"$f":"'ITCER GLOBAL'!Y307","v":94.731200627667221},{"$f":"'ITCER GLOBAL'!AA307","v":207.14002718601807},{"$f":"'ITCER GLOBAL'!AB307","v":77.952916466411608},{"$f":"'ITCER GLOBAL'!AC307","v":158.49846602136054},{"$f":"'ITCER GLOBAL'!AD307","v":179.44257313949683},{"$f":"'ITCER GLOBAL'!AE307","v":200.27847569746746},{"$f":"'ITCER GLOBAL'!AF307","v":230.55326881075337},{"$f":"'ITCER GLOBAL'!AG307","v":108.9499839240052},null,{"$f":"IF(EFECTOS!$N$9=\"COSTA RICA\",LOOKUP(1,GEfectos!$C$4:$I$4,GEfectos!C307:I307),IF(EFECTOS!$N$9=\"EL SALVADOR\",LOOKUP(2,GEfectos!$C$4:$I$4,GEfectos!C307:I307),IF(EFECTOS!$N$9=\"GUATEMALA\",LOOKUP(3,GEfectos!$C$4:$I$4,GEfectos!C307:I307),IF(EFECTOS!$N$9=\"HONDURAS\",LOOKUP(4,GEfectos!$C$4:$I$4,GEfectos!C307:I307),IF(EFECTOS!$N$9=\"NICARAGUA\",LOOKUP(5,GEfectos!$C$4:$I$4,GEfectos!C307:I307),IF(EFECTOS!$N$9=\"REPÚBLICA \nDOMINICANA\",LOOKUP(6,$C$4:$I$4,C307:I307),IF(EFECTOS!$N$9=\"PANAMÁ\",LOOKUP(7,GEfectos!$C$4:$I$4,GEfectos!C307:I307))))))))","v":81.903420909050936},{"$f":"IF(EFECTOS!$N$9=\"COSTA RICA\",LOOKUP(1,GEfectos!$J$4:$P$4,GEfectos!J307:P307),IF(EFECTOS!$N$9=\"EL SALVADOR\",LOOKUP(2,GEfectos!$J$4:$P$4,GEfectos!J307:P307),IF(EFECTOS!$N$9=\"GUATEMALA\",LOOKUP(3,GEfectos!$J$4:$P$4,GEfectos!J307:P307),IF(EFECTOS!$N$9=\"HONDURAS\",LOOKUP(4,GEfectos!$J$4:$P$4,GEfectos!J307:P307),IF(EFECTOS!$N$9=\"NICARAGUA\",LOOKUP(5,GEfectos!$J$4:$P$4,GEfectos!J307:P307),IF(EFECTOS!$N$9=\"REPÚBLICA \nDOMINICANA\",LOOKUP(6,$J$4:$P$4,J307:P307),IF(EFECTOS!$N$9=\"PANAMÁ\",LOOKUP(7,GEfectos!$J$4:$P$4,GEfectos!J307:P307))))))))","v":169.65476833728692},{"$f":"IF(EFECTOS!$N$9=\"COSTA RICA\",LOOKUP(1,GEfectos!$Q$4:$W$4,GEfectos!Q307:W307),IF(EFECTOS!$N$9=\"EL SALVADOR\",LOOKUP(2,GEfectos!$Q$4:$W$4,GEfectos!Q307:W307),IF(EFECTOS!$N$9=\"GUATEMALA\",LOOKUP(3,GEfectos!$Q$4:$W$4,GEfectos!Q307:W307),IF(EFECTOS!$N$9=\"HONDURAS\",LOOKUP(4,GEfectos!$Q$4:$W$4,GEfectos!Q307:W307),IF(EFECTOS!$N$9=\"NICARAGUA\",LOOKUP(5,GEfectos!$Q$4:$W$4,GEfectos!Q307:W307),IF(EFECTOS!$N$9=\"REPÚBLICA \nDOMINICANA\",LOOKUP(6,$Q$4:$W$4,Q307:W307),IF(EFECTOS!$N$9=\"PANAMÁ\",LOOKUP(7,GEfectos!$Q$4:$W$4,GEfectos!Q307:W307))))))))","v":207.14002718601807},100]
[null,{"$f":"'ITCER GLOBAL'!B308","v":"Marzo"},{"$f":"'ITCER GLOBAL'!C308","v":80.810741525468487},{"$f":"'ITCER GLOBAL'!D308","v":108.99273471777397},{"$f":"'ITCER GLOBAL'!E308","v":53.370463074373141},{"$f":"'ITCER GLOBAL'!F308","v":83.261051219909106},{"$f":"'ITCER GLOBAL'!G308","v":112.57616418387222},{"$f":"'ITCER GLOBAL'!H308","v":132.54274177951737},{"$f":"'ITCER GLOBAL'!I308","v":86.017501568519606},{"$f":"'ITCER GLOBAL'!S308","v":167.59137876544136},{"$f":"'ITCER GLOBAL'!T308","v":85.133788495868586},{"$f":"'ITCER GLOBAL'!U308","v":85.138933340222778},{"$f":"'ITCER GLOBAL'!V308","v":150.0246294738927},{"$f":"'ITCER GLOBAL'!W308","v":225.57573046701376},{"$f":"'ITCER GLOBAL'!X308","v":304.45862372245614},{"$f":"'ITCER GLOBAL'!Y308","v":93.393758035791421},{"$f":"'ITCER GLOBAL'!AA308","v":207.38750270299514},{"$f":"'ITCER GLOBAL'!AB308","v":78.109599430011741},{"$f":"'ITCER GLOBAL'!AC308","v":159.52444186511826},{"$f":"'ITCER GLOBAL'!AD308","v":180.18584593370989},{"$f":"'ITCER GLOBAL'!AE308","v":200.37610279435154},{"$f":"'ITCER GLOBAL'!AF308","v":229.70599493778238},{"$f":"'ITCER GLOBAL'!AG308","v":108.5752972741205},null,{"$f":"IF(EFECTOS!$N$9=\"COSTA RICA\",LOOKUP(1,GEfectos!$C$4:$I$4,GEfectos!C308:I308),IF(EFECTOS!$N$9=\"EL SALVADOR\",LOOKUP(2,GEfectos!$C$4:$I$4,GEfectos!C308:I308),IF(EFECTOS!$N$9=\"GUATEMALA\",LOOKUP(3,GEfectos!$C$4:$I$4,GEfectos!C308:I308),IF(EFECTOS!$N$9=\"HONDURAS\",LOOKUP(4,GEfectos!$C$4:$I$4,GEfectos!C308:I308),IF(EFECTOS!$N$9=\"NICARAGUA\",LOOKUP(5,GEfectos!$C$4:$I$4,GEfectos!C308:I308),IF(EFECTOS!$N$9=\"REPÚBLICA \nDOMINICANA\",LOOKUP(6,$C$4:$I$4,C308:I308),IF(EFECTOS!$N$9=\"PANAMÁ\",LOOKUP(7,GEfectos!$C$4:$I$4,GEfectos!C308:I308))))))))","v":80.810741525468487},{"$f":"IF(EFECTOS!$N$9=\"COSTA RICA\",LOOKUP(1,GEfectos!$J$4:$P$4,GEfectos!J308:P308),IF(EFECTOS!$N$9=\"EL SALVADOR\",LOOKUP(2,GEfectos!$J$4:$P$4,GEfectos!J308:P308),IF(EFECTOS!$N$9=\"GUATEMALA\",LOOKUP(3,GEfectos!$J$4:$P$4,GEfectos!J308:P308),IF(EFECTOS!$N$9=\"HONDURAS\",LOOKUP(4,GEfectos!$J$4:$P$4,GEfectos!J308:P308),IF(EFECTOS!$N$9=\"NICARAGUA\",LOOKUP(5,GEfectos!$J$4:$P$4,GEfectos!J308:P308),IF(EFECTOS!$N$9=\"REPÚBLICA \nDOMINICANA\",LOOKUP(6,$J$4:$P$4,J308:P308),IF(EFECTOS!$N$9=\"PANAMÁ\",LOOKUP(7,GEfectos!$J$4:$P$4,GEfectos!J308:P308))))))))","v":167.59137876544136},{"$f":"IF(EFECTOS!$N$9=\"COSTA RICA\",LOOKUP(1,GEfectos!$Q$4:$W$4,GEfectos!Q308:W308),IF(EFECTOS!$N$9=\"EL SALVADOR\",LOOKUP(2,GEfectos!$Q$4:$W$4,GEfectos!Q308:W308),IF(EFECTOS!$N$9=\"GUATEMALA\",LOOKUP(3,GEfectos!$Q$4:$W$4,GEfectos!Q308:W308),IF(EFECTOS!$N$9=\"HONDURAS\",LOOKUP(4,GEfectos!$Q$4:$W$4,GEfectos!Q308:W308),IF(EFECTOS!$N$9=\"NICARAGUA\",LOOKUP(5,GEfectos!$Q$4:$W$4,GEfectos!Q308:W308),IF(EFECTOS!$N$9=\"REPÚBLICA \nDOMINICANA\",LOOKUP(6,$Q$4:$W$4,Q308:W308),IF(EFECTOS!$N$9=\"PANAMÁ\",LOOKUP(7,GEfectos!$Q$4:$W$4,GEfectos!Q308:W308))))))))","v":207.38750270299514},100]
[null,{"$f":"'ITCER GLOBAL'!B309","v":"Abril"},{"$f":"'ITCER GLOBAL'!C309","v":79.636563656547693},{"$f":"'ITCER GLOBAL'!D309","v":107.90339298919909},{"$f":"'ITCER GLOBAL'!E309","v":52.161123633960173},{"$f":"'ITCER GLOBAL'!F309","v":82.055081305903357},{"$f":"'ITCER GLOBAL'!G309","v":111.1544569779246},{"$f":"'ITCER GLOBAL'!H309","v":132.96499128659732},{"$f":"'ITCER GLOBAL'!I309","v":85.906838538647847},{"$f":"'ITCER GLOBAL'!S309","v":165.22058440237404},{"$f":"'ITCER GLOBAL'!T309","v":84.290235951056303},{"$f":"'ITCER GLOBAL'!U309","v":84.272132860045133},{"$f":"'ITCER GLOBAL'!V309","v":149.14081037571916},{"$f":"'ITCER GLOBAL'!W309","v":223.46970672215062},{"$f":"'ITCER GLOBAL'!X309","v":304.23344543867785},{"$f":"'ITCER GLOBAL'!Y309","v":92.409301120155547},{"$f":"'ITCER GLOBAL'!AA309","v":207.46824927671227},{"$f":"'ITCER GLOBAL'!AB309","v":78.116390612011216},{"$f":"'ITCER GLOBAL'!AC309","v":161.56119153303413},{"$f":"'ITCER GLOBAL'!AD309","v":181.75694667794986},{"$f":"'ITCER GLOBAL'!AE309","v":201.04430609249607},{"$f":"'ITCER GLOBAL'!AF309","v":228.80717886328634},{"$f":"'ITCER GLOBAL'!AG309","v":107.56920251300177},null,{"$f":"IF(EFECTOS!$N$9=\"COSTA RICA\",LOOKUP(1,GEfectos!$C$4:$I$4,GEfectos!C309:I309),IF(EFECTOS!$N$9=\"EL SALVADOR\",LOOKUP(2,GEfectos!$C$4:$I$4,GEfectos!C309:I309),IF(EFECTOS!$N$9=\"GUATEMALA\",LOOKUP(3,GEfectos!$C$4:$I$4,GEfectos!C309:I309),IF(EFECTOS!$N$9=\"HONDURAS\",LOOKUP(4,GEfectos!$C$4:$I$4,GEfectos!C309:I309),IF(EFECTOS!$N$9=\"NICARAGUA\",LOOKUP(5,GEfectos!$C$4:$I$4,GEfectos!C309:I309),IF(EFECTOS!$N$9=\"REPÚBLICA \nDOMINICANA\",LOOKUP(6,$C$4:$I$4,C309:I309),IF(EFECTOS!$N$9=\"PANAMÁ\",LOOKUP(7,GEfectos!$C$4:$I$4,GEfectos!C309:I309))))))))","v":79.636563656547693},{"$f":"IF(EFECTOS!$N$9=\"COSTA RICA\",LOOKUP(1,GEfectos!$J$4:$P$4,GEfectos!J309:P309),IF(EFECTOS!$N$9=\"EL SALVADOR\",LOOKUP(2,GEfectos!$J$4:$P$4,GEfectos!J309:P309),IF(EFECTOS!$N$9=\"GUATEMALA\",LOOKUP(3,GEfectos!$J$4:$P$4,GEfectos!J309:P309),IF(EFECTOS!$N$9=\"HONDURAS\",LOOKUP(4,GEfectos!$J$4:$P$4,GEfectos!J309:P309),IF(EFECTOS!$N$9=\"NICARAGUA\",LOOKUP(5,GEfectos!$J$4:$P$4,GEfectos!J309:P309),IF(EFECTOS!$N$9=\"REPÚBLICA \nDOMINICANA\",LOOKUP(6,$J$4:$P$4,J309:P309),IF(EFECTOS!$N$9=\"PANAMÁ\",LOOKUP(7,GEfectos!$J$4:$P$4,GEfectos!J309:P309))))))))","v":165.22058440237404},{"$f":"IF(EFECTOS!$N$9=\"COSTA RICA\",LOOKUP(1,GEfectos!$Q$4:$W$4,GEfectos!Q309:W309),IF(EFECTOS!$N$9=\"EL SALVADOR\",LOOKUP(2,GEfectos!$Q$4:$W$4,GEfectos!Q309:W309),IF(EFECTOS!$N$9=\"GUATEMALA\",LOOKUP(3,GEfectos!$Q$4:$W$4,GEfectos!Q309:W309),IF(EFECTOS!$N$9=\"HONDURAS\",LOOKUP(4,GEfectos!$Q$4:$W$4,GEfectos!Q309:W309),IF(EFECTOS!$N$9=\"NICARAGUA\",LOOKUP(5,GEfectos!$Q$4:$W$4,GEfectos!Q309:W309),IF(EFECTOS!$N$9=\"REPÚBLICA \nDOMINICANA\",LOOKUP(6,$Q$4:$W$4,Q309:W309),IF(EFECTOS!$N$9=\"PANAMÁ\",LOOKUP(7,GEfectos!$Q$4:$W$4,GEfectos!Q309:W309))))))))","v":207.46824927671227},100]
[null,{"$f":"'ITCER GLOBAL'!B310","v":"Mayo"},{"$f":"'ITCER GLOBAL'!C310","v":79.918453641258679},{"$f":"'ITCER GLOBAL'!D310","v":107.66633160104665},{"$f":"'ITCER GLOBAL'!E310","v":52.080811478495342},{"$f":"'ITCER GLOBAL'!F310","v":82.762631120710353},{"$f":"'ITCER GLOBAL'!G310","v":111.28018613986399},{"$f":"'ITCER GLOBAL'!H310","v":135.70579196873524},{"$f":"'ITCER GLOBAL'!I310","v":85.961088398265986},{"$f":"'ITCER GLOBAL'!S310","v":165.69596158579301},{"$f":"'ITCER GLOBAL'!T310","v":84.38930055101423},{"$f":"'ITCER GLOBAL'!U310","v":84.356037268986412},{"$f":"'ITCER GLOBAL'!V310","v":149.50340431861034},{"$f":"'ITCER GLOBAL'!W310","v":224.9510269068245},{"$f":"'ITCER GLOBAL'!X310","v":310.25922667987084},{"$f":"'ITCER GLOBAL'!Y310","v":92.545409446465342},{"$f":"'ITCER GLOBAL'!AA310","v":207.33129088004637},{"$f":"'ITCER GLOBAL'!AB310","v":78.380399235403928},{"$f":"'ITCER GLOBAL'!AC310","v":161.9714341505946},{"$f":"'ITCER GLOBAL'!AD310","v":180.6411931256242},{"$f":"'ITCER GLOBAL'!AE310","v":202.14832011881415},{"$f":"'ITCER GLOBAL'!AF310","v":228.62637045834441},{"$f":"'ITCER GLOBAL'!AG310","v":107.65965295564146},null,{"$f":"IF(EFECTOS!$N$9=\"COSTA RICA\",LOOKUP(1,GEfectos!$C$4:$I$4,GEfectos!C310:I310),IF(EFECTOS!$N$9=\"EL SALVADOR\",LOOKUP(2,GEfectos!$C$4:$I$4,GEfectos!C310:I310),IF(EFECTOS!$N$9=\"GUATEMALA\",LOOKUP(3,GEfectos!$C$4:$I$4,GEfectos!C310:I310),IF(EFECTOS!$N$9=\"HONDURAS\",LOOKUP(4,GEfectos!$C$4:$I$4,GEfectos!C310:I310),IF(EFECTOS!$N$9=\"NICARAGUA\",LOOKUP(5,GEfectos!$C$4:$I$4,GEfectos!C310:I310),IF(EFECTOS!$N$9=\"REPÚBLICA \nDOMINICANA\",LOOKUP(6,$C$4:$I$4,C310:I310),IF(EFECTOS!$N$9=\"PANAMÁ\",LOOKUP(7,GEfectos!$C$4:$I$4,GEfectos!C310:I310))))))))","v":79.918453641258679},{"$f":"IF(EFECTOS!$N$9=\"COSTA RICA\",LOOKUP(1,GEfectos!$J$4:$P$4,GEfectos!J310:P310),IF(EFECTOS!$N$9=\"EL SALVADOR\",LOOKUP(2,GEfectos!$J$4:$P$4,GEfectos!J310:P310),IF(EFECTOS!$N$9=\"GUATEMALA\",LOOKUP(3,GEfectos!$J$4:$P$4,GEfectos!J310:P310),IF(EFECTOS!$N$9=\"HONDURAS\",LOOKUP(4,GEfectos!$J$4:$P$4,GEfectos!J310:P310),IF(EFECTOS!$N$9=\"NICARAGUA\",LOOKUP(5,GEfectos!$J$4:$P$4,GEfectos!J310:P310),IF(EFECTOS!$N$9=\"REPÚBLICA \nDOMINICANA\",LOOKUP(6,$J$4:$P$4,J310:P310),IF(EFECTOS!$N$9=\"PANAMÁ\",LOOKUP(7,GEfectos!$J$4:$P$4,GEfectos!J310:P310))))))))","v":165.69596158579301},{"$f":"IF(EFECTOS!$N$9=\"COSTA RICA\",LOOKUP(1,GEfectos!$Q$4:$W$4,GEfectos!Q310:W310),IF(EFECTOS!$N$9=\"EL SALVADOR\",LOOKUP(2,GEfectos!$Q$4:$W$4,GEfectos!Q310:W310),IF(EFECTOS!$N$9=\"GUATEMALA\",LOOKUP(3,GEfectos!$Q$4:$W$4,GEfectos!Q310:W310),IF(EFECTOS!$N$9=\"HONDURAS\",LOOKUP(4,GEfectos!$Q$4:$W$4,GEfectos!Q310:W310),IF(EFECTOS!$N$9=\"NICARAGUA\",LOOKUP(5,GEfectos!$Q$4:$W$4,GEfectos!Q310:W310),IF(EFECTOS!$N$9=\"REPÚBLICA \nDOMINICANA\",LOOKUP(6,$Q$4:$W$4,Q310:W310),IF(EFECTOS!$N$9=\"PANAMÁ\",LOOKUP(7,GEfectos!$Q$4:$W$4,GEfectos!Q310:W310))))))))","v":207.33129088004637},100]
[null,{"$f":"'ITCER GLOBAL'!B311","v":"Junio"},{"$f":"'ITCER GLOBAL'!C311","v":82.106490928837388},{"$f":"'ITCER GLOBAL'!D311","v":108.33979585682529},{"$f":"'ITCER GLOBAL'!E311","v":52.077542590610236},{"$f":"'ITCER GLOBAL'!F311","v":83.279996964775378},{"$f":"'ITCER GLOBAL'!G311","v":112.40806895420975},{"$f":"'ITCER GLOBAL'!H311","v":141.1564575786262},{"$f":"'ITCER GLOBAL'!I311","v":86.575344587619355},{"$f":"'ITCER GLOBAL'!S311","v":169.40244283459322},{"$f":"'ITCER GLOBAL'!T311","v":84.928027005963358},{"$f":"'ITCER GLOBAL'!U311","v":85.169329930979458},{"$f":"'ITCER GLOBAL'!V311","v":150.31143425201591},{"$f":"'ITCER GLOBAL'!W311","v":227.82399476885828},{"$f":"'ITCER GLOBAL'!X311","v":326.71119274308029},{"$f":"'ITCER GLOBAL'!Y311","v":93.437488318100833},{"$f":"'ITCER GLOBAL'!AA311","v":206.32040283077765},{"$f":"'ITCER GLOBAL'!AB311","v":78.390425544274251},{"$f":"'ITCER GLOBAL'!AC311","v":163.54329658084862},{"$f":"'ITCER GLOBAL'!AD311","v":180.48924079042962},{"$f":"'ITCER GLOBAL'!AE311","v":202.67583714267349},{"$f":"'ITCER GLOBAL'!AF311","v":231.45323873057487},{"$f":"'ITCER GLOBAL'!AG311","v":107.92621012733778},null,{"$f":"IF(EFECTOS!$N$9=\"COSTA RICA\",LOOKUP(1,GEfectos!$C$4:$I$4,GEfectos!C311:I311),IF(EFECTOS!$N$9=\"EL SALVADOR\",LOOKUP(2,GEfectos!$C$4:$I$4,GEfectos!C311:I311),IF(EFECTOS!$N$9=\"GUATEMALA\",LOOKUP(3,GEfectos!$C$4:$I$4,GEfectos!C311:I311),IF(EFECTOS!$N$9=\"HONDURAS\",LOOKUP(4,GEfectos!$C$4:$I$4,GEfectos!C311:I311),IF(EFECTOS!$N$9=\"NICARAGUA\",LOOKUP(5,GEfectos!$C$4:$I$4,GEfectos!C311:I311),IF(EFECTOS!$N$9=\"REPÚBLICA \nDOMINICANA\",LOOKUP(6,$C$4:$I$4,C311:I311),IF(EFECTOS!$N$9=\"PANAMÁ\",LOOKUP(7,GEfectos!$C$4:$I$4,GEfectos!C311:I311))))))))","v":82.106490928837388},{"$f":"IF(EFECTOS!$N$9=\"COSTA RICA\",LOOKUP(1,GEfectos!$J$4:$P$4,GEfectos!J311:P311),IF(EFECTOS!$N$9=\"EL SALVADOR\",LOOKUP(2,GEfectos!$J$4:$P$4,GEfectos!J311:P311),IF(EFECTOS!$N$9=\"GUATEMALA\",LOOKUP(3,GEfectos!$J$4:$P$4,GEfectos!J311:P311),IF(EFECTOS!$N$9=\"HONDURAS\",LOOKUP(4,GEfectos!$J$4:$P$4,GEfectos!J311:P311),IF(EFECTOS!$N$9=\"NICARAGUA\",LOOKUP(5,GEfectos!$J$4:$P$4,GEfectos!J311:P311),IF(EFECTOS!$N$9=\"REPÚBLICA \nDOMINICANA\",LOOKUP(6,$J$4:$P$4,J311:P311),IF(EFECTOS!$N$9=\"PANAMÁ\",LOOKUP(7,GEfectos!$J$4:$P$4,GEfectos!J311:P311))))))))","v":169.40244283459322},{"$f":"IF(EFECTOS!$N$9=\"COSTA RICA\",LOOKUP(1,GEfectos!$Q$4:$W$4,GEfectos!Q311:W311),IF(EFECTOS!$N$9=\"EL SALVADOR\",LOOKUP(2,GEfectos!$Q$4:$W$4,GEfectos!Q311:W311),IF(EFECTOS!$N$9=\"GUATEMALA\",LOOKUP(3,GEfectos!$Q$4:$W$4,GEfectos!Q311:W311),IF(EFECTOS!$N$9=\"HONDURAS\",LOOKUP(4,GEfectos!$Q$4:$W$4,GEfectos!Q311:W311),IF(EFECTOS!$N$9=\"NICARAGUA\",LOOKUP(5,GEfectos!$Q$4:$W$4,GEfectos!Q311:W311),IF(EFECTOS!$N$9=\"REPÚBLICA \nDOMINICANA\",LOOKUP(6,$Q$4:$W$4,Q311:W311),IF(EFECTOS!$N$9=\"PANAMÁ\",LOOKUP(7,GEfectos!$Q$4:$W$4,GEfectos!Q311:W311))))))))","v":206.32040283077765},100]
[null,{"$f":"'ITCER GLOBAL'!B312","v":"Julio"},{"$f":"'ITCER GLOBAL'!C312","v":83.141873736034924},{"$f":"'ITCER GLOBAL'!D312","v":109.13936240546774},{"$f":"'ITCER GLOBAL'!E312","v":52.123589399674124},{"$f":"'ITCER GLOBAL'!F312","v":82.836418506397166},{"$f":"'ITCER GLOBAL'!G312","v":113.41892565315598},{"$f":"'ITCER GLOBAL'!H312","v":140.2993761116926},{"$f":"'ITCER GLOBAL'!I312","v":87.382252725723404},{"$f":"'ITCER GLOBAL'!S312","v":171.40878779458134},{"$f":"'ITCER GLOBAL'!T312","v":85.08750870954988},{"$f":"'ITCER GLOBAL'!U312","v":85.304961933472271},{"$f":"'ITCER GLOBAL'!V312","v":150.07841378734923},{"$f":"'ITCER GLOBAL'!W312","v":229.27065048563037},{"$f":"'ITCER GLOBAL'!X312","v":329.49606928546382},{"$f":"'ITCER GLOBAL'!Y312","v":93.710052434225361},{"$f":"'ITCER GLOBAL'!AA312","v":206.16421075471894},{"$f":"'ITCER GLOBAL'!AB312","v":77.962255628210542},{"$f":"'ITCER GLOBAL'!AC312","v":163.65903215024096},{"$f":"'ITCER GLOBAL'!AD312","v":181.17443570518347},{"$f":"'ITCER GLOBAL'!AE312","v":202.14496757512771},{"$f":"'ITCER GLOBAL'!AF312","v":234.85212722767304},{"$f":"'ITCER GLOBAL'!AG312","v":107.24151588122102},null,{"$f":"IF(EFECTOS!$N$9=\"COSTA RICA\",LOOKUP(1,GEfectos!$C$4:$I$4,GEfectos!C312:I312),IF(EFECTOS!$N$9=\"EL SALVADOR\",LOOKUP(2,GEfectos!$C$4:$I$4,GEfectos!C312:I312),IF(EFECTOS!$N$9=\"GUATEMALA\",LOOKUP(3,GEfectos!$C$4:$I$4,GEfectos!C312:I312),IF(EFECTOS!$N$9=\"HONDURAS\",LOOKUP(4,GEfectos!$C$4:$I$4,GEfectos!C312:I312),IF(EFECTOS!$N$9=\"NICARAGUA\",LOOKUP(5,GEfectos!$C$4:$I$4,GEfectos!C312:I312),IF(EFECTOS!$N$9=\"REPÚBLICA \nDOMINICANA\",LOOKUP(6,$C$4:$I$4,C312:I312),IF(EFECTOS!$N$9=\"PANAMÁ\",LOOKUP(7,GEfectos!$C$4:$I$4,GEfectos!C312:I312))))))))","v":83.141873736034924},{"$f":"IF(EFECTOS!$N$9=\"COSTA RICA\",LOOKUP(1,GEfectos!$J$4:$P$4,GEfectos!J312:P312),IF(EFECTOS!$N$9=\"EL SALVADOR\",LOOKUP(2,GEfectos!$J$4:$P$4,GEfectos!J312:P312),IF(EFECTOS!$N$9=\"GUATEMALA\",LOOKUP(3,GEfectos!$J$4:$P$4,GEfectos!J312:P312),IF(EFECTOS!$N$9=\"HONDURAS\",LOOKUP(4,GEfectos!$J$4:$P$4,GEfectos!J312:P312),IF(EFECTOS!$N$9=\"NICARAGUA\",LOOKUP(5,GEfectos!$J$4:$P$4,GEfectos!J312:P312),IF(EFECTOS!$N$9=\"REPÚBLICA \nDOMINICANA\",LOOKUP(6,$J$4:$P$4,J312:P312),IF(EFECTOS!$N$9=\"PANAMÁ\",LOOKUP(7,GEfectos!$J$4:$P$4,GEfectos!J312:P312))))))))","v":171.40878779458134},{"$f":"IF(EFECTOS!$N$9=\"COSTA RICA\",LOOKUP(1,GEfectos!$Q$4:$W$4,GEfectos!Q312:W312),IF(EFECTOS!$N$9=\"EL SALVADOR\",LOOKUP(2,GEfectos!$Q$4:$W$4,GEfectos!Q312:W312),IF(EFECTOS!$N$9=\"GUATEMALA\",LOOKUP(3,GEfectos!$Q$4:$W$4,GEfectos!Q312:W312),IF(EFECTOS!$N$9=\"HONDURAS\",LOOKUP(4,GEfectos!$Q$4:$W$4,GEfectos!Q312:W312),IF(EFECTOS!$N$9=\"NICARAGUA\",LOOKUP(5,GEfectos!$Q$4:$W$4,GEfectos!Q312:W312),IF(EFECTOS!$N$9=\"REPÚBLICA \nDOMINICANA\",LOOKUP(6,$Q$4:$W$4,Q312:W312),IF(EFECTOS!$N$9=\"PANAMÁ\",LOOKUP(7,GEfectos!$Q$4:$W$4,GEfectos!Q312:W312))))))))","v":206.16421075471894},100]
[null,{"$f":"'ITCER GLOBAL'!B313","v":"Agosto"},{"$f":"'ITCER GLOBAL'!C313","v":85.318668507818757},{"$f":"'ITCER GLOBAL'!D313","v":110.44535396657223},{"$f":"'ITCER GLOBAL'!E313","v":52.24847356112388},{"$f":"'ITCER GLOBAL'!F313","v":82.712142385652399},{"$f":"'ITCER GLOBAL'!G313","v":115.04133789076344},{"$f":"'ITCER GLOBAL'!H313","v":140.38594644100593},{"$f":"'ITCER GLOBAL'!I313","v":87.84999312388986},{"$f":"'ITCER GLOBAL'!S313","v":175.61719569541444},{"$f":"'ITCER GLOBAL'!T313","v":85.38903762545938},{"$f":"'ITCER GLOBAL'!U313","v":85.741313145446938},{"$f":"'ITCER GLOBAL'!V313","v":149.91957212769282},{"$f":"'ITCER GLOBAL'!W313","v":230.67684001143624},{"$f":"'ITCER GLOBAL'!X313","v":331.30864027660459},{"$f":"'ITCER GLOBAL'!Y313","v":94.122690645186438},{"$f":"'ITCER GLOBAL'!AA313","v":205.83677496012558},{"$f":"'ITCER GLOBAL'!AB313","v":77.31338128655328},{"$f":"'ITCER GLOBAL'!AC313","v":164.10300110517261},{"$f":"'ITCER GLOBAL'!AD313","v":181.25461123794869},{"$f":"'ITCER GLOBAL'!AE313","v":200.5164788942854},{"$f":"'ITCER GLOBAL'!AF313","v":235.99843764691198},{"$f":"'ITCER GLOBAL'!AG313","v":107.14023678118055},null,{"$f":"IF(EFECTOS!$N$9=\"COSTA RICA\",LOOKUP(1,GEfectos!$C$4:$I$4,GEfectos!C313:I313),IF(EFECTOS!$N$9=\"EL SALVADOR\",LOOKUP(2,GEfectos!$C$4:$I$4,GEfectos!C313:I313),IF(EFECTOS!$N$9=\"GUATEMALA\",LOOKUP(3,GEfectos!$C$4:$I$4,GEfectos!C313:I313),IF(EFECTOS!$N$9=\"HONDURAS\",LOOKUP(4,GEfectos!$C$4:$I$4,GEfectos!C313:I313),IF(EFECTOS!$N$9=\"NICARAGUA\",LOOKUP(5,GEfectos!$C$4:$I$4,GEfectos!C313:I313),IF(EFECTOS!$N$9=\"REPÚBLICA \nDOMINICANA\",LOOKUP(6,$C$4:$I$4,C313:I313),IF(EFECTOS!$N$9=\"PANAMÁ\",LOOKUP(7,GEfectos!$C$4:$I$4,GEfectos!C313:I313))))))))","v":85.318668507818757},{"$f":"IF(EFECTOS!$N$9=\"COSTA RICA\",LOOKUP(1,GEfectos!$J$4:$P$4,GEfectos!J313:P313),IF(EFECTOS!$N$9=\"EL SALVADOR\",LOOKUP(2,GEfectos!$J$4:$P$4,GEfectos!J313:P313),IF(EFECTOS!$N$9=\"GUATEMALA\",LOOKUP(3,GEfectos!$J$4:$P$4,GEfectos!J313:P313),IF(EFECTOS!$N$9=\"HONDURAS\",LOOKUP(4,GEfectos!$J$4:$P$4,GEfectos!J313:P313),IF(EFECTOS!$N$9=\"NICARAGUA\",LOOKUP(5,GEfectos!$J$4:$P$4,GEfectos!J313:P313),IF(EFECTOS!$N$9=\"REPÚBLICA \nDOMINICANA\",LOOKUP(6,$J$4:$P$4,J313:P313),IF(EFECTOS!$N$9=\"PANAMÁ\",LOOKUP(7,GEfectos!$J$4:$P$4,GEfectos!J313:P313))))))))","v":175.61719569541444},{"$f":"IF(EFECTOS!$N$9=\"COSTA RICA\",LOOKUP(1,GEfectos!$Q$4:$W$4,GEfectos!Q313:W313),IF(EFECTOS!$N$9=\"EL SALVADOR\",LOOKUP(2,GEfectos!$Q$4:$W$4,GEfectos!Q313:W313),IF(EFECTOS!$N$9=\"GUATEMALA\",LOOKUP(3,GEfectos!$Q$4:$W$4,GEfectos!Q313:W313),IF(EFECTOS!$N$9=\"HONDURAS\",LOOKUP(4,GEfectos!$Q$4:$W$4,GEfectos!Q313:W313),IF(EFECTOS!$N$9=\"NICARAGUA\",LOOKUP(5,GEfectos!$Q$4:$W$4,GEfectos!Q313:W313),IF(EFECTOS!$N$9=\"REPÚBLICA \nDOMINICANA\",LOOKUP(6,$Q$4:$W$4,Q313:W313),IF(EFECTOS!$N$9=\"PANAMÁ\",LOOKUP(7,GEfectos!$Q$4:$W$4,GEfectos!Q313:W313))))))))","v":205.83677496012558},100]
[null,{"$f":"'ITCER GLOBAL'!B314","v":"Septiembre"},{"$f":"'ITCER GLOBAL'!C314","v":86.285477288836177},{"$f":"'ITCER GLOBAL'!D314","v":111.20799315809509},{"$f":"'ITCER GLOBAL'!E314","v":52.811610433061432},{"$f":"'ITCER GLOBAL'!F314","v":82.521505955185788},{"$f":"'ITCER GLOBAL'!G314","v":115.92447086586233},{"$f":"'ITCER GLOBAL'!H314","v":141.5793346233045},{"$f":"'ITCER GLOBAL'!I314","v":88.150084756648283},{"$f":"'ITCER GLOBAL'!S314","v":177.86342196093477},{"$f":"'ITCER GLOBAL'!T314","v":85.642752694561324},{"$f":"'ITCER GLOBAL'!U314","v":86.700863560130742},{"$f":"'ITCER GLOBAL'!V314","v":149.87479220675485},{"$f":"'ITCER GLOBAL'!W314","v":231.63168825405731},{"$f":"'ITCER GLOBAL'!X314","v":335.7693821317892},{"$f":"'ITCER GLOBAL'!Y314","v":94.402877595597985},{"$f":"'ITCER GLOBAL'!AA314","v":206.13367109918875},{"$f":"'ITCER GLOBAL'!AB314","v":77.011328288974866},{"$f":"'ITCER GLOBAL'!AC314","v":164.17008087648423},{"$f":"'ITCER GLOBAL'!AD314","v":181.61907065552828},{"$f":"'ITCER GLOBAL'!AE314","v":199.81259049444466},{"$f":"'ITCER GLOBAL'!AF314","v":237.15988143690589},{"$f":"'ITCER GLOBAL'!AG314","v":107.09334864079993},null,{"$f":"IF(EFECTOS!$N$9=\"COSTA RICA\",LOOKUP(1,GEfectos!$C$4:$I$4,GEfectos!C314:I314),IF(EFECTOS!$N$9=\"EL SALVADOR\",LOOKUP(2,GEfectos!$C$4:$I$4,GEfectos!C314:I314),IF(EFECTOS!$N$9=\"GUATEMALA\",LOOKUP(3,GEfectos!$C$4:$I$4,GEfectos!C314:I314),IF(EFECTOS!$N$9=\"HONDURAS\",LOOKUP(4,GEfectos!$C$4:$I$4,GEfectos!C314:I314),IF(EFECTOS!$N$9=\"NICARAGUA\",LOOKUP(5,GEfectos!$C$4:$I$4,GEfectos!C314:I314),IF(EFECTOS!$N$9=\"REPÚBLICA \nDOMINICANA\",LOOKUP(6,$C$4:$I$4,C314:I314),IF(EFECTOS!$N$9=\"PANAMÁ\",LOOKUP(7,GEfectos!$C$4:$I$4,GEfectos!C314:I314))))))))","v":86.285477288836177},{"$f":"IF(EFECTOS!$N$9=\"COSTA RICA\",LOOKUP(1,GEfectos!$J$4:$P$4,GEfectos!J314:P314),IF(EFECTOS!$N$9=\"EL SALVADOR\",LOOKUP(2,GEfectos!$J$4:$P$4,GEfectos!J314:P314),IF(EFECTOS!$N$9=\"GUATEMALA\",LOOKUP(3,GEfectos!$J$4:$P$4,GEfectos!J314:P314),IF(EFECTOS!$N$9=\"HONDURAS\",LOOKUP(4,GEfectos!$J$4:$P$4,GEfectos!J314:P314),IF(EFECTOS!$N$9=\"NICARAGUA\",LOOKUP(5,GEfectos!$J$4:$P$4,GEfectos!J314:P314),IF(EFECTOS!$N$9=\"REPÚBLICA \nDOMINICANA\",LOOKUP(6,$J$4:$P$4,J314:P314),IF(EFECTOS!$N$9=\"PANAMÁ\",LOOKUP(7,GEfectos!$J$4:$P$4,GEfectos!J314:P314))))))))","v":177.86342196093477},{"$f":"IF(EFECTOS!$N$9=\"COSTA RICA\",LOOKUP(1,GEfectos!$Q$4:$W$4,GEfectos!Q314:W314),IF(EFECTOS!$N$9=\"EL SALVADOR\",LOOKUP(2,GEfectos!$Q$4:$W$4,GEfectos!Q314:W314),IF(EFECTOS!$N$9=\"GUATEMALA\",LOOKUP(3,GEfectos!$Q$4:$W$4,GEfectos!Q314:W314),IF(EFECTOS!$N$9=\"HONDURAS\",LOOKUP(4,GEfectos!$Q$4:$W$4,GEfectos!Q314:W314),IF(EFECTOS!$N$9=\"NICARAGUA\",LOOKUP(5,GEfectos!$Q$4:$W$4,GEfectos!Q314:W314),IF(EFECTOS!$N$9=\"REPÚBLICA \nDOMINICANA\",LOOKUP(6,$Q$4:$W$4,Q314:W314),IF(EFECTOS!$N$9=\"PANAMÁ\",LOOKUP(7,GEfectos!$Q$4:$W$4,GEfectos!Q314:W314))))))))","v":206.13367109918875},100]
[null,{"$f":"'ITCER GLOBAL'!B315","v":"Octubre"},{"$f":"'ITCER GLOBAL'!C315","v":87.226621786993917},{"$f":"'ITCER GLOBAL'!D315","v":111.51021388928415},{"$f":"'ITCER GLOBAL'!E315","v":52.586627176208196},{"$f":"'ITCER GLOBAL'!F315","v":82.044289405828266},{"$f":"'ITCER GLOBAL'!G315","v":116.19905860350187},{"$f":"'ITCER GLOBAL'!H315","v":142.21050020389902},{"$f":"'ITCER GLOBAL'!I315","v":88.435753876768572},{"$f":"'ITCER GLOBAL'!S315","v":179.69124850580408},{"$f":"'ITCER GLOBAL'!T315","v":85.82749365874534},{"$f":"'ITCER GLOBAL'!U315","v":87.117530351951217},{"$f":"'ITCER GLOBAL'!V315","v":149.4785877054216},{"$f":"'ITCER GLOBAL'!W315","v":232.23760127370113},{"$f":"'ITCER GLOBAL'!X315","v":339.3680434983408},{"$f":"'ITCER GLOBAL'!Y315","v":94.470033048687526},{"$f":"'ITCER GLOBAL'!AA315","v":206.00505307268162},{"$f":"'ITCER GLOBAL'!AB315","v":76.968280003445628},{"$f":"'ITCER GLOBAL'!AC315","v":165.66479926547916},{"$f":"'ITCER GLOBAL'!AD315","v":182.1925557378317},{"$f":"'ITCER GLOBAL'!AE315","v":199.86186124463339},{"$f":"'ITCER GLOBAL'!AF315","v":238.63782421956228},{"$f":"'ITCER GLOBAL'!AG315","v":106.82334791913175},null,{"$f":"IF(EFECTOS!$N$9=\"COSTA RICA\",LOOKUP(1,GEfectos!$C$4:$I$4,GEfectos!C315:I315),IF(EFECTOS!$N$9=\"EL SALVADOR\",LOOKUP(2,GEfectos!$C$4:$I$4,GEfectos!C315:I315),IF(EFECTOS!$N$9=\"GUATEMALA\",LOOKUP(3,GEfectos!$C$4:$I$4,GEfectos!C315:I315),IF(EFECTOS!$N$9=\"HONDURAS\",LOOKUP(4,GEfectos!$C$4:$I$4,GEfectos!C315:I315),IF(EFECTOS!$N$9=\"NICARAGUA\",LOOKUP(5,GEfectos!$C$4:$I$4,GEfectos!C315:I315),IF(EFECTOS!$N$9=\"REPÚBLICA \nDOMINICANA\",LOOKUP(6,$C$4:$I$4,C315:I315),IF(EFECTOS!$N$9=\"PANAMÁ\",LOOKUP(7,GEfectos!$C$4:$I$4,GEfectos!C315:I315))))))))","v":87.226621786993917},{"$f":"IF(EFECTOS!$N$9=\"COSTA RICA\",LOOKUP(1,GEfectos!$J$4:$P$4,GEfectos!J315:P315),IF(EFECTOS!$N$9=\"EL SALVADOR\",LOOKUP(2,GEfectos!$J$4:$P$4,GEfectos!J315:P315),IF(EFECTOS!$N$9=\"GUATEMALA\",LOOKUP(3,GEfectos!$J$4:$P$4,GEfectos!J315:P315),IF(EFECTOS!$N$9=\"HONDURAS\",LOOKUP(4,GEfectos!$J$4:$P$4,GEfectos!J315:P315),IF(EFECTOS!$N$9=\"NICARAGUA\",LOOKUP(5,GEfectos!$J$4:$P$4,GEfectos!J315:P315),IF(EFECTOS!$N$9=\"REPÚBLICA \nDOMINICANA\",LOOKUP(6,$J$4:$P$4,J315:P315),IF(EFECTOS!$N$9=\"PANAMÁ\",LOOKUP(7,GEfectos!$J$4:$P$4,GEfectos!J315:P315))))))))","v":179.69124850580408},{"$f":"IF(EFECTOS!$N$9=\"COSTA RICA\",LOOKUP(1,GEfectos!$Q$4:$W$4,GEfectos!Q315:W315),IF(EFECTOS!$N$9=\"EL SALVADOR\",LOOKUP(2,GEfectos!$Q$4:$W$4,GEfectos!Q315:W315),IF(EFECTOS!$N$9=\"GUATEMALA\",LOOKUP(3,GEfectos!$Q$4:$W$4,GEfectos!Q315:W315),IF(EFECTOS!$N$9=\"HONDURAS\",LOOKUP(4,GEfectos!$Q$4:$W$4,GEfectos!Q315:W315),IF(EFECTOS!$N$9=\"NICARAGUA\",LOOKUP(5,GEfectos!$Q$4:$W$4,GEfectos!Q315:W315),IF(EFECTOS!$N$9=\"REPÚBLICA \nDOMINICANA\",LOOKUP(6,$Q$4:$W$4,Q315:W315),IF(EFECTOS!$N$9=\"PANAMÁ\",LOOKUP(7,GEfectos!$Q$4:$W$4,GEfectos!Q315:W315))))))))","v":206.00505307268162},100]
[null,{"$f":"'ITCER GLOBAL'!B316","v":"Noviembre"},{"$f":"'ITCER GLOBAL'!C316","v":88.317150785317637},{"$f":"'ITCER GLOBAL'!D316","v":112.15897943520785},{"$f":"'ITCER GLOBAL'!E316","v":52.725004264750673},{"$f":"'ITCER GLOBAL'!F316","v":81.708959896742186},{"$f":"'ITCER GLOBAL'!G316","v":116.24162365421334},{"$f":"'ITCER GLOBAL'!H316","v":141.96473619229215},null,{"$f":"'ITCER GLOBAL'!S316","v":182.10189097124234},{"$f":"'ITCER GLOBAL'!T316","v":86.417667055358606},{"$f":"'ITCER GLOBAL'!U316","v":87.877867746014843},{"$f":"'ITCER GLOBAL'!V316","v":149.63027962542446},{"$f":"'ITCER GLOBAL'!W316","v":234.09960255964148},{"$f":"'ITCER GLOBAL'!X316","v":341.18396038073951},null,{"$f":"'ITCER GLOBAL'!AA316","v":206.19085800661497},{"$f":"'ITCER GLOBAL'!AB316","v":77.049263010885795},{"$f":"'ITCER GLOBAL'!AC316","v":166.67209224820419},{"$f":"'ITCER GLOBAL'!AD316","v":183.12591399341798},{"$f":"'ITCER GLOBAL'!AE316","v":201.39051331218755},{"$f":"'ITCER GLOBAL'!AF316","v":240.33007740640863},null,null,{"$f":"IF(EFECTOS!$N$9=\"COSTA RICA\",LOOKUP(1,GEfectos!$C$4:$I$4,GEfectos!C316:I316),IF(EFECTOS!$N$9=\"EL SALVADOR\",LOOKUP(2,GEfectos!$C$4:$I$4,GEfectos!C316:I316),IF(EFECTOS!$N$9=\"GUATEMALA\",LOOKUP(3,GEfectos!$C$4:$I$4,GEfectos!C316:I316),IF(EFECTOS!$N$9=\"HONDURAS\",LOOKUP(4,GEfectos!$C$4:$I$4,GEfectos!C316:I316),IF(EFECTOS!$N$9=\"NICARAGUA\",LOOKUP(5,GEfectos!$C$4:$I$4,GEfectos!C316:I316),IF(EFECTOS!$N$9=\"REPÚBLICA \nDOMINICANA\",LOOKUP(6,$C$4:$I$4,C316:I316),IF(EFECTOS!$N$9=\"PANAMÁ\",LOOKUP(7,GEfectos!$C$4:$I$4,GEfectos!C316:I316))))))))","v":88.317150785317637},{"$f":"IF(EFECTOS!$N$9=\"COSTA RICA\",LOOKUP(1,GEfectos!$J$4:$P$4,GEfectos!J316:P316),IF(EFECTOS!$N$9=\"EL SALVADOR\",LOOKUP(2,GEfectos!$J$4:$P$4,GEfectos!J316:P316),IF(EFECTOS!$N$9=\"GUATEMALA\",LOOKUP(3,GEfectos!$J$4:$P$4,GEfectos!J316:P316),IF(EFECTOS!$N$9=\"HONDURAS\",LOOKUP(4,GEfectos!$J$4:$P$4,GEfectos!J316:P316),IF(EFECTOS!$N$9=\"NICARAGUA\",LOOKUP(5,GEfectos!$J$4:$P$4,GEfectos!J316:P316),IF(EFECTOS!$N$9=\"REPÚBLICA \nDOMINICANA\",LOOKUP(6,$J$4:$P$4,J316:P316),IF(EFECTOS!$N$9=\"PANAMÁ\",LOOKUP(7,GEfectos!$J$4:$P$4,GEfectos!J316:P316))))))))","v":182.10189097124234},{"$f":"IF(EFECTOS!$N$9=\"COSTA RICA\",LOOKUP(1,GEfectos!$Q$4:$W$4,GEfectos!Q316:W316),IF(EFECTOS!$N$9=\"EL SALVADOR\",LOOKUP(2,GEfectos!$Q$4:$W$4,GEfectos!Q316:W316),IF(EFECTOS!$N$9=\"GUATEMALA\",LOOKUP(3,GEfectos!$Q$4:$W$4,GEfectos!Q316:W316),IF(EFECTOS!$N$9=\"HONDURAS\",LOOKUP(4,GEfectos!$Q$4:$W$4,GEfectos!Q316:W316),IF(EFECTOS!$N$9=\"NICARAGUA\",LOOKUP(5,GEfectos!$Q$4:$W$4,GEfectos!Q316:W316),IF(EFECTOS!$N$9=\"REPÚBLICA \nDOMINICANA\",LOOKUP(6,$Q$4:$W$4,Q316:W316),IF(EFECTOS!$N$9=\"PANAMÁ\",LOOKUP(7,GEfectos!$Q$4:$W$4,GEfectos!Q316:W316))))))))","v":206.19085800661497},100]
[null,{"$f":"'ITCER GLOBAL'!B317","v":"Diciembre"},{"$f":"'ITCER GLOBAL'!C317","v":88.705008925352502},{"$f":"'ITCER GLOBAL'!D317","v":113.02351167270356},{"$f":"'ITCER GLOBAL'!E317","v":53.423247105583137},{"$f":"'ITCER GLOBAL'!F317","v":81.572283776414537},{"$f":"'ITCER GLOBAL'!G317","v":116.0371355722427},{"$f":"'ITCER GLOBAL'!H317","v":141.77791884589089},null,{"$f":"'ITCER GLOBAL'!S317","v":183.39156142075504},{"$f":"'ITCER GLOBAL'!T317","v":86.971585554315993},{"$f":"'ITCER GLOBAL'!U317","v":88.772794104969691},{"$f":"'ITCER GLOBAL'!V317","v":149.89246421493772},{"$f":"'ITCER GLOBAL'!W317","v":236.09469836021248},{"$f":"'ITCER GLOBAL'!X317","v":341.53756550735864},null,{"$f":"'ITCER GLOBAL'!AA317","v":206.74318580485536},{"$f":"'ITCER GLOBAL'!AB317","v":76.949994091645806},{"$f":"'ITCER GLOBAL'!AC317","v":166.16884767323},{"$f":"'ITCER GLOBAL'!AD317","v":183.75415922617208},{"$f":"'ITCER GLOBAL'!AE317","v":203.46477633724766},{"$f":"'ITCER GLOBAL'!AF317","v":240.89616231325945},null,null,{"$f":"IF(EFECTOS!$N$9=\"COSTA RICA\",LOOKUP(1,GEfectos!$C$4:$I$4,GEfectos!C317:I317),IF(EFECTOS!$N$9=\"EL SALVADOR\",LOOKUP(2,GEfectos!$C$4:$I$4,GEfectos!C317:I317),IF(EFECTOS!$N$9=\"GUATEMALA\",LOOKUP(3,GEfectos!$C$4:$I$4,GEfectos!C317:I317),IF(EFECTOS!$N$9=\"HONDURAS\",LOOKUP(4,GEfectos!$C$4:$I$4,GEfectos!C317:I317),IF(EFECTOS!$N$9=\"NICARAGUA\",LOOKUP(5,GEfectos!$C$4:$I$4,GEfectos!C317:I317),IF(EFECTOS!$N$9=\"REPÚBLICA \nDOMINICANA\",LOOKUP(6,$C$4:$I$4,C317:I317),IF(EFECTOS!$N$9=\"PANAMÁ\",LOOKUP(7,GEfectos!$C$4:$I$4,GEfectos!C317:I317))))))))","v":88.705008925352502},{"$f":"IF(EFECTOS!$N$9=\"COSTA RICA\",LOOKUP(1,GEfectos!$J$4:$P$4,GEfectos!J317:P317),IF(EFECTOS!$N$9=\"EL SALVADOR\",LOOKUP(2,GEfectos!$J$4:$P$4,GEfectos!J317:P317),IF(EFECTOS!$N$9=\"GUATEMALA\",LOOKUP(3,GEfectos!$J$4:$P$4,GEfectos!J317:P317),IF(EFECTOS!$N$9=\"HONDURAS\",LOOKUP(4,GEfectos!$J$4:$P$4,GEfectos!J317:P317),IF(EFECTOS!$N$9=\"NICARAGUA\",LOOKUP(5,GEfectos!$J$4:$P$4,GEfectos!J317:P317),IF(EFECTOS!$N$9=\"REPÚBLICA \nDOMINICANA\",LOOKUP(6,$J$4:$P$4,J317:P317),IF(EFECTOS!$N$9=\"PANAMÁ\",LOOKUP(7,GEfectos!$J$4:$P$4,GEfectos!J317:P317))))))))","v":183.39156142075504},{"$f":"IF(EFECTOS!$N$9=\"COSTA RICA\",LOOKUP(1,GEfectos!$Q$4:$W$4,GEfectos!Q317:W317),IF(EFECTOS!$N$9=\"EL SALVADOR\",LOOKUP(2,GEfectos!$Q$4:$W$4,GEfectos!Q317:W317),IF(EFECTOS!$N$9=\"GUATEMALA\",LOOKUP(3,GEfectos!$Q$4:$W$4,GEfectos!Q317:W317),IF(EFECTOS!$N$9=\"HONDURAS\",LOOKUP(4,GEfectos!$Q$4:$W$4,GEfectos!Q317:W317),IF(EFECTOS!$N$9=\"NICARAGUA\",LOOKUP(5,GEfectos!$Q$4:$W$4,GEfectos!Q317:W317),IF(EFECTOS!$N$9=\"REPÚBLICA \nDOMINICANA\",LOOKUP(6,$Q$4:$W$4,Q317:W317),IF(EFECTOS!$N$9=\"PANAMÁ\",LOOKUP(7,GEfectos!$Q$4:$W$4,GEfectos!Q317:W317))))))))","v":206.74318580485536},100]
[2021,{"$f":"'ITCER GLOBAL'!B318","v":"Enero"},{"$f":"'ITCER GLOBAL'!C318","v":88.126498528088362},{"$f":"'ITCER GLOBAL'!D318","v":111.22604514071467},{"$f":"'ITCER GLOBAL'!E318","v":52.624017706926097},{"$f":"'ITCER GLOBAL'!F318","v":80.117900417377115},{"$f":"'ITCER GLOBAL'!G318","v":114.66623349808228},{"$f":"'ITCER GLOBAL'!H318","v":138.11481472093229},null,{"$f":"'ITCER GLOBAL'!S318","v":185.17754877434839},{"$f":"'ITCER GLOBAL'!T318","v":87.044534738906592},{"$f":"'ITCER GLOBAL'!U318","v":88.6528189932462},{"$f":"'ITCER GLOBAL'!V318","v":149.59800290673047},{"$f":"'ITCER GLOBAL'!W318","v":236.77307652397914},{"$f":"'ITCER GLOBAL'!X318","v":341.46305351356443},null,{"$f":"'ITCER GLOBAL'!AA318","v":210.12697868090964},{"$f":"'ITCER GLOBAL'!AB318","v":78.259129531023518},{"$f":"'ITCER GLOBAL'!AC318","v":168.46455830676376},{"$f":"'ITCER GLOBAL'!AD318","v":186.72232063920075},{"$f":"'ITCER GLOBAL'!AE318","v":206.48892817076705},{"$f":"'ITCER GLOBAL'!AF318","v":247.23130114861837}]
[null,{"$f":"'ITCER GLOBAL'!B319","v":"Febrero"}]
[null,{"$f":"'ITCER GLOBAL'!B320","v":"Marzo"}]
[null,{"$f":"'ITCER GLOBAL'!B321","v":"Abril"}]
[null,{"$f":"'ITCER GLOBAL'!B322","v":"Mayo"}]
[null,{"$f":"'ITCER GLOBAL'!B323","v":"Junio"}]
[null,{"$f":"'ITCER GLOBAL'!B324","v":"Julio"}]
[null,{"$f":"'ITCER GLOBAL'!B325","v":"Agosto"}]
[null,{"$f":"'ITCER GLOBAL'!B326","v":"Septiembre"}]
[null,{"$f":"'ITCER GLOBAL'!B327","v":"Octubre"}]
[null,{"$f":"'ITCER GLOBAL'!B328","v":"Noviembre"}]
[null,{"$f":"'ITCER GLOBAL'!B329","v":"Diciembre"}]

{"sheet":"METODOLOGIA","index":11,"n_rows":95,"n_cols":2,"rows_kept":95,"cut":false,"hidden":false,"merged":[[2,0,2,10]]}
["SECRETARÍA EJECUTIVA"]
["CONSEJO MONETARIO CENTROAMERICANO"]
["SECRETARÍA EJECUTIVA"]
[]
[]
[]
[]
[]
[]
[]
[]
[]
[]
[]
[]
[]
[]
[]
[]
[]
[]
[]
[]
[]
[]
[]
[]
[]
[]
[]
[]
[]
[]
[]
[]
[]
[]
[]
[]
[]
[]
[]
[]
[]
[]
[]
[]
[]
[]
[]
[]
[]
[]
[]
[]
[]
[]
[]
[]
[]
[]
[]
[]
[]
[]
[]
[]
[]
[]
[]
[]
[]
[]
[]
[]
[]
[]
[]
[]
[]
[]
[]
[]
[]
[]
[]
[]
[]
[]
[]
[]
[]
[null,"El documento metodológico se puede consultar en el siguiente enlace:"]
[]
[null,"http://www.secmca.org/nota/propuesta-de-actualizacion-del-indice-de-tipo-de-cambio-efectivo-real-itcer/"]