{"text_format":"1","workbook":"xlsx","n_sheets":12,"sheets":["PORTADA","INDICE","PRECIOS","TIPO CAMBIO","ITCER GLOBAL","ITCER RESTOM","ITCER REGION","ITCER BILATERAL","GRAFICOS","EFECTOS","GEfectos","METODOLOGIA"],"not_rendered":{"charts":5,"images":6,"macros":1,"external_links":2,"defined_names":53,"comments":4,"pivot_tables":0},"unopened":[],"bounds":{"document_bytes":16777216,"sheet_cells":100000,"rows_first":2000,"rows_last":500,"rows_between":2000,"halvings":0,"cell_chars":16384,"cell_head_chars":4096},"cells_cut":0,"cells_raw":0,"read":"whole","date_system":"1900"}

{"sheet":"PORTADA","index":0,"n_rows":0,"n_cols":0,"rows_kept":0,"cut":false,"hidden":false,"merged":[]}

{"sheet":"INDICE","index":1,"n_rows":42,"n_cols":14,"rows_kept":42,"cut":false,"hidden":false,"merged":[[10,1,10,11],[3,1,3,11],[4,1,4,11],[9,0,9,11],[41,1,41,10],[14,8,14,10],[11,1,11,11],[39,2,40,10]]}
[null,null,null,null,null,null,null,null,null,null,null,null,{"$f":"INDEX('ITCER GLOBAL'!B6:B10062,COUNT('ITCER GLOBAL'!C:C))","v":"Julio"},{"$f":"YEAR(TODAY())","v":2021}]
[]
[null,null,null,null,null,null,null,null,null,null,null,null,2017]
[null,"Secretaría Ejecutiva"]
[null,"Consejo Monetario Centroamericano"]
[]
[]
[]
[]
["  ÍNDICE DEL TIPO DE CAMBIO EFECTIVO REAL (ITCER)"]
[null,"Periodo de referencia Diciembre 2000=100"]
[null,"Ponderaciones móviles"]
[]
[]
[null,"REPORTE CORRESPONDIENTE AL MES DE",null,null,null,null,null,null,{"$f":"CONCATENATE( INDEX('ITCER GLOBAL'!B6:B10062,COUNT('ITCER GLOBAL'!C:C)), \" 2021\")","v":"Julio 2021"}]
[]
[]
[]
[null,"CONTENIDO:"]
[]
[null,null,null,"Índices de Precios"]
[]
[null,null,null,"Tipos de cambio (moneda nacional por US$)"]
[]
[null,null,null,"ITCER (incluye efecto tipo de cambio y efecto precio)"]
[null,null,null,null,"Global"]
[]
[null,null,null,null,"Resto del Mundo"]
[]
[null,null,null,null,"Región CAPARD"]
[]
[null,null,null,null,"Bilateral con USA"]
[]
[null,null,null,"Gráficos"]
[null,null,null,null,"ITCER Global, Resto del Mundo, CAPARD y Bilateral"]
[null,null,null,null,"Efecto Precio y Efecto Tipo de Cambio"]
[]
[null,null,null,"Metodología"]
[]
[null,null,"Nota: Las ponderaciones del aporte de los socios comerciales al total del comercio de cada país para 2019, están con base a la última información disponible de 2017, provenientes de la biblioteca electrónica del Fondo Monetario Internacional; por lo tanto, los datos estimados del ITCER de enero de 2019 están sujetos a cambios."]
[]
[null,"ADVERTENCIA\n\n   El Consejo Monetario Centroamericano y su Secretaría Ejecutiva autorizan la reproducción total de los gráficos y cifras de esta publicación, siempre que se mencione la fuente. No  obstante, no asumen responsabilidad legal alguna o de cualquier otra índole, por la manipulación, interpretación personal y uso de dicha información.   \nDerechos Reservados © 2019"]

{"sheet":"PRECIOS","index":2,"n_rows":336,"n_cols":19,"rows_kept":336,"cut":false,"hidden":false,"merged":[[3,0,3,18],[333,0,333,18],[4,2,4,8],[4,9,4,18],[332,0,332,18]]}
[]
["Secretaría Ejecutiva"]
["Consejo Monetario Centroamericano"]
["ÍNDICE DE PRECIOS AL CONSUMIDOR (NIVEL)"]
[null,null,"REGIÓN CAPARD 1/",null,null,null,null,null,null,"RESTO DEL MUNDO"]
["Año","MES","COSTA RICA ","EL SALVADOR ","GUATEMALA ","HONDURAS","NICARAGUA ","REPÚBLICA\nDOMINICANA","PANAMÁ","BRASIL","CANADÁ","CHINA","COLOMBIA","COREA DEL SUR","HAITÍ","JAPÓN","MÉXICO","ESTADOS UNIDOS","ZONA \nEURO"]
[null,"periodo base","Junio 2015","Diciembre 2009","Diciembre 2010","Diciembre 1999",2006,"Diciembre 2010",2013,"Diciembre 1993",2002,"Mes anterior =100 (total)","Diciembre 2008",2010,2004,2010,"2º Q de diciembre 2010","1982-84",2015]
["Año","MES","2006=100","2009=100","2010=100","1999=100","2006=100","2010=100","2015=100",null,"2002=100",null,null,null,null,"2005=100","2010=100","1982-84=100","2015=100"]
[1995,"Enero",15.69875,56.55,34.050545768222676,44.74710931403844,35.130000000000003,21.861608871493008,62.108547346853165,1033.7122222991832,86.6,71.371548919640702,26.63043,53.600999999999999,1,97.8,20.468620185776,150.30000000000001,69.426976744186035]
[null,"Febrero",15.9312,57.17,33.938049357674089,46.960346172944597,35.42,21.947226293050324,62.108547346853165,1044.2560869666347,87,72.020212025572505,27.569849999999999,53.82,1,97.5,21.336132926013999,150.9,69.786329625884733]
[null,"Marzo",15.00356055,57.81,34.100917638324049,47.62006100588777,35.619999999999997,22.126693580545474,62.283173065729045,1060.4420563146177,87.2,72.221958404143393,28.29186,54.368000000000002,1,97.4,22.593921331191002,151.4,70.001941354903934]
[null,"Abril",15.08861488,58.17,34.362748653518686,48.840178761438601,35.61,22.095880717292701,62.399590211646291,1086.210798283063,87.5,73.518305413935394,28.92475,54.695999999999998,1,97.7,24.39428249881,151.9,70.14568250758343]
[null,"Mayo",15.220586389999999,58.58,34.869639937849023,49.726892246577286,35.86,22.189965795927115,62.574215930522172,1115.2126265972208,87.7,74.127217771303705,29.40409,54.805999999999997,1,97.9,25.413863095033001,152.19999999999999,70.217553083923164]
[null,"Junio",15.447868059999999,59.09,35.310052524258055,50.1879832588494,36.520000000000003,22.330152563092401,62.690633076439418,1140.4164319583181,87.7,73.511945456016804,29.75967,54.643000000000001,1,97.8,26.220434064532,152.5,70.43316481294238]
[null,"Julio",15.70886883,60.63,35.384468703517065,50.861885507554796,36.96,22.477630923851848,62.748841649398038,1167.3302597525344,87.9,72.899234442016706,29.991510000000002,54.805999999999997,1,97.3,26.754964051499002,152.5,70.43316481294238]
[null,"Agosto",15.8833675,61.05,35.599627809580525,51.500319216854649,36.369999999999997,22.730719785378426,62.865258795315285,1178.8868293240846,87.7,74.118329691672699,30.18243,55.134999999999998,1,97.4,27.198750022412,152.9,70.505035389282099]
[null,"Septiembre",16.178096709999998,61.86,35.800002603690245,52.592750230545505,36.75,23.082597979471146,62.807050222356665,1190.5578089343931,87.8,76.0970097920207,30.436859999999999,55.628,1,98,20.855640000000001,153.19999999999999,70.092169999999996]
[null,"Octubre",16.66052268,62.14,36.301435675146031,53.571681918138616,38.159999999999997,23.24983420674382,62.690633076439418,1207.3446740403681,87.7,76.143661892045003,30.707149999999999,55.354999999999997,1,97.7,21.284759999999999,153.69999999999999,70.092169999999996]
[null,"Noviembre",17.054970749999999,62.41,36.778196516696518,54.316521245655103,39.25,23.463407335243943,62.690633076439418,1225.0926407487614,88,76.067730031560998,30.95091,55.244999999999997,1,97.4,21.809609999999999,153.6,70.163480000000007]
[null,"Diciembre",17.25145689,62.480000000000018,36.960883290715785,55.153578775626023,38.880000000000003,17.306229249077461,62.923467368273911,1244.2040859444421,87.8,76.374699360686193,31.237089999999998,55.628,1,97.4,22.52017,153.5,70.306079999999994]
[1996,"Enero",17.469939839999999,63.45000000000001,37.373812776918172,55.430233382989279,39.06,17.292899586953652,62.923467368273911,1260.8764206960977,88,77.794988265760296,32.022440000000003,56.176000000000002,1,97.3,23.329750000000001,154.4,70.97]
[null,"Febrero",17.648837870000001,63.600000000000016,37.613463488843799,57.005036532595589,39.46,17.31471176133806,62.923467368273911,1273.8634478292674,88.1,78.718091769847007,33.307290000000002,56.396999999999998,1,97.1,23.87426,154.9,71.290000000000006]
[null,"Marzo",17.74708094,63.910000000000011,38.014137695180906,57.884656309853156,39.78,17.339120623149185,63.098093087149799,1278.32196989667,88.5,79.299710285667999,34.009390000000003,56.78,1,97.3,24.399830000000001,155.69999999999999,71.540000000000006]
[null,"Abril",17.881985360000002,64.150000000000034,38.467849539665167,59.076399233879542,40.11,17.360413460048253,63.214510233067038,1294.4288267173679,88.7,80.649581613660303,34.681759999999997,57.162999999999997,1,97.9,25.093450000000001,156.30000000000001,71.66]
[null,"Mayo",18.181113929999999,64.629999999999981,38.710684004637017,60.310704405192595,40.799999999999997,17.399883108934322,63.098093087149799,1310.2208584033197,89,80.724539936877903,35.220390000000002,57.491999999999997,1,98.1,25.550840000000001,156.6,71.83]
[null,"Junio",18.42892595,65.689999999999984,38.959603474207029,61.828757891750016,40.950000000000003,17.459606919748776,63.039884514191165,1325.8124866183191,89,79.833973456340502,35.624160000000003,57.491999999999997,1,97.8,25.966899999999999,156.69999999999999,71.84]
[null,"Julio",18.64447599,65.69,39.48919130180392,63.240405760090802,41.06,17.504443055983394,63.214510233067045,1340.5290052197827,89,78.949870518734301,36.162280000000003,57.765999999999998,1,97.7,26.336030000000001,157,71.84]
[null,"Agosto",18.82337403,67.654657959752427,39.880694001019094,65.013832730368165,40.74,17.532660392687031,63.330927378984306,1346.4273328427496,89,80.121914704216195,36.561300000000003,58.039000000000001,1,97.6,26.686070000000001,157.30000000000001,71.8]
[null,"Septiembre",18.994930449999998,67.25247831801218,40.013594581626023,66.120451159821243,41.16,17.628391602485273,63.505553097860172,1348.4469738420139,89.1,81.728188880796296,36.996609999999997,58.15,1,98,27.112749999999998,157.80000000000001,71.930000000000007]
[null,"Octubre",19.241276020000001,67.277994483835087,40.162960131678034,67.092289139533221,42.22,17.668553701351804,63.796595962653299,1352.4923147635398,89.3,81.473718540098702,37.423439999999999,58.15,1,98.2,27.451170000000001,158.30000000000001,72]
[null,"Noviembre",19.4377715,66.891660514812045,40.619072212036251,68.418812513300693,42.82,17.784365960583308,63.854804535611926,1356.8202901707832,89.7,81.316402848587899,37.723979999999997,58.15,1,97.9,27.867080000000001,158.6,72.010000000000005]
[null,"Diciembre",19.647455730000001,67.080000000000013,40.97274387199095,69.177839256579404,43.59,17.989677379788937,64.378681692239553,1363.1973455345858,89.7,81.720928218823403,37.996510000000001,58.368000000000002,1,98,28.759340000000002,158.6,72.19]
[1997,"Enero",20.052159639999999,67.61,41.411426899632318,70.589487124920197,43.49,18.494646528037517,64.20405597336368,1379.283074211894,89.9,82.384892773326897,38.62612,58.808,1,97.9,29.498889999999999,159.1,72.42]
[null,"Febrero",20.178265329999999,68.54000000000002,42.375971940500321,72.29907072426758,43.48,18.47162256618731,64.20405597336368,1386.1794895829532,90.1,83.126304928380705,39.831029999999998,59.136000000000003,1,97.7,29.994599999999998,159.6,72.59]
[null,"Marzo",20.398224070000001,68.670000000000016,42.388041065609535,72.845286231113008,43.45,18.49741632795935,64.14584740040506,1393.2490049798264,90.2,82.471698632354105,40.450159999999997,59.354999999999997,1,97.8,30.367889999999999,160,72.650000000000006]
[null,"Abril",20.67095647,68.710000000000022,42.365883546308673,73.270908703979572,43.6,18.657372273445016,63.971221681529194,1405.5095962236487,90.2,83.230368212349305,41.10718,59.628999999999998,1,99.8,30.695969999999999,160.19999999999999,72.599999999999994]
[null,"Mayo",20.776531810000002,68.559999999999988,42.432666058573098,74.193090728523799,43.93,18.692167884963002,64.145847400405074,1411.2721855681657,90.3,82.984827223436099,41.774349999999998,59.683999999999997,1,100,30.976120000000002,160.1,72.8]
[null,"Junio",20.93929885,68.819999999999979,42.45385438373264,75.150741292473583,44.83,18.773357645171636,64.204055973363694,1418.8930553702339,90.5,82.069324269644696,42.276919999999997,59.792999999999999,1,100,31.250959999999999,160.30000000000001,72.83]
[null,"Julio",21.119654000000001,69.36,42.641494028609358,76.200610058877771,45.59,19.129623160116989,64.320473119280948,1422.0146200920485,90.5,81.081517358582204,42.630099999999999,59.902999999999999,1,99.6,31.523209999999999,160.5,72.900000000000006]
[null,"Agosto",21.35426794,68.894560056561374,43.090199489159261,77.144073207065333,45.33,19.24733965679475,64.320473119280948,1421.7302171680301,90.6,81.644230800356098,43.119900000000001,60.341000000000001,1,99.7,31.8035,160.80000000000001,73.02]
[null,"Septiembre",21.26922295,68.672530648295847,43.34719806294131,77.38525927502306,44.95,19.368864628365028,64.378681692239581,1422.5832552983309,90.6,83.199295945617905,43.66319,60.616999999999997,1,100.4,32.19961,161.19999999999999,73.069999999999993]
[null,"Octubre",21.305884299999999,68.447959607885139,43.568969638914048,77.179541746470875,45.18,19.431358239101314,64.087638827446455,1425.8551967855169,90.6,82.695824229181795,44.084960000000002,60.616999999999997,1,100.7,32.456940000000003,161.6,73.09]
[null,"Noviembre",21.66367103,68.371697255160711,43.730077997614664,77.775413208484082,46.49,19.462172263231668,64.029430254487835,1428.2791506200524,90.5,82.210883709638196,44.443390000000001,60.67,1,100,32.820039999999999,161.5,73.180000000000007]
[null,"Diciembre",21.848425540000001,68.38000000000001,43.892343056299588,77.945662197630696,46.75,19.494717412313165,64.087638827446455,1434.4207509677185,90.4,82.047812575867894,44.715890000000002,62.204999999999998,1,99.8,33.279870000000003,161.30000000000001,73.260000000000005]
[1998,"Enero",22.19594708,69.22,44.429284634943016,78.591189614811668,47.04,19.512894224300172,64.320473119280962,1444.6051382995895,90.9,82.632047422513594,45.517780000000002,63.685000000000002,1,99.7,34.003929999999997,161.6,73.2]
[null,"Febrero",22.420295849999999,69.40000000000002,44.684753211629463,80.541959282116764,47.69,19.501122574632394,64.145847400405074,1451.2503219357675,91,83.043178765072398,47.012819999999998,64.781999999999996,1,99.6,34.599240000000002,161.9,73.400000000000006]
[null,"Marzo",22.65637624,69.700000000000017,44.976149568821739,81.903951195289764,48.2,19.469096763036241,64.262264546322342,1456.1845730303492,91.1,83.049000566480501,48.235880000000002,64.671999999999997,1,100,35.004530000000003,162.19999999999999,73.459999999999994]
[null,"Abril",22.838207180000001,70.560000000000031,45.306233235250915,83.322692771511669,49.2,19.44607280118603,64.204055973363708,1459.679416005622,91,82.980676539613199,49.636809999999997,64.891000000000005,1,100.2,35.332039999999999,162.5,73.61]
[null,"Mayo",23.011230059999999,70.929999999999993,45.538631611231864,84.315811874866981,50.19,19.531936598762751,64.320473119280962,1466.97781308565,91.3,82.154979363923303,50.41245,64.561999999999998,1,100.5,35.613480000000003,162.80000000000001,73.760000000000005]
[null,"Junio",23.195993909999999,70.999999999999986,45.606445204326853,85.798396822018859,51.15,19.634419195870453,64.495098838156849,1467.2712086482672,91.4,81.002422918183996,51.027990000000003,64.287999999999997,1,100.1,36.034419999999997,163,73.8]
[null,"Julio",23.59043264,71.31,45.742034805877751,87.493793005604033,50.69,19.75871396736256,64.553307411115469,1465.5104831978895,91.4,79.946376143076805,51.271970000000003,64.287999999999997,1,99.5,36.381880000000002,163.19999999999999,73.83]
[null,"Agosto",24.06699279,70.434438467114404,45.807925910568272,87.621479747464008,50.43,19.804069441082522,64.553307411115469,1458.0363797335801,91.4,80.501211459092005,51.288609999999998,64.507000000000005,1,99.4,36.731630000000003,163.4,73.849999999999994]
[null,"Septiembre",23.973149079999999,69.712568974700787,45.728343406737949,87.883946939065055,50.57,19.933384474932947,64.902558848867216,1454.8286996981662,91.2,81.951306951525396,51.437350000000002,64.781999999999996,1,100.2,37.327379999999998,163.6,73.790000000000006]
[null,"Octubre",24.047928890000001,69.757920558744587,45.732665648070046,88.373412782861593,51.77,20.371705312562501,65.018975994784469,1455.1196654381058,91.6,81.786169782309599,51.620890000000003,65,1,100.9,37.862270000000002,164,73.77]
[null,"Noviembre",24.364664250000001,71.301769991121233,46.944611429967729,89.487124920195782,54.83,20.742339164602342,65.018975994784469,1453.37352183958,91.6,81.224352998300603,51.712470000000003,64.781999999999996,1,100.8,38.532789999999999,164,73.77]
[null,"Diciembre",24.547952299999999,71.260000000000019,47.174303841497597,90.139746045257851,55.38,21.019146044290203,64.960767421825835,1458.1696544616507,91.3,81.227334304442806,52.184809999999999,64.671999999999997,1,100.4,39.472969999999997,163.9,73.81]
[1999,"Enero",24.98931756,71.39,47.224555950668204,91.686174363339717,55.2,20.908007822426782,65.018975994784469,1468.3768420428821,91.5,81.640462895524806,53.337609999999998,64.617000000000004,1,99.9,40.469769999999997,164.3,73.760000000000005]
[null,"Febrero",25.171148500000001,71.220000000000013,46.993534482758598,92.473575938142858,55,20.851556201306231,65.018975994784469,1483.7947988843323,91.6,81.963617382859894,54.24344,64.891000000000005,1,99.5,41.013640000000002,164.5,73.94]
[null,"Marzo",25.077304789999999,71.070000000000007,46.772296870051008,92.750230545506128,53.95,20.960277841982851,65.135393140701737,1500.1165416720598,92,81.554118313506507,54.752220000000001,65,1,99.6,41.394680000000001,165,74.150000000000006]
[null,"Abril",25.108090990000001,70.67000000000003,46.879941519473526,93.069447400156065,54.15,21.014638662321165,65.193601713660357,1508.5171943054233,92.5,81.155101561867795,55.181370000000001,65.164000000000001,1,100.1,41.77458,166.2,74.400000000000006]
[null,"Mayo",25.311918729999999,70.199999999999989,47.236559446685312,93.80009931191033,54.88,21.004184658409947,65.193601713660357,1513.0427458883394,92.7,80.347569798494803,55.445430000000002,65.055000000000007,1,100.1,42.025880000000001,166.2,74.45]
[null,"Junio",25.66383965,70.149999999999991,47.532165705576517,94.920905157125617,55.31,20.889190615386603,65.310018859577596,1515.9175271055271,92.9,79.301372501416196,55.60033,64.671999999999997,1,99.8,42.302010000000003,166.2,74.45]
[null,"Julio",25.728354280000001,70.55,48.128260679535053,95.65155706887991,55.76,20.836920595830531,65.42643600549485,1532.4410281509772,93.1,78.827126325159796,55.773820000000001,64.451999999999998,1,99.4,42.581580000000002,166.7,74.58]
[null,"Agosto",25.880856139999999,70.534430571695779,48.572241927772865,96.438958643683051,56.66,20.895463017733327,65.484644578453469,1541.0226979086228,93.3,79.4546961236546,56.049959999999999,65.111000000000004,1,99.7,42.821249999999999,167.1,74.67]
[null,"Septiembre",26.050946110000002,70.722606195536372,48.834185159516167,97.141235723912885,57.41,20.979095049023037,65.484644578453469,1545.7998682721397,93.6,81.295696366431997,56.235390000000002,65.275000000000006,1,100,43.235019999999999,167.9,74.709999999999994]
[null,"Octubre",26.433662550000001,71.117880019178827,49.195614523968054,98.027949209051584,58.45,21.715056924372458,65.542853151412103,1564.1948867045783,93.7,81.295452779800897,56.432020000000001,65.768000000000001,1,100.2,43.508850000000002,168.2,74.739999999999995]
[null,"Noviembre",26.68147458,70.801757578841276,49.361981982155953,98.964318649358006,59.06,22.026586240926619,65.659270297329343,1579.0547381282718,93.6,80.493333333333297,56.702249999999999,65.658000000000001,1,99.6,43.895769999999999,168.3,74.84]
[null,"Diciembre",27.030462579999998,70.530000000000015,49.493418087189575,100,59.37,22.091401065176139,65.95031316212247,1588.5290665570415,93.7,80.415061098972203,57.002360000000003,65.548000000000002,1,99.3,44.335520000000002,168.3,75.09]
[2000,"Enero",27.51142209,71,49.714417993008603,100.49655955167766,59.89,22.16039749099015,65.948683322079674,1598.3779467696952,93.5,81.477181354697805,57.737290000000002,65.838999999999999,1,99.2,44.93083,168.8,75.13]
[null,"Febrero",27.910269530000001,71.350000000000009,50.104694895199444,102.01461303823507,61.16,22.170851494901363,65.89210458916385,1600.4558381004958,94.1,82.537362628469694,59.066429999999997,66.040000000000006,1,98.9,45.32938,169.8,75.37]
[null,"Marzo",28.099423399999999,71.410000000000011,50.644107190856467,102.97935731006598,61.76,22.160397490990146,66.29956459987423,1603.9768409443168,94.8,81.391010763130197,60.076970000000003,66.372,1,99.1,45.580680000000001,171.2,75.599999999999994]
[null,"Abril",28.00118033,71.470000000000027,51.129989221272098,104.3,62.13,22.175033096465846,66.241356026915597,1610.7135436762828,94.5,80.911636319495003,60.675409999999999,66.105999999999995,1,99.3,45.840020000000003,171.3,75.67]
[null,"Mayo",27.979183519999999,71.899999999999991,50.715240865663127,105.3,62.62,22.191759502723787,66.29956459987423,1610.8746150306504,94.9,80.427916970138398,60.991700000000002,65.772999999999996,1,99.4,46.011380000000003,171.5,75.760000000000005]
[null,"Junio",28.357500600000002,72.699999999999989,50.969473266946899,106.3,63.03,22.409202784077028,66.474190318750104,1614.5796266452207,95.5,79.697878935016604,60.979889999999997,66.105999999999995,1,99.2,46.283920000000002,172.4,76.040000000000006]
[null,"Julio",28.73141832,72.61,51.083867998099748,107,62.84,22.511652022406917,66.590607464667357,1640.5743586342087,95.8,79.221262442340404,60.956200000000003,66.372,1,98.9,46.464469999999999,172.8,76.14]
[null,"Agosto",28.920572190000001,72.914242660732285,50.860308743511503,107.5,62.92,22.768820518622768,66.415981745791484,1662.065882732317,95.7,79.693059804159603,61.148600000000002,66.703999999999994,1,99.2,46.71978,172.8,76.2]
[null,"Septiembre",29.03054689,73.062692429947504,50.930628342641455,107.7,63.18,23.644866046382447,66.707024610584625,1665.8886342626013,96.1,81.295696366431997,61.40907,67.569999999999993,1,99.1,47.061070000000001,173.7,76.5]
[null,"Octubre",29.21384428,73.047822488765647,51.084966302298056,108.3,63.87,23.707590069849726,66.532398891708738,1668.2208783505691,96.3,81.295452779800897,61.503050000000002,67.504000000000005,1,99.1,47.38514,174,76.52]
[null,"Noviembre",29.455790489999998,73.211817406030647,51.422182152971608,109.5,64.52,23.820493312090832,66.357773172832879,1673.559185161291,96.6,81.539746702274002,61.705030000000001,67.103999999999999,1,98.8,47.790289999999999,174.1,76.680000000000007]
[null,"Diciembre",29.80037913,73.560000000000016,52.009242916221488,110.1,65.22,24.08393421065341,66.415981745791498,1683.4331843537427,96.7,81.621286720077705,61.98903,67.37,1,98.9,48.307670000000002,174,76.959999999999994]
[2001,"Enero",30.214451539999999,74.889999999999986,52.720079545454531,111.1,65.69,24.686084835939297,66.415981745791498,1693.0287535045591,96.3,82.454908149227194,62.640439999999998,68.102999999999994,52.03,98.9,48.575479999999999,175.1,76.63]
[null,"Febrero",30.562981860000001,74.750000000000014,53.107102909482748,112.5,66.48,24.719537648455184,66.415981745791498,1700.8166857706799,96.8,82.537362628469694,63.826160000000002,68.435000000000002,52.47,98.6,48.543329999999997,175.8,76.86]
[null,"Marzo",31.085282289999999,74.90000000000002,53.388797293756411,113.5,66.489999999999995,24.614997609343053,66.532398891708752,1707.2797891766086,97.1,82.042138868657403,64.771569999999997,69.034999999999997,52.88,98.4,48.85089,176.2,77.27]
[null,"Abril",31.47529364,75.000000000000028,53.622334186393687,114.2,66.95,24.767626066446766,66.648816037626005,1717.1820119538329,97.8,82.206223193331695,65.514840000000007,69.301000000000002,53.17,98.6,49.09731,176.9,77.73]
[null,"Mayo",31.69070357,75.11999999999999,53.78291348668408,115.6,67.45,24.832440890696287,66.707024610584625,1724.2224582028437,98.6,81.795191389495798,65.78895,69.233999999999995,53.72,98.7,49.209969999999998,177.7,78.099999999999994]
[null,"Junio",31.77884959,75.22999999999999,54.178799851308987,116.3,67.88,24.692357238286029,66.241356026915639,1733.1884149854986,98.7,80.813649753176406,65.815470000000005,69.433999999999997,53.71,98.4,49.326360000000001,178,78.209999999999994]
[null,"Julio",31.972169310000002,75.2,54.64709641941181,116.9,67.61,24.633814816383232,66.299564599874259,1756.239820904806,98.4,80.409580804402395,65.887259999999998,69.566999999999993,53.69,98.1,49.1982,177.5,78.03]
[null,"Agosto",32.22640758,75.454042117098979,55.332927022739284,117.7,67.760000000000005,24.815714484438349,66.357773172832879,1768.5334996511394,98.4,80.489991098163003,66.058980000000005,69.832999999999998,54.19,98.5,49.489690000000003,177.5,77.97]
[null,"Septiembre",32.422286589999999,75.462780875497373,55.507412796384493,118.6,67.790000000000006,25.041520968920555,66.939858902419132,1773.4853934501625,98.6,81.214400744517306,66.304079999999999,69.766999999999996,55,98.3,49.950380000000003,178.3,78.180000000000007]
[null,"Octubre",32.419381710000003,74.457780458774664,55.922426879021131,118.8,67.91,25.104244992387834,66.939858902419132,1788.2053222157988,98.1,81.458044023630407,66.426910000000007,69.766999999999996,55.3,98.3,50.176139999999997,177.7,78.239999999999995]
[null,"Noviembre",32.707656649999997,75.42187226830805,56.313302343228585,119.4,68.23,25.079155383000924,66.648816037626005,1800.9015800035311,97.2,81.295127458120902,66.504549999999995,69.367999999999995,55.66,97.8,50.36515,177.4,78.19]
[null,"Diciembre",33.065321949999998,74.600000000000009,56.643266460056822,119.8,68.260000000000005,25.139788605685965,66.415981745791498,1812.6074402735539,97.4,81.376423080035593,66.728930000000005,69.501000000000005,56.28,97.7,50.434899999999999,176.7,78.540000000000006]
[2002,"Enero",33.435456780000003,75.519999999999982,57.385159090909077,120.2,68.430000000000007,25.281963058878464,66.939858902419132,1822.0329989629765,97.6,81.620551913895,67.260019999999997,69.900000000000006,56.55,97.5,50.900469999999999,177.1,78.63]
[null,"Febrero",33.585184519999999,75.760000000000019,57.891995150862058,121.5,68.98,25.292417062789674,66.881650329460513,1828.5923177592433,98.2,82.518378247147396,68.105199999999996,70.233000000000004,56.97,97,50.867750000000001,177.8,78.760000000000005]
[null,"Marzo",33.847661090000003,76.200000000000017,58.261708170850675,122.2,69.180000000000007,25.580947570739166,67.11448462129502,1839.5638716657988,98.9,81.445639718378203,68.587609999999998,70.632000000000005,57.66,97.2,51.127949999999998,178.8,79.209999999999994]
[null,"Abril",33.906664839999998,76.480000000000032,58.58409042439753,123.1,69.569999999999993,25.754484035665314,67.11448462129502,1854.2803826391253,99.5,81.201302095977994,69.215180000000004,71.031999999999996,57.85,97.5,51.407229999999998,179.8,79.56]
[null,"Mayo",34.119328670000002,76.45999999999998,58.791418049847877,123.7,69.89,25.662488801246631,66.998067475377766,1858.1743714426675,99.7,80.957698470502606,69.62961,71.298000000000002,58.12,97.8,51.511429999999997,179.8,79.709999999999994]
[null,"Junio",34.336541320000002,76.95999999999998,59.130150284105966,125.1,70.010000000000005,25.691760012198028,67.0562760483364,1865.9787038027266,99.9,80.229079064497896,69.928200000000004,71.230999999999995,58.62,97.7,51.76258,179.9,79.67]
[null,"Julio",34.840104770000003,77.09,59.61879647431833,126.1,70.12,25.794209250527921,67.172693194253654,1888.1838503779791,100.5,79.667475924577204,69.944000000000003,71.031999999999996,59.21,97.3,51.911180000000002,180.1,79.59]
[null,"Agosto",35.253000270000001,76.793936318489301,59.608109465891054,126.9,70.2,26.024197336574609,67.405527486088147,1900.4570454054358,100.9,79.906478109573499,70.010009999999994,71.498000000000005,60.07,97.6,52.108559999999997,180.7,79.64]
[null,"Septiembre",35.393041949999997,76.532820307471709,59.449567663775056,127.1,70.53,26.390087473467077,67.347318913129527,1914.1403361323551,100.9,80.705542607428995,70.262200000000007,71.897999999999996,60.8,97.6,52.421979999999998,181,79.84]
[null,"Octubre",35.625927900000001,76.627715774320478,59.614877644770687,127.8,70.58,27.157411360550139,67.5219446320054,1939.215574535689,101.2,80.866953953224893,70.655050000000003,71.697000000000003,62.15,97.4,52.653030000000001,181.3,80.03]
[null,"Noviembre",35.9939331,76.481898582341557,59.886191030871551,128.6,70.44,27.28704100904919,67.589466576637406,1997.7798848866669,101.5,80.786087238002807,71.204920000000001,71.763999999999996,63.1,97.4,53.078879999999998,181.3,79.97]
[null,"Diciembre",36.267020440000003,76.69,60.226703296984489,129.5,70.900000000000006,27.782560794440705,67.454422687373395,2039.7332624692867,101.1,81.028445415553904,71.395129999999995,72.096000000000004,64.83,97.4,53.309930000000001,180.9,80.36]
[2003,"Enero",36.501961299999998,77.59999999999998,60.94247727272726,130.6,71.569999999999993,28.696240736280757,67.589466576637406,2085.6272608748454,102,81.919758031884797,72.233410000000006,72.563999999999993,69.260000000000005,97.1,53.525440000000003,181.7,80.3]
[null,"Febrero",36.798670680000001,77.79000000000002,61.366242995689639,132.30000000000001,72.62,29.837817963385262,67.589466576637406,2118.3716088705805,102.8,82.657035688273893,73.035579999999996,72.962000000000003,71.75,96.8,53.674120000000002,183.1,80.62]
[null,"Marzo",37.036899390000002,78.02000000000001,61.626460932302109,132.80000000000001,72.77,30.36679056129266,67.656988521269412,2144.4275796596885,103.1,82.161094116694997,73.800349999999995,73.828000000000003,74.069999999999993,97.1,54.012929999999997,184.2,81.08]
[null,"Abril",37.393462509999999,77.990000000000023,61.907530923437832,133.5,72.62,30.454604194146849,67.656988521269412,2165.2285271823876,102.4,81.996771870195005,74.647279999999995,73.694999999999993,75.67,97.4,54.105139999999999,183.8,81.209999999999994]
[null,"Mayo",37.589705799999997,77.889999999999986,62.062808880824015,133.69999999999999,73.17,30.818403530257079,67.5219446320054,2178.4364211982002,102.5,81.422794367564904,75.012960000000007,73.561999999999998,76.709999999999994,97.6,53.93056,183.5,81.150000000000006]
[null,"Junio",37.841562250000003,78.149999999999991,62.229945302957866,134.1,73.98,32.401139722414783,67.589466576637406,2175.1687665664031,102.5,80.445720644169299,74.971950000000007,73.361999999999995,77.900000000000006,97.3,53.975110000000001,183.7,81.25]
[null,"Julio",38.145164899999997,77.86,62.390675270620804,134.6,73.92,33.586623765946378,67.656988521269412,2179.519104099536,102.6,80.043491947883794,74.864649999999997,73.296000000000006,78.7,97.1,54.053339999999999,183.9,81.13]
[null,"Agosto",38.30342984,78.103832888505195,62.567451084082485,135.80000000000001,73.87,34.615297750809781,67.724510465901417,2186.9294690534743,102.9,80.603796228858101,75.095910000000003,73.628,81.37,97.3,54.215490000000003,184.6,81.25]
[null,"Septiembre",38.353485419999998,78.162880376740986,62.824842741527654,136.4,74.03,35.135907145588206,67.589466576637406,2203.9875189120917,103.1,81.571042324188696,75.261219999999994,74.293999999999997,84.15,97.4,54.538240000000002,185.2,81.540000000000006]
[null,"Octubre",38.801015390000003,78.407662715182951,63.094102380385415,137,74.319999999999993,36.047496286646016,67.386900742741389,2210.3790827169364,102.8,82.305181678400899,75.306579999999997,74.36,85.44,97.4,54.738210000000002,185,81.66]
[null,"Noviembre",39.352075130000003,78.461947734970167,63.381069048478651,137.9,74.930000000000007,38.215656697831676,67.454422687373395,2217.8943715981741,103.1,83.128233389981403,75.568889999999996,74.227000000000004,86.72,96.9,55.192540000000001,184.5,81.7]
[null,"Diciembre",39.845803070000002,78.62,63.752929966704301,138.30000000000001,75.5,39.633219628192208,67.319378798109383,2229.4274223304847,103.2,83.627002508699505,76.029129999999995,74.561000000000007,88.05,97,55.429810000000003,184.3,81.95]
[2004,"Enero",40.524145400000002,79.489999999999966,64.728628787878762,139.6,76.69,43.292120997116896,67.589466576637406,2246.3710707401965,103.3,84.546899732944894,76.702879999999993,75.027000000000001,89.24,96.8,55.774320000000003,185.2,81.75]
[null,"Febrero",41.047940310000001,79.840000000000018,65.209759698275846,141.19999999999999,77.650000000000006,48.163686819742338,67.589466576637406,2260.0739342717116,103.5,84.377806101804595,77.622879999999995,75.358999999999995,90.63,96.8,56.107939999999999,186.2,81.94]
[null,"Marzo",41.237439780000003,80.350000000000009,65.672485118406001,141.69999999999999,78.02,49.292719242153375,67.454422687373395,2270.6962817627882,103.9,84.6309395484341,78.38691,76.090999999999994,93.29,97,56.298070000000003,187.4,82.46]
[null,"Abril",41.614206340000003,81.030000000000015,66.026724781403288,143.19999999999999,78.67,49.63561057044118,67.454422687373395,2279.0978580053106,104.1,85.054094035769197,78.744450000000001,76.090999999999994,97.44,97,56.383029999999998,188,82.88]
[null,"Mayo",41.8932529,81.59999999999998,66.572023269466811,144.30000000000001,79.37,50.940270258560602,67.656988521269412,2290.721257081138,105,84.969040220118202,79.044330000000002,76.025000000000006,98.81,97.1,56.241599999999998,189.1,83.14]
[null,"Junio",42.339914210000003,81.72999999999999,66.838029844405469,145.19999999999999,79.62,51.954308637948301,67.92707629979742,2306.9853780064145,105.1,84.374256696609194,79.521330000000006,76.025000000000006,99.34,97.3,56.33175,189.7,83.18]
[null,"Julio",42.888937730000002,81.99,67.15435440272789,147.1,80.11,52.274201157631431,67.99459824442944,2327.9789449462733,105,84.205507809338798,79.496750000000006,76.491,99.57,97,56.479390000000002,189.4,83]
[null,"Agosto",43.303421110000002,82.163512334508667,67.357527763088299,147.6,80.290000000000006,52.558550064016444,68.197164078325457,2344.0419996664023,104.8,84.794946993606899,79.520740000000004,77.156000000000006,100,97.1,56.828040000000001,189.5,83.17]
[null,"Septiembre",43.639678050000001,82.343034419407033,67.879954260134028,147.80000000000001,80.77,51.962671841077281,68.062120189061446,2351.7773382653018,105,85.727691187181406,79.756299999999996,77.156000000000006,102.4,97.4,57.297919999999998,189.9,83.26]
[null,"Octubre",43.967229670000002,82.687535134784838,68.544367736027027,149.1,81.87,52.663090103128575,68.129642133693451,2362.1251585536688,105.2,85.727691187181406,79.748369999999994,77.156000000000006,103,97.9,57.694749999999999,190.9,83.59]
[null,"Noviembre",44.58240241,82.712053239349771,69.22666858983338,150.4,82.57,51.793316977715619,68.129642133693451,2378.423822147689,105.6,85.470508213967804,79.96987,76.691000000000003,103.6,97.7,58.186900000000001,191,83.53]
[null,"Diciembre",45.077139109999997,82.84,69.635175340528946,151,82.48,51.023902289850305,68.39972991222146,2398.878267018159,105.4,85.555978797442805,80.208849999999998,76.823999999999998,104.9,97.2,58.307090000000002,190.3,83.85]
[2005,"Enero",45.960915759999999,84.029999999999973,70.579481060606042,152.19999999999999,82.97,51.425336040040911,68.669817690749497,2412.7917609668643,105.3,86.069314558549806,56.445903162217,77.58,107,97,58.309159999999999,190.7,83.32]
[null,"Febrero",46.463507800000002,84.110000000000014,71.102458512931022,154,83.99,51.446244047863331,69.007427413909525,2427.0272323565687,105.7,87.618561948693099,57.023042594540001,77.894999999999996,108.1,96.7,58.503430000000002,191.8,83.62]
[null,"Marzo",46.851053270000001,84.170000000000016,71.429488683980551,155.19999999999999,84.81,51.408609633782959,69.480081026333565,2441.8320984739439,106.3,86.829995144452496,57.464121860613503,78.364999999999995,109.2,97,58.767119999999998,193.3,84.25]
[null,"Abril",47.299984309999999,84.590000000000018,71.88825442525058,156.6,86.24,51.569601294015641,69.682646860229568,2463.0760377306669,106.6,86.569504734158798,57.716212425706601,78.444000000000003,110.32,97.1,58.976410000000001,194.6,84.6]
[null,"Mayo",47.948736029999999,85.199999999999989,72.246248065325275,157.19999999999999,86.96,51.414882036129683,69.480081026333565,2475.1451103155468,106.7,86.396365622724005,57.951608958633102,78.364999999999995,112.31,97.2,58.828249999999997,194.4,84.78]
[null,"Junio",48.16774204,85.22999999999999,72.720358982528779,158.30000000000001,87.59,51.444153247081083,69.547602970965556,2474.6500812934837,106.9,85.705195435785399,58.1839838556836,78.129000000000005,113.71,96.8,58.77178,194.5,84.87]
[null,"Julio",48.785474069999999,85.370000000000019,73.400182609780956,159.69999999999999,88.32,51.751500962070764,69.817690749493579,2480.8367064967174,107.1,85.705195435785399,58.212300262295301,78.444000000000003,114.79,96.7,59.001800000000003,195.4,84.78]
[null,"Agosto",49.395042519999997,85.593241521649517,73.671483342147013,161,88.9,52.443556020993086,69.817690749493579,2485.054128897762,107.5,85.876605163065506,58.213195794480299,78.679000000000002,116,96.8,59.072249999999997,196.4,84.98]
[null,"Septiembre",49.479797949999998,85.953167456254974,74.29245683466246,161.6,89.5,54.153831060867596,70.42538825118163,2493.7518183489042,108.4,86.477741361171795,58.462238199751098,79.070999999999998,117.6,97.1,59.309010000000001,198.8,85.42]
[null,"Octubre",50.094260810000002,87.587389073114082,75.597583176064205,161.69999999999999,90.33,54.755981686153476,70.830519918973664,2512.4549569865212,107.9,86.823652990208004,58.596748809141097,78.914000000000001,118.7,97.1,59.45458,199.2,85.64]
[null,"Noviembre",50.907937220000001,86.472146579695035,75.628744244110635,162,90.07,54.296005514060084,70.42538825118163,2526.2734592499473,107.7,86.563182002104099,58.663731545388501,78.599999999999994,120.1,96.7,59.882489999999997,197.6,85.45]
[null,"Diciembre",51.42172849,86.37,75.600635503019575,162.69999999999999,90.39,54.818705709620758,70.695476029709653,2535.3680437032472,107.6,86.909434328720593,58.7037122063605,78.835999999999999,121,96.8,60.250309999999999,196.8,85.74]
[2006,"Enero",52.025636609999999,86.82999999999997,76.284712121212095,163.30000000000001,91.49,55.667570827211293,70.762997974341658,2550.36,108.2,88.039257101238206,59.021600306103103,79.305999999999997,122.5,96.9,60.603630000000003,198.3,85.35]
[null,"Febrero",52.486317970000002,87.260000000000019,76.267021551724127,164.44309999999999,92.8,55.600665202179528,70.627954085077647,2560.8200000000002,108,88.479452941652497,59.4097908233651,79.463999999999999,124.6,96.6,60.696359999999999,198.7,85.59]
[null,"Marzo",52.574660139999999,87.570000000000007,76.630033910335158,164.8,93.41,55.652935221735596,70.89804186360567,2571.83,108.6,87.6831383021769,59.827050887712502,79.933999999999997,125.9,96.8,60.772509999999997,199.8,86.09]
[null,"Abril",52.80051271,88.160000000000011,77.266090850927711,165.7,94.73,55.983281745329933,71.708305199189738,2577.23,109.2,87.858504491381396,60.094937858791297,80.013000000000005,127,97,60.861620000000002,201.5,86.66]
[null,"Mayo",53.637381519999998,88.269999999999982,77.748841863692149,166.8,95.58,56.30317426501307,71.640783254557718,2579.81,109.7,87.770645787812597,60.291943073524799,80.168999999999997,128.30000000000001,97.3,60.590679999999999,202.5,86.89]
[null,"Junio",54.150107970000001,89,78.212613244118714,167.3,95.91,56.729697624590571,71.775827143821729,2574.39,109.5,87.331792506271796,60.475413397689103,80.013000000000005,128.5,97.3,60.643000000000001,202.9,86.96]
[null,"Julio",54.652419799999997,90.110000000000028,78.564302018276962,168.2,96.42,57.237762214675548,71.775827143821729,2579.2800000000002,109.6,87.069797685522403,60.725243145364203,80.325999999999993,129.30000000000001,97,60.809289999999997,203.5,86.85]
[null,"Agosto",55.131815160000002,89.622923336278575,78.825626652564779,168.8,96.59,57.346483855352155,71.843349088453749,2580.5700000000002,109.8,87.331006716840605,60.963500076493602,80.796999999999997,130.19999999999999,97.7,61.119610000000002,203.9,86.93]
[null,"Septiembre",55.041153940000001,89.593301598672284,78.525852694894553,168.8,96.2,56.715062019114868,71.573261309925726,2585.9899999999998,109.2,87.767662053896601,61.137972500893902,81.031999999999996,132.19999999999999,97.7,61.736609999999999,202.9,86.93]
[null,"Octubre",55.14646656,89.237339889082094,78.508784168669493,169,96.63,56.773604441017682,71.775827143821729,2594.52,109,87.855429311321501,61.049566792063899,80.64,132.69999999999999,97.5,62.006520000000002,201.8,87]
[null,"Noviembre",55.705896559999999,89.802229245479509,78.957199498974546,169.9,97.36,57.137403777127886,71.843349088453749,2602.56,109.2,88.118995710933106,61.1942444488486,80.248000000000005,133,97,62.331859999999999,201.5,87.03]
[null,"Diciembre",56.272708129999998,90.59,79.97981375656542,171.3,98.93,57.559745535140912,72.248480756245769,2615.0500000000002,109.4,89.352661649267603,61.3324118728275,80.483000000000004,133.5,97.1,62.692419999999998,201.8,87.37]
[2007,"Enero",56.808539469999999,91.639999999999972,81.033003787878769,172.4,99.8,58.097081336177283,72.383524645509794,2626.56,109.4,89.978130614226799,61.8025523100032,80.64,134.19999999999999,96.9,63.016210000000001,202.416,86.92]
[null,"Febrero",57.009262939999999,91.44,81.317163254310344,173.9807998,100.98,58.274799402667909,72.586090479405797,2638.12,110.2,90.877911305333001,62.526884986012703,81.188999999999993,135.30000000000001,96.4,63.192349999999998,203.499,87.17]
[null,"Marzo",57.421263770000003,92.000000000000014,82.012598219612187,175.2,102.11,58.734775574761301,73.193787981093848,2647.88,111.1,90.605277980092197,63.285330248886801,81.66,136,96.7,63.32911,205.352,87.75]
[null,"Abril",57.952142039999998,92.070000000000007,82.2122440818938,176.2,103.14,59.21147815311263,73.666441593517888,2654.5,111.6,90.514672655175204,63.8546793189985,81.972999999999999,137.19999999999999,97,63.291289999999996,206.68600000000001,88.31]
[null,"Mayo",58.555518749999997,91.689999999999984,81.998009286438588,176.9,103.93,59.840809188567682,74.071573261309922,2661.93,112.1,90.786216719268396,64.045981187290806,82.052000000000007,139,97.3,62.982529999999997,207.94900000000001,88.52]
[null,"Junio",58.888652980000003,92.3,82.368210928787619,177.6,104.98,60.081251278525592,74.40918298446995,2669.38,111.9,91.1493614955086,64.124389462382297,82.052000000000007,140.19999999999999,97.1,63.058169999999997,208.352,88.61]
[null,"Julio",59.43582481,92.960000000000008,82.953543489345066,178.8,105.83,60.235970536411557,74.746792707629979,2675.79,112,91.969705430120598,64.230167658003793,82.366,139.5,97,63.326000000000001,208.29900000000001,88.39]
[null,"Agosto",59.852595860000001,92.812671472424157,83.719722369116866,180.1,106.12,59.849172391696662,74.88183659689399,2688.37,111.7,93.073342235170401,64.144427605771398,82.444000000000003,140.1,97.5,63.584000000000003,207.917,88.45]
[null,"Septiembre",60.231581130000002,93.45344384859834,84.28306303552958,180.8,107.32,60.578861864699348,75.286968264686024,2693.21,111.9,93.352562110544596,64.197929197340798,82.915000000000006,142.6,97.5,64.077709999999996,208.49,88.78]
[null,"Octubre",60.575075079999998,94.107194721666474,84.56752380542757,183,109.53,60.867392372648837,75.692099932478044,2701.29,111.6,93.632620377114193,64.201739571618404,83.072000000000003,143.5,97.8,64.32741,208.93600000000001,89.21]
[null,"Noviembre",61.3269868,95.392368014769389,86.165385410289176,186.2,114.24,61.962971982543998,76.502363268062112,2711.55,111.9,94.288048069919896,64.506122794730999,83.072000000000003,145.30000000000001,97.6,64.781220000000005,210.17699999999999,89.69]
[null,"Diciembre",62.353269279999999,94.99,86.975056928797201,186.5,115.62,62.669662646942022,76.83997299122214,2731.62,112,95.230929028081206,64.824717967040598,83.385999999999996,146.80000000000001,97.8,65.049059999999997,210.036,90.05]
[2008,"Enero",62.809045070000003,95.989999999999981,87.830393939393915,187.7,117.05,63.353354502735378,77.920324105334231,2746.37,111.8,96.373699927166797,65.508879428464198,83.777000000000001,149,97.6,65.350560000000002,211.08,89.7]
[null,"Febrero",63.507873689999997,96.76,88.442491918103457,189.7,119.51,63.332446494912958,78.663065496286293,2759.83,112.2,98.879416525046494,66.498597448622505,84.091999999999999,151.4,97.4,65.544839999999994,211.69300000000001,90.02]
[null,"Marzo",63.758005519999998,97.510000000000019,89.475380619431064,191.4,121.42,64.415481300114649,79.608372721134373,2773.08,112.6,98.187259852715101,67.035588700313099,84.876000000000005,158.19999999999999,97.9,66.019890000000004,213.52799999999999,90.9]
[null,"Abril",64.295715909999998,98.320000000000007,90.736686926850098,193.3,123.1,65.626054953033147,79.945982444294401,2788.33,113.5,98.285447114995605,67.5122756662211,85.346999999999994,159.9,97.8,66.17013,214.82300000000001,91.19]
[null,"Mayo",65.521139360000006,99.389999999999986,92.035822170037889,196.8,126.53,65.845589035168643,80.621201890614444,2810.36,114.6,97.892305575787006,68.141286165418094,86.052000000000007,160.69999999999999,98.6,66.09863,216.63200000000001,91.76]
[null,"Junio",66.436981349999996,100.63,93.534754394349733,199.2,129.22,67.413689621850651,81.566509115462523,2831.16,115.4,97.696521000242797,68.728779010758103,86.600999999999999,162.30000000000001,99,66.372169999999997,218.815,92.11]
[null,"Julio",67.857763879999993,101.92000000000002,94.696324581373233,203.4,130.84,68.505087630181322,81.904118838622551,2846.16,115.8,97.794217852229494,69.060012843453194,87.228999999999999,165,99.2,66.742059999999995,219.964,91.97]
[null,"Agosto",69.071477709999996,101.99194667299359,95.177419354838705,205.3,131.5,68.567811653648604,82.241728561782566,2854.13,115.6,97.696423080035601,69.192123733706694,87.072000000000003,166.5,99.5,67.127489999999995,219.08600000000001,91.84]
[null,"Septiembre",69.728186629999996,101.5637427208523,95.027775378575626,205.6,131.78,69.410404368892401,82.849426063470631,2861.55,115.7,97.696423080035601,69.060099395277803,87.150999999999996,170.9,99.5,67.584940000000003,218.78299999999999,92.01]
[null,"Octubre",70.451131739999994,101.07698695639196,95.499258325998781,206.9,131.75,68.68489649745419,82.849426063470631,2874.43,114.5,97.403334142591206,69.299152044794496,87.072000000000003,169.4,99.4,68.045490000000001,216.57300000000001,92.04]
[null,"Noviembre",71.321735910000001,100.4424933787969,95.511063680586716,206.5,131.86000000000001,66.433104054978841,82.376772451046591,2884.78,114.1,96.624107793153698,69.492506726926507,86.837000000000003,165.4,98.6,68.818939999999998,212.42500000000001,91.59]
[null,"Diciembre",71.02182818,100.19,95.150909915227217,206.7,131.55000000000001,65.500606906098611,82.039162727886563,2892.86,113.3,96.430859431900899,69.799858538022704,86.837000000000003,161.69999999999999,98.2,69.295559999999995,210.22800000000001,91.47]
[2009,"Enero",71.28887512,99.649999999999991,94.752602272727259,206.6,131.63,65.684597374935976,81.769074949358526,2906.74,113,97.298736748401694,70.211208648347693,86.915999999999997,161,97.6,69.456149999999994,211.143,90.71]
[null,"Febrero",71.604114300000006,99.53,94.189563577586213,208.2,132.38999999999999,65.885314250031271,82.039162727886563,2922.73,113.8,97.298736748401694,70.798893443298596,87.543000000000006,160.30000000000001,97.3,69.609499999999997,212.19300000000001,91.08]
[null,"Marzo",71.614215680000001,100.00000000000001,93.947849514096035,208.2,131.69,65.987763488361153,82.579338284942594,2928.57,114,97.006840657117394,71.152107251447305,88.17,159.80000000000001,97.6,70.009950000000003,212.709,91.42]
[null,"Abril",71.850932169999993,100.08000000000001,94.023720409468979,208.9,131.57,66.081849523562084,82.916948008102622,2942.63,113.9,96.812826737881394,71.380638968286604,88.405000000000001,160,97.7,70.254990000000006,213.24,91.75]
[null,"Mayo",71.761195209999997,100.36,94.14740353311629,208.9,131.71,66.157118351722815,82.646860229574614,2956.46,114.7,96.522388929351806,71.390687355921699,88.405000000000001,160.1,97.5,70.050359999999998,213.85599999999999,91.8]
[null,"Junio",71.882203399999995,100.4,94.112065211619125,210,131.75,67.587226086776809,83.051991897366634,2967.1,115.1,96.039776644816698,71.350687150989302,88.326999999999998,160.6,97.3,70.179349999999999,215.69300000000001,91.98]
[null,"Julio",72.541793190000007,99.990000000000009,94.410295812524012,211.5,130.94,67.668767317284264,83.457123565158668,2974.22,114.7,96.039776644816698,71.322941707220494,88.641000000000005,160.9,97,70.370509999999996,215.351,91.38]
[null,"Agosto",73.016603439999997,99.792120372203527,94.480491803278682,211.7,131.34,68.245828333183255,83.72721134368669,2978.68,114.7,96.519975560411098,71.354392127480594,88.954999999999998,161.9,97.3,70.538889999999995,215.834,91.69]
[null,"Septiembre",73.098725770000001,99.733675281120526,95.058979770665786,211.9,131.79,68.321097161343999,83.254557731262651,2985.83,114.7,96.906045156591404,71.276208607933498,89.034000000000006,162.9,97.3,70.892719999999997,215.96899999999999,91.71]
[null,"Octubre",73.269280249999994,99.027048063825646,94.875182140238294,212.4,132.31,68.477907220012199,83.457123565158668,2994.19,114.6,96.811523832645406,71.185193780391401,88.798000000000002,163.5,96.9,71.107190000000003,216.17699999999999,91.92]
[null,"Noviembre",73.152242920000006,100.41249263406,94.928584010985531,212.9,132.47,69.209687493797134,83.524645509790673,3006.47,115.2,97.102856680423997,71.138450211125701,88.954999999999998,164.1,96.7,71.476039999999998,216.33,92.03]
[null,"Diciembre",73.896110910000004,100,94.885662776354494,212.8,132.77841100000001,69.276593118828899,83.592167454422679,3017.59,114.8,98.073966173019301,71.197117690225497,89.269000000000005,165,96.5,71.771860000000004,215.94900000000001,92.32]
[2010,"Enero",75.097876040000003,100.44,96.11,214,134.06576799999999,70.186091459104475,84.267386900742736,3040.22,115.1,98.656631868576497,71.685380264673498,89.974000000000004,170.8,96.6,72.552049999999994,216.68700000000001,91.57]
[null,"Febrero",75.613550529999998,100.57,96.53,215.5,136.02094099999999,70.284359095869888,84.469952734638753,3063.93,115.6,99.846240997005694,72.279252817083901,90.156000000000006,168.6,96.6,72.971670000000003,216.74100000000001,91.85]
[null,"Marzo",75.79764849,100.89,97.64,216.5,137.51636999999999,70.888600521938031,84.807562457798781,3079.86,115.6,99.142186614874205,72.460955808829993,90.337999999999994,169.5,96.8,73.489720000000005,217.631,92.87]
[null,"Abril",75.842994149999996,100.71,97.55,217.6,137.94896,71.141587416589388,85.077650236326804,3097.42,116,99.344501092498206,72.794576098688495,90.701999999999998,170.1,96.9,73.255560000000003,218.00899999999999,93.25]
[null,"Mayo",76.234059889999997,100.5,97.45,218,137.86851999999999,71.384120307329539,85.280216070222821,3110.74,116.3,99.247390143238604,72.869757526319802,90.793000000000006,170.4,96.8,72.793980000000005,218.178,93.35]
[null,"Junio",76.419339239999999,100.96,97.94,218.9,137.85341599999998,71.262853861959456,85.347738014854826,3110.74,116.2,98.6485392894716,72.952605770412902,90.701999999999998,170.8,96.6,72.771190000000004,217.965,93.35]
[null,"Julio",76.663671199999996,100.98,98.3,220.3,139.055419,71.507477553481849,86.293045239702892,3111.05,116.8,99.045075665614604,72.921861724721296,90.884,170.6,96.1,72.929190000000006,218.011,92.95]
[null,"Agosto",76.818025219999996,100.81,98.35,221.3,138.35443699999999,71.664287612150048,86.765698852126931,3112.29,116.7,99.635833940276797,73.003703454854303,91.34,170.6,96.2,73.131749999999997,218.31200000000001,93.14]
[null,"Septiembre",76.754197410000003,101.11,98.63,222.6,138.94101800000001,72.216259018662114,86.765698852126931,3126.29,116.9,100.234684794044,72.904612085680796,92.067999999999998,170.5,96.4,73.515110000000007,218.43899999999999,93.43]
[null,"Octubre",77.118047290000007,101.78,99.15,224.7,141.915796,72.703415600924671,86.900742741390943,3149.74,117.4,100.93873917617501,72.840301986016797,92.067999999999998,171,96.7,73.96893,218.71100000000001,93.71]
[null,"Noviembre",77.623940660000002,102.24,99.92,226.6,144.11400699999999,72.929222085406877,87.10330857528696,3175.88,117.5,102.04742251355501,72.981634833580301,91.613,172.5,96.4,74.561580000000006,218.803,93.79]
[null,"Diciembre",78.200053749999995,102.13,100,226.6,145.034368,73.59827833572453,87.711006076975011,3195.89,117.5,102.557254997168,73.454936506349298,91.977000000000004,175.2,96.2,74.930949999999996,219.179,94.36]
[2011,"Enero",78.729062110000001,102.77,100.82,227.6,144.81706599999998,74.513620123385948,88.318703578663062,3222.42,117.8,90.184229999999999,74.122234321950103,93.07,177.2,96.1,75.295990000000003,220.22300000000001,93.68]
[null,"Febrero",79.072367319999998,102.96,101.58,229.2,145.84598699999998,75.409531965566714,88.65631330182309,3248.2,118.1,91.33717,74.568876636749096,93.706999999999994,179.4,96.1,75.578460000000007,221.309,94.08]
[null,"Marzo",79.271517930000002,103.63,102.52,230.8,146.78625400000001,76.280935581061698,89.466576637407158,3273.86,119.4,91.153829999999999,74.769883477372602,94.072000000000003,181.7,96.3,75.72345,223.46700000000001,95.35]
[null,"Abril",79.393888630000006,106.71,103.17,233.4,147.761551,76.947000000000003,90.411883862255237,3299.07,119.8,91.245500000000007,74.858994862772306,94.162999999999997,183.5,96.5,75.717439999999996,224.90600000000001,95.88]
[null,"Mayo",79.927706240000006,107.23,103.68,234.8,149.29660237392181,77.116276040172167,90.749493585415252,3314.58,120.6,91.33717,75.072202718668194,94.344999999999999,184.7,96.4,75.159260000000003,225.964,95.89]
[null,"Junio",80.374776389999994,107.29,104.23,235.8,150.28055699999999,77.903777618364416,90.884537474679263,3319.55,119.8,91.612170000000006,75.310864488977103,94.527000000000001,186.7,96.3,75.155510000000007,225.72200000000001,95.88]
[null,"Julio",80.645480280000001,107.57,105.22,237.4,150.81451099999998,78.566162123385936,90.952059419311269,3324.86,120,92.014049999999997,75.415515416883196,94.981999999999999,186.8,96.3,75.516109999999998,225.922,95.33]
[null,"Agosto",80.852365129999995,107.69,105.85,238.3,151.76786899999999,78.95623299856527,91.357191087103317,3337.16,120.3,92.275450000000006,75.392161082214997,95.62,187,96.4,75.635549999999995,226.54499999999999,95.51]
[null,"Septiembre",80.726004110000005,107.4,105.78,237.8,152.13466099999999,79.125509038737434,92.032410533423359,3354.85,120.6,92.711129999999997,75.624934536457701,95.528999999999996,188.2,96.4,75.821110000000004,226.88900000000001,96.21]
[null,"Octubre",80.917132429999995,107.32,105.74,238,152.78457599999999,79.147588522238152,92.234976367319362,3369.28,120.8,92.798259999999999,75.768445139607607,95.346999999999994,188.8,96.5,76.332710000000006,226.42099999999999,96.55]
[null,"Noviembre",81.160047789999993,107.48,105.97,238.9,154.69540000000001,79.221186800573875,93.045239702903444,3386.8,120.9,92.623990000000006,75.873877825929299,95.438000000000002,189.2,95.9,77.158330000000007,226.23,96.63]
[null,"Diciembre",81.903411739999996,107.29,106.2,239.3,156.56521100000001,79.309504734576748,93.247805536799447,3403.7,120.2,92.885390000000001,76.191710783783606,95.802000000000007,189.7,96,77.792389999999997,225.672,96.96]
[2012,"Enero",82.046589749999995,107.65,106.3,239.8,156.77046999999999,79.655416642754645,93.720459149223501,3422.8,120.7,94.27955,76.748456093439003,96.183999999999997,190.9,96.2,78.343050000000005,226.66499999999999,96.17]
[null,"Febrero",82.277431019999995,108,106.83,242.1,158.692902,79.935090100430401,94.328156650911538,3438.2,121.2,94.192409999999995,77.217211003422804,96.549000000000007,191.4,96.4,78.502309999999994,227.66300000000001,96.65]
[null,"Marzo",82.607311319999994,108.16,107.18,243.9,159.334327,80.05284734576756,95.138419986495606,3445.4,121.7,94.366680000000002,77.311465242399606,96.575999999999993,192.1,96.8,78.547389999999993,229.392,97.9]
[null,"Abril",83.13127394,108.83,107.58,246.6,161.02553,80.060207173601142,95.813639432815663,3467.5,122.2,94.27955,77.423080102192003,96.566999999999993,193.4,96.9,78.300979999999996,230.08500000000001,98.36]
[null,"Mayo",83.952303479999998,108.53,107.72,246.9,160.53411600000001,79.846772166427542,96.218771100607697,3479.9,122.1,94.018140000000002,77.655383105388196,96.74,194.3,96.6,78.053820000000002,229.815,98.22]
[null,"Junio",84.084000020000005,107.94,107.85,246.9,159.99524500000001,80.01604820659972,96.151249155975691,3482.7,121.6,93.495339999999999,77.719670171098898,96.602999999999994,195.9,96.1,78.413669999999996,229.47800000000001,98.15]
[null,"Julio",83.829884539999995,107.61,108.23,247.1,160.42083500000001,79.854131994261124,96.421336934503714,3497.7,121.5,93.582470000000001,77.702887493112001,96.385000000000005,196.7,95.8,78.853899999999996,229.10400000000001,97.63]
[null,"Agosto",84.273122869999995,107.8,108.72,248.6,160.823025,80.663713055954076,96.893990546927739,3512.04,121.8,94.192999999999998,77.734755316526105,96.831000000000003,198.4,96,79.090540000000004,230.37899999999999,98.01]
[null,"Septiembre",84.331473919999993,108.24,109.25,250.4,161.879638,81.186260832137719,96.961512491559745,3532.06,122,94.482110000000006,77.957328917440606,97.522999999999996,200.5,96.1,79.439120000000003,231.40700000000001,98.72]
[null,"Octubre",84.707309629999997,108.33,109.28,251.5,162.66734,81.377616355810588,97.09655638082377,3552.9,122.2,94.383380000000002,78.084697605305095,97.340999999999994,201.7,96.1,79.841030000000003,231.31700000000001,98.95]
[null,"Noviembre",85.393653189999995,108.18,109.27,251.9,164.23005599999999,81.892804304160663,97.231600270087768,3574.22,121.9,94.540949999999995,77.977945003658405,96.995000000000005,203.3,95.8,80.383439999999993,230.221,98.76]
[null,"Diciembre",85.630451460000003,108.13,109.86,252.2,166.92765299999999,82.407992252510738,97.569209993247796,3602.46,121.2,95.236609999999999,78.047241605216399,97.168000000000006,204.1,95.8,80.568240000000003,229.601,99.11]
[2013,"Enero",86.753358640000002,108.59,110.4,253.4,168.90939899999998,83.445727977044442,98.109385550303855,3633.44,121.3,96.188550000000006,78.279811941870705,97.751000000000005,204.7,95.9,80.892780000000002,230.28,98.08]
[null,"Febrero",87.638451779999997,109.05,111.3,256.10000000000002,169.93,83.718041606886629,98.649561107359887,3655.24,122.7,97.246269999999996,78.627482245254299,98.078000000000003,205.6,95.7,81.290940000000006,232.166,98.44]
[null,"Marzo",87.733819879999999,109.54,111.83,257.5,170.16,84.03451420373024,99.054692775151906,3672.4,122.9,96.371889999999993,78.789250397402,97.986999999999995,206.8,95.9,81.887439999999998,232.773,99.6]
[null,"Abril",88.374587210000001,108.85,112.02,258.10000000000002,171.240678,83.982995408895221,99.392302498311935,3692.62,122.7,96.562420000000003,78.988538067509694,97.850999999999999,207.5,96.2,81.941519999999997,232.53100000000001,99.51]
[null,"Mayo",88.388374150000004,108.69,112.32,258.8,172.94097400000001,83.828439024390192,99.797434166103983,3706.3,123,95.984059999999999,79.208688915334406,97.850999999999999,208.5,96.3,81.668819999999997,232.94499999999999,99.62]
[null,"Junio",88.404154869999999,108.91,113.02,259.89999999999998,173.251283,83.857878335724479,100.13504388926401,3715.92,123,95.984059999999999,79.394698558352303,97.731999999999999,208.6,96.3,81.619240000000005,233.50399999999999,99.73]
[null,"Julio",88.703885040000003,108.78,113.36,261,172.70246599999999,84.380426111908122,100.40513166779202,3717.03,123.1,96.078969999999998,79.430333480131793,97.941999999999993,208.8,96.5,81.592190000000002,233.596,99.2]
[null,"Agosto",88.745497950000001,108.87,113.52,262,173.58552800000001,84.939773027259619,100.67521944632004,3725.95,123.1,96.562280000000001,79.496581921867403,98.287999999999997,209.4,96.8,81.824330000000003,233.87700000000001,99.32]
[null,"Septiembre",88.861624539999994,109.06,113.85,262.8,173.78078099999999,85.351923385939685,100.74274139095205,3738.99,123.3,97.331869999999995,79.729436343946006,98.478999999999999,209.6,97.1,82.132339999999999,234.149,99.8]
[null,"Octubre",88.185527230000005,108.91,113.82,263.10000000000002,173.778493,85.234166140602525,100.87778528021607,3760.3,123,97.429599999999994,79.522476273387795,98.179000000000002,210.1,97.2,82.522989999999993,233.54599999999999,99.68]
[null,"Noviembre",88.333877130000005,109,114.33,263.8,174.567453,85.28568493543753,100.94530722484807,3780.61,123,97.331800000000001,79.350515247897803,98.16,210.3,97.3,83.292270000000002,233.06899999999999,99.6]
[null,"Diciembre",88.781258750000006,108.98,114.68,264.60000000000002,176.400474,85.602157532281154,101.21539500337609,3815.39,122.7,97.623800000000003,79.559653074042302,98.278999999999996,211.1,97.4,83.770060000000001,233.04900000000001,99.95]
[2014,"Enero",89.446211590000004,109.51,114.97,268.60000000000002,177.67956799999999,85.800872883787605,101.41796083727201,3836.38,123.1,98.6,79.946510414006298,98.807000000000002,211.6,97.2,84.519049999999993,233.916,98.83]
[null,"Febrero",90.039449719999993,109.72,115.2,270.8,178.85615200000001,86.095265997130497,101.95813639432816,3862.84,124.1,99.1,80.450785774001503,99.070999999999998,212.2,97.2,84.733149999999995,234.78100000000001,99.14]
[null,"Marzo",90.593230700000007,109.99,115.46,272.39999999999998,178.840341,86.544215494978417,102.4,3898.38,124.8,98.6,80.767915149281706,99.253,213.5,97.5,84.965289999999996,236.29300000000001,100.07]
[null,"Abril",91.626147029999998,109.47,115.68,273.5,179.632701,86.912206886657046,102.9,3924.5,125.2,98.2,81.137598234052405,99.316999999999993,214.7,99.5,84.806780000000003,237.072,100.22]
[null,"Mayo",92.109788839999993,109.72,115.94,274.89999999999998,181.32398000000001,86.926926542324196,103.03848750844024,3942.55,125.8,98.3,81.530110060556595,99.480999999999995,215.9,99.9,84.535579999999996,237.9,100.11]
[null,"Junio",92.46114068,110.15,116.56,276.10000000000002,183.73790399999999,86.941646197991332,103.5,3958.32,125.9,98.2,81.606092092565305,99.352999999999994,217.3,99.8,84.682079999999999,238.34299999999999,100.22]
[null,"Julio",93.304068650000005,110.77,117.23,278.2,184.68213899999998,87.258118794834942,102.6,3958.72,125.7,98.2,81.7295589683374,99.498999999999995,218.9,99.9,84.914959999999994,238.25,99.57]
[null,"Agosto",93.613851499999996,111.04,117.72,278.60000000000002,185.266569,87.596670875179271,102.76839972991222,3968.62,125.7,98.4,81.895607247810702,99.671999999999997,220,100,85.21996,237.852,99.68]
[null,"Septiembre",93.485098399999998,110.91,117.78,278.89999999999998,185.06719699999999,87.765946915351449,103.10600945307201,3991.24,125.8,98.9,82.006862638331697,99.608000000000004,220.8,100.3,85.596339999999998,238.03100000000001,100.12]
[null,"Octubre",93.214368570000005,110.97,117.96,279.7,185.39045200000001,87.692348637015726,103,4008,125.9,98.9,82.142004936441495,99.308000000000007,222.2,100,86.069630000000004,237.43299999999999,100.06]
[null,"Noviembre",93.533382689999996,110.4,118.19,280.7,187.95816099999999,87.567231563844999,102.6,4028.44,125.4,98.6,82.250267309028303,99.108000000000004,223.4,99.6,86.763779999999997,236.15100000000001,99.88]
[null,"Diciembre",93.333238370000004,109.5,118.06,280,187.830682,86.956365853658497,102.23465399719004,4059.9,124.5,99,82.469690144328396,99.097999999999999,224.7,99.7,87.188980000000001,234.81200000000001,99.78]
[2015,"Enero",93.369256759999999,108.69,117.64,278.89999999999998,187.36179999999999,86.794449641319915,102.3,4110.2,124.3,99.3,83.001032493467505,99.77,225.6,99.6,87.110100000000003,233.70699999999999,98.24]
[null,"Febrero",93.215227560000002,108.56,118.01,280.7,188.70971351426607,86.971085509325647,101.5,4160.34,125.4,100.5,83.955218895637003,99.71,226.2,99.4,87.275379999999998,234.72200000000001,98.85]
[null,"Marzo",93.352984910000004,109.1,118.26,282.60000000000002,189.43524003284833,87.096202582496375,102.4,4215.26,126.3,99.9,84.447054524843594,99.72,227.2,99.7,87.630709999999993,236.119,100]
[null,"Abril",93.280044329999996,109.11,118.66,283.3,189.81524999999999,86.875407747489206,102.9,4245.1899999999996,126.2,99.7,84.900615401620797,99.75,228.3,100.2,87.403840000000002,236.59899999999999,100.43]
[null,"Mayo",93.005559509999998,109.33,118.9,284.5,190.79101399999999,87.125641893830675,103.4,4276.6000000000004,126.9,99.5,85.123952612987694,100.03,230.2,100.4,86.967370000000003,237.80500000000001,100.71]
[null,"Junio",93.404713709999996,109.24,119.34,286.10000000000002,190.76076899999998,87.478913629842154,103.5,4310.3999999999996,127.2,99.5,85.213311787885303,100.05,234.6,100.2,87.113110000000006,238.63800000000001,100.72]
[null,"Julio",93.003909340000007,109.16,119.95,287.10000000000002,190.367524,87.692348637015769,103.6,4337.1099999999997,127.3,99.9,85.371164167968999,100.23,239.3,100.1,87.240819999999999,238.654,100.11]
[null,"Agosto",92.922714139999997,108.82,120.03,287.2,190.355672,87.972022094691525,103.2,4346.6499999999996,127.3,100.4,85.780961929440096,100.37,242.8,100.2,87.424869999999999,238.316,100.12]
[null,"Septiembre",92.677207350000003,108.41,119.99,286.60000000000002,190.19427099999999,88.111858823529403,102.7,4370.12,127.1,100.5,86.394781885423498,100.11,245.7,100.3,87.752420000000001,237.94499999999999,100.32]
[null,"Octubre",92.416040929999994,110.76,120.59,286.8,191.008512,88.766883500717356,102.6,4405.95,127.2,100.1,86.984086735091097,100.11,248.2,100.2,88.203919999999997,237.83799999999999,100.45]
[null,"Noviembre",92.407452449999994,110.69,121.16,286.60000000000002,191.69115099999999,88.914080057388816,102.6,4450.45,127.1,100.1,87.5086026580652,99.92,250.1,99.9,88.685469999999995,237.33600000000001,100.01]
[null,"Diciembre",92.579496559999995,110.61,121.68,286.60000000000002,193.56365099999999,88.995038163558121,102.5,4493.17,126.5,100.6,88.052136948495104,100.22,252.8,99.8,89.046809999999994,236.52500000000001,100.03]
[2016,"Enero",93.208007899999998,110.67,122.79,287.5,193.34200099999998,88.987678335724539,102.6,4550.2299999999996,126.8,101.1,89.188544257361102,100.39,255.5,99.5,89.386380000000003,236.916,98.56]
[null,"Febrero",93.185084380000006,110.37,123.05,288.89999999999998,195.13298699999999,88.487210043041628,102.7,4591.18,127.1,102.7,90.329817314365897,100.82,258.7,99.6,89.777780000000007,237.11099999999999,98.73]
[null,"Marzo",92.339085049999994,110.32,123.3,289.60000000000002,196.36460015172148,88.47985021520806,103,4610.92,127.9,102.2,91.182242502772795,100.56,260.89999999999998,99.7,89.91,238.13200000000001,99.96]
[null,"Abril",92.423680419999997,110.05,123.51,290.2,196.64172600000001,88.398892109038755,103.5,4639.05,128.30000000000001,102,91.634595841997296,100.75,263.10000000000002,99.9,89.62527,239.261,100.17]
[null,"Mayo",92.603103000000004,110.13,124.08,291.2,197.75736999999998,88.619686944045924,103.7,4675.2299999999996,128.80000000000001,101.6,92.101740469244703,100.81,264.89999999999998,100,89.225620000000006,240.22900000000001,100.59]
[null,"Junio",92.584252059999997,110.24,124.63,293.10000000000002,197.55970299999998,89.149594548063149,103.6,4691.5929999999998,129.1,101.4,92.543524713889397,100.79,267.2,99.9,89.324029999999993,241.018,100.77]
[null,"Julio",93.446168139999997,110.12,125.49,294,198.20091600000001,89.318870588235313,103.7,4715.99,128.9,101.6,93.024731220637804,100.6,270.2,99.6,89.556920000000005,240.62799999999999,100.28]
[null,"Agosto",93.476409700000005,109.85,125.72,294.39999999999998,197.49490700000001,89.267351793400309,103.7,4736.74,128.69999999999999,101.7,92.727131147777897,100.86,272.8,99.7,89.809330000000003,240.84899999999999,100.34]
[null,"Septiembre",93.034714050000005,109.51,125.46,294.89999999999998,196.89452800000001,89.304150932568163,103.9,4740.53,128.80000000000001,102.4,92.678143513060107,101.46,276.39999999999998,99.8,90.357740000000007,241.428,100.72]
[null,"Octubre",92.925993559999995,109.79,126.33,294.89999999999998,197.49535700000001,89.576464562410337,104,4752.8599999999997,129.1,102.3,92.622628195571906,101.6,281.3,100.4,90.906149999999997,241.72900000000001,100.96]
[null,"Noviembre",92.925278250000005,109.78,126.82,295.3,198.029144,89.694221807747496,103.9,4761.42,128.6,102.4,92.726306113449994,101.45,285.5,100.4,91.616839999999996,241.35300000000001,100.6]
[null,"Diciembre",93.287906620000001,109.58,126.83,296.10000000000002,199.621522,90.503802869440463,104,4775.7,128.4,102.6,93.112852844043502,101.56,288.89999999999998,100.1,92.039029999999997,241.43199999999999,101.13]
[2017,"Enero",93.819186360000003,110.39,127.49,297.39999999999998,200.84660099999999,91.063149784791975,104.3,4793.8500000000004,129.5,103.7,94.066435477436599,102.64,291.60000000000002,100,93.603880000000004,242.839,100.26]
[null,"Febrero",94.196576210000003,110.69,127.92,300,202.33540940213342,91.44586083213774,104.6,4809.67,129.69999999999999,103.5,95.012497176072301,102.92,294.7,99.8,94.144779999999997,243.60300000000001,100.66]
[null,"Marzo",93.799575820000001,110.92,128.22999999999999,301,202.58063099999998,91.261865136298425,104.5,4821.6899999999996,129.9,103.2,95.455093891070305,102.85,298.3,99.9,94.722489999999993,243.80099999999999,101.49]
[null,"Abril",93.942991539999994,111,128.56,302.10000000000002,203.23883900000001,91.504739454806312,104.5,4828.4399999999996,130.4,103.2,95.907287388618798,102.72,301.5,100.3,94.838939999999994,244.524,102.07]
[null,"Mayo",94.150648970000006,111.19,128.96,303,203.506574,91.372262553802017,104.5,4843.41,130.5,103.3,96.123383562661004,102.83,306.5,100.4,94.725489999999994,244.733,101.98]
[null,"Junio",94.226990220000005,111.26,130.07,303.8,203.60713899999999,91.423781348637021,104.3,4832.2700000000004,130.4,103.1,96.233580089327901,102.61,309.3,100.2,94.963639999999998,244.95500000000001,102.08]
[null,"Julio",94.533048120000004,111.24,132.04,304.7,204.40227300000001,91.585697560975618,104.1,4843.87,130.4,103,96.184355135091195,102.78,312.39999999999998,100.1,95.322739999999996,244.786,101.62]
[null,"Agosto",94.326523539999997,111.1,131.65,305.7,204.348885,92.108245337159261,104.4,4853.07,130.5,103.5,96.319067466072397,103.37,315.3,100.3,95.793769999999995,245.51900000000001,101.89]
[null,"Septiembre",94.561600029999994,111.22,130.93,305.7,205.01219,92.697031563845059,104.7,4860.83,130.80000000000001,104.1,96.357860133452107,103.49,318.89999999999998,100.5,96.093509999999995,246.81899999999999,102.29]
[null,"Octubre",95.086923979999995,111.36,131.63999999999999,306.60000000000002,206.13243799999998,92.697031563845059,104.5,4881.25,130.9,104.2,96.373970638801197,103.39,321.8,100.6,96.698269999999994,246.66300000000001,102.34]
[null,"Noviembre",95.240341310000005,111.62,132.77000000000001,308.10000000000002,208.61722499999999,93.403575035868002,104.3,4894.92,131.30000000000001,104.2,96.548251811589097,102.62,324.60000000000002,100.9,97.695179999999993,246.66900000000001,102.14]
[null,"Diciembre",95.689239909999998,111.81,134.03,310.10000000000002,210.95702699999998,94.308833859397396,104.5,4916.46,130.80000000000001,104.5,96.9198851044073,102.99,327.2,101.2,98.272880000000001,246.524,102.49]
[2018,"Enero",96.078188350000005,111.96,133.5,311,211.610163,94.581147489239584,104.7,4930.72,131.69999999999999,105.2,97.527634566693607,103.42,330.1,101.3,98.795000000000002,247.86699999999999,101.56]
[null,"Febrero",96.280664299999998,112.05,133.22999999999999,313,212.08009300000001,94.478109899569574,105,4946.5,132.5,106.5,98.216431436722701,104.21,333.5,101.3,99.171369999999996,248.99100000000001,101.78]
[null,"Marzo",96.250528430000003,111.93,133.54,314.10000000000002,212.38235299999999,94.831381635581053,105.1,4950.95,132.9,105.3,98.452250258793498,104.1,336.8,101,99.492159999999998,249.554,102.91]
[null,"Abril",96.174541730000001,111.97,133.6,314.8,213.043272,95.20673285509325,105.3,4961.84,133.30000000000001,105.1,98.906895825372402,104.29,340.7,100.9,99.154849999999996,250.54599999999999,103.32]
[null,"Mayo",96.067464970000003,112.11,134.22999999999999,315.10000000000002,214.22060500000001,95.456967001434691,105.3,4981.6899999999996,133.4,104.9,99.157791416887306,104.34,344.9,101,98.994079999999997,251.58799999999999,103.97]
[null,"Junio",96.237918199999996,112.26,135,316.39999999999998,215.15319299999999,95.655682352941156,105.51649999999999,5044.46,133.6,104.9,99.3111507800769,104.13,349.5,100.9,99.376459999999994,251.989,104.09]
[null,"Julio",96.503438430000003,112.42,135.47999999999999,317.60000000000002,214.97380699999999,95.640962697274006,105.4581,5061.1099999999997,134.30000000000001,105.2,99.184494050769601,103.94,354.9,101,99.909099999999995,252.006,103.85]
[null,"Agosto",96.439754769999993,112.71,136.08000000000001,319,214.466511,95.670402008608306,105.527,5056.5600000000004,134.19999999999999,105.9,99.303264094060694,104.85,355.37325786599888,101.6,100.492,252.14599999999999,104.01]
[null,"Septiembre",96.653068910000002,112.76,136.88999999999999,319.10000000000002,215.54450399999999,95.744000286944029,105.4892,5080.83,133.69999999999999,106.6,99.467112979991498,105.65,365.5,101.7,100.917,252.43899999999999,104.42]
[null,"Octubre",97.014241229999996,113.02,137.35,320.89999999999998,216.65405299999998,95.957435294117616,105.57429999999999,5103.7,134.1,106.8,99.586837885347407,105.46,370.98249999999996,102,101.44,252.88499999999999,104.68]
[null,"Noviembre",97.423643319999996,112.82,136.94999999999999,322.60000000000002,217.78748199999998,95.618883213773273,105.1135,5092.97,133.5,106.4,99.703542550824395,104.71,376.17625499999997,101.8,102.303,252.03800000000001,104.1]
[null,"Diciembre",97.629111649999999,112.3,137.13,323.2,219.15282299999998,95.412808034433255,104.66549999999999,5100.6099999999997,133.4,106.5,100,104.35,381.81889882499991,101.5,103.02,251.233,104.05]
[2019,"Enero",97.679211870000003,112.2397249,138.97999999999999,323.3,218.60355899999999,95.250891822094673,104.38089999999998,5116.93,133.6,107.04484349999998,100.598577066,104.24,387.92800120619989,101.5,103.108,251.71199999999999,102.97]
[null,"Febrero",97.759031789999995,112.4403994,139.16999999999999,325.8,219.20172699999998,95.604163558106166,104.47450000000001,5138,134.5,108.09902249999998,101.17675,104.69,394.52277722670527,101.5,103.07899999999999,252.77600000000001,103.3]
[null,"Marzo",97.617418020000002,112.693617,139.11000000000001,327.10000000000002,223.18733800000001,96.229748923959818,104.90659999999998,5177.47,135.39851999999999,103.5,104.90659999999998,104.49,397.28443666729214,101.5,103.5,254.2,104.34971089999999]
[null,"Abril",98.165424299999998,112.8711112,139.94999999999999,330.1,225.33578199999999,96.737577044476311,105.2011,5206.9799999999996,136,103.527578885,105.2011,104.87,404.03827209063604,101.8,103.527578885,255.548,105.1]
[null,"Mayo",98.298055489999996,113.01251499999999,140.32,331.3,227.06312199999999,96.708137733142038,105.29519999999999,5213.75,136.6,103.233,105.29519999999999,105.05,409.69480789990496,101.8,103.233,256.09199999999998,105.24]
[null,"Junio",98.568195189999997,112.854478,141.47999999999999,331.6,227.25682,96.531501865136292,104.94649999999999,5214.2700000000004,136.30000000000001,103.29900000000001,104.94649999999999,104.88,417.06931444210323,101.60629999999999,103.29900000000001,256.14299999999997,105.41]
[null,"Julio",99.291642809999999,112.5637614,141.4,332.5,228.05463900000001,96.980451362984226,105.1781,5224.18,137,103.687,105.1781,104.56,423.74242347317687,101.5,103.687,256.57100000000003,104.91]
[null,"Agosto",99.193890580000001,112.15990290000001,140.18,332.7,227.981369,97.311643615494972,104.88839999999999,5229.93,136.80000000000001,103.67,104.88839999999999,104.81,430.52230224874768,101.9,103.67,256.55799999999999,105.06]
[null,"Septiembre",99.097494049999995,111.994422,139.36000000000001,333.2,227.66704099999998,97.679635007173601,104.8386,5227.84,136.19999999999999,103.94199999999999,104.8386,105.2,437.41065908472763,101.8,103.94199999999999,256.75900000000001,105.29]
[null,"Octubre",99.024797930000005,112.0392926,140.33000000000001,334,228.43935200000001,98.334659684361569,104.7837,5233.07,136.6,104.503,104.7837,105.46,444.84664028916796,102.1,104.503,257.346,105.44]
[null,"Noviembre",99.231689320000001,112.17336397352067,140.94999999999999,335,230.24251599999999,98.702651076040183,104.7681,5259.76,136.4,105.346,104.7681,104.87,452.85387981437299,102.2,105.346,257.20800000000003,105.1]
[null,"Diciembre",99.11544567,112.29079921806762,141.80000000000001,336.4,232.586287,98.901366427546634,104.6,5320.25,136.4,105.934,104.6,105.12,460.55239577121728,102.2,105.934,256.97399999999999,105.43]
[2020,"Enero",99.225243599999999,112.15162862434084,141.46,337.2,232.62757999999999,99.225198852223812,104.75230000000001,5331.42,136.80000000000001,112.825265049,104.24,105.79,467.92123410355674,101.9,106.447,257.971,104.37]
[null,"Febrero",99.508993009999998,112.00235119710888,140.88999999999999,338.8,233.26049599999999,99.100081779053085,104.48959999999998,5344.75,137.4,113.72017166999998,104.94,105.8,476.34381631742076,101.8,106.889,258.678,104.56]
[null,"Marzo",99.478912460000004,112.09268743282648,141.57,339.8,233.04895499999998,98.584893830702995,104.0257,5348.49,136.6,112.42564336079998,105.53,105.54,484.44166119481685,101.8,106.83799999999999,258.11500000000001,105.13]
[null,"Abril",99.040237869999999,111.68678726907196,142.58000000000001,341.1,232.65094399999998,97.775312769010029,102.70399999999998,5331.91,135.69999999999999,111.23761331999999,105.7,104.95,494.13049441871317,102,105.755,256.38900000000001,105.43]
[null,"Mayo",98.896445700000001,111.94232067459286,142.85,338.9,233.723071,97.664915351506437,102.69540000000001,5311.65,136.1,110.4,105.36,104.71,505.49549579034351,102,106.16200000000001,256.39400000000001,105.33]
[null,"Junio",98.875348310000007,112.59420555183117,144.86000000000001,340.4,235.48684299999999,99.328236441893822,103.22919999999999,5325.46,137.19999999999999,110.4,104.97,104.87,520.66036066405388,101.9,106.74299999999999,257.79700000000003,105.69]
[null,"Julio",99.127692339999996,112.49403313655692,145.47,342.8,235.910731,101.19763271162122,102.81159999999998,5344.63,137.19999999999999,111,104.97,104.86,533.15620931999115,102.1,107.444,259.101,105.32]
[null,"Agosto",99.123686579999998,111.82079409186876,146.05000000000001,343.4,234.52508499999999,101.98513428981347,102.82869999999997,5357.46,137,111.4,104.96,105.5,550.75036422755079,102.1,107.867,259.91800000000001,104.88]
[null,"Septiembre",99.393758809999994,111.55780054509418,146.28,344.5,234.05559199999999,102.596,102.89009999999996,5391.75,136.9,111.7,105.29,106.2,547.99661240641308,101.9,108.114,260.27999999999997,104.96]
[null,"Octubre",99.472841919999993,111.80599011408397,147.83000000000001,346.2,234.58400399999999,103.276,102.74159999999996,5438.12,137.5,111.4,105.23,105.61,541.42065305753613,101.8,108.774,260.38799999999998,105.16]
[null,"Noviembre",99.474323560000002,111.97579242104128,148.65,347.8,236.32790599999998,103.893,102.6344,5486.52,137.69999999999999,110.7,105.08,105.5,544.12775632282376,101.4,108.85599999999999,260.22899999999998,104.8]
[null,"Diciembre",100,112.19499999999999,148.63999999999999,349.9,239.40239,104.39400000000001,102.95119999999997,5560.59,137.4,111.5,105.48,105.67,549.56903388605201,100.9,109.271,260.47399999999999,105.15]
[2021,"Enero",100.17693626000001,112.495,148.87,351.3,240.03097,105.404,103.27439999999999,5574.49,138.19999999999999,100.9,105.91,106.47,555.61429325879851,101.4,110.21,261.58199999999999,105.32]
[null,"Febrero",99.921244529999996,113.1875,149.34,351.9,242.06155999999999,106.124,103.87769999999999,5622.43,138.9,106.58,106.58,107,561.72605048464527,101.5,110.907,263.01400000000001,105.54]
[null,"Marzo",99.949181179999997,114.075,149.84,353.2,242.62936399999998,106.764,104.32569999999998,5674.72,139.6,107.12,107.12,107.16,567.90503703997626,101.6,111.824,264.87700000000001,106.53]
[null,"Abril",100.23846188,114.80500000000001,150,354.6,242.89475899999999,107.206,104.45539999999997,5692.31,140.30000000000001,107.76,107.76,107.39,573.01618237333594,101.4,112.19,267.05399999999997,107.14]
[null,"Mayo",100.22344407,114.84,150.24,355.3,243.00950900000001,107.901,104.67129999999997,5739.56,141,108.84,108.84,107.46,578.74634419706933,101.7,112.419,269.19499999999999,107.42]
[null,"Junio",100.76192321000001,115.51,150.52000000000001,356.3,244.770264,108.58499999999999,104.8603,5769.98,141.4,108.78,108.78,107.39,585.69130032743419,101.9,113.018,271.69600000000003,107.7]
[null,"Julio",100.55491275999999,116.355,151.02000000000001,357.4,245.621309,109.16800000000001,105.25069999999998,5825.37,142.30000000000001,109.14,109.14,107.61,591.9386741975934,102,113.682,273.00299999999999,107.6]
[null,"Agosto"]
[null,"Septiembre"]
[null,"Octubre"]
[null,"Noviembre"]
[null,"Diciembre"]
["FUENTE: Bancos Centrales Centroamericanos y de República Dominicana,  Contraloría General de la República de Panamá, Instituto Brasileiro de Geografia e Estatística, Statistics Canada, National Bureau of Statistic of China, Banco Central de Colombia,  Statistics Korea, Banque de la République d'Haïti, Statistics Bureau de Japón, Banco Central Europeo, Banco de México, Bureau of Labor Statistics (U.S.A.) y Banco Central Europeo."]
["Aclaración: para efectos de la actualización del cálculo de los diferentes índices de tipo de cambio real, los datos no disponibles son estimados por esta Secretaría."]
["NOTAS:"]
["1/ La Región CAPARD incluye a Centroamérica, República Dominicana y Panamá."]

{"sheet":"TIPO CAMBIO","index":3,"n_rows":336,"n_cols":19,"rows_kept":336,"cut":false,"hidden":false,"merged":[[336,0,336,1],[4,2,4,8],[4,9,4,18],[3,0,3,18],[333,0,333,18],[332,0,332,18]]}
[]
["Secretaría Ejecutiva"]
["Consejo Monetario Centroamericano"]
["TIPO DE CAMBIO PROMEDIO de COMPRA  (moneda nacional por US$)"]
[null,null,"REGIÓN CAPARD 1/",null,null,null,null,null,null,"RESTO DEL MUNDO"]
["Año","MES","COSTA RICA ","EL SALVADOR ","GUATEMALA ","HONDURAS","NICARAGUA ","REPÚBLICA\nDOMINICANA","PANAMÁ","BRASIL","CANADÁ","CHINA","COLOMBIA","COREA DEL SUR","HAITÍ","JAPÓN","MÉXICO","ESTADOS UNIDOS","ZONA \nEURO"]
[null,"moneda","Colón","Colón","Quetzal","Lempira","Córdoba","Peso dominicano","Balboa","Euro","Dólar canadiense","Reminbi","Peso Colombiano","Won surcoreano","Gourde","Yen\n japonés","Peso mexicano","Dólar estadounidense","Euro"]
[]
[1995,"Enero",165.56709677419352,8.7200000000000006,5.72614,9.2100000000000009,7.1471064516129026,12.87,1,0.84099999999999997,1.4132,8.4608000000000008,846.63,793.07500000000005,14.056900000000001,99.766000000000005,5.6405000000000003,1,0.80592191400000002]
[null,"Febrero",167.71071428571432,8.7200000000000006,5.70749,9.08,7.212860714285716,12.87,1,0.85050000000000003,1.4005000000000001,8.4552999999999994,850.9,793.19470000000001,14.0815,98.236800000000002,5.6779000000000002,1,0.79447427299999995]
[null,"Marzo",170.26193548387096,8.7200000000000006,5.6863099999999998,9.1300000000000008,7.2792354838709672,12.87,1,0.89500000000000002,1.4077,8.4482999999999997,865.83,781.81299999999999,14.288500000000001,90.519599999999997,6.7770000000000001,1,0.75926512199999996]
[null,"Abril",172.85300000000001,8.7200000000000006,5.7202200000000003,9.1199999999999992,7.3484966666666667,12.87,1,0.91200000000000003,1.3762000000000001,8.4420999999999999,873.39,770.61,14.321999999999999,83.689499999999995,6.2285000000000004,1,0.74547200300000005]
[null,"Mayo",175.24870967741941,8.7200000000000006,5.7286700000000002,9.15,7.4184193548387105,12.87,1,0.90500000000000003,1.3609,8.3369999999999997,876.95,764.43179999999995,14.4087,85.112700000000004,5.9741,1,0.75663397799999998]
[null,"Junio",177.86600000000001,8.7200000000000006,5.7468399999999997,9.2799999999999994,7.4890033333333328,12.87,1,0.92100000000000004,1.3774999999999999,8.3206000000000007,874.86,763.8818,14.9452,84.635499999999993,6.2329999999999997,1,0.75106594999999998]
[null,"Julio",180.27967741935487,8.7200000000000006,5.75962,9.41,7.5602580645161268,12.87,1,0.93500000000000005,1.3612,8.3207000000000004,893.22,760.04499999999996,14.952299999999999,87.397000000000006,6.1219999999999999,1,0.74359670300000003]
[null,"Agosto",182.66290322580645,8.7200000000000006,5.8017099999999999,9.5500000000000007,7.6333806451612896,12.87,1,0.95,1.3552,8.3253000000000004,935.1,767.42169999999999,15.2639,94.738299999999995,6.2046999999999999,1,0.76662953599999994]
[null,"Septiembre",185.2703333333333,8.7200000000000006,5.87913,9.67,7.7060133333333338,12.87,1,0.95299999999999996,1.3509,8.3374000000000006,964.17,772.04,15.430899999999999,100.5455,6.3167,1,0.77591437600000002]
[null,"Octubre",187.89161290322573,8.7200000000000006,5.9458700000000002,9.81,7.7793387096774174,12.87,1,0.96140000000000003,1.3458000000000001,8.3353000000000002,984.96,767.1952,15.8088,100.839,6.7451999999999996,1,0.75633124900000004]
[null,"Noviembre",190.65400000000002,8.7200000000000006,5.9872800000000002,10.039999999999999,7.8533533333333345,12.87,1,0.96609999999999996,1.3533999999999999,8.3333999999999993,1000.58,769.78099999999995,17.4361,101.94,7.6936,1,0.75539826499999996]
[null,"Diciembre",193.38774193548394,8.7200000000000006,5.9245200000000002,10.25,7.928080645161292,12.87,1,0.97199999999999998,1.3693,8.3350000000000009,988.15,771.30499999999995,16.046500000000002,101.84950000000001,7.6870000000000003,1,0.76669242800000004]
[1996,"Enero",195.70903225806452,8.7200000000000006,6.0907,10.45,8.0047548387096779,12.87,1,0.97809999999999997,1.3669,8.3384,1011.19,787.13329999999996,16.4419,105.7514,7.4805999999999999,1,0.77409086900000001]
[null,"Febrero",198.01551724137931,8.7200000000000006,6.1587199999999998,10.67,8.0796620689655168,12.87,1,0.98370000000000002,1.3752,8.3338000000000001,1029.6400000000001,780.11500000000001,16.552800000000001,105.788,7.5183,1,0.77603420099999998]
[null,"Marzo",200.13774193548386,8.7200000000000006,6.1739800000000002,10.9,8.1552774193548387,12.87,1,0.98760000000000003,1.3655999999999999,8.3495000000000008,1044.98,781.3143,16.701599999999999,105.94,7.5682,1,0.78043481100000001]
[null,"Abril",201.99600000000001,8.7200000000000006,6.1278199999999998,11.05,8.2328733333333393,12.87,1,0.99209999999999998,1.3592,8.3514999999999997,1050.93,780.41819999999996,16.457100000000001,107.1995,7.4694000000000003,1,0.79119870599999997]
[null,"Mayo",204.0116129032258,8.7200000000000006,6.0805699999999998,11.18,8.3112741935483854,12.87,1,0.998,1.3693,8.3478999999999992,1066.24,780.85910000000001,15.946099999999999,106.34229999999999,7.4367999999999999,1,0.80213045800000005]
[null,"Junio",206.23133333333331,8.7200000000000006,6.1228600000000002,11.46,8.3902866666666647,12.87,1,1.004,1.3657999999999999,8.3423999999999996,1071.96,798.45,15.630699999999999,108.96,7.5648,1,0.79813428099999995]
[null,"Julio",208.34548387096774,8.7200000000000006,6.08948,12,8.4701258064516125,12.87,1,1.0108000000000001,1.3696999999999999,8.3408999999999995,1064.0999999999999,813.03179999999998,15.166499999999999,109.1909,7.6178999999999997,1,0.78700621299999995]
[null,"Agosto",210.34516129032261,8.7200000000000006,6.0686799999999996,12.27,8.5520419354838726,12.87,1,1.0165,1.3722000000000001,8.3378999999999994,1044.8399999999999,817.52269999999999,14.914099999999999,107.8659,7.5143000000000004,1,0.77927198900000005]
[null,"Septiembre",212.49366666666671,8.7200000000000006,6.0430900000000003,12.42,8.6334166666666672,12.87,1,1.0211000000000001,1.3694,8.3340999999999994,1040.8399999999999,822.4,15.0548,109.931,7.5441000000000003,1,0.78797983999999999]
[null,"Octubre",214.67129032258063,8.7200000000000006,6.0505199999999997,12.56,8.7155516129032229,12.87,1,1.0272000000000001,1.3508,8.3299000000000003,1015.78,828.2364,15.158300000000001,112.4123,7.7344999999999997,1,0.794652939]
[null,"Noviembre",216.84866666666667,8.7200000000000006,6.0066199999999998,12.61,8.7984899999999993,12.87,1,1.0327999999999999,1.3381000000000001,8.3293999999999997,998.18,830.56320000000005,15.27,112.2958,7.9119000000000002,1,0.78314668300000001]
[null,"Diciembre",219.01225806451606,8.7200000000000006,5.9946999999999999,12.78,8.882200000000001,13.19,1,1.0390000000000001,1.3622000000000001,8.3290000000000006,1000.79,841.91899999999998,15.045299999999999,113.98099999999999,7.8769,1,0.79983875299999996]
[1997,"Enero",220.87548387096777,8.7200000000000006,6.0530400000000002,12.93,8.9681129032258067,13.91,1,1.0457000000000001,1.3493999999999999,8.3260000000000005,1027.06,854.07140000000004,15.641,117.91240000000001,7.8289,1,0.822229129]
[null,"Febrero",223.01250000000002,8.7200000000000006,6.0906799999999999,12.73,9.0506214285714286,13.96,1,1.0510999999999999,1.3555999999999999,8.3226999999999993,1074.24,868.39469999999994,16.088699999999999,122.96210000000001,7.8022999999999998,1,0.857808762]
[null,"Marzo",225.16870967741937,8.7200000000000006,5.9953900000000004,12.79,9.1339064516129014,14.02,1,1.0589,1.3725000000000001,8.3257999999999992,1062.1600000000001,882.61900000000003,16.518999999999998,122.77379999999999,7.9561999999999999,1,0.86974975600000004]
[null,"Abril",227.17566666666661,8.7200000000000006,5.9967699999999997,12.76,9.2208200000000016,14.02,1,1.0634000000000001,1.3942000000000001,8.3256999999999994,1060.6500000000001,895.56820000000005,16.7499,125.6377,7.9058999999999999,1,0.87335100399999999]
[null,"Mayo",229.27548387096775,8.7200000000000006,5.9756499999999999,13.05,9.3085645161290316,14.02,1,1.0712999999999999,1.3804000000000001,8.3229000000000006,1075.18,894.66669999999999,16.775700000000001,119.19240000000001,7.9036999999999997,1,0.870063802]
[null,"Junio",231.52500000000009,8.7200000000000006,5.92258,13.07,9.397120000000001,14.02,1,1.0765,1.3843000000000001,8.3224,1082.3699999999999,891.40480000000002,16.832899999999999,114.28570000000001,7.9497999999999998,1,0.87979609800000003]
[null,"Julio",233.69483870967741,8.7200000000000006,5.9535099999999996,13.08,9.4865354838709681,14.02,1,1.083,1.3774999999999999,8.3162000000000003,1102.4000000000001,893.09090000000003,16.606200000000001,115.3759,7.8678999999999997,1,0.90504863300000005]
[null,"Agosto",235.58419354838702,8.7200000000000006,6.0721699999999998,13.08,9.5782935483870979,14.02,1,1.0911999999999999,1.3905000000000001,8.3186999999999998,1132.7,898.70950000000005,16.709099999999999,117.9295,7.7817999999999996,1,0.93219841299999995]
[null,"Septiembre",237.47466666666671,8.7200000000000006,6.1045800000000003,13.09,9.6694233333333326,14.02,1,1.0960000000000001,1.3872,8.3170999999999999,1222.49,912.50480000000005,16.697600000000001,120.89,7.7808999999999999,1,0.90916116199999997]
[null,"Octubre",239.3864516129033,8.7200000000000006,6.1467999999999998,13.09,9.7614322580645165,14.02,1,1.1027,1.3869,8.3134999999999994,1262.8900000000001,929.41819999999996,17.202200000000001,121.0605,7.8708,1,0.89260370700000002]
[null,"Noviembre",241.34033333333329,8.7200000000000006,6.2105899999999998,13.09,9.8543000000000003,14.02,1,1.1093999999999999,1.4128000000000001,8.3109000000000002,1294.56,1035.2235000000001,17.1843,125.3817,8.2715999999999994,1,0.87767955600000003]
[null,"Diciembre",243.2551612903226,8.7200000000000006,6.1818600000000004,13.1,9.9480806451612906,14.02,1,1.1160000000000001,1.4271,8.3099000000000007,1296.7,1496.9,16.844100000000001,129.73410000000001,8.1271000000000004,1,0.89961955100000002]
[1998,"Enero",244.89225806451608,8.7200000000000006,6.2517399999999999,13.11,10.044287096774195,14.02,1,1.1233,1.4409000000000001,8.3094000000000001,1323.16,1707.3,17.308900000000001,129.54750000000001,8.2271999999999998,1,0.91935086499999996]
[null,"Febrero",246.83892857142854,8.7200000000000006,6.2101300000000004,13.16,10.136696428571423,14.02,1,1.1299999999999999,1.4334,8.3071999999999999,1346.12,1628.4211,17.4239,125.8516,8.5021000000000004,1,0.91874103100000004]
[null,"Marzo",248.88290322580647,8.7200000000000006,6.2676499999999997,13.21,10.229980645161286,14.02,1,1.137,1.4166000000000001,8.3076000000000008,1357.1,1489.3570999999999,17.4209,129.0823,8.5680999999999994,1,0.92222847299999999]
[null,"Abril",250.93199999999996,8.7200000000000006,6.2801299999999998,13.21,10.327333333333319,14.02,1,1.1438999999999999,1.4298,8.3057999999999996,1360.65,1391.5454999999999,17.167300000000001,131.75360000000001,8.5016999999999996,1,0.916539039]
[null,"Mayo",252.94322580645158,8.7200000000000006,6.2756400000000001,13.27,10.425580645161284,14.02,1,1.1501000000000001,1.4452,8.3084000000000007,1386.28,1399.05,16.784700000000001,134.89599999999999,8.5847999999999995,1,0.90167666800000001]
[null,"Junio",255.27700000000002,8.7200000000000006,6.3063900000000004,13.32,10.524776666666659,14.02,1,1.1564999999999999,1.4655,8.31,1386.61,1397.7727,16.438099999999999,140.3305,8.92,1,0.90793040899999999]
[null,"Julio",257.68419354838704,8.7200000000000006,6.34077,13.37,10.624925806451587,15.22,1,1.163,1.4869000000000001,8.31,1371.54,1295.7609,16.062899999999999,140.78739999999999,8.8989999999999991,1,0.91116173099999997]
[null,"Agosto",260.12322580645167,8.7200000000000006,6.3963999999999999,13.42,10.727680645161279,15.33,1,1.1764999999999999,1.5346,8.31,1390.46,1314.2856999999999,16.4145,144.68,9.3712,1,0.90779853399999999]
[null,"Septiembre",262.49500000000006,8.7200000000000006,6.4817799999999997,13.51,10.829759999999995,15.36,1,1.1852,1.5218,8.3055000000000003,1520.52,1375.5381,16.780100000000001,134.48050000000001,10.219200000000001,1,0.86645727299999997]
[null,"Octubre",264.92516129032265,8.7200000000000006,6.5621799999999997,13.57,10.932799999999986,15.44,1,1.1928000000000001,1.5451999999999999,8.2777999999999992,1587.38,1344.1429000000001,16.6143,121.04859999999999,10.1594,1,0.83769282599999995]
[null,"Noviembre",267.5306666666666,8.7200000000000006,6.5590599999999997,13.67,11.036819999999997,15.49,1,1.2008000000000001,1.5404,8.2777999999999992,1562.71,1294.0105000000001,16.648800000000001,120.2895,9.9685000000000006,1,0.85879444199999999]
[null,"Diciembre",270.08096774193547,8.7200000000000006,6.7195299999999998,13.75,11.141841935483866,15.48,1,1.2082999999999999,1.5432999999999999,8.2780000000000005,1524.56,1213.2182,16.400600000000001,117.07089999999999,9.9067000000000007,1,0.85315351100000003]
[1999,"Enero",272.26129032258063,8.7200000000000006,6.97126,13.84,11.249590322580655,15.49,1,1.9828000000000001,1.5194000000000001,8.2789000000000001,1570.01,1175.1052999999999,16.742000000000001,113.29,10.1279,1,0.86148968800000003]
[null,"Febrero",274.78857142857134,8.7200000000000006,6.8733700000000004,13.9,11.353103571428582,15.75,1,2.0644,1.4977,8.2781000000000002,1567.07,1188.8368,16.8081,116.66840000000001,10.005699999999999,1,0.89224770600000003]
[null,"Marzo",277.30806451612904,8.7200000000000006,6.9680299999999997,13.96,11.457580645161295,15.88,1,1.7216,1.5176000000000001,8.2791999999999994,1550.15,1229.7217000000001,16.788499999999999,119.473,9.7324000000000002,1,0.91886766099999995]
[null,"Abril",279.73666666666662,8.7200000000000006,7.0647000000000002,14.03,11.566580000000011,15.88,1,1.6602999999999999,1.4881,8.2791999999999994,1574.67,1209.9636,16.698399999999999,119.7723,9.4304000000000006,1,0.934194411]
[null,"Mayo",282.30709677419361,8.7200000000000006,7.2618999999999998,14.09,11.676654838709684,15.88,1,1.7236,1.4611000000000001,8.2784999999999993,1641.33,1197.92,16.6891,121.9995,9.3955000000000002,1,0.94090194900000002]
[null,"Junio",284.90866666666665,8.7200000000000006,7.3519399999999999,14.17,11.787727666666672,15.85,1,1.7690999999999999,1.4695,8.2780000000000005,1693.99,1168.9136000000001,16.693999999999999,120.72450000000001,9.5145999999999997,1,0.96361858]
[null,"Julio",287.32677419354837,8.7200000000000006,7.3805899999999998,14.22,11.893300000000005,15.85,1,1.7887999999999999,1.4890000000000001,8.2775999999999996,1818.63,1189.0952,16.788699999999999,119.3305,9.3698999999999995,1,0.96593345900000005]
[null,"Agosto",289.33322580645154,8.7200000000000006,7.6613699999999998,14.27,11.981964516129041,15.85,1,1.9155,1.4932000000000001,8.2772000000000006,1876.93,1198.3090999999999,16.747,113.2268,9.3978999999999999,1,0.94308038299999997]
[null,"Septiembre",291.23300000000006,8.7200000000000006,7.7744099999999996,14.35,12.068560000000009,15.85,1,1.9218999999999999,1.4771000000000001,8.2774000000000001,1975.64,1201,16.901599999999998,106.87520000000001,9.3413000000000004,1,0.95231111599999996]
[null,"Octubre",293.11838709677409,8.7200000000000006,7.7969900000000001,14.39,12.155777419354846,15.89,1,1.9525999999999999,1.4776,8.2774999999999999,1978.71,1205.2850000000001,17.1158,105.965,9.5752000000000006,1,0.93402687900000003]
[null,"Noviembre",295.04933333333338,8.7200000000000006,7.7574300000000003,14.44,12.229113333333332,15.93,1,1.9222999999999999,1.4674,8.2782,1944.64,1176.9749999999999,17.544,104.6485,9.4161000000000001,1,0.96728356800000004]
[null,"Diciembre",297.02225806451611,8.7200000000000006,7.66364,14.49,12.288806451612908,15.92,1,1.7886,1.4722,8.2794000000000008,1888.46,1136.8043,17.9375,102.5843,9.4270999999999994,1,0.98910598699999996]
[2000,"Enero",298.73645161290324,8.7200000000000006,7.8733199999999997,14.54,12.349770967741941,15.98,1,1.802,1.4486000000000001,8.2791999999999994,1923.57,1130.99,18.537600000000001,105.29600000000001,9.4934999999999992,1,0.986490019]
[null,"Febrero",300.41448275862075,8.7200000000000006,7.7813499999999998,14.61,12.40880344827587,16.05,1,1.7681,1.4512,8.2781000000000002,1950.64,1129.7455,18.994399999999999,109.38849999999999,9.4265000000000008,1,1.0168553950000001]
[null,"Marzo",302.14354838709681,8.7200000000000006,7.7170800000000002,14.65,12.468215167695766,16.05,1,1.7469000000000001,1.4608000000000001,8.2786000000000008,1956.25,1116.3904,19.922499999999999,106.3074,9.2886000000000006,1,1.0369754330000001]
[null,"Abril",303.75166666666667,8.7200000000000006,7.7060899999999997,14.7,12.528913333333342,16.05,1,1.8063,1.4689000000000001,8.2792999999999992,1986.77,1110.32,19.521599999999999,105.627,9.3937000000000008,1,1.056021965]
[null,"Mayo",305.26806451612913,8.7200000000000006,7.6951599999999996,14.76,12.589893548387106,16.05,1,1.8262,1.4957,8.2781000000000002,2055.69,1119.4864,19.942699999999999,108.3205,9.5059000000000005,1,1.1037917450000001]
[null,"Junio",307.01433333333341,8.7200000000000006,7.7240000000000002,14.8,12.65117333333334,16.05,1,1.7995999999999999,1.4770000000000001,8.2772000000000006,2120.17,1117.9349999999999,19.824000000000002,106.1255,9.8343000000000007,1,1.053544281]
[null,"Julio",308.72870967741943,8.7100000000000009,7.7418899999999997,14.8499,12.712748387096781,16.05,1,1.7744,1.4778,8.2794000000000008,2161.34,1115.075,20.2654,108.2115,9.4192,1,1.064218114]
[null,"Agosto",310.34451612903223,8.7100000000000009,7.7401600000000004,14.9107,12.775648387096783,16.05,1,1.823,1.4827999999999999,8.2796000000000003,2187.38,1114.4670000000001,21.5975,108.0804,9.2723999999999993,1,1.106124946]
[null,"Septiembre",311.9903333333333,8.7100000000000009,7.7925399999999998,14.979100000000001,12.837833333333343,16.38,1,1.8432999999999999,1.4863999999999999,8.2784999999999993,2213.7600000000002,1117.57,24.2546,106.83750000000001,9.3614999999999995,1,1.146639086]
[null,"Octubre",313.66774193548389,8.7100000000000009,7.8104399999999998,15.0326,12.90032258064517,16.45,1,1.9085999999999999,1.5125,8.2784999999999993,2176.61,1131.0989999999999,24.434899999999999,108.44289999999999,9.5370000000000008,1,1.1693731810000001]
[null,"Noviembre",315.34766666666656,8.7100000000000009,7.7614000000000001,15.09,12.963120000000007,16.489999999999998,1,1.9592000000000001,1.5426,8.2774000000000001,2136.63,1156.5428999999999,23.873999999999999,109.0095,9.5081000000000007,1,1.167697744]
[null,"Diciembre",317.08096774193547,8.7100000000000009,7.7229200000000002,15.130100000000001,13.026219354838716,16.53,1,1.9550000000000001,1.5219,8.2771000000000008,2186.21,1216.9349999999999,22.879200000000001,112.209,9.4672999999999998,1,1.1144346030000001]
[2001,"Enero",318.62709677419349,8.75,7.7930599999999997,15.146100000000001,13.09075161290323,16.62,1,1.9706999999999999,1.5032000000000001,8.2775999999999996,2241.4,1272.6342999999999,23.4207,116.67189999999999,9.7688000000000006,1,1.065777666]
[null,"Febrero",320.28964285714284,8.75,7.72851,15.199199999999999,13.152550000000005,16.66,1,2.0448,1.5216000000000001,8.2771000000000008,2243.42,1252.8525999999999,23.445499999999999,116.2337,9.7108000000000008,1,1.084945834]
[null,"Marzo",321.98387096774201,8.75,7.6924799999999998,15.2479,13.214635483870973,16.66,1,2.1612,1.5587,8.2774999999999999,2278.7800000000002,1291.405,23.6632,121.505,9.5990000000000002,1,1.099477418]
[null,"Abril",323.5533333333334,8.75,7.7382400000000002,15.31,13.279136666666687,16.66,1,2.1842999999999999,1.5578000000000001,8.2771000000000008,2323.1,1327.7571,23.395499999999998,123.771,9.3276000000000003,1,1.1210762329999999]
[null,"Mayo",325.14935483870966,8.75,7.7602099999999998,15.37,13.343951612903231,16.66,1,2.3595999999999999,1.5410999999999999,8.2769999999999992,2346.9299999999998,1298.8955000000001,23.3644,121.76819999999999,9.1475000000000009,1,1.1439501050000001]
[null,"Junio",326.88,8.75,7.7891000000000004,15.43,13.409088333333345,16.66,1,2.3045,1.5245,8.2769999999999992,2305.66,1295.0476000000001,23.820399999999999,122.351,9.0881000000000007,1,1.1721034690000001]
[null,"Julio",328.8070967741935,8.75,7.7904200000000001,15.49,13.474532258064515,16.66,1,2.4308999999999998,1.5307999999999999,8.2768999999999995,2304.2800000000002,1305.2381,24.0899,124.49809999999999,9.1682000000000006,1,1.161893608]
[null,"Agosto",330.79935483870969,8.75,7.8394000000000004,15.52,13.541377419354843,16.66,1,2.5512999999999999,1.5399,8.2769999999999992,2288.9,1285.6522,24.561800000000002,121.367,9.1332000000000004,1,1.110515135]
[null,"Septiembre",332.9223333333332,8.75,7.9433699999999998,15.59,13.607470000000005,16.66,1,2.6709000000000001,1.5679000000000001,8.2767999999999997,2328.23,1293.8333,24.999300000000002,118.6117,9.4253,1,1.097580384]
[null,"Octubre",335.16870967741926,8.75,8.0989500000000003,15.68,13.673893548387101,16.66,1,2.7067000000000001,1.5717000000000001,8.2767999999999997,2320.65,1302.3635999999999,25.696899999999999,121.45359999999999,9.3391000000000002,1,1.1039172500000001]
[null,"Noviembre",337.73233333333332,8.75,8.0732300000000006,15.8,13.740633333333337,16.760000000000002,1,2.5282999999999998,1.5922000000000001,8.2768999999999995,2310.4699999999998,1282.0999999999999,26.520900000000001,122.4055,9.2249999999999996,1,1.1257344010000001]
[null,"Diciembre",340.3132258064515,8.75,7.9464499999999996,15.88,13.80771612903226,16.97,1,2.3199999999999998,1.5788,8.2764000000000006,2306.9,1292.2850000000001,26.170500000000001,127.5945,9.1574000000000009,1,1.1206088940000001]
[2002,"Enero",342.67096774193539,8.75,8.0050299999999996,15.97,13.8621,17.05,1,2.4178999999999999,1.5996999999999999,8.2771000000000008,2274.96,1316.3380999999999,26.632899999999999,132.6833,9.1636000000000006,1,1.132136137]
[null,"Febrero",345.52428571428572,8.75,7.9290200000000004,16.07,13.914899999999999,17.149999999999999,1,2.3477999999999999,1.5964,8.2766999999999999,2286.6999999999998,1320.5526,26.752400000000002,133.64259999999999,9.1050000000000004,1,1.1493790479999999]
[null,"Marzo",348.52677419354831,8.75,7.9018699999999997,16.149999999999999,13.983000000000001,17.149999999999999,1,2.3231999999999999,1.5876999999999999,8.2773000000000003,2282.33,1322.9048,26.926200000000001,131.06100000000001,9.0640000000000001,1,1.141813199]
[null,"Abril",351.33499999999992,8.75,7.8154700000000004,16.23,14.0527,17.559999999999999,1,2.3620999999999999,1.5814999999999999,8.2772000000000006,2263.11,1318.0908999999999,26.663,130.77180000000001,9.1648999999999994,1,1.1288682080000001]
[null,"Mayo",354.3854838709679,8.75,7.8587199999999999,16.309999999999999,14.146599999999999,17.559999999999999,1,2.5215999999999998,1.5502,8.2769999999999992,2310.2399999999998,1262.2,26.8032,126.375,9.5099,1,1.0905125410000001]
[null,"Junio",357.64099999999996,8.75,7.8892899999999999,16.39,14.243600000000001,17.559999999999999,1,2.8439999999999999,1.5318000000000001,8.2766999999999999,2364.25,1219.6949999999999,27.0976,123.29049999999999,9.7670999999999992,1,1.0466381979999999]
[null,"Julio",360.85999999999996,8.75,7.8441799999999997,16.47,14.264799999999999,17.559999999999999,1,3.4281000000000001,1.5456000000000001,8.2767999999999997,2506.7199999999998,1179.9867999999999,27.9664,117.8991,9.7791999999999994,1,1.007878587]
[null,"Agosto",363.87354838709678,8.75,7.7598200000000004,16.55,14.329499999999999,17.559999999999999,1,3.0219,1.5693999999999999,8.2766999999999999,2647.22,1197.5091,28.670400000000001,118.9927,9.8389000000000006,1,1.0227469140000001]
[null,"Septiembre",367.05633333333327,8.75,7.7714499999999997,16.64,14.4255,17.559999999999999,1,3.8944999999999999,1.5761000000000001,8.2769999999999992,2751.23,1211.605,29.061399999999999,121.078,10.0708,1,1.0195810540000001]
[null,"Octubre",370.27741935483874,8.75,7.7172599999999996,16.73,14.489699999999999,17.559999999999999,1,3.6446000000000001,1.5780000000000001,8.2772000000000006,2827.86,1240.1909000000001,31.0806,123.90770000000001,10.094099999999999,1,1.0192399999999999]
[null,"Noviembre",373.57633333333342,8.75,7.6006600000000004,16.8,14.551,17.559999999999999,1,3.6360999999999999,1.5714999999999999,8.2772000000000006,2726.66,1210.2,36.144500000000001,121.6079,10.1952,1,0.99820399999999998]
[null,"Diciembre",376.9258064516128,8.75,7.6367000000000003,16.88,14.604900000000001,17.559999999999999,1,3.5329000000000002,1.5591999999999999,8.2776999999999994,2814.89,1206.6143,37.205399999999997,121.8929,10.225099999999999,1,0.98119400000000001]
[2003,"Enero",379.88322580645161,8.75,7.7846500000000001,16.96,14.6928,17.559999999999999,1,3.4375,1.5414000000000001,8.2774999999999999,2913,1176.4523999999999,39.429600000000001,118.8133,10.622299999999999,1,0.94159999999999999]
[null,"Febrero",383.21142857142837,8.75,7.8144200000000001,17.04,14.7624,18.170000000000002,1,3.5954999999999999,1.5121,8.2780000000000005,2951.86,1190.3684000000001,45.252800000000001,119.3379,10.944699999999999,1,0.92726399999999998]
[null,"Marzo",386.59451612903223,8.75,7.8924500000000002,17.11,14.8422,22.72,1,3.4567000000000001,1.4761,8.2773000000000003,2959.01,1237.2,43.910400000000003,118.6871,10.9053,1,0.926369]
[null,"Abril",389.82866666666672,8.75,7.8945699999999999,17.18,14.919499999999999,23.78,1,3.109,1.4581999999999999,8.2772000000000006,2926.62,1231.1044999999999,42.806800000000003,119.895,10.588699999999999,1,0.92075600000000002]
[null,"Mayo",392.92645161290324,8.75,7.8905399999999997,17.23,14.991199999999999,25.6,1,2.9517000000000002,1.3839999999999999,8.2768999999999995,2858.94,1201.2333000000001,41.499200000000002,117.3681,10.252800000000001,1,0.86563199999999996]
[null,"Junio",396.35833333333329,8.75,7.9082699999999999,17.3,15.072100000000001,28.89,1,2.8887,1.3525,8.2771000000000008,2826.95,1194.1429000000001,41.590400000000002,118.32899999999999,10.502800000000001,1,0.85668900000000003]
[null,"Julio",399.85935483870969,8.75,7.9074400000000002,17.38,15.1853,34.450000000000003,1,2.8833000000000002,1.3821000000000001,8.2773000000000003,2858.82,1181.1636000000001,43.185099999999998,118.69589999999999,10.4581,1,0.87998399999999999]
[null,"Agosto",403.03516129032266,8.75,7.9105699999999999,17.45,15.165100000000001,33.72,1,3.0053000000000001,1.3963000000000001,8.2769999999999992,2867.29,1178.5999999999999,41.528599999999997,118.66240000000001,10.782999999999999,1,0.89669299999999996]
[null,"Septiembre",406.25733333333329,8.75,7.97079,17.53,15.3093,31.7,1,2.9203999999999999,1.3633999999999999,8.2772000000000006,2840.08,1165.4048,41.597999999999999,114.8,10.9229,1,0.88789399999999996]
[null,"Octubre",409.64967741935482,8.75,8.0822000000000003,17.600000000000001,15.444699999999999,34.909999999999997,1,2.8628,1.3221000000000001,8.2767999999999997,2876.2,1169.3408999999999,41.857300000000002,109.49550000000001,11.179600000000001,1,0.85415600000000003]
[null,"Noviembre",413.16599999999994,8.75,8.0663999999999998,17.670000000000002,15.4718,39.74,1,2.915,1.3129999999999999,8.2768999999999995,2844.55,1186.3888999999999,42.584600000000002,109.1778,11.1494,1,0.85499999999999998]
[null,"Diciembre",416.62967741935495,8.75,8.0174599999999998,17.73,15.5284,37.44,1,2.9255,1.3128,8.2769999999999992,2807.2,1192.3363999999999,42.934699999999999,107.7377,11.2515,1,0.81334300000000004]
[2004,"Enero",419.3096774193549,8.75,8.0986899999999995,17.78,15.6318,46.09,1,2.8532999999999999,1.2958000000000001,8.2769999999999992,2749.14,1183.345,43.442799999999998,106.2685,10.920299999999999,1,0.79132800000000003]
[null,"Febrero",422.44999999999993,8.75,8.0934799999999996,17.86,15.682600000000001,49.23,1,2.9342000000000001,1.3299000000000001,8.2771000000000008,2717.94,1167.5316,43.929900000000004,106.7079,11.0319,1,0.79119899999999999]
[null,"Marzo",425.66677419354841,8.75,8.08826,17.940000000000001,15.7525,46.52,1,2.9066999999999998,1.3286,8.2771000000000008,2670.8,1166.287,40.670200000000001,108.5157,11.019,1,0.81565200000000004]
[null,"Abril",428.71766666666662,8.75,8.0346899999999994,18.0243,15.8154,44.35,1,2.9079000000000002,1.3420000000000001,8.2768999999999995,2639.6,1152.8635999999999,38.161799999999999,107.6564,11.270099999999999,1,0.83416100000000004]
[null,"Mayo",431.89225806451617,8.75,7.9736700000000003,18.099299999999999,15.890650715057401,46.92,1,3.1023000000000001,1.3789,8.2771000000000008,2719.43,1177.875,37.397100000000002,112.196,11.5199,1,0.83343299999999998]
[null,"Junio",435.10100000000006,8.75,7.9268000000000001,18.1691,15.9534,48.12,1,3.1293000000000002,1.3577999999999999,8.2766999999999999,2716.56,1159.0227,36.321300000000001,109.4336,11.3926,1,0.82335100000000006]
[null,"Julio",438.35903225806459,8.75,7.8822700000000001,18.241,15.986958963873708,44.84,1,3.0384000000000002,1.3225,8.2766999999999999,2653.32,1158.7,36.0411,109.4871,11.4678,1,0.81535599999999997]
[null,"Agosto",441.69516129032257,8.75,7.8972600000000002,18.329999999999998,16.03618051718901,41.25,1,3.0017999999999998,1.3127,8.2767999999999997,2598.59,1158.0318,36.261800000000001,110.2336,11.395300000000001,1,0.82033100000000003]
[null,"Septiembre",445.21366666666682,8.75,7.88727,18.411000000000001,16.051542371951133,36.950000000000003,1,2.8914,1.2881,8.2766999999999999,2552.7800000000002,1148.7190000000001,36.608199999999997,110.09139999999999,11.487,1,0.81810000000000005]
[null,"Octubre",448.85838709677392,8.75,7.8180500000000004,18.486699999999999,16.084469555548353,32.270000000000003,1,2.8519999999999999,1.2468999999999999,8.2765000000000004,2580.6999999999998,1141.57,36.776600000000002,108.7835,11.403700000000001,1,0.79969500000000004]
[null,"Noviembre",452.44166666666672,8.75,7.7589499999999996,18.54,16.107368057139297,29.56,1,2.7877000000000001,1.1968000000000001,8.2765000000000004,2530.19,1086.4349999999999,37.174599999999998,104.699,11.371,1,0.76967600000000003]
[null,"Diciembre",456.04161290322583,8.75,7.7658500000000004,18.59,16.135477468171569,28.86,1,2.7149999999999999,1.2189000000000001,8.2765000000000004,2411.37,1050.3739,37.483499999999999,103.8104,11.2012,1,0.74597400000000003]
[2005,"Enero",459.51967741935471,8.75,7.7515900000000002,18.66,16.287199999999999,29.835599999999999,1,2.6894999999999998,1.2248000000000001,8.2765000000000004,2362.96,1037.9825000000001,37.6008,103.34099999999999,11.262700000000001,1,0.76211300000000004]
[null,"Febrero",462.80464285714282,8.75,7.7064199999999996,18.73,16.4573,28.8475,1,2.5971000000000002,1.2401,8.2765000000000004,2340.4899999999998,1023.1105,37.7423,104.9442,11.1373,1,0.76856400000000002]
[null,"Marzo",465.91419354838695,8.75,7.6037400000000002,18.77,16.524699999999999,28.298100000000002,1,2.7061000000000002,1.216,8.2765000000000004,2353.71,1007.7761,38.079000000000001,105.2543,11.155200000000001,1,0.75849999999999995]
[null,"Abril",468.81533333333334,8.75,7.5947899999999997,18.809999999999999,16.569400000000002,28.2471,1,2.5760000000000001,1.2359,8.2765000000000004,2350.0100000000002,1010.0667,38.621200000000002,107.1938,11.1121,1,0.77267799999999998]
[null,"Mayo",471.98387096774195,8.75,7.5822500000000002,18.850000000000001,16.657399999999999,28.699000000000002,1,2.4554,1.2555000000000001,8.2765000000000004,2339.2199999999998,1001.8386,38.655099999999997,106.59520000000001,10.9764,1,0.78807499999999997]
[null,"Junio",475.28000000000009,8.75,7.60466,18.86,16.6816,28.898599999999998,1,2.4148000000000001,1.2402,8.2765000000000004,2331.79,1012.46,39.1768,108.7473,10.819699999999999,1,0.82272699999999999]
[null,"Julio",478.4996774193549,8.75,7.5801600000000002,18.87,16.808900000000001,28.927,1,2.3702000000000001,1.2229000000000001,8.2263999999999999,2323.38,1036.56,41.544800000000002,111.95350000000001,10.6724,1,0.83083499999999999]
[null,"Agosto",481.45677419354826,8.75,7.5792999999999999,18.87,16.887499999999999,29.001000000000001,1,2.3609,1.2042999999999999,8.1016999999999992,2306.19,1021.6804,42.595700000000001,110.6065,10.686199999999999,1,0.813361]
[null,"Septiembre",484.56200000000001,8.75,7.6124299999999998,18.88,16.952100000000002,30.422799999999999,1,2.2949000000000002,1.1777,8.0919000000000008,2294.52,1029.8433,42.386200000000002,111.239,10.7858,1,0.81651200000000002]
[null,"Octubre",487.71967741935481,8.75,7.6658400000000002,18.89,17.009399999999999,32.406500000000001,1,2.2536,1.1774,8.0894999999999992,2292.5500000000002,1045.8775000000001,42.988500000000002,114.8695,10.8354,1,0.83150500000000005]
[null,"Noviembre",490.91433333333333,8.75,7.6008100000000001,18.899999999999999,17.080500000000001,33.251600000000003,1,2.2109000000000001,1.1815,8.0839999999999996,2279.85,1040.76,43.008400000000002,118.45399999999999,10.6715,1,0.84845199999999998]
[null,"Diciembre",494.14677419354837,8.75,7.6023399999999999,18.899999999999999,17.105799999999999,33.122700000000002,1,2.2808999999999999,1.1615,8.0754999999999999,2278.91,1022.381,42.983800000000002,118.4624,10.6266,1,0.843167]
[2006,"Enero",497.28709677419357,8.75,7.6114600000000001,18.899999999999999,17.2182,34.564900000000002,1,2.2665999999999999,1.1572,8.0654000000000003,2273.66,981.43499999999995,43.367400000000004,115.4765,10.542199999999999,1,0.82626999999999995]
[null,"Febrero",500.23214285714295,8.75,7.5989500000000003,18.899999999999999,17.309000000000001,34.173699999999997,1,2.1587000000000001,1.1489,8.0511999999999997,2256.2399999999998,969.84469999999999,43.052599999999998,117.8605,10.4842,1,0.83759300000000003]
[null,"Marzo",502.98709677419367,8.75,7.6090799999999996,18.899999999999999,17.362098756424462,32.561100000000003,1,2.1528,1.1573,8.0350000000000001,2262.36,974.71090000000004,42.689,117.2778,10.7493,1,0.83140999999999998]
[null,"Abril",505.56166666666661,8.75,7.5841099999999999,18.899999999999999,17.4192,32.106299999999997,1,2.1280999999999999,1.1440999999999999,8.0143000000000004,2334.29,952.59500000000003,42.145899999999997,117.06950000000001,11.0489,1,0.81490200000000002]
[null,"Mayo",507.63032258064516,8.75,7.5749000000000004,18.899999999999999,17.4924,32.4925,1,2.1697000000000002,1.1100000000000001,8.0130999999999997,2417.9899999999998,940.81679999999994,39.487400000000001,111.73050000000001,11.0908,1,0.78334499999999996]
[null,"Junio",510.39433333333329,8.75,7.6012399999999998,18.899999999999999,17.590900035500571,32.7652,1,2.2492999999999999,1.1136999999999999,8.0042000000000009,2542.2399999999998,954.45,39.580500000000001,114.625,11.3934,1,0.78992899999999999]
[null,"Julio",513.26935483870955,8.75,7.5741199999999997,18.899999999999999,17.629068677734224,32.754399999999997,1,2.1882999999999999,1.1294,7.9897,2511.7399999999998,950.81,39.901000000000003,115.767,10.983000000000001,1,0.78864100000000004]
[null,"Agosto",515.88225806451624,8.75,7.5738300000000001,18.899999999999999,17.7196,32.634399999999999,1,2.1553,1.1182000000000001,7.9722,2389.65,960.95219999999995,39.103000000000002,115.9243,10.8735,1,0.78062200000000004]
[null,"Septiembre",518.49866666666662,8.75,7.5976400000000002,18.899999999999999,17.748595450452004,32.9495,1,2.1678999999999999,1.1161000000000001,7.9333999999999998,2398.88,952.29,39.075699999999998,117.2145,10.988799999999999,1,0.78572200000000003]
[null,"Octubre",518.01870967741934,8.75,7.6049600000000002,18.899999999999999,17.8292,33.473700000000001,1,2.1457999999999999,1.1285000000000001,7.9017999999999997,2364.29,952.64290000000005,39.102400000000003,118.60899999999999,10.885400000000001,1,0.79265200000000002]
[null,"Noviembre",514.76266666666663,8.75,7.5991299999999997,18.899999999999999,17.915461851624741,33.558999999999997,1,2.1555,1.1358999999999999,7.8621999999999996,2290.46,935.41430000000003,39.082900000000002,117.3205,10.9133,1,0.77593599999999996]
[null,"Diciembre",515.19096774193542,8.75,7.5950499999999996,18.899999999999999,17.9846,33.085599999999999,1,2.1476000000000002,1.1532,7.8219000000000003,2261.33526315789,924.98,38.314399999999999,117.322,10.8546,1,0.75752699999999995]
[2007,"Enero",516.15193548387094,8.75,7.66913,18.899999999999999,18.059999999999999,33.7012,1,2.1375999999999999,1.1762999999999999,7.7876000000000003,2236.8293119999998,936.76189999999997,38.398699999999998,120.44710000000001,10.9559,1,0.76933399999999996]
[null,"Febrero",517.18750000000011,8.75,7.6863000000000001,18.899999999999999,18.1479,33.361800000000002,1,2.0939000000000001,1.171,7.7502000000000004,2226.745692,936.9,38.459299999999999,120.5047,10.995100000000001,1,0.76438399999999995]
[null,"Marzo",516.91580645161309,8.75,7.6832700000000003,18.899999999999999,18.194253496415492,32.7913,1,2.0882999999999998,1.1681999999999999,7.7369000000000003,2200.36,942.88409999999999,37.997900000000001,117.26,11.1144,1,0.75498500000000002]
[null,"Abril",516.73399999999992,8.75,7.6525800000000004,18.899999999999999,18.219006574985084,32.228099999999998,1,2.0301999999999998,1.135,7.7247000000000003,2141.9299999999998,930.69050000000004,36.9313,118.9324,10.9802,1,0.74007599999999996]
[null,"Mayo",516.76774193548397,8.75,7.63443,18.899999999999999,18.258881125759629,32.139800000000001,1,1.9836,1.0951,7.6772999999999998,2004.673,927.56359999999995,36.858400000000003,120.7732,10.822100000000001,1,0.73993500000000001]
[null,"Junio",516.67633333333333,8.75,7.6696200000000001,18.899999999999999,18.2928,32.415399999999998,1,1.9322999999999999,1.0650999999999999,7.6333000000000002,1920.9179999999999,927.86670000000004,36.280500000000004,122.68859999999999,10.833,1,0.745139]
[null,"Julio",516.595483870968,8.75,7.6701499999999996,18.899999999999999,18.364899999999999,32.992699999999999,1,1.8812,1.0502,7.5757000000000003,1952.1724999999999,918.11900000000003,35.615200000000002,121.4148,10.8146,1,0.72881200000000002]
[null,"Agosto",516.5754838709679,8.75,7.65421,18.899999999999999,18.510100000000001,32.903500000000001,1,1.962,1.0579000000000001,7.5734000000000004,2061.5680000000002,934.48479999999995,35.689700000000002,116.73350000000001,11.043799999999999,1,0.73394499999999996]
[null,"Septiembre",516.36666666666656,8.75,7.6902451506296448,18.899999999999999,18.594799999999999,33.306199999999997,1,1.9023000000000001,1.0266999999999999,7.5209999999999999,2109.2928099999999,928.59500000000003,36.088799999999999,115.04349999999999,11.0319,1,0.71903600000000001]
[null,"Octubre",516.58225806451605,8.75,7.7108800000000004,18.899999999999999,18.714300000000001,33.455100000000002,1,1.7987,0.97540000000000004,7.5019,1998.3786500000001,914.94349999999997,36.216000000000001,115.8661,10.821400000000001,1,0.70262599999999997]
[null,"Noviembre",511.29133333333328,8.75,7.6298724282510353,18.899999999999999,18.792999999999999,33.407899999999998,1,1.7668999999999999,0.96719999999999995,7.4210000000000003,2044.9333300000001,918.80949999999996,36.764299999999999,111.0729,10.8811,1,0.68116399999999999]
[null,"Diciembre",495.75483870967741,8.75,7.6145193141472056,18.899999999999999,18.840599999999998,33.518900000000002,1,1.7851999999999999,1.0021,7.3681999999999999,2015.04303,931.09500000000003,37.058500000000002,112.449,10.846299999999999,1,0.68727300000000002]
[2008,"Enero",494.60806451612893,8.75,7.6950003532170266,18.895099999999999,18.902887099781676,33.756999999999998,1,1.7709999999999999,1.0099,7.2404999999999999,1984.3062709999999,942.05709999999999,37.191099999999999,107.8181,10.9057,1,0.67947000000000002]
[null,"Febrero",493.50827586206896,8.75,7.713841628737506,18.895100000000006,18.995517022688951,33.834400000000002,1,1.7290000000000001,0.99860000000000004,7.1643999999999997,1905.3051720000001,944.005,37.6004,107.03,10.767899999999999,1,0.67784500000000003]
[null,"Marzo",492.35935483870969,8.75,7.6284180629053724,18.896999999999998,19.063788688146566,33.916899999999998,1,1.7090000000000001,1.0028999999999999,7.0721999999999996,1842.826575,981.73479999999995,38.2881,100.75620000000001,10.732799999999999,1,0.64442999999999995]
[null,"Abril",491.27700000000016,8.75,7.5304171142075269,18.903600000000001,19.124891060491503,34.025799999999997,1,1.6862999999999999,1.0137,6.9996999999999998,1793.286364,986.86360000000002,38.626100000000001,102.6777,10.5146,1,0.63481299999999996]
[null,"Mayo",507.55483870967743,8.75,7.424087050067028,18.911909523809499,19.213895973053184,34.011400000000002,1,1.6585000000000001,0.99929999999999997,6.9725000000000001,1775.645076,1034.1333,38.680100000000003,104.3595,10.4381,1,0.64252399999999998]
[null,"Junio",516.46166666666682,8.75,7.4820833829284314,18.898909523809525,19.301721574842208,34.157200000000003,1,1.6178999999999999,1.0165999999999999,6.8993000000000002,1731.661556,1031.4857,39.239899999999999,106.9152,10.3269,1,0.64263700000000001]
[null,"Julio",532.26032258064504,8.75,7.4317652507534779,18.895413043478253,19.375599999999999,34.273600000000002,1,1.59,1.0129999999999999,6.8354999999999997,1770.1390710000001,1015.0545,39.669499999999999,106.8518,10.2094,1,0.63469200000000003]
[null,"Agosto",547.15096774193546,8.75,7.3971985268438409,18.895199999999999,19.475583578006948,34.6753,1,1.6127,1.0535000000000001,6.8461999999999996,1848.1423239999999,1046.1143,39.855600000000003,109.36239999999999,10.115399999999999,1,0.66889799999999999]
[null,"Septiembre",548.97400000000005,8.75,7.4503711040300944,18.895123809523813,19.432961117318836,34.831699999999998,1,1.8030999999999999,1.0582,6.8307000000000002,2072.656352,1134.8667,40.009500000000003,106.5748,10.6633,1,0.69673399999999996]
[null,"Octubre",550.25193548387085,8.75,7.5129466599303756,18.895119047619055,19.646979296253114,34.99,1,2.181,1.1847000000000001,6.8357999999999999,2286.9772520000001,1329.1876999999999,39.817300000000003,99.965900000000005,12.6593,1,0.75371600000000005]
[null,"Noviembre",548.65333333333331,8.75,7.6208658613064024,18.895115000000004,19.731587721498521,35.194099999999999,1,2.2704,1.2171000000000001,6.8281000000000001,2329.9220679999999,1398.7044000000001,40.107599999999998,96.965599999999995,13.118600000000001,1,0.78447999999999996]
[null,"Diciembre",544.48258064516153,8.75,7.689267774777468,18.895099999999999,19.795882421365235,35.256900000000002,1,2.3954,1.2337,6.8539000000000003,2243.6690720000001,1361.5726999999999,40.2059,91.275000000000006,13.416700000000001,1,0.74045300000000003]
[2009,"Enero",551.30838709677414,8.75,7.8455114061778559,18.895099999999999,19.916042247334367,35.369300000000003,1,2.3079000000000001,1.2248000000000001,6.8360000000000003,2265.8208140000002,1354.3975,40.194899999999997,90.120500000000007,13.883900000000001,1,0.75572399999999995]
[null,"Febrero",557.78392857142865,8.75,7.9324462749767868,18.895100000000006,19.997926553964621,35.558,1,2.323,1.2452000000000001,6.8362999999999996,2511.6799999999998,1439.5842,40.455500000000001,92.915800000000004,14.6066,1,0.78224300000000002]
[null,"Marzo",560.71161290322596,8.75,8.0635843305283821,18.89510000000001,20.028700000000001,35.666899999999998,1,2.3161,1.2645,6.8360000000000003,2471.7068049999998,1449.6159,40.582900000000002,97.855000000000004,14.646599999999999,1,0.76696299999999995]
[null,"Abril",565.09633333333329,8.75,8.0795614352258323,18.895100000000006,20.006554991448645,35.825600000000001,1,2.2027000000000001,1.2242,6.8305999999999996,2375.0380580000001,1332.125,40.751100000000001,98.92,13.403499999999999,1,0.75779300000000005]
[null,"Mayo",569.73709677419345,8.75,8.0886278204663729,18.895099999999999,20.164880683483393,35.948300000000003,1,2.0689000000000002,1.1528,6.8235000000000001,2227.2468720000002,1254.345,40.809699999999999,96.644499999999994,13.189500000000001,1,0.73380800000000002]
[null,"Junio",571.89400000000001,8.75,8.1190835347620904,18.89510000000001,20.273522255211812,35.923200000000001,1,1.9585999999999999,1.1264000000000001,6.8334000000000001,2090.0410569999999,1259.2932000000001,40.969499999999996,96.614500000000007,13.3414,1,0.713503]
[null,"Julio",577.19870967741929,8.75,8.1651316546808221,18.895099999999999,20.370698516606893,35.979900000000001,1,1.9328000000000001,1.1229,6.8316999999999997,2049.3521059999998,1259.6739,41.280299999999997,94.367000000000004,13.362299999999999,1,0.70988499999999999]
[null,"Agosto",582.20838709677423,8.75,8.2493711388796154,18.895100000000006,20.495326714118363,36.026899999999998,1,1.8452999999999999,1.0871999999999999,6.8323,2016.95569,1238.9952000000001,41.454099999999997,94.897099999999995,13.0063,1,0.70089999999999997]
[null,"Septiembre",582.15566666666689,8.75,8.3031278533496931,18.895110000000006,20.578071655346612,36.055900000000001,1,1.8187,1.0815999999999999,6.8277000000000001,1973.81,1211.8643,41.561700000000002,91.274799999999999,13.406000000000001,1,0.68682699999999997]
[null,"Octubre",577.49129032258054,8.75,8.3356649668472524,18.895110000000006,20.657870755391759,36.094900000000003,1,1.7378,1.0547,6.8266999999999998,1902.1233629999999,1173.7405000000001,41.881700000000002,90.367099999999994,13.227499999999999,1,0.674987]
[null,"Noviembre",562.38366666666673,8.75,8.2926075535514752,18.895110000000006,20.725083123577612,36.0931,1,1.7267999999999999,1.0592999999999999,6.8270999999999997,1974.9528720000001,1162.8368,42.174399999999999,89.267399999999995,13.111499999999999,1,0.67052199999999995]
[null,"Diciembre",562.63612903225794,8.75,8.3141321336488225,18.895110000000006,20.781463455802157,36.089500000000001,1,1.7507999999999999,1.0537000000000001,6.8274999999999997,2020.0741889999999,1163.3108999999999,42.255499999999998,89.950900000000004,12.8622,1,0.68454000000000004]
[2010,"Enero",559.05064516129028,8.75,8.3563405085440845,18.895110000000006,20.918234696806792,36.11,1,1.7817000000000001,1.0438000000000001,6.8269000000000002,1982.18751,1138.1947,40.577100000000002,91.101100000000002,12.8096,1,0.70077999999999996]
[null,"Febrero",548.63857142857148,8.75,8.1361262190342583,18.895100000126963,21.038769555912207,36.192,1,1.8420000000000001,1.0571999999999999,6.8285,1951.677306,1155.6552999999999,38.572800000000001,90.139499999999998,12.9396,1,0.730765]
[null,"Marzo",532.64677419354837,8.75,8.0103276904942504,18.895103607623714,21.121796362445124,36.2973,1,1.7855000000000001,1.0228999999999999,6.8262,1910.294664,1136.0822000000001,39.4833,90.716099999999997,12.567299999999999,1,0.73706000000000005]
[null,"Abril",511.28833333333336,8.75,7.9928449678823039,18.895103607623714,21.184484763543033,36.421599999999998,1,1.7567999999999999,1.0052000000000001,6.8255999999999997,1936.5212779999999,1115.4591,39.6312,93.452699999999993,12.239599999999999,1,0.74579099999999998]
[null,"Mayo",522.39548387096761,8.75,7.9879061949656069,18.895099999999999,21.262304728708429,36.6982,1,1.8142,1.0403,6.8274999999999997,1985.691771,1164.8409999999999,39.759799999999998,91.972999999999999,12.7262,1,0.79625299999999999]
[null,"Junio",529.91333333333341,8.75,7.998232545050775,18.895099999999999,21.338955733031167,36.726900000000001,1,1.8042,1.0376000000000001,6.8183999999999996,1926.1785420000001,1214.1114,39.817100000000003,90.805899999999994,12.7102,1,0.81919299999999995]
[null,"Julio",518.70451612903219,8.75,7.9928699999999999,18.89510000000001,21.423151353151844,36.796199999999999,1,1.7688999999999999,1.0422,6.7762000000000002,1872.9649959999999,1203.8095000000001,39.826300000000003,87.500500000000002,12.803800000000001,1,0.78328600000000004]
[null,"Agosto",506.84580645161299,8.75,8,18.895099705569017,21.530391152863562,36.893099999999997,1,1.7588999999999999,1.0404,6.7873000000000001,1821.4239070000001,1179.5159000000001,39.832999999999998,85.372699999999995,12.766,1,0.77523600000000004]
[null,"Septiembre",505.0586666666668,8.75,8.0662800000000008,18.895099999999999,21.619256082981003,36.984699999999997,1,1.718,1.0329999999999999,6.7396000000000003,1806.7016289999999,1159.931,39.899500000000003,84.357100000000003,12.797700000000001,1,0.76570199999999999]
[null,"Octubre",505.05806451612915,8.75,8.0445899999999995,18.895100000000006,21.720137161989317,37.188600000000001,1,1.6837,1.0179,6.6677999999999997,1807.8968219999999,1121.94,39.966099999999997,81.728499999999997,12.439299999999999,1,0.71957800000000005]
[null,"Noviembre",507.39699999999999,8.75,7.9917899999999999,18.89510000000001,21.741055878191414,37.215699999999998,1,1.7131000000000001,1.0128999999999999,6.6538000000000004,1866.059614,1129.623,40.137900000000002,82.518000000000001,12.3376,1,0.73240499999999997]
[null,"Diciembre",501.12129032258042,8.75,7.96,18.89510000000001,21.799978904160877,37.309699999999999,1,1.6955,1.0081,6.6497000000000002,1918.793154,1145.4833000000001,40.061100000000003,83.337599999999995,12.3902,1,0.75646199999999997]
[2011,"Enero",501.86741935483877,8.75,7.94,18.895100000000006,21.959545617601595,37.4465,1,1.6745000000000001,0.99390000000000001,6.5964,1867.7322380000001,1118.8675000000001,40.2057,82.625,12.128,1,0.748475]
[null,"Febrero",497.19785714285723,8.75,7.7936800000000002,18.895100000000006,22.064175783052654,37.627600000000001,1,1.6664000000000001,0.98760000000000003,6.5761000000000003,1882.6582209999999,1117.4367999999999,40.4101,82.536799999999999,12.0649,1,0.73290200000000005]
[null,"Marzo",495.12,8.75,7.6911800000000001,18.895099999999999,22.129389726415965,37.762999999999998,1,1.6574,0.97660000000000002,6.5644999999999998,1882.028552,1119.2674,40.235399999999998,81.647000000000006,11.9963,1,0.71439399999999997]
[null,"Abril",494.49866666666662,8.75,7.6033400000000002,18.895100000000006,22.164416689609169,37.835299999999997,1,1.5832999999999999,0.95799999999999996,6.5266999999999999,1809.4825169999999,1083.1762000000001,40.253700000000002,83.177099999999996,11.7059,1,0.69223599999999996]
[null,"Mayo",497.77870967741922,8.75,7.65,18.895099999999999,22.251683335038216,37.891100000000002,1,1.6135999999999999,0.96799999999999997,6.4957000000000003,1802.460654,1084.3619000000001,40.275700000000001,81.125699999999995,11.654199999999999,1,0.69714299999999996]
[null,"Junio",500.2146666666668,8.75,7.76492,18.895099999999999,22.402375882596033,38.03,1,1.5853999999999999,0.97660000000000002,6.4745999999999997,1781.8953449999999,1080.4522999999999,40.299100000000003,80.425899999999999,11.8055,1,0.695079]
[null,"Julio",499.40903225806443,8.75,7.7444499999999996,18.872410000000009,22.513748801950989,38.044400000000003,1,1.5625,0.95530000000000004,6.4574999999999996,1760.766779,1057.425,40.358199999999997,79.242500000000007,11.674099999999999,1,0.70113300000000001]
[null,"Agosto",500.19096774193548,8.75,7.8148499999999999,18.848513043478263,22.604635227635427,38.061999999999998,1,1.5966,0.98170000000000002,6.4036,1785.6536000000001,1073.8869999999999,40.529499999999999,76.965699999999998,12.236599999999999,1,0.69723100000000005]
[null,"Septiembre",505.49799999999988,8.75,7.8399099999999997,18.924095416770832,22.676129355315798,38.145600000000002,1,1.7492000000000001,1.0024999999999999,6.3884999999999996,1835.400132,1121.9095,40.749000000000002,76.795699999999997,13.063700000000001,1,0.72645700000000002]
[null,"Octubre",509.52096774193552,8.75,7.8299174515732988,18.99443888888889,22.724166452708364,38.3001,1,1.7703,1.0198,6.3710000000000004,1904.7413630000001,1150.6849999999999,40.896299999999997,76.643000000000001,13.437900000000001,1,0.729854]
[null,"Noviembre",502.21600000000001,8.75,7.8008899999999999,18.983940909090908,22.759988452761522,38.441600000000001,1,1.7864,1.0247999999999999,6.3563999999999998,1920.130107,1133.4775,41.0471,77.5595,13.695499999999999,1,0.73780199999999996]
[null,"Diciembre",499.80580645161302,8.75,7.7856076542219848,19.010026469856818,22.83322030305397,38.5473,1,1.8391,1.0235000000000001,6.3482000000000003,1933.2295449999999,1148.1261999999999,41.0139,77.796700000000001,13.7746,1,0.75894200000000001]
[2012,"Enero",504.09741935483879,8.75,7.7961200000000002,19.087711479177649,23.013784602379719,38.858400000000003,1,1.7849999999999999,1.0129999999999999,6.3171999999999997,1847.872001,1140.3275000000001,41.173299999999998,76.963999999999999,13.382899999999999,1,0.77500400000000003]
[null,"Febrero",505.04931034482757,8.75,7.7717200000000002,19.162914048967881,23.128224881342625,38.942500000000003,1,1.7168000000000001,0.99670000000000003,6.2996999999999996,1781.6219229999999,1122.69,41.435600000000001,78.47,12.783300000000001,1,0.75626400000000005]
[null,"Marzo",503.25677419354849,8.75,7.7114099999999999,19.240354545454544,23.161915703074222,38.994399999999999,1,1.7952999999999999,0.99380000000000002,6.3125,1766.2085850000001,1126.17,41.578499999999998,82.465900000000005,12.7523,1,0.75755300000000003]
[null,"Abril",499.63499999999999,8.75,7.7361700000000004,19.30468947368421,23.2158340866951,39.017600000000002,1,1.8522000000000001,0.99280000000000002,6.3042999999999996,1772.1225440000001,1135.0237999999999,41.632399999999997,81.252399999999994,13.055899999999999,1,0.76002199999999998]
[null,"Mayo",499.32580645161295,8.75,7.7713799999999997,19.377786363636368,23.29195380026535,39.022199999999998,1,1.9810000000000001,1.0097,6.3242000000000003,1794.6508510000001,1156.6913999999999,41.807499999999997,79.666799999999995,13.619899999999999,1,0.78103199999999995]
[null,"Junio",494.77800000000002,8.75,7.8366899999999999,19.456114285714285,23.424567576646083,39.065399999999997,1,2.0482,1.028,6.3632999999999997,1790.8693760000001,1163.3886,41.991700000000002,79.315200000000004,13.9193,1,0.79836200000000002]
[null,"Julio",495.24806451612903,8.75,7.8116199999999996,19.534649999999999,23.604695946842575,39.0807,1,2.0295999999999998,1.0142,6.3716999999999997,1783.200902,1142.2781,41.994,78.934799999999996,13.363799999999999,1,0.813635]
[null,"Agosto",494.00354838709666,8.75,7.8730200000000004,19.617239130434779,23.733739868233521,39.110900000000001,1,2.0278999999999998,0.99239999999999995,6.3593000000000002,1804.7576879999999,1131.7456999999999,42.107399999999998,78.690899999999999,13.1793,1,0.80650699999999997]
[null,"Septiembre",492.61766666666665,8.75,7.9600799999999996,19.696496460991842,23.813753992857396,39.204599999999999,1,2.0268999999999999,0.97829999999999995,6.32,1801.477654,1122.9911,42.260599999999997,78.135300000000001,12.923500000000001,1,0.77708999999999995]
[null,"Octubre",492.40451612903229,8.75,7.8591300000000004,19.770308695652176,23.861465954030169,39.4283,1,2.0297000000000001,0.98719999999999997,6.2626999999999997,1805.396438,1105.3823,42.3568,79.013199999999998,12.897600000000001,1,0.77054400000000001]
[null,"Noviembre",494.43333333333345,8.75,7.8577599999999999,19.848518181818182,23.974316587035641,39.935499999999998,1,2.0661999999999998,0.997,6.2337999999999996,1820.8119549999999,1086.9525000000001,42.499200000000002,81.030500000000004,13.0639,1,0.76965099999999997]
[null,"Diciembre",494.33129032258068,8.75,7.8761000000000001,19.926769525306661,24.070408755498978,40.170400000000001,1,2.0775000000000001,0.98980000000000001,6.2328000000000001,1792.146291,1075.2225000000001,42.558700000000002,83.790499999999994,12.8651,1,0.76261800000000002]
[2013,"Enero",495.34322580645164,8.75,7.8676199999999996,20.001634609414715,24.226022614155656,40.575600000000001,1,2.0280999999999998,0.99209999999999998,6.2214999999999998,1770.638385,1066.5205000000001,42.645699999999998,89.058099999999996,12.696400000000001,1,0.75163500000000005]
[null,"Febrero",496.21857142857158,8.75,7.8144,20.080485000000003,24.356957650813889,40.757926315789469,1,1.9729000000000001,1.0098,6.2323000000000004,1792.3274240000001,1087.3083999999999,42.828400000000002,93.001599999999996,12.7249,1,0.74867300000000003]
[null,"Marzo",493.5019354838708,8.75,7.7964500000000001,20.151966666666663,24.4090695256725,40.991199999999999,1,1.9842,1.0244,6.2153999999999998,1812.395771,1102.8710000000001,42.941400000000002,94.77,12.5,1,0.77146800000000004]
[null,"Abril",493.49333333333351,8.75,7.7833199999999998,20.218299999999999,24.411461072966144,41.052700000000002,1,2.0011000000000001,1.0186999999999999,6.1860999999999997,1830.331862,1120.8977,43.183399999999999,97.758200000000002,12.206099999999999,1,0.76774600000000004]
[null,"Mayo",493.59483870967745,8.75,7.7759099999999997,20.3003,24.537025632561676,41.094900000000003,1,2.0365000000000002,1.0196000000000001,6.1416000000000004,1850.797793,1111.4945,43.5715,100.9186,12.299300000000001,1,0.77054699999999998]
[null,"Junio",493.33000000000004,8.75,7.8050800000000002,20.380034999999999,24.682677784300466,41.462600000000002,1,2.1734,1.0314000000000001,6.1341999999999999,1908.5430919999999,1135.0084999999999,43.723999999999997,97.234999999999999,12.9636,1,0.75897300000000001]
[null,"Julio",493.06677419354855,8.75,7.8101500000000001,20.45634347826087,24.825860099273971,41.907699999999998,1,2.2517999999999998,1.0402,6.1342999999999996,1900.077571,1125.03,43.753399999999999,99.672700000000006,12.7615,1,0.76466800000000001]
[null,"Agosto",493.1432258064516,8.75,7.8872658086161449,20.459227272727276,24.927736938926625,42.37,1,2.3408000000000002,1.0407,6.1212999999999997,1904.2727319999999,1115.9418000000001,43.774099999999997,97.812299999999993,12.912000000000001,1,0.75103699999999995]
[null,"Septiembre",495.12099999999998,8.75,7.9287700000000001,20.525571428571428,25.039504053469503,42.613700000000001,1,2.2641,1.0342,6.1197999999999997,1920.0784510000001,1082.3115,43.759,99.21,13.055300000000001,1,0.74876200000000004]
[null,"Octubre",493.96322580645176,8.75,7.9452600000000002,20.531204761904764,25.171504138764977,42.439,1,2.1882000000000001,1.0363,6.1032000000000002,1884.2854600000001,1065.8572999999999,43.7744,97.77,12.9916,1,0.73296700000000004]
[null,"Noviembre",493.58833333333331,8.75,7.8807799999999997,20.550342857142855,25.236673905645056,42.460999999999999,1,2.2959000000000001,1.0486,6.0929000000000002,1922.3106359999999,1061.5636999999999,43.805599999999998,100.0737,13.059699999999999,1,0.741259]
[null,"Diciembre",493.50612903225806,8.75,7.8451700000000004,20.59389047619047,25.25307800585588,42.604766666666663,1,2.3471000000000002,1.0639000000000001,6.0738000000000003,1932.6848339999999,1055.6348,43.886299999999999,103.46,13.0099,1,0.72962000000000005]
[2014,"Enero",496.41580645161287,8.75,7.8320800000000004,20.626459090909091,25.421351943528666,42.863799999999998,1,2.3858000000000001,1.0940000000000001,6.0509000000000004,1961.295901,1067.1267,43.8994,103.76139999999999,13.222,1,0.73419800000000002]
[null,"Febrero",518.76392857142855,8.75,7.7452699999999997,20.673604999999995,25.577839605967768,43.086500000000001,1,2.3792,1.1053999999999999,6.0815999999999999,2038.394992,1071.3063,44.148400000000002,102.1253,13.2928,1,0.73218000000000005]
[null,"Marzo",541.9990322580644,8.75,7.7161799999999996,20.730138095238093,25.65854239381266,43.115200000000002,1,2.3250999999999999,1.1107,6.1729000000000003,2017.7256259999999,1070.491,44.5122,102.3395,13.1929,1,0.723186]
[null,"Abril",540.12033333333352,8.75,7.7358900000000004,20.774422222222221,25.65793088764207,43.11,1,2.2324999999999999,1.0992,6.2245999999999997,1937.212084,1042.635,44.842799999999997,102.45820000000001,13.0669,1,0.724163]
[null,"Mayo",545.72774193548378,8.75,7.72384,20.821080952380953,25.798448197519736,43.173466666666663,1,2.2195,1.0893999999999999,6.2380000000000004,1915.2974549999999,1024.7867000000001,45.193899999999999,101.77379999999999,12.933,1,0.72824100000000003]
[null,"Junio",544.76266666666675,8.75,7.79406,20.919928571428564,25.977480477756416,43.362299999999998,1,2.2360000000000002,1.083,6.2305999999999999,1886.712088,1018.7443,45.3264,102.0629,12.9932,1,0.73534100000000002]
[null,"Julio",533.02290322580643,8.75,7.7608600000000001,20.964939130434782,26.11124710506866,43.469700000000003,1,2.2242000000000002,1.0739000000000001,6.1984000000000004,1858.0021380000001,1021.0341,45.320599999999999,101.74,12.991400000000001,1,0.73876500000000001]
[null,"Agosto",534.17161290322576,8.75,7.7919600000000004,21.048950000000005,26.185360498351528,43.492899999999999,1,2.2685,1.0926,6.1540999999999997,1899.4888980000001,1024.55,45.361899999999999,102.9438,13.143599999999999,1,0.75093500000000002]
[null,"Septiembre",534.25599999999997,8.75,7.7074100000000003,21.165080632488042,26.241220743874365,43.650766666666655,1,2.3378999999999999,1.1011,6.1382000000000003,1978.1368210000001,1035.8914,45.486699999999999,107.42570000000001,13.237,1,0.77596600000000004]
[null,"Octubre",533.83516129032239,8.75,7.6263300000000003,21.288829999999997,26.363768538015751,43.803800000000003,1,2.4495,1.1212,6.1250999999999998,2049.0839599999999,1060.3359,45.680999999999997,108.0264,13.4795,1,0.78941799999999995]
[null,"Noviembre",531.39433333333329,8.75,7.6028599999999997,21.354580000000006,26.438178876818817,44.023499999999999,1,2.5527000000000002,1.1325000000000001,6.1249000000000002,2134.5411829999998,1097.8728000000001,46.176400000000001,116.29940000000001,13.614800000000001,1,0.801875]
[null,"Diciembre",529.30741935483866,8.75,7.6081700000000003,21.475268181818187,26.491787829600035,44.143500000000003,1,2.6419000000000001,1.1532,6.1886000000000001,2351.057933,1102.6224,46.714500000000001,119.3233,14.5205,1,0.81232000000000004]
[2015,"Enero",531.4951612903227,8.75,7.6262100000000004,21.606090476190474,26.665335763898828,44.462299999999999,1,2.6345999999999998,1.2121999999999999,6.2180999999999997,2398.4480960000001,1088.1300000000001,46.777099999999997,118.25,14.6972,1,0.860294]
[null,"Febrero",530.87535714285707,8.75,7.6279399999999997,21.775469999999999,26.735556252641352,44.748800000000003,1,2.8170000000000002,1.2499,6.2518000000000002,2422.7252990000002,1101.4604999999999,46.999299999999998,118.76,14.917,1,0.88146100000000005]
[null,"Marzo",527.3925806451615,8.75,7.6120000000000001,21.835825,26.815441002766644,44.656799999999997,1,3.1414,1.2618,6.2385999999999999,2589.4611460000001,1112.9005,47.130200000000002,120.39449999999999,15.237500000000001,1,0.92481500000000005]
[null,"Abril",526.16600000000017,8.75,7.6911699999999996,21.940305555555558,26.901468609906921,44.696399999999997,1,3.0421,1.2337,6.2009999999999996,2496.0099489999998,1084.6709000000001,47.256799999999998,119.5095,15.1943,1,0.92443200000000003]
[null,"Mayo",526.91516129032266,8.75,7.6642000000000001,21.93779,27.030531121199854,44.7605,1,3.0562,1.2176,6.2035,2443.2824380000002,1092.6365000000001,47.729199999999999,120.798,15.2796,1,0.89604700000000004]
[null,"Junio",529.67066666666653,8.75,7.63225,21.924704545454542,27.165561681121606,44.812600000000003,1,3.1116999999999999,1.2364999999999999,6.2051999999999996,2563.5386560000002,1112.8832,49.4114,123.7186,15.479200000000001,1,0.89099799999999996]
[null,"Julio",528.33967741935476,8.75,7.6319800000000004,21.919126086956521,27.369750313341896,44.938000000000002,1,3.2288000000000001,1.2863,6.2084999999999999,2740.0791359999998,1146.5468000000001,54.947600000000001,123.3109,15.951499999999999,1,0.90869800000000001]
[null,"Agosto",528.0190322580645,8.75,7.6324800000000002,21.980742857142857,27.481611702601846,45.017000000000003,1,3.5154000000000001,1.3147,6.3383000000000003,3021.6412030000001,1178.1438000000001,52.0505,123.0038,16.533999999999999,1,0.89844599999999997]
[null,"Septiembre",528.78433333333328,8.75,7.6731100000000003,21.948009523809521,27.563860015561662,45.104900000000001,1,3.9032,1.3266,6.3676000000000004,3072.57854,1184.33,51.811199999999999,120.1476,16.838699999999999,1,0.89039100000000004]
[null,"Octubre",528.3567741935484,8.75,7.6631099999999996,22.084533333333336,27.72120380087468,45.226900000000001,1,3.8752,1.3071999999999999,6.3505000000000003,2923.814965,1143.1990000000001,52.851300000000002,120.04810000000001,16.569700000000001,1,0.89086399999999999]
[null,"Noviembre",527.24633333333338,8.75,7.6253399999999996,22.145080952380948,27.807767540305683,45.329500000000003,1,3.7858000000000001,1.3279000000000001,6.3639999999999999,3012.3208410000002,1153.4721,54.969900000000003,122.64319999999999,16.630600000000001,1,0.93280200000000002]
[null,"Diciembre",528.05999999999995,8.75,7.5987999999999998,22.290499999999994,27.880180930628832,45.439,1,3.8807999999999998,1.3713,6.4490999999999996,3249.2237709999999,1169.9464,56.5426,121.63500000000001,17.069600000000001,1,0.91735999999999995]
[2016,"Enero",530.06387096774199,8.75,7.6329700000000003,22.454819999999994,28.074363903224899,45.525399999999998,1,4.0556000000000001,1.4208000000000001,6.5726000000000004,3277.9121190000001,1203.3179,58.156399999999998,118.22580000000001,18.064800000000002,1,0.92086900000000005]
[null,"Febrero",530.38413793103462,8.75,7.6478799999999998,22.587499999999999,28.203694295794183,45.662500000000001,1,3.9643999999999999,1.3796999999999999,6.5500999999999996,3356.6389429999999,1216.2284999999999,60.462000000000003,114.6155,18.433199999999999,1,0.90081]
[null,"Marzo",529.09645161290337,8.75,7.7004700000000001,22.626094444444441,28.247724633349844,45.715200000000003,1,3.698,1.3226,6.5026999999999999,3123.5571399999999,1181.5730000000001,61.6736,112.93170000000001,17.630299999999998,1,0.89801600000000004]
[null,"Abril",529.80399999999986,8.75,7.7148000000000003,22.590244999999999,28.281513875542299,45.7682,1,3.5634000000000001,1.2818000000000001,6.4753999999999996,2993.677874,1145.7967000000001,61.824800000000003,109.5519,17.479500000000002,1,0.88155799999999995]
[null,"Mayo",531.25322580645184,8.75,7.6298599999999999,22.608000000000001,28.431792842135117,45.811500000000002,1,3.5402999999999998,1.2945,6.5259,2999.8198219999999,1173.7905000000001,62.070099999999996,108.8481,18.135999999999999,1,0.88521499999999997]
[null,"Junio",537.13233333333312,8.75,7.62439,22.741709090909094,28.54596112443053,45.865200000000002,1,3.4234,1.2894000000000001,6.5891999999999999,2985.4863839999998,1165.2022999999999,62.584899999999998,105.3509,18.6538,1,0.88988]
[null,"Julio",541.87258064516129,8.75,7.5793299999999997,22.839438095238094,28.7362,45.9255,1,3.2780999999999998,1.3051999999999999,6.6771000000000003,3018.18,1140.865,63.331299999999999,104.191,18.615500000000001,1,0.88988]
[null,"Agosto",544.30548387096792,8.75,7.5175099999999997,22.888999999999999,28.870924697396262,45.942100000000003,1,3.2086000000000001,1.2998000000000001,6.6466000000000003,2950.3817989999998,1110.0183,64.361400000000003,101.2383,18.4742,1,0.89265300000000003]
[null,"Septiembre",545.88833333333343,8.75,7.5067199999999996,22.965619047619043,29.011285472743189,46.080300000000001,1,3.2532000000000001,1.3108,6.6702000000000004,2922.2362440000002,1108.3638000000001,65.201599999999999,101.7843,19.243600000000001,1,0.89216799999999996]
[null,"Octubre",547.14451612903224,8.75,7.4790999999999999,23.081483333333335,29.123567808052513,46.344700000000003,1,3.1854,1.3250999999999999,6.7302999999999997,2934.7622959999999,1128.1659999999999,65.898799999999994,103.9075,18.891200000000001,1,0.90651400000000004]
[null,"Noviembre",548.04800000000012,8.75,7.4871699999999999,23.180459090909093,29.220847856347248,46.489699999999999,1,3.3369,1.3433999999999999,6.8402000000000003,3115.3507629999999,1162.7080000000001,66.763999999999996,108.443,20.008600000000001,1,0.92753300000000005]
[null,"Diciembre",546.17870967741931,8.75,7.4869700000000003,23.456028571428583,29.322151283359602,46.585799999999999,1,3.3540000000000001,1.3339000000000001,6.9198000000000004,3007.4485359999999,1183.07,67.255899999999997,115.99809999999999,20.499199999999998,1,0.94899999999999995]
[2017,"Enero",548.44967741935477,8.75,7.49892,23.587390476190478,29.453600000000002,46.687199999999997,1,3.1901000000000002,1.3183,6.8906999999999998,2939.6604459999999,1179.1074000000001,67.613600000000005,114.8721,21.391100000000002,1,0.94095300000000004]
[null,"Febrero",553.99285714285702,8.75,7.3861100000000004,23.567299999999999,29.5809,47.022100000000002,1,3.1057000000000001,1.3109,6.8693999999999997,2877.1758920000002,1140.4874,68.107600000000005,112.91160000000001,20.300799999999999,1,0.93908400000000003]
[null,"Marzo",553.5877419354839,8.75,7.34063,23.494,29.6478,47.214500000000001,1,3.1274999999999999,1.3387,6.8940000000000001,2939.9100039999998,1133.8616999999999,69.999700000000004,112.9165,19.28,1,0.93499200000000005]
[null,"Abril",555.71433333333334,8.75,7.3209200000000001,23.462326666666666,29.683299999999999,47.284100000000002,1,3.1389999999999998,1.3436999999999999,6.8875999999999999,2878.3500610000001,1134.1755000000001,68.841300000000004,110.09099999999999,18.767199999999999,1,0.934006]
[null,"Mayo",567.81935483870961,8.75,7.3227900000000004,23.47046666666667,29.876000000000001,47.338299999999997,1,3.2042999999999999,1.3606,6.8842999999999996,2920.6605079999999,1125.1359,64.138000000000005,112.2436,18.7666,1,0.90505400000000003]
[null,"Junio",564.16566666666688,8.75,7.32477,23.44368636363636,30.0517,47.4114,1,3.2953999999999999,1.3294999999999999,6.8066000000000004,2959.1342690000001,1130.8463999999999,62.202100000000002,110.9141,18.129300000000001,1,0.89094799999999996]
[null,"Julio",568.69516129032252,8.75,7.2821800000000003,23.434961904761906,30.159558935250928,47.440199999999997,1,3.1993999999999998,1.2689999999999999,6.7694000000000001,3036.5614300000002,1131.7460000000001,62.478999999999999,112.417,17.8081,1,0.86793600000000004]
[null,"Agosto",571.78096774193557,8.75,7.2568000000000001,23.372326086956527,30.277211689496212,47.476799999999997,1,3.1478000000000002,1.2607999999999999,6.6669999999999998,2970.2736500000001,1130.27,62.051000000000002,109.827,17.796900000000001,1,0.84622200000000003]
[null,"Septiembre",572.98466666666661,8.75,7.2866200000000001,23.382875000000006,30.425898344937345,47.6218,1,3.1324999999999998,1.2279,6.569,2914.3755200000001,1131.5989999999999,62.64,110.776,17.830500000000001,1,0.83914999999999995]
[null,"Octubre",568.42387096774178,8.75,7.32409,23.466164705882356,30.501995483373374,47.7346,1,3.1922999999999999,1.2606999999999999,6.6254,2953.2526400000002,1130.8838000000001,62.8461,112.9148,18.8215,1,0.85059700000000005]
[null,"Noviembre",564.96233333333328,8.75,7.3118999999999996,23.568261904761901,30.570122737046365,47.876199999999997,1,3.2629000000000001,1.2773000000000001,6.62,3010.6113169999999,1099.7945,63.133699999999997,112.819,18.930599999999998,1,0.85213499999999998]
[null,"Diciembre",563.62806451612914,8.75,7.3228799999999996,23.557952631578946,30.682788376160424,48.113500000000002,1,3.2949999999999999,1.2768999999999999,6.5932000000000004,2988.9482889999999,1082.902,63.517899999999997,112.9405,19.176500000000001,1,0.84467899999999996]
[2018,"Enero",566.15419354838718,8.75,7.3250900000000003,23.59,30.865200000000002,48.334600000000002,1,3.2115,1.2428999999999999,6.4233000000000002,2867.8325559999998,1065.6410000000001,63.760399999999997,110.871,18.911799999999999,1,0.82062800000000002]
[null,"Febrero",567.5839285714286,8.75,7.3437000000000001,23.563805000000002,30.956700000000001,48.744100000000003,1,3.2507000000000001,1.2587999999999999,6.3182999999999998,2858.537468,1078.4747,64.048900000000003,107.97,18.647300000000001,1,0.80940199999999995]
[null,"Marzo",564.26419354838708,8.75,7.3760000000000003,23.616310526315797,31.037500000000001,49.1068,1,3.2789999999999999,1.2932999999999999,6.3174000000000001,2847.3771969999998,1069.9418000000001,64.804599999999994,106.0468,18.5901,1,0.81107499999999999]
[null,"Abril",562.16666666666674,8.75,7.3936799999999998,23.651419047619044,31.1325,49.28,1,3.4089,1.2732000000000001,6.2967000000000004,2768.7010460000001,1068.0452,65.4084,107.6562,18.387599999999999,1,0.81421500000000002]
[null,"Mayo",562.10129032258067,8.75,7.4281600000000001,23.801586363636364,31.3916,49.3108,1,3.6316000000000002,1.2866,6.3700999999999999,2859.374973,1076.6595,65.857299999999995,109.68819999999999,19.552499999999998,1,0.84516599999999997]
[null,"Junio",564.20333333333349,8.75,7.46997,23.9526,31.6175,49.320599999999999,1,3.7709999999999999,1.3125,6.4650999999999996,2892.123564,1094.3552,66.458200000000005,110.0638,20.287800000000001,1,0.85650700000000002]
[null,"Julio",563.8848387096773,8.75,7.4656900000000004,23.986168181818179,31.772087016725656,49.489600000000003,1,3.8220999999999998,1.3132999999999999,6.7164000000000001,2884.5690599999998,1122.2029,67.2744,111.521,18.985600000000002,1,0.85522200000000004]
[null,"Agosto",564.65645161290331,8.75,7.49099,23.997621739130437,31.892294956461864,49.642800000000001,1,3.9333,1.3042,6.8452999999999999,2961.6159290000001,1120.4269999999999,68.422600000000003,110.9965,18.863299999999999,1,0.86602580756906555]
[null,"Septiembre",575.87133333333361,8.75,7.6479100000000004,24.039300000000001,32.036644858253105,49.749699999999997,1,4.1086999999999998,1.3033999999999999,6.8551000000000002,3031.1236560000002,1119.82,69.509,112.09739999999999,18.999099999999999,1,0.85711836804662722]
[null,"Octubre",588.9751612903226,8.75,7.70871,24.074044444444443,32.181762536757972,49.899099999999997,1,3.7610999999999999,1.3004,6.9191000000000003,3087.4656030000001,1131.615,71.061499999999995,112.7218,19.195799999999998,1,0.87047353760445678]
[null,"Noviembre",607.72766666666678,8.75,7.67943,24.222409090909085,32.391836681147325,50.066547619047611,1,3.771827,1.3189850000000001,6.9387259999999999,3194.7858219999998,1125.345,73.583799999999997,113.266778,20.228774999999999,1,0.87981932030438226]
[null,"Diciembre",597.92258064516102,8.75,7.71333,24.328657894736846,32.442911284768371,50.147174999999997,1,3.889319,1.3444,6.8941540000000003,3219.882928,1122.4244000000001,76.317899999999995,112.276652,20.11816,1,0.87938450119992018]
[2019,"Enero",602.63258064516117,8.75,7.7131499999999997,24.337213636363639,32.695103932403732,50.289995238095237,1,3.7476919999999998,1.3316870000000001,6.796138,3161.4808840000001,1120.33,78.295100000000005,108.970758,19.198509000000001,1,0.87565597578285825]
[null,"Febrero",606.81749999999988,8.75,7.7141200000000003,24.38353,32.80874790474693,50.39727894736842,1,3.716243,1.319928,6.7410170000000003,3113.3546200000001,1121.3553846153848,82.411000000000001,110.268331,19.179172000000001,1,0.88085859048531778]
[null,"Marzo",600.59354838709692,8.75,7.6695599999999997,24.422923809523809,32.827093694204507,50.437985714285723,1,3.8345172413793107,1.3357445282888916,6.7121172413793113,3125.0189655172408,1131.3617241379311,82.394199999999998,111.15257692307692,19.247072413793109,1,0.88442894803979932]
[null,"Abril",596.69733333333318,8.75,7.6245700000000003,24.433088235294115,32.759466412474417,50.455536842105261,1,3.8960518518518517,1.337838747474005,6.7152333333333338,3149.3648148148145,1141.0733333333333,84.215100000000007,111.69138461538461,18.941903703703701,1,0.890160982189933]
[null,"Mayo",588.7706451612903,8.75,7.65238,24.457490909090907,32.900556810968858,50.466221739130432,1,3.9966571428571425,1.345564285714286,6.8543714285714286,3307.5325000000003,1182.9527,88.899699999999996,109.94555555555554,19.110907142857144,1,0.89375562735024627]
[null,"Junio",583.02833333333319,8.75,7.6838300000000004,24.505320000000005,33.067627176838464,50.61342105263158,1,3.8617115384615386,1.3285378758107489,6.8979570239797194,3248.6680000000006,1173.7845,92.726500000000001,108.0820833333333,19.272967999999995,1,0.89375562735024627]
[null,"Julio",573.66,8.75,7.6551099999999996,24.499482608695658,33.144307307446283,50.81401739130434,1,3.7789033333333344,1.3099404913505706,6.8777620689655148,3207.3399789999999,1177.2345,93.057599999999994,108.23740740740739,19.047622222222223,1,0.89180816043241073]
[null,"Agosto",565.14290322580598,8.75,7.6528999999999998,24.540631818181826,33.224933239143191,51.058900000000001,1,4.0103679999999997,1.3263590000000001,7.0574923076923088,3414.8305759999998,1210.3782000000001,93.313699999999997,106.198881,19.657810000000001,1,0.89803999999999984]
[null,"Septiembre",574.54999999999995,8.75,7.6917900000000001,24.605589473684208,33.318465952573234,51.53329500000001,1,4.1199890000000003,1.3241909999999999,7.1147549999999997,3400.269358,1194.1144999999999,93.349800000000002,107.448035,19.589742999999999,1,0.90753799999999984]
[null,"Octubre",577.78645161290331,8.75,7.7392000000000003,24.634973684210525,33.451292410810211,52.617400000000004,1,4.0863100000000001,1.319007,7.0991499999999998,3432.6326859999999,1183.3857069999999,92.089799999999997,108.120434,19.325655000000001,1,0.90482300000000004]
[null,"Noviembre",573.14700000000016,8.75,7.6848799999999997,24.636852380952384,33.568297446372377,52.764200000000002,1,4.148657,1.323223,7.0211199999999998,3400.926825,1167.8623580000001,91.671700000000001,108.82135599999999,19.282540000000001,1,0.90434300000000001]
[null,"Diciembre",565.09161290322572,8.75,7.6698399999999998,24.645414285714288,33.607836285031119,52.842100000000002,1,4.11564,1.317798,7.0135319999999997,3376.4374200000002,1172.7923020000001,91.865799999999993,109.191329,19.112613,1,0.90046999999999999]
[2020,"Enero",566.71290322580637,8.75,7.6722400000000004,24.649518181818181,33.7249549370624,53.041699999999999,1,4.1335839999999999,1.3070649999999999,6.9241570000000001,3311.8344400000001,1164.445733,92.184600000000003,109.26337100000001,18.807302,1,0.90026399999999995]
[null,"Febrero",567.8155172413791,8.75,7.6280799999999997,24.671419999999998,33.833164100369935,53.290599999999998,1,4.3409560000000003,1.3277330000000001,6.9936579999999999,3409.6498190000002,1194.466705,93.775000000000006,109.918593,18.821793,1,0.91586999999999996]
[null,"Marzo",567.66483870967727,8.75,7.6709899999999998,24.715222727272728,33.898518496873308,53.657499999999999,1,4.8637980000000001,1.3902890000000001,7.0215750000000003,3871.8673159999998,1215.7247379999999,96.68,107.689561,22.195236999999999,1,0.90336099999999997]
[null,"Abril",565.62733333333335,8.75,7.6908099999999999,24.805818200000001,33.965013281703698,54.120866666666679,1,5.3079219999999996,1.40595,7.0726139999999997,3970.2849299999998,1222.667686,99.942800000000005,107.864493,24.205152999999999,1,0.91993999999999998]
[null,"Mayo",566.5529032258064,8.75,7.6796300000000004,24.830380952380946,34.115516230897619,55.310499999999998,1,5.6195139999999997,1.398093,7.0999109999999996,3859.859567,1228.6244650000001,106.31480000000001,107.21453099999999,23.521000999999998,1,0.91574999999999995]
[null,"Junio",573.92566666666653,8.75,7.6814200000000001,24.775468181818177,34.28264759635919,57.856900000000003,1,5.1900769999999996,1.356363,7.0851059999999997,3705.990871,1208.0667189999999,111.47029999999999,107.64194000000001,22.311230999999999,1,0.88888299999999998]
[null,"Julio",578.77161290322601,8.75,7.6795099999999996,24.679073913043478,34.451051980871128,58.269300000000001,1,5.2983799999999999,1.351504,7.0144679999999999,3656.8551969999999,1199.3131840000001,116.76519999999999,106.836528,22.422294000000001,1,0.87420500000000001]
[null,"Agosto",589.21451612903218,8.75,7.6889700000000003,24.54,34.558664594627629,58.357599999999998,1,5.4377579999999996,1.325145,6.9347750000000001,3781.076497,1187.4432200000001,119.6734,105.99124500000001,22.165531000000001,1,0.84566399999999997]
[null,"Septiembre",594.85766666666666,8.75,7.7428699999999999,24.482780999999999,34.583975001329897,58.343800000000002,1,5.3944130000000001,1.3208150000000001,6.8159289999999997,3754.0409709999999,1178.773451,86.798900000000003,105.632363,21.625679999999999,1,0.84791799999999995]
[null,"Octubre",600.095483870968,8.75,7.7643500000000003,24.398,34.60756106557502,58.335999999999999,1,5.6255980000000001,1.320838,6.727614,3832.4856930000001,1145.3087419999999,63.9816,105.242564,21.276066,1,0.84971200000000002]
[null,"Noviembre",603.93233333333342,8.75,7.7685899999999997,24.2852,34.636565809857736,58.289099999999998,1,5.4474200000000002,1.308897,6.6065290000000001,3682.3877130000001,1116.045408,64.269900000000007,104.317195,20.428621,1,0.84480200000000005]
[null,"Diciembre",602.91258064516126,8.75,7.7820299999999998,24.148672727272722,34.691499691468906,58.076500000000003,1,5.1478869999999999,1.2815319999999999,6.5421519999999997,3468.1280390000002,1094.9562599999999,71.251300000000001,103.785895,19.958867999999999,1,0.82217099999999999]
[2021,"Enero",608.38000000000011,8.75,7.7699199999999999,24.096350000000005,34.781043375747856,58.069000000000003,1,5.3495039999999996,1.2726649999999999,6.4779169999999997,3488.7927490000002,1098.737754,72.462500000000006,103.74303399999999,19.950751,1,0.82170399999999999]
[null,"Febrero",607.63714285714286,8.75,7.7215499999999997,24.076130000000003,34.807800762659774,57.843299999999999,1,5.4117889999999997,1.2699590000000001,6.4631619999999996,3557.6632249999998,1111.8136999999999,74.055199999999999,105.385761,20.296211,1,0.82672299999999999]
[null,"Marzo",607.62580645161279,8.75,7.7013299999999996,24.029049999999998,34.824061961260867,57.175199999999997,1,5.6393930000000001,1.255917,6.5091640000000002,3616.7607659999999,1130.2543000000001,78.144900000000007,108.67599800000001,20.779129999999999,1,0.83959700000000004]
[null,"Abril",609.89066666666645,8.75,7.6977200000000003,24.013778947368422,34.888751341686259,56.796799999999998,1,5.5857219999999996,1.2512449999999999,6.526599,3650.4441660000002,1117.8554999999999,82.733800000000002,109.139644,20.066569999999999,1,0.83674300000000001]
[null,"Mayo",612.14645161290321,8.75,7.6959499999999998,23.998319047619045,34.932328212155952,56.791899999999998,1,5.3070060000000003,1.2133910000000001,6.4329939999999999,3736.6044470000002,1122.142347,88.099800000000002,109.18047300000001,19.983464999999999,1,0.82375799999999999]
[null,"Junio",614.18300000000011,8.75,7.7190899999999996,23.964504545454545,34.986918882547869,56.878599999999999,1,5.03979,1.2222500000000001,6.4228209999999999,3690.893024,1122.187236,93.131399999999999,110.09568400000001,20.042515999999999,1,0.83010200000000001]
[null,"Julio",615.71516129032261,8.75,7.7266599999999999,23.764595454545454,35.038619130482353,56.9621,1,5.1551859999999996,1.2508379999999999,6.4758930000000001,3829.2984700000002,1144.003477,93.684399999999997,110.306473,19.950047000000001,1,0.84553100000000003]
[null,"Agosto"]
[null,"Septiembre"]
[null,"Octubre"]
[null,"Noviembre"]
[null,"Diciembre"]
["FUENTE: Bancos Centrales de Centroamérica y República Dominicana y el sitio web x-rates.com que contiene datos de la Brasil, China, Colombia, Corea del Sur, Haití, Japón, zona Euro, Japón, México y Canadá.  Este sitio contiene datos oficiales del Federal Reserve Bank of New York, U.S.A."]
["Aclaración: para efectos de la actualización del cálculo de los diferentes índices de tipo de cambio real, los datos no disponibles son estimados por esta Secretaría."]
["NOTAS:"]
["1/ La Región CAPARD incluye a Centroamérica, República Dominicana y Panamá."]

{"sheet":"ITCER GLOBAL","index":4,"n_rows":334,"n_cols":54,"rows_kept":334,"cut":false,"hidden":false,"merged":[[3,26,3,32],[3,18,3,24],[3,10,3,16],[3,2,3,8],[331,0,331,16]]}
[]
["Secretaría Ejecutiva"]
["Consejo Monetario Centroamericano"]
[null,null,"ITCER GLOBAL\nPeriodo de referencia Diciembre 2000=100",null,null,null,null,null,null,null,"VARIACION INTERANUAL",null,null,null,null,null,null,null,"EFECTO TIPO DE CAMBIO",null,null,null,null,null,null,null,"EFECTO PRECIO"]
["Año","MES","COSTA RICA","EL SALVADOR","GUATEMALA","HONDURAS","NICARAGUA","REPÚBLICA \nDOMINICANA","PANAMÁ",null,"COSTA RICA","EL\nSALVADOR","GUATEMALA","HONDURAS","NICARAGUA","REPÚBLICA\nDOMINICANA","PANAMÁ",null,"COSTA\n RICA","EL\nSALVADOR","GUATEMALA","HONDURAS","NICARAGUA","REPÚBLICA \nDOMINICANA","PANAMÁ",null,"COSTA\n RICA","EL\nSALVADOR","GUATEMALA","HONDURAS","NICARAGUA","REPÚBLICA\nDOMINICANA","PANAMÁ"]
[1995,"Enero",93.944786077981931,119.61933220631379,102.49088504173092,140.38137889598283,94.307762073552126,81.160845773075636,101.9827503130348,null,null,null,null,null,null,null,null,null,60.89276293813942,120.50169223685172,87.177774150271517,70.506294048975221,66.87703954803905,90.359539407572541,118.59805721895687,null,64.817607746313243,100.73763999034544,85.059050972948086,50.224819419402955,70.913611008901455,111.33390558819001,116.29227183511092]
[null,"Febrero",94.650453247229294,119.36804443961128,103.62031671583362,132.88904810190328,95.393969935212979,81.64390230739123,102.92787632039436,null,null,null,null,null,null,null,null,null,61.864185111739623,120.74989762455701,87.020576943237742,69.666763142372517,67.653127448180101,90.59820862585623,118.89208577172046,null,65.360685542782207,101.15764080029376,83.98022675599546,52.424758953010155,70.919710642220736,110.96751388089194,115.5100931079474]
[null,"Marzo",103.1199871557299,118.38593653357258,102.75877165818576,132.89993186868702,95.931533553953926,81.473656621326668,103.51520359657357,null,null,null,null,null,null,null,null,null,63.102025117676675,120.70812352440254,86.258385944696997,70.445370668067767,68.435683775881756,90.475629329333174,119.57786242491129,null,61.192817084413676,101.96153957034535,83.942601252207211,53.006325644825736,71.338048335683155,111.04893665181359,115.51719773545361]
[null,"Abril",105.71676173542913,119.5434876767892,104.67185608054329,131.09771616779472,98.663790243860376,83.654604624789926,105.27008625385517,null,null,null,null,null,null,null,null,null,64.616312485723043,121.64302447914834,87.671408460040269,70.872038084260211,69.783670445213573,91.846674754354979,120.94578373284722,null,61.122107246752734,101.75629542283029,83.758339388362941,54.060467379576323,70.728754969512281,109.79273067670138,114.89093249262726]
[null,"Mayo",106.5817839134706,119.33330663331073,103.97622261702477,129.41031666216557,99.299899552042135,83.856140315838076,105.26149671147351,null,null,null,null,null,null,null,null,null,65.392453754887086,121.46308559943533,87.791708106648585,70.904512776619029,70.266373618088863,91.921848126759329,120.67333111428459,null,61.354249622971743,101.78473137652091,84.434408076172801,54.790463855922766,70.761777136806586,109.61850590850275,114.64147374329627]
[null,"Junio",106.96599853051856,118.68342725788655,103.26243030246829,130.56914095060014,98.718943718890614,83.472181142634838,105.37711033784412,null,null,null,null,null,null,null,null,null,66.318306809468595,121.10939130162225,87.764675562347364,71.854904888120259,70.716292012709928,91.706074519960737,120.53175870697068,null,61.999427594318455,102.04406301687288,84.99187488157493,55.03207294233944,71.633963400256519,109.86423652121424,114.38134744873913]
[null,"Julio",106.8645940975096,115.84976801878399,103.80349657486691,130.94325432605578,98.736570159092707,83.084051350924909,105.27407574284555,null,null,null,null,null,null,null,null,null,67.221495601523628,120.96159528091567,87.912181445349972,72.81779691117211,71.246387419134095,91.730340668843084,120.27393263491433,null,62.903430429152948,104.41246223410896,84.690963547595402,55.610193351275562,72.158053803505524,110.40667754801525,114.24838621115909]
[null,"Agosto",106.22047064209883,114.31000417164024,103.37326606914115,130.24470156770099,100.47759175257598,81.460652363275059,103.98204529077273,null,null,null,null,null,null,null,null,null,67.350096465044601,119.7013965169581,87.684414391490407,73.120965465621509,70.998633107137593,90.570116214424232,118.55118622387211,null,63.405948079419858,104.71646588099368,84.823105359603062,56.141220783260316,70.661161228834274,111.18265516770647,114.01120827385019]
[null,"Septiembre",104.48796582576891,110.9562216354246,102.09481851867358,127.83437458371961,98.758488107832889,78.239555108193045,102.53284602476876,null,null,null,null,null,null,null,null,null,67.853017292333661,118.72608740001429,88.255475592529592,73.530378948027547,70.977822604664183,89.826465372336912,117.42232535031731,null,64.938595326352598,107.00264090653661,86.444617731885472,57.520036521844908,71.870098423504189,114.8095298447454,114.52166783895935]
[null,"Octubre",103.47692144646216,110.91386521652721,102.14570298529242,128.11559716790131,96.452389111491442,77.826416839044782,103.15778835725179,null,null,null,null,null,null,null,null,null,68.899533369770438,118.34746678981975,88.980016132483925,74.653297125443601,71.46950922977183,89.685738732477034,117.37709458434375,null,66.584444537633743,106.70213914083743,87.110875476862532,58.270264336048839,74.098225962198441,115.23817024489109,113.78403555711007]
[null,"Noviembre",102.25938426571187,109.98074284712067,100.82829788352673,129.11459814394749,94.262372968989055,76.406998912943848,102.70382962152497,null,null,null,null,null,null,null,null,null,69.533180671003407,117.27416766266788,88.612569979588841,76.046034022393812,71.46260486928287,88.686146541752834,116.56890820116945,null,67.996870087079401,106.63154714792704,87.884623503166679,58.898091397543972,75.812439914697478,116.07071054158209,113.50005995953492]
[null,"Diciembre",102.37029643958145,109.92610123351895,99.182194625672878,129.64565417026981,96.05291424669322,103.7019594118613,102.24283399794523,null,null,null,null,null,null,null,null,null,70.328781651606249,117.05351553265811,87.392618813593387,77.443149173257524,71.885414611444503,88.492368002263049,116.2544295290846,null,68.700379013861721,106.48382342242648,88.113213408339107,59.734473684361021,74.83938949194274,85.33336159137356,113.70423234886171]
[1996,"Enero",102.88328824743735,109.39089830949999,101.19453975040614,131.72866005129308,97.746274193595482,100.90523138800098,105.56601007476365,null,{"$f":"(C18/C6-1)*100","v":9.5146335870473173},{"$f":"(D18/D6-1)*100","v":-8.5508200958456122},-1.2648395911470156,-6.1637226480736329,3.6460542000366969,24.32747641655968,3.5135939663620386,null,71.422741477937578,117.35637433621353,89.701301432139331,78.765349903420969,71.648646657520459,85.201551848972585,120.24255900266918,null,69.421130189933052,107.28166250557409,88.642432342086252,59.793631752384776,73.300642145821058,84.437199813115171,113.90272201962671]
[null,"Febrero",103.39433879443391,109.39103336622522,102.08472081646204,131.10807876113458,97.885150780505683,101.17749905644449,106.00209439390414,null,{"$f":"(C19/C7-1)*100","v":9.2380810098873667},{"$f":"(D19/D7-1)*100","v":-8.3581926136299103},{"$f":"(E19/E7-1)*100","v":-1.481944803915991},{"$f":"(F19/F7-1)*100","v":-1.3401927143032899},{"$f":"(G19/G7-1)*100","v":2.6114657425250209},{"$f":"(H19/H7-1)*100","v":23.925359024987316},{"$f":"(I19/I7-1)*100","v":2.9867691663435725},null,72.103798219354317,116.91215194051314,90.486782494650697,80.243631156161612,72.072504224533432,85.115758776847272,119.99341429306203,null,69.736698411224751,106.875443391332,88.638908713221383,61.204185061972602,73.629660525472701,84.125185511220479,113.19909760194558]
[null,"Marzo",104.3037719641849,109.26473330279947,101.64263876396804,132.38118281324816,98.294533648206837,101.52436886636747,106.05994607291674,null,1.1479683435833499,-7.704634095779161,-1.0861679992929529,-0.39033056536960098,2.4632151772325361,24.610055662816912,2.4583272678095902,null,72.703462271405456,116.55618007813231,90.457045123047351,81.802641378965248,72.518007556338873,85.004157988391924,119.65536352947612,null,69.703579172927576,106.67319322065836,88.995175866207504,61.793254630731987,73.776236444519526,83.727836910052162,112.81861622597134]
[null,"Abril",104.79143649165501,109.39291105015765,100.15265710051526,131.85737252180294,98.718370884751593,101.89458546873823,106.14148513293745,null,-0.87528716220979241,-8.4911163492868429,-4.3174919689496942,0.57945811430912819,5.5319829854827418E-2,21.803917340544253,0.82777445150081785,null,73.16941077092099,116.32116512058674,89.578356785462105,82.717728689291022,72.980625538995881,84.934496614804502,119.23877866818155,null,69.823845555116321,106.33336658099574,89.441817500218121,62.732729393355257,73.928109717487985,83.355259971947021,112.33946700372653]
[null,"Mayo",104.21454326799801,108.96749861393698,99.072615125587731,130.95066902522507,98.21906247407864,101.90679877733177,106.50335975647251,null,-2.2210555674264776,-8.6864332446816128,-4.716085435704354,1.1902855991618333,-1.0884573729070479,21.52574443983135,1.1797885112758699,null,73.690045343416728,116.13298550498567,88.678458760685004,83.516896797800925,73.48605734202296,84.847484778909617,118.87472155128008,null,70.709944152339162,106.57580194295863,89.508547491426611,63.777373127977718,74.818528594097444,83.259886285215316,111.61593570671909]
[null,"Junio",103.99849985249706,107.16422653649248,99.242060745888537,131.03614170088406,98.860767085209446,101.53572306460524,106.43243553003349,null,-2.7742448243259665,-9.7058207599314272,-3.8933516718554828,0.35766548426676703,0.14366378019874393,21.640193984033964,1.0014747878414498,null,74.367932785518718,115.68564403921432,88.989984457199313,85.441432204200936,73.93097656376159,84.680954276188572,118.42076107481789,null,71.508659154695593,107.95173704708264,89.669625749771669,65.204478012820246,74.782928297571758,83.400158801555705,111.26378954412021]
[null,"Julio",104.32102263512816,107.66919001079654,97.567208280772007,134.78673384273188,99.936644745656849,101.63201907987876,106.5134213369512,null,-2.3801816531119124,-7.061367621090997,-6.0077824927574186,2.9352252901135634,1.2154307007327558,22.32434194934978,1.1772562099077621,null,75.257291946624491,115.66476731662961,88.376673854871427,89.623059849808968,74.631733406325679,84.742366113692043,118.46804209703019,null,72.140101818061552,107.42605874998345,90.580303989581495,66.492493211075555,74.679046506180725,83.381563094882409,111.22358160129041]
[null,"Agosto",104.99634766226167,105.14368830923803,97.054756945362954,134.87587830042548,102.48255762717353,101.98864212947139,106.96846722420644,null,-1.152436034633797,-8.0188220872065443,-6.1123241666293797,3.5557505810071,1.9954358376091941,25.19988383428533,2.8720553871416366,null,76.185992691190307,115.83815166577682,88.18765059080927,91.845647461123946,75.476540526140795,84.958043290393221,118.77983842234256,null,72.56061223791832,110.17128420023208,90.863810663556222,68.096422146401096,73.648181967433629,83.301475062822831,111.04191871178206]
[null,"Septiembre",105.19214600872968,105.93919691716762,96.414303432578919,134.27154167527999,102.42410619164704,101.60578130773013,106.69468886329386,null,0.67393424438462191,-4.5216254161408953,-5.5639602170953095,5.0355525362582698,3.711699271673452,29.864978356823801,4.0590337632096185,null,76.719427703921966,115.47519946452198,87.511160876251168,92.680064335474171,75.894969153392637,84.764031927624046,118.29263844593716,null,72.932657631640268,109.00139214271223,90.765745082052504,69.024354065740937,74.098737079906357,83.424418213863234,110.87022203842176]
[null,"Octubre",104.95299109909259,105.93815699578494,96.165550460682553,133.86580535673508,100.76994972975798,101.41818792512402,106.2259539070416,null,1.4264723302520377,-4.486101184039204,-5.8545316639221916,4.4882967538276031,4.4763646168222815,30.313320392059296,2.9742451817251769,null,77.259582433536963,114.97757238962198,87.225038559833607,93.39468434950453,76.271759614638214,84.499623965270061,117.87196819595123,null,73.613511748885202,108.53272857502769,90.702999298585326,69.76739436977185,75.688992422028264,83.318017896016102,110.96343582765194]
[null,"Noviembre",105.48743272001462,107.18613055321249,94.626073888095362,132.39509604576796,100.78103470274867,101.04973041544004,106.62416770716068,null,3.1567258863156811,-2.5410014713146967,-6.1512731302832862,2.5407645215788088,6.9154441252016419,32.251929604738791,3.8171294099573316,null,78.242939011126623,115.13085690938485,86.551025531746987,93.943215547056099,77.110272734414195,84.525826997364163,118.12863156185432,null,74.172758776677696,107.41208430154889,91.466360143084955,70.956718453212702,76.512682134936554,83.647751112108779,110.78973379308358]
[null,"Diciembre",105.18622360564964,106.87764432517845,93.650045391171673,132.4917666706929,99.83006348392064,102.36125748772173,105.40241897389477,null,2.7507267869739449,-2.7731875088197522,-5.5777644922864305,2.1953011218448948,3.9323629760223078,-1.2928414581009573,3.0902752324070359,null,78.596669030925923,114.59979807138447,85.995679341755036,94.757031470525348,77.403204649264808,86.3524670605305,117.36627212434396,null,74.721447673214513,107.22522824577901,91.82662857509068,71.51918481549356,77.534964867303643,84.360498473642252,111.35064381531159]
[1997,"Enero",102.99608905501856,106.4077856115649,93.28338960476934,130.19181472422392,100.40124232020037,105.12854045260944,108.0212669918109,null,0.10963958238767724,-2.7270209350461316,-7.8177638488691752,-1.1666749866511505,2.7161834540582852,4.1854213171257593,2.3258025147567807,null,78.533278404599315,115.42690744859026,86.256705332704357,95.051337885331776,76.826145358916108,91.533087174036936,120.12447423924738,null,76.248796556389948,108.4759980533277,92.467378917258245,73.008689591332825,76.519118273359226,87.067780813811297,111.20446703180589]
[null,"Febrero",102.79773462885237,104.76965629020791,91.668915983209558,124.62208326539127,101.01258554869182,105.28660301182029,106.97515664277265,null,-0.57701821254226848,-4.2246397477073039,-10.203098710510305,-4.9470601331593977,3.1950042915078969,4.0612823935126441,0.91796511609723019,null,78.432615992391845,114.34421050406254,86.205029340885488,92.674478266548789,76.789324290334108,91.141058792987977,118.2795846324418,null,76.298000413695959,109.13867101685769,94.039542647886378,74.364411056419385,76.019561199449555,86.564725412174013,110.56733950614213]
[null,"Marzo",102.58389653792989,104.65400448048865,90.112703970828107,124.31606464777342,102.01451932191135,105.48151860365812,106.86576191181105,null,-1.6489100958358205,-4.2197776747721072,-11.343600415485522,-6.0923448439437973,3.7845295517838551,3.8977338952968843,0.75977394740547322,null,78.931427114438662,114.1195596134946,84.491597887729924,92.902917253470591,77.28498419443622,91.146260733255531,117.68324925702433,null,76.943292054863761,109.04461819688005,93.762138038918579,74.731224413106887,75.758808361935237,86.409697110764355,110.12250055741914]
[null,"Abril",102.20712088193763,104.67870185310075,90.345013316898246,123.35904496941778,102.69105140190315,104.69263532088614,107.12748350151561,null,-2.4661515255811728,-4.3094284188994632,-9.7926945400698244,-6.4450909265463707,4.0242565609084568,2.7460240789795032,0.92894721356426846,null,79.495986084212078,113.86501007528595,84.374927871426266,92.48605602928815,77.827962331316144,90.98406020607942,117.16596321089466,null,77.779302849201841,108.77571851729368,93.391903740684569,74.973064238797079,75.788456023027706,86.905883997676128,109.37059228992065]
[null,"Mayo",102.96384494684348,105.29138279298321,90.121327359014884,125.02450296630023,103.28976630380826,104.90244281807924,107.31932283840584,null,-1.2001187952608849,-3.3735892515785348,-9.035077710652839,-4.5254950608792033,5.1626473537841555,2.9395919376223434,0.76613834887377941,null,80.368561350843819,114.02427495722685,84.153743611939362,94.81463244056566,78.735236443638172,91.224766431127875,117.46333404193736,null,78.055128372813982,108.29402362528913,93.378278014811571,75.836840132147927,76.2275288841807,86.961527282380786,109.45217593182699]
[null,"Junio",103.24913847423907,105.19073371548068,89.438545688750551,123.88738264355648,102.40479360877481,104.62611440246171,107.44089866425342,null,-0.72055018035915852,-1.8415593382179352,-9.8783872316397172,-5.4555628428422764,3.5848665027156112,3.043649313345731,0.94751485221378218,null,81.056322675719812,114.03421175057127,83.317327442741629,94.941523987581476,79.480962973596988,91.200154714809827,117.41266520569096,null,78.50556805947933,108.40708845991168,93.15595060399238,76.635345716151903,77.614494568725405,87.167678199338738,109.28116449639789]
[null,"Julio",102.90674708575887,104.09829853652161,89.473542186690239,121.92234951320862,101.36513059520929,102.56476336349351,106.67636337299467,null,-1.3556956341540527,-3.3165397398428054,-8.2954777908479151,-9.5442511015463296,1.4293914441374289,0.91776616469820826,0.15297793836517304,null,81.308063914477586,113.37291305342414,83.458467952204103,94.485441878445769,79.783774480685082,90.939261286584014,116.51686128945184,null,79.011402281250142,108.90947752969147,93.277259302045479,77.496408374421591,78.709289883217309,88.665208502740583,109.22462821688981]
[null,"Agosto",102.03828119584492,104.32842396137673,90.128567980962004,119.80941904677567,102.46271304701582,101.76163575170216,105.96262867238049,null,-2.8173041560758505,-0.77538115789083095,-7.1363724791975507,-11.170610670716407,-1.9363861145915706E-2,-0.222580056984234,-0.94031313893440105,null,81.315438375415241,112.38330064751665,84.748801992572737,93.778334740933303,79.938073603394983,90.539534648148717,115.35233448636181,null,79.691109476201632,107.72069238688194,94.0310091362756,78.272923353647684,78.016745044331174,88.972169108075946,108.86133718238793]
[null,"Septiembre",103.77050408671397,105.03440093142795,90.395683493826937,119.93512339316614,104.67303304450684,101.54559154186749,105.91334878095115,null,-1.3514715460769544,-0.85407102571025684,-6.2424554495285172,-10.677183045075033,2.1957007353833324,-5.9238524705929052E-2,-0.73231394239672287,null,82.118625009953178,112.44169744860793,85.271507297889073,93.96467839144006,80.789890296245758,90.604487148572844,115.04996476541933,null,79.134842538041653,107.05225759512433,94.331392829959853,78.346255653074294,77.183098594166083,89.225426503341993,108.62650089873414]
[null,"Octubre",104.78964158373276,105.60736231053157,90.720556174302743,120.6544856453766,105.36615019532512,101.45559727247634,106.46246435409965,null,-0.15564064792169541,-0.3122526336441056,-5.6621048393062594,-9.8690772271171294,4.5610824237712677,3.6886231274357861E-2,0.22264845676511769,null,82.91312208115518,112.4343655988793,85.880495247970075,94.059519680570673,81.645850472461078,90.588907673165437,114.89755413605738,null,79.123395049407605,106.46451453666022,94.664868547506032,77.957747842900019,77.487741861222077,89.28921627643021,107.92306455907519]
[null,"Noviembre",103.79841331261753,105.49741666010756,91.005159439610779,119.65519978895344,103.24871331847106,100.62955496061603,105.17496150679359,null,-1.6011569945778348,-1.575496647177288,-3.8265504418651841,-9.6226345516683196,2.4485545549326249,-0.41581056485411327,-1.3591723448170612,null,83.416080230428065,111.87356284182428,86.312400527577353,93.846663963643721,82.192628968077841,89.938295435184685,113.19991769459638,null,80.363540798256281,106.04388845108828,94.843414438334733,78.430911593620223,79.606443825168412,89.375626743439682,107.63010137853432]
[null,"Diciembre",103.13056762856425,104.89665268200285,89.820389663087525,118.96933321439776,103.20843472731816,99.525291667728595,100.36038926069941,null,-1.9543015298202793,-1.8535135721633011,-4.0893260778335545,-10.206244354719052,3.3841221025985524,-2.7705460929231984,-4.7835996197052477,null,83.521111515434526,111.04137712691262,85.384545470780878,93.447823318203788,82.522854088208959,88.992464206121653,107.70093578170842,null,80.985796389916842,105.85788420106948,95.06142846969901,78.54782471529785,79.957470827106775,89.416933841529001,107.31418697663774]
[1998,"Enero",101.3929362819169,103.21723149893353,89.353354522764434,117.40959586609254,102.84591193087235,98.369731492889514,97.687177579120259,null,-1.5565181045323784,-2.9984216796675955,-4.2130063011818102,-9.8179896218568263,2.434899762370879,-6.4290904550003862,-9.5667174626586018,null,83.39877536175112,110.76517563752657,85.629890922379943,92.668373528279048,83.029261263522642,86.661800245765221,104.58525241227656,null,82.253042884433185,107.31267834738529,95.832877657171949,78.927427391853684,80.731707954838868,88.098034761871261,107.06139229743769]
[null,"Febrero",101.5397167193909,103.46483670246342,88.529380688966398,115.40466851594039,102.78640032565711,98.671940096589722,98.862753241981522,null,-1.2237797982645238,-1.2454174557280151,-3.4248635544225414,-7.3962932635476486,1.7560334361605312,-6.282530470175729,-7.5834461527186754,null,83.994752736062779,110.68905741323746,84.892519820825484,93.011977112234732,83.74750401688074,86.620895302266518,104.96645631923734,null,82.721082399890548,106.98229557115036,95.891916514226594,80.596373013616301,81.47722242586994,87.786756009331057,106.17391573378103]
[null,"Marzo",101.42115555580011,103.1479152949036,89.020160035713886,113.93937858071801,102.72585620121757,99.027975377099054,99.395661410598066,null,-1.1334537109339182,-1.4391128108870777,-1.2124194336326943,-8.3470194270192088,0.69728984073489375,-6.1181743607692578,-6.9901719386771806,null,84.479240836283438,110.30140608990646,85.574002794095492,93.073933703928603,84.231469852536861,86.579232845183256,105.35245494904204,null,83.295482459578622,106.93517728841226,96.128790107503917,81.68724005984663,81.996366803257175,87.429064883422157,105.99301162033299]
[null,"Abril",101.90332409095765,102.39806754450579,89.041594173175625,112.39850367292489,101.98076816167186,99.446913862392734,100.35896673601783,null,-0.29723642380152793,-2.1786994567390083,-1.442712880179331,-8.8850730801378504,-0.69167004382051367,-5.0105926194474959,-6.3181888944511826,null,85.216032270906069,110.30383280983361,85.824279050386792,93.026754996281525,84.973855507764597,86.640431424234592,105.83020102467017,null,83.624389126740638,107.72061959264192,96.386727851557197,82.765118712777209,83.323411893754397,87.122292748190461,105.45166462608545]
[null,"Mayo",102.33883129719443,102.26867492883049,88.752547306959841,111.99105078456333,101.24159937077526,99.191647029276211,100.30695576726137,null,-0.60702244556982698,-2.8708027038601647,-1.5188192319918414,-10.424718253229138,-1.9829330690987246,-5.4439111572517245,-6.5341141610660518,null,85.950408613793599,110.28633139046238,85.684546348939321,93.470640780332886,85.744647519975175,86.619677107076654,105.68159171212098,null,83.986115069256115,107.83979695367272,96.543196729430733,83.462598239337837,84.693098541395145,87.325575994832533,105.35818867569881]
[null,"Junio",102.07333937275983,101.84587819799091,88.730491533928657,110.13451968140372,99.957752213535969,98.473863971876554,99.553937326318021,null,-1.1387979782248814,-3.1798005388353978,-0.79166555020465657,-11.10110058723407,-2.3895770002598349,-5.880224517293553,-7.3407440146063045,null,86.233673462085378,109.57258454160214,85.549412796951046,93.335998575971615,86.042168072563456,86.324926595343612,105.01672284291199,null,84.48207337194107,107.58666573485705,96.414897875595301,84.747269835082832,86.078534347946146,87.662779862073265,105.48726214482913]
[null,"Julio",101.30876719687846,101.49000213047795,89.148866943911244,108.34763149174771,101.94776225948327,106.39576602323578,100.04127652924029,null,-1.5528426795462735,-2.5056090663466257,-0.36287290616208168,-11.133904551265461,0.57478509705735092,3.7352035281015938,-6.2198284924231517,null,86.935287997137095,109.33791709224319,85.976235859734999,93.483452512040145,86.666832598423795,93.747006129764443,105.47490274834229,null,85.812205994167655,107.73269760274098,96.441198645662723,86.281030074164846,85.011020033803604,88.111594693806737,105.43138433215998]
[null,"Agosto",99.801011770807591,102.3473705064474,89.301915149804202,108.22365551675649,103.11600792720535,106.68852828503826,99.564861684970467,null,-2.1925785095725736,-1.8988626298646394,-0.91719290528661235,-9.6701608456142285,0.63759279913830902,4.8416011564099692,-6.0377579034877389,null,87.30222783208545,108.64260435539026,86.140045891042362,93.431480684341594,87.042732651467162,94.073131187444844,104.7814808174283,null,87.476295363191767,106.15085059615312,96.459348880191669,86.331846986886703,84.412434500872934,88.175488686197795,105.2394178469946]
[null,"Septiembre",101.65285368134978,103.5763299728432,90.628576032003153,109.17915323597403,104.24318127510814,106.41902329821261,99.306870691875247,null,-2.0407055203226276,-1.3881842002761213,0.25763679102235315,-8.9681569942879449,-0.41066142529367911,4.7992548788647227,-6.237625535511448,null,88.403996596793348,108.61983435529805,87.105770554934622,94.463780318373281,88.147898698562557,94.236339314096597,104.86020365375943,null,86.966566500840685,104.8693600012447,96.112919753009749,86.521810729017361,84.559870123237573,88.552155802090866,105.59209340017854]
[null,"Octubre",103.4891091956468,104.429667986521,92.704404619005885,110.23939242119546,103.84726574650165,105.48865032708908,100.64154844995048,null,-1.2410886881856098,-1.1151630892433761,2.1867683889542633,-8.6321641242521281,-1.4415297949178174,3.9751902931301819,-5.4675757690414777,null,89.999748901324011,109.21425952232431,88.781045351801197,95.603846537005381,89.648521912646856,95.192252651082313,106.1129802171161,null,86.965430083255356,104.58164009141623,95.76788256897953,86.723851100093555,86.327281963768883,90.239331298598785,105.43655364154753]
[null,"Noviembre",103.26789640576985,102.67302539393469,90.641915274764258,109.99787779968482,99.228946766242856,104.00634697776927,101.02298783250555,null,-0.51110309870525672,-2.6772136755466858,-0.39914678143887494,-8.0709588938066226,-3.8932848875600223,3.3556662537907789,-3.9476826183766689,null,90.595220504104319,108.87337054863266,88.64103268778301,96.013908841710887,90.216429928396153,95.483502796335969,106.15981609395892,null,87.728348942181526,106.03892320393653,97.792541584193202,87.287055679892404,90.917451881175566,91.805457619567193,105.084811260948]
[null,"Diciembre",103.86907024427006,102.85667108476731,92.86624092013416,110.01913348217641,99.384253616658583,102.84357431601407,102.0558768377382,null,0.71608508775555801,-1.9447537600840281,3.3910465858270067,-7.523114982994783,-3.7052990104570971,3.3341099460062473,1.6893991638818218,null,91.642575735133278,108.66735077440298,91.031355328793779,96.587896684823534,91.082189432958657,95.614869500320495,106.99207786288534,null,88.228936217120648,105.64929783197718,98.024162953986277,87.791908214284575,91.646499438711544,92.971165321927202,104.83676313221568]
[1999,"Enero",102.00817487791822,101.43645124019893,95.921025493517291,108.2305090079614,100.50852269271999,103.4997627421908,99.959797815222103,null,0.60678644742142573,-1.7252741939246752,7.3502231738592716,-7.8180039633217291,-2.2727099155126607,5.2150505764795074,2.3264263462430046,null,91.309718355135971,107.11535223452692,93.415996489204346,96.447978966380461,91.8356838620101,95.262712971496853,104.5749537946806,null,89.512157691688941,105.59848153685947,97.38844638969978,89.1134855138543,91.371041382008002,92.041479562410444,104.61701211920187]
[null,"Febrero",101.66666480801892,101.4730768831145,94.825874549119334,107.22869088872859,101.49535260150803,105.44497909310472,99.559035844144873,null,0.12502308725053091,-1.9250596461836356,7.1123211425985655,-7.0846160145440535,-1.2560491660946083,6.8641996801571903,0.70429214171194854,null,91.487516113773765,106.69495443245809,91.656545160752586,96.262821395424439,92.197116390867777,96.621053340467284,103.90562158090466,null,89.987722412782162,105.14607195301528,96.657737771007774,89.773381170265836,90.838756679680614,91.631725067870548,104.36583751530515]
[null,"Marzo",102.81973292728283,101.26115852673539,96.695812722751143,107.02710530609284,104.02404407204921,106.00823123816247,99.278398140722061,null,1.3789799217119425,-1.8291758614547904,8.6223757449524605,-6.066623638576651,1.2637401320742203,7.0487716571832948,-0.11797624585604405,null,91.973461157845804,106.14366720246279,92.802680994473022,96.253464657608006,92.530900860892828,97.349058628751735,103.53467604780056,null,89.451176869805892,104.82169940257823,95.973836282403852,89.933726958537591,88.951455104748675,91.831603538449144,104.28721452681522]
[null,"Abril",103.94976919708756,102.01260922499371,98.447656304418544,107.52095966262424,104.79196715809006,106.4722471693358,99.705605082176518,null,2.0082221305197878,-0.37643124402181316,10.563672201273944,-4.3395097362631363,2.7565971967984826,7.0644055547708584,-0.65102469175465361,null,92.619085181427891,105.81613657275048,94.238794253990974,96.509276802775005,93.15630015047519,97.38613385537856,103.49020103867016,null,89.099846874910483,103.72848746508181,95.724771712784104,89.758570892222934,88.896413224058293,91.466214384010797,103.79577051197313]
[null,"Mayo",103.68173864487102,102.26023672163146,100.30854491472137,106.82421596939864,104.0430135876298,106.43278852593184,99.358295465682232,null,1.3122168102318366,-8.2510184129302999E-3,13.020468660796759,-4.6136140155556777,2.7670584367152973,7.3001524962262421,-0.9457572451707974,null,93.030063114457576,105.06231647300149,96.699804876706651,96.502844282448763,93.582098328787012,97.288604161286273,103.03364836066338,null,89.726565478519433,102.74014596601975,96.40236029634093,90.337985078302296,89.945586062794959,91.408489346854196,103.69909012403558]
[null,"Junio",102.59112436045949,101.9050110931978,100.63054851807907,105.73518953088039,103.87455337211306,106.62657368473144,98.878622171732502,null,0.50726760864436837,5.8061156968891581E-2,13.41146293503861,-3.9945061396278625,3.9184566197624893,8.2790594214757753,-0.67834098049981417,null,93.256266268889391,104.32494878029053,97.535193252512954,96.547671232231721,93.920400584714187,96.934608330466205,102.64954142051967,null,90.900910629684134,102.37469940009089,96.924040153661679,91.310822499669882,90.417140229003152,90.910365944120088,103.81368506757489]
[null,"Julio",103.38212360371412,101.62788593490545,100.0149720572601,105.58995942782556,104.16303923730895,107.16025361149752,98.768024873038144,null,2.0465715497321124,0.13585949505670047,12.188719257851432,-2.5452075194944856,2.1729530190051971,0.71853196497950744,-1.2727263189509563,null,93.910069545052536,104.16537940319921,97.870682900105166,96.814941404421575,94.606636906438666,96.913196721906004,102.47322535033688,null,90.837822121965687,102.49684763679829,97.856031838985785,91.689533672562845,90.825534276991988,90.437632849636998,103.7514170016679]
[null,"Agosto",104.17933364538075,101.83890052773474,103.45451817924406,105.75732722431395,103.75065378876471,107.32003494518653,99.414666053682353,null,4.3870515908475349,-0.49680805300282849,15.848039771262279,-2.2789179321896724,0.61546783503041436,0.59191617908636029,-0.15085204634074367,null,94.88765336962301,103.87251318178581,101.83651175048911,97.426203998023382,95.436215686158548,97.07118320051039,102.88638524402329,null,91.081071503695753,101.99689180019892,98.436021493085875,92.122415113025653,91.98613425652789,90.450197160380412,103.49215998821164]
[null,"Septiembre",104.6149339887867,101.83239739886996,105.03855947861756,106.08845443097023,103.47200108091118,107.47664636164406,100.14351413044733,null,2.913917514526565,-1.6837172879464624,15.900043978982836,-2.8308506829355262,-0.73978958121178051,0.99382895149087158,0.84248293470849944,null,95.480596717569028,103.59995781383799,103.42557380875326,97.982387050037531,96.020656060255234,97.126944583307989,103.13170996698445,null,91.268610586518406,101.73575449475535,98.464387099489258,92.359142731966969,92.798684723581133,90.370278447737604,102.98391349902568]
[null,"Octubre",104.28570940898616,101.72272818858659,104.88592577830342,105.95058045893484,102.86409264798434,104.33664327466659,100.44657432427962,null,0.7697430382103132,-2.5921175946703179,13.140175172216285,-3.8904531928788288,-0.94674914303214397,-1.0920672971456713,-0.19373124586593571,null,96.288412489508175,103.58282335263146,103.66535814470382,98.387952388028253,96.781152566588176,97.403274919768933,103.20427953326299,null,92.331358759698986,101.82859346890145,98.836290355886717,92.862117377603454,94.08643004103206,93.354809837378482,102.74544475760861]
[null,"Noviembre",103.70875733045089,102.19738800227891,104.03080171089519,105.08447271592496,102.28666817057274,103.10144378538047,100.31336507655386,null,0.42690994977643282,-0.46325448172084283,14.771186592367336,-4.4668180714427681,3.0814812652733892,-0.8700461257255987,-0.70243691181280932,null,96.528323174961557,103.31926759036799,103.03999895777474,98.370839208562629,97.042728422275928,97.56850559132279,103.14767457656319,null,93.07634732078597,101.0977575944153,99.047587121481655,93.611203126544382,94.873291072936254,94.633500763020137,102.82545550918995]
[null,"Diciembre",103.1049962113614,102.89635608860759,102.67444106011772,104.35487585359438,102.36454704867104,102.78967969582345,100.19979708399273,null,-0.73561266227933908,3.8582819589372264E-2,10.561642253204484,-5.1484295952027974,2.998758177032701,-5.2404460413846277E-2,-1.8186897327789331,null,97.056202445983359,103.30076183810928,101.79108786982525,98.576878634170626,97.352222443389351,97.502618314012722,103.32227339067737,null,94.133365028229832,100.39302242069044,99.139656197616659,94.463126737336125,95.103456470238186,94.85642780728935,103.11625012979539]
[2000,"Enero",101.83287292848452,101.68593033920016,105.45521258513605,103.95805753219706,101.87575319457346,103.26852718158668,100.44084575444077,null,-0.17185088317039909,0.2459462017361691,9.9396217279423382,-3.9475481681880087,1.3603130015485743,-0.22341651273163343,0.48124140877905397,null,97.271577097380458,102.36494127347311,104.41772904976804,98.137080286144936,97.28962367566227,97.918469766894532,103.11569945271569,null,95.520802173275257,100.66775308246471,99.016185629960759,94.400648315067542,95.49831105527916,94.819275958797562,102.66311347558188]
[null,"Febrero",100.84970472191458,101.64988316039104,103.64947914329937,103.07663876829797,100.38541157097582,104.00148615281741,100.44897764304133,null,-0.80356731249819902,0.17423959409470502,9.3050600757807587,-3.8721466111520608,-1.0935880334246195,-1.3689536976556727,0.89388350474750577,null,97.15006794744464,102.07543010315814,102.79267484282124,98.151190166375159,97.255988225802042,98.098027210299577,102.40968750237268,null,96.33153435136829,100.41863987398357,99.173363621737494,95.22156653459129,96.882591507869492,94.32367828490122,101.95194605792703]
[null,"Marzo",101.29459985498902,102.4054923961732,102.34686577062189,103.06563206726308,100.50895953401862,104.78020575806212,100.59399822219584,null,-1.4833077551100304,1.1300817471248781,5.8441548695325585,-3.7013738038603528,-3.3791077528152691,-1.1584246484986682,1.3251624785574956,null,97.623621607157119,102.17479315265365,102.00757075033944,98.395978909844914,97.684410491495726,98.077979773241992,102.55389355760798,null,96.375938842655785,99.774719853279876,99.668485187379474,95.46924317664822,97.189753972563125,93.603538057278115,101.94832233537736]
[null,"Abril",101.90025050168768,102.31320583958797,100.98824566473645,101.9706248014347,100.26109056222997,104.62278429152634,100.48314827803928,null,-1.9716433343050732,0.29466613674322684,2.5806499166033392,-5.1620957240385508,-4.3236869377829112,-1.7370375163285767,0.7798390022526025,null,97.677920200549579,101.84477088768529,101.5403107159586,98.487496441063527,97.856582309052115,97.930497426555021,102.23372537486117,null,95.856408320538748,99.542155923999559,100.54666268097667,96.584184546133955,97.601753342503855,93.603413529577281,101.74215988135443]
[null,"Mayo",101.45057998320894,100.98722043476633,101.03437807595962,100.87531114103487,99.296096983052379,104.20906617343337,99.484864953160383,null,-2.1519302153142017,-1.2448790729191028,0.7236005286043401,-5.568872913673351,-4.5624558928979431,-2.0893207659937185,0.12738693521756606,null,97.036110161927752,101.09750791886954,100.61976876168333,98.219740524146076,97.556438837702302,97.515908942860818,101.21634984003019,null,95.648649990949465,100.10920934711184,99.589635407104126,97.367472192302813,98.248009540952054,93.577183371518515,101.74045055766526]
[null,"Junio",101.82982061940831,100.57507833743165,101.66254238436181,101.10519015595102,100.06696692831547,103.93796937702756,100.0974356001354,null,-0.74207563841126589,-1.3050710082842309,1.0255274183438745,-4.3788632672542409,-3.665562276987655,-2.5215143043547661,1.2326359344753568,null,98.272772284184171,101.27492501040913,101.22752603856671,98.884568284336922,98.36176716564762,97.756736052334347,101.66288602153004,null,96.506869683568738,100.69584501901106,99.57209771112116,97.803651950815919,98.295941393037936,94.052959316271384,101.56392660012612]
[null,"Julio",101.18247042955346,100.87011665473095,102.08951671092751,100.87702751812225,101.03891665568605,103.68690015690893,100.02572015877467,null,-2.1276920007876843,-0.74563125386655216,2.0742340981505292,-4.4634280903619095,-2.9992621226281435,-3.2412702821523753,1.2733830481608255,null,98.760307105243569,101.16714461142486,101.65565393283262,99.134746721770441,98.715334773506086,97.754748805776259,101.54563171977888,null,97.606143323021286,100.29446576106442,99.575017306308339,98.272866638503203,97.700309980462166,94.278784164484065,101.51952073785783]
[null,"Agosto",100.4535250511468,100.14585746197565,102.38957660482079,100.51876809633265,101.09934390446607,102.31020453833094,100.00533185334443,null,-3.5763413566421431,-1.6624718619168588,-1.0293814065985618,-4.953377005141391,-2.5554633031004137,-4.6681222284491009,0.59414352339435261,null,98.592542562099283,100.78350142953036,101.31515376424535,99.155055479634086,98.764536193174962,97.506992613508714,101.09711391038803,null,98.147419427939454,100.63671527082067,98.950652130614586,98.643325378409287,97.690580748479064,95.305246483968602,101.09172384792909]
[null,"Septiembre",100.30176185420594,99.77231221501215,103.0303020153931,100.87514359226077,101.04479799542409,100.77980319894509,99.597358642224606,null,-4.1229028878831731,-2.0230155004488437,-1.9119240336052723,-4.9141170607793772,-2.345758330883263,-6.2309751833575238,-0.54537280118940323,null,98.356376420247187,100.17174124846888,101.52011844217905,99.204290088222351,98.717549385589066,99.215048372437877,100.60903610893357,null,98.060467335771762,100.40034056001024,98.534233576265336,98.343642006803933,97.696815020660026,98.447352766289598,101.01576736622417]
[null,"Octubre",99.746681150645088,99.533558181031921,102.58324081404733,100.48478022840233,100.17878010661505,100.84828367304743,99.483793940277991,null,-4.3524930540003171,-2.1520952559354267,-2.1954184483466865,-5.1588204678604699,-2.6105441386226058,-3.3433695891826209,-0.95849996924077807,null,98.24522676848666,99.639573582248289,101.18914327617048,99.164604521056859,98.733419680982109,99.384220630359863,100.04327508064767,null,98.494732491509339,100.10651221874693,98.641008485583015,98.686193367448581,98.557218979813172,98.548251899423406,100.56238420169778]
[null,"Noviembre",99.646370206753247,99.673104187345004,101.27702805773511,99.857917208145011,99.893987260492011,100.65375458620841,99.796322695946316,null,-3.9171109829746809,-2.4700081521433992,-2.6470752968076772,-4.9736705839585893,-2.3391913656730989,-2.3740590910319881,-0.51542721173093442,null,98.751124590254477,99.647118965860315,100.38015942406315,99.479026251789421,99.179190560819066,99.583606748301378,99.935315885967242,null,99.10157729314048,99.973929555323309,99.114440213272573,99.620569938820353,99.284444720572623,98.936802862142144,100.13927686538551]
[null,"Diciembre",100,100,100,100,100,100,100,null,-3.0114895741776393,-2.8148286282494217,-2.6047778127682109,-4.1731407545384736,-2.3099277209196023,-2.7139686630785365,-0.19939869122215237,null,100,100,100,100,100,100,100,null,100,100,100,100,100,100,100]
[2001,"Enero",99.885096221486833,99.168604070722054,99.95156024408027,99.698715590523094,100.34457634734177,101.6136292335957,100.26663597945412,null,-1.9127189982802273,-2.4755895531278438,-5.2189476519357232,-4.0971734589738684,-1.5029845662169361,-1.6025191732240152,-0.17344514940920153,null,100.7747359592172,100.28157277163116,100.66338991740002,99.930264437388189,100.37296878234849,100.55787636893929,99.694435041325931,null,100.8906631433359,101.12229945287461,100.71217464898143,100.23224857561466,100.02829493734515,98.961012540719935,99.429320698217666]
[null,"Febrero",99.337312719409994,99.801036598885858,98.595151534947377,99.102956164270083,99.861618082250828,101.99321646001914,100.53221356003884,null,-1.4996494106501279,-1.8188378619067636,-4.8763656606167771,-3.855075846002487,-0.52178247867684657,-1.9310009568972553,8.2863876716898766E-2,null,100.99742911155238,100.23023846917647,99.679762608100376,100.22650861733489,100.68731206134176,100.6951189040615,99.529336312907446,null,101.67119116341669,100.43005752737383,101.10006532397139,101.13372244033008,100.82683817361226,98.72727069405984,99.002431945326208]
[null,"Marzo",98.038481957079384,99.766185632518301,97.551010977792316,98.517318289853691,100.35751910181493,102.41607135081709,100.01922115720267,null,-3.2145029474137998,-2.5773097730386274,-4.6858833992805993,-4.4130266182630606,-0.15067356473074112,-2.256279599892963,-0.57138305977617598,null,101.06147345375875,99.992647923129681,98.784839817963629,100.2309237362762,100.73622808224268,100.42039138868491,98.801092807284931,null,103.08347440345193,100.22699303293557,101.26480374503981,101.73939514003092,100.37735984689252,98.051399613546806,98.782105743451879]
[null,"Abril",97.416717854443519,99.888489975653968,98.008445892161063,98.522488585819275,100.3921561431716,102.06006681266727,99.890282959741484,null,-4.3999230867149848,-2.3698953072935569,-2.9506401987294706,-3.3814995468841147,0.13072427220437444,-2.4494831562866692,-0.59001467256710738,null,101.22695153583614,99.771108940344689,99.234309971927388,100.43900354470701,100.96927252057036,100.27634126732615,98.358260618184346,null,103.91127289577311,99.882487926949452,101.2507739191326,101.94525634339651,100.57486202066994,98.252278681518817,98.466294922625679]
[null,"Mayo",97.335867423702922,100.0472463379495,98.39615311471664,98.048246556499478,100.49602052711508,102.15236848461258,100.10533423089161,null,-4.0558787935830898,-0.93078519516636149,-2.611215124479227,-2.8025336948729107,1.2084297173004632,-1.9736264457047015,0.62368208272018943,null,101.415836957606,99.638523458930109,99.537635531301717,100.7932259424788,101.39774764857175,100.21212762884997,98.277439202958476,null,104.19164039104206,99.591470136380593,101.16008845920454,102.79962108694882,100.89727644609906,98.100640362484711,98.174028345265683]
[null,"Junio",97.401298236372853,99.918675687361329,98.027570240420573,97.85247041917485,100.1991318926902,102.72885023289224,100.74647162253027,null,{"$f":"(C83/C71-1)*100","v":-4.3489444998505711},{"$f":"(D83/D71-1)*100","v":-0.65264940472437027},{"$f":"(E83/E71-1)*100","v":-3.5755274840543305},{"$f":"(F83/F71-1)*100","v":-3.2171639574179789},{"$f":"(G83/G71-1)*100","v":0.13207651678841525},{"$f":"(H83/H71-1)*100","v":-1.1633084149925255},{"$f":"(I83/I71-1)*100","v":0.64840424582663925},null,101.61343659460633,99.411617823861832,99.766403965037441,101.0526701679989,101.58251385410671,100.08198348292059,98.101481451799813,null,104.32451972869139,99.492529439555383,101.77382109987245,103.2704332707342,101.38063268142687,97.423443614942585,97.374607638230231]
[null,"Julio",97.144699644268215,99.807108283343268,96.863012780798144,97.456972969910723,100.90653959888745,102.6464094525418,100.2959190080303,null,-3.9905833175880701,-1.0538387449538278,-5.119530485121726,-3.3903205044350848,-0.13101591068094276,-1.0034929222423994,0.27012937155235228,null,102.12973299316718,99.266667902431664,99.590574398626487,101.32690773546329,101.91663674420741,100.0113472154315,97.886996401747169,null,105.13155464698902,99.458515139645826,102.81589591271629,103.97091623884869,101.0010224801437,97.432874416977427,97.598184821368193]
[null,"Agosto",97.838373802442376,100.03609733121334,96.906418944162226,97.429950231545376,101.99062378334709,102.28790073195171,101.09712352817664,null,-2.6033444295487818,-0.10960027058931621,-5.3551912630923066,-3.0728767605141094,0.88158819282075918,-2.1800177684982991E-2,1.0917334652049249,null,103.5264634122469,99.518077628104876,100.70641591527094,101.83425744347119,102.93385428740666,100.34733656457948,98.572155923348262,null,105.81376139927474,99.482167220705009,103.92130574270656,104.52048595063307,100.92482080123682,98.102840948454386,97.502433781783452]
[null,"Septiembre",98.158501774776639,100.12171934936976,98.014710283822069,97.41616355890838,102.7053528360839,101.76963123544569,100.48020655212522,null,-2.1368119959294885,0.35020450724307928,-4.8680743756547296,-3.4289716080441512,1.6433847893238429,0.98216905082322281,0.88641699130997953,null,104.06648573982184,99.17017189248736,101.75088547449404,102.19100899987643,103.26384083092152,100.29849188405618,98.44275601368075,null,106.0188204365639,99.049609352430295,103.81185148622396,104.90149197682237,100.5437769107604,98.55444169981709,97.972286673806224]
[null,"Octubre",98.461437171389974,101.03400749013879,98.842450267342485,97.354543664020923,102.46412661459618,101.16139460861812,100.05322868184386,null,-1.288508012927303,1.5074808301114295,-3.6465903368034347,-3.1151350057853189,2.2812680545210906,0.31047720810579715,0.57238945059505664,null,104.50268453629215,98.74905338178867,103.6008656350476,102.5394572870194,103.3656142118521,100.18645983683818,98.126782817586715,null,106.13564816689227,97.738430687733398,104.81414144917984,105.32580548155212,100.87980801382979,99.036258074978264,98.074579011954739]
[null,"Noviembre",98.128297837187276,99.732980791948805,97.842252966679553,97.563003568157441,102.35146289305553,101.651297572293,100.31881039710855,null,-1.5234597772263769,6.0072980662129183E-2,-3.3914651297799581,-2.2981789568112365,2.4600836346187593,0.99106386064338192,0.52355406196089582,null,105.09712432387821,98.660435576153276,103.21031697650614,103.27464432710354,103.57051269239315,100.71890520795699,98.004214116528317,null,107.10175009685126,98.924583214821453,105.48644767169732,105.85431008687219,101.19104286825034,99.082754095024796,97.69275944220432]
[null,"Diciembre",97.84864204059582,100.99907679461302,95.586115752622348,97.493432483731937,102.63990725927965,102.43502425351583,100.47510727351005,null,-2.1513579594041765,0.99907679461301857,-4.4138842473776529,-2.5065675162680656,2.6399072592796502,2.4350242535158273,0.47510727351005588,null,106.06390036623057,98.82950726753991,101.58416160725888,103.79408843336053,103.94153051040509,102.01033386378448,97.857910803582755,null,108.39588384090845,97.851891724233241,106.2750178803787,106.46264654870976,101.26814538894446,99.585405096717423,97.395179223045915]
[2002,"Enero",97.440495548617534,99.789047337914738,95.089104661370357,97.980124467569652,102.90174263264792,101.95212504194095,99.838919488830811,null,-2.4474128427013797,0.62564485303253647,-4.8648120858102324,-1.7237846172582061,2.5483851528303347,0.33312047891438379,-0.42657907732234213,null,106.459030323723,98.894011048465629,101.6432524786109,103.7735507983605,103.90078968547587,102.16465389151024,97.48437070625377,null,109.25542786326008,99.103071616248371,106.89263805835701,105.91285871728854,100.97087476583799,100.20845946024359,97.641652379019945]
[null,"Febrero",98.003467588585309,99.901120558862843,93.55081783301533,97.865845748866292,102.64377898165208,102.77479682346798,100.12098938035875,null,-1.3427433200174144,0.10028348741430992,-5.1162086810567668,-1.2483082879517715,2.7860162421058821,0.76630622170368312,-0.40904717514700373,null,107.16553330727805,98.881182574063558,100.52426793523404,104.38849661870071,104.11451216657466,102.66203587317248,97.284421909289833,null,109.34871586090682,98.979052508026342,107.4541840079539,106.66488990098979,101.43285175147876,99.89028346075041,97.166860327066061]
[null,"Marzo",98.795868447356568,99.935119921054891,93.223335658421021,98.466062232125495,103.57506166476871,102.26194404187891,100.4751724395156,null,0.77254000180129179,0.16933020688878475,-4.4363203169227035,-5.202745935226627E-2,3.2060802137700462,-0.1504913310043321,0.45586366004222167,null,108.31823185325587,98.952209534555649,100.30306821333588,105.07528250004196,104.79053688569726,102.78288391262818,97.476872265459477,null,109.63842269474384,99.016451486448702,107.5943780652257,106.71218094650294,101.17352111733476,100.50941714010047,97.015879543913144]
[null,"Abril",100.050082621732,100.15631797673014,92.059628521055856,98.816170194822234,104.01870884421324,104.60086259474521,101.07937320765426,null,2.7031959455082077,0.26812698954750136,-6.0696987049980393,0.2980858616326465,3.6123865054454196,2.4895102084751652,1.1903963155174946,null,109.3264142083638,99.016616251396286,99.12326533760293,105.71130562649091,105.35127220150385,105.30022709729214,97.565821342554699,null,109.27168808216143,98.862077052793978,107.67289302599291,106.97773999748674,101.28108046340623,100.6686029973352,96.523967498411949]
[null,"Mayo",100.66686938124703,100.24193503089835,92.367517261074937,99.028053538779574,104.56387869730524,105.24644350510115,101.63080962542742,null,3.4221731882701167,0.19459675310922186,-6.1269019802157594,0.99931107051005608,4.0477803487677377,3.0288823121655151,1.5238702375413027,null,110.59078657084223,98.958276760080665,99.68291182461671,106.35663087894787,106.21916158289299,105.52858307764639,97.782454991054195,null,109.85817603208778,98.719439852770194,107.91987787531949,107.40050629925632,101.58303508459122,100.2680751606885,96.213397641368019]
[null,"Junio",101.3904805914336,99.747409603059879,92.425271954777656,98.684136568397506,105.6163144793538,105.40180504581485,101.83388172990466,null,4.0956151789474315,-0.1714054786287722,-5.7150231020750901,0.84991839823769233,5.4064166867884733,2.6019514545941647,1.0793530431999931,null,111.96396220105285,98.926104616798412,100.09313065152325,107.00139150915886,107.1951335185616,105.74637978067803,97.943927685227308,null,110.42847567931599,99.176615222861614,108.29627929090364,108.42815798970558,101.49486284102107,100.32691540217304,96.180098432273525]
[null,"Julio",101.29126544637103,99.972584453780016,91.478050802774746,98.835933690351382,106.4895597372556,105.30617994232418,101.87776117908695,null,4.2684426605744008,0.1657959771432127,-5.5593583385741052,1.4149431060888951,5.5328625484147631,2.5911968124049389,1.5771750104109472,null,113.35293097480795,99.063393489676642,99.683978413448472,107.80643008647574,107.92344726972911,105.97203042682814,98.011028104628338,null,111.90790289299228,99.09055970787297,108.97037872873526,109.07614878635994,101.34650526869618,100.63229953348289,96.204536662656508]
[null,"Agosto",101.0072617643788,100.66371343606993,90.508668625061873,98.872050653010277,106.81841783964975,104.58108160808278,101.31325561708057,null,3.2389008921337004,0.6273896339424212,-6.6019881745777447,1.4801407760526519,4.7335665546649475,2.2418886884191913,0.21378658596917788,null,114.07210894119994,99.044550932465441,98.31451213803291,108.2574674833114,108.04352745911518,105.8318371602668,97.482330741038652,null,112.934562276619,98.391513239144714,108.62441535330416,109.49248727857285,101.14690859895012,101.19596731354454,96.218732827497803]
[null,"Septiembre",101.05079166962086,100.76155940307461,90.404554789720208,98.919935825516376,106.74225407024775,102.96554758094281,100.76032269209772,null,2.9465505713204054,0.63906219136347087,-7.7642993302383552,1.5436578609448581,3.9305655671196371,1.1751210365795295,0.27877743247588516,null,114.34331832319226,98.641062606442787,97.741834799007847,108.34823096970689,108.31706672423059,105.43698302227315,96.630500135937282,null,113.15430234038193,97.895529992594447,108.11605126130431,109.53123863810524,101.47534138912452,102.4002547448092,95.901340482225024]
[null,"Octubre",101.47450877623015,100.85099275045935,89.55943866006524,99.06081720542042,107.17490748938063,100.14507201650069,100.38418613486037,null,3.0601539967321179,-0.18114172071943546,-9.3917255007025524,1.7526388365477708,4.5974928303476936,-1.0046545878983459,0.33078138244684308,null,115.30773055544607,98.619982168357538,96.856079257820369,108.87279809537075,108.55471115344866,105.32319467344354,96.285867592338121,null,113.63221359338699,97.787814952281011,108.14726030770525,109.90500701160524,101.28743163524985,105.17062153202073,95.917366369822048]
[null,"Noviembre",101.91469679979811,101.45706373769212,88.135162249779384,99.320331007102808,108.39036291702645,99.871802481246078,101.07507623439047,null,3.8586208525629884,1.7286989038660217,-9.9211643462522758,1.801223183660694,5.9001599520671411,-1.7505876791994446,0.75386244542599012,null,116.86212815098074,98.858538732707373,95.566805139968707,109.70545393109407,109.32914051103613,105.46165574351969,96.851136214742809,null,114.66661023438598,97.438793407521644,108.43209758793849,110.45619040803297,100.86610799036472,105.59702851395247,95.820987550034147]
[null,"Diciembre",102.34397815526609,101.21889297487508,88.218377166331891,99.181535893962064,108.26696700803868,98.120821446283159,101.2981575317542,null,4.5941732260374346,0.21764177182437283,-7.7079589732029996,1.7315047457292065,5.4823312871322694,-4.211648153228797,0.81915837721244777,null,118.14377073616656,98.831744712691176,96.059102399759794,110.25584471030989,109.73187043269981,105.56662955462632,96.768601825503339,null,115.43793085405632,97.641598132498402,108.88785929335853,111.16569603054714,101.35304743925482,107.58840784106094,95.528491517892647]
[2003,"Enero",103.08004707564848,100.09187516236318,89.563486942792167,99.645174611442116,108.47216448105412,95.859562881621201,101.59238501861434,null,5.7876876500665198,0.30346799826936888,-5.8109893223371127,1.6993754120240734,5.4133406353400915,-5.9759050219045378,1.7562945780675188,null,119.06779559816793,98.344506990414885,98.327068259421097,110.89232179581687,110.17345547838158,105.37786963195397,96.610915682493271,null,115.51003222843539,98.254235751789224,109.78477012873181,111.28719702507625,101.56841250975923,109.92942849331277,95.096611487949289]
[null,"Febrero",103.72525408966683,100.35523030510053,89.585174529370832,99.316652963245801,107.79461696731751,95.909900768307494,102.02781781106808,null,5.8383510725368959,0.45455921184600623,-4.2390257995638443,1.4824448746934893,5.0181686964060113,-6.6795520568647131,1.9045241587309025,null,119.9616682488182,98.113554964546424,98.390885782742174,111.26332587776461,110.43147347524751,108.84654834863068,96.341292952257987,null,115.65328935720471,97.766259582346663,109.82942914341743,112.0288718538873,102.44618570213898,113.48833381818906,94.426495654998519]
[null,"Marzo",104.3726331685739,100.43476516821438,90.389358107672336,99.782972289285297,108.56731411291327,118.61570935230084,102.3396624662641,null,5.6447347534466008,0.49996962784875087,-3.0399872850856213,1.3374253294046623,4.8199367375734603,15.992034440226011,1.8556723830166932,null,120.83950139894486,97.949719646666381,99.17050592820965,111.62408425700936,110.8851888906581,136.19320747395707,96.170866434336389,null,115.77699798353756,97.525711821612859,109.71480272055607,111.86686635611032,102.13496557106882,114.81886186714885,93.972233361663427]
[null,"Abril",104.63915389948477,100.65271268836115,90.294627827671377,99.925115310770934,109.6427527293984,124.00234235510123,102.74443424780486,null,4.5867741010300556,0.49561996852394152,-1.9172363844383589,1.1222304140732664,5.4067618678176332,18.548106850249525,1.6472807332609252,null,122.33297645757106,98.129811713267912,99.516434710841551,112.36684576118942,111.63658579198221,142.93153835346354,96.474498783433035,null,116.90937082220943,97.493459532576537,110.21301832127834,112.45105438379954,101.81848139794944,115.26519228496139,93.897542470038204]
[null,"Mayo",106.23462337872158,101.24587666395578,90.82337763353982,100.93777157198345,110.36766952687125,132.82162494077133,104.09801008648446,null,5.5308703168152284,1.0015186087020123,-1.6717344725967198,1.9284616479470884,5.5504739321759589,26.200582667986929,2.4276107512576361,null,124.93993558168725,98.625478511751425,100.42896766011135,113.7408212231161,113.24630415085559,155.11772159302055,97.573739303280888,null,117.60754790486911,97.411847041532667,110.57612068263836,112.68410175075263,102.60822271261556,116.7864959205187,93.732569164594764]
[null,"Junio",106.532757241284,100.92066626071129,90.740425124320851,101.12763979390466,109.68621732770298,142.71542999565128,104.04240122385512,null,5.0717548825632841,1.1762276958573015,-1.8229287237382152,2.4760851241917514,3.85347933073803,35.401314933475156,2.168747234646462,null,125.96983153616949,98.476050786585319,100.47490165322093,114.12810658579018,113.58287362964006,175.1002959043019,97.522303266377122,null,118.24516214375531,97.577685954023792,110.72782777418458,112.85550302407937,103.55254871293016,122.6919162907875,93.733230028544313]
[null,"Julio",106.05058628198077,101.20250915470774,90.248259862901023,100.91917761340684,110.25166518680417,163.88932741311444,103.5079742797339,null,4.6986488071171228,1.2302619839705597,-1.3443563008629589,2.107779878502658,3.5328397063814521,55.631253078286626,1.6001658082977155,null,126.32708600839746,98.248763488081963,100.12519008448204,114.23240791699799,113.9387624602368,208.27745032954584,97.036695555769484,null,119.11964887445596,97.081351350577279,110.9441780224742,113.19197264427817,103.34425540619765,127.08420591936571,93.74803847819922]
[null,"Agosto",106.26171351339168,100.94341022457033,89.931858633230661,100.34743599860073,109.97450738739141,155.82092430582304,103.30939818665161,null,5.2020534536121099,0.27785264317516933,-0.6372980628194691,1.492216795187451,2.9546304949764624,48.995326793197044,1.9702679154992131,null,126.66062753333355,97.945359712859059,99.680783187717878,114.2223359395127,113.17864595038547,203.31387951333406,96.595891534430933,null,119.19686154634717,97.02996906381361,110.84034590483253,113.82686045023156,102.91352845228694,130.47918976163857,93.501552840244784]
[null,"Septiembre",107.67066832353527,101.17654146622122,90.712722665208787,100.81396434139484,111.19236347992307,145.15210279425676,104.23986100822498,null,6.5510388830576138,0.41184561414593368,0.34087649256762109,1.9147085974856592,4.1690232686548701,40.971525140630604,3.453282227727672,null,128.04176463266884,97.907732268853337,100.60411932458906,114.90101094436929,114.3355001296223,191.5274638575811,96.919903157114163,null,118.91981969306747,96.769202475201027,110.90408971174442,113.97330885160937,102.82675585924275,131.94949309763584,92.97777473961402]
[null,"Octubre",107.90969445613233,100.88972310223878,91.882768708093835,101.15718085292953,112.23364466490733,156.3872801009216,105.04605320166512,null,6.3416770945823764,3.8403540434406302E-2,2.5941766527223464,2.1162390000901476,4.7200760831334954,56.160734574292384,4.644025365252058,null,129.72480004127704,97.853456336096045,102.19208366397179,115.68745313557831,115.60994159903726,211.74323878135218,97.257458378519175,null,120.2160757613979,96.990509367276317,111.22007434128378,114.3640541977678,103.00827523173683,135.39671426263544,92.58554263986143]
[null,"Noviembre",107.23381304933457,100.79962126568761,91.258738097616416,100.89354646353186,111.65467750852763,167.63871261475674,104.94678200673172,null,5.2191846873521852,-0.64800068894589335,3.544074541991149,1.5839812860838576,3.0116280669712614,67.853897146029723,3.830524711515304,null,130.67772952829009,97.786597635995491,101.83545392532358,116.09313907339609,115.72935806037347,240.96105569568982,97.180332849446444,null,121.86242922106089,97.010878025275133,111.58981161496403,115.06498001371985,103.64935947402172,143.7383119550864,92.599630966495852]
[null,"Diciembre",107.81508443123985,100.96190114455079,90.60241629932014,101.61565448056102,111.97111308397653,152.89238642875785,105.99860347045727,null,5.3458018484229264,-0.25389709645221581,2.7024291418252355,2.4542053766956728,3.4213076973541146,55.820532456976736,4.6402087197189301,null,132.84300994760639,98.013453829769432,101.50767205543112,117.08772943862833,116.63670029691514,227.89305813171092,97.754910064351989,null,123.21375125604834,97.079643626599349,112.03638512253762,115.22607420791363,104.16677755935095,149.05454970964209,92.222828286220903]
[2004,"Enero",107.62637370228775,100.47256988557817,90.865995628573586,102.01086070421636,111.65116824632167,176.36074983312992,106.4346519273922,null,4.4104817135975916,0.38034528037109716,1.4542853681136725,2.3741100379411462,2.9307092565879378,83.978253740757353,4.7663679791459135,null,134.42725444011134,97.948327914737661,103.22091822058681,117.72662900683564,116.86542444571116,279.25690148364185,97.958402326738053,null,124.90177808272091,97.487630729745234,113.59686041686656,115.40597559331221,104.67013133967926,158.34413368500125,92.036193620066058]
[null,"Febrero",107.46975836028039,100.50118449832087,90.5387335157846,101.68529562341739,110.9708979814868,170.02295400055473,106.91080204050476,null,3.6100217863786366,0.14543755495015631,1.0644160615003839,2.3849400775196816,2.9466044813094117,77.273621011541266,4.7859342032374297,null,135.21205316788004,97.799838335021519,103.01828328664382,118.05752778374439,116.90599124737959,297.988808135071,97.799006640297037,null,125.81404781296399,97.312125049287857,113.78365842579798,116.10088465588981,105.34833309800101,175.26386945029714,91.477198537192166]
[null,"Marzo",107.99513678376154,100.29049982591299,90.16792717114356,102.00908495504703,111.12585904144021,157.79442258818727,107.47520495691705,null,3.4707408496026604,-0.143640841953252,-0.24497456466612277,2.2309544551428084,2.3566438475819407,33.029953156981627,5.0181350679614267,null,135.70121079366407,97.64466249098723,102.73442719650534,118.17437685875063,116.98176449509646,281.25382723767547,97.529828016252253,null,125.65492746713063,97.361826554341178,113.93677377268514,115.84691393989787,105.26961546499498,178.24066441923182,90.746352198489362]
[null,"Abril",107.83565814707949,99.704140078056327,89.234799491888836,101.52429252996498,110.75443996728914,149.79016303653131,107.69649647960036,null,3.0547879340320883,-0.94242130685714409,-1.1737446194531542,1.6003756555301951,1.0139176646124737,20.796236741707986,4.8197863641468164,null,136.22866120709392,97.509121860730517,101.81948450193852,118.38276350465111,117.01653811077604,267.83329755088289,97.358299581979423,null,126.32988340581053,97.798468332802045,114.10288932312061,116.60535676198909,105.65403801900528,178.80566528628643,90.400619114309663]
[null,"Mayo",107.88486625254275,99.262612543532327,87.749793228104593,101.2574449161844,110.20178734149135,154.62682363539653,106.98344895247948,null,1.5533945726320608,-1.9588591513766906,-3.3841335628770897,0.31670338984348678,-0.15029961771505507,16.416904027750533,2.7718482453197746,null,136.54690023466091,97.219688530269437,100.48339893698919,118.37396942812579,116.8877352983929,282.31021194535157,96.549325867189935,null,126.56724244809693,97.941899814124938,114.51126577105856,116.90396644524219,106.06700500798887,182.57518670306973,90.246974473664395]
[null,"Junio",108.1561633653952,99.596968097412699,87.342116875676567,101.6119293457139,110.98380818326395,156.30426483781969,107.22638989998367,null,1.5238562918580723,-1.3116224974962454,-3.7450874227097364,0.47888940431737304,1.1830026480758704,9.5216297513047277,3.0602798846192991,null,137.99870602454629,97.371961354454385,100.13400616196849,119.17479643067404,117.69655873306573,290.23045843048743,96.847245187235231,null,127.5920869699593,97.765989481946761,114.6457284799955,117.28425707301164,106.04840531216702,185.68300662277429,90.320344905363612]
[null,"Julio",107.86720413348718,99.471520719559194,86.598137123195499,100.9437804398746,110.86549174665566,144.86780345127517,107.47578134770318,null,1.7129729454546938,-1.7104204723841332,-4.0445353132022017,2.437874252405603E-2,0.55675037543556627,-11.606322548320602,3.8333346735645035,null,139.44975974415809,97.482369125362695,99.658083783802354,119.88445019381857,118.06218300884998,270.917607597038,97.130437626649254,null,129.2791083855173,98.000280301530182,115.08109422957635,118.76358273031555,106.4913717955086,187.0102266637586,90.374255863667656]
[null,"Agosto",107.88246920415853,99.423574412118086,86.735004665313667,101.27040777992441,111.19554234567694,132.73823625865012,107.47570760430671,null,1.5252489699054017,-1.5056315306477552,-3.5547513600877934,0.9197761478794142,1.110289090893013,-14.813599745994011,4.0328464697158894,null,140.56149529404755,97.460280726690172,99.871607736054543,120.43340131724571,118.33082263611048,249.25818437348357,97.202763460070557,null,130.29132196450445,98.025323775536449,115.14567632921839,118.92259936285168,106.41687619837484,187.78175106062568,90.441612925166254]
[null,"Septiembre",108.43902037632431,99.577521841723026,86.273835376067396,101.99693284412932,111.07102829134756,120.72101710913512,108.29047743619321,null,0.71361315458751129,-1.5804252659022189,-4.8933458931928246,1.173417304301716,-0.1091218720226439,-16.831368760637964,3.8858613094741479,null,141.99586380886643,97.514774817368078,99.841716925226237,121.08557568807012,118.44880360462773,223.50460911883917,97.437589465773328,null,130.94535833695952,97.928501346284094,115.7265310971936,118.71491848986466,106.64239399488382,185.14142315151705,89.977984927793287]
[null,"Octubre",109.68316564484826,100.01641211430896,85.367959224046317,102.50805921048355,110.86908710048178,104.7989431580789,109.14012619330954,null,1.6434771663975889,-0.86560946058383825,-7.0903495569933135,1.3354250742891205,-1.2158186330842868,-32.987553021928086,3.8974077243860927,null,143.97333697846028,97.774108241387836,99.276633650965792,122.10951090156561,119.17701379269117,195.6823509419709,97.813309712455805,null,131.26293003307623,97.758064076165439,116.29261675380627,119.12186401932914,107.49345639030999,186.72168348759328,89.62176710260384]
[null,"Noviembre",110.21380849933055,100.66596523164824,84.601501322376862,102.88039571890683,111.21160186098885,98.222378825184933,110.37992042872102,null,2.7789699585008654,-0.13259577006452528,-7.294903385710338,1.969253064261256,-0.39682676751714441,-41.408295677558961,5.1770414662555275,null,146.5234848051669,98.173870225538565,99.227905885187411,123.35315009928011,120.15713501573173,180.21413122127575,98.746754645816651,null,132.94476145977382,97.524391684543048,117.28858747680628,119.89956807350313,108.04370497776348,183.47563292273631,89.460795280771563]
[null,"Diciembre",110.56725415169979,100.67814035576997,84.569733540845647,103.23925053880669,112.05855044616067,97.571859366787095,110.72837796908755,null,2.5526759404572497,-0.28105729543914659,-6.6584126614730899,1.5977814309666716,7.808921406233793E-2,-36.182656543037254,4.462110201242897,null,148.76190855524004,98.417564215498956,99.838593612168097,124.29808870059883,120.8155851754167,176.71403742083845,99.503919561639208,null,134.54427325393888,97.754650480945784,118.05475721872514,120.39809282989353,107.81469570540574,181.11168380684862,89.863069780917485]
[2005,"Enero",107.61224858792946,99.394068435064085,82.98548554682111,103.34492045620766,112.34748671952276,98.999893044645034,108.7865831143219,null,-1.3124212841519878E-2,-1.0734287495008044,-8.6726723536547983,1.307762470370144,0.62365534023334224,-43.865121270851162,2.2097419819009145,null,148.71820799186807,98.317627463888499,99.311321929346221,125.33399840101784,120.9021274437184,182.21250836081228,99.245074266208405,null,138.19821622847246,98.916996770407039,119.67312268518808,121.27736694531399,107.61444779405917,184.05323759152111,91.229149243444397]
[null,"Febrero",107.84813287679783,99.989431113302189,82.412794710746908,103.06493461819488,112.84735710425566,96.285768951989041,108.94448245827446,null,0.35207533941685742,-0.50920134680325635,-8.9750966127894909,1.3567733528423442,1.690947047289737,-43.368958904410704,1.9022216454790186,null,149.79223176124708,98.37834536604062,98.787024977418298,125.78087526082894,122.19418684966539,176.25644624746741,99.294284188920145,null,138.89181737839152,98.388743960913246,119.86855357125286,122.04041629365554,108.28271922821774,183.05555241019485,91.142095449349313]
[null,"Marzo",108.47381910848985,100.71338067076333,81.488837877734198,103.3124168399202,112.88409534194923,95.201533432518715,108.86492535892334,null,0.44324433394327123,0.42165593509293497,-9.625472788052436,1.2776625586314427,1.5822026625264218,-39.667364745219047,1.2930614112933059,null,150.97954208281084,98.4781501788827,97.538965857111734,126.26764838447994,122.77269794601442,172.91870122107045,99.280162504122998,null,139.18523688357371,97.780602262585447,119.69610611389395,122.21923777093342,108.75996089095683,181.63436552588686,91.195729181644353]
[null,"Abril",108.51070203259823,100.81560834807438,81.2128372904196,102.98745760959955,111.74115504536799,95.21526998705508,108.98264960479486,null,0.62599319846319279,1.114766417069446,-8.9897240170281449,1.4411970210998604,0.89090340610296082,-36.434230354743882,1.1942385938600308,null,151.63689574422119,98.43122243328429,97.293569379384266,126.26448691261771,122.9039970620816,172.4551652577521,99.126829138559287,null,139.74372380216212,97.634904005580367,119.80072686225635,122.60180981576974,109.98991106918609,181.12133198928922,90.956523353051281]
[null,"Mayo",107.70405958054538,100.1895737610085,80.745936073760134,102.82536882713528,111.66881573937339,97.020414329999113,109.48199572298985,null,-0.16759224743730927,0.9338472902570949,-7.9816224023890436,1.5484529678274184,1.3312201492122977,-37.255120393102615,2.3354516936729075,null,152.53977653376938,98.455547891769825,97.145919362514789,126.38301572152588,123.56610803631327,175.22954053151034,99.178109787444612,null,141.62862303225822,98.269255168831222,120.31059900497472,122.91034514448911,110.65408656675224,180.61100000613854,90.58851104466892]
[null,"Junio",107.43509059100417,100.10833553851346,80.273420876790354,101.71639123062249,110.73892817276143,97.419854680498503,108.9032070323327,null,-0.6666959625360902,0.51343675502311115,-8.0931127521764239,0.10280474505426351,-0.22064480802294062,-37.672938878807486,1.5638101160666551,null,152.78892515993371,98.266699671227315,97.174450241761662,125.76931364071359,123.3140535256494,175.96557724023302,98.707756500996027,null,142.21510338888021,98.160357119734925,121.05432804578278,123.64704657635335,111.35565023102787,180.62599027409323,90.638062175423627]
[null,"Julio",107.05552495808978,100.44572744188913,79.488563360803013,101.18573793511236,111.12565342320433,97.220761426629096,108.67799342301433,null,-0.75248003498166183,0.97938255621579096,-8.2098460758784242,0.23969529790086597,0.23466425165294957,-32.890014820078136,1.1185888208821604,null,153.66529886913838,98.260207716479897,96.731368585058192,125.71244452580761,124.20881556925021,175.97052760413192,98.50467630306818,null,143.53794344504448,97.824178508066822,121.6921837497416,124.23929210895663,111.77330503175604,181.00097656294741,90.639027461293026]
[null,"Agosto",107.27222151021579,100.79572540385061,79.748940831039207,101.12610529814174,111.75162715362318,96.840190561227544,109.57617575204638,null,-0.56565973919997514,1.3801062774557504,-8.0544917951313248,-0.14249224916350611,0.50009631340932614,-27.044238878895921,1.9543654976182712,null,155.28355470204545,98.39420192398282,96.990453134547337,126.13781741951404,125.16120168351026,176.84469970120011,98.890254230600476,null,144.75653856693685,97.617435193560254,121.61973829851485,124.73319035439201,111.99944454630013,182.61498524147314,90.247951757664495]
[null,"Septiembre",108.7092380400339,101.25199735504076,80.014640356599031,101.56789887314645,112.08574005711966,99.430249171987043,109.46319717444548,null,0.24918858799334309,1.6815798207745036,-7.2550327595667374,-0.42063418871478575,0.91357015540582953,-17.636339095702482,1.0829389305659465,null,156.17691367837071,98.295691861766628,97.289348418049116,126.06300700429655,125.46405038981383,185.55827471352205,98.806853569906139,null,143.66480392481097,97.080249703215401,121.58943411413507,124.11697830014515,111.93578266590958,186.62155255445168,90.264907403027067]
[null,"Octubre",107.99426817833984,99.523652418895125,79.230269539560922,101.65438217062692,111.60176904086859,104.78293368831933,108.70624545302564,null,-1.5397964278101139,-0.49267883640002896,-7.1896877239119199,-0.83279016931122607,0.66085322748510311,-1.5276365655159108E-2,-0.39754465696274499,null,156.55196616378092,98.038064635736362,97.641775379822164,125.5984976978333,125.32916490135739,197.252121470639,98.330444069977347,null,144.96321777490425,98.507301785000905,123.23796946199721,123.55443515166536,112.30033894486191,188.24832873774332,90.455192947003297]
[null,"Noviembre",106.17087213563278,100.3815476471058,78.085024642081862,100.88537982448601,112.03893160165222,107.70158249358657,108.68500881432168,null,-3.6682666344139081,-0.28253599306174992,-7.7025544209478607,-1.9391604012407471,0.74392394931737105,9.6507575786497934,-1.5355253091470122,null,157.20746581773432,98.048640875852158,96.725833722016745,125.4225583398914,125.70836451012846,202.21051011054976,98.083071782969782,null,148.07024059942029,97.675960546598603,123.87245078730361,124.32183786996053,112.20060983540712,187.7507325601191,90.245262757935336]
[null,"Diciembre",105.77323354067937,100.37503406278839,78.193940214322268,100.44919886737365,111.92176923631568,106.07373951445271,108.24352751284339,null,-4.3358412468514018,-0.30106465207887512,-7.5390959147860981,-2.7025105828177964,-0.12206226950142174,8.7134550912940867,-2.2440954178321482,null,158.34183590635359,98.044500336962841,96.854778822892655,125.48286467468708,125.89445440256341,201.49473125898868,98.078466323790408,null,149.69934321376007,97.67817391287987,123.86481427770843,124.92171773352439,112.48433192361827,189.95722426806185,90.609081741310689]
[2006,"Enero",106.26843302471858,101.27237940019806,78.348175670858339,101.11509068402995,112.46936984955141,109.89551758750335,109.88284197803918,null,-1.2487570707277351,1.8897616273360507,-5.5880975394743686,-2.1576578339160823,0.10848763384705418,11.005693246501602,1.0077151357582803,null,159.97778448285121,97.872156187598293,97.228191340835579,125.40964871915405,127.01449170834043,210.6309666747367,98.686881423086973,null,150.54120958538982,96.642496964386396,124.09758173475846,124.02663921950194,112.93251831876165,191.66474784289872,89.811002015046341]
[null,"Febrero",106.17787918622857,101.10013290679842,78.482971619217579,100.59070929014629,111.78967854818718,109.08565161602269,110.40170375535669,null,-1.5487089539856114,1.1108191947183377,-4.7684623550533045,-2.4006470650899669,-0.9372648001772288,13.293639136242508,1.3375815499792276,null,160.85708661288493,97.931949714495289,97.098678710942309,125.30440588606896,127.67650801030157,208.3265336002793,98.692451544690044,null,151.49773930853607,96.8662917632128,123.71942181552976,124.56856778356924,114.21135624365029,190.97519290032818,89.393956965905502]
[null,"Marzo",107.03585838337736,101.06308196344911,78.414339782525317,100.77026147138388,111.53837495441228,104.31718642203639,110.38709486371937,null,-1.3256292964796579,0.34722426191706734,-3.7729070327666925,-2.4606484353911995,-1.1921257671069552,9.5751115143319474,1.3982184801739406,null,161.79222813693158,97.821712813631038,97.089222810598855,125.2412671155279,127.81307174386856,198.4360293295808,98.655080957899997,null,151.15703333496867,96.792726793162359,123.81564785199564,124.28395568973805,114.59111879306833,190.22371685406421,89.371933449011081]
[null,"Abril",108.05091227568492,101.13730006911197,78.04862789358765,101.09068765499012,110.98206950396983,103.02572160652871,109.88312618394107,null,-0.42372756631431363,0.31908920286125575,-3.8961936344086068,-1.8417484989284971,-0.67932494620265294,8.2029401592155224,0.82625682382619914,null,162.91367668251655,97.840431085389795,96.789865979930312,125.41491509623681,128.2164624347491,195.70619021553958,98.712736532394928,null,150.77492012918208,96.740204670809618,124.01225824481459,124.06178848467452,115.52898860852724,189.95857263972587,89.834299369270539]
[null,"Mayo",107.80368276175292,101.68547566734722,78.002207189739423,101.35419508198746,111.4437564422672,104.45152353162223,110.96452348712286,null,9.2497145971592865E-2,1.4930714346654828,-3.3979776784237914,-1.4307497866806407,-0.20154176044228089,7.6593253625442337,1.3541292833975094,null,164.54867014790466,98.052552323678228,96.984525774251424,126.05851974365692,129.36530137621273,198.7351012402313,99.167491882813636,null,152.63733662193957,96.427293750826621,124.33561724521172,124.37424977001261,116.08124627711169,190.26539251968418,89.368645731463687]
[null,"Junio",106.86730633775005,100.61762891975424,77.570939080106214,100.80831518448188,111.24961662294545,104.15816700157927,110.03141071256439,null,-0.52849050541188269,0.50874223260344298,-3.3665960253919103,-0.89275291342347796,0.4611643426666534,6.9167751719400261,1.0359691977636087,null,164.45828615926939,97.609029320141943,96.822283876640853,125.432994179838,129.23014641513706,199.37347504720404,98.33283178331348,null,153.89017632717835,97.009868318392051,124.81772816576849,124.42722998622911,116.16232966728542,191.41415482492224,89.367964244490906]
[null,"Julio",106.98289907878636,99.958879079907874,77.422544788159541,100.83480892210589,111.698614709279,103.66813026249136,110.63517976906212,null,-6.7839449978734923E-2,-0.48468797467061675,-2.5991394048294758,-0.34681667611250466,0.51559767562638914,6.6316790171695894,1.8009040141454546,null,165.82996231611583,97.893210950317638,96.749489260367056,125.74282174478451,129.96821965234565,199.73341213504216,98.613811013323442,null,155.00604652150264,97.933482099235107,124.96294138237015,124.70179999242114,116.35616071928683,192.66616618753531,89.134225857605259]
[null,"Agosto",107.18607741879929,100.92884910252043,77.457449713459638,100.90930791495775,112.60849501271134,103.69666719206657,111.28233450950316,null,-8.0304192645341832E-2,0.13207276214983743,-2.8733812558519811,-0.21438320258139187,0.76676096886736378,7.0801973758033876,1.5570526583420286,null,167.23431375920518,98.049304825777725,96.907922194667634,126.03406447845438,130.90897746743261,199.7018286440979,98.996267911378027,null,156.02242174213018,97.146956195034235,125.11117078236072,124.89835386114308,116.2514226414761,192.58268761348998,88.95955350660266]
[null,"Septiembre",107.51013742348576,100.54116771796689,77.77139382591983,100.46517515814546,112.85803288123844,105.45025629856204,111.26789621692232,null,-1.1030346989522211,-0.70204011342249739,-2.803545102098548,-1.0857010209281204,0.68901969485610781,6.0545027058737766,1.6486810992746737,null,167.78636087971233,97.889586173724112,97.097436210465887,125.77012097053685,130.78724722807661,201.39294840151797,98.773813164383881,null,156.06561846237503,97.362690722191658,124.84980843702589,125.18777852380994,115.88652033808285,190.98383965166735,88.771169872592367]
[null,"Octubre",106.88448825879038,100.71007981508117,77.674354090176905,100.04616363162276,112.70390495488151,106.64754771333779,110.68329144841339,null,{"$f":"(C147/C135-1)*100","v":-1.0276285383190698},{"$f":"(D147/D135-1)*100","v":1.1921059641103016},{"$f":"(E147/E135-1)*100","v":-1.9637891659665785},{"$f":"(F147/F135-1)*100","v":-1.5820454609667078},{"$f":"(G147/G135-1)*100","v":0.98756132943493835},{"$f":"(H147/H135-1)*100","v":1.7795016415218967},{"$f":"(I147/I135-1)*100","v":1.8187050680929406},null,167.52478528601227,97.888839365454928,97.198459786397777,125.6793971926575,131.374034280876,204.63277946497379,98.764156107151095,null,156.73442237979251,97.19865136160503,125.13584557594666,125.62140578964944,116.56564547028665,191.87762292951587,89.231314695030107]
[null,"Noviembre",105.61791598566654,100.36383484584913,77.459385007260096,99.978639162994241,113.02284525062807,106.51417264715946,111.23393645247702,null,-0.52081718727885473,-1.7645475360617002E-2,-0.80122870894836495,-0.8987830179846279,0.8781890677734161,-1.1024999066265528,2.3452430707439742,null,167.16565189843621,98.060367900401076,97.39550221326239,126.10561689048276,132.41653680587004,205.80861759747938,99.283563812315805,null,158.2739541283151,97.704883488174787,125.7375103147717,126.13255986100584,117.15908983908206,193.2218149778474,89.25654074530857]
[null,"Diciembre",105.52454904419379,100.16710902002549,76.953066201512598,99.98566916864705,112.61996277809418,104.81215040457343,111.51047572754635,null,-0.23511098995563362,-0.20714816657778634,-1.5869183844790968,-0.4614568398286778,0.62382282423030233,-1.1893510266104856,3.0181464793036517,null,168.01203907096223,98.252022070759907,97.593027268111612,126.54806730986445,133.29548782604735,203.49746638235149,99.688967219653932,null,159.21606923958387,98.088107994728375,126.82149274279773,126.56620529929572,118.35866798206294,194.15446166961954,89.398746233693856]
[2007,"Enero",105.18678645575156,99.726946142591288,76.951502339953976,98.861265822646516,112.09015609705216,109.29286454563982,111.8036177775422,null,-1.0178437172546073,-1.5260165375395096,-1.782649460495167,-2.2289698264983171,-0.33717069190173365,-0.54838728193229436,1.7480215881992667,null,168.80882107667861,97.790544040625548,98.184238308580802,124.58841283586824,133.13782004614151,206.40993118170584,99.755170092841922,null,160.48481635827011,98.058296000363796,127.59236054265128,126.02348533486844,118.77744191101442,188.85947590431277,89.223561880910424]
[null,"Febrero",105.74659624005483,100.54673953846321,77.277694631971173,98.443368321800477,111.84928692798812,108.5540638604654,112.20148567846937,null,-0.40618907580297625,-0.5473715537499535,-1.5357178281859007,-2.1347309145141602,5.3321899280023288E-2,-0.48731226122061821,1.6302120908395334,null,169.45783673481259,97.859360859547266,98.488379523219422,124.67882449023607,133.89478045988929,204.57110796644224,99.922265991405752,null,160.24897515389259,97.327234387458262,127.44735721253386,126.65030323086346,119.70999917602936,188.45089782119669,89.056098845026341]
[null,"Marzo",105.93768253515798,100.75169559306984,77.184327162664943,98.65666053231115,111.72252178724484,106.89948466489896,112.40300431579409,null,-1.025988733874561,-0.30811089898473698,-1.5686067411543547,-2.0974451273731542,0.16509728863078887,2.4754293433637775,1.8262184130884984,null,169.85472171972177,97.940845921663097,98.524777869715265,124.882619239744,134.40604911428255,201.48121144619205,100.23804952878221,null,160.33456429760147,97.210121720670983,127.64868399004838,126.5830594365634,120.30345087468967,188.47725232519247,89.177375764054602]
[null,"Abril",105.9765293791332,101.58083127347858,77.378248405509026,98.992604537326585,111.74615767867338,105.29700412155809,112.88798914162828,null,-1.9198198820006951,0.43854364716431338,-0.85892539839730331,-2.0754464791297389,0.68847893909225188,2.2045781185632052,2.7345990799871878,null,170.64318888091316,98.316684322464027,98.527654219058689,125.37611681050112,135.21792312522936,198.92855176526356,100.78286336363635,null,161.01979360961491,96.786650679962705,127.33249491861581,126.65200334558958,121.00453915744392,188.92137855661531,89.276870046108328]
[null,"Mayo",105.62282479680339,102.6799756878397,77.929950960389107,99.158060839040715,111.81737882508763,104.85743476343767,113.27112071912195,null,-2.0229902254538468,0.97801580212486527,-9.2633570194433634E-2,-2.1667916568921974,0.33525645109959701,0.38861207389908614,2.0786798875108703,null,171.17294006902355,98.591034427268553,98.607616434090701,125.64291449308465,135.97195610623737,199.22183489458104,101.25669932567747,null,162.06055878388514,96.017781234189172,126.53365646824521,126.709733358981,121.60180960683577,189.99304660087577,89.393217514606732]
[null,"Junio",105.29017445903794,102.31259212452817,78.20885627145762,99.018499343269085,111.23658691166197,105.77154543012655,113.17828036991868,null,-1.4757851889030005,1.6845588819487167,0.82236620945459471,-1.7754644921278429,-1.1712140391140213E-2,1.5489696823512755,2.8599739265134705,null,171.21888391788212,98.620975683683668,99.151132533058743,125.60082004188855,136.2496698934028,201.36849830891555,101.42023755262871,null,162.61620307647325,96.3918259090227,126.77737184764844,126.84581252485567,122.48638121340854,190.38059573587398,89.611043056265487]
[null,"Julio",104.98379256710899,102.13033922152911,78.081835372043798,98.895454208730101,111.60799134410999,107.75961372842902,113.34521658032308,null,-1.8686224891000136,2.1723534333406791,0.85154858405671607,-1.9232988430353704,-8.1132040361353575E-2,3.9467128958319941,2.4495253832622188,null,172.03417012097896,98.894962219437957,99.463796679828661,126.00836408163157,137.34126794548629,205.57629408376826,101.85223178370518,null,163.86736077476837,96.832109805223155,127.38404035446173,127.41572915543379,123.05684054651196,190.77304285987188,89.860194242539308]
[null,"Agosto",104.08979343487783,102.19911968834674,76.986516173787237,98.057030150113164,112.14790889917019,107.73916401753581,112.80299205960883,null,-2.8886997812445303,1.2585802742444807,-0.60798998858668796,-2.8265754901900308,-0.40901542418195769,3.8983864524611445,1.3664860256645817,null,171.52456734877978,98.591014619543245,98.886017758634864,125.69974455399004,138.01137322293425,204.2314352980315,101.40801061610777,null,164.78519333030616,96.469534101853014,128.44589244097278,128.19044627555957,123.06192293519922,189.56099869569292,89.898334046423543]
[null,"Septiembre",104.25084602008931,102.15318853755721,77.380843216239995,98.369902821649248,112.34667962483881,108.35357690277877,113.03772754758273,null,-3.0316130938964347,1.6033440392420051,-0.50217771659593069,-2.085570779325252,-0.45309424889385941,2.7532608322890617,1.5906037507980253,null,172.26245895690306,98.820075046103,99.658556425182965,126.05210699256371,139.19980241754467,207.2131848483391,101.80958909778148,null,165.23842782408479,96.737141993146139,128.78970076183859,128.14092865487933,123.90201729359245,191.23797365200321,90.066910673629025]
[null,"Octubre",104.80771160203932,102.35662948161682,78.102287189920403,98.044007187934525,111.98974419541601,109.3323698562528,113.77194883118098,null,-1.9430103381537833,1.6349402855791118,0.55093229259002285,-2.0012326020419136,-0.63366106059181693,2.5174719911344345,2.7905362610282758,null,173.56350248918801,99.301252854770112,100.54120695691317,126.67456402448866,141.05120070161229,209.54046947417044,102.7000426402869,null,165.60184344852243,97.014969482367093,128.73016985076035,129.20174078735275,125.95010526632298,191.65455733710746,90.268333886656904]
[null,"Noviembre",103.9673506121508,102.41910898413749,76.710230368479458,97.799231441861565,109.48459428925899,108.22698584416872,114.0895334892638,null,-1.5627702536184729,2.0478234430211906,-0.96715799991237139,-2.1798733603281106,-3.1305626340612847,1.6080613071869365,2.5671994787371366,null,173.0437127056662,99.76343465783502,99.838947028070407,127.41063321550476,142.60716547096138,209.90401070970114,103.4075489091524,null,166.44043700911848,97.407051913804693,130.15075896460172,130.27774486269473,130.25317981650673,193.94794105412186,90.637191464091131]
[null,"Diciembre",99.267647086347978,103.2348097048897,75.986859497875841,97.950747792435976,109.04947138983879,107.43501265268044,114.03644445197008,null,-5.9293330457403037,3.0625828327049964,-1.2555792138374433,-2.0352130391593892,-3.1703894231351004,2.5024410223269067,2.265229977670824,null,167.5465159622558,99.797740367327378,99.620159827877629,127.45440204824948,143.20936859446209,210.44411659715286,103.47330752965047,null,168.78260025294591,96.670629463658983,131.10182535002969,130.12090762015791,131.32513781979353,195.88038517525359,90.737051674064944]
[2008,"Enero",99.014128662187204,102.7152722722352,76.756823758218218,97.876334274100742,108.60004887599074,113.64219673052604,113.44072356486551,null,-5.8682825110937138,2.9965082109013386,-0.25298866924743368,-0.99627648943186875,-3.1136607732435873,3.9795207152521606,1.4642690637978184,null,167.33172435948117,99.724431852022221,100.73790624624313,127.4347741923626,143.80392794091122,213.2984186123328,104.46011806765992,null,168.99782548243945,97.088222273036394,131.24293230731462,130.19978234522355,132.4160803142174,187.69297386789918,92.08343775057952]
[null,"Febrero",98.732989551318184,102.80032233492025,77.138723738985291,97.599645765552822,108.01743757818366,114.97191451623684,113.5768289320747,null,-6.6324656661431387,2.2413285669944161,-0.17983312474281199,-0.85706388417107204,-3.4259041385498623,5.9121238095893869,1.2257798952382881,null,167.57157962624015,99.969505662414718,101.31920304072877,127.69579043538837,145.07932133953085,214.55623377221406,104.94780852853627,null,169.72197478041718,97.246295917941936,131.34674535653855,130.8363257200036,134.31101921346874,186.61621377272402,92.402481664020499]
[null,"Marzo",99.923196985597158,103.51639053161394,76.371254079030535,98.378358451178798,108.30058234517732,115.13801467035603,114.21683133268662,null,-5.6773807068743132,2.744067901060987,-1.0534173368135558,-0.28209152796248027,-3.0628913376874789,7.7068004876568175,1.6136819722332607,null,169.08172390727947,100.63022634855081,100.7345937887772,128.79265381353795,146.78459851622947,216.69071742451317,106.07443433920865,null,169.21168358099146,97.211877106377969,131.90119110069213,130.91563616346835,135.53444989648835,188.20084578052339,92.871105862006374]
[null,"Abril",99.827825729666998,103.81979061133273,75.015669487896631,98.483339477914853,108.37382960657914,114.37310929287288,114.79354302939109,null,-5.8019484932074761,2.2041159830897383,-3.0532856019576005,-0.51444758100056553,-3.0178470044503802,8.6195283968735446,1.688004102342644,null,169.45599786666537,101.08343796485843,99.776410206040168,129.37083914773865,148.03531147341934,218.11739226608634,106.49303823329983,null,169.74826069592154,97.364324633712371,133.00742483160607,131.36317252599906,136.59691828813294,190.70688347516858,92.769188425549302]
[null,"Mayo",101.78261380171065,103.65982618637697,73.301343840709961,97.529583262941657,106.54197732228997,114.65587797042406,114.19245882179449,null,-3.6357775911414092,0.95427613025167446,-5.9394456978829835,-1.6423047832112236,-4.7178726225104999,9.3445383525660795,0.81339188384759176,null,174.85172271447885,101.09700260132139,98.10583186982025,129.26505820918467,148.37676694587475,217.82480460154318,105.99376660443438,null,171.78938149016184,97.527659770094814,133.8390631459807,132.53933205136696,139.26601577614272,189.98136725073263,92.820285768472019]
[null,"Junio",103.07330984298522,103.39576989829699,73.397282327333912,97.159980161790358,105.66288377283449,113.52593073006791,113.80331548470934,null,-2.105480998053777,1.058694488407097,-6.1522111094721277,-1.8769413733849549,-5.0106743595556562,7.331258391288209,0.55225712278694772,null,178.1601983152471,101.10867645630771,98.971337609729702,129.0736861998227,148.9917067301902,219.00487418174927,106.0119859977593,null,172.8480424143205,97.788020298858527,134.84332726154867,132.84655470790523,141.00666327686901,192.91176277821498,93.153688489860471]
[null,"Julio",104.88572506537865,103.05235523438307,72.628635702040924,95.914128569990538,105.73982667200536,112.80949714973958,114.09645707333848,null,-9.3412039451379325E-2,0.90278365849156827,-6.9839542628826639,-3.0146235361305229,-5.2578355738093112,4.6862486293214323,0.66278976359186448,null,184.31223931748423,101.33206441013259,98.499016415250992,129.25464285105303,149.79088760644819,220.06644759350672,106.11576355044063,null,175.72671514888845,98.330663263020185,135.62008354300272,134.76079570147292,141.65985733179318,195.07794392647438,93.005309956497555]
[null,"Agosto",104.76994308829262,102.50804042684031,71.40522108619443,94.319190257048675,105.13781949101812,112.88239340005802,112.18344085341603,null,0.65342588448915606,0.30227338497201828,-7.24970470802152,-3.8119040392538106,-6.2507535601530435,4.7737788105401302,-0.54923295462357968,null,187.6081577775781,100.80566011421193,97.328480895375264,128.27796634911891,149.36685121539603,220.77416758840758,104.76566280828629,null,179.06677454188872,98.339271431255824,136.3044318256342,136.00410054361382,142.06767073779417,195.57892151168201,93.387813755131532]
[null,"Septiembre",102.79821839967614,101.83096641246276,71.083862211962924,93.203042182446993,103.29354677280162,110.56088794500519,109.47466510204001,null,-1.3933964815338262,-0.31543031569297719,-8.1376484702812331,-5.2524811868220445,-8.058211317208908,2.0371372180975289,-3.1521002083511163,null,185.77892217612074,99.658315486512748,96.677953805498277,126.90360305346576,146.8632454646125,218.7616433428044,102.93058316252551,null,180.72192793635617,97.866414311389562,136.00548816159858,136.15821981974489,142.18046533695298,197.86530970302991,94.022286404425316]
[null,"Octubre",98.810889079176093,99.412464121261479,68.78380510884908,90.151655699109156,100.4300790136879,108.74678723661142,105.73530602149347,null,-5.7217378675659791,-2.8763797472288855,-11.931125727997804,-8.0498050979260878,-10.322074815669835,-0.53559857927828469,-7.0638174807153735,null,181.24682471356496,97.118248560957198,94.383472231857823,123.98966126724507,142.93224949850548,214.24738768315041,99.769302161907603,null,183.42798693809331,97.692225436132603,137.21757917070411,137.53453589479696,142.32016035656494,197.01491246540519,94.357604773590836]
[null,"Noviembre",95.427978732854285,98.350305437991253,68.540386353964607,88.775498028910732,99.26606979562608,110.78824665378716,104.44561246110126,null,-8.213513020210117,-3.9726996128978342,-10.650266561931577,-9.2267937895965435,-9.3332989540386926,2.3665639300962216,-8.4529410658604078,null,179.13544684781539,96.334489719680448,94.92864834698652,122.99951603744542,142.11179911648344,213.90643360577664,98.889303064654356,null,187.71795151325153,97.950371674664765,138.50031112568354,138.55119798639626,143.16251203363879,193.07682905591369,94.680188793458171]
[null,"Diciembre",95.356919846526253,98.190728252258992,69.327421433211356,88.619175728497083,99.71119325237288,112.42472224454369,105.37223034547348,null,-3.9395788603914239,-4.8860277527026703,-8.7639338020683013,-9.5268002279197521,-8.563341040033734,4.644398012028117,-7.5977588990384533,null,179.21058341237006,96.442677202771335,96.125584769809009,123.59599451706869,142.91248869060703,215.54920656184925,99.875382779078578,null,187.93663186772753,98.219739194726415,138.65449310330183,139.46867988902335,143.32642507736318,191.72758647603465,94.783400191518268]
[2009,"Enero",95.351587729902732,98.397764876385921,70.810196686436186,87.7668790355455,100.09882863175851,116.30618078301399,105.31833703314564,null,-3.6990083958423736,-4.203374337952603,-7.7473594927712668,-10.328804520042523,-7.8280077515800013,2.344185636260554,-7.1600270841674192,null,179.02478347482918,95.607397903383728,97.199935997822635,122.60972758830817,143.50654156793456,216.07453036181937,99.627022258889383,null,187.75228366615457,97.164196791962041,137.26827568103826,139.6993136085554,143.36485604228542,185.78078044273303,94.596083707184732]
[null,"Febrero",95.199975638937843,97.825103445823487,71.427575473002733,86.444382713898733,98.842659782061602,115.5720802370975,103.71247086765044,null,-3.5783520061893781,-4.8396919154471636,-7.4037370456210834,-11.429614282054356,-8.4937932261921141,0.52201072182362918,-8.6851853121587936,null,178.91406531048645,94.627021080243296,97.093778179920236,121.35109339584305,142.1333791467253,214.52729981492428,98.067152882523473,null,187.9349906443764,96.730816270129154,135.93318481966182,140.38054247836271,143.79760668128066,185.62208050146626,94.556760688566499]
[null,"Marzo",95.838577349110054,97.332187421343292,72.938858953919166,86.511565274049474,99.465134526229889,116.09958473223075,103.09324293799334,null,-4.0877591587425428,-5.9741293900524735,-4.4943548020822792,-12.062402101391367,-8.1582643672099113,0.83514559863457904,-9.7390097982081976,null,179.77198229765469,94.4498441238336,98.638287920203339,121.18744290970315,141.97704678964212,215.3566492431045,97.904970044531666,null,187.57789114794707,97.038653528834956,135.23420757448426,140.08236069455936,142.74051652964027,185.49304008261339,94.967397721126872]
[null,"Abril",97.395925120972947,98.419592354459269,74.145751833318002,87.106255304790892,101.04499464656966,117.79097391713424,104.0022208149433,null,-2.4360949373770979,-5.2015114122990642,-1.1596479249165181,-11.552293244153544,-6.7625505037653078,2.9883463389189568,-9.4006352009579857,null,182.93048196016946,95.369426663157896,100.12587651617868,122.16621155327189,143.79844790039593,218.3062961569743,98.955959580570081,null,187.8214943109337,96.900855187129636,135.03926258818552,140.24964237735139,142.31130240876081,185.33363711768988,95.147929347247029]
[null,"Mayo",99.411543054850455,98.880787863226004,74.832356175212112,87.784072229076727,102.68079568019294,119.43192210303339,105.71621904099587,null,-2.3295439744546509,-4.6103090261394142,2.0886552064163677,-9.9923640682343944,-3.624094220080909,4.1655466925484053,-7.4227666767613831,null,186.29879767261787,95.974747025723175,101.07654731502156,122.94886766070287,146.17598983759373,221.26985976252308,100.15603015469623,null,187.40157525754051,97.061066259380397,135.07064655075328,140.05828681524585,142.35961931271925,185.26860814618271,94.740458052001046]
[null,"Junio",100.54190795019893,99.518981448468949,75.672830590497639,87.947854137505942,103.72112562693979,118.15791160081586,106.23181021281766,null,-2.4559237465474393,-3.7494652379312599,3.100316784230972,-9.4813996554388158,-1.8376917954172955,4.0801082545286249,-6.6531499892101049,null,187.95270045187462,96.195490201038979,101.71892916829708,123.28198600408446,147.24291551512351,222.49444909375291,100.73526323918249,null,186.93965957456524,96.660444872869931,134.41935285696857,140.17622966824615,141.96039102460307,188.30262491895348,94.825893522266284]
[null,"Julio",100.62533833516211,99.949966001617909,75.894656626057326,87.273678672200546,104.92140375778601,118.26840565700142,105.87940418751678,null,-4.0619319049955527,-3.0104981353498039,4.496877701813462,-9.0085267171925327,-0.77399683731090851,4.839050474638551,-7.201847538999373,null,190.0706826272592,96.199806542743502,102.38852496470128,123.30786706462094,147.96216989213116,223.24854617475651,100.95001942065242,null,188.88948427102247,96.247963247117355,134.90873997781244,141.28872409259222,141.02191220554573,188.7643153169879,95.344340285355017]
[null,"Agosto",101.53939647549375,100.68055938980974,77.166213642374345,87.605505203845539,105.97262753129311,118.26437048173923,106.2683401645134,null,-3.0834669921280811,-1.7827684827658286,8.0680270553685762,-7.1180478065028812,0.79401308141673343,4.7677737152572064,-5.2727039248435688,null,192.53716048471338,96.476786123254826,103.94086468183181,123.61429062728024,149.53804043512642,224.54566578008809,101.35721118421965,null,189.61818483053688,95.824642520827709,134.69737567213571,141.10333630249306,141.11006202141084,189.86755255654901,95.378558682020582]
[null,"Septiembre",101.89688909079963,100.87930936838382,77.320295136959913,87.70155534612212,106.19403704305422,118.71790166741667,107.55154071253665,null,-0.87679467884567153,-0.93454582393364127,8.7733456384245798,-5.9026901992700997,2.808007238469945,7.3778475137328048,-1.7566844234790158,null,193.19550291745537,96.442025264133832,104.67835135598762,123.70734776512325,150.10752946997192,225.3962853695879,101.88099053919937,null,189.59901979470658,95.601393256920275,135.38276227550284,141.05490749497088,141.35212639963379,189.85871734915457,94.727597451631581]
[null,"Octubre",101.47929568700989,102.10876700343894,78.234027965512666,87.876100553115847,106.85233995944893,119.36381145574245,108.15886414233277,null,2.7005187714641776,2.7122382550427204,13.739023076302326,-2.5241412687840303,6.3947584317699535,9.7630693181128159,2.2920992164591203,null,192.73780821088465,96.833203995831099,105.66509769313529,124.20728016348441,151.60943631636911,226.93611599348156,102.66108589415286,null,189.92820841538079,94.833388784892321,135.06283703008987,141.34364108294557,141.8868659066388,190.12137198519724,94.916941582388418]
[null,"Noviembre",99.29120806901588,101.09770778280786,78.164153698453106,88.093413539276384,107.88468564159422,118.26413212049441,108.51055192705891,null,4.0483193581795307,2.7934863370086882,14.041017065162521,-0.76832516266168716,8.6823381480827919,6.747904847767261,3.8919197945931572,null,187.95759162338004,97.08123012587275,105.35716295342171,124.54932891148844,152.85539737852446,226.95018942909337,102.95072683721023,null,189.2993299998258,96.027132815351393,134.78961642682859,141.38324751822475,141.68405503476956,191.90111605255194,94.876235544736687]
[null,"Diciembre",98.172745144245695,101.49330198108521,78.427092969817608,88.026764241081921,108.09496007167367,117.89820860757251,108.24890463680441,null,2.9529323118357986,3.3634272681445809,13.125645449503253,-0.66849130850656913,8.4080498345668673,4.8685789510985122,2.7300117705580051,null,187.53922108719303,96.989391932361443,105.59820528192022,124.35534398883949,153.26679256558288,226.32303134589083,102.64023618192468,null,191.02982280024943,95.562357356780907,134.64505859290148,141.26992518805218,141.78902741067435,191.96477539299462,94.818729599437631]
[2010,"Enero",95.786622708501795,101.84576745184481,77.975460724787396,88.046115197904399,109.15841847365263,120.86208096714829,107.28190487890069,null,0.45624303585942716,3.5041472535382256,10.118972088272326,0.31815665023910977,9.0506452130647332,3.9171608537589275,1.8644121252475498,null,184.9396228359636,96.425822460821436,105.44797570516091,123.81846479505039,155.02510656071894,225.01671402790859,101.10264049244506,null,193.07458349249097,94.678281555896717,135.23225733456982,140.62910614141146,142.01846154278707,186.17643534457324,94.240161569249963]
[null,"Febrero",93.194163787677923,102.03541535525403,75.551975872749935,87.572673178520688,108.47373092734058,120.9522079015679,107.07912579717572,null,-2.1069457610654263,4.3039176664528167,5.7742410720717841,1.3052212638919647,9.7438405305103615,4.6552140044836099,3.2461428229026978,null,180.57142444263354,96.382914186979249,102.29484902562169,123.65900261400691,155.71493290532274,225.03189148804609,100.83095506020099,null,193.75829676848133,94.460255639089013,135.39665620117469,141.2072946110971,143.55082246560315,186.05025521417454,94.164903112106344]
[null,"Marzo",90.847609305512478,102.80368739510956,74.213768477920794,88.059042894766961,109.01188127686099,120.98661760787375,107.68437792729453,null,-5.20768168898943,5.6214702645904557,1.7479153667691483,1.7887523082207757,9.5980835858755498,4.2093456982764677,4.4533810931358442,null,175.72355029811385,96.905850830086976,101.22225327722249,124.27999525328963,157.55589423588276,226.15177764145619,101.41919429149122,null,193.42671936161918,94.263010681362829,136.39282218546404,141.13257556274797,144.53093772020407,186.92296893068803,94.181901073864779]
[null,"Abril",87.257784371150251,103.43999775237691,74.486739203354006,87.940670368096505,109.78867677063951,121.22164046541289,107.82088153994668,null,-10.409204222076408,5.1010223450597136,0.45988793909941261,0.95792783237660384,8.6532560614734919,2.9125037633971118,3.6717107529829818,null,168.55113898712381,97.163397120049154,101.34728434568925,124.58145763540487,158.98325134364731,226.9319732868147,101.68444970441581,null,193.16458720770743,93.932133827619367,136.06084174124481,141.66534905174098,144.8084228902591,187.20417609887335,94.308679591663903]
[null,"Mayo",87.682993886780466,102.7423085117244,73.684952071991489,86.86190140450131,108.83533874209792,120.45873835753612,106.21429574621297,null,-11.797975172358754,3.9052284391582148,-1.5332994467447958,-1.0504990269407544,5.9938599239859336,0.85975025472411204,0.47114502366372157,null,170.21093434720979,96.275002248844061,100.14740535116498,123.25733858959443,157.47924907723117,226.16046028714177,100.35058769903709,null,194.12080587370505,93.705313461841939,135.91296802815208,141.90034594753536,144.69495928193183,187.74931845614233,94.479360799805576]
[null,"Junio",88.416338159505216,102.07326613593051,73.235311614815345,86.276830068274066,108.83503151763249,120.4801371535239,105.72974996855736,null,-12.060214529348134,2.5666306570713671,-3.2211283186602269,-1.9000168743392387,4.9304380952113869,1.9653576482913993,-0.47260819829250122,null,172.20361825867053,96.063136953805369,100.05057269157842,122.90081291689974,157.40252383227943,226.02084387389175,100.04129098215306,null,194.76447661518284,94.111945850619222,136.615207180109,142.44938394195029,144.62487090544781,187.60008845763579,94.619812315742763]
[null,"Julio",87.054367646680461,102.73050188283133,73.388134136838929,86.35560950854024,109.27349715782077,121.21596995241018,105.67261054720665,null,-13.486633598467579,2.7819277909193252,-3.3026336775833331,-1.0519427823233674,4.1479557498884434,2.4922668729949748,-0.19531054400712122,null,169.93974842096225,96.519211459106145,100.49461509938662,123.64624521202228,159.20383508159543,228.10844059531149,101.05014615625517,null,195.21105375284677,93.9538011497214,136.93578162377744,143.18264431888949,145.69299896356534,188.18348826880458,95.625674082418442]
[null,"Agosto",85.323891452194118,103.31680530999955,73.791054218790038,86.337696236686369,111.11490744664778,121.88287029885707,105.95998192786953,null,-15.969668509122171,2.6184259763425866,-4.3738823822903061,-1.4471795627559736,4.852460522257207,3.0596702983140212,-0.29016942973466575,null,166.56180499912116,96.734264191847188,100.91796907514683,124.00822755091781,160.77059472976021,229.44124735528689,101.68074887777374,null,195.211214777333,93.628779850091561,136.76179334140647,143.63161510698797,144.68859167880314,188.24732859728067,95.961463023834014]
[null,"Septiembre",85.564155578522062,103.34731608528658,74.530614500585912,86.106618755586538,111.66773958524922,121.80168778455054,106.59170583131863,null,-16.028687095367143,2.4464944619022599,-3.6079539420181383,-1.8185955588142289,5.1544349330798989,2.5975746486599505,-0.89244177708570627,null,166.49803586600029,96.82518615500932,101.98321752046647,124.16707532910362,161.84290128193061,230.68541998632793,102.08074213327549,null,194.58853387877514,93.68911532748956,136.83399527004403,144.20154585508882,144.93254890180413,189.39427210103761,95.767997460157233]
[null,"Octubre",86.528230421048889,103.92491320355363,74.918287216044817,86.391726356846405,111.52373962975604,123.15836927073214,108.02439180569333,null,-14.7331188738974,1.7786388509162254,-4.2382334588850545,-1.6891671193036473,4.3718272076024967,3.178985128500722,-0.1243285399729066,null,168.57923055624917,97.597908921666914,102.6598706071194,125.30187646026603,164.41060624755156,234.23138303510544,103.30904608883993,null,194.82569993161505,93.911946532498646,137.02912122253286,145.03920889680896,147.42207066708207,190.18714231284417,95.634925003479751]
[null,"Noviembre",86.387955739251623,103.79214628709056,73.972937705445432,85.82033765804303,110.21706858412585,122.77264113720668,107.63518229392794,null,-12.995362409927969,2.6651825875926516,-5.3620691771023683,-2.5803017386991201,2.1619221752011031,3.8122370120796445,-0.8067138334338253,null,168.90413452372474,97.522721790298135,101.82262808135746,125.122271068111,164.34602130338348,233.62709651293378,102.91877084574359,null,195.51815189785847,93.95963498100221,137.64848502679098,145.79559400787863,149.11122516195613,190.29247424256337,95.618150731324192]
[null,"Diciembre",84.532970517369236,104.00407965071774,73.612574675959351,85.825209490127591,109.92376221408016,121.87985127998293,106.7828699160487,null,-13.893646965698547,2.4738358301717778,-6.1388457885479752,-2.5010061086930935,1.6918477431268508,3.3771867439168934,-1.3543182960368383,null,165.98734667369294,97.343039949721572,101.12023063625601,124.77407084133635,164.48394061139317,233.22664483117541,102.48412348693014,null,196.35811406815168,93.595405369321767,137.36814814776503,145.3816094159246,149.6345624443378,191.35783509893375,95.974310830474806]
[2011,"Enero",83.377507018279587,103.01797615157999,72.860936917977753,85.789871845038064,110.68365844559622,127.57694981839036,106.60950981166394,null,-12.954956902474446,1.1509645703140503,-6.5591453506908204,-2.5625700211700408,1.397271958746571,5.5558110513315162,-0.62675533958476137,null,166.46450338862786,97.011658894628113,101.30716173790029,126.29703994732731,167.70034765011007,232.66688190341935,103.37199086733176,null,199.65157191870989,94.169641570016651,139.04180487267891,147.21672527435078,151.51319535804737,182.37376127476608,96.963198733347937]
[null,"Febrero",83.014221493239447,103.86601930257642,71.515650258764509,86.043977349235092,111.573554188747,127.74776576788018,107.18924936602996,null,-10.923368889956675,1.7940868285279299,-5.3424487809341947,-1.7456311127665214,2.857671838984488,5.6183826522973268,0.1028431713785416,null,165.51788393199581,97.426038638257296,99.675555556409165,126.88635560868772,169.34269449893537,234.3687698701705,103.76024064969123,null,199.38497398963784,93.79972323233207,139.37586415806035,147.46686464025447,151.77673215685266,183.46212825046388,96.800977022770866]
[null,"Marzo",83.476770406766633,104.42262458881218,70.634921116152526,86.529269884099804,112.47232511217217,128.25034579526135,107.42587377631588,null,-8.1134098685617158,1.5747851411987757,-4.8223495924924027,-1.7372128521715546,3.1743731002335185,6.00374515050075,-0.24005724502879078,null,165.57043087119237,97.81030657856752,98.645452192024578,127.48711285074334,170.65226576572093,236.0904249760209,104.21553397877797,null,198.34311996546913,93.667734328377421,139.65535833162659,147.33409055860963,151.72822789563929,184.08560500329196,97.011576741537567]
[null,"Abril",84.377356874402906,102.65079642413966,70.387141035936622,86.831378714654633,113.57112798190923,129.02690199710977,107.82368491978481,null,-3.301055049135182,-0.76295567032639289,-5.5037959927675129,-1.2614091395922622,3.4452106742953736,6.4388350972068409,2.6000342401966137E-3,null,166.64863425240713,98.429311173638069,98.212369957942698,128.49470710682579,172.27410818666158,238.28100475921374,105.20433846750228,null,197.50397550431256,95.887528009954281,139.53169359130487,147.9818805239581,151.68829547427157,184.67544447788978,97.57071328601765]
[null,"Mayo",84.622989767397911,102.42705718883884,70.68533915382703,86.513885660648,113.09974960430931,129.33947003536275,107.72396389527546,null,-3.4898490388384107,-0.30683690823394283,-4.0708622775974419,-0.4006540706870565,3.9182226209784288,7.3724262755164638,1.4213417680325025,null,167.76578930786593,98.325512418741184,98.820293297437132,128.36452428742263,172.80121019564956,238.59473342911991,105.19162731803004,null,198.25084149000355,95.995643258074011,139.80309705012829,148.37447573553035,152.78655417028924,184.47171104372521,97.649235615106747]
[null,"Junio",84.605588214397258,102.2498007568216,71.360429590174476,86.074581256332579,113.04207492220789,128.643102118423,107.67763148576535,null,-4.3100065264332414,0.17294892930730388,-2.5600792613567402,-0.23441845485218105,3.8655232105976989,6.7753616137548933,1.8423211232290404,null,168.59355337908005,98.08621303220481,100.24150074749562,128.15546011519638,173.66815618442121,239.60639281416633,105.2368377664812,null,199.26999733380572,95.92802363056046,140.47210943541984,148.88885690137224,153.63142998209679,186.25669691453456,97.733239777282051]
[null,"Julio",84.408861778354535,102.42786722239157,70.792556119540933,85.675261213140132,113.7958885324912,127.8942904867731,108.1147603724268,null,-3.0389122795802748,-0.29459085168778154,-3.5367815898661559,-0.78784493476689033,4.1385985552735427,5.5094395045346412,2.3110528003178032,null,168.54250617857903,98.237316719815013,100.20471428962874,128.18028641133051,175.01395930368167,240.00336058223314,105.57883067710617,null,199.67394729376556,95.90877891318577,141.54696451477494,149.61178360746138,153.79638189099546,187.65760353239099,97.654409364100687]
[null,"Agosto",84.422120883430111,102.24710985623734,70.865632213764684,85.185932681905697,113.36643946883798,127.35860891171527,107.59299939814706,null,-1.0568793258442288,-1.0353547523586415,-3.9644670156784745,-1.334021644060579,2.0263095870113323,4.49262361432059,1.5411643533397079,null,168.53083474737727,97.848614675547097,100.64231231879843,127.56117822730042,174.96915015232784,239.5940180803633,105.25747160353107,null,199.62876196877863,95.698171628640978,142.01850625591405,149.74441696098916,154.33945969558579,188.12549864332249,97.82929390603438]
[null,"Septiembre",84.70092299065108,101.68785728222849,70.341616067414691,84.898927544705245,112.10516607447401,126.36043521436908,105.44979128602857,null,-1.0088717431200434,-1.6057105940599614,-5.62050703759901,-1.4025532860712175,0.39172145048289586,3.7427621182740012,-1.0712977490923592,null,168.37904836995989,96.893253860955625,99.657821907881356,126.62172283538828,173.21078919777918,237.56560030162842,103.70910679298386,null,198.79245989863043,95.284979397327902,141.67690121360067,149.14407813775156,154.50741055297246,188.00631692871352,98.349276492806737]
[null,"Octubre",84.901109214600282,101.44439413348404,69.931842047079229,84.836522939945439,111.38952850420036,126.36357447041377,104.63292959694252,null,-1.8804512683675445,-2.3868377596920287,-6.6558451270862351,-1.8001763391983894,-0.12034310004420679,2.6025070148792073,-3.1395337220237574,null,169.13485112026183,96.570558771804201,98.999132973613101,126.6077587282382,172.74089929320476,237.63162680036248,103.09738611069226,null,199.21394747947065,95.195559692271729,141.5651727105448,149.23732649658689,155.07822109749833,188.05389749084736,98.532447201693259]
[null,"Noviembre",83.276525721249044,101.35897134437879,69.487643790691649,84.448309502015903,110.25070142151326,126.45275333926359,103.62999202948505,null,-3.6016942308415567,-2.3442765466874294,-6.0634254281124793,-1.5987214609828992,3.0515089740146273E-2,2.9975018603241921,-3.7210790924342874,null,166.25717087019754,96.466167345118848,98.41747202397994,126.34250812410552,172.88115660098666,237.94031305193832,102.94604202267273,null,199.64470110906052,95.172796315546577,141.6330539576644,149.60928036231388,156.80730768326188,188.16538728386692,99.340007662436449]
[null,"Diciembre",81.80616818361986,101.41296203952861,69.045366477718275,84.209611136268151,109.1251158783696,126.21906755919416,103.08427915120338,null,-3.2257263846999118,-2.4913615118666632,-6.2043858924182516,-1.8824286750448116,-0.7265456709488971,3.5602408713505618,-3.4636555168006899,null,164.70931733833515,96.236604135825658,97.905497222105296,126.07698066756757,172.92712612289148,237.72272225179574,102.49582980220997,null,201.34095141656454,94.895763027131267,141.79879435313089,149.71804164200395,158.46684306446494,188.34137095832105,99.429157041365855]
[2012,"Enero",82.392023816661307,101.23678579989426,69.397582853319349,84.44967413960147,110.5075649459129,134.40389069720106,104.17758727775612,null,-1.1819533071457999,-1.7290092644267174,-4.7533756923236243,-1.5621863940505576,-0.159096204585496,5.3512338149870109,-2.281149719386244,null,165.20720671892408,96.71540859780761,98.620177067380411,128.12908699410619,176.31409324284212,238.05453541551077,104.40200126554112,null,200.51359229449574,95.533859390771596,142.10895107950194,151.72241728523363,159.54934246278771,177.11878293153325,100.21541484464088,null,null,null,null,null,null,null,null,null,null,null,null,null,null,null,null,null,null,null,null,100]
[null,"Febrero",83.23617081456706,101.89793006764208,69.646138030267181,84.92470237887855,110.91165188775825,135.62865678276458,104.81979993432037,null,{"$f":"(C211/C199-1)*100","v":0.26736301001832885},{"$f":"(D211/D199-1)*100","v":-1.8948345649032916},{"$f":"(E211/E199-1)*100","v":-2.6141302242696396},{"$f":"(F211/F199-1)*100","v":-1.3008173318321048},{"$f":"(G211/G199-1)*100","v":-0.5932430008181111},{"$f":"(H211/H199-1)*100","v":6.1691028156250605},{"$f":"(I211/I199-1)*100","v":-2.2105289902893066},null,166.67997617288114,97.204952698500733,99.053800786021398,129.5563402869922,178.47822925230901,240.17727499060294,105.34148617196625,null,200.24945230146352,95.394433070400908,142.22439834779365,152.55436481719585,160.91927783469279,177.08446038457276,100.49769818104286,null,null,null,null,null,null,null,null,null,null,null,null,null,null,null,null,null,null,null,null,100]
[null,"Marzo",82.968979067654715,102.2927749863436,69.158105266256484,85.10746817078325,111.01064769999572,136.21626927496814,104.19208958616356,null,-0.60830256925076265,-2.0396438136422557,-2.0907729867320923,-1.643145394871548,-1.299588508300753,6.2112296308530546,-3.0102470442881946,null,165.7551825365889,97.146454605891734,98.132302990737344,130.02345306748191,178.46439862447531,240.07245658432956,105.03235525643038,null,199.77970610127497,94.969028476215541,141.89559215500645,152.77560931147283,160.76331624221501,176.24359987404719,100.80645821924125,null,null,null,null,null,null,null,null,null,null,null,null,null,null,null,null,null,null,null,null,100]
[null,"Abril",81.919430438949504,101.7991952302951,69.153727663889981,84.551438797119573,110.22344542482469,136.38689218002492,103.51044948741422,null,-2.9130166273305558,-0.82960992365402886,-1.7523277034606544,-2.6257096815511805,-2.9476528203697949,5.7042291715877935,-4.0002671357220017,null,164.21249915594231,96.919752808980846,98.176164150942327,130.19789958867352,178.51013671889902,239.72119403934386,104.81263700636853,null,200.45610458476241,95.20679666447684,141.96800008831195,153.98661624325783,161.95296384619701,175.76556676936522,101.25802518045546,null,null,null,null,null,null,null,null,null,null,null,null,null,null,null,null,null,null,null,null,100]
[null,"Mayo",80.376820779946499,101.4077029447088,68.783085972803732,84.096216049333577,109.99862402154501,135.67684646661678,102.12673964155836,null,-5.0177487218577399,-0.99520016693510627,-2.6911566157779454,-2.7945451679257216,-2.7419385043856326,4.8998008338222876,-5.1958951855489488,null,162.88939130415852,96.313988086977574,97.853527499801331,129.73562498882606,177.63082446946282,237.98967347508673,103.86764800843611,null,202.65717121371685,94.976994143621894,142.26393904235672,154.27046671483876,161.48458769327056,175.40920184465222,101.7046547975466,null,null,null,null,null,null,null,null,null,null,null,null,null,null,null,null,null,null,null,null,100]
[null,"Junio",78.97131329237267,101.40628701063035,68.873248635705977,83.909515253494277,110.2601329914545,134.77013280983411,101.53881384579502,null,-6.6594595474555263,-0.82495392650921984,-3.4853783374798497,-2.5153372473467828,-2.460979182015044,4.7628132332900641,-5.7011076072766897,null,160.51495627863318,95.862441727719073,98.220719859282184,129.59967754605086,177.67597389576537,237.07244661187238,103.32357532673045,null,203.25729633539765,94.53303592278246,142.61084209749558,154.45170569097513,161.14253545253368,175.90874303462385,101.75771354158805,null,null,null,null,null,null,null,null,null,null,null,null,null,null,null,null,null,null,null,null,100]
[null,"Julio",79.274331296038241,101.89509123105429,68.583531788562965,84.198595458580101,111.12323719936261,135.13663409000631,101.37314662846016,null,-6.082928230686047,-0.52014750066065041,-3.1204189424207107,-1.7235614267768984,-2.3486361129519184,5.6627575599101698,-6.2356090146651226,null,160.77841144638543,96.03920135698722,98.223370930881387,130.26769513374137,179.65760115770985,237.39959124544944,103.55322386743362,null,202.81269966943313,94.253020628061051,143.21713736425161,154.71480779964327,161.67419676173759,175.67374890167233,102.15054707432887,null,null,null,null,null,null,null,null,null,null,null,null,null,null,null,null,null,null,null,null,100]
[null,"Agosto",79.17498362204033,102.25312803626414,69.273821899370304,84.553596376264665,112.27589730632471,134.78292818604959,101.57985738023986,null,-6.2153582573873267,5.8859170056324572E-3,-2.2462373715833373,-0.7423013233913256,-0.96196208297875119,5.8294600873670444,-5.5887855636923112,null,160.64225501323557,96.065992606324755,99.202188700287408,131.00167355863616,181.14260342742602,237.935542110695,103.78960138319194,null,202.8952172318692,93.949196910880687,143.20299642827871,154.93329577097691,161.33703472724056,176.5324031113623,102.17537616210706,null,null,null,null,null,null,null,null,null,null,null,null,null,null,null,null,null,null,null,null,100]
[null,"Septiembre",79.727387583438059,102.53406178692042,70.368558075150275,85.09921900104338,112.96528638483188,135.59827178615794,102.60468594238526,null,-5.8718786426471103,0.83215885092684516,3.8301661579343005E-2,0.23591753409684113,0.76724413376854095,7.3107033511850217,-2.6980663583544451,null,161.14474443598223,96.279772777105364,100.8189554082997,132.21596280988211,182.70800302318392,239.76769798769823,104.47030874641084,null,202.119684741128,93.90028162269401,143.27273169450174,155.366834574899,161.73818424251485,176.82208986101108,101.81826276927855,null,null,null,null,null,null,null,null,null,null,null,null,null,null,null,null,null,null,null,null,100]
[null,"Octubre",79.545488884409068,102.77843569885857,69.607233705074464,85.328841998027741,113.00846489164864,136.36934031432605,102.77207523776607,null,-6.3080687398960666,1.3150471021781129,-0.4641781662010791,0.58031498819299809,1.4534008799464759,7.9182358411798548,-1.7784595789725688,null,161.37751473116418,96.484837518427838,99.641731986136904,133.04702818523879,183.43561271366579,241.48458418538183,104.69069444832024,null,202.8745023689134,93.876538266382056,143.14853023511677,155.92269280803549,162.32024113374334,177.08128794109379,101.86686821893534,null,null,null,null,null,null,null,null,null,null,null,null,null,null,null,null,null,null,null,null,100]
[null,"Noviembre",78.962330825876563,102.63310179706689,69.379732124073456,85.289002551605563,112.15115373666779,136.82168898764573,102.29413052533772,null,-5.180565421056782,1.2570475368767209,-0.15529619473534373,0.99551199372391874,1.7237553055455601,8.1998496470559559,-1.2890684231329996,null,161.77188205821471,96.305292178348139,99.40526137698285,133.38987933565591,183.8459253988911,244.20362732782701,104.4641954795475,null,204.87222244609936,93.834533393299836,143.2770902015217,156.3975135656512,163.9269140561527,178.48312583677966,102.12139733048737,null,null,null,null,null,null,null,null,null,null,null,null,null,null,null,null,null,null,null,null,100]
[null,"Diciembre",78.886147876622118,102.84568579475801,69.324550362416602,85.736807337099791,111.01656852417054,137.0274259350968,102.20225581190677,null,-3.5694378209275679,1.4127619649556777,0.40434847251975548,1.8135651978731016,1.7332880983229826,8.5631739997078746,-0.85563322221311466,null,161.93299077041075,96.345592908584024,99.812832246663305,134.14166383883003,184.79784924179495,246.03965995175386,104.64129140204852,null,205.27430370116923,93.679761250125964,143.97905464205581,156.45749824974487,166.45970209533252,179.55504766490384,102.38647921297408,null,null,null,null,null,null,null,null,null,null,null,null,null,null,null,null,null,null,null,null,100]
[2013,"Enero",78.17661366283059,103.11114901776523,69.159038797383815,86.168463325181079,111.32709272061156,139.97137156432871,102.55311791295763,null,-5.1162842694710946,1.8514645670160368,-0.34373539556806776,2.0352821998322002,0.74160332380843741,4.1423509678530257,-1.5593271136788323,null,162.11726911521666,96.536163691849112,99.783225614671039,134.84139133402516,187.67214564895824,248.4134887348398,105.60431024017905,null,207.37310241450893,93.623400196245214,144.28081614466521,156.48577928698001,168.57724482210594,177.47449779090917,102.97523116733626,null,null,null,null,null,null,null,null,null,null,null,null,null,null,null,null,null,null,null,null,100]
[null,"Febrero",77.981362333085514,103.39264519233156,68.480762911414359,86.154684640925552,111.83874565082445,141.02367197783605,102.42346925074612,null,-6.3131309742589847,1.4668748655612962,-1.6732803164855592,1.4483209567925481,0.83588491135666576,3.9777841372510503,-2.2861431571857382,null,162.20421273082272,96.463170152018066,98.913601643917545,135.31326917610832,188.26267236185683,249.2820638928554,105.30680361076253,null,208.00382024360147,93.297903320469985,144.43998203096925,157.05851601693547,168.33403420817874,176.76611337423813,102.81511101030725,null,null,null,null,null,null,null,null,null,null,null,null,null,null,null,null,null,null,null,null,100]
[null,"Marzo",77.447669120033964,103.1235714827437,68.124277743845013,86.03289589855747,112.03309572216354,141.30080042727459,101.83566150804975,null,-6.6546678164119077,0.81217514776679156,-1.4948754284566768,1.0873637151526783,0.9210359937102286,3.7326900665901608,-2.2616189841985213,null,160.800353402588,96.350556972138449,98.562257175435676,135.37024275412392,188.34387311584265,250.02122768894733,104.87845697825016,null,207.62452276435593,93.432137373424268,144.68007653019222,157.34707211732214,168.11449500862318,176.94254167911069,102.98794687945329,null,null,null,null,null,null,null,null,null,null,null,null,null,null,null,null,null,null,null,null,100]
[null,"Abril",76.971951639042686,103.94409762381822,67.99955217998199,86.22194633887834,111.56937786366437,141.74085122515476,101.55918127456567,null,-6.0394448220607799,2.1069934675522983,-1.6689996662474504,1.9757292903875179,1.2210945082075542,3.9255671564558003,-1.8850929761306867,null,160.97453204746631,96.431679114457992,98.554253677178011,135.99643350306712,188.68620036990876,250.6020179918219,104.88738882713118,null,209.13401390983407,92.772635790684078,144.93368046942942,157.72832704165597,169.12006142086733,176.80295823378515,103.27711144457503,null,null,null,null,null,null,null,null,null,null,null,null,null,null,null,null,null,null,null,null,100]
[null,"Mayo",76.92394785148548,104.09058122100082,67.672534390499081,86.320531784974619,110.88625046651593,142.01503372958109,100.97878938433018,null,-4.295856560331246,2.6456355862382708,-1.6145707430802902,2.6449653030002906,0.80694322575987076,4.6715319732345106,-1.1240447519006436,null,160.75691128753124,96.286617337283573,98.278810143741651,136.37446253118225,189.36317512214958,250.39689463992931,104.67275953662268,null,208.98161856942039,92.502718505194821,145.22702752143351,157.98612417135297,170.77245765409947,176.31717436107806,103.65816442721754,null,null,null,null,null,null,null,null,null,null,null,null,null,null,null,null,null,null,null,null,100]
[null,"Junio",76.79455169571257,103.67261854969719,67.213942804422317,86.253197094343264,110.97328919894348,142.94413434147887,100.29518309462436,null,-2.7563953363687332,2.2349023969581605,-2.4092167338588766,2.7931061617608277,0.64679425658251688,6.0651431895363705,-1.2247836113777444,null,160.21566633200629,95.859875827961929,98.056639616261521,136.56332287424502,189.54557562732327,251.70604387732629,104.16893804510248,null,208.62894931249548,92.464024897769818,145.88734944710004,158.32841851053107,170.80288148215746,176.08700422503969,103.86235393460861,null,null,null,null,null,null,null,null,null,null,null,null,null,null,null,null,null,null,null,null,100]
[null,"Julio",76.390633831240422,103.78833717830592,67.073436688607529,86.145506365701195,111.91674470833625,143.44810248356163,99.912869943059988,null,-3.6376181516171724,1.8580344984024499,-2.2018333856164252,2.3122843041708974,0.71407882723037996,6.1504183891538666,-1.4404965555150362,null,159.90480310355412,95.768562628364378,98.119541717541608,136.9676503692622,190.43485112606555,254.1569983961958,104.03015095667665,null,209.32514247336965,92.272952079226627,146.28673668991718,158.99569942489285,170.15760387094318,177.17696783428752,104.12087153132833,null,null,null,null,null,null,null,null,null,null,null,null,null,null,null,null,null,null,null,null,100]
[null,"Agosto",76.582437085862921,103.78080378943086,67.770519131866394,86.025942351120193,111.98419069471234,144.43104075474284,99.951456578708417,null,-3.2744516229438303,1.4940137113702123,-2.1700878142506208,1.7413167954483777,-0.25981231823647422,7.1582600990648837,-1.6030745105655275,null,160.05933358936682,95.646646997479394,99.084906917930411,137.07470022055924,191.1703441927101,257.11059630477115,104.15266664119751,null,209.00266390048549,92.162175956494309,146.20650422513833,159.34112021822483,170.7119040703455,178.016162565337,104.2032504640698,null,null,null,null,null,null,null,null,null,null,null,null,null,null,null,null,null,null,null,null,100]
[null,"Septiembre",76.973903802610167,103.721163762245,68.039978544661366,86.192026285911155,112.61349432876071,144.94874128588859,100.22524240781058,null,-3.4536234840835012,1.157763532075351,-3.3091192916047785,1.284156655837676,-0.31141607066151877,6.8957143601922732,-2.3190398301211945,null,160.66346976038062,95.527420886758108,99.527382148483213,137.43162200989832,191.92306071843683,258.63201790631842,104.20574753961289,null,208.72459602982033,92.10022084377205,146.2777976673722,159.448185559553,170.42634354115856,178.42998539477307,103.97155949556686,null,null,null,null,null,null,null,null,null,null,null,null,null,null,null,null,null,null,null,null,100]
[null,"Octubre",77.626422373122338,104.00162317795277,68.370450911651531,86.327071316224178,113.48874747437189,145.00564856379222,100.57596775264126,null,-2.4125397155775996,1.1901207396054714,-1.7768021045961646,1.1698615553923819,0.42499699751141762,6.3330278122339045,-2.1368717913344271,null,160.95825407701955,95.758889847947714,100.09054268674365,138.00851918051958,193.65273347602272,258.65285231544442,104.86586239641682,null,207.34982903546813,92.074418573351238,146.39444577611587,159.86702325969267,170.63606550046163,178.37432877772034,104.26532773149766,null,null,null,null,null,null,null,null,null,null,null,null,null,null,null,null,null,null,null,null,100]
[null,"Noviembre",77.183141947420751,103.83037509921637,67.342260073504249,85.996204350352443,113.04568307157783,144.4391057611017,100.04380312698132,null,-2.2532122087165596,1.1665566773152891,-2.9366963350702324,0.82918286952526898,0.79761046151196613,5.5674044296761815,-2.1998597444444878,null,160.34661003958402,95.624645129563206,98.995608162537195,137.84152105894023,193.61467416070261,257.94253085554993,104.38951409265707,null,207.748228426379,92.096985143497662,147.0036913737128,160.2879128215562,171.27117896055387,178.58219870329285,104.34380824183576,null,null,null,null,null,null,null,null,null,null,null,null,null,null,null,null,null,null,null,null,100]
[null,"Diciembre",76.981586112810817,104.12608965042628,66.982936858434826,86.224882991150423,112.15136000625357,144.72249953736531,100.00756712993872,null,-2.4143171077259828,1.2449757573919751,-3.3777550546526869,0.56927201887937429,1.0221820915280455,5.6157178387874707,-2.147397495811787,null,160.45989591874655,95.675534601560415,98.586300663655962,138.38363973097557,193.71587895946749,258.98990252760143,104.4193015699997,null,208.4393216887016,91.884305770785986,147.18121552659494,160.49153670081338,172.72717776107743,178.9562116156886,104.41140062364367,null,null,null,null,null,null,null,null,null,null,null,null,null,null,null,null,null,null,null,null,100]
[2014,"Enero",76.976287303246352,103.74668191201732,66.999578929585667,84.957713962966665,112.88363226834291,144.88087030488069,100.45689991378458,null,-1.5354033685331392,0.6163571061967188,-3.1224550042182497,-1.4050956875548692,1.3981677861988784,3.5075020596591511,-2.0440314656763769,null,161.76408409098423,95.398675273954652,98.306274219826889,137.34961737678429,195.12318582693382,262.00612504952301,105.55507082625282,null,210.14794264332113,91.953471200994912,146.72670454114871,161.66821230224656,172.85339061653687,180.84245663224502,105.07498331806342,null,null,null,null,null,null,null,null,null,null,null,null,null,null,null,null,null,null,null,null,100]
[null,"Febrero",80.160062010495977,103.79358591833781,66.145108911196189,84.59061077847484,112.7609269146478,145.3695153366786,99.812038680599457,null,2.7938722949010231,0.38778457138843869,-3.4106716994954267,-1.8154252075431976,0.82456331073537115,3.0816410450052567,-2.5496408091328582,null,168.91803848311085,95.225060839299076,96.856874224440617,137.36819703257004,195.39400165089242,262.76097331826713,105.01579363860876,null,210.72593289784766,91.744648762997528,146.43089386167136,162.39177819901158,173.28165615274884,180.75383460535562,105.21355442369173,null,null,null,null,null,null,null,null,null,null,null,null,null,null,null,null,null,null,null,null,100]
[null,"Marzo",83.682159687945742,103.91426087897057,65.987309259895255,84.723260891813368,113.13364592040281,145.35824571404257,99.651311679174484,null,8.0499395769408011,0.76673973259273609,-3.1368677286899072,-1.5222491269947569,0.98234382540725029,2.871494906255867,-2.1449753421620477,null,176.59215738647021,95.12793107287591,96.402254059561159,137.72289656166549,195.22128880903492,262.7754767476805,104.82597375160086,null,211.02724648239209,91.544635229299146,146.09211246949727,162.55618009973617,172.55811674838654,180.77782616104773,105.19276865023724,null,null,null,null,null,null,null,null,null,null,null,null,null,null,null,null,null,null,null,null,100]
[null,"Abril",82.741436642981768,104.85414435617282,66.346466371504334,84.890588307981787,113.11256937017731,145.3181101968145,99.810772254092015,null,7.4955680362567501,0.87551554456524183,-2.4310245516062312,-1.5441057496706434,1.3831676182677111,2.523802376477402,-1.7215666752440906,null,176.1784870134951,95.249469958036741,96.895952691785794,138.22750352657448,195.57740317833023,263.11419972910568,105.21371160971782,null,212.92655066370401,90.839966834777144,146.04538567166614,162.83018681068287,172.90510176483994,181.06084601069455,105.41318259903987,null,null,null,null,null,null,null,null,null,null,null,null,null,null,null,null,null,null,null,null,100]
[null,"Mayo",83.390160367215302,104.95150362205978,66.311192197450964,84.860566237128339,112.98029982633962,145.91363393262128,99.968293346749547,null,8.4059810973481586,0.82708962805297936,-2.0116613117998505,-1.691330576464789,1.8884661993833207,2.7452024624827542,-1.0007012796862114,null,178.0709553425699,95.272815402492014,96.824942338560689,138.54603988172033,196.72014205751452,263.52093550441242,105.28564500240098,null,213.53952859476476,90.77794230140654,146.0159878444814,163.26315746536164,174.11897681267462,180.60062545361512,105.31903814463222,null,null,null,null,null,null,null,null,null,null,null,null,null,null,null,null,null,null,null,null,100]
[null,"Junio",82.953256168014875,104.60354403899252,66.640726466796636,84.946785580732566,112.33333490686431,146.6560459134962,99.58019716656861,null,8.0197153786446762,0.89794730982808435,-0.85282355670401877,-1.5146238720655791,1.2255613199701143,2.5967568302942334,-0.71288162202285399,null,177.47464419732529,95.072324010271842,97.616899913913258,138.95701767349945,197.79675770065001,264.41994280759894,105.19592745767513,null,213.9453619974426,90.888243685923499,146.48234659108996,163.5812546920167,176.08019726703878,180.29938088168885,105.63940467170698,null,null,null,null,null,null,null,null,null,null,null,null,null,null,null,null,null,null,null,null,100]
[null,"Julio",80.436383714664871,104.31586649008503,66.11259550674086,84.639238683191863,112.89400095523061,146.66857194306161,100.73559789195726,null,5.2961334138975413,0.5082741723406059,-1.432521172766843,-1.74851567546076,0.87319931386600214,2.2450415193669304,0.82344541735828169,null,173.73102631819125,95.20861591793836,97.324623834330566,139.4483529454439,199.47545426407612,265.38481228232286,105.47151056474068,null,215.98562527931904,91.269544242330298,147.21041140247974,164.75615224683767,176.69269631358034,180.94183966374763,104.70132978995457,null,null,null,null,null,null,null,null,null,null,null,null,null,null,null,null,null,null,null,null,100]
[null,"Agosto",80.108863198749617,103.81801856136246,65.914318886577405,84.604236348785847,112.53592389670963,145.74003628611209,100.15674300962452,null,4.6047452223711982,3.5859013008909812E-2,-2.7389494267813341,-1.6526479844086617,0.49268847555581363,0.90631177656057549,0.20538613237162107,null,173.56489263180177,94.922640472856457,97.383178205119464,139.50745723770532,199.23005376104854,264.67292936577638,104.96541890987467,null,216.6612852827387,91.431758945343063,147.742068567366,164.89417463988181,177.03684908999418,181.60619148342951,104.80115043256555,null,null,null,null,null,null,null,null,null,null,null,null,null,null,null,null,null,null,null,null,100]
[null,"Septiembre",79.916454383855452,103.76222019227188,64.899213095540148,84.687029733276972,112.50387308537681,145.43181479001439,99.104637680077886,null,3.8227898493898405,3.9583464490422493E-2,-4.6160588470198105,-1.7460971942368508,-9.7342901965080664E-2,0.33327195520311825,-1.11808632317697,null,172.57235002918819,94.6252561835162,95.777990250000215,139.58945988471163,198.62934141803512,264.08340078058649,103.99319822611896,null,215.94094903195665,91.194324878722867,147.57958637957978,164.82979781479011,176.55333631696354,181.58571503896195,104.9327263188449,null,null,null,null,null,null,null,null,null,null,null,null,null,null,null,null,null,null,null,null,100]
[null,"Octubre",79.649606746749015,103.34608591171406,63.730563081400369,84.556646797433814,112.25442606512769,145.20476616894396,98.393586512951202,null,2.6063089239150461,-0.63031445683982001,-6.786393490730136,-2.0508335239419084,-1.0876156770722512,0.13731713703839521,-2.1698834109729392,null,171.65941786844286,94.343009271608025,94.246469703213776,139.89054622102185,198.59137250430132,263.61264042465592,103.22993273550014,null,215.5182239809983,91.28842030089352,147.88268790727096,165.44003519456896,176.91184166678892,181.54544604820052,104.91530636695752,null,null,null,null,null,null,null,null,null,null,null,null,null,null,null,null,null,null,null,null,100]
[null,"Noviembre",78.332018697214679,103.32104222301486,62.911928144705257,83.942103425913658,110.2063540539956,144.83209228618688,97.636642866555292,null,1.4885073615901412,-0.49054323045141235,-6.578828693844363,-2.3885948687575653,-2.5116651431832504,0.27207765031109776,-2.4061063106234792,null,169.85479146329098,93.952071173729166,93.39208421028539,139.68737160013055,197.95390164758177,263.24551747787967,102.24210033169115,null,216.83954312456737,90.93217523971245,148.44893005897384,166.40918668831907,179.62113287097245,181.75910692342202,104.71693549667656,null,null,null,null,null,null,null,null,null,null,null,null,null,null,null,null,null,null,null,null,100]
[null,"Diciembre",77.269631573998012,103.05129936523362,62.09056324904639,83.637776251350388,109.09017634645531,144.4513763274006,96.475779601438148,null,0.37417449513847956,-1.0322007566028524,-7.3039102775207194,-3.0004178029044759,-2.7295109570027232,-0.18734005481623184,-3.5315202937711287,null,167.63728272757712,93.18210322074907,92.318739027226968,139.26191173272986,196.23484723032189,261.28602707644143,100.82690806909551,null,216.95105737243958,90.423026002315396,148.68400960856937,166.50599522662631,179.88315153795992,180.88164593477728,104.51007339420609,null,null,null,null,null,null,null,null,null,null,null,null,null,null,null,null,null,null,null,null,100]
[2015,"Enero",76.822332142742042,103.02463377296696,62.15039426573103,83.655865561235814,106.85095578228244,140.7915176532583,95.319416229816824,null,-0.20000335934339253,-0.69597227182908172,-7.237634536406512,-1.5323486720680068,-5.344155184269594,-2.8225621802360434,-5.114117286494924,null,167.4034952124413,93.150789840040204,92.735510977029946,139.03251758002438,193.60178525225351,263.7723147181643,101.55983635780204,null,217.90993652912309,90.416035882558404,149.2114604784787,166.19577915699531,181.18863217913838,187.34957837998692,106.54685097204064,null,null,null,null,null,null,null,null,null,null,null,null,null,null,null,null,null,null,null,null,100]
[null,"Febrero",76.75711938716212,103.14789274039967,61.868494034820891,83.688746946467219,106.05648789276322,141.15625414887785,95.785367648673699,null,-4.2451846193535703,-0.62209352555383512,-6.4655043234064564,-1.066151223768097,-5.945711165499179,-2.8983113674436844,-4.0342538687253793,null,166.18624483328887,92.72580053235049,92.234409108098689,139.41703234619786,192.71049331012688,263.59980135572096,100.72796085679241,null,216.50922567201505,89.895971763301787,149.08138713734849,166.58993883057909,181.70552046281415,186.74326755490523,105.1600712399491,null,null,null,null,null,null,null,null,null,null,null,null,null,null,null,null,null,null,null,null,100]
[null,"Marzo",75.792208421784395,102.54404497605942,61.386362546019413,83.072790124513062,105.53812974094008,140.0606292575184,94.034977602889512,null,-9.4284747138258638,-1.3186023663364521,-6.9724720790701138,-1.9480727605702741,-6.7137553268695083,-3.6445242101682762,-5.6359861015845443,null,163.52824048066947,92.212527080655036,91.267351072639798,138.63279832681778,191.72606486641888,260.63689508662469,99.332828308372598,null,215.75864311887202,89.924799730870319,148.67691664287742,166.88111488614865,181.66520985073416,186.08862209765761,105.6339149968812,null,null,null,null,null,null,null,null,null,null,null,null,null,null,null,null,null,null,null,null,100]
[null,"Abril",75.97527805049603,102.7540691687248,62.074208071923245,83.518347363401773,106.05111911215816,141.28313418783571,94.176547534736841,null,-8.1774729410135869,-2.0028537740143126,-6.4393155102771438,-1.6164818408391124,-6.242851963612928,-2.7766504832150263,-5.6449064485864504,null,163.50395705164993,92.244192090493556,92.477809122291816,139.47342629441442,192.86359534179837,261.78310691686193,99.81406935518919,null,215.20678995472588,89.771814232511062,148.97944250072587,166.99734932199161,181.85908546408507,185.28970808987128,105.9861207147915,null,null,null,null,null,null,null,null,null,null,null,null,null,null,null,null,null,null,null,null,100]
[null,"Mayo",76.793903950404783,103.00844477776677,61.999866059515902,83.676500676078703,106.3909432224726,141.94164154772452,94.382752454319601,null,-7.9101136006494936,-1.8513873334203401,-6.5016568019128362,-1.3953071650982918,-5.8323058214533212,-2.7221530146599671,-5.5873124422120224,null,164.26151820119966,92.371919635297843,92.311907597742419,139.9225220056702,194.13586407550358,262.80504390912756,100.29948948730384,null,213.89916354204809,89.674123160080271,148.89049519740718,167.21841959826486,182.47405107552134,185.15006663549514,106.26887527554135,null,null,null,null,null,null,null,null,null,null,null,null,null,null,null,null,null,null,null,null,100]
[null,"Junio",76.875131460350289,103.21857467806466,61.430227206667112,83.189681069873558,106.83730554473937,141.31091085127264,94.067083138659029,null,-7.3271683215832439,-1.3240176264119663,-7.8187912052933957,-2.0684767514705715,-4.8926076722298877,-3.6446741959593965,-5.5363558064539191,null,164.7734523687094,92.213015114320768,91.600914884579026,139.57130310119828,194.46287296551048,261.76280838078668,99.866264885057888,null,214.33908370445417,89.337617189474031,149.11374912615895,167.77477844153299,182.01776240423519,185.23892231951407,106.16494266953147,null,null,null,null,null,null,null,null,null,null,null,null,null,null,null,null,null,null,null,null,100]
[null,"Julio",76.531189215176184,102.90743792269457,60.670177317657355,82.371744622492443,107.09515389913075,139.53624307309744,93.012241152336316,null,-4.8550100329494361,-1.3501575692939527,-8.2320443591245684,-2.6790104636771894,-5.1365413636101476,-4.8628883307959221,-7.6669587526591476,null,163.29418709413363,91.782315228041014,90.913436099697606,138.66398395817586,194.43432995852825,258.71746886188492,98.857258680553173,null,213.36946252724931,89.189194756737706,149.84864083006116,168.33925831444907,181.55287413066262,185.41237972585606,106.28413793260161,null,null,null,null,null,null,null,null,null,null,null,null,null,null,null,null,null,null,null,null,100]
[null,"Agosto",76.053198124813747,102.62232400494327,60.099076832117071,82.071327189131935,106.58344097126911,138.86245527055621,92.450329881193312,null,-5.0626920817410497,-1.1517216115162876,-8.8224260717416509,-2.9938325419212375,-5.2894069016609873,-4.7190745870640765,-7.6943527683310027,null,162.13366490880654,91.246979243957753,90.132112907701654,138.24834637041593,193.44520936233212,258.04126271914578,97.819445013557356,null,213.18454569487392,88.915331170596403,149.97254144099409,168.44902002355224,181.49649476458325,185.82507576751721,105.80756730588612,null,null,null,null,null,null,null,null,null,null,null,null,null,null,null,null,null,null,null,null,100]
[null,"Septiembre",76.175304668935155,102.65809318704916,60.233366243128856,81.879485824294648,106.47508809180273,138.57986127643181,92.665760674090592,null,-4.6813259469079664,-1.064093465980942,-7.1893735376152517,-3.3151994087225911,-5.3587355068202447,-4.7114543151895223,-6.4970491358565807,null,162.02612424699606,90.997061170503372,90.358564311332827,137.71737858271129,193.16101224678604,257.81050821900396,97.555785639061725,null,212.70164254829882,88.640903357420925,150.01413659433405,168.19521666054339,181.41427793912015,186.037499131809,105.27705695113166,null,null,null,null,null,null,null,null,null,null,null,null,null,null,null,null,null,null,null,null,100]
[null,"Octubre",76.576292025511464,100.72617970110974,60.197584178713974,82.725643035637745,107.1958854672485,138.31642698185999,93.297368748961318,null,-3.8585434966544763,-2.5350802475890832,-5.5436178998981571,-2.1654167131088697,-4.5063172787007328,-4.7438795356548269,-5.1794206762847184,null,162.29809448636155,91.152136588875408,90.569989194832516,138.9387135526614,194.93441760159257,259.03559189257436,98.082682187788933,null,211.94300506518621,90.49498041061031,150.45452476290288,167.95120406958623,181.84878715438271,187.27753278831193,105.12909796170527,null,null,null,null,null,null,null,null,null,null,null,null,null,null,null,null,null,null,null,null,100]
[null,"Noviembre",75.856846767801883,100.47974881957555,59.277496024521824,82.525876015190192,106.67108267235501,137.18427744231667,92.3106222534811,null,-3.1598469828542863,-2.7499658755923861,-5.7770159449314402,-1.6871478708815224,-3.2078652923301254,-5.2804697654703414,-5.4549403345970475,null,160.89826228198331,90.88648495965343,89.656608109816773,138.56372893870869,194.68307031214653,257.47511041229967,97.124515726486621,null,212.10776500438192,90.452539966886206,151.24898000537635,167.903372407951,182.50782258404956,187.68558264307146,105.21488573632054,null,null,null,null,null,null,null,null,null,null,null,null,null,null,null,null,null,null,null,null,100]
[null,"Diciembre",75.577129373447548,100.21980523081611,58.482903401677561,82.830579297259817,105.33751327632278,136.43828145829519,91.943246276134929,null,-2.1903847165747448,-2.7476549561807562,-5.8103190864905452,-0.96511049225502799,-3.4399642532564889,-5.5472610042452182,-4.6981048964082728,null,160.65729731398505,90.578712416259933,88.849467130761667,139.08802053829359,194.05672783718137,256.36844357130298,96.598353838256983,null,212.57396072842724,90.380052333616305,151.92383066298493,167.91868621265922,184.22376017946158,187.90066895533758,105.06302284361517,null,null,null,null,null,null,null,null,null,null,null,null,null,null,null,null,null,null,null,null,100]
[2016,"Enero",75.062389681147053,99.953847169271313,58.052807813694848,83.245542017319721,103.26993368469704,129.84379075123312,90.93045909129053,null,-2.2909255844054233,-2.9806333604278312,-6.5930176315800786,-0.49048986722364241,-3.3514179366650021,-7.7758426675868852,-4.6044733718725634,null,159.10580794375008,89.958265449803349,88.924931509671566,140.57765738901264,192.76878051112794,257.97998636488296,95.898079469547298,null,211.96475174798715,89.999802906494935,153.17938073736698,168.87109385360796,186.66496010318752,198.68488502399407,105.46309831480065,null,null,null,null,null,null,null,null,null,null,null,null,null,null,null,null,null,null,null,null,100]
[null,"Febrero",75.546103242834121,100.51724631350118,58.221697896967967,83.724291447075956,103.1355693359635,131.64876580977028,91.481510517949857,null,-1.5777248468896388,-2.5503637127316292,-5.8944317212577202,4.247225810594113E-2,-2.7541158630042029,-6.7354354197299626,-4.4932302671841668,null,159.5572543353189,89.928797813006753,89.100832687759791,141.6583139079259,193.68963636385118,259.06690054925423,96.159876863536439,null,211.20514161060137,89.466038029463789,153.03715952330538,169.19619319498378,187.80100561902981,196.78642557394005,105.11400207440676,null,null,null,null,null,null,null,null,null,null,null,null,null,null,null,null,null,null,null,null,100]
[null,"Marzo",76.869608857648998,101.3083115571591,59.152916967674621,84.399159439484052,103.79973113847221,133.3117456808645,92.476311631119827,null,1.4215187263957985,-1.2050757498290876,-3.6383416213502606,1.5966350871121193,-1.6471758659501012,-4.8185443778388741,-1.6575385154574573,null,160.27894502429007,90.336976784514476,90.47230677046457,142.70150712534735,195.79578474439327,261.29803829419137,97.210888791747237,null,208.50755897704988,89.170350779704293,152.94648414363928,169.07929898006543,188.62841222892507,196.0052634219596,105.11977292034875,null,null,null,null,null,null,null,null,null,null,null,null,null,null,null,null,null,null,null,null,100]
[null,"Abril",77.561319416368576,102.16422067354432,59.598104184820173,84.67183931502143,104.46233023792692,134.88909718691787,93.071924025791617,null,2.0875755990236833,-0.57403906234791968,-3.9889415652860083,1.3811240141051062,-1.4981349442913072,-4.5256902302414854,-1.1729284390445405,null,161.44656422024502,90.632904854088821,91.121706332037306,143.1391677393475,196.98884755664031,263.27743465067982,98.104688636282148,null,208.15345256513683,88.712960620232522,152.89363240390838,169.05168105159319,188.57405067259353,195.1806633310417,105.40739289873915,null,null,null,null,null,null,null,null,null,null,null,null,null,null,null,null,null,null,null,null,100]
[null,"Mayo",77.533575528706393,102.16123346954011,58.471684391590074,84.423300481153774,103.99699258702935,134.56735339360625,92.580060814175269,null,0.9631904881138853,-0.82246781810410008,-5.6906278870651139,0.89248450764691789,-2.2501451372954673,-5.1952958086925012,-1.9099799415330909,null,161.29874652977801,90.435187815226143,89.63406712721401,142.85303076697068,196.89786257895165,262.55828718243868,97.585155480936123,null,208.03728633675357,88.52202028491547,153.29482647861943,169.21043118760852,189.33034281176799,195.11291599416541,105.40623393714006,null,null,null,null,null,null,null,null,null,null,null,null,null,null,null,null,null,null,null,null,100]
[null,"Junio",78.403128758381698,102.06506186391169,58.074530946632677,84.31524276058137,104.23228702925896,134.01643442160079,92.570531928947261,null,1.9876353627043875,-1.1175438313798969,-5.4626141113641165,1.3530063779934709,-2.4383042067543825,-5.1620051033066776,-1.5909403797562116,null,162.73846526917592,90.198791354886012,89.247846028605309,143.31076330227592,196.75772197834621,262.38200253641463,97.322744763375326,null,207.5662895682315,88.373817355004832,153.67811771156485,169.97017218964328,188.76849734968829,195.78345273012565,105.13361297099995,null,null,null,null,null,null,null,null,null,null,null,null,null,null,null,null,null,null,null,null,100]
[null,"Julio",78.289749280087506,102.22493508129996,57.275885536736745,84.387100002415679,104.56414806667223,133.71414912859001,92.388071406006063,null,{"$f":"(C264/C252-1)*100","v":2.2978344945966178},{"$f":"(D264/D252-1)*100","v":-0.66322012788552209},{"$f":"(E264/E252-1)*100","v":-5.5946627008336414},{"$f":"(F264/F252-1)*100","v":2.446658607462493},{"$f":"(G264/G252-1)*100","v":-2.363324333837169},{"$f":"(H264/H252-1)*100","v":-4.1724600120253141},{"$f":"(I264/I252-1)*100","v":-0.67106193614664411},null,164.09706771112343,90.158060240425414,88.631301452641921,143.84432134539105,197.88902274458351,262.31841234313049,97.235451538762362,null,209.60223939925231,88.195761796006323,154.7445327506876,170.45771372789602,189.25131261855205,196.17850022054478,105.24675973747102,null,null,null,null,null,null,null,null,null,null,null,null,null,null,null,null,null,null,null,null,100]
[null,"Agosto",78.880096796865828,102.80252971494131,56.8714537087765,84.69502346697432,105.81309050664566,134.23519200257383,92.852614089054526,null,{"$f":"(C265/C253-1)*100","v":3.7170017063749894},{"$f":"(D265/D253-1)*100","v":0.17560088581638489},{"$f":"(E265/E253-1)*100","v":-5.3705036640691368},{"$f":"(F265/F253-1)*100","v":3.1968488480710544},{"$f":"(G265/G253-1)*100","v":-0.7227674933398931},{"$f":"(H265/H253-1)*100","v":-3.3322637562231971},{"$f":"(I265/I253-1)*100","v":0.43513550289997482},null,165.2606496936537,90.359646424137821,88.11249594150668,144.47048539481014,199.34777383525309,262.83858422045154,97.64081760332941,null,209.50868014175671,87.89632577592586,154.93273021067336,170.57730133476434,188.39613594192573,195.80452808188471,105.15677836456231,null,null,null,null,null,null,null,null,null,null,null,null,null,null,null,null,null,null,null,null,100]
[null,"Septiembre",79.448496837822304,102.99314404720826,56.772091004756199,84.749319394153261,106.22122910140881,134.57690571303439,92.635046494984636,null,{"$f":"(C266/C254-1)*100","v":4.2969203511725285},{"$f":"(D266/D254-1)*100","v":0.32637549535292631},{"$f":"(E266/E254-1)*100","v":-5.7464416390101807},{"$f":"(F266/F254-1)*100","v":3.5049482064616333},{"$f":"(G266/G254-1)*100","v":-0.23842101936092375},{"$f":"(H266/H254-1)*100","v":-2.8885550371655633},{"$f":"(I266/I254-1)*100","v":-3.3145121652844445E-2},null,165.21675659848404,90.074721739886186,87.573840069899774,144.52762049797144,199.05138988728086,262.69931541804584,97.316271141566915,null,207.95454058210808,87.457007525276879,154.25508999230465,170.53543501134263,187.39322786149239,195.20386059270362,105.05340562098786,null,null,null,null,null,null,null,null,null,null,null,null,null,null,null,null,null,null,null,null,100]
[null,"Octubre",79.660759937186711,102.83031627107567,56.178845619053185,85.198898023916058,106.48735501840875,134.84504526670446,92.285843902874547,null,{"$f":"(C267/C255-1)*100","v":4.0279671816019214},{"$f":"(D267/D255-1)*100","v":2.0889669162571733},{"$f":"(E267/E255-1)*100","v":-6.6759133518215608},{"$f":"(F267/F255-1)*100","v":2.9897077828852314},{"$f":"(G267/G255-1)*100","v":-0.66096795203601788},{"$f":"(H267/H255-1)*100","v":-2.5097392919286476},{"$f":"(I267/I255-1)*100","v":-1.0841943986743319},null,165.16187771984133,89.981066355092707,87.11517158877335,144.99361383344359,199.7586027682884,263.40831491265021,96.895808902100271,null,207.33153669394201,87.504414668811791,155.06757148322043,170.18249906558961,187.58903602569112,195.34148577106839,104.99531109460023,null,null,null,null,null,null,null,null,null,null,null,null,null,null,null,null,null,null,null,null,100]
[null,"Noviembre",78.848329930926838,102.02099225182464,55.345969059334926,84.584550997983854,105.1909400196689,133.58518233423129,90.851550189413672,null,{"$f":"(C268/C256-1)*100","v":3.9435901841291976},{"$f":"(D268/D256-1)*100","v":1.5338846388007976},{"$f":"(E268/E256-1)*100","v":-6.6324106597898673},{"$f":"(F268/F256-1)*100","v":2.494581193436507},{"$f":"(G268/G256-1)*100","v":-1.3875762911607747},{"$f":"(H268/H256-1)*100","v":-2.6235478111540367},{"$f":"(I268/I256-1)*100","v":-1.5806112324331156},null,163.53970776268389,89.239151255739415,86.159332469192705,144.15871228996707,197.76716465620325,261.29192247078936,95.337529320611409,null,207.4104903755715,87.47136181097413,155.67408780361873,170.43149202672154,188.00779289473428,195.59948035032414,104.93770235273372,null,null,null,null,null,null,null,null,null,null,null,null,null,null,null,null,null,null,null,null,100]
[null,"Diciembre",77.85454331069711,101.84906505498317,55.067200573326268,85.016754203932877,104.11026846248676,132.18080298273577,90.18002498353755,null,{"$f":"(C269/C257-1)*100","v":3.0133639053637973},{"$f":"(D269/D257-1)*100","v":1.6256864802468129},{"$f":"(E269/E257-1)*100","v":-5.8405151414786189},{"$f":"(F269/F257-1)*100","v":2.6393331125059261},{"$f":"(G269/G257-1)*100","v":-1.1650596028564886},{"$f":"(H269/H257-1)*100","v":-3.1204427599454965},{"$f":"(I269/I257-1)*100","v":-1.9177279071720621},null,161.83182260709575,88.782809270920254,85.591907697618694,145.05687748786244,197.00006883284007,260.39759609429518,94.535441853681405,null,207.86432714821444,87.170961484026279,155.43173941382111,170.62151907129862,189.22251545612289,197.00106991202486,104.82969135453106,null,null,null,null,null,null,null,null,null,null,null,null,null,null,null,null,null,null,null,null,100]
[2017,"Enero",78.36885500386326,101.6179531355463,55.034206042252706,85.540375953363139,106.27298757488128,126.02332795849173,90.129648082481253,null,4.4049561128569614,1.6648743529169341,-5.1997515454024974,2.7567049002647614,2.9079653516125514,-2.9423530926180219,-0.88068510465265648,null,162.16844947264497,88.0863869899012,85.200726209399335,145.71232325025522,198.84159775626185,264.79127141444184,93.617515152058303,null,206.92971648577836,86.683882396651313,154.81412804245085,170.34332807900915,187.10455243027357,210.11290187611618,103.86983322778001,null,null,null,null,null,null,null,null,null,null,null,null,null,null,null,null,null,null,null,null,100]
[null,"Febrero",79.56426545849861,102.30382196277414,54.570217754726805,85.481069586343608,107.12031425031932,127.3826211981759,90.835721411804172,null,5.3188212802301349,1.7773822053390287,-6.2716826786862301,2.0982896467725221,3.8635990861460634,-3.2405504034567767,-0.70592309034837042,null,164.7976351623123,88.59648025115122,84.483466308620009,146.44971579714684,201.30643174914994,267.95358365649349,94.350401222674606,null,207.12518894336066,86.601339570079134,154.81606961574229,171.32414990341152,187.92554256211011,210.35332852793465,103.86927054273791,null,null,null,null,null,null,null,null,null,null,null,null,null,null,null,null,null,null,null,null,100]
[null,"Marzo",80.224012559304612,102.58263368208948,54.429274225758626,85.361227618464696,108.00403855553527,128.38796163933901,91.340691596296892,null,4.3637579942256144,1.257865327477492,-7.9854772749369811,1.1399025598951118,4.0504029932932895,-3.6934360257441678,-1.2280118170724941,null,165.16008105362741,88.900118656046914,84.337041618067261,146.49050764963854,202.94510214036313,268.99978346784445,94.623455262903377,null,205.87362285267753,86.661957745747102,154.94794449813699,171.61246591297947,187.90510508179702,209.5210329949042,103.59397723975583,null,null,null,null,null,null,null,null,null,null,null,null,null,null,null,null,null,null,null,null,100]
[null,"Abril",80.854761407278858,103.0198400396638,54.457434073423684,85.360711743665448,108.41429833022548,128.97001143158337,91.917248707409158,null,4.2462428639593597,0.83749414470015715,-8.6255597920610221,0.81357914770348039,3.7831513841376285,-4.3881128117658985,-1.2406268920179264,null,166.26367838478814,89.109596609549982,84.39708925013079,146.65586569668164,203.92608485603111,270.1043479706114,94.973149720865905,null,205.63251377032748,86.497510164296287,154.97808643782255,171.80721985669814,188.09888363145669,209.43190201537485,103.32462193595926,null,null,null,null,null,null,null,null,null,null,null,null,null,null,null,null,null,null,null,null,100]
[null,"Mayo",82.732749068995844,102.9282963020826,54.374800366664026,85.38871868739426,109.02603723107995,130.05978183888823,92.177104818355019,null,{"$f":"(C274/C262-1)*100","v":6.7057058891402344},{"$f":"(D274/D262-1)*100","v":0.75083552389878516},{"$f":"(E274/E262-1)*100","v":-7.0066119482531946},{"$f":"(F274/F262-1)*100","v":1.1435447331936466},{"$f":"(G274/G262-1)*100","v":4.8357596878025877},{"$f":"(H274/H262-1)*100","v":-3.3496769023416029},{"$f":"(I274/I262-1)*100","v":-0.43525138380396955},null,170.38516296169104,89.073425653645117,84.464858768730338,147.01268764014921,205.15025116138443,271.61681995807953,95.172926994155375,null,205.94645394848001,86.539298573664283,155.33824161037998,172.16874769881326,188.16629162313754,208.8399781375501,103.25007189334481,null,null,null,null,null,null,null,null,null,null,null,null,null,null,null,null,null,null,null,null,100]
[null,"Junio",82.611144336317835,103.38192304744585,54.269892466569772,85.604159504841689,110.47636584209373,131.06130623297503,92.976690425871979,null,5.3671526182381912,1.2902173961252261,-6.5513029860872374,1.5286876987596232,5.9905418856270432,-2.2050491056412214,0.4387557124944097,null,170.14578669737085,89.373590953538198,84.978565956062283,147.59813948971183,207.7581689029218,273.6488269592287,95.771268106375672,null,205.95984726308978,86.449921145809299,156.58510104549964,172.4193547877353,188.05666471675494,208.79452130042839,103.00567558137783,null,null,null,null,null,null,null,null,null,null,null,null,null,null,null,null,null,null,null,null,100]
[null,"Julio",83.462877076284741,103.92657467364231,53.371756576673448,85.843061407216041,111.10275321573161,131.69224479388023,93.644306897470315,null,6.6076693868184266,1.6646032506540731,-6.8163572216778494,1.7253364610926081,6.2531998490440888,-1.5121094872056928,1.359737758723889,null,172.45765016739679,89.647390144945021,84.838493239879668,148.31119582205488,209.51200077954124,275.49207328694433,96.293798496441411,null,206.62797187038154,86.260314483049413,158.95765603667428,172.77016149098768,188.57498551158798,209.1938471533644,102.82931412143608,null,null,null,null,null,null,null,null,null,null,null,null,null,null,null,null,null,null,null,null,100]
[null,"Agosto",84.875107121492249,104.6383036134055,53.721643183168752,85.998583783395333,112.32456509888719,132.31937370035698,94.410253175085614,null,{"$f":"(C277/C265-1)*100","v":7.6001558923855406},{"$f":"(D277/D265-1)*100","v":1.7857283313499783},{"$f":"(E277/E265-1)*100","v":-5.538473733653948},{"$f":"(F277/F265-1)*100","v":1.5391226816641845},{"$f":"(G277/G265-1)*100","v":6.1537514508496205},{"$f":"(H277/H265-1)*100","v":-1.4272101627270106},{"$f":"(I277/I265-1)*100","v":1.67753929311798},null,174.50114674094189,89.947664482468085,84.915932604398549,148.74694141486384,211.27700005519915,277.48094222369713,97.086838943038259,null,205.59755699766811,85.960553044501623,158.06652137364838,172.96440809945523,188.09509733618569,209.70545315009193,102.83505835217798,null,null,null,null,null,null,null,null,null,null,null,null,null,null,null,null,null,null,null,null,100]
[null,"Septiembre",85.405923084392768,104.92477752175098,54.569682125746404,86.52447761684374,113.11185127742995,132.97644791803077,94.887454671936652,null,7.4984757216128628,1.8754971434383316,-3.879386578918298,2.0945987948700173,6.487048054624478,-1.1892514443870184,2.431485989564397,null,175.34243681898417,90.027330472738782,85.455836480561402,149.15609680476319,212.74179783620644,279.31752090696943,97.478474269441733,null,205.30477335362534,85.801783524464511,156.59947639724783,172.38601250535251,188.08090879391025,210.05037003180149,102.73062398655675,null,null,null,null,null,null,null,null,null,null,null,null,null,null,null,null,null,null,null,null,100]
[null,"Octubre",83.676850757579913,104.34007856125159,54.166610916089382,86.079183798038812,111.96369186654331,132.44435534967579,94.327029282522872,null,5.0414919761748722,1.4682073778670146,-3.5818370434463787,1.0332126289657628,5.1427109323805231,-1.7803323157187134,2.2118076763718575,null,172.61653874379067,89.499962553193967,85.190393189405228,148.63658597298604,211.37087464663503,277.98215706107999,96.61787463530537,null,206.28947813043038,85.777166154474457,157.27473391565042,172.67425109620115,188.78519556016559,209.88599803076502,102.42862026951056,null,null,null,null,null,null,null,null,null,null,null,null,null,null,null,null,null,null,null,null,100]
[null,"Noviembre",83.064556618722179,104.30070569181353,53.660948683431954,86.148724868303077,111.06285946350523,131.74302375031633,94.544626690542287,null,{"$f":"(C280/C268-1)*100","v":5.347261877948295},{"$f":"(D280/D268-1)*100","v":2.2345532911126176},{"$f":"(E280/E268-1)*100","v":-3.0445223103718888},{"$f":"(F280/F268-1)*100","v":1.8492429786102438},{"$f":"(G280/G268-1)*100","v":5.5821532184600509},{"$f":"(H280/H268-1)*100","v":-1.3790141628926111},{"$f":"(I280/I268-1)*100","v":4.0649570573413785},null,171.40174595855444,89.441192817661488,84.975241772343082,149.21240006048646,211.73975005103668,278.35387365488384,96.575456706929145,null,206.34763241476409,85.753200061695892,158.3558320477095,173.20326016268936,190.64856701318178,211.2854751098086,102.14801209489571,null,null,null,null,null,null,null,null,null,null,null,null,null,null,null,null,null,null,null,null,100]
[null,"Diciembre",82.723653258592947,104.42341375684673,53.357404583293459,85.831738798159719,110.49724708124222,131.38926675580245,94.750331134051606,null,6.2541115018355464,2.5276115205120409,-3.1049262941123756,0.95861645373087612,6.1348210057270425,-0.59882842975065298,5.0679805770162289,null,171.13041233724255,89.424035620588811,85.112839236299521,149.238315285308,212.46549029808256,279.92023142473153,96.75312612640549,null,206.86998892842817,85.636000972746928,159.51457890616533,173.87311194551702,192.28125216718658,213.04649788858768,102.11376041474762,null,null,null,null,null,null,null,null,null,null,null,null,null,null,null,null,null,null,null,null,100]
[2018,"Enero",83.884155412019368,105.34612049780768,54.223679857096776,86.904121575299442,113.48245083645037,130.08432474913326,96.209340340612826,null,7.0376176963210968,3.668807771879079,-1.4727680172830104,1.5942712511338719,6.7839094638129094,3.2224167195291864,6.7454965014040802,null,174.1320179824254,89.602336287595946,85.862887853191253,150.96579951442658,217.06949000810849,285.90086695337254,97.693945212797317,null,207.58630414424465,85.055183678511099,158.34942976846591,173.71535063917526,191.28022739035359,219.78118232518057,101.54309848391902,null,null,null,null,null,null,null,null,null,null,null,null,null,null,null,null,null,null,null,null,100]
[null,"Febrero",84.676176019052392,105.94033534572939,54.928997413804701,86.895755666720092,114.5594654758534,132.46648343255612,96.937524945917914,null,6.4248824910225544,3.5546212381767139,0.65746422469941113,1.654970026957292,6.9446689711441856,3.9910171313487064,6.7174052666474582,null,175.36517329154074,89.806408061116642,86.409916210431476,151.34905917209579,218.65751226019395,289.28290647545037,98.220015111028729,null,207.1009598403252,84.770741727444303,157.3120214801427,174.17313194510885,190.86813241659385,218.38196272699849,101.32300692206277,null,null,null,null,null,null,null,null,null,null,null,null,null,null,null,null,null,null,null,null,100]
[null,"Marzo",84.32981891649483,106.14910758853037,55.120264602577627,86.908779209023294,114.78112684703879,133.00199601114286,97.007518089727654,null,5.1179269475645439,3.4766838970947456,1.2695197329895436,1.8129443937657808,6.2748471095539271,3.5938216581125948,6.2040547256601908,null,174.28458860517765,89.761375929588354,86.80348270308852,151.6380413897943,219.31019471072503,291.0441318357573,98.285673569284299,null,206.67018006733531,84.56159262076288,157.48016329193976,174.47954368924155,191.06816663595333,218.82689024559733,101.31758394063273,null,null,null,null,null,null,null,null,null,null,null,null,null,null,null,null,null,null,null,null,100]
[null,"Abril",84.268340580417515,106.34267611071185,55.391306429580219,87.030643042903833,114.99613251872691,133.30515724795623,97.058472259500832,null,4.2218653715937471,{"$f":"(D285/D273-1)*100","v":3.2254331493513533},1.7148666147167591,1.95632307314062,6.0710019710254803,3.3613595658806172,5.5933174941486863,null,173.61359499463717,89.769797560554835,87.104463632443384,151.87474393041254,220.14731651726191,292.01395351808446,98.344358292470616,null,206.02469895435669,84.415590093949461,157.25295041231888,174.5072064508845,191.43888728728444,219.05675635258399,101.32485707124235,null,null,null,null,null,null,null,null,null,null,null,null,null,null,null,null,null,null,null,null,100]
[null,"Mayo",83.518141800363779,105.556534346131,54.83127841965922,86.74339004347992,114.02815200038404,131.91977799313216,95.736303756129729,null,{"$f":"(C286/C274-1)*100","v":0.94931298694420629},{"$f":"(D286/D274-1)*100","v":2.5534650222275301},{"$f":"(E286/E274-1)*100","v":0.83950294974333151},{"$f":"(F286/F274-1)*100","v":1.5864757978686583},{"$f":"(G286/G274-1)*100","v":4.5880001661457559},{"$f":"(H286/H274-1)*100","v":1.4301086223164727},{"$f":"(I286/I274-1)*100","v":3.8612613672218243},null,171.36053692087313,88.969213814136623,86.433475840969038,151.06551108673702,219.09189576683838,288.77864394963376,96.772190830725563,null,205.17762156452429,84.285842051613017,157.63534670747191,174.1521872859889,192.1384254005103,218.9047376691824,101.0820211706048,null,null,null,null,null,null,null,null,null,null,null,null,null,null,null,null,null,null,null,null,100]
[null,"Junio",83.207544155645678,104.99226756116073,54.494394002818446,86.504388556556279,113.55873918959196,130.94346901303874,94.75153386920914,null,0.72193627641792268,{"$f":"(D287/D275-1)*100","v":1.5576654663077116},{"$f":"(E287/E275-1)*100","v":0.41367602927713243},{"$f":"(F287/F275-1)*100","v":1.0516183523344713},{"$f":"(G287/G275-1)*100","v":2.7900748943026743},{"$f":"(H287/H275-1)*100","v":-8.9909999620196857E-2},1.9089122609200704,null,170.70561716615217,88.389632089539944,86.235757354722224,150.96085458463912,218.68591170584401,286.61832461138084,95.817463410430292,null,205.15641808492151,84.186801697611386,158.24702509814517,174.51236533039182,192.57514944819619,218.88707147573788,101.12497338849681,null,null,null,null,null,null,null,null,null,null,null,null,null,null,null,null,null,null,null,null,100]
[null,"Julio",82.90107942470334,104.97955698788587,54.433713583171986,86.366682804269601,114.44740947202703,131.18669967108335,94.618236827236316,null,-0.67311081436590703,{"$f":"(D288/D276-1)*100","v":1.0131983254044741},{"$f":"(E288/E276-1)*100","v":1.9897359101773926},{"$f":"(F288/F276-1)*100","v":0.60997521345336203},{"$f":"(G288/G276-1)*100","v":3.0104170774247097},{"$f":"(H288/H276-1)*100","v":-0.38388374622070343},1.0400311156473663,null,170.43738655980988,88.381989634242487,86.352272491576358,151.16490977274643,219.84923496273203,286.74241536634844,95.550609484968106,null,205.59127546054842,84.189714807466117,158.63748182389651,175.0268794221578,192.09629643602116,218.57582825490746,100.98540481095013,null,null,null,null,null,null,null,null,null,null,null,null,null,null,null,null,null,null,null,null,100]
[null,"Agosto",82.873850955235767,104.64646553741308,54.334346198918901,85.855742758356897,115.00197560821459,131.13502529385738,94.225356234683801,null,-2.3578835233655004,{"$f":"(D289/D277-1)*100","v":7.8001302828312191E-3},{"$f":"(E289/E277-1)*100","v":1.1405142870650531},{"$f":"(F289/F277-1)*100","v":-0.16609695038491967},{"$f":"(G289/G277-1)*100","v":2.3836375480023264},{"$f":"(H289/H277-1)*100","v":-0.8950680262299282},-0.19584413152554658,null,169.91501690104286,88.131530265239704,86.390433261117266,150.62320135119984,219.80498444295839,286.20052294953251,94.971514990143419,null,205.02850409693437,84.218353493965864,158.99783342352279,175.43753802833265,191.13148559445943,218.24872669082308,100.79188743378289,null,null,null,null,null,null,null,null,null,null,null,null,null,null,null,null,null,null,null,null,100]
[null,"Septiembre",84.431525810905271,104.39973643489232,55.154798647225299,85.964878337249459,114.70610473818211,131.44937751653435,94.246963868285917,null,-1.1409012844749156,{"$f":"(D290/D278-1)*100","v":-0.50039761747393552},{"$f":"(E290/E278-1)*100","v":1.0722373645692063},{"$f":"(F290/F278-1)*100","v":-0.64675256644987078},{"$f":"(G290/G278-1)*100","v":1.409448649940237},{"$f":"(H290/H278-1)*100","v":-1.1483765925509815},-0.67500051072627576,null,173.03437113517069,87.729678573581822,88.018370566859787,150.44187996238355,219.71053547825255,286.17379817077875,94.661965963978517,null,204.94047628927413,84.032471315953387,159.58424783640791,175.00388864878497,191.54214675822544,217.7064688912524,100.44033471069962,null,null,null,null,null,null,null,null,null,null,null,null,null,null,null,null,null,null,null,null,100]
[null,"Octubre",85.933081389335129,104.08238368033012,55.338744437859759,85.420759202892583,114.41191600176617,131.62221177224194,93.935709821511125,null,2.6963617910187976,{"$f":"(D291/D279-1)*100","v":-0.24697593146835173},{"$f":"(E291/E279-1)*100","v":2.1639410366399936},{"$f":"(F291/F279-1)*100","v":-0.7649057136636439},{"$f":"(G291/G279-1)*100","v":2.1866232654609519},{"$f":"(H291/H279-1)*100","v":-0.62074640724646413},-0.41485400737013567,null,176.35662075219088,87.421698489715624,88.383539103567614,149.97183245608511,219.68828509144504,286.43642547938668,94.210393440688151,null,205.22552886609034,83.99279051699591,159.71366896987348,175.56836752044069,192.01521377201104,217.62012780565794,100.29241661099803,null,null,null,null,null,null,null,null,null,null,null,null,null,null,null,null,null,null,null,null,100]
[null,"Noviembre",87.555037464683451,103.54388779445124,54.735792342124917,84.762970427425344,113.31967199650491,131.35220509439205,93.284630695255061,null,{"$f":"(C292/C280-1)*100","v":5.4060131405663236},{"$f":"(D292/D280-1)*100","v":-0.72561148301194534},{"$f":"(E292/E280-1)*100","v":2.0030276859880125},{"$f":"(F292/F280-1)*100","v":-1.6085605944790915},{"$f":"(G292/G280-1)*100","v":2.032013711785674},{"$f":"(H292/H280-1)*100","v":-0.29665225891958302},{"$f":"(I292/I280-1)*100","v":-1.3326997412675512},null,180.89324870053866,86.923307763479485,87.281410375014687,149.95160468177681,218.9962488770972,285.50340781857648,93.35987959763375,null,206.60518679294094,83.948275088949842,159.45948097264048,176.90697237913159,193.25527952803435,217.35714875392352,100.08066591658012,null,null,null,null,null,null,null,null,null,null,null,null,null,null,null,null,null,null,null,null,100]
[null,"Diciembre",85.889700006440421,103.983341151546,54.912507532594056,84.953422233129942,112.94603470192104,131.5007339386905,93.74683454358572,null,{"$f":"(C293/C281-1)*100","v":3.8272569248730459},{"$f":"(D293/D281-1)*100","v":-0.42143096980669092},{"$f":"(E293/E281-1)*100","v":2.9145026101728977},{"$f":"(F293/F281-1)*100","v":-1.0233004449498706},{"$f":"(G293/G281-1)*100","v":2.2161526059362835},{"$f":"(H293/H281-1)*100","v":8.4837358210720915E-2},{"$f":"(I293/I281-1)*100","v":-1.0590956025748888},null,178.01175140122621,86.924409007926357,87.752203339342671,150.71309412805385,219.72500344567064,285.45176854620473,93.475042880052754,null,207.25622675114482,83.594552786337331,159.80367184517328,177.4067367344727,194.53981188941503,217.07237670573818,99.710079103090564,null,null,null,null,null,null,null,null,null,null,null,null,null,null,null,null,null,null,null,null,100]
[2019,"Enero",87.095389244916248,104.99194030083963,54.550832435936115,85.043767034293055,114.09196106478146,132.13740216115289,95.078395981686626,null,{"$f":"(C294/C282-1)*100","v":3.8281768674001126},{"$f":"(D294/D282-1)*100","v":-0.33620620796891432},{"$f":"(E294/E282-1)*100","v":0.60333894656638964},{"$f":"(F294/F282-1)*100","v":-2.1406977106309677},{"$f":"(G294/G282-1)*100","v":0.53709646190978066},{"$f":"(H294/H282-1)*100","v":1.5782665713020894},{"$f":"(I294/I282-1)*100","v":-1.1755037036136895},null,181.41175100161786,87.800311664281224,88.506967855453922,151.94158212563335,223.68598112221883,290.74253447184049,94.570940665220348,null,208.29087805265976,83.62576347546468,162.24677773596858,178.66280789791966,196.05761793787545,220.03046050296575,99.46627694837845,null,null,null,null,null,null,null,null,null,null,null,null,null,null,null,null,null,null,null,null,100]
[null,"Febrero",88.0044883207363,105.25283351225127,54.708806232552831,84.838668951025554,114.66993012299929,132.50409585502646,95.471313510079227,null,{"$f":"(C295/C283-1)*100","v":3.9306360515560135},-0.64895191357899895,-0.40086510152929078,-2.3673040183737948,9.6425595813531828E-2,2.8393916329405577E-2,-1.512532362113328,null,182.69873103605715,87.808540373678952,88.537863211079838,152.19692525709036,224.54540873255161,291.15322560989608,94.633690738450184,null,207.60160592060197,83.426295942387313,161.83475624514364,179.39570144004549,195.81891128013746,219.73149111439434,99.122644550668511,null,null,null,null,null,null,null,null,null,null,null,null,null,null,null,null,null,null,null,null,100]
[null,"Marzo",87.567319214372475,105.47077247773893,54.619133371811593,85.020425685717882,113.06490075574234,132.17491280366175,95.323005259453623,null,{"$f":"(C296/C284-1)*100","v":3.839093145786876},-0.63903986213514896,-0.90915969721705459,-2.1727995036770142,-1.4952162767869925,-0.62185774070023792,-1.7364765777389879,null,180.63398396917674,87.829375517024417,87.959235125638358,152.42745535529062,224.66443198998175,290.94300852137553,94.515546163202714,null,206.28013463215527,83.273662886618212,161.04106692222487,179.28333588771488,198.70395718590987,220.11969015145462,99.152923164714394,null,null,null,null,null,null,null,null,null,null,null,null,null,null,null,null,null,null,null,null,100]
[null,"Abril",86.876968247939402,105.95840483546444,54.23816710341503,84.697852612639835,112.35635766928591,131.9422705095119,95.379797259569699,null,{"$f":"(C297/C285-1)*100","v":3.0956200745788642},-0.36135189493196052,-2.0818056126392204,-2.6804242146228785,-2.2955335902371421,-1.0223811040628195,-1.7295501988151329,null,179.4058866029813,87.933988105241895,87.504528120112056,152.54516167675996,224.47940451391068,290.56010691618764,94.45431064712929,null,206.50569445629401,82.989158096319571,161.33385914990191,180.10511125283827,199.79234746524278,220.21760410378931,99.029682764032543,null,null,null,null,null,null,null,null,null,null,null,null,null,null,null,null,null,null,null,null,100]
[null,"Mayo",85.347792765726055,105.62363224185346,54.149800787610495,84.31605145595006,111.67590575436657,131.38391179306251,94.748855886096976,null,{"$f":"(C298/C286-1)*100","v":2.190722788990862},{"$f":"(D298/D286-1)*100","v":6.3565838096235616E-2},{"$f":"(E298/E286-1)*100","v":-1.2428629273111946},{"$f":"(F298/F286-1)*100","v":-2.7982980447422756},{"$f":"(G298/G286-1)*100","v":-2.0628644810533725},{"$f":"(H298/H286-1)*100","v":-0.40620611118489247},{"$f":"(I298/I286-1)*100","v":-1.0314246856115261},null,176.15295085327054,87.571277537432962,87.443054274323586,152.12788736276121,224.45647681064736,288.54911923425834,93.750720509293856,null,206.39426650059778,82.908791980297721,161.48361213238408,180.42577271569536,200.98917066707656,219.62287109303031,98.946546248534077,null,null,null,null,null,null,null,null,null,null,null,null,null,null,null,null,null,null,null,null,100]
[null,"Junio",84.3026100434287,105.81227200394675,53.931274685953312,84.456394629052113,112.24450422599577,132.07399762389807,95.243653267954116,null,{"$f":"(C299/C287-1)*100","v":1.3160656270958082},{"$f":"(D299/D287-1)*100","v":0.78101412783406765},{"$f":"(E299/E287-1)*100","v":-1.0333527460384406},{"$f":"(F299/F287-1)*100","v":-2.3675029228895084},{"$f":"(G299/G287-1)*100","v":-1.1573173257956038},{"$f":"(H299/H287-1)*100","v":0.86337151396742584},{"$f":"(I299/I287-1)*100","v":0.51937882021442228},null,174.4029568748139,87.497297665410045,87.801314487498487,152.39185474511407,225.62896864278977,289.30871993183825,93.88419441643498,null,206.87729215616196,82.691067877406923,162.8022237537931,180.43850369702244,201.01560445979879,219.05047559451586,98.572651504983213,null,null,null,null,null,null,null,null,null,null,null,null,null,null,null,null,null,null,null,null,100]
[null,"Julio",82.573112706934623,106.50559830550797,53.978799933838381,84.477562139808299,112.67978112965177,132.5197396976198,95.480030136532676,null,{"$f":"(C300/C288-1)*100","v":-0.39561211994423306},{"$f":"(D300/D288-1)*100","v":1.4536557034606323},{"$f":"(E300/E288-1)*100","v":-0.83572040081101306},{"$f":"(F300/F288-1)*100","v":-2.1873257176526772},{"$f":"(G300/G288-1)*100","v":-1.544489604902155},{"$f":"(H300/H288-1)*100","v":1.0161396161948666},{"$f":"(I300/I288-1)*100","v":0.91081100028307382},null,171.94206997587312,87.707031661264111,87.713718047844907,152.72954923124078,226.96476931993394,291.15827426804486,94.234327028885161,null,208.23009371842795,82.349691524833503,162.49660636278554,180.79303588150083,201.4245741734122,219.70936173916616,98.695326021717619,null,null,null,null,null,null,null,null,null,null,null,null,null,null,null,null,null,null,null,null,100]
[null,"Agosto",80.845185118058467,106.21773073766973,54.034995910766227,84.051015952167589,112.13798652187249,131.77866787868334,94.777498761971174,null,{"$f":"(C301/C289-1)*100","v":-2.4478961865463278},{"$f":"(D301/D289-1)*100","v":1.5014985859172603},{"$f":"(E301/E289-1)*100","v":-0.55094118010871052},{"$f":"(F301/F289-1)*100","v":-2.1020455338308097},{"$f":"(G301/G289-1)*100","v":-2.4903825096875387},{"$f":"(H301/H289-1)*100","v":0.49082431134139792},{"$f":"(I301/I289-1)*100","v":0.58598083292162872},null,168.07645143107496,87.178961715212978,87.008466177235917,152.09228103715054,225.76358268452501,290.08316964970248,93.164120608840577,null,207.89914845965461,82.075714769808457,161.02243501771022,180.95234104452038,201.32658850664299,220.12908031272232,98.297720266724369,null,null,null,null,null,null,null,null,null,null,null,null,null,null,null,null,null,null,null,null,100]
[null,"Septiembre",82.152445292879065,106.1636477615323,54.583721395375186,83.949692388921505,112.40000831945656,132.42452160477438,94.644491026140088,null,{"$f":"(C302/C290-1)*100","v":-2.6993240926742046},{"$f":"(D302/D290-1)*100","v":1.6895745016942909},{"$f":"(E302/E290-1)*100","v":-1.0354080984009584},{"$f":"(F302/F290-1)*100","v":-2.3441968246871281},{"$f":"(G302/G290-1)*100","v":-2.0104391339843986},{"$f":"(H302/H290-1)*100","v":0.74184001983377268},{"$f":"(I302/I290-1)*100","v":0.42179306530205629},null,170.34171832543873,86.923747498711293,87.238862157803851,151.99257654992644,225.6568136927435,291.91643994122973,92.772929843412527,null,207.34832386079179,81.877129631003072,159.82578675039827,181.05197556386074,200.76227490250287,220.43986748350471,98.022535530133865,null,null,null,null,null,null,null,null,null,null,null,null,null,null,null,null,null,null,null,null,100]
[null,"Octubre",83.009958829425955,106.49071299384939,54.760942069430193,84.125694207326418,112.92654426667566,135.01300903760679,95.135732848357392,null,-3.4016266060161948,2.313868330414115,-1.0441190422713409,-1.5161010129752017,-1.2982666377753693,2.576158856251598,1.2774939680835429,null,171.44180960718495,86.91414851394147,87.883894235870656,152.22552231054641,226.75047057766463,298.5466831559163,92.894618509667964,null,206.5316162359197,81.616646250609108,160.48645424040478,180.95009348200927,200.7946599713475,221.12438296428056,97.644298023896368,null,null,null,null,null,null,null,null,null,null,null,null,null,null,null,null,null,null,null,null,100]
[null,"Noviembre",82.358498172626668,106.79162340140486,54.287407761382944,84.112912523003388,112.88186729886664,135.20638670301329,95.492688688486339,null,-5.9351688292668232,3.1365787745973206,-0.81917984842414526,-0.76691260481314139,-0.38634483309462064,2.934234416431436,2.367011561041199,null,170.31826247427696,87.110745725644705,87.404250164134766,152.52673853601704,228.11004146266916,299.83012072030982,93.152221795845207,null,206.80107852049844,81.570766461912172,161.0028066698541,181.33569978842866,202.07855071950908,221.75736518933812,97.549061687564247,null,null,null,null,null,null,null,null,null,null,null,null,null,null,null,null,null,null,null,null,100]
[null,"Diciembre",81.508636185809962,107.04137931704501,54.021453651642616,84.060161157413319,112.28832720774869,135.46876326805005,96.003710628797705,null,-5.1008023317137496,2.9408923887550564,-1.6226792783457289,-1.0514715619876158,-0.58232012828791646,3.0174959564937209,2.4074157769697235,null,168.1631689995987,87.246541714765826,87.405607837737051,152.87732442525652,228.94824031199857,300.69335938769581,93.388405315334992,null,206.31331459926287,81.507303317113454,161.79795605163125,181.86656118702214,203.89317928693794,221.96508784295781,97.275828927514169,null,null,null,null,null,null,null,null,null,null,null,null,null,null,null,null,null,null,null,null,100]
[2020,"Enero",82.185379088738486,110.99984365381486,54.724570517405617,83.777751263728973,114.35736775553688,131.50000891411585,87.149509240021246,null,-5.6375087117075617,5.7222519516835657,0.31848841477082335,-1.4886637959646953,0.23262523343317021,-0.48237155915906715,-8.3393147936494323,null,170.04843011260405,86.625134942643697,87.295577573104779,152.4709253609474,230.27505883346549,306.29310022698115,95.343559167624036,null,206.90837226533526,78.040772032805066,159.51806793136853,181.99453084026459,201.36442745492991,232.92249388897349,109.40229038471725,null,null,null,null,null,null,null,null,null,null,null,null,null,null,null,null,null,null,null,null,100]
[null,"Febrero",81.89442919794331,111.09400836346168,54.540739487065096,83.293410104980254,114.36710086594996,131.92969710456393,87.068143751462529,null,-6.9428948902294678,5.5496604284106965,-0.30720236294926595,-1.8214086396585505,-0.26408776627360186,-0.43349509066571423,-8.8017745327548589,null,169.47185797020865,86.34799186239664,86.398719841743983,151.91788378603522,230.25223786190278,305.79851001899686,94.784807464765436,null,206.93942143559721,77.725156499795631,158.41134655358741,182.38883915853961,201.32733637427967,231.78898817347329,108.8627865265283,null,null,null,null,null,null,null,null,null,null,null,null,null,null,null,null,null,null,null,null,100]
[null,"Marzo",80.793692384624009,109.23229188803721,53.391282274939911,81.924705715502867,112.45673428908657,131.81700458364193,86.155824719833333,null,{"$f":"(C308/C296-1)*100","v":-7.7353365279643089},{"$f":"(D308/D296-1)*100","v":3.5664092733294517},{"$f":"(E308/E296-1)*100","v":-2.248023762137108},{"$f":"(F308/F296-1)*100","v":-3.6411485184260184},{"$f":"(G308/G296-1)*100","v":-0.5378914787796174},{"$f":"(H308/H296-1)*100","v":-0.27078377615536997},{"$f":"(I308/I296-1)*100","v":-9.6169655107586358},null,167.39560315596668,85.072091452584786,85.12547273960476,150.09202121096814,226.52991630256284,304.45667384504401,93.468571110014466,null,207.18895029461984,77.881814967119283,159.43702625692475,183.20727538794904,201.43739522102285,230.9691946093775,108.48781427600649,null,null,null,null,null,null,null,null,null,null,null,null,null,null,null,null,null,null,null,null,100]
[null,"Abril",79.618258541271274,108.13410954665592,52.180486649593448,80.64464446321584,111.03468786834571,132.14274697210433,86.050989486231799,null,{"$f":"(C309/C297-1)*100","v":-8.3551600073708769},{"$f":"(D309/D297-1)*100","v":2.0533573665722837},{"$f":"(E309/E297-1)*100","v":-3.7937868547405662},{"$f":"(F309/F297-1)*100","v":-4.785491041858025},{"$f":"(G309/G297-1)*100","v":-1.1763195500075319},{"$f":"(H309/H297-1)*100","v":0.15194255928616673},-9.7806957462387771,null,165.02652520413639,84.2254916111836,84.257701804757886,149.05497656871466,224.40586469649003,304.11719076635563,92.488965688835549,null,207.2722114596271,77.889846195888239,161.47358373748392,184.82935545298682,202.10428741202838,230.14293083414978,107.48158300217318,null,null,null,null,null,null,null,null,null,null,null,null,null,null,null,null,null,null,null,null,100]
[null,"Mayo",79.89952799259072,107.89652176298542,52.100241186871507,81.327398238479844,111.15324769076577,134.86517967150374,86.102933410367129,null,-6.3836036019003561,2.1518759323932102,-3.7849808696026277,-3.5445839384824596,-0.46801327472588694,2.6496911462983608,-9.1250943295015716,null,165.50036932500066,84.324886240195141,84.341803801644758,149.42952117973687,225.87923899728014,310.17186923979983,92.623124909066036,null,207.13560327959377,78.153479706630662,161.8837108625471,183.73822895644372,203.21425031654331,229.98662070913878,107.57255443043228,null,null,null,null,null,null,null,null,null,null,null,null,null,null,null,null,null,null,null,null,100]
[null,"Junio",82.084782791579187,108.57708128271544,52.097701980364008,81.855566552726643,112.26182596280914,140.37251623846208,86.716266274037764,null,{"$f":"(C311/C299-1)*100","v":-2.6307931043973554},{"$f":"(D311/D299-1)*100","v":2.6129382031089721},{"$f":"(E311/E299-1)*100","v":-3.3998319458725224},{"$f":"(F311/F299-1)*100","v":-3.0794921897255745},{"$f":"(G311/G299-1)*100","v":1.543214693031647E-2},{"$f":"(H311/H299-1)*100","v":6.2832342201039282},-8.9532338390315598,null,169.19760022377207,84.865535688702479,85.155777016745134,150.3307116112972,228.74630782832827,326.81772843068597,93.513165732496546,null,206.12541627037055,78.161555538343947,163.45399850619313,183.65362056893565,203.76143525770627,232.82173547099089,107.83809053422509,null,null,null,null,null,null,null,null,null,null,null,null,null,null,null,null,null,null,null,null,100]
[null,"Julio",83.118736072599447,109.38149370128268,52.144051955569473,81.440537279081013,113.26114873937104,139.52929227742948,87.526703147093585,null,{"$f":"(C312/C300-1)*100","v":0.66077606593484273},{"$f":"(D312/D300-1)*100","v":2.7002293227115448},{"$f":"(E312/E300-1)*100","v":-3.399015873857425},{"$f":"(F312/F300-1)*100","v":-3.5950668837970046},{"$f":"(G312/G300-1)*100","v":0.51594669770465007},{"$f":"(H312/H300-1)*100","v":5.289440347380614},-8.3298329274363976,null,171.19733046926387,85.025605736915438,85.291548412383349,150.11495056199786,230.20837117436352,329.62059354942454,93.789074629527192,null,205.96719651720022,77.733081584273862,163.56908451429504,184.32460734828268,203.25449082642061,236.23755855797782,107.15481248266524,null,null,null,null,null,null,null,null,null,null,null,null,null,null,null,null,null,null,null,null,100]
[null,"Agosto",85.29056195218439,110.69319118879685,52.269249959434923,81.340145249651925,114.89354808427427,139.61038958629334,88.000246268183929,null,5.4986290496265466,4.2134777499439835,-3.2677821503813376,-3.22526821574457,2.4572953803342124,5.9430876284316092,-7.1506977735379618,null,175.39041550833718,85.328225286191241,85.728171428544087,149.97329019214703,231.66606600530127,331.42841256369184,94.208612672189389,null,205.63871487523392,77.085342259811213,164.0126297872572,184.37794736147069,201.63540065398146,237.39523508659471,107.05494207946332,null,null,null,null,null,null,null,null,null,null,null,null,null,null,null,null,null,null,null,null,100]
[null,"Septiembre",86.273351268405847,111.49313678524116,52.845489779757507,81.245296507805392,115.80508191987127,140.72426737377319,88.324451336055063,null,5.0161695867182887,5.0200696152416624,-3.1845238308814805,-3.2214482318615345,3.029424687173532,6.2675293581725633,-6.6776625047721749,null,177.6370374357694,85.582913643011779,86.687943223827375,150.06778512486846,232.63716852739026,335.61009028472404,94.486321215573071,null,205.90024013686579,76.760701250931859,164.04038184737053,184.70950513480022,200.88683904939364,238.4877154082607,106.97640323410948,null,null,null,null,null,null,null,null,null,null,null,null,null,null,null,null,null,null,null,null,100]
[null,"Octubre",87.200506733977463,111.76523110592278,52.608039032348948,80.801586254231196,116.0623676669658,141.19731243460362,88.584524055031949,null,{"$f":"(C315/C303-1)*100","v":5.048247178585541},{"$f":"(D315/D303-1)*100","v":4.9530310801638056},{"$f":"(E315/E303-1)*100","v":-3.9314572681230064},{"$f":"(F315/F303-1)*100","v":-3.9513587191363997},{"$f":"(G315/G303-1)*100","v":2.7768700624406728},{"$f":"(H315/H303-1)*100","v":4.5805240851081619},-6.8861705241371478,null,179.46423817516077,85.76836780685511,87.104728766251,149.76246785108373,233.27159566206274,338.8844978946895,94.553720199822905,null,205.80641661022941,76.739757935605411,165.57303858577558,185.3459502389922,200.9881414201561,240.00775372523177,106.7384187119216,null,null,null,null,null,null,null,null,null,null,null,null,null,null,null,null,null,null,null,null,100]
[null,"Noviembre",88.294004454642703,112.41958676180131,52.747478561717905,80.542725600897398,116.09977591376263,140.97802408880156,89.224011371711271,null,{"$f":"(C316/C304-1)*100","v":7.2069141785161994},{"$f":"(D316/D304-1)*100","v":5.270041957544036},{"$f":"(E316/E304-1)*100","v":-2.8366231934184527},{"$f":"(F316/F304-1)*100","v":-4.2445170604805904},2.8506869100386467,4.268760911765157,-6.5645625888957611,null,181.87509933547926,86.360766681166069,87.865688453756491,150.07662570308224,235.1460198586127,340.75397981108551,95.23623535286066,null,205.98805146379999,76.820035697293918,166.57798789556938,186.33169486557591,202.53787572619956,241.70716110792259,106.73834754649418,null,null,null,null,null,null,null,null,null,null,null,null,null,null,null,null,null,null,null,null,100]
[null,"Diciembre",88.693112883749663,113.29711955230387,53.454094127131647,80.460010301644118,115.89842503344309,140.89757359394,90.002117794813586,null,{"$f":"(C317/C305-1)*100","v":8.8143748124575474},{"$f":"(D317/D305-1)*100","v":5.8442261069245216},{"$f":"(E317/E305-1)*100","v":-1.0502485330542655},{"$f":"(F317/F305-1)*100","v":-4.2828264973552184},{"$f":"(G317/G305-1)*100","v":3.2150250301754113},{"$f":"(H317/H305-1)*100","v":4.0074259149675884},-6.2514175698786474,null,183.15917989577522,86.916753181535682,88.76125593834189,150.39996373444765,237.14415128799007,341.29059282125496,96.141334886095763,null,206.50890913688252,76.715766053884863,166.05137059705484,186.92511120816297,204.61378247336918,242.22602569781503,106.82119181381748,null,null,null,null,null,null,null,null,null,null,null,null,null,null,null,null,null,null,null,null,100]
[2021,"Enero",88.672644735741244,112.11204099021639,52.959142220979956,79.293748398920883,115.22122212609446,138.10169122673463,88.969670412078045,null,{"$f":"(C318/C306-1)*100","v":7.8934546739733769},{"$f":"(D318/D306-1)*100","v":1.0019809936581803},{"$f":"(E318/E306-1)*100","v":-3.2260249458954671},{"$f":"(F318/F306-1)*100","v":-5.3522597553288698},{"$f":"(G318/G306-1)*100","v":0.75539896336564993},{"$f":"(H318/H306-1)*100","v":5.0202903917142772},2.088550111101406,null,184.95469787113942,86.99000120382297,88.64131505693274,150.14003462396479,237.84138632640602,341.18079679615454,96.131918852460231,null,208.58146097066825,77.592023511028827,167.376795279394,189.34662272317055,206.42150980322006,247.05041174043677,108.0502135246866,null,null,null,null,null,null,null,null,null,null,null,null,null,null,null,null,null,null,null,null,100]
[null,"Febrero",89.540123188931403,112.52220007189095,52.843558092939055,79.816842549171625,115.23007893820599,137.90010221678332,88.990459773178387,null,{"$f":"(C319/C307-1)*100","v":9.3360367315193482},{"$f":"(D319/D307-1)*100","v":1.285570418664439},{"$f":"(E319/E307-1)*100","v":-3.1117682123260271},{"$f":"(F319/F307-1)*100","v":-4.173880684470566},{"$f":"(G319/G307-1)*100","v":0.75456846044172909},{"$f":"(H319/H307-1)*100","v":4.5254444171788144},2.2078293379070413,null,184.31482103932339,86.902276263201202,87.843115986573892,149.73804369057868,237.57701660993234,339.04567538058041,95.879120046228522,null,205.84606595907351,77.231227444609985,166.23240212568402,187.60206355987046,206.17621614000359,245.8632516802561,107.74089749688693,null,null,null,null,null,null,null,null,null,null,null,null,null,null,null,null,null,null,null,null,100]
[null,"Marzo",89.582569820495053,111.85194767151928,52.575745944476431,79.467804687216102,115.22151746292532,135.47139106237913,88.496607488204518,null,{"$f":"(C320/C308-1)*100","v":10.87817275887204},{"$f":"(D320/D308-1)*100","v":2.3982429904219282},{"$f":"(E320/E308-1)*100","v":-1.5274709572694944},{"$f":"(F320/F308-1)*100","v":-2.998974493504758},{"$f":"(G320/G308-1)*100","v":2.4585305551657388},{"$f":"(H320/H308-1)*100","v":2.7723179496302208},{"$f":"(I320/I308-1)*100","v":2.7169176036363041},null,183.24439664865602,86.55663474129949,87.12672336764274,148.66087067174055,236.61612632720897,332.90692000455795,95.293586188653052,null,204.55362802813082,77.385004502106938,165.71657102051293,187.0705643082342,205.35758557714243,245.73964834484329,107.68049634146088,null,null,null,null,null,null,null,null,null,null,null,null,null,null,null,null,null,null,null,null,100]
[null,"Abril",90.398109180403253,112.01367632483549,52.988535510807559,79.771560488759945,116.3842618465023,134.82532494323723,88.952857902277685,null,{"$f":"(C321/C309-1)*100","v":13.539420274489022},{"$f":"(D321/D309-1)*100","v":3.5877363714783117},{"$f":"(E321/E309-1)*100","v":1.54856520722082},{"$f":"(F321/F309-1)*100","v":-1.0826310665355221},{"$f":"(G321/G309-1)*100","v":4.8179303971202181},{"$f":"(H321/H309-1)*100","v":2.0300606976932256},{"$f":"(I321/I309-1)*100","v":3.37226618005384},null,184.34342189619849,86.762242227078218,87.3806909790611,148.91990740472539,237.80215827637358,330.56182987802123,95.479791613243563,null,203.92397979067573,77.456829445960636,164.90489902525974,186.68295629707364,204.32501311045627,245.17784772051616,107.33751996831433,null,null,null,null,null,null,null,null,null,null,null,null,null,null,null,null,null,null,null,null,100]
[null,"Mayo",91.734643607759949,112.97092383037666,53.359842154258125,80.354621599305275,117.49300592615768,135.34421281102283,89.53940397068385,null,{"$f":"(C322/C310-1)*100","v":14.812497535988856},{"$f":"(D322/D310-1)*100","v":4.7030265521794234},{"$f":"(E322/E310-1)*100","v":2.4176490140779272},{"$f":"(F322/F310-1)*100","v":-1.1961241355859631},5.7036194327217959,0.35519408396287311,3.9911190295207177,null,185.92851894403657,87.0496194855466,87.658555497777385,149.45064014608025,238.82002016268714,331.74033066146029,95.879816026426624,null,202.68081024986796,77.05488858022413,164.27813868782633,185.98885437022875,203.2631800336961,245.10861881080919,107.08114168128557,null,null,null,null,null,null,null,null,null,null,null,null,null,null,null,null,null,null,null,null,100]
[null,"Junio",92.008107849567494,112.87368161371418,53.720777163902007,80.42494722659147,117.50251071825345,135.35277199547232,89.708730174793118,null,{"$f":"(C323/C311-1)*100","v":12.089116545736056},{"$f":"(D323/D311-1)*100","v":3.9571890128554443},{"$f":"(E323/E311-1)*100","v":3.1154448696215864},{"$f":"(F323/F311-1)*100","v":-1.747736148418999},{"$f":"(G323/G311-1)*100","v":4.6682696548873803},{"$f":"(H323/H311-1)*100","v":-3.576016429357376},{"$f":"(I323/I311-1)*100","v":3.4508680197307795},null,186.44755078931112,87.012629642288289,87.907224206959427,149.14846880392253,239.12930034283525,331.90941428025718,95.875335130722277,null,202.64252265045096,77.088501409983451,163.63729053798798,185.4505025458177,203.50994960117706,245.21803978374371,106.87402992319012,null,null,null,null,null,null,null,null,null,null,null,null,null,null,null,null,null,null,null,null,100]
[null,"Julio",92.341489262807769,112.24089414948662,53.641578231557418,79.480359782278526,117.49414549565401,134.66524389567101,89.124515651950986,null,{"$f":"(C324/C312-1)*100","v":11.095877567426893},{"$f":"(D324/D312-1)*100","v":2.6141537763352041},{"$f":"(E324/E312-1)*100","v":2.8719023931319088},{"$f":"(F324/F312-1)*100","v":-2.4068818334109676},{"$f":"(G324/G312-1)*100","v":3.7373775592049352},{"$f":"(H324/H312-1)*100","v":-3.4860410329374814},{"$f":"(I324/I312-1)*100","v":1.8255143258077311},null,186.04833817337885,86.821705956642674,87.710142441582434,147.28488446685682,238.97277960823317,330.69233794170469,95.375088189265369,null,201.47859825378976,77.353006330304424,163.51148741925422,185.30978580156912,203.39122311168472,245.56621172267836,107.01330323266396,null,null,null,null,null,null,null,null,null,null,null,null,null,null,null,null,null,null,null,null,100]
[null,"Agosto",null,null,null,null,null,null,"",null,null,null,null,null,null,null,null,null,null,null,null,null,null,null,null,null,null,null,null,null,null,null,null,null,null,null,null,null,null,null,null,null,null,null,null,null,null,null,null,null,null,null,null,100]
[null,"Septiembre",null,null,null,null,null,null,"",null,null,null,null,null,null,null,null,null,null,null,null,null,null,null,null,null,null,null,null,null,null,null,null,null,null,null,null,null,null,null,null,null,null,null,null,null,null,null,null,null,null,null,null,100]
[null,"Octubre",null,null,null,null,null,null,"",null,null,null,null,null,null,null,null,null,null,null,null,null,null,null,null,null,null,null,null,null,null,null,null,null,null,null,null,null,null,null,null,null,null,null,null,null,null,null,null,null,null,null,null,100]
[null,"Noviembre",null,null,null,null,null,null,"",null,null,null,null,null,null,null,null,null,null,null,null,null,null,null,null,null,null,null,null,null,null,null,null,null,null,null,null,null,null,null,null,null,null,null,null,null,null,null,null,null,null,null,null,100]
[null,"Diciembre",null,null,null,null,null,null,"",null,null,null,null,null,null,null,null,null,null,null,null,null,null,null,null,null,null,null,null,null,null,null,null,null,null,null,null,null,null,null,null,null,null,null,null,null,null,null,null,null,null,null,null,100]
["Notas:",null,null,null,null,null,null,null,null,null,null,null,null,null,null,null,null,null,null,null,null,null,null,null,null,null,null,null,null,null,null,null,null,null,null,null,null,null,null,null,null,null,null,null,null,null,null,null,null,null,null,null,null,100]
["El ITCER GLOBAL incluye dentro de los socios comerciales al resto de países centroamericanos, República Dominicana, Panamá, Brasil, Canadá, China, Colombia, Corea del Sur, Haití, Japón, México, \nEstados Unidos y Zona Euro.",null,null,null,null,null,null,null,null,null,null,null,null,null,null,null,null,null,null,null,null,null,null,null,null,null,null,null,null,null,null,null,null,null,null,null,null,null,null,null,null,null,null,null,null,null,null,null,null,null,null,null,null,100]
["Valores sobre (bajo) 100 significan una depreciación (apreciación) real de la moneda. El índice se descompone en efecto precio y efecto tipo de cambio, los cuales divididos generan el índice.",null,null,null,null,null,null,null,null,null,null,null,null,null,null,null,null,null,null,null,null,null,null,null,null,null,null,null,null,null,null,null,null,null,null,null,null,null,null,null,null,null,null,null,null,null,null,null,null,null,null,null,null,100]
["Fuente: Cálculos de la Secretaría Ejecutiva del Consejo Monetario Centroamericano",null,null,null,null,null,null,null,null,null,null,null,null,null,null,null,null,null,null,null,null,null,null,null,null,null,null,null,null,null,null,null,null,null,null,null,null,null,null,null,null,null,null,null,null,null,null,null,null,null,null,null,null,100]
[{"$f":"TODAY()","v":"2021-08-23"}]

{"sheet":"ITCER RESTOM","index":5,"n_rows":334,"n_cols":54,"rows_kept":334,"cut":false,"hidden":false,"merged":[[3,2,3,8],[3,10,3,16],[3,18,3,24],[3,26,3,32],[331,0,331,15]]}
[]
["Secretaría Ejecutiva"]
["Consejo Monetario Centroamericano"]
[null,null,"ITCER RESTO DEL MUNDO\nPeriodo de referencia Diciembre 2000=100",null,null,null,null,null,null,null,"VARIACION INTERANUAL",null,null,null,null,null,null,null,"EFECTO TIPO DE CAMBIO",null,null,null,null,null,null,null,"EFECTO PRECIO"]
["Año","MES","COSTA RICA ","EL SALVADOR ","GUATEMALA ","HONDURAS","NICARAGUA ","REPÚBLICA\nDOMINICANA","PANAMÁ",null,"COSTA RICA","EL\nSALVADOR","GUATEMALA","HONDURAS","NICARAGUA","REPÚBLICA\nDOMINICANA","PANAMÁ",null,"COSTA\n RICA","EL\nSALVADOR","GUATEMALA","HONDURAS","NICARAGUA","REPÚBLICA\nDOMINICANA","PANAMÁ",null,"COSTA\n RICA","EL\nSALVADOR","GUATEMALA","HONDURAS","NICARAGUA","REPÚBLICA\nDOMINICANA","PANAMÁ"]
[1995,"Enero",95.260024699789966,121.0376271857474,104.96817032124406,141.98026687212806,96.931509704171702,81.213803056423515,102.41512991038618,null,null,null,null,null,null,null,null,null,60.060982869687315,111.92391215708464,84.701597981791664,67.88501656834049,62.339915510762523,90.175746125831481,114.91552939533345,null,63.049514273136374,92.470345593708132,80.692649707593574,47.812994061688791,64.313364870741879,111.03499987949294,112.20561795496933]
[null,"Febrero",95.985730125434898,120.81743211273491,106.0232231617254,134.53592102840952,98.092372938663544,81.70773171009094,103.37825022353381,null,null,null,null,null,null,null,null,null,61.038384877315544,112.22468472927405,84.621908276808256,67.150437844236237,63.193380626755115,90.421928795060694,115.29107972537116,null,63.591103383336367,92.887824850106924,79.814502665824378,49.912645879947767,64.422318202322899,110.66508260918172,111.52353563353834]
[null,"Marzo",104.64663049329704,120.32105364284001,105.4477351794913,135.07511976535056,99.66193711748457,81.568259628530186,104.44854466499181,null,null,null,null,null,null,null,null,null,62.312066638253526,112.26461690086246,83.870455228866987,68.030595510066178,64.143740863644055,90.302333886425032,116.1220088850059,null,59.545220275625418,93.304216927910048,79.537464779214233,50.365008469544492,64.361322606071198,110.70768739908226,111.17628230958655]
[null,"Abril",107.47409436410611,122.1077114149669,107.93620814298396,133.64671697697693,103.35569183366142,83.791380540781446,106.4478907644868,null,null,null,null,null,null,null,null,null,63.918514547697548,113.70764901052375,85.60593898667473,68.646986927719041,65.941106043914559,91.706020367817942,117.70683117107718,null,59.47341536198595,93.120776479139266,79.311604937308772,51.364514206169929,63.800168983473938,109.44564915383444,110.57695021078482]
[null,"Mayo",108.28982614370639,121.78231021986501,107.28884599414286,131.82697918310328,103.96593173182214,83.997084444773193,106.44263991837926,null,null,null,null,null,null,null,null,null,64.691886892731858,113.66385615679616,85.826581607515209,68.705170683625042,66.482222316448187,91.789340656871161,117.51349407819889,null,59.739579604534839,93.333634377265597,79.995810200252009,52.117685703922447,63.946161217443453,109.27681747956532,110.40076999998199]
[null,"Junio",108.63871015208724,121.03182208444501,106.49866348620851,132.9228211678284,103.31280235319748,83.608980821854004,106.55886671588982,null,null,null,null,null,null,null,null,null,65.638906536553478,113.49694165095264,85.861698234705912,69.696516575643059,67.041962274477953,91.578327742814807,117.4841354153575,null,60.419445743292798,93.774463357053961,80.622324660276064,52.433822847954914,64.892211562784155,109.53168767592219,110.25280113816987]
[null,"Julio",108.47225305154306,118.17295395579238,106.8183721142461,133.13793668453238,103.15179545149923,83.217652935769635,106.39800175985872,null,null,null,null,null,null,null,null,null,66.569349952128547,113.55877715360822,86.135594843865121,70.695770317804829,67.693311626662833,91.610516587696722,117.31780180262706,null,61.369933858105256,96.095403687792825,80.637434496511517,53.099643931929798,65.62494751581076,110.08543663014024,110.2631627118472]
[null,"Agosto",107.73744435747136,116.46723595706773,106.18093477229975,132.27986144524289,104.51706969040042,81.578226896628465,104.98825317561956,null,null,null,null,null,null,null,null,null,66.639305409784214,112.3173216267418,85.802164247706088,70.925369399197379,67.273552150120295,90.43966665916669,115.58366488873173,null,61.85343063148585,96.43683968609362,80.807505068310974,53.617662298925872,64.366090964277362,110.86250596469445,110.09199733553872]
[null,"Septiembre",105.76357782183648,112.4742520554654,103.97829345050788,129.48591300934675,101.74263814524797,78.31534625130891,103.32601791636175,null,null,null,null,null,null,null,null,null,67.137991218369848,111.55444321800432,86.327895278786926,71.35082395061545,67.235608127837637,89.695631883295022,114.50806244781786,null,63.479311688440454,99.182204975226256,83.024920311735755,55.103155464845898,66.084003082220036,114.53136093591097,110.82209956112652]
[null,"Octubre",104.72069162641283,112.31610481545411,103.87922197059916,129.68723281611722,99.25950681819711,77.897878905458697,103.8882788269117,null,null,null,null,null,null,null,null,null,68.250218058589212,111.51298923235417,87.105250988346882,72.580991940866497,67.916370963186182,89.564085089790169,114.59583591841995,null,65.173574580723098,99.284950644950214,83.852429134481,55.966181377143478,68.423038901030651,114.97628221493716,110.30679997052229]
[null,"Noviembre",103.36325581201156,111.0012518693805,102.20213039059716,130.42909893876239,96.594418733033109,76.457829148763025,103.31444160865543,null,null,null,null,null,null,null,null,null,68.883946162392846,110.54072431388585,86.641582037567204,73.966609177672666,67.888918025283161,88.557294167023528,113.86127542599684,null,66.642585531238694,99.585114989480871,84.774731902788631,56.710204838876201,70.282443764079176,115.82501772934035,110.20847971795824]
[null,"Diciembre",103.51226610259737,110.85458393247787,100.72275989267888,130.90855771572555,98.347135453220389,103.76418505372914,102.90722012139405,null,null,null,null,null,null,null,null,null,69.649151868510501,110.27754929607288,85.534716888634691,75.293533759267291,68.31177146303466,88.362372772421679,113.60875129351467,null,67.285892282057617,99.47946704959314,84.920942376651311,57.516128107354866,69.459848676047812,85.156909126851048,110.39920343732599]
[1996,"Enero",104.43371757558013,111.22572541826376,102.88494460103858,133.30303848337761,100.74125780277613,100.89485354283158,106.65232478080544,null,{"$f":"(C18/C6-1)*100","v":9.6301600851993019},{"$f":"(D18/D6-1)*100","v":-8.1064888626955938},-1.9846261145926247,-6.1115735164559482,3.9303505229945523,24.233627469378092,4.1372743208223595,null,71.012031367883992,111.18628810463935,87.976688470660719,76.703511440588827,69.370783758870616,85.240377196236054,117.94742310807511,null,67.997226390501325,99.964542992660981,85.509778725946489,57.540707483688358,68.860351033813444,84.48436585524162,110.59057863997212]
[null,"Febrero",105.01553417841623,111.38376608692307,103.85500257461808,132.79130421492502,101.01452365895848,101.18428091576564,107.15409154922575,null,{"$f":"(C19/C7-1)*100","v":9.4074442536209446},-7.8081994136485751,-2.0450430787224416,-1.2967665439448606,2.9789785207073427,23.836849705704587,3.652452346143864,null,71.744757873301239,111.07264636605734,88.852130176699063,78.239802020221546,69.930530190671618,85.161408250736287,117.8113778347403,null,68.318233520966928,99.720677678807419,85.554020484338537,58.919371628121894,69.228193786042581,84.164662218266741,109.94575767610206]
[null,"Marzo",105.94297956463456,111.30016307766857,103.50989597914888,134.09177049007965,101.51172407501703,101.53667373714401,107.25816800743436,null,1.2387872072197714,-7.4973500414557304,-1.8377248188819473,-0.7280017792907878,1.8560616129223773,24.480618073196524,2.6899593014475531,null,72.363279875856051,110.8892731236601,88.913522836542043,79.798319577592238,70.445005441521531,85.050304708972504,117.54604647480026,null,68.303987836879813,99.630827177026021,85.898572301196069,59.510228917065312,69.395930453769822,83.763138557354097,109.59169698540146]
[null,"Abril",106.35210488394948,111.20302115218861,102.05643461258201,133.40462753202863,101.81096040833079,101.90506923456778,107.32031385996906,null,-1.0439627212447067,-8.930386243764854,-5.4474523716943724,-0.18114133322856274,-1.4945779936500259,21.617603835719535,0.81957762546227553,null,72.795469104793838,110.60768203680405,88.114606648894878,80.646783381615649,70.85678860300294,84.975758490448555,117.15012024619,null,68.447605418085175,99.464637642740129,86.339099522130169,60.452763051456706,69.596424902406682,83.387175072565924,109.15931572753954]
[null,"Mayo",105.6503549252439,110.50239608181758,100.85706365891259,132.25718844970885,101.06718459778818,101.91859126956219,107.59917598651641,null,-2.4374138480560248,-9.2623584802117414,-5.9948285170122855,0.32634387078538385,-2.7881702070551406,21.335867718804113,1.0865345589173625,null,73.278473940981755,110.37614960850723,87.286066608177805,81.391111463460177,71.326324049316213,84.883024829548916,116.81341523787789,null,69.359420508177337,99.88575227525665,86.544326635732332,61.540028498647061,70.573177963915668,83.285123717069155,108.56348495876598]
[null,"Junio",105.39611597110616,108.67040384248507,100.84425329599347,132.24335809533835,101.5706691393094,101.54886889969605,107.47231768477364,null,-2.9847502574742113,-10.213362096899825,-5.3093719724917392,-0.51117111909034785,-1.6862704081264002,21.456891235244967,0.85722661758340646,null,74.005955596756451,110.18316615805841,87.68111492615418,83.342586705340466,71.882784217181666,84.718021322834673,116.43668033636825,null,70.216966645189132,101.39206468558453,86.947061493723936,63.022134272525207,70.771202775666197,83.425864060105013,108.34108991478897]
[null,"Julio",105.7468534871994,109.11038185920553,99.311236181763974,135.98031402988013,102.73551326271196,101.63876254003573,107.56619706785806,null,-2.5125315347221844,-7.6689054417452329,-7.0279445229262443,2.1349116684020064,-0.40356271741580629,22.136060023807879,1.0979485410223866,null,74.966590474668422,110.39212486729197,87.304373512981925,87.482827415444461,72.784268618967829,84.783232731292344,116.5875572325139,null,70.892502237660509,101.17472140253379,87.909864854761722,64.334920859368722,70.846259786376137,83.416238659828281,108.38679846510213]
[null,"Agosto",106.37935482237081,106.53604196544977,98.64771304697932,135.92681504035079,105.2320309248435,101.99847125565854,108.03399647544272,null,-1.2605548082191609,-8.5270281465929187,-7.0947027745377085,2.7569983482463423,0.68406169112942283,25.031488346646103,2.9010324562009693,null,75.959308232310789,110.76584696261314,87.313980391526101,89.740198332300324,73.815722243522075,85.007561496546572,117.01180254956928,null,71.404182098251539,103.97030424552014,88.510901768137586,66.020967463749031,70.145678644405436,83.341995669205318,108.31016750932409]
[null,"Septiembre",106.55068435252629,107.22625546515742,98.07264356543952,135.28759598651743,105.11549425757978,101.60867663208964,107.75049759986481,null,0.74421322245332711,-4.6659537577720345,-5.6796949527541107,4.4805514687546788,3.3150861564221756,29.742996099428499,4.2820576779456498,null,76.464872582038595,110.38302589624908,86.674000651214399,90.522796586981286,74.185492115159803,84.806166184274616,116.55057261298829,null,71.763849333010526,102.94402748412439,88.377347137971952,66.91137936696181,70.575220750398898,83.463508231039668,108.16708526563178]
[null,"Octubre",106.23597681294071,107.08743121723555,97.727109478280113,134.76141550514535,103.2637849508471,101.40807116609274,107.23127471645536,null,1.446977825484197,-4.6553195615266052,-5.9223705911662261,3.9126308572122737,4.0341507438518498,30.180786166420969,3.2178759021635361,null,76.997759081745571,109.93206493760408,86.38947971902688,91.221833133486399,74.535883068346109,84.53510653769581,116.17734874934369,null,72.47804500100986,102.65636563323473,88.398685052919703,67.691358681226859,72.180080464632127,83.361319829502236,108.3427843756813]
[null,"Noviembre",106.74493031343785,108.10344400409561,96.218046865097648,133.23859513133192,103.27040838908823,101.03273529078123,107.63147063556917,null,3.2716408503778105,-2.6106082737651026,-5.8551455851551086,2.1540409428793206,6.9113616952405588,32.141778566853006,4.1785339587530279,null,78.004608797158895,110.1099780365959,85.795332207034221,91.810339721823254,75.463168850205946,84.559365192325217,116.51778875234041,null,73.075703518763817,101.85612405875271,89.167609406292996,68.906715528880142,73.073371188662335,83.695017212941735,108.25624518953154]
[null,"Diciembre",106.28657311548207,107.54434246662215,95.165462547768058,133.08651853996432,102.00355156273969,102.31393835120879,106.31190394426829,null,2.68017223208592,-2.986111488066201,-5.5174196485801019,1.6637268504388514,3.717867422034371,-1.3976370573039354,3.3084984890835889,null,78.317122410950489,109.56779941991215,85.264220732974607,92.557590325285275,75.671492011880588,86.378041458434652,115.76410383542314,null,73.684869231655142,101.88150943776331,89.595761372122212,69.546931831033902,74.185154195672354,84.424510335950842,108.89100800613068]
[1997,"Enero",103.97984960809922,107.5897839274386,94.580454844913348,130.44757851920369,102.17283384394673,105.1173031016036,109.47909767502875,null,-0.43459907204054238,-3.2689752996909904,-8.0716277666551868,-2.1420816784532559,1.4210424531061916,4.1849999385543679,2.6504559558668372,null,78.235340702959448,110.65464069670958,85.56200630994816,92.584536948654133,75.286233082143823,91.566343345311267,119.02801917583335,null,75.240867339036356,102.84865036195072,90.464786250232109,70.974515586753029,73.685176626432764,87.108725817295436,108.72214121562187]
[null,"Febrero",103.48466743869926,105.26049682284507,92.628027889514428,124.48725045952736,102.10680671092574,105.24431505696835,108.1843849158921,null,-1.4577526569698795,-5.4974521684779898,-10.810239667595468,-6.2534620052811629,1.0813128770027047,4.0125146954225199,0.96150632399607527,null,78.003564367834542,109.29599923875995,85.339409023048603,90.171721318071747,74.94366683925702,91.153297612219504,117.0261941492071,null,75.376929064434748,103.83382421489678,92.131302984060497,72.434503119970429,73.397327027795313,86.611136727792442,108.17290706065303]
[null,"Marzo",103.18423528107033,104.84455356850185,91.015270656033891,124.03382255435291,102.90688010555557,105.425385852137,108.00700202256651,null,-2.6039897073889207,-5.8001797397743253,-12.070947618024775,-7.5007943432821245,1.374379209151777,3.8298596673158602,0.6981603630226596,null,78.415087002334261,108.77452895589137,83.621182398493588,90.281407537682909,75.29885911593864,91.137951939984902,116.38120815377988,null,75.995220382972505,103.74838296661906,91.87599157345349,72.787732957371901,73.171841414977962,86.447823930954598,107.75339188607764]
[null,"Abril",102.82784001354754,104.87632784501544,91.250505989162491,123.09447364230543,103.55755400911984,104.64541540787448,108.25345541138967,null,-3.3137706811234069,-5.6893178275387646,-10.588189431112372,-7.7284829473009626,1.7155261022821389,2.6891166395254684,0.86949200748533961,null,78.96704939146197,108.52998025583824,83.511975804510385,89.895379562212966,75.800670692716352,90.97116052715468,115.8730217112452,null,76.795398387302583,103.48377225432807,91.519466001020106,73.029581996861864,73.196659981019778,86.932772135862891,107.03863564530047]
[null,"Mayo",103.6432665985796,105.65020740592777,91.173553834910422,124.85256840062391,104.40694690450309,104.86057513847928,108.54463572809912,null,-1.8997459384632265,-4.3910257586606267,-9.6012212458918338,-5.5986522440710784,3.3044972213344792,2.8866017791944421,0.8786867863199932,null,79.895417629308938,108.95776564609025,83.46570742483604,92.251846395846428,76.917871539568409,91.221993906853484,116.29294713254927,null,77.086935071963353,103.13066895122525,91.545962523265118,73.888625262262067,73.671219990679504,86.993604399351582,107.13836418766876]
[null,"Junio",103.82430593809548,105.35490795010868,90.416428061047583,123.59839934171417,103.43096072943571,104.57914698141259,108.6258072300615,null,{"$f":"(C35/C23-1)*100","v":-1.4913358225094209},-3.0509649133006911,-10.340525011711478,-6.5371591270328766,1.8315244015719045,2.9840589211384216,1.0732899132883222,null,80.544887253714364,108.90512320673969,82.674846137520817,92.364940170966804,77.665377513312066,91.192198305069255,116.29161540327321,null,77.578064718042697,103.3697673185878,91.437859148450542,74.729883771070703,75.089099980881315,87.199217948562264,107.05707821068347]
[null,"Julio",103.31757926624746,104.0124938666177,90.272332994921527,121.44725811517507,102.05754886883463,102.50896784854145,107.70139207481066,null,-2.2972543776406562,-4.6722299983938065,-9.1015916570598598,-10.687617555811491,-0.65991240258240769,0.85617463924054782,0.1256854017692044,null,80.746522598066804,108.23081510221817,82.792346082920048,91.906261804659678,77.862821936760568,90.927227329266358,115.3713446906242,null,78.153711276940143,104.05559089950283,91.713976293908033,75.675863935520013,76.293055045669007,88.701729456112275,107.12149812370662]
[null,"Agosto",102.43448073606035,104.18928555883936,90.914510735469733,119.39708393224008,102.9824807182779,101.70467705513728,106.9489313912059,null,-3.7083079634178118,-2.2027816721138183,-7.8392109382472768,-12.160758054401366,-2.1377048288388822,-0.2880378469446554,-1.0043737338583658,null,80.740191969091796,107.41476762684033,84.020936019481738,91.278284965376841,77.938829693047069,90.527768849400175,114.18675017597909,null,78.821302542776067,103.0957905610932,92.417519865397551,76.449341943040139,75.6816393909358,89.010428498113455,106.76754661371804]
[null,"Septiembre",104.30884000710208,105.21584420822695,91.383056365564187,119.77965933914865,105.53878925074419,101.50080094885928,107.02921433043517,null,-2.1040168432959083,-1.8749244279855914,-6.821053207780281,-11.46294051149691,0.40269514609059254,-0.10616778685246242,-0.66940133502506605,null,81.607115758512791,107.74088688190756,84.612873643950365,91.595886644249575,78.93698333849855,90.598994186801292,113.93556575857116,null,78.23604955529791,102.39986923327196,92.591424503760621,76.47031820728553,74.794285493418187,89.259388438175165,106.45277223731995]
[null,"Octubre",105.45703586618011,106.0597127978327,91.854791102176577,120.69457203198347,106.57442197481272,101.43110945822589,107.65867014669719,null,-0.73321766328947602,-0.95970031937551159,-6.0088939573196498,-10.438331639982511,3.2060000759622342,2.2718400880950007E-2,0.3985734864869972,null,82.46901630118407,108.0063850736211,85.273951659729889,91.833515211038772,79.950763202683149,90.587960636211307,113.86057044039852,null,78.201530721793915,101.83544931853538,92.835605673386851,76.087527106607041,75.018716237164597,89.30983908198273,105.76070676449054]
[null,"Noviembre",104.42121805853219,105.78077156079193,91.952088607748209,119.62919925201746,104.31849994079742,100.58828904498806,106.06334262134737,null,-2.1768830126943528,-2.1485647055015877,-4.433636304559907,-10.214304545841102,1.0149001713640304,-0.43990321009721445,-1.4569419194608413,null,83.001949916864035,107.56943242539889,85.628562650246579,91.725475990851194,80.534007010706915,89.923673481068363,112.03245012958256,null,79.487628529996826,101.69091304422848,93.123020854396557,76.674822337995636,77.200119879418679,89.397756274440695,105.62787044110542]
[null,"Diciembre",103.59766817892633,104.71026602893843,90.629250238338358,118.73554060509936,103.92331435212445,99.446551606252271,100.47963680314795,null,-2.5298632345914562,-2.6352631599968257,-4.7666581845832612,-10.783194340270851,1.8820548500254608,-2.802537749171341,-5.4859963228367947,null,83.007979463251274,106.40582126763971,84.616790198179856,91.24469259086905,80.665886603387051,88.945819342281368,105.83564375422807,null,80.125335755517156,101.61928271506126,93.365872470149725,76.846993011417126,77.620586974416526,89.440828169138129,105.33044019812014]
[1998,"Enero",101.65080871504368,102.88338189008485,89.814057001445548,116.91399441313771,103.10068381901391,98.315795001880247,97.42740660343415,null,-2.2398963855340348,-4.374394915160229,-5.0395167281479196,-10.374730033086543,0.90811807812272161,-6.4703982113669678,-11.008211912166221,null,82.763743070972865,106.07994057593635,84.709029036455988,90.519790024939965,80.930873653866044,86.572859258934216,102.48583967860252,null,81.419660224232288,103.10697279495199,94.316003379173267,77.424255735435025,78.496931985373223,88.05590114719466,105.19200218041117]
[null,"Febrero",101.74362211908704,102.91015361048416,88.933424252412095,114.83863020023351,102.95313519366053,98.618682415386616,98.654632667371558,null,-1.6824186255838924,-2.2328824994210072,-3.9886454686363537,-7.7506895073008009,0.82886588073489698,-6.2954779438635704,-8.8088056847847707,null,83.339773451530846,105.96318912347029,84.000424760486609,90.858052248954721,81.653760755893401,86.531711406845645,102.95859161562629,null,81.911545623945671,102.96669998622478,94.453154667783195,79.118021601732735,79.311582500424265,87.743730992440092,104.36265265186901]
[null,"Marzo",101.60539386325165,102.57729638216415,89.377881126554925,113.36382072488792,102.78725082722588,98.973358141441324,99.262662312075946,null,-1.5301188340621663,-2.1624940058105668,-1.799027259576047,-8.6024937470497562,-0.11625002935371498,-6.1199944003476396,-8.0960859451163714,null,83.850104180023749,105.77571795598102,84.713028191110766,90.983843732943143,82.164473522339136,86.493821344848968,103.48787034334792,null,82.525248898572912,103.11805992809633,94.780752377829415,80.258272128762613,79.936444316862421,87.391014075971796,104.2565934993645]
[null,"Abril",102.0317503337597,101.78185884876791,89.317587820964803,111.73176954358988,101.94823094871316,99.394015730325805,100.26488933529868,null,-0.77419663748937717,-2.9505886216959154,-2.1182547397898821,-9.230880771897132,-1.5540373426210508,-5.0182797374164867,-7.3795021560581926,null,84.619236497310851,105.94889159523999,85.030681273169662,91.003898011667289,82.958311617591804,86.558538494287191,104.09664279010083,null,82.934220201564557,104.09408198435798,95.200378052765871,81.448542687014339,81.372978074848035,87.086267576849281,103.82163036353462]
[null,"Mayo",102.43324164484625,101.60552090359667,88.980704764086283,111.28141351256006,101.19160047900404,99.136645725820827,100.1703066210808,null,-1.1674901741759003,-3.828375354523128,-2.4051372120415193,-10.869744260700386,-3.0796288186072496,-5.4586095919266224,-7.7151017651353682,null,85.383551062049577,106.06597823277248,84.939829304972776,91.498377686724254,83.792102983306549,86.539640354475239,103.99220099840221,null,83.355314828451,104.38997535715396,95.458705940993553,82.222515691173399,82.805393517510694,87.293290710899441,103.81539650445384]
[null,"Junio",102.04567635766401,100.93605254111372,88.786992934325767,109.34070659741569,99.666164978750032,98.40849052392835,99.325880761459928,null,-1.7131148283254238,-4.1942568172405714,-1.8021449881006735,-11.535499505038127,-3.6399118060345348,-5.9004654709805422,-8.5614337013901416,null,85.622804771060927,105.31166890410984,84.735583867985312,91.354338742508475,83.988598702407344,86.242058974427323,103.32645157776452,null,83.906352358289155,104.33503812843664,95.436934023278354,83.550163141773282,84.269921211792067,87.636807063367456,104.02772246833865]
[null,"Julio",101.32638052041976,100.61237338630373,89.180052472844565,107.65697156834383,101.5287912629651,106.3226537460812,99.92901764053444,null,-1.9272603558552426,-3.2689539053588845,-1.2099837080076448,-11.354959149224397,-0.51809749668698668,3.72034367097962,-7.216596076007475,null,86.384990565254483,105.31272660021189,85.248898178844243,91.624943359972448,84.706450618204798,93.662090639381063,103.99612575892878,null,85.254195522996881,104.6717446927338,95.59189057979377,85.108230359058751,83.430965309938998,88.092318371834494,104.06999709836494]
[null,"Agosto",99.874210309523519,101.42229855330805,89.320784845887431,107.63009151022213,102.61302799376632,106.6114267876832,99.423453691767904,null,-2.4994224680396471,-2.6557308562872195,-1.7529939683880613,-9.8553432248780215,-0.35875298588141646,4.8245074608376237,-7.0365150932745095,null,86.738806611768325,104.67838214777052,85.336424440431117,91.620938754039855,85.045903390073576,93.984922929352237,103.31523126293287,null,86.848052508203253,103.21042181148268,95.539268477845482,85.125764986772495,82.880220039155319,88.15651920363409,103.91434558613328]
[null,"Septiembre",101.95647895771502,103.21227516894304,90.810149129113199,109.02186190618089,104.34005039175155,106.34792860765859,99.364893979880193,null,-2.2551885815496497,-1.904246508081775,-0.6269293884843985,-8.9813224485033256,-1.1358277534761374,4.7754575466271598,-7.1609610502162857,null,87.985749584920242,105.14289184639871,86.329284896578727,92.909005617378753,86.504039731837736,94.154503321422936,103.519889705189,null,86.297359897462783,101.87053010341603,95.065679028713404,85.220527326282408,82.905882647221901,88.53440264810429,104.18155302027508]
[null,"Octubre",104.03180042002525,104.77245104937792,93.111053090983717,110.44124504252045,104.62373101348685,105.43912275201482,100.95519326799787,null,{"$f":"(C51/C39-1)*100","v":-1.3514844547341642},-1.2137141563908549,1.3676608195752227,-8.4952676966665415,-1.8303556568074919,3.9514635255366359,-6.2266019722936106,null,89.807757856882318,106.47619936689247,88.216282766337159,94.381419224483835,88.530549802039786,95.126871788344985,105.05842287998564,null,86.327216768609432,101.62614150995819,94.743083487774953,85.458488980404468,84.618039276985328,90.219710962577423,104.06440667306262]
[null,"Noviembre",103.43918865864265,102.34550302774592,90.785682767775967,109.61719552169015,99.52557584073007,103.94664622054758,101.11643955571712,null,-0.94045005234384416,-3.2475359012405947,-1.2684930354849522,-8.3691973138058646,-4.5945101806366235,3.3387158758187985,-4.6641025479377873,null,90.383857346756486,106.16703469032358,88.14275408973586,94.782983563365065,89.098305252436433,95.421135008564633,105.1916702176235,null,87.378737709390037,103.73395171211541,97.088826566628853,86.467258273005342,89.52302410690865,91.798185394174183,104.0302355183905]
[null,"Diciembre",104.21626870029992,103.03506824332602,93.134074136840908,109.86944812467627,99.993352398699784,102.79822275838305,102.35069077011323,null,0.59711819025229929,-1.5998410176414235,2.763813991526276,-7.4670923594062577,-3.7815979772438113,3.370324157042015,1.8621225419344523,null,91.613638974804658,106.62252615223986,90.659142433761701,95.6275288351017,90.307063118514478,95.566972409510257,106.29263987423434,null,87.907233791168153,103.48178340644345,97.342614154897987,87.037416194706566,90.313066771115416,92.965588164039445,103.85141426448699]
[1999,"Enero",102.41254167907687,101.72284844380036,95.946538046636618,108.30502354548257,101.27888225598468,103.46348314792007,100.02823190621801,null,0.74936242383327745,-1.1280086491755714,6.8279746511087591,-7.3635076030622244,-1.7670121046212239,5.2358709462110076,2.6695007015532957,null,91.250435924672431,105.16005588128503,92.943842922908516,95.597515872760866,91.092065559342117,95.210059261475649,103.75636487469238,null,89.100840999159701,103.37899251748111,96.870449747474368,88.266926817678765,89.941815638431748,92.022862912275414,103.72708074253447]
[null,"Febrero",101.96540472439456,101.48537276540212,94.857730501463138,107.25017694822897,102.05314972390522,105.40398055470482,99.57807018976861,null,0.21798182597425608,-1.3844900576816199,6.6615069630475476,-6.6079273488139467,-0.87417004646083152,6.8803374504013304,0.93603057193527572,null,91.270521910941198,104.36883920830357,91.172971966336931,95.293531548525053,91.235276687423308,96.562064826646051,103.04587137776848,null,89.511263312923745,102.84126309469937,96.115489464436038,88.851631074254044,89.399765645892742,91.611402452234898,103.48249487200465]
[null,"Marzo",103.29363296143208,101.75448739724872,96.878767800026381,107.35640766548516,104.80412443390549,105.98039201180848,99.421355233798792,null,1.6615644445535871,-0.80213557379202882,8.3923299354686556,-5.2992330542401049,1.962182654412814,7.0797172107199824,0.15987171613827122,null,91.797394420578854,104.0652022768852,92.35693608905234,95.355572816286298,91.589041174235575,97.295288894390751,102.73635621529698,null,88.870331876945684,102.27087270423314,95.332484285609567,88.821501100714357,87.390683972553035,91.804990571793681,103.33429470328849]
[null,"Abril",104.60685060727698,102.98495654389215,98.864233940346054,108.10123237291242,105.97019070044756,106.46571985312873,99.990495528022976,null,2.5238225014211579,1.1820354911299624,10.688428060235244,-3.2493329207151533,3.945100090807574,7.1148188055805583,-0.27366888757847097,null,92.5191845354001,104.09156711390517,93.882108779736683,95.722882845419406,92.360755270651822,97.340376909353495,102.78401756609266,null,88.444670686762834,101.07453613338311,94.960639493130003,88.549298416143927,87.157298349810134,91.42884399188415,102.79378757282662]
[null,"Mayo",104.39370154435206,103.45775698269082,100.76062402425534,107.47464601878551,105.31423815589507,106.43046576596343,99.661999573649396,null,1.9138903231268101,1.8229679476291061,13.238734500250416,-3.4208475374415515,4.0740907915044033,7.3573399490586944,-0.5074428386789287,null,93.025882403076125,103.81646909954034,96.366386577289305,95.866607719478509,92.963856647351562,97.251750917107017,102.41312143879644,null,89.110627391206847,100.34672326881157,95.63893386973443,89.199277476775293,88.272828323306641,91.375857671204727,102.7604522053704]
[null,"Junio",103.2062377931944,102.92986360262202,100.99553379224919,106.32681300948599,104.9072597362638,106.61715122571154,99.13162454544225,null,1.1372960393370324,1.9753210189155768,13.750370920832822,-2.7564241001538758,5.2586499727678149,8.3414151137571011,-0.19557462217143495,null,93.233811582366755,103.19809422487884,97.195283852138814,95.956333236742537,93.300350289852673,96.90129591742695,102.08254977696205,null,90.337380352134829,100.26059552871105,96.237209906798839,90.246599630689346,88.936028378216321,90.887155399870096,102.97677481333626]
[null,"Julio",103.94944914509198,102.610286437368,100.38891267433208,106.17917317085265,105.19384194672375,107.15146753730531,99.025916252508011,null,2.5887321852413381,1.9857528292203552,12.568797495270179,-1.3726917783053461,3.6098634073816305,0.77952699826648875,-0.9037428860504515,null,93.913667971265198,103.20690575570495,97.582585086154424,96.310330310973498,94.081233407150535,96.883553790577039,101.95301935943517,null,90.345517695029926,100.58144201624573,97.204544293370787,90.705481531675488,89.436065520640184,90.417383930692836,102.95589600954894]
[null,"Agosto",105.00977306236621,103.52826645432856,103.93724875788749,106.61186688772071,105.30083834537912,107.32736761326656,99.827080996731198,null,5.1420308975929752,2.0764347989151499,16.364011956700853,-0.94604084063676375,2.6193655953472783,0.67154229819019751,0.4059678978912018,null,95.181497001201237,103.81405187775678,101.64157806611134,97.26149495857122,95.455035463479604,97.057734784129863,102.55839054915734,null,90.640608226695377,100.27604579233855,97.79129165028823,91.229520500755399,90.649834287542902,90.43148727345914,102.73604068671062]
[null,"Septiembre",105.55106209305424,103.83990944645458,105.61201512858158,107.05389925241602,105.24801444191682,107.49841576408625,100.65769640821742,null,3.5256054074111587,0.60810041875756227,16.299792634877399,-1.8051082776942562,0.87019705928477187,1.0818143535940905,1.3010655741241939,null,95.881480716188008,103.90889232950522,103.30472874846146,97.970510739811601,96.261868114490383,97.121662968801203,102.91811832801507,null,90.838953976283562,100.06643195609317,97.815318288065015,91.515125954275391,91.461932678658172,90.347064445993652,102.24565234498364]
[null,"Octubre",105.19585549282216,103.64595636712839,105.37286103339288,106.84956523275547,104.57952645737321,104.35586765404764,100.91919432565716,null,1.1189415814174763,-1.0751821408841788,13.169014349378582,-3.2521181813752298,-4.2250984251313017E-2,-1.0273749152057365,-3.5658336312771599E-2,null,96.77241279517358,104.07601670680862,103.58439972277897,98.490826967995332,97.200605900308219,97.401825146847216,103.05083794644962,null,91.992609729550281,100.41493209648903,98.302730614814422,92.177096606287634,92.944201597553942,93.336222808041882,102.11222813958842]
[null,"Noviembre",104.48850876612737,103.81349778721048,104.51773857250829,105.85576931640408,103.77294485287207,103.11368742097117,100.74464911741009,null,1.0144318812742803,1.4343519901080404,15.125794493233101,-3.4314198492168102,4.2676156116283392,-0.8013330202198965,-0.36768545247498619,null,96.936169250986026,103.67434010008856,102.99162927698436,98.424315221280352,97.367018972796444,97.566456962514778,103.01926933099428,null,92.772086036709126,99.865954148460375,98.539856184828182,92.979641881482124,93.826978805354472,94.620277290822401,102.25780747018464]
[null,"Diciembre",103.78623465074868,104.16840464768725,103.17155857839937,105.03213867854919,103.6086490528336,102.79045548992192,100.58962920246225,null,-0.41263619866098722,1.0999521072619256,10.777456623244564,-4.4027794156550781,3.6155370006184739,-7.5558392477081959E-3,-1.7206152243822714,null,97.397226363711141,103.46382171134438,101.79130732498017,98.581164043924019,97.591548109574333,97.499629886598427,103.22499779842857,null,93.844069679821018,99.32361166639167,98.662178537924888,93.858094564399607,94.192472348335571,94.8528045934749,102.61992077797801]
[2000,"Enero",102.6370677084429,103.25378138418259,105.8495596625981,104.31461713781688,103.19429863414473,103.28155113179291,100.85220337804515,null,0.21923684900782003,1.5050040023486311,10.321395453734805,-3.684414884033449,1.8912297761331853,-0.17584176618823388,0.82373891462927951,null,97.725483250737085,102.90566138035477,104.44091915959784,98.064378615635803,97.671719992498737,97.927769138289761,103.1099386177289,null,95.21460952912453,99.662850116324023,98.669205136525477,94.008281203847517,94.648368451802526,94.816323017194591,102.23865732632595]
[null,"Febrero",101.41052363054261,102.67685659275254,103.95221288267314,103.28134500866393,101.24743847564029,104.01071858948636,100.72209351299749,null,{"$f":"(C67/C55-1)*100","v":-0.54418564350502407},1.1740448843841955,9.5874973321965697,-3.7005364956002262,-0.78950159837760658,-1.3218305019281007,1.1488707514101026,null,97.428966278768073,102.2602404281018,102.78425224435352,98.027084736196016,97.342747332264452,98.100889478256846,102.33098284173339,null,96.073822312287732,99.594245306609679,98.876444660550092,94.912672494701582,96.143417352415,94.318057608509889,101.59735493238958]
[null,"Marzo",101.79441773737676,103.26482952355131,102.72817689176701,103.29509606463218,101.38089360197132,104.78894799729088,100.88742631152726,null,-1.451411070627262,1.4843002652121129,6.037864874391019,-3.7830174175608966,-3.2663130868413659,-1.124211745116821,1.4746037954128433,null,97.860689080715858,102.30001624889664,102.04888021372214,98.289822226494678,97.776705526043614,98.079853804685214,102.50710705571436,null,96.135614561095423,99.065690342872614,99.33874356715144,95.154393549326215,96.444904017044863,93.59751737103123,101.60543370309173]
[null,"Abril",102.24952972952626,102.84852472748425,101.33916918743741,102.16238903605534,100.99200439197983,104.62740062859537,100.75608241685664,null,-2.2535052571277192,-0.13247742290376507,2.5033676471763355,-5.4937794939932676,-4.6977232706317151,-1.7266771192355201,0.76565966074155778,null,97.836691843773437,101.85326694068692,101.55977698422387,98.379808811598721,97.870185045528856,97.930886688481067,102.18224479143912,null,95.68424627729263,99.032307182398171,100.21769252556079,96.297482605735013,96.908845046451148,93.599655635252304,101.41546032792546]
[null,"Mayo",101.57514650516364,101.25923426238116,101.22579166756249,100.96387170923305,99.666828350915878,104.20735008477025,99.680320442726284,null,-2.6999282499729493,-2.1250438675927352,0.46165617552664795,-6.0579630180074613,-5.3624371251866361,-2.0887963471678539,1.8383003707800327E-2,null,96.982639873741761,100.75542883208455,100.53414392158042,98.04789588981123,97.207903391402965,97.509351151675588,101.07811096258192,null,95.478710305194184,99.502459766789116,99.316727748345485,97.11186212448392,97.532855213516655,93.572431380659822,101.40227330093583]
[null,"Junio",102.09969847048845,101.04735350535732,101.83582843981681,101.2464551944354,100.63369981012711,103.94340031988058,100.32395965003762,null,-1.0721632203309794,-1.8289250868265494,0.83201169003783715,-4.778058959217879,-4.0736550901056656,-2.5078056157874173,1.2027797487055292,null,98.403286201400732,101.241555595611,101.22107744465953,98.815558490930215,98.373437038727005,97.758252500023957,101.62442756756536,null,96.379605107104055,100.19218919003492,99.396331326041491,97.599030307938335,97.753970314452616,94.049504056224691,101.29626853053269]
[null,"Julio",101.48684272929184,101.44325300074308,102.31462374688422,101.06195494269119,101.54134169438834,103.69279631958996,100.22341877373044,null,-2.3690422951283208,-1.137345462277084,1.9182507522511827,-4.8194180415469638,-3.4721616634035057,-3.2278337359319842,1.2092819400619348,null,98.912800012374461,101.31359108590739,101.71171216765073,99.090399353412394,98.789316913915286,97.758844228658674,101.53604357300389,null,97.463668542942614,99.872182810585983,99.410727853796317,98.049161437262129,97.289749441408915,94.277372872998484,101.30969868652844]
[null,"Agosto",100.65616962930899,100.6608407595464,102.55004891527993,100.66398468412692,101.40309050404011,102.31550995194851,100.1647608732268,null,-4.1459030965351857,-2.769703186372896,-1.3346513008429928,-5.5790057685209282,-3.7015354318022387,-4.6696921510059886,0.3382648006172273,null,98.631024973176338,100.82039067968263,101.35060049554576,99.091337511184818,98.697136660975133,97.507990824470653,101.07109855180059,null,97.988057102122255,100.15850247120164,98.830377525489936,98.43772608656721,97.33148779823712,95.301280197170826,100.90484684501058]
[null,"Septiembre",100.44739649025867,100.33936209538793,103.18648775282519,101.03542928008362,101.3080617590492,100.78699982435359,99.774926574147017,null,-4.835257458893361,-3.3711001576631094,-2.2966396132138356,-5.6219063615252418,-3.7434935982017636,-6.243269625909087,-0.87700182457020048,null,98.321389233168276,100.17337992761193,101.5168907988573,99.136149693448189,98.549323121243788,99.21427131144354,100.59156232864186,null,97.883462059370984,99.834579207690993,98.381961640203059,98.120184572710272,97.276881434799549,98.439552208468427,100.81847793081357]
[null,"Octubre",99.778639422879763,99.882953778080221,102.65850181197392,100.58090263167193,100.26893434974173,100.85559672863086,99.604767178733042,null,-5.1496478112790562,-3.6306313540289903,-2.5759566503169906,-5.8668115190063759,-4.1218317328951422,-3.3541678145215692,-1.3024550539737612,null,98.121845630665462,99.511390959160337,101.12287404628751,99.081551547405795,98.437332292496833,99.380971503871507,100.00427024730621,null,98.339530583101521,99.628001771207693,98.504139707299615,98.509308382569614,98.173310538181042,98.537884586884076,100.4010883011817]
[null,"Noviembre",99.603335391110079,99.773786509549609,101.30167918328186,99.896900466278382,99.864221883592819,100.65844382015121,99.856704551458691,null,-4.6753211742657559,-3.891316027074998,-3.0770464737861825,-5.6292338987349533,-3.7666108202104032,-2.3811034812441623,-0.88138136737819783,null,98.613206380130094,99.471806268345375,100.32112558020356,99.41240177042296,98.914980306028184,99.579621541775424,99.904271543393904,null,99.005927856640483,99.697335089938335,99.032046051967001,99.515001272718209,99.04946780772886,98.928234694047788,100.04763525108193]
[null,"Diciembre",100,100,100,100,100,100,100,null,-3.648108695232799,-4.0016016965848777,-3.0740628736255049,-4.7910465709453458,-3.4829612062535653,-2.7147029134388045,-0.58617295553945459,null,100,100,100,100,100,100,100,null,100,100,100,100,100,100,100]
[2001,"Enero",99.918597265406774,99.1556353696255,99.816045816175574,99.639096237248211,100.21673234077898,101.68422262436975,100.19347077790506,null,-2.6486244236423206,-3.9690033232864019,-5.7000840302545601,-4.4821339797389452,-2.8853980624667375,-1.5465767989724322,-0.65316629491060096,null,100.91233017082557,100.45557678226949,100.69644605332959,100.00835013825642,100.56404733708098,100.56278294128063,99.725956958628501,null,100.99454249020252,101.31101112689981,100.88202275491396,100.3705913792403,100.34656388029195,98.897135018446463,99.533388936777257]
[null,"Febrero",99.267792992613053,99.517120143043456,98.450643844764897,98.996563893816017,99.548562495083928,102.06226658443528,100.39375449544511,null,-2.1129272990798476,-3.0773599373435823,-5.2924020425785923,-4.1486496080085704,-1.6779446533505271,-1.8733184728213503,-0.32598510028984951,null,101.06263869967356,100.29372247166626,99.726579972728828,100.26363249459953,100.80682041469289,100.69776576813267,99.553949846166205,null,101.80808462941657,100.78037058096791,101.29601603213058,101.27991169687725,101.26396392682324,98.66307023940746,99.16348914979865]
[null,"Marzo",97.886435172468694,99.247026791280732,97.297372293275345,98.301945510095194,99.674967632833599,102.47586432551276,99.736156249403678,null,-3.8390931956508889,-3.8907755436271341,-5.2865774150878568,-4.8338698977662524,-1.6826898131666823,-2.2073736934909549,-1.1411432566121871,null,101.0406472319595,99.934825759890515,98.772393669442351,100.19342874199424,100.67416503108375,100.41806751934521,98.755395370976046,null,103.22231783590168,100.69301720247623,101.51599302365636,101.92415645701011,101.00245570375385,97.991920517370815,99.016644599802788]
[null,"Abril",97.270251717446243,99.430527383033436,97.757278034557871,98.321850693840318,99.684259034723809,102.12097185653344,99.564339952925224,null,-4.8697319442459701,-3.3233314269771164,-3.5345574486154052,-3.7592487592078672,-1.294899893441348,-2.3955758787883918,-1.1827995246985079,null,101.20349079637498,99.824307660821347,99.237942489448244,100.41758212342387,100.94225710505542,100.27474352772938,98.310410040804086,null,104.04361971875444,100.39603559203802,101.51463347247345,102.13150120221938,101.26198266658469,98.192116374100152,98.740583312545425]
[null,"Mayo",97.171660960734869,99.629552094472885,98.180347826392747,97.895276091874393,99.871285990309005,102.21765073828018,99.790094933937382,null,-4.3351997963447904,-1.609415852074747,-3.0085651008503245,-3.0393006581561521,0.20514111141698432,-1.9093656492286781,0.11012654325701643,null,101.3763558352635,99.777284201951687,99.597661131989781,100.80296041091086,101.47979155280196,100.21212582517896,98.264926139176438,null,104.32707934901684,100.14828141286706,101.44358146714167,102.97019880336984,101.61057860279183,98.037985711258216,98.471623064623188]
[null,"Junio",97.197783256445959,99.457904194125405,97.816209020486895,97.692532568970634,99.511922035138994,102.80295270765181,100.42209275946533,null,{"$f":"(C83/C71-1)*100","v":-4.8011064552353933},-1.5729747055153176,-3.94715639958233,-3.5101699300382982,-1.1147138355289132,-1.0971813590079815,9.7816224329694279E-2,null,101.55683092618884,99.613612347596643,99.843849039008958,101.08021958578588,101.6526255342048,100.08249704087542,98.116724870088362,null,104.48471922270284,100.15655684154305,102.0729079963602,103.46770313731355,102.15120304711822,97.353718356210322,97.704322001236449]
[null,"Julio",96.882867021722817,99.132950237530537,96.585753018430168,97.203898876308514,100.00265165698207,102.71010257528792,99.907353167883983,null,-4.5365247196129328,-2.2774336339506207,-5.5992687248957562,-3.8175157689859129,-1.5153335692936865,-0.94769721637488757,-0.3153610301001919,null,102.08415552325378,99.498726984040729,99.675193331871995,101.35472752380213,102.02719226351165,100.012856077099,97.917357467118777,null,105.36863602556761,100.36897595162229,103.19865012891944,104.27022855613592,102.02448692408072,97.37392288532493,98.008158921574847]
[null,"Agosto",97.681835619025975,99.438148525785849,96.729195290184634,97.20464466712528,101.33709741258068,102.35541888633615,100.77814948092293,null,-2.9549445615074887,-1.2146652308232309,-5.6761100425257727,-3.4365220370092486,-6.5079960710667795E-2,3.9005752311038755E-2,0.61237964564451186,null,103.67653932604767,100.07133778522754,100.96683405602556,101.99407521134327,103.53081557768225,100.35997382035676,98.752750693989341,null,106.13696873019663,100.63676694390331,104.38093044517547,104.92716223655698,102.16477304078498,98.050474427548082,97.990240148915419]
[null,"Septiembre",98.077519094506641,99.72944897817554,97.841843006405924,97.297154154631741,102.22916125019874,101.83642800220214,100.22463869216251,null,-2.3593218725005527,-0.60785030368497583,-5.179597506237366,-3.6999646085422944,0.90920650850105922,1.0412336706891123,0.45072658377884878,null,104.29282616527462,99.938194085769865,102.00276173021787,102.4402225910958,104.06844341959018,100.31633442101943,98.692914261838069,null,106.33713732581158,100.2093114017305,104.25269863685982,105.28593922520109,101.79917564313172,98.507318440951366,98.471708703256994]
[null,"Octubre",98.437249811817196,100.78282672908971,98.781846337297807,97.335859816864698,102.14767713095698,101.22746547591655,99.844384650936348,null,-1.3443655063059334,0.90092745255494489,-3.7762634426289132,-3.2263011465413105,1.8737037482238872,0.36871404200429225,0.24056827699152628,null,104.81672765307999,99.837672187417354,103.89110009670533,102.89015039167005,104.33654765956439,100.21009758954902,98.443729342769899,null,106.4807558657505,99.062186909866099,105.17225983199543,105.70631480037842,102.14284904961784,98.994968527973683,98.597161660054027]
[null,"Noviembre",97.995841198696297,99.308023579160505,97.660164388956346,97.383886170976979,101.69577373727162,101.71480661977887,100.03877011203943,null,-1.6138959464576885,-0.46681893780239347,-3.594723032909497,-2.5156078752910926,1.8340420814711322,1.0494527428966505,0.18232682662475685,null,105.3976513021295,99.779431025580962,103.56849052763013,103.62792100903904,104.52744853546439,100.74392209730267,98.355913768012741,null,107.55318798521797,100.47469220454749,106.04988346644839,106.4117741482399,102.78445671253587,99.045483588141224,98.317795848407613]
[null,"Diciembre",97.687725993138059,100.22677790185325,95.49581304782447,97.225683124722195,101.77019551424084,102.49320433393541,100.11040224455638,null,-2.3122740068619363,0.22677790185325897,-4.5041869521755267,-2.7743168752778047,1.7701955142408465,2.493204333935406,0.11040224455638459,null,106.34826195060518,99.818158841538136,102.01261092532587,104.07812746197855,104.8113770959185,102.03518269955445,98.203386320295778,null,108.86553133407514,99.592305500716321,106.82417131129904,107.04797756829947,102.98828312779659,99.553119997215958,98.095087142291149]
[2002,"Enero",97.20193244841515,99.169776548642659,94.71343396517554,97.261196913480731,101.7566017615504,101.99016899679225,99.431112688091631,null,-2.7188780580811533,1.4261598914111495E-2,-5.1120156176063798,-2.3865123365887642,1.5365392433024372,0.30087890188499333,-0.7608859977546012,null,106.7335021813043,99.805599066551082,102.15796941112411,104.14814602132014,104.71614395690447,102.2082748678683,97.897133070237714,null,109.805946746941,100.64114545785685,107.86006285938888,107.08088048100595,102.90845227151873,100.21384989673162,98.457243838087265]
[null,"Febrero",97.684241007128591,99.136029527914573,93.193103221059914,97.019038299172024,101.36385631045422,102.81703221199885,99.690640047368547,null,-1.5952323888195008,-0.3829397540655477,-5.3402805897287742,-1.9975699325939122,1.8235258951729616,0.73951485972454378,-0.7003567618426576,null,107.39256291788462,99.742266332118518,101.09737577757703,104.67458062472232,104.88959244723273,102.70705335025858,97.704176011983719,null,109.93847299284185,100.61152015779817,108.48160677487868,107.89076294690054,103.47829716144578,99.893034393840992,98.007371570248779]
[null,"Marzo",98.515735052912959,99.216940334750689,92.987467771246216,97.654218277715003,102.43855205230435,102.3127702063711,100.1035249789628,null,0.64288772937279859,-3.0314718236668092E-2,-4.4296206777693303,-0.65891598484556502,2.772596254709403,-0.15915368971526345,0.36834057314225621,null,108.59590619480819,99.874012845948002,101.03303965946473,105.42519027048762,105.78310106990119,102.8363893655067,97.979696276168724,null,110.23204175097629,100.66225838952543,108.65231851243765,107.95764087801416,103.26493195246371,100.51178279903812,97.878367716580996]
[null,"Abril",99.790244930641464,99.403739590431158,91.937888451887247,97.992067994246852,102.97395972231561,104.66642251009019,100.77640050900725,null,2.5907131612195045,-2.6941215446929512E-2,-5.952896500057447,-0.33541140373807288,3.3001205199768568,2.4925836557184056,1.2173641252029466,null,109.62024863161948,99.892245298711487,99.933394859096893,106.01028204299745,106.39810431918848,105.35967727651642,98.121513989432501,null,109.85066597222031,100.49143594626631,108.69663915698243,108.18251335324544,103.32525291452963,100.66234686330222,97.365567229862066]
[null,"Mayo",100.49642488306719,99.560681421189869,92.322649653226691,98.323827855702675,103.75620248704176,105.32385267187017,101.40647214487485,null,3.4215365770847495,-6.9126751887538251E-2,-5.9662634150817295,0.43776551937610986,3.8899233730801619,3.0388117034142681,1.6197772053504256,null,111.00691217050516,99.985745355541368,100.61929435989671,106.82694379641207,107.60335330798586,105.60194046549682,98.456590787158078,null,110.45856835172742,100.42693955915516,108.98657559963137,108.64807252336468,103.70787550886375,100.26403116347539,97.091032460430711]
[null,"Junio",101.26260353954268,99.081681609428458,92.358630197854978,98.003408744532521,104.95123450100469,105.48425314033133,101.6519061743072,null,4.1820092464167846,-0.37827318778266283,-5.5794217311047722,0.31821897476391747,5.4659907623380022,2.6081939886537286,1.2246442800067481,null,112.50400982190686,100.09348700010175,101.16375112182689,107.62537543756878,108.95456063817002,105.83327848460245,98.726830031965591,null,111.10124161282742,101.02118310290871,109.53362009062842,109.81799185997502,103.81446312299167,100.33087909700302,97.122458149160678]
[null,"Julio",101.1543691190214,99.181383536227614,91.44567287394382,98.089770470667162,105.94622067073206,105.38638450556272,101.63640087967808,null,4.4089344469345981,4.8856912440342626E-2,-5.3217788171155416,0.91135397303960808,5.9434114148662287,2.6056657165862029,1.7306511052180618,null,113.95185614694887,100.26985859053239,100.91472142998215,108.50172299874978,110.09699361092946,106.06976961800095,98.848817088624656,null,112.65144268051294,101.09745903464555,110.35483501673309,110.61471800588649,103.91781123849381,100.64845673911715,97.257297811683145]
[null,"Agosto",100.83095423772959,99.785975152984818,90.490976165331759,98.072633273385136,106.09843888542763,104.65662462730509,100.99006905051255,null,3.2238528266254729,0.34979193836133238,-6.4491585049771256,0.89294972398927808,4.6985177140625778,2.2482500350317514,0.21028325155914018,null,114.6025848308222,100.17261463149268,99.5269633676686,108.83129002273566,110.05592367647318,105.9291861753517,98.269197083998208,null,113.6581377189223,100.38746875792424,109.98551190985897,110.97009062595467,103.73001227220612,101.21593979605052,97.305802449591908]
[null,"Septiembre",100.83664914393324,99.915743050860428,90.317322624385483,98.117772332902916,106.07950684600836,103.042104485251,100.39704286336178,null,2.8132135426141014,0.1867994605341261,-7.6904933010386927,0.84341436848911489,3.7663867615876923,1.1839343805566171,0.1720177527691602,null,114.79365999110915,99.751366616194474,98.804447315980042,108.82294469006845,110.30261240868487,105.53098019033203,97.363484912297054,null,113.8412084947942,99.835484949972013,109.39700651545117,110.9105334361282,103.98107578762318,102.41539681037597,96.978438941480263]
[null,"Octubre",101.22211662828133,99.939012330500134,89.471704847496284,98.172921689674794,106.39831288029447,100.21703137864323,99.975646527243242,null,{"$f":"(C99/C87-1)*100","v":2.8290782420150595},-0.8372601027135218,-9.4249518864137904,0.85997275247273741,4.1612652081045587,-0.99818176077293153,0.13146645829487102,null,115.74476851196422,99.710899826929435,97.946749841678411,109.28286620228091,110.50700636206476,105.4188626565206,97.010749467955904,null,114.34731101011701,99.7717482910314,109.47231866055058,111.31670966025105,103.8616152554908,105.1905661206663,97.034380709426657]
[null,"Noviembre",101.67808147892423,100.38502162134878,88.181902116767176,98.367453892190127,107.616621145747,99.94171125360468,100.70841522021273,null,3.7575474991452085,1.0845025440767042,-9.7053515437876889,1.0099902148968498,5.8221174694749189,-1.7432028090091256,0.66938558663138803,null,117.33589655509186,99.891548069887548,96.809358934235362,110.09210703309967,111.4345810914996,105.56325817061773,97.677577831997908,null,115.39940058705098,99.508419141131824,109.78370460419875,111.91924023342075,103.54774188699147,105.62482555731734,96.990482491867766]
[null,"Diciembre",102.12176177449584,100.13211977382058,88.274360038427901,98.223655961279874,107.54381273146888,98.192522380036834,100.91845548375325,null,4.5389896594268508,-9.4443950024380996E-2,-7.5620624390935864,1.0264498067629635,5.6731906508130203,-4.1960654678006026,0.80716211410567507,null,118.71642578430523,100.0055390313002,97.428699314408831,110.76964664612647,112.09191028438987,105.67875487624119,97.663020946585078,null,116.24988026200873,99.87358627500717,110.37032641414316,112.77288099497362,104.22906482242485,107.62403522666443,96.774193063535094]
[2003,"Enero",102.86760966282448,99.187619110020492,89.655589381256334,99.029151852392573,107.80796541373658,95.95171776577682,101.2585488462792,null,5.828770140363293,1.7991934638561524E-2,-5.3401554269259073,1.8177392372464185,5.9469002968146834,-5.9206208700422369,1.8378916908232679,null,119.83712561561428,99.740435254849075,99.805505978892825,111.9940034617303,112.97778257035451,105.5433939664115,97.679124378746323,null,116.49646181962608,100.55734390016498,111.32100816879853,113.09195460813642,104.79539441893522,109.9963569428204,96.465064423383353]
[null,"Febrero",103.53789342803871,99.482805962293497,89.677943463734067,98.794339041314117,107.22334495970968,96.01376245176219,101.71731691528066,null,5.9924224834617457,0.34979859091621712,-3.7719097613775898,1.8298478043739186,5.780648904387764,-6.6168703899262216,2.0329660507236502,null,120.80612709440966,99.580220811987488,99.885421936249145,112.44222767029835,113.36139740447588,109.02240393894232,97.469352856590916,null,116.67817751997514,100.0979212927819,111.38237350039478,113.81444398679253,105.72454855523547,113.54872588574551,95.823755298001203]
[null,"Marzo",104.50773940343515,99.846005562966525,90.683869555208545,99.53109382926641,108.37787083688993,118.77012500923119,102.26512137746174,null,6.0822815231535099,0.634030061896107,-2.4773211608521639,1.9219605508630888,5.7979331663659206,16.08533790030766,2.1593609205601938,null,122.02991221721689,99.65306179111208,100.85041603575975,113.05869007537711,114.19288755310365,136.43216518662243,97.516311748802238,null,116.76638774678709,99.806758647212234,111.21097559071605,113.59132681623659,105.36550189749103,114.87077678500253,95.356374133531233]
[null,"Abril",104.89211300095357,100.08919110796164,90.719056252026974,99.73837812859604,109.53876536069185,124.16700474091914,102.74739962740769,null,5.1125919911892526,0.68956310935053278,-1.3257126309770606,1.7820933572416431,6.3752094763367406,18.631172980951959,1.9558141672506801,null,123.71993192000576,99.994706743100366,101.43564879970648,113.99596343535352,115.27248696281826,143.20509588192897,97.968922210753178,null,117.94969934382105,99.905599831694758,111.8129453616754,114.29498411170742,105.23442233737643,115.33264910491623,95.349296007507064]
[null,"Mayo",106.79608634923436,100.82161591901475,91.597381100970608,101.07207524843905,110.8893843138119,133.03031744586275,104.32692797934625,null,6.2685428596063408,1.2664984608637964,-0.78558030448677707,2.7950980476163068,6.874944972722008,26.305973500903292,2.8799501379942249,null,126.78556368142817,100.74950195057448,102.82931303054671,115.84367661596937,117.73698823872066,155.46262894661203,99.365748452192577,null,118.71742496895077,99.928473703002155,112.26228500702963,114.61491844430934,106.17516633109834,116.86255579287648,95.244583902503251]
[null,"Junio",107.15584159618781,100.50928804240127,91.500972151198255,101.27172503591828,110.17776968386761,142.94326995213686,104.32666366455815,null,5.8197575913045085,1.4408379125016468,-0.92861711441519779,3.3349006256561342,4.9799654169983887,35.511477492258294,2.6312910312418669,null,128.02568785282372,100.70354290401009,102.99385265500661,116.35823474684945,118.22169389021214,175.50675826241394,99.463171650787856,null,119.47616289113105,100.19327055776863,112.56039169159564,114.89706006842522,107.30085953765891,122.78070756404318,95.338208044869617]
[null,"Julio",106.7408211790563,100.80612128891146,91.07506489299567,101.03009681782167,110.6618376961187,164.1419030664035,103.83836992154257,null,5.522699719931734,1.6381479011032152,-0.4052766733523061,2.9975871419066991,4.4509535078577356,55.752475840690252,2.1665161524868193,null,128.52046423304984,100.54972916857619,102.7440684702767,116.45756447105673,118.59743870441477,208.76301432150774,99.083092698004137,null,120.40423037167616,99.745658183196596,112.81251195482646,115.27017011678609,107.17103671284359,127.18447295999292,95.420500892751505]
[null,"Agosto",106.81836523807554,100.49876006410014,90.642986455159985,100.36436383414517,110.20145050223668,156.06432084721112,103.59328536742653,null,5.9380683695895664,0.71431371996166781,0.16798392090553449,2.3367686624378159,3.8671743523387425,49.120346087001245,2.5776953530073587,null,128.71561075633343,100.1946168384038,102.18399415921434,116.32485109636734,117.64069201813439,203.78641075412861,98.607719903351793,null,120.49951379564136,99.697366190883983,112.73237804202707,115.90254414265735,106.75058402770001,130.57847536698537,95.187366201977426]
[null,"Septiembre",108.32973472145888,100.91819890509592,91.597701953666046,101.05453817674487,111.78196759010683,145.41738033271616,104.65265137233119,null,7.4309148916978263,1.0033012052216961,1.4176453553715884,2.9931028538620064,5.3756478641784344,41.124233689860802,4.2387787404866151,null,130.2094863781841,100.32713758643648,103.25510228236617,117.22079474149993,119.16465313781843,192.00489124519703,99.046234394712585,null,120.19736475214602,99.414316421545252,112.72673885923135,115.99755622699517,106.60454070264997,132.03709955844909,94.642833311817213]
[null,"Octubre",108.83029112710774,100.80804815125784,92.880736318033044,101.64765273220294,113.16519108785904,156.69751395361624,105.59869898876947,null,7.5163163469165184,0.86956614888666905,3.8101782863614986,3.5393986271609501,6.3599487852573189,56.358167666707892,5.6244222036553104,null,132.31114935076994,100.57111675834338,105.11974510578,118.4448885944349,121.10465788913447,212.32344995629884,99.626025021714312,null,121.57566425714865,99.764967780589359,113.17712291366786,116.52496187638029,107.01582061140284,135.49892694478123,94.343989060234207]
[null,"Noviembre",108.14218712438051,100.5766675479137,92.206258059166188,101.27481660585889,112.45741993336345,167.94734003617245,105.47251798662272,null,6.3574229090820999,0.19091087840554799,4.5636982711827923,2.9556144828707387,4.4981887891280881,68.04529152998164,4.7305905429974482,null,133.4359071405388,100.56564889981696,104.87568798252948,118.92666865967787,121.41158130118768,241.63605618658715,99.678520884107641,null,123.38931797917729,99.98904452855183,113.74031458389047,117.42965590598541,107.96226818393131,143.87608409549307,94.506628633584015]
[null,"Diciembre",108.73576487172177,100.63425130364513,91.581817570512285,102.01697194567397,112.8583814947165,153.18352963385865,106.51139215416352,null,6.4765853842503329,0.50146899012901702,3.7467929879577477,3.8619169152993349,4.9417708264796412,56.003253527787813,5.5420355410717326,null,135.7510702845768,100.84229147109605,104.68758345114296,120.11095674364176,122.70101508830528,228.56971719906923,100.36429719683693,null,124.84491229240504,100.20672898616118,114.31044526992493,117.73624961893907,108.72122518791355,149.21298506791146,94.228697200362049]
[2004,"Enero",108.57288160078414,100.19706839079939,91.905220572203859,102.63961081638708,112.45243250572189,176.77124506737411,107.02556550098225,null,5.5462277743793198,1.0177170193582219,2.5091923509432013,3.6458546765866018,4.3080927036895256,84.229369920069601,5.6953380434653145,null,137.45926153630421,100.95739016100013,106.29508973453873,121.18879779330511,123.19150265032484,280.07614532572956,100.89220380513528,null,126.60552019033034,100.75882636329763,115.65729245057379,118.07215248516563,109.54987802870029,158.43987817078627,94.269255511861147]
[null,"Febrero",108.34907895487089,100.14931004751919,91.547032957613013,102.24233631069987,111.5946790735041,170.42088093362807,107.44855924792499,null,{"$f":"(C115/C103-1)*100","v":4.646787149649767},0.66996912559775801,2.0842243049817633,3.4900757501336699,4.0768492303956627,77.496305302324146,5.6344804468425158,null,138.32800849371171,100.84566446919681,106.16860710246441,121.53659306410628,123.25705688606064,298.87419055087025,100.80942424943716,null,127.66883653097551,100.69531624466231,115.97165268220249,118.87110315512932,110.4506576024784,175.37416126094868,93.821103749591643]
[null,"Marzo",108.7855441402708,99.956056216456517,91.177730564993311,102.49685577894095,111.64965645989757,158.18844598767558,107.99254323184573,null,4.0932898953271568,0.11022038675407853,0.54459631267069764,2.9797341067726579,3.0188687023864125,33.18875093831943,5.6005623200152677,null,138.69568735673323,100.67882988519914,105.84290952864221,121.54871431656021,123.22898622199841,282.09896192964976,100.5118381620055,null,127.49459356281341,100.72309142247214,116.08416756238,118.58774924638583,110.37112887692577,178.33095215539825,93.07294295886696]
[null,"Abril",108.47004286754897,99.212016429486681,90.118348178835788,101.79231702327786,110.91563360647183,150.16045109764966,108.11815611922358,null,3.4110570987952782,-0.87639301383581891,-0.66216305372749362,2.0593265433227703,1.2569689289871011,20.9342622148027,5.2271459047059432,null,139.09019371801188,100.45930855472891,104.86633990934939,121.59888753943153,123.06638546349869,268.63929081407474,100.31325047263412,null,128.22913132601292,101.25719864400573,116.36513765348526,119.45782461325081,110.95494968737923,178.90149426853947,92.781133228000229]
[null,"Mayo",108.41666146183529,98.613812233215825,88.518262035964369,101.30172378083935,109.96723538945258,154.99521406369587,107.28801522913326,null,1.5174480339115393,-2.1898118430995428,-3.361579805007775,0.22721264190510571,-0.83159351101605994,16.511196123975136,2.838277046145965,null,139.35474725323996,100.06427480860268,103.44022021875065,121.40293562228656,122.64162896695782,283.13829951895741,99.427184705444091,null,128.53628342198627,101.47085133668354,116.85749114315369,119.84291193794002,111.52560899855166,182.67551113068603,92.673151323658161]
[null,"Junio",108.72458201182823,98.92995146029385,88.184778405923979,101.69952856763396,110.86586677470758,156.68127359234285,107.57453446977482,null,1.4639803040809918,-1.5713339661118209,-3.6242169534488888,0.42243136627124755,0.62453350872351265,9.610808291153571,3.1131742271175877,null,140.92902355008809,100.26729742866863,103.23620456037932,122.33742054919465,123.77990370267892,291.1149076088011,99.841303004997627,null,129.6202026647077,101.35181100226409,117.06805463089334,120.29300653821196,111.64834344750506,185.80070287546354,92.811280566638203]
[null,"Julio",108.31149791667252,98.606062991106739,87.326911107876398,100.90235241737356,110.52314777885503,145.20126367483076,107.71964230217661,null,1.4714864662521476,-2.182464982954091,-4.1154555196013192,-0.12644192619003514,-0.12532768310292708,-11.53918593469111,3.7378017235503824,null,142.37416004957544,100.37255248257067,102.78098245708635,123.10463440153454,124.27477277848891,271.76866019631632,100.17092842384213,null,131.44879610021496,101.79146133399854,117.69680291350197,122.0037307874877,112.44230306139072,187.16686984551691,92.992258684670773]
[null,"Agosto",108.26301598009655,98.549398806818047,87.440279232367615,101.20321295783974,110.83985752208652,133.04180494666062,107.68141541567924,null,1.3524366702309942,-1.9396868737870498,-3.533320500617787,0.83580375707934529,0.5793090897990405,-14.751940594474389,3.9463272486752965,null,143.44987472572214,100.40454069908056,103.01592009036528,123.70991094743995,124.67239922141411,250.06219266764265,100.26867509384772,null,132.50127333612659,101.88244871579487,117.81289011738663,122.23911408719434,112.47975413228156,187.95760683485773,93.116044868823138]
[null,"Septiembre",108.76176465626317,98.661161886616412,86.995370066466435,101.91813535454101,110.74612504047533,121.00886926819645,108.47953694761077,null,0.39881011055287185,-2.2365014863196642,-5.0245058435283259,0.85458525008119679,-0.92666337152860212,-16.785140131580444,3.6567497575043406,null,144.83274435919691,100.47748295815661,102.99605381295925,124.41998851696445,124.90373564722772,224.24710346504625,100.53049124748652,null,133.16512913976206,101.84096866163766,118.39256932210063,122.07836032728288,112.78384286725884,185.31460117029857,92.672308599581172]
[null,"Octubre",109.90170378882742,98.981756321870677,86.104440054994157,102.44168778122905,110.67256921716475,105.05919863525949,109.27486162219736,null,0.98448019446013557,-1.8116528024100687,-7.2956961062799479,0.78116417613502964,-2.2026400934180179,-32.954138209009564,3.4812575047149519,null,146.76947746240549,100.71678079770618,102.46965685382617,125.54702304238545,125.91066577883576,196.35345010018321,100.91943754520926,null,133.5461347755066,101.75287299428545,119.00624031510996,122.55462181616859,113.76862999518012,186.89791341534558,92.35375460288769]
[null,"Noviembre",110.43243686521053,99.485120854928525,85.425990645462875,102.87223182787905,111.17083214538862,98.470372174771853,110.52675242846661,null,2.1178134100393819,-1.0852881882024712,-7.3533701035266024,1.5773074447885449,-1.1440666064873262,-41.368304997528796,4.7919918271837725,null,149.44683718172033,101.17048261211954,102.61757362892001,127.05874908058227,127.40623699999179,180.86727824166772,102.00756725938058,null,135.3287507040429,101.69408424366159,120.1245345281462,123.51122049453632,114.60401486729054,183.67685045472589,92.29219624941058]
[null,"Diciembre",110.85174950884645,99.454573416564443,85.454392267610913,103.29188888234835,112.1190253922847,97.81535775310428,110.94630972337104,null,1.9459877250332047,-1.1722429210718976,-6.6906570162615919,1.2497106239864664,-0.65511847028074666,-36.144990269578024,4.1637964536117122,null,151.89558264684422,101.55566828590052,103.44292931621992,128.30911168691793,128.54287688521268,177.39036393516031,102.96093279268743,null,137.0258776427541,102.1126176475924,121.05045343049858,124.21992963364697,114.64858567532478,181.35226206799885,92.802485318714957]
[2005,"Enero",107.54599487293409,97.9135096886653,83.619374121935849,103.15230284873974,111.70503302399219,99.173876904786255,108.63430387200923,null,-0.94580406516781013,-2.2790673807216666,-9.0156428532352724,0.49950699176930513,-0.66463611775732234,-43.897053580752122,1.5031346608602725,null,151.4134613721435,101.41039899781991,102.85217832776934,129.65084368406536,128.16041732557755,182.82710288956773,102.85695692795763,null,140.78949341724808,103.57140635676696,123.00041636019392,125.68875352611614,114.73110374359862,184.35006132219107,94.681839218246978]
[null,"Febrero",107.7518086005115,98.436031237056767,83.092494488189047,102.84274116695023,112.20865535453014,96.456491349553517,108.782817457297,null,-0.55124636048652365,-1.7107245268584537,-9.2351856704503845,0.58723702716048098,0.55018418989460915,-43.401013525379348,1.241764634827125,null,152.48603586399662,101.48452281605785,102.3823068134195,130.10432817558879,129.60318298806371,176.86032484905917,102.93984860073392,null,141.51598738294661,103.09692654274085,123.21486729222258,126.5080322629512,115.50194820406188,183.35761790062028,94.628775947215416]
[null,"Marzo",108.35240903023264,99.059880504843889,82.233742767404522,103.0980822336568,112.23449321940019,95.371485905194447,108.70211423035408,null,-0.39815502460480712,-0.89656969826015231,-9.8093994467358883,0.58658038839018989,0.5238142042225391,-39.710207461912347,0.6570555496456798,null,153.64097835974096,101.48168204222179,101.1508522169686,130.55544307330766,130.1871676764072,173.51077601710841,102.92136128613933,null,141.79747338785225,102.44478544193225,123.00407206695007,126.63227117786997,115.99568362812708,181.93150119270408,94.682023449916926]
[null,"Abril",108.33635248699649,99.127170252384104,81.929771381786594,102.695050092843,111.01979693926639,95.38634748379576,108.79566759771244,null,-0.12325097051517631,-8.5520061133803615E-2,-9.0864701390213405,0.88683811898957465,9.3912219051217605E-2,-36.477050523932022,0.62663987512121544,null,154.27646160582759,101.44943280246592,100.90490059901656,130.50124482971418,130.3434283361438,173.04880344109185,102.78520627098942,null,142.40507277955962,102.34271042355914,123.16023698980834,127.07647029894096,117.40557263624653,181.41883823624696,94.475458941115591]
[null,"Mayo",107.48557145955832,98.421053423381366,81.399622177963948,102.36990343041813,110.76558395590983,97.188505661531408,109.23494985637909,null,-0.85880711481300942,-0.19546836844578364,-8.0420013839722309,1.0544535766140894,0.72598766680809224,-37.295802164838832,1.8146804403900818,null,155.21156809875137,101.52504412206768,100.82221699165832,130.62621648258849,131.1909230582331,175.84140478460537,102.91353476918523,null,144.40223556624071,103.15378731553886,123.86079234032657,127.60216831832459,118.44014934318727,180.92819062059712,94.213010492058473]
[null,"Junio",107.09900162847313,98.237331285293308,80.841695211099122,101.08051650200599,109.64835872553719,97.579490140779512,108.582582245572,null,{"$f":"(C131/C119-1)*100","v":-1.495136015494869},-0.70011171013111273,-8.326928215461237,-0.60866758611993754,-1.0981811486167392,-37.721025682581441,0.93706915002305102,null,155.379358563712,101.35309774400805,100.82145455588498,129.86738186738737,130.8926397817502,176.57732735394083,102.42019133542153,null,145.08011858291979,103.17167253827995,124.71467142371692,128.4791435200176,119.37491933590174,180.95741953477096,94.324696666161884]
[null,"Julio",106.66632305113679,98.466293907904159,80.02249972647877,100.45658263388034,109.90205865459504,97.372547654151845,108.27851731104359,null,-1.5189291046472486,-0.14174491807383838,-8.364444921651204,-0.44178334083762039,-0.56195388635033039,-32.93960039341556,0.51882367683622199,null,156.25879011553673,101.35936509061581,100.37758938981499,129.80183287219307,131.91029336225355,176.5846721227249,102.22696767697528,null,146.49308764550258,102.93813351543173,125.43670809198788,129.21187389507679,120.02531615611218,181.34954499693174,94.411126247061091]
[null,"Agosto",106.95439382530313,98.858044870406331,80.359476626673285,100.52908978105582,110.67365839627485,97.001757358503269,109.22430105300465,null,-1.2087434872810165,0.3131891897111494,-8.0978728200049481,-0.66610847331967094,-0.14994527196912077,-27.089265364827696,1.4328244399179457,null,158.0215755846441,101.58064713709818,100.77023382560522,130.4391619132688,133.24633536328236,177.48159016863104,102.74468241662289,null,147.74668896983601,102.75405230829817,125.39931574436996,129.75265388093604,120.39570869355781,182.96739667580141,94.067603478426179]
[null,"Septiembre",108.46477752739767,99.48297472061779,80.733518898439485,101.11829993029488,111.26665924066374,99.614811453276758,109.26413947180068,null,-0.27306207269081062,0.83296488535764546,-7.1979131340469626,-0.78478223867003427,0.4700247525573964,-17.679743595903908,0.7232723758480164,null,159.01331062143515,101.57253476798331,101.11821701300335,130.45086660730695,133.71969575474836,186.23999898837309,102.75072817057027,null,146.60363875385184,102.10041974843807,125.24936159441687,129.00816835056784,120.1794829352429,186.96014806565881,94.038838970665736]
[null,"Octubre",107.65263356855728,97.657220103152468,79.765317385089404,100.89829220372387,110.36205260635535,104.95785239932179,108.39334364013425,null,-2.0464379920730358,-1.3381619683642043,-7.3621321570130576,-1.5066088922716769,-0.2805723342340527,-9.6465837598425086E-2,-0.80669787083404998,null,159.43273023215352,101.39214105286749,101.47058167376377,129.97193299724765,133.57905230747326,197.98083024640607,102.30408073781152,null,148.09923821382475,103.82452106026562,127.21140590952096,128.81479969435077,121.0371220476747,188.62888837813662,94.382253837893344]
[null,"Noviembre",105.77745653514108,98.267168651835433,78.600332207308256,99.963859341828055,110.55968584272925,107.86129233498373,108.22617635486652,null,-4.2152292045779411,-1.224255640066152,-7.9901425626805356,-2.8271696203861385,-0.54973619506608618,9.5367976710235567,-2.0814653674810835,null,160.04069952411996,101.34726057976961,100.55420009648361,129.66932380008694,133.92980223040936,202.95475749623662,102.05308197259386,null,151.29944013255005,103.13440589587664,127.93101157800717,129.71620409000073,121.13800903968199,188.16273484460214,94.296117085360663]
[null,"Diciembre",105.34724974715817,98.17210337387084,78.681195033271834,99.506092143696918,110.42215984392013,106.21813981227761,107.74158155166151,null,-4.9656408546344117,-1.2895033366861819,-7.9260960783946395,-3.6651442621632446,-1.5134501414256318,8.5904527184604174,-2.8885396726579415,null,161.21234539805639,101.3756566823881,100.75554238469557,129.80360909840428,134.26499912054021,202.24732212503852,102.09761551363528,null,153.02947707223387,103.26320125414559,128.05542968950735,130.4479015324556,121.59244060279342,190.40751653387647,94.761571199583713]
[2006,"Enero",105.97406930340786,99.187368845122293,78.965312996548093,100.32851752564918,111.17460058371707,110.07817183719955,109.56307539379651,null,-1.4616309713657571,1.3010044890714889,-5.5657689073360999,-2.7374913066471218,-0.47485097664416998,10.995128226036943,0.85495233888692734,null,163.29464770855677,101.95913558801288,101.34403052899583,130.45834914078964,135.97955004189419,211.50096182826044,103.19265418984142,null,154.08924917381239,102.79447552159449,128.33993393203673,130.03117394557108,122.31170548663084,192.1370588721808,94.185613007796448]
[null,"Febrero",105.85232891100527,99.007004234036401,79.07888122428713,99.761827536269976,110.46172493054324,109.27143659678727,110.06170679356585,null,-1.7628285911640895,0.58004471513546374,-4.8302957910024258,-2.9957521510233232,-1.5568588879951939,13.285726100893536,1.1756354230950894,null,164.17817170354775,102.05976569400697,101.25328601459356,130.34928016072283,136.77253209777527,209.19781996387005,103.23629858676044,null,155.10114268867866,103.08337928572642,128.04086811422428,130.66047743896061,123.8189356392686,191.44785360131408,93.798562274154733]
[null,"Marzo",106.68179302726165,98.97707193412613,78.998428945049852,99.976930496507478,110.19302960015661,104.50344258677102,110.06971536059275,null,-1.5418355880807866,-8.3594458519165027E-2,-3.9342898832972373,-3.0273615857137726,-1.8189271058166145,9.5751435504049187,1.258118243533457,null,165.09590200739814,101.93519002564283,101.20664611368781,130.30782610985256,136.88094990867165,199.27366503492462,103.1974871418484,null,154.75546231699465,102.98869024281248,128.11222636349601,130.33789441495671,124.21924545078224,190.68622057064221,93.756476796337054]
[null,"Abril",107.67086490641637,99.010256888185268,78.635775226883283,100.31142587124808,109.64812018057337,103.20936543685455,109.60036398586601,null,-0.61427910881529657,-0.11794280407799729,-4.0205118351344327,-2.321070216568355,-1.2355244708683766,8.2014021497025738,0.73964010325213714,null,166.25737454527382,101.9411870132617,100.92515906497603,130.5490555781374,137.34607225284395,196.538578573942,103.28784277905498,null,154.41259312793554,102.96022878557562,128.34509327819617,130.14375425756583,125.26076327314719,190.42707775796569,94.240419486540134]
[null,"Mayo",107.51550707030148,99.552205654274644,78.659685550545646,100.72100483216042,110.23474456447317,104.64774242166384,110.70034103202738,null,2.7850817869468081E-2,1.1492990488806809,-3.3660311363951756,-1.6107259487437964,-0.47924578418505615,7.6750194988180587,1.3415039578220878,null,168.0962438711756,102.26175264206272,101.2600802555495,131.49202761189241,138.98377223966148,199.60599656341842,103.88653987667,null,156.34604574878861,102.72173476215866,128.73186505491577,130.55075039313621,126.0798242775206,190.74085302206828,93.844823699878177]
[null,"Junio",106.47181255596662,98.356666738972706,78.056504334888444,99.964660000485239,109.57348596637561,104.3336036334548,109.58641081585786,null,-0.5856161709912433,0.12147668520516852,-3.4452405642135586,-1.1039283732771632,-6.8284432190179878E-2,6.9216527806519768,0.92448397295947782,null,167.91570216100214,101.74423051106767,100.98674912734479,130.73649516379149,138.55570942696335,200.22865680463474,102.93976156777327,null,157.70906696336903,103.44416284570232,129.37646899235705,130.78271377420467,126.4500332402324,191.91195341826665,93.93478698809362]
[null,"Julio",106.5640388231638,97.720367351093941,77.898158675667361,99.941272766107915,110.00633945179034,103.84555301744354,110.17565440869818,null,-9.5891772630007921E-2,-0.75754507172565155,-2.6546796939267314,-0.51296774612621387,9.4885208222561523E-2,6.6476697172210608,1.7520900218875646,null,169.36784547021986,102.12267648576081,101.02632942430616,131.17202708824652,139.65504976139783,200.60809321131958,103.31753365794837,null,158.93527248087412,104.50500673912741,129.69026629362835,131.24910605774232,126.95181973817142,193.17928152168662,93.775284759998328]
[null,"Agosto",106.84631030251272,98.728015663622671,78.034180864675378,100.16300750970873,111.11113079921188,103.88769444907629,110.90552249202463,null,-0.10105571068632635,-0.13153123446262294,-2.8936173549269806,-0.3641555614841252,0.39528141499636238,7.0987756078724207,1.5392375348816545,null,170.90206696154092,102.38205091854024,101.27601785226345,131.64128789762873,140.92092593200022,200.60538634969336,103.82699582315294,null,159.95130433392399,103.70111283039182,129.78417499876545,131.42705193318884,126.82881086563449,193.09831391823425,93.617516504301477]
[null,"Septiembre",107.18531361895653,98.380704316475331,78.349912033348602,99.733695491707792,111.39670875622319,105.64609537941293,110.93359879305235,null,-1.1796123475364739,-1.1079990392708017,-2.9524377205574215,-1.3692916510083308,0.11688093850121817,6.0546055733539994,1.527911471524046,null,171.4635369770202,102.23924107483344,101.47519184560478,131.36791087726729,140.78010335200045,202.30737907707939,103.61916342565367,null,159.96924502788934,103.92204628454968,129.515387078435,131.71868367014403,126.37725559745117,191.49536795517261,93.406474281030199]
[null,"Octubre",106.53310677117445,98.463831209697958,78.209821766538141,99.244197231354562,111.18944178221089,106.83022854589245,110.31003001572461,null,{"$f":"(C147/C135-1)*100","v":-1.0399437155152125},0.82596156811907129,-1.9500901764631262,-1.6393686515818517,0.74970441045230096,1.7839314579789933,1.7682694446199188,null,171.22841985789438,102.27558312262359,101.59856463050592,131.27743854179312,141.4172964977744,205.56355637771887,103.62234488995956,null,160.72789487467111,103.87122039239745,129.90512231799332,132.27719323051582,127.1859038331818,192.42077750438611,93.937373487422946]
[null,"Noviembre",105.27065152482163,98.004162735435088,77.928380455257397,99.095606172992831,111.30097262343841,106.68508192943634,110.76865110658107,null,-0.47912383878420117,-0.2676437308702595,-0.85489683463243482,-0.86856707469268324,0.6704856069902787,-1.0904842507305168,2.3492234848784932,null,170.98387586705829,102.4977071395035,101.86662338715189,131.84162241369111,142.60996445251874,206.75547451577049,104.20832879789081,null,162.42311925536268,104.58505463303518,130.71826052594361,133.04487202342051,128.13002536375598,193.79979916266336,94.077455811592458]
[null,"Diciembre",105.14329694318042,97.671625160823893,77.37745018960625,99.027331249915832,110.82280615588959,104.97147588773176,110.99413999977249,null,-0.19360050164314302,-0.50979677102461762,-1.6569967488600956,-0.48113726855005812,0.36283143939204177,-1.1736826936991407,3.0188515903225355,null,171.948077155958,102.77004040869598,102.15280982172857,132.47308039010707,143.75342385510487,204.45285573139353,104.69841898854393,null,163.53688932626773,105.21995537545028,132.01883697564676,133.77426082076676,129.71465787727232,194.76991630570032,94.327879822086601]
[2007,"Enero",104.86450566022963,97.240912489202728,77.234628558311414,97.415306188168955,110.03187280220867,109.61612294573179,111.21659129071699,null,-1.0470142842222141,-1.9624034578020644,-2.1917021190207109,-2.9036722652016178,-1.0278676743685655,-0.41974615289860351,1.5091908391374975,null,173.11771817791103,103.11246203979236,102.80276741883496,130.8176597411271,143.0965990217239,207.63997776330774,104.95360740035471,null,165.08704931945982,106.03814731915602,133.10450161771652,134.28860911080812,130.05013490859309,189.42466872880109,94.368660451037357]
[null,"Febrero",105.46620697377362,98.104093935498085,77.627487322071872,97.143848818042656,109.95804496124808,108.8917082049756,111.68858853726121,null,-0.36477415395960167,-0.91196608313083294,-1.8353748557705885,-2.6242289088735049,-0.45597691835056464,-0.34750928846379869,1.4781542019394411,null,173.84762911905429,103.27362302101319,103.16101072090945,131.02663545738093,144.03872029805896,205.80703777425276,105.18025974545149,null,164.83728210903149,105.26943257731322,132.89237392536035,134.87898312820931,130.99425362539117,189.0015696942192,94.172789828355263]
[null,"Marzo",105.66374881293694,98.291032911747564,77.536112817186023,97.396424370987688,109.82139621348173,107.23905453487296,111.91718104180556,null,-0.95428112467564885,-0.69312923586500874,-1.851069885049228,-2.5811015728372855,-0.33725671035942373,2.6177242398790046,1.6784504939986844,null,174.30632878920474,103.38348434926026,103.21246574274359,131.31854626895191,144.64586399182119,202.71319835566729,105.54933787447483,null,164.96322603297938,105.18099290103609,133.11534714939481,134.82891914876998,131.71009382419817,189.02926665559809,94.310218406097917]
[null,"Abril",105.74648221679469,99.165876184513763,77.808695644000366,97.853647691065902,110.00558026964646,105.64564287486731,112.4465753342611,null,-1.7872826518987139,0.15717492431541746,-1.0517853744006378,-2.4501477860924714,0.32600658222357026,2.3605197335539341,2.5968995401896011,null,175.19235851977101,103.86216913241293,103.3222750044869,131.97288918431559,145.76385063239042,200.17463523185233,106.1867936112636,null,165.67204397457195,104.73579534472219,132.79013887756105,134.86762353608694,132.50586949779552,189.4774169427418,94.43310593996344]
[null,"Mayo",105.45796098433033,100.35831973159983,78.456276615623381,98.161714105408564,110.25432654878954,105.22142540029807,112.88789773449793,null,-1.9137203014126913,0.80974004747285111,-0.25859362836069266,-2.540970208762916,1.7763895034850208E-2,0.54820387459737496,1.9761065612595052,null,175.8029391401839,104.23500806272703,103.50311794721465,132.33832627176579,146.77887910794286,200.49964646795974,106.76071620832292,null,166.70428434161167,103.86284698816708,131.92458578464272,134.81664157744586,133.1275458319457,190.55020943233842,94.57233091488196]
[null,"Junio",105.11168680679282,100.00198786324067,78.69172885428209,97.962279473617741,109.61452685957437,106.13758037449088,112.78682423123418,null,-1.2774514836580431,1.672810983554851,0.81380088028066844,-2.0030884183048103,3.74551314460847E-2,1.7290467099879248,2.9204473360790129,null,175.91415279883341,104.3668465941637,104.10997695577035,132.3705157818888,147.17325973808232,202.68217815916651,106.98719443407106,null,167.35927102205443,104.3647719652256,132.30104163622667,135.12396454345222,134.26437531096943,190.96174742634247,94.85788358995481]
[null,"Julio",104.83543551569014,99.788800916610299,78.545087859076133,97.800478747671775,109.98459890553562,108.12062251318548,112.93509420369253,null,-1.6221263069262637,2.1166862360277428,0.83048071277562752,-2.1420519863162291,-1.9762993990224409E-2,4.1167574070541502,2.5045821690862669,null,176.92576534515888,104.80150820574497,104.5512386660961,133.01093485774877,148.66067221109108,206.94188002569888,107.53739577404539,null,168.76523140754193,105.02331648751205,133.10983731239773,136.00233512242926,135.16499008990692,191.39908300145237,95.220530458041935]
[null,"Agosto",103.87520232261667,99.564653972746413,77.342057954642556,96.76171774462486,110.20779567888891,108.06634467860941,112.23263484615961,null,-2.7807305385501691,0.84741732475841491,-0.88694838897980244,-3.3957544303511389,-0.81300146423257669,4.0222764127096911,1.1966152129443408,null,176.34300965100013,104.35726112979347,103.85091390021579,132.55735592785643,149.12656977999487,205.55768269245061,106.98678337241239,null,169.76429957104892,104.81356281151636,134.27482620273619,136.99359521262738,135.31399377091535,190.21433851934347,95.325912573523865]
[null,"Septiembre",104.0943320208016,99.618184199907304,77.765792105129776,97.153567446650342,110.58372245358868,108.68407380514729,112.50819975583052,null,-2.8837734329381748,1.2578481644644368,-0.74552722914379421,-2.5870173889946502,-0.7298117796402992,2.8756182751704218,1.4194085289846115,null,177.2941847964232,104.7980771414406,104.77184875979313,133.19398895471301,150.79031442477878,208.58310424188576,107.51076793395924,null,170.32069023796006,105.19974639483351,134.72742439008977,137.09634391743097,136.35850835828444,191.91689908113037,95.558162131545174]
[null,"Octubre",104.71077399378055,99.925778919894469,78.539336438322465,96.978064787408556,110.51247955023565,109.68157456192773,113.36666640204028,null,-1.7105788356554186,1.4847560695490314,0.42132134345984618,-2.2833903715934967,-0.60883679342613739,2.6690441973644008,2.7709505526196887,null,178.87130772441023,105.58605791488959,105.90516821793608,134.21188127856422,153.36825773293299,210.98493008894513,108.63298322929144,null,170.82416727722264,105.664483235635,134.84347210025669,138.39406011326184,138.77913006486872,192.36132498245647,95.824448823465062]
[null,"Noviembre",103.75707201630412,99.586032280163494,77.002697942791002,96.443388326662301,107.76343179885467,108.53616666920753,113.49829703236924,null,-1.4377981769787218,1.6140840353880748,-1.1878631469800394,-2.6764232530153809,-3.1783557153199471,1.7350923918261874,2.4642765787241672,null,178.4707287643655,106.06470785809657,105.22673267719082,135.05465426361488,155.15146104385056,211.34415713467214,109.37436359820052,null,172.00825475907905,106.50560668960757,136.65330629761678,140.03516115192139,143.97412782236538,194.72233414949966,96.366523954987102]
[null,"Diciembre",99.005881910917907,100.04641305127231,76.128018365957146,96.244041033006297,106.7736575000397,107.68214196237984,113.01843825717233,null,-5.8371909676554807,2.4313999961996569,-1.6147234376261865,-2.8106283202617321,-3.6537142455625338,2.5822882375657663,1.8237884066708343,null,172.76898109880281,105.94541603778997,104.8384673916369,134.82213417669075,155.19526854438664,211.819052902039,109.1720090462356,null,174.5037544882984,105.89626634939377,137.71338022706036,140.08361736437723,145.3497727605041,196.70768898341632,96.596635672681813]
[2008,"Enero",98.828242595536835,99.554673976707136,76.823661096285832,95.999833141127439,106.39782487550954,114.16815279485421,112.56679867930158,null,-5.7562499595914973,2.3794115339686117,-0.53210259400070514,-1.4530294082403916,-3.302722960311355,4.1527010140433696,1.2140341408730881,null,173.13840774517934,106.09321499672109,106.28294652876933,134.92761885212187,155.49978696382556,214.94573379553938,110.11282431467062,null,175.191223882998,106.56778909400455,138.34663046787256,140.54984726251291,146.14940403694118,188.27118468122174,97.819983873200258]
[null,"Febrero",98.579853089662677,99.63932655094149,77.193315495167141,95.696237544877022,105.89517828599588,115.50016972251642,112.7114833281243,null,{"$f":"(C163/C151-1)*100","v":-6.5294411183511869},1.5649016813231054,-0.55930166218490784,-1.4901728630055788,-3.6949244383928881,6.0688381388059209,0.91584539142226529,null,173.52518451016252,106.51135038991477,107.00052576793276,135.37222706117888,157.16015292846001,216.24586477874166,110.69928996836245,null,176.02499808184314,106.896899122918,138.61371944133137,141.4603442457136,148.4110565487793,187.22558183097215,98.214739705000611]
[null,"Marzo",99.837130892055143,100.32377720704842,76.509951981978872,96.586211150593968,106.36279095415557,115.68864769747434,113.47123790627386,null,-5.5143017225302344,2.0680872253382443,-1.32346180111792,-0.83187162734802422,-3.1493000258373871,7.8792126611426427,1.3885775624457475,null,175.34005809589374,107.31402372485299,106.5457980876579,136.80388221884854,159.37198602994539,218.44633848636158,112.01697738063643,null,175.6260987562564,106.96768673629391,139.257436879262,141.63914350625944,149.83810090000156,188.82262247338087,98.718388419417238]
[null,"Abril",99.689344180243651,100.41643539915047,75.157224826357208,96.530907174591505,106.32861747537707,114.91295396958481,113.9664628274509,null,-5.7279806472740002,1.2610781679676331,-3.4076793033191111,-1.3517539179023985,-3.3425238840215088,8.7720712776524259,1.3516529860262416,null,175.78548584841002,107.78066273204325,105.63593089778426,137.41170658559335,160.8641349295311,219.89341439284794,112.46756441557608,null,176.33327543070249,107.33368726306638,140.55326170151289,142.34995879305515,151.2895951711053,191.35650663984271,98.684789915657717]
[null,"Mayo",101.46658088467531,99.939303638649037,73.372885933418431,95.369700862530493,104.40213838031089,115.19233187823264,113.39553915033345,null,-3.7848068200826313,-0.41752003627743006,-6.479265778963395,-2.844299601247724,-5.3078988840305925,9.4761180434515637,0.44968630475292759,null,181.27611960197709,107.75712203249388,103.96848011654785,137.28606652589917,161.55399160055222,219.64727564647001,112.11609225545563,null,178.65598507553096,107.82256640701817,141.69877440951842,143.9514492383577,154.74203316799068,190.67873014208485,98.871695567158426]
[null,"Junio",102.69859086238117,99.697429541248766,73.458094192436391,95.011180778955335,103.60501346834191,114.06541938756375,113.09097616319461,null,-2.2957446671436177,-0.30455226790931933,-6.6508065562228431,-3.0124847140344135,-5.4824059943543446,7.4693986664295942,0.26966973672106764,null,184.82531626009578,108.01387066343796,105.0164163344222,137.36893038144137,162.71136235739249,220.90062786341358,112.33229891767064,null,179.96869743594303,108.34168058339793,142.96098678971066,144.5818578984213,157.04969953708991,193.66134718959159,99.329144312602651]
[null,"Julio",104.43156287281994,99.215871349635449,72.675835011880508,93.729601269795111,103.7053092813091,113.35080228820833,113.45267969902719,null,-0.38524439840740277,-0.57414214993286583,-7.4724632783225164,-4.1624310330623748,-5.7092444639632927,4.8373563280076581,0.45830350519842078,null,191.29712020824215,108.40738110065773,104.74008159174019,137.82255266722046,164.27045646369294,222.04733192320373,112.72206460933222,null,183.17940950592671,109.26415262597608,144.11954341442112,147.04271734871293,158.40120202341419,195.89392173742286,99.35601777619253]
[null,"Agosto",104.08310757348337,98.321782351121797,71.288263457164433,91.807596488331541,102.78894504217509,113.36840951145037,111.38543764037877,null,0.20014906947760647,-1.2483060725192896,-7.8272994766035104,-5.1199186742099005,-6.7316931538400793,4.9063053336442231,-0.75485816308431541,null,194.4470952329105,107.72539392925835,103.44267211711309,136.55779136602348,163.75365300035898,222.74136062113624,111.31868040213777,null,186.81907157280978,109.56411829939661,145.10477195067253,148.74345543223055,159.3105687904177,196.47568628775642,99.940066457828593]
[null,"Septiembre",101.92013870045065,97.299930702591752,70.67062683660302,90.389728357945941,100.39657231215449,110.96068603429978,108.38213305159788,null,-2.0886759904626406,-2.327138881254287,-9.1237613306053174,-6.9620079493412419,-9.2121606285316293,2.0947063810232924,-3.6673475472784989,null,192.2182749451338,106.15406328081779,102.35994651956484,134.65112716266643,160.10905517347373,220.6000513255681,109.12662946197153,null,188.59695188413619,109.0998344133355,144.84086402152684,148.96728821824098,159.47661507373013,198.80919919454806,100.68691802736454]
[null,"Octubre",97.554069514676385,93.950650064143446,67.687722991844922,86.558758820332727,95.793494568527933,108.9877252124699,104.08291559684264,null,-6.8347355349787087,-5.9795669549306041,-13.816787788880037,-10.743982146804655,-13.318844208012647,-0.63260338140576078,-8.1891362777432484,null,186.88126180789371,102.6173115384952,99.05235357538362,130.54799345457513,153.27627683174848,215.83415458688577,105.32403438085527,null,191.56685388688845,109.22469559117974,146.33725171596853,150.82008479990969,160.00697909825081,198.03528715377848,101.19243276083849]
[null,"Noviembre",94.071498047816704,92.550504010304053,67.152701827781343,84.825620116660772,94.074535570210386,110.9436061241927,102.48711320212124,null,-9.3348566803865154,-7.0647741543377496,-12.791754546480561,-12.046204941132011,-12.70272856027379,2.218098841027305,-9.7016291152876573,null,184.58753921077653,101.70563350675268,99.383927758108129,129.33359133957515,151.85613059292342,215.43705132207415,104.27935783266351,null,196.22047383252084,109.89203634745127,147.99691606301474,152.46996268545107,161.42107922455705,194.18609043671182,101.74875120836673]
[null,"Diciembre",94.131257197997769,92.461220228249232,67.930533174543811,84.843837332727205,94.562953859221608,112.59109796162714,103.50144411974037,null,-4.9235708210812801,-7.5816739368114838,-10.768026499792727,-11.845100826937916,-11.436063844505428,4.5587466127506193,-8.4207446892657796,null,184.97097282122044,101.98604257127153,100.71227745999897,130.32947884919969,152.86260597369943,217.14164133796561,105.44606424028022,null,196.50324273492748,110.30142401269352,148.25774619083916,153.61101400693852,161.65168254078662,192.85862316750033,101.87883380476327]
[2009,"Enero",94.144027626999332,92.765857301545722,69.240048863346288,84.177795329751717,95.12769782738124,116.66533482820412,103.72862471212468,null,-4.7397533797176372,-6.8191842773246307,-9.8714538264906828,-12.314644124429242,-10.592441209503001,2.1872842576660112,-7.8514926877831126,null,185.17521090047572,101.33278381061739,102.06545659161372,128.78431319453097,154.28356323186097,218.01342034084064,105.43622547308618,null,196.69352965664896,109.23499955508839,147.40812328577698,152.99083646707672,162.18574269696296,186.87077927807516,101.64621941696474]
[null,"Febrero",93.893595593748046,92.160461967725254,69.65197023824669,82.880763377868405,93.667644232171696,115.89981104671885,102.06905613495465,null,-4.753767985079338,-7.5059365032867813,-9.7694278430009884,-13.391826571027687,-11.546827959249228,0.34600929605779207,-9.4421853735945795,null,184.80536663375622,100.13728633410004,101.65049958786574,127.24635394683197,152.2477917266296,216.38209070155909,103.68100569108275,null,196.82425139341623,108.65536499715928,145.94059470273001,153.52941836055828,162.54043002219285,186.69753535174976,101.5792735008706]
[null,"Marzo",94.601285467318036,91.993748625301464,71.145628144898538,83.158261112850298,94.43016561088848,116.45337714009587,101.55806715699777,null,-5.2443869109160879,-8.3031448911213062,-7.0112759165550713,-13.902553871594847,-11.218796757984927,0.66102375457037787,-10.498846200229394,null,185.80702721628782,100.17128795854077,103.28235347700098,127.33287174978058,152.2746156921686,217.26467431867826,103.57743193499176,null,196.41067909217645,108.88923373103007,145.1703445033211,153.12113318120365,161.25632599188225,186.5679464643643,101.98838441349251]
[null,"Abril",96.304067372024093,93.458796603297543,72.645737818423584,84.076805003667104,96.702366173132233,118.20770706778453,102.68884803347785,null,-3.395826139751501,-6.9287848828696763,-3.3416441516250117,-12.901673189913332,-9.0533024230038848,2.8671729203582963,-9.8955556873321022,null,189.38631897291381,101.60648141367463,105.30231149110394,128.85752450181269,155.46584879266422,220.35367620345667,104.93226987858566,null,196.65453821520495,108.71794320759487,144.95318604142301,153.26168078840823,160.76736789906883,186.41227519716458,102.18467914293521]
[null,"Mayo",98.498219870344045,94.260366219719103,73.567708690459398,85.048226011673904,98.803286827747797,119.93543119069982,104.66553263296352,null,-2.9254568237645051,-5.6823864207252157,0.26552418453018589,-10.822593294839367,-5.3627747854817613,4.1175477873657496,-7.6987212925511805,null,193.24634471921414,102.61037653708274,106.6452146009748,130.1333068991427,158.89156884140718,223.47112290338629,106.47707450932052,null,196.19272812604098,108.85845308292133,144.9619901167386,153.0111949440078,160.81607600607094,186.32619292297582,101.73079124596789]
[null,"Junio",99.731034630194912,95.139644882995199,74.513534318562662,85.483872344883949,100.05994896223585,118.71100161361657,105.33338457854197,null,{"$f":"(C179/C167-1)*100","v":-2.8895783352693272},-4.5716170208458866,1.4367921435061382,-10.027565551718364,-3.4217113510528252,4.072734971734393,-6.8596026383733193,null,195.17444785364953,103.04724512871655,107.44372383086487,130.74577333190723,160.34936361737377,224.78732300065141,107.23037299931633,null,195.70081527516595,108.31157216893787,144.19356807250344,152.9478833205105,160.25329343101311,189.3567739680056,101.8009374979875]
[null,"Julio",99.841538379870101,95.565428883174405,74.747737881265181,84.888652467990042,101.26793488278602,118.81856069236325,105.02205673019556,null,-4.3952463859414976,-3.6792928558747717,2.8508827852421259,-9.4323977505856647,-2.3502889248529168,4.8237491872818561,-7.4309597544957029,null,197.50831214396848,103.2172273466,108.24712499429351,130.97983861188834,161.45494071375694,225.60336661887996,107.59533574034333,null,197.82178374746459,108.00686875248546,144.81658985619234,154.29605112565361,159.43342865699316,189.87215911746017,102.45022720965997]
[null,"Agosto",100.8846461067065,96.61256601159333,76.177965876416167,85.498133250568401,102.77317544955986,118.85760834790736,105.55753671071467,null,-3.0729880586230052,-1.7383903125602451,6.8590567116140422,-6.8724849349095507,-1.5341720462991315E-2,4.8419121871005721,-5.2321928728961575,null,200.32158484332717,103.87750245551113,110.11776345900441,131.71201784435883,163.91342847678158,227.00106837924938,108.20481500121603,null,198.56498741289673,107.51965996125807,144.55329988418029,154.05250715632809,159.49047770468937,190.98572782551369,102.50790078377479]
[null,"Septiembre",101.33913331103895,96.870263175933175,76.381043680978692,85.69080036605186,103.05271894454208,119.34409693027051,106.92294099786093,null,-0.57005945715921102,-0.44159078383303463,8.0803257307716869,-5.1985198730614464,2.6456546983786078,7.5552983634034732,-1.3463400402373149,null,201.1928735340839,103.95327847272011,110.93127288953677,131.98393339850222,164.63343367744082,227.9015544654842,108.86731500735006,null,198.53423545331208,107.31185718358478,145.23403654035457,154.02345740114046,159.75651624101101,190.96173193940277,101.8184816011823]
[null,"Octubre",101.04853943906174,98.257107238632102,77.424274297798661,86.071909568071462,103.98871491455586,120.01521929668614,107.58800916451106,null,3.5820852392627556,4.5837438820790277,14.384515944090492,-0.56244943769561129,8.5550907010342847,10.118106477328803,3.367597407863876,null,200.9533381455702,104.58956610172312,112.13338602139569,132.75230955467313,166.64264561366505,229.50002448821886,109.76524013326852,null,198.86812739807783,106.44478454643662,144.82975402532625,154.23418653176697,160.25070196375626,191.22576772607357,102.02367437195375]
[null,"Noviembre",98.846862691375279,97.20861593729289,77.235230010481473,86.128500851103254,104.71028263254586,118.86590065587706,107.72523571317734,null,5.076314019291206,5.0330486870932889,15.014329890340994,1.5359519124654053,11.30565991941328,7.1408302005398827,5.1110060059216256,null,195.99311272708925,104.76251952074655,111.74535037076964,132.97565438840309,167.6701323506353,229.43132671073502,109.86410927609649,null,198.27954817243813,107.77081692874479,144.68183801045825,154.39216179820431,160.1276666772365,193.01694215479895,101.98548979610868]
[null,"Diciembre",97.725460742130693,97.586086862500252,77.500735609617735,86.040472435368187,104.94072670774435,118.47613521377585,107.36885802324002,null,3.8182891115251971,5.5427200956247535,14.088219226078813,1.4103971959073647,10.974459262315772,5.2269116819114947,3.7365796548939567,null,195.50535249786304,104.68307816659393,112.00119348050448,132.75063384375511,168.17701425912063,228.77646218432432,109.49650099120282,null,200.05569788383531,107.27254420406609,144.51629729641598,154.28859243360691,160.25905245299737,193.09919400352223,101.98162018962917]
[2010,"Enero",95.178491334960654,97.423502499201163,76.867202286080811,85.718817200183892,105.90636965459903,121.58206030189962,106.03649121924582,null,1.0988097004516195,5.0208614819515329,11.015522877211769,1.8306750187451426,11.330739703989035,4.214384230701973,2.2249080362591211,null,193.11068033800584,104.91424554456661,111.98466645939973,132.62713664214257,171.87965691872122,227.83945949836101,108.30950937228604,null,202.89319323038382,107.68884596961279,145.68588829683219,154.72347959773069,162.29397483766667,187.39562311463908,102.14361879283655]
[null,"Febrero",92.410690034391109,96.94826185962026,74.289851970564811,84.736227146386767,104.49857678098633,121.58502032533505,105.48861637860509,null,-1.5793468659705656,5.1950693276382465,6.6586511716095087,2.2387146219430498,11.563152503300135,4.9052791607438584,3.350241858932379,null,188.2211972896603,104.29033059643751,108.42032359191674,131.73922778667807,171.50117078174753,227.72210654737256,107.70533729456471,null,203.67903022865949,107.57318243358347,145.94230667585003,155.46978219727777,164.11818807943078,187.29454166149563,102.10138400906092]
[null,"Marzo",90.030354020035389,97.412357417075555,72.982240465901498,84.985819213552205,104.72023057145486,121.55743679001955,105.83485722613757,null,-4.8317857677121818,5.8901924019256535,2.5814830354191631,2.1976867676704037,10.897010392810191,4.3829211099506216,4.2111771017937505,null,183.15790386129217,104.69247644244261,107.30427893929499,132.15160690959178,173.12126928623024,228.75127175096173,108.09852396709839,null,203.44016843533922,107.473506666302,147.0279320753784,155.49842095129006,165.31788398622993,188.1836914232658,102.13886691047736]
[null,"Abril",86.467987658308573,97.908807816547466,73.182925306915806,84.764378563351272,105.13986466292714,121.72311081158666,105.6401136232239,null,-10.213566240892602,4.761468556179671,0.73946181100796871,0.81779220755853199,8.7252244424802718,2.9739209320643445,2.8739884089301393,null,175.66889353672209,104.85913303306336,107.33418863506998,132.23796396864586,174.07376772170716,229.39969279611461,108.02209027963403,null,203.16061272398809,107.09877422829904,146.66561658328089,156.0065279896009,165.56400208406055,188.46026138060083,102.25480319427305]
[null,"Mayo",86.728016592607062,96.945385831163236,72.20871692308144,83.468611671024291,103.81532327313373,120.92441808531892,104.01917042487824,null,-11.949660910857506,2.8485138761135342,-1.847266676601278,-1.8573160367069796,5.0727426245686047,0.82459944054946721,-0.61755020189111498,null,177.07886595475625,103.60185943552219,105.81838769299254,130.43496538463742,171.8275523823377,228.57436263640932,106.59548559562528,null,204.17723466058249,106.86620982245782,146.54517100160217,156.2682819006528,165.5127075318801,189.02250368915344,102.47676958028389]
[null,"Junio",87.379351586071593,96.195623480953472,71.705848185726396,82.800114825987379,103.65884869722915,120.94509900749388,103.57516175633999,null,-12.384994390084946,1.1099248891005775,-3.7680216869498628,-3.1394898771887281,3.5967435245760182,1.8819632245618667,-1.6691980697638664,null,179.10015471750037,103.39101187469942,105.73132606426852,130.06046359938952,171.79186955180489,228.4705144351436,106.35903882696185,null,204.96850968398488,107.4799540076484,147.45146838011345,157.07763675536492,165.72812809602138,188.90431800050644,102.68778442960186]
[null,"Julio",86.08744182764498,96.766752763221419,71.8307842914205,82.876972741852967,104.02479684927006,121.65725975498559,103.44049224298458,null,-13.775926107923631,1.2570695219874972,-3.9023971460891316,-2.3697863821028897,2.7223444120540341,2.3891040642817662,-1.5059355495903759,null,177.01388798289634,104.00324756006761,106.26838848187138,131.01449498419439,173.83207140721882,230.58857140782973,107.39879277747177,null,205.62103394510723,107.47828628139789,147.9426815816685,158.08310879341749,167.10637912525621,189.53950785364461,103.8266451064338]
[null,"Agosto",84.451433645471255,97.358492996750883,72.241794270555587,82.90395174539529,105.70981299207443,122.30359137897086,103.6274868912332,null,-16.289111470791806,0.77208070953009855,-5.1670736551908565,-3.0341966620140992,2.8573969128314447,2.8992532148020222,-1.8284339324541654,null,173.62466076902894,104.26526601292807,106.71686861667436,131.41166478499355,175.36072856967689,231.89609560469736,107.95869780636558,null,205.59113477920178,107.09416590539018,147.72178583633294,158.51073684469148,165.8887889460409,189.60693875794888,104.17959659648832]
[null,"Septiembre",84.762434056780094,97.536906610079143,73.002545579799516,82.814761383689842,106.43259000802594,122.24375845500599,104.32083035461575,null,-16.35764853383953,0.6881817105577781,-4.4232154188546762,-3.3562984241904958,3.2797495282999245,2.4296648090015527,-2.4336317528875662,null,173.73680696644135,104.56704668466637,107.91678061181398,131.80458850729656,176.83065735542334,233.19134120598787,108.44948899808433,null,204.96911031372659,107.20767176130718,147.82605148179323,159.15591170592342,166.1433376206374,190.7593026860493,103.95765508138129]
[null,"Octubre",85.84557524910403,98.252898337913351,73.527832630573613,83.292879333123395,106.76982706070181,123.64453875374711,105.87936356991263,null,{"$f":"(C195/C183-1)*100","v":-15.04520923741407},-4.2835585506550977E-3,-5.0325840346117756,-3.2287307774323537,2.674436498644206,3.0240493483489228,-1.5881375702247458,null,176.30511878753634,105.76197985334991,108.97968001357563,133.49894466878922,180.62136028130195,236.88253180981732,109.96760699108006,null,205.37473046914721,107.64260560498803,148.21554792879991,160.27653952851188,169.16891714979866,191.58349749809591,103.86122780051275]
[null,"Noviembre",85.589294483790184,97.826003753954424,72.509269986794209,82.521503672084805,105.3097263031478,123.22014493057932,105.38827478352793,null,-13.412229631382989,0.63511635332798022,-6.1189175238371307,-4.1879251854785355,0.57247832355256101,3.6631567595723169,-2.1693718414055319,null,176.52364742904851,105.55233678541317,108.06541200620504,133.14287508651302,180.42103128823726,236.23852702850166,109.51085743310345,null,206.24500820307668,107.89803603844589,149.03668458651771,161.34324892525228,171.32418592454772,191.72070213161612,103.91180390612094]
[null,"Diciembre",83.669732595272066,97.834135011838953,72.052984397399442,82.326058908586049,104.70617871552687,122.2683073213291,104.32497867029041,null,-14.3828722219562,0.25418392858420624,-7.0292896826933298,-4.3170538487830035,-0.22350521058490669,3.2007898474327723,-2.8349741340182311,null,173.31997643779002,105.1486690479081,107.15858477870015,132.44927868133217,179.96566904603415,235.73693576596582,108.8416356212431,null,207.14775948451378,107.47646415556697,148.72192411584237,160.88378386775736,171.87683788458901,192.80297644624599,104.32941085492781]
[2011,"Enero",82.285360887468642,96.164716794306628,71.273064593311531,82.40790084790396,105.16478578253962,128.19741661699209,104.07292439616369,null,-13.546264777529782,-1.2920760110270657,-7.2776652803744231,-3.8625315425757312,-0.70022593964649271,5.4410628497871594,-1.8517840419881249,null,173.82514475937086,105.14895471750721,107.59009158158202,134.31145797430565,183.85822036317623,235.26535982432759,109.61407334348532,null,211.24674290131594,109.34255122116939,150.95477119652097,162.98371465886191,174.82869288904305,183.51801934294522,105.32429445936266]
[null,"Febrero",81.926594779781752,96.755659729329452,70.002918294017221,82.561198579098161,105.92954554437614,128.35148056512728,104.5586040387998,null,-11.345110885664466,-0.19866486164517028,-5.770550839495769,-2.5668225274310563,1.3693667487825412,5.5652087910884385,-0.88162341277414624,null,172.8496297149332,105.42837506774589,105.90495306283749,134.78674497170135,185.47311031725667,236.94248555243954,109.9384928831,null,210.98109860363667,108.96352250884142,151.28648296922304,163.25676866545035,175.0910091836069,184.6044038675594,105.14533346514823]
[null,"Marzo",82.407137594295904,97.229671207698843,69.214163261342279,83.035070920431579,106.84521617327833,128.86718599834336,104.81295097128546,null,-8.4673847045442123,-0.18753904968600299,-5.1630056579582861,-2.2953809366934363,2.0292025621291065,6.0134117675998633,-0.96556681006202405,null,172.96989428046706,105.78007023759545,104.89622384234241,135.40542110228358,186.95395380636924,238.68285887099154,110.41322450120434,null,209.89673871701106,108.79402236343216,151.55311991025599,163.07015770726073,174.97643834907214,185.21616424064692,105.3431121612568]
[null,"Abril",83.293405563893927,95.590974031662512,68.947195326532821,83.281671218144581,107.8683642578072,129.65585459854123,105.28346371733507,null,-3.6713958314370521,-2.3673394014028792,-5.7878664492012399,-1.7492104234546391,2.5951142353354717,6.5170399721656169,-0.33760840807200987,null,174.26228216156591,106.54618947995853,104.67401846559045,136.66156784616163,189.1864736330256,240.95250699597156,111.57682011700459,null,209.2149804439083,111.46051241685993,151.81765983352327,164.09561173213723,175.38643042817145,185.84005152875102,105.97753548132299]
[null,"Mayo",83.532997803770584,95.403079100187057,69.214701544067651,82.992847509258894,107.42653087615925,129.9761590198984,105.22015691273968,null,-3.683952330934348,-1.590902669325811,-4.1463351055013087,-0.5699917037563007,3.4784918923043584,7.4854533748452523,1.1545818746254932,null,175.50088493987545,106.56526860271221,105.37494109068484,136.65792575565726,190.00381795082424,241.30849842319941,111.65365699854686,null,210.09767343936215,111.70003065708522,152.24358227362242,164.6622930252048,176.86861560284365,185.65596971230454,106.11432283943709]
[null,"Junio",83.533359196630784,95.289117817441095,69.836215485250165,82.634244517558969,107.3905334940381,129.28833020359497,105.20942905176483,null,-4.4014888181590379,-0.94235645106230947,-2.6073643193420759,-0.20032618164479432,3.5999674352052757,6.8983623681883488,1.5778563776414289,null,176.52140602208362,106.55182186784759,106.92212891505916,136.69975525795041,191.25530764425201,242.39438091062428,111.82002010397984,null,211.31845734416888,111.8195071046665,153.10412824080046,165.42748839302698,178.09326522702278,187.48357297902848,106.2832686307636]
[null,"Julio",83.304377862800877,95.312662052569792,69.288940156387241,82.169063150295457,108.04720282435564,128.51775350027353,105.61131275493933,null,-3.232833855623285,-1.5026759389246469,-3.5386556893502563,-0.85416921991410266,3.8667760927367789,5.6391979887635113,2.0986177316862031,null,176.50961364173884,106.74717724916481,106.95878696993691,136.75797518500127,192.8779774646506,242.80062155072036,112.21736658058529,null,211.88515918388279,111.99684800565981,154.36631983189187,166.43487213047231,178.51269854546638,188.92379841529336,106.25506269482197]
[null,"Agosto",83.306103561721841,95.069279707612097,69.256226871076606,81.676377658439165,107.51532915635312,127.97249035636501,105.08571702077806,null,-1.3561996928998621,-2.3513236685115735,-4.1327425898332715,-1.4807184230808512,1.7079929603262656,4.6351042626609829,1.4071846894013751,null,176.52927343083618,106.32069489378402,107.2766188012009,136.11391956970544,192.64435880798138,242.38861744583778,111.87191271058106,null,211.9043694079929,111.83496416589662,154.89815666813735,166.65028919244872,179.17850442315086,189.40681451994737,106.4577716955209]
[null,"Septiembre",83.460601698679255,94.35732635923172,68.568645059306832,81.221089384878354,106.0188700395174,126.94645772031242,102.91796551063453,null,-1.5358600452988092,-3.2598739916556374,-6.0736245363471113,-1.9243815621563298,-0.38871549445272935,3.8469851751468775,-1.344760043811466,null,176.07963119032675,104.98796205715463,105.88458675332024,134.70819810655516,189.89977936932394,240.26638589691299,110.08910880617233,null,210.97335462070262,111.26635960142679,154.42129075430594,165.8537199226916,179.11884865264162,189.26592376942588,106.96782457752414]
[null,"Octubre",83.607738199662478,94.020663103011117,68.092409000796337,81.068339222913849,105.23380066854125,126.93555095019842,102.08382762005068,null,-2.6068170001166235,-4.3074914903239225,-7.3923348959386681,-2.670744639902134,-1.4386333990100808,2.6616721042615143,-3.5847740502857661,null,176.79192338847594,104.5578606046256,105.08664829690136,134.56154528095377,189.19241067515657,240.32200067965456,109.41788871535356,null,211.45401992131588,111.2073209801442,154.32946174025415,165.98532370442362,179.78293045887682,189.32599959639512,107.18435159249688]
[null,"Noviembre",81.898536793692031,93.639801743487354,67.508588908901316,80.477384241127581,103.78407598359087,126.95355895150709,100.90458608264534,null,-4.3121721149333103,-4.2792323613626611,-6.8966093284398617,-2.4770748713934365,-1.4487268869782688,3.0298730966686671,-4.2544473852449745,null,173.6899264550598,104.24514375504373,104.32012857619249,134.03116303882697,188.78166988874617,240.54589994228945,109.07962673923792,null,212.07940123838415,111.32567755814794,154.52867592443101,166.54512855094885,181.89849271153517,189.47550736578535,108.10175332357723]
[null,"Diciembre",80.361835317950849,93.435627804944602,66.969704640142268,80.048433191782649,102.41043406031008,126.66152651138627,100.18400216646603,null,-3.9535172095292892,-4.4958819397361571,-7.0549190984525616,-2.7665914620453869,-2.1925589142681168,3.5930972516954096,-3.9693049129792324,null,171.95097946803011,103.85480343646391,103.6648035169802,133.52272424470516,188.40376653460439,240.26570441787379,108.47756668224922,null,213.97094626784929,111.15118063237108,154.79358028233341,166.80242063552583,183.9693076817274,189.69114855589163,108.27833220517842]
[2012,"Enero",80.996056879583975,93.59387503910358,67.554796491351297,80.88996085057569,104.43062812374926,135.07329435450427,101.68093548123899,null,-1.5668692389256056,-2.6733731881122269,-5.2169331053419699,-1.8419835740384305,-0.69810217681464115,5.3635072522988825,-2.2983777277357564,null,172.1960568181828,104.34613226488192,104.48812456290104,135.15128596240561,191.92061223164055,240.38884589614366,110.28740655059846,null,212.59807384720582,111.4882060618668,154.67165914159497,167.08041954929905,183.77808855484096,177.96918853939798,108.46419343864852,null,null,null,null,null,null,null,null,null,null,null,null,null,null,null,null,null,null,null,null,100]
[null,"Febrero",81.898845827943362,94.356841666836459,67.953657040546744,81.498441952196444,105.13212432724136,136.33797190690458,102.4530010656954,null,{"$f":"(C211/C199-1)*100","v":-3.3870505558031283E-2},-2.4792534816088341,-2.9273940335793336,-1.2872349786486437,-0.75278451638474131,6.222360121295889,-2.0138017262769203,null,173.96519496361617,105.14595974771312,105.24379072149401,136.94643424181905,194.94164660917872,242.60893601521562,111.44230952377015,null,212.41470890699702,111.43437814395256,154.87583053653302,168.03564701537005,185.42538530125213,177.94671038591937,108.77408017780814,null,null,null,null,null,null,null,null,null,null,null,null,null,null,null,null,null,null,null,null,100]
[null,"Marzo",81.616673383903915,94.643933632060325,67.480525076136729,81.644575229021541,105.10143235350462,136.91400628670962,101.7713066653649,null,-0.95921813749141327,-2.6594120328916393,-2.504744843421125,-1.674588431125057,-1.6320654140899449,6.2442740764663718,-2.9019737329538997,null,172.91322729499475,104.94703012235873,104.23027704258499,137.28193250375324,194.5785224664491,242.46176994746511,111.01031109062531,null,211.86017528753624,110.88616680954209,154.45978958371228,168.1458102006938,185.13403491209493,177.09055232795501,109.07820163461128,null,null,null,null,null,null,null,null,null,null,null,null,null,null,null,null,null,null,null,null,100]
[null,"Abril",80.525467472311647,94.015979448500573,67.325965453484429,81.001827977873532,104.07119102832607,137.0443167670262,100.97546970331555,null,-3.3231179261352328,-1.6476394336564226,-2.3514080092312262,-2.7375089943852404,-3.5201917222048795,5.6985179661668051,-4.0918049823907898,null,171.28944656875768,104.66712774213995,104.1823149762503,137.38602556151312,194.36179749006351,242.07429365169091,110.68998012647928,null,212.71462550360835,111.32908294538781,154.7431429679682,169.608549573772,186.75850210762184,176.63942537888272,109.6206637628988,null,null,null,null,null,null,null,null,null,null,null,null,null,null,null,null,null,null,null,null,100]
[null,"Mayo",78.916592076859402,93.424354065008401,66.788551875645041,80.37457860476313,103.40547266052444,136.27051450571355,99.420085173658038,null,-5.5264456541541769,-2.0740683150285988,-3.5052519396878812,-3.1548127134734871,-3.7430774156435032,4.8427000253573604,-5.5123199862662347,null,169.75258818847328,103.86410310668911,103.62393264308767,136.66292389172509,192.81959266695173,240.26571249741363,109.5580739271488,null,215.10379974739124,111.17454773561113,155.15223752122543,170.03252304905547,186.46942730001328,176.31526039871213,110.19712338385412,null,null,null,null,null,null,null,null,null,null,null,null,null,null,null,null,null,null,null,null,100]
[null,"Junio",77.504925275847839,93.35007368563349,66.797261583657843,80.114081850459314,103.36382848425747,135.32551979358013,98.698880015895625,null,-7.2167981495781852,-2.0349061637053967,-4.3515443677416439,-3.0497800056296764,-3.7495902839556838,4.6695549246232648,-6.1881801798067908,null,167.22012090032905,103.34486329325536,103.86485606828447,136.38667331917631,192.38203470890267,239.28549613924486,108.8482541945389,null,215.75418633741768,110.70678277264183,155.4926857865313,170.24057465172632,186.12123557149673,176.82215187810911,110.28317056587544,null,null,null,null,null,null,null,null,null,null,null,null,null,null,null,null,null,null,null,null,100]
[null,"Julio",77.796064942207991,93.834227894262071,66.620275488005333,80.377973751494991,104.34281154801332,135.69786431552919,98.578536641751327,null,-6.6122730424382548,-1.551141397658462,-3.8515016427710602,-2.1797612509277142,-3.4284934542583967,5.5868629972903872,-6.6591124849540222,null,167.54630669024303,103.65994978234944,104.02620237265671,137.12194958832623,194.83319474736686,239.63143982969166,109.13131340980175,null,215.36604301863775,110.47136221886919,156.14796187894203,170.5964248517472,186.7241181801148,176.59190219272182,110.70494361911736,null,null,null,null,null,null,null,null,null,null,null,null,null,null,null,null,null,null,null,null,100]
[null,"Agosto",77.769914179430629,94.374735797645599,67.366797524980228,80.841471598361892,105.65316069442979,135.36435544938104,98.818732973032283,null,-6.645598756385751,-0.73056607991833777,-2.7281725145287372,-1.0222123997329469,-1.7320027539657112,5.7761360058180333,-5.963687764062775,null,167.54976868638641,103.91847879471908,105.16343263882592,138.07767142902338,196.84236332089228,240.20498486650504,109.42683373212429,null,215.44291318081673,110.11260367132236,156.10573235254407,170.80054172569177,186.30996179111008,177.45069155692815,110.73490869589169,null,null,null,null,null,null,null,null,null,null,null,null,null,null,null,null,null,null,null,null,100]
[null,"Septiembre",78.445376648758696,94.956379047106566,68.563341736178302,81.609199462767904,106.68911978813067,136.23580012591466,99.952420004681528,null,-6.0090928508126584,0.63487670856015033,-7.7343268544138866E-3,0.47784396987144984,0.63219854009333165,7.3175278557740198,-2.8814653410988544,null,168.3583967445112,104.5187727002248,107.0731906309818,139.74967467815111,199.2269914249477,242.13100382774536,110.26890359181989,null,214.61863520439258,110.07030148903895,156.16682022732172,171.2425505924835,186.73599690444911,177.72935131878555,110.32139450616118,null,null,null,null,null,null,null,null,null,null,null,null,null,null,null,null,null,null,null,null,100]
[null,"Octubre",78.250883908427014,95.049645831123897,67.834080885362525,81.760795010998365,106.64370566683669,136.99505678978389,100.07673324126151,null,-6.4071273862747464,1.0944219006256084,-0.37937872844356901,0.85416303667016358,1.3397834054633018,7.9248924074329485,-1.9661237490618544,null,168.6087763160248,104.66338434205855,105.89255821024541,140.54797280410131,199.95584357632114,243.85592705460931,110.49511440191193,null,215.47204056293987,110.11443906694352,156.10524507467053,171.90142633177058,187.49896426236242,178.00344973673114,110.41039292872814,null,null,null,null,null,null,null,null,null,null,null,null,null,null,null,null,null,null,null,null,100]
[null,"Noviembre",77.630873766815,94.777662111896205,67.545435978430277,81.633654984334171,105.67990110500976,137.42333761804139,99.533362848223035,null,-5.2109148636288349,1.2151460674018288,5.4581306059708901E-2,1.4367648179793635,1.8267013541833244,8.2469359291719169,-1.3589305379036132,null,169.04146408957047,104.48938109358915,105.64881766105729,140.91148095347882,200.35514390507805,246.60715537607416,110.2708015445252,null,217.75030459831163,110.24684378712266,156.41148233138182,172.61444557458597,189.58680109474497,179.45071022907447,110.78777847853441,null,null,null,null,null,null,null,null,null,null,null,null,null,null,null,null,null,null,null,null,100]
[null,"Diciembre",77.541009217787561,94.933679708312766,67.509631360760807,82.05381644610307,104.65218764353959,137.6270596452826,99.443728929310481,null,-3.5101563932714019,1.603298376177742,0.80622532758625187,2.5052123750078481,2.1889894362808082,8.6573511593598163,-0.73891362008627892,null,169.31050683781891,104.67403975984962,106.1848136025294,141.83761374518215,201.59997034416742,248.49075865083083,110.4997160671726,null,218.3496301451024,110.26017329304463,157.28839198527768,172.85925248626063,192.6380851500648,180.5537074549774,111.11783242332078,null,null,null,null,null,null,null,null,null,null,null,null,null,null,null,null,null,null,null,null,100]
[2013,"Enero",76.854841785942696,95.284146216242618,67.383279927832561,82.516914012625165,105.30499821230786,140.58924938852584,99.807255472223034,null,-5.1128601232995567,1.8059634526648605,-0.2538925027191774,2.0113165403242927,0.83727360858396604,4.0836755040154493,-1.8427053214529754,null,169.42564623830921,105.34879232612826,106.26285743094365,143.23504552327898,205.17220324818615,250.82683458334847,111.68694631567841,null,220.44889079362906,110.56277094307423,157.69914664995696,173.5826493721807,194.83614902545619,178.41110588063188,111.90263251629192,null,null,null,null,null,null,null,null,null,null,null,null,null,null,null,null,null,null,null,null,100]
[null,"Febrero",76.658285245479107,95.450775458373286,66.723499965073884,82.458442517178653,105.64301717284107,141.63250593747915,99.6156902626701,null,-6.3988210450167449,1.1593582110340117,-1.8102882597456738,1.1779373224647616,0.48595312695240978,3.8833891662917175,-2.769377932820094,null,169.48822372238254,105.20271769764842,105.33279991806128,143.64741038250745,205.57095828289383,251.69119739023245,111.32739911394974,null,221.09576698674988,110.21672395268074,157.86462037092966,174.20582537995574,194.59019988662578,177.70722598196244,111.75689173100925,null,null,null,null,null,null,null,null,null,null,null,null,null,null,null,null,null,null,null,null,100]
[null,"Marzo",76.087862429373558,95.10146268819706,66.344525722412001,82.21712989787666,105.62410992714658,141.88136162056699,98.93475226860545,null,-6.7741194602777384,0.4834214286944416,-1.6834477094584077,0.70127705024987108,0.49730775493519452,3.6280841300161182,-2.7871848065057825,null,167.95168827603752,105.01575979841411,104.92922400259816,143.49437853262637,205.34959031064815,252.39189812682508,110.7537587167526,null,220.73387648645539,110.42496806039925,158.15807387278039,174.5309994533539,194.41545159744916,177.88939663674509,111.94626375174906,null,null,null,null,null,null,null,null,null,null,null,null,null,null,null,null,null,null,null,null,100]
[null,"Abril",75.616282032755521,95.804415231097138,66.258334731187929,82.390703054296495,105.2257564025919,142.3107033606201,98.61351756465686,null,-6.0964382991556381,1.902267883701847,-1.5857637021694515,1.7146218932273305,1.1093995973886495,3.8428347251689976,-2.339134589419134,null,168.17120099572986,105.1577623889208,104.99493998613802,144.19811870020061,205.8812844761234,252.98801657179993,110.76201960674939,null,222.40077993107533,109.7629604389962,158.46299248555775,175.01746356645634,195.65673986549947,177.77160157147128,112.31930707078494,null,null,null,null,null,null,null,null,null,null,null,null,null,null,null,null,null,null,null,null,100]
[null,"Mayo",75.534460342081317,95.857651936871321,65.913875013529776,82.433835593420184,104.50409580879445,142.57309842575947,98.017377398029325,null,-4.2857042426314056,2.6045648334584559,-1.3096209418402172,2.5620750048138019,1.062441977202444,4.6250532941090938,-1.4108897343817262,null,167.93514638883934,104.99380547749004,104.68898116295648,144.54554686168265,206.51460601846284,252.76939298527446,110.50670348204473,null,222.32918012294357,109.53095903771511,158.82692550159973,175.34735078276546,197.61388720716897,177.29108490750539,112.74195088213665,null,null,null,null,null,null,null,null,null,null,null,null,null,null,null,null,null,null,null,null,100]
[null,"Junio",75.39051777828989,95.357267460086533,65.371035338257713,82.321188728657404,104.3702814475766,143.48604090154208,97.292893198930258,null,{"$f":"(C227/C215-1)*100","v":-2.7280943630776489},2.15017910024633,-2.1351567588050013,2.7549549682387431,0.97369938602112072,6.030289867284222,-1.4245215515504617,null,167.37712661319208,104.47982521895295,104.31803492197267,144.71712289663233,206.38859473134997,254.06996107661516,109.91344229898898,null,222.01349923795252,109.56671473695995,159.57837348328127,175.79571569798512,197.74651545326665,177.06946228375909,112.97170706420879,null,null,null,null,null,null,null,null,null,null,null,null,null,null,null,null,null,null,null,null,100]
[null,"Julio",74.986042408070674,95.436598294904613,65.247299214627091,82.18243348968592,105.16500836484792,143.97610359277706,96.874203963316617,null,-3.6120368507388978,1.7076608787661041,-2.0608985227409282,2.2449679358300223,0.78797648312962654,6.1004934152825374,-1.7289084789607889,null,167.08358257408128,104.43805435330702,104.43848735772467,145.15461732857307,207.31267207750784,256.54280352586539,109.75338830260206,null,222.81957709518784,109.43187018316326,160.06560978743428,176.62487123454468,197.13084732355082,178.18429386828851,113.29475114361962,null,null,null,null,null,null,null,null,null,null,null,null,null,null,null,null,null,null,null,null,100]
[null,"Agosto",75.221287030578267,95.552067061896409,65.935550423138068,82.194649975890101,105.35803268643855,144.98294608749268,96.975896025534169,null,-3.2771376640228445,1.2475068187477678,-2.1245586170419384,1.6738665820571486,-0.27933665784481976,7.105704161320725,-1.8648659945893264,null,167.37848118307502,104.46680465807819,105.49381996551665,145.49623730806437,208.32495630078057,259.55941285791158,109.94394078730785,null,222.51477977907217,109.32971715871622,159.9953580253981,177.01424283787608,197.73049191302493,179.02754762706752,113.37244129031727,null,null,null,null,null,null,null,null,null,null,null,null,null,null,null,null,null,null,null,null,100]
[null,"Septiembre",75.646981144937968,95.619572941289832,66.232670678096753,82.428795987436743,106.09850812290865,145.52701812392291,97.319756400469572,null,-3.5673173147610981,0.69841952782789818,-3.399296182280076,1.0042942830762014,-0.55358190825351983,6.8199533378311195,-2.6339168217124231,null,168.08530345489717,104.47146762499085,106.00347473608198,145.98885265731207,209.37202941818339,261.13294484843783,110.07136142802511,null,222.19697456643962,109.2574087202168,160.04710915445165,177.10904412526264,197.33739250663041,179.43949392687423,113.10279176520217,null,null,null,null,null,null,null,null,null,null,null,null,null,null,null,null,null,null,null,null,100]
[null,"Octubre",76.341291442896676,96.012043204685099,66.631669510794751,82.686270855382546,107.15342291152741,145.61692526564843,97.785480821313911,null,-2.4403461918270919,1.0125207360278887,-1.7725770864350787,1.1319310731502608,0.47796280287100146,6.2935617371177255,-2.2894956157530899,null,168.54405184736083,104.89256260447834,106.71831133422916,146.82714597092081,211.57866473442866,261.19973059131337,110.85928271195642,null,220.77705087479674,109.24938070619028,160.16154497965883,177.5713724322143,197.45394872651082,179.37456797333664,113.36988045754217,null,null,null,null,null,null,null,null,null,null,null,null,null,null,null,null,null,null,null,null,100]
[null,"Noviembre",75.814465552052539,95.558166116782601,65.553799444216907,82.169701712106317,106.4442624201389,144.99843763351106,97.139501751556509,null,-2.3398013272638463,0.82351050605671272,-2.9485878732789184,0.65664918209900058,0.72327974112089688,5.5122369655466574,-2.4050841126677214,null,167.77982150563636,104.54988857888281,105.4722214265436,146.41436154733032,211.08909446578136,260.42588042979844,110.24848247898153,null,221.30317780904548,109.40968504053473,160.89413934930704,178.18533899552739,198.30950928346516,179.60599071283411,113.49500511228941,null,null,null,null,null,null,null,null,null,null,null,null,null,null,null,null,null,null,null,null,100]
[null,"Diciembre",75.596802876983574,95.720408190071026,65.202141998443139,82.362830353013635,105.52208775551273,145.26975885795721,97.066731811669456,null,-2.5073265881068729,0.82871377594917472,-3.418015053269674,0.37659906667903975,0.83122974450964282,5.5531951582579397,-2.3902936296070654,null,167.91349530420595,104.58062013779983,105.06784221744647,147.01178846077116,211.11224210959332,261.48192488068372,110.27145473455322,null,222.11719135456903,109.25634576289642,161.14170332004619,178.49288062426578,200.06450459805683,179.99749358457817,113.60375761749535,null,null,null,null,null,null,null,null,null,null,null,null,null,null,null,null,null,null,null,null,100]
[2014,"Enero",75.631708100879749,95.462294201359768,65.178770102967206,80.943022737836287,106.24500174801706,145.40653356934834,97.766778268863987,null,-1.5914855286146334,0.18696498021071317,-3.2715976830251958,-1.9073559568018594,0.89264854628650081,3.4264954125401648,-2.0444177066134439,null,168.96812243011482,104.49514669490681,105.08774029869683,146.24094641203757,213.51165868126435,264.69775582673867,111.28436965354069,null,223.40910535134321,109.46222020863436,161.23001420966182,180.67146674975629,200.96160305748151,182.03979513788292,113.82636476728587,null,null,null,null,null,null,null,null,null,null,null,null,null,null,null,null,null,null,null,null,100]
[null,"Febrero",78.731569937293102,95.493024770846816,64.421068262593792,80.639771686048121,106.44569060709503,145.95023343794196,97.372843974358076,null,2.7045800531212194,4.4262932669369981E-2,-3.4507058288088754,-2.2055604927920469,0.75979790783589074,3.0485427563985867,-2.2514990182751382,null,176.39565185126688,104.33504843612688,103.68826638704761,146.3386855533555,214.46766502162657,265.57017774852142,111.0000425258245,null,224.04691280989283,109.25933981722555,160.95396922694988,181.47209806482408,201.48083383972281,181.95940595151006,113.99486550383079,null,null,null,null,null,null,null,null,null,null,null,null,null,null,null,null,null,null,null,null,100]
[null,"Marzo",82.221899882470325,95.808396199484875,64.419285608719477,80.977413705286395,107.24011620010738,146.02546014994118,97.524196167336626,null,8.0617818101941232,0.7433466229700203,-2.9018823975738406,-1.5078563240168319,1.5299596598498555,2.9208195368583656,-1.4257438048050131,null,184.4305657948737,104.40797456430136,103.42405381477518,147.00264395916975,215.16772963703704,265.73260654909183,111.15289962619879,null,224.30832425242247,108.97580870356197,160.54827810877833,181.53536552078481,200.6410821446141,181.97690065570313,113.97468935347838,null,null,null,null,null,null,null,null,null,null,null,null,null,null,null,null,null,null,null,null,100]
[null,"Abril",81.321362164510617,96.728925839590957,64.814393402551175,81.194034002682059,107.25300595618178,145.97775579626008,97.657659512860079,null,7.5447773659167217,0.96499791399355939,-2.1792599142354985,-1.4524321400993689,1.9265716141147582,2.5767931357542073,-0.96929718704138468,null,184.05809169353279,104.65561292208598,104.03093889275755,147.63833086238412,215.71940235096139,266.08912760822119,111.60028365735279,null,226.33424575597849,108.19474321015426,160.50592072448953,181.83396437416476,201.1313346677608,182.28059895618588,114.27704105754928,null,null,null,null,null,null,null,null,null,null,null,null,null,null,null,null,null,null,null,null,100]
[null,"Mayo",81.962982599525674,96.862737056893891,64.822995451405873,81.19147738894506,107.24266338144695,146.59104084586446,97.87392816486981,null,8.5107144849262184,1.0485184017281046,-1.6550074804432047,-1.5070974139826276,2.6205361153146756,2.8181630787782908,-0.14635081754635904,null,186.07582988745506,104.78418530414811,104.06870764422503,148.06589846901954,217.32815479871999,266.54155601802216,111.78030754798445,null,227.02422970211907,108.17801405157633,160.54288593040945,182.36630645321898,202.65083684626012,181.82663447917099,114.20846148086463,null,null,null,null,null,null,null,null,null,null,null,null,null,null,null,null,null,null,null,null,100]
[null,"Junio",81.517092595431336,96.564961802350169,65.105041584849687,81.243802798743985,106.56171032011974,147.32941622530868,97.460435830778025,null,8.1264527657955767,1.2664942845275418,-0.40689848651113136,-1.3087589556859291,2.0996674936091475,2.6785708906721162,0.17220438856226927,null,185.53131024931415,104.7242240252243,104.94255178755867,148.59797181445896,218.59704299050927,267.47156313063618,111.69310812005067,null,227.5980464245757,108.44950598082828,161.18959336012375,182.90376212763425,205.13657516740921,181.54661165669447,114.60353852099023,null,null,null,null,null,null,null,null,null,null,null,null,null,null,null,null,null,null,null,null,100]
[null,"Julio",79.023161944267883,96.060773538767762,64.495099745193443,80.76142060278832,106.65048549676301,147.27030023354462,98.346291185461013,null,5.3838279852501003,0.65402084212433653,-1.1528438394964535,-1.7290956553092873,1.4125203382873597,2.288016246143787,1.5195863934033715,null,181.64276037211718,104.8079430513728,104.59140469983952,148.97974912609706,220.03847428692103,268.37576653188461,111.82436721446756,null,229.860152268044,109.10587036765314,162.16953708585325,184.46895561536653,206.31736767255458,182.23346194466103,113.70471206035586,null,null,null,null,null,null,null,null,null,null,null,null,null,null,null,null,null,null,null,null,100]
[null,"Agosto",78.65297157008807,95.51464191681886,64.228626770667034,80.606845715883722,106.13779269115959,146.31635926224945,97.711677738383514,null,4.5621188828034676,-3.9167279398888422E-2,-2.5887759206026706,-1.9317610823479714,0.74010494011569339,0.91970346219347743,0.75872638769494127,null,181.43360214050401,104.5056285984483,104.59372737109642,148.95509276073889,219.58115689473087,267.64727777960331,111.24921457324729,null,230.67609337407876,109.41320252182847,162.84596546732331,184.79211218084794,206.88310103986191,182.92368613402067,113.85457413914193,null,null,null,null,null,null,null,null,null,null,null,null,null,null,null,null,null,null,null,null,100]
[null,"Septiembre",78.387012460440658,95.27796297657919,63.189427957844551,80.492117257555705,105.88113827881494,145.97227463931202,96.575479442541038,null,3.6221290975945841,-0.35725945452652619,-4.5947757943250345,-2.3495171883575861,-0.20487549536690741,0.30596140917966697,-0.76477478515857289,null,180.18718025255177,103.93246584035747,102.73929458363318,148.60859866245508,218.24960179457054,266.96558178076464,110.05065146778435,null,229.86866650069913,109.08342558279263,162.58937278586137,184.62503376193072,206.12698856698887,182.88786856299879,113.95299521475381,null,null,null,null,null,null,null,null,null,null,null,null,null,null,null,null,null,null,null,null,100]
[null,"Octubre",78.03761190167441,94.624929305420849,61.963547796274419,80.145326390863531,105.3174268119531,145.69780858212769,95.76053963857963,null,{"$f":"(C243/C231-1)*100","v":2.2220222198449324},-1.4447290704012072,-7.005860349580562,-3.0729943897979117,-1.7134273919464316,5.5545271493473436E-2,-2.0707994333376667,null,179.08287498198504,103.403753021025,100.97875546444379,148.57213298489719,217.55280300833499,266.41032692133786,109.10028985424944,null,229.48277198388044,109.27749566635737,162.96477373510749,185.37841153746206,206.56866540879406,182.85129303860896,113.93032063730719,null,null,null,null,null,null,null,null,null,null,null,null,null,null,null,null,null,null,null,null,100]
[null,"Noviembre",76.626845276661754,94.213875873655525,61.021464513133758,79.318143331941798,102.95081886176683,145.24704937497867,94.800302100440121,null,1.0715365711461144,-1.4067769378121042,-6.9139164617604614,-3.4703282605982655,-3.281946324719065,0.17145822087820672,-2.4080828179447678,null,177.04160921034813,102.76995683025456,99.892234065850943,148.04923951402824,216.10722951100422,265.94921778471297,107.86797721782362,null,231.04384445312624,109.08155075593436,163.70015839975613,186.65242691631198,209.9130749034388,183.10128772263192,113.78442349639182,null,null,null,null,null,null,null,null,null,null,null,null,null,null,null,null,null,null,null,null,100]
[null,"Diciembre",75.499003887283422,93.669929706672164,60.049736188526978,78.798667944085608,101.47970066981773,144.80496228446742,93.483665751052044,null,-0.12936921401199841,-2.1421539274333767,-7.902203289639143,-4.327391850974216,-3.8308444911182238,-0.3199541164959574,-3.6913430520864154,null,174.50586649661645,101.63403853842392,98.401690507384956,147.13715244912024,213.17611212016371,263.85467818499484,106.14243876932001,null,231.13664752073521,108.50231110100263,163.86698219364609,186.72543113739769,210.06773838816309,182.21383716578427,113.54116028352847,null,null,null,null,null,null,null,null,null,null,null,null,null,null,null,null,null,null,null,null,100]
[2015,"Enero",74.961005336179554,93.693756872987564,60.110959191173094,78.465382636144938,99.600289422547306,141.01125971095075,92.701314416331712,null,-0.88680102769276292,-1.8526030022301909,-7.7752478357418493,-3.0609680956888652,-6.2541411041896584,-3.0227485316547731,-5.1811708867013806,null,174.4472547891958,101.48514880253533,98.823578289728317,146.38428726806811,206.73138807372021,266.24739903486324,106.30173699718335,null,232.7173361761194,108.31580693269656,164.40193205940378,186.55906891689133,207.56103147118043,188.81286471777176,114.6712294927887,null,null,null,null,null,null,null,null,null,null,null,null,null,null,null,null,null,null,null,null,100]
[null,"Febrero",74.895716511752866,93.782215473961557,59.838532381521297,78.464952545644906,98.760578848980231,141.36994224280883,93.118519980127516,null,-4.8720652066196024,-1.7915542009384056,-7.1134118148943433,-2.6969559746155558,-7.2197490704264844,-3.1382554773923488,-4.3691072588481479,null,173.05592205494153,100.94154100772687,98.178648128365523,146.54312263394507,205.30044725246671,266.00832057726996,105.32617414519254,null,231.06250946645935,107.6339906213381,164.07262046868652,186.76251992722163,207.87691773901199,188.16469495360579,113.10980261248812,null,null,null,null,null,null,null,null,null,null,null,null,null,null,null,null,null,null,null,null,100]
[null,"Marzo",73.83624158447563,93.013778908280216,59.208906523073587,77.651042402684695,97.921991544149719,140.21712730785779,91.239896777756925,null,-10.198813588571088,-2.9168814029471135,-8.0882286048522101,-4.1077766631419932,-8.6890288691689577,-3.9776165307880529,-6.4438361314937742,null,170.01825030022809,100.12057295120007,96.890616788983948,145.20834241764175,203.47024994872635,262.9024968190285,103.64229295340076,null,230.26395527690991,107.6405819936934,163.64196280373099,187.00115017724644,207.78810432689011,187.49670733291038,113.59317208112776,null,null,null,null,null,null,null,null,null,null,null,null,null,null,null,null,null,null,null,null,100]
[null,"Abril",74.078467931241761,93.417241544007894,59.944179194379842,78.204910847464774,98.584819375637949,141.47354926864216,91.456438923922846,null,-8.9065087456561614,-3.4236752520905189,-7.5140936333743973,-3.6814566389428927,-8.0819987311919412,-3.0855430699348485,-6.349958231510378,null,170.1594324875461,100.41148234378068,98.291401136448854,146.34671422048268,205.07252504068251,264.11788243237498,104.22024269975978,null,229.70160863138381,107.48709840300505,163.97155229654777,187.13238418738882,208.01633186474101,186.69064556431334,113.95615653311668,null,null,null,null,null,null,null,null,null,null,null,null,null,null,null,null,null,null,null,null,100]
[null,"Mayo",74.913105790216164,93.698206493755521,59.920424054611971,78.458577974100336,98.985256356873236,142.15974522121536,91.744646530379455,null,-8.6012936397830693,-3.2670257513780943,-7.5630127282055089,-3.3659929622328,-7.6997407227786585,-3.0228966238860733,-6.2624252948808801,null,171.0443144767595,100.58564409655861,98.189614853608575,146.96671385421794,206.53466951362356,265.17388460762379,104.79355228014759,null,228.32361930867683,107.35066108577233,163.86668886741813,187.31758546877128,208.6519519321146,186.53232966546585,114.22307049321647,null,null,null,null,null,null,null,null,null,null,null,null,null,null,null,null,null,null,null,null,100]
[null,"Junio",74.968304983578705,93.76489637514625,59.3342236865983,77.95506626357259,99.277190339681027,141.50914640181236,91.399321844283065,null,-8.0336373677532986,-2.8996702063996183,-8.8638571726130202,-4.0479844885131788,-6.8359638359364201,-3.9505144136290249,-6.2190507715550902,null,171.51398244244092,100.3131931651189,97.364684858986124,146.48875665022976,206.67258071383219,264.08114468138047,104.31539484822316,null,228.78199324369129,106.98374023021731,164.09532106337761,187.91435075552246,208.17730639504742,186.61772146623471,114.13147575202495,null,null,null,null,null,null,null,null,null,null,null,null,null,null,null,null,null,null,null,null,100]
[null,"Julio",74.55260642205576,93.256350235206483,58.479348336892897,77.007200678606694,99.212702661168976,139.65993225374206,90.26446751229841,null,-5.657272389790025,-2.9194261093780205,-9.3274550036630881,-4.6485313113127757,-6.9739793503516552,-5.1676189752678292,-8.2177208471663992,null,169.82971024828942,99.665545352286529,96.424286194247046,145.23624165269183,205.99281466574561,260.85935257778107,103.1206931835668,null,227.7984880727748,106.87266347108277,164.88604770141703,188.60085858573456,207.62746013406357,186.78181234102067,114.24284220091006,null,null,null,null,null,null,null,null,null,null,null,null,null,null,null,null,null,null,null,null,100]
[null,"Agosto",74.032330012399882,92.80859482388982,57.81719097441092,76.599470521042761,98.453702771185945,138.9747297470677,89.61847493210945,null,-5.8747196265441897,-2.833122795231402,-9.9822090532133085,-4.9715072699480389,-7.2397302837575062,-5.0176409201263761,-8.282738556534742,null,168.47037889128063,98.8876463564402,95.36922599895675,144.52198201623165,204.26539025801756,260.13780290708348,101.90749513495557,null,227.56325359888453,106.5500954346801,164.94960130658345,188.67229895085211,207.47354798096947,187.18352853107257,113.71259688602788,null,null,null,null,null,null,null,null,null,null,null,null,null,null,null,null,null,null,null,null,100]
[null,"Septiembre",74.168205515565631,92.846613323480028,57.942628670013022,76.463522865497595,98.314474590878135,138.70097131629524,89.844286503001513,null,-5.3820228791142117,-2.5518489030845748,-8.3032865740323203,-5.0049551798563847,-7.1463754649214728,-4.9812906875526197,-6.9698778389646439,null,168.34765805519203,98.590476386157434,95.535356562002747,143.97117263014241,203.73979724370463,259.89406930597056,101.62339230241916,null,226.98089684785617,106.18640018959617,164.87922407884307,188.28739147082391,207.23275803643278,187.37725254519322,113.11057859981351,null,null,null,null,null,null,null,null,null,null,null,null,null,null,null,null,null,null,null,null,100]
[null,"Octubre",74.551922588318433,91.181966033248173,57.908472109277412,77.181132309262352,98.970077859365148,138.4404093132384,90.493005413617496,null,-4.4666786033225385,-3.6385372199960409,-6.5442922996104214,-3.6985239378089174,-6.0268743214941018,-4.9811313838659448,-5.5007357360797204,null,168.74843322359257,98.920032939990648,95.921328807562972,145.38906206710399,205.90967557994739,261.15469410651673,102.23868540317029,null,226.35020984694742,108.48640059364469,165.64299715342617,188.37383919755752,208.05245386645205,188.64050995083542,112.97965509695105,null,null,null,null,null,null,null,null,null,null,null,null,null,null,null,null,null,null,null,null,100]
[null,"Noviembre",73.736364103955282,90.720436001418136,56.933150114643944,76.736547747971628,98.241431219882116,137.24767536237405,89.389967310962192,null,-3.7721521253685553,-3.7079887010722623,-6.6997972452953469,-3.2547352667678386,-4.5744052295572875,-5.5074261728738749,-5.7070860214619596,null,167.10421931427112,98.468163885655912,94.821477972347452,144.62968285834077,205.2019294905262,259.48530019749938,101.09658442061604,null,226.62389357669389,108.54022337824377,166.54879939263739,188.47561833684887,208.87514253660163,189.0635302291148,113.09611968972968,null,null,null,null,null,null,null,null,null,null,null,null,null,null,null,null,null,null,null,null,100]
[null,"Diciembre",73.400049500552626,90.283556312621258,56.088994261715222,76.853568565069679,96.791306745187583,136.45758592619418,88.963667177174401,null,-2.7801087148970116,-3.6152193181476222,-6.5957690711195731,-2.4684419543692604,-4.6200312906762182,-5.7645651271777005,-4.8350677496049936,null,166.78530219436192,98.039599328774599,93.864622005494169,144.9986936010161,204.15225968004674,258.30977584225468,100.4909921717346,null,227.22777890375428,108.59075930648632,167.34944750036914,188.66878442768723,210.92003666971578,189.29675040709478,112.95734018203534,null,null,null,null,null,null,null,null,null,null,null,null,null,null,null,null,null,null,null,null,100]
[2016,"Enero",72.55548653537889,89.786688872429892,55.574196405858963,77.397914897103163,95.563125525754742,129.60091936995931,88.013046030721952,null,-3.2090268667190003,-4.1700409194330268,-7.547313911404574,-1.3604314452804966,-4.0533656279503116,-8.0917937790079382,-5.0573914891370748,null,165.68398005125562,97.413078735883659,93.943342689126041,146.98418203016425,200.10909893885375,260.02404796968199,99.549312369747753,null,228.35486048386736,108.49389810363697,169.04129751702894,189.90715993521624,209.39991009913476,200.63441620149027,113.10745038297951,null,null,null,null,null,null,null,null,null,null,null,null,null,null,null,null,null,null,null,null,100]
[null,"Febrero",73.101729388892551,90.404322318142931,55.805751389840204,77.980010389058933,95.571669452249495,131.43059681378952,88.627991772207736,null,{"$f":"(C259/C247-1)*100","v":-2.3953133856177145},-3.6018483235304766,-6.7394383371047635,-0.61803664037631822,-3.2289294310506755,-7.0307345899229929,-4.8223792741530991,null,166.29388482329134,97.506180860910533,94.18675051401469,148.27413761872648,201.17635566178728,261.14928654816543,99.868554055579366,null,227.48283277763176,107.85566260623621,168.77606370006154,190.14377771810379,210.49789839896133,198.69748207729816,112.68285793077904,null,null,null,null,null,null,null,null,null,null,null,null,null,null,null,null,null,null,null,null,100]
[null,"Marzo",74.528566119627186,91.482747286893513,56.899166037991165,78.899368599336171,96.606080258662615,133.16337939748274,89.782353757589632,null,0.93764866723271556,-1.6460266848167038,-3.9010017592240431,1.6076103527083108,-1.3438363178038593,-5.0305893764946319,-1.5974842932117594,null,167.3358895879104,98.281530733311939,95.895907633492641,149.77456044216834,204.01470556930494,263.48605487549173,101.09204613521936,null,224.52584062776202,107.43176571326305,168.53657849653479,189.82985935254808,211.18205502495903,197.8667529073482,112.59678756937654,null,null,null,null,null,null,null,null,null,null,null,null,null,null,null,null,null,null,null,null,100]
[null,"Abril",75.305158229562139,92.449651421558926,57.450501208051485,79.349809325717359,97.422103323402908,134.78645271391059,90.48488242623354,null,1.6559336775957112,-1.0357725259883099,-4.1600002199415513,1.4639726148216736,-1.1794067885895765,-4.7267468649093818,-1.0623161246169688,null,168.76182115349224,98.772480014652004,96.74691912512273,150.52628501856836,205.60221190424159,265.55612720898193,102.14438267431585,null,224.10393274659154,106.83921301580877,168.40047883092095,189.69961780334438,211.04267398305231,197.01989470160996,112.88557816007281,null,null,null,null,null,null,null,null,null,null,null,null,null,null,null,null,null,null,null,null,100]
[null,"Mayo",75.192543501847283,92.191870080401543,56.285543157278589,78.946213056229851,96.742896905540789,134.43953656575263,89.939495793281679,null,0.37301578766957277,-1.6076470081146876,-6.0661801959554289,0.62151914388568485,-2.2653469151486916,-5.4306573520157002,-1.9675815487501302,null,168.44073980701123,98.329321638473061,95.041868601174755,149.92743140769397,205.04097538380361,264.78046195033971,101.53532105375591,null,224.01255757876189,106.65725898901822,168.85662511170841,189.91085905654194,211.94421703539069,196.95133493772423,112.89291779790078,null,null,null,null,null,null,null,null,null,null,null,null,null,null,null,null,null,null,null,null,100]
[null,"Junio",76.024352459702968,92.095573725502376,55.906525135462594,78.825710216206204,96.929922036823442,133.90743159331592,89.97140932669609,null,1.4086586009322,-1.7803279416691686,-5.7769333416085704,1.1168535854871653,-2.3643581116934431,-5.3718893808542445,-1.5622791162714589,null,169.91851689131389,98.09949726040999,94.628245393071126,150.35960269213962,204.85323990691765,264.63033575882645,101.30525496620255,null,223.50537872898019,106.51923137240315,169.26153997907232,190.74944238336388,211.3415915356812,197.62184414269331,112.59716361489018,null,null,null,null,null,null,null,null,null,null,null,null,null,null,null,null,null,null,null,null,100]
[null,"Julio",75.864712932229409,92.085448534553478,55.132742672809904,78.770769458995886,97.150600075028976,133.58260490051393,89.757659071090345,null,{"$f":"(C264/C252-1)*100","v":1.7599740279307996},{"$f":"(D264/D252-1)*100","v":-1.2555731568947515},{"$f":"(E264/E252-1)*100","v":-5.722713674584023},{"$f":"(F264/F252-1)*100","v":2.2901349027729667},{"$f":"(G264/G252-1)*100","v":-2.0784662959767219},{"$f":"(H264/H252-1)*100","v":-4.3515181878983729},{"$f":"(I264/I252-1)*100","v":-0.56147059321988158},null,171.33279017001425,98.073027211074432,94.035409070189374,150.88260058427522,206.09384387145204,264.57648636734672,101.25281430226119,null,225.83989782320444,106.502198525182,170.56181954932075,191.54643482671216,212.13851866307229,198.0620804365889,112.80687949099296,null,null,null,null,null,null,null,null,null,null,null,null,null,null,null,null,null,null,null,null,100]
[null,"Agosto",76.478456915187721,92.6520276917758,54.838945171918915,79.095252430133087,98.409203316572729,134.11873128114149,90.273245461614863,null,{"$f":"(C265/C253-1)*100","v":3.3041333460369637},{"$f":"(D265/D253-1)*100","v":-0.1686989576893394},{"$f":"(E265/E253-1)*100","v":-5.1511423372507581},{"$f":"(F265/F253-1)*100","v":3.2582234473862437},{"$f":"(G265/G253-1)*100","v":-4.5198355532283241E-2},{"$f":"(H265/H253-1)*100","v":-3.4941593157000961},{"$f":"(I265/I253-1)*100","v":0.73062003119495067},null,172.60317058952913,98.329333574418115,93.603048057094369,151.55858456836486,207.76565337653969,265.12025295540178,101.7380940958506,null,225.68861552860665,106.12755708005541,170.68717817903104,191.61527387783553,211.12421031209655,197.67578355602927,112.700162241437,null,null,null,null,null,null,null,null,null,null,null,null,null,null,null,null,null,null,null,null,100]
[null,"Septiembre",77.050792407747153,92.877117375296748,54.758546311497803,79.196409937274282,98.77172630987404,134.47807346899322,90.112358493682308,null,{"$f":"(C266/C254-1)*100","v":3.8865533716823553},{"$f":"(D266/D254-1)*100","v":3.2854242847224491E-2},{"$f":"(E266/E254-1)*100","v":-5.4952328391049914},{"$f":"(F266/F254-1)*100","v":3.5741056249578573},{"$f":"(G266/G254-1)*100","v":0.4650909450502505},{"$f":"(H266/H254-1)*100","v":-3.0446058215930383},{"$f":"(I266/I254-1)*100","v":0.2983739991878398},null,172.49145250699834,97.944489616083615,92.945283797705386,151.49210073407951,207.12579336300058,264.95730101657801,101.38137233023355,null,223.86720125366938,105.45599646499653,169.73658005634348,191.28657581077903,209.70150173663063,197.02639559130029,112.50551425456396,null,null,null,null,null,null,null,null,null,null,null,null,null,null,null,null,null,null,null,null,100]
[null,"Octubre",77.212786977202015,92.684285470663468,54.200833416076598,79.516466891198718,99.030289397238903,134.73747392146743,89.740575775127354,null,{"$f":"(C267/C255-1)*100","v":3.569142547237969},{"$f":"(D267/D255-1)*100","v":1.6476058838953866},{"$f":"(E267/E255-1)*100","v":-6.4025842129010631},{"$f":"(F267/F255-1)*100","v":3.0257842973574922},{"$f":"(G267/G255-1)*100","v":6.083812317427828E-2},{"$f":"(H267/H255-1)*100","v":-2.6747503927069705},{"$f":"(I267/I255-1)*100","v":-0.83147822867745136},null,172.37621194785575,97.838447332951844,92.471460074730402,151.86477467537023,207.88762580236994,265.64956452005742,100.90509280237629,null,223.24827103929286,105.56098785906892,170.60892655444354,190.98531488221766,209.92327404848132,197.16086162851246,112.4408796476023,null,null,null,null,null,null,null,null,null,null,null,null,null,null,null,null,null,null,null,null,100]
[null,"Noviembre",76.256114687013167,91.634174845330236,53.212977557243185,78.654356784529355,97.451632263365042,133.42251574072102,88.179549722071897,null,3.4172427860770016,1.0072028797324384,-6.5342819603510405,2.4992120349959679,-0.80393673698559986,-2.787048750773724,-1.3540866221369074,null,170.36411570374565,96.775797010734578,91.154706305148295,150.52685110868347,205.07037829005293,263.415469816052,99.111872173142032,null,223.41043259677059,105.61103122725,171.30164574438592,191.37763915741644,210.4329845762316,197.42954804415868,112.39779799911329,null,null,null,null,null,null,null,null,null,null,null,null,null,null,null,null,null,null,null,null,100]
[null,"Diciembre",75.21409490278279,91.379302025297505,52.871191725675999,78.909807464630234,96.267796564431592,131.99358870035383,87.423888953164877,null,{"$f":"(C269/C257-1)*100","v":2.4714498349439173},{"$f":"(D269/D257-1)*100","v":1.2136714119701519},{"$f":"(E269/E257-1)*100","v":-5.7369588782867575},{"$f":"(F269/F257-1)*100","v":2.6755281998643854},{"$f":"(G269/G257-1)*100","v":-0.5408648755349299},{"$f":"(H269/H257-1)*100","v":-3.2713441290503242},{"$f":"(I269/I257-1)*100","v":-1.7307944612298898},null,168.42825591892191,96.214603414978512,90.434011434726315,151.17151131441545,203.87356599517653,262.4639759751031,98.168920105492361,null,223.931772544258,105.29146237989693,171.04591079381433,191.5750604032016,211.77753441019593,198.84600347592456,112.29072657484255,null,null,null,null,null,null,null,null,null,null,null,null,null,null,null,null,null,null,null,null,100]
[2017,"Enero",75.574016547895809,90.966490428123322,52.789370569502829,79.416341139924967,97.25205877852558,125.61747475180053,87.330706815016143,null,4.1603056593729093,1.3140049716831692,-5.0110051363019608,2.6078560972930598,1.767348277360048,-3.0736237347110396,-0.77527053826500492,null,169.14656535530079,95.786836535562841,90.176184502054411,152.11531171971797,206.59712296004136,267.07225581343306,97.246372678726459,null,223.81576774882996,105.29903493556047,170.82261737394248,191.54157637620636,212.43470375319239,212.60756621729894,111.35415734664058,null,null,null,null,null,null,null,null,null,null,null,null,null,null,null,null,null,null,null,null,100]
[null,"Febrero",76.756609065616871,91.569099126379228,52.471006584166538,79.410805089543715,98.250259701086605,126.98879730969905,88.112847859396439,null,4.9997171165141463,1.2884083176214922,-5.9756292543724721,1.8348224030058979,2.8027032113061567,-3.3795779763395539,-0.58124290363626985,null,172.00743320640646,96.414441177777647,89.673933489117374,153.01927693237462,209.71944512045209,270.31149499431041,98.13157927782089,null,224.09462233976828,105.29145978023777,170.90187386680904,192.69326983882092,213.45434175797163,212.86247347872535,111.3703411725059,null,null,null,null,null,null,null,null,null,null,null,null,null,null,null,null,null,null,null,null,100]
[null,"Marzo",77.430846991777429,91.833117114293003,52.419461000007388,79.361238713681701,99.23536850183649,127.99084284152123,88.649111066945508,null,3.8941858447829825,0.38299005855246815,-7.8730592202225118,0.5853913948170808,2.7216591710728322,-3.8843536258732825,-1.2622109392496639,null,172.44544993577134,96.765893478927211,89.635530045054736,153.13714815162368,211.72079009710853,271.34431985244021,98.431846020606997,null,222.70898051016249,105.37145696415271,170.99666485514246,192.96214453520517,213.35214782135901,212.00291663710647,111.03534467060119,null,null,null,null,null,null,null,null,null,null,null,null,null,null,null,null,null,null,null,null,100]
[null,"Abril",78.087038327874751,92.287437593998845,52.524664510463268,79.44128382333642,99.772047016032687,128.59291074207081,89.272880622205975,null,3.6941428233007167,-0.17546180549714574,-8.5740534790980654,0.11528004716883089,2.4121258035549653,-4.5950775075191075,-1.3394522615594151,null,173.67809573691639,97.064093810415258,89.813332258587309,153.42730275516666,213.05432792399824,272.49191803633181,98.85779492979961,null,222.41603658685372,105.175846616774,170.99268143006583,193.13295980508354,213.54110123626296,211.90275300859378,110.7366472783107,null,null,null,null,null,null,null,null,null,null,null,null,null,null,null,null,null,null,null,null,100]
[null,"Mayo",79.956188174209615,92.283812525514065,52.513967775088666,79.60034093351355,100.50836516139211,129.73605207008941,89.659501269549537,null,{"$f":"(C274/C262-1)*100","v":6.33526204928192},{"$f":"(D274/D262-1)*100","v":9.9729450148200449E-2},{"$f":"(E274/E262-1)*100","v":-6.7007888182779363},{"$f":"(F274/F262-1)*100","v":0.82857410376073748},{"$f":"(G274/G262-1)*100","v":3.8922426103571217},{"$f":"(H274/H262-1)*100","v":-3.4985872577467658},{"$f":"(I274/I262-1)*100","v":-0.31131431331979931},null,178.13563526450969,97.162608747830276,90.029691808223546,154.11709961740073,214.80809545062667,274.14524877792758,99.231954321296769,null,222.79155539079144,105.2867302388134,171.439515280602,193.61361749207526,213.72160924684914,211.30999780216962,110.67645137013298,null,null,null,null,null,null,null,null,null,null,null,null,null,null,null,null,null,null,null,null,100]
[null,"Junio",79.912625275536229,92.72631682973126,52.498147488711993,79.878996880817013,101.96110363705945,130.74745135506348,90.451533895685714,null,5.1145096143952795,0.68487884782482134,-6.0965650046967408,1.3362222322156336,5.1905350737047717,-2.3598243955940235,0.53364126735664374,null,178.10369914311025,97.637554025470337,90.728784576465557,154.99447629370403,217.9272346198278,276.24010702014272,99.89504869538159,null,222.87304231216814,105.29648686980349,172.8228307407872,194.0365832647631,213.73565687907927,211.27762274307975,110.44041421186589,null,null,null,null,null,null,null,null,null,null,null,null,null,null,null,null,null,null,null,null,100]
[null,"Julio",80.739266159186414,93.074438617791586,51.704930837862129,80.084574700211363,102.61054844470044,131.39012487213017,91.138138641031446,null,6.4253234983061125,1.0739917098487206,-6.2173794895175494,1.6678842294404417,5.6200871280823517,-1.641291566380676,1.5380075463506948,null,180.69202668990144,98.033454704483063,90.750464805013635,155.99045834324721,220.23184450336041,278.18280453794063,100.54537002475132,null,223.79696433411601,105.32801074101084,175.51607425912948,194.78215240223471,214.62885428592088,211.72276440765248,110.32194811523684,null,null,null,null,null,null,null,null,null,null,null,null,null,null,null,null,null,null,null,null,100]
[null,"Agosto",82.239638863289656,93.918091137582451,52.16940929178795,80.478239271607123,104.0563962441006,132.07350196906842,92.048866197171321,null,{"$f":"(C277/C265-1)*100","v":7.5330781771537403},{"$f":"(D277/D265-1)*100","v":1.3664713847585164},{"$f":"(E277/E265-1)*100","v":-4.8679562886595029},{"$f":"(F277/F265-1)*100","v":1.7485080317502844},{"$f":"(G277/G265-1)*100","v":5.7384804847585347},{"$f":"(H277/H265-1)*100","v":-1.5249393522712595},{"$f":"(I277/I265-1)*100","v":1.966940178650689},null,183.04929797939027,98.470250682870414,90.986136031569941,156.74727288006605,222.4886517550953,280.27032729151495,101.50152769951546,null,222.58037670092477,104.84694640846077,174.40514904563463,194.76975925263167,213.81544987697873,212.20784117404125,110.26917754977694,null,null,null,null,null,null,null,null,null,null,null,null,null,null,null,null,null,null,null,null,100]
[null,"Septiembre",82.891092222730052,94.506458453784887,53.08566806467622,81.209186384940537,105.06566556905767,132.78112615399598,92.620201622225906,null,7.5798049993781591,1.7542976402942445,-3.0550085046182507,2.5414996074448748,6.3722074062346756,-1.2618765804884191,2.7830179683061118,null,184.11209255499125,98.719567156657774,91.662722680417417,157.43256359292147,224.34258193528208,282.18610954378465,101.98900153951827,null,222.1132423497067,104.45801141192183,172.66943418464916,193.86053549000437,213.52606555166776,212.51974412124866,110.11528775925723,null,null,null,null,null,null,null,null,null,null,null,null,null,null,null,null,null,null,null,null,100]
[null,"Octubre",81.099846165556087,93.718010996203262,52.529058485947409,80.563789358601682,103.55821953109533,132.19395520749015,91.903887594060507,null,5.0342169225179978,1.1153190859598094,-3.0844081626857811,1.3171139367094797,4.5722679004739586,-1.8877589433358266,2.4106284144576939,null,181.05748225474801,97.986317276350817,91.128310400945949,156.56311721544878,222.11072118617241,280.7500189094057,100.94640832046298,null,223.252559425501,104.55441407129359,173.48171284152107,194.33435103029046,214.47908451098797,212.37734998453121,109.83910579097946,null,null,null,null,null,null,null,null,null,null,null,null,null,null,null,null,null,null,null,null,100]
[null,"Noviembre",80.438089653917189,93.499706826777228,51.999344799626357,80.487072568276758,102.57953379681807,131.46227445117103,92.040872684339192,null,{"$f":"(C280/C268-1)*100","v":5.4841175479088955},{"$f":"(D280/D268-1)*100","v":2.0358474167479823},{"$f":"(E280/E268-1)*100","v":-2.2807082281973035},{"$f":"(F280/F268-1)*100","v":2.3300880697150195},{"$f":"(G280/G268-1)*100","v":5.2619965559886905},{"$f":"(H280/H268-1)*100","v":-1.4691982673743942},{"$f":"(I280/I268-1)*100","v":4.378932501285826},null,179.77543859967352,97.908017860995272,90.879126107602318,157.08285756536159,222.32964264409469,281.090123319746,100.85879227309356,null,223.49541041209795,104.71478594300316,174.76975230706239,195.1653259995374,216.73879224726127,213.81808925278497,109.58043891977867,null,null,null,null,null,null,null,null,null,null,null,null,null,null,null,null,null,null,null,null,100]
[null,"Diciembre",80.071876638416683,93.427528368235713,51.66916215793448,80.129007672789058,101.93553891234619,131.08901478942536,92.215017687158721,null,6.4586055870415882,2.2414554472862669,-2.2735057192928232,1.5450553579227755,5.8874748879509387,-0.68531655198950103,5.4803427202381405,null,179.56828803988867,97.915532505461144,91.031943738669071,157.18463592269461,223.04458984416206,282.6762492441095,101.05934479123479,null,224.25887287589293,104.8037277830324,176.1823492713437,196.16446089606677,218.80944783737974,215.63687063953151,109.59098347091427,null,null,null,null,null,null,null,null,null,null,null,null,null,null,null,null,null,null,null,null,100]
[2018,"Enero",81.450532382231643,94.365270110259601,52.69853850779927,81.337376604198937,104.66446852404539,129.72700643220989,93.868851566089958,null,7.7758416222479365,3.7362985711994812,-0.17206505916559367,2.418942294117099,7.6218538081546106,3.2714649681735208,7.4866504457852479,null,183.15460341380876,98.58398889919458,92.043920704238673,159.41949349731411,229.84479298316495,288.58041663526876,102.16233299860218,null,224.86606048724087,104.4706265175797,174.66123978109255,195.99783046000559,219.60154790291693,222.45207422254768,108.83517939566252,null,null,null,null,null,null,null,null,null,null,null,null,null,null,null,null,null,null,null,null,100]
[null,"Febrero",82.370987975148921,95.179103866676357,53.495079524289629,81.589434168327685,106.04572271678737,132.14357183025245,94.706933321796257,null,7.3145218084510244,3.9423831562596989,1.9516929572914066,2.7434919924654411,7.9342925295235123,4.0592356410636743,7.4836821446540247,null,184.67849065899429,98.989515798275548,92.765018119977128,160.13539194562182,232.0711412940403,292.04509371142228,102.80483273295877,null,224.20332109493603,104.00341227937666,173.40850587549244,196.26976651810756,218.84064283650991,221.00590264547591,108.55048213170136,null,null,null,null,null,null,null,null,null,null,null,null,null,null,null,null,null,null,null,null,100]
[null,"Marzo",82.070530942419936,95.406626236637962,53.693211636787566,81.653158889212179,106.23963289402744,132.67294548103786,94.768428470491685,null,5.9920356432820787,3.8913076618072973,2.4299193705558997,2.8879591758884215,7.0582338715871495,3.6581543925872984,6.9028525271111141,null,183.61702210020516,99.020700065662808,93.191695766989369,160.49179030278225,232.76741045332631,293.80463797399608,102.86007935839609,null,223.73075937455491,103.78807423717178,173.56327350539721,196.55306969879649,219.09658769765196,221.45030164871696,108.5383402663725,null,null,null,null,null,null,null,null,null,null,null,null,null,null,null,null,null,null,null,null,100]
[null,"Abril",82.04432380265672,95.685202982200863,53.990186639572386,81.828924211811668,106.49441148684345,132.984434262523,94.831255413325849,null,{"$f":"(C285/C273-1)*100","v":5.0677878935118104},{"$f":"(D285/D273-1)*100","v":3.6817203692986356},{"$f":"(E285/E273-1)*100","v":2.7901599044334313},{"$f":"(F285/F273-1)*100","v":3.0055410405815497},{"$f":"(G285/G273-1)*100","v":6.7377233121522773},{"$f":"(H285/H273-1)*100","v":3.4150588046495178},{"$f":"(I285/I273-1)*100","v":6.2262747122974194},null,182.96341790613033,99.103308188325158,93.55049849224109,160.7883384868347,233.69827312553576,294.77893147814939,102.91473019393503,null,223.00557726116051,103.57224011612342,173.27315261339135,196.49328160619464,219.44651354255086,221.66423695590552,108.52406176146991,null,null,null,null,null,null,null,null,null,null,null,null,null,null,null,null,null,null,null,null,100]
[null,"Mayo",81.16774090632876,94.783016823534211,53.291518790725782,81.308376547486617,105.13237019536412,131.56631017982306,93.394928277988129,null,{"$f":"(C286/C274-1)*100","v":1.5152707498754081},{"$f":"(D286/D274-1)*100","v":2.7081719205404253},{"$f":"(E286/E274-1)*100","v":1.4806556209336019},{"$f":"(F286/F274-1)*100","v":2.1457641938992467},{"$f":"(G286/G274-1)*100","v":4.6006170994294715},{"$f":"(H286/H274-1)*100","v":1.4107552068447937},{"$f":"(I286/I274-1)*100","v":4.1662366570705212},null,180.25269594753647,98.013134941089348,92.530955535315954,159.4124088740538,231.50218899185222,291.41209334905034,101.09557098483855,null,222.07430431697759,103.40790811034104,173.63167279709603,196.05902324338254,220.20067516946406,221.49446385685835,108.24524719793094,null,null,null,null,null,null,null,null,null,null,null,null,null,null,null,null,null,null,null,null,100]
[null,"Junio",80.774524368878517,94.136064758927873,52.867340125871358,80.939130966266859,104.41434837047836,130.56883560356636,92.354738891605137,null,{"$f":"(C287/C275-1)*100","v":1.078551843805009},{"$f":"(D287/D275-1)*100","v":1.5203320668772724},{"$f":"(E287/E275-1)*100","v":0.70324888557020682},{"$f":"(F287/F275-1)*100","v":1.3271750107623603},{"$f":"(G287/G275-1)*100","v":2.406059414726891},{"$f":"(H287/H275-1)*100","v":-0.13661126824725534},{"$f":"(I287/I275-1)*100","v":2.1041157777537789},null,179.419854846356,97.315709389334643,92.168301015771519,159.09166867881765,230.52580186242423,289.1898607464334,100.02570864199127,null,222.1243099210181,103.37771144199567,174.33882770786059,196.55717423643028,220.77981183628404,221.4845980739791,108.30598390775528,null,null,null,null,null,null,null,null,null,null,null,null,null,null,null,null,null,null,null,null,100]
[null,"Julio",80.469726875982971,94.104469618893276,52.846630442136096,80.787052160023592,105.20565882928732,130.79272995872014,92.176188275496173,null,{"$f":"(C288/C276-1)*100","v":-0.3338391541384822},{"$f":"(D288/D276-1)*100","v":1.1066744171635445},{"$f":"(E288/E276-1)*100","v":2.2081058532969378},{"$f":"(F288/F276-1)*100","v":0.87716949542639977},{"$f":"(G288/G276-1)*100","v":2.5290873345106935},{"$f":"(H288/H276-1)*100","v":-0.45467261256614266},{"$f":"(I288/I276-1)*100","v":1.1389848969302729},null,179.14384463267737,97.343926310349332,92.374112105973609,159.32119504148417,231.78180067251381,289.28467901717306,99.714409027662725,null,222.62265772166393,103.44240470678523,174.79659787792474,197.2112990654735,220.31305468902212,221.17795011119884,108.17805649506388,null,null,null,null,null,null,null,null,null,null,null,null,null,null,null,null,null,null,null,null,100]
[null,"Agosto",80.407228588198493,93.753596882999389,52.724955318219806,80.248510569718448,105.62187084113816,130.72490513277685,91.763178051244083,null,{"$f":"(C289/C277-1)*100","v":-2.2281351188047638},{"$f":"(D289/D277-1)*100","v":-0.175146505418311},{"$f":"(E289/E277-1)*100","v":1.0648884738652775},{"$f":"(F289/F277-1)*100","v":-0.28545443335726839},{"$f":"(G289/G277-1)*100","v":1.5044482161050476},{"$f":"(H289/H277-1)*100","v":-1.0210956900403856},{"$f":"(I289/I277-1)*100","v":-0.31036574129581496},null,178.50324231546116,97.032687405640019,92.352999949627403,158.62761822724914,231.48358562080591,288.70107952851407,99.058617817339936,null,221.99899865925784,103.49756236737542,175.15993971400027,197.67048273056275,219.16255012086614,220.84627197493955,107.95029108737036,null,null,null,null,null,null,null,null,null,null,null,null,null,null,null,null,null,null,null,null,100]
[null,"Septiembre",82.000947414399562,93.803258088040934,53.577001223691923,80.568765700799233,105.65605351322294,131.08750507968028,91.916120318301381,null,{"$f":"(C290/C278-1)*100","v":-1.0738726978511193},{"$f":"(D290/D278-1)*100","v":-0.74407651841892353},{"$f":"(E290/E278-1)*100","v":0.92554766084340656},{"$f":"(F290/F278-1)*100","v":-0.7886062065757482},{"$f":"(G290/G278-1)*100","v":0.56192281366858055},{"$f":"(H290/H278-1)*100","v":-1.2754983508360129},{"$f":"(I290/I278-1)*100","v":-0.7601811393115887},null,181.95741218653794,96.895033455797801,94.157686549296145,158.88288064470902,232.00377072967501,288.77392980993346,98.872819030407854,null,221.89671939642221,103.29602130115249,175.74273363336229,197.2015821053256,219.58398313698089,220.29096490501132,107.5685295332481,null,null,null,null,null,null,null,null,null,null,null,null,null,null,null,null,null,null,null,null,100]
[null,"Octubre",83.441900341690115,93.59115986178567,53.756665960525851,80.101211477500314,105.54722968367459,131.2915919549788,91.697558956458906,null,{"$f":"(C291/C279-1)*100","v":2.8878651278240186},{"$f":"(D291/D279-1)*100","v":-0.13535406168909692},{"$f":"(E291/E279-1)*100","v":2.3370064302729698},{"$f":"(F291/F279-1)*100","v":-0.57417592293526054},{"$f":"(G291/G279-1)*100","v":1.920668549136284},{"$f":"(H291/H279-1)*100","v":-0.68260553297994075},{"$f":"(I291/I279-1)*100","v":-0.22450479844003945},null,185.44148992583231,96.693218013265167,94.574449911972209,158.50509959341969,232.40174747232163,289.11710982740686,98.507934499656031,null,222.24025239892589,103.31447773065383,175.93064640842744,197.88102660337702,220.18744420751779,220.20992016499278,107.42699764388593,null,null,null,null,null,null,null,null,null,null,null,null,null,null,null,null,null,null,null,null,100]
[null,"Noviembre",84.907402552922832,92.945004281175628,53.106295623129704,79.379743630450534,104.45001455423058,131.02413211465233,91.098890795444873,null,{"$f":"(C292/C280-1)*100","v":5.556214621996558},{"$f":"(D292/D280-1)*100","v":-0.59326661486679422},{"$f":"(E292/E280-1)*100","v":2.1287784062834936},{"$f":"(F292/F280-1)*100","v":-1.3757848341258594},{"$f":"(G292/G280-1)*100","v":1.823444393028173},{"$f":"(H292/H280-1)*100","v":-0.33328370313677746},{"$f":"(I292/I280-1)*100","v":-1.0234386761248104},null,190.03505313761642,96.091873493532603,93.35348783959347,158.35330389452787,231.63344703870385,288.21277775220221,97.706456794592199,null,223.81447014489399,103.38573249492478,175.78610359509744,199.48830350440014,221.76487770467421,219.96923246169823,107.25317942013595,null,null,null,null,null,null,null,null,null,null,null,null,null,null,null,null,null,null,null,null,100]
[null,"Diciembre",83.314157684935935,93.308937177600072,53.266931035926817,79.542212031349351,104.03573977327262,131.14109935417244,91.464793826377601,null,{"$f":"(C293/C281-1)*100","v":4.0492132601818831},{"$f":"(D293/D281-1)*100","v":-0.12693388416337159},{"$f":"(E293/E281-1)*100","v":3.0923065350053847},{"$f":"(F293/F281-1)*100","v":-0.73231362584186277},{"$f":"(G293/G281-1)*100","v":2.0603225168921657},{"$f":"(H293/H281-1)*100","v":3.9732211605025824E-2},{"$f":"(I293/I281-1)*100","v":-0.81355930909894347},null,187.09125294829099,96.162499145107475,93.839207755834295,159.16357009549992,232.25664883040423,288.10542386042204,97.755468098609072,null,224.56117681199225,103.05818719387625,176.16785110548756,200.09950192580766,223.24698160129034,219.69117635832566,106.87770016097416,null,null,null,null,null,null,null,null,null,null,null,null,null,null,null,null,null,null,null,null,100]
[2019,"Enero",84.646694106963423,94.527991354806019,53.148389097053574,80.287692578470299,106.34362700035634,131.77953363061465,92.855387117881378,null,{"$f":"(C294/C282-1)*100","v":3.9240525890399391},{"$f":"(D294/D282-1)*100","v":0.17243763977603521},{"$f":"(E294/E282-1)*100","v":0.85363010434857944},{"$f":"(F294/F282-1)*100","v":-1.2905309582783464},{"$f":"(G294/G282-1)*100","v":1.6043252308926448},{"$f":"(H294/H282-1)*100","v":1.5821895955622223},{"$f":"(I294/I282-1)*100","v":-1.0796600057422001},null,190.4281058302754,97.604087464915366,94.663593010811368,161.01051866604942,237.0077489861946,293.33198156864358,98.884578595881905,null,224.96815479839265,103.2541642597306,178.11187623757968,200.54196788465873,222.86972493932376,222.59297288975804,106.49309820909625,null,null,null,null,null,null,null,null,null,null,null,null,null,null,null,null,null,null,null,null,100]
[null,"Febrero",85.574305962611064,94.883750213700381,53.356208751618347,80.187360401838873,107.03138072976375,132.16728986742322,93.319687532198728,null,{"$f":"(C295/C283-1)*100","v":3.8888910600763715},{"$f":"(D295/D283-1)*100","v":-0.31031354675254974},{"$f":"(E295/E283-1)*100","v":-0.25959541308510081},{"$f":"(F295/F283-1)*100","v":-1.7184501654910145},{"$f":"(G295/G283-1)*100","v":0.92946512855474062},{"$f":"(H295/H283-1)*100","v":1.7948687811486508E-2},{"$f":"(I295/I283-1)*100","v":-1.4647774359707433},null,191.82175051223109,97.70410168578681,94.761467799830598,161.35279520866595,238.13871647642904,293.7648520974804,99.003902158348964,null,224.15811423120559,102.97242833017701,177.60157630569353,201.21973637751242,222.49429546058948,222.26744029642691,106.09112050893761,null,null,null,null,null,null,null,null,null,null,null,null,null,null,null,null,null,null,null,null,100]
[null,"Marzo",85.109119818712088,94.988563261057479,53.2409949216553,80.313171956783847,105.47771344432536,131.8263914698052,93.124186320589814,null,{"$f":"(C296/C284-1)*100","v":3.7024116225396364},{"$f":"(D296/D284-1)*100","v":-0.43819071281648858},{"$f":"(E296/E284-1)*100","v":-0.84222325569073275},{"$f":"(F296/F284-1)*100","v":-1.6410717609179559},{"$f":"(G296/G284-1)*100","v":-0.71717063486287369},{"$f":"(H296/H284-1)*100","v":-0.63807583992596673},{"$f":"(I296/I284-1)*100","v":-1.7350104633357288},null,189.57718312865003,97.612720553892302,94.081406386356221,161.40459593148964,237.9465674880349,293.4929500849326,98.790977173966354,null,222.74602713840969,102.76260341534258,176.70858053046911,200.96902164235365,225.58942521410557,222.63595840909983,106.08519770993543,null,null,null,null,null,null,null,null,null,null,null,null,null,null,null,null,null,null,null,null,100]
[null,"Abril",84.38714486385534,95.241800657256391,52.849335352335402,79.929131015406412,104.70723315797345,131.56809917684785,93.105114329724714,null,2.8555553298651892,-0.46339696329740221,-2.113071575123604,-2.3216646371736482,-1.6781897790860034,-1.0650382456635299,-1.8202238028777296,null,188.21452548578762,97.641975717785186,93.579825687711505,161.37711207411417,237.60017436611213,293.05422694711194,98.665036533532046,null,223.03696349656161,102.52008576482739,177.06906825570178,201.90024591035348,226.91858737938477,222.73957652394279,105.97166143217149,null,null,null,null,null,null,null,null,null,null,null,null,null,null,null,null,null,null,null,null,100]
[null,"Mayo",82.839538728387552,94.743358600145058,52.656250976689208,79.442786567170927,103.80814489731704,130.96651320614353,92.341180918746005,null,{"$f":"(C298/C286-1)*100","v":2.0596825825029752},-4.1841064695158359E-2,-1.1920617547629853,-2.2944622184482122,-1.2595790388691075,-0.45588948482307989,-1.128270430387468,null,184.6957998036514,97.08763360375778,93.343132054082702,160.70420551622988,237.00356254231446,290.92413705713801,97.776379756094997,null,222.95609396043105,102.47434230562429,177.26885283839417,202.28923538621132,228.3092167543781,222.13627738505832,105.88599667371763,null,null,null,null,null,null,null,null,null,null,null,null,null,null,null,null,null,null,null,null,100]
[null,"Junio",81.845222970218387,94.852681050648613,52.439448780493542,79.541286769446018,104.23631538570478,131.63916725756627,92.769615463706813,null,1.3255399641231458,0.76125584127180179,-0.80936802259968799,-1.7270313878257726,-0.17050624512053858,0.81974511685902751,0.44922066488499723,null,182.93686227029804,97.053871147391163,93.707448685267707,160.9950396668747,238.15217161234466,291.6722818878157,97.888171732923823,null,223.51562575236014,102.32064088474966,178.69647920503132,202.40436910899621,228.47332115598306,221.56952825227717,105.51749216985758,null,null,null,null,null,null,null,null,null,null,null,null,null,null,null,null,null,null,null,null,100]
[null,"Julio",80.184180906308043,95.434003705693343,52.48576054148112,79.529637022110194,104.56808852392113,132.06420835378785,92.911112240313741,null,{"$f":"(C300/C288-1)*100","v":-0.35484893606635426},{"$f":"(D300/D288-1)*100","v":1.4128277776650267},{"$f":"(E300/E288-1)*100","v":-0.68286264920921491},{"$f":"(F300/F288-1)*100","v":-1.5564562690351669},{"$f":"(G300/G288-1)*100","v":-0.60602282468544821},{"$f":"(H300/H288-1)*100","v":0.9721323161226092},{"$f":"(I300/I288-1)*100","v":0.79730348864179845},null,180.4125986164247,97.268578398606067,93.624028673990438,161.30438160671594,239.42530746654077,293.50313285265088,98.192057459823502,null,224.99774466391256,101.92234908070117,178.37986476350375,202.8229822825312,228.96594060985396,222.24275336310885,105.68386826093592]
[null,"Agosto",78.459932003398023,95.008397115188544,52.419104937458371,79.020180764091847,103.77172871046092,131.28876403309627,92.066228802997017,null,{"$f":"(C301/C289-1)*100","v":-2.4217929395047966},1.3384022308553067,-0.58008656226541389,-1.5306574500961623,-1.7516657449288764,0.43133242265251948,0.33025311261962731,null,176.13219689849242,96.36955994933551,92.596891402123333,160.19559603813616,237.21107251443584,292.28847649484959,96.86174974877882,null,224.48680798100139,101.43267634806708,176.6472195826338,202.72744821526888,228.58930410255692,222.63022936309102,105.20877308447511]
[null,"Septiembre",79.772831464041616,95.189018936720217,53.009550149297603,79.057515052309739,104.23594729882917,131.9690554829769,92.046624213893281,null,{"$f":"(C302/C290-1)*100","v":-2.7171831797234591},1.4773056681876007,-1.0591318316326204,-1.8757276909288745,-1.3440840985188274,0.67249003080862568,0.14198151003324,null,178.49656276365343,96.1826701549045,92.883792103971246,160.16704130418375,237.34510156287061,294.17409071610899,96.52297746119082,null,223.75608272612527,101.04387168738953,175.22086462226278,202.59559283922158,227.69985567688758,222.91141634642938,104.8631367913022]
[null,"Octubre",80.678988309454311,95.659140976003016,53.268173768432796,79.345469438868136,104.92288542070413,134.58088713231405,92.612040479964492,null,{"$f":"(C303/C291-1)*100","v":-3.3111806189957682},2.2095902190669703,-0.90870998668660663,-0.94348390578894437,-0.59153069658163249,2.5053357403596488,0.99728011728186239,null,179.81044692650772,96.362429609707817,93.670124488655574,160.64454636901203,238.85385598387677,300.91026056420156,96.721603098686458,null,222.87146962827836,100.73520274856034,175.84632222583409,202.46215380045226,227.64705242917805,223.59063532428624,104.43739561014318]
[null,"Noviembre",80.015671121556764,95.797473615122158,52.800333588212659,79.24509153813456,104.79509754421976,134.75376540140593,92.908518267450688,null,{"$f":"(C304/C292-1)*100","v":-5.7612543597916011},3.0689861773713911,-0.57613138202731173,-0.16963029377222716,0.33038098794138104,2.8465239391854746,1.9864429261484462,null,178.64905219493278,96.547387032670812,93.179003233472656,160.89880552879075,240.17733912556972,302.17764396529606,96.95939594126169,null,223.26757957642562,100.78281126761392,176.47426995475325,203.0394594867274,229.18757151232532,224.24430446538258,104.36007133613944]
[null,"Diciembre",79.170202530414599,95.871438657532536,52.524552823048019,79.132032684590996,104.14647386975902,134.99530204413941,93.345152857826179,null,{"$f":"(C305/C293-1)*100","v":-4.9738907163801365},2.7462551363703902,-1.3936943586595696,-0.51567505640488509,0.10643851500236057,2.9389739059285436,2.0558282075373802,null,176.43052892103151,96.681638108736252,93.17584620834721,161.23188500506953,240.9191402628737,303.01335957841599,97.146580140985932,null,222.84966222393163,100.84508948916255,177.39483955675146,203.75046556394784,231.327217630197,224.46215163794346,104.07244207843304]
[2020,"Enero",79.904474901843329,96.906736419404538,53.004245285012409,79.021040307842313,105.73026351041962,134.9725615793875,93.874746270676596,null,-5.6023678835320005,2.5164451613808536,-0.2712101241261422,-1.577641889994541,-0.57677503319937262,2.4230074737728868,1.0977921523294354,null,178.13699301804039,97.235663740727134,93.290726837153059,160.28949589532817,244.76470114293883,307.71924469665862,97.855108695132316,null,222.93744278636254,100.33942668329992,176.00614127323897,202.84407199764553,231.49918766523979,227.98651896049691,104.24007795768505]
[null,"Febrero",79.5876762584207,96.888816532147629,52.802161257207572,78.529507872884309,105.68402997620535,135.37776702986346,93.624874674514501,null,-6.9958261850303849,2.113181987359658,-1.0383936703410757,-2.0674736275725358,-1.2588371226941675,2.4291011532888929,0.32703403792524455,null,177.34590848015125,96.736954845311459,92.234716843925398,159.48907075970894,244.4715836473776,307.0394611066414,97.0088963715164,null,222.83086630687669,99.843261903415055,174.67981356792515,203.09444829053791,231.32310880122583,226.80198369567614,103.61444723826484]
[null,"Marzo",78.358468694087605,94.666964858951729,51.359159461601301,76.966181600997587,103.33097515340297,135.10550726882374,91.987718227357675,null,{"$f":"(C308/C296-1)*100","v":-7.9317600029277795},{"$f":"(D308/D296-1)*100","v":-0.33856539257457463},{"$f":"(E308/E296-1)*100","v":-3.5345610329467703},{"$f":"(F308/F296-1)*100","v":-4.1674239408540092},{"$f":"(G308/G296-1)*100","v":-2.0352529655996987},{"$f":"(H308/H296-1)*100","v":2.4874501702260687},{"$f":"(I308/I296-1)*100","v":-1.2203790853213214},null,174.87451329422805,94.867321387162036,90.339463289422511,157.11696639820508,239.39958370190965,305.39280791849342,95.040754294062921,null,223.17244863084329,100.21164355328051,175.89747230377642,204.13766556943057,231.68230372983714,226.04023632496606,103.31896053683964]
[null,"Abril",77.057880956667347,93.164172112034649,49.980785296509943,75.510288556096413,101.56335759600648,135.27056508162769,91.268098387889296,null,{"$f":"(C309/C297-1)*100","v":-8.6852848487912979},{"$f":"(D309/D297-1)*100","v":-2.1814250999920071},{"$f":"(E309/E297-1)*100","v":-5.4277883282759181},{"$f":"(F309/F297-1)*100","v":-5.5284505200716705},{"$f":"(G309/G297-1)*100","v":-3.0025390483040981},{"$f":"(H309/H297-1)*100","v":2.8141061001444978},-1.973055889636488,null,172.13617699925555,93.638173329189897,89.091584843389654,155.64475234018872,236.45704049314909,304.7829324811014,93.564023728557103,null,223.3855575344129,100.50878058207316,178.25167074677944,206.12390088346783,232.81727395594362,225.31356492610431,102.5155836280385]
[null,"Mayo",77.356350501462273,93.045762959462422,49.960391015575368,76.157681855077911,101.77732269006056,138.03006562593097,91.364703780045417,null,-6.6190472702937653,-1.7917832613968954,-5.119733955817118,-4.1351831349915935,-1.9563226076964257,5.3934034333412262,-1.0574665918121839,null,172.73270850621429,93.838627825573809,89.290785237615296,156.13572276761914,238.2111392807503,310.79739930138152,93.78181878975343,null,223.29480047400776,100.85212355822888,178.72315132557412,205.01638044174339,234.05129255184636,225.1664504338203,102.64556760948633]
[null,"Junio",79.599764876987464,93.823590137533756,50.14173896278615,76.830281764768557,103.06575847751392,143.81196158561073,92.594975804150167,null,-2.7435420318275505,-1.0849360310283163,-4.3816437265108981,-3.4082991547967123,-1.1229837738023107,9.2470915622149708,-0.1882509253527842,null,177.00441174473585,94.797181839714625,90.508205676239228,157.58210109571144,242.00668976902131,327.73332053295684,95.211443353101572,null,222.36800827022086,101.03768327427431,180.50472031576726,205.1041561687629,234.80804230613646,227.8901677715163,102.82571222275121]
[null,"Julio",80.669841924308514,94.574438692622195,50.260872802362591,76.560395418182438,104.05976179589794,143.02006023011546,93.709388448273685,null,{"$f":"(C312/C300-1)*100","v":0.60568183463511893},{"$f":"(D312/D300-1)*100","v":-0.90069050830345887},{"$f":"(E312/E300-1)*100","v":-4.2390311508587741},{"$f":"(F312/F300-1)*100","v":-3.7335032763977982},-0.48612032140847861,8.2958524591143501,0.85918270561136101,null,179.22747468225543,95.065131190511437,90.741314636830424,157.54747246546924,243.71472801505035,330.60830145961563,95.678308705131883,null,222.17407448302959,100.51884262245959,180.54066628258988,205.78194718682585,234.20650192633602,231.16218866617436,102.10109177902171]
[null,"Agosto",82.896779810240801,95.917752743568869,50.530282355017356,76.68935777118638,105.79937904481893,143.21396375962146,94.569810266424327,null,{"$f":"(C313/C301-1)*100","v":5.6549218098361553},{"$f":"(D313/D301-1)*100","v":0.95713184938570617},{"$f":"(E313/E301-1)*100","v":-3.6033094893447415},{"$f":"(F313/F301-1)*100","v":-2.9496553543251758},1.953952545221127,{"$f":"(H313/H301-1)*100","v":9.0831837852620723},2.7193266151744666,null,183.83153787923015,95.587940176838941,91.376379412381624,157.75761629522822,245.68136592235379,332.59258074824078,96.418180029817819,null,221.75956448494057,99.656150652724662,180.8348878211018,205.70991970739999,232.21437416780847,232.23474304955576,101.95450298376005]
[null,"Septiembre",83.93544436753605,96.864705175099814,51.187256554375253,76.7599221028008,106.84483819119599,144.55687796675454,95.164680439750171,null,{"$f":"(C314/C302-1)*100","v":5.2180834340457949},{"$f":"(D314/D302-1)*100","v":1.7603776749643307},{"$f":"(E314/E302-1)*100","v":-3.4376703627742367},{"$f":"(F314/F302-1)*100","v":-2.9062296582288205},{"$f":"(G314/G302-1)*100","v":2.502870612273056},{"$f":"(H314/H302-1)*100","v":9.5384652392252569},3.3874748286382594,null,186.34790354274128,96.134457015360198,92.549531427566308,158.14347729981145,247.18519620619469,337.22802122033607,96.911622838308205,null,222.01336389757128,99.246115333320262,180.80580530674209,206.02349894000369,231.34968463695307,233.28396819547552,101.83570458124332]
[null,"Octubre",84.818395515539677,97.0421706954847,50.985623199161793,76.359284469955767,107.09503714509101,145.17240926745544,95.527448486428227,null,{"$f":"(C315/C303-1)*100","v":5.1307128322037876},{"$f":"(D315/D303-1)*100","v":1.4457893990796222},{"$f":"(E315/E303-1)*100","v":-4.285017502559219},{"$f":"(F315/F303-1)*100","v":-3.7635229711673435},{"$f":"(G315/G303-1)*100","v":2.0702363604253815},{"$f":"(H315/H303-1)*100","v":7.8700046944468971},3.1479794542421891,null,188.32662366380782,96.474227450620717,93.075673941701254,157.98671004121744,248.12205837137972,340.85507111659473,97.070625506666218,null,222.03511693321798,99.41474593901431,182.55278272882111,206.89914938029403,231.68399300821667,234.79328671099432,101.61542786360218]
[null,"Noviembre",85.911883470151068,97.658735817676913,51.203841724278675,76.195817219867877,107.24252215013881,145.01115954232864,96.51043502889577,null,{"$f":"(C316/C304-1)*100","v":7.3688219644336916},{"$f":"(D316/D304-1)*100","v":1.9429136618285048},{"$f":"(E316/E304-1)*100","v":-3.0236397299777451},{"$f":"(F316/F304-1)*100","v":-3.847903080280124},2.3354380722689028,7.6119536328857818,3.8768423268536578,null,191.08148011736438,97.393156951091925,94.124749832571652,158.64459152600577,250.64047959181045,342.94778435633378,98.145097465331659,null,222.41565706536167,99.72805416293653,183.82360905537624,208.20643089662872,233.71371221661073,236.49751194233269,101.69376755575337]
[null,"Diciembre",86.407283620231524,98.553783562074017,51.969214394969129,76.254787557357744,107.16967075369864,145.01147242525528,97.84500223974436,null,{"$f":"(C317/C305-1)*100","v":9.1411678365186368},{"$f":"(D317/D305-1)*100","v":2.7978561103304544},{"$f":"(E317/E305-1)*100","v":-1.0572930148492476},{"$f":"(F317/F305-1)*100","v":-3.6360055841122452},{"$f":"(G317/G305-1)*100","v":2.9028317249802482},{"$f":"(H317/H305-1)*100","v":7.4196436686669864},4.8206567177321968,null,192.72125763245873,98.226016560335907,95.283547682291811,159.30744390659734,253.12756929094121,343.64252766823063,99.517833861235232,null,223.03820876893607,99.667423218174406,183.34613826972864,208.91467802827276,236.19328818569247,236.97609707766932,101.70967508119834]
[2021,"Enero",86.445665496647351,97.093334973867954,51.365512808091246,74.990658326221592,106.64823237364476,142.79453429419533,97.123996107566029,null,{"$f":"(C318/C306-1)*100","v":8.18626316340778},{"$f":"(D318/D306-1)*100","v":0.19255478138882065},{"$f":"(E318/E306-1)*100","v":-3.0917004253327884},{"$f":"(F318/F306-1)*100","v":-5.1003909413487314},{"$f":"(G318/G306-1)*100","v":0.86821770110756535},{"$f":"(H318/H306-1)*100","v":5.7952317295298039},3.4612608459367866,null,195.20320613373778,98.145114000527599,95.350796882927071,159.97116661656531,255.4214154675058,346.92322919252297,100.29953303901328,null,225.81028789848162,101.08326593884402,185.6319379875969,213.3214592151794,239.4989675709115,242.95273688681061,103.26956988871248]
[null,"Febrero",87.287337108470595,97.588680272552736,51.3270929692941,75.641625373589633,106.76980848576831,142.89047549420187,97.203554001092058,null,{"$f":"(C319/C307-1)*100","v":9.6744385714305103},{"$f":"(D319/D307-1)*100","v":0.72233696875934061},{"$f":"(E319/E307-1)*100","v":-2.7935755900751591},{"$f":"(F319/F307-1)*100","v":-3.6774488692445262},{"$f":"(G319/G307-1)*100","v":1.027381819000861},{"$f":"(H319/H307-1)*100","v":5.5494403764845268},3.8223595374827335,null,194.38110841227808,97.846885925102157,94.400352356740385,159.37842998873174,254.87224561999912,344.73861017611785,99.859845211006231,null,222.69107393060204,100.2645856587345,183.91914853470158,210.70201651745433,238.71190670344967,241.26073412787159,102.73270996848977]
[null,"Marzo",87.250114160779717,96.797998449795699,50.983700865233033,75.194075091628918,106.65530406337645,140.37700961531928,96.565498776972404,null,{"$f":"(C320/C308-1)*100","v":11.347395648331515},{"$f":"(D320/D308-1)*100","v":2.2510847305805992},{"$f":"(E320/E308-1)*100","v":-0.73104505662515695},{"$f":"(F320/F308-1)*100","v":-2.3024482604002583},{"$f":"(G320/G308-1)*100","v":3.2171659127751884},{"$f":"(H320/H308-1)*100","v":3.9017671840768653},{"$f":"(I320/I308-1)*100","v":4.976512775651476},null,192.99334459712023,97.159024144034376,93.435978068643848,157.92438744121077,253.43347537138689,338.34871793722124,98.927945936160469,null,221.19552100697848,100.37296813985873,183.26637039477848,210.02238174852144,237.61919540428318,241.02858357248937,102.44647124398369]
[null,"Abril",88.125833345180894,97.172766740439457,51.472505203863562,75.577980927648525,107.92648419196669,139.75833403721251,97.35804226281634,null,{"$f":"(C321/C309-1)*100","v":14.363167337468695},{"$f":"(D321/D309-1)*100","v":4.3027212473742305},{"$f":"(E321/E309-1)*100","v":2.984586773705189},{"$f":"(F321/F309-1)*100","v":8.9646553928646178E-2},{"$f":"(G321/G309-1)*100","v":6.2651794373233871},{"$f":"(H321/H309-1)*100","v":3.3176241652252303},{"$f":"(I321/I309-1)*100","v":6.6725876647991456},null,194.2071350640079,97.522420710815865,93.825605312845909,158.31589389581217,255.00425027279982,335.90915582007688,99.241303661057358,null,220.37480690062375,100.35982712245951,182.28295852559998,209.4735688260439,236.27587999552441,240.34999997255019,101.93436654483786]
[null,"Mayo",89.577563912220995,98.329093905620951,51.981824229437287,76.358571565131797,109.21978602235912,140.44777843900258,98.382068131593854,null,{"$f":"(C322/C310-1)*100","v":15.798590977385496},{"$f":"(D322/D310-1)*100","v":5.6782069146559033},{"$f":"(E322/E310-1)*100","v":4.0460716434979949},{"$f":"(F322/F310-1)*100","v":0.26378128267632306},7.3124966697766913,1.7515841944346633,7.6806075663992557,null,196.06066184115772,98.02938140646917,94.270480555747241,159.16741787780896,256.40474630134798,337.24131755675904,99.863343917463183,null,218.87250922929971,99.695194486954733,181.35277465380275,208.44734862810191,234.76034484160007,240.11865570606034,101.50563594972206]
[null,"Junio",89.876521300768871,98.324961610028396,52.344417381222492,76.448507994540776,109.28229396903268,140.46509519506253,98.680831758867527,null,{"$f":"(C323/C311-1)*100","v":12.910536155053954},{"$f":"(D323/D311-1)*100","v":4.7976968967998301},{"$f":"(E323/E311-1)*100","v":4.3929039239566592},{"$f":"(F323/F311-1)*100","v":-0.49690533661800318},{"$f":"(G323/G311-1)*100","v":6.0316205724862737},{"$f":"(H323/H311-1)*100","v":-2.3272517484964728},{"$f":"(I323/I311-1)*100","v":6.5725552621663796},null,196.6139422380293,98.032426392794932,94.549984479057713,158.90990112914812,256.72985054987777,337.33306030597436,99.839139533320093,null,218.76007147636153,99.70248122913722,180.63050313551798,207.86527467677453,234.92355552366729,240.1543670600324,101.17379206661225]
[null,"Julio",90.094919746223127,97.578859441046575,52.193158834337837,75.465970119145666,109.19316189555255,139.73851094254186,97.845667045717306,null,{"$f":"(C324/C312-1)*100","v":11.683520876064257},{"$f":"(D324/D312-1)*100","v":3.1767788315287815},{"$f":"(E324/E312-1)*100","v":3.8445134838255735},{"$f":"(F324/F312-1)*100","v":-1.4294927462938034},{"$f":"(G324/G312-1)*100","v":4.9331268984866838},{"$f":"(H324/H312-1)*100","v":-2.2944678405908081},{"$f":"(I324/I312-1)*100","v":4.4139425792184994},null,195.98096651743737,97.605377855451778,94.207198762997635,156.76168150341019,256.32270471826678,335.97884363758988,99.042300913516016,null,217.52721137825654,100.02717639308054,180.49721623865156,207.72499347177921,234.74245114675708,240.43396582044494,101.22298094941659]
[null,"Agosto"]
[null,"Septiembre"]
[null,"Octubre"]
[null,"Noviembre"]
[null,"Diciembre"]
["Notas:"]
["El ITCER RESTO DEL MUNDO incluye dentro de los socios comerciales a Brasil, Canadá, China, Colombia, Corea del Sur, Haití, Japón, México, \nEstados Unidos y Zona Euro."]
["Valores sobre (bajo) 100 significan una depreciación (apreciación) real de la moneda. El índice se descompone en efecto precio y efecto tipo de cambio, los cuales divididos generan el índice."]
["Fuente: Cálculos de la Secretaría Ejecutiva del Consejo Monetario Centroamericano"]
[{"$f":"TODAY()","v":"2021-08-23"}]

{"sheet":"ITCER REGION","index":6,"n_rows":334,"n_cols":33,"rows_kept":334,"cut":false,"hidden":false,"merged":[[3,2,3,8],[3,10,3,16],[3,18,3,24],[3,26,3,32],[331,0,331,17]]}
[]
["Secretaría Ejecutiva"]
["Consejo Monetario Centroamericano"]
[null,null,"ITCER REGIÓN CAPARD\nPeriodo de referencia Diciembre 2000=100",null,null,null,null,null,null,null,"VARIACION INTERANUAL",null,null,null,null,null,null,null,"EFECTO TIPO DE CAMBIO",null,null,null,null,null,null,null,"EFECTO PRECIO"]
["Año","MES","COSTA RICA ","EL SALVADOR ","GUATEMALA ","HONDURAS","NICARAGUA ","REPÚBLICA\nDOMINICANA","PANAMÁ",null,"COSTA RICA","EL\nSALVADOR","GUATEMALA","HONDURAS","NICARAGUA","REPÚBLICA\nDOMINICANA","PANAMÁ",null,"COSTA\n RICA","EL\nSALVADOR","GUATEMALA","HONDURAS","NICARAGUA","REPÚBLICA\nDOMINICANA","PANAMÁ",null,"COSTA\n RICA","EL\nSALVADOR","GUATEMALA","HONDURAS","NICARAGUA","REPÚBLICA\nDOMINICANA","PANAMÁ"]
[1995,"Enero",85.412055457543701,115.66853753370187,94.669452474801616,133.3541627140786,89.279826072586062,78.401708015076778,97.966820541348881,null,null,null,null,null,null,null,null,null,66.907628497318782,148.7215756446802,95.940054136956562,83.721802418311171,76.947374560770157,100.66114028921535,160.01476109643923,null,78.335111055343916,128.57565143965601,101.34214535833841,62.781544058596083,86.186743350295743,128.39151446784555,163.33566835406461]
[null,"Febrero",85.991271190646344,115.33282125762915,96.018122283730079,125.67062830843057,90.22646361751984,78.329829357742284,98.747767207387795,null,null,null,null,null,null,null,null,null,67.828323573398308,148.76230222535062,95.49258127749934,82.313781985562713,77.520869579980697,100.45469145098696,159.2177590662032,null,78.87814964732874,128.98522779829264,99.452664774387301,65.499618402115317,85.918107029663062,128.24576827838808,161.23681939239975]
[null,"Marzo",93.246095307114146,113.04102017801107,94.304349811033958,123.46780077974124,88.89605176348627,76.611401449977905,95.057602542495857,null,null,null,null,null,null,null,null,null,68.788274526763985,148.41376673853017,94.694721645364027,82.516746131380486,77.882979944149938,100.15715460623271,157.97649249173782,null,73.770675651568908,131.29195623395469,100.41394891657944,66.832603812701862,87.611292514275746,130.734006571631,166.1902764916818]
[null,"Abril",94.429211368400843,112.52851062979026,94.514857962633272,120.13574177285858,89.923655882212373,76.71302281374895,94.71530841663602,null,null,null,null,null,null,null,null,null,69.604605351199382,147.42374101170168,94.901385329565457,81.901814965938243,78.138380453698247,99.622206467011495,156.50856797164846,null,73.710882832270912,131.01012373363221,100.40895936920839,68.174394861431438,86.894132235958892,129.86348707556942,165.24104771236634]
[null,"Mayo",95.585895663135531,112.6218861129142,93.68338010581418,118.99597672077654,90.600978456412932,76.711713922817381,94.678563558731284,null,null,null,null,null,null,null,null,null,70.398817673452214,146.74703637620499,94.652418657855748,81.794895674274244,78.478177698289116,99.228990432566462,155.25210695083126,null,73.649796536459959,130.30063821616082,101.03437616250295,68.737530400885362,86.619569716947424,129.35311357064003,163.97809716929729]
[null,"Junio",96.181658399666148,112.23884235807638,93.196121969739409,120.40852891292819,90.149044436867968,76.530105364400015,94.788332102358837,null,null,null,null,null,null,null,null,null,71.164301171676556,145.71782713008207,94.398029452184218,82.512093060977591,78.665687051647566,98.741334104497653,153.71528885047653,null,73.989471959368473,129.82834112383077,101.28965396525305,68.526784444518128,87.261809088545263,129.02286444574759,162.16688852008113]
[null,"Julio",96.476196575950325,109.47754727858582,94.380954735682991,121.43667933373791,90.478594210736688,76.298705863711533,95.175720947734405,null,null,null,null,null,null,null,null,null,71.862988693565029,144.80957321693825,94.084676339505364,83.268220554167755,78.907928371934418,98.313637324564226,152.33474963655704,null,74.487792060698936,132.27330792170889,99.686082433678109,68.569250255374797,87.211709090160412,128.85361057129441,160.05631280714061]
[null,"Agosto",96.389523814224489,108.37983914389896,94.563868224668866,121.40209243602078,92.873551374066992,75.463054740404743,94.894988830696377,null,null,null,null,null,null,null,null,null,72.426276166674555,143.51326224011618,94.24235304056171,83.961515358701405,79.064362940300953,97.763536632956004,150.81693222624878,null,75.139157556442242,132.41693600372443,99.660002080981599,69.159858511457969,85.131193725814626,129.55152288661731,158.93034404095206]
[null,"Septiembre",96.155407312769469,106.74218484317701,96.076323508759046,120.60583618655413,93.059723284840601,74.324069345931932,95.297912150784853,null,null,null,null,null,null,null,null,null,72.959118298185814,141.79102003916375,94.97695939967646,84.279695122792688,79.083971382026803,97.044258939985056,149.07140920827024,null,75.876251099293938,132.83503635182251,98.85573878252913,69.880279253176553,84.981954158582312,130.56908723378007,156.42673154518059]
[null,"Octubre",95.346491508592848,107.01360471567052,96.589088804542271,121.22460351675865,91.08305239514155,74.129585889727963,96.472085929737389,null,null,null,null,null,null,null,null,null,73.515758718587648,140.2067177453352,95.506107939221707,84.818066419882825,79.129298943534351,96.378736749481646,147.39346501545973,null,77.103790139946824,131.01765716411199,98.878775150770821,69.967699591739375,86.875985007892837,130.01386098777158,152.78353691119463]
[null,"Noviembre",95.009462472425582,107.124073246736,96.39332413688733,123.31825362572822,89.77336990363311,73.759589605825951,97.082405413435694,null,null,null,null,null,null,null,null,null,74.147225617767262,138.79536419746938,95.491577170846071,86.23349634324849,79.170275434420859,95.793943357741995,145.71492593876684,null,78.041937811496283,129.56505479191941,99.064513052002752,69.927600990010589,88.189042607407842,129.87320546340951,150.0940621714351]
[null,"Diciembre",94.880532609677843,107.32291697418826,94.229035058376809,124.0701560379532,91.631216247529181,100.4553599504423,96.143806828867653,null,null,null,null,null,null,null,null,null,75.165154491571457,138.7318707388263,93.862742828107443,87.987076768852489,79.5893790542396,95.66637006910014,144.65936327968421,null,79.220839538061995,129.26584055872436,99.611274560922297,70.91719683332802,86.858368047019923,95.232718409744678,150.46144733708371]
[1996,"Enero",94.323622968486461,104.29740229217124,95.836243942113185,125.39703651082614,92.091515092239376,101.19720890375612,96.641697100688177,null,{"$f":"(C18/C6-1)*100","v":10.433617904644009},{"$f":"(D18/D6-1)*100","v":-9.8307936488065799},1.2324899287044389,-5.9669124992469342,3.1492993919671974,29.075260559751737,-1.3526247287992899,null,73.8552949706432,137.00661089441166,95.606249648208305,87.922139667231505,76.368370086091062,84.11804285991964,141.9933122078545,null,78.299892059191009,131.36147965661812,99.760013242960753,70.115005995090442,82.926608395572671,83.122888240841036,146.9275855740776]
[null,"Febrero",94.462043987654653,103.87425928624336,96.480701426425014,124.35385019148588,91.987914971573844,100.98716446849737,96.563827369904374,null,{"$f":"(C19/C7-1)*100","v":9.850735638304787},-9.9352134513295063,0.48176232954029174,-1.047801013386318,1.9522557833154153,28.925551474491474,-2.2116346518466168,null,74.224695306050251,135.408629931625,96.069444553876735,89.114138420822513,76.496503904090432,83.843296420394225,140.57877406583779,null,78.576211325419507,130.35821469348173,99.573741829746226,71.661744516635721,83.159297531343569,83.023715797613946,145.58119525164074]
[null,"Marzo",95.273310525855806,103.63413316276716,95.744339261174687,125.51859998062272,92.238410026849479,101.17930145168616,96.262752995754994,null,2.1740483738915239,-8.3216579259727474,1.526959735183131,1.6609992143133523,3.7598500687699543,32.068203344053735,1.267810696909133,null,74.710891105195159,134.45677981996954,95.716904687277179,90.664192351483962,76.792088663858678,83.717957322048619,139.49925302283731,null,78.417439986951749,129.7417903894584,99.971346009477742,72.231679102125497,83.253916282279192,82.742177620216665,144.91508780035508]
[null,"Abril",96.170196869585254,104.36587840500457,94.147001723830883,125.63141105219334,92.885079660527154,101.6005093064644,96.494198275720279,null,1.8436937849583668,-7.2538347651646244,-0.38920466763842088,4.5745497536656909,3.29326443554947,32.442322802400334,1.8781439756910601,null,75.37932703837383,134.38747568839372,94.558475202632394,91.886925169681874,77.362990768123922,83.783493894237992,138.87732697736485,null,78.381171602044702,128.76572088713388,100.43705425692526,73.140088454079063,83.288931926276263,82.463655414872221,143.92298133877438]
[null,"Mayo",96.253612478738333,104.68485855264734,93.43165924690733,125.66996486569847,92.828877250467144,101.57607371601688,97.50093237829509,null,0.69855161263119303,-7.0475001211658173,-0.26869318615803106,5.6085830200649722,2.4590228847539697,32.412728802039915,2.981000887083618,null,76.126315380891029,134.35341688326915,93.40917171313869,92.939406387714101,77.944470261217901,83.855129355133201,138.23897183436029,null,79.089307321017927,128.34083050864621,99.975931569716408,73.955146312833776,83.965757822225157,82.554017188705956,141.78220501318407]
[null,"Junio",96.240624454261777,102.9614737884811,94.157420797850548,126.14733509515568,93.72044049049417,101.16711666490247,97.868646168849935,null,6.1306963902207912E-2,-8.2657379341080741,1.0314794304673747,4.766112694871838,3.9616571378382925,32.192574651756601,3.249676408658364,null,76.505355122553411,133.02905784136675,93.427270380873267,94.722450881810786,78.148183354861118,83.646244981935851,137.00499598301732,null,79.493826600130262,129.20275220093976,99.224542887018046,75.088745085545867,83.384353451462374,82.681258238285764,139.9886494257278]
[null,"Julio",96.412549358662503,103.64265317775109,92.052457510380904,129.94876114730116,94.63211073164895,101.44276030939933,97.848085177306942,null,-6.5971938723474732E-2,-5.3297632673362401,-2.4671261610174633,7.009481698828357,4.5906068249006671,32.954758748597037,2.8078213676364649,null,76.967935800068858,132.21623352133375,91.99158193556876,99.069807664113114,78.418471853391708,83.602330218337173,136.0045608319692,null,79.831864536370574,127.56932543455623,99.933868604425584,76.237593024695514,82.866662538855621,82.413303781709956,138.99562836157733]
[null,"Agosto",97.312752148380611,101.25254326564229,92.002273648934164,130.60456120097928,97.262787130650509,101.71290290643465,98.201342881275991,null,0.95780982997228925,-6.5762192807774511,-2.708851302115467,7.5801566351158423,4.726034152505898,34.785032565048148,3.4842240789748402,null,77.515878344151673,131.70209242467968,91.118714978212239,101.11518276210127,78.866429663331701,83.578672539839488,135.18667101141804,null,79.656444435932656,130.07287340837564,99.039633874600284,77.420866340572417,81.085924010580257,82.171160346021395,137.6627518982676]
[null,"Septiembre",97.6380366684987,102.33482929921101,91.163097092331938,130.13963631548404,97.310539329164072,101.52447775349417,98.004864113471143,null,1.5419094954344237,-4.1289725804668382,-5.1138784634896854,7.9049243638450006,4.5678365401027765,36.597038680647856,2.8405154967122703,null,78.214574032627112,131.41139727027357,90.317662213645107,102.18667445320564,79.386945616539705,83.588886206076936,134.4457464747847,null,80.106664063905484,128.4131689769543,99.072612816312542,78.52079300843063,81.581035480652559,82.333726856526525,137.18272831756786]
[null,"Octubre",97.802579383322737,102.71166880619329,91.21083837461795,130.21556312631441,96.021252050620134,101.70280704250986,97.934834218313824,null,2.5759604112003842,-4.019989720846473,-5.5681759673784192,7.416777905413241,5.4216448896062586,37.195973539901672,1.516239930420693,null,78.797792485480812,130.76076622087126,90.026250576986982,102.96968022763397,79.818934958147409,83.508888471213467,133.55779636092964,null,80.568215053556543,127.30857919133204,98.701264215152065,79.076323716965518,83.126321781420586,82.11070166068113,136.37414861315435]
[null,"Noviembre",98.471983340557045,104.59956795516608,89.58105069660219,128.9544455600396,96.040510540580897,101.52833808330929,98.31604514165069,null,3.6443958086136874,-2.3566180925134295,-7.0671631062448785,4.5704441707529186,6.9810687107715985,37.647645039622077,1.2707140114229798,null,79.641484562553444,130.8282428725802,89.079831165934479,103.3279995147015,80.468867665108249,83.589067459274474,132.98423713493514,null,80.877303229610064,125.07531859850162,99.440484871777983,80.127520277378309,83.786380572297134,82.330774872612693,135.26198795256218]
[null,"Diciembre",99.017517764405511,104.98937579683057,88.841168532865893,130.05408135205417,95.673489522028603,103.69955669350634,97.872074962856317,null,4.3602043969825921,-2.1743176976068535,-5.7178411326965435,4.823017480747338,4.4114587146587336,3.2294909347440504,1.7975865435252869,null,80.239947560139655,130.34159836544978,88.442191593297451,104.44780738510686,80.939783189055348,85.637101081869886,132.14295509548825,null,81.036112974530695,124.14741718026725,99.5509098471382,80.311056984339018,84.600011553272708,82.581935557331533,135.01599424109293]
[1997,"Enero",97.677581800505465,103.94531326782031,88.763765303777575,129.17134037644203,97.077929400935062,105.4790267927486,98.966204651704331,null,3.5557994131963699,-0.337581777314655,-7.3797535748662213,3.0098828254924825,5.4146294625528446,4.2311620403134853,2.4052842828228949,null,80.215915195939857,126.23300444936274,88.802153474448275,105.62008867652865,79.878774832834978,90.503648060327478,127.53792387465967,null,82.12315837197022,121.44174708879569,100.04324756902699,81.767432596674823,82.283146463634381,85.802505779802445,128.87017777786761]
[null,"Febrero",99.049262306810434,103.73688171120553,88.300808177551147,125.16417198695329,98.939730442275717,106.61181038646245,99.403462726893864,null,4.85614975656814,-0.13225372289709103,-8.4782688433414304,0.65162581956219601,7.5573138850360211,5.5696641722420726,2.9406822765130958,null,80.869240826366322,125.82793062012585,89.391462541673192,103.42677782775085,80.470018857842561,90.760813513260359,126.80203676654716,null,81.64547513324176,121.2952698640199,101.23515785034381,82.632894210758437,81.332361123412483,85.132044174333942,127.56299759388618]
[null,"Marzo",99.299094849149895,104.25128308403886,86.939956539688282,125.45419663299514,100.31895750017266,107.24429322848582,99.70330601581648,null,4.2255111122663891,0.59550835466768426,-9.1957214279473014,-5.1309803995214232E-2,8.7605016944362291,5.9943008992760616,3.5741269732990189,null,81.874231534955413,126.33247499941814,87.697628885170474,104.20110731874952,81.25573571269652,91.40534154686874,126.55241640092771,null,82.452142851185656,121.18073875175159,100.87148921582025,83.059084602470818,80.997388467236291,85.230960823368079,126.92900712926409]
[null,"Abril",98.813247792590033,104.26106723758215,87.162028138318888,124.42558337836181,101.0438845435043,106.17357669909424,100.0564534355981,null,2.7483056175802378,-0.10042666149532309,-7.4192204293468507,-0.95981384251950796,8.7837625943753661,4.5010280202786968,3.6916780734310262,null,82.511706447888173,126.05541409005447,87.552918454760871,103.645344177691,81.883152285138678,91.386619343702947,125.97217003258801,null,83.502676302150334,120.90362915891606,100.4484639983614,83.299062269629204,81.037217299265635,86.072846168403174,125.90109453926499]
[null,"Mayo",99.255350522685987,104.53488397503433,86.436354616112951,125.71626641520852,101.17336707795566,106.21442615133647,99.650124915066755,null,3.1185718298216702,-0.14326291279037617,-7.4870816671554818,3.6843767370764446E-2,8.9891099350192007,4.5663828750531765,2.2042789585159817,null,83.059312723101925,125.55501466233159,86.675494220424966,105.82550444788754,82.354319240386914,91.31113355509703,125.40207762968856,null,83.682453677011324,120.10824510248406,100.27666553659522,84.17805226443258,81.399207735106444,85.968673808014614,125.84236872414417]
[null,"Junio",100.09917785230107,104.84361453323031,86.008179104609354,125.0528807322673,100.45857629462741,106.0990864979896,100.01395114528442,null,{"$f":"(C35/C23-1)*100","v":4.0092771840576136},1.8280048599690568,-8.6549117681728465,-0.86760006627394359,7.1896117526428771,4.8750720547106052,2.1920247805750304,null,83.968925073532077,125.71785266873302,85.669570572477554,106.01483301082366,83.095204846241586,91.448232048647498,125.00463007072045,null,83.885729009113746,119.90988028067898,99.606306591237143,84.776002272028222,82.715889385628856,86.191347227462032,124.98719292584846]
[null,"Julio",100.64517345067891,104.28039411411525,86.658655390945185,123.84599641037755,100.04581762196075,104.31728213391833,100.217773150168,null,4.3901173863484244,0.61532671811326267,-5.8594873676538706,-4.6962854305366726,5.720792708157596,2.8336392027895618,2.4218031130267326,null,84.512372840377779,125.09346831575189,85.8987958129444,105.57449537212582,83.614865888646449,91.314746861212967,124.28295874887138,null,83.970616714961494,119.95876058817025,99.123157895108321,85.246595313661103,83.576573090340162,87.535588536506125,124.01289196741949]
[null,"Agosto",99.856478612911758,104.62393995088925,87.357652719066124,121.47705300087496,101.46983146665745,103.55114323919064,99.741131446227939,null,2.6139703259574043,3.3296908665315206,-5.0483762472992355,-6.9886595967031839,4.3254408598796701,1.8072833241687958,1.5679913530444622,null,84.599788023732202,123.6869089951627,87.419095852373744,104.50929155299337,83.930908270039566,90.906639058054125,123.26277387502806,null,84.7213813253707,118.22046565367511,100.07033514683047,86.032126209252553,82.715135185396363,87.789121601555635,123.58269059889399]
[null,"Septiembre",100.81857494220715,104.65086878656729,86.931940188108172,120.56049523714417,103.02688719637422,102.95011795440155,98.906434188304246,null,3.2574787267661165,2.2631976847145019,-4.6413044742637073,-7.360663783567178,5.8743358187276495,1.4042329814972332,0.91992380479122282,null,85.030866024853708,123.09406464088657,87.682958353480473,104.09390498194414,84.478936075581345,90.775682004446267,122.60089304768016,null,84.340476021999393,117.62354777190976,100.8639151084713,86.341636849774034,81.996979986943046,88.174432247520542,123.95643827808505]
[null,"Octubre",101.14407406760841,104.65498114317907,86.755796424458993,120.49389047279486,103.07933824551762,102.22101151696113,98.970437976351974,null,3.4165711225152773,1.8920073634989043,-4.8843339558631849,-7.4658300591067821,7.3505458887128672,0.50952819250571491,1.0574416818122323,null,85.434286062888731,122.42871423821016,88.09782062631615,103.54005838370033,85.009700881830753,90.618399445836033,121.90615093165857,null,84.467910602237879,116.98316974584777,101.54689860178472,85.929716417512154,82.470165533418495,88.649484192200617,123.17430681754371]
[null,"Noviembre",100.39232771003421,104.89935758419236,87.679400277346389,119.75950731230434,101.22076610275663,101.92290960714129,99.553247276439166,null,1.9501428775287488,0.28660694770248352,-2.1228266519181749,-7.1303770938662359,5.3938234324429901,0.38863191428213373,1.258392903219363,null,85.764021345381252,121.57393358135502,88.817289156638267,102.85590639716334,85.481248700742938,90.394754116779538,121.1294928738796,null,85.428860254237478,115.89578466558257,101.29778360218309,85.885378710635138,84.450307967403305,88.68933830990828,121.67307063076261]
[null,"Diciembre",100.56374711086748,105.29279346494936,86.970519732954486,119.91137150046434,101.846513522667,102.0083719943792,99.585071637237306,null,1.5615715091353399,0.28899844942971153,-2.1056103052262132,-7.7988401026290681,6.4521781650046961,-1.6308504617098651,1.7502404797600235,null,86.441764696897778,121.54483084591949,88.203824337319091,102.82875413886639,86.217584469429681,90.457095107109865,120.71815598836646,null,85.957183558006449,115.43508994884843,101.41807201814075,85.753963825247553,84.654428990582062,88.676148181341588,121.22113686689057]
[1998,"Enero",99.9946151543638,103.88084066923221,87.560123273387219,119.44000195249291,102.3292948173374,100.69967315639182,99.44055110048285,null,2.3721239931907778,-6.2025498371420795E-2,-1.3560060530004692,-7.5336668301104854,5.4094328636883349,-4.5310937934112001,0.47930144481937997,null,86.957760750796808,120.65175071161336,89.358581134977271,101.9121797686188,87.469873259955804,90.544436930500851,119.75858137619548,null,86.962443544143127,116.14437266230982,102.05396908359157,85.324998411465387,85.478819546341683,89.915323548151576,120.43233877010763]
[null,"Febrero",100.43212601457201,104.57092207342919,86.954401958269713,117.72768109297081,102.44786346620435,100.97212673504406,100.26450275141231,null,1.3961373114300235,0.80399598336255984,-1.5247948994692617,-5.9413894375122229,3.5457272909949822,-5.2899239127211395,0.86620727376882645,null,87.667737139998437,120.66756461414289,88.502504027296595,102.2780787822927,88.176402131068926,90.514417903249978,119.42350297677218,null,87.290532042783255,115.39303873538643,101.78036078009004,86.876831202954392,86.069537370251439,89.642974581256823,119.10845782865064]
[null,"Marzo",100.41977618366946,104.28606961668768,87.623879272142858,116.3023410605697,102.6010074269951,101.38749092324414,100.28880319421269,null,1.1285916918195804,3.3367965956632162E-2,0.78666100108109038,-7.2949776237445141,2.2747942997897619,-5.461178519554089,0.58723948261387715,null,88.003253854993901,119.83237563811097,89.054144889328271,102.04894058051217,88.600639605977676,90.304528402680134,118.70163208475195,null,87.635381395427999,114.90736593925253,101.63227835729947,87.744528312947338,86.354551312783883,89.068708161488658,118.35980518670883]
[null,"Abril",101.2040432801434,103.62805040533399,87.961881658394034,115.14193875601303,102.04702617381146,101.73117973114719,100.9897603169091,null,2.4195090647882278,-0.60714593569782815,0.91766281391003623,-7.4612024073203891,0.99277817241403277,-4.1840890229564494,0.93278029478800484,null,88.554036880192825,119.4530532232118,89.025534874275266,101.696927120834,89.228814286714709,90.209015661710126,118.17653731214857,null,87.500493073252002,115.27096452744155,101.20922062582972,88.323097751837281,87.438916774248625,88.673910889574287,117.01833625637572]
[null,"Mayo",101.82420634364746,103.59328984812208,87.858812008679919,114.91403594043082,101.34344296174459,101.56790905892672,101.22469469957876,null,2.5881283048557968,-0.90074632611361061,1.6456702725195615,-8.5925479516713583,0.16810341367592407,-4.3746572483377211,1.5800981542712922,null,89.116730654079618,119.13602829580201,88.684448937931265,101.90975142620881,89.860518535329931,90.105749399852314,117.69454950508327,null,87.520181943101747,115.00361507050032,100.93973149690414,88.683467247670961,88.66929710415576,88.714782291693737,116.27058975518258]
[null,"Junio",102.22471150750003,103.66990602999982,88.508107329010883,113.41150250189972,100.553883974635,101.30502912647199,101.09106140933825,null,2.1234276852255984,-1.1194849666867235,2.9066168478708798,-9.3091643808600129,9.487261667742164E-2,-4.5184718641365968,1.0769600157973791,null,89.651291945860663,118.51596878747104,88.834468742116456,101.81821839246498,90.378399326994469,89.937156167198765,117.04116304967589,null,87.700215166939472,114.32051337364489,100.36873617903996,89.77768228646778,89.880565279599423,88.778569971011763,115.77795446795483]
[null,"Julio",101.21252557441878,103.24872458256229,89.026036627538204,111.19272449996804,102.80588025838905,109.56370195348988,100.79451310483222,null,0.56371518304143553,-0.98932262417803507,2.7318462603798777,-10.216940617508119,2.758798620505698,5.0292911320642064,0.57548669915068462,null,90.006444625032827,117.75930417889026,88.904431991582882,101.41057809746385,90.798246214509746,97.444094942123328,115.90880460127835,null,88.928167847025591,114.05400372255899,99.863405537793312,91.202530159689559,88.320090238321285,88.938300919668293,114.99515304045009]
[null,"Agosto",99.401767394773131,104.20225786736074,89.227567722458758,110.66323241246145,104.14739740148627,110.03192237088622,100.51477310606394,null,-0.45536476396418335,-0.40304550156153862,2.1405279848877079,-8.9019451174335078,2.6387803114747976,6.2585297747276059,0.77564957266711421,null,90.447899403209433,116.93223715286973,89.3824056460695,101.14391894093274,91.253064324699352,97.916275147886722,115.12589876293913,null,90.992244679107657,112.21660599879996,100.17353148535034,91.397943775897886,87.619149975414643,88.988970689650316,114.53629671079038]
[null,"Septiembre",100.00878492849345,104.3002829008848,89.91632612068625,109.81902219385398,104.04629253079261,109.49824536492676,98.920089455027423,null,-0.80321509620414622,-0.33500523191786202,3.4330142938490793,-8.9096125743026828,0.98945562868006931,6.3604855833438556,1.3806247121572746E-2,null,90.726039026731584,115.84019391562673,90.235391078826581,101.03670614094258,91.590925913416598,97.796423155355384,114.2710896804753,null,90.718069509194549,111.06412244893733,100.3548465244366,92.002919095920603,88.029014475753826,89.313233129378006,115.51858708379655]
[null,"Octubre",100.57176401886036,103.75488133948892,91.1185812753492,109.42500387925587,102.28461129255105,107.62444235645096,98.570963939710751,null,{"$f":"(C51/C39-1)*100","v":-0.56583646053796066},-0.86006398726374833,5.0288107892468181,-9.1862637600187096,-0.77098569557525476,5.2860275586230632,-0.40362965427784836,null,91.056683423485595,114.83978007803121,91.042838672624939,100.72295033783514,91.967833186321371,98.02516705996706,113.43522984209436,null,90.539013918866544,110.68373708825534,99.916874690470223,92.047472485335319,89.913655655666545,91.080766518918438,115.07976112668948]
[null,"Noviembre",102.33640805000478,103.32401431248431,90.077383584959179,111.55446638561381,98.62791901403051,106.5867475591207,100.40085540227264,null,1.9364829806374217,-1.5017663672951209,2.7349449243807777,-6.8512647645532887,-2.561576234360774,4.5758485211578215,0.85141183137888987,null,91.759555890066366,114.43189651685471,90.632888806772527,101.16904936601516,92.535783319046445,98.183866406978964,112.86058395569016,null,89.664624387861807,110.75053295042979,100.61669777662827,90.69027233414478,93.82311240479747,92.116392192677708,112.40998246827236]
[null,"Diciembre",101.99121131758947,102.50467871782078,91.81789706108114,110.62793743134911,98.155937094580295,104.79806003347228,100.10791509754193,null,1.4194620305350014,-2.6479635076418595,5.5735867084739432,-7.7419130087085009,-3.6236649645010388,2.7347638086477888,0.52502192518293356,null,91.800940732955368,112.8286226427164,92.513602364447095,100.58029782995639,92.680487028768354,97.681773603284711,111.78454898619563,null,90.008677754691305,110.07168068231871,100.75770119512009,90.917629095609016,94.421682245735227,93.209524653495819,111.6640466213649]
[1999,"Enero",99.902386657350661,100.8774631384068,95.796943698799765,107.89821152449133,99.025086741785998,105.20504741906618,99.367081725504818,null,-9.2233463642776847E-2,-2.8911756118613741,9.4070452592841747,-9.6632537167843591,-3.2289952563921864,4.4740703931354986,-7.3882710991612921E-2,null,91.622925064759102,111.05372449073644,95.748609455632078,100.34113350490314,93.301286239628311,97.749634258200587,111.96586856063462,null,91.712448651513398,110.08774510751476,99.949545109372522,92.996104464740981,94.219848029941303,92.9134453681027,112.67903476317554]
[null,"Febrero",100.10595837697502,101.44898185814121,94.670973043851063,107.13274597548536,100.41782304506445,107.37383569812862,99.393782838215202,null,-0.32476424680052407,-2.9854764148448121,8.8742730808321966,-8.999527570001586,-1.9815351462254549,6.3400753951463829,-0.86842291070440281,null,92.640187631160899,111.40548280628025,94.047142314874392,100.7153632841741,94.099418726246967,99.411032952052224,111.6853008078627,null,92.542131490615361,109.81429361416508,99.341053853235763,94.009877528221182,93.707885585229249,92.584038099874661,112.36648572844301]
[null,"Marzo",100.35679279704827,100.30118434290733,95.810227199383348,105.56811123165788,102.52152594944471,107.31404212820021,98.044741151044406,null,-6.2720102568225577E-2,-3.8211098456650383,9.3425992951251082,-9.2295905061115509,-7.746656640476024E-2,5.8454461699252391,-2.2375997835197836,null,92.907380299051511,110.33854418167029,95.003190181021395,100.36955773924848,94.392982880819332,99.888668402222848,110.73842221626455,null,92.577071974528195,110.00721965998675,99.157671323873913,95.075640331385927,92.071379163207425,93.080706328155244,112.94682500682487]
[null,"Abril",100.5529223179483,100.13340402438236,96.444954136179419,104.96617379775445,102.53493732280974,106.77694793874041,97.263868101261536,null,-0.64337445529989434,-3.3722977198572868,9.6440325261912605,-8.8375834801784343,0.47812382907390649,4.9599033658393132,-3.6893762337444791,null,93.147602293377346,109.27952954255275,95.99435434302795,100.10247115639919,94.725278020851547,99.54303145283663,109.83476064954465,null,92.635400489748733,109.13394047399339,99.532790702025494,95.366409515196295,92.38341632045757,93.225207663686007,112.924524588304]
[null,"Mayo",100.00739947655239,99.953211991519737,98.136911805539,103.96590967773936,101.6112779953025,106.54111506945124,96.757806321752,null,-1.7842583137486101,-3.513816253870361,11.698427923022292,-9.5272315284155145,0.26428452175146777,4.8964343724347215,-4.4128445050724885,null,93.052109208167195,107.54765218338503,98.339215922970041,99.397458250030269,94.797897936493754,99.022022732608946,108.58672945960205,null,93.0452243486084,107.59799514247686,100.20614477642411,95.605817866770167,93.29466158360519,92.942543982254364,112.22529074141568]
[null,"Junio",99.408022514319711,99.925853782148238,98.872782911837859,103.1318302685882,101.89252711394434,107.06670588680268,96.707071261148855,null,-2.7553895253337735,-3.6115131104374032,11.710425062303509,-9.064047302555867,1.3312694511601553,5.6874538312778666,-4.3366743677145987,null,93.37474906056201,106.56934642294308,99.206703471814222,99.234539663602149,95.139748690572773,98.50016691242584,107.71112200342637,null,93.930798238252237,106.64842219439879,100.33772748186335,96.221059400539801,93.372646047123681,91.998876865200387,111.37874469650937]
[null,"Julio",100.44167903961193,99.729626603804235,98.21466494739478,102.9970976005831,102.18453452835176,107.57059729801865,96.555069225581889,null,-0.76161179699054671,-3.4083694428051037,10.321282029322965,-7.3706503156933501,-0.60438734484410395,-1.819128616443888,-4.2060264479288234,null,93.891098962751983,106.06983875804985,99.285148730382105,99.101982435033207,95.638252869246983,98.305047256403995,107.10697663822025,null,93.478225235286502,106.35740087490085,101.0899429159186,96.218228225561333,93.59366689947737,91.386540305298354,110.92838262896989]
[null,"Agosto",99.90818727811957,98.607368796035132,101.1367207467288,102.02222809066873,100.7969863878338,106.97879432871315,95.901810208408961,null,0.50946768515212071,-5.3692589640882415,13.346943470781714,-7.8083787482243094,-3.2169896677654908,-2.7747657010679605,-4.589338218758499,null,93.353284759829933,103.98719007735137,102.79067459397298,98.165520654425038,95.399576358669037,97.700123290868035,105.78114624456884,null,93.439073716709103,105.45580046096164,101.63536432171465,96.219738082159722,94.645266468188538,91.326625901826304,110.30151153006456]
[null,"Septiembre",99.81472632415209,98.009650126934076,102.29150001603733,101.88019682559165,100.09891210938794,106.46679125083271,95.784481091756604,null,-0.1940415579292476,-6.0312710560225691,13.762988802212671,-7.2290075158824578,-3.7938693685182878,-2.7684956083004475,-3.1698397975027937,null,93.394469933747985,102.99712256399293,104.01579112174046,98.035466757402773,95.55264862021096,97.373454245398108,105.00655745897178,null,93.567826485288279,105.08875649550784,101.68566411229945,96.226224341938945,95.458228872448842,91.458992143370835,109.62794417436047]
[null,"Octubre",99.615544525918168,98.056193924226093,102.54777929646207,102.02550611099574,99.603762839439327,103.44446068792132,96.431641246459805,null,-0.95078325638483507,-5.492452347004817,12.543213317353175,-6.7621635877893604,-2.6209694882097678,-3.8838590723523359,-2.170337600187644,null,93.776244309479722,102.62295677715146,104.0603158774087,97.929630421658572,95.969489263649209,97.470876800519832,104.54732394266361,null,94.138163632766009,104.65729156941821,101.47495790871682,95.985439479338453,96.351268795287837,94.225322605312783,108.41599561233409]
[null,"Noviembre",99.69268955623609,99.102503261140725,101.69290737200868,101.70647111482533,99.453081883184808,102.53234438083892,96.642446272429808,null,-2.5833606476366455,-4.0857017407167406,12.895050149956866,-8.8279703985554505,0.83664227878204045,-3.8038529846620039,-3.743403494705444,null,94.406142485648431,102.62686591396499,103.27575589561695,98.132268623954829,96.41429562011875,97.66404560034367,104.27026017008139,null,94.697156738252559,103.55628015120605,101.55649844665959,96.485766882192507,96.944502668468985,95.25193848839271,107.892819554825]
[null,"Diciembre",99.586390967318152,100.44808313484074,100.28878528379727,101.38188393707209,99.984470941221105,102.75352428182407,96.875183129440444,null,-2.3578701725416096,-2.0063431335085924,9.2257484584742144,-8.3577925332059326,1.8628866482919726,-1.9509290066964891,-3.2292471229189212,null,95.277785500850669,102.98191727264113,101.79001971063093,98.557734144429062,96.887838365843464,97.642018880108111,104.17145506749208,null,95.673499737648427,102.52253110136405,101.49691156651809,97.214344730074288,96.902886472042155,95.025469503414257,107.53162131141747]
[2000,"Enero",97.976659378383602,99.012523018628514,103.31492671264816,101.5706465419719,99.726156616452272,102.63980742752646,97.002914454773162,null,-1.9276088824304094,-1.8487182981787864,7.8478318029498784,-5.8643835640252213,0.70797198743624001,-2.4383240675910911,-2.3792258257744892,null,95.074386357948669,101.43018763522376,104.29042608912407,98.631814193590316,96.659260855712773,97.469205452486193,103.16480236502181,null,97.037791409863843,102.44177659844138,100.94419984363836,97.106612541678388,96.924682686273769,94.962381453520152,106.35227090328463]
[null,"Febrero",98.142092769657083,99.886125674449517,102.00206901446695,101.69830570159874,98.972004590317638,103.5553872681685,98.151512573435525,null,{"$f":"(C67/C55-1)*100","v":-1.9617869297274937},-1.540534123720505,7.7437631989059286,-5.0726229635989721,-1.4398026275654008,-3.5562187055469652,-1.2498470521056015,null,95.792890220929323,101.75442698820962,102.83895666350378,98.99745252393059,97.112280437018782,97.959522562281094,103.08281460681579,null,97.606325193980297,101.87043125473633,100.82046144467731,97.3442495830826,98.12095939554122,94.596259206296736,105.02417324408601]
[null,"Marzo",98.877066362855771,100.92620842918198,100.27723933949099,101.52203882697522,99.079474104093094,104.35773686806445,98.127976598880764,null,-1.4744656469691586,0.62314726428138734,4.6623541877337304,-3.832665335656138,-3.3573942774212662,-2.7548167989088324,8.4895372111937206E-2,null,96.468499648048478,101.95711489402888,101.78093546265976,99.11932669581708,97.531543700596742,97.987273152902929,102.95344306045489,null,97.564079514689055,101.02144574822729,101.49953881167187,97.633309812411184,98.437688110990479,93.895552063173369,104.91752365515417]
[null,"Abril",100.203363498697,101.38772619562816,99.082010992721095,100.67890540936375,99.060610946437322,104.39948300949796,98.187182248275079,null,-0.34763665858064119,1.2526510842878924,2.7342610924135702,-4.0844285671032265,-3.3884317551531096,-2.2265713481588123,0.94928791650799038,null,96.902467409591736,101.82997887732257,101.43343938345883,99.221317665753759,97.834028184062589,97.911649376191946,102.6734608164394,null,96.70580310495447,100.43619942796734,102.37321423654842,98.552241169405448,98.761785586969623,93.785569194135036,104.56910817220557]
[null,"Mayo",100.84147434987142,100.51532073214362,99.989285890405327,100.27644266644563,98.68432655534464,104.29220112348627,97.834799649512803,null,0.83401316071074483,0.56237186321894672,1.887540631538176,-3.5487276769182174,-2.8805379655722607,-2.1108413822203409,1.1130815886621459,null,97.298945952185207,101.69592521649705,101.09145083744484,99.393753374500335,98.137194327441691,97.833996517993853,102.40202201240281,null,96.487032324224714,101.17455177554429,101.10228304685319,99.119744110906055,99.445573327598183,93.80758624717717,104.66830041994444]
[null,"Junio",100.51568663766118,99.757993890522798,100.71584203973995,100.15184576663054,99.134143884298354,103.67531675535703,98.187786198036846,null,1.1142602934103296,-0.16798444573853377,1.8640712576538876,-2.8894905619311073,-2.7071496877895118,-3.1675478416523184,1.5311340914145211,null,97.634773567649262,101.33305555651108,101.26295869011071,99.354100424817872,98.342417316446046,97.68333063291665,101.99119335816169,null,97.133867193886843,101.57888265848329,100.54322799600372,99.203464164133791,99.201358344531272,94.220431333159368,103.87360516760576]
[null,"Julio",99.701928921589172,99.87986366635586,100.86169670810085,99.631131756699176,100.21118675771804,103.40178094834656,98.356811402222732,null,-0.73649716442018009,0.15064436483700483,2.6951492041680902,-3.2680200921165303,-1.9311608941039893,-3.8754236328377156,1.8660254620411765,null,98.01534153269867,100.91265058426046,101.34824887048516,99.436185015233747,98.592767540489703,97.556634257830325,101.62737201741557,null,98.308370352376102,101.03402916262939,100.4823953772981,99.80433149957436,98.38499146692952,94.347150854745806,103.32519992115049]
[null,"Agosto",99.464934920605941,99.255425774295077,101.51249096361782,99.538936737080078,100.5976256369951,102.05362028570293,98.657041185056059,null,-0.4436596935541659,0.65720948258991552,0.3715467676968176,-2.4340689279807926,-0.19778443580804606,-4.6038788097355621,2.8729707715209551,null,98.403905720210673,100.71930045229591,101.12064829773921,99.588489457030676,98.876410640074468,97.458666748761473,101.31907063550464,null,98.933263062764581,101.47485607621056,99.613995615555282,100.04978224760576,98.289010316076826,95.497510500776258,102.69826605224787]
[null,"Septiembre",99.590107523816641,98.792577316412618,102.17650333114466,99.794240742348848,100.60971791792788,100.43192283965833,98.097010220023549,null,-0.22503573230866492,0.79882663438197721,-0.11242056756880503,-2.0474598089104123,0.51030105899825262,-5.6683105973922014,2.4143045949705177,null,98.528258366986265,100.16888797214534,101.53785131752566,99.667887070829025,98.99716304258223,99.252684621654254,100.75805877519592,null,98.933780489616964,101.39313164320501,99.374952173153559,99.873385808058771,98.397217576277185,98.825833276251458,102.7126703955644]
[null,"Octubre",99.589992630083401,98.928089552063227,102.17077786769096,99.834975409842599,100.0294501726227,100.49478480800398,98.458885859485207,null,-2.5650510627006629E-2,0.88917955403295945,-0.36763490283022726,-2.1470422295871927,0.42738077462955992,-2.8514585124244873,2.1022608210558014,null,98.852978549309995,99.863164997176909,101.5539683606433,99.729992044053887,99.226404834149079,99.541685873039938,100.37626506222992,null,99.259951666518376,100.94520722006017,99.396295574996586,99.894843099467153,99.197191090136172,99.051593635644934,101.94739071644693]
[null,"Noviembre",99.857835423423708,99.498034108169136,101.14171415761483,99.593802627785834,99.943368655461654,100.42694094595417,99.283269202706293,null,0.16565494212537057,0.3991128720393311,-0.54201736250640842,-2.0772213054706445,0.49298298553757114,-2.0534041697755301,2.7325704513233795,null,99.430766365387754,99.95311887903263,100.70508173565752,99.932279358124617,99.618903934791774,99.77678025939295,100.20024595809767,null,99.572322936677878,100.45738066580165,99.568296399172269,100.33985722144156,99.675351426477917,99.352603314969926,100.92359645563161]
[null,"Diciembre",100,100,100,100,100,100,100,null,0.41532686209864167,-0.44608430629705653,-0.2879537158417711,-1.3630481930379412,1.5531470670104852E-2,-2.6797370708881219,3.2256113171774015,null,100,100,100,100,100,100,100,null,100,100,100,100,100,100,100]
[2001,"Enero",99.700048084808074,99.197525755122697,100.49017333309305,99.978362915524443,100.57159053817271,98.383874388982207,100.83108070211011,null,1.7589788398161055,0.18684781566407072,-2.7341193276085307,-1.567661209864879,0.84775544391226809,-4.1464741070849627,3.9464445670050585,null,100.01726093448757,99.894690318601135,100.53255379597732,99.565432325819202,100.03515911043772,100.32993330053228,99.45235725040304,null,100.31816719828424,100.70280438768144,100.04217373846474,99.586980044818148,99.466617337098398,101.97802630119637,98.632640409974087]
[null,"Febrero",99.722616050474059,100.43698879574491,99.169665959196564,99.602669679529214,100.41895424354901,98.832746370845086,101.60339474432637,null,1.6104438332352755,0.55149112809798062,-2.7768094143940103,-2.0606400545339465,1.4619787274399831,-4.560497548131992,3.5168914674730045,null,100.63759834684454,100.08883643558502,99.494524468581275,100.05285590942839,100.47582238450153,100.57208864067282,99.340256049954164,null,100.91752737002746,99.653362407282117,100.32757850522394,100.45198209179296,100.0566308834631,101.75988458653296,97.772575709633387]
[null,"Marzo",98.883529316604296,100.93352345390426,98.562244110473884,99.532113329625261,101.57889948677187,99.673275216089138,102.22306798804674,null,6.5363526510875403E-3,7.2478941160358801E-3,-1.7102537328644973,-1.9600921340256039,2.5226470015907498,-4.4888494064390212,4.1732149496015225,null,101.17671379439869,100.12169120505357,98.834157196825174,100.40668379518959,100.84633363110692,100.52853526820232,99.15322347222444,null,102.31907628463797,99.195676301519924,100.27587956098738,100.8786817001142,99.278820838415996,100.85806355842024,96.996916081425695]
[null,"Abril",98.230622756389891,100.91719204173684,99.009734952261795,99.467452354485545,101.6593336233927,99.267112184450127,102.43277290228222,null,-1.96873704976257,-0.46409380262008026,-7.2945673725388627E-2,-1.2032838954221803,2.6233662927442669,-4.9160883532161748,4.3239764669809944,null,101.3567806754983,99.652596826151722,99.219922067510524,100.53937186491551,101.01717718398203,100.35068114828745,98.727021187889648,null,103.18246777978923,98.746898134995561,100.21228934240665,101.07765855569501,99.368325153704433,101.09156893959393,96.382259691507372]
[null,"Mayo",98.248902810619356,100.98487138218444,99.255677139829842,98.767729210704317,101.6130289047976,99.161677351512125,102.56310549422388,null,-2.5709377574717807,0.46714336344018115,-0.7336873586431758,-1.504554225921062,2.9677482247502329,-4.9193743316428673,4.8329488705960877,null,101.63443358905224,99.329830910430957,99.300216024233919,100.74765602637268,101.25248149771076,100.21221151861582,98.373720679240023,null,103.44587133452137,98.361100579620611,100.04487288353425,102.00462927667854,99.645176006489649,101.05941548707342,95.915310096358397]
[null,"Junio",98.534393077111758,100.95373218828226,98.869316428839511,98.604882822966985,101.42894649838341,99.34067943176936,103.27628179616083,null,{"$f":"(C83/C71-1)*100","v":-1.9711287131645272},1.1986390775577282,-1.8334013532566695,-1.5446175073679846,2.3148458484327783,-4.1809733109532061,5.182411983361046,null,101.92701920949203,98.96271562715151,99.460216601883531,100.92376769628824,101.45835433276677,100.05810053161693,97.98433531288407,null,103.44308827246263,98.027793011735881,100.59765779150432,102.35169375687462,100.02899353231855,100.72218259825807,94.875932410384777]
[null,"Julio",98.605383647610481,101.32679314822136,97.969143394708482,98.650806798489441,102.52887294534153,99.727239463635215,103.33501401757998,null,-1.099823529834687,1.4486698607227844,-2.8678412200060177,-0.98395445371805001,2.3128018563705721,-3.5536539612861406,5.0613704779420621,null,102.3821304804664,98.751205748658961,99.256085255129904,101.19674092589672,101.72096290403371,99.941194375355849,97.65382746981264,null,103.8301629111378,97.458137853238071,101.31361959064647,102.58075347787856,99.212017046419192,100.21454009242746,94.502166954948279]
[null,"Agosto",98.708523311716348,101.38228775276197,97.611637693865433,98.491929193798342,103.15942315851409,99.196314127510291,103.58407867007067,null,-0.76048067541930608,2.1428168403643033,-3.8427322910935757,-1.0518572707354457,2.5465785154444864,-2.7998087183908837,4.9941062754686794,null,102.70050163103377,98.295492985911011,99.681424996784131,101.08922342662143,101.88414033009008,99.761325652909221,97.194333178682129,null,104.04420832708739,96.955291860863682,102.12043087465665,102.6370630102214,98.763774758158135,100.5695892336006,93.831343992795695]
[null,"Septiembre",98.607520643229321,101.00190659636849,98.702482466974217,97.975374160247085,103.55489610735937,98.710806955782601,102.46747995651116,null,-0.98663100685210114,2.2363312507576616,-3.4000193301893078,-1.8226167848681363,2.9273297355172145,-1.713713961868002,4.4552527408174836,null,102.82372962503933,97.478940312332824,100.75924418860292,101.03208880215182,101.8528769010501,99.472122575641649,96.54005230699515,null,104.27574788850499,96.511980414276323,102.08379938398906,103.11988054968305,98.356408754884242,100.7712586325022,94.215308454905198]
[null,"Octubre",98.595293418798619,101.59630724314336,99.082881505797602,97.442079989128871,103.02746852119009,98.135580634599194,101.67395046636139,null,-0.99879434169604098,2.6971284931929462,-3.0222891773341698,-2.3968508139461275,2.9971356869338495,-2.3475886613539831,3.2653879625090809,null,102.7830296299489,96.364369202364799,102.45912758734879,100.91314566838727,101.66670945204743,99.093193432269942,95.723248084668185,null,104.24739971446937,94.850267511930994,103.40749686549398,103.56218348340435,98.679226920088027,100.97580591206399,94.147269428995017]
[null,"Noviembre",98.863982547200251,100.68704261986316,98.566888598453303,98.406128093214107,103.52412791185648,98.740857301871614,102.49874069630387,null,-0.99526779446926783,1.1950070394369794,-2.5457602539235458,-1.1925185134364691,3.5827882375457198,-1.6789156656578208,3.2386841402578748,null,103.45070337919276,96.21045040933403,101.80364188230793,101.63635467348576,101.89574727234655,99.56219386848349,95.341255512551996,null,104.6394255155589,95.553954020250458,103.28381399664612,103.28254616136492,98.427052057954668,100.83181024456864,93.017001833262555]
[null,"Diciembre",98.743257353423118,102.74252180643269,95.944664745200456,98.757033517813881,104.19984188266503,99.765213760164755,103.3245278618252,null,-1.2567426465768805,2.7425218064326851,-4.0553352547995409,-1.2429664821861142,4.199841882665023,-0.2347862398352496,3.3245278618251994,null,104.50513703872871,96.660280217429346,99.904587349965382,102.47433192575104,102.41736207120459,100.8612623354785,95.241422315093942,null,105.83521329935736,94.080112613488012,104.12729839150646,103.7640847193599,98.289364187838572,101.09862800269104,92.176973160196084]
[2002,"Enero",98.824895334551201,101.75297259820846,96.135001260518465,100.07398186406012,105.18740550568226,100.4659945786435,102.77435055019143,null,-0.87778568523100287,2.5761195389027103,-4.3339283117151961,9.5639642165834537E-2,4.5895813547440989,2.1163226215600961,1.9272528217984641,null,104.89305937672384,96.0935090006884,100.23432641196774,102.70548242535678,102.31857235029351,100.46250925812707,94.611446793326166,null,106.14031921979795,94.438036105473259,104.26413387184593,102.62955516736736,97.272645768191538,99.996530845555199,92.057450411346764]
[null,"Febrero",99.861058565445546,102.33485312138764,94.546484162614036,100.33850329877126,105.20361323219522,101.12618844960865,103.22138116679871,null,0.13882760045265119,1.8896069549659167,-4.6618910650407352,0.73876897236748729,4.7646970880037554,2.3205285322720925,1.5924531129533959,null,105.86823494721524,96.23308331707274,98.957376343724604,103.57142898625906,102.60955737519555,100.90580555601076,94.363776524599146,null,106.01553445163292,94.037447049367344,104.66531592388367,103.22201904672758,97.534252125661951,99.782071393200283,91.41882762846754]
[null,"Marzo",100.4236412215182,102.21737983521972,93.878249911076125,100.83473572903411,105.84296690300849,100.28143606380833,103.14612677170166,null,1.5575009463737688,1.2719821298042611,-4.7523209740919503,1.3087458467749835,4.1977885542970439,0.61015437327680555,0.90298481724579993,null,106.73391123227157,96.120889883816844,98.313169829550716,104.07706670467512,102.86902282490725,100.69896072310658,93.990018992992873,null,106.28364987964731,94.035759905770661,104.7241186565317,103.21549013065685,97.190229861161697,100.41635289210716,91.123168590736853]
[null,"Abril",101.55870183401301,102.54952668408335,92.396884554974562,101.22105519068845,106.10060332771138,102.05288661338072,103.25057219021535,null,3.3880260393713391,1.6174990696049329,-6.678990101807325,1.7629916064939133,4.3687771166903477,2.8063417657947953,0.79837659838934982,null,107.65058906084244,96.32452754445147,96.918536961790849,104.85756109353395,103.32607958576108,102.98681668900235,93.720611304797018,null,105.99839020863617,93.929763168182362,104.89372821236842,103.59263781235511,97.385006630564888,100.91514322290536,90.770064820695055]
[null,"Mayo",101.6534428339165,102.40508866425148,92.491618059261043,101.07818610260541,106.16777370129832,102.24450938883908,103.23333393899894,null,3.4652193825101429,1.4063663820416572,-6.8147830688210398,2.3392831953968685,4.4824417159812224,3.1088946049175892,0.65347908640773777,null,108.22605114858506,95.809262994451217,97.140372815700033,105.01774219060351,103.55340547731009,102.68147161441496,93.139909510189909,null,106.46570163433324,93.559084069127138,105.02613626400226,103.89753342427319,97.537512436359705,100.42736986874678,90.222708069494985]
[null,"Junio",102.12958161163097,101.86072817151606,92.609680280192563,100.66503677379013,106.93422748680953,102.20745712081857,103.13158466997942,null,3.6486636008461026,0.89842739200787225,-6.3312222383496213,2.0893021641959608,5.4277217485581009,2.8858043909576914,-0.14010683156371329,null,108.90590046570601,95.35858517324651,97.193123843811563,105.22983901456789,103.82337815534284,102.3822678285517,92.575877461106316,null,106.63502067387628,93.616634089517746,104.94920568751741,104.53464518275155,97.090875948161298,100.17103517948449,89.764816236799504]
[null,"Julio",102.082737747358,102.49071547130926,91.56758376407717,101.01001509360898,107.56431573049356,102.19747053097097,103.60301782933725,null,3.5265357439048683,1.1486816930891264,-6.534261103866168,2.3914738983722872,4.9112436726349573,2.4769873112115093,0.25935430919057367,null,109.96669190827049,95.379269809114462,96.360429042049986,105.83476496478946,103.78053370208684,102.1958703154684,92.279284908894837,null,107.72310219620509,93.06137572609147,105.23421617230998,104.77650643523735,96.482307350062896,99.998434192652454,89.070074252956871]
[null,"Agosto",102.02795280694042,103.46196770032745,90.557578049915463,101.20373986938549,108.24606187945993,101.65074269760413,103.63112768315899,null,3.3628600488141203,2.0513247369571497,-7.2266584298823711,2.7533328850237293,4.9308522335664406,2.4743142844388721,4.5421085645980241E-2,null,111.06650646429837,95.594306497917444,95.040273315743079,106.62666498671032,104.1993529354948,102.07056571366762,92.088784612417783,null,108.85889935914025,92.39560064699495,104.95010507387548,105.35842363565193,96.261564740829613,100.41300536023863,88.862088709455435]
[null,"Septiembre",102.29209062527462,103.45621351599765,90.646050963544923,101.25974388445289,108.05537151885375,99.997141834982713,103.37014714740224,null,3.7366013849758906,2.4299609802785671,-8.1623392867803179,3.3522400423130261,4.3459803260567753,1.3031348024298062,0.88093040960330882,null,111.78565003522658,95.244215160445776,94.864455901531656,106.99670829001559,104.52256056776346,101.80315279460585,91.596554305487317,null,109.28083427752944,92.062343984508928,104.65371066157449,105.66559245114142,96.730554990990086,101.80606257987199,88.61025821591781]
[null,"Octubre",102.9393531372224,103.76037782429523,89.802330339300937,101.65502725779035,108.7159784560141,97.353532118905349,103.32471369456083,null,{"$f":"(C99/C87-1)*100","v":4.4059503935666822},2.1300681490054041,-9.3664526358709477,4.323539962541334,5.5213527193032297,-0.79690618900574162,1.6235852159059982,null,112.82438414624265,95.281126280667749,93.904854817806765,107.70394029274671,104.82187297274801,101.62601977200008,91.306441032714176,null,109.6027716395722,91.828044845802324,104.56839423097955,105.95043176725211,96.418092778476321,104.38863137279537,88.368443296756681]
[null,"Noviembre",103.28720396408728,104.8879993347177,88.006129839839204,102.10784460544832,109.92552597473977,97.158800782634458,103.7094295800047,null,4.4740473759240507,4.1722912954300861,-10.714306709667021,3.7616727575418896,6.1834841712780531,-1.6022308925275786,1.1811743983157763,null,114.17245284747179,95.692972445519914,92.215430799492282,108.60282428253967,105.31091145996709,101.53947048076806,91.196693997857011,null,110.53881648995869,91.233480524445227,104.78296337688468,106.36090175264046,95.802053732421442,104.50877291902162,87.934813996354137]
[null,"Diciembre",103.63230565231689,104.69821574526625,88.063858353757269,101.98403540950628,109.70077709968591,95.339987301695245,104.02754798570282,null,4.9512730589743814,1.9034903022120631,-8.213907894068095,3.2676172792394542,5.2792164725309787,-4.4356407325580882,0.68040003513760716,null,114.90132420305777,95.245185563231033,92.373639984377036,108.79382113218112,105.24237917104536,101.24677604851453,90.666275376593632,null,110.87404017483513,90.971164011968739,104.89392778284498,106.67730561487477,95.935855655252851,106.1954998254067,87.156024660943146]
[2003,"Enero",104.23090537446072,103.0006141038542,89.288487828886616,101.44251466823026,109.7137994736521,92.801013958571829,103.82100899845261,null,5.4702916928053291,1.2261474763713309,-7.1217697424045596,1.3675210865788712,4.3031710366934872,-7.6294278996776654,1.0184043418012489,null,115.01141942594614,94.065108194255856,94.033193347806304,107.7767756163216,105.15958379041699,99.941633114481078,89.854949733965242,null,110.34291510061749,91.324803267105963,105.31390511172336,106.24418762567909,95.849003766997583,107.69454863833381,86.5479449687341]
[null,"Febrero",104.73943464853967,103.15956382944741,89.308189364567582,100.83783412887206,108.86127458065012,92.470036341283006,104.09873909549356,null,4.8851635994795695,0.80589426075738935,-5.5404437768800774,0.49764628102333397,3.4767449862981969,-8.5597531569569831,0.8499769318888406,null,115.51727839404657,93.624207576185725,94.0515621250387,107.93361972633137,105.20086255723689,103.07546057209531,89.224054227591949,null,110.29014886482125,90.756691964085476,105.31124054156787,107.03682864547726,96.637544399958855,111.46903867504759,85.710984592948307]
[null,"Marzo",103.64850856251388,102.31606915430406,89.51390096991156,100.51263600881788,108.91923912959335,113.52077803569993,102.83245689143101,null,3.2112631067441111,9.6548472719049094E-2,-4.648945783819558,-0.31943329636107132,2.9064493528454083,13.202186258548899,-0.30410243223666367,null,114.62951936444297,92.761742944354609,94.309605504782184,107.589606916771,105.00701492668637,128.36998356180905,87.753499496847695,null,110.59447063370533,90.661949497355636,105.35749697299262,107.04087683794529,96.408142184823603,113.08060584419121,85.336383229174956]
[null,"Abril",103.28821102165941,102.4523785805364,89.036590322180814,100.46538209602652,109.83570829216617,118.5717616218767,102.72488630675689,null,1.7029650403301622,-9.4732863903135289E-2,-3.6368046920396191,-0.74655721898801986,3.5203428136202364,16.186582816688411,-0.5091360486506602,null,115.13130232894082,92.46834824349169,93.988425350690321,107.79971066701428,105.19948799498972,134.00002148437346,87.176711536525502,null,111.46606296123953,90.254955057781871,105.56157306854539,107.3003540303838,95.778949879538288,113.01174887803154,84.864257017718714]
[null,"Mayo",103.26323015451318,102.59681213330117,88.546454898530911,100.55161182835707,109.40738203798593,125.96769041469857,102.6013263671903,null,1.5836033445780995,0.18722064650349424,-4.2654277690356679,-0.52095738413213688,3.0514046058855993,23.20240095792283,-0.61221269108880927,null,115.45877847426826,92.210282163047097,93.576760166274113,107.89011362266336,105.37266612557228,143.91627655343885,86.541662649434343,null,111.81015575583568,89.87636189245417,105.68097872863191,107.29824381814308,96.312208703602096,114.2485633257637,84.347508666426464]
[null,"Junio",103.24111789657113,102.23026859123026,88.502467303482945,100.71343101837807,108.78113250891347,135.23589675010683,102.18761025701249,null,1.0883587961488139,0.3627898861001233,-4.4349715540353385,4.8074531276132149E-2,1.7271411273174886,32.315097703923513,-0.91531068390701131,null,115.45938449456121,91.763035712461928,93.300348089215603,107.93564698246745,105.46265560435867,161.92182945517274,85.640785272115778,null,111.83469033164728,89.761121610056833,105.42118308326963,107.17105543030449,96.949400297627079,119.73287665949893,83.807405865271022]
[null,"Julio",102.41179048203203,102.4639699978901,87.819074114783831,100.60011149618681,109.49560671652034,155.58987713045786,101.35590611661745,null,0.32233925336955238,-2.6095508550372237E-2,-4.0937081609047743,-0.40580490661475954,1.7954755468028161,52.244352352445269,-2.1689635686302222,null,115.1497432925315,91.325491294816175,92.681630486352617,108.05303548245419,105.78430567528039,192.53702223538994,84.56331751845147,null,112.4379749153339,89.1293703500818,105.53701621268883,107.40846493649252,96.610547991346934,123.74649674281373,83.432057152303614]
[null,"Agosto",103.31534817723622,102.35990503452216,87.837359932039661,100.29865404881576,109.55520352177972,147.8259662407423,101.45716595332483,null,1.2618065293653835,-1.0651862614843743,-3.0038547589870568,-0.89432052781630578,1.2094127209705041,45.425367604546295,-2.0977883561016708,null,116.15151743460387,91.171459967257192,92.551636652654892,108.37167778741662,105.35277089351152,187.99404760893702,84.321515080220919,null,112.42426172280557,89.069504252185922,105.36705192900004,108.04898511865539,96.164095822766868,127.17254782071163,83.11045778571507]
[null,"Septiembre",104.19193614794567,101.99635178831618,88.115663150499358,100.12366170803354,110.10800190851991,136.47808122920006,101.55888025254379,null,1.8572750943479432,-1.4110913961254967,-2.7915036409729588,-1.12194849881877,1.899609765635768,36.481982109467602,-1.7522146817452455,null,116.98034072234414,90.646981504091059,93.072136578727523,108.46750382084076,105.89815859053284,176.09346394983203,83.999379235970167,null,112.27389090480071,88.872768402756535,105.62496297594974,108.33353671896096,96.17662363768558,129.02691946122999,82.710028928136197]
[null,"Octubre",103.08729307932632,101.1479662168064,88.96050107408341,99.756500399413483,110.52765897084949,146.2704293411864,101.47427062024342,null,0.143715632161312,-2.5177352494924587,-0.93742474392015662,-1.8676172832675864,1.6664344474150994,50.246658911702433,-1.7909007517674103,null,116.64933790607066,89.747571878836439,93.91071654950774,108.09261478810951,106.078422094644,193.065607021403,82.990647913041741,null,113.15588412658025,88.728993014517272,105.56450943470064,108.35646234111982,95.974548888818006,131.99223376248077,81.784916911229018]
[null,"Noviembre",102.47453685020675,101.50662690647124,88.481578005868585,99.802471652560072,110.18226639323203,157.54956930376065,101.54570612545614,null,-0.78680328510305486,-3.2237934269828683,0.54024437490278743,-2.2577824081943643,0.23355850810415912,62.156766072312465,-2.0863324225300017,null,116.78372187007299,89.508327301768489,93.255549942332422,108.29711069138438,105.89348644364091,219.25470253061809,82.206257638743836,null,113.96364937055814,88.179786906171103,105.39544167730281,108.5114515684506,96.107558784201458,139.16553596404185,80.954932291455933]
[null,"Diciembre",102.99236954611716,102.00314953660279,87.734224734209917,100.46758855921847,110.34535210692638,143.38512856537119,102.67914131303915,null,-0.6175063868082753,-2.5741281162046104,-0.37431203414139969,-1.4869453284513279,0.58757560728557312,50.393484018034542,-1.2962015338946475,null,118.22927190742112,89.594327622973125,92.558881508313689,108.79182917769803,106.18031403657548,206.19557883636023,82.169912718045495,null,114.79420507407715,87.834863952728355,105.49917297237201,108.28549857506835,96.225452190940558,143.80541475914143,80.025905619460801]
[2004,"Enero",101.9062377769343,101.39007845824436,87.264621542122967,100.16278646852531,110.14610787911084,163.19913634574587,102.70610977331928,null,-2.2303054829801217,-1.563617517839222,-2.2666598303716423,-1.2615304380912962,0.39403284503201075,75.859216816964022,-1.0738666825612753,null,116.96867238685972,88.611757265227368,92.99136415823935,107.99943921538203,105.73869361687078,253.2572307931693,81.002279679694524,null,114.78067970961312,87.396872171985237,106.56250209410703,107.82391646953558,95.998574668587139,155.18294793952262,78.868024364347093]
[null,"Febrero",102.14406011192401,101.67496686423436,87.042177277016165,100.04578046613231,109.79659014701301,157.26708789379265,103.51113657637922,null,{"$f":"(C115/C103-1)*100","v":-2.4779344526009939},-1.4391268342967334,-2.5372948479576274,-0.78547270434973226,0.85918116425318658,70.073565574647859,-0.56446650960422229,null,117.30055242049878,88.357443368637675,92.553570134995226,108.28400065522999,105.73827999818832,269.90792643775239,80.450866271378246,null,114.83834918248512,86.901865910239778,106.33186465503819,108.2344504193123,96.303792182078894,171.62391066847346,77.721942712912664]
[null,"Marzo",103.19319161975889,101.40573434666864,86.666646099560651,100.57147371556648,110.13848696195859,145.19710995716716,104.20201701127816,null,-0.4392894302771122,-0.88972808979059792,-3.1807963226940128,5.8537621820442531E-2,1.1194053888997191,27.903554282816543,1.3318364271828198,null,118.42947942826463,88.237052509371892,92.401425464504769,108.6784377708023,105.98281439195674,254.46466135509903,80.332939763424577,null,114.7648188503052,87.013868671097143,106.61705468370857,108.0608981411207,96.226866116803293,175.25463243047025,77.093459481431964]
[null,"Abril",103.96176138356687,101.35087941774842,86.162344763370498,100.73098826351145,110.44915290331953,137.94668243637219,105.01980832940977,null,0.65210768513186412,-1.0751328354198342,-3.2281622065824855,0.26437580979989939,0.55851108960081053,16.340248765369413,2.2340467876496684,null,119.66272302409666,88.346419195598429,91.683963358425061,109.30797972657975,106.34028575518082,242.28674656096629,80.304042834216233,null,115.10263142099055,87.168872833803292,106.40838943069468,108.51474964251413,96.279856350066012,175.63796553985335,76.465615498298206]
[null,"Mayo",104.62632445657262,101.44118329719245,85.070636781450517,101.12581355525245,110.64832245843481,142.82616735249491,105.04241673887829,null,1.3200190426154945,-1.1263788923648432,-3.9254175913236544,0.57105173796274666,1.134238291176759,13.383175385923574,2.3791996245270841,null,120.26671888298073,88.366729346365631,90.636670251767342,109.80132893413202,106.69928938775671,256.02969664857523,79.908202187800811,null,114.94881379771682,87.111295899888546,106.54283743592536,108.57893259285325,96.431005022998377,179.25965626221281,76.07231884852969]
[null,"Junio",104.67728428596105,101.83749076575903,84.410173463075466,101.35173566144182,111.20799549602744,144.23357765956965,105.01090876807574,null,1.3910798513715239,-0.38420893428516845,-4.6239319253943867,0.63378303827943405,2.2309594790393517,6.65332291624392,2.7628579472231074,null,121.04807026345571,88.369922376860515,89.838148827927299,110.24018572084569,106.96098561964318,262.21517677758948,79.601468663365111,null,115.63929183792385,86.775431830036084,106.43047531139862,108.76990413770029,96.181021106044511,181.79898261727126,75.803047128342428]
[null,"Julio",105.13689427065665,102.39132667371648,84.05541520504984,101.06714455577884,111.51814855483882,134.17148186473605,105.91830181850816,null,2.6609277855587754,-7.0896456749747205E-2,-4.2856964135316478,0.46424705961656265,1.8471442818292827,-13.765931088025141,4.5013614664362489,null,122.51784342451606,88.494741245738112,89.301558855394575,110.79286697680169,107.11252079473638,244.00280544201459,79.641022600102204,null,116.53173158141344,86.427966235595648,106.24129169732488,109.62303077203812,96.049407368042893,181.85891819246967,75.190992711125347]
[null,"Agosto",105.53892768947101,102.37338322484784,84.272698052424985,101.47060088140188,111.87374191722105,122.99828948924038,106.16017336606427,null,2.152225735541502,1.3167450986917295E-2,-4.0582525275949521,1.1684571878858074,2.1163197373645692,-16.795206811683382,4.6354610525027429,null,123.81354035224878,88.315121972125738,89.447418166595128,111.18891877282908,107.16862235760911,223.86719938039269,79.58184702888903,null,117.3155186080225,86.267659805825474,106.14044670902906,109.57747151097085,95.794259243519903,182.00838427104802,74.963938457855406]
[null,"Septiembre",106.44750322572179,102.67244548046909,83.756075377379361,102.23174462855461,111.69028894706746,111.50055533466595,107.08065780936586,null,2.1648192376167774,0.66286066148335543,-4.9475741511176397,2.1054792489195728,1.4370318334013144,-18.301492569042701,5.4370209115059298,null,125.5138001182621,88.315592537381619,89.386796118224169,111.68370393302889,107.10107284134867,200.09428029480128,79.674066819528676,null,117.91145523827859,86.016839400383702,106.72276096447273,109.24562066197414,95.89112343697694,179.4558598333646,74.40565686603388]
[null,"Octubre",108.32987308341156,103.51960211678767,82.799570978440201,102.70579287175356,111.24302045532856,96.476395478388525,108.27629725042213,null,5.0855734470115932,2.3447193143733225,-6.9254669446079049,2.9564915173762696,0.64722395384104736,-34.042447326554068,6.7032032736993763,null,127.69635371942103,88.631739866543683,88.706608986599775,112.42832226424804,107.37158143520358,174.56126070810427,79.974656217603624,null,117.87732237173188,85.618315810905116,107.13414083956749,109.46638852653108,96.51983647668068,180.93675643925502,73.861646776337125]
[null,"Noviembre",108.85991441370656,104.67627024205282,81.73341593503676,102.90469010754622,111.28902022851862,90.297507721209413,109.43887114714521,null,6.2311846042629293,3.1225974423345848,-7.6266294328343083,3.1083583438552775,1.0044754673466993,-42.686287166477165,7.7730170214556749,null,129.53741615996884,88.872134795146522,88.055549442918874,112.95459877893622,107.51389687356414,159.7251634273141,80.102543735207078,null,118.99459673253131,84.901892845091922,107.73506580577407,109.76622995597847,96.607820477525351,176.88767659065439,73.193868774017062]
[null,"Diciembre",108.80920474029917,104.83739005080709,81.497279785072152,103.08279083760824,111.94386413507415,89.786782468221688,109.33494949055256,null,5.6478312129496056,2.7785813742812415,-7.108907576299373,2.603030804156603,1.4486446394214925,-37.380686988548675,6.4821424219177803,null,130.62425884736402,88.703991739248707,88.008591913897433,113.09023266646618,107.40429180505957,155.57004001728151,79.856225731037128,null,120.04890501601591,84.611026367844829,107.98960670343496,109.70815957498006,95.944777889266874,173.26608186716408,73.038151207027695]
[2005,"Enero",108.07627360091988,104.57009162765958,80.80385963392439,103.96140585442318,113.64807889744289,92.892973735929402,109.75919514670903,null,6.0546203633690787,3.1364145464438664,-7.4036439899987876,3.7924457973136816,3.1793869849451095,-43.079984480352394,6.8672500486645527,null,131.17970518988028,88.538513200140983,87.848000973637212,112.50802549990424,107.55141416695298,161.26849754872396,79.079136347769492,null,121.37696907858948,84.66905959631184,108.71758028839929,108.22095428129248,94.635488087755903,173.60677676997233,72.04784641693918]
[null,"Febrero",108.52351389874154,105.42789031514152,80.076670433553971,103.7765156668364,114.14023915605399,90.295056137735443,109.97736193183897,null,6.2455455362037338,3.6910987695903508,-8.0024501470064457,3.7290280342877846,3.9560873459048462,-42.584899773362309,6.246888566128761,null,132.25372857514975,88.559250319524423,87.165928487363288,112.93347635525828,108.57771595002963,155.69751626608706,78.962729141690943,null,121.86642675296142,83.999831595611056,108.85308794112744,108.82373110099333,95.12658879361625,172.43193916241347,71.799075513949802]
[null,"Marzo",109.32586062893783,106.51374846084769,78.933685401959607,103.99871261648497,114.19923083888688,89.239166089724179,109.905171997298,null,5.9429007988979432,5.0372044017911843,-8.9226490762289288,3.4077644229528747,3.6869435825197527,-38.539295915704145,5.4731713930283865,null,133.62799572246905,88.962093457925263,85.880061816467091,113.51563216394925,109.14155449918832,152.7608485078955,78.970253225983939,null,122.22908189674804,83.521700009108159,108.80026870547594,109.15099745759329,95.57118178244653,171.18139400171489,71.853081880373566]
[null,"Abril",109.73665718572072,106.7429205559085,78.751916532728004,103.925246914607,113.20311343364996,89.214710320084379,110.17830140623035,null,5.5548268183408078,5.3201720292284316,-8.600541513806192,3.1710784398733427,2.4934193318269182,-35.326672055897681,4.9119239111922841,null,134.41328623821579,88.871947320963315,85.638641755866345,113.65408077020408,109.22962354593287,152.25080163381114,78.737207151662446,null,122.48713391253736,83.257931165950296,108.74483508001525,109.36137670530728,96.489946462430098,170.65661154709349,71.463442571469898]
[null,"Mayo",109.24297888481898,106.41062909029523,78.498461223648917,104.29100291151445,113.50391112590196,91.117623020729894,111.06488073674664,null,4.4125170718031015,4.8988444649189278,-7.7255511495532225,3.1299519331259962,2.5807789978378182,-36.203831055795511,5.7333638970240131,null,135.11316488872396,88.744313761111187,85.299687206576479,113.75392610391219,109.57408228170064,154.42360154096409,78.413099109356011,null,123.68132603851949,83.397978679185115,108.6641519806997,109.07357579102633,96.53771503975554,169.47720585932277,70.601164462793548]
[null,"Junio",109.81280280363357,106.7052714525674,78.315178648780147,103.77044030574167,112.96056920198501,91.804302334737912,110.96275728797421,null,{"$f":"(C131/C119-1)*100","v":4.9060486739827214},4.7799495551250182,-7.2206874648368391,2.3864461999736797,1.5759421776649019,-36.350256421274551,5.6678383129161958,null,135.856349532932,88.506743431715222,85.414764635947435,113.54797074302058,109.40200909855398,155.15774765933983,78.066766962767247,null,123.71631181827615,82.945052504794219,109.06540227534533,109.42226939431994,96.849732496418312,169.00923346010723,70.354025864881677]
[null,"Julio",109.8146133259839,107.44096556304302,77.647162524118642,103.54586572232358,113.62270086984371,91.873705691235685,111.25100575960857,null,4.4491699015621222,4.9317056955594296,-7.6238427533770636,2.4525489242220866,1.8871836936657838,-31.525161372326906,5.0347332326362793,null,136.70770805507996,88.462615948304176,84.978321617285303,113.51565945083877,110.08200898208693,155.08638725780006,77.821475719976007,null,124.48954097690452,82.336020981119205,109.44163167699719,109.62838415514429,96.883816472719928,168.80388800143345,69.95125589078522]
[null,"Agosto",109.51924710461334,107.63597029549859,77.647767479730462,103.05321284070823,113.9469243252308,91.159812695167744,111.83869555978923,null,3.7714230211374655,5.1405813746452589,-7.8613011399887078,1.5596753597193036,1.8531447795352651,-25.885300459286299,5.3490136777980979,null,137.43302263720531,88.338476500646053,84.840026906442162,113.34914651922139,110.38438479331548,155.23088062449696,77.559787246649009,null,125.48755243535284,82.071519639880492,109.26267381555974,109.99089052607009,96.873509703739785,170.28433476885098,69.349688726640551]
[null,"Septiembre",110.43261460713441,107.47230059767946,77.547903219700373,103.01464650162018,113.74789570118396,92.963786298235036,110.73654949861901,null,3.743734010333899,4.6749204177896297,-7.4122051799906501,0.76581092879726143,1.8422432008315948,-16.624822164152718,3.4141475818739275,null,137.72268044383037,87.975290730055733,84.991214523771404,113.03552602990263,110.40092752535409,162.45340546889108,77.051213224987933,null,124.71196207187592,81.858572153758558,109.59833985837561,109.72762599163492,97.057555961630825,174.74912752340782,69.580652073639726]
[null,"Octubre",110.4115553610051,106.10541381206569,77.385183286228568,104.10289188946295,114.13209240867964,98.633236689823008,110.71569850549356,null,1.9216142494607125,2.4978957051639217,-6.5391494523823752,1.3602923249459886,2.5970815441057171,2.2356154588275778,2.2529411487258066,null,137.82637638780579,87.493742261174972,85.340102219756361,112.61420249235303,110.27707047550822,172.56400733750414,76.447685618232271,null,124.8296665481836,82.459263026997107,110.27964087660622,108.17586375211117,96.622315554009575,174.95523124742931,69.048641385249482]
[null,"Noviembre",108.96061699468139,107.87657805334565,76.307402531908195,103.88035891478727,115.06780664628867,102.06726340033518,111.64631624842636,null,9.2506577390949474E-2,3.0573384052493102,-6.6386720058797755,0.94812860931934306,3.3954710087399143,13.034419195117209,2.0170576305681642,null,138.76392783656343,87.666306117158271,84.43518113869915,112.79007939412571,110.69927811930131,176.98966494862117,76.225124564109308,null,127.35236974964708,81.265375393912407,110.6513632191743,108.5769057523637,96.203518034878371,173.40492833085986,68.273747961821982]
[null,"Diciembre",108.79783713499496,108.19956223647173,76.511709914129568,103.51598934265573,114.99325862595506,100.9680791432429,111.48808505475915,null,-1.0447282774772582E-2,3.2070353754850789,-6.1174678272584382,0.42024328360485974,2.72403897653688,12.453165563626944,1.9693021986465942,null,139.66329372132321,87.567063500615987,84.350209784845973,112.64505563546996,110.63633368352113,176.01636318531123,75.98785993984967,null,128.36954979907438,80.931070043737222,110.244836874661,108.8189914918317,96.211147510302368,174.32872317556689,68.15783041078069]
[2006,"Enero",108.31771318393088,107.63957919673777,76.242620469571349,103.41712439343974,115.08777127515246,103.86596406614112,111.86019566163704,null,0.22339739793633129,2.9353398484220916,-5.6448283349550099,-0.5235418437353534,1.2667986926631292,11.812508405000655,1.9141908904485971,null,138.89629826632765,86.812698405982488,84.192568462535434,111.9234171162236,110.91249427568212,183.10296203769627,75.093038421716102,null,128.2304566663739,80.65127999739849,110.4271704513841,108.22522650158261,96.372093270024266,176.28774130580217,67.131152397465016]
[null,"Febrero",108.44693443595736,107.49361397544641,76.448563807072745,103.01876170929839,114.47668075073318,102.95710270447644,112.50543344114215,null,-7.0564857359511901E-2,1.9593711437553063,-4.5307910616635301,-0.73017864655496867,0.2947615995610553,14.022967710908119,2.2987199046200057,null,139.74180688100753,86.770124274778894,83.952904643324672,111.82847619816496,111.35414422305776,180.78200925795383,74.92906927938877,null,128.85731404748114,80.721189906777937,109.81619596568228,108.55156317421685,97.272338342448478,175.58964317096468,66.600400520734254]
[null,"Marzo",109.50603026076864,107.43401001432193,76.419650574477131,103.09249969150136,114.26132135433673,98.181839200733279,112.34944219888712,null,0.16480056117949005,0.86398382065437929,-3.1849961327411469,-0.87136936812424182,5.4370344698240203E-2,10.021018239925983,2.2239810530929383,null,140.76958971801895,86.696608861405011,84.050697235597241,111.71223658241074,111.53456427998294,171.97283533104525,74.899454501177843,null,128.54962359862907,80.697545265086518,109.98571258014724,108.36116780241383,97.613578206488768,175.15747996882183,66.666512120804953]
[null,"Abril",110.70455502681759,107.63867801826201,76.043823562515826,103.371008368462,113.68177791114987,96.97611457914023,111.62954865733369,null,0.88201870361221957,0.83917271298974416,-3.4387645271931166,-0.53330500778160372,0.42283684872364002,8.6996911509430461,1.3171806359153715,null,141.64481753433495,86.74688189672932,83.70346667262271,111.71761257770203,111.83297067153023,169.42311567034119,74.809912254067797,null,127.94849995108353,80.590809450494945,110.07266961505408,108.07441500375896,98.373699572974132,174.70602571118522,67.01622747191233]
[null,"Mayo",109.80911343467801,108.20519893021512,75.761752136410607,103.20177584920556,113.8862771586663,97.998389882599568,112.59506898939117,null,0.51823426607209289,1.6864573165873198,-3.4863219540586798,-1.044411341247764,0.33687476402484151,7.5515214661649566,1.3777426694145278,null,142.07116404681824,86.687122011193168,83.492962470214735,111.62015936991887,112.17911834652368,171.2963672372893,74.612238895000445,null,129.38012119670915,80.11363859429747,110.20463507745166,108.15720800484472,98.500996911362535,174.79508330953138,66.26599154358216]
[null,"Junio",109.63081516490374,107.54849453342011,75.908340642171666,103.28026820178282,114.6575703527068,98.369101942518753,112.79438039716302,null,-0.16572533810584877,0.79023563632236726,-3.07327142469076,-0.47236197756764797,1.5022951483958824,7.1508626946961584,1.650664740094121,null,142.50755092693325,86.431708524919728,83.651534269900623,111.31881029768785,112.51708068100798,172.38725696316251,74.303269316600549,null,129.98859008078816,80.365335563169168,110.20071518126051,107.78323123658026,98.133145796553762,175.24532964008932,65.874974493383021]
[null,"Julio",109.9121751005688,106.8198607382645,75.793599579314218,103.45544861338726,115.13983343271769,97.816272795426855,113.48945496935295,null,8.8842251163145924E-2,-0.57808939218261246,-2.3871612104675033,-8.7320829572079539E-2,1.3352371940285712,6.4681913714927708,2.0120709870985021,null,143.39478230085183,86.47893793120906,83.257285903324544,111.31785474127196,112.66419790605262,172.1740216140775,74.147228230929315,null,130.46305577125256,80.957733265636989,109.84738337463438,107.59979897942978,97.849887868639556,176.0177695322358,65.334024426280195]
[null,"Agosto",109.55519814844985,107.66631576113917,75.48787546356732,103.09183621771486,115.64480554135388,97.410321462512428,113.61641748081242,null,3.2826233549765327E-2,2.8192680901439893E-2,-2.7816537245928807,3.7479061488676635E-2,1.4900632256443558,6.8566494188025295,1.5895410011043998,null,144.02801736248955,86.377666334425939,83.152993783119342,111.17195520967893,113.07192641619224,171.30277281290734,73.958889725611229,null,131.46616481613972,80.22719615116884,110.15410524204172,107.83778744118986,97.775188333693379,175.85690124103718,65.095248878183853]
[null,"Septiembre",109.77372736578236,107.15080220724349,75.795685718222487,102.60387932248557,115.8196951971707,99.007232425623627,113.33580325522006,null,-0.59664189215844488,-0.29914535061410508,-2.2595291796783878,-0.39874638518334615,1.8213958888781301,6.5008605695133337,2.347241058502969,null,144.51903899332709,86.177721232925961,83.312422330918466,110.93351490173175,112.98238506805308,172.65995655431044,73.681728831451196,null,131.65175535287071,80.426575870376709,109.91710351515276,108.11824624395146,97.550235195933283,174.39125640040118,65.011873313791099]
[null,"Octubre",109.33573714613709,107.59351710851307,75.843461352797135,102.39433945546264,115.7755428322846,100.62242068306782,112.99526716351596,null,{"$f":"(C147/C135-1)*100","v":-0.97437103512443279},1.4024763138694496,-1.9922701839821033,-1.6412151506938533,1.439954695406942,2.0167481672535015,2.0589389660123913,null,144.10704367260334,86.085415917325108,83.34839790363236,110.84305294552601,113.48040113278601,175.39012908228258,73.61662048535112,null,131.80232505314456,80.009853967785034,109.89529804807417,108.25115288110064,98.017593661535756,174.30521735778143,65.150180475099162]
[null,"Noviembre",108.04044861951823,107.61255937450682,75.852792802620286,102.56832589601684,116.52469902966067,100.86671251221195,114.12429406808127,null,-0.84449629649956393,-0.24474142914348018,-0.59576098019823442,-1.2630231859775076,1.2661164106919864,-1.176235012213811,2.2194890999727379,null,143.0900326442092,86.130490133828857,83.340728744566064,110.92988344657695,114.26860136942933,176.08709107848281,73.825652620803197,null,132.44116853690946,80.037581704643472,109.87166808930877,108.1521829253965,98.063845966547348,174.5740360648355,64.688814264877053]
[null,"Diciembre",108.18761473182943,107.85488757238497,75.497553338337866,102.8003631630985,116.27894758227832,99.539756831054646,114.72311393695095,null,-0.56087732921416,-0.31855458281196958,-1.3254919762346273,-0.69131946098528463,1.1180559379617927,-1.4146275974626588,2.9016812698889449,null,143.2482945151169,86.121719435903501,83.284046039144215,110.91050080606175,114.71423683782562,173.55598735269004,73.847738539252589,null,132.407295299184,79.849621444465726,110.31356958802579,107.88921108196483,98.654347345769082,174.35846025549424,64.370409767501187]
[2007,"Enero",107.43681246754835,106.45565529337762,75.959637121902148,102.48628554070993,116.40004819409447,101.06993602521571,115.3852622974596,null,-0.81325638299499792,-1.0998964434785097,-0.37116162315294909,-0.90008193342190346,1.1402401005790708,-2.6919579152463458,3.1513145627649841,null,141.87112117580477,85.265275208264441,83.468385657062086,110.58360003552094,114.95443717380805,176.35602379466414,73.584663303383152,null,132.05075422230851,80.09464126004832,109.88518220948013,107.90087615341915,98.758066647982901,174.48910203194893,63.77301731453727]
[null,"Febrero",107.7009505701147,107.15025278185514,76.054616074296902,101.69313551123945,115.80049335979243,99.98290479504098,115.32335464277938,null,-0.68787916387179626,-0.31942473686826789,-0.51531083536117128,-1.2867813358110824,1.1564037325136889,-2.8887738983608191,2.5046978758687555,null,142.05348586630487,85.136077838946662,83.612902661499604,110.42858244723553,115.39808740343702,174.40653377578917,73.494738658626403,null,131.89622293428712,79.454854868399934,109.93797218017522,108.59000648576777,99.652500654634395,174.43635402803329,63.729275727610002]
[null,"Marzo",107.8465427680283,107.40550940444857,75.954366721169194,101.80583727063895,115.69503938360329,98.28715028133719,115.35748790729509,null,-1.515430235931825,-2.6528480012577571E-2,-0.60885367809223601,-1.2480659841527575,1.2547710916281485,0.10726126283762127,2.6774015513872929,null,142.09608738309768,85.156098892545316,83.605649576959451,110.44911377864095,115.74558862839908,171.44209880447184,73.57367788312024,null,131.75766578696749,79.284665530405533,110.07352596839937,108.48996161686178,100.04369179963557,174.42981947664151,63.77884887910038]
[null,"Abril",107.57693606495194,108.10321160405239,75.876660653947795,101.83241412345882,115.3751030849165,96.470708824305973,115.56850976061133,null,-2.8251944656730754,0.43156753161865957,-0.2198244390362647,-1.4884194991297006,1.4895308684300224,-0.52116519312784826,3.528600760869316,null,142.32406524615016,85.308513698576206,83.303212826551118,110.6077038600048,116.04785616658131,168.60600887621453,73.70785068723788,null,132.29979440966684,78.913949394060651,109.78766343773844,108.61738358270389,100.58310074156091,174.77430292679051,63.778490213221886]
[null,"Mayo",106.76699092616317,108.93691354278916,76.098803245644291,101.63598351265234,115.06816898338046,95.66240114206299,115.59396229641257,null,-2.7703734356479437,0.67622870232506571,0.44488293859257233,-1.5172145282083993,1.0377824740618546,-2.3837011437994549,2.6634321857416099,null,142.39268089848264,85.370461847786473,83.095171498822836,110.66996694095951,116.36798237326134,168.18914979762118,73.744649162532511,null,133.36770069408166,78.366881409995102,109.1937953749345,108.88856792258281,101.12960291396365,175.81531279760861,63.796281135715645]
[null,"Junio",106.52955028995646,108.53943694610203,76.526698510441747,101.64816419521449,114.61324376198755,96.523537363284021,115.55165610643532,null,-2.8288258828345292,0.92139124492718327,0.81461123117549938,-1.5802670103253647,-3.8659977342003771E-2,-1.8761628832528854,2.444515143009407,null,142.07372252156352,85.184532213178215,83.450150767850616,110.47663080475746,116.45313310376861,169.51118767143959,73.640514552434354,null,133.36555175053445,78.482563213847072,109.04710694721031,108.68531830303199,101.60530256486055,175.61642714507363,63.729518930134269]
[null,"Julio",106.01279843599471,108.44454740371251,76.467152149696631,101.62353731091079,114.98723090699905,98.624980650622376,115.83316094261259,null,-3.5477204058660394,1.5209593555161938,0.88866681899382183,-1.7707248163625677,-0.13253669140299573,0.82676208373513305,2.0651310501865972,null,141.78488638045238,85.116452220896178,83.394236763370102,110.40605525514482,116.89107726201777,172.51248216539304,73.565784784866622,null,133.74317862767776,78.488457242602038,109.05890231156066,108.64220846531299,101.6557024114778,174.91763347109401,63.510124550009841]
[null,"Agosto",105.58202854934352,109.34080304812292,75.743592378454139,101.29632809321492,116.2036716907009,99.425358226104649,116.28054716495841,null,-3.6266372260333912,1.5552564190072671,0.33875230070588014,-1.7416588843253145,0.48326091840518171,2.0686070360292241,2.3448457038314219,null,141.68956901408316,85.111972053286877,83.172361886092034,110.39536698512767,117.87778048634561,172.05657918901895,73.58017506132299,null,134.19856670765222,77.840997761675041,109.80778607716401,108.98259498956331,101.44066772700666,173.05100253975706,63.278146564739124]
[null,"Septiembre",105.33680770303754,109.01301076101709,76.036195751916679,101.40720278056232,116.02294378227491,99.957024084751936,116.26211036275862,null,-4.0418775687194763,1.7379324423272502,0.31731361939031366,-1.1663073071166097,0.17548706613170761,0.95931543166991595,2.5819794129387619,null,141.23654956086909,84.892709128842625,83.512777069815186,110.16718208415995,118.28432711074754,174.03055699933094,73.459653642552766,null,134.08090926681496,77.873923980457704,109.83292396991078,108.63841922802425,101.94908287512192,174.1053803800454,63.184517650114458]
[null,"Octubre",105.47877375935818,108.92163864228272,76.577781728597671,100.69882873959793,115.05838595469795,100.47775914394492,116.23004710905913,null,-3.5276328558737746,1.2343880648777228,0.96820525158356485,-1.6558637175468016,-0.61943728359411532,-0.14376670541303982,2.8627570222583776,null,141.00198878834894,84.726997809151058,83.676664079050738,109.98646306424926,118.94866776290722,174.68301213871428,73.36203605338973,null,133.678069779266,77.787112703481256,109.27015929452293,109.2231800914673,103.38113712957957,173.85241632276308,63.117961214068707]
[null,"Noviembre",105.42937074070315,110.12609435606269,75.68594787743109,101.19378813686133,113.07386275240769,100.35140570057492,117.69599518838199,null,-2.416759567530502,2.3357264209360684,-0.21995884268012356,-1.3401191324395878,-2.9614633687014114,-0.5108789597704444,3.1296588946872372,null,139.84731837448581,85.147883418561861,82.921358660529137,110.4996666167124,120.11668725797809,175.13569582095107,73.895745973344077,null,132.64550228458768,77.318535553671225,109.55978089197662,109.19609656994476,106.22851677137071,174.52241410899109,62.785267973704585]
[null,"Diciembre",101.09208334634155,111.96060064608838,75.490305396920533,102.25054522620627,113.83345099852444,101.09236095092892,120.32902268980503,null,-6.5585431410757682,3.8067009906694649,-9.6002335133293926E-3,-0.53484046162357579,-2.1031292719806083,1.5597829141871911,4.8864684373324696,null,135.57856716615561,85.501439181547752,83.180054377389894,111.09736356105027,121.59323703629813,177.10562045511736,75.052734202216513,null,134.11393125776559,76.367435230024327,110.18640597628718,108.65209893528922,106.81678888736694,175.1918926308249,62.372927598434991]
[2008,"Enero",100.24681244322748,111.31778316206574,76.523262269658062,102.62335456884472,113.49278739560785,101.96916193170198,119.26712911555386,null,-6.6923057927585354,4.567280014658448,0.74200610891728136,0.13374377597121789,-2.4976456999732721,0.88970661489478076,3.3642657136635945,null,133.6692487278344,85.038068062052645,83.50542772159929,110.81088869276579,121.54134140962218,178.05792208625064,74.254858074046709,null,133.34014864915028,76.392168121284911,109.12423914617884,107.97823668727224,107.09168767347221,174.61938365788691,62.259281853010563]
[null,"Febrero",99.747237640063645,111.40356988335387,76.947884200018734,102.41753995652971,112.7277180027629,103.24314614205967,119.34418202618356,null,{"$f":"(C163/C151-1)*100","v":-7.3849978927280517},3.9694886302862553,1.1745087567718526,0.71234350445432693,-2.6535080014576495,3.2607987872546706,3.4865681768093904,null,133.15844712798329,84.923220442952768,83.701030524784059,110.70053430366957,122.14777435486923,178.47517629192194,74.286176017897958,null,133.49587445066246,76.230250549306817,108.77625992575855,108.08747637431588,108.35646859441921,172.86878883596313,62.245326715298035]
[null,"Marzo",100.49173456163615,112.20718891726123,75.887605714636408,102.90435366740742,112.589298699921,102.93982691471925,119.16555717756657,null,-6.819697709004835,4.4706082019790649,-8.7896205859849807E-2,1.0790308554196049,-2.6844199200146912,4.7337588078036896,3.3011028060282888,null,133.09675093392758,85.282283534550757,82.774088356795687,111.11535222979028,122.97623499920867,179.3005640574128,74.524045931028297,null,132.44547077878656,76.004295587010716,109.07458151737563,107.97925283989562,109.2255093683206,174.17997429309338,62.538243177079501]
[null,"Abril",100.74444071803845,113.11776652791301,74.522135629726179,103.4281415192267,112.90743358534986,102.40499419337694,120.2972168521993,null,-6.3512641248568595,4.6386734024399967,-1.785166891304335,1.5670132241324186,-2.1388232240628469,6.1513856810968104,4.0916916739542675,null,133.10533706145392,85.700482307203757,81.705580468925646,111.62675003541483,123.80166094499549,180.31079298148197,74.781391191374396,null,132.12176881698764,75.762176833695051,109.6393437714821,107.92686438696578,109.64881320361461,176.07617128613015,62.163858107584488]
[null,"Mayo",103.88817889935402,113.88350549204696,73.051400825723391,103.0222888747478,111.29462605044766,102.75706841198311,119.49089083702503,null,-2.6963502500506498,4.5407858441985693,-4.0045339610453423,1.3639906991433692,-3.2793977398543839,7.4163591810582075,3.3712215267954315,null,137.87641462002014,85.78979547186637,80.064007292910844,111.56188419165652,123.56108877702334,179.13160172224704,73.678147621145229,null,132.71617240840621,75.331186110931128,109.59955098454202,108.289075509952,111.02161277851414,174.32533303116054,61.66005383760649]
[null,"Junio",105.57493021579184,113.55615852278133,73.184756532969644,102.62421226333664,110.22899127564625,101.57029857336077,118.52652262491182,null,-0.89610823622769953,4.6220265350837231,-4.3670275113411705,0.96022203238974591,-3.8252581834660293,5.2285290696323594,2.5744905946967434,null,139.88996655822973,85.30119406416398,80.418899940825739,110.82994172653817,123.27442593136291,178.89246851754419,72.858139948286208,null,132.50301588861961,75.11806948546176,109.88476801804639,107.99590007292372,111.83484898550358,176.12675263363161,61.46990423304036]
[null,"Julio",107.92576633587881,113.6211108509369,72.463616903827599,101.47571411273883,110.25240690580625,100.82024865193694,118.35511378638313,null,1.8044688265059339,4.7734658598862723,-5.2356274992842344,-0.14546157522514758,-4.1176954726584221,2.2258742022888356,2.1772287169302018,null,144.27472280905721,85.175730399663024,79.435189048144991,110.47174960636946,122.82453172144344,178.32207469926067,71.765015752445706,null,133.67959080323396,74.964704852611177,109.62078963512121,108.86521033361352,111.40303887095919,176.87129032470878,60.635331635921538]
[null,"Agosto",109.40681771058307,114.11882983558456,71.816242189649742,100.75739606643968,110.37380361733706,102.05401149885421,117.49178421765173,null,3.6225759381503408,4.3698479014816938,-5.1850593106032346,-0.53203510622744643,-5.0169396444556309,2.6438459158192762,1.0416506305005901,null,148.20678419629638,84.973988623992099,78.63132205606361,110.0762173132992,122.56014916847219,179.27413476662352,70.725226228098919,null,135.46393844335367,74.460970855044195,109.48960800318241,109.24877141596103,111.04097634741743,175.66593623675075,60.195890886363188]
[null,"Septiembre",108.77167379220973,114.48507358773489,72.549868927686873,100.46062340137588,109.81144149920604,101.57938925708115,116.82181519783225,null,3.2608412615423799,5.0196419569714434,-4.5850884434100898,-0.93344393024503702,-5.3536844356622986,1.6230626983788854,0.4814163731651222,null,148.44340556096301,84.711689328592882,79.156289985139935,109.77664453308134,121.96739927467239,179.74706289476561,70.491222628681797,null,136.47248441220052,73.993654084237136,109.106041341078,109.27330611366469,111.06984628332582,176.9522973207238,60.340804077824181]
[null,"Octubre",107.50025217968117,114.97262760232366,72.763315551335381,99.583183221267987,111.17818094349403,103.24183847879625,117.0905021484742,null,1.9164788784280296,5.5553598306700369,-4.9811656738520949,-1.1079031725532262,-3.3723791438650008,2.7509364842536854,0.7403034420245147,null,148.15976339472661,84.284159881579285,79.703455345024395,109.30010045182431,122.98666569707561,180.1750224683218,70.243474340448358,null,137.82271240358128,73.308022647884457,109.53796530724698,109.7575884966098,110.62122500419682,174.51744866527736,59.990753350239778]
[null,"Noviembre",104.86111896279689,115.00195339896104,73.629023126995008,99.231924746783932,111.42470977175493,107.20339965920967,118.06780567763157,null,-0.53898811490000753,4.427523804788347,-2.7177102330371183,-1.9387191903756373,-1.4584740810206775,6.8279999774786271,0.31590751125769589,null,147.04450364335224,83.780808522438832,80.845314185808789,108.7801445089915,123.2185056511578,180.94223403040357,70.125639184078921,null,140.22786052428199,72.851639512408255,109.80087844757517,109.62212492257137,110.58454260599966,168.78404472768892,59.394378324898867]
[null,"Diciembre",103.83528556214581,114.62090442863934,74.448656328715188,98.579188924375543,111.75492827422919,108.58929809420538,118.33419635967506,null,2.7135677938360914,2.3761071012474044,-1.3798448194486168,-3.5905493645130959,-1.8259331559070446,7.4159284368831013,-1.6578097997790642,null,145.51116416042856,83.523625974196847,81.650744697571668,108.55269037828521,123.6498062545474,181.34768973630966,70.274798313790484,null,140.13652812977492,72.869452906993033,109.67389973709788,110.11724844029784,110.6437167147833,167.00328017497966,59.386720386549342]
[2009,"Enero",103.19876201885431,114.05096365612273,76.160453539139283,97.641439120703836,111.33234940295846,108.44008976469006,116.71835869813158,null,2.9446817346921561,2.4552954760856061,-0.47411560845418421,-4.8545630466589103,-1.9035905648511764,6.3459654962372269,-2.1370267200385595,null,145.17280911771911,82.646765783145682,82.939161226103266,108.15273596177546,123.36899994167847,176.39524426058705,67.929618790970764,null,140.67301416968181,72.464767621197439,108.90056108119207,110.76520065223292,110.81145830773258,162.66608100690115,58.19960077288011]
[null,"Febrero",103.72255739217847,113.58919071803408,77.513681660653901,96.254964268049605,110.58876656040287,108.37300373721033,115.53306677704718,null,3.985393326339226,1.9618947911352214,0.73529956868525481,-6.0171096582633758,-1.897449429702458,4.9687149092610072,-3.1933816834910589,null,146.33128983473495,82.119690280356224,83.654756999328399,107.50697992850868,123.12799697928529,176.42745127949576,67.322312598711349,null,141.07952360010893,72.295338809310167,107.92256954786308,111.68980295823975,111.33861133357841,162.79649469466412,58.27103397906702]
[null,"Marzo",103.88625796449662,112.10313402667066,79.081685384925891,95.700722596217645,110.86081514875048,108.34723678142926,114.09324287863635,null,3.3779130369955501,-9.2734602474808803E-2,4.2089609234745362,-7.0003171046312707,-1.5352112244498284,5.252981308381055,-4.2565271535398903,null,146.46677699218677,81.512727813932315,84.945778103691765,106.80713497396901,122.66513274994347,176.25861060833157,66.913834725602428,null,140.98763384300756,72.712264935019107,107.41523488051972,111.6053589528386,110.64787191520668,162.67937775275345,58.648376571064986]
[null,"Abril",104.4533226307711,112.03177698878511,79.235344510972567,95.346596944735055,110.75171315200735,108.71161978683536,113.32845462029177,null,3.6814755100115004,-0.96005214075713941,6.3245757001176628,-7.8136805474642852,-1.9092812270087967,6.158513696655521,-5.7929538307353816,null,147.50970847288784,81.376398576068553,85.003169212305508,106.61409516112499,122.18238336429587,176.59921001150107,66.581008492981269,null,141.2206952901972,72.636889964009683,107.2793583935692,111.81740993118068,110.32098726689658,162.4474093549351,58.750477729588447]
[null,"Mayo",105.27125760709188,111.47235806176192,79.092304217408994,95.176122580600747,111.27491942532113,108.54824924798214,113.09796711797925,null,1.3313148063532676,-2.1172051385908719,8.2693874770412901,-7.6159891027913869,-1.7706717589038856E-2,5.6357980287842446,-5.3501347879020837,null,148.43633860452292,81.177170604937871,84.91676880744204,106.35167421427309,122.81063611166148,176.71672249123759,66.232628777384903,null,141.00367182706015,72.822690769635628,107.36413567370948,111.74196986666294,110.36686141487814,162.80015911405653,58.56217442732077]
[null,"Junio",105.72299060522958,111.39336893497691,79.564526541062421,94.566773214437973,111.8035688517877,106.26691747522196,112.50700355496535,null,{"$f":"(C179/C167-1)*100","v":0.14024199602606924},-1.90459911284383,8.7173481341277679,-7.8514016051329687,1.4284604784270849,4.6240081675736899,-5.0786262320339892,null,148.74512941588841,80.967218066597951,85.144908718517257,106.09939364409983,123.22735734043766,176.2741187412158,66.040542051857159,null,140.69326696527514,72.68585090900747,107.0136559847118,112.19521406690136,110.21773151427206,165.87864118888862,58.699049805902106]
[null,"Julio",105.62838875446096,111.83542022055721,79.743066085763942,93.672390534798069,112.98063421708137,106.43650479005912,111.85919217511275,null,-2.1286645992098951,-1.5716187044873986,10.045660833625657,-7.6898434725685361,2.4745285729734334,5.5705636647567225,-5.4885010063821511,null,149.78678424341305,80.646332225975897,85.458436867829207,105.69471876090282,123.31370780917965,175.90940069972453,65.61662500084789,null,141.80542372145877,72.111619080009277,107.16723229066507,112.83444156540298,109.14588032161711,165.27168103339861,58.660020446175508]
[null,"Agosto",105.69830216663294,111.63755916777544,80.46570030003015,93.225436970407742,112.97807222093699,105.55970291693878,111.19861252034197,null,-3.389656715690581,-2.1742868126005011,12.043874542390043,-7.4753411561622185,2.3594988287518381,3.4351333833887887,-5.3562653246049585,null,150.55801546592201,80.172302104333951,86.168211487635688,105.12394271962818,123.45683240309853,175.39946753434356,65.162669325458296,null,142.44128087182318,71.814810984756789,107.08688443192906,112.76315363691707,109.27503893115609,166.16138799894051,58.6002539496955]
[null,"Septiembre",105.42714018348876,111.6643230160411,80.451732356259015,93.052767430512603,113.06547745090644,105.34748818667346,111.89720364867371,null,-3.0748203940578755,-2.4638588099715308,10.891630192258827,-7.3738901074366865,2.963294086002799,3.7095113065268137,-4.2154896675924309,null,150.20673283899711,79.924995057576396,86.697809319013373,104.85179761407308,123.77651331741384,175.35351555785221,65.080441514964917,null,142.47444498406438,71.576124673316471,107.76375695068351,112.67993473957819,109.47330352994634,166.45248840402306,58.160918586758889]
[null,"Octubre",104.19356378854036,112.43192499413436,80.923276241946752,92.656615928895491,113.08858343175341,105.48441672507987,112.09656353751384,null,-3.0759819852458126,-2.209832602049655,11.21438822404186,-6.9555592302990243,1.7183250095001323,2.1721603172963677,-4.2650245061105814,null,148.75711169649486,79.837311245144051,87.119121464482333,104.80031497990019,124.44862652028792,175.82736323143041,65.319459501207305,null,142.76996225831732,71.009467506056851,107.65644386914227,113.10613271298809,110.04526075383203,166.68562873100277,58.270706469380507]
[null,"Noviembre",102.09344763392406,111.53553309001731,81.259397970473799,93.316677826678301,114.82675483381787,105.38753658707536,113.96941957292911,null,-2.6393684868599943,-3.0142273296159816,10.36327051401722,-5.9610321327535747,3.0532231755700856,-1.6938484021092437,-3.47121391913775,null,144.95864352983421,80.223613538118428,87.019993476549701,105.37619344696436,126.00639232809554,177.28752017213739,66.3578131443806,null,141.98623603114243,71.926507468585925,107.08914371746768,112.92321576501556,109.73609113177265,168.22437065473622,58.224226632933053]
[null,"Diciembre",100.99434893598762,111.98032031319636,81.513302432841343,93.309368043578814,114.99023121970554,105.50504352421515,114.38779862186153,null,-2.7360030944951652,-2.3037543880897848,9.4892862443795245,-5.3457742331796236,2.8949980062958902,-2.8402933107777417,-3.3349596813236571,null,144.87257893237731,80.11002003259884,87.218613685862223,105.24832426607809,126.25829975420561,177.16392613504536,66.305898271280597,null,143.44622294085053,71.539373890465868,106.99923948943362,112.795024200489,109.79915286279474,167.91986450807283,57.965883660784399]
[2010,"Enero",99.401181500745579,112.40592821665548,81.517839617303196,93.799417319663561,115.71448166530159,106.60427043935165,115.30821364501168,null,-3.6798702269460581,-1.4423687330053836,7.0343410906957393,-3.9348270935363749,3.9360817281258953,-1.6929341623767025,-1.208160454660745,null,143.82391999591243,79.939620728312548,87.492567790308726,105.25924690938302,127.04694627380533,172.89726950759058,66.067737326779564,null,144.69035259388102,71.116908152952448,107.32935048457459,112.21737822812368,109.79347134897284,162.18606327403532,57.296644565300412]
[null,"Febrero",97.884124828566783,114.31744295396557,79.607286721160264,94.657869998331634,116.57162401220175,108.32204994370136,117.45258137722064,null,-5.6288937627486213,0.64112811380023782,2.7009490655751867,-1.6592331438307961,5.4100046848167604,-4.7017053834297329E-2,1.661441744533354,null,141.85729132302453,80.890244248140746,85.401651957149312,106.48080975205846,129.25793535384719,175.05131511397394,67.08273861652691,null,144.92369582041204,70.75931910121048,107.27868700799328,112.49018148616192,110.88284687559774,161.60266095864509,57.11474182170447]
[null,"Marzo",95.749775931930259,115.87799693197076,78.169850064278023,95.769551020923643,117.79103828396566,109.53019098409122,119.85116574228245,null,-7.8321061822700599,3.3673125538149717,-1.1530297011369428,7.1920485905208054E-2,6.2512828594272651,1.0918176021861514,5.0466817476394699,null,138.09281865301409,81.612001668361643,84.455409861051137,107.49296491161144,131.38042330094837,177.62240684665377,68.386168321486807,null,144.22260241233991,70.42924785477102,108.04090041314467,112.24127477440764,111.53685816421958,162.16753139091361,57.059243352324572]
[null,"Abril",91.996154835035867,116.87725094888728,78.683035527813729,95.926862159820189,119.34201873000077,111.09335321314303,122.33033373993233,null,-11.926061787205844,4.3250889081115185,-0.69704875591517501,0.60858513431945038,7.7563636114623025,2.1908729085058587,7.9431764509641178,null,132.51405779508892,82.022547351287471,84.810930241694891,108.20517780696008,133.47664008760989,180.56062907666828,69.98580036531294,null,144.04303966041653,70.1783680616834,107.78807613709185,112.79966358816517,111.84379274628098,162.53054197603143,57.210503908293887]
[null,"Mayo",93.449057836977346,116.89693631298398,78.46155704553361,95.438116184203466,119.21186589785592,111.02556774933934,120.84332074675565,null,-11.230225646433334,4.8662990050112098,-0.79748235699592662,0.27527240709017686,7.1327362118302151,2.2822279663835765,6.8483579556268825,null,135.23113384313973,81.793938886185472,84.410613132696355,107.82761340790272,133.10488067627378,180.70412406517258,69.106224144162582,null,144.71107250653247,69.970985952264385,107.58212851130438,112.98170764371176,111.65405362442846,162.75901824086628,57.186631182524764]
[null,"Junio",94.695826182997379,116.4538209169788,78.193026652950664,95.083042811501272,119.55814923200266,111.06082724473373,120.07316824297483,null,-10.430242617150054,4.5428664474236324,-1.7237579958499949,0.54593128169089233,6.9358970020848121,4.5111967895648863,6.7250610619213891,null,137.04458985890048,81.583872854278255,84.291242125328552,107.51027804253594,132.96830566026526,179.97116141545948,68.525449871179006,null,144.72083446852781,70.056845032538945,107.79892495969496,113.06987540951042,111.21643025958873,162.04738059340659,57.069744118447751]
[null,"Julio",92.896959186622368,117.333598427178,78.439830369402983,95.166463210308194,120.15481208610193,112.25490086295042,120.5735116974892,null,-12.053037746730666,4.9163120197317722,-1.6342934631574435,1.594997914519003,6.3499182127408238,5.4665418451759651,7.7904366667822744,null,134.05525771934674,81.758762056511927,84.497787358985065,107.84042718810656,134.37927920628911,181.50305011784948,69.347252355383375,null,144.30532376204124,69.680605685382375,107.7230623282239,113.31767888630073,111.83844980756498,161.68830823648636,57.51449997522753]
[null,"Agosto",90.579537824814736,117.89694386701497,78.814116069182404,95.026982408269035,122.33107859784884,113.32189694337028,121.5828491318639,null,-14.303696494560093,5.6068806465327414,-2.0525319790786978,1.9324612427755739,8.2786032661465114,7.353368579048869,9.3384587956277798,null,130.8224235699256,81.888032176562191,84.8517699316658,108.12965845587516,135.97356051292775,183.22646884645039,70.221757449758442,null,144.42823038349189,69.457298459686967,107.66062497888524,113.78837432858013,111.15209811884942,161.68672938647779,57.756301938276444]
[null,"Septiembre",90.379380464561706,117.52997910341642,79.479821007847008,94.414217726440725,122.50162873234174,112.82367692183341,121.7616160723408,null,-14.273136587730118,5.2529365950955587,-1.2080676449677363,1.46309490144374,8.3457404454268627,7.0966938688773462,8.8156022688811841,null,129.99235467030286,81.61043103407124,85.566423169563308,107.83275024029686,136.4325377871323,183.59058970313066,70.232912431077949,null,143.82965893561709,69.437969492244164,107.65804714270226,114.21240660250503,111.37201945716879,162.7234590398308,57.680667107236225]
[null,"Octubre",90.607372991138575,117.73054609715862,79.403379713098886,94.179788335586338,121.29733047643347,113.31888484170419,122.27644440148654,null,{"$f":"(C195/C183-1)*100","v":-13.039376237264333},4.712737154772273,-1.878194506489872,1.643889528471143,7.2586876549159962,7.4271331821865294,9.081349635277558,null,129.90448973370096,81.640001679131032,85.286109643502357,107.87733423044135,137.14290632685683,184.64592245896318,70.230877238668398,null,143.37077154461332,69.344791462834621,107.40866440655171,114.54403979551027,113.06341680248433,162.94364590411931,57.436146088832942]
[null,"Noviembre",91.18272644948793,118.38668029703054,78.70640426013972,94.148610618533596,120.33564855342567,113.68582830765845,122.6209435772676,null,-10.686994549893781,6.142569114260521,-3.1417827034132428,0.89151565532634702,4.7975698064275152,7.8740731487984883,7.5910924498499899,null,130.67571502693741,81.797410870590724,84.652486012363269,108.03786500218024,137.27866947145017,184.71204204597075,70.128837828582576,null,143.31191895136766,69.093423909988999,107.55476229427354,114.75247939655998,114.07980188888271,162.4758730227131,57.191565961480329]
[null,"Diciembre",89.732834878528891,119.14540290928031,78.671172279287248,94.695675031182446,120.73106604237417,113.95256672569042,123.30767664578896,null,-11.150637809048614,6.3985194684601954,-3.4867071615650946,1.4857104025784107,4.9924543691889145,8.0067482267200063,7.7979278659032314,null,129.08975239435415,82.008136821908209,84.462056324639235,108.35920197038887,138.28860063306828,186.00006161299831,70.656278869736482,null,143.86010713815364,68.830298794113645,107.3608716860021,114.42888171472154,114.54268165289932,163.22586402177538,57.300794882951379]
[2011,"Enero",89.901119832361132,119.05064207739535,78.026912929719145,95.721257648406166,122.82543156286367,115.26805642746692,123.99264620133076,null,-9.5572925039258081,5.9113553583513889,-4.2824082482714072,2.0488830140522829,6.1452549371738607,8.1270534026534946,7.5314951830361521,null,130.00598507911238,81.907452187214801,84.023160520504561,106.81216347043608,139.07073818108304,184.44474674069531,71.561766324600356,null,144.60997295866272,68.800512754871491,107.6848453509706,111.58666955961642,113.22633791024361,160.01375615867892,57.714524624632389]
[null,"Febrero",89.510903227036778,120.55436604747193,76.430498475144702,96.292586404234768,124.00512951307844,115.75349875396445,125.26843395043061,null,-8.5542181801132493,5.4557930376538444,-3.9905747034726491,1.7269735796209496,6.3767709885371504,6.8605134542094381,6.6544749221883137,null,129.2113198597807,82.535789991761831,82.554322221696097,107.639219219494,140.71898480071249,186.51295093451864,72.188970812269275,null,144.35260420962035,68.463542796335446,108.01227764927226,111.78349573831805,113.47835799475641,161.12942843391224,57.627423394496049]
[null,"Marzo",89.859647868386332,121.3169588834467,75.240829422741967,96.809566505651162,124.85560242003663,116.00633009578405,125.3682868409456,null,-6.1515841747047943,4.693696901465283,-3.7469953429967728,1.0859563124612448,5.9975395743095739,5.9126520765707902,4.6033103345249904,null,128.97342093737967,82.966924391975411,81.493696328146982,108.1912426541749,141.73538418328278,187.88615735930307,72.537336557619298,null,143.52762780272815,68.388562617766027,108.31047046314863,111.75676801306547,113.51944280918973,161.96198707792007,57.859398405632845]
[null,"Abril",90.846409598353389,119.22942182169339,75.058640873038925,97.285221216755929,126.1245785146301,116.55115373439341,125.21623931094612,null,-1.2497753180490623,2.0125138585221913,-4.6063228629424362,1.4160361616672335,5.6832956713881222,4.9128056390368213,2.3591087204495542,null,129.10839456996928,83.332890542321067,80.562997727180729,108.64265796530705,142.38183148583636,188.72610703294484,72.74941338677408,null,142.11722305898306,69.892891594278396,107.33340863905647,111.67437007029694,112.88983730424951,161.92555885206403,58.09902436545584]
[null,"Mayo",91.128855152979256,118.91595388479557,75.45991895601658,96.879604217395723,125.58711723813444,116.71676984199007,124.84660243792443,null,-2.4828529443771452,1.7271774911241433,-3.8256162667981375,1.5103902830710281,5.347832862326829,5.1260283626737735,3.3127868933345628,null,129.67626215643051,83.029423651986548,80.934982765246687,108.24123046528736,142.45289363916871,188.34107601078887,72.372325466853837,null,142.2998916630097,69.82193804914057,107.25559195527543,111.72757293929109,113.42954338943372,161.36590848578402,57.968998798215942]
[null,"Junio",91.000876595552086,118.57633889312652,76.314750684490917,96.188219912492329,125.47839741326084,115.86386300354619,124.53623628506931,null,-3.9019138819327615,1.8226263075222571,-2.4021016308733323,1.1623282851622951,4.9517730236605884,4.3246893418401156,3.7169570082994818,null,129.66539621194187,82.426218520411425,82.023289469490152,107.49662669840492,142.71362169602273,188.11889641533932,71.923988392202716,null,142.48807381079624,69.513209203315512,107.48025608915388,111.756540245989,113.73561078087249,162.36200963675938,57.753462395928935]
[null,"Julio",91.005856009036862,119.1560268642199,75.678688384487558,96.001857633665182,126.45663814306084,115.52746492662135,125.22926121112677,null,-2.0356997625578188,1.5532025451115539,-3.5200764355457714,0.8778243881049308,5.244755451361427,2.9152972730039917,3.8613369123050356,null,129.45145750212802,82.502491285430821,81.812447438164995,107.44950600531034,143.60631088930182,188.35504732354741,72.020858802841062,null,142.24519517653187,69.239041831634466,108.10500179722291,111.92440297908443,113.56170225468077,163.03919370444368,57.511206331737043]
[null,"Agosto",91.091086595762917,119.14347580006753,76.111847246977717,95.527992420451525,126.27555259944016,115.17468880109077,124.7433533413668,null,0.56475091751686524,1.0573064001206278,-3.4286609518435207,0.5272292137300294,3.2244250985135059,1.6349813299069371,2.5994654937516293,null,129.30898111974304,82.182721058592861,82.525678796897424,106.89526459741612,143.84909913892363,187.99957868503421,71.817299110988202,null,141.95569067430338,68.977944874213819,108.42685046009626,111.89941491383316,113.91682410230956,163.22994283033282,57.572044671956476]
[null,"Septiembre",92.14910396042103,118.99887802635702,76.151694581378436,95.78223229415687,125.59146287059917,114.70664765917356,122.81460956545838,null,1.9581053629298184,1.2498078653175648,-4.187385407095956,1.4489497457680356,2.522280046584946,1.6689499834726229,0.86479920937643229,null,130.41566474661087,81.8609567131044,82.543328929416603,106.97538974516054,143.64015374591736,187.54949932327872,71.315579883155237,null,141.52678554815432,68.791368516073774,108.39329233994633,111.68604780125438,114.37095361642082,163.50360083797605,58.067668118217718]
[null,"Octubre",92.683679775012294,119.00798085098064,75.973820967742071,96.011321594632548,125.05118760905961,114.97550760025855,122.13971747226391,null,2.2915428571985919,1.0850495442090269,-4.3191596601410804,1.9447200842286794,3.0947565934729804,1.4619123377965781,-0.1118178811069237,null,131.33194046172653,81.720280555603694,82.235948633189821,107.2491666041013,143.54680192295433,187.78393008688872,70.983850320605811,null,141.69910040314767,68.667899388976394,108.24248087786266,111.70470817693337,114.79043475517921,163.32515855443498,58.116926901132857]
[null,"Noviembre",91.605960763601146,119.71414512865063,76.018498935327358,96.285160503035328,124.68166603640486,116.42080758422608,122.48643420214087,null,0.46416062624281551,1.121295764261232,-3.4151037010003882,2.2693376678265542,3.6115793908316984,2.4057345733244695,-0.10969526999436985,null,129.49728574143941,81.960853517906045,82.116563126695851,107.56569319913703,144.53871109458473,189.47624504739687,71.606807624831802,null,141.36338362917326,68.463800522341728,108.02181610630907,111.71575415896626,115.92619483636186,162.75118595987914,58.461010879505402]
[null,"Diciembre",90.570186895839058,120.46323693875712,75.918229778104248,96.672597589725783,124.18018572253368,117.31232482350306,123.29213375528371,null,0.93316122068771712,1.1060720743713892,-3.4993027578258173,2.0876587636049493,2.8568617781846939,2.9483829933382166,-1.2604965828599823E-2,null,128.81212999961193,82.001329802851757,81.965662021356806,107.83682066193008,145.2464748381764,190.2977020070206,71.810627574800435,null,142.22354442941949,68.07166392560147,107.96571819565361,111.54848773132666,116.96429184178621,162.21458597238131,58.244289710593947]
[2012,"Enero",90.968147711219075,120.32251334620003,75.782606942171029,96.988039671845357,125.37124332762247,119.52101129678562,122.58887725977586,null,1.1868905313389133,1.0683447368371457,-2.8763229292047221,1.323407208137839,2.0727073639108751,3.6896213930655675,-1.1321388683612432,null,129.94449811931366,81.833272242562884,81.634625093531213,107.9349326748319,145.91636191928376,189.04744607666214,72.264005985882036,null,142.84615152528565,68.01160478347613,107.72211248397115,111.28684839906535,116.38742509553997,158.17088897217721,58.94825664546115]
[null,"Febrero",91.426864324877087,120.68020435553613,75.481218058925734,96.94442532306941,124.97774192389623,119.90558274850599,122.17619803312803,null,{"$f":"(C211/C199-1)*100","v":2.1404778957269999},0.10438303662485549,-1.2420178268596205,0.67693572597400387,0.78433240192310461,3.5870051784498092,-2.4684877265458538,null,130.08404507415443,81.780664358665888,81.241171730137893,108.3969281978612,146.58497083033836,189.31691869461423,72.204146643775246,null,142.28208091214037,67.766428467200583,107.63097604852582,111.8134723442076,117.28886165954225,157.88832709457233,59.09837415647614]
[null,"Marzo",91.258157985373728,121.3691166164855,74.941250876784508,97.265017980637097,125.42021461492016,120.72985141605226,121.99124929330284,null,1.5563271726100503,4.2992944695319224E-2,-0.39815954749019555,0.47046122756819742,0.45221214261901288,4.0717789420353867,-2.6936936227956898,null,129.73884417598251,81.964073451634818,80.572367341726164,109.19138836635427,147.1591650967014,189.99692592414738,72.450177891761442,null,142.16684517868114,67.532891180738545,107.51404119768446,112.26172639796501,117.3328921087615,157.37361033386094,59.389651562277145]
[null,"Abril",90.485441795643951,121.26817878234364,75.484960629909679,97.049465671966175,125.29284247791027,121.74215100817096,122.24407998815997,null,-0.39733854568974047,1.7099445166304683,0.56798224949459186,-0.24233438732125245,-0.65945594943919161,4.4538360260313103,-2.3736212963603509,null,128.59432834774424,81.832972734909688,80.847873165147263,109.54290611357979,147.64772705838948,190.32556052848594,72.685584595380533,null,142.11604186910748,67.480994236572457,107.10461062771306,112.8732707131457,117.84210824686213,156.33497433088058,59.459390264477875]
[null,"Mayo",89.386337299550377,121.45732184035566,75.731479141583307,97.266763846990727,126.26392858979104,122.38133129379453,122.29287744237878,null,-1.9121472013487795,2.1371127023226411,0.35987341269874129,0.39962965654383176,0.53891781779913384,4.8532541291821829,-2.0454901820939786,null,128.24217345347759,81.578127199552668,81.132837157298894,109.7592381260107,147.91649070552035,190.06978244392238,72.623050820012082,null,143.46954727959604,67.166084319543558,107.13224946474043,112.84351795508665,117.14865231706406,155.3094580967024,59.384530267701138]
[null,"Junio",88.031594253373115,121.66463172373628,76.123846324514119,97.370717505503833,127.35082064025812,122.29368207332041,122.82447857707743,null,-3.2629161973634302,2.6044764574771229,-0.25015394568483895,1.2293580171119478,1.4922275591634282,5.5494602916678515,-1.3745057334746957,null,126.62694139150294,81.25150746343337,81.817207107672402,109.9883987468196,148.79028341176536,190.353222180393,72.850103887379376,null,143.84260840152962,66.783177914787146,107.47907660746361,112.95839402703646,116.83496240049338,155.65253981499055,59.312365687482185]
[null,"Julio",88.410535478026063,122.15311960650877,75.417313543981237,97.753509519326897,127.88200087003142,122.53379626882851,122.28490675617661,null,-2.8518170641162688,2.515267436454649,-0.34537443246690502,1.8246020742076263,1.1271553220939312,6.0646456205520671,-2.3511713049126803,null,126.60804178372236,81.186318615691604,81.412304603149693,110.47170657725344,149.92388915921521,190.32026404868245,72.827603471601705,null,143.2046996426009,66.462746819087954,107.94909123310572,113.01047616649716,117.23611465196366,155.32062977232528,59.555676496374474]
[null,"Agosto",87.831374500510222,121.98071840523853,75.895719247388087,97.680123984654216,128.58715163764069,121.75184566053817,122.20865578963715,null,-3.5785192789700715,2.3813663199923063,-0.28396104865029415,2.252880553304637,1.830599027773161,5.7105922559133493,-2.0319299456327045,null,125.86623448094001,80.814689522510093,81.966674296196544,110.62123961822704,150.48079826771473,190.14017486406695,72.786401453400501,null,143.30441166010539,66.252019646278342,107.99907439972958,113.24846356215303,117.02630966721345,156.17026077305255,59.559121228442912]
[null,"Septiembre",87.57966520840823,121.40409483581172,76.61094932790192,97.36082882099565,128.33133577865837,121.37643964358817,122.31326187692542,null,-4.9587446384453449,2.0212096528523293,0.60307882713326322,1.648109977214518,2.1815757579654704,5.8146516531740078,-0.40821502450467673,null,125.02844715961443,80.366638245639905,82.805293285397539,110.64276417731887,150.6217767273356,190.18149853640523,72.711088807819493,null,142.75967698904935,66.197633905453245,108.08545516252939,113.64197030485732,117.36944512688862,156.68732671254605,59.446610851555214]
[null,"Octubre",87.480318186042339,122.06855213224236,75.736307870271574,97.887111809775689,128.61201042986673,122.391967293202,122.83140139208402,null,-5.6141076849786309,2.5717361637234148,-0.31262492059118685,1.9537177324387534,2.8474922061029195,6.4504691892543375,0.56630548533664893,null,125.17811470732863,80.669931096611691,81.662575190246471,111.54237540472742,151.33053446764865,191.70825351066952,72.892828120679582,null,143.09288912406018,66.085760572647999,107.82486958583455,113.9500117456607,117.66438761189457,156.6346695379228,59.343805651131511]
[null,"Noviembre",87.139816016378077,122.28560006227279,75.733711887423112,98.184575411763063,128.05378126358133,123.35097105415612,122.90406322249721,null,-4.8753866123935179,2.1479959037912888,-0.37462861263088953,1.972697452862282,2.7045798587515435,5.9526845876896495,0.34095940752680853,null,125.39522254531943,80.484618246200142,81.449697211793577,111.82642394147868,151.75005763453484,193.76500758866527,72.669903326340119,null,143.90117890741377,65.816922192976207,107.54747810706438,113.89408516816913,118.50494076561311,157.08429851240857,59.127339992644046]
[null,"Diciembre",87.153154703744747,122.65336037907065,75.607809644699984,98.732767819355828,126.64644949413584,123.59837259511337,122.79565587043116,null,-3.77280019972146,1.8180845011054991,-0.40888747579016504,2.1310798313016521,1.9860364656828056,5.3583864961057603,-0.40268415326316642,null,125.08814133157374,80.279962447591771,81.5249268391442,112.12072398968978,152.18586181558115,194.67509672136214,72.607789161513438,null,143.52680836027042,65.452721555675041,107.82606614614313,113.55979019531685,120.16591260430707,157.5061973987988,59.128955863166802]
[2013,"Enero",86.33996978095881,122.76659804200334,75.448424808578793,97.948207936888323,126.42153258531553,125.77900366385771,122.95714427020143,null,-5.0876906331571607,2.0312779610670351,-0.44097471316505432,0.98998625840016619,0.83774335311361803,5.2358930862228981,0.30040817622074556,null,125.39732707169242,79.58631282188648,80.840026686756289,112.77583105832598,153.06449720786651,196.45291200632417,72.623259637958597,null,145.23670484228867,64.827334218919091,107.14607613327462,115.13822808375589,121.0747046628081,156.18895545662079,59.063879589108836]
[null,"Febrero",86.154478188614647,123.36842085560299,74.704418843127357,98.09175518745532,127.4040984726529,127.02223693316029,123.34163808194033,null,-5.7667800106623979,2.2275538183106569,-1.029129147322394,1.1834923571545364,1.9414309391460938,5.9352150429734296,0.95390106057833268,null,125.58658645856768,79.637142899245219,80.145583578076284,113.37784025730772,153.96798932332808,197.3804592138691,72.614189275685362,null,145.76907561743434,64.552291702312374,107.28359154546787,115.5834555520394,120.85010699744254,155.39047648620112,58.872405462496872]
[null,"Marzo",85.865178909515677,123.33610088646284,74.434183375849273,98.393552397700276,128.18559204296392,127.91504653339396,123.54198140319562,null,-5.9095857235277549,1.6206629205292922,-0.67662001234665148,1.1602675252554207,2.2048897273333035,5.951465220130614,1.2711830716352068,null,124.80060736231393,79.65159064248644,79.935880185225443,113.92573359419833,154.5666311514681,198.83583364847416,72.847854585215515,null,145.34484053638113,64.580921619866828,107.39135778731634,115.78577134172166,120.58034658034114,155.44366283489984,58.966072712940296]
[null,"Abril",85.365471210336139,124.47163778198909,74.165624792637146,98.63488574425871,127.54732027694034,128.58763096621411,123.64687214219487,null,-5.6583362844942142,2.6416319860753656,-1.7478128441253626,1.6336206091555061,1.7993667909861122,5.6229333072845833,1.147533814456092,null,124.77323019861923,79.628900733540959,79.740439701028279,114.35887551619408,154.57521237342488,199.11001240035867,72.859209818783526,null,146.16358163265377,63.973530157135258,107.51670996364959,115.94161097596304,121.19048211894969,154.84382977136741,58.925234869665658]
[null,"Mayo",85.540522538944899,124.88218907971498,73.905729075137458,98.928814343150506,126.98105681771601,129.11939207626048,123.2137427827591,null,-4.3024637509392889,2.8198112616553361,-2.4108205559177476,1.7087548001230246,0.56795969833538518,5.5057913745767628,0.75299997811746344,null,124.64217418439634,79.518770301553374,79.549389737892611,114.80216815426299,155.31079196890451,199.16775549036521,72.836315853542004,null,145.71126114836304,63.67502915151082,107.63629658130758,116.04522799197127,122.31020583791205,154.25084666812307,59.113792186283419]
[null,"Junio",85.508086044509497,124.71389380173969,73.766857258731719,99.023527752799296,127.68240966280391,130.40033549651406,122.89290094723333,null,{"$f":"(C227/C215-1)*100","v":-2.8665937840458011},2.5062847228497498,-3.0962558772117399,1.6974407600540031,0.26037446863609315,6.6288407428384932,5.5707437921648228E-2,null,124.19056556828636,79.247836740083414,79.711954273298616,115.02839761802942,156.02055435910324,200.6108361159952,72.756707865617813,null,145.23838775158819,63.543711389578917,108.05930635449863,116.16269408739343,122.19424333480036,153.84226992372888,59.203344786252096]
[null,"Julio",85.110825919111363,124.93148632091109,73.563897784764649,99.02805435779446,129.02728042149903,131.20944979056688,122.82906317627067,null,-3.7322583118330144,2.2744950954607379,-2.4575467782152249,1.3038353760747246,0.89557525193211251,7.0802127950926552,0.44499066526586528,null,123.81478566712683,79.075616375711107,79.626360283918558,115.34773927433048,156.82899823046984,202.58592363752385,72.720049357124736,null,145.47477871357916,63.295185788945027,108.24108384916148,116.47986019958749,121.5471625210961,154.39888206290499,59.204269312682932]
[null,"Agosto",85.014674980323193,124.5690314308203,74.290163783447881,98.441698253697609,128.74209214553213,131.66057937171982,122.33298131310337,null,-3.2069400441532059,2.1219034118023394,-2.1154756550982423,0.77966144797587678,0.12049454857516739,8.138466942676704,0.10173217491258324,null,123.36008274766759,78.705027967375045,80.338900738898928,114.90300793438024,157.06931494033617,204.26502704665035,72.534733994978438,null,145.10445729072012,63.181857531808831,108.14204283232276,116.72188713999998,122.00307787664542,155.14516799287736,59.292868706706713]
[null,"Septiembre",85.17862719491427,124.14544807051455,74.453903410342107,98.364803930447394,129.05189398532386,131.59595974810154,122.01035038703461,null,-2.7415473760722286,2.2580401743534706,-2.8155843733608577,1.0311899781560108,0.56148266695226212,8.4196901264546256,-0.24765220487342754,null,123.50396877013256,78.382788632841084,80.599479518852291,114.93674503582356,157.2974700815839,204.7564407649549,72.25759372991412,null,144.99408224497256,63.137867598914866,108.25420270397339,116.84742961221575,121.88699074766947,155.59477749688955,59.22251145144859]
[null,"Octubre",85.553655215647368,124.09772043396229,74.52547650980695,98.06715946361868,129.41671087861141,130.93033277451929,121.39329626016233,null,-2.2023959335602639,1.6623186449542304,-1.5987462216123016,0.18393397303710923,0.62568063904380189,6.9762466198968642,-1.1707959981105964,null,123.08908109791423,78.294925264599954,80.763552160208292,114.89551087579758,158.16728478450335,203.90412968863137,72.318711679159534,null,143.87355021553984,63.091348487955536,108.3703935117818,117.16002737738312,122.21550347764519,155.73482887252979,59.57389238708101]
[null,"Noviembre",85.660785528267368,124.74254002232773,73.689231502150832,98.3953879558903,129.71817269575806,131.50501770819085,121.82363768877819,null,-1.6973073340351363,2.0091817505935028,-2.6995644797014107,0.21471045043799375,1.2997596913993492,6.6104438289786627,-0.87908040254380815,null,123.14911534027731,78.508858228051182,80.079541112535637,115.30264868165709,158.90457092754627,204.41833690723371,72.459631305206614,null,143.76370071885353,62.936716066547014,108.67197211874611,117.18298090693655,122.49985304699149,155.44527537408288,59.479123001004631]
[null,"Diciembre",85.566728974468177,125.4155117504632,73.303103183896681,98.74700803243887,128.91534508510739,132.05328921063733,122.09513384212556,null,-1.8202734423891198,2.2519981212548057,-3.0482386298898101,1.4422985800521815E-2,1.7915193043580802,6.840637492227164,-0.57047785879719148,null,123.17142954415755,78.591992810405998,79.667943729153208,115.7058212497943,159.13780296848378,205.27525606197324,72.517612772612935,null,143.94780660706343,62.665288937128416,108.68290736517518,117.17400208397643,123.44364657552917,155.44880198670404,59.394351347680598]
[2014,"Enero",85.641340087216804,125.02729194068826,73.331381656989137,97.283814172250629,129.21606074595843,132.95138134349048,121.92547001938428,null,-0.80916138320918929,1.8414568251793106,-2.8059474494806613,-0.67831130209731194,2.2104843245410066,5.7023648388890402,-0.83905189644777334,null,124.26155705807193,77.779180898766739,79.00062966825395,115.23571709912311,159.62749563634128,205.58700877980448,72.391403407416632,null,145.09529735467061,62.209762117909776,107.7309984936367,118.45312406757289,123.53533664067689,154.63322509500978,59.373487258984945]
[null,"Febrero",89.377736254283732,125.12031757633862,72.125624701466606,96.707194515797283,128.22238688220716,132.24910757803366,119.08377998657707,null,3.741254237083913,1.4200528049119976,-3.4519967916168293,-1.4114954605635388,0.64227793247162435,4.1149256784257293,-3.4520849257203889,null,129.95757658733655,77.587473855544403,77.467650125867934,115.07955978904793,158.75494690195058,204.16591119581301,70.715989068648014,null,145.40262713479487,62.010291660430447,107.40655688808572,118.99793015942521,123.81219127342598,154.37980258229328,59.383392999969452]
[null,"Marzo",93.092113032043073,124.66757673443735,71.398961939721346,96.153539243886527,127.46552743702021,130.39189031087179,116.23734365724854,null,8.4166063756101916,1.0795507871618204,-4.0777251774253065,-2.2765853038416162,-0.5617359911263331,1.9363193342788021,-5.9126765355231097,null,135.76771125908056,77.210152894304755,76.561781271881728,114.74937512113964,157.15621419312865,201.5002685206135,69.001913582144454,null,145.8423349058026,61.932825612528916,107.23094452902424,119.3397310421264,123.29311097133962,154.53435642370837,59.362947750777771]
[null,"Abril",91.882866571095235,125.63788796044012,71.626215593124371,96.155296703043945,127.35472405348547,130.51243521539084,116.61567136820418,null,7.6346973411539842,0.93696057931984544,-3.42397061524502,-2.5139067405054449,-0.15099981954672659,1.4968813366524003,-5.6865172989614798,null,135.18457758588823,77.119724388279536,76.766802847452411,114.95799021277958,157.18400483083775,201.50854177174239,69.096813367356205,null,147.12707888938999,61.382538054573473,107.17696336705733,119.55450625648207,123.42220204161785,154.39796325858399,59.251739115910787]
[null,"Mayo",92.575699820339452,125.62652054264925,71.43239024324869,96.034645784705859,126.90168502229784,130.72827111203483,116.27156832750016,null,8.224379595286635,0.59602691818538833,-3.3466131284277112,-2.925506160829705,-6.2506800153749875E-2,1.2460398162532416,-5.6342533701770892,null,136.45620247046992,76.968860514621085,76.435459945709653,115.03277694996707,157.53801809931565,201.08308793579499,68.687547076063964,null,147.3995905354092,61.268003111246514,107.00392312986311,119.7825805572834,124.14178588064824,153.81759907423978,59.075101561022137]
[null,"Junio",92.203311218565602,125.14209680115106,71.93236459420153,96.232148179089293,126.35152606924152,131.5518550211587,116.1047710912401,null,7.8299322131605731,0.34334827207953555,-2.4868792472693246,-2.818905402641636,-1.0423390325081661,0.88306484815403596,-5.5236143045462534,null,135.65086331394539,76.543150852937714,77.006177735029667,115.17234800288006,158.27180922844738,201.39901631593031,68.593719881919512,null,147.12146616121896,61.164989887107012,107.0535887002346,119.68178013499478,125.26307687151584,153.09477489582909,59.079156900465037]
[null,"Julio",89.547183422791846,125.49402752574663,71.703679603145829,96.510530629813459,128.16133406840754,133.09124114296213,119.55526508285743,null,5.2124479533270707,0.4502797664557745,-2.5287107367006234,-2.5422328493752255,-0.67113431381539135,1.434188890662158,-2.6653285539718241,null,132.67881398826049,76.76181517403036,76.864512744943752,115.89174616982143,160.28504889900327,203.42091560315737,69.484590137225098,null,148.16637320888717,61.167703903902307,107.19744533385355,120.08196972240131,125.06505964852812,152.84320279547882,58.119222176513105]
[null,"Agosto",89.515453304718875,125.1523014325049,71.755451301378599,96.877044304760858,128.22336902743979,132.71256100358372,119.47276168855967,null,5.2941193099160788,0.46823034183141043,-3.4119085932531323,-1.5894219387646347,-0.40291648943063807,0.79901033162994572,-2.3380609168864752,null,132.70882956196809,76.510735828707467,77.056909362284856,116.13223072000972,160.3913568730911,203.02965847303489,69.32246017886601,null,148.25242420458395,61.134102172280059,107.38823039191783,119.8759020296644,125.08746111542848,152.98450797551288,58.023652587503641]
[null,"Septiembre",89.83309820554652,125.63123075558769,70.833972693640234,97.626050710420387,128.79881432121311,133.17963290883941,119.17993259194283,null,5.4643649045686304,1.1968080249138202,-4.8619757338324359,-0.75103410011305716,-0.19610689645478407,1.2034360050029669,-2.3198177745685333,null,132.87857561214562,76.675966602222104,76.10246176306066,117.15284499670413,161.00341251154614,204.12313469394383,69.432624130732876,null,147.91716891262843,61.032568208611451,107.43779978599655,120.00162266545469,125.0038001980496,153.26903238550355,58.258653634636204]
[null,"Octubre",90.143669621579988,125.93202974041253,69.882814613997738,98.236251427335688,129.40986771812581,133.98387750244501,119.40499931242323,null,{"$f":"(C243/C231-1)*100","v":5.3650710707368265},1.4781168421432511,-6.2296306085319326,0.1724246573897581,-5.2876946409319281E-3,2.3321904582526143,-1.6378968270850058,null,132.85210528376209,76.810241502840938,75.172027807836841,118.19679437403173,162.05528831005716,205.20419061085619,69.568564439095113,null,147.3781862236923,60.993411812048279,107.56868941678211,120.31891756523368,125.22637660293263,153.15588295846379,58.26268987035369]
[null,"Noviembre",89.495121529176075,127.06732427416976,69.528129692009372,98.366639123435746,128.27667835002094,135.32710518207966,120.49453965400589,null,4.4761858968050294,1.863665956638294,-5.646824814586382,-2.9217662587444071E-2,-1.1112508878135419,2.9064194967602042,-1.091001762866195,null,132.16991426850029,76.834988428233544,74.909562320731254,118.71160319299925,162.78300568803544,206.57173348972444,69.765721361656006,null,147.68393182796217,60.467936085951365,107.73993583972438,120.68278864751446,126.89992271538178,152.64623684352566,57.899487862259015]
[null,"Diciembre",88.910187802767084,127.64126684517642,69.278148787791281,98.819442696469608,128.17574793164698,136.31079234202909,120.79472403083422,null,3.9074285862867875,1.7747047902190616,-5.4908376607303078,7.3353781014762198E-2,-0.5737076163990773,3.22407957941937,-1.0650791480132482,null,131.46312422695189,76.699883493485245,74.896689339528024,119.39108492126662,163.1542985638016,207.16345981650809,69.882508217001629,null,147.86058546921714,60.09019292053803,108.11011935227532,120.81740360344287,127.2895233276172,151.97876577277646,57.852285170305393]
[2015,"Enero",88.76544361034955,127.88304197305902,69.274538010895469,100.09426304780109,128.96340006576276,135.19392026558043,119.78126265549007,null,3.6478919175612745,2.2841013254334186,-5.532206750269264,2.8889172360926141,-0.19553349540071263,1.6867360830920441,-1.7586213639802395,null,131.3135229766319,76.639853825776726,75.41007293182787,120.34843322727295,162.41655677001177,206.87699447837656,69.850758304979962,null,147.93315690850835,59.92964559126014,108.85683989688594,120.23509596129327,125.94003933456325,153.02240964089137,58.315262968868375]
[null,"Febrero",88.701647185943244,128.10952504419328,68.959488382385658,100.24541661628572,128.34880655280841,135.70944880445666,120.74844324407492,null,-0.75644013450618663,2.3890664008512141,-4.3897523691279305,3.6586958376819245,9.8594070563806646E-2,2.6165327613883571,1.3978925238059103,null,130.90490407113762,76.428946039030038,75.278574667392675,121.24955759097959,162.68090497863616,208.05879957268084,69.846280754107582,null,147.57888745484587,59.659065953655478,109.16347617019314,120.95271951942944,126.74905933909247,153.31194799300391,57.844456522659904]
[null,"Marzo",88.414213150568486,128.04460359218251,69.037841625961718,100.35839848733742,128.96780053666998,136.05029621386399,120.44092603899637,null,-5.025022774877197,2.7088252986089412,-3.3069392742054227,4.3730675714240386,1.1785720656057652,4.339538210161531,3.6163785660338288,null,130.02011516114692,76.459853489054808,75.138001667967046,121.75835742958516,163.51911497154418,208.09135541876657,70.115302932540274,null,147.05793393164512,59.713452456439875,108.83596575202223,121.32353571280619,126.79065184572956,152.95178416345217,58.215512980893514]
[null,"Abril",88.178447189364903,127.64188714362518,69.53972035666699,100.40099875553163,128.93822068158889,136.41872678694696,119.76836881373814,null,-4.031675893420239,1.5950595920683375,-2.9130329156433432,4.4154635241776319,1.2433748648682963,4.5254626977181855,2.7034938002282516,null,129.25349059878448,76.041944153911459,75.843322823449626,121.89308515491983,163.64244865634063,207.79100310869242,70.035632585159874,null,146.58172684897721,59.574443668595677,109.0647509573689,121.40624761285461,126.91539234161868,152.31853280174039,58.475900839960659]
[null,"Mayo",88.873371804943488,127.80338735779097,69.275498863171634,100.21247482770379,129.05589212247554,136.38397850300802,119.08999413770719,null,-3.9992438864421498,1.7328083319817056,-3.0194865000767734,4.3503352450155797,1.6975401861678785,4.3263078008017208,2.4240025749617589,null,129.42141477550763,76.086708718174478,75.520480217466911,121.93918692424563,164.48864139974182,208.09217019586205,70.010983916568691,null,145.62451288509425,59.534187857765097,109.01470427030766,121.68064618092387,127.45535185920855,152.57816385762092,58.78830074977833]
[null,"Junio",89.13557872151317,128.45140820912769,68.773303749870081,99.797955279039925,130.02883523002532,136.25045840500914,119.10215608888372,null,-3.3271391846009246,2.6444429912622303,-4.3917099933429737,3.7054219067360172,2.9103796963786621,3.5716739859690483,2.581620866629275,null,130.10777590794396,76.127315250594421,75.110851231662323,121.88689476167578,165.21419088910642,208.10791009936455,69.848591660011706,null,145.9661537784373,59.265457897241525,109.2151272895687,122.13365937295417,127.05965611153636,152.73923664958005,58.645950630721586]
[null,"Julio",89.301273228437964,128.77161273102439,68.37965510738276,99.470045842968716,131.41477181886296,136.35680150180883,118.9480939217495,null,-0.2746152195461371,2.6117459690305322,-4.6357795222788489,3.0665205069766888,2.5385485990016665,2.4536252955511539,-0.5078581530366999,null,129.58738607454583,76.082137450437273,75.075635468311802,121.79693964705783,166.58765039627065,208.77501610513644,69.920703764299489,null,145.11258506141743,59.083004271567333,109.79235761048187,122.44584650070043,126.76478305337594,153.10935267308022,58.782534010420648]
[null,"Agosto",89.130119833492913,129.01221319341323,68.162465711972231,99.567728093883403,131.80254297215623,135.97340472669254,119.32334317158075,null,-0.43046586594859271,3.0841716186817303,-5.0072649871792159,2.7774214298467381,2.7913585268146468,2.457072411571315,-0.12506492263770763,null,129.35348698489045,75.981154342521791,75.006597801825208,122.08938800499021,167.22011863925229,209.05854821579499,69.91742770460101,null,145.12881529447085,58.894543750374972,110.04091037254078,122.6194373842405,126.87169372337388,153.74958701372822,58.594928574925518]
[null,"Septiembre",89.152641069531469,129.03923770186276,68.329165021336863,99.17823596967969,131.80890981944782,135.46619374498289,119.416126265141,null,-0.75746818222621748,2.7127068052889225,-3.5361671484059887,1.5899293763950606,2.337052180253596,1.7168997888052484,0.19818241885307675,null,129.31735553195259,75.819119950575228,75.383318081987611,121.61041838755024,167.469589745935,209.10387671732363,69.782032627423774,null,145.05162604335641,58.756639686411248,110.32378056785559,122.61804941230091,127.05483261741205,154.35871558550232,58.436021004806271]
[null,"Octubre",89.669438306470383,126.34980061036444,68.287558426526999,100.46729446684442,132.73692074809267,135.12987569513717,119.83460693936401,null,-0.52608388043265952,0.33174314017891948,-2.282758924754591,2.2710995249640709,2.57094230033037,0.85532544217585826,0.35979031817312546,null,129.00081687551048,75.66624415791361,75.144324140301848,122.35573058601628,168.3502482688971,209.56156769557444,69.785913294292101,null,143.86263515403553,59.886318611021807,110.04101753198906,121.78662841009952,126.83000880244253,155.08159584810139,58.23519188376325]
[null,"Noviembre",89.647225620616723,126.79620389692396,67.591029914551044,101.17208325096726,132.96745551267628,135.54529465910795,120.16439735646412,null,0.16995796959844434,-0.21336750324640885,-2.7860662814304771,2.8520280376877594,3.6567653785483101,0.16123117148978405,-0.27398942598541032,null,128.74156445123799,75.731380695786299,74.725129642522376,122.89468693839021,169.10486643397238,210.31623619410195,69.911892816137566,null,143.60908947262556,59.726851726058271,110.55480251889978,121.47094632176139,127.17763589741776,155.16306687225142,58.180205080832728]
[null,"Diciembre",89.779451558252532,127.11391789896022,66.998686124521953,102.16227248527765,132.11259626800373,135.93705358811349,120.46685494643665,null,0.97768745851012362,-0.41314925748570097,-3.2903053894405287,3.3827652712794309,3.0714455736635671,-0.27418133773137177,-0.27142665958975742,null,128.86083526948212,75.641749179097204,74.317595917993501,123.78485411643429,169.42298632608197,210.68593611336331,69.862501840328775,null,143.53043266907466,59.5070551119532,110.92396018015758,121.16493800025113,128.24135707876815,154.98786427410545,57.993131697006476]
[2016,"Enero",89.855922669606329,127.15191723846158,66.671520629458712,102.9610657142846,133.10985146911042,136.18217285710642,120.05551697672504,null,1.2284950256584271,-0.57171359338751282,-3.7575384205772,2.8641028758205955,3.2152156357798001,0.73098893026004585,0.22896262333098605,null,128.38348302244793,75.243025601145817,74.711189596938155,123.4337520661845,170.57691901804989,211.02437303589542,69.748239046803661,null,142.87704049793649,59.175690965032437,112.05862546942889,119.88391068980511,128.14747904488055,154.9574137411654,58.096654617151522]
[null,"Febrero",89.920659627957747,127.51492886466949,66.600239702280248,103.02325795315808,132.33271550673544,137.32628727950106,119.83909659656827,null,{"$f":"(C259/C247-1)*100","v":1.3742838838822324},-0.46413112476896279,-3.4212096630172106,2.7710407424463401,3.1039703920331174,1.1913971276783286,-0.75309181888875143,null,128.17562392388675,75.002186119495718,74.713889296060344,123.99120439254993,171.08153500352174,211.30052862523931,69.65585719307596,null,142.54302009594571,58.818357024764452,112.18261320086856,120.35263381878821,129.28136050742043,153.86750258177301,58.124484555794496]
[null,"Marzo",90.549771581780661,127.36477176260289,66.910676147864095,102.74059553659406,131.30390843789942,137.14486243318609,118.96848107282042,null,2.4154017268415151,-0.53093360478108087,-3.0811587210711755,2.3736897809874868,1.8113884950416104,0.80453056684381963,-1.2225453710802525,null,127.57869904506194,74.771462566475961,75.214809774125726,123.9126853496106,171.14292312968345,211.32188335441583,69.637896428672946,null,140.89345209428643,58.706549332058323,112.41077523698991,120.60732634694089,130.34107298536816,154.08662023877645,58.534744497618398]
[null,"Abril",90.685906612575479,127.83688357593662,66.957026315642423,102.33306700672367,131.25923501573166,137.52859115183006,118.34081631654865,null,2.8436193912847685,0.15276837147670808,-3.7139839328918955,1.9243516251232329,1.8000980018752388,0.81357185411679023,-1.1919278114320697,null,127.67593108234539,74.728741269329319,75.351320101560901,123.58949678636542,171.24373541549173,211.41534604781063,69.561213232177792,null,140.78916542985795,58.456322759886078,112.53683780152797,120.77180954446045,130.46223787222883,153.7246504724319,58.780406792284758]
[null,"Mayo",91.201836975811787,128.6280492463718,65.984945664860234,102.67778321570394,131.76171174381395,137.86241078504997,118.46689175270794,null,2.6199806799034775,0.6452582405129581,-4.7499523674462196,2.4600813344234584,2.0966261802061403,1.0840219637743953,-0.52321976292881711,null,128.22846188176271,74.953654084125802,74.432275531688475,124.05913988804502,172.44179331143869,211.85971410285066,69.589469698728379,null,140.59855166707987,58.271624675393277,112.80190470979929,120.8237420040745,130.87397775062271,153.67474926372395,58.741702993264951]
[null,"Junio",92.298516128825298,128.53673553811561,65.524538595051723,102.62024179075293,132.20192102052852,136.82138434763533,117.99363303289584,null,3.5484566911200721,6.6427710040350973E-2,-4.7238753668635507,2.8280003371028428,1.671233758772761,0.41902680498078215,-0.93073298787353931,null,129.47661960738085,74.711216558905221,74.121745713756752,124.5731902416709,172.43415629373487,211.15503789324879,69.151927547967304,null,140.2802829751503,58.124407972653657,113.12059161810606,121.39241544146913,130.43241351005713,154.328973427682,58.60649068131346]
[null,"Julio",92.485245608166494,129.22281461078089,64.641854595169889,103.17307573233467,133.01609322033329,137.1068273435084,118.16874327319888,null,{"$f":"(C264/C252-1)*100","v":3.5654277532905176},{"$f":"(D264/D252-1)*100","v":0.35038924355086376},{"$f":"(E264/E252-1)*100","v":-5.4662465119823533},{"$f":"(F264/F252-1)*100","v":3.7227588044061566},{"$f":"(G264/G252-1)*100","v":1.2185246599807797},{"$f":"(H264/H252-1)*100","v":0.5500465201874194},{"$f":"(I264/I252-1)*100","v":-0.65520230115104772},null,130.5747757473174,74.647024328351335,73.458624530002481,125.12601468410702,173.2528360783424,210.8950403953163,68.866816087535881,null,141.18443962459196,57.766134063236571,113.63941364314041,121.27777891271323,130.24952987557629,153.81804428085729,58.27836886470056]
[null,"Agosto",92.913993177841817,129.80737875932888,63.831476103014907,103.40804583440102,134.16574054100468,137.23421449459246,118.04439176347887,null,{"$f":"(C265/C253-1)*100","v":4.245336314388104},{"$f":"(D265/D253-1)*100","v":0.61634906202527873},{"$f":"(E265/E253-1)*100","v":-6.3539215662449466},{"$f":"(F265/F253-1)*100","v":3.8569904265532085},{"$f":"(G265/G253-1)*100","v":1.7929832881507402},{"$f":"(H265/H253-1)*100","v":0.92724733225160172},{"$f":"(I265/I253-1)*100","v":-1.0718367203832124},null,131.27692154942346,74.750744332463142,72.736780057905463,125.62428510718252,174.11087099575954,210.92569277506681,68.788930719015866,null,141.28864454049796,57.585897694657071,113.95127372664649,121.48405290276818,129.7729735576919,153.6975990658496,58.273781321899364]
[null,"Septiembre",93.446973657341587,129.88069399729034,63.663073278710428,103.28208617628808,134.75937605571607,137.11747228548197,117.20511133557321,null,{"$f":"(C266/C254-1)*100","v":4.8168316006038436},{"$f":"(D266/D254-1)*100","v":0.65209335579903271},{"$f":"(E266/E254-1)*100","v":-6.8288434977500039},{"$f":"(F266/F254-1)*100","v":4.1378535991132059},{"$f":"(G266/G254-1)*100","v":2.2384421814199085},{"$f":"(H266/H254-1)*100","v":1.2189598709827498},{"$f":"(I266/I254-1)*100","v":-1.8515212297698036},null,131.50770628136527,74.642755921160798,72.503406304241764,125.98027717549924,174.76279582088236,211.26961330262458,68.667284190035602,null,140.72976484352253,57.470247212197719,113.88612357249745,121.97689051368357,129.68507345168095,154.07927945371981,58.587277813705917]
[null,"Octubre",93.97885823238822,129.81978891484533,62.944400050274531,104.21175088418258,135.04744536673206,137.61258507780724,117.11952815758715,null,{"$f":"(C267/C255-1)*100","v":4.8058959744893048},{"$f":"(D267/D255-1)*100","v":2.7463346105163877},{"$f":"(E267/E255-1)*100","v":-7.8244976088892688},{"$f":"(F267/F255-1)*100","v":3.727040164870643},{"$f":"(G267/G255-1)*100","v":1.7406796885278686},{"$f":"(H267/H255-1)*100","v":1.8372764497106786},{"$f":"(I267/I255-1)*100","v":-2.2656883942972161},null,131.69822756544525,74.572335050417124,72.091562979022356,126.66786005217512,175.31212543454703,212.30375481053798,68.59177066395506,null,140.13601574067397,57.442964338304769,114.53213140714958,121.5485384109413,129.81521046804923,154.2764091601795,58.5656139014351]
[null,"Noviembre",94.118717620601444,129.81139188459116,62.695147143180371,104.57259716532197,135.08179630306381,137.79361795089693,117.1651456724256,null,4.9878754964575167,2.3779796989177537,-7.2433912866249788,3.3611188038101369,1.5901190123819076,1.658724707075554,-2.4959569972637818,null,131.7033380031925,74.397037011969786,72.053018778270811,127.07341641902015,175.63586491115311,212.63642284761812,68.484132176079513,null,139.93320492752258,57.311639550180992,114.9259903860172,121.51693642850428,130.02186061925315,154.31514609289928,58.450942712562181]
[null,"Diciembre",93.463079449490465,129.91246337059408,62.655861334055373,105.6772302757591,134.52609275287026,137.03715536128067,117.48194039594753,null,{"$f":"(C269/C257-1)*100","v":4.1029743747630798},{"$f":"(D269/D257-1)*100","v":2.2016042915602219},{"$f":"(E269/E257-1)*100","v":-6.4819551571431155},{"$f":"(F269/F257-1)*100","v":3.4405634340093361},{"$f":"(G269/G257-1)*100","v":1.8268481227713629},{"$f":"(H269/H257-1)*100","v":0.80927292752752678},{"$f":"(I269/I257-1)*100","v":-2.4777890580909623},null,130.97136591510747,74.131093376674954,71.881180095199227,128.59017207341668,176.08442811412664,212.9366162972758,68.553774131562108,null,140.13166127902659,57.062341405385631,114.72379209976577,121.68200447520007,130.89239753480442,155.38604529253109,58.352606281881627]
[2017,"Enero",94.020804007296846,128.72548418864494,62.625882478192224,106.25511695984837,134.96305543135335,136.85992070084853,117.03726227518236,null,4.6350660189695914,1.2375487404034047,-6.0680154180838164,3.1993173562370636,1.3922365187771124,0.49767736079029401,-2.5140491478853333,null,131.28668566376084,73.6517233779946,71.442945656598468,128.52111953091517,179.36490588483144,212.63762270470409,68.325754506133791,null,139.6357827928932,57.216116794759373,114.07894440685374,120.95522851805873,132.89926292166848,155.36880455271645,58.379488017656925]
[null,"Febrero",95.269197120258667,129.62867547867188,61.633797666209084,105.9882520537634,135.20958500883569,137.8797518806698,116.87218580524753,null,5.9480630084679298,1.6576463891892157,-7.4570933352078095,2.8779851846205684,2.1739669522264249,0.40302888262191416,-2.4757452914625055,null,132.95476657642362,73.958635257913201,70.213668770588569,128.84115942512864,180.28174557523133,214.16789377450507,68.143895922055805,null,139.55692983178429,57.054224294748579,113.920724390286,121.56173625712113,133.33503358023788,155.32947430878758,58.306341626577307]
[null,"Marzo",95.824434109644898,129.93824743869024,61.16953580059198,105.59937224213169,135.67992112438722,138.97312387521157,117.01315104951115,null,5.8251527703748973,2.0205553234799556,-8.580305382933096,2.7825191109773106,3.3327360461302913,1.3330878091887488,-1.6435697973755103,null,133.01597753003355,74.177684915638025,69.808432176214581,128.69226240231569,181.06966239686946,215.46213386305024,68.247619594408178,null,138.81217120242326,57.086875017794789,114.12287384979469,121.86839719769705,133.45354338087378,155.03870666138337,58.324742973147458]
[null,"Abril",96.284217157434199,130.30210156550538,60.919308613134667,105.28656469968641,135.60866598357114,138.99867769801199,117.05232240546123,null,6.173297212295159,1.9284090167172918,-9.0173026413170163,2.8861616087092257,3.3136190130303556,1.0689315827855594,-1.0887992420475223,null,133.5943757286924,74.237703874181136,69.583401861537553,128.55020881410121,181.23222056688326,215.66959152325151,68.143861675864812,null,138.75002536527083,56.973527657848564,114.22224487711085,122.09554863982004,133.64353911485227,155.15945553943649,58.216582358630312]
[null,"Mayo",98.178474352771474,129.95029658856231,60.579198956104975,104.80824594437888,135.74109820819598,138.61881064737273,115.93575524431101,null,{"$f":"(C274/C262-1)*100","v":7.6496676035264555},{"$f":"(D274/D262-1)*100","v":1.0279619025068909},{"$f":"(E274/E262-1)*100","v":-8.192393968483703},{"$f":"(F274/F262-1)*100","v":2.0749013680976036},{"$f":"(G274/G262-1)*100","v":3.0201387123136358},{"$f":"(H274/H262-1)*100","v":0.54866287192822938},{"$f":"(I274/I262-1)*100","v":-2.1365771237423115},null,136.32026179949742,73.982814669999655,69.293652336612126,128.09195899994495,181.2364362972817,214.31267648147795,67.345776908361572,null,138.84943995939091,56.931624330368258,114.38522385682511,122.21553547220188,133.51625903254902,154.60576777466375,58.088875831656985]
[null,"Junio",97.580051175780468,130.41545498002986,60.157300351435175,104.77413759570553,137.12663444390859,139.34872741014016,116.78857359167309,null,5.7222318066126654,1.4616206285689826,-8.1911881543899501,2.0988995614963368,3.7251451305426508,1.8471842501486258,-1.0212919207994831,null,135.29404541911688,73.992820171579666,69.354405538095037,127.96454344473219,182.66026157544832,215.03947690909402,67.549070264904316,null,138.64928721486169,56.736235887771095,115.28842739439926,122.13371198387912,133.20553101605157,154.31750322066159,57.838766402846545]
[null,"Julio",98.569400127175953,131.52519310676456,58.893734562300587,105.13298742269778,137.64596999573394,139.65901964654694,117.23102107980655,null,6.5785136634510133,1.7817120784115792,-8.8922572981048216,1.8996348383058637,3.4806891882860569,1.8614625927009909,-0.79354503349873262,null,136.49295605152392,74.063110928684779,68.83550278778678,127.98882270699923,183.15639591163441,214.86195839152731,67.330880628322717,null,138.47396441027169,56.310969160535365,116.8808588882563,121.73992753806877,133.06339147983118,153.84753447024482,57.434354838969071]
[null,"Agosto",99.419572622026848,131.80568583064994,58.838372914505193,104.37659473800018,138.01891780337408,138.76506368844608,116.44394267960212,null,{"$f":"(C277/C265-1)*100","v":7.0017219384092666},{"$f":"(D277/D265-1)*100","v":1.5394402771402138},{"$f":"(E277/E265-1)*100","v":-7.8223213582771507},{"$f":"(F277/F265-1)*100","v":0.93662818573150286},{"$f":"(G277/G265-1)*100","v":2.871953187775067},{"$f":"(H277/H265-1)*100","v":1.1155011157322869},{"$f":"(I277/I265-1)*100","v":-1.3558027280817453},null,137.29427710238434,74.136548504675631,68.539851327278328,127.65253599980686,183.80274139983223,214.85403943514109,67.179149816250444,null,138.09582306730437,56.246851596318628,116.4883526382856,122.29996228582904,133.17213634560093,154.83294838355656,57.692266570786977]
[null,"Septiembre",99.214285155659937,131.17925564658563,59.443847381374432,104.11590347731533,137.99084697754506,138.07029422667503,115.9272442228234,null,6.1717477544712906,0.99981114154070738,-6.6274304397223371,0.8073203513763616,2.3979562806026422,0.69489462233467414,-1.0902827514843616,null,137.28011516824628,73.942256491654106,68.746859747614266,127.40141274280215,184.38573365173525,215.08870712440768,67.023984487181693,null,138.36728748573236,56.367339582154962,115.65008453533368,122.36498794880097,133.62171309937676,155.78202996459814,57.815559178095441]
[null,"Octubre",97.8872287226704,131.22768987824216,59.580029730499611,104.43609818717101,138.16279738473381,139.01161751417405,117.01218793729852,null,4.1587763075580986,1.0845041231120289,-5.3449875081623688,0.21528023575552169,2.3068574229906824,1.0166457054605837,-9.1650147483690603E-2,null,135.86750848178951,73.757595418211281,69.117673939835058,127.71930866750189,184.94982784520698,215.76351294468537,67.211037921745799,null,138.80003577047125,56.205817146248847,116.00812260832598,122.29421711887645,133.86369655659772,155.21257633210797,57.439348076938032]
[null,"Noviembre",97.585493766781951,131.72687833971702,59.162498081269064,105.05894123377534,137.5754779337191,139.13005751918229,118.07611226056372,null,{"$f":"(C280/C268-1)*100","v":3.6834077575889967},{"$f":"(D280/D268-1)*100","v":1.4755919548484764},{"$f":"(E280/E268-1)*100","v":-5.6346451406256381},{"$f":"(F280/F268-1)*100","v":0.46507792828793804},{"$f":"(G280/G268-1)*100","v":1.8460530574086809},{"$f":"(H280/H268-1)*100","v":0.96988495415049059},{"$f":"(I280/I268-1)*100","v":0.7775064699574008},null,134.9408702896051,73.73160345915386,68.987936334903139,128.42097642750818,185.65158721248264,216.74723140096975,67.420733640752985,null,138.27964083688315,55.97308946242827,116.60754459714882,122.23707465483405,134.94526059500632,155.78749499983934,57.09938475275397]
[null,"Diciembre",97.404829683209428,132.43163359698528,58.955244138666991,104.908641666016,137.3151463961315,139.30583440483849,118.61078002689827,null,4.2174410012342678,1.9391289804157497,-5.90625859511883,-0.72729821527069971,2.0732436259669251,1.6555211158439054,0.96086226286884457,null,134.43617091843865,73.675188831556156,69.086315038496508,128.26565362262551,186.39389175124796,217.88074526734945,67.461773178097403,null,138.01797236920035,55.632621021472708,117.18434220372409,122.26414486517537,135.74168374225258,156.40460875038687,56.876595165126297]
[2018,"Enero",97.400984299694642,131.64819325809495,59.305404085553619,104.70998401615155,137.98307767715502,140.18206669910415,118.31323242566319,null,3.5951408074913482,2.2704976313523417,-5.3020863918282863,-1.454172738128634,2.2376658828221041,2.4274060522928798,1.0902255620784507,null,134.75557704081342,73.844482237973935,69.025826038965548,129.49547037637308,189.05058904593321,221.87175944229787,67.106429050886447,null,138.35135035820772,56.092286882511623,116.39044890308699,123.67060466401976,137.00998138935779,158.27399657228466,56.719293079115019]
[null,"Febrero",97.406924818417409,131.59899992487809,59.686057570248664,103.76362576809385,138.06438412509368,141.55168638017241,117.86657898543928,null,2.2438812992832124,1.5199757607107456,-3.1601818640298984,-2.0989366675667975,2.1113881209467777,2.6631426655601587,0.85083818133493416,null,134.86611726482795,73.738911560317078,69.149381359525677,129.11517854691294,189.3549071566006,223.43451886874277,66.960441180022158,null,138.45639569901286,56.033033383544073,115.85516647357545,124.43202287040205,137.14971341561554,157.84659623810737,56.810371316787069]
[null,"Marzo",96.789931748074608,131.74654731171603,59.85236586732676,103.59500287333339,138.36701624718532,142.26472363315608,118.02368784322361,null,1.0075693609888248,1.3916609687067094,-2.1533103300948597,-1.898088337307946,1.9804663066797179,2.368515340347499,0.86360958973310531,null,133.75193225508093,73.58018608603119,69.454582400944318,129.24681761333616,189.91312738889079,225.17983066562124,67.078959498931695,null,138.18785677337931,55.849802205395491,116.04316954638443,124.76163331098849,137.25317820659012,158.28226767323576,56.835166503215703]
[null,"Abril",96.518390118535365,131.69482435381212,60.031491615855465,103.5217078788571,138.4508142122589,142.32469394811528,117.94930386809334,null,{"$f":"(C285/C273-1)*100","v":0.24321012105055217},{"$f":"(D285/D273-1)*100","v":1.0688413859592183},{"$f":"(E285/E273-1)*100","v":-1.4573655175853073},{"$f":"(F285/F273-1)*100","v":-1.6762412429955242},{"$f":"(G285/G273-1)*100","v":2.0958455774737095},{"$f":"(H285/H273-1)*100","v":2.3928402091201173},{"$f":"(I285/I273-1)*100","v":0.76630812973110807},null,133.04007117816082,73.476902309326604,69.611996945574035,129.34426696240095,190.55451347949378,226.02866357311399,67.15607050706133,null,137.83909057618217,55.793310534302478,115.95913256832715,124.94410072306945,137.63336428441272,158.81197935722463,56.936385637480505]
[null,"Mayo",96.536607333822431,131.26589694663804,59.96121278534013,104.07741607120376,138.75943373938412,141.89908487666921,117.86278130896847,null,{"$f":"(C286/C274-1)*100","v":-1.6723289191167723},{"$f":"(D286/D274-1)*100","v":1.0123873454795262},{"$f":"(E286/E274-1)*100","v":-1.020129320647889},{"$f":"(F286/F274-1)*100","v":-0.69730188363515966},{"$f":"(G286/G274-1)*100","v":2.2235974005151427},{"$f":"(H286/H274-1)*100","v":2.3663990579467997},{"$f":"(I286/I274-1)*100","v":1.6621499213910651},null,132.561624334984,73.132381776879313,69.778809495062603,129.83836560535809,191.77753576261142,225.63738596327596,67.043289328681198,null,137.31746743138331,55.713161969714761,116.37324572614843,124.75171896709097,138.20864686058397,159.01257302637813,56.882493849294313]
[null,"Junio",96.730886893224479,130.9584348726984,59.935933650429163,104.31581737577106,139.10225556516025,141.54783980014727,117.49635369660471,null,{"$f":"(C287/C275-1)*100","v":-0.87022323961104542},{"$f":"(D287/D275-1)*100","v":0.41634627794051582},{"$f":"(E287/E275-1)*100","v":-0.36797977920020042},{"$f":"(F287/F275-1)*100","v":-0.4374364041086154},{"$f":"(G287/G275-1)*100","v":1.4407274919737034},{"$f":"(H287/H275-1)*100","v":1.5781359692898622},{"$f":"(I287/I275-1)*100","v":0.60603540497570219},null,132.59346241900511,72.74507597835408,69.977923530475778,130.23189740154913,192.52252531538031,224.83959806141698,66.78687638674063,null,137.07458566503914,55.548217301976656,116.75453983684581,124.84386421708417,138.40359707553137,158.84353896101143,56.841658728572583]
[null,"Julio",96.418951134567152,130.99949466147839,59.733559535041636,104.23410801600095,140.27391665001031,142.36110503764493,117.85183217374529,null,{"$f":"(C288/C276-1)*100","v":-2.1816598151497835},{"$f":"(D288/D276-1)*100","v":-0.39969410640547931},{"$f":"(E288/E276-1)*100","v":1.4260005397563003},{"$f":"(F288/F276-1)*100","v":-0.85499273703961709},{"$f":"(G288/G276-1)*100","v":1.9092071161675328},{"$f":"(H288/H276-1)*100","v":1.9347732770403914},{"$f":"(I288/I276-1)*100","v":0.529562131439687},null,132.36294469305417,72.683375024212054,69.87905450532331,130.37456376888855,193.48675566896202,225.57998569000435,66.784645945978767,null,137.27897175351117,55.48370641584259,116.98458127935605,125.07860070992767,137.93494919780429,158.45619183017271,56.668313690295655]
[null,"Agosto",96.606890141233123,130.73134442525873,59.71406188586559,103.83796287817863,141.25559784936064,142.78825004636386,117.6879727713204,null,{"$f":"(C289/C277-1)*100","v":-2.8291033713119806},{"$f":"(D289/D277-1)*100","v":-0.81509488655259199},{"$f":"(E289/E277-1)*100","v":1.4882956954517024},{"$f":"(F289/F277-1)*100","v":-0.51604659183756008},{"$f":"(G289/G277-1)*100","v":2.3450988440567588},{"$f":"(H289/H277-1)*100","v":2.8992790050891948},{"$f":"(I289/I277-1)*100","v":1.0683510563887832},null,132.30105640468915,72.530924918384073,70.05725212699177,130.19033823823835,193.95625873642678,225.93720270299804,66.670029191585172,null,136.94784731324384,55.480898813712734,117.3211969081849,125.37836320130434,137.30872382365177,158.2323493912387,56.64982378541923]
[null,"Septiembre",97.921795163468005,129.66214308397548,60.417403662675611,103.17894124624227,139.90832555819492,141.67671296515414,116.30397780684473,null,{"$f":"(C290/C278-1)*100","v":-1.3027257014089355},{"$f":"(D290/D278-1)*100","v":-1.1565186546701023},{"$f":"(E290/E278-1)*100","v":1.6377746801197413},{"$f":"(F290/F278-1)*100","v":-0.89992229791983069},{"$f":"(G290/G278-1)*100","v":1.3895693972817424},{"$f":"(H290/H278-1)*100","v":2.6120164070617014},{"$f":"(I290/I278-1)*100","v":0.32497415646075556},null,134.06556783045102,71.74111240923628,71.224251458313319,129.008002509352,192.62389547297562,223.80344137124104,65.683061628625524,null,136.91085585864266,55.32926627841811,117.88697815612012,125.0332683696252,137.67865114850053,157.96769750459006,56.475335467640328]
[null,"Octubre",99.768630780355579,129.06380663059559,60.615427133308579,102.37310230283457,139.03194302959187,140.93414687748623,115.02069573686893,null,{"$f":"(C291/C279-1)*100","v":1.9220097271478442},{"$f":"(D291/D279-1)*100","v":-1.6489532427601983},{"$f":"(E291/E279-1)*100","v":1.7378262607326889},{"$f":"(F291/F279-1)*100","v":-1.9753666789036228},{"$f":"(G291/G279-1)*100","v":0.62907357212651505},{"$f":"(H291/H279-1)*100","v":1.3829990598563935},{"$f":"(I291/I279-1)*100","v":-1.7019527927268019},null,136.67512057772007,71.282319467795389,71.45773104927251,128.33408351821592,191.76132662578436,222.36856942603308,64.777105054455191,null,136.99207807974784,55.230293704119958,117.88703706091022,125.35918188606318,137.92609270012824,157.78189626346381,56.317782325577973]
[null,"Noviembre",102.31831879033831,128.84941670727517,60.184478887268256,101.96226535290886,137.99030714527532,140.59053143898748,113.83555685507089,null,{"$f":"(C292/C280-1)*100","v":4.8499268086579228},{"$f":"(D292/D280-1)*100","v":-2.1844149566962456},{"$f":"(E292/E280-1)*100","v":1.7274132079334148},{"$f":"(F292/F280-1)*100","v":-2.9475605260249282},{"$f":"(G292/G280-1)*100","v":0.30152845389792571},{"$f":"(H292/H280-1)*100","v":1.0497184762565226},{"$f":"(I292/I280-1)*100","v":-3.591374516240009},null,140.85396245427165,70.9507755806261,70.665529699383796,128.61454260318678,191.2294992000231,220.86348357057136,63.709339561335511,null,137.66250669432634,55.064879138579791,117.41487341237536,126.13935376781775,138.58183459124987,157.09698321072224,55.966115791436508]
[null,"Diciembre",100.23937965179734,129.48202850580691,60.417300056204674,102.24884319878912,137.75869779746972,141.66219361917945,115.30039790475651,null,{"$f":"(C293/C281-1)*100","v":2.9100712745012025},{"$f":"(D293/D281-1)*100","v":-2.2272662588717851},{"$f":"(E293/E281-1)*100","v":2.4799420965823105},{"$f":"(F293/F281-1)*100","v":-2.5353473507878754},{"$f":"(G293/G281-1)*100","v":0.32301709824396063},{"$f":"(H293/H281-1)*100","v":1.6915007360661649},{"$f":"(I293/I281-1)*100","v":-2.7909622728988337},null,138.29729906019381,70.848021749121898,71.089082474314807,129.2537039881573,192.16066936784753,221.9768650274581,64.180848806982382,null,137.96703405447909,54.71649044017299,117.66345468629424,126.41092059776769,139.49077077540221,156.69449932716904,55.664030630665081]
[2019,"Enero",101.53665065339113,130.61320715684735,59.336736917417234,100.38176784014149,139.54879326548291,142.7186737009209,116.37065891400836,null,{"$f":"(C294/C282-1)*100","v":4.2460211089565547},{"$f":"(D294/D282-1)*100","v":-0.78617569723764547},{"$f":"(E294/E282-1)*100","v":5.2833013022590691E-2},{"$f":"(F294/F282-1)*100","v":-4.1335276828448624},{"$f":"(G294/G282-1)*100","v":1.1347156583876528},{"$f":"(H294/H282-1)*100","v":1.8095089204680503},{"$f":"(I294/I282-1)*100","v":-1.6418903209963087},null,139.74619175665435,70.450169702511815,71.232398627057393,128.56829336260031,189.53481901900625,226.0093357366996,64.610281070019553,null,137.6312797963925,53.938013801247124,120.04771803713459,128.07932767964996,135.81974776265392,158.3600308746712,55.521109593237824]
[null,"Febrero",102.31255357343827,130.59109968204723,59.314660997067755,99.804353904733901,139.69714598373395,142.43790328947242,115.99264772481649,null,{"$f":"(C295/C283-1)*100","v":5.0362217718768587},{"$f":"(D295/D283-1)*100","v":-0.76588746373924543},{"$f":"(E295/E283-1)*100","v":-0.6222501339509412},{"$f":"(F295/F283-1)*100","v":-3.815664529889029},{"$f":"(G295/G283-1)*100","v":1.1826090189638538},{"$f":"(H295/H283-1)*100","v":0.6260730140083659},{"$f":"(I295/I283-1)*100","v":-1.589874989800355},null,140.56913044517196,70.320557261026337,71.099977695568654,128.61955580217403,189.75927894605155,225.92360640609584,64.354167135132855,null,137.39186984935699,53.847894253312219,119.86914617801409,128.87168822809579,135.83618878523598,158.61199946685389,55.481246783682451]
[null,"Marzo",102.06254466920925,131.12426131864535,59.317183500427817,100.18324640335631,137.94967646805154,142.46882464233772,116.35037256069505,null,{"$f":"(C296/C284-1)*100","v":5.4474807719239182},{"$f":"(D296/D284-1)*100","v":-0.47233571259999163},{"$f":"(E296/E284-1)*100","v":-0.89417078029173647},{"$f":"(F296/F284-1)*100","v":-3.2933600804554874},{"$f":"(G296/G284-1)*100","v":-0.30161796535976837},{"$f":"(H296/H284-1)*100","v":0.14346564908664927},{"$f":"(I296/I284-1)*100","v":-1.4177791874723567},null,139.2833371824598,70.509046345540298,70.782711119321448,129.25774374039389,190.58828352957525,227.07072335906653,64.771908313718043,null,136.46861111868742,53.772692891818174,119.3291841289311,129.0213168177624,138.15783292084382,159.3827449121718,55.669704263241002]
[null,"Abril",101.58758962142741,132.26592419540805,58.976554458230154,100.08880361579099,137.49608337596257,143.02666579450155,117.21836564800162,null,{"$f":"(C297/C285-1)*100","v":5.2520555892680232},{"$f":"(D297/D285-1)*100","v":0.43365397569581354},{"$f":"(E297/E285-1)*100","v":-1.757306255816371},{"$f":"(F297/F285-1)*100","v":-3.3161201968222476},{"$f":"(G297/G285-1)*100","v":-0.68958123628846124},{"$f":"(H297/H285-1)*100","v":0.49321858836539612},{"$f":"(I297/I285-1)*100","v":-0.61970541251277211},null,138.62826090201077,70.723926958607791,70.45379634886622,129.70920588571607,190.77679598650462,227.92792136291351,65.077832582094359,null,136.46180741035175,53.471011062623461,119.46068568445239,129.59412161986504,138.75071296747694,159.36043820695417,55.518460970116614]
[null,"Mayo",100.20362772522415,132.4203965514657,59.267597793940787,100.09376926813007,137.66471567017302,143.81207181335216,118.047147952684,null,{"$f":"(C298/C286-1)*100","v":3.798580137295704},{"$f":"(D298/D286-1)*100","v":0.8795122203728134},{"$f":"(E298/E286-1)*100","v":-1.1567727855713472},{"$f":"(F298/F286-1)*100","v":-3.8275804237379418},{"$f":"(G298/G286-1)*100","v":-0.78893235559549524},{"$f":"(H298/H286-1)*100","v":1.3481319758655408},{"$f":"(I298/I286-1)*100","v":0.15642482017477199},null,136.53576589649563,70.661115598162297,70.821480340576286,129.89195201534756,192.07953386164723,228.61191321028059,65.465512340295433,null,136.25830620713708,53.361202230427985,119.49443368163084,129.77026738536986,139.52706249133954,158.96573238092745,55.45708937121929]
[null,"Junio",98.845496422286601,132.83114679724497,59.044060842190873,100.3829275644774,138.74753120395548,145.04357453010266,119.25258300371561,null,{"$f":"(C299/C287-1)*100","v":2.1860747864292041},{"$f":"(D299/D287-1)*100","v":1.4300048151667299},{"$f":"(E299/E287-1)*100","v":-1.4880435723919061},{"$f":"(F299/F287-1)*100","v":-3.7701759045096983},{"$f":"(G299/G287-1)*100","v":-0.25500978381950423},{"$f":"(H299/H287-1)*100","v":2.4696489433473801},{"$f":"(I299/I287-1)*100","v":1.4947096244754876},null,134.87780243621154,70.528430063301201,71.156040849375842,130.08942855089873,193.29060208031714,229.60934135923151,65.715699835828786,null,136.4531590392223,53.096304416430762,120.51346034541403,129.59318054092455,139.31102081822607,158.30369742547808,55.106311478201896]
[null,"Julio",96.700516675303319,133.81865018905233,59.095723887031504,100.52302583532946,139.56212728354186,146.13632995361186,120.52734659890976,null,{"$f":"(C300/C288-1)*100","v":0.29202302806965452},{"$f":"(D300/D288-1)*100","v":2.1520354218610205},{"$f":"(E300/E288-1)*100","v":-1.0678011706902524},{"$f":"(F300/F288-1)*100","v":-3.5603338017741737},{"$f":"(G300/G288-1)*100","v":-0.50742816873389218},{"$f":"(H300/H288-1)*100","v":2.6518654199604752},{"$f":"(I300/I288-1)*100","v":2.2702357492584646},null,132.74861761972826,70.724602553327273,71.060369883728242,130.48815785309816,194.75328514139963,231.83461525444469,66.31263963537674,null,137.27808514763748,52.851080513374683,120.2462127709419,129.80922208495366,139.54594196298572,158.6426970815786,55.018750106605751]
[null,"Agosto",94.977985839630122,133.94725850001737,59.600380863814294,100.40943032501406,140.0192940366054,146.48436656479802,121.44225818801704,null,{"$f":"(C301/C289-1)*100","v":-1.6861160722818513},{"$f":"(D301/D289-1)*100","v":2.4599411020340467},{"$f":"(E301/E289-1)*100","v":-0.19037563090010812},{"$f":"(F301/F289-1)*100","v":-3.3018102995595933},{"$f":"(G301/G289-1)*100","v":-0.87522465061786736},{"$f":"(H301/H289-1)*100","v":2.5885298805987444},{"$f":"(I301/I289-1)*100","v":3.1900332109480622},null,130.6558163506358,70.775069145545672,71.165617649200897,130.96468140008656,195.94589093533426,233.93477484760155,66.813850801757283,null,137.56431576812707,52.838012467075977,119.40463570495119,130.43065873012981,139.94206461582922,159.69948215881413,55.016970038811372]
[null,"Septiembre",96.226385168905921,133.2100652186846,59.992714844465553,99.804523011667015,139.4931241873052,146.03956605024612,120.04399414164476,null,{"$f":"(C302/C290-1)*100","v":-1.7313918640194603},{"$f":"(D302/D290-1)*100","v":2.7362821948819116},{"$f":"(E302/E290-1)*100","v":-0.7029246416830337},{"$f":"(F302/F290-1)*100","v":-3.2704524720039707},{"$f":"(G302/G290-1)*100","v":-0.29676673581302548},{"$f":"(H302/H290-1)*100","v":3.0794426224195703},{"$f":"(I302/I290-1)*100","v":3.2157252101999267},null,132.45455324055234,70.422639360720908,71.25066381899633,130.69888787525264,195.27194548807685,234.5417357201205,66.134329172610947,null,137.64889225346585,52.865854577213391,118.76552678724013,130.95487452003965,139.98678904479502,160.60150140368427,55.091743360835174]
[null,"Octubre",96.755347344928694,133.10713393893548,59.872443675974331,99.570573148087362,139.3880499959655,147.88411561641149,119.69499589688324,null,-3.0202714138282016,3.1328126869158757,-1.2257332703442647,-2.7375639613390956,0.25613320120099203,4.9313590019932185,4.0638774874981021,null,132.66857896711193,70.125831120874381,71.531436380069351,130.35518907447985,195.37622367788757,238.63451268003985,65.801095895274543,null,137.11756777034151,52.683751085081177,119.47305302451441,130.91738347293406,140.16712600796311,161.36588550119936,54.97397397629048]
[null,"Noviembre",96.190762432787153,133.8659934430525,59.380898006007051,99.875480899229686,139.66167036938927,148.71779584399874,120.70868134964361,null,-5.9887187651188949,3.8933639468265335,-1.3351962102494785,-2.0466242550187141,1.2112178447101662,5.7808049530976291,6.0377659533244143,null,131.73169072160053,70.334444802374591,71.091495213040574,130.76197737825743,196.80243514539234,240.25166905460819,66.160616489543486,null,136.94837985471571,52.540935149669167,119.72115208808202,130.9250040159416,140.9137056895226,161.54870215170899,54.810155947195938]
[null,"Diciembre",95.32620157456914,134.61629873557385,59.152171066794246,100.0432842981658,139.30051537769361,149.63351423306739,122.02876164292962,null,-4.9014450152177318,3.9652377160098951,-2.0939846504784421,-2.1570502233803635,1.1192161401602618,5.6269922201802602,5.8355078216911771,null,129.89843551482622,70.468724465373327,71.103943443532884,131.14862700916362,197.85622794517826,241.71887407893769,66.671194225180159,null,136.26729416383267,52.347839843520518,120.20512884175083,131.09188480687266,142.03553189212482,161.54059825290156,54.635639440698291]
[2020,"Enero",96.143084252824409,135.60280978581093,59.309012024097726,98.684854027304127,139.24100572562907,147.89401588482647,122.12211869871145,null,-5.3119404331923299,3.8201363687301537,-4.6724667987885216E-2,-1.6904601795215579,-0.22055908378103561,3.6262543994424634,4.9423624806946398,null,131.24949735460552,69.873860619960467,71.229800029143703,128.21071989732127,192.77142135565438,247.29448533844968,66.348286631436082,null,136.51475649508279,51.528328012029043,120.09945470041291,129.91934898322685,138.44443334135755,167.21060947525558,54.329459182676423]
[null,"Febrero",96.030524570512483,136.01585559709392,59.199753667403932,98.29030145130136,139.48535149137564,148.85808423497221,122.51255479110637,null,-6.1400373497829346,4.1540012514286628,-0.1937250044630634,-1.5170204446969815,-0.15160974898010826,4.5073542906990394,5.6209658061757928,null,131.57537363864057,69.961674007213531,70.750312455865284,128.43849892678188,193.47943256282099,248.58863177393351,66.343940885946182,null,137.01411527959374,51.436410630282658,119.51116022096089,130.67260658511427,138.70949923711797,166.99706505797616,54.152769076661464]
[null,"Marzo",95.819390264517338,135.80591783615068,59.204280604018834,98.0709451680016,139.88462238730668,150.55140149494039,122.98728822899483,null,{"$f":"(C308/C296-1)*100","v":-6.1169887787202892},{"$f":"(D308/D296-1)*100","v":3.5703968666244146},{"$f":"(E308/E296-1)*100","v":-0.19033758810913515},{"$f":"(F308/F296-1)*100","v":-2.1084375992870052},{"$f":"(G308/G296-1)*100","v":1.4026462176613075},{"$f":"(H308/H296-1)*100","v":5.6732249128141898},{"$f":"(I308/I296-1)*100","v":5.7042496059370951},null,131.20530814064935,69.742341490364936,71.09711849411417,128.40741590841546,193.50360931145408,249.92057117384215,66.24079855779101,null,136.92980906938172,51.354420044131508,120.08780069407352,130.93318891588697,138.33086583004771,166.00348365554157,53.859874066378865]
[null,"Abril",95.527256702764731,136.35986363149988,58.701925315568509,97.867186651519887,140.31564393158391,152.79489998268852,124.49482839249772,null,{"$f":"(C309/C297-1)*100","v":-5.965623302262502},{"$f":"(D309/D297-1)*100","v":3.0952336824437765},{"$f":"(E309/E297-1)*100","v":-0.46565816735895105},{"$f":"(F309/F297-1)*100","v":-2.2196458385087547},{"$f":"(G309/G297-1)*100","v":2.0506479067564864},{"$f":"(H309/H297-1)*100","v":6.829659444219871},{"$f":"(I309/I297-1)*100","v":6.2076132048682453},null,130.45541641529371,69.585276234874542,71.238255916891305,128.80530764350527,193.68489849331775,252.02860144064863,66.283821494458223,null,136.56355360565701,51.030614421060449,121.35591044745171,131.61235348692318,138.03514210272661,164.94568959383014,53.242228894427392]
[null,"Mayo",95.683603190039548,135.79959609034384,58.39715461080565,98.648049734407692,139.99452071820966,156.19772284553432,124.29050857324889,null,{"$f":"(C310/C298-1)*100","v":-4.5108392159007416},{"$f":"(D310/D298-1)*100","v":2.5518723904174312},{"$f":"(E310/E298-1)*100","v":-1.4686662114456905},{"$f":"(F310/F298-1)*100","v":-1.4443651630798415},{"$f":"(G310/G298-1)*100","v":1.6923763193021468},{"$f":"(H310/H298-1)*100","v":8.6123862037513774},{"$f":"(I310/I298-1)*100","v":5.2888703614147214},null,130.39886432790971,69.51801370645515,71.02253065612264,128.81155602755697,194.40047582588062,257.46334359180088,66.182975240411352,null,136.28130628496643,51.191620378757733,121.61984796940916,130.57689064746759,138.86291751173812,164.83168826117222,53.248615682835776]
[null,"Junio",97.424767992970231,135.83816941746218,57.680385176411512,98.329822130496012,140.04356312580154,161.02715345691692,123.23883823598015,null,{"$f":"(C311/C299-1)*100","v":-1.4373223674721047},{"$f":"(D311/D299-1)*100","v":2.2637933140840616},{"$f":"(E311/E299-1)*100","v":-2.3095899000309394},{"$f":"(F311/F299-1)*100","v":-2.0452735179123382},{"$f":"(G311/G299-1)*100","v":0.9340936812352485},{"$f":"(H311/H299-1)*100","v":11.019846262474031},{"$f":"(I311/I299-1)*100","v":3.3426992790087651},null,131.58800454156355,69.357240096708836,70.787334334126882,127.99104678503721,194.76313166186455,268.39593407714756,65.637708675724127,null,135.06627447248158,51.058727008870349,122.72340782335046,130.16503438313663,139.07324786281555,166.67743813092827,53.260570786978498]
[null,"Julio",98.193286028151292,136.54546514431584,57.445995894318933,97.223108864630603,140.88247010761279,159.18924051455247,123.58685597181835,null,{"$f":"(C312/C300-1)*100","v":1.5437035955664369},{"$f":"(D312/D300-1)*100","v":2.0376942611595616},{"$f":"(E312/E300-1)*100","v":-2.7916199078400705},{"$f":"(F312/F300-1)*100","v":-3.2827473539292162},{"$f":"(G312/G300-1)*100","v":0.94606097640548281},{"$f":"(H312/H300-1)*100","v":8.9320092854966227},{"$f":"(I312/I300-1)*100","v":2.5384358481648217},null,132.60150807957916,69.33467040568307,70.674504101726001,127.21629194799556,195.57470977370915,269.81379980415483,65.343871820362594,null,135.04131844774324,50.777717394278,123.02772891559408,130.84984982852811,138.82118167314911,169.49248512778067,52.872832880596157]
[null,"Agosto",99.954855903271209,137.44239516357354,57.034982443693941,96.027521522670867,141.82866896666684,157.51169193924528,122.45036626058391,null,{"$f":"(C313/C301-1)*100","v":5.2400248538061245},{"$f":"(D313/D301-1)*100","v":2.6093379608480127},{"$f":"(E313/E301-1)*100","v":-4.3043322591884703},{"$f":"(F313/F301-1)*100","v":-4.3640410947053958},{"$f":"(G313/G301-1)*100","v":1.2922325758822906},{"$f":"(H313/H301-1)*100","v":7.5279878891166607},{"$f":"(I313/I301-1)*100","v":0.83011308222391555},null,134.96903732837512,69.26899417132762,70.604192378312405,125.99697744662579,195.69410116291104,269.02468823141959,64.741778488791695,null,135.02999540011143,50.398564495975862,123.79103026465251,131.2092361114199,137.97922704111667,170.79664685157888,52.871853687245128]
[null,"Septiembre",100.54760947321316,137.59161241937107,57.292628490928401,95.154618929612425,142.02099167505645,156.1283246711368,121.81749786647322,null,4.4906854775041305,3.2892013028396061,-4.5006903930540183,-4.6590113771807999,1.8121807096075582,6.9082365099739862,1.477378137498353,null,136.03845671423807,69.057760056054121,71.014231598960734,125.21747730529842,195.27366765388717,267.92301010793051,64.334495133181207,null,135.29755448883148,50.190385040019855,123.95003243777684,131.5936932057119,137.4963414568127,171.60435857636602,52.812195505525516]
[null,"Octubre",101.75563898169604,138.0025153170287,56.925519928457035,94.523662436216284,142.22735741892629,155.22457480405805,121.84194925007625,null,5.1679744572064923,3.6777753627683429,-4.9220034569924191,-5.0686769718248037,2.0369805180881384,4.9636562771126602,1.7936868096328773,null,137.18612327068155,68.991457041182358,71.151823764294292,124.47496200838629,195.11998210295977,267.20816634405526,64.019286311679707,null,134.81918510222201,49.992898232826064,124.99108282843375,131.68656270844443,137.18878396104898,172.14295267444314,52.542894057187482]
[null,"Noviembre",102.83222707103666,138.51573159454134,56.762212086149475,93.801513107897151,141.70556297063118,154.33288357794939,121.86771603767509,null,{"$f":"(C316/C304-1)*100","v":6.9044723945193676},{"$f":"(D316/D304-1)*100","v":3.4734274417997479},{"$f":"(E316/E304-1)*100","v":-4.4099803266576814},{"$f":"(F316/F304-1)*100","v":-6.0815404708398084},{"$f":"(G316/G304-1)*100","v":1.4634599427574058},{"$f":"(H316/H304-1)*100","v":3.7756663229737031},{"$f":"(I316/I304-1)*100","v":0.96019165736243028},null,138.119353252601,69.027022059569589,71.176801249211493,123.72817535744254,195.26337788880883,266.66883827285676,63.820256068688096,null,134.31524064648329,49.833344750777627,125.39469240766132,131.90424254150531,137.79513929829108,172.78808772996811,52.368468158505763]
[null,"Diciembre",102.58578085163842,139.00737265924937,57.211730056420379,92.997360956398111,140.85462103358213,153.70633353102122,122.09106047503182,null,7.6155130039357033,3.2619184786092603,-3.2804222996020482,-7.0428748828039733,1.1156496095328761,2.7218630256922616,5.1052580771493439E-2,null,137.92923705040491,69.106036128288679,71.397166998203204,122.99830141945141,195.91841114225556,265.92017079491859,63.873733033918377,null,134.45258778103067,49.713935891507873,124.79463027563334,132.25999120245925,139.09264013109325,173.00534381769651,52.316470006402184]
[2021,"Enero",104.40763120967267,138.95818646984105,57.375769299523057,94.332445987342268,140.96901975528365,153.8074252586334,120.53877842515263,null,8.5960909420330633,2.4744153084512277,-3.2596104008429272,-4.4104113877066027,1.2410238066360879,3.9984101712486009,-1.2965221128083182,null,138.71757989258319,68.922400563543505,70.420386191244319,119.98646549833131,196.80812575297762,268.84942668290711,62.125209900864064,null,132.86153347738428,49.599381162406111,122.73541087287816,127.19532949928103,139.61090606618981,174.79612979076006,51.539604691978937]
[null,"Febrero",105.2874357737237,138.9243502500064,57.087806553646267,94.668208719094494,140.48423198991162,152.83206847444626,120.21573232275958,null,{"$f":"(C319/C307-1)*100","v":9.6395508038843669},{"$f":"(D319/D307-1)*100","v":2.1383497094103587},{"$f":"(E319/E307-1)*100","v":-3.5674930771215863},{"$f":"(F319/F307-1)*100","v":-3.6850967783443545},{"$f":"(G319/G307-1)*100","v":0.71611856575328758},{"$f":"(H319/H307-1)*100","v":2.6696462337921334},{"$f":"(I319/I307-1)*100","v":-1.8747649759349616},null,138.82443787266948,69.118749736772941,70.010932264744866,120.16855735714347,197.34190477122749,268.3163474500426,62.257929528221823,null,131.85280546771139,49.752796836830811,122.63727841593379,126.9365492207793,140.47263666245397,175.56285806267516,51.788504154405899]
[null,"Marzo",105.89116311295449,138.51897961730126,57.047594599524302,94.642278647264504,140.94934786037254,150.80649458861302,120.12352051755325,null,10.511205321421047,1.997749306052965,-3.6427872824252083,-3.4961083681446903,0.76114547467405202,0.16943920225225284,-2.3285070779912043,null,139.06684151781644,69.24428808230293,69.877452671219459,120.08167735385254,197.70091220735395,265.46323655045057,62.330742302610652,null,131.32997828107085,49.989025528205808,122.48974415443999,126.87952896971308,140.2638005840231,176.02904786999468,51.888874080661395]
[null,"Abril",106.28581228296628,137.92253019215593,57.157699768336443,94.458297152813202,141.49941954613317,149.48415509019733,120.13339205167082,null,{"$f":"(C321/C309-1)*100","v":11.262288849848412},{"$f":"(D321/D309-1)*100","v":1.1459871835007185},{"$f":"(E321/E309-1)*100","v":-2.6306216345216127},{"$f":"(F321/F309-1)*100","v":-3.4831792098457548},{"$f":"(G321/G309-1)*100","v":0.84365191320110444},{"$f":"(H321/H309-1)*100","v":-2.1667901827000069},{"$f":"(I321/I309-1)*100","v":-3.5033072434756063},null,139.63948248556267,69.235096756977015,69.810260621995212,119.9415208916042,197.98497048647707,263.49528352936085,62.233220565667771,null,131.38111238572316,50.198540195367315,122.13623169746219,126.97827984085362,139.91928102710546,176.26970789671341,51.803432420272053]
[null,"Mayo",106.87332790489944,138.0477672581419,57.076704775625792,94.225319093726995,141.68767345626293,148.54593791058255,119.75251961842042,null,{"$f":"(C322/C310-1)*100","v":11.694505998729699},{"$f":"(D322/D310-1)*100","v":1.6555065202862762},{"$f":"(E322/E310-1)*100","v":-2.261154407231214},{"$f":"(F322/F310-1)*100","v":-4.4833432111309968},{"$f":"(G322/G310-1)*100","v":1.2094421477118811},{"$f":"(H322/H310-1)*100","v":-4.8987813622089149},{"$f":"(I322/I310-1)*100","v":-3.6511146401449146},null,140.14890838876377,69.216151679957449,69.751915459537628,119.77178854892094,198.11740043358444,263.2524284855466,62.118433105731441,null,131.13553319259825,50.13927646546211,122.20732737417015,127.11210712885203,139.82684280205967,177.21954042527355,51.872339140475454]
[null,"Junio",106.95247680473146,137.52081480052706,57.386716207645158,94.077531380040227,141.29260240293493,148.15878215939202,119.80678576770592,null,{"$f":"(C323/C311-1)*100","v":9.7795550433835245},{"$f":"(D323/D311-1)*100","v":1.2387132352275065},{"$f":"(E323/E311-1)*100","v":-0.50913142807245126},{"$f":"(F323/F311-1)*100","v":-4.3245178912379778},{"$f":"(G323/G311-1)*100","v":0.89189338606829871},{"$f":"(H323/H311-1)*100","v":-7.991429408809525},{"$f":"(I323/I311-1)*100","v":-2.7848789532586071},null,140.47414214789052,69.120994112428221,69.92970354009735,119.38046567895148,198.22801398919827,263.29004810299341,61.969688971185668,null,131.3425797556435,50.262205188856477,121.85695255164504,126.89583147829026,140.29610228559332,177.70802666273337,51.724690362146156]
[null,"Julio",107.94177613791695,137.12287300913923,57.545679406001121,93.246265181922368,141.66680989175282,148.01536794325659,119.36656263902367,null,{"$f":"(C324/C312-1)*100","v":9.9278581093322771},{"$f":"(D324/D312-1)*100","v":0.42286857656761434},{"$f":"(E324/E312-1)*100","v":0.17352560457923882},{"$f":"(F324/F312-1)*100","v":-4.0904304842230736},{"$f":"(G324/G312-1)*100","v":0.55673341299375956},{"$f":"(H324/H312-1)*100","v":-7.0192385711359666},{"$f":"(I324/I312-1)*100","v":-3.4148399517154537},null,140.90185127426665,69.233191566912595,70.084192991380561,118.26371468487822,198.84953738974707,263.79048913426652,61.90177336670574,null,130.53504983486346,50.489892785646504,121.7888010269488,126.8294386420165,140.36423742560973,178.21831124683871,51.858554018936474]
[null,"Agosto"]
[null,"Septiembre"]
[null,"Octubre"]
[null,"Noviembre"]
[null,"Diciembre"]
["Notas:"]
["El ITCER REGIÓN CAPARD incluye dentro de los socios comerciales al resto de países Centroamericanos, República Dominicana y Panamá.\n"]
["Valores sobre (bajo) 100 significan una depreciación (apreciación) real de la moneda. El índice se descompone en efecto precio y efecto tipo de cambio, los cuales divididos generan el índice."]
["Fuente: Cálculos de la Secretaría Ejecutiva del Consejo Monetario Centroamericano"]
[{"$f":"TODAY()","v":"2021-08-23"}]

{"sheet":"ITCER BILATERAL","index":7,"n_rows":334,"n_cols":33,"rows_kept":334,"cut":false,"hidden":false,"merged":[[3,2,3,8],[3,10,3,16],[3,18,3,24],[3,26,3,32],[331,0,331,17]]}
[]
["Secretaría Ejecutiva"]
["Consejo Monetario Centroamericano"]
[null,null,"ITCER BILATERAL con USA\nPeriodo de referencia Diciembre 2000=100",null,null,null,null,null,null,null,"VARIACION INTERANUAL",null,null,null,null,null,null,null,"EFECTO TIPO DE CAMBIO",null,null,null,null,null,null,null,"EFECTO PRECIO"]
["Año","MES","COSTA RICA ","EL SALVADOR ","GUATEMALA ","HONDURAS","NICARAGUA ","REPÚBLICA\nDOMINICANA","PANAMÁ",null,"COSTA RICA","EL\nSALVADOR","GUATEMALA","HONDURAS","NICARAGUA","REPÚBLICA\nDOMINICANA","PANAMÁ",null,"COSTA\n RICA","EL\nSALVADOR","GUATEMALA","HONDURAS","NICARAGUA","REPÚBLICA\nDOMINICANA","PANAMÁ",null,"COSTA\n RICA","EL\nSALVADOR","GUATEMALA","HONDURAS","NICARAGUA","REPÚBLICA\nDOMINICANA","PANAMÁ"]
[1995,"Enero",85.619030667544379,112.49084356097362,97.824269357465923,129.3748615746282,87.988160933217259,74.090194997468373,92.370002908573923,null,null,null,null,null,null,null,null,null,52.216031114470596,100.11481056257175,74.144753538816914,60.872036536440611,54.867081974617918,77.858439201451901,100,null,60.986477781118033,88.998186335322799,75.793822970330439,47.050899839090746,62.357346025520258,105.08602279169637,108.26025425048226]
[null,"Febrero",85.803286863165809,111.7150925819045,98.219398373736595,122.02254278340142,88.422214539053797,74.095780214207949,92.738745435155053,null,null,null,null,null,null,null,null,null,52.892078474482894,100.11481056257175,73.903264568323891,60.012822122788343,55.371865909861469,77.858439201451901,100,null,61.643417645331191,89.616190837573782,75.243043423166867,49.181750153588681,62.622120695026418,105.07810158198787,107.82979598308474]
[null,"Marzo",92.800746965121618,110.84438751979761,97.710242087071862,121.39560881893615,89.028875529819913,73.738318651651355,92.785154151896094,null,null,null,null,null,null,null,null,null,53.696674605346551,100.11481056257175,73.629015968053537,60.343289204962304,55.8814133677783,77.858439201451901,100,null,57.86233016586386,90.32014412519581,75.354450460209705,49.707967027839906,62.767740281141727,105.58748914423246,107.77586232846332]
[null,"Abril",93.991306750000291,110.52219773305002,97.866117161606311,118.62374741159626,90.19811482016037,74.085008383347585,92.91789972551048,null,null,null,null,null,null,null,null,null,54.513836396727811,100.11481056257175,74.068098594832009,60.277195788527493,56.413119313371581,77.858439201451901,100,null,57.998806785104783,90.583441712210828,75.683086999889198,50.813767988107749,62.543568040030209,105.09337975448281,107.62189017983705]
[null,"Mayo",94.654325064215726,109.96540733866047,96.776685191466484,117.12259887416035,90.600147779255877,73.916585496321602,92.841593156909994,null,null,null,null,null,null,null,null,null,55.2693877924739,100.11481056257175,74.17751316859426,60.475476037831868,56.949903519650668,77.858439201451901,100,null,58.390768467238921,91.04209495104962,76.648123483294356,51.634335831984345,62.858510626723415,105.33284063199385,107.71034468461964]
[null,"Junio",94.841103104849992,109.23118770800374,96.061714490640341,117.92729794255864,89.986271523546421,73.597325186591846,92.851844736870277,null,null,null,null,null,null,null,null,null,56.094820596347127,100.11481056257175,74.412786873358769,61.334690451484121,57.491764335685545,77.858439201451901,100,null,59.146107288874994,91.654052897601133,77.463521516273872,52.010595953245463,63.889483764911702,105.7897675004585,107.69845260843944]
[null,"Julio",94.530960078658026,106.45671914342638,96.072865267208925,117.99491274105621,89.760995444742008,73.114444543539719,92.765711300194155,null,null,null,null,null,null,null,null,null,56.85603860212769,100.11481056257175,74.578268323380286,62.193904865136382,58.038774402396307,77.858439201451901,100,null,60.145415380123602,94.042735271307436,77.626776422202667,52.708971446610583,64.659236581356424,106.48845065777274,107.79845117167845]
[null,"Agosto",94.976819671802957,106.00164850705254,96.442351754255697,118.57611259046642,92.340933947082661,72.490012467389235,92.836792252022249,null,null,null,null,null,null,null,null,null,57.607652873846206,100.11481056257175,75.123269436948718,63.119212695223439,58.60012362163851,77.858439201451901,100,null,60.65443449560879,94.446465665966386,77.89448107649838,53.23096812359006,63.460613962622659,107.40574673852863,107.71591475126795]
[null,"Septiembre",94.763171479100464,104.81891304757143,97.372992717238859,117.80280449383781,92.436679622242039,71.52501455166184,93.105152706316076,null,null,null,null,null,null,null,null,null,58.42997599405598,100.11481056257175,76.125740005075798,63.912333692440896,59.157712022336398,77.858439201451901,100,null,61.658949444238907,95.512162501756947,78.1795217346735,54.253660570350938,63.998092817801641,108.85483867356014,107.40544115257779]
[null,"Octubre",93.625684518707061,104.68716061690999,97.435052492482512,117.70742676903714,90.161544222966612,71.242292219002408,93.582482203652191,null,null,null,null,null,null,null,null,null,59.256666914220524,100.11481056257175,76.989920910743621,64.837641522527932,59.720618068570339,77.858439201451901,100,null,63.291037303316742,95.632367878358821,79.016656676696186,55.083730315293437,66.237350505979762,109.28682496923474,106.85760587369562]
[null,"Noviembre",92.744576881885934,104.16644321122232,96.778771061769831,118.73786984046144,88.434118465075088,70.547887342352951,93.521595748087051,null,null,null,null,null,null,null,null,null,60.127859883147792,100.11481056257175,77.526117064529998,66.357790100528064,60.288815345460392,77.858439201451901,100,null,64.831672001397038,96.110424313485566,80.106531849891255,55.885952973291253,68.173705343452923,110.36253831900378,106.92717462751962]
[null,"Diciembre",92.942406046237792,103.98199873383447,95.22894123305511,119.30394908405027,90.066511493697377,95.585013251632233,93.114878730847437,null,null,null,null,null,null,null,null,null,60.990018831050605,100.11481056257175,76.713471070527731,67.745751845658646,60.862483804376666,77.858439201451901,100,null,65.621304015638202,96.280906100716834,80.556887514674543,56.784165457868795,67.575042926621691,81.454651260533652,107.39422245187507]
[1996,"Enero",93.426294067201141,102.99270670120748,97.386071396479352,121.73435290966532,91.049224558760471,96.219557105115555,93.660829159888237,null,{"$f":"(C18/C6-1)*100","v":9.1186075558038926},{"$f":"(D18/D6-1)*100","v":-8.4434755390716205},-0.44794401620862345,-5.905713499492748,3.4789494326021408,29.868138568677448,1.3974517816048415,null,61.722100084337882,100.11481056257175,78.865247859617867,69.067620174354431,61.451098132600023,77.858439201451901,100,null,66.065020239314464,97.20572822016922,80.98206111892604,56.736343130362734,67.492170779490067,80.917478259014487,106.76821985986284]
[null,"Febrero",93.872178103181625,103.08253836169234,98.163107798191646,121.25478366213557,91.264250736307076,96.409544008446261,93.964134953799771,null,{"$f":"(C19/C7-1)*100","v":9.4039418943048467},-7.7272945138394444,-5.7311057160780443E-2,-0.62919449451949161,3.2141653679099269,30.114756508036102,1.3213350179527072,null,62.449512076214987,100.11481056257175,79.746002807228351,70.521675335919781,62.026147793713051,77.858439201451901,100,null,66.526113847675134,97.121017927684761,81.238262108789343,58.159911886380854,67.963246608934881,80.758020382951784,106.42358390163218]
[null,"Marzo",94.840327310773361,103.11232920017,97.871993634642365,122.61622003970683,91.849274842023235,96.77104300626992,94.188032828604207,null,2.1978059577670184,-6.9755974954046396,0.16554205998831062,1.0054821855963958,3.1679601650799638,31.235760152639113,1.5119645912442969,null,63.118812636642105,100.11481056257175,79.943596463513799,72.041823913919927,62.60663356882197,77.858439201451901,100,null,66.552714890801667,97.092958077031483,81.681790157401366,58.753910282498204,68.162360210793892,80.456339812734427,106.17060044344693]
[null,"Abril",95.364860661445235,103.12242554508632,96.364443249746842,122.26538269043263,92.314709775034174,97.024807782604,94.376865434686096,null,1.4613627142118002,-6.6952814364375506,-1.5344165635791551,3.0699040944986988,2.3466066437130451,30.96415847124705,1.5701664732904685,null,63.704864230261734,100.11481056257175,79.345895075955724,73.033225160441773,63.202323783033478,77.858439201451901,100,null,66.801192586460488,97.083452055538004,82.33939033956301,59.733363240972935,68.46397929111626,80.245909248182485,105.95817051076509]
[null,"Mayo",94.913617199548113,102.55300817707725,95.203946695019539,121.40468113595055,91.793591810072215,96.99052368105788,94.732472324723318,null,0.27393585571127144,-6.7406644880196325,-1.62512127103277,3.6560683445822306,1.3172649935672576,31.216185149521735,2.03667246922139,null,64.340541898833209,100.11481056257175,78.734079855805845,73.892439574094013,63.804193428241952,77.858439201451901,100,null,67.788525816651244,97.622500151048229,82.700436892628005,60.864572010488047,69.508330777879991,80.274274482196191,105.5604245788294]
[null,"Junio",94.716575389837203,100.96260250276919,95.314405917729644,121.46729622853087,92.385762751615374,96.720473017081289,94.88049373281973,null,-0.13130141988660915,-7.5698025250243495,-0.7779463201060266,3.0018480434415906,2.6665081100077481,31.418462249633606,2.1848235774942104,null,65.040590358352887,100.11481056257175,79.281670663427818,75.743055234268127,64.410758318375855,77.858439201451901,100,null,68.668646528505661,99.160291118511751,83.179105928498956,62.356747524670112,69.719355450415037,80.498406152027144,105.39574159636713]
[null,"Julio",94.762373012974763,101.15589402000485,93.702541071002116,124.58980983214589,93.193093314308598,96.657427505474857,94.799538536440892,null,0.24480121023227053,-4.9793241479477395,-2.467215055587435,5.5891368008063269,3.82359604253657,32.200180291208078,2.1924342601817415,null,65.707344516664605,100.11481056257175,78.849450725891245,79.312099721746719,65.023669383437039,77.858439201451901,100,null,69.339066158324286,98.97081285522799,84.148679240346212,63.658576755675497,69.773056211509498,80.550911824176012,105.48574554670438]
[null,"Agosto",94.943697909931899,98.406055084957117,92.642443378828446,124.15487815795059,95.01467315595626,96.686264005405121,94.806087305611968,null,-3.4873521755640624E-2,-7.1655427336019812,-3.9400826569532255,4.7047971514734055,2.8955080857269833,33.378738276394905,2.1212441811256477,null,66.337996502368895,100.11481056257175,78.58012254432262,81.096621965486008,65.652525130456468,77.858439201451901,100,null,69.870879229183032,101.73643326738322,84.820865769911805,65.31891712085158,69.097248824605202,80.526887663276895,105.47845907578193]
[null,"Septiembre",95.349330445168619,99.309205617253411,92.237652443897176,123.96213821163136,95.241777738852974,96.46686980978285,94.845918012579517,null,0.61855144453182298,-5.2564058051407851,-5.2738856330052268,5.2285119562800686,3.0346158344008334,34.871513713717242,1.8696766566232759,null,67.015585381841703,100.11481056257175,78.248771190171595,82.08802321200784,66.277224661196115,77.858439201451901,100,null,70.284274749448343,100.81120872965515,84.833871111112458,66.22023820843188,69.58839517141746,80.710029624653757,105.43416321484378]
[null,"Octubre",95.394509205149561,99.586089754431782,92.299138854180555,123.93507005121718,94.030928379957572,96.552559577678565,94.712381491735968,null,1.8892515398261978,-4.8726805010453571,-5.2711149703523974,5.2907819439462989,4.2916125609185451,35.527025549474331,1.2073833280302537,null,67.702357492896397,100.11481056257175,78.344978324260765,83.01333104209489,66.907760229492425,77.858439201451901,100,null,70.970916520257859,100.53091833351797,84.881591851073097,66.981308041209758,71.155056514100764,80.638399998928193,105.58281654941322]
[null,"Noviembre",95.568733948020579,100.35107015240224,90.772247571086936,122.24722503033979,93.773002923752557,96.105595410394073,94.805373065518367,null,3.0450913261821588,-3.6627659937312984,-6.2064473693814293,2.9555483811471328,6.0371319931073142,36.227460567338234,1.3727068140382714,null,68.389051607523328,100.11481056257175,77.776540479507744,83.343798124268844,67.544463672275839,77.858439201451901,100,null,71.560068635752614,99.764566945353266,85.683171410510909,68.176433537517326,72.029754370985316,81.013429935039255,105.47925372425011]
[null,"Diciembre",95.492145925308435,100.06931599482077,89.810132209400194,122.53589189242361,92.992949123299553,97.371068088820863,94.033900771133503,null,2.7433547156097582,-3.7628462490215231,-5.6902964093587745,2.7089990173723599,3.2491961563393845,1.8685511215934536,0.98697657432658126,null,69.071398269089684,100.11481056257175,77.622194713916485,84.46738620366024,68.187090651906004,79.79431336963097,100,null,72.332020188461982,100.04546305458241,86.429217733399554,68.932771369400598,73.325011514041336,81.948688594894975,106.34462590612637]
[1997,"Enero",94.658344809860736,99.597868903188839,90.006376047529898,121.87789655413562,94.405000332569671,100.19743512941918,94.58691551776252,null,1.3187408908389209,-3.2961924263893883,-7.5777729228907358,0.11791547828476912,3.6856719978361596,4.1341678801929627,0.98876591866741137,null,69.659016573562681,100.11481056257175,78.377608469335442,85.458787450182086,68.846628933010507,84.150030248033872,100,null,73.589937277570243,100.5190288357328,87.080062447960771,70.118364253376399,72.926888078468082,83.984215902674748,105.72286817114886]
[null,"Febrero",95.275367120684834,98.555210332019485,88.782781037296829,117.52353541071497,95.594941133187362,100.9993525209043,94.88417169475106,null,1.4947868962418953,-4.3919446509820386,-9.5558575632908145,-3.0771967412167034,4.7452210059699018,4.7607408163406806,0.97913607293214078,null,70.332982010293506,100.11481056257175,78.864988890212501,84.136919121486315,69.480032402567261,84.452510586811869,100,null,73.820741011895635,101.58246349969542,88.829149040828142,71.59154872889853,72.681704260651628,83.616883157079982,105.39165617813148]
[null,"Marzo",95.397727580783467,98.615172212701793,87.587841336304336,117.48579101589158,96.783187257293662,101.54586774120057,95.208294219496509,null,0.58772495394665558,-4.3614153829635178,-10.507758058683192,-4.1841356895147008,5.3717489046664069,4.9341461935274111,1.083217644803014,null,71.013000648048589,100.11481056257175,77.631129158401222,84.533479620095036,70.119396908666545,84.815486993345417,100,null,74.438880724820493,101.52069738988581,88.632312400903814,71.952087898578924,72.449977000919958,83.524311604196299,105.03286590709895]
[null,"Abril",95.096846723491424,98.680959914001448,87.763388627118857,116.6750191148284,97.489698144902178,100.80112486738804,95.587524708983153,null,-0.28104055948373619,-4.3069832847783545,-8.9255479848897252,-4.5723192064581646,5.6058112325534815,3.8921149869684202,1.2827924181640693,null,71.645948441648315,100.11481056257175,77.648998047370682,84.335199370790676,70.786616967069861,84.815486993345417,100,null,75.339983301412531,101.45301651891091,88.475387359162625,72.282138893665191,72.609330333403392,84.141409240151816,104.61616231244679]
[null,"Mayo",95.428536475592267,98.835127126147043,87.262150669691167,117.76999390951603,97.617122305168593,100.55067789246961,95.267799403383677,null,0.54251359418910905,-3.625326177181043,-8.3418768874881533,-2.9938608564560654,6.3441579965033856,3.6706206712718403,0.56509353711930999,null,72.308182198298809,100.11481056257175,77.375526355316367,86.251908447399558,71.460216219000444,84.815486993345417,100,null,75.772074967106988,101.29476581215037,88.670203245622346,73.237592687376591,73.204592116127969,84.35098476814683,104.96726136874351]
[null,"Junio",95.735199359487453,98.584731119056201,86.55199439525002,116.59290234868173,96.688030801326519,100.24088966508715,95.300330342535048,null,{"$f":"(C35/C23-1)*100","v":1.0754442561481614},-2.3552001679510659,-9.1931659628061606,-4.0129269615735597,4.6568517935799747,3.6397843581514877,0.44248990830251245,null,73.017627531789515,100.11481056257175,76.688351038208339,86.384095280269136,72.140041127968175,84.815486993345417,100,null,76.270408397654208,101.55204505418567,88.603794255741619,74.090355021723028,74.611139072840075,84.611666233929853,104.93143060530123]
[null,"Julio",95.926748649919887,97.939245609259729,86.729223692903048,115.21807226463339,96.100630949115256,98.496764772722187,95.246528319550691,null,1.2287320377526889,-3.1798922266546237,-7.4419725424683119,-7.5220739000553927,3.1199067778558742,1.9029445689966673,0.47151050523097648,null,73.701944450944154,100.11481056257175,77.088847223588999,86.450188696703918,72.826468106013436,84.815486993345417,100,null,76.831483906450231,102.2213413425622,88.884511980126376,75.031795791674696,75.781467183680249,86.109921670071259,104.99070335088905]
[null,"Agosto",95.818611011451992,98.785207273811437,87.700326271536213,114.0216955281894,97.769102211587096,98.077339861690305,95.424559213605917,null,0.92150729409137266,0.38529355589651537,-5.3346143808871709,-8.1617273361339056,2.8989512505186887,1.4387523094360199,0.65235463836861296,null,74.297803247567757,100.11481056257175,78.625312705556965,86.450188696703918,73.5308786645693,84.815486993345417,100,null,77.54005455024587,101.3459538380832,89.652246517440147,75.819069604460481,75.208708069587644,86.478168262876125,104.79482517299562]
[null,"Septiembre",97.214952117080728,99.351124685608028,87.863711445115328,114.03619403249682,99.781280902337386,97.704421490015577,95.5754401280373,null,1.9566174856203711,4.221065720348971E-2,-4.7420341724788155,-8.0072385990863637,4.7662940269042942,1.2828774092836115,0.76916553790014053,null,74.894014723690887,100.11481056257175,79.044972626933856,86.516282113138701,74.230466031124607,84.815486993345417,100,null,77.039604600630113,100.768673610269,89.963161499625315,75.86738828593684,74.393178119029088,86.808238255637932,104.62939000441469]
[null,"Octubre",98.071704962746139,99.924423661224466,88.239471265900832,114.62387325823906,100.46662972675664,97.63185519863859,96.247716287178889,null,2.8064463876418255,0.33974012598243508,-4.3983807852134067,-7.5129636745516759,6.8442388665927556,1.11783222079338,1.6210497204918184,null,75.496947457197791,100.11481056257175,79.591657041637092,86.516282113138701,74.936802399527664,84.815486993345417,100,null,76.981375500585344,100.19053089762393,90.199607839665745,75.478414447070691,74.588749123302406,86.872759736852885,103.89856908565523]
[null,"Noviembre",97.179072292212382,99.973976792953692,88.77177054499343,113.67530244093008,98.503558309080105,97.416956758453708,96.275600835945696,null,1.6850054172190543,-0.37577412864243653,-2.203842120937749,-7.0119567845260296,5.0446879569101544,1.3645005188925863,1.5507852802934208,null,76.113156539169623,100.11481056257175,80.417639960015109,86.516282113138701,75.64973175689326,84.815486993345417,100,null,78.322579896936389,100.14087042862137,90.58920360189947,76.108248894341656,76.798983768203456,87.064398042782457,103.868476677077]
[null,"Diciembre",97.001544923295668,99.83804613684535,87.925432934899888,113.37309019256558,98.765486752486197,97.133886760359019,96.069038596051712,null,1.5806525064038679,-0.2311096620140729,-2.0985374680286273,-7.4776472087885963,6.2075003358941006,-0.24358501258863186,2.164259706583338,null,76.717048967852946,100.11481056257175,80.045630409223463,86.582375529573497,76.369669312116869,84.815486993345417,100,null,79.08848155822389,100.27721338351019,91.038085042457922,76.369423628228077,77.324247389682839,87.31812328543532,104.09180882976989]
[1998,"Enero",96.304171087314174,98.809923643523504,88.008109382078317,112.73699583580128,99.29018503988496,97.223893703592935,95.899308264419858,null,1.7387017285791284,-0.7911266258429972,-2.2201390092590256,-7.5000479798025932,5.1747096976916263,-2.9676821786760232,1.387499253436264,null,77.233351408157674,100.11481056257175,80.950469511531892,86.648468946008279,77.108229357761786,84.815486993345417,100,null,80.1973066546973,101.32060310435608,91.980693688230033,76.858947946608126,77.659467878710601,87.237286805158092,104.27603890976297]
[null,"Febrero",96.276773706266013,98.736602800747903,87.083910775092178,110.63099544487144,99.021414501298764,97.463180747615382,96.338892713353005,null,1.051065575336696,0.18405162762813454,-1.9135132312322667,-5.8648167294796272,3.5843668372968374,-3.5011826165489701,1.5331545742759634,null,77.847286240252927,100.11481056257175,80.411683663691974,86.978936028182218,77.817639580942938,84.815486993345417,100,null,80.857805308017262,101.39584280067349,92.338163212912804,78.620765978305513,78.586677409988212,87.023105897783452,103.80023807990015]
[null,"Marzo",96.240491438016846,98.493795611752049,87.482877879028877,109.40699413581483,99.058508052778933,97.804399341627601,96.342557887722833,null,0.88342131265100043,-0.12308106169297561,-0.11983793146863597,-6.876403359265792,2.3509463368223571,-3.6845107366736518,1.191349637681105,null,78.491908548849338,100.11481056257175,81.156479673491361,87.309403110356186,78.533766141142564,84.815486993345417,100,null,81.558092000602059,101.64580412476893,92.768415535797033,79.802396364141671,79.280182676786652,86.719500926627717,103.79628919188499]
[null,"Abril",96.438349951569464,97.473283360350464,87.179382847204849,107.74302345204757,98.149844623553477,98.101308911916732,96.608257521284742,null,1.4106705682667586,-1.2238192197395081,-0.66543212272178742,-7.655448210375015,0.67714485859839968,-2.6783589558381782,1.067851495693839,null,79.138146255510193,100.11481056257175,81.318076582432553,87.309403110356186,79.281125643697465,84.815486993345417,100,null,82.060867170843025,102.7100012548626,93.276728885492204,81.034855263008623,80.775599745240967,86.457039089559544,103.51082046787563]
[null,"Mayo",96.658485272679769,97.143834677478438,86.832477842899522,107.15503179509975,97.308463678132981,97.850362440446617,96.611431840640805,null,1.2888689720208513,-1.7112260568147408,-0.49239312060742613,-9.0132993660268603,-0.31619312242240349,-2.6855268493671924,1.4103741722509167,null,79.772440335276116,100.11481056257175,81.259937950930478,87.705963608964908,80.035353015060352,84.815486993345417,100,null,82.53019909243659,103.0583267532696,93.582424421826261,81.849598791286766,82.249117897691946,86.678766310104933,103.50741945833965]
[null,"Junio",96.892167620141052,97.16728272561059,87.235238823392635,105.83003226656923,96.509044159755945,97.45921060884821,96.468214448732326,null,1.2085087495448343,-1.4377970882061053,0.78940344808520191,-9.23115375404684,-0.18511768218586466,-2.7749943815669975,1.2254775004447493,null,80.508458712590965,100.11481056257175,81.65810341166295,88.036430691138861,80.796863464126517,84.815486993345417,100,null,83.090780906273793,103.03345710025116,93.606786102780603,83.186623688622632,83.719473306957298,87.026650907066895,103.66108730367829]
[null,"Julio",96.288494023703421,96.863580891363895,87.558118809174218,104.29670534092485,98.4321402508604,105.26438631102489,96.499486956251388,null,0.37710584260883806,-1.0982979409371096,0.95572758636255362,-9.4788662134741344,2.4261123769100612,6.8709074393648928,1.3154900853677765,null,81.26763185550449,100.11481056257175,82.103271819467238,88.366897773312786,81.565690834960918,92.075015124016929,100,null,84.400148407657881,103.35650369446307,93.77002719576997,84.726451793907842,82.86489618846619,87.470243594032553,103.62749394236219]
[null,"Agosto",95.391948849691332,98.187860707329023,88.307336537135299,104.66229583460108,100.01890127807253,105.91198238062623,96.617746131442885,null,-0.44528109649769609,-0.60469232486064506,0.6921413994740222,-8.2084375699135297,2.3011350371373362,7.9882290139439149,1.2503981445343149,null,82.036846190705361,100.11481056257175,82.82359522046066,88.697364855486754,82.354521699163442,92.740471869328488,100,null,85.999759078169646,101.9625133304273,93.790163386517051,84.746244240290821,82.33895858363951,87.563720161556418,103.50065490448902]
[null,"Septiembre",96.756826288611535,99.326015593624788,89.751530824677729,105.17811119295227,100.81434596198261,105.55985909996976,96.215452811710776,null,-0.47125037712043572,-2.5273082778576317E-2,2.1485768680983064,-7.7677819000345316,1.0353295230358439,8.0400021720172798,0.66964136687843734,null,82.784848888703536,100.11481056257175,83.929135611918795,89.29220560339985,83.138166992229984,92.921960072595269,100,null,85.559698539272446,100.794147398577,93.512762223373642,84.896186659589972,82.466603536347534,88.027741667023406,103.93340890438401]
[null,"Octubre",97.5869495035776,99.504133969949123,91.078363448419395,105.31696644327702,99.657559006112294,104.08043271276735,96.278002449088817,null,{"$f":"(C51/C39-1)*100","v":-0.49428676635394631},-0.42060757107817981,3.2172588318937656,-8.1195186922311198,-0.80531289130013617,6.6049933200682309,3.1466888855380404E-2,null,83.55126552595199,100.11481056257175,84.970192621443701,89.688766102008572,83.929186989614834,93.405928614640047,100,null,85.617253076333682,100.61371982073332,93.293499580243392,85.160795198477643,84.21758251621155,89.74398566579184,103.86588572283617]
[null,"Noviembre",97.265618955132922,97.349637654250856,88.684853023670001,104.77268646729362,94.991057127466036,102.55170018968273,96.278002449088817,null,8.9058951561393762E-2,-2.6250222536789214,-9.7911217484814017E-2,-7.8316184628253733,-3.5658622306746546,5.2708928733635974,2.4945189874392426E-3,null,84.372981630484787,100.11481056257175,84.929793394208403,90.349700266356464,84.727730275018459,93.708408953418015,100,null,86.744918232006214,102.84045526511537,95.76583880850616,86.234020824273202,89.195480961249345,91.376748293877228,103.86588572283617]
[null,"Diciembre",97.400240671461361,97.347306101880221,90.357061417521024,104.55904160357872,94.884692432041902,101.0741673985644,96.305514357516614,null,0.41101999816699486,-2.4947804282459018,2.7655575883504868,-7.7743744781200714,-3.9293020750961971,4.0565458354678174,0.24615189755279321,null,85.177287575881195,100.11481056257175,87.007634418069841,90.878447597834779,85.53396524330077,93.647912885662421,100,null,87.450797850891206,102.84291838317041,96.293120928342091,86.915914878397572,90.145167835751494,92.652668130702352,103.83621401861609]
[1999,"Enero",96.687745085210608,97.407182973940365,93.870840934684708,103.72085157653096,96.349252953100589,101.92522002141699,96.454120746251803,null,0.39829427278770257,-1.4196354150052826,6.6615810676649456,-7.9975026764081196,-2.961956497112983,4.8355667920038536,0.57853647943129083,null,85.864910865343234,100.11481056257175,90.267152838563661,91.473288345747889,86.361130702147165,93.708408953418015,100,null,88.806405392607672,102.77970012679225,96.161014367999002,88.191802280232764,89.633420140978899,91.938392611492603,103.67623407513773]
[null,"Febrero",96.998250848998254,97.758546368357301,93.120920941674541,103.40923438714971,97.708190756333735,104.04310817503773,96.571532944360428,null,0.74937818848543891,-0.99057128222684865,6.9324058977712655,-6.5277918079661656,-1.3262017631022638,6.7511929909832569,0.24148111365533964,null,86.661956845109387,100.11481056257175,88.999627084056286,91.869848844356611,87.155783747886616,95.281306715063522,100,null,89.34383464297737,102.41028972069199,95.574255692553152,88.841049243637912,89.20007941323685,91.57868155454014,103.5501839425236]
[null,"Marzo",98.552569427451004,98.262640663661557,95.138216568405284,103.86055451072561,100.83204537599653,104.67494405193183,96.691935533573712,null,2.4023962834013979,-0.23468985701563527,8.7506708455135538,-5.0695475813950512,1.7903937360662203,7.0247808447814641,0.36264103165917216,null,87.456546664075844,100.11481056257175,90.225329279598895,92.266409342965346,87.957835908123755,96.067755595886268,100,null,88.741011190435316,101.88491769242177,94.836052780878035,88.836815649233841,87.232025870480328,91.777221823232765,103.42124133535175]
[null,"Abril",100.01590918267736,99.537500368406285,96.936521240763938,104.77986328092851,102.15289605021287,105.16347319992069,97.308189655172427,null,3.7096852371536038,2.1177259418097005,11.192025080815228,-2.7502107108010154,4.078510202448915,7.1988481767811363,0.72450549450544521,null,88.222471584714455,100.11481056257175,91.477057900379648,92.729063258008864,88.794604826791073,96.067755595886268,100,null,88.208438343121614,100.57999265807231,94.368001584434353,88.498935152635312,86.923237871929175,91.350877517383793,102.76627317224423]
[null,"Mayo",100.12213776032203,100.20391953041704,98.890090335055589,104.40829088434739,101.75330363680122,105.21581416806717,97.308189655172427,null,3.583392061101609,3.1500556500556165,13.886062901453933,-2.5633335782164979,4.5677835109702469,7.5272605475562582,0.72119603369600327,null,89.033125761101033,100.11481056257175,94.030496237174546,93.1256237566176,89.639630046397755,96.067755595886268,100,null,88.92451534967573,99.91107237295418,95.0858634253281,89.193705756348834,88.095056221818524,91.305433841372746,102.76627317224423]
[null,"Junio",99.659203690513522,100.27534071326124,99.493593869343528,103.76126815541818,101.92262814218942,105.59515778147802,97.134734771651637,null,2.8557892122100581,3.1986671855664284,14.052067961627168,-1.9547987153024415,5.6094058640474342,8.3480536337231079,0.69092221383815211,null,89.8536007050877,100.11481056257175,95.196376500080277,93.654371088095928,90.492316654317705,95.886267392619473,100,null,90.160865607679739,99.839910640494821,95.680910496703518,90.259470371754034,88.785305386821832,90.805553405251374,102.94978437433751]
[null,"Julio",100.55462613105395,100.00676613249178,98.940992132233987,103.6428685052494,102.31242243743833,106.17851815698305,97.25359962367574,null,4.4305730924614206,3.2449608121065454,13.000363047849174,-0.62690075735201134,3.942088607124461,0.86841511929511839,0.78146805875376479,null,90.616215864269947,100.11481056257175,95.567350173250517,93.984838170269853,91.302776930300382,95.886267392619473,100,null,90.116406724210606,100.10803712014528,96.590248504406929,90.681432814173448,89.239189880515156,90.30665435625437,102.82395755730533]
[null,"Agosto",100.90170068862199,100.2688623557832,102.01040803467862,103.40562956673105,101.68129479388567,106.13510350197015,97.400306513410001,null,5.7759086645900792,2.1194082786436086,15.517477975095373,-1.2006867017860468,1.6620793615712115,0.21066655191295247,0.80995512035904049,null,91.249004273865125,100.11481056257175,99.203021655021672,94.315305252443792,91.983438860779074,95.886267392619473,100,null,90.433564202703948,99.846361283461235,97.247941230955021,91.209062453973104,90.462497598240901,90.343594370584057,102.66908142248205]
[null,"Septiembre",101.3841689585114,100.48083649616198,103.45320231751801,103.72781881812435,101.5621210400538,106.2181033776244,97.866615581098387,null,4.7824456913222457,1.1626570296164429,15.266225953967716,-1.3788918230023373,0.74173479075405613,0.62357441859719476,1.7161097527845781,null,91.848149093901966,100.11481056257175,100.66671673408503,94.844052583922107,92.648217193709598,95.886267392619473,100,null,90.594172677480088,99.635725630524362,97.30652553907349,91.435502707543691,91.223200387052998,90.272998993143943,102.17988984929572]
[null,"Octubre",100.7428141445117,100.10090215798803,103.17543920994208,103.26024248619881,100.65546840789894,103.06097501922852,97.954410894020157,null,3.2339002878847056,0.59974210540754136,13.28205218396754,-1.9528894788153228,1.0013383949384558,-0.97949025284342905,1.741216479660368,null,92.442756556532274,100.11481056257175,100.95909319273019,95.108426249661278,93.317770016205543,96.128251663641862,100,null,91.761141815957899,100.01389438484955,97.85186665142075,92.105561598282065,92.710084700060293,93.2731828373512,102.08830729245366]
[null,"Noviembre",100.52435427510173,100.60762095451835,102.36680290407365,102.69964502628983,100.27641572852785,101.91967456218413,97.83886647101987,null,3.3503465612777505,3.3466825134353506,15.427606196462818,-1.9786086535548808,5.5640591450303978,-0.61629951168979957,1.6212052413077771,null,93.051732317616398,100.11481056257175,100.44685170893911,95.438893331835203,93.880756958009528,96.370235934664223,100,null,92.566356669115962,99.51016594242958,98.124439622351318,92.930110233004243,93.621971104518849,94.555086001443172,102.20887016267739]
[null,"Diciembre",99.889996862008516,100.99526994762167,100.86059160002097,101.98792917702984,100.23973969321341,101.55685645378517,97.407097422162764,null,2.5562115384758721,3.747370103825598,11.624470758256876,-2.4590053496252429,5.64374202404343,0.47755926924175629,1.1438421485987949,null,93.673947124526038,100.11481056257175,99.232414682529395,95.769360414009157,94.339010551423812,96.309739866908643,100,null,93.777104882614481,99.128217207096384,98.385715479492362,93.90264238797657,94.113383414752519,94.833321185690409,102.66192366517153]
[2000,"Enero",99.003371948716591,100.62476885940532,103.46601759435319,102.13672470765111,100.15904885474066,101.92412728463768,97.698897185922263,null,2.3949538397707304,3.303232664397826,10.221679665514882,-1.5272983636380855,3.9541519885935683,-1.0720965616606293E-3,1.2905373353049088,null,94.214564103398871,100.11481056257175,101.94744992826546,96.09982749618311,94.807024443009226,96.672716273442219,100,null,95.162985107418052,99.493207981877617,98.532302971163531,94.089396121965351,94.656474404530925,94.847725311858554,102.35530070487768]
[null,"Febrero",98.718122570141873,100.72435862987828,102.06197346451594,101.70019544930641,99.131864293208096,102.9285085935003,98.362068965517281,null,{"$f":"(C67/C55-1)*100","v":1.7730956033640499},3.0338137909147189,9.6015507926962442,-1.6526947017564186,1.4570667268056781,-1.0712863168815367,1.8541033434650744,null,94.743776297264503,100.11481056257175,100.75657911774303,96.562481411226614,95.260206436386312,97.096188747731404,100,null,95.974045930570156,99.394835494017514,98.720978732371094,94.948176829570841,96.094436552337655,94.33362056298445,101.66520595968444]
[null,"Marzo",99.431054069714193,101.46950213073055,100.96656725083456,101.85620246251857,99.452091398321002,103.82610964669851,98.563571594360894,null,0.89138684802112511,3.2635612531985547,6.1261929145357108,-1.9298491690606712,-1.3685668802311479,-0.81092415469760093,1.9356692473461834,null,95.289083586058737,100.11481056257175,99.924380933636499,96.826855076965785,95.716299780137874,97.096188747731404,100,null,95.834329101297271,98.664927352838049,98.967790680048665,95.062306208202202,96.243626890438406,93.518084302813804,101.45736237273417]
[null,"Abril",100.36956919907473,101.44353696764898,99.923005005473442,100.96867603251319,99.399127761762003,103.81819008819055,98.707805587540179,null,0.35360376092909984,1.9148929721844565,3.0808654225293441,-3.6373279455395258,-2.6957319811053315,-1.279230393211428,1.4383331324193005,null,95.796246879718993,100.11481056257175,99.782077245394234,97.157322159139724,96.182268945742535,97.096188747731404,100,null,95.443517038232045,98.690181311894747,99.858963648990041,96.225211597162897,96.763695126450628,93.525218138797257,101.30911066735631]
[null,"Mayo",101.06780335682636,100.95458229377861,100.71473948519635,100.53525479614919,99.217042691447219,103.86106085691839,98.736288133369698,null,0.94451199071290404,0.74913513052121683,1.8451284086793196,-3.7095100929181446,-2.4925588208977945,-1.2875947611684646,1.4676035832728695,null,96.274483672126109,100.11481056257175,99.640550465368023,97.553882657748446,96.650403355218074,97.096188747731404,100,null,95.25732278183871,99.168168782311312,98.933434147455429,97.034500838093123,97.413106391196251,93.486613699713274,101.27988593709674]
[null,"Junio",100.81620122686013,100.36762622041702,101.11582477675304,100.3834192784267,99.571240867260187,103.39302027479516,98.993699297461617,null,1.1609540248180172,9.2032105300621225E-2,1.6304877975760412,-3.2554043884004846,-2.3070316354567355,-2.0854531144695376,1.9137999709168074,null,96.825216448564944,100.11481056257175,100.01398434788914,97.818256323487617,97.120837510186249,97.096188747731404,100,null,96.041325967723651,99.748110354537957,98.910318507220225,97.444634807841851,97.539045073927909,93.909809859187575,101.01653005158904]
[null,"Julio",100.29194564676344,100.60968138709879,101.35769091033205,100.29511064441542,100.59124241596832,103.16128383256438,99.049915601639768,null,-0.26123162543327805,0.60287446332205619,2.4425657414756552,-3.2300899320095722,-1.6822786329025341,-2.8416617379776743,1.8470431787768193,null,97.365891076971309,100,100.24563248097868,98.148062471497198,97.593538392047023,97.096188747731404,100,null,97.082463052319341,99.394013201619217,98.902837644222615,97.859269351094966,97.019915499676316,94.120764244581423,100.95919758496443]
[null,"Agosto",100.15745918138448,100.18987647596414,101.78046524577938,100.23735044966602,100.96041655607188,101.99610128789907,99.310344827586235,null,-0.73759064729166379,-7.8774085955812811E-2,-0.22541110591486335,-3.0639329119121372,-0.70895855454541357,-3.8997486010783011,1.9610187919822053,null,97.875479042190307,100,100.22323162741556,98.549910443420714,98.076410653649432,97.096188747731404,100,null,97.721607399143863,99.810483371531362,98.47000736869947,98.316555656473923,97.143429077651717,95.195980553867514,100.69444444444441]
[null,"Septiembre",100.82961415441314,100.50707135409885,102.86072285872166,101.03366504701269,101.56056050433399,100.75861477951948,99.392038274056688,null,-0.54698362653167187,2.6109314822297947E-2,-0.57270287001645048,-2.5973300140780697,-1.5365332112216024E-3,-5.1398852215384316,1.558675227400963,null,98.394531704360972,100,100.90147250003882,99.001989411834685,98.553793572995573,99.092558983666052,100,null,97.584953120694266,99.495486887372948,98.095239558666279,97.989110229513471,97.039434484796786,98.346487990630777,100.61168050932507]
[null,"Octubre",100.90966440394287,100.70115370148525,102.96304672415231,101.00692862227763,101.12675260767118,101.09579031344795,99.825021872265978,null,0.16562001056654729,0.59964648725128189,-0.20585566430940672,-2.182169835812986,0.4682151970744286,-1.9068174984895325,1.9096750837179766,null,98.923547562391221,100,101.13325011783107,99.355589189760821,99.033512558294362,99.516031457955222,100,null,98.031787288875336,99.303728233776013,98.222860856843681,98.365122615803813,97.93008279668814,98.437364354544655,100.17528483786151]
[null,"Noviembre",100.67463805282854,100.53332709099797,101.7040113645759,100.33909138323958,100.65309015396679,100.91924802182542,100.14524097600321,null,0.1494998687736171,-7.3845164825003806E-2,-0.64746726545600319,-2.2985022416055823,0.37563610815396498,-0.98158333477440518,2.357319323263507,null,99.453356949295156,100,100.49825713590197,99.734965400096499,99.515597326285857,99.758015728977597,100,null,98.786902911046454,99.469502197499907,98.814447716962022,99.39791563306504,98.869887823671448,98.849345079744637,99.854969667467259]
[null,"Diciembre",100,100,100,100,100,100,100,null,0.11012427815313419,-0.98546194107688168,-0.85324861412054975,-1.949180842351661,-0.23916631661967669,-1.5329900000337626,2.6619236651715283,null,100,100,100,100,100,100,100,null,100,100,100,100,100,100,100]
[2001,"Enero",99.737046491607856,99.29895675910403,100.17696193463006,99.831863814492237,100.40714669099542,98.712074437059499,100.63218390804597,null,0.74106015628569999,-1.3175802690823968,-3.1788752831080624,-2.2566426520491456,0.24770386609258566,-3.15141560016311,3.0023744449659828,null,100.48761331948386,100.45924225028702,100.90820570457805,100.10574946629566,100.49540282031673,100.54446460980036,100,null,100.75254567312572,101.16847702035562,100.72995203270905,100.27434692826364,100.08789825448672,101.85629790802263,99.371787549971444]
[null,"Febrero",99.510385417698799,99.882647213000439,99.017459857410941,99.330666666058875,100.0808488923871,99.210777842385497,101.03448275862068,null,0.8025505620753659,-0.83565825419726902,-2.9830048388820307,-2.329915663169646,0.95729522081027252,-3.6119543573660318,2.7169149868535802,null,101.01194188287543,100.45924225028702,100.07238194879658,100.45670550756438,100.96981819298448,100.78644888082273,100,null,101.5089444773767,100.57727248263355,101.06538997557072,101.13362658210193,100.88825115937343,101.58820550821656,98.976109215017061]
[null,"Marzo",98.579718073721054,99.909424345093242,98.258898184386879,98.995704328528319,100.76690462900245,99.858820855812837,101.08717732122564,null,-0.85620735288216565,-1.5374844193355219,-2.6817481669164089,-2.8083691172787084,1.3220568941234356,-3.8210897089235418,2.5603838071642349,null,101.54626222466841,100.45924225028702,99.605848565050522,100.77858044560182,101.4464375572047,100.78644888082273,100,null,103.00928447444826,100.55031635783895,101.37081771274907,101.80096311164858,100.67436122078387,100.92893949383732,98.924515106628306]
[null,"Abril",98.221437741440923,100.17259854573285,98.803893902193067,99.182075451572871,100.96253609791133,99.63771932037541,101.31149927219795,null,-2.1402218568589926,-1.2528530253449688,-1.1199734267590022,-1.7694602436551743,1.5728592104917283,-4.0267228356263507,2.6377789164289123,null,102.04123433755431,100.45924225028702,100.19837056450152,101.18902056166186,101.94160181813629,100.78644888082273,100,null,103.8889642464496,100.28614981413635,101.41135800142538,102.02349577880018,100.96973170253519,101.15290631728904,98.705478369563664]
[null,"Mayo",98.478360418544909,100.46486820395867,99.235331420139659,98.809734755227595,101.1586654622058,99.827074688817859,101.68085895969989,null,-2.5620849096118725,-0.48508356797006824,-1.4689091910664587,-1.7163332846973467,1.9569448131978584,-3.8840217255799558,2.9822579742442512,null,102.54458258855222,100.45924225028702,100.48284845628336,101.58558106027058,102.43917478594039,100.78644888082273,100,null,104.12905145122784,99.994400078582473,101.25712991360105,102.80928423896627,101.26584244452394,100.96103606661364,98.34692686814725]
[null,"Junio",98.894592705342063,100.48733088778619,99.043880823807797,98.764867605706883,101.17904580992402,100.56289751971305,102.56853120012927,null,{"$f":"(C83/C71-1)*100","v":-1.9060513073627883},0.11926621349624966,-2.0490798126996945,-1.6123695370751867,1.6147282374508354,-2.7372473959656918,3.6111711432520677,null,103.09038802544583,100.45924225028702,100.85692976231788,101.98214155887931,102.93921795776002,100.78644888082273,100,null,104.24269437319511,99.972047583261485,101.83055118946255,103.25750849585155,101.7396607506486,100.2223000396999,97.495790209652498]
[null,"Julio",98.598385090925206,100.24503852850428,97.935892550776629,98.362947977639507,101.79214800460826,100.51873453799095,102.19061891354583,null,-1.6886306721011213,-0.36243317101019024,-3.3759632138646301,-1.9264774268270779,1.1938470584486049,-2.5615707719016112,3.1708288622247727,null,103.69814975517598,100.45924225028702,100.87402174307127,102.37870205748804,103.44161948308714,100.78644888082273,100,null,105.17225982915225,100.21368012315325,103.00005352049182,104.08258817208429,101.6204309574096,100.26633278270192,97.856340496969565]
[null,"Agosto",98.413229072292751,99.907528951788308,97.330125914298364,97.883588754580956,102.07066912117632,99.781930265954102,102.10097801976204,null,-1.7414879763802182,-0.28181242866744949,-4.3724886899802806,-2.3481882596916859,1.0996909511440389,-2.1708388791206179,2.81001258934368,null,104.32646184804737,100.45924225028702,101.50823781678433,102.57698230679242,103.95477805557425,100.78644888082273,100,null,106.00857509858849,100.55222394576984,104.29272217952837,104.7948727789078,101.84588672791118,101.00671395330923,97.942254755527031]
[null,"Septiembre",98.890141587058466,100.34619474716011,98.754045959410476,98.018723320574523,102.98554076635968,99.327834460760798,101.66931534232884,null,-1.9235148161774296,-0.1600649633615836,-3.9924635810227316,-2.9840961673866406,1.4030842828647749,-1.4200079287408962,2.2912067282421011,null,104.99600013971531,100.45924225028702,102.85449027051945,103.03963622183593,104.46215919851969,100.78644888082273,100,null,106.17438548945906,100.11265748881833,104.15217854749397,105.12240185463372,101.43381140805967,101.46848507065576,98.358093258808594]
[null,"Octubre",99.231266289408552,101.3583920039076,99.604711708579472,98.087421435786823,102.9577518544319,98.746245196892644,101.3271864067966,null,-1.6632679579783982,0.65266213768575554,-3.2616896279012875,-2.8904028924674141,1.8105982833882095,-2.3240780939251082,1.5047976011993924,null,105.70445525768829,100.45924225028702,104.86901327477172,103.63447696974903,104.97208112273803,100.78644888082273,100,null,106.52333605156326,99.112900534584327,105.2851933165515,105.65521598260548,101.95646197787428,102.06610760729392,98.690197118995926]
[null,"Noviembre",98.941659879022041,99.893832779333266,98.432766713094395,98.175392879884029,102.80119282315522,99.270464477586884,101.59785172915724,null,-1.7213651892119319,-0.63610180839420716,-3.216436212879703,-2.1563863829416441,2.1341646499899003,-1.6337651900477534,1.4505040269483294,null,106.51296283673686,100.45924225028702,104.53597861948589,104.4275979669665,105.48443073952416,101.39140955837871,100,null,107.65229021523632,100.56601038845186,106.20038642638254,106.36840342949476,102.61012332900145,102.13653183950871,98.427278035940319]
[null,"Diciembre",98.230190787090592,100.59585641812484,95.942529023043434,97.954975830756979,102.85023170264827,99.876220771562956,101.55172413793103,null,-1.7698092129094123,0.59585641812482937,-4.0574709769565676,-2.045024169243026,2.8502317026482649,-0.12377922843704869,1.551724137931032,null,107.32691660113269,100.45924225028702,102.89437155894403,104.95634529844482,105.99941358966329,102.66182698124619,100,null,109.26062114015318,99.864195034763654,107.2458404074703,107.1475383545442,103.06191034758159,102.78905848475634,98.47198641765705]
[2002,"Enero",98.037217733722315,99.595324325580236,95.616244627145591,98.404573167038649,103.23196821903944,100.00863102225229,100.98505747126438,null,-1.7043103016175287,0.2984598994279386,-4.5526608308011358,-1.429694481218724,2.8133669974085285,1.3134731415451073,0.35065676756140807,null,108.07049384964253,100.45924225028702,103.65289294722722,105.55118604635794,106.4169090231909,103.145795523291,100,null,110.23415020117307,100.86742819560746,108.40510767957939,107.26248044101381,103.08522724026106,103.13689375504069,99.02455125943294]
[null,"Febrero",98.801823906598599,99.672226776007136,94.25024773600866,98.348474460920997,103.20525594151775,100.95105845016646,101.47244480457769,null,-0.71204780096668641,-0.21066766136522697,-4.8145166804594464,-0.98881064439033661,3.1218830412701681,1.7541245473810418,0.43347779292672861,null,108.97036431259399,100.45924225028702,102.66867972217761,106.21212021070581,106.8222453572546,103.75075620084692,100,null,110.29185495159291,100.78960358340198,108.93199984974964,107.99569672319569,103.50465621420138,102.77332183898054,98.548921525037244]
[null,"Marzo",99.443720294648188,99.654040829915459,93.856407942368691,98.824609624853323,103.99212994495977,100.37379431024949,101.68914675359629,null,0.8764502859310408,-0.25561504017446168,-4.4805003143397082,-0.17283043222481309,3.2006791593249373,0.51570151742552639,0.59549534206277954,null,109.91727970163312,100.45924225028702,102.31712875440894,106.74086754218411,107.34503710630267,103.75075620084692,100,null,110.53214760665846,100.80799675925418,109.01453720372022,108.01041152338631,103.22419317992382,103.36438600712796,98.338911469392826]
[null,"Abril",100.63021404167478,99.84450734739562,92.835663106486336,99.139432040427124,104.50585385848815,102.65182517425482,102.25787799942178,null,2.4523936480900899,-0.32752589340830918,-6.0404813616098396,-4.299507844698347E-2,3.5095371981747725,3.0250650802110979,0.9341276498940676,null,110.8029291388889,100.45924225028702,101.19838092327772,107.26961487366245,107.8801117745648,106.23109497882636,100,null,110.10900671740717,100.615692259117,109.00808755704044,108.20075591104859,103.22877407484346,103.4868058103162,97.791976477905649]
[null,"Mayo",100.87127267848534,99.870624142412012,93.020209845258094,99.14486392949766,104.72247067352615,103.01981281542049,102.43556327830871,null,2.429886372772927,-0.59149439218917355,-6.2630128664237112,0.33916615108851023,3.5229855940041244,3.1982687427785317,0.74222850429295217,null,111.76498116386276,100.45924225028702,101.75840226235673,107.79836220514073,108.60096559593944,106.23109497882636,100,null,110.79961439576533,100.58938062411191,109.393864442614,108.72813571240221,103.7035937917322,103.11715006622997,97.622345989652544]
[null,"Junio",101.21019996127137,99.276961057663016,92.898745327636192,98.57098116085146,105.31834203862485,102.95967159470229,102.40356601213279,null,2.3414902600678023,-1.2044999299212988,-6.2044575041474541,-0.1963111474309498,4.0910607483657824,2.3833582107351425,-0.16083411360801048,null,112.79169561860152,100.45924225028702,102.15423699844099,108.32710953661906,109.34561757329134,106.23109497882636,100,null,111.44301232658553,101.19089180412895,109.96298888447033,109.89756646517215,103.82390707706878,103.1773832739113,97.652849304243944]
[null,"Julio",100.75703323617886,99.21972921436759,91.712346779358654,98.375849963815952,105.42670938710832,102.66474577888971,102.33973784338328,null,2.1893341795233168,-1.0228030525871401,-6.3547138942867782,1.3116713601735164E-2,3.570571457373628,2.1349365874554271,0.14592232772716596,null,113.80689373122361,100.45924225028702,101.57013150466403,108.85585686809736,109.50836625287752,106.23109497882636,100,null,112.95181098122977,101.249260651822,110.74859064398517,110.65302806342827,103.87155863015897,103.47378174745354,97.713754312167652]
[null,"Agosto",100.74300945315127,99.934074218063472,91.044601521384394,98.557754656705498,106.13661588039734,102.09645223986067,102.32599805451331,null,2.3673447186120633,2.6569835680723131E-2,-6.4579433488543225,0.68874252640536149,3.9834624326739787,2.3195802764463869,0.22038969568705102,null,114.75729715926836,100.45924225028702,100.47779855287897,109.38460419957568,110.00505679859573,106.23109497882636,100,null,113.91092819461004,100.52551448175481,110.36107234680897,110.98528429404875,103.64477507230647,104.0497418355458,97.726874793565017]
[null,"Septiembre",101.39015151139961,100.44150867396509,91.576001927229939,99.102045491288933,106.52430885536471,100.84806902291535,102.58446835355006,null,2.5280678985986071,9.498509340104544E-2,-7.2686075415389411,1.1052196294899286,3.4361795478001556,1.5305222049868838,0.90012705223776468,null,115.76107388194663,100.45924225028702,100.62838926209257,109.97944494748879,110.74203195143883,106.23109497882636,100,null,114.17388390915981,100.01765562520521,109.88510870135609,110.97595857106298,103.95939963506433,105.33775808309016,97.480643614935076]
[null,"Octubre",101.77971109242756,100.4833937715141,90.835586966643319,99.256547201223952,107.09981060744192,98.161068087222176,102.48875346809352,null,{"$f":"(C99/C87-1)*100","v":2.5681873247353826},-0.86327161973895894,-8.8039256291334915,1.1919222142081631,4.0230664310408892,-0.59260694774132538,1.1463528224632702,null,116.77692987748121,100.45924225028702,99.926711658284674,110.57428569540188,111.23488408490265,106.23109497882636,100,null,114.7349787340568,99.975964664089673,110.0083293290985,111.40251077970036,103.86095311841139,108.22120933365707,97.571681395394947]
[null,"Noviembre",101.63662148903126,100.67497121129877,89.057841723140541,99.051803970533712,107.76666830799438,97.694744723387402,102.3863671009925,null,2.7237885571198106,0.78196862632256003,-9.5241912860981497,0.89269934648690263,4.8301730247245933,-1.5872996691329577,0.7761142173924096,null,117.81733100971805,100.45924225028702,98.416920025068251,111.0369396104454,111.705473427291,106.23109497882636,100,null,115.92015681319457,99.785717384950658,110.50898845159851,112.0998660897454,103.65493819298524,108.73777835195615,97.669253076790355]
[null,"Diciembre",101.55116933325462,100.18027035711309,88.777917462912754,98.613758830786793,107.22698096682592,95.74059791902522,102.36499876809032,null,3.3808124768505143,-0.41312443256547038,-7.4676075699546036,0.67253653471166519,4.2554588275808047,-4.1407482387591958,0.80084768334869327,null,118.87367732470895,100.45924225028702,98.883582893516959,111.5656869419237,112.11925426831438,106.23109497882636,100,null,117.05791090854704,100.27846989450065,111.38308457711443,113.13399698449925,104.56253944424867,110.95720863230218,97.689641189320724]
[2003,"Enero",102.13890797146475,99.443311111319744,89.830467972665005,98.681074690343138,107.33506807245911,93.102161138204053,102.61226090595885,null,4.1838093048325531,-0.15263087428035726,-6.051039420176096,0.28098442420469993,3.9746407282612584,-6.905873836540688,1.611330899284269,null,119.80637895480039,100.45924225028702,100.7993090696265,112.09443427340202,112.79404714263634,106.23109497882636,100,null,117.29749351566548,101.02161837494531,112.21060219824221,113.59263630351555,105.08592314535265,114.10164241099974,97.454240962146898]
[null,"Febrero",102.99046821585254,99.96476355834136,90.241292269774178,98.626668367741331,107.10314591628924,93.364449725513751,103.40288922334103,null,4.2394402690517641,0.2934987927897259,-4.2535224707986092,0.28286550284100098,3.7768328165188159,-7.5151353944424066,1.902432155331546,null,120.85601709255374,100.45924225028702,101.18478502949661,112.62318160488032,113.32835412844757,109.92135511191772,100,null,117.3467983845434,100.49465299005793,112.12692381111644,114.19140833689249,105.81234860927793,117.73362927225548,96.709096574670085]
[null,"Marzo",103.85156830061183,100.26885374213734,91.302776540206324,99.251672223158721,108.10572393084743,115.39962275029261,103.92028072273997,null,4.4325051324541676,0.61694729797381331,-2.7207853551463379,0.43214195323064697,3.9556781730164303,14.969871910589694,2.1940728586797631,null,121.9229646238724,100.45924225028702,102.19515416448701,113.08583551992386,113.94096472424839,137.44706594071386,100,null,117.4011780649769,100.18987801400353,111.92995222821519,113.93846872993758,105.39771677319661,119.10529918986703,96.227607647443421]
[null,"Abril",103.49657175474883,100.08960077812354,90.71523944519231,98.919901013043415,108.65674484990866,120.17378173132829,103.69461236069279,null,2.8484066543741804,0.24547512651362791,-2.284061523707559,-0.2214366401596779,3.9719219911271697,17.06930834140492,1.4050109286241286,null,122.9429408654823,100.45924225028702,102.22260492145456,113.54848943496738,114.53438325877727,143.85964912280699,100,null,118.78938478929975,100.36931056702174,112.68515141076674,114.78831688276262,105.40936360369307,119.70967964079971,96.437025727198446]
[null,"Mayo",103.60501412149885,100.05452511848863,90.294461981551635,98.897704422776457,108.18139334762415,127.63542440422448,103.73241181133568,null,2.7101288309576255,0.18413920775579573,-2.9302749028848885,-0.2492912864321073,3.3029421974594575,23.894055828763271,1.2660139618733357,null,123.91991055505312,100.45924225028702,102.17042258627565,113.87895651714133,115.08481157605696,154.86993345432546,100,null,119.60802438550971,100.40449657955909,113.15247950328384,115.14823036773605,106.38133602721287,121.337735332668,96.401884670218564]
[null,"Junio",103.92749475000281,99.830338625936406,90.352666267990045,99.111204427421583,107.69158159974718,137.15187257596432,103.74172993079054,null,2.6848033002318195,0.55740784405353683,-2.7407033869689124,0.54805507686745969,2.2533962415131503,33.209314338004717,1.30675519493062,null,125.00224663623449,100.45924225028702,102.39999896412237,114.34161043218485,115.70586667881746,174.77313974591652,100,null,120.27832185979939,100.62997244425576,113.33367701667973,115.36698710579832,107.44188632019227,127.43037077318422,96.393225818302071]
[null,"Julio",104.12424360399312,100.31126336700208,90.208548714833043,99.307652007669205,108.70669853664143,157.94647446859625,103.75102945120456,null,3.3419109908897182,1.1001180524048859,-1.6396898752830347,0.94718576174537272,3.1111557674531554,53.846847104426153,1.3790260142947375,null,126.10638780569938,100.45924225028702,102.38925173380018,114.87035776366315,116.57488321321161,208.40895341802783,100,null,121.11145631492803,100.14751970847335,113.50282561076637,115.67120502938897,107.23799433014524,131.94910118710172,96.384585800212491]
[null,"Agosto",104.91542271454534,100.37873537434417,90.331819779920195,99.2027314739139,109.04908731128532,150.5762653278675,104.04211463903964,null,4.1416404811039254,0.44495449601145154,-0.78289292231872309,0.65441508834589435,2.744077910087106,47.484326854091478,1.6771071058716558,null,127.10796367265513,100.45924225028702,102.42978044573815,115.33301167870667,116.41981135813421,203.9927404718693,100,null,121.15279182403088,100.08020311836228,113.39280078193133,116.25991539258611,106.75908824968781,135.47469784012227,96.114924563900672]
[null,"Septiembre",105.95945717702341,100.628916715195,90.941201342454093,99.541641989936508,110.20510825147922,139.91181940959152,104.58883169941431,null,4.5066563147507122,0.18658425555737601,-0.69319534748883971,0.4435796420430238,3.4553609740967106,38.735248741153242,1.9538662899303061,null,128.12416217424197,100.45924225028702,103.20953732526038,115.86175901018501,117.52680945230061,191.77253478523895,100,null,120.91809979753731,99.831385976867665,113.49040457097973,116.39526603539294,106.64370401425845,137.06671501699606,95.612503146987535]
[null,"Octubre",105.49785286925901,100.20643015534675,91.719631868453121,99.393984590465521,110.62637032562063,150.02091217613966,104.78994056285377,null,3.6531266761554715,-0.2756312319597054,0.97323629574215254,0.13846682472535843,3.2927786689602723,52.831377143163124,2.245306940411429,null,129.19402900042832,100.45924225028702,104.65212639778736,116.32441292522853,118.56625149078972,211.1917725347852,100,null,122.46128758708996,100.25229128963913,114.10002882249069,117.03365490831432,107.17720480369974,140.77488896136347,95.429007271952088]
[null,"Noviembre",104.62986705188773,99.866460091405443,90.879580161153953,98.870089224514004,109.62122215136394,160.65277687167932,104.40211317143539,null,2.9450463022125506,-0.80309049028323143,2.0455676925977606,-0.18345425195260834,1.7208974467590288,64.443622148306034,1.968764130926326,null,130.3029957749674,100.45924225028702,104.44754056755734,116.78706684027205,118.77429343497774,240.41137326073806,100,null,124.5370938972406,100.59357481815118,114.92960286826121,118.12173707568141,108.34972563157098,149.64657190629552,95.783501849041301]
[null,"Diciembre",104.0867191167174,99.557656703516713,89.703984825946733,98.811652633080897,109.07324960531476,145.7830901475574,104.49814564581574,null,2.4968198791901708,-0.62149328543129601,1.0431280542493537,0.20067565078183414,1.7218321562742167,52.268831944058626,2.0838635308911613,null,131.39535948384002,100.45924225028702,103.81384243265499,117.18362733888077,119.20880170217481,226.49727767695097,100,null,126.23643112095803,100.90559136948676,115.72935431361908,118.59292321930982,109.29242700069533,155.36594638493187,95.695478022106073]
[2004,"Enero",103.50572441784227,98.948873816213634,89.682787474147773,98.646934285742702,108.62365036262561,165.09889144959365,104.58883169941431,null,1.3381937143477129,-0.49720518110325518,-0.16439911964186704,-3.4596709356449207E-2,1.2005231033129116,77.330890530580888,1.9262520638415159,null,132.24056946887487,100.45924225028702,104.86564667250211,117.51409442105472,120.00258535638291,278.82637628554147,100,null,127.76159986575514,101.52641296037257,116.92951303808547,119.12594676349599,110.47555937935269,168.88446302540439,95.612503146987535]
[null,"Febrero",103.50610998493984,99.047043967185317,89.444187270599201,98.496932796425256,108.21050929699761,159.36579698756159,105.15356621183012,null,{"$f":"(C115/C103-1)*100","v":0.5006694095288422},-0.91804307686922382,-0.88330406084173863,-0.13154208031477266,1.0339223663643704,70.692161155651974,1.6930638995084291,null,133.23095454402099,100.45924225028702,104.79818514240726,118.04284175253301,120.39256804142906,297.82214156079851,100,null,128.71796125214843,101.42578539100022,117.16600970989539,119.84418032235125,111.2577408826311,186.8795859528399,95.099009574769568]
[null,"Marzo",104.48405293051765,99.052644718944464,89.328694429886866,99.224392189961151,108.8745286560973,148.09208450803442,106.04312199635224,null,0.60902751904046148,-1.2129479671929011,-2.1621271390910524,-2.7485716448416575E-2,0.71116005452371844,28.32978217657034,2.0427593717496029,null,134.24545068879326,100.45924225028702,104.73059412760976,118.57158908401135,120.92917807459291,281.42770719903206,100,null,128.48415324974718,101.42005045431517,117.24182783149448,119.49842822620749,111.0720565841187,190.03561745649128,94.301259824696487]
[null,"Abril",104.61404129210665,98.535875719866027,88.543557506797413,98.962238601763488,108.75319846983487,140.65767524828127,106.38264106357643,null,1.0797164760257383,-1.5523341547757585,-2.3939549205588162,4.2799869678900038E-2,8.8769105000752191E-2,17.045226689086547,2.5922549317543675,null,135.20763157743028,100.45924225028702,104.03694457536785,119.1287565845566,121.41205033619534,268.30006049606772,100,null,129.24424858026393,101.9519454375065,117.4980399532524,120.37799292712619,111.63998120926226,190.74683270747869,94.000298357170848]
[null,"Mayo",105.29923851439406,98.420086045820227,87.661273980635755,99.193507812810651,108.9406567935884,145.84569618266457,106.68471815781828,null,1.6352725852711858,-1.6335483784794658,-2.9162231471669631,0.29910036007476659,0.70184291629935558,14.267411937901908,2.8460789592477109,null,136.20882424454527,100.45924225028702,103.24682891963144,119.62445720781754,121.98973686985137,283.84754990925592,100,null,129.35404487842138,102.07189028824608,117.77929321725178,120.59706309969643,111.97815440105825,194.62182110176965,93.73413711612416]
[null,"Junio",105.2954984199681,98.575321519056459,87.07457015428561,99.272829858003433,109.37336427980685,147.12169164729286,106.59768105595518,null,1.316305827688824,-1.2571500048522255,-3.6281122064305893,0.16307483247286481,1.5616658749708856,7.2691818814260456,2.7529434173402922,null,137.22078720098969,100.45924225028702,102.63993411818329,120.08578925453234,122.47145211840729,291.10707803992739,100,null,130.31970906646785,101.91114845196456,117.87590100797252,120.96541362455275,111.97557369186519,197.86822376799657,93.810671122862487]
[null,"Julio",104.56034569223405,98.107330461589328,86.041277713185849,98.222779034418863,108.76076711737393,136.03902296879534,106.32341347389514,null,0.41882857742479018,-2.1970941561660684,-4.6195965471307554,-1.0924364349753857,4.9738039569180437E-2,-13.870174420484883,2.4793816854611572,null,138.24829518460231,100.45924225028702,102.06333873716159,120.56100091869848,122.7290783947623,271.26436781609192,100,null,132.21866690411136,102.39728446144858,118.62136575584623,122.74240466811874,112.84315258857438,199.40187888464516,94.052661340253437]
[null,"Agosto",104.40276811890556,97.951837706850895,85.990259487776669,98.41959963891685,108.90851887044592,124.53606002038572,106.06357157713391,null,-0.48863606739175669,-2.4177408277187507,-4.8062358344170164,-0.78942567746028702,-0.1289038214855931,-17.293698479492349,1.9429218111410407,null,139.30043308364304,100.45924225028702,102.25743630647474,121.1492323249681,123.10694362161354,249.54627949183302,100,null,133.42599587492941,102.55983410024452,118.91746450772185,123.0946201462331,113.03701941632096,200.38074068746349,94.283078075751746]
[null,"Septiembre",104.64398748793374,97.944593452940865,85.400394972055707,98.929127973736385,108.59374494467693,113.07152877871761,106.49834026952037,null,-1.2414839827764923,-2.6675466157023653,-6.0927349634777421,-0.61533445094470451,-1.4621493797957963,-19.18371924840676,1.8257289416846456,null,140.41008826143593,100.45924225028702,102.1280810885002,121.68458899808989,123.22487388475176,223.53297035692682,100,null,134.17883973279046,102.56741971015926,119.58736387802192,123.00178065897298,113.47327044253667,197.69164949948066,93.898176954612893]
[null,"Octubre",105.26610094688202,98.050147792698411,84.271814445777935,98.988319360757245,107.919777187408,97.949874884972218,106.9530487994101,null,-0.21967453940905379,-2.151840315342568,-8.1201998644707345,-0.40813861259284545,-2.4466075586191294,-34.709185896717386,2.0642327163635343,null,141.55954874658039,100.45924225028702,101.23178797656844,122.18491616050125,123.47765009479608,195.22081064730793,100,null,134.47781144474257,102.45700237258389,120.12532142843901,123.43367070937464,114.41614624571643,199.30685044423609,93.49897092466199]
[null,"Noviembre",104.69714988168458,98.072429881227933,82.853838893254846,98.467187416678584,107.2133396152213,91.278690723938411,107.00907449286186,null,6.4305567514000295E-2,-1.796429160035784,-8.8311821573859746,-0.40750626503482934,-2.1965477932893829,-43.18262497457679,2.4970388455123116,null,142.68963220614935,100.45924225028702,100.46653338374603,122.53719407009866,123.65343787302383,178.82637628554141,100,null,136.28798144686752,102.4337241077331,121.25754790092778,124.44469806125798,115.33400444086948,195.91251240268181,93.450018583863738]
[null,"Diciembre",103.9894502458684,97.562083946958467,82.13889576012096,97.980015319032148,107.12358940890853,90.129461265299142,106.19589999057044,null,-9.3449838437054122E-2,-2.004439259253632,-8.4333924301182037,-0.84163890784914042,-1.7874778678192316,-38.175640827703184,1.6246741358540762,null,143.82497194671964,100.45924225028702,100.55587782859334,122.86766115227262,123.86922888856382,174.59165154264971,100,null,138.30727213834265,102.96955352542862,122.42175512348921,125.40073682597819,115.63207466446481,193.71207715170209,94.165593971970097]
[2005,"Enero",102.98370190489364,96.382613809850639,81.0611523881267,97.778630970872555,107.7182257173253,92.64322420191597,106.00055692155274,null,-0.50434168340418584,-2.5935211866377927,-9.6134780472856836,-0.88021317758847362,-0.83354282633447685,-43.886222742930478,1.3497858224439163,null,144.92187301299856,100.45924225028702,100.37123264257562,123.33031506731614,125.03397613943881,180.49364791288562,100,null,140.72311475735762,104.22963051041447,123.8216206969164,126.1321761643965,116.07504236799591,194.82660439310661,94.339126985914291]
[null,"Febrero",103.1897789026882,96.846368448459501,80.457476513271473,97.557785069969626,108.14159394264647,90.055126706936022,106.09040661530356,null,-0.30561585426953641,-2.2218487605292991,-10.047283151156439,-0.95347915898729152,-6.3686378336880178E-2,-43.491559412861491,0.89092594499950994,null,145.95787509826462,100.45924225028702,99.786350240582564,123.79296898235967,126.33980398838267,174.51603145795522,100,null,141.44605856352143,103.73052067899711,124.02371359996953,126.89194295829272,116.82813187993855,193.78800279286492,94.259229642329387]
[null,"Marzo",103.82950946161542,97.534193492144695,79.640012324563358,97.768889425580397,108.37560466742787,89.096081304581489,106.19275454930282,null,-0.62645298544985462,-1.5329739363429185,-10.846102886825527,-1.4668800002264115,-0.45825593444852597,-39.83737780411365,0.14110538254024085,null,146.93855543155249,100.45924225028702,98.456801313492818,124.05734264809882,126.8572219602746,171.19237749546278,100,null,141.51906928335626,102.99899825221594,123.62730547082776,126.8883623174718,117.05330027874932,192.14355445132213,94.168383167396158]
[null,"Abril",104.18039814329867,97.702613549235778,79.570193660191762,97.754362091479962,107.58557105551874,89.25411744266809,106.5961564459684,null,-0.41451715606429795,-0.84564344158181148,-10.134406273338147,-1.220542832649707,-1.0736488036625413,-36.545149573159385,0.20070509648690837,null,147.8535077876042,100.45924225028702,98.340912504596702,124.32171631383797,127.2003760158172,170.88384754990923,100,null,141.92065918603399,102.82144827135262,123.5901384437572,127.17766619713184,118.23181748989033,191.45766318251432,93.81201286623137]
[null,"Mayo",103.35907670779933,96.90340467126768,78.963940013862327,97.488041506261908,107.15121581772196,90.861418262439372,106.79705889490157,null,-1.8425221625221089,-1.5410282956331178,-9.9215235780108042,-1.7193325895553113,-1.6425832453506484,-37.700308860235474,0.10530162053490333,null,148.85279123781351,100.45924225028702,98.17853868743947,124.58608997957714,127.87593657258999,173.61766485178464,100,null,144.01520986746709,103.66946609469716,124.33338390941988,127.79627947657011,119.34156378600822,191.07963332722417,93.635537377868701]
[null,"Junio",103.6609590977282,96.919125648960801,78.721460137330993,96.911798081800413,106.58987221538284,91.488333430826074,106.74825585198694,null,{"$f":"(C131/C119-1)*100","v":-1.5523354243697995},-1.6801323541972724,-9.593053404861962,-2.3783262546057782,-2.5449450903814896,-37.814517759788465,0.14125522669927726,null,149.89231406245074,100.45924225028702,98.468713906139129,124.65218339601192,128.06171572570253,174.82516636418632,100,null,144.59861780859765,103.6526501633418,125.08496886917328,128.6243634555172,120.14435617948034,191.09012024617417,93.678345563468682]
[null,"Julio",103.51851783503842,97.207919511318522,78.100810211169275,96.55790083906048,107.00841995159186,91.455606683686625,106.82734318160733,null,-0.99638907111322395,-0.91676222973260391,-9.2286722292592049,-1.6950021285540906,-1.6111941945857633,-32.772520202041775,0.47395930138747211,null,150.90772581746194,100.45924225028702,98.151476384579922,124.71827681244672,129.03897548567053,174.99697519661223,100,null,145.77848386309049,103.34470972664931,125.67280175352546,129.16423796362665,120.58768416919415,191.34636086540476,93.608992811886381]
[null,"Agosto",103.39934498373084,97.450569123039514,78.202549917637043,96.268405768997482,107.35400312873671,90.942660463429334,107.37405425213757,null,-0.96110778790070572,-0.51175005548295127,-9.0565019997952625,-2.18573726962078,-1.4273591798254159,-26.974837289261732,1.2355634036429031,null,151.84032571308231,100.45924225028702,98.140340700149693,124.71827681244672,129.64237389206082,175.44464609800363,100,null,146.8484406134036,103.08738384426344,125.49506480736387,129.55265625953817,120.76156464943031,192.91787287062598,93.132368612233179]
[null,"Septiembre",105.15748282702586,98.228353589432814,78.839655716726128,97.134450091233163,108.35027285810324,93.517245619160406,107.74831283733276,null,0.49070696885602505,0.28971495667935443,-7.6823289370925636,-1.8141046214211753,-0.22420452181451944,-17.293728466186376,1.1737014536085999,null,152.81964207778415,100.45924225028702,98.569323520119326,124.78437022888149,130.13829675532816,184.04597701149422,100,null,145.3245532028929,102.27112496477207,125.02505575910001,128.46561658781025,120.10887773744582,196.80431752770284,92.808877806717618]
[null,"Octubre",104.75481771788122,96.589545810509236,78.179145741669331,97.321219962893736,107.93429947192296,98.717744329197515,107.34757863499463,null,-0.48570548771327271,-1.4896479149396513,-7.2297822755777226,-1.6841374907961226,1.3456555316770924E-2,0.78394122006490985,0.36888133626229447,null,153.81550046746989,100.45924225028702,99.260901317118382,124.8504636453163,130.57817879968135,196.04658197217179,100,null,146.83381997925449,104.00633050637738,126.965957961616,128.28698992153903,120.97931745380789,198.59305265161689,93.155338268059111]
[null,"Noviembre",102.92230855905368,97.04944822276704,76.861644977643948,96.411758033977634,107.82526053824631,101.32974221868785,107.09792060692632,null,-1.6952145542038166,-1.0430879093133449,-7.2322465629274806,-2.0874257065991886,0.57075073421006817,11.011388764490126,8.3026710104294743E-2,null,154.82302101868081,100.45924225028702,98.418862295608392,124.91655706175106,131.12400102225578,201.15910465819721,100,null,150.42707765328456,103.51346049870698,128.04678110159443,129.56568743174222,121.6078684787831,198.51930958637948,93.372494473560039]
[null,"Diciembre",102.14961963919919,96.770847558715175,76.594341025560098,95.608304725422414,107.16704523006855,99.569741143597994,106.25682119912277,null,-1.7692473633807992,-0.81100808452745365,-6.7502182531808286,-2.4206064735622035,4.0566061499447414E-2,10.474133258725548,5.7366817888193644E-2,null,155.84245806759444,100.45924225028702,98.438673455118021,124.91655706175106,131.31822468232798,200.37931034482756,100,null,152.56293524933596,103.81147296383237,128.51951219512196,130.65450477393054,122.53601319361857,201.24518557886324,94.111605138838442]
[2006,"Enero",102.37993930659064,96.991859031211774,76.577806016513378,95.98306320482402,107.38657563086096,103.10057299544465,106.9645426201087,null,-0.58627004772131563,0.63211112178704898,-5.5308199298064959,-1.8363601005862096,-0.30788669629098209,11.287764306148151,0.90941569228675245,null,156.83284314274059,100.45924225028702,98.556763503959644,124.91655706175106,132.18109975711511,209.10405323653961,100,null,153.18708352920908,103.57492190964135,128.70147191564442,130.14437432069045,123.08903508710884,202.81560728646829,93.488924040143175]
[null,"Febrero",102.28824335003462,96.708584963967652,76.623928651935742,95.508118204332305,106.64365661201944,102.26221905728711,107.38523935434533,null,-0.87366749133532817,-0.14227016118335545,-4.7646881650624362,-2.1009772456060505,-1.3851629849486624,13.555133168682666,1.2204993649774343,null,157.76164252919457,100.45924225028702,98.394778140910432,124.91655706175106,132.87815542251255,206.73744706594067,100,null,154.23242922388226,103.87830851595731,128.41259887347826,130.79155930441604,124.60014936091032,202.16405332464643,93.122668069886373]
[null,"Marzo",103.2471851344816,96.89971606388039,76.785349236053037,95.828866892410815,106.860571618649,97.884022383734759,107.56837098692031,null,-0.5608466515476529,-0.65051794201322899,-3.5844583710967881,-1.9842943338803987,-1.3979465705663552,9.86344287029981,1.2953957578893283,null,158.63049124524014,100.45924225028702,98.525946144722454,124.91655706175106,133.2857852572177,196.98185117967333,100,null,153.64146832537918,103.67341240098169,128.31347011502754,130.35378702953636,124.7286845262926,201.24004549735943,92.964129773945743]
[null,"Abril",104.21096409576539,97.070180965128657,76.549169095729042,96.119304236936543,106.61759400101026,96.763660033858997,107.2578138004184,null,2.9339446778342548E-2,-0.64730365046827831,-3.7966786625707405,-1.6726188167575651,-0.89972757964816852,8.4136651690210442,0.6207140824870061,null,159.44245101400443,100.45924225028702,98.202622842137416,124.91655706175106,133.72414148338035,194.23049001814877,100,null,152.99968904182066,103.49135156797105,128.28698730789554,129.95990561253811,125.42408477358178,200.72668804609575,93.233300639593963]
[null,"Mayo",103.51597607704798,97.43035192675886,76.358563640412711,95.959297004844586,106.64010405879532,97.854455626594344,107.89170358432861,null,0.15180028135526324,0.54378611079639594,-3.2994508290648095,-1.568135412094751,-0.4770004288109142,7.6963770738826209,1.0249764373233106,null,160.09485722075669,100.45924225028702,98.08336743097172,124.91655706175106,134.28608503742322,196.56684815486994,100,null,154.65714886521138,103.10877489779062,128.45103778125701,130.17660712483604,125.9245630174793,200.87674791728963,92.685532508845398]
[null,"Junio",103.29776622367568,96.822080548884387,76.320189993334409,95.86149164224237,107.08271544574629,98.127273475518493,107.90142728291998,null,-0.35036611392926797,-0.10012997891448716,-3.0503374045749765,-1.083775619013394,0.46237341327097781,7.2565974214757079,1.0802719180086573,null,160.96656225318796,100.45924225028702,98.424430137823521,124.91655706175106,135.04225252406994,198.216575922565,100,null,155.8277280697815,103.75654156653479,128.96250670552527,130.30942344183725,126.1102241962564,201.99947364482469,92.677180013381786]
[null,"Julio",103.22923742730482,95.912187052094779,75.931343843754689,95.630515866562263,107.06310021808989,97.5117040969957,108.22050493875906,null,-0.27944798069324817,-1.3329494816241461,-2.7777770314402317,-0.96044442188522039,5.1099031761014935E-2,6.6218984629942135,1.3041246891101199,null,161.87327750823792,100.45924225028702,98.073267624162881,124.91655706175106,135.33526649223617,198.15124016938896,100,null,156.80952561742103,104.7408523754364,129.16045292964921,130.62415896203362,126.40701251556818,203.20764774276356,92.403930342580665]
[null,"Agosto",103.05472115595686,96.622993952648983,75.825467067443455,95.477900356012114,107.63465736435317,97.16086974700292,108.33131245175956,null,-0.33329401441393181,-0.84922558979173557,-3.0396487744928202,-0.82114729819275922,0.2614287566714335,6.8375053598460633,0.89151723504277136,null,162.69732672330565,100.45924225028702,98.069512567785253,124.91655706175106,136.03025956581857,197.4252873563218,100,null,157.8746950147866,103.97032646237191,129.33585028966149,130.83295359027574,126.38146754659485,203.19423639413407,92.309414274409789]
[null,"Septiembre",103.23917531409255,96.180908785466727,75.979747340067462,95.009641894236665,107.71696899982726,98.704691328742641,108.20680868089049,null,-1.8242234992337569,-2.0843725148075198,-3.6274998294442362,-2.187491868230873,-0.58449678212196821,5.5470471518243691,0.42552484719637906,null,163.52248145295815,100.45924225028702,98.377815644859723,124.91655706175106,136.2528525504917,199.33151845130067,100,null,158.39189043835447,104.4482148472554,129.47899813952236,131.47776854143532,126.49153964841899,201.94736011828817,92.415626353889664]
[null,"Octubre",102.38852412730186,96.04105375334133,75.657082836084072,94.382729707483364,107.14063057507293,99.628534995591494,107.31645158054832,null,{"$f":"(C147/C135-1)*100","v":-2.2588876026228277},-0.5678586150968612,-3.2260046866193881,-3.0193726060264603,-0.73532593506707711,0.92262102683053904,-2.8996512862344836E-2,null,163.37111412471222,100.45924225028702,98.47259844721944,124.91655706175106,136.87163953198109,202.50272232304897,100,null,159.55998537647577,104.60031239171195,130.15648337983987,132.35107466048075,127.74951836416137,203.25775374696576,93.182357902453745]
[null,"Noviembre",100.57343658215564,95.295041401397356,75.05799102055694,93.743194302886295,106.69293267898014,99.098912592255715,107.05620136846272,null,-2.2821796457765275,-1.8077452819130091,-2.3466241941759391,-2.7678820358725154,-1.0501508214436739,-2.2015546251145213,-3.8954293628834513E-2,null,162.34423350367072,100.45924225028702,98.397108865558607,124.91655706175106,137.53385662870684,203.01875378100419,100,null,161.41860019972196,105.41917058111898,131.09478088563486,133.25400098714681,128.90624821657261,204.86476437569857,93.408881243435019]
[null,"Diciembre",99.791592269323388,94.607000299067465,74.168783901489434,93.115477644861016,105.56187481250016,97.128491062386786,106.6143813365634,null,-2.3084054333286308,-2.2360528136687097,-3.1667576110632534,-2.6073332099345925,-1.4978209151165545,-2.4517991642566184,0.33650558468201197,null,162.47930975196115,100.45924225028702,98.34427910686631,124.91655706175106,138.06461806064584,200.15486993345428,100,null,162.81863637715338,106.18584452812128,132.59524281466801,134.15230230378907,130.79022924315933,206.07225309913693,93.795976439911115]
[2007,"Enero",99.337023044979574,93.808486290671198,74.144467008656505,92.803777320341482,105.40111425455268,98.319852609215133,106.74031004312559,null,-2.9721801773086032,-3.2821030263129325,-3.177603452535771,-3.3123405091771918,-1.8488915999456568,-4.6369484158354286,-0.20963262356900048,null,162.7823767410583,100.45924225028702,99.3035017842992,124.91655706175106,138.64345062860804,203.87900786448881,100,null,163.8687890489237,107.08971674375817,133.93245078247759,134.6028800428696,131.53888515236403,207.36301210176958,93.68531903232963]
[null,"Febrero",99.71654880480574,94.516674379413558,74.446989138681289,92.452579510026041,105.23651305486641,97.552026805787975,107.01193623316648,null,-2.5141643467553099,-2.266510863922544,-2.8410700828760738,-3.1992449979688309,-1.3194817224547739,-4.6059945646793494,-0.34762982642990714,null,163.10896982657329,100.45924225028702,99.525827018795994,124.91655706175106,139.31824350293002,201.82577132486387,100,null,163.57261836834894,106.28732222107024,133.68683968319706,135.11419337759469,132.38584162351964,206.8903926790469,93.447519519796103]
[null,"Marzo",99.850068898283737,94.79675690283446,74.458487283496723,92.645197518582762,105.28780241442512,95.999194299285065,107.08978870407013,null,-3.2902749181714208,-2.1702428515472327,-3.030346251865168,-3.3222446190482757,-1.4717956121707787,-1.9255727733179961,-0.44490985450396092,null,163.02328396837694,100.45924225028702,99.486593153884812,124.91655706175106,139.6740911602802,198.37447065940711,100,null,163.26807358986116,105.97329015512264,133.61350301825891,134.83327836469377,132.65932801076673,206.64180788951106,93.379584748587078]
[null,"Abril",99.543056449944231,95.340030730099286,74.461569050147318,92.717824466921272,105.05622348514393,94.198760963703492,107.09389564675922,null,-4.4792864995774835,-1.7823704641602656,-2.7271361273315198,-3.5388102286201928,-1.4644585919388997,-2.6506842230420102,-0.15282630500393912,null,162.96594642052349,100.45924225028702,99.089204601368394,124.91655706175106,139.86411620051103,194.96733212341192,100,null,163.71402710792975,105.36942507883163,133.07429035592199,134.72766189236597,133.13263275667748,206.97441253875556,93.376003735863833]
[null,"Mayo",99.125813727525795,96.320168533327291,74.934168453632438,92.915267116306765,105.12432715015659,93.520728004226811,107.15899097491769,null,-4.2410481124715904,-1.1394635978181911,-1.8654033272391346,-3.1722094508301213,-1.4213948139088606,-4.4287483841356501,-0.6791185837919711,null,162.97658784618974,100.45924225028702,98.854189866009236,124.91655706175106,140.17022612917376,194.43315184513006,100,null,164.41387133948294,104.29720356596717,131.92138100148262,134.44136893605082,133.3375726904379,207.90380485098697,93.319281088981725]
[null,"Junio",98.738605252931123,95.869032146571485,75.086460920610847,92.728404787718375,104.46828143762676,94.127260741776581,106.87951787295535,null,-4.4136104171627277,-0.98432960427009553,-1.6165172974953457,-3.2683476971303138,-2.4415088814628949,-4.0763516523669274,-0.94707682344661315,null,162.94775968825846,100.45924225028702,99.309846534730397,124.91655706175106,140.43061537425254,196.10042347247426,100,null,165.02943227813239,104.78800088092855,132.2606570041049,134.71228945188963,134.42416534639489,208.33541943863113,93.563296307967221]
[null,"Julio",97.789418209283212,95.164164765081949,74.542824994436245,92.082636816534418,104.01120210417731,95.533229911308595,106.36970897552807,null,-5.2696497170701235,-0.77990327402975845,-1.8286504347606813,-3.7099863133420397,-2.8505601908554778,-2.0289607324666337,-1.7102082126472573,null,162.92226163867792,100.45924225028702,99.316709223972268,124.91655706175106,140.98411442133573,199.59286146400484,100,null,166.60520598455878,105.56415064249896,133.23443165909677,135.65701567672849,135.54704836516211,208.92506371793712,94.011726611949726]
[null,"Agosto",96.92664189786079,95.140427189430682,73.571962624764026,91.250313203595425,104.35534131739628,95.714840128967779,105.98315917365466,null,-5.9464323316368972,-1.5343829688664434,-2.9719624947051604,-4.427817470485973,-3.046710164976052,-1.4882839375568113,-2.1675665372839936,null,162.91595410147613,100.45924225028702,99.110310607904779,124.91655706175106,142.09878934001094,199.05323653962489,100,null,168.08170685739168,105.59048894143204,134.71206567288809,136.89438718203667,136.16819948661578,207.96486341242093,94.354613298655138]
[null,"Septiembre",96.543164642959084,94.748488273463181,73.626617845140032,91.147524835236524,103.94634806353821,95.983047666339999,105.70335425298018,null,-6.4859203405700168,-1.4892981674758166,-3.0970483284122774,-4.064973808973404,-3.500489264876272,-2.7573599853911945,-2.3135830900374965,null,162.8500979872513,100.45924225028702,99.576910684425641,124.91655706175106,142.7490163759048,201.48941318814275,100,null,168.68112681981364,106.02727714276713,135.24580321462986,137.04876494184276,137.32951569269954,209.92187483832362,94.604377227868923]
[null,"Octubre",96.241230555676722,94.291559530762555,73.73324603906886,90.244400190458123,102.72282027629517,96.160395803312412,105.362500852991,null,-6.0038892288183376,-1.8216108155913568,-2.5428376629103244,-4.3846257994984867,-4.1233753012889229,-3.4810701496639895,-1.8207373601900501,null,162.91809052536698,100.45924225028702,99.844100417976634,124.91655706175106,143.6663969047043,202.39019963702361,100,null,169.28097197501739,106.54107615805451,135.41259307242825,138.42028624282327,139.8583065751919,210.47147107317952,94.910427514934241]
[null,"Noviembre",94.646456565756552,93.573727357878568,72.030989034932276,89.220281375044721,99.489275229963582,94.887161708075666,104.8657544762938,null,-5.8931863301275422,-1.806299696401148,-4.0328843664302561,-4.8247907077157421,-6.7517662774263298,-4.2500475272714393,-2.0460719362065838,null,161.24945529668656,100.45924225028702,98.795176283724743,124.91655706175106,144.27056299354544,202.10465819721713,100,null,170.37030349325008,107.35838475908346,137.15649001544719,140.00914941822941,145.01117096297321,212.99473454480656,95.360015764351587]
[null,"Diciembre",90.199439216498433,93.907055112425141,71.169064518613752,89.017005179819321,98.484676357381289,94.065738642866293,104.33496715977505,null,-9.6121855906829197,-0.73984502672074237,-4.044450003197964,-4.4014943258661177,-6.7043129611798253,-3.153299702301815,-2.1379987842283898,null,156.34960440550955,100.45924225028702,98.596376942234357,124.91655706175106,144.63597984016349,202.7761645493043,100,null,173.33766790970418,106.97731084210619,138.53825058561392,140.32886953387464,146.86140543865761,215.56856670117938,95.845144463277947]
[2008,"Enero",89.781830189811956,93.390664197196045,71.574882950816317,88.864495538317556,98.088245618042762,94.177388665527516,103.3997963965486,null,-9.6189643722673797,-0.4453990358404325,-3.4656450595837218,-4.2447429358680626,-6.9381321898065673,-4.2132528006855079,-3.129570867114162,null,155.98793836111869,100.45924225028702,99.638483283745359,124.88417128769802,145.11414697434844,204.21657592256503,100,null,173.74109887416788,107.56882726325357,139.20872682699786,140.53325856539536,147.94244311334236,216.84247016854908,96.711989273644178]
[null,"Febrero",88.853743786732863,92.916535477897511,71.460490479471602,88.182952103804979,96.820323387092103,94.698705492824203,102.72093860942843,null,{"$f":"(C163/C151-1)*100","v":-10.893683293569179},-1.6929699569122492,-4.0115774912621083,-4.6181809408119783,-7.9974045352361856,-2.9249226350205104,-4.0098308420365996,null,155.64109046864127,100.45924225028702,99.882448979628265,124.88417128769807,145.82525063676962,204.68481548699336,100,null,175.16548412660211,108.11772278593375,139.77296868445288,141.61940410056818,150.61429825404895,216.14320324843655,97.351135370974234]
[null,"Marzo",89.064507205024924,93.0010916055395,70.458843606882837,88.166181981255562,96.468822639434407,94.142571626723409,102.3810157744677,null,-10.801756886363245,-1.8942265072796727,-5.371642404425236,-4.8345900891719751,-8.3760697561890076,-1.9339981820821195,-4.3970326084166285,null,155.27874736380554,100.45924225028702,98.776344477288021,124.89672903682063,146.34936023141,205.18390804597698,100,null,174.34413801488463,108.01942269277977,140.19013004016855,141.66058485256184,151.70638163421052,217.95018396091197,97.674358125423581]
[null,"Abril",88.659961671444037,92.794295222729318,69.002788195711148,87.85969969036384,96.036174765018572,93.264884049326,102.56695956323442,null,-10.933052657442577,-2.670164345317616,-7.3310043342759368,-5.2396880583524208,-8.5859251559722072,-0.99138980685460343,-4.2270720064722873,null,154.93739769327266,100.45924225028702,97.507382106865364,124.9403506916676,146.81843242097236,205.84271022383541,100,null,174.7546409589477,108.26014897700331,141.30933641450434,142.20439078665626,152.87825944776316,220.70762465642392,97.497284140852557]
[null,"Mayo",90.641379563622266,92.568300187499929,67.632978839046103,87.062106108392328,94.658080880171468,93.697016328587964,102.56441077099062,null,-8.5592580225624211,-3.8952053375292839,-9.743471857039621,-6.2994609923337386,-9.9560649316075338,0.18850187345973435,-4.2876292153614104,null,160.07105135454361,100.45924225028702,96.130570432777091,124.9952711734192,147.50170751512789,205.7555958862674,100,null,176.59820727043086,108.52445388626964,142.1356445966249,143.5702359621304,155.82579547735776,219.59674272305421,97.499707011707486]
[null,"Junio",91.877180029662938,92.348955470240199,67.744863364883628,86.820198429185098,94.049514718680584,92.836035479145664,102.39731350712516,null,-6.9490805604269905,-3.6717557249869137,-9.7775250900285613,-6.3715173058986991,-9.9731388088036503,-1.3717867198676847,-4.1936981519303362,null,162.8800587889597,100.45924225028702,96.881534224469917,124.90934973205414,148.17592924744045,206.63762855414399,100,null,177.28021118668772,108.78221820566276,143.00941711647121,143.87130183068686,157.55097694088261,222.58342623922397,97.658812106473519]
[null,"Julio",93.191976622450412,91.65888374462547,66.812883596266374,85.458117559539815,93.730167313338796,92.149681105612686,102.51070366968486,null,-4.7013691982435439,-3.6834043876804445,-10.36979937203456,-7.194102477965858,-9.88454568628201,-3.5417506650169184,-3.6279175180699563,null,167.86258928471506,100.45924225028702,96.229991386075184,124.88624029899506,148.74308095236199,207.34180278281912,100,null,180.12558094435366,109.60120628370358,144.02909469911381,146.13736396894672,158.69285761020322,225.00544797890814,97.550788766629694]
[null,"Agosto",93.740100891048442,91.228622115620595,65.901867727213698,84.32831882058494,93.366808188762619,92.772635558947343,101.68238982965907,null,-3.2875801166930563,-4.1116118451112627,-10.425296028420217,-7.5857212320644907,-10.529919206734316,-3.0739272677633434,-4.057974283394139,null,172.55875420036196,100.45924225028702,95.782405189278691,124.88483222186237,149.51063733448149,209.7719298245614,100,null,184.08210846809553,110.11811854723379,145.34095692970178,148.0935870280594,160.13253557111122,226.11401364281951,98.34544621494689]
[null,"Septiembre",93.037781182849486,91.4865492321061,66.38816486328264,84.088475142358675,92.83595528287357,91.93248513621721,100.79695610489442,null,-3.6308976125584702,-3.4427346555044425,-9.8312990514954013,-7.7446422221976841,-10.688584050950311,-4.2200811795469413,-4.6416674123162194,null,173.13369638974885,100.45924225028702,96.470908724033066,124.88432865297527,149.18343218364637,210.7180883242589,100,null,186.08966614270912,109.80766363306232,145.3134138030502,148.51539220035889,160.69574738481506,229.20960747665634,99.209345067855949]
[null,"Octubre",91.365089353630822,90.998533909338022,65.942341895395302,82.716038480899229,92.931433230124085,92.383058701801986,99.778772457207836,null,-5.0665823513395214,-3.4923864212365485,-10.566338201827453,-8.3421926387349359,-9.5318518512585992,-3.9281630134266887,-5.2995404917105855,null,173.53672767004659,100.45924225028702,97.281166449094073,124.88429717991987,150.82641218501399,211.67574107683001,100,null,189.93767630256283,110.39655028989228,147.52458534671351,150.97954335513555,162.29859687144375,229.12830994272016,100.22171804417322]
[null,"Noviembre",88.264102616932362,89.819474977015631,65.600327904010499,81.288925444153776,91.467697561572209,94.231537203212667,98.42925617109475,null,-6.7433628055478039,-4.0120795514584584,-8.9276313113001322,-8.8896333979836317,-8.0627561612545371,-0.69095175054351143,-6.1378457985100443,null,173.03256554328073,100.45924225028702,98.678555019427918,124.88427042782271,151.47593621758745,212.91046581972171,100,null,196.03956808380511,111.84572418842804,150.4238746547411,153.63011596655849,165.60593548954287,225.9439590384427,101.59580991466083]
[null,"Diciembre",87.05326565084296,89.114536452556138,65.752511471485207,80.370292520057021,91.030668251690841,94.753375187734449,97.812123525295632,null,-3.4880189865748146,-5.1034702921217363,-7.6108251299437661,-9.7135515200668205,-7.5686983817069509,0.73101700447903983,-6.2518289045805258,null,171.71720665628305,100.45924225028702,99.56425516226335,124.88417128769802,151.96951534530899,213.29038112522687,100,null,197.25533025379417,112.73047725919632,151.42274102403107,155.38598575653091,166.9432052559784,225.10056312256484,102.23681522887962]
[2009,"Enero",88.19660978270575,89.987410606746366,67.663825430949615,80.759168292876652,91.925924113287877,95.201751990570941,98.562327740853505,null,-1.7656361022656997,-3.6441047075793875,-5.4642876923099433,-9.1209961822671488,-6.2824260602550304,1.087695613096118,-4.6784121674117385,null,173.86990806255852,100.45924225028702,101.58737117797227,124.88417128769802,152.89196124227985,213.97035692679975,100,null,197.13899263353798,111.63699630085321,150.13542395950014,154.63776302747465,166.32083138360244,224.75464206582251,101.45864276148846]
[null,"Febrero",89.281491875611053,90.543946329609113,69.164804742419591,80.537064275104669,92.230380168395428,95.892598465643715,98.726372924648771,null,0.48140693981884031,-2.5534627782724195,-3.2125244616274973,-8.6704829519654965,-4.7406815616034104,1.2607278701502134,-3.8887550472723298,null,175.91214400020232,100.45924225028702,102.71304474184359,124.88417128769807,153.52057269430364,215.11191772534787,100,null,197.0309190680718,110.95081043251976,148.50478523631031,155.06422094193692,166.45336646558735,224.32588246361672,101.29005759820966]
[null,"Marzo",89.955670067908926,90.33753503701648,70.660531884941577,80.73291015675936,93.089133697851153,96.270483103125201,98.319082187132665,null,1.0005813660794782,-2.8640057041700029,0.28624977041069588,-8.4309784743503364,-3.5034002168921607,2.2603073610937496,-3.9674675589104869,null,176.83546789209231,100.45924225028702,104.41108195512037,124.88417128769808,153.75681503904772,215.77071990320627,100,null,196.58067997114188,111.20432078329685,147.76435892831333,154.6880584946214,165.17160374282977,224.12967396462747,101.70965572041042]
[null,"Abril",90.586008218331799,90.490658267162758,70.920008216494196,80.663247152883471,93.303357137565996,96.802213282287511,98.163201477998498,null,2.1723972248322232,-2.48252001918573,2.7784674661917697,-8.1908458176412893,-2.8456127434680067,3.7927771733364146,-4.2935445332382365,null,178.21830725370171,100.45924225028702,104.6179610202596,124.88417128769807,153.58681169465348,216.7307924984876,100,null,196.73933177865305,111.01614705210037,147.51543838079832,154.82165136620566,164.61016667193002,223.89032765859716,101.87116811019369]
[null,"Mayo",91.70829942493026,90.498870127164523,71.111148448446755,80.896264224005975,94.21314581271227,97.303519029437282,98.76849326069437,null,1.1770781363263705,-2.2355709850388483,5.1427124298015103,-7.0821189148696622,-0.47004446247166376,3.8491115749103466,-3.7010084509449426,null,179.68189665608963,100.45924225028702,104.73535683998246,124.88417128769802,154.80225024763575,217.47307924984875,100,null,195.92762899629602,111.00607345608478,147.28401822382625,154.37569643746122,164.31066908154139,223.49970629947774,101.24686192797851]
[null,"Junio",92.689934689578422,91.239880633450213,72.019069262155355,81.163772180817631,95.505370606716042,95.99569892612476,99.130967859916382,null,{"$f":"(C179/C167-1)*100","v":0.88460993214318773},-1.2009608892083135,6.3092693452642123,-6.5151040319046611,1.5479674641492691,3.403488129013077,-3.1898743583556044,null,180.36213402295743,100.45924225028702,105.1297117510228,124.88417128769808,155.63627252815311,217.32123411978219,100,null,194.5865369600227,110.10453055487319,145.97482698414495,153.86688904685161,162.96075449940048,226.38642829927801,100.87665051481356]
[null,"Julio",92.552109849201258,91.468739593386104,72.084264842166817,80.460363085910018,96.403685339830261,95.879091408108167,98.493331816543446,null,-0.68661144064091628,-0.20744759642625787,7.8897676049339394,-5.8481916245672005,2.8523559736684634,4.047122309865836,-3.9189779304280137,null,182.0351167046984,100.45924225028702,105.72596446267501,124.88417128769802,156.38227763330269,217.66424682395643,100,null,196.68391893096251,109.82904399565052,146.66996284718849,155.21204043580485,162.21607823605848,227.01951345937488,101.52971592662021]
[null,"Agosto",92.956348666668845,91.855672100327993,72.937068601290989,80.564639558542595,96.914967013720954,95.406062948507071,98.395804565737123,null,-0.83609065589819176,0.68733909398817072,10.67526781364978,-4.4631261653038106,3.8002357516440988,2.8385820599938105,-3.232206943038729,null,183.61505303926646,100.45924225028702,106.81673691919138,124.88417128769807,157.33902643444412,217.94857834240767,100,null,197.52825457644605,109.36640052076687,146.45054835299581,155.0111462944615,162.34750037336184,228.44311106311946,101.63034942530618]
[null,"Septiembre",92.901581256576122,91.966988208294026,73.011242848488308,80.538986002725935,97.034638788851822,95.437324603276011,99.01631229509276,null,-0.14639206195780075,0.52514711749487297,9.9762932125703419,-4.2211362896325433,4.5226911202504994,3.8124058779283931,-1.7665650616955464,null,183.59842623555676,100.45924225028702,107.51280413819764,124.88423738111452,157.97424482724287,218.12401693889899,100,null,197.62680435814494,109.23402430311089,147.25513488560438,155.06060304370811,162.80190950264279,228.55210772684589,100.99346025125196]
[null,"Octubre",92.031259358047748,92.71244251221718,73.510074233797809,80.426777882100694,97.121533513052327,95.413577454530966,98.87111270486281,null,0.72912970274510158,1.883446391110799,11.476286890761699,-2.767613924507728,4.5088084163647624,3.2803836496808625,-0.90967219779567454,null,182.12738986989177,100.45924225028702,107.93410998491831,124.88423738111452,158.58684851424823,218.35995160314582,100,null,197.89731352183816,108.35572823685342,146.82900420102325,155.27693719644586,163.28701038574053,228.85626703097319,101.1417766668683]
[null,"Noviembre",89.830572756661624,91.497951812532136,73.140951853767149,80.294682590700944,97.388719145987963,94.466837624183256,98.861104355691566,null,1.7747533745715138,1.8687226082606534,11.494796124785299,-1.2230975474462169,6.4733471403169096,0.249704534123385,0.43873966074290394,null,177.36279495790401,100.45924225028702,107.3765823490529,124.88423738111452,159.10282606963071,218.34906231094976,100,null,197.4414606465383,109.79397927520327,146.80774535684748,155.53238813796312,163.36884545234841,231.13832092020093,101.15201590325231]
[null,"Diciembre",88.809535248644806,91.713563383348514,73.234761517298608,80.190933751982172,97.255241613191643,94.199993103264376,98.607275504774478,null,2.0174654961778948,2.9165016553456269,11.379413315730492,-0.223165503634426,6.8378860454923585,-0.58402361221819854,0.81293806004856251,null,177.44241574605445,100.45924225028702,107.65529273446862,124.88423738111452,159.53564798586538,218.32728372655774,100,null,199.80108582851994,109.53586202989727,147.00026395121071,155.73361169151818,164.03809742242836,231.76995723048722,101.41239527012192]
[2010,"Enero",87.128195941500309,91.623847134841967,72.917228907383617,80.01377863005456,97.286627108608656,93.350063488491614,98.151440640339629,null,-1.2114001250589368,1.8185171870840788,7.763976457102717,-0.9229783795183466,5.8315464837909614,-1.9450151529382786,-0.41688047546341034,null,176.31163710093384,100.45924225028702,108.20182662184878,124.88423738111452,160.58561680090631,218.4513006654567,100,null,202.35887498383778,109.64311736707812,148.3899323152861,156.07841489216437,165.0644303061633,234.01301777624158,101.88337465818165]
[null,"Febrero",84.943498583558181,91.528215042266552,70.704359348014478,79.476597344702142,96.464783396545613,93.454517026288556,97.940466889270951,null,-4.8587822637379929,1.0870618661510401,2.2259220008332692,-1.3167439612401299,4.5911154441941493,-2.5425126426505962,-0.79604467590199679,null,173.02790998010803,100.45924225028702,105.35038844160316,124.88417128853717,161.51094176144937,218.9473684210526,100,null,203.69764945565785,109.75767658518878,149.00126302404806,157.13326370389944,167.42995326855527,234.28227483050733,102.10284183457846]
[null,"Marzo",82.605067872563083,91.612557204026018,69.102381867830942,79.434361100188909,96.18566856407746,93.309101234252765,97.951146821850401,null,-8.1713606155084602,1.4113980047021357,-2.2051207025271302,-1.608450697552033,3.3264192534834924,-3.0761057526845437,-0.37422579330222971,null,167.98446718096832,100.45924225028702,103.72148993507962,124.88419513171567,162.14832398472723,219.58439201451904,100,null,203.35854870323718,109.65662930525883,150.09828479351566,157.21684344411335,168.5784653840675,235.33009010905786,102.09170922916908]
[null,"Abril",79.382944166955326,91.935702118505873,69.135050744029016,79.170079616225294,96.335655531779054,93.457728662994427,97.809780574272224,null,-12.367322803732195,1.5968983749425236,-2.5168602166772525,-1.8511126062506933,3.249934929717746,-3.4549670982626624,-0.3600340029715543,null,161.24850916610629,100.45924225028702,103.49511542113999,124.88419513171567,162.62957183869202,220.33635813672109,100,null,203.12739828214768,109.27119708162367,149.69991966061954,157.74165661710614,168.81555530085538,235.76044623473246,102.2392642257945]
[null,"Mayo",80.753933744204261,92.199223802599121,69.216847692483796,79.086058141546246,96.820950072670016,93.920292821168729,97.653095088134535,null,-11.944792073800169,1.8788672975091902,-2.6638590393969874,-2.2376881056548892,2.7679834246717938,-3.4769823763979413,-1.1293056477188479,null,164.75144742718606,100.45924225028702,103.43116586686909,124.88417128769802,163.22698205454628,222.00967937084087,100,null,204.01662159152752,108.95888067926992,149.43062175612573,157.90921209422712,168.58642879669588,236.38094888988888,102.40330827174226]
[null,"Junio",81.637687970571079,91.68953922230979,68.892260734610574,78.684006796233334,97.085763635742524,94.061771584070911,97.480577813859327,null,-11.923890933812476,0.49283118931955361,-4.341639734558278,-3.055261378265961,1.6547687517327381,-2.0145979077064058,-1.6648581988922495,null,167.12240318523851,100.45924225028702,103.564876303921,124.88417128769802,163.81541836315387,222.1833030852994,100,null,204.71231772938393,109.5645622198125,150.32875275043975,158.71608014460739,168.73268770669125,236.20999194844578,102.5845375998402]
[null,"Julio",79.673003558332809,91.690725890038664,68.608414972257847,78.20047243917432,96.646694301849408,93.936689244893813,96.433062693330882,null,-13.915518848627951,0.24269088831809782,-4.8219259466952602,-2.8087005328608083,0.25207434877880797,-2.0258871195874661,-2.0917853881215809,null,163.58740161004971,100.45924225028702,103.4954395487717,124.88417128769808,164.46177336322842,222.60254083484571,100,null,205.32350269722008,109.56314422765516,150.8494833915353,159.69746395692832,170.16802752671211,236.97081792452667,103.69887381676597]
[null,"Agosto",77.802346157540626,91.972155278182456,68.729467417742597,77.954583334205381,97.757389519535522,94.107730392344735,96.040162797978425,null,-16.302278140752701,0.1268110887341134,-5.7688103789160454,-3.2397044641906514,0.86923880982727741,-1.3608491075279727,-2.3940469597816261,null,159.84743898729442,100.45924225028702,103.58776214178056,124.88416934170307,165.28503448597223,223.1887477313974,100,null,205.45323744302277,109.22788744749343,150.71812140223167,160.201188949086,169.07676780070136,237.16303304829549,104.12310546614871]
[null,"Septiembre",77.637624526263949,91.75261264910597,69.14235815970072,77.544408336681258,97.803322364874106,93.674767354162114,96.096032840281822,null,-16.430244269100314,-0.23310055419289988,-5.2990259278509093,-3.7181715522757175,0.79217440866137245,-1.8468217298008738,-2.9492912704199625,null,159.28381645338038,100.45924225028702,104.44598675112522,124.88417128769802,165.96723495946904,223.74289171203867,100,null,205.16317626320011,109.4892443384454,151.05933545090028,161.04858360060939,169.6948845360246,238.85075782053428,104.06256849979107]
[null,"Octubre",77.367449159371205,91.262119354083168,68.680202986231421,76.915350037957666,96.319808680283259,93.676568035153593,96.066172179430197,null,{"$f":"(C195/C183-1)*100","v":-15.933510310477194},-1.5643241822076881,-6.5703528365446129,-4.3659934372734739,-0.82548617569071503,-1.8205054937858733,-2.8369666818715333,null,159.28362654903452,100.45924225028702,104.16513443101832,124.88417128769807,166.74168129927247,224.9764065335753,100,null,205.87938245310644,110.0777003222119,151.66689948761609,162.36573223169086,173.11255450344828,240.16294709809333,104.09491471485124]
[null,"Noviembre",77.251664747047926,90.88972759039514,67.732118246210575,76.302511627706636,94.98190372434874,93.49388652435762,95.883078391972148,null,-14.002925311061066,-0.66474080576488515,-7.39508233140117,-4.9718995507389234,-2.4713492925513836,-1.0299393144674984,-3.012333296424452,null,160.02127267788526,100.45924225028702,103.48145520088256,124.88417128769808,166.90227061250496,225.14035087719293,100,null,207.14281459416739,110.52870870404408,152.78047974923928,163.66980407804908,175.72007305399936,240.80756426628804,104.29368943620875]
[null,"Diciembre",75.864239731235145,91.143977997269758,67.524558984740139,76.433632976006351,94.797579100253742,93.037573121297257,95.382389255187888,null,-14.576470286851551,-0.62104814715133738,-7.7971204032796333,-4.6854433539788349,-2.5270231939915733,-1.2339915786329647,-3.270434390442567,null,158.04205906499911,100.45924225028702,103.06982333107166,124.88417128769808,167.35461234239898,225.70901391409555,100,null,208.32220770272789,110.22038368052831,152.64049833241324,163.38902970489588,176.53890946456775,242.59985115887383,104.84115650789379]
[2011,"Enero",75.826142994039813,91.007815160268038,67.125298719870457,76.460279946905473,96.090275525546915,92.670941081593455,95.177290562906862,null,-12.971751366284378,-0.67234895045098497,-7.9431572953352685,-4.441108449056963,-1.2297184295701369,-0.72750074453016289,-3.0301644662874216,null,158.27737089641295,100.45924225028702,102.81085392571723,124.88417128769807,168.57957799892651,226.53660012099212,100,null,208.73720414455744,110.38529171739226,153.16260171112373,163.33208742423969,175.4387497349899,244.45268115010802,105.06707998154832]
[null,"Febrero",75.163318968686866,91.287836010385433,65.717825518729668,76.300947225039621,96.339737743804591,92.466555399406403,95.282415109250792,null,-11.513747111852989,-0.26262834009175284,-7.0526540021960349,-3.9957046800698337,-0.12962829370277706,-1.0571577044309555,-2.7139464048351769,null,156.80469902801434,100.45924225028702,100.91623375614405,124.88417128769807,169.38280541741915,227.63218390804596,100,null,208.61864694045696,110.04669038146353,153.55991005421018,163.67315980936465,175.81821311145492,246.17785633388829,104.95116007013469]
[null,"Marzo",75.389187036946666,91.58203105950696,64.885480366456946,76.510856059801895,96.941694704853631,92.633741705429571,95.340171179862224,null,-8.7353972600670673,-3.3320917405543771E-2,-6.102396744354599,-3.680403543121169,0.78600705496216783,-0.72378741182781425,-2.6655896604629969,null,156.14939096658938,100.45924225028702,99.589015553702481,124.88417128769802,169.88344141614496,228.4513006654567,100,null,207.12438627314529,109.69318007919256,153.48428491435783,163.22411971196206,175.24290444206491,246.61780519664185,104.88758176377391]
[null,"Abril",75.662634485098877,89.511388099321053,64.150754695793424,76.145747938573606,97.075372519071749,92.600186540039687,94.950853196151755,null,-4.6865352764342338,-2.636966883724734,-7.2095066027937698,-3.8200437492447281,0.76785379536725706,-0.91757218501105076,-2.9229463161401625,null,155.95343681085492,100.45924225028702,98.451621925385723,124.88417128769807,170.15233726565475,228.88868723532968,100,null,206.11684733442453,112.23068302640813,153.46915619660123,164.00675634369171,175.27858286840572,247.17950987750959,105.31764237380531]
[null,"Mayo",76.011724893581174,89.496348926492431,64.52907625444918,76.047795374443339,96.909278332961691,92.968483829544141,95.042618328048576,null,-5.8724183835359378,-2.9315592524874368,-6.7725873025327843,-3.8417172868384752,9.1228458536485313E-2,-1.0134220869997712,-2.6732145639930094,null,156.98788647653848,100.45924225028702,99.055797548077678,124.88417128769802,170.82226798808367,229.2262552934059,100,null,206.53114594666349,112.2495425291583,153.50568038117225,164.218003523698,176.27029209852449,246.56340068284607,105.21595654576828]
[null,"Junio",75.877480094202269,89.350505665029203,65.083048189907615,75.644186353751337,96.82295487318865,92.267133395312229,94.799759743789508,null,-7.0558194622626473,-2.5510364400560315,-5.5292314464420844,-3.8633269532831083,-0.27069752836256233,-1.9079357729879232,-2.7501048210740842,null,157.75613094311589,100.45924225028702,100.54383575124434,124.88417128769802,171.97910823046635,230.06654567453117,100,null,207.90902748386065,112.43276297383693,154.48544367169885,165.0942092280232,177.62224717858646,249.34831852727748,105.48549940449735]
[null,"Julio",75.567882004363526,89.196892766931612,64.357705825978499,75.110636905350162,97.045716059573607,91.604973782012891,94.813315860821319,null,-5.1524624033581272,-2.7198313666943918,-6.1956090196780389,-3.9511724641145718,0.41286643129041511,-2.4822201864088678,-1.6796592239951558,null,157.50205249295232,100.45924225028702,100.27878056486405,124.73420532580755,172.83409858738511,230.15366001209921,100,null,208.4245956289441,112.62639216904509,155.81472222769278,166.06729814179315,178.09554672283232,251.24581178286527,105.47041741140278]
[null,"Agosto",75.700711962295486,89.343194090428483,64.734233963565501,74.938294662436078,97.092415882963692,91.446059646378885,94.653154394207391,null,-2.7012478402509532,-2.8584316414052902,-5.8129847418921248,-3.8692897104432356,-0.6802285124839047,-2.8283231726756952,-1.4441962230828609,null,157.74865685064668,100.45924225028702,101.19035287171172,124.57626217591597,173.53181772759504,230.26013309134905,100,null,208.38464099151022,112.44196412835595,156.31659892455804,166.23845356646697,178.72849918244106,251.79885714241047,105.64888263894967]
[null,"Septiembre",76.739999671717712,89.720467926213672,65.083470477288188,75.51148168916805,97.312214248703881,91.589714390379655,94.101379923922195,null,-1.1561724872746204,-2.214808564268278,-5.8703344670969493,-2.6216289363981904,-0.50213847985455251,-2.2258426924076202,-2.0756870574198172,null,159.42237202057882,100.45924225028702,101.51484153662086,125.07581190323151,174.08066559920573,230.76588021778582,100,null,207.74351407683608,111.96914658637864,155.97638047289735,165.63813754587386,178.88881364296398,251.95610855843529,106.26836724482322]
[null,"Octubre",77.008851646865594,89.60214582811011,64.890979406348549,75.57227356606812,96.903243017243938,91.745390836701802,93.701040108889828,null,-0.46349920593469207,-1.8189074916533654,-5.517199156564101,-1.7461748158550172,0.60572622075827365,-2.0615370940223698,-2.4619822117225909,null,160.69112295526432,100.45924225028702,101.38545332041895,125.54073594284829,174.44943796579972,231.70054446460981,100,null,208.66578259358414,112.11700492419547,156.23967190499823,166.1200993683164,180.02435474193206,252.54734036395905,106.72240124953805]
[null,"Noviembre",75.61375611307669,89.393287292809134,64.45567527506077,75.182487613000347,95.776286020047465,91.921189784334842,92.80671163467359,null,-2.12022438524061,-1.6464350122490035,-4.8373549447246367,-1.4678730631713433,0.83635120433480648,-1.6821385851930049,-3.2084563917757269,null,158.38730516577124,100.45924225028702,101.00959222677433,125.47135120779708,174.72443717376143,232.55656382335147,100,null,209.46890262786408,112.37895516833514,156.71171203423421,166.88906578039447,182.42974794114369,252.99559804325295,107.75082775655518]
[null,"Diciembre",74.383969047284694,89.330713507936622,64.031757591298572,74.974568171395461,94.702781786350997,91.844199681807623,92.376692000575147,null,-1.9512100683993117,-1.9894506792181632,-5.1726385865487945,-1.9089303331544016,-9.9999720248644675E-2,-1.2826790289701351,-3.1512077628620072,null,157.62718589227748,100.45924225028702,100.81170922684663,125.64375959086071,175.28662523690997,233.1960072595281,100,null,211.91015740512103,112.45767363244185,157.44017190705097,167.58183828899564,185.0913161477724,253.90390255174634,108.2524150132778]
[2012,"Enero",75.221288855614944,89.423734072280112,64.339763904469081,75.454547660019671,95.746169281699892,92.589000496992782,92.315240493511524,null,-0.79768548754011182,-1.7405989641640085,-4.1497540696631585,-1.3153656873662878,-0.35810725067131344,-8.8421012719108738E-2,-3.0070724355235612,null,158.98066129440841,100.45924225028702,100.9478280235973,126.15720635803893,176.67278567538494,235.07803992740475,100,null,211.3506212311346,112.34069264999272,156.89803924907687,167.19629269593327,184.5220409346995,253.89413285116939,108.32447542291632]
[null,"Febrero",75.482778802396524,89.52638929211885,64.101193979942096,75.362533321626742,95.475163930391872,92.871860211800467,92.124353939462011,null,{"$f":"(C211/C199-1)*100","v":0.42502092522382906},-1.9295524959822563,-2.4599589624687557,-1.2298849982099846,-0.89742180502075941,0.43832584726808399,-3.3144218334177911,null,159.28086568597678,100.45924225028702,100.63188534906486,126.65424583425013,177.55132361371929,235.58681185722929,100,null,211.01616582366694,112.2118774638559,156.98909661581899,168.05996328935012,185.96597932334186,253.66866919641521,108.54892948906141]
[null,"Marzo",75.483456053494351,90.072861427797378,63.877521530055631,75.679074171587828,95.952557152770197,93.564059594711765,92.033445600686591,null,0.12504315307377833,-1.6478883622148222,-1.5534428206566586,-1.0871423103198996,-1.0203427483859606,1.0042970003743878,-3.4683444955614706,null,158.71554126299282,100.45924225028702,99.850963107218519,127.16607653257113,177.80996213970943,235.90078644888081,100,null,210.26533436745757,111.53108789689709,156.31627639190211,168.03334068840005,185.31029022666954,252.12756636546575,108.65615141030207]
[null,"Abril",74.692860227899331,89.788775240634223,64.037227196489724,75.327633993147131,95.453315880502203,93.893921826681137,91.660942374551581,null,-1.2817082881121933,0.3098903359708638,-0.1769698577079204,-1.0744052919231195,-1.6709249694106254,1.3971195253284385,-3.4648565135099951,null,157.57331748988506,100.45924225028702,100.17156723104732,127.59128805284968,178.22388410856411,236.04113732607379,100,null,210.9616863099161,111.88396543003947,156.42708408295718,169.38178101340227,186.71314083177811,251.3912857551976,109.09772189704614]
[null,"Mayo",73.829874977646881,89.931313982789305,64.169686825559324,75.432363845310803,95.946714930268072,94.045514804572022,91.167892233556515,null,-2.870412319926896,0.48601430283388147,-0.55694184660682877,-0.80926938920751201,-0.99326237822805474,1.1584904159592346,-4.0768301238483069,null,157.47580499943538,100.45924225028702,100.62748286917382,128.07441037161925,178.80824179130167,236.06896551724134,100,null,213.2955054401942,111.7066323188745,156.81467036409634,169.78708321306425,186.36202596540744,251.01565556613318,109.68773934557699]
[null,"Junio",72.935747674161107,90.290282684360207,64.536189883852501,75.626211885376094,96.676010861522343,93.812684381641404,91.098132434412378,null,-3.8769506003480725,1.0517870182561451,-0.84024691723015854,-2.3761863590132659E-2,-0.1517656756693353,1.6750829135520728,-3.9046800533897197,null,156.04153208043942,100.45924225028702,101.47314746235878,128.59210636885601,179.82629448002351,236.33030852994551,100,null,213.94383009214027,111.26251825069127,157.23448757198511,170.03642409560115,186.00922077515665,251.91722216211733,109.77173442276292]
[null,"Julio",73.106999001714783,90.419564435945176,63.999395143146806,75.746371409858199,97.002620959407011,93.886455367506599,90.694901028187701,null,-3.2565197506880583,1.3707558986481239,-0.55674868802899624,0.8463974354379955,-4.44070093110982E-2,2.4905651858192934,-4.3437093147118073,null,156.18977955157482,100.45924225028702,101.14852931274699,129.11117573578494,181.20910836707489,236.42286751361161,100,null,213.64545349195811,111.10343527639324,158.04607072693278,170.45196137142148,186.80846617835823,251.81786508838181,110.25978182491241]
[null,"Agosto",72.943439147992805,90.762510135258452,64.569072391708048,76.028412585310349,97.830438263508597,93.533636514819747,90.754756242568348,null,-3.6423340584643471,1.5886112638791694,-0.25513791041447131,1.454687390185172,0.76012361401587292,2.2828505421813805,-4.1186140880241195,null,155.79728796247215,100.45924225028702,101.94356538718516,129.65703551486624,182.19975590551826,236.60556563823349,100,null,213.58643050320069,110.68363149121596,157.88296410508252,170.53760706812079,186.24035539405324,252.96307772738524,110.18706251903873]
[null,"Septiembre",73.012824613719047,90.796912080279228,65.256267035749985,76.125020427439651,97.954702376911882,93.569931143115227,91.096241527804921,null,-4.8568869871552849,1.1997754569791352,0.26549991448612253,0.81251052760047404,0.66023379816018135,2.1620514551397907,-3.1935115070011011,null,155.3602129370301,100.45924225028702,103.07085920869308,130.18087429026801,182.81401029847964,237.1724137931034,100,null,212.78482754088387,110.64169468832235,157.94783227828026,171.00931278481951,186.63117324888046,253.47075806900844,109.77401298107061]
[null,"Octubre",72.629165848170132,90.68619461467172,64.3859465943505,76.046509435323102,97.637683430138424,93.846043811646723,90.934162657652479,null,-5.6872498486006506,1.2098469032663761,-0.77827891737544119,0.62752626972428782,0.75791107709759498,2.2896550505560498,-2.9528780555925116,null,155.29299018974498,100.45924225028702,101.76371113516649,130.66872456660681,183.18028665137285,238.52571082879609,100,null,213.816293187756,110.7767755358368,158.05267533970786,171.82737976650913,187.61228269251362,254.16703905763791,109.9696715485009]
[null,"Noviembre",71.999495070028146,90.381663254686259,64.075573278197524,75.864942017017583,96.705614745606042,94.007748074474605,90.377609671577034,null,-4.7798988290485012,1.1056489718737961,-0.58971067363918772,0.90773054428598954,0.97031192602734517,2.2699426487355456,-2.6173774722872745,null,155.93283218932928,100.45924225028702,101.7459717308997,131.18563778043887,184.04662115666085,241.59407138535988,100,null,216.57489686235425,111.15002604809692,158.7905757614501,172.91997369616664,190.31637577695381,256.9937865057301,110.64687411338909]
[null,"Diciembre",71.592249569742009,90.179940111575149,63.708172847251689,75.86856381933633,95.266917314358352,93.716471462321124,89.822333836661187,null,-3.7531198096837692,0.95065467440051954,-0.50535040145588406,1.1923985289213679,0.59569055667239024,2.0385302359865465,-2.7651544005256823,null,155.90065018500417,100.45924225028702,101.98344667560974,131.70282764361542,184.78430387062221,243.01512401693887,100,null,217.76191015360206,111.39865709158134,160.07906382769414,173.59341077977388,193.96481914165184,259.30887092205933,111.33088590399637]
[2013,"Enero",71.019648333907682,90.063487075445494,63.515580341414449,76.01711299636824,95.038086014268714,93.76103524610555,89.591954977728605,null,-5.5857066338921513,0.71541745578223015,-1.2809863030867952,0.74556849625997401,-0.7395421380753997,1.2658466370968569,-2.9499847492401088,null,156.21979122051863,100.45924225028702,101.87364364773946,132.19763656165335,185.97892415466399,245.46642468239565,100,null,219.96700192886328,111.5426967269578,160.39158124689945,173.90510024758393,195.68883587022333,261.80003669764443,111.617164760897]
[null,"Febrero",71.003425666069631,90.418088048441717,63.088302205405185,76.130645263897094,95.75572781027445,94.644845949175334,89.831119070736733,null,-5.9342716410232033,0.99601778131954699,-1.5801449421579461,1.0192225611528549,0.29386058984630647,1.9090666788965427,-2.4892819006711697,null,156.49585497431426,100.45924225028702,101.18452606009126,132.71878573175329,186.98408945314026,246.56942719775842,100,null,220.4060628149366,111.10524942361724,160.38555884837575,174.33030453334615,195.27196307631965,260.52071269698848,111.31999805240751]
[null,"Marzo",70.722367632533732,90.248966570850371,62.80886196944865,76.184931053859387,96.081441554364972,95.075993586640507,89.697615272823356,null,-6.3074595015714223,0.19551409854361435,-1.6729821931243172,0.66842371924982213,0.13432096592231879,1.6159345783818502,-2.5380233377308326,null,155.63909086007334,100.45924225028702,100.95210101878564,133.19123248799852,187.38414317125341,247.98064125831817,100,null,220.07053223777561,111.31345439996925,160.72907206612109,174.82621647821429,195.02636527911309,260.82361267393884,111.48568409075428]
[null,"Abril",70.135373995769115,90.726633491815818,62.531655227206592,76.178736178248499,95.385168923735378,95.177995634739105,89.29999944801304,null,-6.1016357095238121,1.0445161420991944,-2.3510886326534419,1.1298671416903883,-7.1392969577022125E-2,1.367579267194996,-2.5757349481430047,null,155.63637794084687,100.45924225028702,100.78208760417044,133.6296521503493,187.40250266013118,248.35269207501511,100,null,221.90853070839199,110.72739986472568,161.16971034587561,175.41594788035471,196.46922553543692,260.93498861660061,111.98208355893225]
[null,"Mayo",70.263733666410275,91.021958229915398,62.416192320109523,76.416624385788822,95.102200979226964,95.621438359467092,89.095827520773682,null,-4.8302144793233248,1.2127524872313389,-2.7325900938499958,1.304825263724263,-0.88019058459154476,1.6757030446054255,-2.2728009412289141,null,155.66839038772025,100.45924225028702,100.68613943948661,134.17161816511455,188.3664397486686,248.60798548094371,100,null,221.548702673251,110.36813995644181,161.31413291458841,175.57909583620182,198.06738204703927,259.99189067451425,112.23870161224316]
[null,"Junio",70.381989695270121,91.056077274674507,62.411716627770872,76.57539449385628,95.724542186929156,96.674585043506383,89.008520131312451,null,{"$f":"(C227/C215-1)*100","v":-3.5013804071768018},0.84814729508755349,-3.2919099499135296,1.2550973859682735,-0.98418280410438319,3.050654269973152,-2.2938036678242346,null,155.58486638703252,100.45924225028702,101.06384631719607,134.69861402105735,189.48458575689381,250.83242589231699,100,null,221.05778347651386,110.32678461125387,161.93088698384952,175.90325836566777,197.94775867078241,259.46056637267708,112.34879520800037]
[null,"Julio",70.134364255709713,91.200814643943829,62.289477374664187,76.568329822451403,96.623847239226848,97.145534981884268,88.804063809989103,null,-4.0661424851201282,0.86402783830274998,-2.6717717638706784,1.0851455948241329,-0.39047782053092117,3.4712990298977786,-2.0848329914500141,null,155.50185105869986,100.45924225028702,101.12949506145344,135.20296282417743,190.58377126170657,253.52510586811854,100,null,221.71991249787411,110.15169397607787,162.35405934323532,176.578179434878,197.24299612066611,260.97453260759329,112.60745928696061]
[null,"Agosto",70.196687955410127,91.235038945273203,62.891413643378812,76.378605009812176,96.642912911905654,97.687773793096852,88.672362155493389,null,-3.7655904693633557,0.52062113455275671,-2.5982388877320739,0.4606073079703954,-1.21386081129915,4.441329807185368,-2.2945288746180514,null,155.52596212832583,100.45924225028702,102.12802681649097,135.22202280703547,191.36586188122936,256.32183908045971,100,null,221.55740770436068,110.1103736148421,162.38786966309985,177.04175506958236,198.01334222579564,262.38886313793017,112.77471082211927]
[null,"Septiembre",70.467971760135086,91.182014788917769,63.112420962465237,76.481866012557646,97.07992773887257,97.888927328432487,88.71598751273801,null,-3.4854874702461291,0.424136349811155,-3.2852723127883898,0.46876254760170877,-0.89303996317945389,4.6157949808805165,-2.6129003514820059,null,156.14970634344948,100.45924225028702,102.6654426046107,135.66051399905768,192.223878405428,257.79612825166362,100,null,221.58961361193312,110.17440498857765,162.67074062278292,177.37605143784467,198.00579057132742,263.3557597242002,112.71925478555012]
[null,"Octubre",70.659750863199676,91.072455389163053,63.097436213722652,76.21883247092893,97.341656729771216,97.370901069466996,88.369061528184304,null,-2.7116034749558926,0.42593117522746748,-2.0012292259145026,0.22660216344629891,-0.30318898397361238,3.7559998425664265,-2.8208332869630426,null,155.78457115359774,100.45924225028702,102.87896287932543,135.69774662364929,193.23721989538564,256.73926194797338,100,null,220.47144130921629,110.30694387343918,163.04777032596922,178.03703130116375,198.51441447296168,263.67144509098125,113.16177661127038]
[null,"Noviembre",70.343580794553517,90.811402948027236,62.178932360339786,75.932039639599765,96.954174364708663,97.16367205543979,88.129585406235847,null,-2.2998970671447849,0.47547221180253008,-2.9600061627588992,8.8443516594427507E-2,0.25702708137111951,3.3570892246722162,-2.4873685789104982,null,155.66633874255515,100.45924225028702,102.04404551646266,135.82423683348327,193.73751675900229,256.87235329703566,100,null,221.29430572662562,110.62403948079226,164.1135375646148,178.87605479604264,199.82380132517821,264.37077547920279,113.46927316070663]
[null,"Diciembre",69.971448149782034,90.820274556076228,61.703765224472185,75.856373240073424,96.00082720387006,97.12388685939375,87.886874047621092,null,-2.2639341963700432,0.71006306248244666,-3.1462331019684431,-1.606802428992804E-2,0.7703722448475725,3.6358767502707279,-2.1547645294539564,null,155.64041340819634,100.45924225028702,101.58295049022909,136.11205792552903,193.86344815754524,257.74208509780192,100,null,222.43417497238283,110.61323337913859,164.63006774494295,179.4339118939366,201.93935177855428,265.37455762137603,113.78263373642743]
[2014,"Enero",70.12065193494891,90.716966673260643,61.674020370437383,75.123337236668647,96.301763796641467,97.850764460556334,88.037642239994,null,-1.2658418058225651,0.72557661160479459,-2.8993830507068608,-1.1757559902890513,1.3296540738236606,4.3618643967784587,-1.7348798093768436,null,156.55805833658036,100.45924225028702,101.4134550144246,136.32731502705923,195.15525764646102,259.30913490623107,100,null,223.26954187736251,110.73919899914155,164.43464266687531,181.47132441357536,202.64972307108158,265.00471032166405,113.5877761553361]
[null,"Febrero",73.063799437165571,90.878158764445686,61.093749292061254,74.959516131627268,96.613114771926632,98.385302031330099,87.8950480086515,null,2.9017948806947969,0.5088259726941935,-3.1615257403028396,-1.5383149955057629,0.89538973934903954,3.9520969627478753,-2.1552342686065096,null,163.60613891958283,100.45924225028702,100.28939831048361,136.63891844733342,196.35658596879551,260.65638233514818,100,null,223.92229829258073,110.54277905285832,164.15656179660198,182.2836185433728,203.24009471419285,264.93427062117877,113.77205231193118]
[null,"Marzo",76.358253378914597,91.238896588754812,61.118318972984447,75.204221586282259,97.550726318980182,98.570860087453113,88.079379796708338,null,7.9690286610091476,1.0968879262759135,-2.6915676282854961,-1.2872748639541465,1.5292076605489591,3.6758663979964856,-1.8041008907461076,null,170.93395296408465,100.45924225028702,99.912727310395539,137.01256498792534,196.97612710845024,260.83000604960677,100,null,223.85786133144578,110.10571807229483,163.47427250831132,182.18733217088086,201.92174322142913,264.61167714088691,113.53395111410303]
[null,"Abril",75.483795985526143,91.974516982954938,61.359528934706937,75.309221673635363,97.438289941124808,98.465216240182258,87.940359597188859,null,7.6258550928660851,1.3754323764825882,-1.8744526883876289,-1.1414136650660378,2.152453091560802,3.4537611172842819,-1.5225530338504711,null,170.34145479615304,100.45924225028702,100.16794165937237,137.30525391254665,196.97143268289264,260.79854809437381,100,null,225.66625402465937,109.22508271383965,163.24757278687997,182.32196650176661,202.14992771518135,264.86363210559387,113.713430850238]
[null,"Mayo",76.131967406373533,92.085449717232805,61.340055174817735,75.356244602545857,97.397081044019174,98.937827547799884,88.128893082721504,null,8.3517248995388584,1.168390032470068,-1.7241313596521257,-1.3876297098516788,2.4130672488783755,3.4682485907245875,-1.0852746587113993,null,172.10990171432755,100.45924225028702,100.0119125926463,137.6136374008166,198.05015941126962,261.18249647106268,100,null,226.06784978463469,109.09350234892446,163.04503200659775,182.61743021648323,203.34301324878487,263.98648822653541,113.47016455333869]
[null,"Junio",75.849523651745287,91.89677492247047,61.683123165816191,75.525300937271453,96.964738317247935,99.538749968583247,87.899296669649502,null,7.7683708291676812,0.92327461599290839,-1.1673985291897671,-1.3713198130100079,1.2955884687303465,2.9626865466119146,-1.2461991953428009,null,171.80553930629981,100.45924225028702,100.92115417484577,138.2669550857467,199.42455880805377,262.32486388384751,100,null,226.50839588014549,109.31748403035944,163.61226376872997,183.07368970378042,205.66709328454965,263.54044426581947,113.76655307701536]
[null,"Julio",73.515779018782823,91.346754958165789,61.045512060455778,75.087157108904009,96.927896323720702,99.384586896299993,88.635744498973963,null,4.8213380116264748,0.16002084498007996,-1.9970713620313441,-1.9344456343529659,0.31467292307361117,2.3048428472119298,-0.18954009962346419,null,168.10308957414969,100.45924225028702,100.4912649619574,138.56444524778277,200.45146173106156,262.97459165154265,100,null,228.66259708844328,109.97570991579776,164.61695802049613,184.53814285019916,206.8047170461555,264.60299314413408,112.82130089306983]
[null,"Agosto",73.307745760304641,90.972415187875512,60.933063870119057,75.154052569014013,96.734516450207792,98.887842834020205,88.342678370815023,null,4.4319153730881133,-0.28785405304120326,-3.1138587285769015,-1.6032663082035215,9.4785572518540917E-2,1.2284741419792189,-0.37179993479844464,null,168.46536602536648,100.45924225028702,100.89396238728357,139.11970178650509,201.02041724504448,263.11494252873564,100,null,229.80568325781019,110.42824579606838,165.58163331872257,185.1127078726079,207.80629771227092,266.07410475154654,113.19557188458087]
[null,"Septiembre",73.475560198033961,91.147589165765737,60.286515225874204,75.544213918925536,97.118343773585764,99.129903759262447,88.119675864820522,null,4.2680218584073337,-3.7754839297776677E-2,-4.4775746097137965,-1.2259796243440979,3.9571552645289998E-2,1.2677393293587746,-0.67215804573202975,null,168.49197976297901,100.45924225028702,99.799169226147626,139.88724881189179,201.4492465469408,264.06997378503718,100,null,229.31703999105744,110.21601686862681,165.54144629563044,185.17268438588764,207.42656713399489,266.38780405389338,113.48203340353228]
[null,"Octubre",73.445934217392306,90.869442623978529,59.411655939831867,75.578223561252074,97.157060274028254,99.310803534763053,87.988761264638498,null,{"$f":"(C243/C231-1)*100","v":3.9430981855381964},-0.22291346413910729,-5.8414105153280165,-0.84048638493799954,-0.18963767614457172,1.9922815173622377,-0.43035453468577289,null,168.35925697211758,100.45924225028702,98.749307256840694,140.70515065994275,202.39002445650257,264.9957652752571,100,null,229.2288317468898,110.55338224753008,166.21200957072693,186.17155052064541,208.31221517578675,266.83478115500014,113.65087831982999]
[null,"Noviembre",72.467358763785782,90.845430201804945,58.794377599832686,75.133683796417344,95.581380185639901,99.411829635939995,87.854857079442596,null,3.0191496441373866,3.7470243464010622E-2,-5.4432500398895689,-1.0514084001584822,-1.4159206533024271,2.3137840850821823,-0.31173223557887653,null,167.58947631502824,100.45924225028702,98.445406659657223,141.13971487300151,202.96125956913275,266.32486388384751,100,null,231.26201806430123,110.5826039098784,167.44017145601586,187.8514505630184,212.34393055942249,267.90057567511462,113.82409957092661]
[null,"Diciembre",71.927389837067395,91.072768492843366,58.566256385960855,75.31771303631416,95.296769677992387,99.81389446922671,87.668889325301166,null,2.7953425847331959,0.27801494545278693,-5.0847931679653291,-0.7101054014993391,-0.73338693674224187,2.7696663476074468,-0.24802875819864845,null,166.9313119372176,100.45924225028702,98.514163036778839,141.9373842989682,203.37280609173379,267.05081669691469,100,null,232.08309423622438,110.30656464361381,168.2097663670954,188.45153228501988,213.40996843747186,267.54873969900876,114.0655491013961]
[2015,"Enero",71.857069219567734,91.319705475708133,58.637468464718182,75.717395869408307,95.708582940875672,100.24830121922479,87.200592385836643,null,2.4763279243748437,0.66441683904445714,-4.9235510957134405,0.79077774575979642,-0.61596053112630278,2.4501972691638008,-0.95078631464882157,null,167.6212751195126,100.45924225028702,98.747753440408545,142.80203353705841,204.70510312720728,268.97943133696305,100,null,233.27040323245868,110.00828542642429,168.40384830021182,188.59871222110257,213.88374672067249,268.31320637419475,114.67812002644409]
[null,"Febrero",72.204101013243218,91.826140834601304,58.72080524689251,76.150926954456821,95.688979956759113,101.12665223622402,88.269588739797712,null,-1.1766407311758931,1.0431352076715861,-3.8841028299389291,1.5894057009885998,-0.95653143711297295,2.786341199644804,0.42612267656916281,null,167.42580323361562,100.45924225028702,98.7701542939717,143.92152067732533,205.24417349620455,270.71264367816093,100,null,231.87852335826111,109.40157272996565,168.20299701049925,188.99510016916759,214.49092005051398,267.69663356975093,113.28930091062432]
[null,"Marzo",72.050849945956983,91.915457872935036,58.822243921579755,76.300020572429702,96.176344298427253,101.3735475586512,88.014520439534735,null,-5.6410449982176374,0.74152725369940331,-3.756770621292127,1.4570977041364896,-1.4088895822864989,2.843322528292358,-7.3637390866398977E-2,null,166.32741611738538,100.45924225028702,98.563755677904211,144.3204274922175,205.85743470384435,270.15607985480938,100,null,230.84726445578676,109.2952639034481,167.56204644166036,189.14860888565255,214.04165047601077,266.4956355586811,113.61761616220949]
[null,"Abril",72.085731224853618,92.093869114362178,59.354099314228911,76.631137820932736,96.487477392807122,101.9280988991564,87.764903237561981,null,-4.5017141974737163,0.12976652155656243,-3.2683262979610106,1.7553177657659402,-0.97580997048716256,3.5168588372641807,-0.19951744617665579,null,165.94058096487012,100.45924225028702,99.588886068999798,145.01097517898464,206.51785354677071,270.39564428312156,100,null,230.19892861634364,109.08352881290797,167.78771343452169,189.2324442811198,214.03591339218292,265.2807687021027,113.94076254983165]
[null,"Mayo",72.770462141736644,92.377031848159731,59.32745299321406,76.688078833362837,96.946202906543164,102.29990972427075,87.785702989494808,null,-4.4153663423591949,0.31664300041134297,-3.2810570122048355,1.7673840274837538,-0.46292777221139669,3.3981766729682228,-0.38941836351509274,null,166.17684910031124,100.45924225028702,99.239665825879314,144.99434901289482,207.50864379662931,270.78342407743492,100,null,228.35755636214719,108.7491557592065,167.27444179548795,189.07025866165736,214.04514831454424,264.69566278922269,113.91376567545043]
[null,"Junio",73.093556744237759,92.776990212957315,59.068494528112559,76.480684220785122,97.787284035549177,102.36269042217882,88.00809068716859,null,-3.6334663354792407,0.95783044750965551,-4.2388071542275867,1.264984411392378,0.8482936504299543,2.8370262380096989,0.12377120368547434,null,167.04587173385715,100.45924225028702,98.825962200825586,144.90786277324366,208.54524970847118,271.09860859044159,100,null,228.53706834703456,108.28034194652803,167.30739963889073,189.46988282024563,213.26418027180048,264.84123021028267,113.62591691195479]
[null,"Julio",73.229000489537,92.851208602367919,58.769965621298383,76.200010726410937,98.732435680048951,102.40616115035822,87.929035789509399,null,-0.39009112475371088,1.6469699935056648,-3.7276228216479357,1.4820825029943308,1.8617337472190965,3.0402845636527065,-0.79731795954254281,null,166.62610852422958,100.45924225028702,98.822466113853295,144.87099283518629,210.11277000471463,271.85722928009682,100,null,227.54114819310854,108.19379064897284,168.1513083581587,190.11938640708615,212.81027714701915,265.46960283077249,113.72807526217721]
[null,"Agosto",73.144766408500203,93.009401465001986,58.651458632240008,76.279423699394499,99.001719336760857,102.11522678123683,88.144831516361762,null,-0.22232214360721203,2.2391252039639875,-3.7444452862937738,1.497419090403751,2.3437372405950452,3.2636812116871416,-0.22395387835402181,null,166.52498446005956,100.45924225028702,98.828940348987175,145.2782391203155,210.97151025937188,272.33514821536596,100,null,227.66493439878914,108.00977177354302,168.50210148850772,190.45534440956808,213.09883471996929,266.69396602212333,113.44964676849789]
[null,"Septiembre",73.330490538120415,93.215816746202364,58.891511593536563,76.206463779344048,99.227567923418533,101.99321333943074,88.436080854303668,null,-0.19743933836305905,2.2690974049519141,-2.3139563252429052,0.87663876035461996,2.1718081959367641,2.8884418037183446,0.3590628158557152,null,166.76634271019952,100.45924225028702,99.355036695964742,145.06189333718561,211.60291612410779,272.86690865093766,100,null,227.41746507683195,107.77059704771588,168.70858636080436,190.35379171668768,213.25012852014865,267.5343777461386,113.07601946398734]
[null,"Octubre",73.445219089336462,91.197024217335198,58.495809616500992,76.592561876941971,99.323900812281309,101.46877626860879,88.482468835873945,null,-9.7367956914951037E-4,0.36049697664837232,-1.5415263366137855,1.3421039393282763,2.2302450610810487,2.1729486189187464,0.56110299104059624,null,166.63150045119238,100.45924225028702,99.225551993287525,145.96422583679777,212.81081675150335,273.60496067755594,100,null,226.87862125989037,110.1562722166007,169.62847876422441,190.57232485748722,214.25942296981302,269.64448645095229,113.01673802240974]
[null,"Noviembre",73.142963984680947,91.062087423850741,57.811377058093122,76.693927221526025,99.06969747132031,101.31630393627142,88.295710625009363,null,0.93228900903834511,0.23848995107900173,-1.6719294971197396,2.0766230887018899,3.6495782744561112,1.91574212777883,0.5017975786678841,null,166.28129309938478,100.45924225028702,98.736488271275618,146.36440573678263,213.4753513879391,274.22565033272843,100,null,227.33737333123486,110.31950298118795,170.79075658768329,190.84223619689914,215.47996696945413,270.66290387499532,113.25578478517329]
[null,"Diciembre",72.869849706128093,90.816556172832932,57.167949036528654,76.933758106435548,98.030674946344305,101.12193070166585,88.07984346747034,null,1.3102934378622644,-0.28132703578739315,-2.3875648465852661,2.1456374669026612,2.8688330964310449,1.3104750990779346,0.4687570988201939,null,166.53790473787606,100.45924225028702,98.392835870370263,147.32552990396624,214.0312562775359,274.88808227465211,100,null,228.54157845733945,110.61776231539004,172.11188704268559,191.49659854149564,218.33090141905367,271.83824553907942,113.53335344758193]
[2016,"Enero",72.77324409497443,90.917367420769423,56.999978939246233,77.38599890300938,98.989986841208534,101.49008492900397,88.13945873544138,null,1.2749961630180273,-0.44058185781790105,-2.7925651777706229,2.2037248038468737,3.4285367095654884,1.2387079827553604,1.0766742792876149,null,167.16987927170331,100.45924225028702,98.835285099418343,148.41157692282266,215.52196488074955,275.41076830006045,100,null,229.7133807220884,110.49510682085348,173.39530108381709,191.78091518703809,217.72097538155236,271.36716704170698,113.45656240090958]
[null,"Febrero",72.895075924894371,91.239527992579113,57.037554480226035,77.529788302727979,98.614361516940875,102.45572137274996,88.126111359536011,null,{"$f":"(C259/C247-1)*100","v":0.9569746066423912},-0.63882989820819303,-2.8665321594096405,1.810695422126396,3.0571770767163775,1.3142619745992734,-0.16254452106335693,null,167.2708840609763,100.45924225028702,99.028346791110096,149.28850437207947,216.5148116081559,276.24016938898967,100,null,229.46801541618487,110.10495610899893,173.61955240462063,192.55631627569733,219.55707898687859,269.61907611189878,113.47374626802835]
[null,"Marzo",73.700325765659045,91.673935691213686,57.560116422510482,77.808146480776287,98.571460604153984,103.02422000671342,88.247799157955725,null,2.289321806667477,-0.26276557535647171,-2.1456636383200722,1.976573396746284,2.4903382668558072,1.6283068786827171,0.265045718883683,null,166.86477759318626,100.45924225028702,99.709306842489625,149.54358824095306,216.85282478263312,276.55898366606169,100,null,226.40982364685499,109.58321085795311,173.22638145932507,192.19528417618861,219.99554785281791,268.44074495108055,113.31727357983046]
[null,"Abril",74.080900673277398,92.334550000207742,57.842121206640861,77.891796177515687,99.017520744426676,103.7275820488188,88.237848900437655,null,2.7677730592762462,0.26134300595699322,-2.5473861537067988,1.6450993583428053,2.622146852611329,1.7654436500799786,0.53887789472690795,null,167.08792198186885,100.45924225028702,99.894858421426107,149.30664701489081,217.11221886522932,276.87961282516636,100,null,225.54790838570506,108.79918973998464,172.70261936721155,191.68468868611069,219.26646641215743,266.92959322512172,113.33005195178099]
[null,"Mayo",74.439567318977936,92.64077179578743,57.172866262639801,77.999618686193173,99.382555724845986,103.98604589612326,88.423973214122014,null,2.2936575199843379,0.28550381231258193,-3.6316858753749348,1.710226508190682,2.5130977235400254,1.6482284064542663,0.72707764805801656,null,167.54497426626565,100.45924225028702,98.795015356885742,149.42399587577083,218.26588411912357,277.14156079854808,100,null,225.07515868318464,108.43955669079941,172.80052901850814,191.57016199903626,219.62192713520281,266.51802980892103,113.0915026379172]
[null,"Junio",75.52591890319006,92.852295322060002,57.06656525915772,78.208333512512397,100.20951095934531,103.82901354820245,88.800021570625191,null,3.3277381308223886,8.1167872475518266E-2,-3.3891658911368694,2.2589354545258455,2.4770367105354518,1.432478103082313,0.89983872763650385,null,169.39910873821105,100.45924225028702,98.724187224521287,150.30772493842798,219.14233398677459,277.4664246823956,100,null,224.29268150361557,108.1925243763142,172.99829904986018,192.18888600200202,218.68416669120353,267.23399866799485,112.6125852576141]
[null,"Julio",75.367516704040611,92.803066946377442,56.249362669750681,78.177273194220888,100.38827709178945,103.600574108346,88.570837936168175,null,{"$f":"(C264/C252-1)*100","v":2.9203132641543617},{"$f":"(D264/D252-1)*100","v":-5.1848173777302442E-2},{"$f":"(E264/E252-1)*100","v":-4.2889304509550863},{"$f":"(F264/F252-1)*100","v":2.5948322696556225},{"$f":"(G264/G252-1)*100","v":1.6770997295219026},{"$f":"(H264/H252-1)*100","v":1.166348728016553},{"$f":"(I264/I252-1)*100","v":0.72990922838636063},null,170.89407305145423,100.45924225028702,98.140729154257713,150.9536493165154,220.60276444926944,277.83121597096186,100,null,226.74765008184519,108.24991625366584,174.47438423517465,193.09147422101998,219.74952737515613,268.17536327588743,112.90397870241293]
[null,"Agosto",75.750917950657964,93.116609963563093,55.739649971495773,78.312327770934942,101.31244581668653,103.79307279033317,88.652184060409311,null,{"$f":"(C265/C253-1)*100","v":3.5630048055699248},{"$f":"(D265/D253-1)*100","v":0.11526630305371821},{"$f":"(E265/E253-1)*100","v":-4.964597179077912},{"$f":"(F265/F253-1)*100","v":2.6650752889164631},{"$f":"(G265/G253-1)*100","v":2.3340266163111689},{"$f":"(H265/H253-1)*100","v":1.6430909101253111},{"$f":"(I265/I253-1)*100","v":0.57558966909292408},null,171.66135443170623,100.45924225028702,97.340254722307094,151.28122087758837,221.63702230817938,277.93163944343615,100,null,226.61290328326004,107.88541624270592,174.6337746506932,193.17676435323034,218.76583920321758,267.77474832532516,112.80037943775652]
[null,"Septiembre",76.515388612633146,93.630259708579018,55.909076416123554,78.629822065025735,102.36090610518956,104.31256367483783,88.694244249681645,null,{"$f":"(C266/C254-1)*100","v":4.3432111951536401},{"$f":"(D266/D254-1)*100","v":0.44460583712424562},{"$f":"(E266/E254-1)*100","v":-5.0642870198297611},{"$f":"(F266/F254-1)*100","v":3.1799904699665982},{"$f":"(G266/G254-1)*100","v":3.1577294972998438},{"$f":"(H266/H254-1)*100","v":2.274024182068235},{"$f":"(I266/I254-1)*100","v":0.29192089120648745},null,172.16054852513844,100.45924225028702,97.200540728118369,151.78762233970062,222.71454734843434,278.76769509981847,100,null,225.00120779196263,107.29356360108684,173.85467075983897,193.04078065212261,217.5777411735348,267.24268417828421,112.74688774447608]
[null,"Octubre",76.876917096529695,93.507907950669036,55.388722281051074,79.125045085335387,102.57218379252109,104.72255835894066,88.719434413287104,null,{"$f":"(C267/C255-1)*100","v":4.6724593509878787},{"$f":"(D267/D255-1)*100","v":2.5339464233248288},{"$f":"(E267/E255-1)*100","v":-5.3116408779022128},{"$f":"(F267/F255-1)*100","v":3.3064349152627237},{"$f":"(G267/G255-1)*100","v":3.2703940881046556},{"$f":"(H267/H255-1)*100","v":3.2066830900950638},{"$f":"(I267/I255-1)*100","v":0.26781076582831354},null,172.55671951094206,100.45924225028702,96.842903979323879,152.55340898826401,223.57651913204023,280.36721113127646,100,null,224.45842787149363,107.43395339705944,174.84227833949259,192.8004070313477,217.96993187186291,267.72379850605535,112.71487545126129]
[null,"Noviembre",76.884677056441433,93.370964564445202,55.148333625852644,79.233266317094817,102.47774570315411,104.74910216384676,88.666691238768578,null,5.1156158677738928,2.5354977092143072,-4.6064348710539438,3.3110041271378066,3.4400511143383605,3.388199227771449,0.42015700551385482,null,172.84165741730772,100.45924225028702,96.9473981343844,153.20757358450433,224.32332099100481,281.24440411373257,100,null,224.80637759644071,107.59152239554027,175.79388489253833,193.36268805499103,218.89954687410778,268.49337923089291,112.78192363207984]
[null,"Diciembre",76.349573893443491,93.571998729049511,55.160561714738186,79.984747637435945,102.04611107501998,104.06073572180824,88.610429403458966,null,{"$f":"(C269/C257-1)*100","v":4.7752591796861754},{"$f":"(D269/D257-1)*100","v":3.0340751426124246},{"$f":"(E269/E257-1)*100","v":-3.5113859349892085},{"$f":"(F269/F257-1)*100","v":3.9657357265447057},{"$f":"(G269/G257-1)*100","v":4.0961016853892529},{"$f":"(H269/H257-1)*100","v":2.9061994759698395},{"$f":"(I269/I257-1)*100","v":0.60239200604912391},null,172.25212650477997,100.45924225028702,96.94480844033086,155.02890642777365,225.10100962231689,281.82577132486387,100,null,225.60980725993559,107.36036807462077,175.75021977056565,193.82308628453322,220.58754346535773,270.82815566313644,112.85353278752585]
[2017,"Enero",76.67714341618246,93.426713703859335,55.282895640233235,80.547792105669103,102.47206612500642,104.25068723520189,88.870469749982163,null,5.3644706509347717,2.7600296338064378,-3.0124279534263665,4.0857432190317899,3.5176075832634934,2.7200709390765354,0.82937996786998092,null,172.9683371805919,100.45924225028702,97.099542660030139,155.89712213528315,226.11011835186989,282.4392014519056,100,null,225.58004833561327,107.52732089958673,175.64120246509663,193.54611474733494,220.65537165615115,270.92310750401992,112.5233165542259]
[null,"Febrero",77.384511610107694,93.466636678431925,54.438945026508286,80.032702124390525,102.47909517046922,104.88803056429451,88.894378152238673,null,6.1587639881723888,2.4409471802988136,-4.5559622557426511,3.2283253655865707,3.9190373431200687,2.374010117693115,0.87178111101293698,null,174.71652779669148,100.45924225028702,95.638825729128357,155.76433731436009,227.08737811183789,284.4652147610405,100,null,225.77712795679207,107.48139209920741,175.68089477589686,194.62586315311952,221.59385554106285,271.20846223408529,112.49305308007449]
[null,"Marzo",77.718326294920317,93.348639344140835,54.016808647541872,79.583351323945109,102.66991308611894,105.61530743546147,89.051766845986421,null,5.4518083706130316,1.8268045767862118,-6.1558384436882445,2.2815153984003578,4.1578489928475681,2.5150274649778481,0.91103426453917891,null,174.5887638346164,100.45924225028702,95.049929301352336,155.27987257189309,227.60095767147538,285.62915910465819,100,null,224.64297953625328,107.61725393760922,175.96361518050873,195.11602613946764,221.68223467820121,270.44295570431217,112.29423462529202]
[null,"Abril",78.128784948286139,93.55799003405798,53.892835790764693,79.42150558393493,102.76379320869201,105.80309211002529,89.315852831809494,null,5.4641402010773721,1.3250078479263516,-6.8276981090775628,1.9638902702064254,3.7834440168773797,2.0009239781851429,1.2217024154659528,null,175.25944155235953,100.45924225028702,94.794714952375543,155.07053269090534,227.87348494153713,286.05021173623715,100,null,224.32121742116519,107.37644343761208,175.89483567056976,195.25005418969593,221.74491406596212,270.36091860034844,111.96220696488204]
[null,"Mayo",79.722658751492887,93.477948790489194,53.785329902312178,79.28077784993296,103.38313571259542,106.16861278917742,89.392193040712698,null,{"$f":"(C274/C262-1)*100","v":7.0971549443276549},{"$f":"(D274/D262-1)*100","v":0.9036809371010035},{"$f":"(E274/E262-1)*100","v":-5.9250770195183318},{"$f":"(F274/F262-1)*100","v":1.6425197780698397},{"$f":"(G274/G262-1)*100","v":4.0254348044998833},{"$f":"(H274/H262-1)*100","v":2.098903631006821},{"$f":"(I274/I262-1)*100","v":1.0949743507296494},null,179.07708522601837,100.45924225028702,94.818928591776171,155.12433273188327,229.35280902437952,286.3781004234724,100,null,224.62507903082823,107.46838537872168,176.29143255975455,195.66449388969312,221.84741006693699,269.73894911120578,111.8665921468736]
[null,"Junio",79.217294949089904,93.503878018942174,53.389137907644717,79.053429274708805,104.0340512518973,106.36903974973006,89.644850776056884,null,4.8875619118669666,0.70174107664451313,-6.4441014363009526,1.0805699651702749,3.8165442141550709,2.446354939458617,0.95138400924799083,null,177.92479652258021,100.45924225028702,94.844566562906266,154.94733255984002,230.70162709057257,286.82032667876587,100,null,224.60347407333967,107.43858370230998,177.64768318037517,196.00330305900039,221.75588118929977,269.64643786726839,111.55130398935178]
[null,"Julio",79.539858367095121,93.45616717530585,52.25071251961144,78.736235301831954,103.92953870696807,106.17218611793329,89.755112279446806,null,5.5359946108332059,0.70374854023496081,-7.1087919228809415,0.71499309808671363,3.5275648888173361,2.4822372189732267,1.3370928523134484,null,179.35329431477257,100.45924225028702,94.293091214203955,154.88966963048429,231.52964120819806,286.994555353902,100,null,225.48857641538032,107.49343278956086,180.46278541907463,196.71967936582365,222.77558823868318,270.31048888370441,111.41426650847073]
[null,"Agosto",80.386540605351357,93.85413640338659,52.379234194068481,78.503293426540935,104.67473509103107,105.96766556001407,89.765190372159381,null,{"$f":"(C277/C265-1)*100","v":6.1195597097752685},{"$f":"(D277/D265-1)*100","v":0.79204605935729866},{"$f":"(E277/E265-1)*100","v":-6.028770864448818},{"$f":"(F277/F265-1)*100","v":0.24385133355322441},{"$f":"(G277/G265-1)*100","v":3.3187327057805138},{"$f":"(H277/H265-1)*100","v":2.0951232208662685},{"$f":"(I277/I265-1)*100","v":1.255475342820267},null,180.32648626432044,100.45924225028702,93.964459038809153,154.47568811148983,232.43284075551398,287.21597096188742,100,null,224.32422754651546,107.03762892080917,179.39257891908977,196.77606042864898,222.05247575107521,271.04114207293219,111.40175783664905]
[null,"Septiembre",80.780984660279714,94.249285814712152,53.163711130717502,78.954580421398916,105.40360684422113,106.17539822636755,89.981919872402315,null,5.5748211242075518,0.66113893954777847,-4.9104107264671626,0.41302186351714898,2.9725222790669692,1.7858199299333855,1.4518141888618663,null,180.70610505169299,100.45924225028702,94.350582422192645,154.54540948176154,233.57428211613333,288.09316394434359,100,null,223.69881453122073,106.58886312176756,177.47177617116677,195.73963746867736,221.59989502194088,271.33702228281231,111.13343674129612]
[null,"Octubre",79.644884123697935,94.071302502197923,53.115289819354011,78.953292492602799,105.02654544489265,106.35962569665152,90.097152864555724,null,3.6005177258769061,0.60251005917715261,-4.1045042529800675,-0.21706476444639522,2.3928140765103967,1.5632423074498858,1.5528936364164636,null,179.26773562466488,100.45924225028702,94.835761603124212,155.09589960332286,234.15846649352721,288.77555958862666,100,null,225.08380493873386,106.79052971328831,178.54700958172728,196.44006564748886,222.9516980698846,271.50862716670696,110.99129863773982]
[null,"Noviembre",79.034277959836132,93.854462163670462,52.576855532865871,78.912663615211855,104.0099171399993,105.87077124563923,90.272114045760134,null,{"$f":"(C280/C268-1)*100","v":2.7958768712999404},{"$f":"(D280/D268-1)*100","v":0.51782435951119865},{"$f":"(E280/E268-1)*100","v":-4.6628391538222402},{"$f":"(F280/F268-1)*100","v":-0.40463143422598824},{"$f":"(G280/G268-1)*100","v":1.4951260162215263},{"$f":"(H280/H268-1)*100","v":1.0708149842067138},{"$f":"(I280/I268-1)*100","v":1.8106267241532192},null,178.17604675444994,100.45924225028702,94.677919750560662,155.77069487156001,234.68146746424009,289.63218390804593,100,null,225.44148103054215,107.03725740295506,180.07527987552879,197.3963211166178,225.63374139444261,273.57143100058011,110.77618050388037]
[null,"Diciembre",78.431600353559631,93.639897282523521,52.130135426505952,78.323350261025581,103.17469486110949,105.31230345165075,90.046381146672744,null,{"$f":"(C281/C269-1)*100","v":2.7269653960634965},{"$f":"(D281/D269-1)*100","v":7.2562897443950725E-2},{"$f":"(E281/E269-1)*100","v":-5.4938278255831197},{"$f":"(F281/F269-1)*100","v":-2.077142737189519},{"$f":"(G281/G269-1)*100","v":1.1059547239971046},{"$f":"(H281/H269-1)*100","v":1.2027281194593842},{"$f":"(I281/I269-1)*100","v":1.6205222713408185},null,177.75524924436726,100.45924225028702,94.820093954100258,155.70255736299791,235.54638180388855,291.0677555958863,100,null,226.63728451678827,107.28252076909979,181.89113298540997,198.79455723496665,228.2985979468838,276.3853282627291,111.05387993007096]
[2018,"Enero",78.891642780860963,94.023884775943458,52.638094241775349,78.628960562514209,104.03140002563175,106.06634192496833,90.363985483341011,null,2.8880827662799202,0.63918663989082081,-4.7841224086190621,-2.3822273621573853,1.5217160730643275,1.7416237129162626,1.6805534364345398,null,178.55193188673704,100.45924225028702,94.848710073391928,155.91436936966707,236.94672382846696,292.40532365396251,100,null,226.32553410340896,106.84438585969815,180.19024328224413,198.29127620949134,227.76462084532832,275.68153888140216,110.66355635502092]
[null,"Febrero",79.282443566864188,94.374390285848804,53.118560360599744,78.39367141270013,104.58070416614399,107.56719393897907,90.514404547708665,null,2.4525992569662813,0.97120602567519754,-2.4254413182797641,-2.0479512351625151,2.0507684930071157,2.554308018055762,1.8224171529672706,null,179.00283722906116,100.45924225028702,95.089681105074249,155.74123766531616,237.64915327102054,294.88263762855411,100,null,225.77865814402665,106.4475669151429,179.0140404023567,198.66557447657107,227.23996282667497,274.13807763344249,110.47965293445823]
[null,"Marzo",79.021682282410538,94.689190096912441,53.348697304925501,78.470229337176491,104.94119343541875,108.20801302529051,90.632752105762705,null,1.6770252907201577,1.4360688727657944,-1.2368582286594876,-1.3986869970298743,2.2122161020966979,2.4548577784649028,1.775355297004455,null,177.95586962117136,100.45924225028702,95.5079166947217,156.08826462690791,238.26944069133012,297.07683000604959,100,null,225.19878656238456,106.09367568512209,179.02577104896577,198.91399062466954,227.05043929004117,274.54235753928538,110.33538944432173]
[null,"Abril ",79.103337020416873,95.031627205065249,53.665034543798079,78.723831836773726,105.35297545690941,108.59150221299069,90.820199334583606,null,{"$f":"(C285/C273-1)*100","v":1.2473662207543645},{"$f":"(D285/D273-1)*100","v":1.5751056328495494},{"$f":"(E285/E273-1)*100","v":-0.42269300478274818},{"$f":"(F285/F273-1)*100","v":-0.87844437351276561},{"$f":"(G285/G273-1)*100","v":2.5195471745182774},{"$f":"(H285/H273-1)*100","v":2.6354712772153288},{"$f":"(I285/I273-1)*100","v":1.6842995449049214},null,177.294358179265,100.45924225028702,95.736845649055013,156.32030883879844,238.99873901966444,298.12462189957654,100,null,224.13006183734657,105.71137757486748,178.39706330743257,198.56796244739908,226.85523401986657,274.53770859052742,110.1076640798792]
[null,"Mayo",79.511608701887198,95.307689316647611,53.885427139887142,79.477408057777893,106.08532031595921,108.82524918236004,91.197912998767578,null,{"$f":"(C286/C274-1)*100","v":-0.26473031997535923},{"$f":"(D286/D274-1)*100","v":1.9574033767679078},{"$f":"(E286/E274-1)*100","v":0.18610509177272583},{"$f":"(F286/F274-1)*100","v":0.24801750585383697},{"$f":"(G286/G274-1)*100","v":2.6137576353612024},{"$f":"(H286/H274-1)*100","v":2.5022804041510804},{"$f":"(I286/I274-1)*100","v":2.0199973807919491},null,177.2737399931431,100.45924225028702,96.183308903886086,157.31281593404117,240.9878042498899,298.31094978826377,100,null,222.95328051755985,105.40518081025343,178.4959570872347,197.93400386142318,227.1641387631615,274.11924349318951,109.65163205143891]
[null,"Junio",79.794577017409097,95.332046352892888,53.965526658102284,79.780001930393681,106.55515708000723,108.79388626497484,91.155851934581975,null,{"$f":"(C287/C275-1)*100","v":0.72873236670123465},{"$f":"(D287/D275-1)*100","v":1.9551791569333288},{"$f":"(E287/E275-1)*100","v":1.0795992837618673},{"$f":"(F287/F275-1)*100","v":0.91909062307726774},{"$f":"(G287/G275-1)*100","v":2.4233467771101136},{"$f":"(H287/H275-1)*100","v":2.2796544191336698},{"$f":"(I287/I275-1)*100","v":1.6855414956289616},null,177.93667571764348,100.45924225028702,96.724684445779559,158.31091664959254,242.72199890642386,298.37023593466421,100,null,222.99344437758265,105.37825012002224,179.23420827258337,198.43433544626308,227.79000618822738,274.25276013025524,109.70222742448288]
[null,"Julio",79.535474661203452,95.202788772082144,53.747144174126028,79.595320160467764,107.17271573980656,109.19084226326646,91.212484791884137,null,{"$f":"(C288/C276-1)*100","v":-5.5113322825373068E-3},{"$f":"(D288/D276-1)*100","v":1.8689206390199553},{"$f":"(E288/E276-1)*100","v":2.8639449729090716},{"$f":"(F288/F276-1)*100","v":1.0910921195845136},{"$f":"(G288/G276-1)*100","v":3.1205536685606772},{"$f":"(H288/H276-1)*100","v":2.8431703779557838},{"$f":"(I288/I276-1)*100","v":1.6237208950281135},null,177.83622988328,100.45924225028702,96.669264993033735,158.5327802315793,243.9087363051629,299.39261947973381,100,null,223.59359850533033,105.521323005347,179.85935155894384,199.17349400940913,227.5847305179085,274.19205976805097,109.63411448352272]
[null,"Agosto",79.74117785070986,95.010587483399632,53.721328898526131,79.327885034721106,107.89256733125093,109.55597883397832,91.203570243200502,null,-0.80282439047829612,1.2321791285176742,2.562264846189044,1.0503911010456779,3.0741250383117258,3.386234145105349,1.6023804607083303,null,178.07957873790255,100.45924225028702,96.996861290807104,158.60848070488919,244.83155156308004,300.31941923774951,100,null,223.32198186400035,105.73478694449648,180.55558803101064,199.94038746333354,226.92161065312325,274.12417143646269,109.64483049659484]
[null,"Septiembre",81.239759487854727,95.078813660747812,54.585493833413949,79.533068132739828,107.96417821209106,109.83498090063479,91.342270086971368,null,{"$f":"(C290/C278-1)*100","v":0.56792428255778571},{"$f":"(D290/D278-1)*100","v":0.88014231499478068},{"$f":"(E290/E278-1)*100","v":2.6743481078674192},{"$f":"(F290/F278-1)*100","v":0.7326841688644059},{"$f":"(G290/G278-1)*100","v":2.4293014675050628},{"$f":"(H290/H278-1)*100","v":3.4467331749158614},{"$f":"(I290/I278-1)*100","v":1.5118039451681886},null,181.61649292114606,100.45924225028702,99.02873524521813,158.88394657008214,245.93970042699138,300.96612220205679,100,null,223.5561676524874,105.65891430738419,181.41950963645715,199.77092585552788,227.79750144890954,274.01663817316449,109.47833889478025]
[null,"Octubre",82.925275728525321,95.027682296525683,54.932056921220394,79.341185045981433,108.088436979831,110.11398521929792,91.42989216356591,null,{"$f":"(C291/C279-1)*100","v":4.118772524965375},{"$f":"(D291/D279-1)*100","v":1.0166541430691955},{"$f":"(E291/E279-1)*100","v":3.4204220819376907},{"$f":"(F291/F279-1)*100","v":0.49129370179841203},{"$f":"(G291/G279-1)*100","v":2.915350135499728},{"$f":"(H291/H279-1)*100","v":3.5298728235037435},{"$f":"(I291/I279-1)*100","v":1.4792246554269139},null,185.74913703734978,100.45924225028702,99.816002237495667,159.11358447362835,247.05374337799512,301.86993345432541,100,null,223.99580273382708,105.71576599838836,181.70810967563915,200.54349374970334,228.56630207733937,274.14313708938533,109.37342004199499]
[null,"Noviembre",84.920595702638423,94.877296171773892,54.699420040643105,79.143502946044407,107.86532193666724,110.50332177734158,91.523132478449,null,{"$f":"(C292/C280-1)*100","v":7.4478035287342204},{"$f":"(D292/D280-1)*100","v":1.0898086084812242},{"$f":"(E292/E280-1)*100","v":4.0370700877126797},{"$f":"(F292/F280-1)*100","v":0.29252507805104244},{"$f":"(G292/G280-1)*100","v":3.706766530232386},{"$f":"(H292/H280-1)*100","v":4.3756652352649805},{"$f":"(I292/I280-1)*100","v":1.3858304371322294},null,191.6632433017177,100.45924225028702,99.436871028056743,160.09417710992713,248.66644571830477,302.88292570506718,100,null,225.69700755851252,105.88333173871976,181.78779766617731,202.2834107040604,230.53418953712335,274.09395557842186,109.26199452750053]
[null,"Diciembre",83.10835146518815,95.012183397103072,54.693519144073065,79.089668634106815,107.01941999772788,110.56605382279739,91.6213064638291,null,{"$f":"(C293/C281-1)*100","v":5.9628403482095527},{"$f":"(D293/D281-1)*100","v":1.4654929729783772},{"$f":"(E293/E281-1)*100","v":4.9172780707255503},{"$f":"(F293/F281-1)*100","v":0.97840346528506039},{"$f":"(G293/G281-1)*100","v":3.726422590145817},{"$f":"(H293/H281-1)*100","v":4.9887336986780939},{"$f":"(I293/I281-1)*100","v":1.7490156707031135},null,188.57094605936607,100.45924225028702,99.875824170132532,160.79641175363574,249.05853648715913,303.37068965517233,100,null,226.89770971856348,105.7330109238917,182.60997963404171,203.3089966497767,232.72274928461289,274.37959406725338,109.14491820685693]
[2019,"Enero",83.879676575670572,95.24445413724311,54.067107714183088,79.243808988874946,108.32846103179138,111.28119856345926,92.046277927496561,null,{"$f":"(C294/C282-1)*100","v":6.3226390261196252},{"$f":"(D294/D282-1)*100","v":1.2981481930982142},{"$f":"(E294/E282-1)*100","v":2.7147895321666615},{"$f":"(F294/F282-1)*100","v":0.78196178858538357},{"$f":"(G294/G282-1)*100","v":4.1305423219344384},{"$f":"(H294/H282-1)*100","v":4.9165989359564621},{"$f":"(I294/I282-1)*100","v":1.8616846469943438},null,190.05637107037884,100.45924225028702,99.873493445484343,160.85295957306056,250.99457518546103,304.23469593524032,100,null,226.58214579418748,105.47516195066817,184.72135401332955,202.98489134418406,231.69772079730845,273.39272030013888,108.64100347302308]
[null,"Febrero",84.749941770339547,95.476354399966709,54.228344689926601,79.118420408482635,108.86660538812899,111.5761700850355,92.352548448269474,null,{"$f":"(C295/C283-1)*100","v":6.8962281653998758},{"$f":"(D295/D283-1)*100","v":1.1676516380981994},{"$f":"(E295/E283-1)*100","v":2.089259049554415},{"$f":"(F295/F283-1)*100","v":0.92449936675003119},{"$f":"(G295/G283-1)*100","v":4.0981759074562474},{"$f":"(H295/H283-1)*100","v":3.7269505685261661},{"$f":"(I295/I283-1)*100","v":2.0307750017754866},null,191.37619779622784,100.45924225028702,99.886053461644039,161.15908024401688,251.86700001762063,304.88372018976656,100,null,225.81277791886922,105.21897582038599,184.19528391062758,203.69350071950922,231.35377384062781,273.25164500395169,108.28071523766793]
[null,"Marzo",84.475594838191569,95.798475588991948,54.242212088279139,79.375948693432306,107.58496616506336,111.56533098175176,92.490277557349259,null,{"$f":"(C296/C284-1)*100","v":6.9017925185262952},{"$f":"(D296/D284-1)*100","v":1.1715017215208734},{"$f":"(E296/E284-1)*100","v":1.6748577350381488},{"$f":"(F296/F284-1)*100","v":1.1542203507065807},{"$f":"(G296/G284-1)*100","v":2.5192897499032085},{"$f":"(H296/H284-1)*100","v":3.1026518855646668},{"$f":"(I296/I284-1)*100","v":2.0495079410354222},null,189.41330747921316,100.45924225028702,99.309069626514315,161.41944738979788,252.00783742376149,305.12998012272067,100,null,224.22251993847939,104.86517831587565,183.08447573061534,203.36065275041432,234.24075538315998,273.49892429632052,108.11947227425529]
[null,"Abril ",83.901630609913241,96.155040702911322,53.884602947734656,79.104574288204319,106.9035935226367,111.60700208287338,92.720454941997531,null,6.0658548301924409,1.1821469661062345,0.4091461149761777,0.48364318980309573,1.4718312975996684,2.7769206691404813,2.0923270608703914,null,188.18453140933096,100.45924225028702,98.726517949169477,161.48662755232363,251.48867464991363,305.23615754449645,100,null,224.29186422402663,104.47631399863302,183.21841963822061,204.14322307579087,235.24810192340374,273.49194212549895,107.85106701919902]
[null,"Mayo",82.851352036865876,96.239164108805014,54.053362006946855,79.064722136367592,106.77407407653536,111.90232588401228,92.834795785755205,null,{"$f":"(C298/C286-1)*100","v":4.2003216756692385},{"$f":"(D298/D286-1)*100","v":0.97733435658344803},{"$f":"(E298/E286-1)*100","v":0.31165173215339514},{"$f":"(F298/F286-1)*100","v":-0.51924934581446536},{"$f":"(G298/G286-1)*100","v":0.64924511565294107},{"$f":"(H298/H286-1)*100","v":2.8275393116683256},{"$f":"(I298/I286-1)*100","v":1.7948686907010014},null,185.68463738273832,100.45924225028702,99.086614907314853,161.64791316046097,252.57180087902958,305.30079696993607,100,null,224.11781198225387,104.38499043560989,183.31258450599316,204.4501122531706,236.54787275231888,272.82792788988399,107.71823124465175]
[null,"Junio",81.834741302560388,96.393126269911377,53.841225436686265,79.163433121168964,107.24616171214774,112.45647132299707,93.161802104379674,null,{"$f":"(C299/C287-1)*100","v":2.5567705994684164},{"$f":"(D299/D287-1)*100","v":1.1130359177339733},{"$f":"(E299/E287-1)*100","v":-0.2303344915051575},{"$f":"(F299/F287-1)*100","v":-0.77283629268730669},{"$f":"(G299/G287-1)*100","v":0.64849478061550503},{"$f":"(H299/H287-1)*100","v":3.3665357344637492},{"$f":"(I299/I287-1)*100","v":2.2005720172932675},null,183.87364510879311,100.45924225028702,99.49384429723473,161.9640319627762,253.85437075842864,306.19129493425032,100,null,224.68897949951753,104.21826341537057,184.79119576175501,204.59450225569574,236.70252315395882,272.27538916351801,107.34013054831068]
[null,"Julio",80.066677153136837,96.803562505631959,53.760009974243864,79.062237755086485,107.29778629632501,112.56729446955183,93.111986898913074,null,{"$f":"(C300/C288-1)*100","v":0.66788121174374826},{"$f":"(D300/D288-1)*100","v":1.6814357585491546},{"$f":"(E300/E288-1)*100","v":2.3937644158644744E-2},{"$f":"(F300/F288-1)*100","v":-0.66974088967362011},{"$f":"(G300/G288-1)*100","v":0.11669999743413317},{"$f":"(H300/H288-1)*100","v":3.0922485222199425},{"$f":"(I300/I288-1)*100","v":2.0825023146370247},null,180.91908955787218,100.45924225028702,99.121964231145725,161.9254506493391,254.44303066441535,307.4048239038375,100,null,225.96053188499803,103.77638968033058,184.37861949548471,204.80757343466612,237.13726018700734,273.08538004081373,107.39755785532199]
[null,"Agosto",78.951662832028561,97.147204309990386,54.209486287753357,79.143412564835486,107.587912260172,112.71910661770352,93.364429792948528,null,{"$f":"(C301/C289-1)*100","v":-0.99009701130753358},{"$f":"(D301/D289-1)*100","v":2.2488197191329551},{"$f":"(E301/E289-1)*100","v":0.90868450061856176},{"$f":"(F301/F289-1)*100","v":-0.23254429360479723},{"$f":"(G301/G289-1)*100","v":-0.28236891438830902},{"$f":"(H301/H289-1)*100","v":2.8872251586731013},{"$f":"(I301/I289-1)*100","v":2.3692707905907051},null,178.23299432016432,100.45924225028702,99.093348111854056,162.19741983319227,255.06198179290956,308.88626739261946,100,null,225.74951296384859,103.40929825394475,182.79706172799604,204.94114996660991,237.07308417335193,274.03186261955892,107.1071715660525]
[null,"Septiembre",80.406877711287137,97.366969531424743,54.84849358017226,79.295899317447081,108.12438965351031,113.42659357886436,93.481960355150406,null,{"$f":"(C302/C290-1)*100","v":-1.0252144784994144},{"$f":"(D302/D290-1)*100","v":2.406588579072233},{"$f":"(E302/E290-1)*100","v":0.4818125261648154},{"$f":"(F302/F290-1)*100","v":-0.29820151650243876},{"$f":"(G302/G290-1)*100","v":0.14839314675698656},{"$f":"(H302/H290-1)*100","v":3.270008014549397},{"$f":"(I302/I290-1)*100","v":2.3424973630956858},null,181.19977496335017,100.45924225028702,99.596914120565799,162.62674717076692,255.78001601974228,311.75617059891113,100,null,225.35357685940113,103.17589500191259,181.58550512419197,205.08847061525785,236.56088773254709,274.85280194203335,106.97251065348512]
[null,"Octubre",81.10416873787004,97.550485344979066,54.930394069020778,79.381505354182266,108.43576891165534,115.30430378772631,93.744768510775657,null,-2.196081923944504,2.6548085647098096,-3.027107107966831E-3,5.0818888295478537E-2,0.32134050739318631,4.7135870689736681,2.5318594306865005,null,182.22047691085317,100.45924225028702,100.21080109595853,162.82095745705928,256.79970142975066,318.31457955232906,100,null,224.67461259579969,102.98179644624155,182.43233603975662,205.11195489502137,236.82194907380625,276.06478604505691,106.67261927102132]
[null,"Noviembre",80.242135323279513,97.381643220948646,54.275799578286367,79.108137359943825,107.90496389989747,115.13313833629732,93.708449669205052,null,-5.5092175704244966,2.6395641003941206,-0.77445146958043942,-4.4685393979460031E-2,3.6751351146468991E-2,4.1897532893034439,2.3877211493724015,null,180.75730122864726,100.45924225028702,99.507440191015846,162.8333744056707,257.69792855440522,319.20266182698123,100,null,225.26481941241005,103.16034822123059,183.3366637878604,205.83644090212255,238.81934550617098,277.24655684674246,106.71396267146068]
[null,"Diciembre",79.135085186018728,97.191297976848858,53.795878698389082,78.734594081027396,106.84612863466943,114.96675987718176,93.77365603581805,null,-4.7808267269429772,2.2935106865592081,-1.6412190324038733,-0.44895187855964469,-0.16192515625867987,3.9801601868122427,2.3491801798729783,null,178.21681853927612,100.45924225028702,99.312695198189289,162.88996295936107,258.00146128006941,319.67392619479733,100,null,225.20582131219183,103.36238360991598,184.6102296330057,206.88487044427717,241.47010713156817,278.05769818711332,106.63975814465816]
[2020,"Enero",79.581877431069188,97.689451877839801,54.151334121361252,78.865675615340109,107.61534973451272,115.47066699611057,94.000609203662506,null,-5.1237669481524524,2.5670762279487169,0.15578123324704318,-0.47717718060211745,-0.65828618858471133,3.764758545678526,2.1232051096138127,null,178.72813599050207,100.45924225028702,99.34377152683183,162.91708701078102,258.90056061841869,320.88142770719901,100,null,224.58396529449766,102.83530137512781,183.45581533446165,206.57540272068897,240.57958391356519,277.88999237183532,106.38228927148671]
[null,"Febrero",79.727250274378576,98.087739298813872,54.205619472043352,78.778283140961946,107.96278372183718,116.47733406624081,94.495206023681789,null,-5.9264837131944752,2.7351116569738654,-4.1906530640367645E-2,-0.42990907270972212,-0.83021020364281162,4.3926619613041007,2.3200849477505336,null,179.075874936622,100.45924225028702,98.771967079809187,163.061843609758,259.73126337537281,322.38717483363575,100,null,224.61062474917745,102.41773637401164,182.21720928906828,206.98831849125634,240.5748114503628,276.7810384896805,105.82547433669664]
[null,"Marzo",79.556666185717489,97.795378629202915,54.130641730039606,78.514644748104288,108.03387678882085,117.63556296447207,94.710023681896374,null,{"$f":"(C308/C296-1)*100","v":-5.8228991010907061},{"$f":"(D308/D296-1)*100","v":2.084483106785906},{"$f":"(E308/E296-1)*100","v":-0.20568917443476442},{"$f":"(F308/F296-1)*100","v":-1.0850943636019572},{"$f":"(G308/G296-1)*100","v":0.41726148156122633},{"$f":"(H308/H296-1)*100","v":5.4409662296553307},{"$f":"(I308/I296-1)*100","v":2.3999777956885682},null,179.02835441441127,100.45924225028702,99.32758593899716,163.3513507992196,260.23297760820657,324.60677555958858,100,null,225.03249947212032,102.72391564757299,183.49604357983378,208.05207910357848,240.88090267916314,275.94272291417968,105.58544503786752]
[null,"Abril ",79.089798284684463,97.494464984255231,53.525731097555969,77.977175090277797,107.70590572285485,118.83387183619399,95.287378390738226,null,{"$f":"(C309/C297-1)*100","v":-5.7350879717708914},{"$f":"(D309/D297-1)*100","v":1.3929839471258809},{"$f":"(E309/E297-1)*100","v":-0.66600073220688394},{"$f":"(F309/F297-1)*100","v":-1.4252010178564811},{"$f":"(G309/G297-1)*100","v":0.75050068363535782},{"$f":"(H309/H297-1)*100","v":6.4752834664928427},2.7684543290328545,null,178.38577236640825,100.45924225028702,99.584224619703406,163.95012722982662,260.7434464020987,327.40996168582382,100,null,225.54839718304373,103.04096982993916,186.04925626929082,210.2539968138291,242.08834664371594,275.51905582706297,104.94569342640223]
[null,"Mayo",79.335946938443726,97.273809003080586,53.347940378274522,78.562617375428161,107.68900891808673,121.5856146553693,95.297216435834855,null,{"$f":"(C310/C298-1)*100","v":-4.2430268329935235},{"$f":"(D310/D298-1)*100","v":1.0750767671941164},{"$f":"(E310/E298-1)*100","v":-1.3050467213892691},{"$f":"(F310/F298-1)*100","v":-0.63505536650521055},{"$f":"(G310/G298-1)*100","v":0.85688857474479629},{"$f":"(H310/H298-1)*100","v":8.6533400399503968},2.6524759700688572,null,178.67767569288804,100.45924225028702,99.439460722110297,164.11247085201649,261.8988311311146,334.60677555958858,100,null,225.21654128805309,103.2747080430515,186.3979377966879,208.89384332470766,243.19922131545201,275.20260230457461,104.93485931704166]
[null,"Junio",80.825396942094173,97.239829456578235,52.907913842791956,78.470505457951504,107.9937756444571,125.73773272832864,95.323207167257323,null,-1.2333934761698084,0.87838544036427102,-1.7334516187634375,-0.87531280023802616,0.6971008755688457,11.810135289755962,2.3200550161706746,null,181.00287467703541,100.45924225028702,99.462638483889506,163.74953359077716,263.18186929367624,350.01149425287355,100,null,223.94306928886661,103.31079642128167,187.99198694438803,208.67653729912891,243.7009612110773,278.36631586885306,104.90624788204683]
[null,"Julio",81.711593730211675,97.818719204777224,52.939386990892757,78.010562035943522,108.87722409284954,124.92342050315546,96.194517287107004,null,{"$f":"(C312/C300-1)*100","v":2.0544334241931139},{"$f":"(D312/D300-1)*100","v":1.0486770040990967},{"$f":"(E312/E300-1)*100","v":-1.5264561590376591},{"$f":"(F312/F300-1)*100","v":-1.3301871399096665},1.4720134040441257,10.976657200325457,3.3105623570684584,null,182.53117398527502,100.45924225028702,99.437906905678147,163.11243093597184,264.47468020008392,352.50635208711429,100,null,223.38466997466821,102.69940464051876,187.833506502039,209.09018814762223,242.91093238613638,282.17795403561684,103.95602870123561]
[null,"Agosto",83.451608998163437,98.717956065146495,52.960577142269862,77.679584943719448,110.20902639550812,124.53810058446496,96.48179164816915,null,{"$f":"(C313/C301-1)*100","v":5.6996217745389544},{"$f":"(D313/D301-1)*100","v":1.6168779804964339},{"$f":"(E313/E301-1)*100","v":-2.3038571862756041},{"$f":"(F313/F301-1)*100","v":-1.8495887069777894},2.4362533673835562,{"$f":"(H313/H301-1)*100","v":10.485350994527099},3.3389181106058263,null,185.8246240148288,100.45924225028702,99.560399434410812,162.19324393097202,265.30080335082397,353.04053236539619,100,null,222.67350653349095,101.76390016016073,187.98964211994556,208.79777363445564,240.72511302181053,283.47993963980127,103.64649981279406]
[null,"Septiembre",84.138954762798633,99.088493392553843,53.322138869366199,77.35859828813696,110.66488677316606,123.93969164751809,96.55851035875726,null,{"$f":"(C314/C302-1)*100","v":4.6414898299024454},{"$f":"(D314/D302-1)*100","v":1.7680778906993488},{"$f":"(E314/E302-1)*100","v":-2.7828562120397748},{"$f":"(F314/F302-1)*100","v":-2.4431288956752728},2.3496059749302578,9.2686359846856128,3.291062780368148,null,187.60434311238981,100.45924225028702,100.25832198184106,161.81506401147379,265.49510690132314,352.9570477918935,100,null,222.9696620801588,101.38335825967476,188.02381920099589,209.17527927375636,239.90907562713937,284.78128604329277,103.56414947626686]
[null,"Octubre",84.847522270378576,98.909558710323594,52.93138290804,76.74399471467855,110.53675831237072,123.15825711591989,96.738197165941997,null,{"$f":"(C315/C303-1)*100","v":4.6154884400666507},{"$f":"(D315/D303-1)*100","v":1.3932000036066317},{"$f":"(E315/E303-1)*100","v":-3.6391713455923735},{"$f":"(F315/F303-1)*100","v":-3.3225757407040146},{"$f":"(G315/G303-1)*100","v":1.9375427700679682},{"$f":"(H315/H303-1)*100","v":6.8115005860081457},3.1931687524752395,null,189.25622945599534,100.45924225028702,100.53645512319174,161.25471741759802,265.67617297738582,352.90986085904416,100,null,223.05451519598148,101.56676822763106,189.937329424886,210.1203071551283,240.35097196047644,286.54989858038982,103.37178377271472]
[null,"Noviembre",85.336602006423107,98.699265017020721,52.635981823715142,75.991334596230573,109.74599249750149,122.25372081531242,96.780106000878234,null,{"$f":"(C316/C304-1)*100","v":6.3488672910049226},{"$f":"(D316/D304-1)*100","v":1.3530494582870478},{"$f":"(E316/E304-1)*100","v":-3.0212687188624132},{"$f":"(F316/F304-1)*100","v":-3.9399268744398919},1.7061574658529421,6.1846507286340779,3.2778861911772816,null,190.46628299206506,100.45924225028702,100.59135663712688,160.5091836802136,265.89883730916631,352.62613430127038,100,null,223.19412598327867,101.78317156967967,191.10759057182713,211.22037734046506,242.28569194927081,288.43795669334224,103.32702053363379]
[null,"Diciembre",84.824457659091891,98.599167202407614,52.780236386268527,75.181324911419281,108.61057956146279,121.33737823178272,96.573131609220525,null,{"$f":"(C317/C305-1)*100","v":7.1894437968941904},{"$f":"(D317/D305-1)*100","v":1.4485548139238968},{"$f":"(E317/E305-1)*100","v":-1.8879556142485154},{"$f":"(F317/F305-1)*100","v":-4.512970710119335},{"$f":"(G317/G305-1)*100","v":1.6513943456261337},{"$f":"(H317/H305-1)*100","v":5.5412698082529799},2.9853539807951801,null,190.14467659120342,100.45924225028702,100.76538407752508,159.60682829110658,266.32055507788152,351.33998790078647,100,null,224.16256093895913,101.88650178359111,190.91499200587236,212.29584405324027,245.20682621638215,289.5562711348889,103.5484697800276]
[2021,"Enero",85.805950237840023,98.754525411065558,52.840505350086886,75.037307312153587,109.06774668219822,120.67031353201347,96.680418987276227,null,{"$f":"(C318/C306-1)*100","v":7.8209675464893325},{"$f":"(D318/D306-1)*100","v":1.0902646219753898},{"$f":"(E318/E306-1)*100","v":-2.420676780255504},{"$f":"(F318/F306-1)*100","v":-4.8542896175251542},{"$f":"(G318/G306-1)*100","v":1.3496187590976261},{"$f":"(H318/H306-1)*100","v":4.5030020793748848},2.8508429959295478,null,191.86897414011489,100.45924225028702,100.60857810258297,159.26100951084265,267.00796622796082,351.29461584996977,100,null,223.60800574818595,101.72621642615928,190.40048431788426,212.24243674992263,244.80928079129484,291.1193362871079,103.43356084664947]
[null,"Febrero",86.390842764569072,98.687641227386791,52.632858196943445,75.256246108623998,108.82853471283984,120.03935339827895,96.645111051113545,null,{"$f":"(C319/C307-1)*100","v":8.3579860929079643},{"$f":"(D319/D307-1)*100","v":0.61159726267661085},{"$f":"(E319/E307-1)*100","v":-2.9014727447420174},{"$f":"(F319/F307-1)*100","v":-4.4708222772966373},{"$f":"(G319/G307-1)*100","v":0.80189761800995019},{"$f":"(H319/H307-1)*100","v":3.0581223038744998},2.2751471930681388,null,191.63469418690687,100.45924225028702,99.982260595733209,159.1273686228115,267.21337799159721,349.92921960072596,100,null,221.82292480830017,101.7951599621459,189.96167797237257,211.44739055031908,245.53613507402184,291.51208307470188,103.47134884775716]
[null,"Marzo",86.976831965038883,98.613447480507816,52.69045699473714,75.362696179054822,109.39399304060704,118.77702275310335,96.911717408343279,null,{"$f":"(C320/C308-1)*100","v":9.3268938167918147},{"$f":"(D320/D308-1)*100","v":0.83651074597979047},{"$f":"(E320/E308-1)*100","v":-2.6605720702240321},{"$f":"(F320/F308-1)*100","v":-4.0144721779761579},{"$f":"(G320/G308-1)*100","v":1.2589719930581333},{"$f":"(H320/H308-1)*100","v":0.97033563649115973},{"$f":"(I320/I308-1)*100","v":2.3246681194397656},null,191.63111894692614,100.45924225028702,99.720442526919868,158.81620081823647,267.33821235956026,345.88747731397456,100,null,220.32432616533328,101.87174753234748,189.2571220949558,210.73582670251579,244.38107150940573,291.20739794341858,103.18669679399454]
[null,"Abril ",87.764533086773298,98.791744563472392,53.041974894617141,75.634011777376827,110.37723961253023,118.47021951856603,97.586903828990543,null,{"$f":"(C321/C309-1)*100","v":10.968209541847674},{"$f":"(D321/D309-1)*100","v":1.3306186965861722},{"$f":"(E321/E309-1)*100","v":-0.90378252294608385},{"$f":"(F321/F309-1)*100","v":-3.004934854575303},{"$f":"(G321/G309-1)*100","v":2.4802111562472362},{"$f":"(H321/H309-1)*100","v":-0.30601739387002835},{"$f":"(I321/I309-1)*100","v":2.4132529166904115},null,192.34540345008716,100.45924225028702,99.673698549253388,158.71526921413886,267.8348213806679,343.59830611010278,100,null,219.16074373678279,101.68789173041002,187.91475759958664,209.84642422684865,242.65403113982461,290.02926432178663,102.47276640238337]
[null,"Mayo",88.808670552998862,99.553418038097789,53.369532576152025,76.041185088875991,111.3485105607496,118.64057646802357,98.166367168933832,null,{"$f":"(C322/C310-1)*100","v":11.940014558476197},{"$f":"(D322/D310-1)*100","v":2.3434972459493331},{"$f":"(E322/E310-1)*100","v":4.0474285838221213E-2},{"$f":"(F322/F310-1)*100","v":-3.2094555537819813},3.3982127604558654,-2.4221929507806883,3.0107392853712778,null,193.05682582346427,100.45924225028702,99.65077975687953,158.61308945492127,268.16935336790561,343.56866303690259,100,null,217.38510960847299,100.90988760611171,186.7184795270403,208.58839755000699,null,289.58782337803495,101.8678829460101]
[null,"Junio",89.45136125427733,99.895524406795857,53.926829422018308,76.424419589673946,111.74894853100086,119.17019157026886,98.899819083896233,null,{"$f":"(C323/C311-1)*100","v":10.672343890080827},{"$f":"(D323/D311-1)*100","v":2.7310773425446078},{"$f":"(E323/E311-1)*100","v":1.9258283028393608},{"$f":"(F323/F311-1)*100","v":-2.6074585047422105},{"$f":"(G323/G311-1)*100","v":3.477212333891111},{"$f":"(H323/H311-1)*100","v":-5.2232062846637621},{"$f":"(I323/I311-1)*100","v":3.7520893630480501},null,193.69910605920339,100.45924225028702,99.950407358874628,158.38959785761196,268.58843636432118,344.09316394434359,100,null,216.54126146676299,100.56430740700213,185.34449072962727,207.24998463581755,null,288.74096735965099,101.1124195436298]
[null,"Julio",90.291390177398199,99.64711725495124,54.05980854286318,75.917092898662844,112.06281282619375,119.278834745631,99.006971218256325,null,{"$f":"(C324/C312-1)*100","v":10.500096810636883},{"$f":"(D324/D312-1)*100","v":1.8691698941041945},{"$f":"(E324/E312-1)*100","v":2.1164233582137371},{"$f":"(F324/F312-1)*100","v":-2.6835714070565286},{"$f":"(G324/G312-1)*100","v":2.9258541075841249},{"$f":"(H324/H312-1)*100","v":-4.5184367629302002},{"$f":"(I324/I312-1)*100","v":2.923715415874617},null,194.18231427609314,100.45924225028702,100.04842727880128,157.06833037815647,268.98533009477472,344.59830611010278,100,null,215.06182803762056,100.81500099321281,185.06988828766282,206.8945534937929,null,288.90146927154223,101.00298874869587]
[null,"Agosto",null,null,null,null,null,null,null,null,null,null,null,null,null,null,null,null,"","","",""]
[null,"Septiembre",null,null,null,null,null,null,null,null,null,null,null,null,null,null,null,null,"","","",""]
[null,"Octubre",null,null,null,null,null,null,null,null,null,null,null,null,null,null,null,null,"","","",""]
[null,"Noviembre",null,null,null,null,null,null,null,null,null,null,null,null,null,null,null,null,"","","",""]
[null,"Diciembre",null,null,null,null,null,null,null,null,null,null,null,null,null,null,null,null,"","","",""]
["Notas:"]
["El ITCER BILATERAL incluye únicamente a Estados Unidos como socio comercial."]
["Valores sobre (bajo) 100 significan una depreciación (apreciación) real de la moneda. El índice se descompone en efecto precio y efecto tipo de cambio, los cuales divididos generan el índice."]
["Fuente: Cálculos de la Secretaría Ejecutiva del Consejo Monetario Centroamericano"]
[{"$f":"TODAY()","v":"2021-08-23"}]

{"sheet":"GRAFICOS","index":8,"n_rows":90,"n_cols":14,"rows_kept":90,"cut":false,"hidden":false,"merged":[[91,0,91,30],[69,0,69,11],[70,0,70,11],[4,0,4,11],[5,0,5,11],[2,0,2,11],[3,0,3,11],[48,0,48,11],[49,0,49,11],[25,0,25,11],[26,0,26,11]]}
["Secretaría Ejecutiva"]
["Consejo Monetario Centroamericano"]
["GRÁFICOS 2014-2021"]
["Valores sobre 100 indican depreciación real de la moneda respecto a diciembre del año 2000"]
["ITCER GLOBAL\n"]
["Diciembre 2000=100"]
[null,null,null,null,null,null,null,null,null,null,null,null,null,{"$f":"COUNT('ITCER BILATERAL'!$C$6:$C$364)","v":319}]
[{"$f":"CONCATENATE(\"Variación Interanual \",\"al mes de \", INDICE!I15)","v":"Variación Interanual al mes de Julio 2021"}]
[null,"GLOBAL"]
["Costa Rica",{"$f":"INDEX('ITCER GLOBAL'!$C$6:$C$365,$N$7)/INDEX('ITCER GLOBAL'!$C$6:$C$365,$N$7-12) -1","v":0.11095877567426893}]
["El Salvador",{"$f":"INDEX('ITCER GLOBAL'!$D$6:$D$365,$N$7)/INDEX('ITCER GLOBAL'!$D$6:$D$365,$N$7-12) -1","v":2.6141537763352041E-2}]
["Guatemala",{"$f":"INDEX('ITCER GLOBAL'!$E$6:$E$365,$N$7)/INDEX('ITCER GLOBAL'!$E$6:$E$365,$N$7-12) -1","v":2.8719023931319088E-2}]
["Honduras",{"$f":"INDEX('ITCER GLOBAL'!$F$6:$F$365,$N$7)/INDEX('ITCER GLOBAL'!$F$6:$F$365,$N$7-12) -1","v":-2.4068818334109676E-2}]
["Nicaragua ",{"$f":"INDEX('ITCER GLOBAL'!$G$6:$G$365,$N$7)/INDEX('ITCER GLOBAL'!$G$6:$G$365,$N$7-12) -1","v":3.7373775592049352E-2}]
["República Dominicana",{"$f":"INDEX('ITCER GLOBAL'!$H$6:$H$365,$N$7)/INDEX('ITCER GLOBAL'!$H$6:$H$365,$N$7-12) -1","v":-3.4860410329374814E-2}]
["Panamá",{"$f":"INDEX('ITCER GLOBAL'!$I$6:$I$365,$N$7)/INDEX('ITCER GLOBAL'!$I$6:$I$365,$N$7-12) -1","v":1.8255143258077311E-2}]
[]
[]
[]
[]
[]
[]
[]
[null,null,null,null,"Fuente: Cálculos de la Secretaría Ejecutiva del Consejo Monetario Centroamericano"]
[]
["ITCER con el RESTO DEL MUNDO\n"]
["Diciembre 2000=100"]
[]
[{"$f":"CONCATENATE(\"Variación Interanual \",\"al mes de \", INDICE!I15)","v":"Variación Interanual al mes de Julio 2021"}]
[null,"RESTO DEL MUNDO"]
["Costa Rica",{"$f":"INDEX('ITCER RESTOM'!$C$6:$C$364,$N$7)/INDEX('ITCER RESTOM'!$C$6:$C$364,$N$7-12) -1","v":0.11683520876064257}]
["El Salvador",{"$f":"INDEX('ITCER RESTOM'!$D$6:$D$364,$N$7)/INDEX('ITCER RESTOM'!$D$6:$D$364,$N$7-12) -1","v":3.1767788315287815E-2}]
["Guatemala",{"$f":"INDEX('ITCER RESTOM'!$E$6:$E$364,$N$7)/INDEX('ITCER RESTOM'!$E$6:$E$364,$N$7-12) -1","v":3.8445134838255735E-2}]
["Honduras",{"$f":"INDEX('ITCER RESTOM'!$F$6:$F$364,$N$7)/INDEX('ITCER RESTOM'!$F$6:$F$364,$N$7-12) -1","v":-1.4294927462938034E-2}]
["Nicaragua ",{"$f":"INDEX('ITCER RESTOM'!$G$6:$G$364,$N$7)/INDEX('ITCER RESTOM'!$G$6:$G$364,$N$7-12) -1","v":4.9331268984866838E-2}]
["República Dominicana",{"$f":"INDEX('ITCER RESTOM'!$H$6:$H$364,$N$7)/INDEX('ITCER RESTOM'!$H$6:$H$364,$N$7-12) -1","v":-2.2944678405908081E-2}]
["Panamá ",{"$f":"INDEX('ITCER RESTOM'!$I$6:$I$364,$N$7)/INDEX('ITCER RESTOM'!$I$6:$I$364,$N$7-12) -1","v":4.4139425792184994E-2}]
[]
[]
[]
[]
[]
[]
[]
[]
[]
[null,null,null,null,"Fuente: Cálculos de la Secretaría Ejecutiva del Consejo Monetario Centroamericano"]
[]
["ITCER con la REGIÓN CAPARD"]
["Diciembre 2000=100"]
[]
[{"$f":"CONCATENATE(\"Variación Interanual \",\"al mes de \", INDICE!I15)","v":"Variación Interanual al mes de Julio 2021"}]
[null,"REGIÓN CAPARD 3/"]
["Costa Rica",{"$f":"INDEX('ITCER REGION'!$C$6:$C$364,$N$7)/INDEX('ITCER REGION'!$C$6:$C$364,$N$7-12) -1","v":9.9278581093322771E-2}]
["El Salvador",{"$f":"INDEX('ITCER REGION'!$D$6:$D$364,$N$7)/INDEX('ITCER REGION'!$D$6:$D$364,$N$7-12) -1","v":4.2286857656761434E-3}]
["Guatemala",{"$f":"INDEX('ITCER REGION'!$E$6:$E$364,$N$7)/INDEX('ITCER REGION'!$E$6:$E$364,$N$7-12) -1","v":1.7352560457923882E-3}]
["Honduras",{"$f":"INDEX('ITCER REGION'!$F$6:$F$364,$N$7)/INDEX('ITCER REGION'!$F$6:$F$364,$N$7-12) -1","v":-4.0904304842230732E-2}]
["Nicaragua",{"$f":"INDEX('ITCER REGION'!$G$6:$G$364,$N$7)/INDEX('ITCER REGION'!$G$6:$G$364,$N$7-12) -1","v":5.5673341299375956E-3}]
["República Dominicana",{"$f":"INDEX('ITCER REGION'!$H$6:$H$364,$N$7)/INDEX('ITCER REGION'!$H$6:$H$364,$N$7-12) -1","v":-7.0192385711359662E-2}]
["Panamá",{"$f":"INDEX('ITCER REGION'!$I$6:$I$364,$N$7)/INDEX('ITCER REGION'!$I$6:$I$364,$N$7-12) -1","v":-3.4148399517154537E-2}]
[]
[]
[]
[]
[]
[]
[]
[null,null,null,null,"Fuente: Cálculos de la Secretaría Ejecutiva del Consejo Monetario Centroamericano"]
[]
["ITCER BILATERAL con USA\n"]
["Diciembre 2000=100"]
[]
[{"$f":"CONCATENATE(\"Variación Interanual \",\"al mes de \", INDICE!I15)","v":"Variación Interanual al mes de Julio 2021"}]
[null,"BILATERAL"]
["Costa Rica",{"$f":"INDEX('ITCER BILATERAL'!$C$6:$C$364,$N$7)/INDEX('ITCER BILATERAL'!$C$6:$C$364,$N$7-12) -1","v":0.10500096810636883}]
["El Salvador",{"$f":"INDEX('ITCER BILATERAL'!$D$6:$D$364,$N$7)/INDEX('ITCER BILATERAL'!$D$6:$D$364,$N$7-12) -1","v":1.8691698941041945E-2}]
["Guatemala",{"$f":"INDEX('ITCER BILATERAL'!$E$6:$E$364,$N$7)/INDEX('ITCER BILATERAL'!$E$6:$E$364,$N$7-12) -1","v":2.1164233582137371E-2}]
["Honduras",{"$f":"INDEX('ITCER BILATERAL'!$F$6:$F$364,$N$7)/INDEX('ITCER BILATERAL'!$F$6:$F$364,$N$7-12) -1","v":-2.6835714070565286E-2}]
["Nicaragua ",{"$f":"INDEX('ITCER BILATERAL'!$G$6:$G$364,$N$7)/INDEX('ITCER BILATERAL'!$G$6:$G$364,$N$7-12) -1","v":2.9258541075841249E-2}]
["República Dominicana",{"$f":"INDEX('ITCER BILATERAL'!$H$6:$H$364,$N$7)/INDEX('ITCER BILATERAL'!$H$6:$H$364,$N$7-12) -1","v":-4.5184367629302002E-2}]
["Panamá ",{"$f":"INDEX('ITCER BILATERAL'!$I$6:$I$364,$N$7)/INDEX('ITCER BILATERAL'!$I$6:$I$364,$N$7-12) -1","v":2.923715415874617E-2}]
[]
[]
[]
[]
[]
[]
[null,null,null,null,"Fuente: Cálculos de la Secretaría Ejecutiva del Consejo Monetario Centroamericano"]
[]
[null,null,null,null,"Fuente: Cálculos de la Secretaría Ejecutiva del Consejo Monetario Centroamericano"]

{"sheet":"EFECTOS","index":9,"n_rows":30,"n_cols":14,"rows_kept":30,"cut":false,"hidden":false,"merged":[[2,0,2,11],[3,0,3,11],[4,0,4,11],[5,0,5,11],[7,9,8,11]]}
["Secretaría Ejecutiva"]
["Consejo Monetario Centroamericano"]
["GRÁFICOS 1995-2021"]
["Descomposición del ITCER GLOBAL en Efecto Precio y Efecto Tipo de Cambio"]
[{"$f":"CONCATENATE(\"ITCER GLOBAL de \", N9\n)","v":"ITCER GLOBAL de REPÚBLICA \nDOMINICANA"}]
["Diciembre 2000=100"]
[null,null,null,null,null,null,null,null,null,null,null,null,null,{"$f":"COUNT('ITCER BILATERAL'!$C$6:$C$364)","v":319}]
[null,null,null,null,null,null,null,null,null,{"$f":"CONCATENATE(\"Nivel\",\" al mes de \", INDICE!I15)","v":"Nivel al mes de Julio 2021"},null,null,null,6]
[null,null,null,null,null,null,null,null,null,null,null,null,null,{"$f":"LOOKUP(N8,GEfectos!C4:I4,GEfectos!C5:I5)","v":"REPÚBLICA \nDOMINICANA"}]
[]
[]
[]
[]
[]
[]
[]
[]
[]
[]
[]
[]
[]
[]
[]
[]
[]
["Fuente: Cálculos de la Secretaría Ejecutiva del Consejo Monetario Centroamericano"]
[]
["Notas:"]
["En el periodo 2003-2004 República Dominicana atravesó una crisis financiera interna, producto de la quiebra de tres de los principales bancos del sistema nacional. "]

{"sheet":"GEfectos","index":10,"n_rows":329,"n_cols":28,"rows_kept":329,"cut":false,"hidden":false,"merged":[]}
[]
[]
[null,null,"ITCER GLOBAL",null,null,null,null,null,null,"EFECTO TIPO DE CAMBIO",null,null,null,null,null,null,null,"EFECTO PRECIO",null,null,null,null,null,null,{"$f":"EFECTOS!N9","v":"REPÚBLICA \nDOMINICANA"}]
[null,null,1,2,3,4,5,6,7,1,2,3,4,5,6,7,1,2,3,4,5,6,7,null,"Gráfico Dinámico"]
[null,null,{"$f":"'ITCER GLOBAL'!C5","v":"COSTA RICA"},{"$f":"'ITCER GLOBAL'!D5","v":"EL SALVADOR"},{"$f":"'ITCER GLOBAL'!E5","v":"GUATEMALA"},{"$f":"'ITCER GLOBAL'!F5","v":"HONDURAS"},{"$f":"'ITCER GLOBAL'!G5","v":"NICARAGUA"},{"$f":"'ITCER GLOBAL'!H5","v":"REPÚBLICA \nDOMINICANA"},{"$f":"'ITCER GLOBAL'!I5","v":"PANAMÁ"},{"$f":"'ITCER GLOBAL'!S5","v":"COSTA\n RICA"},{"$f":"'ITCER GLOBAL'!T5","v":"EL\nSALVADOR"},{"$f":"'ITCER GLOBAL'!U5","v":"GUATEMALA"},{"$f":"'ITCER GLOBAL'!V5","v":"HONDURAS"},{"$f":"'ITCER GLOBAL'!W5","v":"NICARAGUA"},{"$f":"'ITCER GLOBAL'!X5","v":"REPÚBLICA \nDOMINICANA"},{"$f":"'ITCER GLOBAL'!Y5","v":"PANAMÁ"},{"$f":"'ITCER GLOBAL'!AA5","v":"COSTA\n RICA"},{"$f":"'ITCER GLOBAL'!AB5","v":"EL\nSALVADOR"},{"$f":"'ITCER GLOBAL'!AC5","v":"GUATEMALA"},{"$f":"'ITCER GLOBAL'!AD5","v":"HONDURAS"},{"$f":"'ITCER GLOBAL'!AE5","v":"NICARAGUA"},{"$f":"'ITCER GLOBAL'!AF5","v":"REPÚBLICA\nDOMINICANA"},{"$f":"'ITCER GLOBAL'!AG5","v":"PANAMÁ"},null,{"$f":"C3","v":"ITCER GLOBAL"},{"$f":"J3","v":"EFECTO TIPO DE CAMBIO"},{"$f":"R3","v":"EFECTO PRECIO"},"Nivel"]
[1995,{"$f":"'ITCER GLOBAL'!B6","v":"Enero"},{"$f":"'ITCER GLOBAL'!C6","v":93.944786077981931},{"$f":"'ITCER GLOBAL'!D6","v":119.61933220631379},{"$f":"'ITCER GLOBAL'!E6","v":102.49088504173092},{"$f":"'ITCER GLOBAL'!F6","v":140.38137889598283},{"$f":"'ITCER GLOBAL'!G6","v":94.307762073552126},{"$f":"'ITCER GLOBAL'!H6","v":81.160845773075636},{"$f":"'ITCER GLOBAL'!I6","v":101.9827503130348},{"$f":"'ITCER GLOBAL'!S6","v":60.89276293813942},{"$f":"'ITCER GLOBAL'!T6","v":120.50169223685172},{"$f":"'ITCER GLOBAL'!U6","v":87.177774150271517},{"$f":"'ITCER GLOBAL'!V6","v":70.506294048975221},{"$f":"'ITCER GLOBAL'!W6","v":66.87703954803905},{"$f":"'ITCER GLOBAL'!X6","v":90.359539407572541},{"$f":"'ITCER GLOBAL'!Y6","v":118.59805721895687},{"$f":"'ITCER GLOBAL'!AA6","v":64.817607746313243},{"$f":"'ITCER GLOBAL'!AB6","v":100.73763999034544},{"$f":"'ITCER GLOBAL'!AC6","v":85.059050972948086},{"$f":"'ITCER GLOBAL'!AD6","v":50.224819419402955},{"$f":"'ITCER GLOBAL'!AE6","v":70.913611008901455},{"$f":"'ITCER GLOBAL'!AF6","v":111.33390558819001},{"$f":"'ITCER GLOBAL'!AG6","v":116.29227183511092},null,{"$f":"IF(EFECTOS!$N$9=\"COSTA RICA\",LOOKUP(1,GEfectos!$C$4:$I$4,GEfectos!C6:I6),IF(EFECTOS!$N$9=\"EL SALVADOR\",LOOKUP(2,GEfectos!$C$4:$I$4,GEfectos!C6:I6),IF(EFECTOS!$N$9=\"GUATEMALA\",LOOKUP(3,GEfectos!$C$4:$I$4,GEfectos!C6:I6),IF(EFECTOS!$N$9=\"HONDURAS\",LOOKUP(4,GEfectos!$C$4:$I$4,GEfectos!C6:I6),IF(EFECTOS!$N$9=\"NICARAGUA\",LOOKUP(5,GEfectos!$C$4:$I$4,GEfectos!C6:I6),IF(EFECTOS!$N$9=\"REPÚBLICA \nDOMINICANA\",LOOKUP(6,$C$4:$I$4,C6:I6),IF(EFECTOS!$N$9=\"PANAMÁ\",LOOKUP(7,GEfectos!$C$4:$I$4,GEfectos!C6:I6))))))))","v":81.160845773075636},{"$f":"IF(EFECTOS!$N$9=\"COSTA RICA\",LOOKUP(1,GEfectos!$J$4:$P$4,GEfectos!J6:P6),IF(EFECTOS!$N$9=\"EL SALVADOR\",LOOKUP(2,GEfectos!$J$4:$P$4,GEfectos!J6:P6),IF(EFECTOS!$N$9=\"GUATEMALA\",LOOKUP(3,GEfectos!$J$4:$P$4,GEfectos!J6:P6),IF(EFECTOS!$N$9=\"HONDURAS\",LOOKUP(4,GEfectos!$J$4:$P$4,GEfectos!J6:P6),IF(EFECTOS!$N$9=\"NICARAGUA\",LOOKUP(5,GEfectos!$J$4:$P$4,GEfectos!J6:P6),IF(EFECTOS!$N$9=\"REPÚBLICA \nDOMINICANA\",LOOKUP(6,$J$4:$P$4,J6:P6),IF(EFECTOS!$N$9=\"PANAMÁ\",LOOKUP(7,GEfectos!$J$4:$P$4,GEfectos!J6:P6))))))))","v":90.359539407572541},{"$f":"IF(EFECTOS!$N$9=\"COSTA RICA\",LOOKUP(1,GEfectos!$Q$4:$W$4,GEfectos!Q6:W6),IF(EFECTOS!$N$9=\"EL SALVADOR\",LOOKUP(2,GEfectos!$Q$4:$W$4,GEfectos!Q6:W6),IF(EFECTOS!$N$9=\"GUATEMALA\",LOOKUP(3,GEfectos!$Q$4:$W$4,GEfectos!Q6:W6),IF(EFECTOS!$N$9=\"HONDURAS\",LOOKUP(4,GEfectos!$Q$4:$W$4,GEfectos!Q6:W6),IF(EFECTOS!$N$9=\"NICARAGUA\",LOOKUP(5,GEfectos!$Q$4:$W$4,GEfectos!Q6:W6),IF(EFECTOS!$N$9=\"REPÚBLICA \nDOMINICANA\",LOOKUP(6,$Q$4:$W$4,Q6:W6),IF(EFECTOS!$N$9=\"PANAMÁ\",LOOKUP(7,GEfectos!$Q$4:$W$4,GEfectos!Q6:W6))))))))","v":111.33390558819001},100]
[null,{"$f":"'ITCER GLOBAL'!B7","v":"Febrero"},{"$f":"'ITCER GLOBAL'!C7","v":94.650453247229294},{"$f":"'ITCER GLOBAL'!D7","v":119.36804443961128},{"$f":"'ITCER GLOBAL'!E7","v":103.62031671583362},{"$f":"'ITCER GLOBAL'!F7","v":132.88904810190328},{"$f":"'ITCER GLOBAL'!G7","v":95.393969935212979},{"$f":"'ITCER GLOBAL'!H7","v":81.64390230739123},{"$f":"'ITCER GLOBAL'!I7","v":102.92787632039436},{"$f":"'ITCER GLOBAL'!S7","v":61.864185111739623},{"$f":"'ITCER GLOBAL'!T7","v":120.74989762455701},{"$f":"'ITCER GLOBAL'!U7","v":87.020576943237742},{"$f":"'ITCER GLOBAL'!V7","v":69.666763142372517},{"$f":"'ITCER GLOBAL'!W7","v":67.653127448180101},{"$f":"'ITCER GLOBAL'!X7","v":90.59820862585623},{"$f":"'ITCER GLOBAL'!Y7","v":118.89208577172046},{"$f":"'ITCER GLOBAL'!AA7","v":65.360685542782207},{"$f":"'ITCER GLOBAL'!AB7","v":101.15764080029376},{"$f":"'ITCER GLOBAL'!AC7","v":83.98022675599546},{"$f":"'ITCER GLOBAL'!AD7","v":52.424758953010155},{"$f":"'ITCER GLOBAL'!AE7","v":70.919710642220736},{"$f":"'ITCER GLOBAL'!AF7","v":110.96751388089194},{"$f":"'ITCER GLOBAL'!AG7","v":115.5100931079474},null,{"$f":"IF(EFECTOS!$N$9=\"COSTA RICA\",LOOKUP(1,GEfectos!$C$4:$I$4,GEfectos!C7:I7),IF(EFECTOS!$N$9=\"EL SALVADOR\",LOOKUP(2,GEfectos!$C$4:$I$4,GEfectos!C7:I7),IF(EFECTOS!$N$9=\"GUATEMALA\",LOOKUP(3,GEfectos!$C$4:$I$4,GEfectos!C7:I7),IF(EFECTOS!$N$9=\"HONDURAS\",LOOKUP(4,GEfectos!$C$4:$I$4,GEfectos!C7:I7),IF(EFECTOS!$N$9=\"NICARAGUA\",LOOKUP(5,GEfectos!$C$4:$I$4,GEfectos!C7:I7),IF(EFECTOS!$N$9=\"REPÚBLICA \nDOMINICANA\",LOOKUP(6,$C$4:$I$4,C7:I7),IF(EFECTOS!$N$9=\"PANAMÁ\",LOOKUP(7,GEfectos!$C$4:$I$4,GEfectos!C7:I7))))))))","v":81.64390230739123},{"$f":"IF(EFECTOS!$N$9=\"COSTA RICA\",LOOKUP(1,GEfectos!$J$4:$P$4,GEfectos!J7:P7),IF(EFECTOS!$N$9=\"EL SALVADOR\",LOOKUP(2,GEfectos!$J$4:$P$4,GEfectos!J7:P7),IF(EFECTOS!$N$9=\"GUATEMALA\",LOOKUP(3,GEfectos!$J$4:$P$4,GEfectos!J7:P7),IF(EFECTOS!$N$9=\"HONDURAS\",LOOKUP(4,GEfectos!$J$4:$P$4,GEfectos!J7:P7),IF(EFECTOS!$N$9=\"NICARAGUA\",LOOKUP(5,GEfectos!$J$4:$P$4,GEfectos!J7:P7),IF(EFECTOS!$N$9=\"REPÚBLICA \nDOMINICANA\",LOOKUP(6,$J$4:$P$4,J7:P7),IF(EFECTOS!$N$9=\"PANAMÁ\",LOOKUP(7,GEfectos!$J$4:$P$4,GEfectos!J7:P7))))))))","v":90.59820862585623},{"$f":"IF(EFECTOS!$N$9=\"COSTA RICA\",LOOKUP(1,GEfectos!$Q$4:$W$4,GEfectos!Q7:W7),IF(EFECTOS!$N$9=\"EL SALVADOR\",LOOKUP(2,GEfectos!$Q$4:$W$4,GEfectos!Q7:W7),IF(EFECTOS!$N$9=\"GUATEMALA\",LOOKUP(3,GEfectos!$Q$4:$W$4,GEfectos!Q7:W7),IF(EFECTOS!$N$9=\"HONDURAS\",LOOKUP(4,GEfectos!$Q$4:$W$4,GEfectos!Q7:W7),IF(EFECTOS!$N$9=\"NICARAGUA\",LOOKUP(5,GEfectos!$Q$4:$W$4,GEfectos!Q7:W7),IF(EFECTOS!$N$9=\"REPÚBLICA \nDOMINICANA\",LOOKUP(6,$Q$4:$W$4,Q7:W7),IF(EFECTOS!$N$9=\"PANAMÁ\",LOOKUP(7,GEfectos!$Q$4:$W$4,GEfectos!Q7:W7))))))))","v":110.96751388089194},100]
[null,{"$f":"'ITCER GLOBAL'!B8","v":"Marzo"},{"$f":"'ITCER GLOBAL'!C8","v":103.1199871557299},{"$f":"'ITCER GLOBAL'!D8","v":118.38593653357258},{"$f":"'ITCER GLOBAL'!E8","v":102.75877165818576},{"$f":"'ITCER GLOBAL'!F8","v":132.89993186868702},{"$f":"'ITCER GLOBAL'!G8","v":95.931533553953926},{"$f":"'ITCER GLOBAL'!H8","v":81.473656621326668},{"$f":"'ITCER GLOBAL'!I8","v":103.51520359657357},{"$f":"'ITCER GLOBAL'!S8","v":63.102025117676675},{"$f":"'ITCER GLOBAL'!T8","v":120.70812352440254},{"$f":"'ITCER GLOBAL'!U8","v":86.258385944696997},{"$f":"'ITCER GLOBAL'!V8","v":70.445370668067767},{"$f":"'ITCER GLOBAL'!W8","v":68.435683775881756},{"$f":"'ITCER GLOBAL'!X8","v":90.475629329333174},{"$f":"'ITCER GLOBAL'!Y8","v":119.57786242491129},{"$f":"'ITCER GLOBAL'!AA8","v":61.192817084413676},{"$f":"'ITCER GLOBAL'!AB8","v":101.96153957034535},{"$f":"'ITCER GLOBAL'!AC8","v":83.942601252207211},{"$f":"'ITCER GLOBAL'!AD8","v":53.006325644825736},{"$f":"'ITCER GLOBAL'!AE8","v":71.338048335683155},{"$f":"'ITCER GLOBAL'!AF8","v":111.04893665181359},{"$f":"'ITCER GLOBAL'!AG8","v":115.51719773545361},null,{"$f":"IF(EFECTOS!$N$9=\"COSTA RICA\",LOOKUP(1,GEfectos!$C$4:$I$4,GEfectos!C8:I8),IF(EFECTOS!$N$9=\"EL SALVADOR\",LOOKUP(2,GEfectos!$C$4:$I$4,GEfectos!C8:I8),IF(EFECTOS!$N$9=\"GUATEMALA\",LOOKUP(3,GEfectos!$C$4:$I$4,GEfectos!C8:I8),IF(EFECTOS!$N$9=\"HONDURAS\",LOOKUP(4,GEfectos!$C$4:$I$4,GEfectos!C8:I8),IF(EFECTOS!$N$9=\"NICARAGUA\",LOOKUP(5,GEfectos!$C$4:$I$4,GEfectos!C8:I8),IF(EFECTOS!$N$9=\"REPÚBLICA \nDOMINICANA\",LOOKUP(6,$C$4:$I$4,C8:I8),IF(EFECTOS!$N$9=\"PANAMÁ\",LOOKUP(7,GEfectos!$C$4:$I$4,GEfectos!C8:I8))))))))","v":81.473656621326668},{"$f":"IF(EFECTOS!$N$9=\"COSTA RICA\",LOOKUP(1,GEfectos!$J$4:$P$4,GEfectos!J8:P8),IF(EFECTOS!$N$9=\"EL SALVADOR\",LOOKUP(2,GEfectos!$J$4:$P$4,GEfectos!J8:P8),IF(EFECTOS!$N$9=\"GUATEMALA\",LOOKUP(3,GEfectos!$J$4:$P$4,GEfectos!J8:P8),IF(EFECTOS!$N$9=\"HONDURAS\",LOOKUP(4,GEfectos!$J$4:$P$4,GEfectos!J8:P8),IF(EFECTOS!$N$9=\"NICARAGUA\",LOOKUP(5,GEfectos!$J$4:$P$4,GEfectos!J8:P8),IF(EFECTOS!$N$9=\"REPÚBLICA \nDOMINICANA\",LOOKUP(6,$J$4:$P$4,J8:P8),IF(EFECTOS!$N$9=\"PANAMÁ\",LOOKUP(7,GEfectos!$J$4:$P$4,GEfectos!J8:P8))))))))","v":90.475629329333174},{"$f":"IF(EFECTOS!$N$9=\"COSTA RICA\",LOOKUP(1,GEfectos!$Q$4:$W$4,GEfectos!Q8:W8),IF(EFECTOS!$N$9=\"EL SALVADOR\",LOOKUP(2,GEfectos!$Q$4:$W$4,GEfectos!Q8:W8),IF(EFECTOS!$N$9=\"GUATEMALA\",LOOKUP(3,GEfectos!$Q$4:$W$4,GEfectos!Q8:W8),IF(EFECTOS!$N$9=\"HONDURAS\",LOOKUP(4,GEfectos!$Q$4:$W$4,GEfectos!Q8:W8),IF(EFECTOS!$N$9=\"NICARAGUA\",LOOKUP(5,GEfectos!$Q$4:$W$4,GEfectos!Q8:W8),IF(EFECTOS!$N$9=\"REPÚBLICA \nDOMINICANA\",LOOKUP(6,$Q$4:$W$4,Q8:W8),IF(EFECTOS!$N$9=\"PANAMÁ\",LOOKUP(7,GEfectos!$Q$4:$W$4,GEfectos!Q8:W8))))))))","v":111.04893665181359},100]
[null,{"$f":"'ITCER GLOBAL'!B9","v":"Abril"},{"$f":"'ITCER GLOBAL'!C9","v":105.71676173542913},{"$f":"'ITCER GLOBAL'!D9","v":119.5434876767892},{"$f":"'ITCER GLOBAL'!E9","v":104.67185608054329},{"$f":"'ITCER GLOBAL'!F9","v":131.09771616779472},{"$f":"'ITCER GLOBAL'!G9","v":98.663790243860376},{"$f":"'ITCER GLOBAL'!H9","v":83.654604624789926},{"$f":"'ITCER GLOBAL'!I9","v":105.27008625385517},{"$f":"'ITCER GLOBAL'!S9","v":64.616312485723043},{"$f":"'ITCER GLOBAL'!T9","v":121.64302447914834},{"$f":"'ITCER GLOBAL'!U9","v":87.671408460040269},{"$f":"'ITCER GLOBAL'!V9","v":70.872038084260211},{"$f":"'ITCER GLOBAL'!W9","v":69.783670445213573},{"$f":"'ITCER GLOBAL'!X9","v":91.846674754354979},{"$f":"'ITCER GLOBAL'!Y9","v":120.94578373284722},{"$f":"'ITCER GLOBAL'!AA9","v":61.122107246752734},{"$f":"'ITCER GLOBAL'!AB9","v":101.75629542283029},{"$f":"'ITCER GLOBAL'!AC9","v":83.758339388362941},{"$f":"'ITCER GLOBAL'!AD9","v":54.060467379576323},{"$f":"'ITCER GLOBAL'!AE9","v":70.728754969512281},{"$f":"'ITCER GLOBAL'!AF9","v":109.79273067670138},{"$f":"'ITCER GLOBAL'!AG9","v":114.89093249262726},null,{"$f":"IF(EFECTOS!$N$9=\"COSTA RICA\",LOOKUP(1,GEfectos!$C$4:$I$4,GEfectos!C9:I9),IF(EFECTOS!$N$9=\"EL SALVADOR\",LOOKUP(2,GEfectos!$C$4:$I$4,GEfectos!C9:I9),IF(EFECTOS!$N$9=\"GUATEMALA\",LOOKUP(3,GEfectos!$C$4:$I$4,GEfectos!C9:I9),IF(EFECTOS!$N$9=\"HONDURAS\",LOOKUP(4,GEfectos!$C$4:$I$4,GEfectos!C9:I9),IF(EFECTOS!$N$9=\"NICARAGUA\",LOOKUP(5,GEfectos!$C$4:$I$4,GEfectos!C9:I9),IF(EFECTOS!$N$9=\"REPÚBLICA \nDOMINICANA\",LOOKUP(6,$C$4:$I$4,C9:I9),IF(EFECTOS!$N$9=\"PANAMÁ\",LOOKUP(7,GEfectos!$C$4:$I$4,GEfectos!C9:I9))))))))","v":83.654604624789926},{"$f":"IF(EFECTOS!$N$9=\"COSTA RICA\",LOOKUP(1,GEfectos!$J$4:$P$4,GEfectos!J9:P9),IF(EFECTOS!$N$9=\"EL SALVADOR\",LOOKUP(2,GEfectos!$J$4:$P$4,GEfectos!J9:P9),IF(EFECTOS!$N$9=\"GUATEMALA\",LOOKUP(3,GEfectos!$J$4:$P$4,GEfectos!J9:P9),IF(EFECTOS!$N$9=\"HONDURAS\",LOOKUP(4,GEfectos!$J$4:$P$4,GEfectos!J9:P9),IF(EFECTOS!$N$9=\"NICARAGUA\",LOOKUP(5,GEfectos!$J$4:$P$4,GEfectos!J9:P9),IF(EFECTOS!$N$9=\"REPÚBLICA \nDOMINICANA\",LOOKUP(6,$J$4:$P$4,J9:P9),IF(EFECTOS!$N$9=\"PANAMÁ\",LOOKUP(7,GEfectos!$J$4:$P$4,GEfectos!J9:P9))))))))","v":91.846674754354979},{"$f":"IF(EFECTOS!$N$9=\"COSTA RICA\",LOOKUP(1,GEfectos!$Q$4:$W$4,GEfectos!Q9:W9),IF(EFECTOS!$N$9=\"EL SALVADOR\",LOOKUP(2,GEfectos!$Q$4:$W$4,GEfectos!Q9:W9),IF(EFECTOS!$N$9=\"GUATEMALA\",LOOKUP(3,GEfectos!$Q$4:$W$4,GEfectos!Q9:W9),IF(EFECTOS!$N$9=\"HONDURAS\",LOOKUP(4,GEfectos!$Q$4:$W$4,GEfectos!Q9:W9),IF(EFECTOS!$N$9=\"NICARAGUA\",LOOKUP(5,GEfectos!$Q$4:$W$4,GEfectos!Q9:W9),IF(EFECTOS!$N$9=\"REPÚBLICA \nDOMINICANA\",LOOKUP(6,$Q$4:$W$4,Q9:W9),IF(EFECTOS!$N$9=\"PANAMÁ\",LOOKUP(7,GEfectos!$Q$4:$W$4,GEfectos!Q9:W9))))))))","v":109.79273067670138},100]
[null,{"$f":"'ITCER GLOBAL'!B10","v":"Mayo"},{"$f":"'ITCER GLOBAL'!C10","v":106.5817839134706},{"$f":"'ITCER GLOBAL'!D10","v":119.33330663331073},{"$f":"'ITCER GLOBAL'!E10","v":103.97622261702477},{"$f":"'ITCER GLOBAL'!F10","v":129.41031666216557},{"$f":"'ITCER GLOBAL'!G10","v":99.299899552042135},{"$f":"'ITCER GLOBAL'!H10","v":83.856140315838076},{"$f":"'ITCER GLOBAL'!I10","v":105.26149671147351},{"$f":"'ITCER GLOBAL'!S10","v":65.392453754887086},{"$f":"'ITCER GLOBAL'!T10","v":121.46308559943533},{"$f":"'ITCER GLOBAL'!U10","v":87.791708106648585},{"$f":"'ITCER GLOBAL'!V10","v":70.904512776619029},{"$f":"'ITCER GLOBAL'!W10","v":70.266373618088863},{"$f":"'ITCER GLOBAL'!X10","v":91.921848126759329},{"$f":"'ITCER GLOBAL'!Y10","v":120.67333111428459},{"$f":"'ITCER GLOBAL'!AA10","v":61.354249622971743},{"$f":"'ITCER GLOBAL'!AB10","v":101.78473137652091},{"$f":"'ITCER GLOBAL'!AC10","v":84.434408076172801},{"$f":"'ITCER GLOBAL'!AD10","v":54.790463855922766},{"$f":"'ITCER GLOBAL'!AE10","v":70.761777136806586},{"$f":"'ITCER GLOBAL'!AF10","v":109.61850590850275},{"$f":"'ITCER GLOBAL'!AG10","v":114.64147374329627},null,{"$f":"IF(EFECTOS!$N$9=\"COSTA RICA\",LOOKUP(1,GEfectos!$C$4:$I$4,GEfectos!C10:I10),IF(EFECTOS!$N$9=\"EL SALVADOR\",LOOKUP(2,GEfectos!$C$4:$I$4,GEfectos!C10:I10),IF(EFECTOS!$N$9=\"GUATEMALA\",LOOKUP(3,GEfectos!$C$4:$I$4,GEfectos!C10:I10),IF(EFECTOS!$N$9=\"HONDURAS\",LOOKUP(4,GEfectos!$C$4:$I$4,GEfectos!C10:I10),IF(EFECTOS!$N$9=\"NICARAGUA\",LOOKUP(5,GEfectos!$C$4:$I$4,GEfectos!C10:I10),IF(EFECTOS!$N$9=\"REPÚBLICA \nDOMINICANA\",LOOKUP(6,$C$4:$I$4,C10:I10),IF(EFECTOS!$N$9=\"PANAMÁ\",LOOKUP(7,GEfectos!$C$4:$I$4,GEfectos!C10:I10))))))))","v":83.856140315838076},{"$f":"IF(EFECTOS!$N$9=\"COSTA RICA\",LOOKUP(1,GEfectos!$J$4:$P$4,GEfectos!J10:P10),IF(EFECTOS!$N$9=\"EL SALVADOR\",LOOKUP(2,GEfectos!$J$4:$P$4,GEfectos!J10:P10),IF(EFECTOS!$N$9=\"GUATEMALA\",LOOKUP(3,GEfectos!$J$4:$P$4,GEfectos!J10:P10),IF(EFECTOS!$N$9=\"HONDURAS\",LOOKUP(4,GEfectos!$J$4:$P$4,GEfectos!J10:P10),IF(EFECTOS!$N$9=\"NICARAGUA\",LOOKUP(5,GEfectos!$J$4:$P$4,GEfectos!J10:P10),IF(EFECTOS!$N$9=\"REPÚBLICA \nDOMINICANA\",LOOKUP(6,$J$4:$P$4,J10:P10),IF(EFECTOS!$N$9=\"PANAMÁ\",LOOKUP(7,GEfectos!$J$4:$P$4,GEfectos!J10:P10))))))))","v":91.921848126759329},{"$f":"IF(EFECTOS!$N$9=\"COSTA RICA\",LOOKUP(1,GEfectos!$Q$4:$W$4,GEfectos!Q10:W10),IF(EFECTOS!$N$9=\"EL SALVADOR\",LOOKUP(2,GEfectos!$Q$4:$W$4,GEfectos!Q10:W10),IF(EFECTOS!$N$9=\"GUATEMALA\",LOOKUP(3,GEfectos!$Q$4:$W$4,GEfectos!Q10:W10),IF(EFECTOS!$N$9=\"HONDURAS\",LOOKUP(4,GEfectos!$Q$4:$W$4,GEfectos!Q10:W10),IF(EFECTOS!$N$9=\"NICARAGUA\",LOOKUP(5,GEfectos!$Q$4:$W$4,GEfectos!Q10:W10),IF(EFECTOS!$N$9=\"REPÚBLICA \nDOMINICANA\",LOOKUP(6,$Q$4:$W$4,Q10:W10),IF(EFECTOS!$N$9=\"PANAMÁ\",LOOKUP(7,GEfectos!$Q$4:$W$4,GEfectos!Q10:W10))))))))","v":109.61850590850275},100]
[null,{"$f":"'ITCER GLOBAL'!B11","v":"Junio"},{"$f":"'ITCER GLOBAL'!C11","v":106.96599853051856},{"$f":"'ITCER GLOBAL'!D11","v":118.68342725788655},{"$f":"'ITCER GLOBAL'!E11","v":103.26243030246829},{"$f":"'ITCER GLOBAL'!F11","v":130.56914095060014},{"$f":"'ITCER GLOBAL'!G11","v":98.718943718890614},{"$f":"'ITCER GLOBAL'!H11","v":83.472181142634838},{"$f":"'ITCER GLOBAL'!I11","v":105.37711033784412},{"$f":"'ITCER GLOBAL'!S11","v":66.318306809468595},{"$f":"'ITCER GLOBAL'!T11","v":121.10939130162225},{"$f":"'ITCER GLOBAL'!U11","v":87.764675562347364},{"$f":"'ITCER GLOBAL'!V11","v":71.854904888120259},{"$f":"'ITCER GLOBAL'!W11","v":70.716292012709928},{"$f":"'ITCER GLOBAL'!X11","v":91.706074519960737},{"$f":"'ITCER GLOBAL'!Y11","v":120.53175870697068},{"$f":"'ITCER GLOBAL'!AA11","v":61.999427594318455},{"$f":"'ITCER GLOBAL'!AB11","v":102.04406301687288},{"$f":"'ITCER GLOBAL'!AC11","v":84.99187488157493},{"$f":"'ITCER GLOBAL'!AD11","v":55.03207294233944},{"$f":"'ITCER GLOBAL'!AE11","v":71.633963400256519},{"$f":"'ITCER GLOBAL'!AF11","v":109.86423652121424},{"$f":"'ITCER GLOBAL'!AG11","v":114.38134744873913},null,{"$f":"IF(EFECTOS!$N$9=\"COSTA RICA\",LOOKUP(1,GEfectos!$C$4:$I$4,GEfectos!C11:I11),IF(EFECTOS!$N$9=\"EL SALVADOR\",LOOKUP(2,GEfectos!$C$4:$I$4,GEfectos!C11:I11),IF(EFECTOS!$N$9=\"GUATEMALA\",LOOKUP(3,GEfectos!$C$4:$I$4,GEfectos!C11:I11),IF(EFECTOS!$N$9=\"HONDURAS\",LOOKUP(4,GEfectos!$C$4:$I$4,GEfectos!C11:I11),IF(EFECTOS!$N$9=\"NICARAGUA\",LOOKUP(5,GEfectos!$C$4:$I$4,GEfectos!C11:I11),IF(EFECTOS!$N$9=\"REPÚBLICA \nDOMINICANA\",LOOKUP(6,$C$4:$I$4,C11:I11),IF(EFECTOS!$N$9=\"PANAMÁ\",LOOKUP(7,GEfectos!$C$4:$I$4,GEfectos!C11:I11))))))))","v":83.472181142634838},{"$f":"IF(EFECTOS!$N$9=\"COSTA RICA\",LOOKUP(1,GEfectos!$J$4:$P$4,GEfectos!J11:P11),IF(EFECTOS!$N$9=\"EL SALVADOR\",LOOKUP(2,GEfectos!$J$4:$P$4,GEfectos!J11:P11),IF(EFECTOS!$N$9=\"GUATEMALA\",LOOKUP(3,GEfectos!$J$4:$P$4,GEfectos!J11:P11),IF(EFECTOS!$N$9=\"HONDURAS\",LOOKUP(4,GEfectos!$J$4:$P$4,GEfectos!J11:P11),IF(EFECTOS!$N$9=\"NICARAGUA\",LOOKUP(5,GEfectos!$J$4:$P$4,GEfectos!J11:P11),IF(EFECTOS!$N$9=\"REPÚBLICA \nDOMINICANA\",LOOKUP(6,$J$4:$P$4,J11:P11),IF(EFECTOS!$N$9=\"PANAMÁ\",LOOKUP(7,GEfectos!$J$4:$P$4,GEfectos!J11:P11))))))))","v":91.706074519960737},{"$f":"IF(EFECTOS!$N$9=\"COSTA RICA\",LOOKUP(1,GEfectos!$Q$4:$W$4,GEfectos!Q11:W11),IF(EFECTOS!$N$9=\"EL SALVADOR\",LOOKUP(2,GEfectos!$Q$4:$W$4,GEfectos!Q11:W11),IF(EFECTOS!$N$9=\"GUATEMALA\",LOOKUP(3,GEfectos!$Q$4:$W$4,GEfectos!Q11:W11),IF(EFECTOS!$N$9=\"HONDURAS\",LOOKUP(4,GEfectos!$Q$4:$W$4,GEfectos!Q11:W11),IF(EFECTOS!$N$9=\"NICARAGUA\",LOOKUP(5,GEfectos!$Q$4:$W$4,GEfectos!Q11:W11),IF(EFECTOS!$N$9=\"REPÚBLICA \nDOMINICANA\",LOOKUP(6,$Q$4:$W$4,Q11:W11),IF(EFECTOS!$N$9=\"PANAMÁ\",LOOKUP(7,GEfectos!$Q$4:$W$4,GEfectos!Q11:W11))))))))","v":109.86423652121424},100]
[null,{"$f":"'ITCER GLOBAL'!B12","v":"Julio"},{"$f":"'ITCER GLOBAL'!C12","v":106.8645940975096},{"$f":"'ITCER GLOBAL'!D12","v":115.84976801878399},{"$f":"'ITCER GLOBAL'!E12","v":103.80349657486691},{"$f":"'ITCER GLOBAL'!F12","v":130.94325432605578},{"$f":"'ITCER GLOBAL'!G12","v":98.736570159092707},{"$f":"'ITCER GLOBAL'!H12","v":83.084051350924909},{"$f":"'ITCER GLOBAL'!I12","v":105.27407574284555},{"$f":"'ITCER GLOBAL'!S12","v":67.221495601523628},{"$f":"'ITCER GLOBAL'!T12","v":120.96159528091567},{"$f":"'ITCER GLOBAL'!U12","v":87.912181445349972},{"$f":"'ITCER GLOBAL'!V12","v":72.81779691117211},{"$f":"'ITCER GLOBAL'!W12","v":71.246387419134095},{"$f":"'ITCER GLOBAL'!X12","v":91.730340668843084},{"$f":"'ITCER GLOBAL'!Y12","v":120.27393263491433},{"$f":"'ITCER GLOBAL'!AA12","v":62.903430429152948},{"$f":"'ITCER GLOBAL'!AB12","v":104.41246223410896},{"$f":"'ITCER GLOBAL'!AC12","v":84.690963547595402},{"$f":"'ITCER GLOBAL'!AD12","v":55.610193351275562},{"$f":"'ITCER GLOBAL'!AE12","v":72.158053803505524},{"$f":"'ITCER GLOBAL'!AF12","v":110.40667754801525},{"$f":"'ITCER GLOBAL'!AG12","v":114.24838621115909},null,{"$f":"IF(EFECTOS!$N$9=\"COSTA RICA\",LOOKUP(1,GEfectos!$C$4:$I$4,GEfectos!C12:I12),IF(EFECTOS!$N$9=\"EL SALVADOR\",LOOKUP(2,GEfectos!$C$4:$I$4,GEfectos!C12:I12),IF(EFECTOS!$N$9=\"GUATEMALA\",LOOKUP(3,GEfectos!$C$4:$I$4,GEfectos!C12:I12),IF(EFECTOS!$N$9=\"HONDURAS\",LOOKUP(4,GEfectos!$C$4:$I$4,GEfectos!C12:I12),IF(EFECTOS!$N$9=\"NICARAGUA\",LOOKUP(5,GEfectos!$C$4:$I$4,GEfectos!C12:I12),IF(EFECTOS!$N$9=\"REPÚBLICA \nDOMINICANA\",LOOKUP(6,$C$4:$I$4,C12:I12),IF(EFECTOS!$N$9=\"PANAMÁ\",LOOKUP(7,GEfectos!$C$4:$I$4,GEfectos!C12:I12))))))))","v":83.084051350924909},{"$f":"IF(EFECTOS!$N$9=\"COSTA RICA\",LOOKUP(1,GEfectos!$J$4:$P$4,GEfectos!J12:P12),IF(EFECTOS!$N$9=\"EL SALVADOR\",LOOKUP(2,GEfectos!$J$4:$P$4,GEfectos!J12:P12),IF(EFECTOS!$N$9=\"GUATEMALA\",LOOKUP(3,GEfectos!$J$4:$P$4,GEfectos!J12:P12),IF(EFECTOS!$N$9=\"HONDURAS\",LOOKUP(4,GEfectos!$J$4:$P$4,GEfectos!J12:P12),IF(EFECTOS!$N$9=\"NICARAGUA\",LOOKUP(5,GEfectos!$J$4:$P$4,GEfectos!J12:P12),IF(EFECTOS!$N$9=\"REPÚBLICA \nDOMINICANA\",LOOKUP(6,$J$4:$P$4,J12:P12),IF(EFECTOS!$N$9=\"PANAMÁ\",LOOKUP(7,GEfectos!$J$4:$P$4,GEfectos!J12:P12))))))))","v":91.730340668843084},{"$f":"IF(EFECTOS!$N$9=\"COSTA RICA\",LOOKUP(1,GEfectos!$Q$4:$W$4,GEfectos!Q12:W12),IF(EFECTOS!$N$9=\"EL SALVADOR\",LOOKUP(2,GEfectos!$Q$4:$W$4,GEfectos!Q12:W12),IF(EFECTOS!$N$9=\"GUATEMALA\",LOOKUP(3,GEfectos!$Q$4:$W$4,GEfectos!Q12:W12),IF(EFECTOS!$N$9=\"HONDURAS\",LOOKUP(4,GEfectos!$Q$4:$W$4,GEfectos!Q12:W12),IF(EFECTOS!$N$9=\"NICARAGUA\",LOOKUP(5,GEfectos!$Q$4:$W$4,GEfectos!Q12:W12),IF(EFECTOS!$N$9=\"REPÚBLICA \nDOMINICANA\",LOOKUP(6,$Q$4:$W$4,Q12:W12),IF(EFECTOS!$N$9=\"PANAMÁ\",LOOKUP(7,GEfectos!$Q$4:$W$4,GEfectos!Q12:W12))))))))","v":110.40667754801525},100]
[null,{"$f":"'ITCER GLOBAL'!B13","v":"Agosto"},{"$f":"'ITCER GLOBAL'!C13","v":106.22047064209883},{"$f":"'ITCER GLOBAL'!D13","v":114.31000417164024},{"$f":"'ITCER GLOBAL'!E13","v":103.37326606914115},{"$f":"'ITCER GLOBAL'!F13","v":130.24470156770099},{"$f":"'ITCER GLOBAL'!G13","v":100.47759175257598},{"$f":"'ITCER GLOBAL'!H13","v":81.460652363275059},{"$f":"'ITCER GLOBAL'!I13","v":103.98204529077273},{"$f":"'ITCER GLOBAL'!S13","v":67.350096465044601},{"$f":"'ITCER GLOBAL'!T13","v":119.7013965169581},{"$f":"'ITCER GLOBAL'!U13","v":87.684414391490407},{"$f":"'ITCER GLOBAL'!V13","v":73.120965465621509},{"$f":"'ITCER GLOBAL'!W13","v":70.998633107137593},{"$f":"'ITCER GLOBAL'!X13","v":90.570116214424232},{"$f":"'ITCER GLOBAL'!Y13","v":118.55118622387211},{"$f":"'ITCER GLOBAL'!AA13","v":63.405948079419858},{"$f":"'ITCER GLOBAL'!AB13","v":104.71646588099368},{"$f":"'ITCER GLOBAL'!AC13","v":84.823105359603062},{"$f":"'ITCER GLOBAL'!AD13","v":56.141220783260316},{"$f":"'ITCER GLOBAL'!AE13","v":70.661161228834274},{"$f":"'ITCER GLOBAL'!AF13","v":111.18265516770647},{"$f":"'ITCER GLOBAL'!AG13","v":114.01120827385019},null,{"$f":"IF(EFECTOS!$N$9=\"COSTA RICA\",LOOKUP(1,GEfectos!$C$4:$I$4,GEfectos!C13:I13),IF(EFECTOS!$N$9=\"EL SALVADOR\",LOOKUP(2,GEfectos!$C$4:$I$4,GEfectos!C13:I13),IF(EFECTOS!$N$9=\"GUATEMALA\",LOOKUP(3,GEfectos!$C$4:$I$4,GEfectos!C13:I13),IF(EFECTOS!$N$9=\"HONDURAS\",LOOKUP(4,GEfectos!$C$4:$I$4,GEfectos!C13:I13),IF(EFECTOS!$N$9=\"NICARAGUA\",LOOKUP(5,GEfectos!$C$4:$I$4,GEfectos!C13:I13),IF(EFECTOS!$N$9=\"REPÚBLICA \nDOMINICANA\",LOOKUP(6,$C$4:$I$4,C13:I13),IF(EFECTOS!$N$9=\"PANAMÁ\",LOOKUP(7,GEfectos!$C$4:$I$4,GEfectos!C13:I13))))))))","v":81.460652363275059},{"$f":"IF(EFECTOS!$N$9=\"COSTA RICA\",LOOKUP(1,GEfectos!$J$4:$P$4,GEfectos!J13:P13),IF(EFECTOS!$N$9=\"EL SALVADOR\",LOOKUP(2,GEfectos!$J$4:$P$4,GEfectos!J13:P13),IF(EFECTOS!$N$9=\"GUATEMALA\",LOOKUP(3,GEfectos!$J$4:$P$4,GEfectos!J13:P13),IF(EFECTOS!$N$9=\"HONDURAS\",LOOKUP(4,GEfectos!$J$4:$P$4,GEfectos!J13:P13),IF(EFECTOS!$N$9=\"NICARAGUA\",LOOKUP(5,GEfectos!$J$4:$P$4,GEfectos!J13:P13),IF(EFECTOS!$N$9=\"REPÚBLICA \nDOMINICANA\",LOOKUP(6,$J$4:$P$4,J13:P13),IF(EFECTOS!$N$9=\"PANAMÁ\",LOOKUP(7,GEfectos!$J$4:$P$4,GEfectos!J13:P13))))))))","v":90.570116214424232},{"$f":"IF(EFECTOS!$N$9=\"COSTA RICA\",LOOKUP(1,GEfectos!$Q$4:$W$4,GEfectos!Q13:W13),IF(EFECTOS!$N$9=\"EL SALVADOR\",LOOKUP(2,GEfectos!$Q$4:$W$4,GEfectos!Q13:W13),IF(EFECTOS!$N$9=\"GUATEMALA\",LOOKUP(3,GEfectos!$Q$4:$W$4,GEfectos!Q13:W13),IF(EFECTOS!$N$9=\"HONDURAS\",LOOKUP(4,GEfectos!$Q$4:$W$4,GEfectos!Q13:W13),IF(EFECTOS!$N$9=\"NICARAGUA\",LOOKUP(5,GEfectos!$Q$4:$W$4,GEfectos!Q13:W13),IF(EFECTOS!$N$9=\"REPÚBLICA \nDOMINICANA\",LOOKUP(6,$Q$4:$W$4,Q13:W13),IF(EFECTOS!$N$9=\"PANAMÁ\",LOOKUP(7,GEfectos!$Q$4:$W$4,GEfectos!Q13:W13))))))))","v":111.18265516770647},100]
[null,{"$f":"'ITCER GLOBAL'!B14","v":"Septiembre"},{"$f":"'ITCER GLOBAL'!C14","v":104.48796582576891},{"$f":"'ITCER GLOBAL'!D14","v":110.9562216354246},{"$f":"'ITCER GLOBAL'!E14","v":102.09481851867358},{"$f":"'ITCER GLOBAL'!F14","v":127.83437458371961},{"$f":"'ITCER GLOBAL'!G14","v":98.758488107832889},{"$f":"'ITCER GLOBAL'!H14","v":78.239555108193045},{"$f":"'ITCER GLOBAL'!I14","v":102.53284602476876},{"$f":"'ITCER GLOBAL'!S14","v":67.853017292333661},{"$f":"'ITCER GLOBAL'!T14","v":118.72608740001429},{"$f":"'ITCER GLOBAL'!U14","v":88.255475592529592},{"$f":"'ITCER GLOBAL'!V14","v":73.530378948027547},{"$f":"'ITCER GLOBAL'!W14","v":70.977822604664183},{"$f":"'ITCER GLOBAL'!X14","v":89.826465372336912},{"$f":"'ITCER GLOBAL'!Y14","v":117.42232535031731},{"$f":"'ITCER GLOBAL'!AA14","v":64.938595326352598},{"$f":"'ITCER GLOBAL'!AB14","v":107.00264090653661},{"$f":"'ITCER GLOBAL'!AC14","v":86.444617731885472},{"$f":"'ITCER GLOBAL'!AD14","v":57.520036521844908},{"$f":"'ITCER GLOBAL'!AE14","v":71.870098423504189},{"$f":"'ITCER GLOBAL'!AF14","v":114.8095298447454},{"$f":"'ITCER GLOBAL'!AG14","v":114.52166783895935},null,{"$f":"IF(EFECTOS!$N$9=\"COSTA RICA\",LOOKUP(1,GEfectos!$C$4:$I$4,GEfectos!C14:I14),IF(EFECTOS!$N$9=\"EL SALVADOR\",LOOKUP(2,GEfectos!$C$4:$I$4,GEfectos!C14:I14),IF(EFECTOS!$N$9=\"GUATEMALA\",LOOKUP(3,GEfectos!$C$4:$I$4,GEfectos!C14:I14),IF(EFECTOS!$N$9=\"HONDURAS\",LOOKUP(4,GEfectos!$C$4:$I$4,GEfectos!C14:I14),IF(EFECTOS!$N$9=\"NICARAGUA\",LOOKUP(5,GEfectos!$C$4:$I$4,GEfectos!C14:I14),IF(EFECTOS!$N$9=\"REPÚBLICA \nDOMINICANA\",LOOKUP(6,$C$4:$I$4,C14:I14),IF(EFECTOS!$N$9=\"PANAMÁ\",LOOKUP(7,GEfectos!$C$4:$I$4,GEfectos!C14:I14))))))))","v":78.239555108193045},{"$f":"IF(EFECTOS!$N$9=\"COSTA RICA\",LOOKUP(1,GEfectos!$J$4:$P$4,GEfectos!J14:P14),IF(EFECTOS!$N$9=\"EL SALVADOR\",LOOKUP(2,GEfectos!$J$4:$P$4,GEfectos!J14:P14),IF(EFECTOS!$N$9=\"GUATEMALA\",LOOKUP(3,GEfectos!$J$4:$P$4,GEfectos!J14:P14),IF(EFECTOS!$N$9=\"HONDURAS\",LOOKUP(4,GEfectos!$J$4:$P$4,GEfectos!J14:P14),IF(EFECTOS!$N$9=\"NICARAGUA\",LOOKUP(5,GEfectos!$J$4:$P$4,GEfectos!J14:P14),IF(EFECTOS!$N$9=\"REPÚBLICA \nDOMINICANA\",LOOKUP(6,$J$4:$P$4,J14:P14),IF(EFECTOS!$N$9=\"PANAMÁ\",LOOKUP(7,GEfectos!$J$4:$P$4,GEfectos!J14:P14))))))))","v":89.826465372336912},{"$f":"IF(EFECTOS!$N$9=\"COSTA RICA\",LOOKUP(1,GEfectos!$Q$4:$W$4,GEfectos!Q14:W14),IF(EFECTOS!$N$9=\"EL SALVADOR\",LOOKUP(2,GEfectos!$Q$4:$W$4,GEfectos!Q14:W14),IF(EFECTOS!$N$9=\"GUATEMALA\",LOOKUP(3,GEfectos!$Q$4:$W$4,GEfectos!Q14:W14),IF(EFECTOS!$N$9=\"HONDURAS\",LOOKUP(4,GEfectos!$Q$4:$W$4,GEfectos!Q14:W14),IF(EFECTOS!$N$9=\"NICARAGUA\",LOOKUP(5,GEfectos!$Q$4:$W$4,GEfectos!Q14:W14),IF(EFECTOS!$N$9=\"REPÚBLICA \nDOMINICANA\",LOOKUP(6,$Q$4:$W$4,Q14:W14),IF(EFECTOS!$N$9=\"PANAMÁ\",LOOKUP(7,GEfectos!$Q$4:$W$4,GEfectos!Q14:W14))))))))","v":114.8095298447454},100]
[null,{"$f":"'ITCER GLOBAL'!B15","v":"Octubre"},{"$f":"'ITCER GLOBAL'!C15","v":103.47692144646216},{"$f":"'ITCER GLOBAL'!D15","v":110.91386521652721},{"$f":"'ITCER GLOBAL'!E15","v":102.14570298529242},{"$f":"'ITCER GLOBAL'!F15","v":128.11559716790131},{"$f":"'ITCER GLOBAL'!G15","v":96.452389111491442},{"$f":"'ITCER GLOBAL'!H15","v":77.826416839044782},{"$f":"'ITCER GLOBAL'!I15","v":103.15778835725179},{"$f":"'ITCER GLOBAL'!S15","v":68.899533369770438},{"$f":"'ITCER GLOBAL'!T15","v":118.34746678981975},{"$f":"'ITCER GLOBAL'!U15","v":88.980016132483925},{"$f":"'ITCER GLOBAL'!V15","v":74.653297125443601},{"$f":"'ITCER GLOBAL'!W15","v":71.46950922977183},{"$f":"'ITCER GLOBAL'!X15","v":89.685738732477034},{"$f":"'ITCER GLOBAL'!Y15","v":117.37709458434375},{"$f":"'ITCER GLOBAL'!AA15","v":66.584444537633743},{"$f":"'ITCER GLOBAL'!AB15","v":106.70213914083743},{"$f":"'ITCER GLOBAL'!AC15","v":87.110875476862532},{"$f":"'ITCER GLOBAL'!AD15","v":58.270264336048839},{"$f":"'ITCER GLOBAL'!AE15","v":74.098225962198441},{"$f":"'ITCER GLOBAL'!AF15","v":115.23817024489109},{"$f":"'ITCER GLOBAL'!AG15","v":113.78403555711007},null,{"$f":"IF(EFECTOS!$N$9=\"COSTA RICA\",LOOKUP(1,GEfectos!$C$4:$I$4,GEfectos!C15:I15),IF(EFECTOS!$N$9=\"EL SALVADOR\",LOOKUP(2,GEfectos!$C$4:$I$4,GEfectos!C15:I15),IF(EFECTOS!$N$9=\"GUATEMALA\",LOOKUP(3,GEfectos!$C$4:$I$4,GEfectos!C15:I15),IF(EFECTOS!$N$9=\"HONDURAS\",LOOKUP(4,GEfectos!$C$4:$I$4,GEfectos!C15:I15),IF(EFECTOS!$N$9=\"NICARAGUA\",LOOKUP(5,GEfectos!$C$4:$I$4,GEfectos!C15:I15),IF(EFECTOS!$N$9=\"REPÚBLICA \nDOMINICANA\",LOOKUP(6,$C$4:$I$4,C15:I15),IF(EFECTOS!$N$9=\"PANAMÁ\",LOOKUP(7,GEfectos!$C$4:$I$4,GEfectos!C15:I15))))))))","v":77.826416839044782},{"$f":"IF(EFECTOS!$N$9=\"COSTA RICA\",LOOKUP(1,GEfectos!$J$4:$P$4,GEfectos!J15:P15),IF(EFECTOS!$N$9=\"EL SALVADOR\",LOOKUP(2,GEfectos!$J$4:$P$4,GEfectos!J15:P15),IF(EFECTOS!$N$9=\"GUATEMALA\",LOOKUP(3,GEfectos!$J$4:$P$4,GEfectos!J15:P15),IF(EFECTOS!$N$9=\"HONDURAS\",LOOKUP(4,GEfectos!$J$4:$P$4,GEfectos!J15:P15),IF(EFECTOS!$N$9=\"NICARAGUA\",LOOKUP(5,GEfectos!$J$4:$P$4,GEfectos!J15:P15),IF(EFECTOS!$N$9=\"REPÚBLICA \nDOMINICANA\",LOOKUP(6,$J$4:$P$4,J15:P15),IF(EFECTOS!$N$9=\"PANAMÁ\",LOOKUP(7,GEfectos!$J$4:$P$4,GEfectos!J15:P15))))))))","v":89.685738732477034},{"$f":"IF(EFECTOS!$N$9=\"COSTA RICA\",LOOKUP(1,GEfectos!$Q$4:$W$4,GEfectos!Q15:W15),IF(EFECTOS!$N$9=\"EL SALVADOR\",LOOKUP(2,GEfectos!$Q$4:$W$4,GEfectos!Q15:W15),IF(EFECTOS!$N$9=\"GUATEMALA\",LOOKUP(3,GEfectos!$Q$4:$W$4,GEfectos!Q15:W15),IF(EFECTOS!$N$9=\"HONDURAS\",LOOKUP(4,GEfectos!$Q$4:$W$4,GEfectos!Q15:W15),IF(EFECTOS!$N$9=\"NICARAGUA\",LOOKUP(5,GEfectos!$Q$4:$W$4,GEfectos!Q15:W15),IF(EFECTOS!$N$9=\"REPÚBLICA \nDOMINICANA\",LOOKUP(6,$Q$4:$W$4,Q15:W15),IF(EFECTOS!$N$9=\"PANAMÁ\",LOOKUP(7,GEfectos!$Q$4:$W$4,GEfectos!Q15:W15))))))))","v":115.23817024489109},100]
[null,{"$f":"'ITCER GLOBAL'!B16","v":"Noviembre"},{"$f":"'ITCER GLOBAL'!C16","v":102.25938426571187},{"$f":"'ITCER GLOBAL'!D16","v":109.98074284712067},{"$f":"'ITCER GLOBAL'!E16","v":100.82829788352673},{"$f":"'ITCER GLOBAL'!F16","v":129.11459814394749},{"$f":"'ITCER GLOBAL'!G16","v":94.262372968989055},{"$f":"'ITCER GLOBAL'!H16","v":76.406998912943848},{"$f":"'ITCER GLOBAL'!I16","v":102.70382962152497},{"$f":"'ITCER GLOBAL'!S16","v":69.533180671003407},{"$f":"'ITCER GLOBAL'!T16","v":117.27416766266788},{"$f":"'ITCER GLOBAL'!U16","v":88.612569979588841},{"$f":"'ITCER GLOBAL'!V16","v":76.046034022393812},{"$f":"'ITCER GLOBAL'!W16","v":71.46260486928287},{"$f":"'ITCER GLOBAL'!X16","v":88.686146541752834},{"$f":"'ITCER GLOBAL'!Y16","v":116.56890820116945},{"$f":"'ITCER GLOBAL'!AA16","v":67.996870087079401},{"$f":"'ITCER GLOBAL'!AB16","v":106.63154714792704},{"$f":"'ITCER GLOBAL'!AC16","v":87.884623503166679},{"$f":"'ITCER GLOBAL'!AD16","v":58.898091397543972},{"$f":"'ITCER GLOBAL'!AE16","v":75.812439914697478},{"$f":"'ITCER GLOBAL'!AF16","v":116.07071054158209},{"$f":"'ITCER GLOBAL'!AG16","v":113.50005995953492},null,{"$f":"IF(EFECTOS!$N$9=\"COSTA RICA\",LOOKUP(1,GEfectos!$C$4:$I$4,GEfectos!C16:I16),IF(EFECTOS!$N$9=\"EL SALVADOR\",LOOKUP(2,GEfectos!$C$4:$I$4,GEfectos!C16:I16),IF(EFECTOS!$N$9=\"GUATEMALA\",LOOKUP(3,GEfectos!$C$4:$I$4,GEfectos!C16:I16),IF(EFECTOS!$N$9=\"HONDURAS\",LOOKUP(4,GEfectos!$C$4:$I$4,GEfectos!C16:I16),IF(EFECTOS!$N$9=\"NICARAGUA\",LOOKUP(5,GEfectos!$C$4:$I$4,GEfectos!C16:I16),IF(EFECTOS!$N$9=\"REPÚBLICA \nDOMINICANA\",LOOKUP(6,$C$4:$I$4,C16:I16),IF(EFECTOS!$N$9=\"PANAMÁ\",LOOKUP(7,GEfectos!$C$4:$I$4,GEfectos!C16:I16))))))))","v":76.406998912943848},{"$f":"IF(EFECTOS!$N$9=\"COSTA RICA\",LOOKUP(1,GEfectos!$J$4:$P$4,GEfectos!J16:P16),IF(EFECTOS!$N$9=\"EL SALVADOR\",LOOKUP(2,GEfectos!$J$4:$P$4,GEfectos!J16:P16),IF(EFECTOS!$N$9=\"GUATEMALA\",LOOKUP(3,GEfectos!$J$4:$P$4,GEfectos!J16:P16),IF(EFECTOS!$N$9=\"HONDURAS\",LOOKUP(4,GEfectos!$J$4:$P$4,GEfectos!J16:P16),IF(EFECTOS!$N$9=\"NICARAGUA\",LOOKUP(5,GEfectos!$J$4:$P$4,GEfectos!J16:P16),IF(EFECTOS!$N$9=\"REPÚBLICA \nDOMINICANA\",LOOKUP(6,$J$4:$P$4,J16:P16),IF(EFECTOS!$N$9=\"PANAMÁ\",LOOKUP(7,GEfectos!$J$4:$P$4,GEfectos!J16:P16))))))))","v":88.686146541752834},{"$f":"IF(EFECTOS!$N$9=\"COSTA RICA\",LOOKUP(1,GEfectos!$Q$4:$W$4,GEfectos!Q16:W16),IF(EFECTOS!$N$9=\"EL SALVADOR\",LOOKUP(2,GEfectos!$Q$4:$W$4,GEfectos!Q16:W16),IF(EFECTOS!$N$9=\"GUATEMALA\",LOOKUP(3,GEfectos!$Q$4:$W$4,GEfectos!Q16:W16),IF(EFECTOS!$N$9=\"HONDURAS\",LOOKUP(4,GEfectos!$Q$4:$W$4,GEfectos!Q16:W16),IF(EFECTOS!$N$9=\"NICARAGUA\",LOOKUP(5,GEfectos!$Q$4:$W$4,GEfectos!Q16:W16),IF(EFECTOS!$N$9=\"REPÚBLICA \nDOMINICANA\",LOOKUP(6,$Q$4:$W$4,Q16:W16),IF(EFECTOS!$N$9=\"PANAMÁ\",LOOKUP(7,GEfectos!$Q$4:$W$4,GEfectos!Q16:W16))))))))","v":116.07071054158209},100]
[null,{"$f":"'ITCER GLOBAL'!B17","v":"Diciembre"},{"$f":"'ITCER GLOBAL'!C17","v":102.37029643958145},{"$f":"'ITCER GLOBAL'!D17","v":109.92610123351895},{"$f":"'ITCER GLOBAL'!E17","v":99.182194625672878},{"$f":"'ITCER GLOBAL'!F17","v":129.64565417026981},{"$f":"'ITCER GLOBAL'!G17","v":96.05291424669322},{"$f":"'ITCER GLOBAL'!H17","v":103.7019594118613},{"$f":"'ITCER GLOBAL'!I17","v":102.24283399794523},{"$f":"'ITCER GLOBAL'!S17","v":70.328781651606249},{"$f":"'ITCER GLOBAL'!T17","v":117.05351553265811},{"$f":"'ITCER GLOBAL'!U17","v":87.392618813593387},{"$f":"'ITCER GLOBAL'!V17","v":77.443149173257524},{"$f":"'ITCER GLOBAL'!W17","v":71.885414611444503},{"$f":"'ITCER GLOBAL'!X17","v":88.492368002263049},{"$f":"'ITCER GLOBAL'!Y17","v":116.2544295290846},{"$f":"'ITCER GLOBAL'!AA17","v":68.700379013861721},{"$f":"'ITCER GLOBAL'!AB17","v":106.48382342242648},{"$f":"'ITCER GLOBAL'!AC17","v":88.113213408339107},{"$f":"'ITCER GLOBAL'!AD17","v":59.734473684361021},{"$f":"'ITCER GLOBAL'!AE17","v":74.83938949194274},{"$f":"'ITCER GLOBAL'!AF17","v":85.33336159137356},{"$f":"'ITCER GLOBAL'!AG17","v":113.70423234886171},null,{"$f":"IF(EFECTOS!$N$9=\"COSTA RICA\",LOOKUP(1,GEfectos!$C$4:$I$4,GEfectos!C17:I17),IF(EFECTOS!$N$9=\"EL SALVADOR\",LOOKUP(2,GEfectos!$C$4:$I$4,GEfectos!C17:I17),IF(EFECTOS!$N$9=\"GUATEMALA\",LOOKUP(3,GEfectos!$C$4:$I$4,GEfectos!C17:I17),IF(EFECTOS!$N$9=\"HONDURAS\",LOOKUP(4,GEfectos!$C$4:$I$4,GEfectos!C17:I17),IF(EFECTOS!$N$9=\"NICARAGUA\",LOOKUP(5,GEfectos!$C$4:$I$4,GEfectos!C17:I17),IF(EFECTOS!$N$9=\"REPÚBLICA \nDOMINICANA\",LOOKUP(6,$C$4:$I$4,C17:I17),IF(EFECTOS!$N$9=\"PANAMÁ\",LOOKUP(7,GEfectos!$C$4:$I$4,GEfectos!C17:I17))))))))","v":103.7019594118613},{"$f":"IF(EFECTOS!$N$9=\"COSTA RICA\",LOOKUP(1,GEfectos!$J$4:$P$4,GEfectos!J17:P17),IF(EFECTOS!$N$9=\"EL SALVADOR\",LOOKUP(2,GEfectos!$J$4:$P$4,GEfectos!J17:P17),IF(EFECTOS!$N$9=\"GUATEMALA\",LOOKUP(3,GEfectos!$J$4:$P$4,GEfectos!J17:P17),IF(EFECTOS!$N$9=\"HONDURAS\",LOOKUP(4,GEfectos!$J$4:$P$4,GEfectos!J17:P17),IF(EFECTOS!$N$9=\"NICARAGUA\",LOOKUP(5,GEfectos!$J$4:$P$4,GEfectos!J17:P17),IF(EFECTOS!$N$9=\"REPÚBLICA \nDOMINICANA\",LOOKUP(6,$J$4:$P$4,J17:P17),IF(EFECTOS!$N$9=\"PANAMÁ\",LOOKUP(7,GEfectos!$J$4:$P$4,GEfectos!J17:P17))))))))","v":88.492368002263049},{"$f":"IF(EFECTOS!$N$9=\"COSTA RICA\",LOOKUP(1,GEfectos!$Q$4:$W$4,GEfectos!Q17:W17),IF(EFECTOS!$N$9=\"EL SALVADOR\",LOOKUP(2,GEfectos!$Q$4:$W$4,GEfectos!Q17:W17),IF(EFECTOS!$N$9=\"GUATEMALA\",LOOKUP(3,GEfectos!$Q$4:$W$4,GEfectos!Q17:W17),IF(EFECTOS!$N$9=\"HONDURAS\",LOOKUP(4,GEfectos!$Q$4:$W$4,GEfectos!Q17:W17),IF(EFECTOS!$N$9=\"NICARAGUA\",LOOKUP(5,GEfectos!$Q$4:$W$4,GEfectos!Q17:W17),IF(EFECTOS!$N$9=\"REPÚBLICA \nDOMINICANA\",LOOKUP(6,$Q$4:$W$4,Q17:W17),IF(EFECTOS!$N$9=\"PANAMÁ\",LOOKUP(7,GEfectos!$Q$4:$W$4,GEfectos!Q17:W17))))))))","v":85.33336159137356},100]
[1996,{"$f":"'ITCER GLOBAL'!B18","v":"Enero"},{"$f":"'ITCER GLOBAL'!C18","v":102.88328824743735},{"$f":"'ITCER GLOBAL'!D18","v":109.39089830949999},{"$f":"'ITCER GLOBAL'!E18","v":101.19453975040614},{"$f":"'ITCER GLOBAL'!F18","v":131.72866005129308},{"$f":"'ITCER GLOBAL'!G18","v":97.746274193595482},{"$f":"'ITCER GLOBAL'!H18","v":100.90523138800098},{"$f":"'ITCER GLOBAL'!I18","v":105.56601007476365},{"$f":"'ITCER GLOBAL'!S18","v":71.422741477937578},{"$f":"'ITCER GLOBAL'!T18","v":117.35637433621353},{"$f":"'ITCER GLOBAL'!U18","v":89.701301432139331},{"$f":"'ITCER GLOBAL'!V18","v":78.765349903420969},{"$f":"'ITCER GLOBAL'!W18","v":71.648646657520459},{"$f":"'ITCER GLOBAL'!X18","v":85.201551848972585},{"$f":"'ITCER GLOBAL'!Y18","v":120.24255900266918},{"$f":"'ITCER GLOBAL'!AA18","v":69.421130189933052},{"$f":"'ITCER GLOBAL'!AB18","v":107.28166250557409},{"$f":"'ITCER GLOBAL'!AC18","v":88.642432342086252},{"$f":"'ITCER GLOBAL'!AD18","v":59.793631752384776},{"$f":"'ITCER GLOBAL'!AE18","v":73.300642145821058},{"$f":"'ITCER GLOBAL'!AF18","v":84.437199813115171},{"$f":"'ITCER GLOBAL'!AG18","v":113.90272201962671},null,{"$f":"IF(EFECTOS!$N$9=\"COSTA RICA\",LOOKUP(1,GEfectos!$C$4:$I$4,GEfectos!C18:I18),IF(EFECTOS!$N$9=\"EL SALVADOR\",LOOKUP(2,GEfectos!$C$4:$I$4,GEfectos!C18:I18),IF(EFECTOS!$N$9=\"GUATEMALA\",LOOKUP(3,GEfectos!$C$4:$I$4,GEfectos!C18:I18),IF(EFECTOS!$N$9=\"HONDURAS\",LOOKUP(4,GEfectos!$C$4:$I$4,GEfectos!C18:I18),IF(EFECTOS!$N$9=\"NICARAGUA\",LOOKUP(5,GEfectos!$C$4:$I$4,GEfectos!C18:I18),IF(EFECTOS!$N$9=\"REPÚBLICA \nDOMINICANA\",LOOKUP(6,$C$4:$I$4,C18:I18),IF(EFECTOS!$N$9=\"PANAMÁ\",LOOKUP(7,GEfectos!$C$4:$I$4,GEfectos!C18:I18))))))))","v":100.90523138800098},{"$f":"IF(EFECTOS!$N$9=\"COSTA RICA\",LOOKUP(1,GEfectos!$J$4:$P$4,GEfectos!J18:P18),IF(EFECTOS!$N$9=\"EL SALVADOR\",LOOKUP(2,GEfectos!$J$4:$P$4,GEfectos!J18:P18),IF(EFECTOS!$N$9=\"GUATEMALA\",LOOKUP(3,GEfectos!$J$4:$P$4,GEfectos!J18:P18),IF(EFECTOS!$N$9=\"HONDURAS\",LOOKUP(4,GEfectos!$J$4:$P$4,GEfectos!J18:P18),IF(EFECTOS!$N$9=\"NICARAGUA\",LOOKUP(5,GEfectos!$J$4:$P$4,GEfectos!J18:P18),IF(EFECTOS!$N$9=\"REPÚBLICA \nDOMINICANA\",LOOKUP(6,$J$4:$P$4,J18:P18),IF(EFECTOS!$N$9=\"PANAMÁ\",LOOKUP(7,GEfectos!$J$4:$P$4,GEfectos!J18:P18))))))))","v":85.201551848972585},{"$f":"IF(EFECTOS!$N$9=\"COSTA RICA\",LOOKUP(1,GEfectos!$Q$4:$W$4,GEfectos!Q18:W18),IF(EFECTOS!$N$9=\"EL SALVADOR\",LOOKUP(2,GEfectos!$Q$4:$W$4,GEfectos!Q18:W18),IF(EFECTOS!$N$9=\"GUATEMALA\",LOOKUP(3,GEfectos!$Q$4:$W$4,GEfectos!Q18:W18),IF(EFECTOS!$N$9=\"HONDURAS\",LOOKUP(4,GEfectos!$Q$4:$W$4,GEfectos!Q18:W18),IF(EFECTOS!$N$9=\"NICARAGUA\",LOOKUP(5,GEfectos!$Q$4:$W$4,GEfectos!Q18:W18),IF(EFECTOS!$N$9=\"REPÚBLICA \nDOMINICANA\",LOOKUP(6,$Q$4:$W$4,Q18:W18),IF(EFECTOS!$N$9=\"PANAMÁ\",LOOKUP(7,GEfectos!$Q$4:$W$4,GEfectos!Q18:W18))))))))","v":84.437199813115171},100]
[null,{"$f":"'ITCER GLOBAL'!B19","v":"Febrero"},{"$f":"'ITCER GLOBAL'!C19","v":103.39433879443391},{"$f":"'ITCER GLOBAL'!D19","v":109.39103336622522},{"$f":"'ITCER GLOBAL'!E19","v":102.08472081646204},{"$f":"'ITCER GLOBAL'!F19","v":131.10807876113458},{"$f":"'ITCER GLOBAL'!G19","v":97.885150780505683},{"$f":"'ITCER GLOBAL'!H19","v":101.17749905644449},{"$f":"'ITCER GLOBAL'!I19","v":106.00209439390414},{"$f":"'ITCER GLOBAL'!S19","v":72.103798219354317},{"$f":"'ITCER GLOBAL'!T19","v":116.91215194051314},{"$f":"'ITCER GLOBAL'!U19","v":90.486782494650697},{"$f":"'ITCER GLOBAL'!V19","v":80.243631156161612},{"$f":"'ITCER GLOBAL'!W19","v":72.072504224533432},{"$f":"'ITCER GLOBAL'!X19","v":85.115758776847272},{"$f":"'ITCER GLOBAL'!Y19","v":119.99341429306203},{"$f":"'ITCER GLOBAL'!AA19","v":69.736698411224751},{"$f":"'ITCER GLOBAL'!AB19","v":106.875443391332},{"$f":"'ITCER GLOBAL'!AC19","v":88.638908713221383},{"$f":"'ITCER GLOBAL'!AD19","v":61.204185061972602},{"$f":"'ITCER GLOBAL'!AE19","v":73.629660525472701},{"$f":"'ITCER GLOBAL'!AF19","v":84.125185511220479},{"$f":"'ITCER GLOBAL'!AG19","v":113.19909760194558},null,{"$f":"IF(EFECTOS!$N$9=\"COSTA RICA\",LOOKUP(1,GEfectos!$C$4:$I$4,GEfectos!C19:I19),IF(EFECTOS!$N$9=\"EL SALVADOR\",LOOKUP(2,GEfectos!$C$4:$I$4,GEfectos!C19:I19),IF(EFECTOS!$N$9=\"GUATEMALA\",LOOKUP(3,GEfectos!$C$4:$I$4,GEfectos!C19:I19),IF(EFECTOS!$N$9=\"HONDURAS\",LOOKUP(4,GEfectos!$C$4:$I$4,GEfectos!C19:I19),IF(EFECTOS!$N$9=\"NICARAGUA\",LOOKUP(5,GEfectos!$C$4:$I$4,GEfectos!C19:I19),IF(EFECTOS!$N$9=\"REPÚBLICA \nDOMINICANA\",LOOKUP(6,$C$4:$I$4,C19:I19),IF(EFECTOS!$N$9=\"PANAMÁ\",LOOKUP(7,GEfectos!$C$4:$I$4,GEfectos!C19:I19))))))))","v":101.17749905644449},{"$f":"IF(EFECTOS!$N$9=\"COSTA RICA\",LOOKUP(1,GEfectos!$J$4:$P$4,GEfectos!J19:P19),IF(EFECTOS!$N$9=\"EL SALVADOR\",LOOKUP(2,GEfectos!$J$4:$P$4,GEfectos!J19:P19),IF(EFECTOS!$N$9=\"GUATEMALA\",LOOKUP(3,GEfectos!$J$4:$P$4,GEfectos!J19:P19),IF(EFECTOS!$N$9=\"HONDURAS\",LOOKUP(4,GEfectos!$J$4:$P$4,GEfectos!J19:P19),IF(EFECTOS!$N$9=\"NICARAGUA\",LOOKUP(5,GEfectos!$J$4:$P$4,GEfectos!J19:P19),IF(EFECTOS!$N$9=\"REPÚBLICA \nDOMINICANA\",LOOKUP(6,$J$4:$P$4,J19:P19),IF(EFECTOS!$N$9=\"PANAMÁ\",LOOKUP(7,GEfectos!$J$4:$P$4,GEfectos!J19:P19))))))))","v":85.115758776847272},{"$f":"IF(EFECTOS!$N$9=\"COSTA RICA\",LOOKUP(1,GEfectos!$Q$4:$W$4,GEfectos!Q19:W19),IF(EFECTOS!$N$9=\"EL SALVADOR\",LOOKUP(2,GEfectos!$Q$4:$W$4,GEfectos!Q19:W19),IF(EFECTOS!$N$9=\"GUATEMALA\",LOOKUP(3,GEfectos!$Q$4:$W$4,GEfectos!Q19:W19),IF(EFECTOS!$N$9=\"HONDURAS\",LOOKUP(4,GEfectos!$Q$4:$W$4,GEfectos!Q19:W19),IF(EFECTOS!$N$9=\"NICARAGUA\",LOOKUP(5,GEfectos!$Q$4:$W$4,GEfectos!Q19:W19),IF(EFECTOS!$N$9=\"REPÚBLICA \nDOMINICANA\",LOOKUP(6,$Q$4:$W$4,Q19:W19),IF(EFECTOS!$N$9=\"PANAMÁ\",LOOKUP(7,GEfectos!$Q$4:$W$4,GEfectos!Q19:W19))))))))","v":84.125185511220479},100]
[null,{"$f":"'ITCER GLOBAL'!B20","v":"Marzo"},{"$f":"'ITCER GLOBAL'!C20","v":104.3037719641849},{"$f":"'ITCER GLOBAL'!D20","v":109.26473330279947},{"$f":"'ITCER GLOBAL'!E20","v":101.64263876396804},{"$f":"'ITCER GLOBAL'!F20","v":132.38118281324816},{"$f":"'ITCER GLOBAL'!G20","v":98.294533648206837},{"$f":"'ITCER GLOBAL'!H20","v":101.52436886636747},{"$f":"'ITCER GLOBAL'!I20","v":106.05994607291674},{"$f":"'ITCER GLOBAL'!S20","v":72.703462271405456},{"$f":"'ITCER GLOBAL'!T20","v":116.55618007813231},{"$f":"'ITCER GLOBAL'!U20","v":90.457045123047351},{"$f":"'ITCER GLOBAL'!V20","v":81.802641378965248},{"$f":"'ITCER GLOBAL'!W20","v":72.518007556338873},{"$f":"'ITCER GLOBAL'!X20","v":85.004157988391924},{"$f":"'ITCER GLOBAL'!Y20","v":119.65536352947612},{"$f":"'ITCER GLOBAL'!AA20","v":69.703579172927576},{"$f":"'ITCER GLOBAL'!AB20","v":106.67319322065836},{"$f":"'ITCER GLOBAL'!AC20","v":88.995175866207504},{"$f":"'ITCER GLOBAL'!AD20","v":61.793254630731987},{"$f":"'ITCER GLOBAL'!AE20","v":73.776236444519526},{"$f":"'ITCER GLOBAL'!AF20","v":83.727836910052162},{"$f":"'ITCER GLOBAL'!AG20","v":112.81861622597134},null,{"$f":"IF(EFECTOS!$N$9=\"COSTA RICA\",LOOKUP(1,GEfectos!$C$4:$I$4,GEfectos!C20:I20),IF(EFECTOS!$N$9=\"EL SALVADOR\",LOOKUP(2,GEfectos!$C$4:$I$4,GEfectos!C20:I20),IF(EFECTOS!$N$9=\"GUATEMALA\",LOOKUP(3,GEfectos!$C$4:$I$4,GEfectos!C20:I20),IF(EFECTOS!$N$9=\"HONDURAS\",LOOKUP(4,GEfectos!$C$4:$I$4,GEfectos!C20:I20),IF(EFECTOS!$N$9=\"NICARAGUA\",LOOKUP(5,GEfectos!$C$4:$I$4,GEfectos!C20:I20),IF(EFECTOS!$N$9=\"REPÚBLICA \nDOMINICANA\",LOOKUP(6,$C$4:$I$4,C20:I20),IF(EFECTOS!$N$9=\"PANAMÁ\",LOOKUP(7,GEfectos!$C$4:$I$4,GEfectos!C20:I20))))))))","v":101.52436886636747},{"$f":"IF(EFECTOS!$N$9=\"COSTA RICA\",LOOKUP(1,GEfectos!$J$4:$P$4,GEfectos!J20:P20),IF(EFECTOS!$N$9=\"EL SALVADOR\",LOOKUP(2,GEfectos!$J$4:$P$4,GEfectos!J20:P20),IF(EFECTOS!$N$9=\"GUATEMALA\",LOOKUP(3,GEfectos!$J$4:$P$4,GEfectos!J20:P20),IF(EFECTOS!$N$9=\"HONDURAS\",LOOKUP(4,GEfectos!$J$4:$P$4,GEfectos!J20:P20),IF(EFECTOS!$N$9=\"NICARAGUA\",LOOKUP(5,GEfectos!$J$4:$P$4,GEfectos!J20:P20),IF(EFECTOS!$N$9=\"REPÚBLICA \nDOMINICANA\",LOOKUP(6,$J$4:$P$4,J20:P20),IF(EFECTOS!$N$9=\"PANAMÁ\",LOOKUP(7,GEfectos!$J$4:$P$4,GEfectos!J20:P20))))))))","v":85.004157988391924},{"$f":"IF(EFECTOS!$N$9=\"COSTA RICA\",LOOKUP(1,GEfectos!$Q$4:$W$4,GEfectos!Q20:W20),IF(EFECTOS!$N$9=\"EL SALVADOR\",LOOKUP(2,GEfectos!$Q$4:$W$4,GEfectos!Q20:W20),IF(EFECTOS!$N$9=\"GUATEMALA\",LOOKUP(3,GEfectos!$Q$4:$W$4,GEfectos!Q20:W20),IF(EFECTOS!$N$9=\"HONDURAS\",LOOKUP(4,GEfectos!$Q$4:$W$4,GEfectos!Q20:W20),IF(EFECTOS!$N$9=\"NICARAGUA\",LOOKUP(5,GEfectos!$Q$4:$W$4,GEfectos!Q20:W20),IF(EFECTOS!$N$9=\"REPÚBLICA \nDOMINICANA\",LOOKUP(6,$Q$4:$W$4,Q20:W20),IF(EFECTOS!$N$9=\"PANAMÁ\",LOOKUP(7,GEfectos!$Q$4:$W$4,GEfectos!Q20:W20))))))))","v":83.727836910052162},100]
[null,{"$f":"'ITCER GLOBAL'!B21","v":"Abril"},{"$f":"'ITCER GLOBAL'!C21","v":104.79143649165501},{"$f":"'ITCER GLOBAL'!D21","v":109.39291105015765},{"$f":"'ITCER GLOBAL'!E21","v":100.15265710051526},{"$f":"'ITCER GLOBAL'!F21","v":131.85737252180294},{"$f":"'ITCER GLOBAL'!G21","v":98.718370884751593},{"$f":"'ITCER GLOBAL'!H21","v":101.89458546873823},{"$f":"'ITCER GLOBAL'!I21","v":106.14148513293745},{"$f":"'ITCER GLOBAL'!S21","v":73.16941077092099},{"$f":"'ITCER GLOBAL'!T21","v":116.32116512058674},{"$f":"'ITCER GLOBAL'!U21","v":89.578356785462105},{"$f":"'ITCER GLOBAL'!V21","v":82.717728689291022},{"$f":"'ITCER GLOBAL'!W21","v":72.980625538995881},{"$f":"'ITCER GLOBAL'!X21","v":84.934496614804502},{"$f":"'ITCER GLOBAL'!Y21","v":119.23877866818155},{"$f":"'ITCER GLOBAL'!AA21","v":69.823845555116321},{"$f":"'ITCER GLOBAL'!AB21","v":106.33336658099574},{"$f":"'ITCER GLOBAL'!AC21","v":89.441817500218121},{"$f":"'ITCER GLOBAL'!AD21","v":62.732729393355257},{"$f":"'ITCER GLOBAL'!AE21","v":73.928109717487985},{"$f":"'ITCER GLOBAL'!AF21","v":83.355259971947021},{"$f":"'ITCER GLOBAL'!AG21","v":112.33946700372653},null,{"$f":"IF(EFECTOS!$N$9=\"COSTA RICA\",LOOKUP(1,GEfectos!$C$4:$I$4,GEfectos!C21:I21),IF(EFECTOS!$N$9=\"EL SALVADOR\",LOOKUP(2,GEfectos!$C$4:$I$4,GEfectos!C21:I21),IF(EFECTOS!$N$9=\"GUATEMALA\",LOOKUP(3,GEfectos!$C$4:$I$4,GEfectos!C21:I21),IF(EFECTOS!$N$9=\"HONDURAS\",LOOKUP(4,GEfectos!$C$4:$I$4,GEfectos!C21:I21),IF(EFECTOS!$N$9=\"NICARAGUA\",LOOKUP(5,GEfectos!$C$4:$I$4,GEfectos!C21:I21),IF(EFECTOS!$N$9=\"REPÚBLICA \nDOMINICANA\",LOOKUP(6,$C$4:$I$4,C21:I21),IF(EFECTOS!$N$9=\"PANAMÁ\",LOOKUP(7,GEfectos!$C$4:$I$4,GEfectos!C21:I21))))))))","v":101.89458546873823},{"$f":"IF(EFECTOS!$N$9=\"COSTA RICA\",LOOKUP(1,GEfectos!$J$4:$P$4,GEfectos!J21:P21),IF(EFECTOS!$N$9=\"EL SALVADOR\",LOOKUP(2,GEfectos!$J$4:$P$4,GEfectos!J21:P21),IF(EFECTOS!$N$9=\"GUATEMALA\",LOOKUP(3,GEfectos!$J$4:$P$4,GEfectos!J21:P21),IF(EFECTOS!$N$9=\"HONDURAS\",LOOKUP(4,GEfectos!$J$4:$P$4,GEfectos!J21:P21),IF(EFECTOS!$N$9=\"NICARAGUA\",LOOKUP(5,GEfectos!$J$4:$P$4,GEfectos!J21:P21),IF(EFECTOS!$N$9=\"REPÚBLICA \nDOMINICANA\",LOOKUP(6,$J$4:$P$4,J21:P21),IF(EFECTOS!$N$9=\"PANAMÁ\",LOOKUP(7,GEfectos!$J$4:$P$4,GEfectos!J21:P21))))))))","v":84.934496614804502},{"$f":"IF(EFECTOS!$N$9=\"COSTA RICA\",LOOKUP(1,GEfectos!$Q$4:$W$4,GEfectos!Q21:W21),IF(EFECTOS!$N$9=\"EL SALVADOR\",LOOKUP(2,GEfectos!$Q$4:$W$4,GEfectos!Q21:W21),IF(EFECTOS!$N$9=\"GUATEMALA\",LOOKUP(3,GEfectos!$Q$4:$W$4,GEfectos!Q21:W21),IF(EFECTOS!$N$9=\"HONDURAS\",LOOKUP(4,GEfectos!$Q$4:$W$4,GEfectos!Q21:W21),IF(EFECTOS!$N$9=\"NICARAGUA\",LOOKUP(5,GEfectos!$Q$4:$W$4,GEfectos!Q21:W21),IF(EFECTOS!$N$9=\"REPÚBLICA \nDOMINICANA\",LOOKUP(6,$Q$4:$W$4,Q21:W21),IF(EFECTOS!$N$9=\"PANAMÁ\",LOOKUP(7,GEfectos!$Q$4:$W$4,GEfectos!Q21:W21))))))))","v":83.355259971947021},100]
[null,{"$f":"'ITCER GLOBAL'!B22","v":"Mayo"},{"$f":"'ITCER GLOBAL'!C22","v":104.21454326799801},{"$f":"'ITCER GLOBAL'!D22","v":108.96749861393698},{"$f":"'ITCER GLOBAL'!E22","v":99.072615125587731},{"$f":"'ITCER GLOBAL'!F22","v":130.95066902522507},{"$f":"'ITCER GLOBAL'!G22","v":98.21906247407864},{"$f":"'ITCER GLOBAL'!H22","v":101.90679877733177},{"$f":"'ITCER GLOBAL'!I22","v":106.50335975647251},{"$f":"'ITCER GLOBAL'!S22","v":73.690045343416728},{"$f":"'ITCER GLOBAL'!T22","v":116.13298550498567},{"$f":"'ITCER GLOBAL'!U22","v":88.678458760685004},{"$f":"'ITCER GLOBAL'!V22","v":83.516896797800925},{"$f":"'ITCER GLOBAL'!W22","v":73.48605734202296},{"$f":"'ITCER GLOBAL'!X22","v":84.847484778909617},{"$f":"'ITCER GLOBAL'!Y22","v":118.87472155128008},{"$f":"'ITCER GLOBAL'!AA22","v":70.709944152339162},{"$f":"'ITCER GLOBAL'!AB22","v":106.57580194295863},{"$f":"'ITCER GLOBAL'!AC22","v":89.508547491426611},{"$f":"'ITCER GLOBAL'!AD22","v":63.777373127977718},{"$f":"'ITCER GLOBAL'!AE22","v":74.818528594097444},{"$f":"'ITCER GLOBAL'!AF22","v":83.259886285215316},{"$f":"'ITCER GLOBAL'!AG22","v":111.61593570671909},null,{"$f":"IF(EFECTOS!$N$9=\"COSTA RICA\",LOOKUP(1,GEfectos!$C$4:$I$4,GEfectos!C22:I22),IF(EFECTOS!$N$9=\"EL SALVADOR\",LOOKUP(2,GEfectos!$C$4:$I$4,GEfectos!C22:I22),IF(EFECTOS!$N$9=\"GUATEMALA\",LOOKUP(3,GEfectos!$C$4:$I$4,GEfectos!C22:I22),IF(EFECTOS!$N$9=\"HONDURAS\",LOOKUP(4,GEfectos!$C$4:$I$4,GEfectos!C22:I22),IF(EFECTOS!$N$9=\"NICARAGUA\",LOOKUP(5,GEfectos!$C$4:$I$4,GEfectos!C22:I22),IF(EFECTOS!$N$9=\"REPÚBLICA \nDOMINICANA\",LOOKUP(6,$C$4:$I$4,C22:I22),IF(EFECTOS!$N$9=\"PANAMÁ\",LOOKUP(7,GEfectos!$C$4:$I$4,GEfectos!C22:I22))))))))","v":101.90679877733177},{"$f":"IF(EFECTOS!$N$9=\"COSTA RICA\",LOOKUP(1,GEfectos!$J$4:$P$4,GEfectos!J22:P22),IF(EFECTOS!$N$9=\"EL SALVADOR\",LOOKUP(2,GEfectos!$J$4:$P$4,GEfectos!J22:P22),IF(EFECTOS!$N$9=\"GUATEMALA\",LOOKUP(3,GEfectos!$J$4:$P$4,GEfectos!J22:P22),IF(EFECTOS!$N$9=\"HONDURAS\",LOOKUP(4,GEfectos!$J$4:$P$4,GEfectos!J22:P22),IF(EFECTOS!$N$9=\"NICARAGUA\",LOOKUP(5,GEfectos!$J$4:$P$4,GEfectos!J22:P22),IF(EFECTOS!$N$9=\"REPÚBLICA \nDOMINICANA\",LOOKUP(6,$J$4:$P$4,J22:P22),IF(EFECTOS!$N$9=\"PANAMÁ\",LOOKUP(7,GEfectos!$J$4:$P$4,GEfectos!J22:P22))))))))","v":84.847484778909617},{"$f":"IF(EFECTOS!$N$9=\"COSTA RICA\",LOOKUP(1,GEfectos!$Q$4:$W$4,GEfectos!Q22:W22),IF(EFECTOS!$N$9=\"EL SALVADOR\",LOOKUP(2,GEfectos!$Q$4:$W$4,GEfectos!Q22:W22),IF(EFECTOS!$N$9=\"GUATEMALA\",LOOKUP(3,GEfectos!$Q$4:$W$4,GEfectos!Q22:W22),IF(EFECTOS!$N$9=\"HONDURAS\",LOOKUP(4,GEfectos!$Q$4:$W$4,GEfectos!Q22:W22),IF(EFECTOS!$N$9=\"NICARAGUA\",LOOKUP(5,GEfectos!$Q$4:$W$4,GEfectos!Q22:W22),IF(EFECTOS!$N$9=\"REPÚBLICA \nDOMINICANA\",LOOKUP(6,$Q$4:$W$4,Q22:W22),IF(EFECTOS!$N$9=\"PANAMÁ\",LOOKUP(7,GEfectos!$Q$4:$W$4,GEfectos!Q22:W22))))))))","v":83.259886285215316},100]
[null,{"$f":"'ITCER GLOBAL'!B23","v":"Junio"},{"$f":"'ITCER GLOBAL'!C23","v":103.99849985249706},{"$f":"'ITCER GLOBAL'!D23","v":107.16422653649248},{"$f":"'ITCER GLOBAL'!E23","v":99.242060745888537},{"$f":"'ITCER GLOBAL'!F23","v":131.03614170088406},{"$f":"'ITCER GLOBAL'!G23","v":98.860767085209446},{"$f":"'ITCER GLOBAL'!H23","v":101.53572306460524},{"$f":"'ITCER GLOBAL'!I23","v":106.43243553003349},{"$f":"'ITCER GLOBAL'!S23","v":74.367932785518718},{"$f":"'ITCER GLOBAL'!T23","v":115.68564403921432},{"$f":"'ITCER GLOBAL'!U23","v":88.989984457199313},{"$f":"'ITCER GLOBAL'!V23","v":85.441432204200936},{"$f":"'ITCER GLOBAL'!W23","v":73.93097656376159},{"$f":"'ITCER GLOBAL'!X23","v":84.680954276188572},{"$f":"'ITCER GLOBAL'!Y23","v":118.42076107481789},{"$f":"'ITCER GLOBAL'!AA23","v":71.508659154695593},{"$f":"'ITCER GLOBAL'!AB23","v":107.95173704708264},{"$f":"'ITCER GLOBAL'!AC23","v":89.669625749771669},{"$f":"'ITCER GLOBAL'!AD23","v":65.204478012820246},{"$f":"'ITCER GLOBAL'!AE23","v":74.782928297571758},{"$f":"'ITCER GLOBAL'!AF23","v":83.400158801555705},{"$f":"'ITCER GLOBAL'!AG23","v":111.26378954412021},null,{"$f":"IF(EFECTOS!$N$9=\"COSTA RICA\",LOOKUP(1,GEfectos!$C$4:$I$4,GEfectos!C23:I23),IF(EFECTOS!$N$9=\"EL SALVADOR\",LOOKUP(2,GEfectos!$C$4:$I$4,GEfectos!C23:I23),IF(EFECTOS!$N$9=\"GUATEMALA\",LOOKUP(3,GEfectos!$C$4:$I$4,GEfectos!C23:I23),IF(EFECTOS!$N$9=\"HONDURAS\",LOOKUP(4,GEfectos!$C$4:$I$4,GEfectos!C23:I23),IF(EFECTOS!$N$9=\"NICARAGUA\",LOOKUP(5,GEfectos!$C$4:$I$4,GEfectos!C23:I23),IF(EFECTOS!$N$9=\"REPÚBLICA \nDOMINICANA\",LOOKUP(6,$C$4:$I$4,C23:I23),IF(EFECTOS!$N$9=\"PANAMÁ\",LOOKUP(7,GEfectos!$C$4:$I$4,GEfectos!C23:I23))))))))","v":101.53572306460524},{"$f":"IF(EFECTOS!$N$9=\"COSTA RICA\",LOOKUP(1,GEfectos!$J$4:$P$4,GEfectos!J23:P23),IF(EFECTOS!$N$9=\"EL SALVADOR\",LOOKUP(2,GEfectos!$J$4:$P$4,GEfectos!J23:P23),IF(EFECTOS!$N$9=\"GUATEMALA\",LOOKUP(3,GEfectos!$J$4:$P$4,GEfectos!J23:P23),IF(EFECTOS!$N$9=\"HONDURAS\",LOOKUP(4,GEfectos!$J$4:$P$4,GEfectos!J23:P23),IF(EFECTOS!$N$9=\"NICARAGUA\",LOOKUP(5,GEfectos!$J$4:$P$4,GEfectos!J23:P23),IF(EFECTOS!$N$9=\"REPÚBLICA \nDOMINICANA\",LOOKUP(6,$J$4:$P$4,J23:P23),IF(EFECTOS!$N$9=\"PANAMÁ\",LOOKUP(7,GEfectos!$J$4:$P$4,GEfectos!J23:P23))))))))","v":84.680954276188572},{"$f":"IF(EFECTOS!$N$9=\"COSTA RICA\",LOOKUP(1,GEfectos!$Q$4:$W$4,GEfectos!Q23:W23),IF(EFECTOS!$N$9=\"EL SALVADOR\",LOOKUP(2,GEfectos!$Q$4:$W$4,GEfectos!Q23:W23),IF(EFECTOS!$N$9=\"GUATEMALA\",LOOKUP(3,GEfectos!$Q$4:$W$4,GEfectos!Q23:W23),IF(EFECTOS!$N$9=\"HONDURAS\",LOOKUP(4,GEfectos!$Q$4:$W$4,GEfectos!Q23:W23),IF(EFECTOS!$N$9=\"NICARAGUA\",LOOKUP(5,GEfectos!$Q$4:$W$4,GEfectos!Q23:W23),IF(EFECTOS!$N$9=\"REPÚBLICA \nDOMINICANA\",LOOKUP(6,$Q$4:$W$4,Q23:W23),IF(EFECTOS!$N$9=\"PANAMÁ\",LOOKUP(7,GEfectos!$Q$4:$W$4,GEfectos!Q23:W23))))))))","v":83.400158801555705},100]
[null,{"$f":"'ITCER GLOBAL'!B24","v":"Julio"},{"$f":"'ITCER GLOBAL'!C24","v":104.32102263512816},{"$f":"'ITCER GLOBAL'!D24","v":107.66919001079654},{"$f":"'ITCER GLOBAL'!E24","v":97.567208280772007},{"$f":"'ITCER GLOBAL'!F24","v":134.78673384273188},{"$f":"'ITCER GLOBAL'!G24","v":99.936644745656849},{"$f":"'ITCER GLOBAL'!H24","v":101.63201907987876},{"$f":"'ITCER GLOBAL'!I24","v":106.5134213369512},{"$f":"'ITCER GLOBAL'!S24","v":75.257291946624491},{"$f":"'ITCER GLOBAL'!T24","v":115.66476731662961},{"$f":"'ITCER GLOBAL'!U24","v":88.376673854871427},{"$f":"'ITCER GLOBAL'!V24","v":89.623059849808968},{"$f":"'ITCER GLOBAL'!W24","v":74.631733406325679},{"$f":"'ITCER GLOBAL'!X24","v":84.742366113692043},{"$f":"'ITCER GLOBAL'!Y24","v":118.46804209703019},{"$f":"'ITCER GLOBAL'!AA24","v":72.140101818061552},{"$f":"'ITCER GLOBAL'!AB24","v":107.42605874998345},{"$f":"'ITCER GLOBAL'!AC24","v":90.580303989581495},{"$f":"'ITCER GLOBAL'!AD24","v":66.492493211075555},{"$f":"'ITCER GLOBAL'!AE24","v":74.679046506180725},{"$f":"'ITCER GLOBAL'!AF24","v":83.381563094882409},{"$f":"'ITCER GLOBAL'!AG24","v":111.22358160129041},null,{"$f":"IF(EFECTOS!$N$9=\"COSTA RICA\",LOOKUP(1,GEfectos!$C$4:$I$4,GEfectos!C24:I24),IF(EFECTOS!$N$9=\"EL SALVADOR\",LOOKUP(2,GEfectos!$C$4:$I$4,GEfectos!C24:I24),IF(EFECTOS!$N$9=\"GUATEMALA\",LOOKUP(3,GEfectos!$C$4:$I$4,GEfectos!C24:I24),IF(EFECTOS!$N$9=\"HONDURAS\",LOOKUP(4,GEfectos!$C$4:$I$4,GEfectos!C24:I24),IF(EFECTOS!$N$9=\"NICARAGUA\",LOOKUP(5,GEfectos!$C$4:$I$4,GEfectos!C24:I24),IF(EFECTOS!$N$9=\"REPÚBLICA \nDOMINICANA\",LOOKUP(6,$C$4:$I$4,C24:I24),IF(EFECTOS!$N$9=\"PANAMÁ\",LOOKUP(7,GEfectos!$C$4:$I$4,GEfectos!C24:I24))))))))","v":101.63201907987876},{"$f":"IF(EFECTOS!$N$9=\"COSTA RICA\",LOOKUP(1,GEfectos!$J$4:$P$4,GEfectos!J24:P24),IF(EFECTOS!$N$9=\"EL SALVADOR\",LOOKUP(2,GEfectos!$J$4:$P$4,GEfectos!J24:P24),IF(EFECTOS!$N$9=\"GUATEMALA\",LOOKUP(3,GEfectos!$J$4:$P$4,GEfectos!J24:P24),IF(EFECTOS!$N$9=\"HONDURAS\",LOOKUP(4,GEfectos!$J$4:$P$4,GEfectos!J24:P24),IF(EFECTOS!$N$9=\"NICARAGUA\",LOOKUP(5,GEfectos!$J$4:$P$4,GEfectos!J24:P24),IF(EFECTOS!$N$9=\"REPÚBLICA \nDOMINICANA\",LOOKUP(6,$J$4:$P$4,J24:P24),IF(EFECTOS!$N$9=\"PANAMÁ\",LOOKUP(7,GEfectos!$J$4:$P$4,GEfectos!J24:P24))))))))","v":84.742366113692043},{"$f":"IF(EFECTOS!$N$9=\"COSTA RICA\",LOOKUP(1,GEfectos!$Q$4:$W$4,GEfectos!Q24:W24),IF(EFECTOS!$N$9=\"EL SALVADOR\",LOOKUP(2,GEfectos!$Q$4:$W$4,GEfectos!Q24:W24),IF(EFECTOS!$N$9=\"GUATEMALA\",LOOKUP(3,GEfectos!$Q$4:$W$4,GEfectos!Q24:W24),IF(EFECTOS!$N$9=\"HONDURAS\",LOOKUP(4,GEfectos!$Q$4:$W$4,GEfectos!Q24:W24),IF(EFECTOS!$N$9=\"NICARAGUA\",LOOKUP(5,GEfectos!$Q$4:$W$4,GEfectos!Q24:W24),IF(EFECTOS!$N$9=\"REPÚBLICA \nDOMINICANA\",LOOKUP(6,$Q$4:$W$4,Q24:W24),IF(EFECTOS!$N$9=\"PANAMÁ\",LOOKUP(7,GEfectos!$Q$4:$W$4,GEfectos!Q24:W24))))))))","v":83.381563094882409},100]
[null,{"$f":"'ITCER GLOBAL'!B25","v":"Agosto"},{"$f":"'ITCER GLOBAL'!C25","v":104.99634766226167},{"$f":"'ITCER GLOBAL'!D25","v":105.14368830923803},{"$f":"'ITCER GLOBAL'!E25","v":97.054756945362954},{"$f":"'ITCER GLOBAL'!F25","v":134.87587830042548},{"$f":"'ITCER GLOBAL'!G25","v":102.48255762717353},{"$f":"'ITCER GLOBAL'!H25","v":101.98864212947139},{"$f":"'ITCER GLOBAL'!I25","v":106.96846722420644},{"$f":"'ITCER GLOBAL'!S25","v":76.185992691190307},{"$f":"'ITCER GLOBAL'!T25","v":115.83815166577682},{"$f":"'ITCER GLOBAL'!U25","v":88.18765059080927},{"$f":"'ITCER GLOBAL'!V25","v":91.845647461123946},{"$f":"'ITCER GLOBAL'!W25","v":75.476540526140795},{"$f":"'ITCER GLOBAL'!X25","v":84.958043290393221},{"$f":"'ITCER GLOBAL'!Y25","v":118.77983842234256},{"$f":"'ITCER GLOBAL'!AA25","v":72.56061223791832},{"$f":"'ITCER GLOBAL'!AB25","v":110.17128420023208},{"$f":"'ITCER GLOBAL'!AC25","v":90.863810663556222},{"$f":"'ITCER GLOBAL'!AD25","v":68.096422146401096},{"$f":"'ITCER GLOBAL'!AE25","v":73.648181967433629},{"$f":"'ITCER GLOBAL'!AF25","v":83.301475062822831},{"$f":"'ITCER GLOBAL'!AG25","v":111.04191871178206},null,{"$f":"IF(EFECTOS!$N$9=\"COSTA RICA\",LOOKUP(1,GEfectos!$C$4:$I$4,GEfectos!C25:I25),IF(EFECTOS!$N$9=\"EL SALVADOR\",LOOKUP(2,GEfectos!$C$4:$I$4,GEfectos!C25:I25),IF(EFECTOS!$N$9=\"GUATEMALA\",LOOKUP(3,GEfectos!$C$4:$I$4,GEfectos!C25:I25),IF(EFECTOS!$N$9=\"HONDURAS\",LOOKUP(4,GEfectos!$C$4:$I$4,GEfectos!C25:I25),IF(EFECTOS!$N$9=\"NICARAGUA\",LOOKUP(5,GEfectos!$C$4:$I$4,GEfectos!C25:I25),IF(EFECTOS!$N$9=\"REPÚBLICA \nDOMINICANA\",LOOKUP(6,$C$4:$I$4,C25:I25),IF(EFECTOS!$N$9=\"PANAMÁ\",LOOKUP(7,GEfectos!$C$4:$I$4,GEfectos!C25:I25))))))))","v":101.98864212947139},{"$f":"IF(EFECTOS!$N$9=\"COSTA RICA\",LOOKUP(1,GEfectos!$J$4:$P$4,GEfectos!J25:P25),IF(EFECTOS!$N$9=\"EL SALVADOR\",LOOKUP(2,GEfectos!$J$4:$P$4,GEfectos!J25:P25),IF(EFECTOS!$N$9=\"GUATEMALA\",LOOKUP(3,GEfectos!$J$4:$P$4,GEfectos!J25:P25),IF(EFECTOS!$N$9=\"HONDURAS\",LOOKUP(4,GEfectos!$J$4:$P$4,GEfectos!J25:P25),IF(EFECTOS!$N$9=\"NICARAGUA\",LOOKUP(5,GEfectos!$J$4:$P$4,GEfectos!J25:P25),IF(EFECTOS!$N$9=\"REPÚBLICA \nDOMINICANA\",LOOKUP(6,$J$4:$P$4,J25:P25),IF(EFECTOS!$N$9=\"PANAMÁ\",LOOKUP(7,GEfectos!$J$4:$P$4,GEfectos!J25:P25))))))))","v":84.958043290393221},{"$f":"IF(EFECTOS!$N$9=\"COSTA RICA\",LOOKUP(1,GEfectos!$Q$4:$W$4,GEfectos!Q25:W25),IF(EFECTOS!$N$9=\"EL SALVADOR\",LOOKUP(2,GEfectos!$Q$4:$W$4,GEfectos!Q25:W25),IF(EFECTOS!$N$9=\"GUATEMALA\",LOOKUP(3,GEfectos!$Q$4:$W$4,GEfectos!Q25:W25),IF(EFECTOS!$N$9=\"HONDURAS\",LOOKUP(4,GEfectos!$Q$4:$W$4,GEfectos!Q25:W25),IF(EFECTOS!$N$9=\"NICARAGUA\",LOOKUP(5,GEfectos!$Q$4:$W$4,GEfectos!Q25:W25),IF(EFECTOS!$N$9=\"REPÚBLICA \nDOMINICANA\",LOOKUP(6,$Q$4:$W$4,Q25:W25),IF(EFECTOS!$N$9=\"PANAMÁ\",LOOKUP(7,GEfectos!$Q$4:$W$4,GEfectos!Q25:W25))))))))","v":83.301475062822831},100]
[null,{"$f":"'ITCER GLOBAL'!B26","v":"Septiembre"},{"$f":"'ITCER GLOBAL'!C26","v":105.19214600872968},{"$f":"'ITCER GLOBAL'!D26","v":105.93919691716762},{"$f":"'ITCER GLOBAL'!E26","v":96.414303432578919},{"$f":"'ITCER GLOBAL'!F26","v":134.27154167527999},{"$f":"'ITCER GLOBAL'!G26","v":102.42410619164704},{"$f":"'ITCER GLOBAL'!H26","v":101.60578130773013},{"$f":"'ITCER GLOBAL'!I26","v":106.69468886329386},{"$f":"'ITCER GLOBAL'!S26","v":76.719427703921966},{"$f":"'ITCER GLOBAL'!T26","v":115.47519946452198},{"$f":"'ITCER GLOBAL'!U26","v":87.511160876251168},{"$f":"'ITCER GLOBAL'!V26","v":92.680064335474171},{"$f":"'ITCER GLOBAL'!W26","v":75.894969153392637},{"$f":"'ITCER GLOBAL'!X26","v":84.764031927624046},{"$f":"'ITCER GLOBAL'!Y26","v":118.29263844593716},{"$f":"'ITCER GLOBAL'!AA26","v":72.932657631640268},{"$f":"'ITCER GLOBAL'!AB26","v":109.00139214271223},{"$f":"'ITCER GLOBAL'!AC26","v":90.765745082052504},{"$f":"'ITCER GLOBAL'!AD26","v":69.024354065740937},{"$f":"'ITCER GLOBAL'!AE26","v":74.098737079906357},{"$f":"'ITCER GLOBAL'!AF26","v":83.424418213863234},{"$f":"'ITCER GLOBAL'!AG26","v":110.87022203842176},null,{"$f":"IF(EFECTOS!$N$9=\"COSTA RICA\",LOOKUP(1,GEfectos!$C$4:$I$4,GEfectos!C26:I26),IF(EFECTOS!$N$9=\"EL SALVADOR\",LOOKUP(2,GEfectos!$C$4:$I$4,GEfectos!C26:I26),IF(EFECTOS!$N$9=\"GUATEMALA\",LOOKUP(3,GEfectos!$C$4:$I$4,GEfectos!C26:I26),IF(EFECTOS!$N$9=\"HONDURAS\",LOOKUP(4,GEfectos!$C$4:$I$4,GEfectos!C26:I26),IF(EFECTOS!$N$9=\"NICARAGUA\",LOOKUP(5,GEfectos!$C$4:$I$4,GEfectos!C26:I26),IF(EFECTOS!$N$9=\"REPÚBLICA \nDOMINICANA\",LOOKUP(6,$C$4:$I$4,C26:I26),IF(EFECTOS!$N$9=\"PANAMÁ\",LOOKUP(7,GEfectos!$C$4:$I$4,GEfectos!C26:I26))))))))","v":101.60578130773013},{"$f":"IF(EFECTOS!$N$9=\"COSTA RICA\",LOOKUP(1,GEfectos!$J$4:$P$4,GEfectos!J26:P26),IF(EFECTOS!$N$9=\"EL SALVADOR\",LOOKUP(2,GEfectos!$J$4:$P$4,GEfectos!J26:P26),IF(EFECTOS!$N$9=\"GUATEMALA\",LOOKUP(3,GEfectos!$J$4:$P$4,GEfectos!J26:P26),IF(EFECTOS!$N$9=\"HONDURAS\",LOOKUP(4,GEfectos!$J$4:$P$4,GEfectos!J26:P26),IF(EFECTOS!$N$9=\"NICARAGUA\",LOOKUP(5,GEfectos!$J$4:$P$4,GEfectos!J26:P26),IF(EFECTOS!$N$9=\"REPÚBLICA \nDOMINICANA\",LOOKUP(6,$J$4:$P$4,J26:P26),IF(EFECTOS!$N$9=\"PANAMÁ\",LOOKUP(7,GEfectos!$J$4:$P$4,GEfectos!J26:P26))))))))","v":84.764031927624046},{"$f":"IF(EFECTOS!$N$9=\"COSTA RICA\",LOOKUP(1,GEfectos!$Q$4:$W$4,GEfectos!Q26:W26),IF(EFECTOS!$N$9=\"EL SALVADOR\",LOOKUP(2,GEfectos!$Q$4:$W$4,GEfectos!Q26:W26),IF(EFECTOS!$N$9=\"GUATEMALA\",LOOKUP(3,GEfectos!$Q$4:$W$4,GEfectos!Q26:W26),IF(EFECTOS!$N$9=\"HONDURAS\",LOOKUP(4,GEfectos!$Q$4:$W$4,GEfectos!Q26:W26),IF(EFECTOS!$N$9=\"NICARAGUA\",LOOKUP(5,GEfectos!$Q$4:$W$4,GEfectos!Q26:W26),IF(EFECTOS!$N$9=\"REPÚBLICA \nDOMINICANA\",LOOKUP(6,$Q$4:$W$4,Q26:W26),IF(EFECTOS!$N$9=\"PANAMÁ\",LOOKUP(7,GEfectos!$Q$4:$W$4,GEfectos!Q26:W26))))))))","v":83.424418213863234},100]
[null,{"$f":"'ITCER GLOBAL'!B27","v":"Octubre"},{"$f":"'ITCER GLOBAL'!C27","v":104.95299109909259},{"$f":"'ITCER GLOBAL'!D27","v":105.93815699578494},{"$f":"'ITCER GLOBAL'!E27","v":96.165550460682553},{"$f":"'ITCER GLOBAL'!F27","v":133.86580535673508},{"$f":"'ITCER GLOBAL'!G27","v":100.76994972975798},{"$f":"'ITCER GLOBAL'!H27","v":101.41818792512402},{"$f":"'ITCER GLOBAL'!I27","v":106.2259539070416},{"$f":"'ITCER GLOBAL'!S27","v":77.259582433536963},{"$f":"'ITCER GLOBAL'!T27","v":114.97757238962198},{"$f":"'ITCER GLOBAL'!U27","v":87.225038559833607},{"$f":"'ITCER GLOBAL'!V27","v":93.39468434950453},{"$f":"'ITCER GLOBAL'!W27","v":76.271759614638214},{"$f":"'ITCER GLOBAL'!X27","v":84.499623965270061},{"$f":"'ITCER GLOBAL'!Y27","v":117.87196819595123},{"$f":"'ITCER GLOBAL'!AA27","v":73.613511748885202},{"$f":"'ITCER GLOBAL'!AB27","v":108.53272857502769},{"$f":"'ITCER GLOBAL'!AC27","v":90.702999298585326},{"$f":"'ITCER GLOBAL'!AD27","v":69.76739436977185},{"$f":"'ITCER GLOBAL'!AE27","v":75.688992422028264},{"$f":"'ITCER GLOBAL'!AF27","v":83.318017896016102},{"$f":"'ITCER GLOBAL'!AG27","v":110.96343582765194},null,{"$f":"IF(EFECTOS!$N$9=\"COSTA RICA\",LOOKUP(1,GEfectos!$C$4:$I$4,GEfectos!C27:I27),IF(EFECTOS!$N$9=\"EL SALVADOR\",LOOKUP(2,GEfectos!$C$4:$I$4,GEfectos!C27:I27),IF(EFECTOS!$N$9=\"GUATEMALA\",LOOKUP(3,GEfectos!$C$4:$I$4,GEfectos!C27:I27),IF(EFECTOS!$N$9=\"HONDURAS\",LOOKUP(4,GEfectos!$C$4:$I$4,GEfectos!C27:I27),IF(EFECTOS!$N$9=\"NICARAGUA\",LOOKUP(5,GEfectos!$C$4:$I$4,GEfectos!C27:I27),IF(EFECTOS!$N$9=\"REPÚBLICA \nDOMINICANA\",LOOKUP(6,$C$4:$I$4,C27:I27),IF(EFECTOS!$N$9=\"PANAMÁ\",LOOKUP(7,GEfectos!$C$4:$I$4,GEfectos!C27:I27))))))))","v":101.41818792512402},{"$f":"IF(EFECTOS!$N$9=\"COSTA RICA\",LOOKUP(1,GEfectos!$J$4:$P$4,GEfectos!J27:P27),IF(EFECTOS!$N$9=\"EL SALVADOR\",LOOKUP(2,GEfectos!$J$4:$P$4,GEfectos!J27:P27),IF(EFECTOS!$N$9=\"GUATEMALA\",LOOKUP(3,GEfectos!$J$4:$P$4,GEfectos!J27:P27),IF(EFECTOS!$N$9=\"HONDURAS\",LOOKUP(4,GEfectos!$J$4:$P$4,GEfectos!J27:P27),IF(EFECTOS!$N$9=\"NICARAGUA\",LOOKUP(5,GEfectos!$J$4:$P$4,GEfectos!J27:P27),IF(EFECTOS!$N$9=\"REPÚBLICA \nDOMINICANA\",LOOKUP(6,$J$4:$P$4,J27:P27),IF(EFECTOS!$N$9=\"PANAMÁ\",LOOKUP(7,GEfectos!$J$4:$P$4,GEfectos!J27:P27))))))))","v":84.499623965270061},{"$f":"IF(EFECTOS!$N$9=\"COSTA RICA\",LOOKUP(1,GEfectos!$Q$4:$W$4,GEfectos!Q27:W27),IF(EFECTOS!$N$9=\"EL SALVADOR\",LOOKUP(2,GEfectos!$Q$4:$W$4,GEfectos!Q27:W27),IF(EFECTOS!$N$9=\"GUATEMALA\",LOOKUP(3,GEfectos!$Q$4:$W$4,GEfectos!Q27:W27),IF(EFECTOS!$N$9=\"HONDURAS\",LOOKUP(4,GEfectos!$Q$4:$W$4,GEfectos!Q27:W27),IF(EFECTOS!$N$9=\"NICARAGUA\",LOOKUP(5,GEfectos!$Q$4:$W$4,GEfectos!Q27:W27),IF(EFECTOS!$N$9=\"REPÚBLICA \nDOMINICANA\",LOOKUP(6,$Q$4:$W$4,Q27:W27),IF(EFECTOS!$N$9=\"PANAMÁ\",LOOKUP(7,GEfectos!$Q$4:$W$4,GEfectos!Q27:W27))))))))","v":83.318017896016102},100]
[null,{"$f":"'ITCER GLOBAL'!B28","v":"Noviembre"},{"$f":"'ITCER GLOBAL'!C28","v":105.48743272001462},{"$f":"'ITCER GLOBAL'!D28","v":107.18613055321249},{"$f":"'ITCER GLOBAL'!E28","v":94.626073888095362},{"$f":"'ITCER GLOBAL'!F28","v":132.39509604576796},{"$f":"'ITCER GLOBAL'!G28","v":100.78103470274867},{"$f":"'ITCER GLOBAL'!H28","v":101.04973041544004},{"$f":"'ITCER GLOBAL'!I28","v":106.62416770716068},{"$f":"'ITCER GLOBAL'!S28","v":78.242939011126623},{"$f":"'ITCER GLOBAL'!T28","v":115.13085690938485},{"$f":"'ITCER GLOBAL'!U28","v":86.551025531746987},{"$f":"'ITCER GLOBAL'!V28","v":93.943215547056099},{"$f":"'ITCER GLOBAL'!W28","v":77.110272734414195},{"$f":"'ITCER GLOBAL'!X28","v":84.525826997364163},{"$f":"'ITCER GLOBAL'!Y28","v":118.12863156185432},{"$f":"'ITCER GLOBAL'!AA28","v":74.172758776677696},{"$f":"'ITCER GLOBAL'!AB28","v":107.41208430154889},{"$f":"'ITCER GLOBAL'!AC28","v":91.466360143084955},{"$f":"'ITCER GLOBAL'!AD28","v":70.956718453212702},{"$f":"'ITCER GLOBAL'!AE28","v":76.512682134936554},{"$f":"'ITCER GLOBAL'!AF28","v":83.647751112108779},{"$f":"'ITCER GLOBAL'!AG28","v":110.78973379308358},null,{"$f":"IF(EFECTOS!$N$9=\"COSTA RICA\",LOOKUP(1,GEfectos!$C$4:$I$4,GEfectos!C28:I28),IF(EFECTOS!$N$9=\"EL SALVADOR\",LOOKUP(2,GEfectos!$C$4:$I$4,GEfectos!C28:I28),IF(EFECTOS!$N$9=\"GUATEMALA\",LOOKUP(3,GEfectos!$C$4:$I$4,GEfectos!C28:I28),IF(EFECTOS!$N$9=\"HONDURAS\",LOOKUP(4,GEfectos!$C$4:$I$4,GEfectos!C28:I28),IF(EFECTOS!$N$9=\"NICARAGUA\",LOOKUP(5,GEfectos!$C$4:$I$4,GEfectos!C28:I28),IF(EFECTOS!$N$9=\"REPÚBLICA \nDOMINICANA\",LOOKUP(6,$C$4:$I$4,C28:I28),IF(EFECTOS!$N$9=\"PANAMÁ\",LOOKUP(7,GEfectos!$C$4:$I$4,GEfectos!C28:I28))))))))","v":101.04973041544004},{"$f":"IF(EFECTOS!$N$9=\"COSTA RICA\",LOOKUP(1,GEfectos!$J$4:$P$4,GEfectos!J28:P28),IF(EFECTOS!$N$9=\"EL SALVADOR\",LOOKUP(2,GEfectos!$J$4:$P$4,GEfectos!J28:P28),IF(EFECTOS!$N$9=\"GUATEMALA\",LOOKUP(3,GEfectos!$J$4:$P$4,GEfectos!J28:P28),IF(EFECTOS!$N$9=\"HONDURAS\",LOOKUP(4,GEfectos!$J$4:$P$4,GEfectos!J28:P28),IF(EFECTOS!$N$9=\"NICARAGUA\",LOOKUP(5,GEfectos!$J$4:$P$4,GEfectos!J28:P28),IF(EFECTOS!$N$9=\"REPÚBLICA \nDOMINICANA\",LOOKUP(6,$J$4:$P$4,J28:P28),IF(EFECTOS!$N$9=\"PANAMÁ\",LOOKUP(7,GEfectos!$J$4:$P$4,GEfectos!J28:P28))))))))","v":84.525826997364163},{"$f":"IF(EFECTOS!$N$9=\"COSTA RICA\",LOOKUP(1,GEfectos!$Q$4:$W$4,GEfectos!Q28:W28),IF(EFECTOS!$N$9=\"EL SALVADOR\",LOOKUP(2,GEfectos!$Q$4:$W$4,GEfectos!Q28:W28),IF(EFECTOS!$N$9=\"GUATEMALA\",LOOKUP(3,GEfectos!$Q$4:$W$4,GEfectos!Q28:W28),IF(EFECTOS!$N$9=\"HONDURAS\",LOOKUP(4,GEfectos!$Q$4:$W$4,GEfectos!Q28:W28),IF(EFECTOS!$N$9=\"NICARAGUA\",LOOKUP(5,GEfectos!$Q$4:$W$4,GEfectos!Q28:W28),IF(EFECTOS!$N$9=\"REPÚBLICA \nDOMINICANA\",LOOKUP(6,$Q$4:$W$4,Q28:W28),IF(EFECTOS!$N$9=\"PANAMÁ\",LOOKUP(7,GEfectos!$Q$4:$W$4,GEfectos!Q28:W28))))))))","v":83.647751112108779},100]
[null,{"$f":"'ITCER GLOBAL'!B29","v":"Diciembre"},{"$f":"'ITCER GLOBAL'!C29","v":105.18622360564964},{"$f":"'ITCER GLOBAL'!D29","v":106.87764432517845},{"$f":"'ITCER GLOBAL'!E29","v":93.650045391171673},{"$f":"'ITCER GLOBAL'!F29","v":132.4917666706929},{"$f":"'ITCER GLOBAL'!G29","v":99.83006348392064},{"$f":"'ITCER GLOBAL'!H29","v":102.36125748772173},{"$f":"'ITCER GLOBAL'!I29","v":105.40241897389477},{"$f":"'ITCER GLOBAL'!S29","v":78.596669030925923},{"$f":"'ITCER GLOBAL'!T29","v":114.59979807138447},{"$f":"'ITCER GLOBAL'!U29","v":85.995679341755036},{"$f":"'ITCER GLOBAL'!V29","v":94.757031470525348},{"$f":"'ITCER GLOBAL'!W29","v":77.403204649264808},{"$f":"'ITCER GLOBAL'!X29","v":86.3524670605305},{"$f":"'ITCER GLOBAL'!Y29","v":117.36627212434396},{"$f":"'ITCER GLOBAL'!AA29","v":74.721447673214513},{"$f":"'ITCER GLOBAL'!AB29","v":107.22522824577901},{"$f":"'ITCER GLOBAL'!AC29","v":91.82662857509068},{"$f":"'ITCER GLOBAL'!AD29","v":71.51918481549356},{"$f":"'ITCER GLOBAL'!AE29","v":77.534964867303643},{"$f":"'ITCER GLOBAL'!AF29","v":84.360498473642252},{"$f":"'ITCER GLOBAL'!AG29","v":111.35064381531159},null,{"$f":"IF(EFECTOS!$N$9=\"COSTA RICA\",LOOKUP(1,GEfectos!$C$4:$I$4,GEfectos!C29:I29),IF(EFECTOS!$N$9=\"EL SALVADOR\",LOOKUP(2,GEfectos!$C$4:$I$4,GEfectos!C29:I29),IF(EFECTOS!$N$9=\"GUATEMALA\",LOOKUP(3,GEfectos!$C$4:$I$4,GEfectos!C29:I29),IF(EFECTOS!$N$9=\"HONDURAS\",LOOKUP(4,GEfectos!$C$4:$I$4,GEfectos!C29:I29),IF(EFECTOS!$N$9=\"NICARAGUA\",LOOKUP(5,GEfectos!$C$4:$I$4,GEfectos!C29:I29),IF(EFECTOS!$N$9=\"REPÚBLICA \nDOMINICANA\",LOOKUP(6,$C$4:$I$4,C29:I29),IF(EFECTOS!$N$9=\"PANAMÁ\",LOOKUP(7,GEfectos!$C$4:$I$4,GEfectos!C29:I29))))))))","v":102.36125748772173},{"$f":"IF(EFECTOS!$N$9=\"COSTA RICA\",LOOKUP(1,GEfectos!$J$4:$P$4,GEfectos!J29:P29),IF(EFECTOS!$N$9=\"EL SALVADOR\",LOOKUP(2,GEfectos!$J$4:$P$4,GEfectos!J29:P29),IF(EFECTOS!$N$9=\"GUATEMALA\",LOOKUP(3,GEfectos!$J$4:$P$4,GEfectos!J29:P29),IF(EFECTOS!$N$9=\"HONDURAS\",LOOKUP(4,GEfectos!$J$4:$P$4,GEfectos!J29:P29),IF(EFECTOS!$N$9=\"NICARAGUA\",LOOKUP(5,GEfectos!$J$4:$P$4,GEfectos!J29:P29),IF(EFECTOS!$N$9=\"REPÚBLICA \nDOMINICANA\",LOOKUP(6,$J$4:$P$4,J29:P29),IF(EFECTOS!$N$9=\"PANAMÁ\",LOOKUP(7,GEfectos!$J$4:$P$4,GEfectos!J29:P29))))))))","v":86.3524670605305},{"$f":"IF(EFECTOS!$N$9=\"COSTA RICA\",LOOKUP(1,GEfectos!$Q$4:$W$4,GEfectos!Q29:W29),IF(EFECTOS!$N$9=\"EL SALVADOR\",LOOKUP(2,GEfectos!$Q$4:$W$4,GEfectos!Q29:W29),IF(EFECTOS!$N$9=\"GUATEMALA\",LOOKUP(3,GEfectos!$Q$4:$W$4,GEfectos!Q29:W29),IF(EFECTOS!$N$9=\"HONDURAS\",LOOKUP(4,GEfectos!$Q$4:$W$4,GEfectos!Q29:W29),IF(EFECTOS!$N$9=\"NICARAGUA\",LOOKUP(5,GEfectos!$Q$4:$W$4,GEfectos!Q29:W29),IF(EFECTOS!$N$9=\"REPÚBLICA \nDOMINICANA\",LOOKUP(6,$Q$4:$W$4,Q29:W29),IF(EFECTOS!$N$9=\"PANAMÁ\",LOOKUP(7,GEfectos!$Q$4:$W$4,GEfectos!Q29:W29))))))))","v":84.360498473642252},100]
[1997,{"$f":"'ITCER GLOBAL'!B30","v":"Enero"},{"$f":"'ITCER GLOBAL'!C30","v":102.99608905501856},{"$f":"'ITCER GLOBAL'!D30","v":106.4077856115649},{"$f":"'ITCER GLOBAL'!E30","v":93.28338960476934},{"$f":"'ITCER GLOBAL'!F30","v":130.19181472422392},{"$f":"'ITCER GLOBAL'!G30","v":100.40124232020037},{"$f":"'ITCER GLOBAL'!H30","v":105.12854045260944},{"$f":"'ITCER GLOBAL'!I30","v":108.0212669918109},{"$f":"'ITCER GLOBAL'!S30","v":78.533278404599315},{"$f":"'ITCER GLOBAL'!T30","v":115.42690744859026},{"$f":"'ITCER GLOBAL'!U30","v":86.256705332704357},{"$f":"'ITCER GLOBAL'!V30","v":95.051337885331776},{"$f":"'ITCER GLOBAL'!W30","v":76.826145358916108},{"$f":"'ITCER GLOBAL'!X30","v":91.533087174036936},{"$f":"'ITCER GLOBAL'!Y30","v":120.12447423924738},{"$f":"'ITCER GLOBAL'!AA30","v":76.248796556389948},{"$f":"'ITCER GLOBAL'!AB30","v":108.4759980533277},{"$f":"'ITCER GLOBAL'!AC30","v":92.467378917258245},{"$f":"'ITCER GLOBAL'!AD30","v":73.008689591332825},{"$f":"'ITCER GLOBAL'!AE30","v":76.519118273359226},{"$f":"'ITCER GLOBAL'!AF30","v":87.067780813811297},{"$f":"'ITCER GLOBAL'!AG30","v":111.20446703180589},null,{"$f":"IF(EFECTOS!$N$9=\"COSTA RICA\",LOOKUP(1,GEfectos!$C$4:$I$4,GEfectos!C30:I30),IF(EFECTOS!$N$9=\"EL SALVADOR\",LOOKUP(2,GEfectos!$C$4:$I$4,GEfectos!C30:I30),IF(EFECTOS!$N$9=\"GUATEMALA\",LOOKUP(3,GEfectos!$C$4:$I$4,GEfectos!C30:I30),IF(EFECTOS!$N$9=\"HONDURAS\",LOOKUP(4,GEfectos!$C$4:$I$4,GEfectos!C30:I30),IF(EFECTOS!$N$9=\"NICARAGUA\",LOOKUP(5,GEfectos!$C$4:$I$4,GEfectos!C30:I30),IF(EFECTOS!$N$9=\"REPÚBLICA \nDOMINICANA\",LOOKUP(6,$C$4:$I$4,C30:I30),IF(EFECTOS!$N$9=\"PANAMÁ\",LOOKUP(7,GEfectos!$C$4:$I$4,GEfectos!C30:I30))))))))","v":105.12854045260944},{"$f":"IF(EFECTOS!$N$9=\"COSTA RICA\",LOOKUP(1,GEfectos!$J$4:$P$4,GEfectos!J30:P30),IF(EFECTOS!$N$9=\"EL SALVADOR\",LOOKUP(2,GEfectos!$J$4:$P$4,GEfectos!J30:P30),IF(EFECTOS!$N$9=\"GUATEMALA\",LOOKUP(3,GEfectos!$J$4:$P$4,GEfectos!J30:P30),IF(EFECTOS!$N$9=\"HONDURAS\",LOOKUP(4,GEfectos!$J$4:$P$4,GEfectos!J30:P30),IF(EFECTOS!$N$9=\"NICARAGUA\",LOOKUP(5,GEfectos!$J$4:$P$4,GEfectos!J30:P30),IF(EFECTOS!$N$9=\"REPÚBLICA \nDOMINICANA\",LOOKUP(6,$J$4:$P$4,J30:P30),IF(EFECTOS!$N$9=\"PANAMÁ\",LOOKUP(7,GEfectos!$J$4:$P$4,GEfectos!J30:P30))))))))","v":91.533087174036936},{"$f":"IF(EFECTOS!$N$9=\"COSTA RICA\",LOOKUP(1,GEfectos!$Q$4:$W$4,GEfectos!Q30:W30),IF(EFECTOS!$N$9=\"EL SALVADOR\",LOOKUP(2,GEfectos!$Q$4:$W$4,GEfectos!Q30:W30),IF(EFECTOS!$N$9=\"GUATEMALA\",LOOKUP(3,GEfectos!$Q$4:$W$4,GEfectos!Q30:W30),IF(EFECTOS!$N$9=\"HONDURAS\",LOOKUP(4,GEfectos!$Q$4:$W$4,GEfectos!Q30:W30),IF(EFECTOS!$N$9=\"NICARAGUA\",LOOKUP(5,GEfectos!$Q$4:$W$4,GEfectos!Q30:W30),IF(EFECTOS!$N$9=\"REPÚBLICA \nDOMINICANA\",LOOKUP(6,$Q$4:$W$4,Q30:W30),IF(EFECTOS!$N$9=\"PANAMÁ\",LOOKUP(7,GEfectos!$Q$4:$W$4,GEfectos!Q30:W30))))))))","v":87.067780813811297},100]
[null,{"$f":"'ITCER GLOBAL'!B31","v":"Febrero"},{"$f":"'ITCER GLOBAL'!C31","v":102.79773462885237},{"$f":"'ITCER GLOBAL'!D31","v":104.76965629020791},{"$f":"'ITCER GLOBAL'!E31","v":91.668915983209558},{"$f":"'ITCER GLOBAL'!F31","v":124.62208326539127},{"$f":"'ITCER GLOBAL'!G31","v":101.01258554869182},{"$f":"'ITCER GLOBAL'!H31","v":105.28660301182029},{"$f":"'ITCER GLOBAL'!I31","v":106.97515664277265},{"$f":"'ITCER GLOBAL'!S31","v":78.432615992391845},{"$f":"'ITCER GLOBAL'!T31","v":114.34421050406254},{"$f":"'ITCER GLOBAL'!U31","v":86.205029340885488},{"$f":"'ITCER GLOBAL'!V31","v":92.674478266548789},{"$f":"'ITCER GLOBAL'!W31","v":76.789324290334108},{"$f":"'ITCER GLOBAL'!X31","v":91.141058792987977},{"$f":"'ITCER GLOBAL'!Y31","v":118.2795846324418},{"$f":"'ITCER GLOBAL'!AA31","v":76.298000413695959},{"$f":"'ITCER GLOBAL'!AB31","v":109.13867101685769},{"$f":"'ITCER GLOBAL'!AC31","v":94.039542647886378},{"$f":"'ITCER GLOBAL'!AD31","v":74.364411056419385},{"$f":"'ITCER GLOBAL'!AE31","v":76.019561199449555},{"$f":"'ITCER GLOBAL'!AF31","v":86.564725412174013},{"$f":"'ITCER GLOBAL'!AG31","v":110.56733950614213},null,{"$f":"IF(EFECTOS!$N$9=\"COSTA RICA\",LOOKUP(1,GEfectos!$C$4:$I$4,GEfectos!C31:I31),IF(EFECTOS!$N$9=\"EL SALVADOR\",LOOKUP(2,GEfectos!$C$4:$I$4,GEfectos!C31:I31),IF(EFECTOS!$N$9=\"GUATEMALA\",LOOKUP(3,GEfectos!$C$4:$I$4,GEfectos!C31:I31),IF(EFECTOS!$N$9=\"HONDURAS\",LOOKUP(4,GEfectos!$C$4:$I$4,GEfectos!C31:I31),IF(EFECTOS!$N$9=\"NICARAGUA\",LOOKUP(5,GEfectos!$C$4:$I$4,GEfectos!C31:I31),IF(EFECTOS!$N$9=\"REPÚBLICA \nDOMINICANA\",LOOKUP(6,$C$4:$I$4,C31:I31),IF(EFECTOS!$N$9=\"PANAMÁ\",LOOKUP(7,GEfectos!$C$4:$I$4,GEfectos!C31:I31))))))))","v":105.28660301182029},{"$f":"IF(EFECTOS!$N$9=\"COSTA RICA\",LOOKUP(1,GEfectos!$J$4:$P$4,GEfectos!J31:P31),IF(EFECTOS!$N$9=\"EL SALVADOR\",LOOKUP(2,GEfectos!$J$4:$P$4,GEfectos!J31:P31),IF(EFECTOS!$N$9=\"GUATEMALA\",LOOKUP(3,GEfectos!$J$4:$P$4,GEfectos!J31:P31),IF(EFECTOS!$N$9=\"HONDURAS\",LOOKUP(4,GEfectos!$J$4:$P$4,GEfectos!J31:P31),IF(EFECTOS!$N$9=\"NICARAGUA\",LOOKUP(5,GEfectos!$J$4:$P$4,GEfectos!J31:P31),IF(EFECTOS!$N$9=\"REPÚBLICA \nDOMINICANA\",LOOKUP(6,$J$4:$P$4,J31:P31),IF(EFECTOS!$N$9=\"PANAMÁ\",LOOKUP(7,GEfectos!$J$4:$P$4,GEfectos!J31:P31))))))))","v":91.141058792987977},{"$f":"IF(EFECTOS!$N$9=\"COSTA RICA\",LOOKUP(1,GEfectos!$Q$4:$W$4,GEfectos!Q31:W31),IF(EFECTOS!$N$9=\"EL SALVADOR\",LOOKUP(2,GEfectos!$Q$4:$W$4,GEfectos!Q31:W31),IF(EFECTOS!$N$9=\"GUATEMALA\",LOOKUP(3,GEfectos!$Q$4:$W$4,GEfectos!Q31:W31),IF(EFECTOS!$N$9=\"HONDURAS\",LOOKUP(4,GEfectos!$Q$4:$W$4,GEfectos!Q31:W31),IF(EFECTOS!$N$9=\"NICARAGUA\",LOOKUP(5,GEfectos!$Q$4:$W$4,GEfectos!Q31:W31),IF(EFECTOS!$N$9=\"REPÚBLICA \nDOMINICANA\",LOOKUP(6,$Q$4:$W$4,Q31:W31),IF(EFECTOS!$N$9=\"PANAMÁ\",LOOKUP(7,GEfectos!$Q$4:$W$4,GEfectos!Q31:W31))))))))","v":86.564725412174013},100]
[null,{"$f":"'ITCER GLOBAL'!B32","v":"Marzo"},{"$f":"'ITCER GLOBAL'!C32","v":102.58389653792989},{"$f":"'ITCER GLOBAL'!D32","v":104.65400448048865},{"$f":"'ITCER GLOBAL'!E32","v":90.112703970828107},{"$f":"'ITCER GLOBAL'!F32","v":124.31606464777342},{"$f":"'ITCER GLOBAL'!G32","v":102.01451932191135},{"$f":"'ITCER GLOBAL'!H32","v":105.48151860365812},{"$f":"'ITCER GLOBAL'!I32","v":106.86576191181105},{"$f":"'ITCER GLOBAL'!S32","v":78.931427114438662},{"$f":"'ITCER GLOBAL'!T32","v":114.1195596134946},{"$f":"'ITCER GLOBAL'!U32","v":84.491597887729924},{"$f":"'ITCER GLOBAL'!V32","v":92.902917253470591},{"$f":"'ITCER GLOBAL'!W32","v":77.28498419443622},{"$f":"'ITCER GLOBAL'!X32","v":91.146260733255531},{"$f":"'ITCER GLOBAL'!Y32","v":117.68324925702433},{"$f":"'ITCER GLOBAL'!AA32","v":76.943292054863761},{"$f":"'ITCER GLOBAL'!AB32","v":109.04461819688005},{"$f":"'ITCER GLOBAL'!AC32","v":93.762138038918579},{"$f":"'ITCER GLOBAL'!AD32","v":74.731224413106887},{"$f":"'ITCER GLOBAL'!AE32","v":75.758808361935237},{"$f":"'ITCER GLOBAL'!AF32","v":86.409697110764355},{"$f":"'ITCER GLOBAL'!AG32","v":110.12250055741914},null,{"$f":"IF(EFECTOS!$N$9=\"COSTA RICA\",LOOKUP(1,GEfectos!$C$4:$I$4,GEfectos!C32:I32),IF(EFECTOS!$N$9=\"EL SALVADOR\",LOOKUP(2,GEfectos!$C$4:$I$4,GEfectos!C32:I32),IF(EFECTOS!$N$9=\"GUATEMALA\",LOOKUP(3,GEfectos!$C$4:$I$4,GEfectos!C32:I32),IF(EFECTOS!$N$9=\"HONDURAS\",LOOKUP(4,GEfectos!$C$4:$I$4,GEfectos!C32:I32),IF(EFECTOS!$N$9=\"NICARAGUA\",LOOKUP(5,GEfectos!$C$4:$I$4,GEfectos!C32:I32),IF(EFECTOS!$N$9=\"REPÚBLICA \nDOMINICANA\",LOOKUP(6,$C$4:$I$4,C32:I32),IF(EFECTOS!$N$9=\"PANAMÁ\",LOOKUP(7,GEfectos!$C$4:$I$4,GEfectos!C32:I32))))))))","v":105.48151860365812},{"$f":"IF(EFECTOS!$N$9=\"COSTA RICA\",LOOKUP(1,GEfectos!$J$4:$P$4,GEfectos!J32:P32),IF(EFECTOS!$N$9=\"EL SALVADOR\",LOOKUP(2,GEfectos!$J$4:$P$4,GEfectos!J32:P32),IF(EFECTOS!$N$9=\"GUATEMALA\",LOOKUP(3,GEfectos!$J$4:$P$4,GEfectos!J32:P32),IF(EFECTOS!$N$9=\"HONDURAS\",LOOKUP(4,GEfectos!$J$4:$P$4,GEfectos!J32:P32),IF(EFECTOS!$N$9=\"NICARAGUA\",LOOKUP(5,GEfectos!$J$4:$P$4,GEfectos!J32:P32),IF(EFECTOS!$N$9=\"REPÚBLICA \nDOMINICANA\",LOOKUP(6,$J$4:$P$4,J32:P32),IF(EFECTOS!$N$9=\"PANAMÁ\",LOOKUP(7,GEfectos!$J$4:$P$4,GEfectos!J32:P32))))))))","v":91.146260733255531},{"$f":"IF(EFECTOS!$N$9=\"COSTA RICA\",LOOKUP(1,GEfectos!$Q$4:$W$4,GEfectos!Q32:W32),IF(EFECTOS!$N$9=\"EL SALVADOR\",LOOKUP(2,GEfectos!$Q$4:$W$4,GEfectos!Q32:W32),IF(EFECTOS!$N$9=\"GUATEMALA\",LOOKUP(3,GEfectos!$Q$4:$W$4,GEfectos!Q32:W32),IF(EFECTOS!$N$9=\"HONDURAS\",LOOKUP(4,GEfectos!$Q$4:$W$4,GEfectos!Q32:W32),IF(EFECTOS!$N$9=\"NICARAGUA\",LOOKUP(5,GEfectos!$Q$4:$W$4,GEfectos!Q32:W32),IF(EFECTOS!$N$9=\"REPÚBLICA \nDOMINICANA\",LOOKUP(6,$Q$4:$W$4,Q32:W32),IF(EFECTOS!$N$9=\"PANAMÁ\",LOOKUP(7,GEfectos!$Q$4:$W$4,GEfectos!Q32:W32))))))))","v":86.409697110764355},100]
[null,{"$f":"'ITCER GLOBAL'!B33","v":"Abril"},{"$f":"'ITCER GLOBAL'!C33","v":102.20712088193763},{"$f":"'ITCER GLOBAL'!D33","v":104.67870185310075},{"$f":"'ITCER GLOBAL'!E33","v":90.345013316898246},{"$f":"'ITCER GLOBAL'!F33","v":123.35904496941778},{"$f":"'ITCER GLOBAL'!G33","v":102.69105140190315},{"$f":"'ITCER GLOBAL'!H33","v":104.69263532088614},{"$f":"'ITCER GLOBAL'!I33","v":107.12748350151561},{"$f":"'ITCER GLOBAL'!S33","v":79.495986084212078},{"$f":"'ITCER GLOBAL'!T33","v":113.86501007528595},{"$f":"'ITCER GLOBAL'!U33","v":84.374927871426266},{"$f":"'ITCER GLOBAL'!V33","v":92.48605602928815},{"$f":"'ITCER GLOBAL'!W33","v":77.827962331316144},{"$f":"'ITCER GLOBAL'!X33","v":90.98406020607942},{"$f":"'ITCER GLOBAL'!Y33","v":117.16596321089466},{"$f":"'ITCER GLOBAL'!AA33","v":77.779302849201841},{"$f":"'ITCER GLOBAL'!AB33","v":108.77571851729368},{"$f":"'ITCER GLOBAL'!AC33","v":93.391903740684569},{"$f":"'ITCER GLOBAL'!AD33","v":74.973064238797079},{"$f":"'ITCER GLOBAL'!AE33","v":75.788456023027706},{"$f":"'ITCER GLOBAL'!AF33","v":86.905883997676128},{"$f":"'ITCER GLOBAL'!AG33","v":109.37059228992065},null,{"$f":"IF(EFECTOS!$N$9=\"COSTA RICA\",LOOKUP(1,GEfectos!$C$4:$I$4,GEfectos!C33:I33),IF(EFECTOS!$N$9=\"EL SALVADOR\",LOOKUP(2,GEfectos!$C$4:$I$4,GEfectos!C33:I33),IF(EFECTOS!$N$9=\"GUATEMALA\",LOOKUP(3,GEfectos!$C$4:$I$4,GEfectos!C33:I33),IF(EFECTOS!$N$9=\"HONDURAS\",LOOKUP(4,GEfectos!$C$4:$I$4,GEfectos!C33:I33),IF(EFECTOS!$N$9=\"NICARAGUA\",LOOKUP(5,GEfectos!$C$4:$I$4,GEfectos!C33:I33),IF(EFECTOS!$N$9=\"REPÚBLICA \nDOMINICANA\",LOOKUP(6,$C$4:$I$4,C33:I33),IF(EFECTOS!$N$9=\"PANAMÁ\",LOOKUP(7,GEfectos!$C$4:$I$4,GEfectos!C33:I33))))))))","v":104.69263532088614},{"$f":"IF(EFECTOS!$N$9=\"COSTA RICA\",LOOKUP(1,GEfectos!$J$4:$P$4,GEfectos!J33:P33),IF(EFECTOS!$N$9=\"EL SALVADOR\",LOOKUP(2,GEfectos!$J$4:$P$4,GEfectos!J33:P33),IF(EFECTOS!$N$9=\"GUATEMALA\",LOOKUP(3,GEfectos!$J$4:$P$4,GEfectos!J33:P33),IF(EFECTOS!$N$9=\"HONDURAS\",LOOKUP(4,GEfectos!$J$4:$P$4,GEfectos!J33:P33),IF(EFECTOS!$N$9=\"NICARAGUA\",LOOKUP(5,GEfectos!$J$4:$P$4,GEfectos!J33:P33),IF(EFECTOS!$N$9=\"REPÚBLICA \nDOMINICANA\",LOOKUP(6,$J$4:$P$4,J33:P33),IF(EFECTOS!$N$9=\"PANAMÁ\",LOOKUP(7,GEfectos!$J$4:$P$4,GEfectos!J33:P33))))))))","v":90.98406020607942},{"$f":"IF(EFECTOS!$N$9=\"COSTA RICA\",LOOKUP(1,GEfectos!$Q$4:$W$4,GEfectos!Q33:W33),IF(EFECTOS!$N$9=\"EL SALVADOR\",LOOKUP(2,GEfectos!$Q$4:$W$4,GEfectos!Q33:W33),IF(EFECTOS!$N$9=\"GUATEMALA\",LOOKUP(3,GEfectos!$Q$4:$W$4,GEfectos!Q33:W33),IF(EFECTOS!$N$9=\"HONDURAS\",LOOKUP(4,GEfectos!$Q$4:$W$4,GEfectos!Q33:W33),IF(EFECTOS!$N$9=\"NICARAGUA\",LOOKUP(5,GEfectos!$Q$4:$W$4,GEfectos!Q33:W33),IF(EFECTOS!$N$9=\"REPÚBLICA \nDOMINICANA\",LOOKUP(6,$Q$4:$W$4,Q33:W33),IF(EFECTOS!$N$9=\"PANAMÁ\",LOOKUP(7,GEfectos!$Q$4:$W$4,GEfectos!Q33:W33))))))))","v":86.905883997676128},100]
[null,{"$f":"'ITCER GLOBAL'!B34","v":"Mayo"},{"$f":"'ITCER GLOBAL'!C34","v":102.96384494684348},{"$f":"'ITCER GLOBAL'!D34","v":105.29138279298321},{"$f":"'ITCER GLOBAL'!E34","v":90.121327359014884},{"$f":"'ITCER GLOBAL'!F34","v":125.02450296630023},{"$f":"'ITCER GLOBAL'!G34","v":103.28976630380826},{"$f":"'ITCER GLOBAL'!H34","v":104.90244281807924},{"$f":"'ITCER GLOBAL'!I34","v":107.31932283840584},{"$f":"'ITCER GLOBAL'!S34","v":80.368561350843819},{"$f":"'ITCER GLOBAL'!T34","v":114.02427495722685},{"$f":"'ITCER GLOBAL'!U34","v":84.153743611939362},{"$f":"'ITCER GLOBAL'!V34","v":94.81463244056566},{"$f":"'ITCER GLOBAL'!W34","v":78.735236443638172},{"$f":"'ITCER GLOBAL'!X34","v":91.224766431127875},{"$f":"'ITCER GLOBAL'!Y34","v":117.46333404193736},{"$f":"'ITCER GLOBAL'!AA34","v":78.055128372813982},{"$f":"'ITCER GLOBAL'!AB34","v":108.29402362528913},{"$f":"'ITCER GLOBAL'!AC34","v":93.378278014811571},{"$f":"'ITCER GLOBAL'!AD34","v":75.836840132147927},{"$f":"'ITCER GLOBAL'!AE34","v":76.2275288841807},{"$f":"'ITCER GLOBAL'!AF34","v":86.961527282380786},{"$f":"'ITCER GLOBAL'!AG34","v":109.45217593182699},null,{"$f":"IF(EFECTOS!$N$9=\"COSTA RICA\",LOOKUP(1,GEfectos!$C$4:$I$4,GEfectos!C34:I34),IF(EFECTOS!$N$9=\"EL SALVADOR\",LOOKUP(2,GEfectos!$C$4:$I$4,GEfectos!C34:I34),IF(EFECTOS!$N$9=\"GUATEMALA\",LOOKUP(3,GEfectos!$C$4:$I$4,GEfectos!C34:I34),IF(EFECTOS!$N$9=\"HONDURAS\",LOOKUP(4,GEfectos!$C$4:$I$4,GEfectos!C34:I34),IF(EFECTOS!$N$9=\"NICARAGUA\",LOOKUP(5,GEfectos!$C$4:$I$4,GEfectos!C34:I34),IF(EFECTOS!$N$9=\"REPÚBLICA \nDOMINICANA\",LOOKUP(6,$C$4:$I$4,C34:I34),IF(EFECTOS!$N$9=\"PANAMÁ\",LOOKUP(7,GEfectos!$C$4:$I$4,GEfectos!C34:I34))))))))","v":104.90244281807924},{"$f":"IF(EFECTOS!$N$9=\"COSTA RICA\",LOOKUP(1,GEfectos!$J$4:$P$4,GEfectos!J34:P34),IF(EFECTOS!$N$9=\"EL SALVADOR\",LOOKUP(2,GEfectos!$J$4:$P$4,GEfectos!J34:P34),IF(EFECTOS!$N$9=\"GUATEMALA\",LOOKUP(3,GEfectos!$J$4:$P$4,GEfectos!J34:P34),IF(EFECTOS!$N$9=\"HONDURAS\",LOOKUP(4,GEfectos!$J$4:$P$4,GEfectos!J34:P34),IF(EFECTOS!$N$9=\"NICARAGUA\",LOOKUP(5,GEfectos!$J$4:$P$4,GEfectos!J34:P34),IF(EFECTOS!$N$9=\"REPÚBLICA \nDOMINICANA\",LOOKUP(6,$J$4:$P$4,J34:P34),IF(EFECTOS!$N$9=\"PANAMÁ\",LOOKUP(7,GEfectos!$J$4:$P$4,GEfectos!J34:P34))))))))","v":91.224766431127875},{"$f":"IF(EFECTOS!$N$9=\"COSTA RICA\",LOOKUP(1,GEfectos!$Q$4:$W$4,GEfectos!Q34:W34),IF(EFECTOS!$N$9=\"EL SALVADOR\",LOOKUP(2,GEfectos!$Q$4:$W$4,GEfectos!Q34:W34),IF(EFECTOS!$N$9=\"GUATEMALA\",LOOKUP(3,GEfectos!$Q$4:$W$4,GEfectos!Q34:W34),IF(EFECTOS!$N$9=\"HONDURAS\",LOOKUP(4,GEfectos!$Q$4:$W$4,GEfectos!Q34:W34),IF(EFECTOS!$N$9=\"NICARAGUA\",LOOKUP(5,GEfectos!$Q$4:$W$4,GEfectos!Q34:W34),IF(EFECTOS!$N$9=\"REPÚBLICA \nDOMINICANA\",LOOKUP(6,$Q$4:$W$4,Q34:W34),IF(EFECTOS!$N$9=\"PANAMÁ\",LOOKUP(7,GEfectos!$Q$4:$W$4,GEfectos!Q34:W34))))))))","v":86.961527282380786},100]
[null,{"$f":"'ITCER GLOBAL'!B35","v":"Junio"},{"$f":"'ITCER GLOBAL'!C35","v":103.24913847423907},{"$f":"'ITCER GLOBAL'!D35","v":105.19073371548068},{"$f":"'ITCER GLOBAL'!E35","v":89.438545688750551},{"$f":"'ITCER GLOBAL'!F35","v":123.88738264355648},{"$f":"'ITCER GLOBAL'!G35","v":102.40479360877481},{"$f":"'ITCER GLOBAL'!H35","v":104.62611440246171},{"$f":"'ITCER GLOBAL'!I35","v":107.44089866425342},{"$f":"'ITCER GLOBAL'!S35","v":81.056322675719812},{"$f":"'ITCER GLOBAL'!T35","v":114.03421175057127},{"$f":"'ITCER GLOBAL'!U35","v":83.317327442741629},{"$f":"'ITCER GLOBAL'!V35","v":94.941523987581476},{"$f":"'ITCER GLOBAL'!W35","v":79.480962973596988},{"$f":"'ITCER GLOBAL'!X35","v":91.200154714809827},{"$f":"'ITCER GLOBAL'!Y35","v":117.41266520569096},{"$f":"'ITCER GLOBAL'!AA35","v":78.50556805947933},{"$f":"'ITCER GLOBAL'!AB35","v":108.40708845991168},{"$f":"'ITCER GLOBAL'!AC35","v":93.15595060399238},{"$f":"'ITCER GLOBAL'!AD35","v":76.635345716151903},{"$f":"'ITCER GLOBAL'!AE35","v":77.614494568725405},{"$f":"'ITCER GLOBAL'!AF35","v":87.167678199338738},{"$f":"'ITCER GLOBAL'!AG35","v":109.28116449639789},null,{"$f":"IF(EFECTOS!$N$9=\"COSTA RICA\",LOOKUP(1,GEfectos!$C$4:$I$4,GEfectos!C35:I35),IF(EFECTOS!$N$9=\"EL SALVADOR\",LOOKUP(2,GEfectos!$C$4:$I$4,GEfectos!C35:I35),IF(EFECTOS!$N$9=\"GUATEMALA\",LOOKUP(3,GEfectos!$C$4:$I$4,GEfectos!C35:I35),IF(EFECTOS!$N$9=\"HONDURAS\",LOOKUP(4,GEfectos!$C$4:$I$4,GEfectos!C35:I35),IF(EFECTOS!$N$9=\"NICARAGUA\",LOOKUP(5,GEfectos!$C$4:$I$4,GEfectos!C35:I35),IF(EFECTOS!$N$9=\"REPÚBLICA \nDOMINICANA\",LOOKUP(6,$C$4:$I$4,C35:I35),IF(EFECTOS!$N$9=\"PANAMÁ\",LOOKUP(7,GEfectos!$C$4:$I$4,GEfectos!C35:I35))))))))","v":104.62611440246171},{"$f":"IF(EFECTOS!$N$9=\"COSTA RICA\",LOOKUP(1,GEfectos!$J$4:$P$4,GEfectos!J35:P35),IF(EFECTOS!$N$9=\"EL SALVADOR\",LOOKUP(2,GEfectos!$J$4:$P$4,GEfectos!J35:P35),IF(EFECTOS!$N$9=\"GUATEMALA\",LOOKUP(3,GEfectos!$J$4:$P$4,GEfectos!J35:P35),IF(EFECTOS!$N$9=\"HONDURAS\",LOOKUP(4,GEfectos!$J$4:$P$4,GEfectos!J35:P35),IF(EFECTOS!$N$9=\"NICARAGUA\",LOOKUP(5,GEfectos!$J$4:$P$4,GEfectos!J35:P35),IF(EFECTOS!$N$9=\"REPÚBLICA \nDOMINICANA\",LOOKUP(6,$J$4:$P$4,J35:P35),IF(EFECTOS!$N$9=\"PANAMÁ\",LOOKUP(7,GEfectos!$J$4:$P$4,GEfectos!J35:P35))))))))","v":91.200154714809827},{"$f":"IF(EFECTOS!$N$9=\"COSTA RICA\",LOOKUP(1,GEfectos!$Q$4:$W$4,GEfectos!Q35:W35),IF(EFECTOS!$N$9=\"EL SALVADOR\",LOOKUP(2,GEfectos!$Q$4:$W$4,GEfectos!Q35:W35),IF(EFECTOS!$N$9=\"GUATEMALA\",LOOKUP(3,GEfectos!$Q$4:$W$4,GEfectos!Q35:W35),IF(EFECTOS!$N$9=\"HONDURAS\",LOOKUP(4,GEfectos!$Q$4:$W$4,GEfectos!Q35:W35),IF(EFECTOS!$N$9=\"NICARAGUA\",LOOKUP(5,GEfectos!$Q$4:$W$4,GEfectos!Q35:W35),IF(EFECTOS!$N$9=\"REPÚBLICA \nDOMINICANA\",LOOKUP(6,$Q$4:$W$4,Q35:W35),IF(EFECTOS!$N$9=\"PANAMÁ\",LOOKUP(7,GEfectos!$Q$4:$W$4,GEfectos!Q35:W35))))))))","v":87.167678199338738},100]
[null,{"$f":"'ITCER GLOBAL'!B36","v":"Julio"},{"$f":"'ITCER GLOBAL'!C36","v":102.90674708575887},{"$f":"'ITCER GLOBAL'!D36","v":104.09829853652161},{"$f":"'ITCER GLOBAL'!E36","v":89.473542186690239},{"$f":"'ITCER GLOBAL'!F36","v":121.92234951320862},{"$f":"'ITCER GLOBAL'!G36","v":101.36513059520929},{"$f":"'ITCER GLOBAL'!H36","v":102.56476336349351},{"$f":"'ITCER GLOBAL'!I36","v":106.67636337299467},{"$f":"'ITCER GLOBAL'!S36","v":81.308063914477586},{"$f":"'ITCER GLOBAL'!T36","v":113.37291305342414},{"$f":"'ITCER GLOBAL'!U36","v":83.458467952204103},{"$f":"'ITCER GLOBAL'!V36","v":94.485441878445769},{"$f":"'ITCER GLOBAL'!W36","v":79.783774480685082},{"$f":"'ITCER GLOBAL'!X36","v":90.939261286584014},{"$f":"'ITCER GLOBAL'!Y36","v":116.51686128945184},{"$f":"'ITCER GLOBAL'!AA36","v":79.011402281250142},{"$f":"'ITCER GLOBAL'!AB36","v":108.90947752969147},{"$f":"'ITCER GLOBAL'!AC36","v":93.277259302045479},{"$f":"'ITCER GLOBAL'!AD36","v":77.496408374421591},{"$f":"'ITCER GLOBAL'!AE36","v":78.709289883217309},{"$f":"'ITCER GLOBAL'!AF36","v":88.665208502740583},{"$f":"'ITCER GLOBAL'!AG36","v":109.22462821688981},null,{"$f":"IF(EFECTOS!$N$9=\"COSTA RICA\",LOOKUP(1,GEfectos!$C$4:$I$4,GEfectos!C36:I36),IF(EFECTOS!$N$9=\"EL SALVADOR\",LOOKUP(2,GEfectos!$C$4:$I$4,GEfectos!C36:I36),IF(EFECTOS!$N$9=\"GUATEMALA\",LOOKUP(3,GEfectos!$C$4:$I$4,GEfectos!C36:I36),IF(EFECTOS!$N$9=\"HONDURAS\",LOOKUP(4,GEfectos!$C$4:$I$4,GEfectos!C36:I36),IF(EFECTOS!$N$9=\"NICARAGUA\",LOOKUP(5,GEfectos!$C$4:$I$4,GEfectos!C36:I36),IF(EFECTOS!$N$9=\"REPÚBLICA \nDOMINICANA\",LOOKUP(6,$C$4:$I$4,C36:I36),IF(EFECTOS!$N$9=\"PANAMÁ\",LOOKUP(7,GEfectos!$C$4:$I$4,GEfectos!C36:I36))))))))","v":102.56476336349351},{"$f":"IF(EFECTOS!$N$9=\"COSTA RICA\",LOOKUP(1,GEfectos!$J$4:$P$4,GEfectos!J36:P36),IF(EFECTOS!$N$9=\"EL SALVADOR\",LOOKUP(2,GEfectos!$J$4:$P$4,GEfectos!J36:P36),IF(EFECTOS!$N$9=\"GUATEMALA\",LOOKUP(3,GEfectos!$J$4:$P$4,GEfectos!J36:P36),IF(EFECTOS!$N$9=\"HONDURAS\",LOOKUP(4,GEfectos!$J$4:$P$4,GEfectos!J36:P36),IF(EFECTOS!$N$9=\"NICARAGUA\",LOOKUP(5,GEfectos!$J$4:$P$4,GEfectos!J36:P36),IF(EFECTOS!$N$9=\"REPÚBLICA \nDOMINICANA\",LOOKUP(6,$J$4:$P$4,J36:P36),IF(EFECTOS!$N$9=\"PANAMÁ\",LOOKUP(7,GEfectos!$J$4:$P$4,GEfectos!J36:P36))))))))","v":90.939261286584014},{"$f":"IF(EFECTOS!$N$9=\"COSTA RICA\",LOOKUP(1,GEfectos!$Q$4:$W$4,GEfectos!Q36:W36),IF(EFECTOS!$N$9=\"EL SALVADOR\",LOOKUP(2,GEfectos!$Q$4:$W$4,GEfectos!Q36:W36),IF(EFECTOS!$N$9=\"GUATEMALA\",LOOKUP(3,GEfectos!$Q$4:$W$4,GEfectos!Q36:W36),IF(EFECTOS!$N$9=\"HONDURAS\",LOOKUP(4,GEfectos!$Q$4:$W$4,GEfectos!Q36:W36),IF(EFECTOS!$N$9=\"NICARAGUA\",LOOKUP(5,GEfectos!$Q$4:$W$4,GEfectos!Q36:W36),IF(EFECTOS!$N$9=\"REPÚBLICA \nDOMINICANA\",LOOKUP(6,$Q$4:$W$4,Q36:W36),IF(EFECTOS!$N$9=\"PANAMÁ\",LOOKUP(7,GEfectos!$Q$4:$W$4,GEfectos!Q36:W36))))))))","v":88.665208502740583},100]
[null,{"$f":"'ITCER GLOBAL'!B37","v":"Agosto"},{"$f":"'ITCER GLOBAL'!C37","v":102.03828119584492},{"$f":"'ITCER GLOBAL'!D37","v":104.32842396137673},{"$f":"'ITCER GLOBAL'!E37","v":90.128567980962004},{"$f":"'ITCER GLOBAL'!F37","v":119.80941904677567},{"$f":"'ITCER GLOBAL'!G37","v":102.46271304701582},{"$f":"'ITCER GLOBAL'!H37","v":101.76163575170216},{"$f":"'ITCER GLOBAL'!I37","v":105.96262867238049},{"$f":"'ITCER GLOBAL'!S37","v":81.315438375415241},{"$f":"'ITCER GLOBAL'!T37","v":112.38330064751665},{"$f":"'ITCER GLOBAL'!U37","v":84.748801992572737},{"$f":"'ITCER GLOBAL'!V37","v":93.778334740933303},{"$f":"'ITCER GLOBAL'!W37","v":79.938073603394983},{"$f":"'ITCER GLOBAL'!X37","v":90.539534648148717},{"$f":"'ITCER GLOBAL'!Y37","v":115.35233448636181},{"$f":"'ITCER GLOBAL'!AA37","v":79.691109476201632},{"$f":"'ITCER GLOBAL'!AB37","v":107.72069238688194},{"$f":"'ITCER GLOBAL'!AC37","v":94.0310091362756},{"$f":"'ITCER GLOBAL'!AD37","v":78.272923353647684},{"$f":"'ITCER GLOBAL'!AE37","v":78.016745044331174},{"$f":"'ITCER GLOBAL'!AF37","v":88.972169108075946},{"$f":"'ITCER GLOBAL'!AG37","v":108.86133718238793},null,{"$f":"IF(EFECTOS!$N$9=\"COSTA RICA\",LOOKUP(1,GEfectos!$C$4:$I$4,GEfectos!C37:I37),IF(EFECTOS!$N$9=\"EL SALVADOR\",LOOKUP(2,GEfectos!$C$4:$I$4,GEfectos!C37:I37),IF(EFECTOS!$N$9=\"GUATEMALA\",LOOKUP(3,GEfectos!$C$4:$I$4,GEfectos!C37:I37),IF(EFECTOS!$N$9=\"HONDURAS\",LOOKUP(4,GEfectos!$C$4:$I$4,GEfectos!C37:I37),IF(EFECTOS!$N$9=\"NICARAGUA\",LOOKUP(5,GEfectos!$C$4:$I$4,GEfectos!C37:I37),IF(EFECTOS!$N$9=\"REPÚBLICA \nDOMINICANA\",LOOKUP(6,$C$4:$I$4,C37:I37),IF(EFECTOS!$N$9=\"PANAMÁ\",LOOKUP(7,GEfectos!$C$4:$I$4,GEfectos!C37:I37))))))))","v":101.76163575170216},{"$f":"IF(EFECTOS!$N$9=\"COSTA RICA\",LOOKUP(1,GEfectos!$J$4:$P$4,GEfectos!J37:P37),IF(EFECTOS!$N$9=\"EL SALVADOR\",LOOKUP(2,GEfectos!$J$4:$P$4,GEfectos!J37:P37),IF(EFECTOS!$N$9=\"GUATEMALA\",LOOKUP(3,GEfectos!$J$4:$P$4,GEfectos!J37:P37),IF(EFECTOS!$N$9=\"HONDURAS\",LOOKUP(4,GEfectos!$J$4:$P$4,GEfectos!J37:P37),IF(EFECTOS!$N$9=\"NICARAGUA\",LOOKUP(5,GEfectos!$J$4:$P$4,GEfectos!J37:P37),IF(EFECTOS!$N$9=\"REPÚBLICA \nDOMINICANA\",LOOKUP(6,$J$4:$P$4,J37:P37),IF(EFECTOS!$N$9=\"PANAMÁ\",LOOKUP(7,GEfectos!$J$4:$P$4,GEfectos!J37:P37))))))))","v":90.539534648148717},{"$f":"IF(EFECTOS!$N$9=\"COSTA RICA\",LOOKUP(1,GEfectos!$Q$4:$W$4,GEfectos!Q37:W37),IF(EFECTOS!$N$9=\"EL SALVADOR\",LOOKUP(2,GEfectos!$Q$4:$W$4,GEfectos!Q37:W37),IF(EFECTOS!$N$9=\"GUATEMALA\",LOOKUP(3,GEfectos!$Q$4:$W$4,GEfectos!Q37:W37),IF(EFECTOS!$N$9=\"HONDURAS\",LOOKUP(4,GEfectos!$Q$4:$W$4,GEfectos!Q37:W37),IF(EFECTOS!$N$9=\"NICARAGUA\",LOOKUP(5,GEfectos!$Q$4:$W$4,GEfectos!Q37:W37),IF(EFECTOS!$N$9=\"REPÚBLICA \nDOMINICANA\",LOOKUP(6,$Q$4:$W$4,Q37:W37),IF(EFECTOS!$N$9=\"PANAMÁ\",LOOKUP(7,GEfectos!$Q$4:$W$4,GEfectos!Q37:W37))))))))","v":88.972169108075946},100]
[null,{"$f":"'ITCER GLOBAL'!B38","v":"Septiembre"},{"$f":"'ITCER GLOBAL'!C38","v":103.77050408671397},{"$f":"'ITCER GLOBAL'!D38","v":105.03440093142795},{"$f":"'ITCER GLOBAL'!E38","v":90.395683493826937},{"$f":"'ITCER GLOBAL'!F38","v":119.93512339316614},{"$f":"'ITCER GLOBAL'!G38","v":104.67303304450684},{"$f":"'ITCER GLOBAL'!H38","v":101.54559154186749},{"$f":"'ITCER GLOBAL'!I38","v":105.91334878095115},{"$f":"'ITCER GLOBAL'!S38","v":82.118625009953178},{"$f":"'ITCER GLOBAL'!T38","v":112.44169744860793},{"$f":"'ITCER GLOBAL'!U38","v":85.271507297889073},{"$f":"'ITCER GLOBAL'!V38","v":93.96467839144006},{"$f":"'ITCER GLOBAL'!W38","v":80.789890296245758},{"$f":"'ITCER GLOBAL'!X38","v":90.604487148572844},{"$f":"'ITCER GLOBAL'!Y38","v":115.04996476541933},{"$f":"'ITCER GLOBAL'!AA38","v":79.134842538041653},{"$f":"'ITCER GLOBAL'!AB38","v":107.05225759512433},{"$f":"'ITCER GLOBAL'!AC38","v":94.331392829959853},{"$f":"'ITCER GLOBAL'!AD38","v":78.346255653074294},{"$f":"'ITCER GLOBAL'!AE38","v":77.183098594166083},{"$f":"'ITCER GLOBAL'!AF38","v":89.225426503341993},{"$f":"'ITCER GLOBAL'!AG38","v":108.62650089873414},null,{"$f":"IF(EFECTOS!$N$9=\"COSTA RICA\",LOOKUP(1,GEfectos!$C$4:$I$4,GEfectos!C38:I38),IF(EFECTOS!$N$9=\"EL SALVADOR\",LOOKUP(2,GEfectos!$C$4:$I$4,GEfectos!C38:I38),IF(EFECTOS!$N$9=\"GUATEMALA\",LOOKUP(3,GEfectos!$C$4:$I$4,GEfectos!C38:I38),IF(EFECTOS!$N$9=\"HONDURAS\",LOOKUP(4,GEfectos!$C$4:$I$4,GEfectos!C38:I38),IF(EFECTOS!$N$9=\"NICARAGUA\",LOOKUP(5,GEfectos!$C$4:$I$4,GEfectos!C38:I38),IF(EFECTOS!$N$9=\"REPÚBLICA \nDOMINICANA\",LOOKUP(6,$C$4:$I$4,C38:I38),IF(EFECTOS!$N$9=\"PANAMÁ\",LOOKUP(7,GEfectos!$C$4:$I$4,GEfectos!C38:I38))))))))","v":101.54559154186749},{"$f":"IF(EFECTOS!$N$9=\"COSTA RICA\",LOOKUP(1,GEfectos!$J$4:$P$4,GEfectos!J38:P38),IF(EFECTOS!$N$9=\"EL SALVADOR\",LOOKUP(2,GEfectos!$J$4:$P$4,GEfectos!J38:P38),IF(EFECTOS!$N$9=\"GUATEMALA\",LOOKUP(3,GEfectos!$J$4:$P$4,GEfectos!J38:P38),IF(EFECTOS!$N$9=\"HONDURAS\",LOOKUP(4,GEfectos!$J$4:$P$4,GEfectos!J38:P38),IF(EFECTOS!$N$9=\"NICARAGUA\",LOOKUP(5,GEfectos!$J$4:$P$4,GEfectos!J38:P38),IF(EFECTOS!$N$9=\"REPÚBLICA \nDOMINICANA\",LOOKUP(6,$J$4:$P$4,J38:P38),IF(EFECTOS!$N$9=\"PANAMÁ\",LOOKUP(7,GEfectos!$J$4:$P$4,GEfectos!J38:P38))))))))","v":90.604487148572844},{"$f":"IF(EFECTOS!$N$9=\"COSTA RICA\",LOOKUP(1,GEfectos!$Q$4:$W$4,GEfectos!Q38:W38),IF(EFECTOS!$N$9=\"EL SALVADOR\",LOOKUP(2,GEfectos!$Q$4:$W$4,GEfectos!Q38:W38),IF(EFECTOS!$N$9=\"GUATEMALA\",LOOKUP(3,GEfectos!$Q$4:$W$4,GEfectos!Q38:W38),IF(EFECTOS!$N$9=\"HONDURAS\",LOOKUP(4,GEfectos!$Q$4:$W$4,GEfectos!Q38:W38),IF(EFECTOS!$N$9=\"NICARAGUA\",LOOKUP(5,GEfectos!$Q$4:$W$4,GEfectos!Q38:W38),IF(EFECTOS!$N$9=\"REPÚBLICA \nDOMINICANA\",LOOKUP(6,$Q$4:$W$4,Q38:W38),IF(EFECTOS!$N$9=\"PANAMÁ\",LOOKUP(7,GEfectos!$Q$4:$W$4,GEfectos!Q38:W38))))))))","v":89.225426503341993},100]
[null,{"$f":"'ITCER GLOBAL'!B39","v":"Octubre"},{"$f":"'ITCER GLOBAL'!C39","v":104.78964158373276},{"$f":"'ITCER GLOBAL'!D39","v":105.60736231053157},{"$f":"'ITCER GLOBAL'!E39","v":90.720556174302743},{"$f":"'ITCER GLOBAL'!F39","v":120.6544856453766},{"$f":"'ITCER GLOBAL'!G39","v":105.36615019532512},{"$f":"'ITCER GLOBAL'!H39","v":101.45559727247634},{"$f":"'ITCER GLOBAL'!I39","v":106.46246435409965},{"$f":"'ITCER GLOBAL'!S39","v":82.91312208115518},{"$f":"'ITCER GLOBAL'!T39","v":112.4343655988793},{"$f":"'ITCER GLOBAL'!U39","v":85.880495247970075},{"$f":"'ITCER GLOBAL'!V39","v":94.059519680570673},{"$f":"'ITCER GLOBAL'!W39","v":81.645850472461078},{"$f":"'ITCER GLOBAL'!X39","v":90.588907673165437},{"$f":"'ITCER GLOBAL'!Y39","v":114.89755413605738},{"$f":"'ITCER GLOBAL'!AA39","v":79.123395049407605},{"$f":"'ITCER GLOBAL'!AB39","v":106.46451453666022},{"$f":"'ITCER GLOBAL'!AC39","v":94.664868547506032},{"$f":"'ITCER GLOBAL'!AD39","v":77.957747842900019},{"$f":"'ITCER GLOBAL'!AE39","v":77.487741861222077},{"$f":"'ITCER GLOBAL'!AF39","v":89.28921627643021},{"$f":"'ITCER GLOBAL'!AG39","v":107.92306455907519},null,{"$f":"IF(EFECTOS!$N$9=\"COSTA RICA\",LOOKUP(1,GEfectos!$C$4:$I$4,GEfectos!C39:I39),IF(EFECTOS!$N$9=\"EL SALVADOR\",LOOKUP(2,GEfectos!$C$4:$I$4,GEfectos!C39:I39),IF(EFECTOS!$N$9=\"GUATEMALA\",LOOKUP(3,GEfectos!$C$4:$I$4,GEfectos!C39:I39),IF(EFECTOS!$N$9=\"HONDURAS\",LOOKUP(4,GEfectos!$C$4:$I$4,GEfectos!C39:I39),IF(EFECTOS!$N$9=\"NICARAGUA\",LOOKUP(5,GEfectos!$C$4:$I$4,GEfectos!C39:I39),IF(EFECTOS!$N$9=\"REPÚBLICA \nDOMINICANA\",LOOKUP(6,$C$4:$I$4,C39:I39),IF(EFECTOS!$N$9=\"PANAMÁ\",LOOKUP(7,GEfectos!$C$4:$I$4,GEfectos!C39:I39))))))))","v":101.45559727247634},{"$f":"IF(EFECTOS!$N$9=\"COSTA RICA\",LOOKUP(1,GEfectos!$J$4:$P$4,GEfectos!J39:P39),IF(EFECTOS!$N$9=\"EL SALVADOR\",LOOKUP(2,GEfectos!$J$4:$P$4,GEfectos!J39:P39),IF(EFECTOS!$N$9=\"GUATEMALA\",LOOKUP(3,GEfectos!$J$4:$P$4,GEfectos!J39:P39),IF(EFECTOS!$N$9=\"HONDURAS\",LOOKUP(4,GEfectos!$J$4:$P$4,GEfectos!J39:P39),IF(EFECTOS!$N$9=\"NICARAGUA\",LOOKUP(5,GEfectos!$J$4:$P$4,GEfectos!J39:P39),IF(EFECTOS!$N$9=\"REPÚBLICA \nDOMINICANA\",LOOKUP(6,$J$4:$P$4,J39:P39),IF(EFECTOS!$N$9=\"PANAMÁ\",LOOKUP(7,GEfectos!$J$4:$P$4,GEfectos!J39:P39))))))))","v":90.588907673165437},{"$f":"IF(EFECTOS!$N$9=\"COSTA RICA\",LOOKUP(1,GEfectos!$Q$4:$W$4,GEfectos!Q39:W39),IF(EFECTOS!$N$9=\"EL SALVADOR\",LOOKUP(2,GEfectos!$Q$4:$W$4,GEfectos!Q39:W39),IF(EFECTOS!$N$9=\"GUATEMALA\",LOOKUP(3,GEfectos!$Q$4:$W$4,GEfectos!Q39:W39),IF(EFECTOS!$N$9=\"HONDURAS\",LOOKUP(4,GEfectos!$Q$4:$W$4,GEfectos!Q39:W39),IF(EFECTOS!$N$9=\"NICARAGUA\",LOOKUP(5,GEfectos!$Q$4:$W$4,GEfectos!Q39:W39),IF(EFECTOS!$N$9=\"REPÚBLICA \nDOMINICANA\",LOOKUP(6,$Q$4:$W$4,Q39:W39),IF(EFECTOS!$N$9=\"PANAMÁ\",LOOKUP(7,GEfectos!$Q$4:$W$4,GEfectos!Q39:W39))))))))","v":89.28921627643021},100]
[null,{"$f":"'ITCER GLOBAL'!B40","v":"Noviembre"},{"$f":"'ITCER GLOBAL'!C40","v":103.79841331261753},{"$f":"'ITCER GLOBAL'!D40","v":105.49741666010756},{"$f":"'ITCER GLOBAL'!E40","v":91.005159439610779},{"$f":"'ITCER GLOBAL'!F40","v":119.65519978895344},{"$f":"'ITCER GLOBAL'!G40","v":103.24871331847106},{"$f":"'ITCER GLOBAL'!H40","v":100.62955496061603},{"$f":"'ITCER GLOBAL'!I40","v":105.17496150679359},{"$f":"'ITCER GLOBAL'!S40","v":83.416080230428065},{"$f":"'ITCER GLOBAL'!T40","v":111.87356284182428},{"$f":"'ITCER GLOBAL'!U40","v":86.312400527577353},{"$f":"'ITCER GLOBAL'!V40","v":93.846663963643721},{"$f":"'ITCER GLOBAL'!W40","v":82.192628968077841},{"$f":"'ITCER GLOBAL'!X40","v":89.938295435184685},{"$f":"'ITCER GLOBAL'!Y40","v":113.19991769459638},{"$f":"'ITCER GLOBAL'!AA40","v":80.363540798256281},{"$f":"'ITCER GLOBAL'!AB40","v":106.04388845108828},{"$f":"'ITCER GLOBAL'!AC40","v":94.843414438334733},{"$f":"'ITCER GLOBAL'!AD40","v":78.430911593620223},{"$f":"'ITCER GLOBAL'!AE40","v":79.606443825168412},{"$f":"'ITCER GLOBAL'!AF40","v":89.375626743439682},{"$f":"'ITCER GLOBAL'!AG40","v":107.63010137853432},null,{"$f":"IF(EFECTOS!$N$9=\"COSTA RICA\",LOOKUP(1,GEfectos!$C$4:$I$4,GEfectos!C40:I40),IF(EFECTOS!$N$9=\"EL SALVADOR\",LOOKUP(2,GEfectos!$C$4:$I$4,GEfectos!C40:I40),IF(EFECTOS!$N$9=\"GUATEMALA\",LOOKUP(3,GEfectos!$C$4:$I$4,GEfectos!C40:I40),IF(EFECTOS!$N$9=\"HONDURAS\",LOOKUP(4,GEfectos!$C$4:$I$4,GEfectos!C40:I40),IF(EFECTOS!$N$9=\"NICARAGUA\",LOOKUP(5,GEfectos!$C$4:$I$4,GEfectos!C40:I40),IF(EFECTOS!$N$9=\"REPÚBLICA \nDOMINICANA\",LOOKUP(6,$C$4:$I$4,C40:I40),IF(EFECTOS!$N$9=\"PANAMÁ\",LOOKUP(7,GEfectos!$C$4:$I$4,GEfectos!C40:I40))))))))","v":100.62955496061603},{"$f":"IF(EFECTOS!$N$9=\"COSTA RICA\",LOOKUP(1,GEfectos!$J$4:$P$4,GEfectos!J40:P40),IF(EFECTOS!$N$9=\"EL SALVADOR\",LOOKUP(2,GEfectos!$J$4:$P$4,GEfectos!J40:P40),IF(EFECTOS!$N$9=\"GUATEMALA\",LOOKUP(3,GEfectos!$J$4:$P$4,GEfectos!J40:P40),IF(EFECTOS!$N$9=\"HONDURAS\",LOOKUP(4,GEfectos!$J$4:$P$4,GEfectos!J40:P40),IF(EFECTOS!$N$9=\"NICARAGUA\",LOOKUP(5,GEfectos!$J$4:$P$4,GEfectos!J40:P40),IF(EFECTOS!$N$9=\"REPÚBLICA \nDOMINICANA\",LOOKUP(6,$J$4:$P$4,J40:P40),IF(EFECTOS!$N$9=\"PANAMÁ\",LOOKUP(7,GEfectos!$J$4:$P$4,GEfectos!J40:P40))))))))","v":89.938295435184685},{"$f":"IF(EFECTOS!$N$9=\"COSTA RICA\",LOOKUP(1,GEfectos!$Q$4:$W$4,GEfectos!Q40:W40),IF(EFECTOS!$N$9=\"EL SALVADOR\",LOOKUP(2,GEfectos!$Q$4:$W$4,GEfectos!Q40:W40),IF(EFECTOS!$N$9=\"GUATEMALA\",LOOKUP(3,GEfectos!$Q$4:$W$4,GEfectos!Q40:W40),IF(EFECTOS!$N$9=\"HONDURAS\",LOOKUP(4,GEfectos!$Q$4:$W$4,GEfectos!Q40:W40),IF(EFECTOS!$N$9=\"NICARAGUA\",LOOKUP(5,GEfectos!$Q$4:$W$4,GEfectos!Q40:W40),IF(EFECTOS!$N$9=\"REPÚBLICA \nDOMINICANA\",LOOKUP(6,$Q$4:$W$4,Q40:W40),IF(EFECTOS!$N$9=\"PANAMÁ\",LOOKUP(7,GEfectos!$Q$4:$W$4,GEfectos!Q40:W40))))))))","v":89.375626743439682},100]
[null,{"$f":"'ITCER GLOBAL'!B41","v":"Diciembre"},{"$f":"'ITCER GLOBAL'!C41","v":103.13056762856425},{"$f":"'ITCER GLOBAL'!D41","v":104.89665268200285},{"$f":"'ITCER GLOBAL'!E41","v":89.820389663087525},{"$f":"'ITCER GLOBAL'!F41","v":118.96933321439776},{"$f":"'ITCER GLOBAL'!G41","v":103.20843472731816},{"$f":"'ITCER GLOBAL'!H41","v":99.525291667728595},{"$f":"'ITCER GLOBAL'!I41","v":100.36038926069941},{"$f":"'ITCER GLOBAL'!S41","v":83.521111515434526},{"$f":"'ITCER GLOBAL'!T41","v":111.04137712691262},{"$f":"'ITCER GLOBAL'!U41","v":85.384545470780878},{"$f":"'ITCER GLOBAL'!V41","v":93.447823318203788},{"$f":"'ITCER GLOBAL'!W41","v":82.522854088208959},{"$f":"'ITCER GLOBAL'!X41","v":88.992464206121653},{"$f":"'ITCER GLOBAL'!Y41","v":107.70093578170842},{"$f":"'ITCER GLOBAL'!AA41","v":80.985796389916842},{"$f":"'ITCER GLOBAL'!AB41","v":105.85788420106948},{"$f":"'ITCER GLOBAL'!AC41","v":95.06142846969901},{"$f":"'ITCER GLOBAL'!AD41","v":78.54782471529785},{"$f":"'ITCER GLOBAL'!AE41","v":79.957470827106775},{"$f":"'ITCER GLOBAL'!AF41","v":89.416933841529001},{"$f":"'ITCER GLOBAL'!AG41","v":107.31418697663774},null,{"$f":"IF(EFECTOS!$N$9=\"COSTA RICA\",LOOKUP(1,GEfectos!$C$4:$I$4,GEfectos!C41:I41),IF(EFECTOS!$N$9=\"EL SALVADOR\",LOOKUP(2,GEfectos!$C$4:$I$4,GEfectos!C41:I41),IF(EFECTOS!$N$9=\"GUATEMALA\",LOOKUP(3,GEfectos!$C$4:$I$4,GEfectos!C41:I41),IF(EFECTOS!$N$9=\"HONDURAS\",LOOKUP(4,GEfectos!$C$4:$I$4,GEfectos!C41:I41),IF(EFECTOS!$N$9=\"NICARAGUA\",LOOKUP(5,GEfectos!$C$4:$I$4,GEfectos!C41:I41),IF(EFECTOS!$N$9=\"REPÚBLICA \nDOMINICANA\",LOOKUP(6,$C$4:$I$4,C41:I41),IF(EFECTOS!$N$9=\"PANAMÁ\",LOOKUP(7,GEfectos!$C$4:$I$4,GEfectos!C41:I41))))))))","v":99.525291667728595},{"$f":"IF(EFECTOS!$N$9=\"COSTA RICA\",LOOKUP(1,GEfectos!$J$4:$P$4,GEfectos!J41:P41),IF(EFECTOS!$N$9=\"EL SALVADOR\",LOOKUP(2,GEfectos!$J$4:$P$4,GEfectos!J41:P41),IF(EFECTOS!$N$9=\"GUATEMALA\",LOOKUP(3,GEfectos!$J$4:$P$4,GEfectos!J41:P41),IF(EFECTOS!$N$9=\"HONDURAS\",LOOKUP(4,GEfectos!$J$4:$P$4,GEfectos!J41:P41),IF(EFECTOS!$N$9=\"NICARAGUA\",LOOKUP(5,GEfectos!$J$4:$P$4,GEfectos!J41:P41),IF(EFECTOS!$N$9=\"REPÚBLICA \nDOMINICANA\",LOOKUP(6,$J$4:$P$4,J41:P41),IF(EFECTOS!$N$9=\"PANAMÁ\",LOOKUP(7,GEfectos!$J$4:$P$4,GEfectos!J41:P41))))))))","v":88.992464206121653},{"$f":"IF(EFECTOS!$N$9=\"COSTA RICA\",LOOKUP(1,GEfectos!$Q$4:$W$4,GEfectos!Q41:W41),IF(EFECTOS!$N$9=\"EL SALVADOR\",LOOKUP(2,GEfectos!$Q$4:$W$4,GEfectos!Q41:W41),IF(EFECTOS!$N$9=\"GUATEMALA\",LOOKUP(3,GEfectos!$Q$4:$W$4,GEfectos!Q41:W41),IF(EFECTOS!$N$9=\"HONDURAS\",LOOKUP(4,GEfectos!$Q$4:$W$4,GEfectos!Q41:W41),IF(EFECTOS!$N$9=\"NICARAGUA\",LOOKUP(5,GEfectos!$Q$4:$W$4,GEfectos!Q41:W41),IF(EFECTOS!$N$9=\"REPÚBLICA \nDOMINICANA\",LOOKUP(6,$Q$4:$W$4,Q41:W41),IF(EFECTOS!$N$9=\"PANAMÁ\",LOOKUP(7,GEfectos!$Q$4:$W$4,GEfectos!Q41:W41))))))))","v":89.416933841529001},100]
[1998,{"$f":"'ITCER GLOBAL'!B42","v":"Enero"},{"$f":"'ITCER GLOBAL'!C42","v":101.3929362819169},{"$f":"'ITCER GLOBAL'!D42","v":103.21723149893353},{"$f":"'ITCER GLOBAL'!E42","v":89.353354522764434},{"$f":"'ITCER GLOBAL'!F42","v":117.40959586609254},{"$f":"'ITCER GLOBAL'!G42","v":102.84591193087235},{"$f":"'ITCER GLOBAL'!H42","v":98.369731492889514},{"$f":"'ITCER GLOBAL'!I42","v":97.687177579120259},{"$f":"'ITCER GLOBAL'!S42","v":83.39877536175112},{"$f":"'ITCER GLOBAL'!T42","v":110.76517563752657},{"$f":"'ITCER GLOBAL'!U42","v":85.629890922379943},{"$f":"'ITCER GLOBAL'!V42","v":92.668373528279048},{"$f":"'ITCER GLOBAL'!W42","v":83.029261263522642},{"$f":"'ITCER GLOBAL'!X42","v":86.661800245765221},{"$f":"'ITCER GLOBAL'!Y42","v":104.58525241227656},{"$f":"'ITCER GLOBAL'!AA42","v":82.253042884433185},{"$f":"'ITCER GLOBAL'!AB42","v":107.31267834738529},{"$f":"'ITCER GLOBAL'!AC42","v":95.832877657171949},{"$f":"'ITCER GLOBAL'!AD42","v":78.927427391853684},{"$f":"'ITCER GLOBAL'!AE42","v":80.731707954838868},{"$f":"'ITCER GLOBAL'!AF42","v":88.098034761871261},{"$f":"'ITCER GLOBAL'!AG42","v":107.06139229743769},null,{"$f":"IF(EFECTOS!$N$9=\"COSTA RICA\",LOOKUP(1,GEfectos!$C$4:$I$4,GEfectos!C42:I42),IF(EFECTOS!$N$9=\"EL SALVADOR\",LOOKUP(2,GEfectos!$C$4:$I$4,GEfectos!C42:I42),IF(EFECTOS!$N$9=\"GUATEMALA\",LOOKUP(3,GEfectos!$C$4:$I$4,GEfectos!C42:I42),IF(EFECTOS!$N$9=\"HONDURAS\",LOOKUP(4,GEfectos!$C$4:$I$4,GEfectos!C42:I42),IF(EFECTOS!$N$9=\"NICARAGUA\",LOOKUP(5,GEfectos!$C$4:$I$4,GEfectos!C42:I42),IF(EFECTOS!$N$9=\"REPÚBLICA \nDOMINICANA\",LOOKUP(6,$C$4:$I$4,C42:I42),IF(EFECTOS!$N$9=\"PANAMÁ\",LOOKUP(7,GEfectos!$C$4:$I$4,GEfectos!C42:I42))))))))","v":98.369731492889514},{"$f":"IF(EFECTOS!$N$9=\"COSTA RICA\",LOOKUP(1,GEfectos!$J$4:$P$4,GEfectos!J42:P42),IF(EFECTOS!$N$9=\"EL SALVADOR\",LOOKUP(2,GEfectos!$J$4:$P$4,GEfectos!J42:P42),IF(EFECTOS!$N$9=\"GUATEMALA\",LOOKUP(3,GEfectos!$J$4:$P$4,GEfectos!J42:P42),IF(EFECTOS!$N$9=\"HONDURAS\",LOOKUP(4,GEfectos!$J$4:$P$4,GEfectos!J42:P42),IF(EFECTOS!$N$9=\"NICARAGUA\",LOOKUP(5,GEfectos!$J$4:$P$4,GEfectos!J42:P42),IF(EFECTOS!$N$9=\"REPÚBLICA \nDOMINICANA\",LOOKUP(6,$J$4:$P$4,J42:P42),IF(EFECTOS!$N$9=\"PANAMÁ\",LOOKUP(7,GEfectos!$J$4:$P$4,GEfectos!J42:P42))))))))","v":86.661800245765221},{"$f":"IF(EFECTOS!$N$9=\"COSTA RICA\",LOOKUP(1,GEfectos!$Q$4:$W$4,GEfectos!Q42:W42),IF(EFECTOS!$N$9=\"EL SALVADOR\",LOOKUP(2,GEfectos!$Q$4:$W$4,GEfectos!Q42:W42),IF(EFECTOS!$N$9=\"GUATEMALA\",LOOKUP(3,GEfectos!$Q$4:$W$4,GEfectos!Q42:W42),IF(EFECTOS!$N$9=\"HONDURAS\",LOOKUP(4,GEfectos!$Q$4:$W$4,GEfectos!Q42:W42),IF(EFECTOS!$N$9=\"NICARAGUA\",LOOKUP(5,GEfectos!$Q$4:$W$4,GEfectos!Q42:W42),IF(EFECTOS!$N$9=\"REPÚBLICA \nDOMINICANA\",LOOKUP(6,$Q$4:$W$4,Q42:W42),IF(EFECTOS!$N$9=\"PANAMÁ\",LOOKUP(7,GEfectos!$Q$4:$W$4,GEfectos!Q42:W42))))))))","v":88.098034761871261},100]
[null,{"$f":"'ITCER GLOBAL'!B43","v":"Febrero"},{"$f":"'ITCER GLOBAL'!C43","v":101.5397167193909},{"$f":"'ITCER GLOBAL'!D43","v":103.46483670246342},{"$f":"'ITCER GLOBAL'!E43","v":88.529380688966398},{"$f":"'ITCER GLOBAL'!F43","v":115.40466851594039},{"$f":"'ITCER GLOBAL'!G43","v":102.78640032565711},{"$f":"'ITCER GLOBAL'!H43","v":98.671940096589722},{"$f":"'ITCER GLOBAL'!I43","v":98.862753241981522},{"$f":"'ITCER GLOBAL'!S43","v":83.994752736062779},{"$f":"'ITCER GLOBAL'!T43","v":110.68905741323746},{"$f":"'ITCER GLOBAL'!U43","v":84.892519820825484},{"$f":"'ITCER GLOBAL'!V43","v":93.011977112234732},{"$f":"'ITCER GLOBAL'!W43","v":83.74750401688074},{"$f":"'ITCER GLOBAL'!X43","v":86.620895302266518},{"$f":"'ITCER GLOBAL'!Y43","v":104.96645631923734},{"$f":"'ITCER GLOBAL'!AA43","v":82.721082399890548},{"$f":"'ITCER GLOBAL'!AB43","v":106.98229557115036},{"$f":"'ITCER GLOBAL'!AC43","v":95.891916514226594},{"$f":"'ITCER GLOBAL'!AD43","v":80.596373013616301},{"$f":"'ITCER GLOBAL'!AE43","v":81.47722242586994},{"$f":"'ITCER GLOBAL'!AF43","v":87.786756009331057},{"$f":"'ITCER GLOBAL'!AG43","v":106.17391573378103},null,{"$f":"IF(EFECTOS!$N$9=\"COSTA RICA\",LOOKUP(1,GEfectos!$C$4:$I$4,GEfectos!C43:I43),IF(EFECTOS!$N$9=\"EL SALVADOR\",LOOKUP(2,GEfectos!$C$4:$I$4,GEfectos!C43:I43),IF(EFECTOS!$N$9=\"GUATEMALA\",LOOKUP(3,GEfectos!$C$4:$I$4,GEfectos!C43:I43),IF(EFECTOS!$N$9=\"HONDURAS\",LOOKUP(4,GEfectos!$C$4:$I$4,GEfectos!C43:I43),IF(EFECTOS!$N$9=\"NICARAGUA\",LOOKUP(5,GEfectos!$C$4:$I$4,GEfectos!C43:I43),IF(EFECTOS!$N$9=\"REPÚBLICA \nDOMINICANA\",LOOKUP(6,$C$4:$I$4,C43:I43),IF(EFECTOS!$N$9=\"PANAMÁ\",LOOKUP(7,GEfectos!$C$4:$I$4,GEfectos!C43:I43))))))))","v":98.671940096589722},{"$f":"IF(EFECTOS!$N$9=\"COSTA RICA\",LOOKUP(1,GEfectos!$J$4:$P$4,GEfectos!J43:P43),IF(EFECTOS!$N$9=\"EL SALVADOR\",LOOKUP(2,GEfectos!$J$4:$P$4,GEfectos!J43:P43),IF(EFECTOS!$N$9=\"GUATEMALA\",LOOKUP(3,GEfectos!$J$4:$P$4,GEfectos!J43:P43),IF(EFECTOS!$N$9=\"HONDURAS\",LOOKUP(4,GEfectos!$J$4:$P$4,GEfectos!J43:P43),IF(EFECTOS!$N$9=\"NICARAGUA\",LOOKUP(5,GEfectos!$J$4:$P$4,GEfectos!J43:P43),IF(EFECTOS!$N$9=\"REPÚBLICA \nDOMINICANA\",LOOKUP(6,$J$4:$P$4,J43:P43),IF(EFECTOS!$N$9=\"PANAMÁ\",LOOKUP(7,GEfectos!$J$4:$P$4,GEfectos!J43:P43))))))))","v":86.620895302266518},{"$f":"IF(EFECTOS!$N$9=\"COSTA RICA\",LOOKUP(1,GEfectos!$Q$4:$W$4,GEfectos!Q43:W43),IF(EFECTOS!$N$9=\"EL SALVADOR\",LOOKUP(2,GEfectos!$Q$4:$W$4,GEfectos!Q43:W43),IF(EFECTOS!$N$9=\"GUATEMALA\",LOOKUP(3,GEfectos!$Q$4:$W$4,GEfectos!Q43:W43),IF(EFECTOS!$N$9=\"HONDURAS\",LOOKUP(4,GEfectos!$Q$4:$W$4,GEfectos!Q43:W43),IF(EFECTOS!$N$9=\"NICARAGUA\",LOOKUP(5,GEfectos!$Q$4:$W$4,GEfectos!Q43:W43),IF(EFECTOS!$N$9=\"REPÚBLICA \nDOMINICANA\",LOOKUP(6,$Q$4:$W$4,Q43:W43),IF(EFECTOS!$N$9=\"PANAMÁ\",LOOKUP(7,GEfectos!$Q$4:$W$4,GEfectos!Q43:W43))))))))","v":87.786756009331057},100]
[null,{"$f":"'ITCER GLOBAL'!B44","v":"Marzo"},{"$f":"'ITCER GLOBAL'!C44","v":101.42115555580011},{"$f":"'ITCER GLOBAL'!D44","v":103.1479152949036},{"$f":"'ITCER GLOBAL'!E44","v":89.020160035713886},{"$f":"'ITCER GLOBAL'!F44","v":113.93937858071801},{"$f":"'ITCER GLOBAL'!G44","v":102.72585620121757},{"$f":"'ITCER GLOBAL'!H44","v":99.027975377099054},{"$f":"'ITCER GLOBAL'!I44","v":99.395661410598066},{"$f":"'ITCER GLOBAL'!S44","v":84.479240836283438},{"$f":"'ITCER GLOBAL'!T44","v":110.30140608990646},{"$f":"'ITCER GLOBAL'!U44","v":85.574002794095492},{"$f":"'ITCER GLOBAL'!V44","v":93.073933703928603},{"$f":"'ITCER GLOBAL'!W44","v":84.231469852536861},{"$f":"'ITCER GLOBAL'!X44","v":86.579232845183256},{"$f":"'ITCER GLOBAL'!Y44","v":105.35245494904204},{"$f":"'ITCER GLOBAL'!AA44","v":83.295482459578622},{"$f":"'ITCER GLOBAL'!AB44","v":106.93517728841226},{"$f":"'ITCER GLOBAL'!AC44","v":96.128790107503917},{"$f":"'ITCER GLOBAL'!AD44","v":81.68724005984663},{"$f":"'ITCER GLOBAL'!AE44","v":81.996366803257175},{"$f":"'ITCER GLOBAL'!AF44","v":87.429064883422157},{"$f":"'ITCER GLOBAL'!AG44","v":105.99301162033299},null,{"$f":"IF(EFECTOS!$N$9=\"COSTA RICA\",LOOKUP(1,GEfectos!$C$4:$I$4,GEfectos!C44:I44),IF(EFECTOS!$N$9=\"EL SALVADOR\",LOOKUP(2,GEfectos!$C$4:$I$4,GEfectos!C44:I44),IF(EFECTOS!$N$9=\"GUATEMALA\",LOOKUP(3,GEfectos!$C$4:$I$4,GEfectos!C44:I44),IF(EFECTOS!$N$9=\"HONDURAS\",LOOKUP(4,GEfectos!$C$4:$I$4,GEfectos!C44:I44),IF(EFECTOS!$N$9=\"NICARAGUA\",LOOKUP(5,GEfectos!$C$4:$I$4,GEfectos!C44:I44),IF(EFECTOS!$N$9=\"REPÚBLICA \nDOMINICANA\",LOOKUP(6,$C$4:$I$4,C44:I44),IF(EFECTOS!$N$9=\"PANAMÁ\",LOOKUP(7,GEfectos!$C$4:$I$4,GEfectos!C44:I44))))))))","v":99.027975377099054},{"$f":"IF(EFECTOS!$N$9=\"COSTA RICA\",LOOKUP(1,GEfectos!$J$4:$P$4,GEfectos!J44:P44),IF(EFECTOS!$N$9=\"EL SALVADOR\",LOOKUP(2,GEfectos!$J$4:$P$4,GEfectos!J44:P44),IF(EFECTOS!$N$9=\"GUATEMALA\",LOOKUP(3,GEfectos!$J$4:$P$4,GEfectos!J44:P44),IF(EFECTOS!$N$9=\"HONDURAS\",LOOKUP(4,GEfectos!$J$4:$P$4,GEfectos!J44:P44),IF(EFECTOS!$N$9=\"NICARAGUA\",LOOKUP(5,GEfectos!$J$4:$P$4,GEfectos!J44:P44),IF(EFECTOS!$N$9=\"REPÚBLICA \nDOMINICANA\",LOOKUP(6,$J$4:$P$4,J44:P44),IF(EFECTOS!$N$9=\"PANAMÁ\",LOOKUP(7,GEfectos!$J$4:$P$4,GEfectos!J44:P44))))))))","v":86.579232845183256},{"$f":"IF(EFECTOS!$N$9=\"COSTA RICA\",LOOKUP(1,GEfectos!$Q$4:$W$4,GEfectos!Q44:W44),IF(EFECTOS!$N$9=\"EL SALVADOR\",LOOKUP(2,GEfectos!$Q$4:$W$4,GEfectos!Q44:W44),IF(EFECTOS!$N$9=\"GUATEMALA\",LOOKUP(3,GEfectos!$Q$4:$W$4,GEfectos!Q44:W44),IF(EFECTOS!$N$9=\"HONDURAS\",LOOKUP(4,GEfectos!$Q$4:$W$4,GEfectos!Q44:W44),IF(EFECTOS!$N$9=\"NICARAGUA\",LOOKUP(5,GEfectos!$Q$4:$W$4,GEfectos!Q44:W44),IF(EFECTOS!$N$9=\"REPÚBLICA \nDOMINICANA\",LOOKUP(6,$Q$4:$W$4,Q44:W44),IF(EFECTOS!$N$9=\"PANAMÁ\",LOOKUP(7,GEfectos!$Q$4:$W$4,GEfectos!Q44:W44))))))))","v":87.429064883422157},100]
[null,{"$f":"'ITCER GLOBAL'!B45","v":"Abril"},{"$f":"'ITCER GLOBAL'!C45","v":101.90332409095765},{"$f":"'ITCER GLOBAL'!D45","v":102.39806754450579},{"$f":"'ITCER GLOBAL'!E45","v":89.041594173175625},{"$f":"'ITCER GLOBAL'!F45","v":112.39850367292489},{"$f":"'ITCER GLOBAL'!G45","v":101.98076816167186},{"$f":"'ITCER GLOBAL'!H45","v":99.446913862392734},{"$f":"'ITCER GLOBAL'!I45","v":100.35896673601783},{"$f":"'ITCER GLOBAL'!S45","v":85.216032270906069},{"$f":"'ITCER GLOBAL'!T45","v":110.30383280983361},{"$f":"'ITCER GLOBAL'!U45","v":85.824279050386792},{"$f":"'ITCER GLOBAL'!V45","v":93.026754996281525},{"$f":"'ITCER GLOBAL'!W45","v":84.973855507764597},{"$f":"'ITCER GLOBAL'!X45","v":86.640431424234592},{"$f":"'ITCER GLOBAL'!Y45","v":105.83020102467017},{"$f":"'ITCER GLOBAL'!AA45","v":83.624389126740638},{"$f":"'ITCER GLOBAL'!AB45","v":107.72061959264192},{"$f":"'ITCER GLOBAL'!AC45","v":96.386727851557197},{"$f":"'ITCER GLOBAL'!AD45","v":82.765118712777209},{"$f":"'ITCER GLOBAL'!AE45","v":83.323411893754397},{"$f":"'ITCER GLOBAL'!AF45","v":87.122292748190461},{"$f":"'ITCER GLOBAL'!AG45","v":105.45166462608545},null,{"$f":"IF(EFECTOS!$N$9=\"COSTA RICA\",LOOKUP(1,GEfectos!$C$4:$I$4,GEfectos!C45:I45),IF(EFECTOS!$N$9=\"EL SALVADOR\",LOOKUP(2,GEfectos!$C$4:$I$4,GEfectos!C45:I45),IF(EFECTOS!$N$9=\"GUATEMALA\",LOOKUP(3,GEfectos!$C$4:$I$4,GEfectos!C45:I45),IF(EFECTOS!$N$9=\"HONDURAS\",LOOKUP(4,GEfectos!$C$4:$I$4,GEfectos!C45:I45),IF(EFECTOS!$N$9=\"NICARAGUA\",LOOKUP(5,GEfectos!$C$4:$I$4,GEfectos!C45:I45),IF(EFECTOS!$N$9=\"REPÚBLICA \nDOMINICANA\",LOOKUP(6,$C$4:$I$4,C45:I45),IF(EFECTOS!$N$9=\"PANAMÁ\",LOOKUP(7,GEfectos!$C$4:$I$4,GEfectos!C45:I45))))))))","v":99.446913862392734},{"$f":"IF(EFECTOS!$N$9=\"COSTA RICA\",LOOKUP(1,GEfectos!$J$4:$P$4,GEfectos!J45:P45),IF(EFECTOS!$N$9=\"EL SALVADOR\",LOOKUP(2,GEfectos!$J$4:$P$4,GEfectos!J45:P45),IF(EFECTOS!$N$9=\"GUATEMALA\",LOOKUP(3,GEfectos!$J$4:$P$4,GEfectos!J45:P45),IF(EFECTOS!$N$9=\"HONDURAS\",LOOKUP(4,GEfectos!$J$4:$P$4,GEfectos!J45:P45),IF(EFECTOS!$N$9=\"NICARAGUA\",LOOKUP(5,GEfectos!$J$4:$P$4,GEfectos!J45:P45),IF(EFECTOS!$N$9=\"REPÚBLICA \nDOMINICANA\",LOOKUP(6,$J$4:$P$4,J45:P45),IF(EFECTOS!$N$9=\"PANAMÁ\",LOOKUP(7,GEfectos!$J$4:$P$4,GEfectos!J45:P45))))))))","v":86.640431424234592},{"$f":"IF(EFECTOS!$N$9=\"COSTA RICA\",LOOKUP(1,GEfectos!$Q$4:$W$4,GEfectos!Q45:W45),IF(EFECTOS!$N$9=\"EL SALVADOR\",LOOKUP(2,GEfectos!$Q$4:$W$4,GEfectos!Q45:W45),IF(EFECTOS!$N$9=\"GUATEMALA\",LOOKUP(3,GEfectos!$Q$4:$W$4,GEfectos!Q45:W45),IF(EFECTOS!$N$9=\"HONDURAS\",LOOKUP(4,GEfectos!$Q$4:$W$4,GEfectos!Q45:W45),IF(EFECTOS!$N$9=\"NICARAGUA\",LOOKUP(5,GEfectos!$Q$4:$W$4,GEfectos!Q45:W45),IF(EFECTOS!$N$9=\"REPÚBLICA \nDOMINICANA\",LOOKUP(6,$Q$4:$W$4,Q45:W45),IF(EFECTOS!$N$9=\"PANAMÁ\",LOOKUP(7,GEfectos!$Q$4:$W$4,GEfectos!Q45:W45))))))))","v":87.122292748190461},100]
[null,{"$f":"'ITCER GLOBAL'!B46","v":"Mayo"},{"$f":"'ITCER GLOBAL'!C46","v":102.33883129719443},{"$f":"'ITCER GLOBAL'!D46","v":102.26867492883049},{"$f":"'ITCER GLOBAL'!E46","v":88.752547306959841},{"$f":"'ITCER GLOBAL'!F46","v":111.99105078456333},{"$f":"'ITCER GLOBAL'!G46","v":101.24159937077526},{"$f":"'ITCER GLOBAL'!H46","v":99.191647029276211},{"$f":"'ITCER GLOBAL'!I46","v":100.30695576726137},{"$f":"'ITCER GLOBAL'!S46","v":85.950408613793599},{"$f":"'ITCER GLOBAL'!T46","v":110.28633139046238},{"$f":"'ITCER GLOBAL'!U46","v":85.684546348939321},{"$f":"'ITCER GLOBAL'!V46","v":93.470640780332886},{"$f":"'ITCER GLOBAL'!W46","v":85.744647519975175},{"$f":"'ITCER GLOBAL'!X46","v":86.619677107076654},{"$f":"'ITCER GLOBAL'!Y46","v":105.68159171212098},{"$f":"'ITCER GLOBAL'!AA46","v":83.986115069256115},{"$f":"'ITCER GLOBAL'!AB46","v":107.83979695367272},{"$f":"'ITCER GLOBAL'!AC46","v":96.543196729430733},{"$f":"'ITCER GLOBAL'!AD46","v":83.462598239337837},{"$f":"'ITCER GLOBAL'!AE46","v":84.693098541395145},{"$f":"'ITCER GLOBAL'!AF46","v":87.325575994832533},{"$f":"'ITCER GLOBAL'!AG46","v":105.35818867569881},null,{"$f":"IF(EFECTOS!$N$9=\"COSTA RICA\",LOOKUP(1,GEfectos!$C$4:$I$4,GEfectos!C46:I46),IF(EFECTOS!$N$9=\"EL SALVADOR\",LOOKUP(2,GEfectos!$C$4:$I$4,GEfectos!C46:I46),IF(EFECTOS!$N$9=\"GUATEMALA\",LOOKUP(3,GEfectos!$C$4:$I$4,GEfectos!C46:I46),IF(EFECTOS!$N$9=\"HONDURAS\",LOOKUP(4,GEfectos!$C$4:$I$4,GEfectos!C46:I46),IF(EFECTOS!$N$9=\"NICARAGUA\",LOOKUP(5,GEfectos!$C$4:$I$4,GEfectos!C46:I46),IF(EFECTOS!$N$9=\"REPÚBLICA \nDOMINICANA\",LOOKUP(6,$C$4:$I$4,C46:I46),IF(EFECTOS!$N$9=\"PANAMÁ\",LOOKUP(7,GEfectos!$C$4:$I$4,GEfectos!C46:I46))))))))","v":99.191647029276211},{"$f":"IF(EFECTOS!$N$9=\"COSTA RICA\",LOOKUP(1,GEfectos!$J$4:$P$4,GEfectos!J46:P46),IF(EFECTOS!$N$9=\"EL SALVADOR\",LOOKUP(2,GEfectos!$J$4:$P$4,GEfectos!J46:P46),IF(EFECTOS!$N$9=\"GUATEMALA\",LOOKUP(3,GEfectos!$J$4:$P$4,GEfectos!J46:P46),IF(EFECTOS!$N$9=\"HONDURAS\",LOOKUP(4,GEfectos!$J$4:$P$4,GEfectos!J46:P46),IF(EFECTOS!$N$9=\"NICARAGUA\",LOOKUP(5,GEfectos!$J$4:$P$4,GEfectos!J46:P46),IF(EFECTOS!$N$9=\"REPÚBLICA \nDOMINICANA\",LOOKUP(6,$J$4:$P$4,J46:P46),IF(EFECTOS!$N$9=\"PANAMÁ\",LOOKUP(7,GEfectos!$J$4:$P$4,GEfectos!J46:P46))))))))","v":86.619677107076654},{"$f":"IF(EFECTOS!$N$9=\"COSTA RICA\",LOOKUP(1,GEfectos!$Q$4:$W$4,GEfectos!Q46:W46),IF(EFECTOS!$N$9=\"EL SALVADOR\",LOOKUP(2,GEfectos!$Q$4:$W$4,GEfectos!Q46:W46),IF(EFECTOS!$N$9=\"GUATEMALA\",LOOKUP(3,GEfectos!$Q$4:$W$4,GEfectos!Q46:W46),IF(EFECTOS!$N$9=\"HONDURAS\",LOOKUP(4,GEfectos!$Q$4:$W$4,GEfectos!Q46:W46),IF(EFECTOS!$N$9=\"NICARAGUA\",LOOKUP(5,GEfectos!$Q$4:$W$4,GEfectos!Q46:W46),IF(EFECTOS!$N$9=\"REPÚBLICA \nDOMINICANA\",LOOKUP(6,$Q$4:$W$4,Q46:W46),IF(EFECTOS!$N$9=\"PANAMÁ\",LOOKUP(7,GEfectos!$Q$4:$W$4,GEfectos!Q46:W46))))))))","v":87.325575994832533},100]
[null,{"$f":"'ITCER GLOBAL'!B47","v":"Junio"},{"$f":"'ITCER GLOBAL'!C47","v":102.07333937275983},{"$f":"'ITCER GLOBAL'!D47","v":101.84587819799091},{"$f":"'ITCER GLOBAL'!E47","v":88.730491533928657},{"$f":"'ITCER GLOBAL'!F47","v":110.13451968140372},{"$f":"'ITCER GLOBAL'!G47","v":99.957752213535969},{"$f":"'ITCER GLOBAL'!H47","v":98.473863971876554},{"$f":"'ITCER GLOBAL'!I47","v":99.553937326318021},{"$f":"'ITCER GLOBAL'!S47","v":86.233673462085378},{"$f":"'ITCER GLOBAL'!T47","v":109.57258454160214},{"$f":"'ITCER GLOBAL'!U47","v":85.549412796951046},{"$f":"'ITCER GLOBAL'!V47","v":93.335998575971615},{"$f":"'ITCER GLOBAL'!W47","v":86.042168072563456},{"$f":"'ITCER GLOBAL'!X47","v":86.324926595343612},{"$f":"'ITCER GLOBAL'!Y47","v":105.01672284291199},{"$f":"'ITCER GLOBAL'!AA47","v":84.48207337194107},{"$f":"'ITCER GLOBAL'!AB47","v":107.58666573485705},{"$f":"'ITCER GLOBAL'!AC47","v":96.414897875595301},{"$f":"'ITCER GLOBAL'!AD47","v":84.747269835082832},{"$f":"'ITCER GLOBAL'!AE47","v":86.078534347946146},{"$f":"'ITCER GLOBAL'!AF47","v":87.662779862073265},{"$f":"'ITCER GLOBAL'!AG47","v":105.48726214482913},null,{"$f":"IF(EFECTOS!$N$9=\"COSTA RICA\",LOOKUP(1,GEfectos!$C$4:$I$4,GEfectos!C47:I47),IF(EFECTOS!$N$9=\"EL SALVADOR\",LOOKUP(2,GEfectos!$C$4:$I$4,GEfectos!C47:I47),IF(EFECTOS!$N$9=\"GUATEMALA\",LOOKUP(3,GEfectos!$C$4:$I$4,GEfectos!C47:I47),IF(EFECTOS!$N$9=\"HONDURAS\",LOOKUP(4,GEfectos!$C$4:$I$4,GEfectos!C47:I47),IF(EFECTOS!$N$9=\"NICARAGUA\",LOOKUP(5,GEfectos!$C$4:$I$4,GEfectos!C47:I47),IF(EFECTOS!$N$9=\"REPÚBLICA \nDOMINICANA\",LOOKUP(6,$C$4:$I$4,C47:I47),IF(EFECTOS!$N$9=\"PANAMÁ\",LOOKUP(7,GEfectos!$C$4:$I$4,GEfectos!C47:I47))))))))","v":98.473863971876554},{"$f":"IF(EFECTOS!$N$9=\"COSTA RICA\",LOOKUP(1,GEfectos!$J$4:$P$4,GEfectos!J47:P47),IF(EFECTOS!$N$9=\"EL SALVADOR\",LOOKUP(2,GEfectos!$J$4:$P$4,GEfectos!J47:P47),IF(EFECTOS!$N$9=\"GUATEMALA\",LOOKUP(3,GEfectos!$J$4:$P$4,GEfectos!J47:P47),IF(EFECTOS!$N$9=\"HONDURAS\",LOOKUP(4,GEfectos!$J$4:$P$4,GEfectos!J47:P47),IF(EFECTOS!$N$9=\"NICARAGUA\",LOOKUP(5,GEfectos!$J$4:$P$4,GEfectos!J47:P47),IF(EFECTOS!$N$9=\"REPÚBLICA \nDOMINICANA\",LOOKUP(6,$J$4:$P$4,J47:P47),IF(EFECTOS!$N$9=\"PANAMÁ\",LOOKUP(7,GEfectos!$J$4:$P$4,GEfectos!J47:P47))))))))","v":86.324926595343612},{"$f":"IF(EFECTOS!$N$9=\"COSTA RICA\",LOOKUP(1,GEfectos!$Q$4:$W$4,GEfectos!Q47:W47),IF(EFECTOS!$N$9=\"EL SALVADOR\",LOOKUP(2,GEfectos!$Q$4:$W$4,GEfectos!Q47:W47),IF(EFECTOS!$N$9=\"GUATEMALA\",LOOKUP(3,GEfectos!$Q$4:$W$4,GEfectos!Q47:W47),IF(EFECTOS!$N$9=\"HONDURAS\",LOOKUP(4,GEfectos!$Q$4:$W$4,GEfectos!Q47:W47),IF(EFECTOS!$N$9=\"NICARAGUA\",LOOKUP(5,GEfectos!$Q$4:$W$4,GEfectos!Q47:W47),IF(EFECTOS!$N$9=\"REPÚBLICA \nDOMINICANA\",LOOKUP(6,$Q$4:$W$4,Q47:W47),IF(EFECTOS!$N$9=\"PANAMÁ\",LOOKUP(7,GEfectos!$Q$4:$W$4,GEfectos!Q47:W47))))))))","v":87.662779862073265},100]
[null,{"$f":"'ITCER GLOBAL'!B48","v":"Julio"},{"$f":"'ITCER GLOBAL'!C48","v":101.30876719687846},{"$f":"'ITCER GLOBAL'!D48","v":101.49000213047795},{"$f":"'ITCER GLOBAL'!E48","v":89.148866943911244},{"$f":"'ITCER GLOBAL'!F48","v":108.34763149174771},{"$f":"'ITCER GLOBAL'!G48","v":101.94776225948327},{"$f":"'ITCER GLOBAL'!H48","v":106.39576602323578},{"$f":"'ITCER GLOBAL'!I48","v":100.04127652924029},{"$f":"'ITCER GLOBAL'!S48","v":86.935287997137095},{"$f":"'ITCER GLOBAL'!T48","v":109.33791709224319},{"$f":"'ITCER GLOBAL'!U48","v":85.976235859734999},{"$f":"'ITCER GLOBAL'!V48","v":93.483452512040145},{"$f":"'ITCER GLOBAL'!W48","v":86.666832598423795},{"$f":"'ITCER GLOBAL'!X48","v":93.747006129764443},{"$f":"'ITCER GLOBAL'!Y48","v":105.47490274834229},{"$f":"'ITCER GLOBAL'!AA48","v":85.812205994167655},{"$f":"'ITCER GLOBAL'!AB48","v":107.73269760274098},{"$f":"'ITCER GLOBAL'!AC48","v":96.441198645662723},{"$f":"'ITCER GLOBAL'!AD48","v":86.281030074164846},{"$f":"'ITCER GLOBAL'!AE48","v":85.011020033803604},{"$f":"'ITCER GLOBAL'!AF48","v":88.111594693806737},{"$f":"'ITCER GLOBAL'!AG48","v":105.43138433215998},null,{"$f":"IF(EFECTOS!$N$9=\"COSTA RICA\",LOOKUP(1,GEfectos!$C$4:$I$4,GEfectos!C48:I48),IF(EFECTOS!$N$9=\"EL SALVADOR\",LOOKUP(2,GEfectos!$C$4:$I$4,GEfectos!C48:I48),IF(EFECTOS!$N$9=\"GUATEMALA\",LOOKUP(3,GEfectos!$C$4:$I$4,GEfectos!C48:I48),IF(EFECTOS!$N$9=\"HONDURAS\",LOOKUP(4,GEfectos!$C$4:$I$4,GEfectos!C48:I48),IF(EFECTOS!$N$9=\"NICARAGUA\",LOOKUP(5,GEfectos!$C$4:$I$4,GEfectos!C48:I48),IF(EFECTOS!$N$9=\"REPÚBLICA \nDOMINICANA\",LOOKUP(6,$C$4:$I$4,C48:I48),IF(EFECTOS!$N$9=\"PANAMÁ\",LOOKUP(7,GEfectos!$C$4:$I$4,GEfectos!C48:I48))))))))","v":106.39576602323578},{"$f":"IF(EFECTOS!$N$9=\"COSTA RICA\",LOOKUP(1,GEfectos!$J$4:$P$4,GEfectos!J48:P48),IF(EFECTOS!$N$9=\"EL SALVADOR\",LOOKUP(2,GEfectos!$J$4:$P$4,GEfectos!J48:P48),IF(EFECTOS!$N$9=\"GUATEMALA\",LOOKUP(3,GEfectos!$J$4:$P$4,GEfectos!J48:P48),IF(EFECTOS!$N$9=\"HONDURAS\",LOOKUP(4,GEfectos!$J$4:$P$4,GEfectos!J48:P48),IF(EFECTOS!$N$9=\"NICARAGUA\",LOOKUP(5,GEfectos!$J$4:$P$4,GEfectos!J48:P48),IF(EFECTOS!$N$9=\"REPÚBLICA \nDOMINICANA\",LOOKUP(6,$J$4:$P$4,J48:P48),IF(EFECTOS!$N$9=\"PANAMÁ\",LOOKUP(7,GEfectos!$J$4:$P$4,GEfectos!J48:P48))))))))","v":93.747006129764443},{"$f":"IF(EFECTOS!$N$9=\"COSTA RICA\",LOOKUP(1,GEfectos!$Q$4:$W$4,GEfectos!Q48:W48),IF(EFECTOS!$N$9=\"EL SALVADOR\",LOOKUP(2,GEfectos!$Q$4:$W$4,GEfectos!Q48:W48),IF(EFECTOS!$N$9=\"GUATEMALA\",LOOKUP(3,GEfectos!$Q$4:$W$4,GEfectos!Q48:W48),IF(EFECTOS!$N$9=\"HONDURAS\",LOOKUP(4,GEfectos!$Q$4:$W$4,GEfectos!Q48:W48),IF(EFECTOS!$N$9=\"NICARAGUA\",LOOKUP(5,GEfectos!$Q$4:$W$4,GEfectos!Q48:W48),IF(EFECTOS!$N$9=\"REPÚBLICA \nDOMINICANA\",LOOKUP(6,$Q$4:$W$4,Q48:W48),IF(EFECTOS!$N$9=\"PANAMÁ\",LOOKUP(7,GEfectos!$Q$4:$W$4,GEfectos!Q48:W48))))))))","v":88.111594693806737},100]
[null,{"$f":"'ITCER GLOBAL'!B49","v":"Agosto"},{"$f":"'ITCER GLOBAL'!C49","v":99.801011770807591},{"$f":"'ITCER GLOBAL'!D49","v":102.3473705064474},{"$f":"'ITCER GLOBAL'!E49","v":89.301915149804202},{"$f":"'ITCER GLOBAL'!F49","v":108.22365551675649},{"$f":"'ITCER GLOBAL'!G49","v":103.11600792720535},{"$f":"'ITCER GLOBAL'!H49","v":106.68852828503826},{"$f":"'ITCER GLOBAL'!I49","v":99.564861684970467},{"$f":"'ITCER GLOBAL'!S49","v":87.30222783208545},{"$f":"'ITCER GLOBAL'!T49","v":108.64260435539026},{"$f":"'ITCER GLOBAL'!U49","v":86.140045891042362},{"$f":"'ITCER GLOBAL'!V49","v":93.431480684341594},{"$f":"'ITCER GLOBAL'!W49","v":87.042732651467162},{"$f":"'ITCER GLOBAL'!X49","v":94.073131187444844},{"$f":"'ITCER GLOBAL'!Y49","v":104.7814808174283},{"$f":"'ITCER GLOBAL'!AA49","v":87.476295363191767},{"$f":"'ITCER GLOBAL'!AB49","v":106.15085059615312},{"$f":"'ITCER GLOBAL'!AC49","v":96.459348880191669},{"$f":"'ITCER GLOBAL'!AD49","v":86.331846986886703},{"$f":"'ITCER GLOBAL'!AE49","v":84.412434500872934},{"$f":"'ITCER GLOBAL'!AF49","v":88.175488686197795},{"$f":"'ITCER GLOBAL'!AG49","v":105.2394178469946},null,{"$f":"IF(EFECTOS!$N$9=\"COSTA RICA\",LOOKUP(1,GEfectos!$C$4:$I$4,GEfectos!C49:I49),IF(EFECTOS!$N$9=\"EL SALVADOR\",LOOKUP(2,GEfectos!$C$4:$I$4,GEfectos!C49:I49),IF(EFECTOS!$N$9=\"GUATEMALA\",LOOKUP(3,GEfectos!$C$4:$I$4,GEfectos!C49:I49),IF(EFECTOS!$N$9=\"HONDURAS\",LOOKUP(4,GEfectos!$C$4:$I$4,GEfectos!C49:I49),IF(EFECTOS!$N$9=\"NICARAGUA\",LOOKUP(5,GEfectos!$C$4:$I$4,GEfectos!C49:I49),IF(EFECTOS!$N$9=\"REPÚBLICA \nDOMINICANA\",LOOKUP(6,$C$4:$I$4,C49:I49),IF(EFECTOS!$N$9=\"PANAMÁ\",LOOKUP(7,GEfectos!$C$4:$I$4,GEfectos!C49:I49))))))))","v":106.68852828503826},{"$f":"IF(EFECTOS!$N$9=\"COSTA RICA\",LOOKUP(1,GEfectos!$J$4:$P$4,GEfectos!J49:P49),IF(EFECTOS!$N$9=\"EL SALVADOR\",LOOKUP(2,GEfectos!$J$4:$P$4,GEfectos!J49:P49),IF(EFECTOS!$N$9=\"GUATEMALA\",LOOKUP(3,GEfectos!$J$4:$P$4,GEfectos!J49:P49),IF(EFECTOS!$N$9=\"HONDURAS\",LOOKUP(4,GEfectos!$J$4:$P$4,GEfectos!J49:P49),IF(EFECTOS!$N$9=\"NICARAGUA\",LOOKUP(5,GEfectos!$J$4:$P$4,GEfectos!J49:P49),IF(EFECTOS!$N$9=\"REPÚBLICA \nDOMINICANA\",LOOKUP(6,$J$4:$P$4,J49:P49),IF(EFECTOS!$N$9=\"PANAMÁ\",LOOKUP(7,GEfectos!$J$4:$P$4,GEfectos!J49:P49))))))))","v":94.073131187444844},{"$f":"IF(EFECTOS!$N$9=\"COSTA RICA\",LOOKUP(1,GEfectos!$Q$4:$W$4,GEfectos!Q49:W49),IF(EFECTOS!$N$9=\"EL SALVADOR\",LOOKUP(2,GEfectos!$Q$4:$W$4,GEfectos!Q49:W49),IF(EFECTOS!$N$9=\"GUATEMALA\",LOOKUP(3,GEfectos!$Q$4:$W$4,GEfectos!Q49:W49),IF(EFECTOS!$N$9=\"HONDURAS\",LOOKUP(4,GEfectos!$Q$4:$W$4,GEfectos!Q49:W49),IF(EFECTOS!$N$9=\"NICARAGUA\",LOOKUP(5,GEfectos!$Q$4:$W$4,GEfectos!Q49:W49),IF(EFECTOS!$N$9=\"REPÚBLICA \nDOMINICANA\",LOOKUP(6,$Q$4:$W$4,Q49:W49),IF(EFECTOS!$N$9=\"PANAMÁ\",LOOKUP(7,GEfectos!$Q$4:$W$4,GEfectos!Q49:W49))))))))","v":88.175488686197795},100]
[null,{"$f":"'ITCER GLOBAL'!B50","v":"Septiembre"},{"$f":"'ITCER GLOBAL'!C50","v":101.65285368134978},{"$f":"'ITCER GLOBAL'!D50","v":103.5763299728432},{"$f":"'ITCER GLOBAL'!E50","v":90.628576032003153},{"$f":"'ITCER GLOBAL'!F50","v":109.17915323597403},{"$f":"'ITCER GLOBAL'!G50","v":104.24318127510814},{"$f":"'ITCER GLOBAL'!H50","v":106.41902329821261},{"$f":"'ITCER GLOBAL'!I50","v":99.306870691875247},{"$f":"'ITCER GLOBAL'!S50","v":88.403996596793348},{"$f":"'ITCER GLOBAL'!T50","v":108.61983435529805},{"$f":"'ITCER GLOBAL'!U50","v":87.105770554934622},{"$f":"'ITCER GLOBAL'!V50","v":94.463780318373281},{"$f":"'ITCER GLOBAL'!W50","v":88.147898698562557},{"$f":"'ITCER GLOBAL'!X50","v":94.236339314096597},{"$f":"'ITCER GLOBAL'!Y50","v":104.86020365375943},{"$f":"'ITCER GLOBAL'!AA50","v":86.966566500840685},{"$f":"'ITCER GLOBAL'!AB50","v":104.8693600012447},{"$f":"'ITCER GLOBAL'!AC50","v":96.112919753009749},{"$f":"'ITCER GLOBAL'!AD50","v":86.521810729017361},{"$f":"'ITCER GLOBAL'!AE50","v":84.559870123237573},{"$f":"'ITCER GLOBAL'!AF50","v":88.552155802090866},{"$f":"'ITCER GLOBAL'!AG50","v":105.59209340017854},null,{"$f":"IF(EFECTOS!$N$9=\"COSTA RICA\",LOOKUP(1,GEfectos!$C$4:$I$4,GEfectos!C50:I50),IF(EFECTOS!$N$9=\"EL SALVADOR\",LOOKUP(2,GEfectos!$C$4:$I$4,GEfectos!C50:I50),IF(EFECTOS!$N$9=\"GUATEMALA\",LOOKUP(3,GEfectos!$C$4:$I$4,GEfectos!C50:I50),IF(EFECTOS!$N$9=\"HONDURAS\",LOOKUP(4,GEfectos!$C$4:$I$4,GEfectos!C50:I50),IF(EFECTOS!$N$9=\"NICARAGUA\",LOOKUP(5,GEfectos!$C$4:$I$4,GEfectos!C50:I50),IF(EFECTOS!$N$9=\"REPÚBLICA \nDOMINICANA\",LOOKUP(6,$C$4:$I$4,C50:I50),IF(EFECTOS!$N$9=\"PANAMÁ\",LOOKUP(7,GEfectos!$C$4:$I$4,GEfectos!C50:I50))))))))","v":106.41902329821261},{"$f":"IF(EFECTOS!$N$9=\"COSTA RICA\",LOOKUP(1,GEfectos!$J$4:$P$4,GEfectos!J50:P50),IF(EFECTOS!$N$9=\"EL SALVADOR\",LOOKUP(2,GEfectos!$J$4:$P$4,GEfectos!J50:P50),IF(EFECTOS!$N$9=\"GUATEMALA\",LOOKUP(3,GEfectos!$J$4:$P$4,GEfectos!J50:P50),IF(EFECTOS!$N$9=\"HONDURAS\",LOOKUP(4,GEfectos!$J$4:$P$4,GEfectos!J50:P50),IF(EFECTOS!$N$9=\"NICARAGUA\",LOOKUP(5,GEfectos!$J$4:$P$4,GEfectos!J50:P50),IF(EFECTOS!$N$9=\"REPÚBLICA \nDOMINICANA\",LOOKUP(6,$J$4:$P$4,J50:P50),IF(EFECTOS!$N$9=\"PANAMÁ\",LOOKUP(7,GEfectos!$J$4:$P$4,GEfectos!J50:P50))))))))","v":94.236339314096597},{"$f":"IF(EFECTOS!$N$9=\"COSTA RICA\",LOOKUP(1,GEfectos!$Q$4:$W$4,GEfectos!Q50:W50),IF(EFECTOS!$N$9=\"EL SALVADOR\",LOOKUP(2,GEfectos!$Q$4:$W$4,GEfectos!Q50:W50),IF(EFECTOS!$N$9=\"GUATEMALA\",LOOKUP(3,GEfectos!$Q$4:$W$4,GEfectos!Q50:W50),IF(EFECTOS!$N$9=\"HONDURAS\",LOOKUP(4,GEfectos!$Q$4:$W$4,GEfectos!Q50:W50),IF(EFECTOS!$N$9=\"NICARAGUA\",LOOKUP(5,GEfectos!$Q$4:$W$4,GEfectos!Q50:W50),IF(EFECTOS!$N$9=\"REPÚBLICA \nDOMINICANA\",LOOKUP(6,$Q$4:$W$4,Q50:W50),IF(EFECTOS!$N$9=\"PANAMÁ\",LOOKUP(7,GEfectos!$Q$4:$W$4,GEfectos!Q50:W50))))))))","v":88.552155802090866},100]
[null,{"$f":"'ITCER GLOBAL'!B51","v":"Octubre"},{"$f":"'ITCER GLOBAL'!C51","v":103.4891091956468},{"$f":"'ITCER GLOBAL'!D51","v":104.429667986521},{"$f":"'ITCER GLOBAL'!E51","v":92.704404619005885},{"$f":"'ITCER GLOBAL'!F51","v":110.23939242119546},{"$f":"'ITCER GLOBAL'!G51","v":103.84726574650165},{"$f":"'ITCER GLOBAL'!H51","v":105.48865032708908},{"$f":"'ITCER GLOBAL'!I51","v":100.64154844995048},{"$f":"'ITCER GLOBAL'!S51","v":89.999748901324011},{"$f":"'ITCER GLOBAL'!T51","v":109.21425952232431},{"$f":"'ITCER GLOBAL'!U51","v":88.781045351801197},{"$f":"'ITCER GLOBAL'!V51","v":95.603846537005381},{"$f":"'ITCER GLOBAL'!W51","v":89.648521912646856},{"$f":"'ITCER GLOBAL'!X51","v":95.192252651082313},{"$f":"'ITCER GLOBAL'!Y51","v":106.1129802171161},{"$f":"'ITCER GLOBAL'!AA51","v":86.965430083255356},{"$f":"'ITCER GLOBAL'!AB51","v":104.58164009141623},{"$f":"'ITCER GLOBAL'!AC51","v":95.76788256897953},{"$f":"'ITCER GLOBAL'!AD51","v":86.723851100093555},{"$f":"'ITCER GLOBAL'!AE51","v":86.327281963768883},{"$f":"'ITCER GLOBAL'!AF51","v":90.239331298598785},{"$f":"'ITCER GLOBAL'!AG51","v":105.43655364154753},null,{"$f":"IF(EFECTOS!$N$9=\"COSTA RICA\",LOOKUP(1,GEfectos!$C$4:$I$4,GEfectos!C51:I51),IF(EFECTOS!$N$9=\"EL SALVADOR\",LOOKUP(2,GEfectos!$C$4:$I$4,GEfectos!C51:I51),IF(EFECTOS!$N$9=\"GUATEMALA\",LOOKUP(3,GEfectos!$C$4:$I$4,GEfectos!C51:I51),IF(EFECTOS!$N$9=\"HONDURAS\",LOOKUP(4,GEfectos!$C$4:$I$4,GEfectos!C51:I51),IF(EFECTOS!$N$9=\"NICARAGUA\",LOOKUP(5,GEfectos!$C$4:$I$4,GEfectos!C51:I51),IF(EFECTOS!$N$9=\"REPÚBLICA \nDOMINICANA\",LOOKUP(6,$C$4:$I$4,C51:I51),IF(EFECTOS!$N$9=\"PANAMÁ\",LOOKUP(7,GEfectos!$C$4:$I$4,GEfectos!C51:I51))))))))","v":105.48865032708908},{"$f":"IF(EFECTOS!$N$9=\"COSTA RICA\",LOOKUP(1,GEfectos!$J$4:$P$4,GEfectos!J51:P51),IF(EFECTOS!$N$9=\"EL SALVADOR\",LOOKUP(2,GEfectos!$J$4:$P$4,GEfectos!J51:P51),IF(EFECTOS!$N$9=\"GUATEMALA\",LOOKUP(3,GEfectos!$J$4:$P$4,GEfectos!J51:P51),IF(EFECTOS!$N$9=\"HONDURAS\",LOOKUP(4,GEfectos!$J$4:$P$4,GEfectos!J51:P51),IF(EFECTOS!$N$9=\"NICARAGUA\",LOOKUP(5,GEfectos!$J$4:$P$4,GEfectos!J51:P51),IF(EFECTOS!$N$9=\"REPÚBLICA \nDOMINICANA\",LOOKUP(6,$J$4:$P$4,J51:P51),IF(EFECTOS!$N$9=\"PANAMÁ\",LOOKUP(7,GEfectos!$J$4:$P$4,GEfectos!J51:P51))))))))","v":95.192252651082313},{"$f":"IF(EFECTOS!$N$9=\"COSTA RICA\",LOOKUP(1,GEfectos!$Q$4:$W$4,GEfectos!Q51:W51),IF(EFECTOS!$N$9=\"EL SALVADOR\",LOOKUP(2,GEfectos!$Q$4:$W$4,GEfectos!Q51:W51),IF(EFECTOS!$N$9=\"GUATEMALA\",LOOKUP(3,GEfectos!$Q$4:$W$4,GEfectos!Q51:W51),IF(EFECTOS!$N$9=\"HONDURAS\",LOOKUP(4,GEfectos!$Q$4:$W$4,GEfectos!Q51:W51),IF(EFECTOS!$N$9=\"NICARAGUA\",LOOKUP(5,GEfectos!$Q$4:$W$4,GEfectos!Q51:W51),IF(EFECTOS!$N$9=\"REPÚBLICA \nDOMINICANA\",LOOKUP(6,$Q$4:$W$4,Q51:W51),IF(EFECTOS!$N$9=\"PANAMÁ\",LOOKUP(7,GEfectos!$Q$4:$W$4,GEfectos!Q51:W51))))))))","v":90.239331298598785},100]
[null,{"$f":"'ITCER GLOBAL'!B52","v":"Noviembre"},{"$f":"'ITCER GLOBAL'!C52","v":103.26789640576985},{"$f":"'ITCER GLOBAL'!D52","v":102.67302539393469},{"$f":"'ITCER GLOBAL'!E52","v":90.641915274764258},{"$f":"'ITCER GLOBAL'!F52","v":109.99787779968482},{"$f":"'ITCER GLOBAL'!G52","v":99.228946766242856},{"$f":"'ITCER GLOBAL'!H52","v":104.00634697776927},{"$f":"'ITCER GLOBAL'!I52","v":101.02298783250555},{"$f":"'ITCER GLOBAL'!S52","v":90.595220504104319},{"$f":"'ITCER GLOBAL'!T52","v":108.87337054863266},{"$f":"'ITCER GLOBAL'!U52","v":88.64103268778301},{"$f":"'ITCER GLOBAL'!V52","v":96.013908841710887},{"$f":"'ITCER GLOBAL'!W52","v":90.216429928396153},{"$f":"'ITCER GLOBAL'!X52","v":95.483502796335969},{"$f":"'ITCER GLOBAL'!Y52","v":106.15981609395892},{"$f":"'ITCER GLOBAL'!AA52","v":87.728348942181526},{"$f":"'ITCER GLOBAL'!AB52","v":106.03892320393653},{"$f":"'ITCER GLOBAL'!AC52","v":97.792541584193202},{"$f":"'ITCER GLOBAL'!AD52","v":87.287055679892404},{"$f":"'ITCER GLOBAL'!AE52","v":90.917451881175566},{"$f":"'ITCER GLOBAL'!AF52","v":91.805457619567193},{"$f":"'ITCER GLOBAL'!AG52","v":105.084811260948},null,{"$f":"IF(EFECTOS!$N$9=\"COSTA RICA\",LOOKUP(1,GEfectos!$C$4:$I$4,GEfectos!C52:I52),IF(EFECTOS!$N$9=\"EL SALVADOR\",LOOKUP(2,GEfectos!$C$4:$I$4,GEfectos!C52:I52),IF(EFECTOS!$N$9=\"GUATEMALA\",LOOKUP(3,GEfectos!$C$4:$I$4,GEfectos!C52:I52),IF(EFECTOS!$N$9=\"HONDURAS\",LOOKUP(4,GEfectos!$C$4:$I$4,GEfectos!C52:I52),IF(EFECTOS!$N$9=\"NICARAGUA\",LOOKUP(5,GEfectos!$C$4:$I$4,GEfectos!C52:I52),IF(EFECTOS!$N$9=\"REPÚBLICA \nDOMINICANA\",LOOKUP(6,$C$4:$I$4,C52:I52),IF(EFECTOS!$N$9=\"PANAMÁ\",LOOKUP(7,GEfectos!$C$4:$I$4,GEfectos!C52:I52))))))))","v":104.00634697776927},{"$f":"IF(EFECTOS!$N$9=\"COSTA RICA\",LOOKUP(1,GEfectos!$J$4:$P$4,GEfectos!J52:P52),IF(EFECTOS!$N$9=\"EL SALVADOR\",LOOKUP(2,GEfectos!$J$4:$P$4,GEfectos!J52:P52),IF(EFECTOS!$N$9=\"GUATEMALA\",LOOKUP(3,GEfectos!$J$4:$P$4,GEfectos!J52:P52),IF(EFECTOS!$N$9=\"HONDURAS\",LOOKUP(4,GEfectos!$J$4:$P$4,GEfectos!J52:P52),IF(EFECTOS!$N$9=\"NICARAGUA\",LOOKUP(5,GEfectos!$J$4:$P$4,GEfectos!J52:P52),IF(EFECTOS!$N$9=\"REPÚBLICA \nDOMINICANA\",LOOKUP(6,$J$4:$P$4,J52:P52),IF(EFECTOS!$N$9=\"PANAMÁ\",LOOKUP(7,GEfectos!$J$4:$P$4,GEfectos!J52:P52))))))))","v":95.483502796335969},{"$f":"IF(EFECTOS!$N$9=\"COSTA RICA\",LOOKUP(1,GEfectos!$Q$4:$W$4,GEfectos!Q52:W52),IF(EFECTOS!$N$9=\"EL SALVADOR\",LOOKUP(2,GEfectos!$Q$4:$W$4,GEfectos!Q52:W52),IF(EFECTOS!$N$9=\"GUATEMALA\",LOOKUP(3,GEfectos!$Q$4:$W$4,GEfectos!Q52:W52),IF(EFECTOS!$N$9=\"HONDURAS\",LOOKUP(4,GEfectos!$Q$4:$W$4,GEfectos!Q52:W52),IF(EFECTOS!$N$9=\"NICARAGUA\",LOOKUP(5,GEfectos!$Q$4:$W$4,GEfectos!Q52:W52),IF(EFECTOS!$N$9=\"REPÚBLICA \nDOMINICANA\",LOOKUP(6,$Q$4:$W$4,Q52:W52),IF(EFECTOS!$N$9=\"PANAMÁ\",LOOKUP(7,GEfectos!$Q$4:$W$4,GEfectos!Q52:W52))))))))","v":91.805457619567193},100]
[null,{"$f":"'ITCER GLOBAL'!B53","v":"Diciembre"},{"$f":"'ITCER GLOBAL'!C53","v":103.86907024427006},{"$f":"'ITCER GLOBAL'!D53","v":102.85667108476731},{"$f":"'ITCER GLOBAL'!E53","v":92.86624092013416},{"$f":"'ITCER GLOBAL'!F53","v":110.01913348217641},{"$f":"'ITCER GLOBAL'!G53","v":99.384253616658583},{"$f":"'ITCER GLOBAL'!H53","v":102.84357431601407},{"$f":"'ITCER GLOBAL'!I53","v":102.0558768377382},{"$f":"'ITCER GLOBAL'!S53","v":91.642575735133278},{"$f":"'ITCER GLOBAL'!T53","v":108.66735077440298},{"$f":"'ITCER GLOBAL'!U53","v":91.031355328793779},{"$f":"'ITCER GLOBAL'!V53","v":96.587896684823534},{"$f":"'ITCER GLOBAL'!W53","v":91.082189432958657},{"$f":"'ITCER GLOBAL'!X53","v":95.614869500320495},{"$f":"'ITCER GLOBAL'!Y53","v":106.99207786288534},{"$f":"'ITCER GLOBAL'!AA53","v":88.228936217120648},{"$f":"'ITCER GLOBAL'!AB53","v":105.64929783197718},{"$f":"'ITCER GLOBAL'!AC53","v":98.024162953986277},{"$f":"'ITCER GLOBAL'!AD53","v":87.791908214284575},{"$f":"'ITCER GLOBAL'!AE53","v":91.646499438711544},{"$f":"'ITCER GLOBAL'!AF53","v":92.971165321927202},{"$f":"'ITCER GLOBAL'!AG53","v":104.83676313221568},null,{"$f":"IF(EFECTOS!$N$9=\"COSTA RICA\",LOOKUP(1,GEfectos!$C$4:$I$4,GEfectos!C53:I53),IF(EFECTOS!$N$9=\"EL SALVADOR\",LOOKUP(2,GEfectos!$C$4:$I$4,GEfectos!C53:I53),IF(EFECTOS!$N$9=\"GUATEMALA\",LOOKUP(3,GEfectos!$C$4:$I$4,GEfectos!C53:I53),IF(EFECTOS!$N$9=\"HONDURAS\",LOOKUP(4,GEfectos!$C$4:$I$4,GEfectos!C53:I53),IF(EFECTOS!$N$9=\"NICARAGUA\",LOOKUP(5,GEfectos!$C$4:$I$4,GEfectos!C53:I53),IF(EFECTOS!$N$9=\"REPÚBLICA \nDOMINICANA\",LOOKUP(6,$C$4:$I$4,C53:I53),IF(EFECTOS!$N$9=\"PANAMÁ\",LOOKUP(7,GEfectos!$C$4:$I$4,GEfectos!C53:I53))))))))","v":102.84357431601407},{"$f":"IF(EFECTOS!$N$9=\"COSTA RICA\",LOOKUP(1,GEfectos!$J$4:$P$4,GEfectos!J53:P53),IF(EFECTOS!$N$9=\"EL SALVADOR\",LOOKUP(2,GEfectos!$J$4:$P$4,GEfectos!J53:P53),IF(EFECTOS!$N$9=\"GUATEMALA\",LOOKUP(3,GEfectos!$J$4:$P$4,GEfectos!J53:P53),IF(EFECTOS!$N$9=\"HONDURAS\",LOOKUP(4,GEfectos!$J$4:$P$4,GEfectos!J53:P53),IF(EFECTOS!$N$9=\"NICARAGUA\",LOOKUP(5,GEfectos!$J$4:$P$4,GEfectos!J53:P53),IF(EFECTOS!$N$9=\"REPÚBLICA \nDOMINICANA\",LOOKUP(6,$J$4:$P$4,J53:P53),IF(EFECTOS!$N$9=\"PANAMÁ\",LOOKUP(7,GEfectos!$J$4:$P$4,GEfectos!J53:P53))))))))","v":95.614869500320495},{"$f":"IF(EFECTOS!$N$9=\"COSTA RICA\",LOOKUP(1,GEfectos!$Q$4:$W$4,GEfectos!Q53:W53),IF(EFECTOS!$N$9=\"EL SALVADOR\",LOOKUP(2,GEfectos!$Q$4:$W$4,GEfectos!Q53:W53),IF(EFECTOS!$N$9=\"GUATEMALA\",LOOKUP(3,GEfectos!$Q$4:$W$4,GEfectos!Q53:W53),IF(EFECTOS!$N$9=\"HONDURAS\",LOOKUP(4,GEfectos!$Q$4:$W$4,GEfectos!Q53:W53),IF(EFECTOS!$N$9=\"NICARAGUA\",LOOKUP(5,GEfectos!$Q$4:$W$4,GEfectos!Q53:W53),IF(EFECTOS!$N$9=\"REPÚBLICA \nDOMINICANA\",LOOKUP(6,$Q$4:$W$4,Q53:W53),IF(EFECTOS!$N$9=\"PANAMÁ\",LOOKUP(7,GEfectos!$Q$4:$W$4,GEfectos!Q53:W53))))))))","v":92.971165321927202},100]
[1999,{"$f":"'ITCER GLOBAL'!B54","v":"Enero"},{"$f":"'ITCER GLOBAL'!C54","v":102.00817487791822},{"$f":"'ITCER GLOBAL'!D54","v":101.43645124019893},{"$f":"'ITCER GLOBAL'!E54","v":95.921025493517291},{"$f":"'ITCER GLOBAL'!F54","v":108.2305090079614},{"$f":"'ITCER GLOBAL'!G54","v":100.50852269271999},{"$f":"'ITCER GLOBAL'!H54","v":103.4997627421908},{"$f":"'ITCER GLOBAL'!I54","v":99.959797815222103},{"$f":"'ITCER GLOBAL'!S54","v":91.309718355135971},{"$f":"'ITCER GLOBAL'!T54","v":107.11535223452692},{"$f":"'ITCER GLOBAL'!U54","v":93.415996489204346},{"$f":"'ITCER GLOBAL'!V54","v":96.447978966380461},{"$f":"'ITCER GLOBAL'!W54","v":91.8356838620101},{"$f":"'ITCER GLOBAL'!X54","v":95.262712971496853},{"$f":"'ITCER GLOBAL'!Y54","v":104.5749537946806},{"$f":"'ITCER GLOBAL'!AA54","v":89.512157691688941},{"$f":"'ITCER GLOBAL'!AB54","v":105.59848153685947},{"$f":"'ITCER GLOBAL'!AC54","v":97.38844638969978},{"$f":"'ITCER GLOBAL'!AD54","v":89.1134855138543},{"$f":"'ITCER GLOBAL'!AE54","v":91.371041382008002},{"$f":"'ITCER GLOBAL'!AF54","v":92.041479562410444},{"$f":"'ITCER GLOBAL'!AG54","v":104.61701211920187},null,{"$f":"IF(EFECTOS!$N$9=\"COSTA RICA\",LOOKUP(1,GEfectos!$C$4:$I$4,GEfectos!C54:I54),IF(EFECTOS!$N$9=\"EL SALVADOR\",LOOKUP(2,GEfectos!$C$4:$I$4,GEfectos!C54:I54),IF(EFECTOS!$N$9=\"GUATEMALA\",LOOKUP(3,GEfectos!$C$4:$I$4,GEfectos!C54:I54),IF(EFECTOS!$N$9=\"HONDURAS\",LOOKUP(4,GEfectos!$C$4:$I$4,GEfectos!C54:I54),IF(EFECTOS!$N$9=\"NICARAGUA\",LOOKUP(5,GEfectos!$C$4:$I$4,GEfectos!C54:I54),IF(EFECTOS!$N$9=\"REPÚBLICA \nDOMINICANA\",LOOKUP(6,$C$4:$I$4,C54:I54),IF(EFECTOS!$N$9=\"PANAMÁ\",LOOKUP(7,GEfectos!$C$4:$I$4,GEfectos!C54:I54))))))))","v":103.4997627421908},{"$f":"IF(EFECTOS!$N$9=\"COSTA RICA\",LOOKUP(1,GEfectos!$J$4:$P$4,GEfectos!J54:P54),IF(EFECTOS!$N$9=\"EL SALVADOR\",LOOKUP(2,GEfectos!$J$4:$P$4,GEfectos!J54:P54),IF(EFECTOS!$N$9=\"GUATEMALA\",LOOKUP(3,GEfectos!$J$4:$P$4,GEfectos!J54:P54),IF(EFECTOS!$N$9=\"HONDURAS\",LOOKUP(4,GEfectos!$J$4:$P$4,GEfectos!J54:P54),IF(EFECTOS!$N$9=\"NICARAGUA\",LOOKUP(5,GEfectos!$J$4:$P$4,GEfectos!J54:P54),IF(EFECTOS!$N$9=\"REPÚBLICA \nDOMINICANA\",LOOKUP(6,$J$4:$P$4,J54:P54),IF(EFECTOS!$N$9=\"PANAMÁ\",LOOKUP(7,GEfectos!$J$4:$P$4,GEfectos!J54:P54))))))))","v":95.262712971496853},{"$f":"IF(EFECTOS!$N$9=\"COSTA RICA\",LOOKUP(1,GEfectos!$Q$4:$W$4,GEfectos!Q54:W54),IF(EFECTOS!$N$9=\"EL SALVADOR\",LOOKUP(2,GEfectos!$Q$4:$W$4,GEfectos!Q54:W54),IF(EFECTOS!$N$9=\"GUATEMALA\",LOOKUP(3,GEfectos!$Q$4:$W$4,GEfectos!Q54:W54),IF(EFECTOS!$N$9=\"HONDURAS\",LOOKUP(4,GEfectos!$Q$4:$W$4,GEfectos!Q54:W54),IF(EFECTOS!$N$9=\"NICARAGUA\",LOOKUP(5,GEfectos!$Q$4:$W$4,GEfectos!Q54:W54),IF(EFECTOS!$N$9=\"REPÚBLICA \nDOMINICANA\",LOOKUP(6,$Q$4:$W$4,Q54:W54),IF(EFECTOS!$N$9=\"PANAMÁ\",LOOKUP(7,GEfectos!$Q$4:$W$4,GEfectos!Q54:W54))))))))","v":92.041479562410444},100]
[null,{"$f":"'ITCER GLOBAL'!B55","v":"Febrero"},{"$f":"'ITCER GLOBAL'!C55","v":101.66666480801892},{"$f":"'ITCER GLOBAL'!D55","v":101.4730768831145},{"$f":"'ITCER GLOBAL'!E55","v":94.825874549119334},{"$f":"'ITCER GLOBAL'!F55","v":107.22869088872859},{"$f":"'ITCER GLOBAL'!G55","v":101.49535260150803},{"$f":"'ITCER GLOBAL'!H55","v":105.44497909310472},{"$f":"'ITCER GLOBAL'!I55","v":99.559035844144873},{"$f":"'ITCER GLOBAL'!S55","v":91.487516113773765},{"$f":"'ITCER GLOBAL'!T55","v":106.69495443245809},{"$f":"'ITCER GLOBAL'!U55","v":91.656545160752586},{"$f":"'ITCER GLOBAL'!V55","v":96.262821395424439},{"$f":"'ITCER GLOBAL'!W55","v":92.197116390867777},{"$f":"'ITCER GLOBAL'!X55","v":96.621053340467284},{"$f":"'ITCER GLOBAL'!Y55","v":103.90562158090466},{"$f":"'ITCER GLOBAL'!AA55","v":89.987722412782162},{"$f":"'ITCER GLOBAL'!AB55","v":105.14607195301528},{"$f":"'ITCER GLOBAL'!AC55","v":96.657737771007774},{"$f":"'ITCER GLOBAL'!AD55","v":89.773381170265836},{"$f":"'ITCER GLOBAL'!AE55","v":90.838756679680614},{"$f":"'ITCER GLOBAL'!AF55","v":91.631725067870548},{"$f":"'ITCER GLOBAL'!AG55","v":104.36583751530515},null,{"$f":"IF(EFECTOS!$N$9=\"COSTA RICA\",LOOKUP(1,GEfectos!$C$4:$I$4,GEfectos!C55:I55),IF(EFECTOS!$N$9=\"EL SALVADOR\",LOOKUP(2,GEfectos!$C$4:$I$4,GEfectos!C55:I55),IF(EFECTOS!$N$9=\"GUATEMALA\",LOOKUP(3,GEfectos!$C$4:$I$4,GEfectos!C55:I55),IF(EFECTOS!$N$9=\"HONDURAS\",LOOKUP(4,GEfectos!$C$4:$I$4,GEfectos!C55:I55),IF(EFECTOS!$N$9=\"NICARAGUA\",LOOKUP(5,GEfectos!$C$4:$I$4,GEfectos!C55:I55),IF(EFECTOS!$N$9=\"REPÚBLICA \nDOMINICANA\",LOOKUP(6,$C$4:$I$4,C55:I55),IF(EFECTOS!$N$9=\"PANAMÁ\",LOOKUP(7,GEfectos!$C$4:$I$4,GEfectos!C55:I55))))))))","v":105.44497909310472},{"$f":"IF(EFECTOS!$N$9=\"COSTA RICA\",LOOKUP(1,GEfectos!$J$4:$P$4,GEfectos!J55:P55),IF(EFECTOS!$N$9=\"EL SALVADOR\",LOOKUP(2,GEfectos!$J$4:$P$4,GEfectos!J55:P55),IF(EFECTOS!$N$9=\"GUATEMALA\",LOOKUP(3,GEfectos!$J$4:$P$4,GEfectos!J55:P55),IF(EFECTOS!$N$9=\"HONDURAS\",LOOKUP(4,GEfectos!$J$4:$P$4,GEfectos!J55:P55),IF(EFECTOS!$N$9=\"NICARAGUA\",LOOKUP(5,GEfectos!$J$4:$P$4,GEfectos!J55:P55),IF(EFECTOS!$N$9=\"REPÚBLICA \nDOMINICANA\",LOOKUP(6,$J$4:$P$4,J55:P55),IF(EFECTOS!$N$9=\"PANAMÁ\",LOOKUP(7,GEfectos!$J$4:$P$4,GEfectos!J55:P55))))))))","v":96.621053340467284},{"$f":"IF(EFECTOS!$N$9=\"COSTA RICA\",LOOKUP(1,GEfectos!$Q$4:$W$4,GEfectos!Q55:W55),IF(EFECTOS!$N$9=\"EL SALVADOR\",LOOKUP(2,GEfectos!$Q$4:$W$4,GEfectos!Q55:W55),IF(EFECTOS!$N$9=\"GUATEMALA\",LOOKUP(3,GEfectos!$Q$4:$W$4,GEfectos!Q55:W55),IF(EFECTOS!$N$9=\"HONDURAS\",LOOKUP(4,GEfectos!$Q$4:$W$4,GEfectos!Q55:W55),IF(EFECTOS!$N$9=\"NICARAGUA\",LOOKUP(5,GEfectos!$Q$4:$W$4,GEfectos!Q55:W55),IF(EFECTOS!$N$9=\"REPÚBLICA \nDOMINICANA\",LOOKUP(6,$Q$4:$W$4,Q55:W55),IF(EFECTOS!$N$9=\"PANAMÁ\",LOOKUP(7,GEfectos!$Q$4:$W$4,GEfectos!Q55:W55))))))))","v":91.631725067870548},100]
[null,{"$f":"'ITCER GLOBAL'!B56","v":"Marzo"},{"$f":"'ITCER GLOBAL'!C56","v":102.81973292728283},{"$f":"'ITCER GLOBAL'!D56","v":101.26115852673539},{"$f":"'ITCER GLOBAL'!E56","v":96.695812722751143},{"$f":"'ITCER GLOBAL'!F56","v":107.02710530609284},{"$f":"'ITCER GLOBAL'!G56","v":104.02404407204921},{"$f":"'ITCER GLOBAL'!H56","v":106.00823123816247},{"$f":"'ITCER GLOBAL'!I56","v":99.278398140722061},{"$f":"'ITCER GLOBAL'!S56","v":91.973461157845804},{"$f":"'ITCER GLOBAL'!T56","v":106.14366720246279},{"$f":"'ITCER GLOBAL'!U56","v":92.802680994473022},{"$f":"'ITCER GLOBAL'!V56","v":96.253464657608006},{"$f":"'ITCER GLOBAL'!W56","v":92.530900860892828},{"$f":"'ITCER GLOBAL'!X56","v":97.349058628751735},{"$f":"'ITCER GLOBAL'!Y56","v":103.53467604780056},{"$f":"'ITCER GLOBAL'!AA56","v":89.451176869805892},{"$f":"'ITCER GLOBAL'!AB56","v":104.82169940257823},{"$f":"'ITCER GLOBAL'!AC56","v":95.973836282403852},{"$f":"'ITCER GLOBAL'!AD56","v":89.933726958537591},{"$f":"'ITCER GLOBAL'!AE56","v":88.951455104748675},{"$f":"'ITCER GLOBAL'!AF56","v":91.831603538449144},{"$f":"'ITCER GLOBAL'!AG56","v":104.28721452681522},null,{"$f":"IF(EFECTOS!$N$9=\"COSTA RICA\",LOOKUP(1,GEfectos!$C$4:$I$4,GEfectos!C56:I56),IF(EFECTOS!$N$9=\"EL SALVADOR\",LOOKUP(2,GEfectos!$C$4:$I$4,GEfectos!C56:I56),IF(EFECTOS!$N$9=\"GUATEMALA\",LOOKUP(3,GEfectos!$C$4:$I$4,GEfectos!C56:I56),IF(EFECTOS!$N$9=\"HONDURAS\",LOOKUP(4,GEfectos!$C$4:$I$4,GEfectos!C56:I56),IF(EFECTOS!$N$9=\"NICARAGUA\",LOOKUP(5,GEfectos!$C$4:$I$4,GEfectos!C56:I56),IF(EFECTOS!$N$9=\"REPÚBLICA \nDOMINICANA\",LOOKUP(6,$C$4:$I$4,C56:I56),IF(EFECTOS!$N$9=\"PANAMÁ\",LOOKUP(7,GEfectos!$C$4:$I$4,GEfectos!C56:I56))))))))","v":106.00823123816247},{"$f":"IF(EFECTOS!$N$9=\"COSTA RICA\",LOOKUP(1,GEfectos!$J$4:$P$4,GEfectos!J56:P56),IF(EFECTOS!$N$9=\"EL SALVADOR\",LOOKUP(2,GEfectos!$J$4:$P$4,GEfectos!J56:P56),IF(EFECTOS!$N$9=\"GUATEMALA\",LOOKUP(3,GEfectos!$J$4:$P$4,GEfectos!J56:P56),IF(EFECTOS!$N$9=\"HONDURAS\",LOOKUP(4,GEfectos!$J$4:$P$4,GEfectos!J56:P56),IF(EFECTOS!$N$9=\"NICARAGUA\",LOOKUP(5,GEfectos!$J$4:$P$4,GEfectos!J56:P56),IF(EFECTOS!$N$9=\"REPÚBLICA \nDOMINICANA\",LOOKUP(6,$J$4:$P$4,J56:P56),IF(EFECTOS!$N$9=\"PANAMÁ\",LOOKUP(7,GEfectos!$J$4:$P$4,GEfectos!J56:P56))))))))","v":97.349058628751735},{"$f":"IF(EFECTOS!$N$9=\"COSTA RICA\",LOOKUP(1,GEfectos!$Q$4:$W$4,GEfectos!Q56:W56),IF(EFECTOS!$N$9=\"EL SALVADOR\",LOOKUP(2,GEfectos!$Q$4:$W$4,GEfectos!Q56:W56),IF(EFECTOS!$N$9=\"GUATEMALA\",LOOKUP(3,GEfectos!$Q$4:$W$4,GEfectos!Q56:W56),IF(EFECTOS!$N$9=\"HONDURAS\",LOOKUP(4,GEfectos!$Q$4:$W$4,GEfectos!Q56:W56),IF(EFECTOS!$N$9=\"NICARAGUA\",LOOKUP(5,GEfectos!$Q$4:$W$4,GEfectos!Q56:W56),IF(EFECTOS!$N$9=\"REPÚBLICA \nDOMINICANA\",LOOKUP(6,$Q$4:$W$4,Q56:W56),IF(EFECTOS!$N$9=\"PANAMÁ\",LOOKUP(7,GEfectos!$Q$4:$W$4,GEfectos!Q56:W56))))))))","v":91.831603538449144},100]
[null,{"$f":"'ITCER GLOBAL'!B57","v":"Abril"},{"$f":"'ITCER GLOBAL'!C57","v":103.94976919708756},{"$f":"'ITCER GLOBAL'!D57","v":102.01260922499371},{"$f":"'ITCER GLOBAL'!E57","v":98.447656304418544},{"$f":"'ITCER GLOBAL'!F57","v":107.52095966262424},{"$f":"'ITCER GLOBAL'!G57","v":104.79196715809006},{"$f":"'ITCER GLOBAL'!H57","v":106.4722471693358},{"$f":"'ITCER GLOBAL'!I57","v":99.705605082176518},{"$f":"'ITCER GLOBAL'!S57","v":92.619085181427891},{"$f":"'ITCER GLOBAL'!T57","v":105.81613657275048},{"$f":"'ITCER GLOBAL'!U57","v":94.238794253990974},{"$f":"'ITCER GLOBAL'!V57","v":96.509276802775005},{"$f":"'ITCER GLOBAL'!W57","v":93.15630015047519},{"$f":"'ITCER GLOBAL'!X57","v":97.38613385537856},{"$f":"'ITCER GLOBAL'!Y57","v":103.49020103867016},{"$f":"'ITCER GLOBAL'!AA57","v":89.099846874910483},{"$f":"'ITCER GLOBAL'!AB57","v":103.72848746508181},{"$f":"'ITCER GLOBAL'!AC57","v":95.724771712784104},{"$f":"'ITCER GLOBAL'!AD57","v":89.758570892222934},{"$f":"'ITCER GLOBAL'!AE57","v":88.896413224058293},{"$f":"'ITCER GLOBAL'!AF57","v":91.466214384010797},{"$f":"'ITCER GLOBAL'!AG57","v":103.79577051197313},null,{"$f":"IF(EFECTOS!$N$9=\"COSTA RICA\",LOOKUP(1,GEfectos!$C$4:$I$4,GEfectos!C57:I57),IF(EFECTOS!$N$9=\"EL SALVADOR\",LOOKUP(2,GEfectos!$C$4:$I$4,GEfectos!C57:I57),IF(EFECTOS!$N$9=\"GUATEMALA\",LOOKUP(3,GEfectos!$C$4:$I$4,GEfectos!C57:I57),IF(EFECTOS!$N$9=\"HONDURAS\",LOOKUP(4,GEfectos!$C$4:$I$4,GEfectos!C57:I57),IF(EFECTOS!$N$9=\"NICARAGUA\",LOOKUP(5,GEfectos!$C$4:$I$4,GEfectos!C57:I57),IF(EFECTOS!$N$9=\"REPÚBLICA \nDOMINICANA\",LOOKUP(6,$C$4:$I$4,C57:I57),IF(EFECTOS!$N$9=\"PANAMÁ\",LOOKUP(7,GEfectos!$C$4:$I$4,GEfectos!C57:I57))))))))","v":106.4722471693358},{"$f":"IF(EFECTOS!$N$9=\"COSTA RICA\",LOOKUP(1,GEfectos!$J$4:$P$4,GEfectos!J57:P57),IF(EFECTOS!$N$9=\"EL SALVADOR\",LOOKUP(2,GEfectos!$J$4:$P$4,GEfectos!J57:P57),IF(EFECTOS!$N$9=\"GUATEMALA\",LOOKUP(3,GEfectos!$J$4:$P$4,GEfectos!J57:P57),IF(EFECTOS!$N$9=\"HONDURAS\",LOOKUP(4,GEfectos!$J$4:$P$4,GEfectos!J57:P57),IF(EFECTOS!$N$9=\"NICARAGUA\",LOOKUP(5,GEfectos!$J$4:$P$4,GEfectos!J57:P57),IF(EFECTOS!$N$9=\"REPÚBLICA \nDOMINICANA\",LOOKUP(6,$J$4:$P$4,J57:P57),IF(EFECTOS!$N$9=\"PANAMÁ\",LOOKUP(7,GEfectos!$J$4:$P$4,GEfectos!J57:P57))))))))","v":97.38613385537856},{"$f":"IF(EFECTOS!$N$9=\"COSTA RICA\",LOOKUP(1,GEfectos!$Q$4:$W$4,GEfectos!Q57:W57),IF(EFECTOS!$N$9=\"EL SALVADOR\",LOOKUP(2,GEfectos!$Q$4:$W$4,GEfectos!Q57:W57),IF(EFECTOS!$N$9=\"GUATEMALA\",LOOKUP(3,GEfectos!$Q$4:$W$4,GEfectos!Q57:W57),IF(EFECTOS!$N$9=\"HONDURAS\",LOOKUP(4,GEfectos!$Q$4:$W$4,GEfectos!Q57:W57),IF(EFECTOS!$N$9=\"NICARAGUA\",LOOKUP(5,GEfectos!$Q$4:$W$4,GEfectos!Q57:W57),IF(EFECTOS!$N$9=\"REPÚBLICA \nDOMINICANA\",LOOKUP(6,$Q$4:$W$4,Q57:W57),IF(EFECTOS!$N$9=\"PANAMÁ\",LOOKUP(7,GEfectos!$Q$4:$W$4,GEfectos!Q57:W57))))))))","v":91.466214384010797},100]
[null,{"$f":"'ITCER GLOBAL'!B58","v":"Mayo"},{"$f":"'ITCER GLOBAL'!C58","v":103.68173864487102},{"$f":"'ITCER GLOBAL'!D58","v":102.26023672163146},{"$f":"'ITCER GLOBAL'!E58","v":100.30854491472137},{"$f":"'ITCER GLOBAL'!F58","v":106.82421596939864},{"$f":"'ITCER GLOBAL'!G58","v":104.0430135876298},{"$f":"'ITCER GLOBAL'!H58","v":106.43278852593184},{"$f":"'ITCER GLOBAL'!I58","v":99.358295465682232},{"$f":"'ITCER GLOBAL'!S58","v":93.030063114457576},{"$f":"'ITCER GLOBAL'!T58","v":105.06231647300149},{"$f":"'ITCER GLOBAL'!U58","v":96.699804876706651},{"$f":"'ITCER GLOBAL'!V58","v":96.502844282448763},{"$f":"'ITCER GLOBAL'!W58","v":93.582098328787012},{"$f":"'ITCER GLOBAL'!X58","v":97.288604161286273},{"$f":"'ITCER GLOBAL'!Y58","v":103.03364836066338},{"$f":"'ITCER GLOBAL'!AA58","v":89.726565478519433},{"$f":"'ITCER GLOBAL'!AB58","v":102.74014596601975},{"$f":"'ITCER GLOBAL'!AC58","v":96.40236029634093},{"$f":"'ITCER GLOBAL'!AD58","v":90.337985078302296},{"$f":"'ITCER GLOBAL'!AE58","v":89.945586062794959},{"$f":"'ITCER GLOBAL'!AF58","v":91.408489346854196},{"$f":"'ITCER GLOBAL'!AG58","v":103.69909012403558},null,{"$f":"IF(EFECTOS!$N$9=\"COSTA RICA\",LOOKUP(1,GEfectos!$C$4:$I$4,GEfectos!C58:I58),IF(EFECTOS!$N$9=\"EL SALVADOR\",LOOKUP(2,GEfectos!$C$4:$I$4,GEfectos!C58:I58),IF(EFECTOS!$N$9=\"GUATEMALA\",LOOKUP(3,GEfectos!$C$4:$I$4,GEfectos!C58:I58),IF(EFECTOS!$N$9=\"HONDURAS\",LOOKUP(4,GEfectos!$C$4:$I$4,GEfectos!C58:I58),IF(EFECTOS!$N$9=\"NICARAGUA\",LOOKUP(5,GEfectos!$C$4:$I$4,GEfectos!C58:I58),IF(EFECTOS!$N$9=\"REPÚBLICA \nDOMINICANA\",LOOKUP(6,$C$4:$I$4,C58:I58),IF(EFECTOS!$N$9=\"PANAMÁ\",LOOKUP(7,GEfectos!$C$4:$I$4,GEfectos!C58:I58))))))))","v":106.43278852593184},{"$f":"IF(EFECTOS!$N$9=\"COSTA RICA\",LOOKUP(1,GEfectos!$J$4:$P$4,GEfectos!J58:P58),IF(EFECTOS!$N$9=\"EL SALVADOR\",LOOKUP(2,GEfectos!$J$4:$P$4,GEfectos!J58:P58),IF(EFECTOS!$N$9=\"GUATEMALA\",LOOKUP(3,GEfectos!$J$4:$P$4,GEfectos!J58:P58),IF(EFECTOS!$N$9=\"HONDURAS\",LOOKUP(4,GEfectos!$J$4:$P$4,GEfectos!J58:P58),IF(EFECTOS!$N$9=\"NICARAGUA\",LOOKUP(5,GEfectos!$J$4:$P$4,GEfectos!J58:P58),IF(EFECTOS!$N$9=\"REPÚBLICA \nDOMINICANA\",LOOKUP(6,$J$4:$P$4,J58:P58),IF(EFECTOS!$N$9=\"PANAMÁ\",LOOKUP(7,GEfectos!$J$4:$P$4,GEfectos!J58:P58))))))))","v":97.288604161286273},{"$f":"IF(EFECTOS!$N$9=\"COSTA RICA\",LOOKUP(1,GEfectos!$Q$4:$W$4,GEfectos!Q58:W58),IF(EFECTOS!$N$9=\"EL SALVADOR\",LOOKUP(2,GEfectos!$Q$4:$W$4,GEfectos!Q58:W58),IF(EFECTOS!$N$9=\"GUATEMALA\",LOOKUP(3,GEfectos!$Q$4:$W$4,GEfectos!Q58:W58),IF(EFECTOS!$N$9=\"HONDURAS\",LOOKUP(4,GEfectos!$Q$4:$W$4,GEfectos!Q58:W58),IF(EFECTOS!$N$9=\"NICARAGUA\",LOOKUP(5,GEfectos!$Q$4:$W$4,GEfectos!Q58:W58),IF(EFECTOS!$N$9=\"REPÚBLICA \nDOMINICANA\",LOOKUP(6,$Q$4:$W$4,Q58:W58),IF(EFECTOS!$N$9=\"PANAMÁ\",LOOKUP(7,GEfectos!$Q$4:$W$4,GEfectos!Q58:W58))))))))","v":91.408489346854196},100]
[null,{"$f":"'ITCER GLOBAL'!B59","v":"Junio"},{"$f":"'ITCER GLOBAL'!C59","v":102.59112436045949},{"$f":"'ITCER GLOBAL'!D59","v":101.9050110931978},{"$f":"'ITCER GLOBAL'!E59","v":100.63054851807907},{"$f":"'ITCER GLOBAL'!F59","v":105.73518953088039},{"$f":"'ITCER GLOBAL'!G59","v":103.87455337211306},{"$f":"'ITCER GLOBAL'!H59","v":106.62657368473144},{"$f":"'ITCER GLOBAL'!I59","v":98.878622171732502},{"$f":"'ITCER GLOBAL'!S59","v":93.256266268889391},{"$f":"'ITCER GLOBAL'!T59","v":104.32494878029053},{"$f":"'ITCER GLOBAL'!U59","v":97.535193252512954},{"$f":"'ITCER GLOBAL'!V59","v":96.547671232231721},{"$f":"'ITCER GLOBAL'!W59","v":93.920400584714187},{"$f":"'ITCER GLOBAL'!X59","v":96.934608330466205},{"$f":"'ITCER GLOBAL'!Y59","v":102.64954142051967},{"$f":"'ITCER GLOBAL'!AA59","v":90.900910629684134},{"$f":"'ITCER GLOBAL'!AB59","v":102.37469940009089},{"$f":"'ITCER GLOBAL'!AC59","v":96.924040153661679},{"$f":"'ITCER GLOBAL'!AD59","v":91.310822499669882},{"$f":"'ITCER GLOBAL'!AE59","v":90.417140229003152},{"$f":"'ITCER GLOBAL'!AF59","v":90.910365944120088},{"$f":"'ITCER GLOBAL'!AG59","v":103.81368506757489},null,{"$f":"IF(EFECTOS!$N$9=\"COSTA RICA\",LOOKUP(1,GEfectos!$C$4:$I$4,GEfectos!C59:I59),IF(EFECTOS!$N$9=\"EL SALVADOR\",LOOKUP(2,GEfectos!$C$4:$I$4,GEfectos!C59:I59),IF(EFECTOS!$N$9=\"GUATEMALA\",LOOKUP(3,GEfectos!$C$4:$I$4,GEfectos!C59:I59),IF(EFECTOS!$N$9=\"HONDURAS\",LOOKUP(4,GEfectos!$C$4:$I$4,GEfectos!C59:I59),IF(EFECTOS!$N$9=\"NICARAGUA\",LOOKUP(5,GEfectos!$C$4:$I$4,GEfectos!C59:I59),IF(EFECTOS!$N$9=\"REPÚBLICA \nDOMINICANA\",LOOKUP(6,$C$4:$I$4,C59:I59),IF(EFECTOS!$N$9=\"PANAMÁ\",LOOKUP(7,GEfectos!$C$4:$I$4,GEfectos!C59:I59))))))))","v":106.62657368473144},{"$f":"IF(EFECTOS!$N$9=\"COSTA RICA\",LOOKUP(1,GEfectos!$J$4:$P$4,GEfectos!J59:P59),IF(EFECTOS!$N$9=\"EL SALVADOR\",LOOKUP(2,GEfectos!$J$4:$P$4,GEfectos!J59:P59),IF(EFECTOS!$N$9=\"GUATEMALA\",LOOKUP(3,GEfectos!$J$4:$P$4,GEfectos!J59:P59),IF(EFECTOS!$N$9=\"HONDURAS\",LOOKUP(4,GEfectos!$J$4:$P$4,GEfectos!J59:P59),IF(EFECTOS!$N$9=\"NICARAGUA\",LOOKUP(5,GEfectos!$J$4:$P$4,GEfectos!J59:P59),IF(EFECTOS!$N$9=\"REPÚBLICA \nDOMINICANA\",LOOKUP(6,$J$4:$P$4,J59:P59),IF(EFECTOS!$N$9=\"PANAMÁ\",LOOKUP(7,GEfectos!$J$4:$P$4,GEfectos!J59:P59))))))))","v":96.934608330466205},{"$f":"IF(EFECTOS!$N$9=\"COSTA RICA\",LOOKUP(1,GEfectos!$Q$4:$W$4,GEfectos!Q59:W59),IF(EFECTOS!$N$9=\"EL SALVADOR\",LOOKUP(2,GEfectos!$Q$4:$W$4,GEfectos!Q59:W59),IF(EFECTOS!$N$9=\"GUATEMALA\",LOOKUP(3,GEfectos!$Q$4:$W$4,GEfectos!Q59:W59),IF(EFECTOS!$N$9=\"HONDURAS\",LOOKUP(4,GEfectos!$Q$4:$W$4,GEfectos!Q59:W59),IF(EFECTOS!$N$9=\"NICARAGUA\",LOOKUP(5,GEfectos!$Q$4:$W$4,GEfectos!Q59:W59),IF(EFECTOS!$N$9=\"REPÚBLICA \nDOMINICANA\",LOOKUP(6,$Q$4:$W$4,Q59:W59),IF(EFECTOS!$N$9=\"PANAMÁ\",LOOKUP(7,GEfectos!$Q$4:$W$4,GEfectos!Q59:W59))))))))","v":90.910365944120088},100]
[null,{"$f":"'ITCER GLOBAL'!B60","v":"Julio"},{"$f":"'ITCER GLOBAL'!C60","v":103.38212360371412},{"$f":"'ITCER GLOBAL'!D60","v":101.62788593490545},{"$f":"'ITCER GLOBAL'!E60","v":100.0149720572601},{"$f":"'ITCER GLOBAL'!F60","v":105.58995942782556},{"$f":"'ITCER GLOBAL'!G60","v":104.16303923730895},{"$f":"'ITCER GLOBAL'!H60","v":107.16025361149752},{"$f":"'ITCER GLOBAL'!I60","v":98.768024873038144},{"$f":"'ITCER GLOBAL'!S60","v":93.910069545052536},{"$f":"'ITCER GLOBAL'!T60","v":104.16537940319921},{"$f":"'ITCER GLOBAL'!U60","v":97.870682900105166},{"$f":"'ITCER GLOBAL'!V60","v":96.814941404421575},{"$f":"'ITCER GLOBAL'!W60","v":94.606636906438666},{"$f":"'ITCER GLOBAL'!X60","v":96.913196721906004},{"$f":"'ITCER GLOBAL'!Y60","v":102.47322535033688},{"$f":"'ITCER GLOBAL'!AA60","v":90.837822121965687},{"$f":"'ITCER GLOBAL'!AB60","v":102.49684763679829},{"$f":"'ITCER GLOBAL'!AC60","v":97.856031838985785},{"$f":"'ITCER GLOBAL'!AD60","v":91.689533672562845},{"$f":"'ITCER GLOBAL'!AE60","v":90.825534276991988},{"$f":"'ITCER GLOBAL'!AF60","v":90.437632849636998},{"$f":"'ITCER GLOBAL'!AG60","v":103.7514170016679},null,{"$f":"IF(EFECTOS!$N$9=\"COSTA RICA\",LOOKUP(1,GEfectos!$C$4:$I$4,GEfectos!C60:I60),IF(EFECTOS!$N$9=\"EL SALVADOR\",LOOKUP(2,GEfectos!$C$4:$I$4,GEfectos!C60:I60),IF(EFECTOS!$N$9=\"GUATEMALA\",LOOKUP(3,GEfectos!$C$4:$I$4,GEfectos!C60:I60),IF(EFECTOS!$N$9=\"HONDURAS\",LOOKUP(4,GEfectos!$C$4:$I$4,GEfectos!C60:I60),IF(EFECTOS!$N$9=\"NICARAGUA\",LOOKUP(5,GEfectos!$C$4:$I$4,GEfectos!C60:I60),IF(EFECTOS!$N$9=\"REPÚBLICA \nDOMINICANA\",LOOKUP(6,$C$4:$I$4,C60:I60),IF(EFECTOS!$N$9=\"PANAMÁ\",LOOKUP(7,GEfectos!$C$4:$I$4,GEfectos!C60:I60))))))))","v":107.16025361149752},{"$f":"IF(EFECTOS!$N$9=\"COSTA RICA\",LOOKUP(1,GEfectos!$J$4:$P$4,GEfectos!J60:P60),IF(EFECTOS!$N$9=\"EL SALVADOR\",LOOKUP(2,GEfectos!$J$4:$P$4,GEfectos!J60:P60),IF(EFECTOS!$N$9=\"GUATEMALA\",LOOKUP(3,GEfectos!$J$4:$P$4,GEfectos!J60:P60),IF(EFECTOS!$N$9=\"HONDURAS\",LOOKUP(4,GEfectos!$J$4:$P$4,GEfectos!J60:P60),IF(EFECTOS!$N$9=\"NICARAGUA\",LOOKUP(5,GEfectos!$J$4:$P$4,GEfectos!J60:P60),IF(EFECTOS!$N$9=\"REPÚBLICA \nDOMINICANA\",LOOKUP(6,$J$4:$P$4,J60:P60),IF(EFECTOS!$N$9=\"PANAMÁ\",LOOKUP(7,GEfectos!$J$4:$P$4,GEfectos!J60:P60))))))))","v":96.913196721906004},{"$f":"IF(EFECTOS!$N$9=\"COSTA RICA\",LOOKUP(1,GEfectos!$Q$4:$W$4,GEfectos!Q60:W60),IF(EFECTOS!$N$9=\"EL SALVADOR\",LOOKUP(2,GEfectos!$Q$4:$W$4,GEfectos!Q60:W60),IF(EFECTOS!$N$9=\"GUATEMALA\",LOOKUP(3,GEfectos!$Q$4:$W$4,GEfectos!Q60:W60),IF(EFECTOS!$N$9=\"HONDURAS\",LOOKUP(4,GEfectos!$Q$4:$W$4,GEfectos!Q60:W60),IF(EFECTOS!$N$9=\"NICARAGUA\",LOOKUP(5,GEfectos!$Q$4:$W$4,GEfectos!Q60:W60),IF(EFECTOS!$N$9=\"REPÚBLICA \nDOMINICANA\",LOOKUP(6,$Q$4:$W$4,Q60:W60),IF(EFECTOS!$N$9=\"PANAMÁ\",LOOKUP(7,GEfectos!$Q$4:$W$4,GEfectos!Q60:W60))))))))","v":90.437632849636998},100]
[null,{"$f":"'ITCER GLOBAL'!B61","v":"Agosto"},{"$f":"'ITCER GLOBAL'!C61","v":104.17933364538075},{"$f":"'ITCER GLOBAL'!D61","v":101.83890052773474},{"$f":"'ITCER GLOBAL'!E61","v":103.45451817924406},{"$f":"'ITCER GLOBAL'!F61","v":105.75732722431395},{"$f":"'ITCER GLOBAL'!G61","v":103.75065378876471},{"$f":"'ITCER GLOBAL'!H61","v":107.32003494518653},{"$f":"'ITCER GLOBAL'!I61","v":99.414666053682353},{"$f":"'ITCER GLOBAL'!S61","v":94.88765336962301},{"$f":"'ITCER GLOBAL'!T61","v":103.87251318178581},{"$f":"'ITCER GLOBAL'!U61","v":101.83651175048911},{"$f":"'ITCER GLOBAL'!V61","v":97.426203998023382},{"$f":"'ITCER GLOBAL'!W61","v":95.436215686158548},{"$f":"'ITCER GLOBAL'!X61","v":97.07118320051039},{"$f":"'ITCER GLOBAL'!Y61","v":102.88638524402329},{"$f":"'ITCER GLOBAL'!AA61","v":91.081071503695753},{"$f":"'ITCER GLOBAL'!AB61","v":101.99689180019892},{"$f":"'ITCER GLOBAL'!AC61","v":98.436021493085875},{"$f":"'ITCER GLOBAL'!AD61","v":92.122415113025653},{"$f":"'ITCER GLOBAL'!AE61","v":91.98613425652789},{"$f":"'ITCER GLOBAL'!AF61","v":90.450197160380412},{"$f":"'ITCER GLOBAL'!AG61","v":103.49215998821164},null,{"$f":"IF(EFECTOS!$N$9=\"COSTA RICA\",LOOKUP(1,GEfectos!$C$4:$I$4,GEfectos!C61:I61),IF(EFECTOS!$N$9=\"EL SALVADOR\",LOOKUP(2,GEfectos!$C$4:$I$4,GEfectos!C61:I61),IF(EFECTOS!$N$9=\"GUATEMALA\",LOOKUP(3,GEfectos!$C$4:$I$4,GEfectos!C61:I61),IF(EFECTOS!$N$9=\"HONDURAS\",LOOKUP(4,GEfectos!$C$4:$I$4,GEfectos!C61:I61),IF(EFECTOS!$N$9=\"NICARAGUA\",LOOKUP(5,GEfectos!$C$4:$I$4,GEfectos!C61:I61),IF(EFECTOS!$N$9=\"REPÚBLICA \nDOMINICANA\",LOOKUP(6,$C$4:$I$4,C61:I61),IF(EFECTOS!$N$9=\"PANAMÁ\",LOOKUP(7,GEfectos!$C$4:$I$4,GEfectos!C61:I61))))))))","v":107.32003494518653},{"$f":"IF(EFECTOS!$N$9=\"COSTA RICA\",LOOKUP(1,GEfectos!$J$4:$P$4,GEfectos!J61:P61),IF(EFECTOS!$N$9=\"EL SALVADOR\",LOOKUP(2,GEfectos!$J$4:$P$4,GEfectos!J61:P61),IF(EFECTOS!$N$9=\"GUATEMALA\",LOOKUP(3,GEfectos!$J$4:$P$4,GEfectos!J61:P61),IF(EFECTOS!$N$9=\"HONDURAS\",LOOKUP(4,GEfectos!$J$4:$P$4,GEfectos!J61:P61),IF(EFECTOS!$N$9=\"NICARAGUA\",LOOKUP(5,GEfectos!$J$4:$P$4,GEfectos!J61:P61),IF(EFECTOS!$N$9=\"REPÚBLICA \nDOMINICANA\",LOOKUP(6,$J$4:$P$4,J61:P61),IF(EFECTOS!$N$9=\"PANAMÁ\",LOOKUP(7,GEfectos!$J$4:$P$4,GEfectos!J61:P61))))))))","v":97.07118320051039},{"$f":"IF(EFECTOS!$N$9=\"COSTA RICA\",LOOKUP(1,GEfectos!$Q$4:$W$4,GEfectos!Q61:W61),IF(EFECTOS!$N$9=\"EL SALVADOR\",LOOKUP(2,GEfectos!$Q$4:$W$4,GEfectos!Q61:W61),IF(EFECTOS!$N$9=\"GUATEMALA\",LOOKUP(3,GEfectos!$Q$4:$W$4,GEfectos!Q61:W61),IF(EFECTOS!$N$9=\"HONDURAS\",LOOKUP(4,GEfectos!$Q$4:$W$4,GEfectos!Q61:W61),IF(EFECTOS!$N$9=\"NICARAGUA\",LOOKUP(5,GEfectos!$Q$4:$W$4,GEfectos!Q61:W61),IF(EFECTOS!$N$9=\"REPÚBLICA \nDOMINICANA\",LOOKUP(6,$Q$4:$W$4,Q61:W61),IF(EFECTOS!$N$9=\"PANAMÁ\",LOOKUP(7,GEfectos!$Q$4:$W$4,GEfectos!Q61:W61))))))))","v":90.450197160380412},100]
[null,{"$f":"'ITCER GLOBAL'!B62","v":"Septiembre"},{"$f":"'ITCER GLOBAL'!C62","v":104.6149339887867},{"$f":"'ITCER GLOBAL'!D62","v":101.83239739886996},{"$f":"'ITCER GLOBAL'!E62","v":105.03855947861756},{"$f":"'ITCER GLOBAL'!F62","v":106.08845443097023},{"$f":"'ITCER GLOBAL'!G62","v":103.47200108091118},{"$f":"'ITCER GLOBAL'!H62","v":107.47664636164406},{"$f":"'ITCER GLOBAL'!I62","v":100.14351413044733},{"$f":"'ITCER GLOBAL'!S62","v":95.480596717569028},{"$f":"'ITCER GLOBAL'!T62","v":103.59995781383799},{"$f":"'ITCER GLOBAL'!U62","v":103.42557380875326},{"$f":"'ITCER GLOBAL'!V62","v":97.982387050037531},{"$f":"'ITCER GLOBAL'!W62","v":96.020656060255234},{"$f":"'ITCER GLOBAL'!X62","v":97.126944583307989},{"$f":"'ITCER GLOBAL'!Y62","v":103.13170996698445},{"$f":"'ITCER GLOBAL'!AA62","v":91.268610586518406},{"$f":"'ITCER GLOBAL'!AB62","v":101.73575449475535},{"$f":"'ITCER GLOBAL'!AC62","v":98.464387099489258},{"$f":"'ITCER GLOBAL'!AD62","v":92.359142731966969},{"$f":"'ITCER GLOBAL'!AE62","v":92.798684723581133},{"$f":"'ITCER GLOBAL'!AF62","v":90.370278447737604},{"$f":"'ITCER GLOBAL'!AG62","v":102.98391349902568},null,{"$f":"IF(EFECTOS!$N$9=\"COSTA RICA\",LOOKUP(1,GEfectos!$C$4:$I$4,GEfectos!C62:I62),IF(EFECTOS!$N$9=\"EL SALVADOR\",LOOKUP(2,GEfectos!$C$4:$I$4,GEfectos!C62:I62),IF(EFECTOS!$N$9=\"GUATEMALA\",LOOKUP(3,GEfectos!$C$4:$I$4,GEfectos!C62:I62),IF(EFECTOS!$N$9=\"HONDURAS\",LOOKUP(4,GEfectos!$C$4:$I$4,GEfectos!C62:I62),IF(EFECTOS!$N$9=\"NICARAGUA\",LOOKUP(5,GEfectos!$C$4:$I$4,GEfectos!C62:I62),IF(EFECTOS!$N$9=\"REPÚBLICA \nDOMINICANA\",LOOKUP(6,$C$4:$I$4,C62:I62),IF(EFECTOS!$N$9=\"PANAMÁ\",LOOKUP(7,GEfectos!$C$4:$I$4,GEfectos!C62:I62))))))))","v":107.47664636164406},{"$f":"IF(EFECTOS!$N$9=\"COSTA RICA\",LOOKUP(1,GEfectos!$J$4:$P$4,GEfectos!J62:P62),IF(EFECTOS!$N$9=\"EL SALVADOR\",LOOKUP(2,GEfectos!$J$4:$P$4,GEfectos!J62:P62),IF(EFECTOS!$N$9=\"GUATEMALA\",LOOKUP(3,GEfectos!$J$4:$P$4,GEfectos!J62:P62),IF(EFECTOS!$N$9=\"HONDURAS\",LOOKUP(4,GEfectos!$J$4:$P$4,GEfectos!J62:P62),IF(EFECTOS!$N$9=\"NICARAGUA\",LOOKUP(5,GEfectos!$J$4:$P$4,GEfectos!J62:P62),IF(EFECTOS!$N$9=\"REPÚBLICA \nDOMINICANA\",LOOKUP(6,$J$4:$P$4,J62:P62),IF(EFECTOS!$N$9=\"PANAMÁ\",LOOKUP(7,GEfectos!$J$4:$P$4,GEfectos!J62:P62))))))))","v":97.126944583307989},{"$f":"IF(EFECTOS!$N$9=\"COSTA RICA\",LOOKUP(1,GEfectos!$Q$4:$W$4,GEfectos!Q62:W62),IF(EFECTOS!$N$9=\"EL SALVADOR\",LOOKUP(2,GEfectos!$Q$4:$W$4,GEfectos!Q62:W62),IF(EFECTOS!$N$9=\"GUATEMALA\",LOOKUP(3,GEfectos!$Q$4:$W$4,GEfectos!Q62:W62),IF(EFECTOS!$N$9=\"HONDURAS\",LOOKUP(4,GEfectos!$Q$4:$W$4,GEfectos!Q62:W62),IF(EFECTOS!$N$9=\"NICARAGUA\",LOOKUP(5,GEfectos!$Q$4:$W$4,GEfectos!Q62:W62),IF(EFECTOS!$N$9=\"REPÚBLICA \nDOMINICANA\",LOOKUP(6,$Q$4:$W$4,Q62:W62),IF(EFECTOS!$N$9=\"PANAMÁ\",LOOKUP(7,GEfectos!$Q$4:$W$4,GEfectos!Q62:W62))))))))","v":90.370278447737604},100]
[null,{"$f":"'ITCER GLOBAL'!B63","v":"Octubre"},{"$f":"'ITCER GLOBAL'!C63","v":104.28570940898616},{"$f":"'ITCER GLOBAL'!D63","v":101.72272818858659},{"$f":"'ITCER GLOBAL'!E63","v":104.88592577830342},{"$f":"'ITCER GLOBAL'!F63","v":105.95058045893484},{"$f":"'ITCER GLOBAL'!G63","v":102.86409264798434},{"$f":"'ITCER GLOBAL'!H63","v":104.33664327466659},{"$f":"'ITCER GLOBAL'!I63","v":100.44657432427962},{"$f":"'ITCER GLOBAL'!S63","v":96.288412489508175},{"$f":"'ITCER GLOBAL'!T63","v":103.58282335263146},{"$f":"'ITCER GLOBAL'!U63","v":103.66535814470382},{"$f":"'ITCER GLOBAL'!V63","v":98.387952388028253},{"$f":"'ITCER GLOBAL'!W63","v":96.781152566588176},{"$f":"'ITCER GLOBAL'!X63","v":97.403274919768933},{"$f":"'ITCER GLOBAL'!Y63","v":103.20427953326299},{"$f":"'ITCER GLOBAL'!AA63","v":92.331358759698986},{"$f":"'ITCER GLOBAL'!AB63","v":101.82859346890145},{"$f":"'ITCER GLOBAL'!AC63","v":98.836290355886717},{"$f":"'ITCER GLOBAL'!AD63","v":92.862117377603454},{"$f":"'ITCER GLOBAL'!AE63","v":94.08643004103206},{"$f":"'ITCER GLOBAL'!AF63","v":93.354809837378482},{"$f":"'ITCER GLOBAL'!AG63","v":102.74544475760861},null,{"$f":"IF(EFECTOS!$N$9=\"COSTA RICA\",LOOKUP(1,GEfectos!$C$4:$I$4,GEfectos!C63:I63),IF(EFECTOS!$N$9=\"EL SALVADOR\",LOOKUP(2,GEfectos!$C$4:$I$4,GEfectos!C63:I63),IF(EFECTOS!$N$9=\"GUATEMALA\",LOOKUP(3,GEfectos!$C$4:$I$4,GEfectos!C63:I63),IF(EFECTOS!$N$9=\"HONDURAS\",LOOKUP(4,GEfectos!$C$4:$I$4,GEfectos!C63:I63),IF(EFECTOS!$N$9=\"NICARAGUA\",LOOKUP(5,GEfectos!$C$4:$I$4,GEfectos!C63:I63),IF(EFECTOS!$N$9=\"REPÚBLICA \nDOMINICANA\",LOOKUP(6,$C$4:$I$4,C63:I63),IF(EFECTOS!$N$9=\"PANAMÁ\",LOOKUP(7,GEfectos!$C$4:$I$4,GEfectos!C63:I63))))))))","v":104.33664327466659},{"$f":"IF(EFECTOS!$N$9=\"COSTA RICA\",LOOKUP(1,GEfectos!$J$4:$P$4,GEfectos!J63:P63),IF(EFECTOS!$N$9=\"EL SALVADOR\",LOOKUP(2,GEfectos!$J$4:$P$4,GEfectos!J63:P63),IF(EFECTOS!$N$9=\"GUATEMALA\",LOOKUP(3,GEfectos!$J$4:$P$4,GEfectos!J63:P63),IF(EFECTOS!$N$9=\"HONDURAS\",LOOKUP(4,GEfectos!$J$4:$P$4,GEfectos!J63:P63),IF(EFECTOS!$N$9=\"NICARAGUA\",LOOKUP(5,GEfectos!$J$4:$P$4,GEfectos!J63:P63),IF(EFECTOS!$N$9=\"REPÚBLICA \nDOMINICANA\",LOOKUP(6,$J$4:$P$4,J63:P63),IF(EFECTOS!$N$9=\"PANAMÁ\",LOOKUP(7,GEfectos!$J$4:$P$4,GEfectos!J63:P63))))))))","v":97.403274919768933},{"$f":"IF(EFECTOS!$N$9=\"COSTA RICA\",LOOKUP(1,GEfectos!$Q$4:$W$4,GEfectos!Q63:W63),IF(EFECTOS!$N$9=\"EL SALVADOR\",LOOKUP(2,GEfectos!$Q$4:$W$4,GEfectos!Q63:W63),IF(EFECTOS!$N$9=\"GUATEMALA\",LOOKUP(3,GEfectos!$Q$4:$W$4,GEfectos!Q63:W63),IF(EFECTOS!$N$9=\"HONDURAS\",LOOKUP(4,GEfectos!$Q$4:$W$4,GEfectos!Q63:W63),IF(EFECTOS!$N$9=\"NICARAGUA\",LOOKUP(5,GEfectos!$Q$4:$W$4,GEfectos!Q63:W63),IF(EFECTOS!$N$9=\"REPÚBLICA \nDOMINICANA\",LOOKUP(6,$Q$4:$W$4,Q63:W63),IF(EFECTOS!$N$9=\"PANAMÁ\",LOOKUP(7,GEfectos!$Q$4:$W$4,GEfectos!Q63:W63))))))))","v":93.354809837378482},100]
[null,{"$f":"'ITCER GLOBAL'!B64","v":"Noviembre"},{"$f":"'ITCER GLOBAL'!C64","v":103.70875733045089},{"$f":"'ITCER GLOBAL'!D64","v":102.19738800227891},{"$f":"'ITCER GLOBAL'!E64","v":104.03080171089519},{"$f":"'ITCER GLOBAL'!F64","v":105.08447271592496},{"$f":"'ITCER GLOBAL'!G64","v":102.28666817057274},{"$f":"'ITCER GLOBAL'!H64","v":103.10144378538047},{"$f":"'ITCER GLOBAL'!I64","v":100.31336507655386},{"$f":"'ITCER GLOBAL'!S64","v":96.528323174961557},{"$f":"'ITCER GLOBAL'!T64","v":103.31926759036799},{"$f":"'ITCER GLOBAL'!U64","v":103.03999895777474},{"$f":"'ITCER GLOBAL'!V64","v":98.370839208562629},{"$f":"'ITCER GLOBAL'!W64","v":97.042728422275928},{"$f":"'ITCER GLOBAL'!X64","v":97.56850559132279},{"$f":"'ITCER GLOBAL'!Y64","v":103.14767457656319},{"$f":"'ITCER GLOBAL'!AA64","v":93.07634732078597},{"$f":"'ITCER GLOBAL'!AB64","v":101.0977575944153},{"$f":"'ITCER GLOBAL'!AC64","v":99.047587121481655},{"$f":"'ITCER GLOBAL'!AD64","v":93.611203126544382},{"$f":"'ITCER GLOBAL'!AE64","v":94.873291072936254},{"$f":"'ITCER GLOBAL'!AF64","v":94.633500763020137},{"$f":"'ITCER GLOBAL'!AG64","v":102.82545550918995},null,{"$f":"IF(EFECTOS!$N$9=\"COSTA RICA\",LOOKUP(1,GEfectos!$C$4:$I$4,GEfectos!C64:I64),IF(EFECTOS!$N$9=\"EL SALVADOR\",LOOKUP(2,GEfectos!$C$4:$I$4,GEfectos!C64:I64),IF(EFECTOS!$N$9=\"GUATEMALA\",LOOKUP(3,GEfectos!$C$4:$I$4,GEfectos!C64:I64),IF(EFECTOS!$N$9=\"HONDURAS\",LOOKUP(4,GEfectos!$C$4:$I$4,GEfectos!C64:I64),IF(EFECTOS!$N$9=\"NICARAGUA\",LOOKUP(5,GEfectos!$C$4:$I$4,GEfectos!C64:I64),IF(EFECTOS!$N$9=\"REPÚBLICA \nDOMINICANA\",LOOKUP(6,$C$4:$I$4,C64:I64),IF(EFECTOS!$N$9=\"PANAMÁ\",LOOKUP(7,GEfectos!$C$4:$I$4,GEfectos!C64:I64))))))))","v":103.10144378538047},{"$f":"IF(EFECTOS!$N$9=\"COSTA RICA\",LOOKUP(1,GEfectos!$J$4:$P$4,GEfectos!J64:P64),IF(EFECTOS!$N$9=\"EL SALVADOR\",LOOKUP(2,GEfectos!$J$4:$P$4,GEfectos!J64:P64),IF(EFECTOS!$N$9=\"GUATEMALA\",LOOKUP(3,GEfectos!$J$4:$P$4,GEfectos!J64:P64),IF(EFECTOS!$N$9=\"HONDURAS\",LOOKUP(4,GEfectos!$J$4:$P$4,GEfectos!J64:P64),IF(EFECTOS!$N$9=\"NICARAGUA\",LOOKUP(5,GEfectos!$J$4:$P$4,GEfectos!J64:P64),IF(EFECTOS!$N$9=\"REPÚBLICA \nDOMINICANA\",LOOKUP(6,$J$4:$P$4,J64:P64),IF(EFECTOS!$N$9=\"PANAMÁ\",LOOKUP(7,GEfectos!$J$4:$P$4,GEfectos!J64:P64))))))))","v":97.56850559132279},{"$f":"IF(EFECTOS!$N$9=\"COSTA RICA\",LOOKUP(1,GEfectos!$Q$4:$W$4,GEfectos!Q64:W64),IF(EFECTOS!$N$9=\"EL SALVADOR\",LOOKUP(2,GEfectos!$Q$4:$W$4,GEfectos!Q64:W64),IF(EFECTOS!$N$9=\"GUATEMALA\",LOOKUP(3,GEfectos!$Q$4:$W$4,GEfectos!Q64:W64),IF(EFECTOS!$N$9=\"HONDURAS\",LOOKUP(4,GEfectos!$Q$4:$W$4,GEfectos!Q64:W64),IF(EFECTOS!$N$9=\"NICARAGUA\",LOOKUP(5,GEfectos!$Q$4:$W$4,GEfectos!Q64:W64),IF(EFECTOS!$N$9=\"REPÚBLICA \nDOMINICANA\",LOOKUP(6,$Q$4:$W$4,Q64:W64),IF(EFECTOS!$N$9=\"PANAMÁ\",LOOKUP(7,GEfectos!$Q$4:$W$4,GEfectos!Q64:W64))))))))","v":94.633500763020137},100]
[null,{"$f":"'ITCER GLOBAL'!B65","v":"Diciembre"},{"$f":"'ITCER GLOBAL'!C65","v":103.1049962113614},{"$f":"'ITCER GLOBAL'!D65","v":102.89635608860759},{"$f":"'ITCER GLOBAL'!E65","v":102.67444106011772},{"$f":"'ITCER GLOBAL'!F65","v":104.35487585359438},{"$f":"'ITCER GLOBAL'!G65","v":102.36454704867104},{"$f":"'ITCER GLOBAL'!H65","v":102.78967969582345},{"$f":"'ITCER GLOBAL'!I65","v":100.19979708399273},{"$f":"'ITCER GLOBAL'!S65","v":97.056202445983359},{"$f":"'ITCER GLOBAL'!T65","v":103.30076183810928},{"$f":"'ITCER GLOBAL'!U65","v":101.79108786982525},{"$f":"'ITCER GLOBAL'!V65","v":98.576878634170626},{"$f":"'ITCER GLOBAL'!W65","v":97.352222443389351},{"$f":"'ITCER GLOBAL'!X65","v":97.502618314012722},{"$f":"'ITCER GLOBAL'!Y65","v":103.32227339067737},{"$f":"'ITCER GLOBAL'!AA65","v":94.133365028229832},{"$f":"'ITCER GLOBAL'!AB65","v":100.39302242069044},{"$f":"'ITCER GLOBAL'!AC65","v":99.139656197616659},{"$f":"'ITCER GLOBAL'!AD65","v":94.463126737336125},{"$f":"'ITCER GLOBAL'!AE65","v":95.103456470238186},{"$f":"'ITCER GLOBAL'!AF65","v":94.85642780728935},{"$f":"'ITCER GLOBAL'!AG65","v":103.11625012979539},null,{"$f":"IF(EFECTOS!$N$9=\"COSTA RICA\",LOOKUP(1,GEfectos!$C$4:$I$4,GEfectos!C65:I65),IF(EFECTOS!$N$9=\"EL SALVADOR\",LOOKUP(2,GEfectos!$C$4:$I$4,GEfectos!C65:I65),IF(EFECTOS!$N$9=\"GUATEMALA\",LOOKUP(3,GEfectos!$C$4:$I$4,GEfectos!C65:I65),IF(EFECTOS!$N$9=\"HONDURAS\",LOOKUP(4,GEfectos!$C$4:$I$4,GEfectos!C65:I65),IF(EFECTOS!$N$9=\"NICARAGUA\",LOOKUP(5,GEfectos!$C$4:$I$4,GEfectos!C65:I65),IF(EFECTOS!$N$9=\"REPÚBLICA \nDOMINICANA\",LOOKUP(6,$C$4:$I$4,C65:I65),IF(EFECTOS!$N$9=\"PANAMÁ\",LOOKUP(7,GEfectos!$C$4:$I$4,GEfectos!C65:I65))))))))","v":102.78967969582345},{"$f":"IF(EFECTOS!$N$9=\"COSTA RICA\",LOOKUP(1,GEfectos!$J$4:$P$4,GEfectos!J65:P65),IF(EFECTOS!$N$9=\"EL SALVADOR\",LOOKUP(2,GEfectos!$J$4:$P$4,GEfectos!J65:P65),IF(EFECTOS!$N$9=\"GUATEMALA\",LOOKUP(3,GEfectos!$J$4:$P$4,GEfectos!J65:P65),IF(EFECTOS!$N$9=\"HONDURAS\",LOOKUP(4,GEfectos!$J$4:$P$4,GEfectos!J65:P65),IF(EFECTOS!$N$9=\"NICARAGUA\",LOOKUP(5,GEfectos!$J$4:$P$4,GEfectos!J65:P65),IF(EFECTOS!$N$9=\"REPÚBLICA \nDOMINICANA\",LOOKUP(6,$J$4:$P$4,J65:P65),IF(EFECTOS!$N$9=\"PANAMÁ\",LOOKUP(7,GEfectos!$J$4:$P$4,GEfectos!J65:P65))))))))","v":97.502618314012722},{"$f":"IF(EFECTOS!$N$9=\"COSTA RICA\",LOOKUP(1,GEfectos!$Q$4:$W$4,GEfectos!Q65:W65),IF(EFECTOS!$N$9=\"EL SALVADOR\",LOOKUP(2,GEfectos!$Q$4:$W$4,GEfectos!Q65:W65),IF(EFECTOS!$N$9=\"GUATEMALA\",LOOKUP(3,GEfectos!$Q$4:$W$4,GEfectos!Q65:W65),IF(EFECTOS!$N$9=\"HONDURAS\",LOOKUP(4,GEfectos!$Q$4:$W$4,GEfectos!Q65:W65),IF(EFECTOS!$N$9=\"NICARAGUA\",LOOKUP(5,GEfectos!$Q$4:$W$4,GEfectos!Q65:W65),IF(EFECTOS!$N$9=\"REPÚBLICA \nDOMINICANA\",LOOKUP(6,$Q$4:$W$4,Q65:W65),IF(EFECTOS!$N$9=\"PANAMÁ\",LOOKUP(7,GEfectos!$Q$4:$W$4,GEfectos!Q65:W65))))))))","v":94.85642780728935},100]
[2000,{"$f":"'ITCER GLOBAL'!B66","v":"Enero"},{"$f":"'ITCER GLOBAL'!C66","v":101.83287292848452},{"$f":"'ITCER GLOBAL'!D66","v":101.68593033920016},{"$f":"'ITCER GLOBAL'!E66","v":105.45521258513605},{"$f":"'ITCER GLOBAL'!F66","v":103.95805753219706},{"$f":"'ITCER GLOBAL'!G66","v":101.87575319457346},{"$f":"'ITCER GLOBAL'!H66","v":103.26852718158668},{"$f":"'ITCER GLOBAL'!I66","v":100.44084575444077},{"$f":"'ITCER GLOBAL'!S66","v":97.271577097380458},{"$f":"'ITCER GLOBAL'!T66","v":102.36494127347311},{"$f":"'ITCER GLOBAL'!U66","v":104.41772904976804},{"$f":"'ITCER GLOBAL'!V66","v":98.137080286144936},{"$f":"'ITCER GLOBAL'!W66","v":97.28962367566227},{"$f":"'ITCER GLOBAL'!X66","v":97.918469766894532},{"$f":"'ITCER GLOBAL'!Y66","v":103.11569945271569},{"$f":"'ITCER GLOBAL'!AA66","v":95.520802173275257},{"$f":"'ITCER GLOBAL'!AB66","v":100.66775308246471},{"$f":"'ITCER GLOBAL'!AC66","v":99.016185629960759},{"$f":"'ITCER GLOBAL'!AD66","v":94.400648315067542},{"$f":"'ITCER GLOBAL'!AE66","v":95.49831105527916},{"$f":"'ITCER GLOBAL'!AF66","v":94.819275958797562},{"$f":"'ITCER GLOBAL'!AG66","v":102.66311347558188},null,{"$f":"IF(EFECTOS!$N$9=\"COSTA RICA\",LOOKUP(1,GEfectos!$C$4:$I$4,GEfectos!C66:I66),IF(EFECTOS!$N$9=\"EL SALVADOR\",LOOKUP(2,GEfectos!$C$4:$I$4,GEfectos!C66:I66),IF(EFECTOS!$N$9=\"GUATEMALA\",LOOKUP(3,GEfectos!$C$4:$I$4,GEfectos!C66:I66),IF(EFECTOS!$N$9=\"HONDURAS\",LOOKUP(4,GEfectos!$C$4:$I$4,GEfectos!C66:I66),IF(EFECTOS!$N$9=\"NICARAGUA\",LOOKUP(5,GEfectos!$C$4:$I$4,GEfectos!C66:I66),IF(EFECTOS!$N$9=\"REPÚBLICA \nDOMINICANA\",LOOKUP(6,$C$4:$I$4,C66:I66),IF(EFECTOS!$N$9=\"PANAMÁ\",LOOKUP(7,GEfectos!$C$4:$I$4,GEfectos!C66:I66))))))))","v":103.26852718158668},{"$f":"IF(EFECTOS!$N$9=\"COSTA RICA\",LOOKUP(1,GEfectos!$J$4:$P$4,GEfectos!J66:P66),IF(EFECTOS!$N$9=\"EL SALVADOR\",LOOKUP(2,GEfectos!$J$4:$P$4,GEfectos!J66:P66),IF(EFECTOS!$N$9=\"GUATEMALA\",LOOKUP(3,GEfectos!$J$4:$P$4,GEfectos!J66:P66),IF(EFECTOS!$N$9=\"HONDURAS\",LOOKUP(4,GEfectos!$J$4:$P$4,GEfectos!J66:P66),IF(EFECTOS!$N$9=\"NICARAGUA\",LOOKUP(5,GEfectos!$J$4:$P$4,GEfectos!J66:P66),IF(EFECTOS!$N$9=\"REPÚBLICA \nDOMINICANA\",LOOKUP(6,$J$4:$P$4,J66:P66),IF(EFECTOS!$N$9=\"PANAMÁ\",LOOKUP(7,GEfectos!$J$4:$P$4,GEfectos!J66:P66))))))))","v":97.918469766894532},{"$f":"IF(EFECTOS!$N$9=\"COSTA RICA\",LOOKUP(1,GEfectos!$Q$4:$W$4,GEfectos!Q66:W66),IF(EFECTOS!$N$9=\"EL SALVADOR\",LOOKUP(2,GEfectos!$Q$4:$W$4,GEfectos!Q66:W66),IF(EFECTOS!$N$9=\"GUATEMALA\",LOOKUP(3,GEfectos!$Q$4:$W$4,GEfectos!Q66:W66),IF(EFECTOS!$N$9=\"HONDURAS\",LOOKUP(4,GEfectos!$Q$4:$W$4,GEfectos!Q66:W66),IF(EFECTOS!$N$9=\"NICARAGUA\",LOOKUP(5,GEfectos!$Q$4:$W$4,GEfectos!Q66:W66),IF(EFECTOS!$N$9=\"REPÚBLICA \nDOMINICANA\",LOOKUP(6,$Q$4:$W$4,Q66:W66),IF(EFECTOS!$N$9=\"PANAMÁ\",LOOKUP(7,GEfectos!$Q$4:$W$4,GEfectos!Q66:W66))))))))","v":94.819275958797562},100]
[null,{"$f":"'ITCER GLOBAL'!B67","v":"Febrero"},{"$f":"'ITCER GLOBAL'!C67","v":100.84970472191458},{"$f":"'ITCER GLOBAL'!D67","v":101.64988316039104},{"$f":"'ITCER GLOBAL'!E67","v":103.64947914329937},{"$f":"'ITCER GLOBAL'!F67","v":103.07663876829797},{"$f":"'ITCER GLOBAL'!G67","v":100.38541157097582},{"$f":"'ITCER GLOBAL'!H67","v":104.00148615281741},{"$f":"'ITCER GLOBAL'!I67","v":100.44897764304133},{"$f":"'ITCER GLOBAL'!S67","v":97.15006794744464},{"$f":"'ITCER GLOBAL'!T67","v":102.07543010315814},{"$f":"'ITCER GLOBAL'!U67","v":102.79267484282124},{"$f":"'ITCER GLOBAL'!V67","v":98.151190166375159},{"$f":"'ITCER GLOBAL'!W67","v":97.255988225802042},{"$f":"'ITCER GLOBAL'!X67","v":98.098027210299577},{"$f":"'ITCER GLOBAL'!Y67","v":102.40968750237268},{"$f":"'ITCER GLOBAL'!AA67","v":96.33153435136829},{"$f":"'ITCER GLOBAL'!AB67","v":100.41863987398357},{"$f":"'ITCER GLOBAL'!AC67","v":99.173363621737494},{"$f":"'ITCER GLOBAL'!AD67","v":95.22156653459129},{"$f":"'ITCER GLOBAL'!AE67","v":96.882591507869492},{"$f":"'ITCER GLOBAL'!AF67","v":94.32367828490122},{"$f":"'ITCER GLOBAL'!AG67","v":101.95194605792703},null,{"$f":"IF(EFECTOS!$N$9=\"COSTA RICA\",LOOKUP(1,GEfectos!$C$4:$I$4,GEfectos!C67:I67),IF(EFECTOS!$N$9=\"EL SALVADOR\",LOOKUP(2,GEfectos!$C$4:$I$4,GEfectos!C67:I67),IF(EFECTOS!$N$9=\"GUATEMALA\",LOOKUP(3,GEfectos!$C$4:$I$4,GEfectos!C67:I67),IF(EFECTOS!$N$9=\"HONDURAS\",LOOKUP(4,GEfectos!$C$4:$I$4,GEfectos!C67:I67),IF(EFECTOS!$N$9=\"NICARAGUA\",LOOKUP(5,GEfectos!$C$4:$I$4,GEfectos!C67:I67),IF(EFECTOS!$N$9=\"REPÚBLICA \nDOMINICANA\",LOOKUP(6,$C$4:$I$4,C67:I67),IF(EFECTOS!$N$9=\"PANAMÁ\",LOOKUP(7,GEfectos!$C$4:$I$4,GEfectos!C67:I67))))))))","v":104.00148615281741},{"$f":"IF(EFECTOS!$N$9=\"COSTA RICA\",LOOKUP(1,GEfectos!$J$4:$P$4,GEfectos!J67:P67),IF(EFECTOS!$N$9=\"EL SALVADOR\",LOOKUP(2,GEfectos!$J$4:$P$4,GEfectos!J67:P67),IF(EFECTOS!$N$9=\"GUATEMALA\",LOOKUP(3,GEfectos!$J$4:$P$4,GEfectos!J67:P67),IF(EFECTOS!$N$9=\"HONDURAS\",LOOKUP(4,GEfectos!$J$4:$P$4,GEfectos!J67:P67),IF(EFECTOS!$N$9=\"NICARAGUA\",LOOKUP(5,GEfectos!$J$4:$P$4,GEfectos!J67:P67),IF(EFECTOS!$N$9=\"REPÚBLICA \nDOMINICANA\",LOOKUP(6,$J$4:$P$4,J67:P67),IF(EFECTOS!$N$9=\"PANAMÁ\",LOOKUP(7,GEfectos!$J$4:$P$4,GEfectos!J67:P67))))))))","v":98.098027210299577},{"$f":"IF(EFECTOS!$N$9=\"COSTA RICA\",LOOKUP(1,GEfectos!$Q$4:$W$4,GEfectos!Q67:W67),IF(EFECTOS!$N$9=\"EL SALVADOR\",LOOKUP(2,GEfectos!$Q$4:$W$4,GEfectos!Q67:W67),IF(EFECTOS!$N$9=\"GUATEMALA\",LOOKUP(3,GEfectos!$Q$4:$W$4,GEfectos!Q67:W67),IF(EFECTOS!$N$9=\"HONDURAS\",LOOKUP(4,GEfectos!$Q$4:$W$4,GEfectos!Q67:W67),IF(EFECTOS!$N$9=\"NICARAGUA\",LOOKUP(5,GEfectos!$Q$4:$W$4,GEfectos!Q67:W67),IF(EFECTOS!$N$9=\"REPÚBLICA \nDOMINICANA\",LOOKUP(6,$Q$4:$W$4,Q67:W67),IF(EFECTOS!$N$9=\"PANAMÁ\",LOOKUP(7,GEfectos!$Q$4:$W$4,GEfectos!Q67:W67))))))))","v":94.32367828490122},100]
[null,{"$f":"'ITCER GLOBAL'!B68","v":"Marzo"},{"$f":"'ITCER GLOBAL'!C68","v":101.29459985498902},{"$f":"'ITCER GLOBAL'!D68","v":102.4054923961732},{"$f":"'ITCER GLOBAL'!E68","v":102.34686577062189},{"$f":"'ITCER GLOBAL'!F68","v":103.06563206726308},{"$f":"'ITCER GLOBAL'!G68","v":100.50895953401862},{"$f":"'ITCER GLOBAL'!H68","v":104.78020575806212},{"$f":"'ITCER GLOBAL'!I68","v":100.59399822219584},{"$f":"'ITCER GLOBAL'!S68","v":97.623621607157119},{"$f":"'ITCER GLOBAL'!T68","v":102.17479315265365},{"$f":"'ITCER GLOBAL'!U68","v":102.00757075033944},{"$f":"'ITCER GLOBAL'!V68","v":98.395978909844914},{"$f":"'ITCER GLOBAL'!W68","v":97.684410491495726},{"$f":"'ITCER GLOBAL'!X68","v":98.077979773241992},{"$f":"'ITCER GLOBAL'!Y68","v":102.55389355760798},{"$f":"'ITCER GLOBAL'!AA68","v":96.375938842655785},{"$f":"'ITCER GLOBAL'!AB68","v":99.774719853279876},{"$f":"'ITCER GLOBAL'!AC68","v":99.668485187379474},{"$f":"'ITCER GLOBAL'!AD68","v":95.46924317664822},{"$f":"'ITCER GLOBAL'!AE68","v":97.189753972563125},{"$f":"'ITCER GLOBAL'!AF68","v":93.603538057278115},{"$f":"'ITCER GLOBAL'!AG68","v":101.94832233537736},null,{"$f":"IF(EFECTOS!$N$9=\"COSTA RICA\",LOOKUP(1,GEfectos!$C$4:$I$4,GEfectos!C68:I68),IF(EFECTOS!$N$9=\"EL SALVADOR\",LOOKUP(2,GEfectos!$C$4:$I$4,GEfectos!C68:I68),IF(EFECTOS!$N$9=\"GUATEMALA\",LOOKUP(3,GEfectos!$C$4:$I$4,GEfectos!C68:I68),IF(EFECTOS!$N$9=\"HONDURAS\",LOOKUP(4,GEfectos!$C$4:$I$4,GEfectos!C68:I68),IF(EFECTOS!$N$9=\"NICARAGUA\",LOOKUP(5,GEfectos!$C$4:$I$4,GEfectos!C68:I68),IF(EFECTOS!$N$9=\"REPÚBLICA \nDOMINICANA\",LOOKUP(6,$C$4:$I$4,C68:I68),IF(EFECTOS!$N$9=\"PANAMÁ\",LOOKUP(7,GEfectos!$C$4:$I$4,GEfectos!C68:I68))))))))","v":104.78020575806212},{"$f":"IF(EFECTOS!$N$9=\"COSTA RICA\",LOOKUP(1,GEfectos!$J$4:$P$4,GEfectos!J68:P68),IF(EFECTOS!$N$9=\"EL SALVADOR\",LOOKUP(2,GEfectos!$J$4:$P$4,GEfectos!J68:P68),IF(EFECTOS!$N$9=\"GUATEMALA\",LOOKUP(3,GEfectos!$J$4:$P$4,GEfectos!J68:P68),IF(EFECTOS!$N$9=\"HONDURAS\",LOOKUP(4,GEfectos!$J$4:$P$4,GEfectos!J68:P68),IF(EFECTOS!$N$9=\"NICARAGUA\",LOOKUP(5,GEfectos!$J$4:$P$4,GEfectos!J68:P68),IF(EFECTOS!$N$9=\"REPÚBLICA \nDOMINICANA\",LOOKUP(6,$J$4:$P$4,J68:P68),IF(EFECTOS!$N$9=\"PANAMÁ\",LOOKUP(7,GEfectos!$J$4:$P$4,GEfectos!J68:P68))))))))","v":98.077979773241992},{"$f":"IF(EFECTOS!$N$9=\"COSTA RICA\",LOOKUP(1,GEfectos!$Q$4:$W$4,GEfectos!Q68:W68),IF(EFECTOS!$N$9=\"EL SALVADOR\",LOOKUP(2,GEfectos!$Q$4:$W$4,GEfectos!Q68:W68),IF(EFECTOS!$N$9=\"GUATEMALA\",LOOKUP(3,GEfectos!$Q$4:$W$4,GEfectos!Q68:W68),IF(EFECTOS!$N$9=\"HONDURAS\",LOOKUP(4,GEfectos!$Q$4:$W$4,GEfectos!Q68:W68),IF(EFECTOS!$N$9=\"NICARAGUA\",LOOKUP(5,GEfectos!$Q$4:$W$4,GEfectos!Q68:W68),IF(EFECTOS!$N$9=\"REPÚBLICA \nDOMINICANA\",LOOKUP(6,$Q$4:$W$4,Q68:W68),IF(EFECTOS!$N$9=\"PANAMÁ\",LOOKUP(7,GEfectos!$Q$4:$W$4,GEfectos!Q68:W68))))))))","v":93.603538057278115},100]
[null,{"$f":"'ITCER GLOBAL'!B69","v":"Abril"},{"$f":"'ITCER GLOBAL'!C69","v":101.90025050168768},{"$f":"'ITCER GLOBAL'!D69","v":102.31320583958797},{"$f":"'ITCER GLOBAL'!E69","v":100.98824566473645},{"$f":"'ITCER GLOBAL'!F69","v":101.9706248014347},{"$f":"'ITCER GLOBAL'!G69","v":100.26109056222997},{"$f":"'ITCER GLOBAL'!H69","v":104.62278429152634},{"$f":"'ITCER GLOBAL'!I69","v":100.48314827803928},{"$f":"'ITCER GLOBAL'!S69","v":97.677920200549579},{"$f":"'ITCER GLOBAL'!T69","v":101.84477088768529},{"$f":"'ITCER GLOBAL'!U69","v":101.5403107159586},{"$f":"'ITCER GLOBAL'!V69","v":98.487496441063527},{"$f":"'ITCER GLOBAL'!W69","v":97.856582309052115},{"$f":"'ITCER GLOBAL'!X69","v":97.930497426555021},{"$f":"'ITCER GLOBAL'!Y69","v":102.23372537486117},{"$f":"'ITCER GLOBAL'!AA69","v":95.856408320538748},{"$f":"'ITCER GLOBAL'!AB69","v":99.542155923999559},{"$f":"'ITCER GLOBAL'!AC69","v":100.54666268097667},{"$f":"'ITCER GLOBAL'!AD69","v":96.584184546133955},{"$f":"'ITCER GLOBAL'!AE69","v":97.601753342503855},{"$f":"'ITCER GLOBAL'!AF69","v":93.603413529577281},{"$f":"'ITCER GLOBAL'!AG69","v":101.74215988135443},null,{"$f":"IF(EFECTOS!$N$9=\"COSTA RICA\",LOOKUP(1,GEfectos!$C$4:$I$4,GEfectos!C69:I69),IF(EFECTOS!$N$9=\"EL SALVADOR\",LOOKUP(2,GEfectos!$C$4:$I$4,GEfectos!C69:I69),IF(EFECTOS!$N$9=\"GUATEMALA\",LOOKUP(3,GEfectos!$C$4:$I$4,GEfectos!C69:I69),IF(EFECTOS!$N$9=\"HONDURAS\",LOOKUP(4,GEfectos!$C$4:$I$4,GEfectos!C69:I69),IF(EFECTOS!$N$9=\"NICARAGUA\",LOOKUP(5,GEfectos!$C$4:$I$4,GEfectos!C69:I69),IF(EFECTOS!$N$9=\"REPÚBLICA \nDOMINICANA\",LOOKUP(6,$C$4:$I$4,C69:I69),IF(EFECTOS!$N$9=\"PANAMÁ\",LOOKUP(7,GEfectos!$C$4:$I$4,GEfectos!C69:I69))))))))","v":104.62278429152634},{"$f":"IF(EFECTOS!$N$9=\"COSTA RICA\",LOOKUP(1,GEfectos!$J$4:$P$4,GEfectos!J69:P69),IF(EFECTOS!$N$9=\"EL SALVADOR\",LOOKUP(2,GEfectos!$J$4:$P$4,GEfectos!J69:P69),IF(EFECTOS!$N$9=\"GUATEMALA\",LOOKUP(3,GEfectos!$J$4:$P$4,GEfectos!J69:P69),IF(EFECTOS!$N$9=\"HONDURAS\",LOOKUP(4,GEfectos!$J$4:$P$4,GEfectos!J69:P69),IF(EFECTOS!$N$9=\"NICARAGUA\",LOOKUP(5,GEfectos!$J$4:$P$4,GEfectos!J69:P69),IF(EFECTOS!$N$9=\"REPÚBLICA \nDOMINICANA\",LOOKUP(6,$J$4:$P$4,J69:P69),IF(EFECTOS!$N$9=\"PANAMÁ\",LOOKUP(7,GEfectos!$J$4:$P$4,GEfectos!J69:P69))))))))","v":97.930497426555021},{"$f":"IF(EFECTOS!$N$9=\"COSTA RICA\",LOOKUP(1,GEfectos!$Q$4:$W$4,GEfectos!Q69:W69),IF(EFECTOS!$N$9=\"EL SALVADOR\",LOOKUP(2,GEfectos!$Q$4:$W$4,GEfectos!Q69:W69),IF(EFECTOS!$N$9=\"GUATEMALA\",LOOKUP(3,GEfectos!$Q$4:$W$4,GEfectos!Q69:W69),IF(EFECTOS!$N$9=\"HONDURAS\",LOOKUP(4,GEfectos!$Q$4:$W$4,GEfectos!Q69:W69),IF(EFECTOS!$N$9=\"NICARAGUA\",LOOKUP(5,GEfectos!$Q$4:$W$4,GEfectos!Q69:W69),IF(EFECTOS!$N$9=\"REPÚBLICA \nDOMINICANA\",LOOKUP(6,$Q$4:$W$4,Q69:W69),IF(EFECTOS!$N$9=\"PANAMÁ\",LOOKUP(7,GEfectos!$Q$4:$W$4,GEfectos!Q69:W69))))))))","v":93.603413529577281},100]
[null,{"$f":"'ITCER GLOBAL'!B70","v":"Mayo"},{"$f":"'ITCER GLOBAL'!C70","v":101.45057998320894},{"$f":"'ITCER GLOBAL'!D70","v":100.98722043476633},{"$f":"'ITCER GLOBAL'!E70","v":101.03437807595962},{"$f":"'ITCER GLOBAL'!F70","v":100.87531114103487},{"$f":"'ITCER GLOBAL'!G70","v":99.296096983052379},{"$f":"'ITCER GLOBAL'!H70","v":104.20906617343337},{"$f":"'ITCER GLOBAL'!I70","v":99.484864953160383},{"$f":"'ITCER GLOBAL'!S70","v":97.036110161927752},{"$f":"'ITCER GLOBAL'!T70","v":101.09750791886954},{"$f":"'ITCER GLOBAL'!U70","v":100.61976876168333},{"$f":"'ITCER GLOBAL'!V70","v":98.219740524146076},{"$f":"'ITCER GLOBAL'!W70","v":97.556438837702302},{"$f":"'ITCER GLOBAL'!X70","v":97.515908942860818},{"$f":"'ITCER GLOBAL'!Y70","v":101.21634984003019},{"$f":"'ITCER GLOBAL'!AA70","v":95.648649990949465},{"$f":"'ITCER GLOBAL'!AB70","v":100.10920934711184},{"$f":"'ITCER GLOBAL'!AC70","v":99.589635407104126},{"$f":"'ITCER GLOBAL'!AD70","v":97.367472192302813},{"$f":"'ITCER GLOBAL'!AE70","v":98.248009540952054},{"$f":"'ITCER GLOBAL'!AF70","v":93.577183371518515},{"$f":"'ITCER GLOBAL'!AG70","v":101.74045055766526},null,{"$f":"IF(EFECTOS!$N$9=\"COSTA RICA\",LOOKUP(1,GEfectos!$C$4:$I$4,GEfectos!C70:I70),IF(EFECTOS!$N$9=\"EL SALVADOR\",LOOKUP(2,GEfectos!$C$4:$I$4,GEfectos!C70:I70),IF(EFECTOS!$N$9=\"GUATEMALA\",LOOKUP(3,GEfectos!$C$4:$I$4,GEfectos!C70:I70),IF(EFECTOS!$N$9=\"HONDURAS\",LOOKUP(4,GEfectos!$C$4:$I$4,GEfectos!C70:I70),IF(EFECTOS!$N$9=\"NICARAGUA\",LOOKUP(5,GEfectos!$C$4:$I$4,GEfectos!C70:I70),IF(EFECTOS!$N$9=\"REPÚBLICA \nDOMINICANA\",LOOKUP(6,$C$4:$I$4,C70:I70),IF(EFECTOS!$N$9=\"PANAMÁ\",LOOKUP(7,GEfectos!$C$4:$I$4,GEfectos!C70:I70))))))))","v":104.20906617343337},{"$f":"IF(EFECTOS!$N$9=\"COSTA RICA\",LOOKUP(1,GEfectos!$J$4:$P$4,GEfectos!J70:P70),IF(EFECTOS!$N$9=\"EL SALVADOR\",LOOKUP(2,GEfectos!$J$4:$P$4,GEfectos!J70:P70),IF(EFECTOS!$N$9=\"GUATEMALA\",LOOKUP(3,GEfectos!$J$4:$P$4,GEfectos!J70:P70),IF(EFECTOS!$N$9=\"HONDURAS\",LOOKUP(4,GEfectos!$J$4:$P$4,GEfectos!J70:P70),IF(EFECTOS!$N$9=\"NICARAGUA\",LOOKUP(5,GEfectos!$J$4:$P$4,GEfectos!J70:P70),IF(EFECTOS!$N$9=\"REPÚBLICA \nDOMINICANA\",LOOKUP(6,$J$4:$P$4,J70:P70),IF(EFECTOS!$N$9=\"PANAMÁ\",LOOKUP(7,GEfectos!$J$4:$P$4,GEfectos!J70:P70))))))))","v":97.515908942860818},{"$f":"IF(EFECTOS!$N$9=\"COSTA RICA\",LOOKUP(1,GEfectos!$Q$4:$W$4,GEfectos!Q70:W70),IF(EFECTOS!$N$9=\"EL SALVADOR\",LOOKUP(2,GEfectos!$Q$4:$W$4,GEfectos!Q70:W70),IF(EFECTOS!$N$9=\"GUATEMALA\",LOOKUP(3,GEfectos!$Q$4:$W$4,GEfectos!Q70:W70),IF(EFECTOS!$N$9=\"HONDURAS\",LOOKUP(4,GEfectos!$Q$4:$W$4,GEfectos!Q70:W70),IF(EFECTOS!$N$9=\"NICARAGUA\",LOOKUP(5,GEfectos!$Q$4:$W$4,GEfectos!Q70:W70),IF(EFECTOS!$N$9=\"REPÚBLICA \nDOMINICANA\",LOOKUP(6,$Q$4:$W$4,Q70:W70),IF(EFECTOS!$N$9=\"PANAMÁ\",LOOKUP(7,GEfectos!$Q$4:$W$4,GEfectos!Q70:W70))))))))","v":93.577183371518515},100]
[null,{"$f":"'ITCER GLOBAL'!B71","v":"Junio"},{"$f":"'ITCER GLOBAL'!C71","v":101.82982061940831},{"$f":"'ITCER GLOBAL'!D71","v":100.57507833743165},{"$f":"'ITCER GLOBAL'!E71","v":101.66254238436181},{"$f":"'ITCER GLOBAL'!F71","v":101.10519015595102},{"$f":"'ITCER GLOBAL'!G71","v":100.06696692831547},{"$f":"'ITCER GLOBAL'!H71","v":103.93796937702756},{"$f":"'ITCER GLOBAL'!I71","v":100.0974356001354},{"$f":"'ITCER GLOBAL'!S71","v":98.272772284184171},{"$f":"'ITCER GLOBAL'!T71","v":101.27492501040913},{"$f":"'ITCER GLOBAL'!U71","v":101.22752603856671},{"$f":"'ITCER GLOBAL'!V71","v":98.884568284336922},{"$f":"'ITCER GLOBAL'!W71","v":98.36176716564762},{"$f":"'ITCER GLOBAL'!X71","v":97.756736052334347},{"$f":"'ITCER GLOBAL'!Y71","v":101.66288602153004},{"$f":"'ITCER GLOBAL'!AA71","v":96.506869683568738},{"$f":"'ITCER GLOBAL'!AB71","v":100.69584501901106},{"$f":"'ITCER GLOBAL'!AC71","v":99.57209771112116},{"$f":"'ITCER GLOBAL'!AD71","v":97.803651950815919},{"$f":"'ITCER GLOBAL'!AE71","v":98.295941393037936},{"$f":"'ITCER GLOBAL'!AF71","v":94.052959316271384},{"$f":"'ITCER GLOBAL'!AG71","v":101.56392660012612},null,{"$f":"IF(EFECTOS!$N$9=\"COSTA RICA\",LOOKUP(1,GEfectos!$C$4:$I$4,GEfectos!C71:I71),IF(EFECTOS!$N$9=\"EL SALVADOR\",LOOKUP(2,GEfectos!$C$4:$I$4,GEfectos!C71:I71),IF(EFECTOS!$N$9=\"GUATEMALA\",LOOKUP(3,GEfectos!$C$4:$I$4,GEfectos!C71:I71),IF(EFECTOS!$N$9=\"HONDURAS\",LOOKUP(4,GEfectos!$C$4:$I$4,GEfectos!C71:I71),IF(EFECTOS!$N$9=\"NICARAGUA\",LOOKUP(5,GEfectos!$C$4:$I$4,GEfectos!C71:I71),IF(EFECTOS!$N$9=\"REPÚBLICA \nDOMINICANA\",LOOKUP(6,$C$4:$I$4,C71:I71),IF(EFECTOS!$N$9=\"PANAMÁ\",LOOKUP(7,GEfectos!$C$4:$I$4,GEfectos!C71:I71))))))))","v":103.93796937702756},{"$f":"IF(EFECTOS!$N$9=\"COSTA RICA\",LOOKUP(1,GEfectos!$J$4:$P$4,GEfectos!J71:P71),IF(EFECTOS!$N$9=\"EL SALVADOR\",LOOKUP(2,GEfectos!$J$4:$P$4,GEfectos!J71:P71),IF(EFECTOS!$N$9=\"GUATEMALA\",LOOKUP(3,GEfectos!$J$4:$P$4,GEfectos!J71:P71),IF(EFECTOS!$N$9=\"HONDURAS\",LOOKUP(4,GEfectos!$J$4:$P$4,GEfectos!J71:P71),IF(EFECTOS!$N$9=\"NICARAGUA\",LOOKUP(5,GEfectos!$J$4:$P$4,GEfectos!J71:P71),IF(EFECTOS!$N$9=\"REPÚBLICA \nDOMINICANA\",LOOKUP(6,$J$4:$P$4,J71:P71),IF(EFECTOS!$N$9=\"PANAMÁ\",LOOKUP(7,GEfectos!$J$4:$P$4,GEfectos!J71:P71))))))))","v":97.756736052334347},{"$f":"IF(EFECTOS!$N$9=\"COSTA RICA\",LOOKUP(1,GEfectos!$Q$4:$W$4,GEfectos!Q71:W71),IF(EFECTOS!$N$9=\"EL SALVADOR\",LOOKUP(2,GEfectos!$Q$4:$W$4,GEfectos!Q71:W71),IF(EFECTOS!$N$9=\"GUATEMALA\",LOOKUP(3,GEfectos!$Q$4:$W$4,GEfectos!Q71:W71),IF(EFECTOS!$N$9=\"HONDURAS\",LOOKUP(4,GEfectos!$Q$4:$W$4,GEfectos!Q71:W71),IF(EFECTOS!$N$9=\"NICARAGUA\",LOOKUP(5,GEfectos!$Q$4:$W$4,GEfectos!Q71:W71),IF(EFECTOS!$N$9=\"REPÚBLICA \nDOMINICANA\",LOOKUP(6,$Q$4:$W$4,Q71:W71),IF(EFECTOS!$N$9=\"PANAMÁ\",LOOKUP(7,GEfectos!$Q$4:$W$4,GEfectos!Q71:W71))))))))","v":94.052959316271384},100]
[null,{"$f":"'ITCER GLOBAL'!B72","v":"Julio"},{"$f":"'ITCER GLOBAL'!C72","v":101.18247042955346},{"$f":"'ITCER GLOBAL'!D72","v":100.87011665473095},{"$f":"'ITCER GLOBAL'!E72","v":102.08951671092751},{"$f":"'ITCER GLOBAL'!F72","v":100.87702751812225},{"$f":"'ITCER GLOBAL'!G72","v":101.03891665568605},{"$f":"'ITCER GLOBAL'!H72","v":103.68690015690893},{"$f":"'ITCER GLOBAL'!I72","v":100.02572015877467},{"$f":"'ITCER GLOBAL'!S72","v":98.760307105243569},{"$f":"'ITCER GLOBAL'!T72","v":101.16714461142486},{"$f":"'ITCER GLOBAL'!U72","v":101.65565393283262},{"$f":"'ITCER GLOBAL'!V72","v":99.134746721770441},{"$f":"'ITCER GLOBAL'!W72","v":98.715334773506086},{"$f":"'ITCER GLOBAL'!X72","v":97.754748805776259},{"$f":"'ITCER GLOBAL'!Y72","v":101.54563171977888},{"$f":"'ITCER GLOBAL'!AA72","v":97.606143323021286},{"$f":"'ITCER GLOBAL'!AB72","v":100.29446576106442},{"$f":"'ITCER GLOBAL'!AC72","v":99.575017306308339},{"$f":"'ITCER GLOBAL'!AD72","v":98.272866638503203},{"$f":"'ITCER GLOBAL'!AE72","v":97.700309980462166},{"$f":"'ITCER GLOBAL'!AF72","v":94.278784164484065},{"$f":"'ITCER GLOBAL'!AG72","v":101.51952073785783},null,{"$f":"IF(EFECTOS!$N$9=\"COSTA RICA\",LOOKUP(1,GEfectos!$C$4:$I$4,GEfectos!C72:I72),IF(EFECTOS!$N$9=\"EL SALVADOR\",LOOKUP(2,GEfectos!$C$4:$I$4,GEfectos!C72:I72),IF(EFECTOS!$N$9=\"GUATEMALA\",LOOKUP(3,GEfectos!$C$4:$I$4,GEfectos!C72:I72),IF(EFECTOS!$N$9=\"HONDURAS\",LOOKUP(4,GEfectos!$C$4:$I$4,GEfectos!C72:I72),IF(EFECTOS!$N$9=\"NICARAGUA\",LOOKUP(5,GEfectos!$C$4:$I$4,GEfectos!C72:I72),IF(EFECTOS!$N$9=\"REPÚBLICA \nDOMINICANA\",LOOKUP(6,$C$4:$I$4,C72:I72),IF(EFECTOS!$N$9=\"PANAMÁ\",LOOKUP(7,GEfectos!$C$4:$I$4,GEfectos!C72:I72))))))))","v":103.68690015690893},{"$f":"IF(EFECTOS!$N$9=\"COSTA RICA\",LOOKUP(1,GEfectos!$J$4:$P$4,GEfectos!J72:P72),IF(EFECTOS!$N$9=\"EL SALVADOR\",LOOKUP(2,GEfectos!$J$4:$P$4,GEfectos!J72:P72),IF(EFECTOS!$N$9=\"GUATEMALA\",LOOKUP(3,GEfectos!$J$4:$P$4,GEfectos!J72:P72),IF(EFECTOS!$N$9=\"HONDURAS\",LOOKUP(4,GEfectos!$J$4:$P$4,GEfectos!J72:P72),IF(EFECTOS!$N$9=\"NICARAGUA\",LOOKUP(5,GEfectos!$J$4:$P$4,GEfectos!J72:P72),IF(EFECTOS!$N$9=\"REPÚBLICA \nDOMINICANA\",LOOKUP(6,$J$4:$P$4,J72:P72),IF(EFECTOS!$N$9=\"PANAMÁ\",LOOKUP(7,GEfectos!$J$4:$P$4,GEfectos!J72:P72))))))))","v":97.754748805776259},{"$f":"IF(EFECTOS!$N$9=\"COSTA RICA\",LOOKUP(1,GEfectos!$Q$4:$W$4,GEfectos!Q72:W72),IF(EFECTOS!$N$9=\"EL SALVADOR\",LOOKUP(2,GEfectos!$Q$4:$W$4,GEfectos!Q72:W72),IF(EFECTOS!$N$9=\"GUATEMALA\",LOOKUP(3,GEfectos!$Q$4:$W$4,GEfectos!Q72:W72),IF(EFECTOS!$N$9=\"HONDURAS\",LOOKUP(4,GEfectos!$Q$4:$W$4,GEfectos!Q72:W72),IF(EFECTOS!$N$9=\"NICARAGUA\",LOOKUP(5,GEfectos!$Q$4:$W$4,GEfectos!Q72:W72),IF(EFECTOS!$N$9=\"REPÚBLICA \nDOMINICANA\",LOOKUP(6,$Q$4:$W$4,Q72:W72),IF(EFECTOS!$N$9=\"PANAMÁ\",LOOKUP(7,GEfectos!$Q$4:$W$4,GEfectos!Q72:W72))))))))","v":94.278784164484065},100]
[null,{"$f":"'ITCER GLOBAL'!B73","v":"Agosto"},{"$f":"'ITCER GLOBAL'!C73","v":100.4535250511468},{"$f":"'ITCER GLOBAL'!D73","v":100.14585746197565},{"$f":"'ITCER GLOBAL'!E73","v":102.38957660482079},{"$f":"'ITCER GLOBAL'!F73","v":100.51876809633265},{"$f":"'ITCER GLOBAL'!G73","v":101.09934390446607},{"$f":"'ITCER GLOBAL'!H73","v":102.31020453833094},{"$f":"'ITCER GLOBAL'!I73","v":100.00533185334443},{"$f":"'ITCER GLOBAL'!S73","v":98.592542562099283},{"$f":"'ITCER GLOBAL'!T73","v":100.78350142953036},{"$f":"'ITCER GLOBAL'!U73","v":101.31515376424535},{"$f":"'ITCER GLOBAL'!V73","v":99.155055479634086},{"$f":"'ITCER GLOBAL'!W73","v":98.764536193174962},{"$f":"'ITCER GLOBAL'!X73","v":97.506992613508714},{"$f":"'ITCER GLOBAL'!Y73","v":101.09711391038803},{"$f":"'ITCER GLOBAL'!AA73","v":98.147419427939454},{"$f":"'ITCER GLOBAL'!AB73","v":100.63671527082067},{"$f":"'ITCER GLOBAL'!AC73","v":98.950652130614586},{"$f":"'ITCER GLOBAL'!AD73","v":98.643325378409287},{"$f":"'ITCER GLOBAL'!AE73","v":97.690580748479064},{"$f":"'ITCER GLOBAL'!AF73","v":95.305246483968602},{"$f":"'ITCER GLOBAL'!AG73","v":101.09172384792909},null,{"$f":"IF(EFECTOS!$N$9=\"COSTA RICA\",LOOKUP(1,GEfectos!$C$4:$I$4,GEfectos!C73:I73),IF(EFECTOS!$N$9=\"EL SALVADOR\",LOOKUP(2,GEfectos!$C$4:$I$4,GEfectos!C73:I73),IF(EFECTOS!$N$9=\"GUATEMALA\",LOOKUP(3,GEfectos!$C$4:$I$4,GEfectos!C73:I73),IF(EFECTOS!$N$9=\"HONDURAS\",LOOKUP(4,GEfectos!$C$4:$I$4,GEfectos!C73:I73),IF(EFECTOS!$N$9=\"NICARAGUA\",LOOKUP(5,GEfectos!$C$4:$I$4,GEfectos!C73:I73),IF(EFECTOS!$N$9=\"REPÚBLICA \nDOMINICANA\",LOOKUP(6,$C$4:$I$4,C73:I73),IF(EFECTOS!$N$9=\"PANAMÁ\",LOOKUP(7,GEfectos!$C$4:$I$4,GEfectos!C73:I73))))))))","v":102.31020453833094},{"$f":"IF(EFECTOS!$N$9=\"COSTA RICA\",LOOKUP(1,GEfectos!$J$4:$P$4,GEfectos!J73:P73),IF(EFECTOS!$N$9=\"EL SALVADOR\",LOOKUP(2,GEfectos!$J$4:$P$4,GEfectos!J73:P73),IF(EFECTOS!$N$9=\"GUATEMALA\",LOOKUP(3,GEfectos!$J$4:$P$4,GEfectos!J73:P73),IF(EFECTOS!$N$9=\"HONDURAS\",LOOKUP(4,GEfectos!$J$4:$P$4,GEfectos!J73:P73),IF(EFECTOS!$N$9=\"NICARAGUA\",LOOKUP(5,GEfectos!$J$4:$P$4,GEfectos!J73:P73),IF(EFECTOS!$N$9=\"REPÚBLICA \nDOMINICANA\",LOOKUP(6,$J$4:$P$4,J73:P73),IF(EFECTOS!$N$9=\"PANAMÁ\",LOOKUP(7,GEfectos!$J$4:$P$4,GEfectos!J73:P73))))))))","v":97.506992613508714},{"$f":"IF(EFECTOS!$N$9=\"COSTA RICA\",LOOKUP(1,GEfectos!$Q$4:$W$4,GEfectos!Q73:W73),IF(EFECTOS!$N$9=\"EL SALVADOR\",LOOKUP(2,GEfectos!$Q$4:$W$4,GEfectos!Q73:W73),IF(EFECTOS!$N$9=\"GUATEMALA\",LOOKUP(3,GEfectos!$Q$4:$W$4,GEfectos!Q73:W73),IF(EFECTOS!$N$9=\"HONDURAS\",LOOKUP(4,GEfectos!$Q$4:$W$4,GEfectos!Q73:W73),IF(EFECTOS!$N$9=\"NICARAGUA\",LOOKUP(5,GEfectos!$Q$4:$W$4,GEfectos!Q73:W73),IF(EFECTOS!$N$9=\"REPÚBLICA \nDOMINICANA\",LOOKUP(6,$Q$4:$W$4,Q73:W73),IF(EFECTOS!$N$9=\"PANAMÁ\",LOOKUP(7,GEfectos!$Q$4:$W$4,GEfectos!Q73:W73))))))))","v":95.305246483968602},100]
[null,{"$f":"'ITCER GLOBAL'!B74","v":"Septiembre"},{"$f":"'ITCER GLOBAL'!C74","v":100.30176185420594},{"$f":"'ITCER GLOBAL'!D74","v":99.77231221501215},{"$f":"'ITCER GLOBAL'!E74","v":103.0303020153931},{"$f":"'ITCER GLOBAL'!F74","v":100.87514359226077},{"$f":"'ITCER GLOBAL'!G74","v":101.04479799542409},{"$f":"'ITCER GLOBAL'!H74","v":100.77980319894509},{"$f":"'ITCER GLOBAL'!I74","v":99.597358642224606},{"$f":"'ITCER GLOBAL'!S74","v":98.356376420247187},{"$f":"'ITCER GLOBAL'!T74","v":100.17174124846888},{"$f":"'ITCER GLOBAL'!U74","v":101.52011844217905},{"$f":"'ITCER GLOBAL'!V74","v":99.204290088222351},{"$f":"'ITCER GLOBAL'!W74","v":98.717549385589066},{"$f":"'ITCER GLOBAL'!X74","v":99.215048372437877},{"$f":"'ITCER GLOBAL'!Y74","v":100.60903610893357},{"$f":"'ITCER GLOBAL'!AA74","v":98.060467335771762},{"$f":"'ITCER GLOBAL'!AB74","v":100.40034056001024},{"$f":"'ITCER GLOBAL'!AC74","v":98.534233576265336},{"$f":"'ITCER GLOBAL'!AD74","v":98.343642006803933},{"$f":"'ITCER GLOBAL'!AE74","v":97.696815020660026},{"$f":"'ITCER GLOBAL'!AF74","v":98.447352766289598},{"$f":"'ITCER GLOBAL'!AG74","v":101.01576736622417},null,{"$f":"IF(EFECTOS!$N$9=\"COSTA RICA\",LOOKUP(1,GEfectos!$C$4:$I$4,GEfectos!C74:I74),IF(EFECTOS!$N$9=\"EL SALVADOR\",LOOKUP(2,GEfectos!$C$4:$I$4,GEfectos!C74:I74),IF(EFECTOS!$N$9=\"GUATEMALA\",LOOKUP(3,GEfectos!$C$4:$I$4,GEfectos!C74:I74),IF(EFECTOS!$N$9=\"HONDURAS\",LOOKUP(4,GEfectos!$C$4:$I$4,GEfectos!C74:I74),IF(EFECTOS!$N$9=\"NICARAGUA\",LOOKUP(5,GEfectos!$C$4:$I$4,GEfectos!C74:I74),IF(EFECTOS!$N$9=\"REPÚBLICA \nDOMINICANA\",LOOKUP(6,$C$4:$I$4,C74:I74),IF(EFECTOS!$N$9=\"PANAMÁ\",LOOKUP(7,GEfectos!$C$4:$I$4,GEfectos!C74:I74))))))))","v":100.77980319894509},{"$f":"IF(EFECTOS!$N$9=\"COSTA RICA\",LOOKUP(1,GEfectos!$J$4:$P$4,GEfectos!J74:P74),IF(EFECTOS!$N$9=\"EL SALVADOR\",LOOKUP(2,GEfectos!$J$4:$P$4,GEfectos!J74:P74),IF(EFECTOS!$N$9=\"GUATEMALA\",LOOKUP(3,GEfectos!$J$4:$P$4,GEfectos!J74:P74),IF(EFECTOS!$N$9=\"HONDURAS\",LOOKUP(4,GEfectos!$J$4:$P$4,GEfectos!J74:P74),IF(EFECTOS!$N$9=\"NICARAGUA\",LOOKUP(5,GEfectos!$J$4:$P$4,GEfectos!J74:P74),IF(EFECTOS!$N$9=\"REPÚBLICA \nDOMINICANA\",LOOKUP(6,$J$4:$P$4,J74:P74),IF(EFECTOS!$N$9=\"PANAMÁ\",LOOKUP(7,GEfectos!$J$4:$P$4,GEfectos!J74:P74))))))))","v":99.215048372437877},{"$f":"IF(EFECTOS!$N$9=\"COSTA RICA\",LOOKUP(1,GEfectos!$Q$4:$W$4,GEfectos!Q74:W74),IF(EFECTOS!$N$9=\"EL SALVADOR\",LOOKUP(2,GEfectos!$Q$4:$W$4,GEfectos!Q74:W74),IF(EFECTOS!$N$9=\"GUATEMALA\",LOOKUP(3,GEfectos!$Q$4:$W$4,GEfectos!Q74:W74),IF(EFECTOS!$N$9=\"HONDURAS\",LOOKUP(4,GEfectos!$Q$4:$W$4,GEfectos!Q74:W74),IF(EFECTOS!$N$9=\"NICARAGUA\",LOOKUP(5,GEfectos!$Q$4:$W$4,GEfectos!Q74:W74),IF(EFECTOS!$N$9=\"REPÚBLICA \nDOMINICANA\",LOOKUP(6,$Q$4:$W$4,Q74:W74),IF(EFECTOS!$N$9=\"PANAMÁ\",LOOKUP(7,GEfectos!$Q$4:$W$4,GEfectos!Q74:W74))))))))","v":98.447352766289598},100]
[null,{"$f":"'ITCER GLOBAL'!B75","v":"Octubre"},{"$f":"'ITCER GLOBAL'!C75","v":99.746681150645088},{"$f":"'ITCER GLOBAL'!D75","v":99.533558181031921},{"$f":"'ITCER GLOBAL'!E75","v":102.58324081404733},{"$f":"'ITCER GLOBAL'!F75","v":100.48478022840233},{"$f":"'ITCER GLOBAL'!G75","v":100.17878010661505},{"$f":"'ITCER GLOBAL'!H75","v":100.84828367304743},{"$f":"'ITCER GLOBAL'!I75","v":99.483793940277991},{"$f":"'ITCER GLOBAL'!S75","v":98.24522676848666},{"$f":"'ITCER GLOBAL'!T75","v":99.639573582248289},{"$f":"'ITCER GLOBAL'!U75","v":101.18914327617048},{"$f":"'ITCER GLOBAL'!V75","v":99.164604521056859},{"$f":"'ITCER GLOBAL'!W75","v":98.733419680982109},{"$f":"'ITCER GLOBAL'!X75","v":99.384220630359863},{"$f":"'ITCER GLOBAL'!Y75","v":100.04327508064767},{"$f":"'ITCER GLOBAL'!AA75","v":98.494732491509339},{"$f":"'ITCER GLOBAL'!AB75","v":100.10651221874693},{"$f":"'ITCER GLOBAL'!AC75","v":98.641008485583015},{"$f":"'ITCER GLOBAL'!AD75","v":98.686193367448581},{"$f":"'ITCER GLOBAL'!AE75","v":98.557218979813172},{"$f":"'ITCER GLOBAL'!AF75","v":98.548251899423406},{"$f":"'ITCER GLOBAL'!AG75","v":100.56238420169778},null,{"$f":"IF(EFECTOS!$N$9=\"COSTA RICA\",LOOKUP(1,GEfectos!$C$4:$I$4,GEfectos!C75:I75),IF(EFECTOS!$N$9=\"EL SALVADOR\",LOOKUP(2,GEfectos!$C$4:$I$4,GEfectos!C75:I75),IF(EFECTOS!$N$9=\"GUATEMALA\",LOOKUP(3,GEfectos!$C$4:$I$4,GEfectos!C75:I75),IF(EFECTOS!$N$9=\"HONDURAS\",LOOKUP(4,GEfectos!$C$4:$I$4,GEfectos!C75:I75),IF(EFECTOS!$N$9=\"NICARAGUA\",LOOKUP(5,GEfectos!$C$4:$I$4,GEfectos!C75:I75),IF(EFECTOS!$N$9=\"REPÚBLICA \nDOMINICANA\",LOOKUP(6,$C$4:$I$4,C75:I75),IF(EFECTOS!$N$9=\"PANAMÁ\",LOOKUP(7,GEfectos!$C$4:$I$4,GEfectos!C75:I75))))))))","v":100.84828367304743},{"$f":"IF(EFECTOS!$N$9=\"COSTA RICA\",LOOKUP(1,GEfectos!$J$4:$P$4,GEfectos!J75:P75),IF(EFECTOS!$N$9=\"EL SALVADOR\",LOOKUP(2,GEfectos!$J$4:$P$4,GEfectos!J75:P75),IF(EFECTOS!$N$9=\"GUATEMALA\",LOOKUP(3,GEfectos!$J$4:$P$4,GEfectos!J75:P75),IF(EFECTOS!$N$9=\"HONDURAS\",LOOKUP(4,GEfectos!$J$4:$P$4,GEfectos!J75:P75),IF(EFECTOS!$N$9=\"NICARAGUA\",LOOKUP(5,GEfectos!$J$4:$P$4,GEfectos!J75:P75),IF(EFECTOS!$N$9=\"REPÚBLICA \nDOMINICANA\",LOOKUP(6,$J$4:$P$4,J75:P75),IF(EFECTOS!$N$9=\"PANAMÁ\",LOOKUP(7,GEfectos!$J$4:$P$4,GEfectos!J75:P75))))))))","v":99.384220630359863},{"$f":"IF(EFECTOS!$N$9=\"COSTA RICA\",LOOKUP(1,GEfectos!$Q$4:$W$4,GEfectos!Q75:W75),IF(EFECTOS!$N$9=\"EL SALVADOR\",LOOKUP(2,GEfectos!$Q$4:$W$4,GEfectos!Q75:W75),IF(EFECTOS!$N$9=\"GUATEMALA\",LOOKUP(3,GEfectos!$Q$4:$W$4,GEfectos!Q75:W75),IF(EFECTOS!$N$9=\"HONDURAS\",LOOKUP(4,GEfectos!$Q$4:$W$4,GEfectos!Q75:W75),IF(EFECTOS!$N$9=\"NICARAGUA\",LOOKUP(5,GEfectos!$Q$4:$W$4,GEfectos!Q75:W75),IF(EFECTOS!$N$9=\"REPÚBLICA \nDOMINICANA\",LOOKUP(6,$Q$4:$W$4,Q75:W75),IF(EFECTOS!$N$9=\"PANAMÁ\",LOOKUP(7,GEfectos!$Q$4:$W$4,GEfectos!Q75:W75))))))))","v":98.548251899423406},100]
[null,{"$f":"'ITCER GLOBAL'!B76","v":"Noviembre"},{"$f":"'ITCER GLOBAL'!C76","v":99.646370206753247},{"$f":"'ITCER GLOBAL'!D76","v":99.673104187345004},{"$f":"'ITCER GLOBAL'!E76","v":101.27702805773511},{"$f":"'ITCER GLOBAL'!F76","v":99.857917208145011},{"$f":"'ITCER GLOBAL'!G76","v":99.893987260492011},{"$f":"'ITCER GLOBAL'!H76","v":100.65375458620841},{"$f":"'ITCER GLOBAL'!I76","v":99.796322695946316},{"$f":"'ITCER GLOBAL'!S76","v":98.751124590254477},{"$f":"'ITCER GLOBAL'!T76","v":99.647118965860315},{"$f":"'ITCER GLOBAL'!U76","v":100.38015942406315},{"$f":"'ITCER GLOBAL'!V76","v":99.479026251789421},{"$f":"'ITCER GLOBAL'!W76","v":99.179190560819066},{"$f":"'ITCER GLOBAL'!X76","v":99.583606748301378},{"$f":"'ITCER GLOBAL'!Y76","v":99.935315885967242},{"$f":"'ITCER GLOBAL'!AA76","v":99.10157729314048},{"$f":"'ITCER GLOBAL'!AB76","v":99.973929555323309},{"$f":"'ITCER GLOBAL'!AC76","v":99.114440213272573},{"$f":"'ITCER GLOBAL'!AD76","v":99.620569938820353},{"$f":"'ITCER GLOBAL'!AE76","v":99.284444720572623},{"$f":"'ITCER GLOBAL'!AF76","v":98.936802862142144},{"$f":"'ITCER GLOBAL'!AG76","v":100.13927686538551},null,{"$f":"IF(EFECTOS!$N$9=\"COSTA RICA\",LOOKUP(1,GEfectos!$C$4:$I$4,GEfectos!C76:I76),IF(EFECTOS!$N$9=\"EL SALVADOR\",LOOKUP(2,GEfectos!$C$4:$I$4,GEfectos!C76:I76),IF(EFECTOS!$N$9=\"GUATEMALA\",LOOKUP(3,GEfectos!$C$4:$I$4,GEfectos!C76:I76),IF(EFECTOS!$N$9=\"HONDURAS\",LOOKUP(4,GEfectos!$C$4:$I$4,GEfectos!C76:I76),IF(EFECTOS!$N$9=\"NICARAGUA\",LOOKUP(5,GEfectos!$C$4:$I$4,GEfectos!C76:I76),IF(EFECTOS!$N$9=\"REPÚBLICA \nDOMINICANA\",LOOKUP(6,$C$4:$I$4,C76:I76),IF(EFECTOS!$N$9=\"PANAMÁ\",LOOKUP(7,GEfectos!$C$4:$I$4,GEfectos!C76:I76))))))))","v":100.65375458620841},{"$f":"IF(EFECTOS!$N$9=\"COSTA RICA\",LOOKUP(1,GEfectos!$J$4:$P$4,GEfectos!J76:P76),IF(EFECTOS!$N$9=\"EL SALVADOR\",LOOKUP(2,GEfectos!$J$4:$P$4,GEfectos!J76:P76),IF(EFECTOS!$N$9=\"GUATEMALA\",LOOKUP(3,GEfectos!$J$4:$P$4,GEfectos!J76:P76),IF(EFECTOS!$N$9=\"HONDURAS\",LOOKUP(4,GEfectos!$J$4:$P$4,GEfectos!J76:P76),IF(EFECTOS!$N$9=\"NICARAGUA\",LOOKUP(5,GEfectos!$J$4:$P$4,GEfectos!J76:P76),IF(EFECTOS!$N$9=\"REPÚBLICA \nDOMINICANA\",LOOKUP(6,$J$4:$P$4,J76:P76),IF(EFECTOS!$N$9=\"PANAMÁ\",LOOKUP(7,GEfectos!$J$4:$P$4,GEfectos!J76:P76))))))))","v":99.583606748301378},{"$f":"IF(EFECTOS!$N$9=\"COSTA RICA\",LOOKUP(1,GEfectos!$Q$4:$W$4,GEfectos!Q76:W76),IF(EFECTOS!$N$9=\"EL SALVADOR\",LOOKUP(2,GEfectos!$Q$4:$W$4,GEfectos!Q76:W76),IF(EFECTOS!$N$9=\"GUATEMALA\",LOOKUP(3,GEfectos!$Q$4:$W$4,GEfectos!Q76:W76),IF(EFECTOS!$N$9=\"HONDURAS\",LOOKUP(4,GEfectos!$Q$4:$W$4,GEfectos!Q76:W76),IF(EFECTOS!$N$9=\"NICARAGUA\",LOOKUP(5,GEfectos!$Q$4:$W$4,GEfectos!Q76:W76),IF(EFECTOS!$N$9=\"REPÚBLICA \nDOMINICANA\",LOOKUP(6,$Q$4:$W$4,Q76:W76),IF(EFECTOS!$N$9=\"PANAMÁ\",LOOKUP(7,GEfectos!$Q$4:$W$4,GEfectos!Q76:W76))))))))","v":98.936802862142144},100]
[null,{"$f":"'ITCER GLOBAL'!B77","v":"Diciembre"},{"$f":"'ITCER GLOBAL'!C77","v":100},{"$f":"'ITCER GLOBAL'!D77","v":100},{"$f":"'ITCER GLOBAL'!E77","v":100},{"$f":"'ITCER GLOBAL'!F77","v":100},{"$f":"'ITCER GLOBAL'!G77","v":100},{"$f":"'ITCER GLOBAL'!H77","v":100},{"$f":"'ITCER GLOBAL'!I77","v":100},{"$f":"'ITCER GLOBAL'!S77","v":100},{"$f":"'ITCER GLOBAL'!T77","v":100},{"$f":"'ITCER GLOBAL'!U77","v":100},{"$f":"'ITCER GLOBAL'!V77","v":100},{"$f":"'ITCER GLOBAL'!W77","v":100},{"$f":"'ITCER GLOBAL'!X77","v":100},{"$f":"'ITCER GLOBAL'!Y77","v":100},{"$f":"'ITCER GLOBAL'!AA77","v":100},{"$f":"'ITCER GLOBAL'!AB77","v":100},{"$f":"'ITCER GLOBAL'!AC77","v":100},{"$f":"'ITCER GLOBAL'!AD77","v":100},{"$f":"'ITCER GLOBAL'!AE77","v":100},{"$f":"'ITCER GLOBAL'!AF77","v":100},{"$f":"'ITCER GLOBAL'!AG77","v":100},null,{"$f":"IF(EFECTOS!$N$9=\"COSTA RICA\",LOOKUP(1,GEfectos!$C$4:$I$4,GEfectos!C77:I77),IF(EFECTOS!$N$9=\"EL SALVADOR\",LOOKUP(2,GEfectos!$C$4:$I$4,GEfectos!C77:I77),IF(EFECTOS!$N$9=\"GUATEMALA\",LOOKUP(3,GEfectos!$C$4:$I$4,GEfectos!C77:I77),IF(EFECTOS!$N$9=\"HONDURAS\",LOOKUP(4,GEfectos!$C$4:$I$4,GEfectos!C77:I77),IF(EFECTOS!$N$9=\"NICARAGUA\",LOOKUP(5,GEfectos!$C$4:$I$4,GEfectos!C77:I77),IF(EFECTOS!$N$9=\"REPÚBLICA \nDOMINICANA\",LOOKUP(6,$C$4:$I$4,C77:I77),IF(EFECTOS!$N$9=\"PANAMÁ\",LOOKUP(7,GEfectos!$C$4:$I$4,GEfectos!C77:I77))))))))","v":100},{"$f":"IF(EFECTOS!$N$9=\"COSTA RICA\",LOOKUP(1,GEfectos!$J$4:$P$4,GEfectos!J77:P77),IF(EFECTOS!$N$9=\"EL SALVADOR\",LOOKUP(2,GEfectos!$J$4:$P$4,GEfectos!J77:P77),IF(EFECTOS!$N$9=\"GUATEMALA\",LOOKUP(3,GEfectos!$J$4:$P$4,GEfectos!J77:P77),IF(EFECTOS!$N$9=\"HONDURAS\",LOOKUP(4,GEfectos!$J$4:$P$4,GEfectos!J77:P77),IF(EFECTOS!$N$9=\"NICARAGUA\",LOOKUP(5,GEfectos!$J$4:$P$4,GEfectos!J77:P77),IF(EFECTOS!$N$9=\"REPÚBLICA \nDOMINICANA\",LOOKUP(6,$J$4:$P$4,J77:P77),IF(EFECTOS!$N$9=\"PANAMÁ\",LOOKUP(7,GEfectos!$J$4:$P$4,GEfectos!J77:P77))))))))","v":100},{"$f":"IF(EFECTOS!$N$9=\"COSTA RICA\",LOOKUP(1,GEfectos!$Q$4:$W$4,GEfectos!Q77:W77),IF(EFECTOS!$N$9=\"EL SALVADOR\",LOOKUP(2,GEfectos!$Q$4:$W$4,GEfectos!Q77:W77),IF(EFECTOS!$N$9=\"GUATEMALA\",LOOKUP(3,GEfectos!$Q$4:$W$4,GEfectos!Q77:W77),IF(EFECTOS!$N$9=\"HONDURAS\",LOOKUP(4,GEfectos!$Q$4:$W$4,GEfectos!Q77:W77),IF(EFECTOS!$N$9=\"NICARAGUA\",LOOKUP(5,GEfectos!$Q$4:$W$4,GEfectos!Q77:W77),IF(EFECTOS!$N$9=\"REPÚBLICA \nDOMINICANA\",LOOKUP(6,$Q$4:$W$4,Q77:W77),IF(EFECTOS!$N$9=\"PANAMÁ\",LOOKUP(7,GEfectos!$Q$4:$W$4,GEfectos!Q77:W77))))))))","v":100},100]
[2001,{"$f":"'ITCER GLOBAL'!B78","v":"Enero"},{"$f":"'ITCER GLOBAL'!C78","v":99.885096221486833},{"$f":"'ITCER GLOBAL'!D78","v":99.168604070722054},{"$f":"'ITCER GLOBAL'!E78","v":99.95156024408027},{"$f":"'ITCER GLOBAL'!F78","v":99.698715590523094},{"$f":"'ITCER GLOBAL'!G78","v":100.34457634734177},{"$f":"'ITCER GLOBAL'!H78","v":101.6136292335957},{"$f":"'ITCER GLOBAL'!I78","v":100.26663597945412},{"$f":"'ITCER GLOBAL'!S78","v":100.7747359592172},{"$f":"'ITCER GLOBAL'!T78","v":100.28157277163116},{"$f":"'ITCER GLOBAL'!U78","v":100.66338991740002},{"$f":"'ITCER GLOBAL'!V78","v":99.930264437388189},{"$f":"'ITCER GLOBAL'!W78","v":100.37296878234849},{"$f":"'ITCER GLOBAL'!X78","v":100.55787636893929},{"$f":"'ITCER GLOBAL'!Y78","v":99.694435041325931},{"$f":"'ITCER GLOBAL'!AA78","v":100.8906631433359},{"$f":"'ITCER GLOBAL'!AB78","v":101.12229945287461},{"$f":"'ITCER GLOBAL'!AC78","v":100.71217464898143},{"$f":"'ITCER GLOBAL'!AD78","v":100.23224857561466},{"$f":"'ITCER GLOBAL'!AE78","v":100.02829493734515},{"$f":"'ITCER GLOBAL'!AF78","v":98.961012540719935},{"$f":"'ITCER GLOBAL'!AG78","v":99.429320698217666},null,{"$f":"IF(EFECTOS!$N$9=\"COSTA RICA\",LOOKUP(1,GEfectos!$C$4:$I$4,GEfectos!C78:I78),IF(EFECTOS!$N$9=\"EL SALVADOR\",LOOKUP(2,GEfectos!$C$4:$I$4,GEfectos!C78:I78),IF(EFECTOS!$N$9=\"GUATEMALA\",LOOKUP(3,GEfectos!$C$4:$I$4,GEfectos!C78:I78),IF(EFECTOS!$N$9=\"HONDURAS\",LOOKUP(4,GEfectos!$C$4:$I$4,GEfectos!C78:I78),IF(EFECTOS!$N$9=\"NICARAGUA\",LOOKUP(5,GEfectos!$C$4:$I$4,GEfectos!C78:I78),IF(EFECTOS!$N$9=\"REPÚBLICA \nDOMINICANA\",LOOKUP(6,$C$4:$I$4,C78:I78),IF(EFECTOS!$N$9=\"PANAMÁ\",LOOKUP(7,GEfectos!$C$4:$I$4,GEfectos!C78:I78))))))))","v":101.6136292335957},{"$f":"IF(EFECTOS!$N$9=\"COSTA RICA\",LOOKUP(1,GEfectos!$J$4:$P$4,GEfectos!J78:P78),IF(EFECTOS!$N$9=\"EL SALVADOR\",LOOKUP(2,GEfectos!$J$4:$P$4,GEfectos!J78:P78),IF(EFECTOS!$N$9=\"GUATEMALA\",LOOKUP(3,GEfectos!$J$4:$P$4,GEfectos!J78:P78),IF(EFECTOS!$N$9=\"HONDURAS\",LOOKUP(4,GEfectos!$J$4:$P$4,GEfectos!J78:P78),IF(EFECTOS!$N$9=\"NICARAGUA\",LOOKUP(5,GEfectos!$J$4:$P$4,GEfectos!J78:P78),IF(EFECTOS!$N$9=\"REPÚBLICA \nDOMINICANA\",LOOKUP(6,$J$4:$P$4,J78:P78),IF(EFECTOS!$N$9=\"PANAMÁ\",LOOKUP(7,GEfectos!$J$4:$P$4,GEfectos!J78:P78))))))))","v":100.55787636893929},{"$f":"IF(EFECTOS!$N$9=\"COSTA RICA\",LOOKUP(1,GEfectos!$Q$4:$W$4,GEfectos!Q78:W78),IF(EFECTOS!$N$9=\"EL SALVADOR\",LOOKUP(2,GEfectos!$Q$4:$W$4,GEfectos!Q78:W78),IF(EFECTOS!$N$9=\"GUATEMALA\",LOOKUP(3,GEfectos!$Q$4:$W$4,GEfectos!Q78:W78),IF(EFECTOS!$N$9=\"HONDURAS\",LOOKUP(4,GEfectos!$Q$4:$W$4,GEfectos!Q78:W78),IF(EFECTOS!$N$9=\"NICARAGUA\",LOOKUP(5,GEfectos!$Q$4:$W$4,GEfectos!Q78:W78),IF(EFECTOS!$N$9=\"REPÚBLICA \nDOMINICANA\",LOOKUP(6,$Q$4:$W$4,Q78:W78),IF(EFECTOS!$N$9=\"PANAMÁ\",LOOKUP(7,GEfectos!$Q$4:$W$4,GEfectos!Q78:W78))))))))","v":98.961012540719935},100]
[null,{"$f":"'ITCER GLOBAL'!B79","v":"Febrero"},{"$f":"'ITCER GLOBAL'!C79","v":99.337312719409994},{"$f":"'ITCER GLOBAL'!D79","v":99.801036598885858},{"$f":"'ITCER GLOBAL'!E79","v":98.595151534947377},{"$f":"'ITCER GLOBAL'!F79","v":99.102956164270083},{"$f":"'ITCER GLOBAL'!G79","v":99.861618082250828},{"$f":"'ITCER GLOBAL'!H79","v":101.99321646001914},{"$f":"'ITCER GLOBAL'!I79","v":100.53221356003884},{"$f":"'ITCER GLOBAL'!S79","v":100.99742911155238},{"$f":"'ITCER GLOBAL'!T79","v":100.23023846917647},{"$f":"'ITCER GLOBAL'!U79","v":99.679762608100376},{"$f":"'ITCER GLOBAL'!V79","v":100.22650861733489},{"$f":"'ITCER GLOBAL'!W79","v":100.68731206134176},{"$f":"'ITCER GLOBAL'!X79","v":100.6951189040615},{"$f":"'ITCER GLOBAL'!Y79","v":99.529336312907446},{"$f":"'ITCER GLOBAL'!AA79","v":101.67119116341669},{"$f":"'ITCER GLOBAL'!AB79","v":100.43005752737383},{"$f":"'ITCER GLOBAL'!AC79","v":101.10006532397139},{"$f":"'ITCER GLOBAL'!AD79","v":101.13372244033008},{"$f":"'ITCER GLOBAL'!AE79","v":100.82683817361226},{"$f":"'ITCER GLOBAL'!AF79","v":98.72727069405984},{"$f":"'ITCER GLOBAL'!AG79","v":99.002431945326208},null,{"$f":"IF(EFECTOS!$N$9=\"COSTA RICA\",LOOKUP(1,GEfectos!$C$4:$I$4,GEfectos!C79:I79),IF(EFECTOS!$N$9=\"EL SALVADOR\",LOOKUP(2,GEfectos!$C$4:$I$4,GEfectos!C79:I79),IF(EFECTOS!$N$9=\"GUATEMALA\",LOOKUP(3,GEfectos!$C$4:$I$4,GEfectos!C79:I79),IF(EFECTOS!$N$9=\"HONDURAS\",LOOKUP(4,GEfectos!$C$4:$I$4,GEfectos!C79:I79),IF(EFECTOS!$N$9=\"NICARAGUA\",LOOKUP(5,GEfectos!$C$4:$I$4,GEfectos!C79:I79),IF(EFECTOS!$N$9=\"REPÚBLICA \nDOMINICANA\",LOOKUP(6,$C$4:$I$4,C79:I79),IF(EFECTOS!$N$9=\"PANAMÁ\",LOOKUP(7,GEfectos!$C$4:$I$4,GEfectos!C79:I79))))))))","v":101.99321646001914},{"$f":"IF(EFECTOS!$N$9=\"COSTA RICA\",LOOKUP(1,GEfectos!$J$4:$P$4,GEfectos!J79:P79),IF(EFECTOS!$N$9=\"EL SALVADOR\",LOOKUP(2,GEfectos!$J$4:$P$4,GEfectos!J79:P79),IF(EFECTOS!$N$9=\"GUATEMALA\",LOOKUP(3,GEfectos!$J$4:$P$4,GEfectos!J79:P79),IF(EFECTOS!$N$9=\"HONDURAS\",LOOKUP(4,GEfectos!$J$4:$P$4,GEfectos!J79:P79),IF(EFECTOS!$N$9=\"NICARAGUA\",LOOKUP(5,GEfectos!$J$4:$P$4,GEfectos!J79:P79),IF(EFECTOS!$N$9=\"REPÚBLICA \nDOMINICANA\",LOOKUP(6,$J$4:$P$4,J79:P79),IF(EFECTOS!$N$9=\"PANAMÁ\",LOOKUP(7,GEfectos!$J$4:$P$4,GEfectos!J79:P79))))))))","v":100.6951189040615},{"$f":"IF(EFECTOS!$N$9=\"COSTA RICA\",LOOKUP(1,GEfectos!$Q$4:$W$4,GEfectos!Q79:W79),IF(EFECTOS!$N$9=\"EL SALVADOR\",LOOKUP(2,GEfectos!$Q$4:$W$4,GEfectos!Q79:W79),IF(EFECTOS!$N$9=\"GUATEMALA\",LOOKUP(3,GEfectos!$Q$4:$W$4,GEfectos!Q79:W79),IF(EFECTOS!$N$9=\"HONDURAS\",LOOKUP(4,GEfectos!$Q$4:$W$4,GEfectos!Q79:W79),IF(EFECTOS!$N$9=\"NICARAGUA\",LOOKUP(5,GEfectos!$Q$4:$W$4,GEfectos!Q79:W79),IF(EFECTOS!$N$9=\"REPÚBLICA \nDOMINICANA\",LOOKUP(6,$Q$4:$W$4,Q79:W79),IF(EFECTOS!$N$9=\"PANAMÁ\",LOOKUP(7,GEfectos!$Q$4:$W$4,GEfectos!Q79:W79))))))))","v":98.72727069405984},100]
[null,{"$f":"'ITCER GLOBAL'!B80","v":"Marzo"},{"$f":"'ITCER GLOBAL'!C80","v":98.038481957079384},{"$f":"'ITCER GLOBAL'!D80","v":99.766185632518301},{"$f":"'ITCER GLOBAL'!E80","v":97.551010977792316},{"$f":"'ITCER GLOBAL'!F80","v":98.517318289853691},{"$f":"'ITCER GLOBAL'!G80","v":100.35751910181493},{"$f":"'ITCER GLOBAL'!H80","v":102.41607135081709},{"$f":"'ITCER GLOBAL'!I80","v":100.01922115720267},{"$f":"'ITCER GLOBAL'!S80","v":101.06147345375875},{"$f":"'ITCER GLOBAL'!T80","v":99.992647923129681},{"$f":"'ITCER GLOBAL'!U80","v":98.784839817963629},{"$f":"'ITCER GLOBAL'!V80","v":100.2309237362762},{"$f":"'ITCER GLOBAL'!W80","v":100.73622808224268},{"$f":"'ITCER GLOBAL'!X80","v":100.42039138868491},{"$f":"'ITCER GLOBAL'!Y80","v":98.801092807284931},{"$f":"'ITCER GLOBAL'!AA80","v":103.08347440345193},{"$f":"'ITCER GLOBAL'!AB80","v":100.22699303293557},{"$f":"'ITCER GLOBAL'!AC80","v":101.26480374503981},{"$f":"'ITCER GLOBAL'!AD80","v":101.73939514003092},{"$f":"'ITCER GLOBAL'!AE80","v":100.37735984689252},{"$f":"'ITCER GLOBAL'!AF80","v":98.051399613546806},{"$f":"'ITCER GLOBAL'!AG80","v":98.782105743451879},null,{"$f":"IF(EFECTOS!$N$9=\"COSTA RICA\",LOOKUP(1,GEfectos!$C$4:$I$4,GEfectos!C80:I80),IF(EFECTOS!$N$9=\"EL SALVADOR\",LOOKUP(2,GEfectos!$C$4:$I$4,GEfectos!C80:I80),IF(EFECTOS!$N$9=\"GUATEMALA\",LOOKUP(3,GEfectos!$C$4:$I$4,GEfectos!C80:I80),IF(EFECTOS!$N$9=\"HONDURAS\",LOOKUP(4,GEfectos!$C$4:$I$4,GEfectos!C80:I80),IF(EFECTOS!$N$9=\"NICARAGUA\",LOOKUP(5,GEfectos!$C$4:$I$4,GEfectos!C80:I80),IF(EFECTOS!$N$9=\"REPÚBLICA \nDOMINICANA\",LOOKUP(6,$C$4:$I$4,C80:I80),IF(EFECTOS!$N$9=\"PANAMÁ\",LOOKUP(7,GEfectos!$C$4:$I$4,GEfectos!C80:I80))))))))","v":102.41607135081709},{"$f":"IF(EFECTOS!$N$9=\"COSTA RICA\",LOOKUP(1,GEfectos!$J$4:$P$4,GEfectos!J80:P80),IF(EFECTOS!$N$9=\"EL SALVADOR\",LOOKUP(2,GEfectos!$J$4:$P$4,GEfectos!J80:P80),IF(EFECTOS!$N$9=\"GUATEMALA\",LOOKUP(3,GEfectos!$J$4:$P$4,GEfectos!J80:P80),IF(EFECTOS!$N$9=\"HONDURAS\",LOOKUP(4,GEfectos!$J$4:$P$4,GEfectos!J80:P80),IF(EFECTOS!$N$9=\"NICARAGUA\",LOOKUP(5,GEfectos!$J$4:$P$4,GEfectos!J80:P80),IF(EFECTOS!$N$9=\"REPÚBLICA \nDOMINICANA\",LOOKUP(6,$J$4:$P$4,J80:P80),IF(EFECTOS!$N$9=\"PANAMÁ\",LOOKUP(7,GEfectos!$J$4:$P$4,GEfectos!J80:P80))))))))","v":100.42039138868491},{"$f":"IF(EFECTOS!$N$9=\"COSTA RICA\",LOOKUP(1,GEfectos!$Q$4:$W$4,GEfectos!Q80:W80),IF(EFECTOS!$N$9=\"EL SALVADOR\",LOOKUP(2,GEfectos!$Q$4:$W$4,GEfectos!Q80:W80),IF(EFECTOS!$N$9=\"GUATEMALA\",LOOKUP(3,GEfectos!$Q$4:$W$4,GEfectos!Q80:W80),IF(EFECTOS!$N$9=\"HONDURAS\",LOOKUP(4,GEfectos!$Q$4:$W$4,GEfectos!Q80:W80),IF(EFECTOS!$N$9=\"NICARAGUA\",LOOKUP(5,GEfectos!$Q$4:$W$4,GEfectos!Q80:W80),IF(EFECTOS!$N$9=\"REPÚBLICA \nDOMINICANA\",LOOKUP(6,$Q$4:$W$4,Q80:W80),IF(EFECTOS!$N$9=\"PANAMÁ\",LOOKUP(7,GEfectos!$Q$4:$W$4,GEfectos!Q80:W80))))))))","v":98.051399613546806},100]
[null,{"$f":"'ITCER GLOBAL'!B81","v":"Abril"},{"$f":"'ITCER GLOBAL'!C81","v":97.416717854443519},{"$f":"'ITCER GLOBAL'!D81","v":99.888489975653968},{"$f":"'ITCER GLOBAL'!E81","v":98.008445892161063},{"$f":"'ITCER GLOBAL'!F81","v":98.522488585819275},{"$f":"'ITCER GLOBAL'!G81","v":100.3921561431716},{"$f":"'ITCER GLOBAL'!H81","v":102.06006681266727},{"$f":"'ITCER GLOBAL'!I81","v":99.890282959741484},{"$f":"'ITCER GLOBAL'!S81","v":101.22695153583614},{"$f":"'ITCER GLOBAL'!T81","v":99.771108940344689},{"$f":"'ITCER GLOBAL'!U81","v":99.234309971927388},{"$f":"'ITCER GLOBAL'!V81","v":100.43900354470701},{"$f":"'ITCER GLOBAL'!W81","v":100.96927252057036},{"$f":"'ITCER GLOBAL'!X81","v":100.27634126732615},{"$f":"'ITCER GLOBAL'!Y81","v":98.358260618184346},{"$f":"'ITCER GLOBAL'!AA81","v":103.91127289577311},{"$f":"'ITCER GLOBAL'!AB81","v":99.882487926949452},{"$f":"'ITCER GLOBAL'!AC81","v":101.2507739191326},{"$f":"'ITCER GLOBAL'!AD81","v":101.94525634339651},{"$f":"'ITCER GLOBAL'!AE81","v":100.57486202066994},{"$f":"'ITCER GLOBAL'!AF81","v":98.252278681518817},{"$f":"'ITCER GLOBAL'!AG81","v":98.466294922625679},null,{"$f":"IF(EFECTOS!$N$9=\"COSTA RICA\",LOOKUP(1,GEfectos!$C$4:$I$4,GEfectos!C81:I81),IF(EFECTOS!$N$9=\"EL SALVADOR\",LOOKUP(2,GEfectos!$C$4:$I$4,GEfectos!C81:I81),IF(EFECTOS!$N$9=\"GUATEMALA\",LOOKUP(3,GEfectos!$C$4:$I$4,GEfectos!C81:I81),IF(EFECTOS!$N$9=\"HONDURAS\",LOOKUP(4,GEfectos!$C$4:$I$4,GEfectos!C81:I81),IF(EFECTOS!$N$9=\"NICARAGUA\",LOOKUP(5,GEfectos!$C$4:$I$4,GEfectos!C81:I81),IF(EFECTOS!$N$9=\"REPÚBLICA \nDOMINICANA\",LOOKUP(6,$C$4:$I$4,C81:I81),IF(EFECTOS!$N$9=\"PANAMÁ\",LOOKUP(7,GEfectos!$C$4:$I$4,GEfectos!C81:I81))))))))","v":102.06006681266727},{"$f":"IF(EFECTOS!$N$9=\"COSTA RICA\",LOOKUP(1,GEfectos!$J$4:$P$4,GEfectos!J81:P81),IF(EFECTOS!$N$9=\"EL SALVADOR\",LOOKUP(2,GEfectos!$J$4:$P$4,GEfectos!J81:P81),IF(EFECTOS!$N$9=\"GUATEMALA\",LOOKUP(3,GEfectos!$J$4:$P$4,GEfectos!J81:P81),IF(EFECTOS!$N$9=\"HONDURAS\",LOOKUP(4,GEfectos!$J$4:$P$4,GEfectos!J81:P81),IF(EFECTOS!$N$9=\"NICARAGUA\",LOOKUP(5,GEfectos!$J$4:$P$4,GEfectos!J81:P81),IF(EFECTOS!$N$9=\"REPÚBLICA \nDOMINICANA\",LOOKUP(6,$J$4:$P$4,J81:P81),IF(EFECTOS!$N$9=\"PANAMÁ\",LOOKUP(7,GEfectos!$J$4:$P$4,GEfectos!J81:P81))))))))","v":100.27634126732615},{"$f":"IF(EFECTOS!$N$9=\"COSTA RICA\",LOOKUP(1,GEfectos!$Q$4:$W$4,GEfectos!Q81:W81),IF(EFECTOS!$N$9=\"EL SALVADOR\",LOOKUP(2,GEfectos!$Q$4:$W$4,GEfectos!Q81:W81),IF(EFECTOS!$N$9=\"GUATEMALA\",LOOKUP(3,GEfectos!$Q$4:$W$4,GEfectos!Q81:W81),IF(EFECTOS!$N$9=\"HONDURAS\",LOOKUP(4,GEfectos!$Q$4:$W$4,GEfectos!Q81:W81),IF(EFECTOS!$N$9=\"NICARAGUA\",LOOKUP(5,GEfectos!$Q$4:$W$4,GEfectos!Q81:W81),IF(EFECTOS!$N$9=\"REPÚBLICA \nDOMINICANA\",LOOKUP(6,$Q$4:$W$4,Q81:W81),IF(EFECTOS!$N$9=\"PANAMÁ\",LOOKUP(7,GEfectos!$Q$4:$W$4,GEfectos!Q81:W81))))))))","v":98.252278681518817},100]
[null,{"$f":"'ITCER GLOBAL'!B82","v":"Mayo"},{"$f":"'ITCER GLOBAL'!C82","v":97.335867423702922},{"$f":"'ITCER GLOBAL'!D82","v":100.0472463379495},{"$f":"'ITCER GLOBAL'!E82","v":98.39615311471664},{"$f":"'ITCER GLOBAL'!F82","v":98.048246556499478},{"$f":"'ITCER GLOBAL'!G82","v":100.49602052711508},{"$f":"'ITCER GLOBAL'!H82","v":102.15236848461258},{"$f":"'ITCER GLOBAL'!I82","v":100.10533423089161},{"$f":"'ITCER GLOBAL'!S82","v":101.415836957606},{"$f":"'ITCER GLOBAL'!T82","v":99.638523458930109},{"$f":"'ITCER GLOBAL'!U82","v":99.537635531301717},{"$f":"'ITCER GLOBAL'!V82","v":100.7932259424788},{"$f":"'ITCER GLOBAL'!W82","v":101.39774764857175},{"$f":"'ITCER GLOBAL'!X82","v":100.21212762884997},{"$f":"'ITCER GLOBAL'!Y82","v":98.277439202958476},{"$f":"'ITCER GLOBAL'!AA82","v":104.19164039104206},{"$f":"'ITCER GLOBAL'!AB82","v":99.591470136380593},{"$f":"'ITCER GLOBAL'!AC82","v":101.16008845920454},{"$f":"'ITCER GLOBAL'!AD82","v":102.79962108694882},{"$f":"'ITCER GLOBAL'!AE82","v":100.89727644609906},{"$f":"'ITCER GLOBAL'!AF82","v":98.100640362484711},{"$f":"'ITCER GLOBAL'!AG82","v":98.174028345265683},null,{"$f":"IF(EFECTOS!$N$9=\"COSTA RICA\",LOOKUP(1,GEfectos!$C$4:$I$4,GEfectos!C82:I82),IF(EFECTOS!$N$9=\"EL SALVADOR\",LOOKUP(2,GEfectos!$C$4:$I$4,GEfectos!C82:I82),IF(EFECTOS!$N$9=\"GUATEMALA\",LOOKUP(3,GEfectos!$C$4:$I$4,GEfectos!C82:I82),IF(EFECTOS!$N$9=\"HONDURAS\",LOOKUP(4,GEfectos!$C$4:$I$4,GEfectos!C82:I82),IF(EFECTOS!$N$9=\"NICARAGUA\",LOOKUP(5,GEfectos!$C$4:$I$4,GEfectos!C82:I82),IF(EFECTOS!$N$9=\"REPÚBLICA \nDOMINICANA\",LOOKUP(6,$C$4:$I$4,C82:I82),IF(EFECTOS!$N$9=\"PANAMÁ\",LOOKUP(7,GEfectos!$C$4:$I$4,GEfectos!C82:I82))))))))","v":102.15236848461258},{"$f":"IF(EFECTOS!$N$9=\"COSTA RICA\",LOOKUP(1,GEfectos!$J$4:$P$4,GEfectos!J82:P82),IF(EFECTOS!$N$9=\"EL SALVADOR\",LOOKUP(2,GEfectos!$J$4:$P$4,GEfectos!J82:P82),IF(EFECTOS!$N$9=\"GUATEMALA\",LOOKUP(3,GEfectos!$J$4:$P$4,GEfectos!J82:P82),IF(EFECTOS!$N$9=\"HONDURAS\",LOOKUP(4,GEfectos!$J$4:$P$4,GEfectos!J82:P82),IF(EFECTOS!$N$9=\"NICARAGUA\",LOOKUP(5,GEfectos!$J$4:$P$4,GEfectos!J82:P82),IF(EFECTOS!$N$9=\"REPÚBLICA \nDOMINICANA\",LOOKUP(6,$J$4:$P$4,J82:P82),IF(EFECTOS!$N$9=\"PANAMÁ\",LOOKUP(7,GEfectos!$J$4:$P$4,GEfectos!J82:P82))))))))","v":100.21212762884997},{"$f":"IF(EFECTOS!$N$9=\"COSTA RICA\",LOOKUP(1,GEfectos!$Q$4:$W$4,GEfectos!Q82:W82),IF(EFECTOS!$N$9=\"EL SALVADOR\",LOOKUP(2,GEfectos!$Q$4:$W$4,GEfectos!Q82:W82),IF(EFECTOS!$N$9=\"GUATEMALA\",LOOKUP(3,GEfectos!$Q$4:$W$4,GEfectos!Q82:W82),IF(EFECTOS!$N$9=\"HONDURAS\",LOOKUP(4,GEfectos!$Q$4:$W$4,GEfectos!Q82:W82),IF(EFECTOS!$N$9=\"NICARAGUA\",LOOKUP(5,GEfectos!$Q$4:$W$4,GEfectos!Q82:W82),IF(EFECTOS!$N$9=\"REPÚBLICA \nDOMINICANA\",LOOKUP(6,$Q$4:$W$4,Q82:W82),IF(EFECTOS!$N$9=\"PANAMÁ\",LOOKUP(7,GEfectos!$Q$4:$W$4,GEfectos!Q82:W82))))))))","v":98.100640362484711},100]
[null,{"$f":"'ITCER GLOBAL'!B83","v":"Junio"},{"$f":"'ITCER GLOBAL'!C83","v":97.401298236372853},{"$f":"'ITCER GLOBAL'!D83","v":99.918675687361329},{"$f":"'ITCER GLOBAL'!E83","v":98.027570240420573},{"$f":"'ITCER GLOBAL'!F83","v":97.85247041917485},{"$f":"'ITCER GLOBAL'!G83","v":100.1991318926902},{"$f":"'ITCER GLOBAL'!H83","v":102.72885023289224},{"$f":"'ITCER GLOBAL'!I83","v":100.74647162253027},{"$f":"'ITCER GLOBAL'!S83","v":101.61343659460633},{"$f":"'ITCER GLOBAL'!T83","v":99.411617823861832},{"$f":"'ITCER GLOBAL'!U83","v":99.766403965037441},{"$f":"'ITCER GLOBAL'!V83","v":101.0526701679989},{"$f":"'ITCER GLOBAL'!W83","v":101.58251385410671},{"$f":"'ITCER GLOBAL'!X83","v":100.08198348292059},{"$f":"'ITCER GLOBAL'!Y83","v":98.101481451799813},{"$f":"'ITCER GLOBAL'!AA83","v":104.32451972869139},{"$f":"'ITCER GLOBAL'!AB83","v":99.492529439555383},{"$f":"'ITCER GLOBAL'!AC83","v":101.77382109987245},{"$f":"'ITCER GLOBAL'!AD83","v":103.2704332707342},{"$f":"'ITCER GLOBAL'!AE83","v":101.38063268142687},{"$f":"'ITCER GLOBAL'!AF83","v":97.423443614942585},{"$f":"'ITCER GLOBAL'!AG83","v":97.374607638230231},null,{"$f":"IF(EFECTOS!$N$9=\"COSTA RICA\",LOOKUP(1,GEfectos!$C$4:$I$4,GEfectos!C83:I83),IF(EFECTOS!$N$9=\"EL SALVADOR\",LOOKUP(2,GEfectos!$C$4:$I$4,GEfectos!C83:I83),IF(EFECTOS!$N$9=\"GUATEMALA\",LOOKUP(3,GEfectos!$C$4:$I$4,GEfectos!C83:I83),IF(EFECTOS!$N$9=\"HONDURAS\",LOOKUP(4,GEfectos!$C$4:$I$4,GEfectos!C83:I83),IF(EFECTOS!$N$9=\"NICARAGUA\",LOOKUP(5,GEfectos!$C$4:$I$4,GEfectos!C83:I83),IF(EFECTOS!$N$9=\"REPÚBLICA \nDOMINICANA\",LOOKUP(6,$C$4:$I$4,C83:I83),IF(EFECTOS!$N$9=\"PANAMÁ\",LOOKUP(7,GEfectos!$C$4:$I$4,GEfectos!C83:I83))))))))","v":102.72885023289224},{"$f":"IF(EFECTOS!$N$9=\"COSTA RICA\",LOOKUP(1,GEfectos!$J$4:$P$4,GEfectos!J83:P83),IF(EFECTOS!$N$9=\"EL SALVADOR\",LOOKUP(2,GEfectos!$J$4:$P$4,GEfectos!J83:P83),IF(EFECTOS!$N$9=\"GUATEMALA\",LOOKUP(3,GEfectos!$J$4:$P$4,GEfectos!J83:P83),IF(EFECTOS!$N$9=\"HONDURAS\",LOOKUP(4,GEfectos!$J$4:$P$4,GEfectos!J83:P83),IF(EFECTOS!$N$9=\"NICARAGUA\",LOOKUP(5,GEfectos!$J$4:$P$4,GEfectos!J83:P83),IF(EFECTOS!$N$9=\"REPÚBLICA \nDOMINICANA\",LOOKUP(6,$J$4:$P$4,J83:P83),IF(EFECTOS!$N$9=\"PANAMÁ\",LOOKUP(7,GEfectos!$J$4:$P$4,GEfectos!J83:P83))))))))","v":100.08198348292059},{"$f":"IF(EFECTOS!$N$9=\"COSTA RICA\",LOOKUP(1,GEfectos!$Q$4:$W$4,GEfectos!Q83:W83),IF(EFECTOS!$N$9=\"EL SALVADOR\",LOOKUP(2,GEfectos!$Q$4:$W$4,GEfectos!Q83:W83),IF(EFECTOS!$N$9=\"GUATEMALA\",LOOKUP(3,GEfectos!$Q$4:$W$4,GEfectos!Q83:W83),IF(EFECTOS!$N$9=\"HONDURAS\",LOOKUP(4,GEfectos!$Q$4:$W$4,GEfectos!Q83:W83),IF(EFECTOS!$N$9=\"NICARAGUA\",LOOKUP(5,GEfectos!$Q$4:$W$4,GEfectos!Q83:W83),IF(EFECTOS!$N$9=\"REPÚBLICA \nDOMINICANA\",LOOKUP(6,$Q$4:$W$4,Q83:W83),IF(EFECTOS!$N$9=\"PANAMÁ\",LOOKUP(7,GEfectos!$Q$4:$W$4,GEfectos!Q83:W83))))))))","v":97.423443614942585},100]
[null,{"$f":"'ITCER GLOBAL'!B84","v":"Julio"},{"$f":"'ITCER GLOBAL'!C84","v":97.144699644268215},{"$f":"'ITCER GLOBAL'!D84","v":99.807108283343268},{"$f":"'ITCER GLOBAL'!E84","v":96.863012780798144},{"$f":"'ITCER GLOBAL'!F84","v":97.456972969910723},{"$f":"'ITCER GLOBAL'!G84","v":100.90653959888745},{"$f":"'ITCER GLOBAL'!H84","v":102.6464094525418},{"$f":"'ITCER GLOBAL'!I84","v":100.2959190080303},{"$f":"'ITCER GLOBAL'!S84","v":102.12973299316718},{"$f":"'ITCER GLOBAL'!T84","v":99.266667902431664},{"$f":"'ITCER GLOBAL'!U84","v":99.590574398626487},{"$f":"'ITCER GLOBAL'!V84","v":101.32690773546329},{"$f":"'ITCER GLOBAL'!W84","v":101.91663674420741},{"$f":"'ITCER GLOBAL'!X84","v":100.0113472154315},{"$f":"'ITCER GLOBAL'!Y84","v":97.886996401747169},{"$f":"'ITCER GLOBAL'!AA84","v":105.13155464698902},{"$f":"'ITCER GLOBAL'!AB84","v":99.458515139645826},{"$f":"'ITCER GLOBAL'!AC84","v":102.81589591271629},{"$f":"'ITCER GLOBAL'!AD84","v":103.97091623884869},{"$f":"'ITCER GLOBAL'!AE84","v":101.0010224801437},{"$f":"'ITCER GLOBAL'!AF84","v":97.432874416977427},{"$f":"'ITCER GLOBAL'!AG84","v":97.598184821368193},null,{"$f":"IF(EFECTOS!$N$9=\"COSTA RICA\",LOOKUP(1,GEfectos!$C$4:$I$4,GEfectos!C84:I84),IF(EFECTOS!$N$9=\"EL SALVADOR\",LOOKUP(2,GEfectos!$C$4:$I$4,GEfectos!C84:I84),IF(EFECTOS!$N$9=\"GUATEMALA\",LOOKUP(3,GEfectos!$C$4:$I$4,GEfectos!C84:I84),IF(EFECTOS!$N$9=\"HONDURAS\",LOOKUP(4,GEfectos!$C$4:$I$4,GEfectos!C84:I84),IF(EFECTOS!$N$9=\"NICARAGUA\",LOOKUP(5,GEfectos!$C$4:$I$4,GEfectos!C84:I84),IF(EFECTOS!$N$9=\"REPÚBLICA \nDOMINICANA\",LOOKUP(6,$C$4:$I$4,C84:I84),IF(EFECTOS!$N$9=\"PANAMÁ\",LOOKUP(7,GEfectos!$C$4:$I$4,GEfectos!C84:I84))))))))","v":102.6464094525418},{"$f":"IF(EFECTOS!$N$9=\"COSTA RICA\",LOOKUP(1,GEfectos!$J$4:$P$4,GEfectos!J84:P84),IF(EFECTOS!$N$9=\"EL SALVADOR\",LOOKUP(2,GEfectos!$J$4:$P$4,GEfectos!J84:P84),IF(EFECTOS!$N$9=\"GUATEMALA\",LOOKUP(3,GEfectos!$J$4:$P$4,GEfectos!J84:P84),IF(EFECTOS!$N$9=\"HONDURAS\",LOOKUP(4,GEfectos!$J$4:$P$4,GEfectos!J84:P84),IF(EFECTOS!$N$9=\"NICARAGUA\",LOOKUP(5,GEfectos!$J$4:$P$4,GEfectos!J84:P84),IF(EFECTOS!$N$9=\"REPÚBLICA \nDOMINICANA\",LOOKUP(6,$J$4:$P$4,J84:P84),IF(EFECTOS!$N$9=\"PANAMÁ\",LOOKUP(7,GEfectos!$J$4:$P$4,GEfectos!J84:P84))))))))","v":100.0113472154315},{"$f":"IF(EFECTOS!$N$9=\"COSTA RICA\",LOOKUP(1,GEfectos!$Q$4:$W$4,GEfectos!Q84:W84),IF(EFECTOS!$N$9=\"EL SALVADOR\",LOOKUP(2,GEfectos!$Q$4:$W$4,GEfectos!Q84:W84),IF(EFECTOS!$N$9=\"GUATEMALA\",LOOKUP(3,GEfectos!$Q$4:$W$4,GEfectos!Q84:W84),IF(EFECTOS!$N$9=\"HONDURAS\",LOOKUP(4,GEfectos!$Q$4:$W$4,GEfectos!Q84:W84),IF(EFECTOS!$N$9=\"NICARAGUA\",LOOKUP(5,GEfectos!$Q$4:$W$4,GEfectos!Q84:W84),IF(EFECTOS!$N$9=\"REPÚBLICA \nDOMINICANA\",LOOKUP(6,$Q$4:$W$4,Q84:W84),IF(EFECTOS!$N$9=\"PANAMÁ\",LOOKUP(7,GEfectos!$Q$4:$W$4,GEfectos!Q84:W84))))))))","v":97.432874416977427},100]
[null,{"$f":"'ITCER GLOBAL'!B85","v":"Agosto"},{"$f":"'ITCER GLOBAL'!C85","v":97.838373802442376},{"$f":"'ITCER GLOBAL'!D85","v":100.03609733121334},{"$f":"'ITCER GLOBAL'!E85","v":96.906418944162226},{"$f":"'ITCER GLOBAL'!F85","v":97.429950231545376},{"$f":"'ITCER GLOBAL'!G85","v":101.99062378334709},{"$f":"'ITCER GLOBAL'!H85","v":102.28790073195171},{"$f":"'ITCER GLOBAL'!I85","v":101.09712352817664},{"$f":"'ITCER GLOBAL'!S85","v":103.5264634122469},{"$f":"'ITCER GLOBAL'!T85","v":99.518077628104876},{"$f":"'ITCER GLOBAL'!U85","v":100.70641591527094},{"$f":"'ITCER GLOBAL'!V85","v":101.83425744347119},{"$f":"'ITCER GLOBAL'!W85","v":102.93385428740666},{"$f":"'ITCER GLOBAL'!X85","v":100.34733656457948},{"$f":"'ITCER GLOBAL'!Y85","v":98.572155923348262},{"$f":"'ITCER GLOBAL'!AA85","v":105.81376139927474},{"$f":"'ITCER GLOBAL'!AB85","v":99.482167220705009},{"$f":"'ITCER GLOBAL'!AC85","v":103.92130574270656},{"$f":"'ITCER GLOBAL'!AD85","v":104.52048595063307},{"$f":"'ITCER GLOBAL'!AE85","v":100.92482080123682},{"$f":"'ITCER GLOBAL'!AF85","v":98.102840948454386},{"$f":"'ITCER GLOBAL'!AG85","v":97.502433781783452},null,{"$f":"IF(EFECTOS!$N$9=\"COSTA RICA\",LOOKUP(1,GEfectos!$C$4:$I$4,GEfectos!C85:I85),IF(EFECTOS!$N$9=\"EL SALVADOR\",LOOKUP(2,GEfectos!$C$4:$I$4,GEfectos!C85:I85),IF(EFECTOS!$N$9=\"GUATEMALA\",LOOKUP(3,GEfectos!$C$4:$I$4,GEfectos!C85:I85),IF(EFECTOS!$N$9=\"HONDURAS\",LOOKUP(4,GEfectos!$C$4:$I$4,GEfectos!C85:I85),IF(EFECTOS!$N$9=\"NICARAGUA\",LOOKUP(5,GEfectos!$C$4:$I$4,GEfectos!C85:I85),IF(EFECTOS!$N$9=\"REPÚBLICA \nDOMINICANA\",LOOKUP(6,$C$4:$I$4,C85:I85),IF(EFECTOS!$N$9=\"PANAMÁ\",LOOKUP(7,GEfectos!$C$4:$I$4,GEfectos!C85:I85))))))))","v":102.28790073195171},{"$f":"IF(EFECTOS!$N$9=\"COSTA RICA\",LOOKUP(1,GEfectos!$J$4:$P$4,GEfectos!J85:P85),IF(EFECTOS!$N$9=\"EL SALVADOR\",LOOKUP(2,GEfectos!$J$4:$P$4,GEfectos!J85:P85),IF(EFECTOS!$N$9=\"GUATEMALA\",LOOKUP(3,GEfectos!$J$4:$P$4,GEfectos!J85:P85),IF(EFECTOS!$N$9=\"HONDURAS\",LOOKUP(4,GEfectos!$J$4:$P$4,GEfectos!J85:P85),IF(EFECTOS!$N$9=\"NICARAGUA\",LOOKUP(5,GEfectos!$J$4:$P$4,GEfectos!J85:P85),IF(EFECTOS!$N$9=\"REPÚBLICA \nDOMINICANA\",LOOKUP(6,$J$4:$P$4,J85:P85),IF(EFECTOS!$N$9=\"PANAMÁ\",LOOKUP(7,GEfectos!$J$4:$P$4,GEfectos!J85:P85))))))))","v":100.34733656457948},{"$f":"IF(EFECTOS!$N$9=\"COSTA RICA\",LOOKUP(1,GEfectos!$Q$4:$W$4,GEfectos!Q85:W85),IF(EFECTOS!$N$9=\"EL SALVADOR\",LOOKUP(2,GEfectos!$Q$4:$W$4,GEfectos!Q85:W85),IF(EFECTOS!$N$9=\"GUATEMALA\",LOOKUP(3,GEfectos!$Q$4:$W$4,GEfectos!Q85:W85),IF(EFECTOS!$N$9=\"HONDURAS\",LOOKUP(4,GEfectos!$Q$4:$W$4,GEfectos!Q85:W85),IF(EFECTOS!$N$9=\"NICARAGUA\",LOOKUP(5,GEfectos!$Q$4:$W$4,GEfectos!Q85:W85),IF(EFECTOS!$N$9=\"REPÚBLICA \nDOMINICANA\",LOOKUP(6,$Q$4:$W$4,Q85:W85),IF(EFECTOS!$N$9=\"PANAMÁ\",LOOKUP(7,GEfectos!$Q$4:$W$4,GEfectos!Q85:W85))))))))","v":98.102840948454386},100]
[null,{"$f":"'ITCER GLOBAL'!B86","v":"Septiembre"},{"$f":"'ITCER GLOBAL'!C86","v":98.158501774776639},{"$f":"'ITCER GLOBAL'!D86","v":100.12171934936976},{"$f":"'ITCER GLOBAL'!E86","v":98.014710283822069},{"$f":"'ITCER GLOBAL'!F86","v":97.41616355890838},{"$f":"'ITCER GLOBAL'!G86","v":102.7053528360839},{"$f":"'ITCER GLOBAL'!H86","v":101.76963123544569},{"$f":"'ITCER GLOBAL'!I86","v":100.48020655212522},{"$f":"'ITCER GLOBAL'!S86","v":104.06648573982184},{"$f":"'ITCER GLOBAL'!T86","v":99.17017189248736},{"$f":"'ITCER GLOBAL'!U86","v":101.75088547449404},{"$f":"'ITCER GLOBAL'!V86","v":102.19100899987643},{"$f":"'ITCER GLOBAL'!W86","v":103.26384083092152},{"$f":"'ITCER GLOBAL'!X86","v":100.29849188405618},{"$f":"'ITCER GLOBAL'!Y86","v":98.44275601368075},{"$f":"'ITCER GLOBAL'!AA86","v":106.0188204365639},{"$f":"'ITCER GLOBAL'!AB86","v":99.049609352430295},{"$f":"'ITCER GLOBAL'!AC86","v":103.81185148622396},{"$f":"'ITCER GLOBAL'!AD86","v":104.90149197682237},{"$f":"'ITCER GLOBAL'!AE86","v":100.5437769107604},{"$f":"'ITCER GLOBAL'!AF86","v":98.55444169981709},{"$f":"'ITCER GLOBAL'!AG86","v":97.972286673806224},null,{"$f":"IF(EFECTOS!$N$9=\"COSTA RICA\",LOOKUP(1,GEfectos!$C$4:$I$4,GEfectos!C86:I86),IF(EFECTOS!$N$9=\"EL SALVADOR\",LOOKUP(2,GEfectos!$C$4:$I$4,GEfectos!C86:I86),IF(EFECTOS!$N$9=\"GUATEMALA\",LOOKUP(3,GEfectos!$C$4:$I$4,GEfectos!C86:I86),IF(EFECTOS!$N$9=\"HONDURAS\",LOOKUP(4,GEfectos!$C$4:$I$4,GEfectos!C86:I86),IF(EFECTOS!$N$9=\"NICARAGUA\",LOOKUP(5,GEfectos!$C$4:$I$4,GEfectos!C86:I86),IF(EFECTOS!$N$9=\"REPÚBLICA \nDOMINICANA\",LOOKUP(6,$C$4:$I$4,C86:I86),IF(EFECTOS!$N$9=\"PANAMÁ\",LOOKUP(7,GEfectos!$C$4:$I$4,GEfectos!C86:I86))))))))","v":101.76963123544569},{"$f":"IF(EFECTOS!$N$9=\"COSTA RICA\",LOOKUP(1,GEfectos!$J$4:$P$4,GEfectos!J86:P86),IF(EFECTOS!$N$9=\"EL SALVADOR\",LOOKUP(2,GEfectos!$J$4:$P$4,GEfectos!J86:P86),IF(EFECTOS!$N$9=\"GUATEMALA\",LOOKUP(3,GEfectos!$J$4:$P$4,GEfectos!J86:P86),IF(EFECTOS!$N$9=\"HONDURAS\",LOOKUP(4,GEfectos!$J$4:$P$4,GEfectos!J86:P86),IF(EFECTOS!$N$9=\"NICARAGUA\",LOOKUP(5,GEfectos!$J$4:$P$4,GEfectos!J86:P86),IF(EFECTOS!$N$9=\"REPÚBLICA \nDOMINICANA\",LOOKUP(6,$J$4:$P$4,J86:P86),IF(EFECTOS!$N$9=\"PANAMÁ\",LOOKUP(7,GEfectos!$J$4:$P$4,GEfectos!J86:P86))))))))","v":100.29849188405618},{"$f":"IF(EFECTOS!$N$9=\"COSTA RICA\",LOOKUP(1,GEfectos!$Q$4:$W$4,GEfectos!Q86:W86),IF(EFECTOS!$N$9=\"EL SALVADOR\",LOOKUP(2,GEfectos!$Q$4:$W$4,GEfectos!Q86:W86),IF(EFECTOS!$N$9=\"GUATEMALA\",LOOKUP(3,GEfectos!$Q$4:$W$4,GEfectos!Q86:W86),IF(EFECTOS!$N$9=\"HONDURAS\",LOOKUP(4,GEfectos!$Q$4:$W$4,GEfectos!Q86:W86),IF(EFECTOS!$N$9=\"NICARAGUA\",LOOKUP(5,GEfectos!$Q$4:$W$4,GEfectos!Q86:W86),IF(EFECTOS!$N$9=\"REPÚBLICA \nDOMINICANA\",LOOKUP(6,$Q$4:$W$4,Q86:W86),IF(EFECTOS!$N$9=\"PANAMÁ\",LOOKUP(7,GEfectos!$Q$4:$W$4,GEfectos!Q86:W86))))))))","v":98.55444169981709},100]
[null,{"$f":"'ITCER GLOBAL'!B87","v":"Octubre"},{"$f":"'ITCER GLOBAL'!C87","v":98.461437171389974},{"$f":"'ITCER GLOBAL'!D87","v":101.03400749013879},{"$f":"'ITCER GLOBAL'!E87","v":98.842450267342485},{"$f":"'ITCER GLOBAL'!F87","v":97.354543664020923},{"$f":"'ITCER GLOBAL'!G87","v":102.46412661459618},{"$f":"'ITCER GLOBAL'!H87","v":101.16139460861812},{"$f":"'ITCER GLOBAL'!I87","v":100.05322868184386},{"$f":"'ITCER GLOBAL'!S87","v":104.50268453629215},{"$f":"'ITCER GLOBAL'!T87","v":98.74905338178867},{"$f":"'ITCER GLOBAL'!U87","v":103.6008656350476},{"$f":"'ITCER GLOBAL'!V87","v":102.5394572870194},{"$f":"'ITCER GLOBAL'!W87","v":103.3656142118521},{"$f":"'ITCER GLOBAL'!X87","v":100.18645983683818},{"$f":"'ITCER GLOBAL'!Y87","v":98.126782817586715},{"$f":"'ITCER GLOBAL'!AA87","v":106.13564816689227},{"$f":"'ITCER GLOBAL'!AB87","v":97.738430687733398},{"$f":"'ITCER GLOBAL'!AC87","v":104.81414144917984},{"$f":"'ITCER GLOBAL'!AD87","v":105.32580548155212},{"$f":"'ITCER GLOBAL'!AE87","v":100.87980801382979},{"$f":"'ITCER GLOBAL'!AF87","v":99.036258074978264},{"$f":"'ITCER GLOBAL'!AG87","v":98.074579011954739},null,{"$f":"IF(EFECTOS!$N$9=\"COSTA RICA\",LOOKUP(1,GEfectos!$C$4:$I$4,GEfectos!C87:I87),IF(EFECTOS!$N$9=\"EL SALVADOR\",LOOKUP(2,GEfectos!$C$4:$I$4,GEfectos!C87:I87),IF(EFECTOS!$N$9=\"GUATEMALA\",LOOKUP(3,GEfectos!$C$4:$I$4,GEfectos!C87:I87),IF(EFECTOS!$N$9=\"HONDURAS\",LOOKUP(4,GEfectos!$C$4:$I$4,GEfectos!C87:I87),IF(EFECTOS!$N$9=\"NICARAGUA\",LOOKUP(5,GEfectos!$C$4:$I$4,GEfectos!C87:I87),IF(EFECTOS!$N$9=\"REPÚBLICA \nDOMINICANA\",LOOKUP(6,$C$4:$I$4,C87:I87),IF(EFECTOS!$N$9=\"PANAMÁ\",LOOKUP(7,GEfectos!$C$4:$I$4,GEfectos!C87:I87))))))))","v":101.16139460861812},{"$f":"IF(EFECTOS!$N$9=\"COSTA RICA\",LOOKUP(1,GEfectos!$J$4:$P$4,GEfectos!J87:P87),IF(EFECTOS!$N$9=\"EL SALVADOR\",LOOKUP(2,GEfectos!$J$4:$P$4,GEfectos!J87:P87),IF(EFECTOS!$N$9=\"GUATEMALA\",LOOKUP(3,GEfectos!$J$4:$P$4,GEfectos!J87:P87),IF(EFECTOS!$N$9=\"HONDURAS\",LOOKUP(4,GEfectos!$J$4:$P$4,GEfectos!J87:P87),IF(EFECTOS!$N$9=\"NICARAGUA\",LOOKUP(5,GEfectos!$J$4:$P$4,GEfectos!J87:P87),IF(EFECTOS!$N$9=\"REPÚBLICA \nDOMINICANA\",LOOKUP(6,$J$4:$P$4,J87:P87),IF(EFECTOS!$N$9=\"PANAMÁ\",LOOKUP(7,GEfectos!$J$4:$P$4,GEfectos!J87:P87))))))))","v":100.18645983683818},{"$f":"IF(EFECTOS!$N$9=\"COSTA RICA\",LOOKUP(1,GEfectos!$Q$4:$W$4,GEfectos!Q87:W87),IF(EFECTOS!$N$9=\"EL SALVADOR\",LOOKUP(2,GEfectos!$Q$4:$W$4,GEfectos!Q87:W87),IF(EFECTOS!$N$9=\"GUATEMALA\",LOOKUP(3,GEfectos!$Q$4:$W$4,GEfectos!Q87:W87),IF(EFECTOS!$N$9=\"HONDURAS\",LOOKUP(4,GEfectos!$Q$4:$W$4,GEfectos!Q87:W87),IF(EFECTOS!$N$9=\"NICARAGUA\",LOOKUP(5,GEfectos!$Q$4:$W$4,GEfectos!Q87:W87),IF(EFECTOS!$N$9=\"REPÚBLICA \nDOMINICANA\",LOOKUP(6,$Q$4:$W$4,Q87:W87),IF(EFECTOS!$N$9=\"PANAMÁ\",LOOKUP(7,GEfectos!$Q$4:$W$4,GEfectos!Q87:W87))))))))","v":99.036258074978264},100]
[null,{"$f":"'ITCER GLOBAL'!B88","v":"Noviembre"},{"$f":"'ITCER GLOBAL'!C88","v":98.128297837187276},{"$f":"'ITCER GLOBAL'!D88","v":99.732980791948805},{"$f":"'ITCER GLOBAL'!E88","v":97.842252966679553},{"$f":"'ITCER GLOBAL'!F88","v":97.563003568157441},{"$f":"'ITCER GLOBAL'!G88","v":102.35146289305553},{"$f":"'ITCER GLOBAL'!H88","v":101.651297572293},{"$f":"'ITCER GLOBAL'!I88","v":100.31881039710855},{"$f":"'ITCER GLOBAL'!S88","v":105.09712432387821},{"$f":"'ITCER GLOBAL'!T88","v":98.660435576153276},{"$f":"'ITCER GLOBAL'!U88","v":103.21031697650614},{"$f":"'ITCER GLOBAL'!V88","v":103.27464432710354},{"$f":"'ITCER GLOBAL'!W88","v":103.57051269239315},{"$f":"'ITCER GLOBAL'!X88","v":100.71890520795699},{"$f":"'ITCER GLOBAL'!Y88","v":98.004214116528317},{"$f":"'ITCER GLOBAL'!AA88","v":107.10175009685126},{"$f":"'ITCER GLOBAL'!AB88","v":98.924583214821453},{"$f":"'ITCER GLOBAL'!AC88","v":105.48644767169732},{"$f":"'ITCER GLOBAL'!AD88","v":105.85431008687219},{"$f":"'ITCER GLOBAL'!AE88","v":101.19104286825034},{"$f":"'ITCER GLOBAL'!AF88","v":99.082754095024796},{"$f":"'ITCER GLOBAL'!AG88","v":97.69275944220432},null,{"$f":"IF(EFECTOS!$N$9=\"COSTA RICA\",LOOKUP(1,GEfectos!$C$4:$I$4,GEfectos!C88:I88),IF(EFECTOS!$N$9=\"EL SALVADOR\",LOOKUP(2,GEfectos!$C$4:$I$4,GEfectos!C88:I88),IF(EFECTOS!$N$9=\"GUATEMALA\",LOOKUP(3,GEfectos!$C$4:$I$4,GEfectos!C88:I88),IF(EFECTOS!$N$9=\"HONDURAS\",LOOKUP(4,GEfectos!$C$4:$I$4,GEfectos!C88:I88),IF(EFECTOS!$N$9=\"NICARAGUA\",LOOKUP(5,GEfectos!$C$4:$I$4,GEfectos!C88:I88),IF(EFECTOS!$N$9=\"REPÚBLICA \nDOMINICANA\",LOOKUP(6,$C$4:$I$4,C88:I88),IF(EFECTOS!$N$9=\"PANAMÁ\",LOOKUP(7,GEfectos!$C$4:$I$4,GEfectos!C88:I88))))))))","v":101.651297572293},{"$f":"IF(EFECTOS!$N$9=\"COSTA RICA\",LOOKUP(1,GEfectos!$J$4:$P$4,GEfectos!J88:P88),IF(EFECTOS!$N$9=\"EL SALVADOR\",LOOKUP(2,GEfectos!$J$4:$P$4,GEfectos!J88:P88),IF(EFECTOS!$N$9=\"GUATEMALA\",LOOKUP(3,GEfectos!$J$4:$P$4,GEfectos!J88:P88),IF(EFECTOS!$N$9=\"HONDURAS\",LOOKUP(4,GEfectos!$J$4:$P$4,GEfectos!J88:P88),IF(EFECTOS!$N$9=\"NICARAGUA\",LOOKUP(5,GEfectos!$J$4:$P$4,GEfectos!J88:P88),IF(EFECTOS!$N$9=\"REPÚBLICA \nDOMINICANA\",LOOKUP(6,$J$4:$P$4,J88:P88),IF(EFECTOS!$N$9=\"PANAMÁ\",LOOKUP(7,GEfectos!$J$4:$P$4,GEfectos!J88:P88))))))))","v":100.71890520795699},{"$f":"IF(EFECTOS!$N$9=\"COSTA RICA\",LOOKUP(1,GEfectos!$Q$4:$W$4,GEfectos!Q88:W88),IF(EFECTOS!$N$9=\"EL SALVADOR\",LOOKUP(2,GEfectos!$Q$4:$W$4,GEfectos!Q88:W88),IF(EFECTOS!$N$9=\"GUATEMALA\",LOOKUP(3,GEfectos!$Q$4:$W$4,GEfectos!Q88:W88),IF(EFECTOS!$N$9=\"HONDURAS\",LOOKUP(4,GEfectos!$Q$4:$W$4,GEfectos!Q88:W88),IF(EFECTOS!$N$9=\"NICARAGUA\",LOOKUP(5,GEfectos!$Q$4:$W$4,GEfectos!Q88:W88),IF(EFECTOS!$N$9=\"REPÚBLICA \nDOMINICANA\",LOOKUP(6,$Q$4:$W$4,Q88:W88),IF(EFECTOS!$N$9=\"PANAMÁ\",LOOKUP(7,GEfectos!$Q$4:$W$4,GEfectos!Q88:W88))))))))","v":99.082754095024796},100]
[null,{"$f":"'ITCER GLOBAL'!B89","v":"Diciembre"},{"$f":"'ITCER GLOBAL'!C89","v":97.84864204059582},{"$f":"'ITCER GLOBAL'!D89","v":100.99907679461302},{"$f":"'ITCER GLOBAL'!E89","v":95.586115752622348},{"$f":"'ITCER GLOBAL'!F89","v":97.493432483731937},{"$f":"'ITCER GLOBAL'!G89","v":102.63990725927965},{"$f":"'ITCER GLOBAL'!H89","v":102.43502425351583},{"$f":"'ITCER GLOBAL'!I89","v":100.47510727351005},{"$f":"'ITCER GLOBAL'!S89","v":106.06390036623057},{"$f":"'ITCER GLOBAL'!T89","v":98.82950726753991},{"$f":"'ITCER GLOBAL'!U89","v":101.58416160725888},{"$f":"'ITCER GLOBAL'!V89","v":103.79408843336053},{"$f":"'ITCER GLOBAL'!W89","v":103.94153051040509},{"$f":"'ITCER GLOBAL'!X89","v":102.01033386378448},{"$f":"'ITCER GLOBAL'!Y89","v":97.857910803582755},{"$f":"'ITCER GLOBAL'!AA89","v":108.39588384090845},{"$f":"'ITCER GLOBAL'!AB89","v":97.851891724233241},{"$f":"'ITCER GLOBAL'!AC89","v":106.2750178803787},{"$f":"'ITCER GLOBAL'!AD89","v":106.46264654870976},{"$f":"'ITCER GLOBAL'!AE89","v":101.26814538894446},{"$f":"'ITCER GLOBAL'!AF89","v":99.585405096717423},{"$f":"'ITCER GLOBAL'!AG89","v":97.395179223045915},null,{"$f":"IF(EFECTOS!$N$9=\"COSTA RICA\",LOOKUP(1,GEfectos!$C$4:$I$4,GEfectos!C89:I89),IF(EFECTOS!$N$9=\"EL SALVADOR\",LOOKUP(2,GEfectos!$C$4:$I$4,GEfectos!C89:I89),IF(EFECTOS!$N$9=\"GUATEMALA\",LOOKUP(3,GEfectos!$C$4:$I$4,GEfectos!C89:I89),IF(EFECTOS!$N$9=\"HONDURAS\",LOOKUP(4,GEfectos!$C$4:$I$4,GEfectos!C89:I89),IF(EFECTOS!$N$9=\"NICARAGUA\",LOOKUP(5,GEfectos!$C$4:$I$4,GEfectos!C89:I89),IF(EFECTOS!$N$9=\"REPÚBLICA \nDOMINICANA\",LOOKUP(6,$C$4:$I$4,C89:I89),IF(EFECTOS!$N$9=\"PANAMÁ\",LOOKUP(7,GEfectos!$C$4:$I$4,GEfectos!C89:I89))))))))","v":102.43502425351583},{"$f":"IF(EFECTOS!$N$9=\"COSTA RICA\",LOOKUP(1,GEfectos!$J$4:$P$4,GEfectos!J89:P89),IF(EFECTOS!$N$9=\"EL SALVADOR\",LOOKUP(2,GEfectos!$J$4:$P$4,GEfectos!J89:P89),IF(EFECTOS!$N$9=\"GUATEMALA\",LOOKUP(3,GEfectos!$J$4:$P$4,GEfectos!J89:P89),IF(EFECTOS!$N$9=\"HONDURAS\",LOOKUP(4,GEfectos!$J$4:$P$4,GEfectos!J89:P89),IF(EFECTOS!$N$9=\"NICARAGUA\",LOOKUP(5,GEfectos!$J$4:$P$4,GEfectos!J89:P89),IF(EFECTOS!$N$9=\"REPÚBLICA \nDOMINICANA\",LOOKUP(6,$J$4:$P$4,J89:P89),IF(EFECTOS!$N$9=\"PANAMÁ\",LOOKUP(7,GEfectos!$J$4:$P$4,GEfectos!J89:P89))))))))","v":102.01033386378448},{"$f":"IF(EFECTOS!$N$9=\"COSTA RICA\",LOOKUP(1,GEfectos!$Q$4:$W$4,GEfectos!Q89:W89),IF(EFECTOS!$N$9=\"EL SALVADOR\",LOOKUP(2,GEfectos!$Q$4:$W$4,GEfectos!Q89:W89),IF(EFECTOS!$N$9=\"GUATEMALA\",LOOKUP(3,GEfectos!$Q$4:$W$4,GEfectos!Q89:W89),IF(EFECTOS!$N$9=\"HONDURAS\",LOOKUP(4,GEfectos!$Q$4:$W$4,GEfectos!Q89:W89),IF(EFECTOS!$N$9=\"NICARAGUA\",LOOKUP(5,GEfectos!$Q$4:$W$4,GEfectos!Q89:W89),IF(EFECTOS!$N$9=\"REPÚBLICA \nDOMINICANA\",LOOKUP(6,$Q$4:$W$4,Q89:W89),IF(EFECTOS!$N$9=\"PANAMÁ\",LOOKUP(7,GEfectos!$Q$4:$W$4,GEfectos!Q89:W89))))))))","v":99.585405096717423},100]
[2002,{"$f":"'ITCER GLOBAL'!B90","v":"Enero"},{"$f":"'ITCER GLOBAL'!C90","v":97.440495548617534},{"$f":"'ITCER GLOBAL'!D90","v":99.789047337914738},{"$f":"'ITCER GLOBAL'!E90","v":95.089104661370357},{"$f":"'ITCER GLOBAL'!F90","v":97.980124467569652},{"$f":"'ITCER GLOBAL'!G90","v":102.90174263264792},{"$f":"'ITCER GLOBAL'!H90","v":101.95212504194095},{"$f":"'ITCER GLOBAL'!I90","v":99.838919488830811},{"$f":"'ITCER GLOBAL'!S90","v":106.459030323723},{"$f":"'ITCER GLOBAL'!T90","v":98.894011048465629},{"$f":"'ITCER GLOBAL'!U90","v":101.6432524786109},{"$f":"'ITCER GLOBAL'!V90","v":103.7735507983605},{"$f":"'ITCER GLOBAL'!W90","v":103.90078968547587},{"$f":"'ITCER GLOBAL'!X90","v":102.16465389151024},{"$f":"'ITCER GLOBAL'!Y90","v":97.48437070625377},{"$f":"'ITCER GLOBAL'!AA90","v":109.25542786326008},{"$f":"'ITCER GLOBAL'!AB90","v":99.103071616248371},{"$f":"'ITCER GLOBAL'!AC90","v":106.89263805835701},{"$f":"'ITCER GLOBAL'!AD90","v":105.91285871728854},{"$f":"'ITCER GLOBAL'!AE90","v":100.97087476583799},{"$f":"'ITCER GLOBAL'!AF90","v":100.20845946024359},{"$f":"'ITCER GLOBAL'!AG90","v":97.641652379019945},null,{"$f":"IF(EFECTOS!$N$9=\"COSTA RICA\",LOOKUP(1,GEfectos!$C$4:$I$4,GEfectos!C90:I90),IF(EFECTOS!$N$9=\"EL SALVADOR\",LOOKUP(2,GEfectos!$C$4:$I$4,GEfectos!C90:I90),IF(EFECTOS!$N$9=\"GUATEMALA\",LOOKUP(3,GEfectos!$C$4:$I$4,GEfectos!C90:I90),IF(EFECTOS!$N$9=\"HONDURAS\",LOOKUP(4,GEfectos!$C$4:$I$4,GEfectos!C90:I90),IF(EFECTOS!$N$9=\"NICARAGUA\",LOOKUP(5,GEfectos!$C$4:$I$4,GEfectos!C90:I90),IF(EFECTOS!$N$9=\"REPÚBLICA \nDOMINICANA\",LOOKUP(6,$C$4:$I$4,C90:I90),IF(EFECTOS!$N$9=\"PANAMÁ\",LOOKUP(7,GEfectos!$C$4:$I$4,GEfectos!C90:I90))))))))","v":101.95212504194095},{"$f":"IF(EFECTOS!$N$9=\"COSTA RICA\",LOOKUP(1,GEfectos!$J$4:$P$4,GEfectos!J90:P90),IF(EFECTOS!$N$9=\"EL SALVADOR\",LOOKUP(2,GEfectos!$J$4:$P$4,GEfectos!J90:P90),IF(EFECTOS!$N$9=\"GUATEMALA\",LOOKUP(3,GEfectos!$J$4:$P$4,GEfectos!J90:P90),IF(EFECTOS!$N$9=\"HONDURAS\",LOOKUP(4,GEfectos!$J$4:$P$4,GEfectos!J90:P90),IF(EFECTOS!$N$9=\"NICARAGUA\",LOOKUP(5,GEfectos!$J$4:$P$4,GEfectos!J90:P90),IF(EFECTOS!$N$9=\"REPÚBLICA \nDOMINICANA\",LOOKUP(6,$J$4:$P$4,J90:P90),IF(EFECTOS!$N$9=\"PANAMÁ\",LOOKUP(7,GEfectos!$J$4:$P$4,GEfectos!J90:P90))))))))","v":102.16465389151024},{"$f":"IF(EFECTOS!$N$9=\"COSTA RICA\",LOOKUP(1,GEfectos!$Q$4:$W$4,GEfectos!Q90:W90),IF(EFECTOS!$N$9=\"EL SALVADOR\",LOOKUP(2,GEfectos!$Q$4:$W$4,GEfectos!Q90:W90),IF(EFECTOS!$N$9=\"GUATEMALA\",LOOKUP(3,GEfectos!$Q$4:$W$4,GEfectos!Q90:W90),IF(EFECTOS!$N$9=\"HONDURAS\",LOOKUP(4,GEfectos!$Q$4:$W$4,GEfectos!Q90:W90),IF(EFECTOS!$N$9=\"NICARAGUA\",LOOKUP(5,GEfectos!$Q$4:$W$4,GEfectos!Q90:W90),IF(EFECTOS!$N$9=\"REPÚBLICA \nDOMINICANA\",LOOKUP(6,$Q$4:$W$4,Q90:W90),IF(EFECTOS!$N$9=\"PANAMÁ\",LOOKUP(7,GEfectos!$Q$4:$W$4,GEfectos!Q90:W90))))))))","v":100.20845946024359},100]
[null,{"$f":"'ITCER GLOBAL'!B91","v":"Febrero"},{"$f":"'ITCER GLOBAL'!C91","v":98.003467588585309},{"$f":"'ITCER GLOBAL'!D91","v":99.901120558862843},{"$f":"'ITCER GLOBAL'!E91","v":93.55081783301533},{"$f":"'ITCER GLOBAL'!F91","v":97.865845748866292},{"$f":"'ITCER GLOBAL'!G91","v":102.64377898165208},{"$f":"'ITCER GLOBAL'!H91","v":102.77479682346798},{"$f":"'ITCER GLOBAL'!I91","v":100.12098938035875},{"$f":"'ITCER GLOBAL'!S91","v":107.16553330727805},{"$f":"'ITCER GLOBAL'!T91","v":98.881182574063558},{"$f":"'ITCER GLOBAL'!U91","v":100.52426793523404},{"$f":"'ITCER GLOBAL'!V91","v":104.38849661870071},{"$f":"'ITCER GLOBAL'!W91","v":104.11451216657466},{"$f":"'ITCER GLOBAL'!X91","v":102.66203587317248},{"$f":"'ITCER GLOBAL'!Y91","v":97.284421909289833},{"$f":"'ITCER GLOBAL'!AA91","v":109.34871586090682},{"$f":"'ITCER GLOBAL'!AB91","v":98.979052508026342},{"$f":"'ITCER GLOBAL'!AC91","v":107.4541840079539},{"$f":"'ITCER GLOBAL'!AD91","v":106.66488990098979},{"$f":"'ITCER GLOBAL'!AE91","v":101.43285175147876},{"$f":"'ITCER GLOBAL'!AF91","v":99.89028346075041},{"$f":"'ITCER GLOBAL'!AG91","v":97.166860327066061},null,{"$f":"IF(EFECTOS!$N$9=\"COSTA RICA\",LOOKUP(1,GEfectos!$C$4:$I$4,GEfectos!C91:I91),IF(EFECTOS!$N$9=\"EL SALVADOR\",LOOKUP(2,GEfectos!$C$4:$I$4,GEfectos!C91:I91),IF(EFECTOS!$N$9=\"GUATEMALA\",LOOKUP(3,GEfectos!$C$4:$I$4,GEfectos!C91:I91),IF(EFECTOS!$N$9=\"HONDURAS\",LOOKUP(4,GEfectos!$C$4:$I$4,GEfectos!C91:I91),IF(EFECTOS!$N$9=\"NICARAGUA\",LOOKUP(5,GEfectos!$C$4:$I$4,GEfectos!C91:I91),IF(EFECTOS!$N$9=\"REPÚBLICA \nDOMINICANA\",LOOKUP(6,$C$4:$I$4,C91:I91),IF(EFECTOS!$N$9=\"PANAMÁ\",LOOKUP(7,GEfectos!$C$4:$I$4,GEfectos!C91:I91))))))))","v":102.77479682346798},{"$f":"IF(EFECTOS!$N$9=\"COSTA RICA\",LOOKUP(1,GEfectos!$J$4:$P$4,GEfectos!J91:P91),IF(EFECTOS!$N$9=\"EL SALVADOR\",LOOKUP(2,GEfectos!$J$4:$P$4,GEfectos!J91:P91),IF(EFECTOS!$N$9=\"GUATEMALA\",LOOKUP(3,GEfectos!$J$4:$P$4,GEfectos!J91:P91),IF(EFECTOS!$N$9=\"HONDURAS\",LOOKUP(4,GEfectos!$J$4:$P$4,GEfectos!J91:P91),IF(EFECTOS!$N$9=\"NICARAGUA\",LOOKUP(5,GEfectos!$J$4:$P$4,GEfectos!J91:P91),IF(EFECTOS!$N$9=\"REPÚBLICA \nDOMINICANA\",LOOKUP(6,$J$4:$P$4,J91:P91),IF(EFECTOS!$N$9=\"PANAMÁ\",LOOKUP(7,GEfectos!$J$4:$P$4,GEfectos!J91:P91))))))))","v":102.66203587317248},{"$f":"IF(EFECTOS!$N$9=\"COSTA RICA\",LOOKUP(1,GEfectos!$Q$4:$W$4,GEfectos!Q91:W91),IF(EFECTOS!$N$9=\"EL SALVADOR\",LOOKUP(2,GEfectos!$Q$4:$W$4,GEfectos!Q91:W91),IF(EFECTOS!$N$9=\"GUATEMALA\",LOOKUP(3,GEfectos!$Q$4:$W$4,GEfectos!Q91:W91),IF(EFECTOS!$N$9=\"HONDURAS\",LOOKUP(4,GEfectos!$Q$4:$W$4,GEfectos!Q91:W91),IF(EFECTOS!$N$9=\"NICARAGUA\",LOOKUP(5,GEfectos!$Q$4:$W$4,GEfectos!Q91:W91),IF(EFECTOS!$N$9=\"REPÚBLICA \nDOMINICANA\",LOOKUP(6,$Q$4:$W$4,Q91:W91),IF(EFECTOS!$N$9=\"PANAMÁ\",LOOKUP(7,GEfectos!$Q$4:$W$4,GEfectos!Q91:W91))))))))","v":99.89028346075041},100]
[null,{"$f":"'ITCER GLOBAL'!B92","v":"Marzo"},{"$f":"'ITCER GLOBAL'!C92","v":98.795868447356568},{"$f":"'ITCER GLOBAL'!D92","v":99.935119921054891},{"$f":"'ITCER GLOBAL'!E92","v":93.223335658421021},{"$f":"'ITCER GLOBAL'!F92","v":98.466062232125495},{"$f":"'ITCER GLOBAL'!G92","v":103.57506166476871},{"$f":"'ITCER GLOBAL'!H92","v":102.26194404187891},{"$f":"'ITCER GLOBAL'!I92","v":100.4751724395156},{"$f":"'ITCER GLOBAL'!S92","v":108.31823185325587},{"$f":"'ITCER GLOBAL'!T92","v":98.952209534555649},{"$f":"'ITCER GLOBAL'!U92","v":100.30306821333588},{"$f":"'ITCER GLOBAL'!V92","v":105.07528250004196},{"$f":"'ITCER GLOBAL'!W92","v":104.79053688569726},{"$f":"'ITCER GLOBAL'!X92","v":102.78288391262818},{"$f":"'ITCER GLOBAL'!Y92","v":97.476872265459477},{"$f":"'ITCER GLOBAL'!AA92","v":109.63842269474384},{"$f":"'ITCER GLOBAL'!AB92","v":99.016451486448702},{"$f":"'ITCER GLOBAL'!AC92","v":107.5943780652257},{"$f":"'ITCER GLOBAL'!AD92","v":106.71218094650294},{"$f":"'ITCER GLOBAL'!AE92","v":101.17352111733476},{"$f":"'ITCER GLOBAL'!AF92","v":100.50941714010047},{"$f":"'ITCER GLOBAL'!AG92","v":97.015879543913144},null,{"$f":"IF(EFECTOS!$N$9=\"COSTA RICA\",LOOKUP(1,GEfectos!$C$4:$I$4,GEfectos!C92:I92),IF(EFECTOS!$N$9=\"EL SALVADOR\",LOOKUP(2,GEfectos!$C$4:$I$4,GEfectos!C92:I92),IF(EFECTOS!$N$9=\"GUATEMALA\",LOOKUP(3,GEfectos!$C$4:$I$4,GEfectos!C92:I92),IF(EFECTOS!$N$9=\"HONDURAS\",LOOKUP(4,GEfectos!$C$4:$I$4,GEfectos!C92:I92),IF(EFECTOS!$N$9=\"NICARAGUA\",LOOKUP(5,GEfectos!$C$4:$I$4,GEfectos!C92:I92),IF(EFECTOS!$N$9=\"REPÚBLICA \nDOMINICANA\",LOOKUP(6,$C$4:$I$4,C92:I92),IF(EFECTOS!$N$9=\"PANAMÁ\",LOOKUP(7,GEfectos!$C$4:$I$4,GEfectos!C92:I92))))))))","v":102.26194404187891},{"$f":"IF(EFECTOS!$N$9=\"COSTA RICA\",LOOKUP(1,GEfectos!$J$4:$P$4,GEfectos!J92:P92),IF(EFECTOS!$N$9=\"EL SALVADOR\",LOOKUP(2,GEfectos!$J$4:$P$4,GEfectos!J92:P92),IF(EFECTOS!$N$9=\"GUATEMALA\",LOOKUP(3,GEfectos!$J$4:$P$4,GEfectos!J92:P92),IF(EFECTOS!$N$9=\"HONDURAS\",LOOKUP(4,GEfectos!$J$4:$P$4,GEfectos!J92:P92),IF(EFECTOS!$N$9=\"NICARAGUA\",LOOKUP(5,GEfectos!$J$4:$P$4,GEfectos!J92:P92),IF(EFECTOS!$N$9=\"REPÚBLICA \nDOMINICANA\",LOOKUP(6,$J$4:$P$4,J92:P92),IF(EFECTOS!$N$9=\"PANAMÁ\",LOOKUP(7,GEfectos!$J$4:$P$4,GEfectos!J92:P92))))))))","v":102.78288391262818},{"$f":"IF(EFECTOS!$N$9=\"COSTA RICA\",LOOKUP(1,GEfectos!$Q$4:$W$4,GEfectos!Q92:W92),IF(EFECTOS!$N$9=\"EL SALVADOR\",LOOKUP(2,GEfectos!$Q$4:$W$4,GEfectos!Q92:W92),IF(EFECTOS!$N$9=\"GUATEMALA\",LOOKUP(3,GEfectos!$Q$4:$W$4,GEfectos!Q92:W92),IF(EFECTOS!$N$9=\"HONDURAS\",LOOKUP(4,GEfectos!$Q$4:$W$4,GEfectos!Q92:W92),IF(EFECTOS!$N$9=\"NICARAGUA\",LOOKUP(5,GEfectos!$Q$4:$W$4,GEfectos!Q92:W92),IF(EFECTOS!$N$9=\"REPÚBLICA \nDOMINICANA\",LOOKUP(6,$Q$4:$W$4,Q92:W92),IF(EFECTOS!$N$9=\"PANAMÁ\",LOOKUP(7,GEfectos!$Q$4:$W$4,GEfectos!Q92:W92))))))))","v":100.50941714010047},100]
[null,{"$f":"'ITCER GLOBAL'!B93","v":"Abril"},{"$f":"'ITCER GLOBAL'!C93","v":100.050082621732},{"$f":"'ITCER GLOBAL'!D93","v":100.15631797673014},{"$f":"'ITCER GLOBAL'!E93","v":92.059628521055856},{"$f":"'ITCER GLOBAL'!F93","v":98.816170194822234},{"$f":"'ITCER GLOBAL'!G93","v":104.01870884421324},{"$f":"'ITCER GLOBAL'!H93","v":104.60086259474521},{"$f":"'ITCER GLOBAL'!I93","v":101.07937320765426},{"$f":"'ITCER GLOBAL'!S93","v":109.3264142083638},{"$f":"'ITCER GLOBAL'!T93","v":99.016616251396286},{"$f":"'ITCER GLOBAL'!U93","v":99.12326533760293},{"$f":"'ITCER GLOBAL'!V93","v":105.71130562649091},{"$f":"'ITCER GLOBAL'!W93","v":105.35127220150385},{"$f":"'ITCER GLOBAL'!X93","v":105.30022709729214},{"$f":"'ITCER GLOBAL'!Y93","v":97.565821342554699},{"$f":"'ITCER GLOBAL'!AA93","v":109.27168808216143},{"$f":"'ITCER GLOBAL'!AB93","v":98.862077052793978},{"$f":"'ITCER GLOBAL'!AC93","v":107.67289302599291},{"$f":"'ITCER GLOBAL'!AD93","v":106.97773999748674},{"$f":"'ITCER GLOBAL'!AE93","v":101.28108046340623},{"$f":"'ITCER GLOBAL'!AF93","v":100.6686029973352},{"$f":"'ITCER GLOBAL'!AG93","v":96.523967498411949},null,{"$f":"IF(EFECTOS!$N$9=\"COSTA RICA\",LOOKUP(1,GEfectos!$C$4:$I$4,GEfectos!C93:I93),IF(EFECTOS!$N$9=\"EL SALVADOR\",LOOKUP(2,GEfectos!$C$4:$I$4,GEfectos!C93:I93),IF(EFECTOS!$N$9=\"GUATEMALA\",LOOKUP(3,GEfectos!$C$4:$I$4,GEfectos!C93:I93),IF(EFECTOS!$N$9=\"HONDURAS\",LOOKUP(4,GEfectos!$C$4:$I$4,GEfectos!C93:I93),IF(EFECTOS!$N$9=\"NICARAGUA\",LOOKUP(5,GEfectos!$C$4:$I$4,GEfectos!C93:I93),IF(EFECTOS!$N$9=\"REPÚBLICA \nDOMINICANA\",LOOKUP(6,$C$4:$I$4,C93:I93),IF(EFECTOS!$N$9=\"PANAMÁ\",LOOKUP(7,GEfectos!$C$4:$I$4,GEfectos!C93:I93))))))))","v":104.60086259474521},{"$f":"IF(EFECTOS!$N$9=\"COSTA RICA\",LOOKUP(1,GEfectos!$J$4:$P$4,GEfectos!J93:P93),IF(EFECTOS!$N$9=\"EL SALVADOR\",LOOKUP(2,GEfectos!$J$4:$P$4,GEfectos!J93:P93),IF(EFECTOS!$N$9=\"GUATEMALA\",LOOKUP(3,GEfectos!$J$4:$P$4,GEfectos!J93:P93),IF(EFECTOS!$N$9=\"HONDURAS\",LOOKUP(4,GEfectos!$J$4:$P$4,GEfectos!J93:P93),IF(EFECTOS!$N$9=\"NICARAGUA\",LOOKUP(5,GEfectos!$J$4:$P$4,GEfectos!J93:P93),IF(EFECTOS!$N$9=\"REPÚBLICA \nDOMINICANA\",LOOKUP(6,$J$4:$P$4,J93:P93),IF(EFECTOS!$N$9=\"PANAMÁ\",LOOKUP(7,GEfectos!$J$4:$P$4,GEfectos!J93:P93))))))))","v":105.30022709729214},{"$f":"IF(EFECTOS!$N$9=\"COSTA RICA\",LOOKUP(1,GEfectos!$Q$4:$W$4,GEfectos!Q93:W93),IF(EFECTOS!$N$9=\"EL SALVADOR\",LOOKUP(2,GEfectos!$Q$4:$W$4,GEfectos!Q93:W93),IF(EFECTOS!$N$9=\"GUATEMALA\",LOOKUP(3,GEfectos!$Q$4:$W$4,GEfectos!Q93:W93),IF(EFECTOS!$N$9=\"HONDURAS\",LOOKUP(4,GEfectos!$Q$4:$W$4,GEfectos!Q93:W93),IF(EFECTOS!$N$9=\"NICARAGUA\",LOOKUP(5,GEfectos!$Q$4:$W$4,GEfectos!Q93:W93),IF(EFECTOS!$N$9=\"REPÚBLICA \nDOMINICANA\",LOOKUP(6,$Q$4:$W$4,Q93:W93),IF(EFECTOS!$N$9=\"PANAMÁ\",LOOKUP(7,GEfectos!$Q$4:$W$4,GEfectos!Q93:W93))))))))","v":100.6686029973352},100]
[null,{"$f":"'ITCER GLOBAL'!B94","v":"Mayo"},{"$f":"'ITCER GLOBAL'!C94","v":100.66686938124703},{"$f":"'ITCER GLOBAL'!D94","v":100.24193503089835},{"$f":"'ITCER GLOBAL'!E94","v":92.367517261074937},{"$f":"'ITCER GLOBAL'!F94","v":99.028053538779574},{"$f":"'ITCER GLOBAL'!G94","v":104.56387869730524},{"$f":"'ITCER GLOBAL'!H94","v":105.24644350510115},{"$f":"'ITCER GLOBAL'!I94","v":101.63080962542742},{"$f":"'ITCER GLOBAL'!S94","v":110.59078657084223},{"$f":"'ITCER GLOBAL'!T94","v":98.958276760080665},{"$f":"'ITCER GLOBAL'!U94","v":99.68291182461671},{"$f":"'ITCER GLOBAL'!V94","v":106.35663087894787},{"$f":"'ITCER GLOBAL'!W94","v":106.21916158289299},{"$f":"'ITCER GLOBAL'!X94","v":105.52858307764639},{"$f":"'ITCER GLOBAL'!Y94","v":97.782454991054195},{"$f":"'ITCER GLOBAL'!AA94","v":109.85817603208778},{"$f":"'ITCER GLOBAL'!AB94","v":98.719439852770194},{"$f":"'ITCER GLOBAL'!AC94","v":107.91987787531949},{"$f":"'ITCER GLOBAL'!AD94","v":107.40050629925632},{"$f":"'ITCER GLOBAL'!AE94","v":101.58303508459122},{"$f":"'ITCER GLOBAL'!AF94","v":100.2680751606885},{"$f":"'ITCER GLOBAL'!AG94","v":96.213397641368019},null,{"$f":"IF(EFECTOS!$N$9=\"COSTA RICA\",LOOKUP(1,GEfectos!$C$4:$I$4,GEfectos!C94:I94),IF(EFECTOS!$N$9=\"EL SALVADOR\",LOOKUP(2,GEfectos!$C$4:$I$4,GEfectos!C94:I94),IF(EFECTOS!$N$9=\"GUATEMALA\",LOOKUP(3,GEfectos!$C$4:$I$4,GEfectos!C94:I94),IF(EFECTOS!$N$9=\"HONDURAS\",LOOKUP(4,GEfectos!$C$4:$I$4,GEfectos!C94:I94),IF(EFECTOS!$N$9=\"NICARAGUA\",LOOKUP(5,GEfectos!$C$4:$I$4,GEfectos!C94:I94),IF(EFECTOS!$N$9=\"REPÚBLICA \nDOMINICANA\",LOOKUP(6,$C$4:$I$4,C94:I94),IF(EFECTOS!$N$9=\"PANAMÁ\",LOOKUP(7,GEfectos!$C$4:$I$4,GEfectos!C94:I94))))))))","v":105.24644350510115},{"$f":"IF(EFECTOS!$N$9=\"COSTA RICA\",LOOKUP(1,GEfectos!$J$4:$P$4,GEfectos!J94:P94),IF(EFECTOS!$N$9=\"EL SALVADOR\",LOOKUP(2,GEfectos!$J$4:$P$4,GEfectos!J94:P94),IF(EFECTOS!$N$9=\"GUATEMALA\",LOOKUP(3,GEfectos!$J$4:$P$4,GEfectos!J94:P94),IF(EFECTOS!$N$9=\"HONDURAS\",LOOKUP(4,GEfectos!$J$4:$P$4,GEfectos!J94:P94),IF(EFECTOS!$N$9=\"NICARAGUA\",LOOKUP(5,GEfectos!$J$4:$P$4,GEfectos!J94:P94),IF(EFECTOS!$N$9=\"REPÚBLICA \nDOMINICANA\",LOOKUP(6,$J$4:$P$4,J94:P94),IF(EFECTOS!$N$9=\"PANAMÁ\",LOOKUP(7,GEfectos!$J$4:$P$4,GEfectos!J94:P94))))))))","v":105.52858307764639},{"$f":"IF(EFECTOS!$N$9=\"COSTA RICA\",LOOKUP(1,GEfectos!$Q$4:$W$4,GEfectos!Q94:W94),IF(EFECTOS!$N$9=\"EL SALVADOR\",LOOKUP(2,GEfectos!$Q$4:$W$4,GEfectos!Q94:W94),IF(EFECTOS!$N$9=\"GUATEMALA\",LOOKUP(3,GEfectos!$Q$4:$W$4,GEfectos!Q94:W94),IF(EFECTOS!$N$9=\"HONDURAS\",LOOKUP(4,GEfectos!$Q$4:$W$4,GEfectos!Q94:W94),IF(EFECTOS!$N$9=\"NICARAGUA\",LOOKUP(5,GEfectos!$Q$4:$W$4,GEfectos!Q94:W94),IF(EFECTOS!$N$9=\"REPÚBLICA \nDOMINICANA\",LOOKUP(6,$Q$4:$W$4,Q94:W94),IF(EFECTOS!$N$9=\"PANAMÁ\",LOOKUP(7,GEfectos!$Q$4:$W$4,GEfectos!Q94:W94))))))))","v":100.2680751606885},100]
[null,{"$f":"'ITCER GLOBAL'!B95","v":"Junio"},{"$f":"'ITCER GLOBAL'!C95","v":101.3904805914336},{"$f":"'ITCER GLOBAL'!D95","v":99.747409603059879},{"$f":"'ITCER GLOBAL'!E95","v":92.425271954777656},{"$f":"'ITCER GLOBAL'!F95","v":98.684136568397506},{"$f":"'ITCER GLOBAL'!G95","v":105.6163144793538},{"$f":"'ITCER GLOBAL'!H95","v":105.40180504581485},{"$f":"'ITCER GLOBAL'!I95","v":101.83388172990466},{"$f":"'ITCER GLOBAL'!S95","v":111.96396220105285},{"$f":"'ITCER GLOBAL'!T95","v":98.926104616798412},{"$f":"'ITCER GLOBAL'!U95","v":100.09313065152325},{"$f":"'ITCER GLOBAL'!V95","v":107.00139150915886},{"$f":"'ITCER GLOBAL'!W95","v":107.1951335185616},{"$f":"'ITCER GLOBAL'!X95","v":105.74637978067803},{"$f":"'ITCER GLOBAL'!Y95","v":97.943927685227308},{"$f":"'ITCER GLOBAL'!AA95","v":110.42847567931599},{"$f":"'ITCER GLOBAL'!AB95","v":99.176615222861614},{"$f":"'ITCER GLOBAL'!AC95","v":108.29627929090364},{"$f":"'ITCER GLOBAL'!AD95","v":108.42815798970558},{"$f":"'ITCER GLOBAL'!AE95","v":101.49486284102107},{"$f":"'ITCER GLOBAL'!AF95","v":100.32691540217304},{"$f":"'ITCER GLOBAL'!AG95","v":96.180098432273525},null,{"$f":"IF(EFECTOS!$N$9=\"COSTA RICA\",LOOKUP(1,GEfectos!$C$4:$I$4,GEfectos!C95:I95),IF(EFECTOS!$N$9=\"EL SALVADOR\",LOOKUP(2,GEfectos!$C$4:$I$4,GEfectos!C95:I95),IF(EFECTOS!$N$9=\"GUATEMALA\",LOOKUP(3,GEfectos!$C$4:$I$4,GEfectos!C95:I95),IF(EFECTOS!$N$9=\"HONDURAS\",LOOKUP(4,GEfectos!$C$4:$I$4,GEfectos!C95:I95),IF(EFECTOS!$N$9=\"NICARAGUA\",LOOKUP(5,GEfectos!$C$4:$I$4,GEfectos!C95:I95),IF(EFECTOS!$N$9=\"REPÚBLICA \nDOMINICANA\",LOOKUP(6,$C$4:$I$4,C95:I95),IF(EFECTOS!$N$9=\"PANAMÁ\",LOOKUP(7,GEfectos!$C$4:$I$4,GEfectos!C95:I95))))))))","v":105.40180504581485},{"$f":"IF(EFECTOS!$N$9=\"COSTA RICA\",LOOKUP(1,GEfectos!$J$4:$P$4,GEfectos!J95:P95),IF(EFECTOS!$N$9=\"EL SALVADOR\",LOOKUP(2,GEfectos!$J$4:$P$4,GEfectos!J95:P95),IF(EFECTOS!$N$9=\"GUATEMALA\",LOOKUP(3,GEfectos!$J$4:$P$4,GEfectos!J95:P95),IF(EFECTOS!$N$9=\"HONDURAS\",LOOKUP(4,GEfectos!$J$4:$P$4,GEfectos!J95:P95),IF(EFECTOS!$N$9=\"NICARAGUA\",LOOKUP(5,GEfectos!$J$4:$P$4,GEfectos!J95:P95),IF(EFECTOS!$N$9=\"REPÚBLICA \nDOMINICANA\",LOOKUP(6,$J$4:$P$4,J95:P95),IF(EFECTOS!$N$9=\"PANAMÁ\",LOOKUP(7,GEfectos!$J$4:$P$4,GEfectos!J95:P95))))))))","v":105.74637978067803},{"$f":"IF(EFECTOS!$N$9=\"COSTA RICA\",LOOKUP(1,GEfectos!$Q$4:$W$4,GEfectos!Q95:W95),IF(EFECTOS!$N$9=\"EL SALVADOR\",LOOKUP(2,GEfectos!$Q$4:$W$4,GEfectos!Q95:W95),IF(EFECTOS!$N$9=\"GUATEMALA\",LOOKUP(3,GEfectos!$Q$4:$W$4,GEfectos!Q95:W95),IF(EFECTOS!$N$9=\"HONDURAS\",LOOKUP(4,GEfectos!$Q$4:$W$4,GEfectos!Q95:W95),IF(EFECTOS!$N$9=\"NICARAGUA\",LOOKUP(5,GEfectos!$Q$4:$W$4,GEfectos!Q95:W95),IF(EFECTOS!$N$9=\"REPÚBLICA \nDOMINICANA\",LOOKUP(6,$Q$4:$W$4,Q95:W95),IF(EFECTOS!$N$9=\"PANAMÁ\",LOOKUP(7,GEfectos!$Q$4:$W$4,GEfectos!Q95:W95))))))))","v":100.32691540217304},100]
[null,{"$f":"'ITCER GLOBAL'!B96","v":"Julio"},{"$f":"'ITCER GLOBAL'!C96","v":101.29126544637103},{"$f":"'ITCER GLOBAL'!D96","v":99.972584453780016},{"$f":"'ITCER GLOBAL'!E96","v":91.478050802774746},{"$f":"'ITCER GLOBAL'!F96","v":98.835933690351382},{"$f":"'ITCER GLOBAL'!G96","v":106.4895597372556},{"$f":"'ITCER GLOBAL'!H96","v":105.30617994232418},{"$f":"'ITCER GLOBAL'!I96","v":101.87776117908695},{"$f":"'ITCER GLOBAL'!S96","v":113.35293097480795},{"$f":"'ITCER GLOBAL'!T96","v":99.063393489676642},{"$f":"'ITCER GLOBAL'!U96","v":99.683978413448472},{"$f":"'ITCER GLOBAL'!V96","v":107.80643008647574},{"$f":"'ITCER GLOBAL'!W96","v":107.92344726972911},{"$f":"'ITCER GLOBAL'!X96","v":105.97203042682814},{"$f":"'ITCER GLOBAL'!Y96","v":98.011028104628338},{"$f":"'ITCER GLOBAL'!AA96","v":111.90790289299228},{"$f":"'ITCER GLOBAL'!AB96","v":99.09055970787297},{"$f":"'ITCER GLOBAL'!AC96","v":108.97037872873526},{"$f":"'ITCER GLOBAL'!AD96","v":109.07614878635994},{"$f":"'ITCER GLOBAL'!AE96","v":101.34650526869618},{"$f":"'ITCER GLOBAL'!AF96","v":100.63229953348289},{"$f":"'ITCER GLOBAL'!AG96","v":96.204536662656508},null,{"$f":"IF(EFECTOS!$N$9=\"COSTA RICA\",LOOKUP(1,GEfectos!$C$4:$I$4,GEfectos!C96:I96),IF(EFECTOS!$N$9=\"EL SALVADOR\",LOOKUP(2,GEfectos!$C$4:$I$4,GEfectos!C96:I96),IF(EFECTOS!$N$9=\"GUATEMALA\",LOOKUP(3,GEfectos!$C$4:$I$4,GEfectos!C96:I96),IF(EFECTOS!$N$9=\"HONDURAS\",LOOKUP(4,GEfectos!$C$4:$I$4,GEfectos!C96:I96),IF(EFECTOS!$N$9=\"NICARAGUA\",LOOKUP(5,GEfectos!$C$4:$I$4,GEfectos!C96:I96),IF(EFECTOS!$N$9=\"REPÚBLICA \nDOMINICANA\",LOOKUP(6,$C$4:$I$4,C96:I96),IF(EFECTOS!$N$9=\"PANAMÁ\",LOOKUP(7,GEfectos!$C$4:$I$4,GEfectos!C96:I96))))))))","v":105.30617994232418},{"$f":"IF(EFECTOS!$N$9=\"COSTA RICA\",LOOKUP(1,GEfectos!$J$4:$P$4,GEfectos!J96:P96),IF(EFECTOS!$N$9=\"EL SALVADOR\",LOOKUP(2,GEfectos!$J$4:$P$4,GEfectos!J96:P96),IF(EFECTOS!$N$9=\"GUATEMALA\",LOOKUP(3,GEfectos!$J$4:$P$4,GEfectos!J96:P96),IF(EFECTOS!$N$9=\"HONDURAS\",LOOKUP(4,GEfectos!$J$4:$P$4,GEfectos!J96:P96),IF(EFECTOS!$N$9=\"NICARAGUA\",LOOKUP(5,GEfectos!$J$4:$P$4,GEfectos!J96:P96),IF(EFECTOS!$N$9=\"REPÚBLICA \nDOMINICANA\",LOOKUP(6,$J$4:$P$4,J96:P96),IF(EFECTOS!$N$9=\"PANAMÁ\",LOOKUP(7,GEfectos!$J$4:$P$4,GEfectos!J96:P96))))))))","v":105.97203042682814},{"$f":"IF(EFECTOS!$N$9=\"COSTA RICA\",LOOKUP(1,GEfectos!$Q$4:$W$4,GEfectos!Q96:W96),IF(EFECTOS!$N$9=\"EL SALVADOR\",LOOKUP(2,GEfectos!$Q$4:$W$4,GEfectos!Q96:W96),IF(EFECTOS!$N$9=\"GUATEMALA\",LOOKUP(3,GEfectos!$Q$4:$W$4,GEfectos!Q96:W96),IF(EFECTOS!$N$9=\"HONDURAS\",LOOKUP(4,GEfectos!$Q$4:$W$4,GEfectos!Q96:W96),IF(EFECTOS!$N$9=\"NICARAGUA\",LOOKUP(5,GEfectos!$Q$4:$W$4,GEfectos!Q96:W96),IF(EFECTOS!$N$9=\"REPÚBLICA \nDOMINICANA\",LOOKUP(6,$Q$4:$W$4,Q96:W96),IF(EFECTOS!$N$9=\"PANAMÁ\",LOOKUP(7,GEfectos!$Q$4:$W$4,GEfectos!Q96:W96))))))))","v":100.63229953348289},100]
[null,{"$f":"'ITCER GLOBAL'!B97","v":"Agosto"},{"$f":"'ITCER GLOBAL'!C97","v":101.0072617643788},{"$f":"'ITCER GLOBAL'!D97","v":100.66371343606993},{"$f":"'ITCER GLOBAL'!E97","v":90.508668625061873},{"$f":"'ITCER GLOBAL'!F97","v":98.872050653010277},{"$f":"'ITCER GLOBAL'!G97","v":106.81841783964975},{"$f":"'ITCER GLOBAL'!H97","v":104.58108160808278},{"$f":"'ITCER GLOBAL'!I97","v":101.31325561708057},{"$f":"'ITCER GLOBAL'!S97","v":114.07210894119994},{"$f":"'ITCER GLOBAL'!T97","v":99.044550932465441},{"$f":"'ITCER GLOBAL'!U97","v":98.31451213803291},{"$f":"'ITCER GLOBAL'!V97","v":108.2574674833114},{"$f":"'ITCER GLOBAL'!W97","v":108.04352745911518},{"$f":"'ITCER GLOBAL'!X97","v":105.8318371602668},{"$f":"'ITCER GLOBAL'!Y97","v":97.482330741038652},{"$f":"'ITCER GLOBAL'!AA97","v":112.934562276619},{"$f":"'ITCER GLOBAL'!AB97","v":98.391513239144714},{"$f":"'ITCER GLOBAL'!AC97","v":108.62441535330416},{"$f":"'ITCER GLOBAL'!AD97","v":109.49248727857285},{"$f":"'ITCER GLOBAL'!AE97","v":101.14690859895012},{"$f":"'ITCER GLOBAL'!AF97","v":101.19596731354454},{"$f":"'ITCER GLOBAL'!AG97","v":96.218732827497803},null,{"$f":"IF(EFECTOS!$N$9=\"COSTA RICA\",LOOKUP(1,GEfectos!$C$4:$I$4,GEfectos!C97:I97),IF(EFECTOS!$N$9=\"EL SALVADOR\",LOOKUP(2,GEfectos!$C$4:$I$4,GEfectos!C97:I97),IF(EFECTOS!$N$9=\"GUATEMALA\",LOOKUP(3,GEfectos!$C$4:$I$4,GEfectos!C97:I97),IF(EFECTOS!$N$9=\"HONDURAS\",LOOKUP(4,GEfectos!$C$4:$I$4,GEfectos!C97:I97),IF(EFECTOS!$N$9=\"NICARAGUA\",LOOKUP(5,GEfectos!$C$4:$I$4,GEfectos!C97:I97),IF(EFECTOS!$N$9=\"REPÚBLICA \nDOMINICANA\",LOOKUP(6,$C$4:$I$4,C97:I97),IF(EFECTOS!$N$9=\"PANAMÁ\",LOOKUP(7,GEfectos!$C$4:$I$4,GEfectos!C97:I97))))))))","v":104.58108160808278},{"$f":"IF(EFECTOS!$N$9=\"COSTA RICA\",LOOKUP(1,GEfectos!$J$4:$P$4,GEfectos!J97:P97),IF(EFECTOS!$N$9=\"EL SALVADOR\",LOOKUP(2,GEfectos!$J$4:$P$4,GEfectos!J97:P97),IF(EFECTOS!$N$9=\"GUATEMALA\",LOOKUP(3,GEfectos!$J$4:$P$4,GEfectos!J97:P97),IF(EFECTOS!$N$9=\"HONDURAS\",LOOKUP(4,GEfectos!$J$4:$P$4,GEfectos!J97:P97),IF(EFECTOS!$N$9=\"NICARAGUA\",LOOKUP(5,GEfectos!$J$4:$P$4,GEfectos!J97:P97),IF(EFECTOS!$N$9=\"REPÚBLICA \nDOMINICANA\",LOOKUP(6,$J$4:$P$4,J97:P97),IF(EFECTOS!$N$9=\"PANAMÁ\",LOOKUP(7,GEfectos!$J$4:$P$4,GEfectos!J97:P97))))))))","v":105.8318371602668},{"$f":"IF(EFECTOS!$N$9=\"COSTA RICA\",LOOKUP(1,GEfectos!$Q$4:$W$4,GEfectos!Q97:W97),IF(EFECTOS!$N$9=\"EL SALVADOR\",LOOKUP(2,GEfectos!$Q$4:$W$4,GEfectos!Q97:W97),IF(EFECTOS!$N$9=\"GUATEMALA\",LOOKUP(3,GEfectos!$Q$4:$W$4,GEfectos!Q97:W97),IF(EFECTOS!$N$9=\"HONDURAS\",LOOKUP(4,GEfectos!$Q$4:$W$4,GEfectos!Q97:W97),IF(EFECTOS!$N$9=\"NICARAGUA\",LOOKUP(5,GEfectos!$Q$4:$W$4,GEfectos!Q97:W97),IF(EFECTOS!$N$9=\"REPÚBLICA \nDOMINICANA\",LOOKUP(6,$Q$4:$W$4,Q97:W97),IF(EFECTOS!$N$9=\"PANAMÁ\",LOOKUP(7,GEfectos!$Q$4:$W$4,GEfectos!Q97:W97))))))))","v":101.19596731354454},100]
[null,{"$f":"'ITCER GLOBAL'!B98","v":"Septiembre"},{"$f":"'ITCER GLOBAL'!C98","v":101.05079166962086},{"$f":"'ITCER GLOBAL'!D98","v":100.76155940307461},{"$f":"'ITCER GLOBAL'!E98","v":90.404554789720208},{"$f":"'ITCER GLOBAL'!F98","v":98.919935825516376},{"$f":"'ITCER GLOBAL'!G98","v":106.74225407024775},{"$f":"'ITCER GLOBAL'!H98","v":102.96554758094281},{"$f":"'ITCER GLOBAL'!I98","v":100.76032269209772},{"$f":"'ITCER GLOBAL'!S98","v":114.34331832319226},{"$f":"'ITCER GLOBAL'!T98","v":98.641062606442787},{"$f":"'ITCER GLOBAL'!U98","v":97.741834799007847},{"$f":"'ITCER GLOBAL'!V98","v":108.34823096970689},{"$f":"'ITCER GLOBAL'!W98","v":108.31706672423059},{"$f":"'ITCER GLOBAL'!X98","v":105.43698302227315},{"$f":"'ITCER GLOBAL'!Y98","v":96.630500135937282},{"$f":"'ITCER GLOBAL'!AA98","v":113.15430234038193},{"$f":"'ITCER GLOBAL'!AB98","v":97.895529992594447},{"$f":"'ITCER GLOBAL'!AC98","v":108.11605126130431},{"$f":"'ITCER GLOBAL'!AD98","v":109.53123863810524},{"$f":"'ITCER GLOBAL'!AE98","v":101.47534138912452},{"$f":"'ITCER GLOBAL'!AF98","v":102.4002547448092},{"$f":"'ITCER GLOBAL'!AG98","v":95.901340482225024},null,{"$f":"IF(EFECTOS!$N$9=\"COSTA RICA\",LOOKUP(1,GEfectos!$C$4:$I$4,GEfectos!C98:I98),IF(EFECTOS!$N$9=\"EL SALVADOR\",LOOKUP(2,GEfectos!$C$4:$I$4,GEfectos!C98:I98),IF(EFECTOS!$N$9=\"GUATEMALA\",LOOKUP(3,GEfectos!$C$4:$I$4,GEfectos!C98:I98),IF(EFECTOS!$N$9=\"HONDURAS\",LOOKUP(4,GEfectos!$C$4:$I$4,GEfectos!C98:I98),IF(EFECTOS!$N$9=\"NICARAGUA\",LOOKUP(5,GEfectos!$C$4:$I$4,GEfectos!C98:I98),IF(EFECTOS!$N$9=\"REPÚBLICA \nDOMINICANA\",LOOKUP(6,$C$4:$I$4,C98:I98),IF(EFECTOS!$N$9=\"PANAMÁ\",LOOKUP(7,GEfectos!$C$4:$I$4,GEfectos!C98:I98))))))))","v":102.96554758094281},{"$f":"IF(EFECTOS!$N$9=\"COSTA RICA\",LOOKUP(1,GEfectos!$J$4:$P$4,GEfectos!J98:P98),IF(EFECTOS!$N$9=\"EL SALVADOR\",LOOKUP(2,GEfectos!$J$4:$P$4,GEfectos!J98:P98),IF(EFECTOS!$N$9=\"GUATEMALA\",LOOKUP(3,GEfectos!$J$4:$P$4,GEfectos!J98:P98),IF(EFECTOS!$N$9=\"HONDURAS\",LOOKUP(4,GEfectos!$J$4:$P$4,GEfectos!J98:P98),IF(EFECTOS!$N$9=\"NICARAGUA\",LOOKUP(5,GEfectos!$J$4:$P$4,GEfectos!J98:P98),IF(EFECTOS!$N$9=\"REPÚBLICA \nDOMINICANA\",LOOKUP(6,$J$4:$P$4,J98:P98),IF(EFECTOS!$N$9=\"PANAMÁ\",LOOKUP(7,GEfectos!$J$4:$P$4,GEfectos!J98:P98))))))))","v":105.43698302227315},{"$f":"IF(EFECTOS!$N$9=\"COSTA RICA\",LOOKUP(1,GEfectos!$Q$4:$W$4,GEfectos!Q98:W98),IF(EFECTOS!$N$9=\"EL SALVADOR\",LOOKUP(2,GEfectos!$Q$4:$W$4,GEfectos!Q98:W98),IF(EFECTOS!$N$9=\"GUATEMALA\",LOOKUP(3,GEfectos!$Q$4:$W$4,GEfectos!Q98:W98),IF(EFECTOS!$N$9=\"HONDURAS\",LOOKUP(4,GEfectos!$Q$4:$W$4,GEfectos!Q98:W98),IF(EFECTOS!$N$9=\"NICARAGUA\",LOOKUP(5,GEfectos!$Q$4:$W$4,GEfectos!Q98:W98),IF(EFECTOS!$N$9=\"REPÚBLICA \nDOMINICANA\",LOOKUP(6,$Q$4:$W$4,Q98:W98),IF(EFECTOS!$N$9=\"PANAMÁ\",LOOKUP(7,GEfectos!$Q$4:$W$4,GEfectos!Q98:W98))))))))","v":102.4002547448092},100]
[null,{"$f":"'ITCER GLOBAL'!B99","v":"Octubre"},{"$f":"'ITCER GLOBAL'!C99","v":101.47450877623015},{"$f":"'ITCER GLOBAL'!D99","v":100.85099275045935},{"$f":"'ITCER GLOBAL'!E99","v":89.55943866006524},{"$f":"'ITCER GLOBAL'!F99","v":99.06081720542042},{"$f":"'ITCER GLOBAL'!G99","v":107.17490748938063},{"$f":"'ITCER GLOBAL'!H99","v":100.14507201650069},{"$f":"'ITCER GLOBAL'!I99","v":100.38418613486037},{"$f":"'ITCER GLOBAL'!S99","v":115.30773055544607},{"$f":"'ITCER GLOBAL'!T99","v":98.619982168357538},{"$f":"'ITCER GLOBAL'!U99","v":96.856079257820369},{"$f":"'ITCER GLOBAL'!V99","v":108.87279809537075},{"$f":"'ITCER GLOBAL'!W99","v":108.55471115344866},{"$f":"'ITCER GLOBAL'!X99","v":105.32319467344354},{"$f":"'ITCER GLOBAL'!Y99","v":96.285867592338121},{"$f":"'ITCER GLOBAL'!AA99","v":113.63221359338699},{"$f":"'ITCER GLOBAL'!AB99","v":97.787814952281011},{"$f":"'ITCER GLOBAL'!AC99","v":108.14726030770525},{"$f":"'ITCER GLOBAL'!AD99","v":109.90500701160524},{"$f":"'ITCER GLOBAL'!AE99","v":101.28743163524985},{"$f":"'ITCER GLOBAL'!AF99","v":105.17062153202073},{"$f":"'ITCER GLOBAL'!AG99","v":95.917366369822048},null,{"$f":"IF(EFECTOS!$N$9=\"COSTA RICA\",LOOKUP(1,GEfectos!$C$4:$I$4,GEfectos!C99:I99),IF(EFECTOS!$N$9=\"EL SALVADOR\",LOOKUP(2,GEfectos!$C$4:$I$4,GEfectos!C99:I99),IF(EFECTOS!$N$9=\"GUATEMALA\",LOOKUP(3,GEfectos!$C$4:$I$4,GEfectos!C99:I99),IF(EFECTOS!$N$9=\"HONDURAS\",LOOKUP(4,GEfectos!$C$4:$I$4,GEfectos!C99:I99),IF(EFECTOS!$N$9=\"NICARAGUA\",LOOKUP(5,GEfectos!$C$4:$I$4,GEfectos!C99:I99),IF(EFECTOS!$N$9=\"REPÚBLICA \nDOMINICANA\",LOOKUP(6,$C$4:$I$4,C99:I99),IF(EFECTOS!$N$9=\"PANAMÁ\",LOOKUP(7,GEfectos!$C$4:$I$4,GEfectos!C99:I99))))))))","v":100.14507201650069},{"$f":"IF(EFECTOS!$N$9=\"COSTA RICA\",LOOKUP(1,GEfectos!$J$4:$P$4,GEfectos!J99:P99),IF(EFECTOS!$N$9=\"EL SALVADOR\",LOOKUP(2,GEfectos!$J$4:$P$4,GEfectos!J99:P99),IF(EFECTOS!$N$9=\"GUATEMALA\",LOOKUP(3,GEfectos!$J$4:$P$4,GEfectos!J99:P99),IF(EFECTOS!$N$9=\"HONDURAS\",LOOKUP(4,GEfectos!$J$4:$P$4,GEfectos!J99:P99),IF(EFECTOS!$N$9=\"NICARAGUA\",LOOKUP(5,GEfectos!$J$4:$P$4,GEfectos!J99:P99),IF(EFECTOS!$N$9=\"REPÚBLICA \nDOMINICANA\",LOOKUP(6,$J$4:$P$4,J99:P99),IF(EFECTOS!$N$9=\"PANAMÁ\",LOOKUP(7,GEfectos!$J$4:$P$4,GEfectos!J99:P99))))))))","v":105.32319467344354},{"$f":"IF(EFECTOS!$N$9=\"COSTA RICA\",LOOKUP(1,GEfectos!$Q$4:$W$4,GEfectos!Q99:W99),IF(EFECTOS!$N$9=\"EL SALVADOR\",LOOKUP(2,GEfectos!$Q$4:$W$4,GEfectos!Q99:W99),IF(EFECTOS!$N$9=\"GUATEMALA\",LOOKUP(3,GEfectos!$Q$4:$W$4,GEfectos!Q99:W99),IF(EFECTOS!$N$9=\"HONDURAS\",LOOKUP(4,GEfectos!$Q$4:$W$4,GEfectos!Q99:W99),IF(EFECTOS!$N$9=\"NICARAGUA\",LOOKUP(5,GEfectos!$Q$4:$W$4,GEfectos!Q99:W99),IF(EFECTOS!$N$9=\"REPÚBLICA \nDOMINICANA\",LOOKUP(6,$Q$4:$W$4,Q99:W99),IF(EFECTOS!$N$9=\"PANAMÁ\",LOOKUP(7,GEfectos!$Q$4:$W$4,GEfectos!Q99:W99))))))))","v":105.17062153202073},100]
[null,{"$f":"'ITCER GLOBAL'!B100","v":"Noviembre"},{"$f":"'ITCER GLOBAL'!C100","v":101.91469679979811},{"$f":"'ITCER GLOBAL'!D100","v":101.45706373769212},{"$f":"'ITCER GLOBAL'!E100","v":88.135162249779384},{"$f":"'ITCER GLOBAL'!F100","v":99.320331007102808},{"$f":"'ITCER GLOBAL'!G100","v":108.39036291702645},{"$f":"'ITCER GLOBAL'!H100","v":99.871802481246078},{"$f":"'ITCER GLOBAL'!I100","v":101.07507623439047},{"$f":"'ITCER GLOBAL'!S100","v":116.86212815098074},{"$f":"'ITCER GLOBAL'!T100","v":98.858538732707373},{"$f":"'ITCER GLOBAL'!U100","v":95.566805139968707},{"$f":"'ITCER GLOBAL'!V100","v":109.70545393109407},{"$f":"'ITCER GLOBAL'!W100","v":109.32914051103613},{"$f":"'ITCER GLOBAL'!X100","v":105.46165574351969},{"$f":"'ITCER GLOBAL'!Y100","v":96.851136214742809},{"$f":"'ITCER GLOBAL'!AA100","v":114.66661023438598},{"$f":"'ITCER GLOBAL'!AB100","v":97.438793407521644},{"$f":"'ITCER GLOBAL'!AC100","v":108.43209758793849},{"$f":"'ITCER GLOBAL'!AD100","v":110.45619040803297},{"$f":"'ITCER GLOBAL'!AE100","v":100.86610799036472},{"$f":"'ITCER GLOBAL'!AF100","v":105.59702851395247},{"$f":"'ITCER GLOBAL'!AG100","v":95.820987550034147},null,{"$f":"IF(EFECTOS!$N$9=\"COSTA RICA\",LOOKUP(1,GEfectos!$C$4:$I$4,GEfectos!C100:I100),IF(EFECTOS!$N$9=\"EL SALVADOR\",LOOKUP(2,GEfectos!$C$4:$I$4,GEfectos!C100:I100),IF(EFECTOS!$N$9=\"GUATEMALA\",LOOKUP(3,GEfectos!$C$4:$I$4,GEfectos!C100:I100),IF(EFECTOS!$N$9=\"HONDURAS\",LOOKUP(4,GEfectos!$C$4:$I$4,GEfectos!C100:I100),IF(EFECTOS!$N$9=\"NICARAGUA\",LOOKUP(5,GEfectos!$C$4:$I$4,GEfectos!C100:I100),IF(EFECTOS!$N$9=\"REPÚBLICA \nDOMINICANA\",LOOKUP(6,$C$4:$I$4,C100:I100),IF(EFECTOS!$N$9=\"PANAMÁ\",LOOKUP(7,GEfectos!$C$4:$I$4,GEfectos!C100:I100))))))))","v":99.871802481246078},{"$f":"IF(EFECTOS!$N$9=\"COSTA RICA\",LOOKUP(1,GEfectos!$J$4:$P$4,GEfectos!J100:P100),IF(EFECTOS!$N$9=\"EL SALVADOR\",LOOKUP(2,GEfectos!$J$4:$P$4,GEfectos!J100:P100),IF(EFECTOS!$N$9=\"GUATEMALA\",LOOKUP(3,GEfectos!$J$4:$P$4,GEfectos!J100:P100),IF(EFECTOS!$N$9=\"HONDURAS\",LOOKUP(4,GEfectos!$J$4:$P$4,GEfectos!J100:P100),IF(EFECTOS!$N$9=\"NICARAGUA\",LOOKUP(5,GEfectos!$J$4:$P$4,GEfectos!J100:P100),IF(EFECTOS!$N$9=\"REPÚBLICA \nDOMINICANA\",LOOKUP(6,$J$4:$P$4,J100:P100),IF(EFECTOS!$N$9=\"PANAMÁ\",LOOKUP(7,GEfectos!$J$4:$P$4,GEfectos!J100:P100))))))))","v":105.46165574351969},{"$f":"IF(EFECTOS!$N$9=\"COSTA RICA\",LOOKUP(1,GEfectos!$Q$4:$W$4,GEfectos!Q100:W100),IF(EFECTOS!$N$9=\"EL SALVADOR\",LOOKUP(2,GEfectos!$Q$4:$W$4,GEfectos!Q100:W100),IF(EFECTOS!$N$9=\"GUATEMALA\",LOOKUP(3,GEfectos!$Q$4:$W$4,GEfectos!Q100:W100),IF(EFECTOS!$N$9=\"HONDURAS\",LOOKUP(4,GEfectos!$Q$4:$W$4,GEfectos!Q100:W100),IF(EFECTOS!$N$9=\"NICARAGUA\",LOOKUP(5,GEfectos!$Q$4:$W$4,GEfectos!Q100:W100),IF(EFECTOS!$N$9=\"REPÚBLICA \nDOMINICANA\",LOOKUP(6,$Q$4:$W$4,Q100:W100),IF(EFECTOS!$N$9=\"PANAMÁ\",LOOKUP(7,GEfectos!$Q$4:$W$4,GEfectos!Q100:W100))))))))","v":105.59702851395247},100]
[null,{"$f":"'ITCER GLOBAL'!B101","v":"Diciembre"},{"$f":"'ITCER GLOBAL'!C101","v":102.34397815526609},{"$f":"'ITCER GLOBAL'!D101","v":101.21889297487508},{"$f":"'ITCER GLOBAL'!E101","v":88.218377166331891},{"$f":"'ITCER GLOBAL'!F101","v":99.181535893962064},{"$f":"'ITCER GLOBAL'!G101","v":108.26696700803868},{"$f":"'ITCER GLOBAL'!H101","v":98.120821446283159},{"$f":"'ITCER GLOBAL'!I101","v":101.2981575317542},{"$f":"'ITCER GLOBAL'!S101","v":118.14377073616656},{"$f":"'ITCER GLOBAL'!T101","v":98.831744712691176},{"$f":"'ITCER GLOBAL'!U101","v":96.059102399759794},{"$f":"'ITCER GLOBAL'!V101","v":110.25584471030989},{"$f":"'ITCER GLOBAL'!W101","v":109.73187043269981},{"$f":"'ITCER GLOBAL'!X101","v":105.56662955462632},{"$f":"'ITCER GLOBAL'!Y101","v":96.768601825503339},{"$f":"'ITCER GLOBAL'!AA101","v":115.43793085405632},{"$f":"'ITCER GLOBAL'!AB101","v":97.641598132498402},{"$f":"'ITCER GLOBAL'!AC101","v":108.88785929335853},{"$f":"'ITCER GLOBAL'!AD101","v":111.16569603054714},{"$f":"'ITCER GLOBAL'!AE101","v":101.35304743925482},{"$f":"'ITCER GLOBAL'!AF101","v":107.58840784106094},{"$f":"'ITCER GLOBAL'!AG101","v":95.528491517892647},null,{"$f":"IF(EFECTOS!$N$9=\"COSTA RICA\",LOOKUP(1,GEfectos!$C$4:$I$4,GEfectos!C101:I101),IF(EFECTOS!$N$9=\"EL SALVADOR\",LOOKUP(2,GEfectos!$C$4:$I$4,GEfectos!C101:I101),IF(EFECTOS!$N$9=\"GUATEMALA\",LOOKUP(3,GEfectos!$C$4:$I$4,GEfectos!C101:I101),IF(EFECTOS!$N$9=\"HONDURAS\",LOOKUP(4,GEfectos!$C$4:$I$4,GEfectos!C101:I101),IF(EFECTOS!$N$9=\"NICARAGUA\",LOOKUP(5,GEfectos!$C$4:$I$4,GEfectos!C101:I101),IF(EFECTOS!$N$9=\"REPÚBLICA \nDOMINICANA\",LOOKUP(6,$C$4:$I$4,C101:I101),IF(EFECTOS!$N$9=\"PANAMÁ\",LOOKUP(7,GEfectos!$C$4:$I$4,GEfectos!C101:I101))))))))","v":98.120821446283159},{"$f":"IF(EFECTOS!$N$9=\"COSTA RICA\",LOOKUP(1,GEfectos!$J$4:$P$4,GEfectos!J101:P101),IF(EFECTOS!$N$9=\"EL SALVADOR\",LOOKUP(2,GEfectos!$J$4:$P$4,GEfectos!J101:P101),IF(EFECTOS!$N$9=\"GUATEMALA\",LOOKUP(3,GEfectos!$J$4:$P$4,GEfectos!J101:P101),IF(EFECTOS!$N$9=\"HONDURAS\",LOOKUP(4,GEfectos!$J$4:$P$4,GEfectos!J101:P101),IF(EFECTOS!$N$9=\"NICARAGUA\",LOOKUP(5,GEfectos!$J$4:$P$4,GEfectos!J101:P101),IF(EFECTOS!$N$9=\"REPÚBLICA \nDOMINICANA\",LOOKUP(6,$J$4:$P$4,J101:P101),IF(EFECTOS!$N$9=\"PANAMÁ\",LOOKUP(7,GEfectos!$J$4:$P$4,GEfectos!J101:P101))))))))","v":105.56662955462632},{"$f":"IF(EFECTOS!$N$9=\"COSTA RICA\",LOOKUP(1,GEfectos!$Q$4:$W$4,GEfectos!Q101:W101),IF(EFECTOS!$N$9=\"EL SALVADOR\",LOOKUP(2,GEfectos!$Q$4:$W$4,GEfectos!Q101:W101),IF(EFECTOS!$N$9=\"GUATEMALA\",LOOKUP(3,GEfectos!$Q$4:$W$4,GEfectos!Q101:W101),IF(EFECTOS!$N$9=\"HONDURAS\",LOOKUP(4,GEfectos!$Q$4:$W$4,GEfectos!Q101:W101),IF(EFECTOS!$N$9=\"NICARAGUA\",LOOKUP(5,GEfectos!$Q$4:$W$4,GEfectos!Q101:W101),IF(EFECTOS!$N$9=\"REPÚBLICA \nDOMINICANA\",LOOKUP(6,$Q$4:$W$4,Q101:W101),IF(EFECTOS!$N$9=\"PANAMÁ\",LOOKUP(7,GEfectos!$Q$4:$W$4,GEfectos!Q101:W101))))))))","v":107.58840784106094},100]
[2003,{"$f":"'ITCER GLOBAL'!B102","v":"Enero"},{"$f":"'ITCER GLOBAL'!C102","v":103.08004707564848},{"$f":"'ITCER GLOBAL'!D102","v":100.09187516236318},{"$f":"'ITCER GLOBAL'!E102","v":89.563486942792167},{"$f":"'ITCER GLOBAL'!F102","v":99.645174611442116},{"$f":"'ITCER GLOBAL'!G102","v":108.47216448105412},{"$f":"'ITCER GLOBAL'!H102","v":95.859562881621201},{"$f":"'ITCER GLOBAL'!I102","v":101.59238501861434},{"$f":"'ITCER GLOBAL'!S102","v":119.06779559816793},{"$f":"'ITCER GLOBAL'!T102","v":98.344506990414885},{"$f":"'ITCER GLOBAL'!U102","v":98.327068259421097},{"$f":"'ITCER GLOBAL'!V102","v":110.89232179581687},{"$f":"'ITCER GLOBAL'!W102","v":110.17345547838158},{"$f":"'ITCER GLOBAL'!X102","v":105.37786963195397},{"$f":"'ITCER GLOBAL'!Y102","v":96.610915682493271},{"$f":"'ITCER GLOBAL'!AA102","v":115.51003222843539},{"$f":"'ITCER GLOBAL'!AB102","v":98.254235751789224},{"$f":"'ITCER GLOBAL'!AC102","v":109.78477012873181},{"$f":"'ITCER GLOBAL'!AD102","v":111.28719702507625},{"$f":"'ITCER GLOBAL'!AE102","v":101.56841250975923},{"$f":"'ITCER GLOBAL'!AF102","v":109.92942849331277},{"$f":"'ITCER GLOBAL'!AG102","v":95.096611487949289},null,{"$f":"IF(EFECTOS!$N$9=\"COSTA RICA\",LOOKUP(1,GEfectos!$C$4:$I$4,GEfectos!C102:I102),IF(EFECTOS!$N$9=\"EL SALVADOR\",LOOKUP(2,GEfectos!$C$4:$I$4,GEfectos!C102:I102),IF(EFECTOS!$N$9=\"GUATEMALA\",LOOKUP(3,GEfectos!$C$4:$I$4,GEfectos!C102:I102),IF(EFECTOS!$N$9=\"HONDURAS\",LOOKUP(4,GEfectos!$C$4:$I$4,GEfectos!C102:I102),IF(EFECTOS!$N$9=\"NICARAGUA\",LOOKUP(5,GEfectos!$C$4:$I$4,GEfectos!C102:I102),IF(EFECTOS!$N$9=\"REPÚBLICA \nDOMINICANA\",LOOKUP(6,$C$4:$I$4,C102:I102),IF(EFECTOS!$N$9=\"PANAMÁ\",LOOKUP(7,GEfectos!$C$4:$I$4,GEfectos!C102:I102))))))))","v":95.859562881621201},{"$f":"IF(EFECTOS!$N$9=\"COSTA RICA\",LOOKUP(1,GEfectos!$J$4:$P$4,GEfectos!J102:P102),IF(EFECTOS!$N$9=\"EL SALVADOR\",LOOKUP(2,GEfectos!$J$4:$P$4,GEfectos!J102:P102),IF(EFECTOS!$N$9=\"GUATEMALA\",LOOKUP(3,GEfectos!$J$4:$P$4,GEfectos!J102:P102),IF(EFECTOS!$N$9=\"HONDURAS\",LOOKUP(4,GEfectos!$J$4:$P$4,GEfectos!J102:P102),IF(EFECTOS!$N$9=\"NICARAGUA\",LOOKUP(5,GEfectos!$J$4:$P$4,GEfectos!J102:P102),IF(EFECTOS!$N$9=\"REPÚBLICA \nDOMINICANA\",LOOKUP(6,$J$4:$P$4,J102:P102),IF(EFECTOS!$N$9=\"PANAMÁ\",LOOKUP(7,GEfectos!$J$4:$P$4,GEfectos!J102:P102))))))))","v":105.37786963195397},{"$f":"IF(EFECTOS!$N$9=\"COSTA RICA\",LOOKUP(1,GEfectos!$Q$4:$W$4,GEfectos!Q102:W102),IF(EFECTOS!$N$9=\"EL SALVADOR\",LOOKUP(2,GEfectos!$Q$4:$W$4,GEfectos!Q102:W102),IF(EFECTOS!$N$9=\"GUATEMALA\",LOOKUP(3,GEfectos!$Q$4:$W$4,GEfectos!Q102:W102),IF(EFECTOS!$N$9=\"HONDURAS\",LOOKUP(4,GEfectos!$Q$4:$W$4,GEfectos!Q102:W102),IF(EFECTOS!$N$9=\"NICARAGUA\",LOOKUP(5,GEfectos!$Q$4:$W$4,GEfectos!Q102:W102),IF(EFECTOS!$N$9=\"REPÚBLICA \nDOMINICANA\",LOOKUP(6,$Q$4:$W$4,Q102:W102),IF(EFECTOS!$N$9=\"PANAMÁ\",LOOKUP(7,GEfectos!$Q$4:$W$4,GEfectos!Q102:W102))))))))","v":109.92942849331277},100]
[null,{"$f":"'ITCER GLOBAL'!B103","v":"Febrero"},{"$f":"'ITCER GLOBAL'!C103","v":103.72525408966683},{"$f":"'ITCER GLOBAL'!D103","v":100.35523030510053},{"$f":"'ITCER GLOBAL'!E103","v":89.585174529370832},{"$f":"'ITCER GLOBAL'!F103","v":99.316652963245801},{"$f":"'ITCER GLOBAL'!G103","v":107.79461696731751},{"$f":"'ITCER GLOBAL'!H103","v":95.909900768307494},{"$f":"'ITCER GLOBAL'!I103","v":102.02781781106808},{"$f":"'ITCER GLOBAL'!S103","v":119.9616682488182},{"$f":"'ITCER GLOBAL'!T103","v":98.113554964546424},{"$f":"'ITCER GLOBAL'!U103","v":98.390885782742174},{"$f":"'ITCER GLOBAL'!V103","v":111.26332587776461},{"$f":"'ITCER GLOBAL'!W103","v":110.43147347524751},{"$f":"'ITCER GLOBAL'!X103","v":108.84654834863068},{"$f":"'ITCER GLOBAL'!Y103","v":96.341292952257987},{"$f":"'ITCER GLOBAL'!AA103","v":115.65328935720471},{"$f":"'ITCER GLOBAL'!AB103","v":97.766259582346663},{"$f":"'ITCER GLOBAL'!AC103","v":109.82942914341743},{"$f":"'ITCER GLOBAL'!AD103","v":112.0288718538873},{"$f":"'ITCER GLOBAL'!AE103","v":102.44618570213898},{"$f":"'ITCER GLOBAL'!AF103","v":113.48833381818906},{"$f":"'ITCER GLOBAL'!AG103","v":94.426495654998519},null,{"$f":"IF(EFECTOS!$N$9=\"COSTA RICA\",LOOKUP(1,GEfectos!$C$4:$I$4,GEfectos!C103:I103),IF(EFECTOS!$N$9=\"EL SALVADOR\",LOOKUP(2,GEfectos!$C$4:$I$4,GEfectos!C103:I103),IF(EFECTOS!$N$9=\"GUATEMALA\",LOOKUP(3,GEfectos!$C$4:$I$4,GEfectos!C103:I103),IF(EFECTOS!$N$9=\"HONDURAS\",LOOKUP(4,GEfectos!$C$4:$I$4,GEfectos!C103:I103),IF(EFECTOS!$N$9=\"NICARAGUA\",LOOKUP(5,GEfectos!$C$4:$I$4,GEfectos!C103:I103),IF(EFECTOS!$N$9=\"REPÚBLICA \nDOMINICANA\",LOOKUP(6,$C$4:$I$4,C103:I103),IF(EFECTOS!$N$9=\"PANAMÁ\",LOOKUP(7,GEfectos!$C$4:$I$4,GEfectos!C103:I103))))))))","v":95.909900768307494},{"$f":"IF(EFECTOS!$N$9=\"COSTA RICA\",LOOKUP(1,GEfectos!$J$4:$P$4,GEfectos!J103:P103),IF(EFECTOS!$N$9=\"EL SALVADOR\",LOOKUP(2,GEfectos!$J$4:$P$4,GEfectos!J103:P103),IF(EFECTOS!$N$9=\"GUATEMALA\",LOOKUP(3,GEfectos!$J$4:$P$4,GEfectos!J103:P103),IF(EFECTOS!$N$9=\"HONDURAS\",LOOKUP(4,GEfectos!$J$4:$P$4,GEfectos!J103:P103),IF(EFECTOS!$N$9=\"NICARAGUA\",LOOKUP(5,GEfectos!$J$4:$P$4,GEfectos!J103:P103),IF(EFECTOS!$N$9=\"REPÚBLICA \nDOMINICANA\",LOOKUP(6,$J$4:$P$4,J103:P103),IF(EFECTOS!$N$9=\"PANAMÁ\",LOOKUP(7,GEfectos!$J$4:$P$4,GEfectos!J103:P103))))))))","v":108.84654834863068},{"$f":"IF(EFECTOS!$N$9=\"COSTA RICA\",LOOKUP(1,GEfectos!$Q$4:$W$4,GEfectos!Q103:W103),IF(EFECTOS!$N$9=\"EL SALVADOR\",LOOKUP(2,GEfectos!$Q$4:$W$4,GEfectos!Q103:W103),IF(EFECTOS!$N$9=\"GUATEMALA\",LOOKUP(3,GEfectos!$Q$4:$W$4,GEfectos!Q103:W103),IF(EFECTOS!$N$9=\"HONDURAS\",LOOKUP(4,GEfectos!$Q$4:$W$4,GEfectos!Q103:W103),IF(EFECTOS!$N$9=\"NICARAGUA\",LOOKUP(5,GEfectos!$Q$4:$W$4,GEfectos!Q103:W103),IF(EFECTOS!$N$9=\"REPÚBLICA \nDOMINICANA\",LOOKUP(6,$Q$4:$W$4,Q103:W103),IF(EFECTOS!$N$9=\"PANAMÁ\",LOOKUP(7,GEfectos!$Q$4:$W$4,GEfectos!Q103:W103))))))))","v":113.48833381818906},100]
[null,{"$f":"'ITCER GLOBAL'!B104","v":"Marzo"},{"$f":"'ITCER GLOBAL'!C104","v":104.3726331685739},{"$f":"'ITCER GLOBAL'!D104","v":100.43476516821438},{"$f":"'ITCER GLOBAL'!E104","v":90.389358107672336},{"$f":"'ITCER GLOBAL'!F104","v":99.782972289285297},{"$f":"'ITCER GLOBAL'!G104","v":108.56731411291327},{"$f":"'ITCER GLOBAL'!H104","v":118.61570935230084},{"$f":"'ITCER GLOBAL'!I104","v":102.3396624662641},{"$f":"'ITCER GLOBAL'!S104","v":120.83950139894486},{"$f":"'ITCER GLOBAL'!T104","v":97.949719646666381},{"$f":"'ITCER GLOBAL'!U104","v":99.17050592820965},{"$f":"'ITCER GLOBAL'!V104","v":111.62408425700936},{"$f":"'ITCER GLOBAL'!W104","v":110.8851888906581},{"$f":"'ITCER GLOBAL'!X104","v":136.19320747395707},{"$f":"'ITCER GLOBAL'!Y104","v":96.170866434336389},{"$f":"'ITCER GLOBAL'!AA104","v":115.77699798353756},{"$f":"'ITCER GLOBAL'!AB104","v":97.525711821612859},{"$f":"'ITCER GLOBAL'!AC104","v":109.71480272055607},{"$f":"'ITCER GLOBAL'!AD104","v":111.86686635611032},{"$f":"'ITCER GLOBAL'!AE104","v":102.13496557106882},{"$f":"'ITCER GLOBAL'!AF104","v":114.81886186714885},{"$f":"'ITCER GLOBAL'!AG104","v":93.972233361663427},null,{"$f":"IF(EFECTOS!$N$9=\"COSTA RICA\",LOOKUP(1,GEfectos!$C$4:$I$4,GEfectos!C104:I104),IF(EFECTOS!$N$9=\"EL SALVADOR\",LOOKUP(2,GEfectos!$C$4:$I$4,GEfectos!C104:I104),IF(EFECTOS!$N$9=\"GUATEMALA\",LOOKUP(3,GEfectos!$C$4:$I$4,GEfectos!C104:I104),IF(EFECTOS!$N$9=\"HONDURAS\",LOOKUP(4,GEfectos!$C$4:$I$4,GEfectos!C104:I104),IF(EFECTOS!$N$9=\"NICARAGUA\",LOOKUP(5,GEfectos!$C$4:$I$4,GEfectos!C104:I104),IF(EFECTOS!$N$9=\"REPÚBLICA \nDOMINICANA\",LOOKUP(6,$C$4:$I$4,C104:I104),IF(EFECTOS!$N$9=\"PANAMÁ\",LOOKUP(7,GEfectos!$C$4:$I$4,GEfectos!C104:I104))))))))","v":118.61570935230084},{"$f":"IF(EFECTOS!$N$9=\"COSTA RICA\",LOOKUP(1,GEfectos!$J$4:$P$4,GEfectos!J104:P104),IF(EFECTOS!$N$9=\"EL SALVADOR\",LOOKUP(2,GEfectos!$J$4:$P$4,GEfectos!J104:P104),IF(EFECTOS!$N$9=\"GUATEMALA\",LOOKUP(3,GEfectos!$J$4:$P$4,GEfectos!J104:P104),IF(EFECTOS!$N$9=\"HONDURAS\",LOOKUP(4,GEfectos!$J$4:$P$4,GEfectos!J104:P104),IF(EFECTOS!$N$9=\"NICARAGUA\",LOOKUP(5,GEfectos!$J$4:$P$4,GEfectos!J104:P104),IF(EFECTOS!$N$9=\"REPÚBLICA \nDOMINICANA\",LOOKUP(6,$J$4:$P$4,J104:P104),IF(EFECTOS!$N$9=\"PANAMÁ\",LOOKUP(7,GEfectos!$J$4:$P$4,GEfectos!J104:P104))))))))","v":136.19320747395707},{"$f":"IF(EFECTOS!$N$9=\"COSTA RICA\",LOOKUP(1,GEfectos!$Q$4:$W$4,GEfectos!Q104:W104),IF(EFECTOS!$N$9=\"EL SALVADOR\",LOOKUP(2,GEfectos!$Q$4:$W$4,GEfectos!Q104:W104),IF(EFECTOS!$N$9=\"GUATEMALA\",LOOKUP(3,GEfectos!$Q$4:$W$4,GEfectos!Q104:W104),IF(EFECTOS!$N$9=\"HONDURAS\",LOOKUP(4,GEfectos!$Q$4:$W$4,GEfectos!Q104:W104),IF(EFECTOS!$N$9=\"NICARAGUA\",LOOKUP(5,GEfectos!$Q$4:$W$4,GEfectos!Q104:W104),IF(EFECTOS!$N$9=\"REPÚBLICA \nDOMINICANA\",LOOKUP(6,$Q$4:$W$4,Q104:W104),IF(EFECTOS!$N$9=\"PANAMÁ\",LOOKUP(7,GEfectos!$Q$4:$W$4,GEfectos!Q104:W104))))))))","v":114.81886186714885},100]
[null,{"$f":"'ITCER GLOBAL'!B105","v":"Abril"},{"$f":"'ITCER GLOBAL'!C105","v":104.63915389948477},{"$f":"'ITCER GLOBAL'!D105","v":100.65271268836115},{"$f":"'ITCER GLOBAL'!E105","v":90.294627827671377},{"$f":"'ITCER GLOBAL'!F105","v":99.925115310770934},{"$f":"'ITCER GLOBAL'!G105","v":109.6427527293984},{"$f":"'ITCER GLOBAL'!H105","v":124.00234235510123},{"$f":"'ITCER GLOBAL'!I105","v":102.74443424780486},{"$f":"'ITCER GLOBAL'!S105","v":122.33297645757106},{"$f":"'ITCER GLOBAL'!T105","v":98.129811713267912},{"$f":"'ITCER GLOBAL'!U105","v":99.516434710841551},{"$f":"'ITCER GLOBAL'!V105","v":112.36684576118942},{"$f":"'ITCER GLOBAL'!W105","v":111.63658579198221},{"$f":"'ITCER GLOBAL'!X105","v":142.93153835346354},{"$f":"'ITCER GLOBAL'!Y105","v":96.474498783433035},{"$f":"'ITCER GLOBAL'!AA105","v":116.90937082220943},{"$f":"'ITCER GLOBAL'!AB105","v":97.493459532576537},{"$f":"'ITCER GLOBAL'!AC105","v":110.21301832127834},{"$f":"'ITCER GLOBAL'!AD105","v":112.45105438379954},{"$f":"'ITCER GLOBAL'!AE105","v":101.81848139794944},{"$f":"'ITCER GLOBAL'!AF105","v":115.26519228496139},{"$f":"'ITCER GLOBAL'!AG105","v":93.897542470038204},null,{"$f":"IF(EFECTOS!$N$9=\"COSTA RICA\",LOOKUP(1,GEfectos!$C$4:$I$4,GEfectos!C105:I105),IF(EFECTOS!$N$9=\"EL SALVADOR\",LOOKUP(2,GEfectos!$C$4:$I$4,GEfectos!C105:I105),IF(EFECTOS!$N$9=\"GUATEMALA\",LOOKUP(3,GEfectos!$C$4:$I$4,GEfectos!C105:I105),IF(EFECTOS!$N$9=\"HONDURAS\",LOOKUP(4,GEfectos!$C$4:$I$4,GEfectos!C105:I105),IF(EFECTOS!$N$9=\"NICARAGUA\",LOOKUP(5,GEfectos!$C$4:$I$4,GEfectos!C105:I105),IF(EFECTOS!$N$9=\"REPÚBLICA \nDOMINICANA\",LOOKUP(6,$C$4:$I$4,C105:I105),IF(EFECTOS!$N$9=\"PANAMÁ\",LOOKUP(7,GEfectos!$C$4:$I$4,GEfectos!C105:I105))))))))","v":124.00234235510123},{"$f":"IF(EFECTOS!$N$9=\"COSTA RICA\",LOOKUP(1,GEfectos!$J$4:$P$4,GEfectos!J105:P105),IF(EFECTOS!$N$9=\"EL SALVADOR\",LOOKUP(2,GEfectos!$J$4:$P$4,GEfectos!J105:P105),IF(EFECTOS!$N$9=\"GUATEMALA\",LOOKUP(3,GEfectos!$J$4:$P$4,GEfectos!J105:P105),IF(EFECTOS!$N$9=\"HONDURAS\",LOOKUP(4,GEfectos!$J$4:$P$4,GEfectos!J105:P105),IF(EFECTOS!$N$9=\"NICARAGUA\",LOOKUP(5,GEfectos!$J$4:$P$4,GEfectos!J105:P105),IF(EFECTOS!$N$9=\"REPÚBLICA \nDOMINICANA\",LOOKUP(6,$J$4:$P$4,J105:P105),IF(EFECTOS!$N$9=\"PANAMÁ\",LOOKUP(7,GEfectos!$J$4:$P$4,GEfectos!J105:P105))))))))","v":142.93153835346354},{"$f":"IF(EFECTOS!$N$9=\"COSTA RICA\",LOOKUP(1,GEfectos!$Q$4:$W$4,GEfectos!Q105:W105),IF(EFECTOS!$N$9=\"EL SALVADOR\",LOOKUP(2,GEfectos!$Q$4:$W$4,GEfectos!Q105:W105),IF(EFECTOS!$N$9=\"GUATEMALA\",LOOKUP(3,GEfectos!$Q$4:$W$4,GEfectos!Q105:W105),IF(EFECTOS!$N$9=\"HONDURAS\",LOOKUP(4,GEfectos!$Q$4:$W$4,GEfectos!Q105:W105),IF(EFECTOS!$N$9=\"NICARAGUA\",LOOKUP(5,GEfectos!$Q$4:$W$4,GEfectos!Q105:W105),IF(EFECTOS!$N$9=\"REPÚBLICA \nDOMINICANA\",LOOKUP(6,$Q$4:$W$4,Q105:W105),IF(EFECTOS!$N$9=\"PANAMÁ\",LOOKUP(7,GEfectos!$Q$4:$W$4,GEfectos!Q105:W105))))))))","v":115.26519228496139},100]
[null,{"$f":"'ITCER GLOBAL'!B106","v":"Mayo"},{"$f":"'ITCER GLOBAL'!C106","v":106.23462337872158},{"$f":"'ITCER GLOBAL'!D106","v":101.24587666395578},{"$f":"'ITCER GLOBAL'!E106","v":90.82337763353982},{"$f":"'ITCER GLOBAL'!F106","v":100.93777157198345},{"$f":"'ITCER GLOBAL'!G106","v":110.36766952687125},{"$f":"'ITCER GLOBAL'!H106","v":132.82162494077133},{"$f":"'ITCER GLOBAL'!I106","v":104.09801008648446},{"$f":"'ITCER GLOBAL'!S106","v":124.93993558168725},{"$f":"'ITCER GLOBAL'!T106","v":98.625478511751425},{"$f":"'ITCER GLOBAL'!U106","v":100.42896766011135},{"$f":"'ITCER GLOBAL'!V106","v":113.7408212231161},{"$f":"'ITCER GLOBAL'!W106","v":113.24630415085559},{"$f":"'ITCER GLOBAL'!X106","v":155.11772159302055},{"$f":"'ITCER GLOBAL'!Y106","v":97.573739303280888},{"$f":"'ITCER GLOBAL'!AA106","v":117.60754790486911},{"$f":"'ITCER GLOBAL'!AB106","v":97.411847041532667},{"$f":"'ITCER GLOBAL'!AC106","v":110.57612068263836},{"$f":"'ITCER GLOBAL'!AD106","v":112.68410175075263},{"$f":"'ITCER GLOBAL'!AE106","v":102.60822271261556},{"$f":"'ITCER GLOBAL'!AF106","v":116.7864959205187},{"$f":"'ITCER GLOBAL'!AG106","v":93.732569164594764},null,{"$f":"IF(EFECTOS!$N$9=\"COSTA RICA\",LOOKUP(1,GEfectos!$C$4:$I$4,GEfectos!C106:I106),IF(EFECTOS!$N$9=\"EL SALVADOR\",LOOKUP(2,GEfectos!$C$4:$I$4,GEfectos!C106:I106),IF(EFECTOS!$N$9=\"GUATEMALA\",LOOKUP(3,GEfectos!$C$4:$I$4,GEfectos!C106:I106),IF(EFECTOS!$N$9=\"HONDURAS\",LOOKUP(4,GEfectos!$C$4:$I$4,GEfectos!C106:I106),IF(EFECTOS!$N$9=\"NICARAGUA\",LOOKUP(5,GEfectos!$C$4:$I$4,GEfectos!C106:I106),IF(EFECTOS!$N$9=\"REPÚBLICA \nDOMINICANA\",LOOKUP(6,$C$4:$I$4,C106:I106),IF(EFECTOS!$N$9=\"PANAMÁ\",LOOKUP(7,GEfectos!$C$4:$I$4,GEfectos!C106:I106))))))))","v":132.82162494077133},{"$f":"IF(EFECTOS!$N$9=\"COSTA RICA\",LOOKUP(1,GEfectos!$J$4:$P$4,GEfectos!J106:P106),IF(EFECTOS!$N$9=\"EL SALVADOR\",LOOKUP(2,GEfectos!$J$4:$P$4,GEfectos!J106:P106),IF(EFECTOS!$N$9=\"GUATEMALA\",LOOKUP(3,GEfectos!$J$4:$P$4,GEfectos!J106:P106),IF(EFECTOS!$N$9=\"HONDURAS\",LOOKUP(4,GEfectos!$J$4:$P$4,GEfectos!J106:P106),IF(EFECTOS!$N$9=\"NICARAGUA\",LOOKUP(5,GEfectos!$J$4:$P$4,GEfectos!J106:P106),IF(EFECTOS!$N$9=\"REPÚBLICA \nDOMINICANA\",LOOKUP(6,$J$4:$P$4,J106:P106),IF(EFECTOS!$N$9=\"PANAMÁ\",LOOKUP(7,GEfectos!$J$4:$P$4,GEfectos!J106:P106))))))))","v":155.11772159302055},{"$f":"IF(EFECTOS!$N$9=\"COSTA RICA\",LOOKUP(1,GEfectos!$Q$4:$W$4,GEfectos!Q106:W106),IF(EFECTOS!$N$9=\"EL SALVADOR\",LOOKUP(2,GEfectos!$Q$4:$W$4,GEfectos!Q106:W106),IF(EFECTOS!$N$9=\"GUATEMALA\",LOOKUP(3,GEfectos!$Q$4:$W$4,GEfectos!Q106:W106),IF(EFECTOS!$N$9=\"HONDURAS\",LOOKUP(4,GEfectos!$Q$4:$W$4,GEfectos!Q106:W106),IF(EFECTOS!$N$9=\"NICARAGUA\",LOOKUP(5,GEfectos!$Q$4:$W$4,GEfectos!Q106:W106),IF(EFECTOS!$N$9=\"REPÚBLICA \nDOMINICANA\",LOOKUP(6,$Q$4:$W$4,Q106:W106),IF(EFECTOS!$N$9=\"PANAMÁ\",LOOKUP(7,GEfectos!$Q$4:$W$4,GEfectos!Q106:W106))))))))","v":116.7864959205187},100]
[null,{"$f":"'ITCER GLOBAL'!B107","v":"Junio"},{"$f":"'ITCER GLOBAL'!C107","v":106.532757241284},{"$f":"'ITCER GLOBAL'!D107","v":100.92066626071129},{"$f":"'ITCER GLOBAL'!E107","v":90.740425124320851},{"$f":"'ITCER GLOBAL'!F107","v":101.12763979390466},{"$f":"'ITCER GLOBAL'!G107","v":109.68621732770298},{"$f":"'ITCER GLOBAL'!H107","v":142.71542999565128},{"$f":"'ITCER GLOBAL'!I107","v":104.04240122385512},{"$f":"'ITCER GLOBAL'!S107","v":125.96983153616949},{"$f":"'ITCER GLOBAL'!T107","v":98.476050786585319},{"$f":"'ITCER GLOBAL'!U107","v":100.47490165322093},{"$f":"'ITCER GLOBAL'!V107","v":114.12810658579018},{"$f":"'ITCER GLOBAL'!W107","v":113.58287362964006},{"$f":"'ITCER GLOBAL'!X107","v":175.1002959043019},{"$f":"'ITCER GLOBAL'!Y107","v":97.522303266377122},{"$f":"'ITCER GLOBAL'!AA107","v":118.24516214375531},{"$f":"'ITCER GLOBAL'!AB107","v":97.577685954023792},{"$f":"'ITCER GLOBAL'!AC107","v":110.72782777418458},{"$f":"'ITCER GLOBAL'!AD107","v":112.85550302407937},{"$f":"'ITCER GLOBAL'!AE107","v":103.55254871293016},{"$f":"'ITCER GLOBAL'!AF107","v":122.6919162907875},{"$f":"'ITCER GLOBAL'!AG107","v":93.733230028544313},null,{"$f":"IF(EFECTOS!$N$9=\"COSTA RICA\",LOOKUP(1,GEfectos!$C$4:$I$4,GEfectos!C107:I107),IF(EFECTOS!$N$9=\"EL SALVADOR\",LOOKUP(2,GEfectos!$C$4:$I$4,GEfectos!C107:I107),IF(EFECTOS!$N$9=\"GUATEMALA\",LOOKUP(3,GEfectos!$C$4:$I$4,GEfectos!C107:I107),IF(EFECTOS!$N$9=\"HONDURAS\",LOOKUP(4,GEfectos!$C$4:$I$4,GEfectos!C107:I107),IF(EFECTOS!$N$9=\"NICARAGUA\",LOOKUP(5,GEfectos!$C$4:$I$4,GEfectos!C107:I107),IF(EFECTOS!$N$9=\"REPÚBLICA \nDOMINICANA\",LOOKUP(6,$C$4:$I$4,C107:I107),IF(EFECTOS!$N$9=\"PANAMÁ\",LOOKUP(7,GEfectos!$C$4:$I$4,GEfectos!C107:I107))))))))","v":142.71542999565128},{"$f":"IF(EFECTOS!$N$9=\"COSTA RICA\",LOOKUP(1,GEfectos!$J$4:$P$4,GEfectos!J107:P107),IF(EFECTOS!$N$9=\"EL SALVADOR\",LOOKUP(2,GEfectos!$J$4:$P$4,GEfectos!J107:P107),IF(EFECTOS!$N$9=\"GUATEMALA\",LOOKUP(3,GEfectos!$J$4:$P$4,GEfectos!J107:P107),IF(EFECTOS!$N$9=\"HONDURAS\",LOOKUP(4,GEfectos!$J$4:$P$4,GEfectos!J107:P107),IF(EFECTOS!$N$9=\"NICARAGUA\",LOOKUP(5,GEfectos!$J$4:$P$4,GEfectos!J107:P107),IF(EFECTOS!$N$9=\"REPÚBLICA \nDOMINICANA\",LOOKUP(6,$J$4:$P$4,J107:P107),IF(EFECTOS!$N$9=\"PANAMÁ\",LOOKUP(7,GEfectos!$J$4:$P$4,GEfectos!J107:P107))))))))","v":175.1002959043019},{"$f":"IF(EFECTOS!$N$9=\"COSTA RICA\",LOOKUP(1,GEfectos!$Q$4:$W$4,GEfectos!Q107:W107),IF(EFECTOS!$N$9=\"EL SALVADOR\",LOOKUP(2,GEfectos!$Q$4:$W$4,GEfectos!Q107:W107),IF(EFECTOS!$N$9=\"GUATEMALA\",LOOKUP(3,GEfectos!$Q$4:$W$4,GEfectos!Q107:W107),IF(EFECTOS!$N$9=\"HONDURAS\",LOOKUP(4,GEfectos!$Q$4:$W$4,GEfectos!Q107:W107),IF(EFECTOS!$N$9=\"NICARAGUA\",LOOKUP(5,GEfectos!$Q$4:$W$4,GEfectos!Q107:W107),IF(EFECTOS!$N$9=\"REPÚBLICA \nDOMINICANA\",LOOKUP(6,$Q$4:$W$4,Q107:W107),IF(EFECTOS!$N$9=\"PANAMÁ\",LOOKUP(7,GEfectos!$Q$4:$W$4,GEfectos!Q107:W107))))))))","v":122.6919162907875},100]
[null,{"$f":"'ITCER GLOBAL'!B108","v":"Julio"},{"$f":"'ITCER GLOBAL'!C108","v":106.05058628198077},{"$f":"'ITCER GLOBAL'!D108","v":101.20250915470774},{"$f":"'ITCER GLOBAL'!E108","v":90.248259862901023},{"$f":"'ITCER GLOBAL'!F108","v":100.91917761340684},{"$f":"'ITCER GLOBAL'!G108","v":110.25166518680417},{"$f":"'ITCER GLOBAL'!H108","v":163.88932741311444},{"$f":"'ITCER GLOBAL'!I108","v":103.5079742797339},{"$f":"'ITCER GLOBAL'!S108","v":126.32708600839746},{"$f":"'ITCER GLOBAL'!T108","v":98.248763488081963},{"$f":"'ITCER GLOBAL'!U108","v":100.12519008448204},{"$f":"'ITCER GLOBAL'!V108","v":114.23240791699799},{"$f":"'ITCER GLOBAL'!W108","v":113.9387624602368},{"$f":"'ITCER GLOBAL'!X108","v":208.27745032954584},{"$f":"'ITCER GLOBAL'!Y108","v":97.036695555769484},{"$f":"'ITCER GLOBAL'!AA108","v":119.11964887445596},{"$f":"'ITCER GLOBAL'!AB108","v":97.081351350577279},{"$f":"'ITCER GLOBAL'!AC108","v":110.9441780224742},{"$f":"'ITCER GLOBAL'!AD108","v":113.19197264427817},{"$f":"'ITCER GLOBAL'!AE108","v":103.34425540619765},{"$f":"'ITCER GLOBAL'!AF108","v":127.08420591936571},{"$f":"'ITCER GLOBAL'!AG108","v":93.74803847819922},null,{"$f":"IF(EFECTOS!$N$9=\"COSTA RICA\",LOOKUP(1,GEfectos!$C$4:$I$4,GEfectos!C108:I108),IF(EFECTOS!$N$9=\"EL SALVADOR\",LOOKUP(2,GEfectos!$C$4:$I$4,GEfectos!C108:I108),IF(EFECTOS!$N$9=\"GUATEMALA\",LOOKUP(3,GEfectos!$C$4:$I$4,GEfectos!C108:I108),IF(EFECTOS!$N$9=\"HONDURAS\",LOOKUP(4,GEfectos!$C$4:$I$4,GEfectos!C108:I108),IF(EFECTOS!$N$9=\"NICARAGUA\",LOOKUP(5,GEfectos!$C$4:$I$4,GEfectos!C108:I108),IF(EFECTOS!$N$9=\"REPÚBLICA \nDOMINICANA\",LOOKUP(6,$C$4:$I$4,C108:I108),IF(EFECTOS!$N$9=\"PANAMÁ\",LOOKUP(7,GEfectos!$C$4:$I$4,GEfectos!C108:I108))))))))","v":163.88932741311444},{"$f":"IF(EFECTOS!$N$9=\"COSTA RICA\",LOOKUP(1,GEfectos!$J$4:$P$4,GEfectos!J108:P108),IF(EFECTOS!$N$9=\"EL SALVADOR\",LOOKUP(2,GEfectos!$J$4:$P$4,GEfectos!J108:P108),IF(EFECTOS!$N$9=\"GUATEMALA\",LOOKUP(3,GEfectos!$J$4:$P$4,GEfectos!J108:P108),IF(EFECTOS!$N$9=\"HONDURAS\",LOOKUP(4,GEfectos!$J$4:$P$4,GEfectos!J108:P108),IF(EFECTOS!$N$9=\"NICARAGUA\",LOOKUP(5,GEfectos!$J$4:$P$4,GEfectos!J108:P108),IF(EFECTOS!$N$9=\"REPÚBLICA \nDOMINICANA\",LOOKUP(6,$J$4:$P$4,J108:P108),IF(EFECTOS!$N$9=\"PANAMÁ\",LOOKUP(7,GEfectos!$J$4:$P$4,GEfectos!J108:P108))))))))","v":208.27745032954584},{"$f":"IF(EFECTOS!$N$9=\"COSTA RICA\",LOOKUP(1,GEfectos!$Q$4:$W$4,GEfectos!Q108:W108),IF(EFECTOS!$N$9=\"EL SALVADOR\",LOOKUP(2,GEfectos!$Q$4:$W$4,GEfectos!Q108:W108),IF(EFECTOS!$N$9=\"GUATEMALA\",LOOKUP(3,GEfectos!$Q$4:$W$4,GEfectos!Q108:W108),IF(EFECTOS!$N$9=\"HONDURAS\",LOOKUP(4,GEfectos!$Q$4:$W$4,GEfectos!Q108:W108),IF(EFECTOS!$N$9=\"NICARAGUA\",LOOKUP(5,GEfectos!$Q$4:$W$4,GEfectos!Q108:W108),IF(EFECTOS!$N$9=\"REPÚBLICA \nDOMINICANA\",LOOKUP(6,$Q$4:$W$4,Q108:W108),IF(EFECTOS!$N$9=\"PANAMÁ\",LOOKUP(7,GEfectos!$Q$4:$W$4,GEfectos!Q108:W108))))))))","v":127.08420591936571},100]
[null,{"$f":"'ITCER GLOBAL'!B109","v":"Agosto"},{"$f":"'ITCER GLOBAL'!C109","v":106.26171351339168},{"$f":"'ITCER GLOBAL'!D109","v":100.94341022457033},{"$f":"'ITCER GLOBAL'!E109","v":89.931858633230661},{"$f":"'ITCER GLOBAL'!F109","v":100.34743599860073},{"$f":"'ITCER GLOBAL'!G109","v":109.97450738739141},{"$f":"'ITCER GLOBAL'!H109","v":155.82092430582304},{"$f":"'ITCER GLOBAL'!I109","v":103.30939818665161},{"$f":"'ITCER GLOBAL'!S109","v":126.66062753333355},{"$f":"'ITCER GLOBAL'!T109","v":97.945359712859059},{"$f":"'ITCER GLOBAL'!U109","v":99.680783187717878},{"$f":"'ITCER GLOBAL'!V109","v":114.2223359395127},{"$f":"'ITCER GLOBAL'!W109","v":113.17864595038547},{"$f":"'ITCER GLOBAL'!X109","v":203.31387951333406},{"$f":"'ITCER GLOBAL'!Y109","v":96.595891534430933},{"$f":"'ITCER GLOBAL'!AA109","v":119.19686154634717},{"$f":"'ITCER GLOBAL'!AB109","v":97.02996906381361},{"$f":"'ITCER GLOBAL'!AC109","v":110.84034590483253},{"$f":"'ITCER GLOBAL'!AD109","v":113.82686045023156},{"$f":"'ITCER GLOBAL'!AE109","v":102.91352845228694},{"$f":"'ITCER GLOBAL'!AF109","v":130.47918976163857},{"$f":"'ITCER GLOBAL'!AG109","v":93.501552840244784},null,{"$f":"IF(EFECTOS!$N$9=\"COSTA RICA\",LOOKUP(1,GEfectos!$C$4:$I$4,GEfectos!C109:I109),IF(EFECTOS!$N$9=\"EL SALVADOR\",LOOKUP(2,GEfectos!$C$4:$I$4,GEfectos!C109:I109),IF(EFECTOS!$N$9=\"GUATEMALA\",LOOKUP(3,GEfectos!$C$4:$I$4,GEfectos!C109:I109),IF(EFECTOS!$N$9=\"HONDURAS\",LOOKUP(4,GEfectos!$C$4:$I$4,GEfectos!C109:I109),IF(EFECTOS!$N$9=\"NICARAGUA\",LOOKUP(5,GEfectos!$C$4:$I$4,GEfectos!C109:I109),IF(EFECTOS!$N$9=\"REPÚBLICA \nDOMINICANA\",LOOKUP(6,$C$4:$I$4,C109:I109),IF(EFECTOS!$N$9=\"PANAMÁ\",LOOKUP(7,GEfectos!$C$4:$I$4,GEfectos!C109:I109))))))))","v":155.82092430582304},{"$f":"IF(EFECTOS!$N$9=\"COSTA RICA\",LOOKUP(1,GEfectos!$J$4:$P$4,GEfectos!J109:P109),IF(EFECTOS!$N$9=\"EL SALVADOR\",LOOKUP(2,GEfectos!$J$4:$P$4,GEfectos!J109:P109),IF(EFECTOS!$N$9=\"GUATEMALA\",LOOKUP(3,GEfectos!$J$4:$P$4,GEfectos!J109:P109),IF(EFECTOS!$N$9=\"HONDURAS\",LOOKUP(4,GEfectos!$J$4:$P$4,GEfectos!J109:P109),IF(EFECTOS!$N$9=\"NICARAGUA\",LOOKUP(5,GEfectos!$J$4:$P$4,GEfectos!J109:P109),IF(EFECTOS!$N$9=\"REPÚBLICA \nDOMINICANA\",LOOKUP(6,$J$4:$P$4,J109:P109),IF(EFECTOS!$N$9=\"PANAMÁ\",LOOKUP(7,GEfectos!$J$4:$P$4,GEfectos!J109:P109))))))))","v":203.31387951333406},{"$f":"IF(EFECTOS!$N$9=\"COSTA RICA\",LOOKUP(1,GEfectos!$Q$4:$W$4,GEfectos!Q109:W109),IF(EFECTOS!$N$9=\"EL SALVADOR\",LOOKUP(2,GEfectos!$Q$4:$W$4,GEfectos!Q109:W109),IF(EFECTOS!$N$9=\"GUATEMALA\",LOOKUP(3,GEfectos!$Q$4:$W$4,GEfectos!Q109:W109),IF(EFECTOS!$N$9=\"HONDURAS\",LOOKUP(4,GEfectos!$Q$4:$W$4,GEfectos!Q109:W109),IF(EFECTOS!$N$9=\"NICARAGUA\",LOOKUP(5,GEfectos!$Q$4:$W$4,GEfectos!Q109:W109),IF(EFECTOS!$N$9=\"REPÚBLICA \nDOMINICANA\",LOOKUP(6,$Q$4:$W$4,Q109:W109),IF(EFECTOS!$N$9=\"PANAMÁ\",LOOKUP(7,GEfectos!$Q$4:$W$4,GEfectos!Q109:W109))))))))","v":130.47918976163857},100]
[null,{"$f":"'ITCER GLOBAL'!B110","v":"Septiembre"},{"$f":"'ITCER GLOBAL'!C110","v":107.67066832353527},{"$f":"'ITCER GLOBAL'!D110","v":101.17654146622122},{"$f":"'ITCER GLOBAL'!E110","v":90.712722665208787},{"$f":"'ITCER GLOBAL'!F110","v":100.81396434139484},{"$f":"'ITCER GLOBAL'!G110","v":111.19236347992307},{"$f":"'ITCER GLOBAL'!H110","v":145.15210279425676},{"$f":"'ITCER GLOBAL'!I110","v":104.23986100822498},{"$f":"'ITCER GLOBAL'!S110","v":128.04176463266884},{"$f":"'ITCER GLOBAL'!T110","v":97.907732268853337},{"$f":"'ITCER GLOBAL'!U110","v":100.60411932458906},{"$f":"'ITCER GLOBAL'!V110","v":114.90101094436929},{"$f":"'ITCER GLOBAL'!W110","v":114.3355001296223},{"$f":"'ITCER GLOBAL'!X110","v":191.5274638575811},{"$f":"'ITCER GLOBAL'!Y110","v":96.919903157114163},{"$f":"'ITCER GLOBAL'!AA110","v":118.91981969306747},{"$f":"'ITCER GLOBAL'!AB110","v":96.769202475201027},{"$f":"'ITCER GLOBAL'!AC110","v":110.90408971174442},{"$f":"'ITCER GLOBAL'!AD110","v":113.97330885160937},{"$f":"'ITCER GLOBAL'!AE110","v":102.82675585924275},{"$f":"'ITCER GLOBAL'!AF110","v":131.94949309763584},{"$f":"'ITCER GLOBAL'!AG110","v":92.97777473961402},null,{"$f":"IF(EFECTOS!$N$9=\"COSTA RICA\",LOOKUP(1,GEfectos!$C$4:$I$4,GEfectos!C110:I110),IF(EFECTOS!$N$9=\"EL SALVADOR\",LOOKUP(2,GEfectos!$C$4:$I$4,GEfectos!C110:I110),IF(EFECTOS!$N$9=\"GUATEMALA\",LOOKUP(3,GEfectos!$C$4:$I$4,GEfectos!C110:I110),IF(EFECTOS!$N$9=\"HONDURAS\",LOOKUP(4,GEfectos!$C$4:$I$4,GEfectos!C110:I110),IF(EFECTOS!$N$9=\"NICARAGUA\",LOOKUP(5,GEfectos!$C$4:$I$4,GEfectos!C110:I110),IF(EFECTOS!$N$9=\"REPÚBLICA \nDOMINICANA\",LOOKUP(6,$C$4:$I$4,C110:I110),IF(EFECTOS!$N$9=\"PANAMÁ\",LOOKUP(7,GEfectos!$C$4:$I$4,GEfectos!C110:I110))))))))","v":145.15210279425676},{"$f":"IF(EFECTOS!$N$9=\"COSTA RICA\",LOOKUP(1,GEfectos!$J$4:$P$4,GEfectos!J110:P110),IF(EFECTOS!$N$9=\"EL SALVADOR\",LOOKUP(2,GEfectos!$J$4:$P$4,GEfectos!J110:P110),IF(EFECTOS!$N$9=\"GUATEMALA\",LOOKUP(3,GEfectos!$J$4:$P$4,GEfectos!J110:P110),IF(EFECTOS!$N$9=\"HONDURAS\",LOOKUP(4,GEfectos!$J$4:$P$4,GEfectos!J110:P110),IF(EFECTOS!$N$9=\"NICARAGUA\",LOOKUP(5,GEfectos!$J$4:$P$4,GEfectos!J110:P110),IF(EFECTOS!$N$9=\"REPÚBLICA \nDOMINICANA\",LOOKUP(6,$J$4:$P$4,J110:P110),IF(EFECTOS!$N$9=\"PANAMÁ\",LOOKUP(7,GEfectos!$J$4:$P$4,GEfectos!J110:P110))))))))","v":191.5274638575811},{"$f":"IF(EFECTOS!$N$9=\"COSTA RICA\",LOOKUP(1,GEfectos!$Q$4:$W$4,GEfectos!Q110:W110),IF(EFECTOS!$N$9=\"EL SALVADOR\",LOOKUP(2,GEfectos!$Q$4:$W$4,GEfectos!Q110:W110),IF(EFECTOS!$N$9=\"GUATEMALA\",LOOKUP(3,GEfectos!$Q$4:$W$4,GEfectos!Q110:W110),IF(EFECTOS!$N$9=\"HONDURAS\",LOOKUP(4,GEfectos!$Q$4:$W$4,GEfectos!Q110:W110),IF(EFECTOS!$N$9=\"NICARAGUA\",LOOKUP(5,GEfectos!$Q$4:$W$4,GEfectos!Q110:W110),IF(EFECTOS!$N$9=\"REPÚBLICA \nDOMINICANA\",LOOKUP(6,$Q$4:$W$4,Q110:W110),IF(EFECTOS!$N$9=\"PANAMÁ\",LOOKUP(7,GEfectos!$Q$4:$W$4,GEfectos!Q110:W110))))))))","v":131.94949309763584},100]
[null,{"$f":"'ITCER GLOBAL'!B111","v":"Octubre"},{"$f":"'ITCER GLOBAL'!C111","v":107.90969445613233},{"$f":"'ITCER GLOBAL'!D111","v":100.88972310223878},{"$f":"'ITCER GLOBAL'!E111","v":91.882768708093835},{"$f":"'ITCER GLOBAL'!F111","v":101.15718085292953},{"$f":"'ITCER GLOBAL'!G111","v":112.23364466490733},{"$f":"'ITCER GLOBAL'!H111","v":156.3872801009216},{"$f":"'ITCER GLOBAL'!I111","v":105.04605320166512},{"$f":"'ITCER GLOBAL'!S111","v":129.72480004127704},{"$f":"'ITCER GLOBAL'!T111","v":97.853456336096045},{"$f":"'ITCER GLOBAL'!U111","v":102.19208366397179},{"$f":"'ITCER GLOBAL'!V111","v":115.68745313557831},{"$f":"'ITCER GLOBAL'!W111","v":115.60994159903726},{"$f":"'ITCER GLOBAL'!X111","v":211.74323878135218},{"$f":"'ITCER GLOBAL'!Y111","v":97.257458378519175},{"$f":"'ITCER GLOBAL'!AA111","v":120.2160757613979},{"$f":"'ITCER GLOBAL'!AB111","v":96.990509367276317},{"$f":"'ITCER GLOBAL'!AC111","v":111.22007434128378},{"$f":"'ITCER GLOBAL'!AD111","v":114.3640541977678},{"$f":"'ITCER GLOBAL'!AE111","v":103.00827523173683},{"$f":"'ITCER GLOBAL'!AF111","v":135.39671426263544},{"$f":"'ITCER GLOBAL'!AG111","v":92.58554263986143},null,{"$f":"IF(EFECTOS!$N$9=\"COSTA RICA\",LOOKUP(1,GEfectos!$C$4:$I$4,GEfectos!C111:I111),IF(EFECTOS!$N$9=\"EL SALVADOR\",LOOKUP(2,GEfectos!$C$4:$I$4,GEfectos!C111:I111),IF(EFECTOS!$N$9=\"GUATEMALA\",LOOKUP(3,GEfectos!$C$4:$I$4,GEfectos!C111:I111),IF(EFECTOS!$N$9=\"HONDURAS\",LOOKUP(4,GEfectos!$C$4:$I$4,GEfectos!C111:I111),IF(EFECTOS!$N$9=\"NICARAGUA\",LOOKUP(5,GEfectos!$C$4:$I$4,GEfectos!C111:I111),IF(EFECTOS!$N$9=\"REPÚBLICA \nDOMINICANA\",LOOKUP(6,$C$4:$I$4,C111:I111),IF(EFECTOS!$N$9=\"PANAMÁ\",LOOKUP(7,GEfectos!$C$4:$I$4,GEfectos!C111:I111))))))))","v":156.3872801009216},{"$f":"IF(EFECTOS!$N$9=\"COSTA RICA\",LOOKUP(1,GEfectos!$J$4:$P$4,GEfectos!J111:P111),IF(EFECTOS!$N$9=\"EL SALVADOR\",LOOKUP(2,GEfectos!$J$4:$P$4,GEfectos!J111:P111),IF(EFECTOS!$N$9=\"GUATEMALA\",LOOKUP(3,GEfectos!$J$4:$P$4,GEfectos!J111:P111),IF(EFECTOS!$N$9=\"HONDURAS\",LOOKUP(4,GEfectos!$J$4:$P$4,GEfectos!J111:P111),IF(EFECTOS!$N$9=\"NICARAGUA\",LOOKUP(5,GEfectos!$J$4:$P$4,GEfectos!J111:P111),IF(EFECTOS!$N$9=\"REPÚBLICA \nDOMINICANA\",LOOKUP(6,$J$4:$P$4,J111:P111),IF(EFECTOS!$N$9=\"PANAMÁ\",LOOKUP(7,GEfectos!$J$4:$P$4,GEfectos!J111:P111))))))))","v":211.74323878135218},{"$f":"IF(EFECTOS!$N$9=\"COSTA RICA\",LOOKUP(1,GEfectos!$Q$4:$W$4,GEfectos!Q111:W111),IF(EFECTOS!$N$9=\"EL SALVADOR\",LOOKUP(2,GEfectos!$Q$4:$W$4,GEfectos!Q111:W111),IF(EFECTOS!$N$9=\"GUATEMALA\",LOOKUP(3,GEfectos!$Q$4:$W$4,GEfectos!Q111:W111),IF(EFECTOS!$N$9=\"HONDURAS\",LOOKUP(4,GEfectos!$Q$4:$W$4,GEfectos!Q111:W111),IF(EFECTOS!$N$9=\"NICARAGUA\",LOOKUP(5,GEfectos!$Q$4:$W$4,GEfectos!Q111:W111),IF(EFECTOS!$N$9=\"REPÚBLICA \nDOMINICANA\",LOOKUP(6,$Q$4:$W$4,Q111:W111),IF(EFECTOS!$N$9=\"PANAMÁ\",LOOKUP(7,GEfectos!$Q$4:$W$4,GEfectos!Q111:W111))))))))","v":135.39671426263544},100]
[null,{"$f":"'ITCER GLOBAL'!B112","v":"Noviembre"},{"$f":"'ITCER GLOBAL'!C112","v":107.23381304933457},{"$f":"'ITCER GLOBAL'!D112","v":100.79962126568761},{"$f":"'ITCER GLOBAL'!E112","v":91.258738097616416},{"$f":"'ITCER GLOBAL'!F112","v":100.89354646353186},{"$f":"'ITCER GLOBAL'!G112","v":111.65467750852763},{"$f":"'ITCER GLOBAL'!H112","v":167.63871261475674},{"$f":"'ITCER GLOBAL'!I112","v":104.94678200673172},{"$f":"'ITCER GLOBAL'!S112","v":130.67772952829009},{"$f":"'ITCER GLOBAL'!T112","v":97.786597635995491},{"$f":"'ITCER GLOBAL'!U112","v":101.83545392532358},{"$f":"'ITCER GLOBAL'!V112","v":116.09313907339609},{"$f":"'ITCER GLOBAL'!W112","v":115.72935806037347},{"$f":"'ITCER GLOBAL'!X112","v":240.96105569568982},{"$f":"'ITCER GLOBAL'!Y112","v":97.180332849446444},{"$f":"'ITCER GLOBAL'!AA112","v":121.86242922106089},{"$f":"'ITCER GLOBAL'!AB112","v":97.010878025275133},{"$f":"'ITCER GLOBAL'!AC112","v":111.58981161496403},{"$f":"'ITCER GLOBAL'!AD112","v":115.06498001371985},{"$f":"'ITCER GLOBAL'!AE112","v":103.64935947402172},{"$f":"'ITCER GLOBAL'!AF112","v":143.7383119550864},{"$f":"'ITCER GLOBAL'!AG112","v":92.599630966495852},null,{"$f":"IF(EFECTOS!$N$9=\"COSTA RICA\",LOOKUP(1,GEfectos!$C$4:$I$4,GEfectos!C112:I112),IF(EFECTOS!$N$9=\"EL SALVADOR\",LOOKUP(2,GEfectos!$C$4:$I$4,GEfectos!C112:I112),IF(EFECTOS!$N$9=\"GUATEMALA\",LOOKUP(3,GEfectos!$C$4:$I$4,GEfectos!C112:I112),IF(EFECTOS!$N$9=\"HONDURAS\",LOOKUP(4,GEfectos!$C$4:$I$4,GEfectos!C112:I112),IF(EFECTOS!$N$9=\"NICARAGUA\",LOOKUP(5,GEfectos!$C$4:$I$4,GEfectos!C112:I112),IF(EFECTOS!$N$9=\"REPÚBLICA \nDOMINICANA\",LOOKUP(6,$C$4:$I$4,C112:I112),IF(EFECTOS!$N$9=\"PANAMÁ\",LOOKUP(7,GEfectos!$C$4:$I$4,GEfectos!C112:I112))))))))","v":167.63871261475674},{"$f":"IF(EFECTOS!$N$9=\"COSTA RICA\",LOOKUP(1,GEfectos!$J$4:$P$4,GEfectos!J112:P112),IF(EFECTOS!$N$9=\"EL SALVADOR\",LOOKUP(2,GEfectos!$J$4:$P$4,GEfectos!J112:P112),IF(EFECTOS!$N$9=\"GUATEMALA\",LOOKUP(3,GEfectos!$J$4:$P$4,GEfectos!J112:P112),IF(EFECTOS!$N$9=\"HONDURAS\",LOOKUP(4,GEfectos!$J$4:$P$4,GEfectos!J112:P112),IF(EFECTOS!$N$9=\"NICARAGUA\",LOOKUP(5,GEfectos!$J$4:$P$4,GEfectos!J112:P112),IF(EFECTOS!$N$9=\"REPÚBLICA \nDOMINICANA\",LOOKUP(6,$J$4:$P$4,J112:P112),IF(EFECTOS!$N$9=\"PANAMÁ\",LOOKUP(7,GEfectos!$J$4:$P$4,GEfectos!J112:P112))))))))","v":240.96105569568982},{"$f":"IF(EFECTOS!$N$9=\"COSTA RICA\",LOOKUP(1,GEfectos!$Q$4:$W$4,GEfectos!Q112:W112),IF(EFECTOS!$N$9=\"EL SALVADOR\",LOOKUP(2,GEfectos!$Q$4:$W$4,GEfectos!Q112:W112),IF(EFECTOS!$N$9=\"GUATEMALA\",LOOKUP(3,GEfectos!$Q$4:$W$4,GEfectos!Q112:W112),IF(EFECTOS!$N$9=\"HONDURAS\",LOOKUP(4,GEfectos!$Q$4:$W$4,GEfectos!Q112:W112),IF(EFECTOS!$N$9=\"NICARAGUA\",LOOKUP(5,GEfectos!$Q$4:$W$4,GEfectos!Q112:W112),IF(EFECTOS!$N$9=\"REPÚBLICA \nDOMINICANA\",LOOKUP(6,$Q$4:$W$4,Q112:W112),IF(EFECTOS!$N$9=\"PANAMÁ\",LOOKUP(7,GEfectos!$Q$4:$W$4,GEfectos!Q112:W112))))))))","v":143.7383119550864},100]
[null,{"$f":"'ITCER GLOBAL'!B113","v":"Diciembre"},{"$f":"'ITCER GLOBAL'!C113","v":107.81508443123985},{"$f":"'ITCER GLOBAL'!D113","v":100.96190114455079},{"$f":"'ITCER GLOBAL'!E113","v":90.60241629932014},{"$f":"'ITCER GLOBAL'!F113","v":101.61565448056102},{"$f":"'ITCER GLOBAL'!G113","v":111.97111308397653},{"$f":"'ITCER GLOBAL'!H113","v":152.89238642875785},{"$f":"'ITCER GLOBAL'!I113","v":105.99860347045727},{"$f":"'ITCER GLOBAL'!S113","v":132.84300994760639},{"$f":"'ITCER GLOBAL'!T113","v":98.013453829769432},{"$f":"'ITCER GLOBAL'!U113","v":101.50767205543112},{"$f":"'ITCER GLOBAL'!V113","v":117.08772943862833},{"$f":"'ITCER GLOBAL'!W113","v":116.63670029691514},{"$f":"'ITCER GLOBAL'!X113","v":227.89305813171092},{"$f":"'ITCER GLOBAL'!Y113","v":97.754910064351989},{"$f":"'ITCER GLOBAL'!AA113","v":123.21375125604834},{"$f":"'ITCER GLOBAL'!AB113","v":97.079643626599349},{"$f":"'ITCER GLOBAL'!AC113","v":112.03638512253762},{"$f":"'ITCER GLOBAL'!AD113","v":115.22607420791363},{"$f":"'ITCER GLOBAL'!AE113","v":104.16677755935095},{"$f":"'ITCER GLOBAL'!AF113","v":149.05454970964209},{"$f":"'ITCER GLOBAL'!AG113","v":92.222828286220903},null,{"$f":"IF(EFECTOS!$N$9=\"COSTA RICA\",LOOKUP(1,GEfectos!$C$4:$I$4,GEfectos!C113:I113),IF(EFECTOS!$N$9=\"EL SALVADOR\",LOOKUP(2,GEfectos!$C$4:$I$4,GEfectos!C113:I113),IF(EFECTOS!$N$9=\"GUATEMALA\",LOOKUP(3,GEfectos!$C$4:$I$4,GEfectos!C113:I113),IF(EFECTOS!$N$9=\"HONDURAS\",LOOKUP(4,GEfectos!$C$4:$I$4,GEfectos!C113:I113),IF(EFECTOS!$N$9=\"NICARAGUA\",LOOKUP(5,GEfectos!$C$4:$I$4,GEfectos!C113:I113),IF(EFECTOS!$N$9=\"REPÚBLICA \nDOMINICANA\",LOOKUP(6,$C$4:$I$4,C113:I113),IF(EFECTOS!$N$9=\"PANAMÁ\",LOOKUP(7,GEfectos!$C$4:$I$4,GEfectos!C113:I113))))))))","v":152.89238642875785},{"$f":"IF(EFECTOS!$N$9=\"COSTA RICA\",LOOKUP(1,GEfectos!$J$4:$P$4,GEfectos!J113:P113),IF(EFECTOS!$N$9=\"EL SALVADOR\",LOOKUP(2,GEfectos!$J$4:$P$4,GEfectos!J113:P113),IF(EFECTOS!$N$9=\"GUATEMALA\",LOOKUP(3,GEfectos!$J$4:$P$4,GEfectos!J113:P113),IF(EFECTOS!$N$9=\"HONDURAS\",LOOKUP(4,GEfectos!$J$4:$P$4,GEfectos!J113:P113),IF(EFECTOS!$N$9=\"NICARAGUA\",LOOKUP(5,GEfectos!$J$4:$P$4,GEfectos!J113:P113),IF(EFECTOS!$N$9=\"REPÚBLICA \nDOMINICANA\",LOOKUP(6,$J$4:$P$4,J113:P113),IF(EFECTOS!$N$9=\"PANAMÁ\",LOOKUP(7,GEfectos!$J$4:$P$4,GEfectos!J113:P113))))))))","v":227.89305813171092},{"$f":"IF(EFECTOS!$N$9=\"COSTA RICA\",LOOKUP(1,GEfectos!$Q$4:$W$4,GEfectos!Q113:W113),IF(EFECTOS!$N$9=\"EL SALVADOR\",LOOKUP(2,GEfectos!$Q$4:$W$4,GEfectos!Q113:W113),IF(EFECTOS!$N$9=\"GUATEMALA\",LOOKUP(3,GEfectos!$Q$4:$W$4,GEfectos!Q113:W113),IF(EFECTOS!$N$9=\"HONDURAS\",LOOKUP(4,GEfectos!$Q$4:$W$4,GEfectos!Q113:W113),IF(EFECTOS!$N$9=\"NICARAGUA\",LOOKUP(5,GEfectos!$Q$4:$W$4,GEfectos!Q113:W113),IF(EFECTOS!$N$9=\"REPÚBLICA \nDOMINICANA\",LOOKUP(6,$Q$4:$W$4,Q113:W113),IF(EFECTOS!$N$9=\"PANAMÁ\",LOOKUP(7,GEfectos!$Q$4:$W$4,GEfectos!Q113:W113))))))))","v":149.05454970964209},100]
[2004,{"$f":"'ITCER GLOBAL'!B114","v":"Enero"},{"$f":"'ITCER GLOBAL'!C114","v":107.62637370228775},{"$f":"'ITCER GLOBAL'!D114","v":100.47256988557817},{"$f":"'ITCER GLOBAL'!E114","v":90.865995628573586},{"$f":"'ITCER GLOBAL'!F114","v":102.01086070421636},{"$f":"'ITCER GLOBAL'!G114","v":111.65116824632167},{"$f":"'ITCER GLOBAL'!H114","v":176.36074983312992},{"$f":"'ITCER GLOBAL'!I114","v":106.4346519273922},{"$f":"'ITCER GLOBAL'!S114","v":134.42725444011134},{"$f":"'ITCER GLOBAL'!T114","v":97.948327914737661},{"$f":"'ITCER GLOBAL'!U114","v":103.22091822058681},{"$f":"'ITCER GLOBAL'!V114","v":117.72662900683564},{"$f":"'ITCER GLOBAL'!W114","v":116.86542444571116},{"$f":"'ITCER GLOBAL'!X114","v":279.25690148364185},{"$f":"'ITCER GLOBAL'!Y114","v":97.958402326738053},{"$f":"'ITCER GLOBAL'!AA114","v":124.90177808272091},{"$f":"'ITCER GLOBAL'!AB114","v":97.487630729745234},{"$f":"'ITCER GLOBAL'!AC114","v":113.59686041686656},{"$f":"'ITCER GLOBAL'!AD114","v":115.40597559331221},{"$f":"'ITCER GLOBAL'!AE114","v":104.67013133967926},{"$f":"'ITCER GLOBAL'!AF114","v":158.34413368500125},{"$f":"'ITCER GLOBAL'!AG114","v":92.036193620066058},null,{"$f":"IF(EFECTOS!$N$9=\"COSTA RICA\",LOOKUP(1,GEfectos!$C$4:$I$4,GEfectos!C114:I114),IF(EFECTOS!$N$9=\"EL SALVADOR\",LOOKUP(2,GEfectos!$C$4:$I$4,GEfectos!C114:I114),IF(EFECTOS!$N$9=\"GUATEMALA\",LOOKUP(3,GEfectos!$C$4:$I$4,GEfectos!C114:I114),IF(EFECTOS!$N$9=\"HONDURAS\",LOOKUP(4,GEfectos!$C$4:$I$4,GEfectos!C114:I114),IF(EFECTOS!$N$9=\"NICARAGUA\",LOOKUP(5,GEfectos!$C$4:$I$4,GEfectos!C114:I114),IF(EFECTOS!$N$9=\"REPÚBLICA \nDOMINICANA\",LOOKUP(6,$C$4:$I$4,C114:I114),IF(EFECTOS!$N$9=\"PANAMÁ\",LOOKUP(7,GEfectos!$C$4:$I$4,GEfectos!C114:I114))))))))","v":176.36074983312992},{"$f":"IF(EFECTOS!$N$9=\"COSTA RICA\",LOOKUP(1,GEfectos!$J$4:$P$4,GEfectos!J114:P114),IF(EFECTOS!$N$9=\"EL SALVADOR\",LOOKUP(2,GEfectos!$J$4:$P$4,GEfectos!J114:P114),IF(EFECTOS!$N$9=\"GUATEMALA\",LOOKUP(3,GEfectos!$J$4:$P$4,GEfectos!J114:P114),IF(EFECTOS!$N$9=\"HONDURAS\",LOOKUP(4,GEfectos!$J$4:$P$4,GEfectos!J114:P114),IF(EFECTOS!$N$9=\"NICARAGUA\",LOOKUP(5,GEfectos!$J$4:$P$4,GEfectos!J114:P114),IF(EFECTOS!$N$9=\"REPÚBLICA \nDOMINICANA\",LOOKUP(6,$J$4:$P$4,J114:P114),IF(EFECTOS!$N$9=\"PANAMÁ\",LOOKUP(7,GEfectos!$J$4:$P$4,GEfectos!J114:P114))))))))","v":279.25690148364185},{"$f":"IF(EFECTOS!$N$9=\"COSTA RICA\",LOOKUP(1,GEfectos!$Q$4:$W$4,GEfectos!Q114:W114),IF(EFECTOS!$N$9=\"EL SALVADOR\",LOOKUP(2,GEfectos!$Q$4:$W$4,GEfectos!Q114:W114),IF(EFECTOS!$N$9=\"GUATEMALA\",LOOKUP(3,GEfectos!$Q$4:$W$4,GEfectos!Q114:W114),IF(EFECTOS!$N$9=\"HONDURAS\",LOOKUP(4,GEfectos!$Q$4:$W$4,GEfectos!Q114:W114),IF(EFECTOS!$N$9=\"NICARAGUA\",LOOKUP(5,GEfectos!$Q$4:$W$4,GEfectos!Q114:W114),IF(EFECTOS!$N$9=\"REPÚBLICA \nDOMINICANA\",LOOKUP(6,$Q$4:$W$4,Q114:W114),IF(EFECTOS!$N$9=\"PANAMÁ\",LOOKUP(7,GEfectos!$Q$4:$W$4,GEfectos!Q114:W114))))))))","v":158.34413368500125},100]
[null,{"$f":"'ITCER GLOBAL'!B115","v":"Febrero"},{"$f":"'ITCER GLOBAL'!C115","v":107.46975836028039},{"$f":"'ITCER GLOBAL'!D115","v":100.50118449832087},{"$f":"'ITCER GLOBAL'!E115","v":90.5387335157846},{"$f":"'ITCER GLOBAL'!F115","v":101.68529562341739},{"$f":"'ITCER GLOBAL'!G115","v":110.9708979814868},{"$f":"'ITCER GLOBAL'!H115","v":170.02295400055473},{"$f":"'ITCER GLOBAL'!I115","v":106.91080204050476},{"$f":"'ITCER GLOBAL'!S115","v":135.21205316788004},{"$f":"'ITCER GLOBAL'!T115","v":97.799838335021519},{"$f":"'ITCER GLOBAL'!U115","v":103.01828328664382},{"$f":"'ITCER GLOBAL'!V115","v":118.05752778374439},{"$f":"'ITCER GLOBAL'!W115","v":116.90599124737959},{"$f":"'ITCER GLOBAL'!X115","v":297.988808135071},{"$f":"'ITCER GLOBAL'!Y115","v":97.799006640297037},{"$f":"'ITCER GLOBAL'!AA115","v":125.81404781296399},{"$f":"'ITCER GLOBAL'!AB115","v":97.312125049287857},{"$f":"'ITCER GLOBAL'!AC115","v":113.78365842579798},{"$f":"'ITCER GLOBAL'!AD115","v":116.10088465588981},{"$f":"'ITCER GLOBAL'!AE115","v":105.34833309800101},{"$f":"'ITCER GLOBAL'!AF115","v":175.26386945029714},{"$f":"'ITCER GLOBAL'!AG115","v":91.477198537192166},null,{"$f":"IF(EFECTOS!$N$9=\"COSTA RICA\",LOOKUP(1,GEfectos!$C$4:$I$4,GEfectos!C115:I115),IF(EFECTOS!$N$9=\"EL SALVADOR\",LOOKUP(2,GEfectos!$C$4:$I$4,GEfectos!C115:I115),IF(EFECTOS!$N$9=\"GUATEMALA\",LOOKUP(3,GEfectos!$C$4:$I$4,GEfectos!C115:I115),IF(EFECTOS!$N$9=\"HONDURAS\",LOOKUP(4,GEfectos!$C$4:$I$4,GEfectos!C115:I115),IF(EFECTOS!$N$9=\"NICARAGUA\",LOOKUP(5,GEfectos!$C$4:$I$4,GEfectos!C115:I115),IF(EFECTOS!$N$9=\"REPÚBLICA \nDOMINICANA\",LOOKUP(6,$C$4:$I$4,C115:I115),IF(EFECTOS!$N$9=\"PANAMÁ\",LOOKUP(7,GEfectos!$C$4:$I$4,GEfectos!C115:I115))))))))","v":170.02295400055473},{"$f":"IF(EFECTOS!$N$9=\"COSTA RICA\",LOOKUP(1,GEfectos!$J$4:$P$4,GEfectos!J115:P115),IF(EFECTOS!$N$9=\"EL SALVADOR\",LOOKUP(2,GEfectos!$J$4:$P$4,GEfectos!J115:P115),IF(EFECTOS!$N$9=\"GUATEMALA\",LOOKUP(3,GEfectos!$J$4:$P$4,GEfectos!J115:P115),IF(EFECTOS!$N$9=\"HONDURAS\",LOOKUP(4,GEfectos!$J$4:$P$4,GEfectos!J115:P115),IF(EFECTOS!$N$9=\"NICARAGUA\",LOOKUP(5,GEfectos!$J$4:$P$4,GEfectos!J115:P115),IF(EFECTOS!$N$9=\"REPÚBLICA \nDOMINICANA\",LOOKUP(6,$J$4:$P$4,J115:P115),IF(EFECTOS!$N$9=\"PANAMÁ\",LOOKUP(7,GEfectos!$J$4:$P$4,GEfectos!J115:P115))))))))","v":297.988808135071},{"$f":"IF(EFECTOS!$N$9=\"COSTA RICA\",LOOKUP(1,GEfectos!$Q$4:$W$4,GEfectos!Q115:W115),IF(EFECTOS!$N$9=\"EL SALVADOR\",LOOKUP(2,GEfectos!$Q$4:$W$4,GEfectos!Q115:W115),IF(EFECTOS!$N$9=\"GUATEMALA\",LOOKUP(3,GEfectos!$Q$4:$W$4,GEfectos!Q115:W115),IF(EFECTOS!$N$9=\"HONDURAS\",LOOKUP(4,GEfectos!$Q$4:$W$4,GEfectos!Q115:W115),IF(EFECTOS!$N$9=\"NICARAGUA\",LOOKUP(5,GEfectos!$Q$4:$W$4,GEfectos!Q115:W115),IF(EFECTOS!$N$9=\"REPÚBLICA \nDOMINICANA\",LOOKUP(6,$Q$4:$W$4,Q115:W115),IF(EFECTOS!$N$9=\"PANAMÁ\",LOOKUP(7,GEfectos!$Q$4:$W$4,GEfectos!Q115:W115))))))))","v":175.26386945029714},100]
[null,{"$f":"'ITCER GLOBAL'!B116","v":"Marzo"},{"$f":"'ITCER GLOBAL'!C116","v":107.99513678376154},{"$f":"'ITCER GLOBAL'!D116","v":100.29049982591299},{"$f":"'ITCER GLOBAL'!E116","v":90.16792717114356},{"$f":"'ITCER GLOBAL'!F116","v":102.00908495504703},{"$f":"'ITCER GLOBAL'!G116","v":111.12585904144021},{"$f":"'ITCER GLOBAL'!H116","v":157.79442258818727},{"$f":"'ITCER GLOBAL'!I116","v":107.47520495691705},{"$f":"'ITCER GLOBAL'!S116","v":135.70121079366407},{"$f":"'ITCER GLOBAL'!T116","v":97.64466249098723},{"$f":"'ITCER GLOBAL'!U116","v":102.73442719650534},{"$f":"'ITCER GLOBAL'!V116","v":118.17437685875063},{"$f":"'ITCER GLOBAL'!W116","v":116.98176449509646},{"$f":"'ITCER GLOBAL'!X116","v":281.25382723767547},{"$f":"'ITCER GLOBAL'!Y116","v":97.529828016252253},{"$f":"'ITCER GLOBAL'!AA116","v":125.65492746713063},{"$f":"'ITCER GLOBAL'!AB116","v":97.361826554341178},{"$f":"'ITCER GLOBAL'!AC116","v":113.93677377268514},{"$f":"'ITCER GLOBAL'!AD116","v":115.84691393989787},{"$f":"'ITCER GLOBAL'!AE116","v":105.26961546499498},{"$f":"'ITCER GLOBAL'!AF116","v":178.24066441923182},{"$f":"'ITCER GLOBAL'!AG116","v":90.746352198489362},null,{"$f":"IF(EFECTOS!$N$9=\"COSTA RICA\",LOOKUP(1,GEfectos!$C$4:$I$4,GEfectos!C116:I116),IF(EFECTOS!$N$9=\"EL SALVADOR\",LOOKUP(2,GEfectos!$C$4:$I$4,GEfectos!C116:I116),IF(EFECTOS!$N$9=\"GUATEMALA\",LOOKUP(3,GEfectos!$C$4:$I$4,GEfectos!C116:I116),IF(EFECTOS!$N$9=\"HONDURAS\",LOOKUP(4,GEfectos!$C$4:$I$4,GEfectos!C116:I116),IF(EFECTOS!$N$9=\"NICARAGUA\",LOOKUP(5,GEfectos!$C$4:$I$4,GEfectos!C116:I116),IF(EFECTOS!$N$9=\"REPÚBLICA \nDOMINICANA\",LOOKUP(6,$C$4:$I$4,C116:I116),IF(EFECTOS!$N$9=\"PANAMÁ\",LOOKUP(7,GEfectos!$C$4:$I$4,GEfectos!C116:I116))))))))","v":157.79442258818727},{"$f":"IF(EFECTOS!$N$9=\"COSTA RICA\",LOOKUP(1,GEfectos!$J$4:$P$4,GEfectos!J116:P116),IF(EFECTOS!$N$9=\"EL SALVADOR\",LOOKUP(2,GEfectos!$J$4:$P$4,GEfectos!J116:P116),IF(EFECTOS!$N$9=\"GUATEMALA\",LOOKUP(3,GEfectos!$J$4:$P$4,GEfectos!J116:P116),IF(EFECTOS!$N$9=\"HONDURAS\",LOOKUP(4,GEfectos!$J$4:$P$4,GEfectos!J116:P116),IF(EFECTOS!$N$9=\"NICARAGUA\",LOOKUP(5,GEfectos!$J$4:$P$4,GEfectos!J116:P116),IF(EFECTOS!$N$9=\"REPÚBLICA \nDOMINICANA\",LOOKUP(6,$J$4:$P$4,J116:P116),IF(EFECTOS!$N$9=\"PANAMÁ\",LOOKUP(7,GEfectos!$J$4:$P$4,GEfectos!J116:P116))))))))","v":281.25382723767547},{"$f":"IF(EFECTOS!$N$9=\"COSTA RICA\",LOOKUP(1,GEfectos!$Q$4:$W$4,GEfectos!Q116:W116),IF(EFECTOS!$N$9=\"EL SALVADOR\",LOOKUP(2,GEfectos!$Q$4:$W$4,GEfectos!Q116:W116),IF(EFECTOS!$N$9=\"GUATEMALA\",LOOKUP(3,GEfectos!$Q$4:$W$4,GEfectos!Q116:W116),IF(EFECTOS!$N$9=\"HONDURAS\",LOOKUP(4,GEfectos!$Q$4:$W$4,GEfectos!Q116:W116),IF(EFECTOS!$N$9=\"NICARAGUA\",LOOKUP(5,GEfectos!$Q$4:$W$4,GEfectos!Q116:W116),IF(EFECTOS!$N$9=\"REPÚBLICA \nDOMINICANA\",LOOKUP(6,$Q$4:$W$4,Q116:W116),IF(EFECTOS!$N$9=\"PANAMÁ\",LOOKUP(7,GEfectos!$Q$4:$W$4,GEfectos!Q116:W116))))))))","v":178.24066441923182},100]
[null,{"$f":"'ITCER GLOBAL'!B117","v":"Abril"},{"$f":"'ITCER GLOBAL'!C117","v":107.83565814707949},{"$f":"'ITCER GLOBAL'!D117","v":99.704140078056327},{"$f":"'ITCER GLOBAL'!E117","v":89.234799491888836},{"$f":"'ITCER GLOBAL'!F117","v":101.52429252996498},{"$f":"'ITCER GLOBAL'!G117","v":110.75443996728914},{"$f":"'ITCER GLOBAL'!H117","v":149.79016303653131},{"$f":"'ITCER GLOBAL'!I117","v":107.69649647960036},{"$f":"'ITCER GLOBAL'!S117","v":136.22866120709392},{"$f":"'ITCER GLOBAL'!T117","v":97.509121860730517},{"$f":"'ITCER GLOBAL'!U117","v":101.81948450193852},{"$f":"'ITCER GLOBAL'!V117","v":118.38276350465111},{"$f":"'ITCER GLOBAL'!W117","v":117.01653811077604},{"$f":"'ITCER GLOBAL'!X117","v":267.83329755088289},{"$f":"'ITCER GLOBAL'!Y117","v":97.358299581979423},{"$f":"'ITCER GLOBAL'!AA117","v":126.32988340581053},{"$f":"'ITCER GLOBAL'!AB117","v":97.798468332802045},{"$f":"'ITCER GLOBAL'!AC117","v":114.10288932312061},{"$f":"'ITCER GLOBAL'!AD117","v":116.60535676198909},{"$f":"'ITCER GLOBAL'!AE117","v":105.65403801900528},{"$f":"'ITCER GLOBAL'!AF117","v":178.80566528628643},{"$f":"'ITCER GLOBAL'!AG117","v":90.400619114309663},null,{"$f":"IF(EFECTOS!$N$9=\"COSTA RICA\",LOOKUP(1,GEfectos!$C$4:$I$4,GEfectos!C117:I117),IF(EFECTOS!$N$9=\"EL SALVADOR\",LOOKUP(2,GEfectos!$C$4:$I$4,GEfectos!C117:I117),IF(EFECTOS!$N$9=\"GUATEMALA\",LOOKUP(3,GEfectos!$C$4:$I$4,GEfectos!C117:I117),IF(EFECTOS!$N$9=\"HONDURAS\",LOOKUP(4,GEfectos!$C$4:$I$4,GEfectos!C117:I117),IF(EFECTOS!$N$9=\"NICARAGUA\",LOOKUP(5,GEfectos!$C$4:$I$4,GEfectos!C117:I117),IF(EFECTOS!$N$9=\"REPÚBLICA \nDOMINICANA\",LOOKUP(6,$C$4:$I$4,C117:I117),IF(EFECTOS!$N$9=\"PANAMÁ\",LOOKUP(7,GEfectos!$C$4:$I$4,GEfectos!C117:I117))))))))","v":149.79016303653131},{"$f":"IF(EFECTOS!$N$9=\"COSTA RICA\",LOOKUP(1,GEfectos!$J$4:$P$4,GEfectos!J117:P117),IF(EFECTOS!$N$9=\"EL SALVADOR\",LOOKUP(2,GEfectos!$J$4:$P$4,GEfectos!J117:P117),IF(EFECTOS!$N$9=\"GUATEMALA\",LOOKUP(3,GEfectos!$J$4:$P$4,GEfectos!J117:P117),IF(EFECTOS!$N$9=\"HONDURAS\",LOOKUP(4,GEfectos!$J$4:$P$4,GEfectos!J117:P117),IF(EFECTOS!$N$9=\"NICARAGUA\",LOOKUP(5,GEfectos!$J$4:$P$4,GEfectos!J117:P117),IF(EFECTOS!$N$9=\"REPÚBLICA \nDOMINICANA\",LOOKUP(6,$J$4:$P$4,J117:P117),IF(EFECTOS!$N$9=\"PANAMÁ\",LOOKUP(7,GEfectos!$J$4:$P$4,GEfectos!J117:P117))))))))","v":267.83329755088289},{"$f":"IF(EFECTOS!$N$9=\"COSTA RICA\",LOOKUP(1,GEfectos!$Q$4:$W$4,GEfectos!Q117:W117),IF(EFECTOS!$N$9=\"EL SALVADOR\",LOOKUP(2,GEfectos!$Q$4:$W$4,GEfectos!Q117:W117),IF(EFECTOS!$N$9=\"GUATEMALA\",LOOKUP(3,GEfectos!$Q$4:$W$4,GEfectos!Q117:W117),IF(EFECTOS!$N$9=\"HONDURAS\",LOOKUP(4,GEfectos!$Q$4:$W$4,GEfectos!Q117:W117),IF(EFECTOS!$N$9=\"NICARAGUA\",LOOKUP(5,GEfectos!$Q$4:$W$4,GEfectos!Q117:W117),IF(EFECTOS!$N$9=\"REPÚBLICA \nDOMINICANA\",LOOKUP(6,$Q$4:$W$4,Q117:W117),IF(EFECTOS!$N$9=\"PANAMÁ\",LOOKUP(7,GEfectos!$Q$4:$W$4,GEfectos!Q117:W117))))))))","v":178.80566528628643},100]
[null,{"$f":"'ITCER GLOBAL'!B118","v":"Mayo"},{"$f":"'ITCER GLOBAL'!C118","v":107.88486625254275},{"$f":"'ITCER GLOBAL'!D118","v":99.262612543532327},{"$f":"'ITCER GLOBAL'!E118","v":87.749793228104593},{"$f":"'ITCER GLOBAL'!F118","v":101.2574449161844},{"$f":"'ITCER GLOBAL'!G118","v":110.20178734149135},{"$f":"'ITCER GLOBAL'!H118","v":154.62682363539653},{"$f":"'ITCER GLOBAL'!I118","v":106.98344895247948},{"$f":"'ITCER GLOBAL'!S118","v":136.54690023466091},{"$f":"'ITCER GLOBAL'!T118","v":97.219688530269437},{"$f":"'ITCER GLOBAL'!U118","v":100.48339893698919},{"$f":"'ITCER GLOBAL'!V118","v":118.37396942812579},{"$f":"'ITCER GLOBAL'!W118","v":116.8877352983929},{"$f":"'ITCER GLOBAL'!X118","v":282.31021194535157},{"$f":"'ITCER GLOBAL'!Y118","v":96.549325867189935},{"$f":"'ITCER GLOBAL'!AA118","v":126.56724244809693},{"$f":"'ITCER GLOBAL'!AB118","v":97.941899814124938},{"$f":"'ITCER GLOBAL'!AC118","v":114.51126577105856},{"$f":"'ITCER GLOBAL'!AD118","v":116.90396644524219},{"$f":"'ITCER GLOBAL'!AE118","v":106.06700500798887},{"$f":"'ITCER GLOBAL'!AF118","v":182.57518670306973},{"$f":"'ITCER GLOBAL'!AG118","v":90.246974473664395},null,{"$f":"IF(EFECTOS!$N$9=\"COSTA RICA\",LOOKUP(1,GEfectos!$C$4:$I$4,GEfectos!C118:I118),IF(EFECTOS!$N$9=\"EL SALVADOR\",LOOKUP(2,GEfectos!$C$4:$I$4,GEfectos!C118:I118),IF(EFECTOS!$N$9=\"GUATEMALA\",LOOKUP(3,GEfectos!$C$4:$I$4,GEfectos!C118:I118),IF(EFECTOS!$N$9=\"HONDURAS\",LOOKUP(4,GEfectos!$C$4:$I$4,GEfectos!C118:I118),IF(EFECTOS!$N$9=\"NICARAGUA\",LOOKUP(5,GEfectos!$C$4:$I$4,GEfectos!C118:I118),IF(EFECTOS!$N$9=\"REPÚBLICA \nDOMINICANA\",LOOKUP(6,$C$4:$I$4,C118:I118),IF(EFECTOS!$N$9=\"PANAMÁ\",LOOKUP(7,GEfectos!$C$4:$I$4,GEfectos!C118:I118))))))))","v":154.62682363539653},{"$f":"IF(EFECTOS!$N$9=\"COSTA RICA\",LOOKUP(1,GEfectos!$J$4:$P$4,GEfectos!J118:P118),IF(EFECTOS!$N$9=\"EL SALVADOR\",LOOKUP(2,GEfectos!$J$4:$P$4,GEfectos!J118:P118),IF(EFECTOS!$N$9=\"GUATEMALA\",LOOKUP(3,GEfectos!$J$4:$P$4,GEfectos!J118:P118),IF(EFECTOS!$N$9=\"HONDURAS\",LOOKUP(4,GEfectos!$J$4:$P$4,GEfectos!J118:P118),IF(EFECTOS!$N$9=\"NICARAGUA\",LOOKUP(5,GEfectos!$J$4:$P$4,GEfectos!J118:P118),IF(EFECTOS!$N$9=\"REPÚBLICA \nDOMINICANA\",LOOKUP(6,$J$4:$P$4,J118:P118),IF(EFECTOS!$N$9=\"PANAMÁ\",LOOKUP(7,GEfectos!$J$4:$P$4,GEfectos!J118:P118))))))))","v":282.31021194535157},{"$f":"IF(EFECTOS!$N$9=\"COSTA RICA\",LOOKUP(1,GEfectos!$Q$4:$W$4,GEfectos!Q118:W118),IF(EFECTOS!$N$9=\"EL SALVADOR\",LOOKUP(2,GEfectos!$Q$4:$W$4,GEfectos!Q118:W118),IF(EFECTOS!$N$9=\"GUATEMALA\",LOOKUP(3,GEfectos!$Q$4:$W$4,GEfectos!Q118:W118),IF(EFECTOS!$N$9=\"HONDURAS\",LOOKUP(4,GEfectos!$Q$4:$W$4,GEfectos!Q118:W118),IF(EFECTOS!$N$9=\"NICARAGUA\",LOOKUP(5,GEfectos!$Q$4:$W$4,GEfectos!Q118:W118),IF(EFECTOS!$N$9=\"REPÚBLICA \nDOMINICANA\",LOOKUP(6,$Q$4:$W$4,Q118:W118),IF(EFECTOS!$N$9=\"PANAMÁ\",LOOKUP(7,GEfectos!$Q$4:$W$4,GEfectos!Q118:W118))))))))","v":182.57518670306973},100]
[null,{"$f":"'ITCER GLOBAL'!B119","v":"Junio"},{"$f":"'ITCER GLOBAL'!C119","v":108.1561633653952},{"$f":"'ITCER GLOBAL'!D119","v":99.596968097412699},{"$f":"'ITCER GLOBAL'!E119","v":87.342116875676567},{"$f":"'ITCER GLOBAL'!F119","v":101.6119293457139},{"$f":"'ITCER GLOBAL'!G119","v":110.98380818326395},{"$f":"'ITCER GLOBAL'!H119","v":156.30426483781969},{"$f":"'ITCER GLOBAL'!I119","v":107.22638989998367},{"$f":"'ITCER GLOBAL'!S119","v":137.99870602454629},{"$f":"'ITCER GLOBAL'!T119","v":97.371961354454385},{"$f":"'ITCER GLOBAL'!U119","v":100.13400616196849},{"$f":"'ITCER GLOBAL'!V119","v":119.17479643067404},{"$f":"'ITCER GLOBAL'!W119","v":117.69655873306573},{"$f":"'ITCER GLOBAL'!X119","v":290.23045843048743},{"$f":"'ITCER GLOBAL'!Y119","v":96.847245187235231},{"$f":"'ITCER GLOBAL'!AA119","v":127.5920869699593},{"$f":"'ITCER GLOBAL'!AB119","v":97.765989481946761},{"$f":"'ITCER GLOBAL'!AC119","v":114.6457284799955},{"$f":"'ITCER GLOBAL'!AD119","v":117.28425707301164},{"$f":"'ITCER GLOBAL'!AE119","v":106.04840531216702},{"$f":"'ITCER GLOBAL'!AF119","v":185.68300662277429},{"$f":"'ITCER GLOBAL'!AG119","v":90.320344905363612},null,{"$f":"IF(EFECTOS!$N$9=\"COSTA RICA\",LOOKUP(1,GEfectos!$C$4:$I$4,GEfectos!C119:I119),IF(EFECTOS!$N$9=\"EL SALVADOR\",LOOKUP(2,GEfectos!$C$4:$I$4,GEfectos!C119:I119),IF(EFECTOS!$N$9=\"GUATEMALA\",LOOKUP(3,GEfectos!$C$4:$I$4,GEfectos!C119:I119),IF(EFECTOS!$N$9=\"HONDURAS\",LOOKUP(4,GEfectos!$C$4:$I$4,GEfectos!C119:I119),IF(EFECTOS!$N$9=\"NICARAGUA\",LOOKUP(5,GEfectos!$C$4:$I$4,GEfectos!C119:I119),IF(EFECTOS!$N$9=\"REPÚBLICA \nDOMINICANA\",LOOKUP(6,$C$4:$I$4,C119:I119),IF(EFECTOS!$N$9=\"PANAMÁ\",LOOKUP(7,GEfectos!$C$4:$I$4,GEfectos!C119:I119))))))))","v":156.30426483781969},{"$f":"IF(EFECTOS!$N$9=\"COSTA RICA\",LOOKUP(1,GEfectos!$J$4:$P$4,GEfectos!J119:P119),IF(EFECTOS!$N$9=\"EL SALVADOR\",LOOKUP(2,GEfectos!$J$4:$P$4,GEfectos!J119:P119),IF(EFECTOS!$N$9=\"GUATEMALA\",LOOKUP(3,GEfectos!$J$4:$P$4,GEfectos!J119:P119),IF(EFECTOS!$N$9=\"HONDURAS\",LOOKUP(4,GEfectos!$J$4:$P$4,GEfectos!J119:P119),IF(EFECTOS!$N$9=\"NICARAGUA\",LOOKUP(5,GEfectos!$J$4:$P$4,GEfectos!J119:P119),IF(EFECTOS!$N$9=\"REPÚBLICA \nDOMINICANA\",LOOKUP(6,$J$4:$P$4,J119:P119),IF(EFECTOS!$N$9=\"PANAMÁ\",LOOKUP(7,GEfectos!$J$4:$P$4,GEfectos!J119:P119))))))))","v":290.23045843048743},{"$f":"IF(EFECTOS!$N$9=\"COSTA RICA\",LOOKUP(1,GEfectos!$Q$4:$W$4,GEfectos!Q119:W119),IF(EFECTOS!$N$9=\"EL SALVADOR\",LOOKUP(2,GEfectos!$Q$4:$W$4,GEfectos!Q119:W119),IF(EFECTOS!$N$9=\"GUATEMALA\",LOOKUP(3,GEfectos!$Q$4:$W$4,GEfectos!Q119:W119),IF(EFECTOS!$N$9=\"HONDURAS\",LOOKUP(4,GEfectos!$Q$4:$W$4,GEfectos!Q119:W119),IF(EFECTOS!$N$9=\"NICARAGUA\",LOOKUP(5,GEfectos!$Q$4:$W$4,GEfectos!Q119:W119),IF(EFECTOS!$N$9=\"REPÚBLICA \nDOMINICANA\",LOOKUP(6,$Q$4:$W$4,Q119:W119),IF(EFECTOS!$N$9=\"PANAMÁ\",LOOKUP(7,GEfectos!$Q$4:$W$4,GEfectos!Q119:W119))))))))","v":185.68300662277429},100]
[null,{"$f":"'ITCER GLOBAL'!B120","v":"Julio"},{"$f":"'ITCER GLOBAL'!C120","v":107.86720413348718},{"$f":"'ITCER GLOBAL'!D120","v":99.471520719559194},{"$f":"'ITCER GLOBAL'!E120","v":86.598137123195499},{"$f":"'ITCER GLOBAL'!F120","v":100.9437804398746},{"$f":"'ITCER GLOBAL'!G120","v":110.86549174665566},{"$f":"'ITCER GLOBAL'!H120","v":144.86780345127517},{"$f":"'ITCER GLOBAL'!I120","v":107.47578134770318},{"$f":"'ITCER GLOBAL'!S120","v":139.44975974415809},{"$f":"'ITCER GLOBAL'!T120","v":97.482369125362695},{"$f":"'ITCER GLOBAL'!U120","v":99.658083783802354},{"$f":"'ITCER GLOBAL'!V120","v":119.88445019381857},{"$f":"'ITCER GLOBAL'!W120","v":118.06218300884998},{"$f":"'ITCER GLOBAL'!X120","v":270.917607597038},{"$f":"'ITCER GLOBAL'!Y120","v":97.130437626649254},{"$f":"'ITCER GLOBAL'!AA120","v":129.2791083855173},{"$f":"'ITCER GLOBAL'!AB120","v":98.000280301530182},{"$f":"'ITCER GLOBAL'!AC120","v":115.08109422957635},{"$f":"'ITCER GLOBAL'!AD120","v":118.76358273031555},{"$f":"'ITCER GLOBAL'!AE120","v":106.4913717955086},{"$f":"'ITCER GLOBAL'!AF120","v":187.0102266637586},{"$f":"'ITCER GLOBAL'!AG120","v":90.374255863667656},null,{"$f":"IF(EFECTOS!$N$9=\"COSTA RICA\",LOOKUP(1,GEfectos!$C$4:$I$4,GEfectos!C120:I120),IF(EFECTOS!$N$9=\"EL SALVADOR\",LOOKUP(2,GEfectos!$C$4:$I$4,GEfectos!C120:I120),IF(EFECTOS!$N$9=\"GUATEMALA\",LOOKUP(3,GEfectos!$C$4:$I$4,GEfectos!C120:I120),IF(EFECTOS!$N$9=\"HONDURAS\",LOOKUP(4,GEfectos!$C$4:$I$4,GEfectos!C120:I120),IF(EFECTOS!$N$9=\"NICARAGUA\",LOOKUP(5,GEfectos!$C$4:$I$4,GEfectos!C120:I120),IF(EFECTOS!$N$9=\"REPÚBLICA \nDOMINICANA\",LOOKUP(6,$C$4:$I$4,C120:I120),IF(EFECTOS!$N$9=\"PANAMÁ\",LOOKUP(7,GEfectos!$C$4:$I$4,GEfectos!C120:I120))))))))","v":144.86780345127517},{"$f":"IF(EFECTOS!$N$9=\"COSTA RICA\",LOOKUP(1,GEfectos!$J$4:$P$4,GEfectos!J120:P120),IF(EFECTOS!$N$9=\"EL SALVADOR\",LOOKUP(2,GEfectos!$J$4:$P$4,GEfectos!J120:P120),IF(EFECTOS!$N$9=\"GUATEMALA\",LOOKUP(3,GEfectos!$J$4:$P$4,GEfectos!J120:P120),IF(EFECTOS!$N$9=\"HONDURAS\",LOOKUP(4,GEfectos!$J$4:$P$4,GEfectos!J120:P120),IF(EFECTOS!$N$9=\"NICARAGUA\",LOOKUP(5,GEfectos!$J$4:$P$4,GEfectos!J120:P120),IF(EFECTOS!$N$9=\"REPÚBLICA \nDOMINICANA\",LOOKUP(6,$J$4:$P$4,J120:P120),IF(EFECTOS!$N$9=\"PANAMÁ\",LOOKUP(7,GEfectos!$J$4:$P$4,GEfectos!J120:P120))))))))","v":270.917607597038},{"$f":"IF(EFECTOS!$N$9=\"COSTA RICA\",LOOKUP(1,GEfectos!$Q$4:$W$4,GEfectos!Q120:W120),IF(EFECTOS!$N$9=\"EL SALVADOR\",LOOKUP(2,GEfectos!$Q$4:$W$4,GEfectos!Q120:W120),IF(EFECTOS!$N$9=\"GUATEMALA\",LOOKUP(3,GEfectos!$Q$4:$W$4,GEfectos!Q120:W120),IF(EFECTOS!$N$9=\"HONDURAS\",LOOKUP(4,GEfectos!$Q$4:$W$4,GEfectos!Q120:W120),IF(EFECTOS!$N$9=\"NICARAGUA\",LOOKUP(5,GEfectos!$Q$4:$W$4,GEfectos!Q120:W120),IF(EFECTOS!$N$9=\"REPÚBLICA \nDOMINICANA\",LOOKUP(6,$Q$4:$W$4,Q120:W120),IF(EFECTOS!$N$9=\"PANAMÁ\",LOOKUP(7,GEfectos!$Q$4:$W$4,GEfectos!Q120:W120))))))))","v":187.0102266637586},100]
[null,{"$f":"'ITCER GLOBAL'!B121","v":"Agosto"},{"$f":"'ITCER GLOBAL'!C121","v":107.88246920415853},{"$f":"'ITCER GLOBAL'!D121","v":99.423574412118086},{"$f":"'ITCER GLOBAL'!E121","v":86.735004665313667},{"$f":"'ITCER GLOBAL'!F121","v":101.27040777992441},{"$f":"'ITCER GLOBAL'!G121","v":111.19554234567694},{"$f":"'ITCER GLOBAL'!H121","v":132.73823625865012},{"$f":"'ITCER GLOBAL'!I121","v":107.47570760430671},{"$f":"'ITCER GLOBAL'!S121","v":140.56149529404755},{"$f":"'ITCER GLOBAL'!T121","v":97.460280726690172},{"$f":"'ITCER GLOBAL'!U121","v":99.871607736054543},{"$f":"'ITCER GLOBAL'!V121","v":120.43340131724571},{"$f":"'ITCER GLOBAL'!W121","v":118.33082263611048},{"$f":"'ITCER GLOBAL'!X121","v":249.25818437348357},{"$f":"'ITCER GLOBAL'!Y121","v":97.202763460070557},{"$f":"'ITCER GLOBAL'!AA121","v":130.29132196450445},{"$f":"'ITCER GLOBAL'!AB121","v":98.025323775536449},{"$f":"'ITCER GLOBAL'!AC121","v":115.14567632921839},{"$f":"'ITCER GLOBAL'!AD121","v":118.92259936285168},{"$f":"'ITCER GLOBAL'!AE121","v":106.41687619837484},{"$f":"'ITCER GLOBAL'!AF121","v":187.78175106062568},{"$f":"'ITCER GLOBAL'!AG121","v":90.441612925166254},null,{"$f":"IF(EFECTOS!$N$9=\"COSTA RICA\",LOOKUP(1,GEfectos!$C$4:$I$4,GEfectos!C121:I121),IF(EFECTOS!$N$9=\"EL SALVADOR\",LOOKUP(2,GEfectos!$C$4:$I$4,GEfectos!C121:I121),IF(EFECTOS!$N$9=\"GUATEMALA\",LOOKUP(3,GEfectos!$C$4:$I$4,GEfectos!C121:I121),IF(EFECTOS!$N$9=\"HONDURAS\",LOOKUP(4,GEfectos!$C$4:$I$4,GEfectos!C121:I121),IF(EFECTOS!$N$9=\"NICARAGUA\",LOOKUP(5,GEfectos!$C$4:$I$4,GEfectos!C121:I121),IF(EFECTOS!$N$9=\"REPÚBLICA \nDOMINICANA\",LOOKUP(6,$C$4:$I$4,C121:I121),IF(EFECTOS!$N$9=\"PANAMÁ\",LOOKUP(7,GEfectos!$C$4:$I$4,GEfectos!C121:I121))))))))","v":132.73823625865012},{"$f":"IF(EFECTOS!$N$9=\"COSTA RICA\",LOOKUP(1,GEfectos!$J$4:$P$4,GEfectos!J121:P121),IF(EFECTOS!$N$9=\"EL SALVADOR\",LOOKUP(2,GEfectos!$J$4:$P$4,GEfectos!J121:P121),IF(EFECTOS!$N$9=\"GUATEMALA\",LOOKUP(3,GEfectos!$J$4:$P$4,GEfectos!J121:P121),IF(EFECTOS!$N$9=\"HONDURAS\",LOOKUP(4,GEfectos!$J$4:$P$4,GEfectos!J121:P121),IF(EFECTOS!$N$9=\"NICARAGUA\",LOOKUP(5,GEfectos!$J$4:$P$4,GEfectos!J121:P121),IF(EFECTOS!$N$9=\"REPÚBLICA \nDOMINICANA\",LOOKUP(6,$J$4:$P$4,J121:P121),IF(EFECTOS!$N$9=\"PANAMÁ\",LOOKUP(7,GEfectos!$J$4:$P$4,GEfectos!J121:P121))))))))","v":249.25818437348357},{"$f":"IF(EFECTOS!$N$9=\"COSTA RICA\",LOOKUP(1,GEfectos!$Q$4:$W$4,GEfectos!Q121:W121),IF(EFECTOS!$N$9=\"EL SALVADOR\",LOOKUP(2,GEfectos!$Q$4:$W$4,GEfectos!Q121:W121),IF(EFECTOS!$N$9=\"GUATEMALA\",LOOKUP(3,GEfectos!$Q$4:$W$4,GEfectos!Q121:W121),IF(EFECTOS!$N$9=\"HONDURAS\",LOOKUP(4,GEfectos!$Q$4:$W$4,GEfectos!Q121:W121),IF(EFECTOS!$N$9=\"NICARAGUA\",LOOKUP(5,GEfectos!$Q$4:$W$4,GEfectos!Q121:W121),IF(EFECTOS!$N$9=\"REPÚBLICA \nDOMINICANA\",LOOKUP(6,$Q$4:$W$4,Q121:W121),IF(EFECTOS!$N$9=\"PANAMÁ\",LOOKUP(7,GEfectos!$Q$4:$W$4,GEfectos!Q121:W121))))))))","v":187.78175106062568},100]
[null,{"$f":"'ITCER GLOBAL'!B122","v":"Septiembre"},{"$f":"'ITCER GLOBAL'!C122","v":108.43902037632431},{"$f":"'ITCER GLOBAL'!D122","v":99.577521841723026},{"$f":"'ITCER GLOBAL'!E122","v":86.273835376067396},{"$f":"'ITCER GLOBAL'!F122","v":101.99693284412932},{"$f":"'ITCER GLOBAL'!G122","v":111.07102829134756},{"$f":"'ITCER GLOBAL'!H122","v":120.72101710913512},{"$f":"'ITCER GLOBAL'!I122","v":108.29047743619321},{"$f":"'ITCER GLOBAL'!S122","v":141.99586380886643},{"$f":"'ITCER GLOBAL'!T122","v":97.514774817368078},{"$f":"'ITCER GLOBAL'!U122","v":99.841716925226237},{"$f":"'ITCER GLOBAL'!V122","v":121.08557568807012},{"$f":"'ITCER GLOBAL'!W122","v":118.44880360462773},{"$f":"'ITCER GLOBAL'!X122","v":223.50460911883917},{"$f":"'ITCER GLOBAL'!Y122","v":97.437589465773328},{"$f":"'ITCER GLOBAL'!AA122","v":130.94535833695952},{"$f":"'ITCER GLOBAL'!AB122","v":97.928501346284094},{"$f":"'ITCER GLOBAL'!AC122","v":115.7265310971936},{"$f":"'ITCER GLOBAL'!AD122","v":118.71491848986466},{"$f":"'ITCER GLOBAL'!AE122","v":106.64239399488382},{"$f":"'ITCER GLOBAL'!AF122","v":185.14142315151705},{"$f":"'ITCER GLOBAL'!AG122","v":89.977984927793287},null,{"$f":"IF(EFECTOS!$N$9=\"COSTA RICA\",LOOKUP(1,GEfectos!$C$4:$I$4,GEfectos!C122:I122),IF(EFECTOS!$N$9=\"EL SALVADOR\",LOOKUP(2,GEfectos!$C$4:$I$4,GEfectos!C122:I122),IF(EFECTOS!$N$9=\"GUATEMALA\",LOOKUP(3,GEfectos!$C$4:$I$4,GEfectos!C122:I122),IF(EFECTOS!$N$9=\"HONDURAS\",LOOKUP(4,GEfectos!$C$4:$I$4,GEfectos!C122:I122),IF(EFECTOS!$N$9=\"NICARAGUA\",LOOKUP(5,GEfectos!$C$4:$I$4,GEfectos!C122:I122),IF(EFECTOS!$N$9=\"REPÚBLICA \nDOMINICANA\",LOOKUP(6,$C$4:$I$4,C122:I122),IF(EFECTOS!$N$9=\"PANAMÁ\",LOOKUP(7,GEfectos!$C$4:$I$4,GEfectos!C122:I122))))))))","v":120.72101710913512},{"$f":"IF(EFECTOS!$N$9=\"COSTA RICA\",LOOKUP(1,GEfectos!$J$4:$P$4,GEfectos!J122:P122),IF(EFECTOS!$N$9=\"EL SALVADOR\",LOOKUP(2,GEfectos!$J$4:$P$4,GEfectos!J122:P122),IF(EFECTOS!$N$9=\"GUATEMALA\",LOOKUP(3,GEfectos!$J$4:$P$4,GEfectos!J122:P122),IF(EFECTOS!$N$9=\"HONDURAS\",LOOKUP(4,GEfectos!$J$4:$P$4,GEfectos!J122:P122),IF(EFECTOS!$N$9=\"NICARAGUA\",LOOKUP(5,GEfectos!$J$4:$P$4,GEfectos!J122:P122),IF(EFECTOS!$N$9=\"REPÚBLICA \nDOMINICANA\",LOOKUP(6,$J$4:$P$4,J122:P122),IF(EFECTOS!$N$9=\"PANAMÁ\",LOOKUP(7,GEfectos!$J$4:$P$4,GEfectos!J122:P122))))))))","v":223.50460911883917},{"$f":"IF(EFECTOS!$N$9=\"COSTA RICA\",LOOKUP(1,GEfectos!$Q$4:$W$4,GEfectos!Q122:W122),IF(EFECTOS!$N$9=\"EL SALVADOR\",LOOKUP(2,GEfectos!$Q$4:$W$4,GEfectos!Q122:W122),IF(EFECTOS!$N$9=\"GUATEMALA\",LOOKUP(3,GEfectos!$Q$4:$W$4,GEfectos!Q122:W122),IF(EFECTOS!$N$9=\"HONDURAS\",LOOKUP(4,GEfectos!$Q$4:$W$4,GEfectos!Q122:W122),IF(EFECTOS!$N$9=\"NICARAGUA\",LOOKUP(5,GEfectos!$Q$4:$W$4,GEfectos!Q122:W122),IF(EFECTOS!$N$9=\"REPÚBLICA \nDOMINICANA\",LOOKUP(6,$Q$4:$W$4,Q122:W122),IF(EFECTOS!$N$9=\"PANAMÁ\",LOOKUP(7,GEfectos!$Q$4:$W$4,GEfectos!Q122:W122))))))))","v":185.14142315151705},100]
[null,{"$f":"'ITCER GLOBAL'!B123","v":"Octubre"},{"$f":"'ITCER GLOBAL'!C123","v":109.68316564484826},{"$f":"'ITCER GLOBAL'!D123","v":100.01641211430896},{"$f":"'ITCER GLOBAL'!E123","v":85.367959224046317},{"$f":"'ITCER GLOBAL'!F123","v":102.50805921048355},{"$f":"'ITCER GLOBAL'!G123","v":110.86908710048178},{"$f":"'ITCER GLOBAL'!H123","v":104.7989431580789},{"$f":"'ITCER GLOBAL'!I123","v":109.14012619330954},{"$f":"'ITCER GLOBAL'!S123","v":143.97333697846028},{"$f":"'ITCER GLOBAL'!T123","v":97.774108241387836},{"$f":"'ITCER GLOBAL'!U123","v":99.276633650965792},{"$f":"'ITCER GLOBAL'!V123","v":122.10951090156561},{"$f":"'ITCER GLOBAL'!W123","v":119.17701379269117},{"$f":"'ITCER GLOBAL'!X123","v":195.6823509419709},{"$f":"'ITCER GLOBAL'!Y123","v":97.813309712455805},{"$f":"'ITCER GLOBAL'!AA123","v":131.26293003307623},{"$f":"'ITCER GLOBAL'!AB123","v":97.758064076165439},{"$f":"'ITCER GLOBAL'!AC123","v":116.29261675380627},{"$f":"'ITCER GLOBAL'!AD123","v":119.12186401932914},{"$f":"'ITCER GLOBAL'!AE123","v":107.49345639030999},{"$f":"'ITCER GLOBAL'!AF123","v":186.72168348759328},{"$f":"'ITCER GLOBAL'!AG123","v":89.62176710260384},null,{"$f":"IF(EFECTOS!$N$9=\"COSTA RICA\",LOOKUP(1,GEfectos!$C$4:$I$4,GEfectos!C123:I123),IF(EFECTOS!$N$9=\"EL SALVADOR\",LOOKUP(2,GEfectos!$C$4:$I$4,GEfectos!C123:I123),IF(EFECTOS!$N$9=\"GUATEMALA\",LOOKUP(3,GEfectos!$C$4:$I$4,GEfectos!C123:I123),IF(EFECTOS!$N$9=\"HONDURAS\",LOOKUP(4,GEfectos!$C$4:$I$4,GEfectos!C123:I123),IF(EFECTOS!$N$9=\"NICARAGUA\",LOOKUP(5,GEfectos!$C$4:$I$4,GEfectos!C123:I123),IF(EFECTOS!$N$9=\"REPÚBLICA \nDOMINICANA\",LOOKUP(6,$C$4:$I$4,C123:I123),IF(EFECTOS!$N$9=\"PANAMÁ\",LOOKUP(7,GEfectos!$C$4:$I$4,GEfectos!C123:I123))))))))","v":104.7989431580789},{"$f":"IF(EFECTOS!$N$9=\"COSTA RICA\",LOOKUP(1,GEfectos!$J$4:$P$4,GEfectos!J123:P123),IF(EFECTOS!$N$9=\"EL SALVADOR\",LOOKUP(2,GEfectos!$J$4:$P$4,GEfectos!J123:P123),IF(EFECTOS!$N$9=\"GUATEMALA\",LOOKUP(3,GEfectos!$J$4:$P$4,GEfectos!J123:P123),IF(EFECTOS!$N$9=\"HONDURAS\",LOOKUP(4,GEfectos!$J$4:$P$4,GEfectos!J123:P123),IF(EFECTOS!$N$9=\"NICARAGUA\",LOOKUP(5,GEfectos!$J$4:$P$4,GEfectos!J123:P123),IF(EFECTOS!$N$9=\"REPÚBLICA \nDOMINICANA\",LOOKUP(6,$J$4:$P$4,J123:P123),IF(EFECTOS!$N$9=\"PANAMÁ\",LOOKUP(7,GEfectos!$J$4:$P$4,GEfectos!J123:P123))))))))","v":195.6823509419709},{"$f":"IF(EFECTOS!$N$9=\"COSTA RICA\",LOOKUP(1,GEfectos!$Q$4:$W$4,GEfectos!Q123:W123),IF(EFECTOS!$N$9=\"EL SALVADOR\",LOOKUP(2,GEfectos!$Q$4:$W$4,GEfectos!Q123:W123),IF(EFECTOS!$N$9=\"GUATEMALA\",LOOKUP(3,GEfectos!$Q$4:$W$4,GEfectos!Q123:W123),IF(EFECTOS!$N$9=\"HONDURAS\",LOOKUP(4,GEfectos!$Q$4:$W$4,GEfectos!Q123:W123),IF(EFECTOS!$N$9=\"NICARAGUA\",LOOKUP(5,GEfectos!$Q$4:$W$4,GEfectos!Q123:W123),IF(EFECTOS!$N$9=\"REPÚBLICA \nDOMINICANA\",LOOKUP(6,$Q$4:$W$4,Q123:W123),IF(EFECTOS!$N$9=\"PANAMÁ\",LOOKUP(7,GEfectos!$Q$4:$W$4,GEfectos!Q123:W123))))))))","v":186.72168348759328},100]
[null,{"$f":"'ITCER GLOBAL'!B124","v":"Noviembre"},{"$f":"'ITCER GLOBAL'!C124","v":110.21380849933055},{"$f":"'ITCER GLOBAL'!D124","v":100.66596523164824},{"$f":"'ITCER GLOBAL'!E124","v":84.601501322376862},{"$f":"'ITCER GLOBAL'!F124","v":102.88039571890683},{"$f":"'ITCER GLOBAL'!G124","v":111.21160186098885},{"$f":"'ITCER GLOBAL'!H124","v":98.222378825184933},{"$f":"'ITCER GLOBAL'!I124","v":110.37992042872102},{"$f":"'ITCER GLOBAL'!S124","v":146.5234848051669},{"$f":"'ITCER GLOBAL'!T124","v":98.173870225538565},{"$f":"'ITCER GLOBAL'!U124","v":99.227905885187411},{"$f":"'ITCER GLOBAL'!V124","v":123.35315009928011},{"$f":"'ITCER GLOBAL'!W124","v":120.15713501573173},{"$f":"'ITCER GLOBAL'!X124","v":180.21413122127575},{"$f":"'ITCER GLOBAL'!Y124","v":98.746754645816651},{"$f":"'ITCER GLOBAL'!AA124","v":132.94476145977382},{"$f":"'ITCER GLOBAL'!AB124","v":97.524391684543048},{"$f":"'ITCER GLOBAL'!AC124","v":117.28858747680628},{"$f":"'ITCER GLOBAL'!AD124","v":119.89956807350313},{"$f":"'ITCER GLOBAL'!AE124","v":108.04370497776348},{"$f":"'ITCER GLOBAL'!AF124","v":183.47563292273631},{"$f":"'ITCER GLOBAL'!AG124","v":89.460795280771563},null,{"$f":"IF(EFECTOS!$N$9=\"COSTA RICA\",LOOKUP(1,GEfectos!$C$4:$I$4,GEfectos!C124:I124),IF(EFECTOS!$N$9=\"EL SALVADOR\",LOOKUP(2,GEfectos!$C$4:$I$4,GEfectos!C124:I124),IF(EFECTOS!$N$9=\"GUATEMALA\",LOOKUP(3,GEfectos!$C$4:$I$4,GEfectos!C124:I124),IF(EFECTOS!$N$9=\"HONDURAS\",LOOKUP(4,GEfectos!$C$4:$I$4,GEfectos!C124:I124),IF(EFECTOS!$N$9=\"NICARAGUA\",LOOKUP(5,GEfectos!$C$4:$I$4,GEfectos!C124:I124),IF(EFECTOS!$N$9=\"REPÚBLICA \nDOMINICANA\",LOOKUP(6,$C$4:$I$4,C124:I124),IF(EFECTOS!$N$9=\"PANAMÁ\",LOOKUP(7,GEfectos!$C$4:$I$4,GEfectos!C124:I124))))))))","v":98.222378825184933},{"$f":"IF(EFECTOS!$N$9=\"COSTA RICA\",LOOKUP(1,GEfectos!$J$4:$P$4,GEfectos!J124:P124),IF(EFECTOS!$N$9=\"EL SALVADOR\",LOOKUP(2,GEfectos!$J$4:$P$4,GEfectos!J124:P124),IF(EFECTOS!$N$9=\"GUATEMALA\",LOOKUP(3,GEfectos!$J$4:$P$4,GEfectos!J124:P124),IF(EFECTOS!$N$9=\"HONDURAS\",LOOKUP(4,GEfectos!$J$4:$P$4,GEfectos!J124:P124),IF(EFECTOS!$N$9=\"NICARAGUA\",LOOKUP(5,GEfectos!$J$4:$P$4,GEfectos!J124:P124),IF(EFECTOS!$N$9=\"REPÚBLICA \nDOMINICANA\",LOOKUP(6,$J$4:$P$4,J124:P124),IF(EFECTOS!$N$9=\"PANAMÁ\",LOOKUP(7,GEfectos!$J$4:$P$4,GEfectos!J124:P124))))))))","v":180.21413122127575},{"$f":"IF(EFECTOS!$N$9=\"COSTA RICA\",LOOKUP(1,GEfectos!$Q$4:$W$4,GEfectos!Q124:W124),IF(EFECTOS!$N$9=\"EL SALVADOR\",LOOKUP(2,GEfectos!$Q$4:$W$4,GEfectos!Q124:W124),IF(EFECTOS!$N$9=\"GUATEMALA\",LOOKUP(3,GEfectos!$Q$4:$W$4,GEfectos!Q124:W124),IF(EFECTOS!$N$9=\"HONDURAS\",LOOKUP(4,GEfectos!$Q$4:$W$4,GEfectos!Q124:W124),IF(EFECTOS!$N$9=\"NICARAGUA\",LOOKUP(5,GEfectos!$Q$4:$W$4,GEfectos!Q124:W124),IF(EFECTOS!$N$9=\"REPÚBLICA \nDOMINICANA\",LOOKUP(6,$Q$4:$W$4,Q124:W124),IF(EFECTOS!$N$9=\"PANAMÁ\",LOOKUP(7,GEfectos!$Q$4:$W$4,GEfectos!Q124:W124))))))))","v":183.47563292273631},100]
[null,{"$f":"'ITCER GLOBAL'!B125","v":"Diciembre"},{"$f":"'ITCER GLOBAL'!C125","v":110.56725415169979},{"$f":"'ITCER GLOBAL'!D125","v":100.67814035576997},{"$f":"'ITCER GLOBAL'!E125","v":84.569733540845647},{"$f":"'ITCER GLOBAL'!F125","v":103.23925053880669},{"$f":"'ITCER GLOBAL'!G125","v":112.05855044616067},{"$f":"'ITCER GLOBAL'!H125","v":97.571859366787095},{"$f":"'ITCER GLOBAL'!I125","v":110.72837796908755},{"$f":"'ITCER GLOBAL'!S125","v":148.76190855524004},{"$f":"'ITCER GLOBAL'!T125","v":98.417564215498956},{"$f":"'ITCER GLOBAL'!U125","v":99.838593612168097},{"$f":"'ITCER GLOBAL'!V125","v":124.29808870059883},{"$f":"'ITCER GLOBAL'!W125","v":120.8155851754167},{"$f":"'ITCER GLOBAL'!X125","v":176.71403742083845},{"$f":"'ITCER GLOBAL'!Y125","v":99.503919561639208},{"$f":"'ITCER GLOBAL'!AA125","v":134.54427325393888},{"$f":"'ITCER GLOBAL'!AB125","v":97.754650480945784},{"$f":"'ITCER GLOBAL'!AC125","v":118.05475721872514},{"$f":"'ITCER GLOBAL'!AD125","v":120.39809282989353},{"$f":"'ITCER GLOBAL'!AE125","v":107.81469570540574},{"$f":"'ITCER GLOBAL'!AF125","v":181.11168380684862},{"$f":"'ITCER GLOBAL'!AG125","v":89.863069780917485},null,{"$f":"IF(EFECTOS!$N$9=\"COSTA RICA\",LOOKUP(1,GEfectos!$C$4:$I$4,GEfectos!C125:I125),IF(EFECTOS!$N$9=\"EL SALVADOR\",LOOKUP(2,GEfectos!$C$4:$I$4,GEfectos!C125:I125),IF(EFECTOS!$N$9=\"GUATEMALA\",LOOKUP(3,GEfectos!$C$4:$I$4,GEfectos!C125:I125),IF(EFECTOS!$N$9=\"HONDURAS\",LOOKUP(4,GEfectos!$C$4:$I$4,GEfectos!C125:I125),IF(EFECTOS!$N$9=\"NICARAGUA\",LOOKUP(5,GEfectos!$C$4:$I$4,GEfectos!C125:I125),IF(EFECTOS!$N$9=\"REPÚBLICA \nDOMINICANA\",LOOKUP(6,$C$4:$I$4,C125:I125),IF(EFECTOS!$N$9=\"PANAMÁ\",LOOKUP(7,GEfectos!$C$4:$I$4,GEfectos!C125:I125))))))))","v":97.571859366787095},{"$f":"IF(EFECTOS!$N$9=\"COSTA RICA\",LOOKUP(1,GEfectos!$J$4:$P$4,GEfectos!J125:P125),IF(EFECTOS!$N$9=\"EL SALVADOR\",LOOKUP(2,GEfectos!$J$4:$P$4,GEfectos!J125:P125),IF(EFECTOS!$N$9=\"GUATEMALA\",LOOKUP(3,GEfectos!$J$4:$P$4,GEfectos!J125:P125),IF(EFECTOS!$N$9=\"HONDURAS\",LOOKUP(4,GEfectos!$J$4:$P$4,GEfectos!J125:P125),IF(EFECTOS!$N$9=\"NICARAGUA\",LOOKUP(5,GEfectos!$J$4:$P$4,GEfectos!J125:P125),IF(EFECTOS!$N$9=\"REPÚBLICA \nDOMINICANA\",LOOKUP(6,$J$4:$P$4,J125:P125),IF(EFECTOS!$N$9=\"PANAMÁ\",LOOKUP(7,GEfectos!$J$4:$P$4,GEfectos!J125:P125))))))))","v":176.71403742083845},{"$f":"IF(EFECTOS!$N$9=\"COSTA RICA\",LOOKUP(1,GEfectos!$Q$4:$W$4,GEfectos!Q125:W125),IF(EFECTOS!$N$9=\"EL SALVADOR\",LOOKUP(2,GEfectos!$Q$4:$W$4,GEfectos!Q125:W125),IF(EFECTOS!$N$9=\"GUATEMALA\",LOOKUP(3,GEfectos!$Q$4:$W$4,GEfectos!Q125:W125),IF(EFECTOS!$N$9=\"HONDURAS\",LOOKUP(4,GEfectos!$Q$4:$W$4,GEfectos!Q125:W125),IF(EFECTOS!$N$9=\"NICARAGUA\",LOOKUP(5,GEfectos!$Q$4:$W$4,GEfectos!Q125:W125),IF(EFECTOS!$N$9=\"REPÚBLICA \nDOMINICANA\",LOOKUP(6,$Q$4:$W$4,Q125:W125),IF(EFECTOS!$N$9=\"PANAMÁ\",LOOKUP(7,GEfectos!$Q$4:$W$4,GEfectos!Q125:W125))))))))","v":181.11168380684862},100]
[2005,{"$f":"'ITCER GLOBAL'!B126","v":"Enero"},{"$f":"'ITCER GLOBAL'!C126","v":107.61224858792946},{"$f":"'ITCER GLOBAL'!D126","v":99.394068435064085},{"$f":"'ITCER GLOBAL'!E126","v":82.98548554682111},{"$f":"'ITCER GLOBAL'!F126","v":103.34492045620766},{"$f":"'ITCER GLOBAL'!G126","v":112.34748671952276},{"$f":"'ITCER GLOBAL'!H126","v":98.999893044645034},{"$f":"'ITCER GLOBAL'!I126","v":108.7865831143219},{"$f":"'ITCER GLOBAL'!S126","v":148.71820799186807},{"$f":"'ITCER GLOBAL'!T126","v":98.317627463888499},{"$f":"'ITCER GLOBAL'!U126","v":99.311321929346221},{"$f":"'ITCER GLOBAL'!V126","v":125.33399840101784},{"$f":"'ITCER GLOBAL'!W126","v":120.9021274437184},{"$f":"'ITCER GLOBAL'!X126","v":182.21250836081228},{"$f":"'ITCER GLOBAL'!Y126","v":99.245074266208405},{"$f":"'ITCER GLOBAL'!AA126","v":138.19821622847246},{"$f":"'ITCER GLOBAL'!AB126","v":98.916996770407039},{"$f":"'ITCER GLOBAL'!AC126","v":119.67312268518808},{"$f":"'ITCER GLOBAL'!AD126","v":121.27736694531399},{"$f":"'ITCER GLOBAL'!AE126","v":107.61444779405917},{"$f":"'ITCER GLOBAL'!AF126","v":184.05323759152111},{"$f":"'ITCER GLOBAL'!AG126","v":91.229149243444397},null,{"$f":"IF(EFECTOS!$N$9=\"COSTA RICA\",LOOKUP(1,GEfectos!$C$4:$I$4,GEfectos!C126:I126),IF(EFECTOS!$N$9=\"EL SALVADOR\",LOOKUP(2,GEfectos!$C$4:$I$4,GEfectos!C126:I126),IF(EFECTOS!$N$9=\"GUATEMALA\",LOOKUP(3,GEfectos!$C$4:$I$4,GEfectos!C126:I126),IF(EFECTOS!$N$9=\"HONDURAS\",LOOKUP(4,GEfectos!$C$4:$I$4,GEfectos!C126:I126),IF(EFECTOS!$N$9=\"NICARAGUA\",LOOKUP(5,GEfectos!$C$4:$I$4,GEfectos!C126:I126),IF(EFECTOS!$N$9=\"REPÚBLICA \nDOMINICANA\",LOOKUP(6,$C$4:$I$4,C126:I126),IF(EFECTOS!$N$9=\"PANAMÁ\",LOOKUP(7,GEfectos!$C$4:$I$4,GEfectos!C126:I126))))))))","v":98.999893044645034},{"$f":"IF(EFECTOS!$N$9=\"COSTA RICA\",LOOKUP(1,GEfectos!$J$4:$P$4,GEfectos!J126:P126),IF(EFECTOS!$N$9=\"EL SALVADOR\",LOOKUP(2,GEfectos!$J$4:$P$4,GEfectos!J126:P126),IF(EFECTOS!$N$9=\"GUATEMALA\",LOOKUP(3,GEfectos!$J$4:$P$4,GEfectos!J126:P126),IF(EFECTOS!$N$9=\"HONDURAS\",LOOKUP(4,GEfectos!$J$4:$P$4,GEfectos!J126:P126),IF(EFECTOS!$N$9=\"NICARAGUA\",LOOKUP(5,GEfectos!$J$4:$P$4,GEfectos!J126:P126),IF(EFECTOS!$N$9=\"REPÚBLICA \nDOMINICANA\",LOOKUP(6,$J$4:$P$4,J126:P126),IF(EFECTOS!$N$9=\"PANAMÁ\",LOOKUP(7,GEfectos!$J$4:$P$4,GEfectos!J126:P126))))))))","v":182.21250836081228},{"$f":"IF(EFECTOS!$N$9=\"COSTA RICA\",LOOKUP(1,GEfectos!$Q$4:$W$4,GEfectos!Q126:W126),IF(EFECTOS!$N$9=\"EL SALVADOR\",LOOKUP(2,GEfectos!$Q$4:$W$4,GEfectos!Q126:W126),IF(EFECTOS!$N$9=\"GUATEMALA\",LOOKUP(3,GEfectos!$Q$4:$W$4,GEfectos!Q126:W126),IF(EFECTOS!$N$9=\"HONDURAS\",LOOKUP(4,GEfectos!$Q$4:$W$4,GEfectos!Q126:W126),IF(EFECTOS!$N$9=\"NICARAGUA\",LOOKUP(5,GEfectos!$Q$4:$W$4,GEfectos!Q126:W126),IF(EFECTOS!$N$9=\"REPÚBLICA \nDOMINICANA\",LOOKUP(6,$Q$4:$W$4,Q126:W126),IF(EFECTOS!$N$9=\"PANAMÁ\",LOOKUP(7,GEfectos!$Q$4:$W$4,GEfectos!Q126:W126))))))))","v":184.05323759152111},100]
[null,{"$f":"'ITCER GLOBAL'!B127","v":"Febrero"},{"$f":"'ITCER GLOBAL'!C127","v":107.84813287679783},{"$f":"'ITCER GLOBAL'!D127","v":99.989431113302189},{"$f":"'ITCER GLOBAL'!E127","v":82.412794710746908},{"$f":"'ITCER GLOBAL'!F127","v":103.06493461819488},{"$f":"'ITCER GLOBAL'!G127","v":112.84735710425566},{"$f":"'ITCER GLOBAL'!H127","v":96.285768951989041},{"$f":"'ITCER GLOBAL'!I127","v":108.94448245827446},{"$f":"'ITCER GLOBAL'!S127","v":149.79223176124708},{"$f":"'ITCER GLOBAL'!T127","v":98.37834536604062},{"$f":"'ITCER GLOBAL'!U127","v":98.787024977418298},{"$f":"'ITCER GLOBAL'!V127","v":125.78087526082894},{"$f":"'ITCER GLOBAL'!W127","v":122.19418684966539},{"$f":"'ITCER GLOBAL'!X127","v":176.25644624746741},{"$f":"'ITCER GLOBAL'!Y127","v":99.294284188920145},{"$f":"'ITCER GLOBAL'!AA127","v":138.89181737839152},{"$f":"'ITCER GLOBAL'!AB127","v":98.388743960913246},{"$f":"'ITCER GLOBAL'!AC127","v":119.86855357125286},{"$f":"'ITCER GLOBAL'!AD127","v":122.04041629365554},{"$f":"'ITCER GLOBAL'!AE127","v":108.28271922821774},{"$f":"'ITCER GLOBAL'!AF127","v":183.05555241019485},{"$f":"'ITCER GLOBAL'!AG127","v":91.142095449349313},null,{"$f":"IF(EFECTOS!$N$9=\"COSTA RICA\",LOOKUP(1,GEfectos!$C$4:$I$4,GEfectos!C127:I127),IF(EFECTOS!$N$9=\"EL SALVADOR\",LOOKUP(2,GEfectos!$C$4:$I$4,GEfectos!C127:I127),IF(EFECTOS!$N$9=\"GUATEMALA\",LOOKUP(3,GEfectos!$C$4:$I$4,GEfectos!C127:I127),IF(EFECTOS!$N$9=\"HONDURAS\",LOOKUP(4,GEfectos!$C$4:$I$4,GEfectos!C127:I127),IF(EFECTOS!$N$9=\"NICARAGUA\",LOOKUP(5,GEfectos!$C$4:$I$4,GEfectos!C127:I127),IF(EFECTOS!$N$9=\"REPÚBLICA \nDOMINICANA\",LOOKUP(6,$C$4:$I$4,C127:I127),IF(EFECTOS!$N$9=\"PANAMÁ\",LOOKUP(7,GEfectos!$C$4:$I$4,GEfectos!C127:I127))))))))","v":96.285768951989041},{"$f":"IF(EFECTOS!$N$9=\"COSTA RICA\",LOOKUP(1,GEfectos!$J$4:$P$4,GEfectos!J127:P127),IF(EFECTOS!$N$9=\"EL SALVADOR\",LOOKUP(2,GEfectos!$J$4:$P$4,GEfectos!J127:P127),IF(EFECTOS!$N$9=\"GUATEMALA\",LOOKUP(3,GEfectos!$J$4:$P$4,GEfectos!J127:P127),IF(EFECTOS!$N$9=\"HONDURAS\",LOOKUP(4,GEfectos!$J$4:$P$4,GEfectos!J127:P127),IF(EFECTOS!$N$9=\"NICARAGUA\",LOOKUP(5,GEfectos!$J$4:$P$4,GEfectos!J127:P127),IF(EFECTOS!$N$9=\"REPÚBLICA \nDOMINICANA\",LOOKUP(6,$J$4:$P$4,J127:P127),IF(EFECTOS!$N$9=\"PANAMÁ\",LOOKUP(7,GEfectos!$J$4:$P$4,GEfectos!J127:P127))))))))","v":176.25644624746741},{"$f":"IF(EFECTOS!$N$9=\"COSTA RICA\",LOOKUP(1,GEfectos!$Q$4:$W$4,GEfectos!Q127:W127),IF(EFECTOS!$N$9=\"EL SALVADOR\",LOOKUP(2,GEfectos!$Q$4:$W$4,GEfectos!Q127:W127),IF(EFECTOS!$N$9=\"GUATEMALA\",LOOKUP(3,GEfectos!$Q$4:$W$4,GEfectos!Q127:W127),IF(EFECTOS!$N$9=\"HONDURAS\",LOOKUP(4,GEfectos!$Q$4:$W$4,GEfectos!Q127:W127),IF(EFECTOS!$N$9=\"NICARAGUA\",LOOKUP(5,GEfectos!$Q$4:$W$4,GEfectos!Q127:W127),IF(EFECTOS!$N$9=\"REPÚBLICA \nDOMINICANA\",LOOKUP(6,$Q$4:$W$4,Q127:W127),IF(EFECTOS!$N$9=\"PANAMÁ\",LOOKUP(7,GEfectos!$Q$4:$W$4,GEfectos!Q127:W127))))))))","v":183.05555241019485},100]
[null,{"$f":"'ITCER GLOBAL'!B128","v":"Marzo"},{"$f":"'ITCER GLOBAL'!C128","v":108.47381910848985},{"$f":"'ITCER GLOBAL'!D128","v":100.71338067076333},{"$f":"'ITCER GLOBAL'!E128","v":81.488837877734198},{"$f":"'ITCER GLOBAL'!F128","v":103.3124168399202},{"$f":"'ITCER GLOBAL'!G128","v":112.88409534194923},{"$f":"'ITCER GLOBAL'!H128","v":95.201533432518715},{"$f":"'ITCER GLOBAL'!I128","v":108.86492535892334},{"$f":"'ITCER GLOBAL'!S128","v":150.97954208281084},{"$f":"'ITCER GLOBAL'!T128","v":98.4781501788827},{"$f":"'ITCER GLOBAL'!U128","v":97.538965857111734},{"$f":"'ITCER GLOBAL'!V128","v":126.26764838447994},{"$f":"'ITCER GLOBAL'!W128","v":122.77269794601442},{"$f":"'ITCER GLOBAL'!X128","v":172.91870122107045},{"$f":"'ITCER GLOBAL'!Y128","v":99.280162504122998},{"$f":"'ITCER GLOBAL'!AA128","v":139.18523688357371},{"$f":"'ITCER GLOBAL'!AB128","v":97.780602262585447},{"$f":"'ITCER GLOBAL'!AC128","v":119.69610611389395},{"$f":"'ITCER GLOBAL'!AD128","v":122.21923777093342},{"$f":"'ITCER GLOBAL'!AE128","v":108.75996089095683},{"$f":"'ITCER GLOBAL'!AF128","v":181.63436552588686},{"$f":"'ITCER GLOBAL'!AG128","v":91.195729181644353},null,{"$f":"IF(EFECTOS!$N$9=\"COSTA RICA\",LOOKUP(1,GEfectos!$C$4:$I$4,GEfectos!C128:I128),IF(EFECTOS!$N$9=\"EL SALVADOR\",LOOKUP(2,GEfectos!$C$4:$I$4,GEfectos!C128:I128),IF(EFECTOS!$N$9=\"GUATEMALA\",LOOKUP(3,GEfectos!$C$4:$I$4,GEfectos!C128:I128),IF(EFECTOS!$N$9=\"HONDURAS\",LOOKUP(4,GEfectos!$C$4:$I$4,GEfectos!C128:I128),IF(EFECTOS!$N$9=\"NICARAGUA\",LOOKUP(5,GEfectos!$C$4:$I$4,GEfectos!C128:I128),IF(EFECTOS!$N$9=\"REPÚBLICA \nDOMINICANA\",LOOKUP(6,$C$4:$I$4,C128:I128),IF(EFECTOS!$N$9=\"PANAMÁ\",LOOKUP(7,GEfectos!$C$4:$I$4,GEfectos!C128:I128))))))))","v":95.201533432518715},{"$f":"IF(EFECTOS!$N$9=\"COSTA RICA\",LOOKUP(1,GEfectos!$J$4:$P$4,GEfectos!J128:P128),IF(EFECTOS!$N$9=\"EL SALVADOR\",LOOKUP(2,GEfectos!$J$4:$P$4,GEfectos!J128:P128),IF(EFECTOS!$N$9=\"GUATEMALA\",LOOKUP(3,GEfectos!$J$4:$P$4,GEfectos!J128:P128),IF(EFECTOS!$N$9=\"HONDURAS\",LOOKUP(4,GEfectos!$J$4:$P$4,GEfectos!J128:P128),IF(EFECTOS!$N$9=\"NICARAGUA\",LOOKUP(5,GEfectos!$J$4:$P$4,GEfectos!J128:P128),IF(EFECTOS!$N$9=\"REPÚBLICA \nDOMINICANA\",LOOKUP(6,$J$4:$P$4,J128:P128),IF(EFECTOS!$N$9=\"PANAMÁ\",LOOKUP(7,GEfectos!$J$4:$P$4,GEfectos!J128:P128))))))))","v":172.91870122107045},{"$f":"IF(EFECTOS!$N$9=\"COSTA RICA\",LOOKUP(1,GEfectos!$Q$4:$W$4,GEfectos!Q128:W128),IF(EFECTOS!$N$9=\"EL SALVADOR\",LOOKUP(2,GEfectos!$Q$4:$W$4,GEfectos!Q128:W128),IF(EFECTOS!$N$9=\"GUATEMALA\",LOOKUP(3,GEfectos!$Q$4:$W$4,GEfectos!Q128:W128),IF(EFECTOS!$N$9=\"HONDURAS\",LOOKUP(4,GEfectos!$Q$4:$W$4,GEfectos!Q128:W128),IF(EFECTOS!$N$9=\"NICARAGUA\",LOOKUP(5,GEfectos!$Q$4:$W$4,GEfectos!Q128:W128),IF(EFECTOS!$N$9=\"REPÚBLICA \nDOMINICANA\",LOOKUP(6,$Q$4:$W$4,Q128:W128),IF(EFECTOS!$N$9=\"PANAMÁ\",LOOKUP(7,GEfectos!$Q$4:$W$4,GEfectos!Q128:W128))))))))","v":181.63436552588686},100]
[null,{"$f":"'ITCER GLOBAL'!B129","v":"Abril"},{"$f":"'ITCER GLOBAL'!C129","v":108.51070203259823},{"$f":"'ITCER GLOBAL'!D129","v":100.81560834807438},{"$f":"'ITCER GLOBAL'!E129","v":81.2128372904196},{"$f":"'ITCER GLOBAL'!F129","v":102.98745760959955},{"$f":"'ITCER GLOBAL'!G129","v":111.74115504536799},{"$f":"'ITCER GLOBAL'!H129","v":95.21526998705508},{"$f":"'ITCER GLOBAL'!I129","v":108.98264960479486},{"$f":"'ITCER GLOBAL'!S129","v":151.63689574422119},{"$f":"'ITCER GLOBAL'!T129","v":98.43122243328429},{"$f":"'ITCER GLOBAL'!U129","v":97.293569379384266},{"$f":"'ITCER GLOBAL'!V129","v":126.26448691261771},{"$f":"'ITCER GLOBAL'!W129","v":122.9039970620816},{"$f":"'ITCER GLOBAL'!X129","v":172.4551652577521},{"$f":"'ITCER GLOBAL'!Y129","v":99.126829138559287},{"$f":"'ITCER GLOBAL'!AA129","v":139.74372380216212},{"$f":"'ITCER GLOBAL'!AB129","v":97.634904005580367},{"$f":"'ITCER GLOBAL'!AC129","v":119.80072686225635},{"$f":"'ITCER GLOBAL'!AD129","v":122.60180981576974},{"$f":"'ITCER GLOBAL'!AE129","v":109.98991106918609},{"$f":"'ITCER GLOBAL'!AF129","v":181.12133198928922},{"$f":"'ITCER GLOBAL'!AG129","v":90.956523353051281},null,{"$f":"IF(EFECTOS!$N$9=\"COSTA RICA\",LOOKUP(1,GEfectos!$C$4:$I$4,GEfectos!C129:I129),IF(EFECTOS!$N$9=\"EL SALVADOR\",LOOKUP(2,GEfectos!$C$4:$I$4,GEfectos!C129:I129),IF(EFECTOS!$N$9=\"GUATEMALA\",LOOKUP(3,GEfectos!$C$4:$I$4,GEfectos!C129:I129),IF(EFECTOS!$N$9=\"HONDURAS\",LOOKUP(4,GEfectos!$C$4:$I$4,GEfectos!C129:I129),IF(EFECTOS!$N$9=\"NICARAGUA\",LOOKUP(5,GEfectos!$C$4:$I$4,GEfectos!C129:I129),IF(EFECTOS!$N$9=\"REPÚBLICA \nDOMINICANA\",LOOKUP(6,$C$4:$I$4,C129:I129),IF(EFECTOS!$N$9=\"PANAMÁ\",LOOKUP(7,GEfectos!$C$4:$I$4,GEfectos!C129:I129))))))))","v":95.21526998705508},{"$f":"IF(EFECTOS!$N$9=\"COSTA RICA\",LOOKUP(1,GEfectos!$J$4:$P$4,GEfectos!J129:P129),IF(EFECTOS!$N$9=\"EL SALVADOR\",LOOKUP(2,GEfectos!$J$4:$P$4,GEfectos!J129:P129),IF(EFECTOS!$N$9=\"GUATEMALA\",LOOKUP(3,GEfectos!$J$4:$P$4,GEfectos!J129:P129),IF(EFECTOS!$N$9=\"HONDURAS\",LOOKUP(4,GEfectos!$J$4:$P$4,GEfectos!J129:P129),IF(EFECTOS!$N$9=\"NICARAGUA\",LOOKUP(5,GEfectos!$J$4:$P$4,GEfectos!J129:P129),IF(EFECTOS!$N$9=\"REPÚBLICA \nDOMINICANA\",LOOKUP(6,$J$4:$P$4,J129:P129),IF(EFECTOS!$N$9=\"PANAMÁ\",LOOKUP(7,GEfectos!$J$4:$P$4,GEfectos!J129:P129))))))))","v":172.4551652577521},{"$f":"IF(EFECTOS!$N$9=\"COSTA RICA\",LOOKUP(1,GEfectos!$Q$4:$W$4,GEfectos!Q129:W129),IF(EFECTOS!$N$9=\"EL SALVADOR\",LOOKUP(2,GEfectos!$Q$4:$W$4,GEfectos!Q129:W129),IF(EFECTOS!$N$9=\"GUATEMALA\",LOOKUP(3,GEfectos!$Q$4:$W$4,GEfectos!Q129:W129),IF(EFECTOS!$N$9=\"HONDURAS\",LOOKUP(4,GEfectos!$Q$4:$W$4,GEfectos!Q129:W129),IF(EFECTOS!$N$9=\"NICARAGUA\",LOOKUP(5,GEfectos!$Q$4:$W$4,GEfectos!Q129:W129),IF(EFECTOS!$N$9=\"REPÚBLICA \nDOMINICANA\",LOOKUP(6,$Q$4:$W$4,Q129:W129),IF(EFECTOS!$N$9=\"PANAMÁ\",LOOKUP(7,GEfectos!$Q$4:$W$4,GEfectos!Q129:W129))))))))","v":181.12133198928922},100]
[null,{"$f":"'ITCER GLOBAL'!B130","v":"Mayo"},{"$f":"'ITCER GLOBAL'!C130","v":107.70405958054538},{"$f":"'ITCER GLOBAL'!D130","v":100.1895737610085},{"$f":"'ITCER GLOBAL'!E130","v":80.745936073760134},{"$f":"'ITCER GLOBAL'!F130","v":102.82536882713528},{"$f":"'ITCER GLOBAL'!G130","v":111.66881573937339},{"$f":"'ITCER GLOBAL'!H130","v":97.020414329999113},{"$f":"'ITCER GLOBAL'!I130","v":109.48199572298985},{"$f":"'ITCER GLOBAL'!S130","v":152.53977653376938},{"$f":"'ITCER GLOBAL'!T130","v":98.455547891769825},{"$f":"'ITCER GLOBAL'!U130","v":97.145919362514789},{"$f":"'ITCER GLOBAL'!V130","v":126.38301572152588},{"$f":"'ITCER GLOBAL'!W130","v":123.56610803631327},{"$f":"'ITCER GLOBAL'!X130","v":175.22954053151034},{"$f":"'ITCER GLOBAL'!Y130","v":99.178109787444612},{"$f":"'ITCER GLOBAL'!AA130","v":141.62862303225822},{"$f":"'ITCER GLOBAL'!AB130","v":98.269255168831222},{"$f":"'ITCER GLOBAL'!AC130","v":120.31059900497472},{"$f":"'ITCER GLOBAL'!AD130","v":122.91034514448911},{"$f":"'ITCER GLOBAL'!AE130","v":110.65408656675224},{"$f":"'ITCER GLOBAL'!AF130","v":180.61100000613854},{"$f":"'ITCER GLOBAL'!AG130","v":90.58851104466892},null,{"$f":"IF(EFECTOS!$N$9=\"COSTA RICA\",LOOKUP(1,GEfectos!$C$4:$I$4,GEfectos!C130:I130),IF(EFECTOS!$N$9=\"EL SALVADOR\",LOOKUP(2,GEfectos!$C$4:$I$4,GEfectos!C130:I130),IF(EFECTOS!$N$9=\"GUATEMALA\",LOOKUP(3,GEfectos!$C$4:$I$4,GEfectos!C130:I130),IF(EFECTOS!$N$9=\"HONDURAS\",LOOKUP(4,GEfectos!$C$4:$I$4,GEfectos!C130:I130),IF(EFECTOS!$N$9=\"NICARAGUA\",LOOKUP(5,GEfectos!$C$4:$I$4,GEfectos!C130:I130),IF(EFECTOS!$N$9=\"REPÚBLICA \nDOMINICANA\",LOOKUP(6,$C$4:$I$4,C130:I130),IF(EFECTOS!$N$9=\"PANAMÁ\",LOOKUP(7,GEfectos!$C$4:$I$4,GEfectos!C130:I130))))))))","v":97.020414329999113},{"$f":"IF(EFECTOS!$N$9=\"COSTA RICA\",LOOKUP(1,GEfectos!$J$4:$P$4,GEfectos!J130:P130),IF(EFECTOS!$N$9=\"EL SALVADOR\",LOOKUP(2,GEfectos!$J$4:$P$4,GEfectos!J130:P130),IF(EFECTOS!$N$9=\"GUATEMALA\",LOOKUP(3,GEfectos!$J$4:$P$4,GEfectos!J130:P130),IF(EFECTOS!$N$9=\"HONDURAS\",LOOKUP(4,GEfectos!$J$4:$P$4,GEfectos!J130:P130),IF(EFECTOS!$N$9=\"NICARAGUA\",LOOKUP(5,GEfectos!$J$4:$P$4,GEfectos!J130:P130),IF(EFECTOS!$N$9=\"REPÚBLICA \nDOMINICANA\",LOOKUP(6,$J$4:$P$4,J130:P130),IF(EFECTOS!$N$9=\"PANAMÁ\",LOOKUP(7,GEfectos!$J$4:$P$4,GEfectos!J130:P130))))))))","v":175.22954053151034},{"$f":"IF(EFECTOS!$N$9=\"COSTA RICA\",LOOKUP(1,GEfectos!$Q$4:$W$4,GEfectos!Q130:W130),IF(EFECTOS!$N$9=\"EL SALVADOR\",LOOKUP(2,GEfectos!$Q$4:$W$4,GEfectos!Q130:W130),IF(EFECTOS!$N$9=\"GUATEMALA\",LOOKUP(3,GEfectos!$Q$4:$W$4,GEfectos!Q130:W130),IF(EFECTOS!$N$9=\"HONDURAS\",LOOKUP(4,GEfectos!$Q$4:$W$4,GEfectos!Q130:W130),IF(EFECTOS!$N$9=\"NICARAGUA\",LOOKUP(5,GEfectos!$Q$4:$W$4,GEfectos!Q130:W130),IF(EFECTOS!$N$9=\"REPÚBLICA \nDOMINICANA\",LOOKUP(6,$Q$4:$W$4,Q130:W130),IF(EFECTOS!$N$9=\"PANAMÁ\",LOOKUP(7,GEfectos!$Q$4:$W$4,GEfectos!Q130:W130))))))))","v":180.61100000613854},100]
[null,{"$f":"'ITCER GLOBAL'!B131","v":"Junio"},{"$f":"'ITCER GLOBAL'!C131","v":107.43509059100417},{"$f":"'ITCER GLOBAL'!D131","v":100.10833553851346},{"$f":"'ITCER GLOBAL'!E131","v":80.273420876790354},{"$f":"'ITCER GLOBAL'!F131","v":101.71639123062249},{"$f":"'ITCER GLOBAL'!G131","v":110.73892817276143},{"$f":"'ITCER GLOBAL'!H131","v":97.419854680498503},{"$f":"'ITCER GLOBAL'!I131","v":108.9032070323327},{"$f":"'ITCER GLOBAL'!S131","v":152.78892515993371},{"$f":"'ITCER GLOBAL'!T131","v":98.266699671227315},{"$f":"'ITCER GLOBAL'!U131","v":97.174450241761662},{"$f":"'ITCER GLOBAL'!V131","v":125.76931364071359},{"$f":"'ITCER GLOBAL'!W131","v":123.3140535256494},{"$f":"'ITCER GLOBAL'!X131","v":175.96557724023302},{"$f":"'ITCER GLOBAL'!Y131","v":98.707756500996027},{"$f":"'ITCER GLOBAL'!AA131","v":142.21510338888021},{"$f":"'ITCER GLOBAL'!AB131","v":98.160357119734925},{"$f":"'ITCER GLOBAL'!AC131","v":121.05432804578278},{"$f":"'ITCER GLOBAL'!AD131","v":123.64704657635335},{"$f":"'ITCER GLOBAL'!AE131","v":111.35565023102787},{"$f":"'ITCER GLOBAL'!AF131","v":180.62599027409323},{"$f":"'ITCER GLOBAL'!AG131","v":90.638062175423627},null,{"$f":"IF(EFECTOS!$N$9=\"COSTA RICA\",LOOKUP(1,GEfectos!$C$4:$I$4,GEfectos!C131:I131),IF(EFECTOS!$N$9=\"EL SALVADOR\",LOOKUP(2,GEfectos!$C$4:$I$4,GEfectos!C131:I131),IF(EFECTOS!$N$9=\"GUATEMALA\",LOOKUP(3,GEfectos!$C$4:$I$4,GEfectos!C131:I131),IF(EFECTOS!$N$9=\"HONDURAS\",LOOKUP(4,GEfectos!$C$4:$I$4,GEfectos!C131:I131),IF(EFECTOS!$N$9=\"NICARAGUA\",LOOKUP(5,GEfectos!$C$4:$I$4,GEfectos!C131:I131),IF(EFECTOS!$N$9=\"REPÚBLICA \nDOMINICANA\",LOOKUP(6,$C$4:$I$4,C131:I131),IF(EFECTOS!$N$9=\"PANAMÁ\",LOOKUP(7,GEfectos!$C$4:$I$4,GEfectos!C131:I131))))))))","v":97.419854680498503},{"$f":"IF(EFECTOS!$N$9=\"COSTA RICA\",LOOKUP(1,GEfectos!$J$4:$P$4,GEfectos!J131:P131),IF(EFECTOS!$N$9=\"EL SALVADOR\",LOOKUP(2,GEfectos!$J$4:$P$4,GEfectos!J131:P131),IF(EFECTOS!$N$9=\"GUATEMALA\",LOOKUP(3,GEfectos!$J$4:$P$4,GEfectos!J131:P131),IF(EFECTOS!$N$9=\"HONDURAS\",LOOKUP(4,GEfectos!$J$4:$P$4,GEfectos!J131:P131),IF(EFECTOS!$N$9=\"NICARAGUA\",LOOKUP(5,GEfectos!$J$4:$P$4,GEfectos!J131:P131),IF(EFECTOS!$N$9=\"REPÚBLICA \nDOMINICANA\",LOOKUP(6,$J$4:$P$4,J131:P131),IF(EFECTOS!$N$9=\"PANAMÁ\",LOOKUP(7,GEfectos!$J$4:$P$4,GEfectos!J131:P131))))))))","v":175.96557724023302},{"$f":"IF(EFECTOS!$N$9=\"COSTA RICA\",LOOKUP(1,GEfectos!$Q$4:$W$4,GEfectos!Q131:W131),IF(EFECTOS!$N$9=\"EL SALVADOR\",LOOKUP(2,GEfectos!$Q$4:$W$4,GEfectos!Q131:W131),IF(EFECTOS!$N$9=\"GUATEMALA\",LOOKUP(3,GEfectos!$Q$4:$W$4,GEfectos!Q131:W131),IF(EFECTOS!$N$9=\"HONDURAS\",LOOKUP(4,GEfectos!$Q$4:$W$4,GEfectos!Q131:W131),IF(EFECTOS!$N$9=\"NICARAGUA\",LOOKUP(5,GEfectos!$Q$4:$W$4,GEfectos!Q131:W131),IF(EFECTOS!$N$9=\"REPÚBLICA \nDOMINICANA\",LOOKUP(6,$Q$4:$W$4,Q131:W131),IF(EFECTOS!$N$9=\"PANAMÁ\",LOOKUP(7,GEfectos!$Q$4:$W$4,GEfectos!Q131:W131))))))))","v":180.62599027409323},100]
[null,{"$f":"'ITCER GLOBAL'!B132","v":"Julio"},{"$f":"'ITCER GLOBAL'!C132","v":107.05552495808978},{"$f":"'ITCER GLOBAL'!D132","v":100.44572744188913},{"$f":"'ITCER GLOBAL'!E132","v":79.488563360803013},{"$f":"'ITCER GLOBAL'!F132","v":101.18573793511236},{"$f":"'ITCER GLOBAL'!G132","v":111.12565342320433},{"$f":"'ITCER GLOBAL'!H132","v":97.220761426629096},{"$f":"'ITCER GLOBAL'!I132","v":108.67799342301433},{"$f":"'ITCER GLOBAL'!S132","v":153.66529886913838},{"$f":"'ITCER GLOBAL'!T132","v":98.260207716479897},{"$f":"'ITCER GLOBAL'!U132","v":96.731368585058192},{"$f":"'ITCER GLOBAL'!V132","v":125.71244452580761},{"$f":"'ITCER GLOBAL'!W132","v":124.20881556925021},{"$f":"'ITCER GLOBAL'!X132","v":175.97052760413192},{"$f":"'ITCER GLOBAL'!Y132","v":98.50467630306818},{"$f":"'ITCER GLOBAL'!AA132","v":143.53794344504448},{"$f":"'ITCER GLOBAL'!AB132","v":97.824178508066822},{"$f":"'ITCER GLOBAL'!AC132","v":121.6921837497416},{"$f":"'ITCER GLOBAL'!AD132","v":124.23929210895663},{"$f":"'ITCER GLOBAL'!AE132","v":111.77330503175604},{"$f":"'ITCER GLOBAL'!AF132","v":181.00097656294741},{"$f":"'ITCER GLOBAL'!AG132","v":90.639027461293026},null,{"$f":"IF(EFECTOS!$N$9=\"COSTA RICA\",LOOKUP(1,GEfectos!$C$4:$I$4,GEfectos!C132:I132),IF(EFECTOS!$N$9=\"EL SALVADOR\",LOOKUP(2,GEfectos!$C$4:$I$4,GEfectos!C132:I132),IF(EFECTOS!$N$9=\"GUATEMALA\",LOOKUP(3,GEfectos!$C$4:$I$4,GEfectos!C132:I132),IF(EFECTOS!$N$9=\"HONDURAS\",LOOKUP(4,GEfectos!$C$4:$I$4,GEfectos!C132:I132),IF(EFECTOS!$N$9=\"NICARAGUA\",LOOKUP(5,GEfectos!$C$4:$I$4,GEfectos!C132:I132),IF(EFECTOS!$N$9=\"REPÚBLICA \nDOMINICANA\",LOOKUP(6,$C$4:$I$4,C132:I132),IF(EFECTOS!$N$9=\"PANAMÁ\",LOOKUP(7,GEfectos!$C$4:$I$4,GEfectos!C132:I132))))))))","v":97.220761426629096},{"$f":"IF(EFECTOS!$N$9=\"COSTA RICA\",LOOKUP(1,GEfectos!$J$4:$P$4,GEfectos!J132:P132),IF(EFECTOS!$N$9=\"EL SALVADOR\",LOOKUP(2,GEfectos!$J$4:$P$4,GEfectos!J132:P132),IF(EFECTOS!$N$9=\"GUATEMALA\",LOOKUP(3,GEfectos!$J$4:$P$4,GEfectos!J132:P132),IF(EFECTOS!$N$9=\"HONDURAS\",LOOKUP(4,GEfectos!$J$4:$P$4,GEfectos!J132:P132),IF(EFECTOS!$N$9=\"NICARAGUA\",LOOKUP(5,GEfectos!$J$4:$P$4,GEfectos!J132:P132),IF(EFECTOS!$N$9=\"REPÚBLICA \nDOMINICANA\",LOOKUP(6,$J$4:$P$4,J132:P132),IF(EFECTOS!$N$9=\"PANAMÁ\",LOOKUP(7,GEfectos!$J$4:$P$4,GEfectos!J132:P132))))))))","v":175.97052760413192},{"$f":"IF(EFECTOS!$N$9=\"COSTA RICA\",LOOKUP(1,GEfectos!$Q$4:$W$4,GEfectos!Q132:W132),IF(EFECTOS!$N$9=\"EL SALVADOR\",LOOKUP(2,GEfectos!$Q$4:$W$4,GEfectos!Q132:W132),IF(EFECTOS!$N$9=\"GUATEMALA\",LOOKUP(3,GEfectos!$Q$4:$W$4,GEfectos!Q132:W132),IF(EFECTOS!$N$9=\"HONDURAS\",LOOKUP(4,GEfectos!$Q$4:$W$4,GEfectos!Q132:W132),IF(EFECTOS!$N$9=\"NICARAGUA\",LOOKUP(5,GEfectos!$Q$4:$W$4,GEfectos!Q132:W132),IF(EFECTOS!$N$9=\"REPÚBLICA \nDOMINICANA\",LOOKUP(6,$Q$4:$W$4,Q132:W132),IF(EFECTOS!$N$9=\"PANAMÁ\",LOOKUP(7,GEfectos!$Q$4:$W$4,GEfectos!Q132:W132))))))))","v":181.00097656294741},100]
[null,{"$f":"'ITCER GLOBAL'!B133","v":"Agosto"},{"$f":"'ITCER GLOBAL'!C133","v":107.27222151021579},{"$f":"'ITCER GLOBAL'!D133","v":100.79572540385061},{"$f":"'ITCER GLOBAL'!E133","v":79.748940831039207},{"$f":"'ITCER GLOBAL'!F133","v":101.12610529814174},{"$f":"'ITCER GLOBAL'!G133","v":111.75162715362318},{"$f":"'ITCER GLOBAL'!H133","v":96.840190561227544},{"$f":"'ITCER GLOBAL'!I133","v":109.57617575204638},{"$f":"'ITCER GLOBAL'!S133","v":155.28355470204545},{"$f":"'ITCER GLOBAL'!T133","v":98.39420192398282},{"$f":"'ITCER GLOBAL'!U133","v":96.990453134547337},{"$f":"'ITCER GLOBAL'!V133","v":126.13781741951404},{"$f":"'ITCER GLOBAL'!W133","v":125.16120168351026},{"$f":"'ITCER GLOBAL'!X133","v":176.84469970120011},{"$f":"'ITCER GLOBAL'!Y133","v":98.890254230600476},{"$f":"'ITCER GLOBAL'!AA133","v":144.75653856693685},{"$f":"'ITCER GLOBAL'!AB133","v":97.617435193560254},{"$f":"'ITCER GLOBAL'!AC133","v":121.61973829851485},{"$f":"'ITCER GLOBAL'!AD133","v":124.73319035439201},{"$f":"'ITCER GLOBAL'!AE133","v":111.99944454630013},{"$f":"'ITCER GLOBAL'!AF133","v":182.61498524147314},{"$f":"'ITCER GLOBAL'!AG133","v":90.247951757664495},null,{"$f":"IF(EFECTOS!$N$9=\"COSTA RICA\",LOOKUP(1,GEfectos!$C$4:$I$4,GEfectos!C133:I133),IF(EFECTOS!$N$9=\"EL SALVADOR\",LOOKUP(2,GEfectos!$C$4:$I$4,GEfectos!C133:I133),IF(EFECTOS!$N$9=\"GUATEMALA\",LOOKUP(3,GEfectos!$C$4:$I$4,GEfectos!C133:I133),IF(EFECTOS!$N$9=\"HONDURAS\",LOOKUP(4,GEfectos!$C$4:$I$4,GEfectos!C133:I133),IF(EFECTOS!$N$9=\"NICARAGUA\",LOOKUP(5,GEfectos!$C$4:$I$4,GEfectos!C133:I133),IF(EFECTOS!$N$9=\"REPÚBLICA \nDOMINICANA\",LOOKUP(6,$C$4:$I$4,C133:I133),IF(EFECTOS!$N$9=\"PANAMÁ\",LOOKUP(7,GEfectos!$C$4:$I$4,GEfectos!C133:I133))))))))","v":96.840190561227544},{"$f":"IF(EFECTOS!$N$9=\"COSTA RICA\",LOOKUP(1,GEfectos!$J$4:$P$4,GEfectos!J133:P133),IF(EFECTOS!$N$9=\"EL SALVADOR\",LOOKUP(2,GEfectos!$J$4:$P$4,GEfectos!J133:P133),IF(EFECTOS!$N$9=\"GUATEMALA\",LOOKUP(3,GEfectos!$J$4:$P$4,GEfectos!J133:P133),IF(EFECTOS!$N$9=\"HONDURAS\",LOOKUP(4,GEfectos!$J$4:$P$4,GEfectos!J133:P133),IF(EFECTOS!$N$9=\"NICARAGUA\",LOOKUP(5,GEfectos!$J$4:$P$4,GEfectos!J133:P133),IF(EFECTOS!$N$9=\"REPÚBLICA \nDOMINICANA\",LOOKUP(6,$J$4:$P$4,J133:P133),IF(EFECTOS!$N$9=\"PANAMÁ\",LOOKUP(7,GEfectos!$J$4:$P$4,GEfectos!J133:P133))))))))","v":176.84469970120011},{"$f":"IF(EFECTOS!$N$9=\"COSTA RICA\",LOOKUP(1,GEfectos!$Q$4:$W$4,GEfectos!Q133:W133),IF(EFECTOS!$N$9=\"EL SALVADOR\",LOOKUP(2,GEfectos!$Q$4:$W$4,GEfectos!Q133:W133),IF(EFECTOS!$N$9=\"GUATEMALA\",LOOKUP(3,GEfectos!$Q$4:$W$4,GEfectos!Q133:W133),IF(EFECTOS!$N$9=\"HONDURAS\",LOOKUP(4,GEfectos!$Q$4:$W$4,GEfectos!Q133:W133),IF(EFECTOS!$N$9=\"NICARAGUA\",LOOKUP(5,GEfectos!$Q$4:$W$4,GEfectos!Q133:W133),IF(EFECTOS!$N$9=\"REPÚBLICA \nDOMINICANA\",LOOKUP(6,$Q$4:$W$4,Q133:W133),IF(EFECTOS!$N$9=\"PANAMÁ\",LOOKUP(7,GEfectos!$Q$4:$W$4,GEfectos!Q133:W133))))))))","v":182.61498524147314},100]
[null,{"$f":"'ITCER GLOBAL'!B134","v":"Septiembre"},{"$f":"'ITCER GLOBAL'!C134","v":108.7092380400339},{"$f":"'ITCER GLOBAL'!D134","v":101.25199735504076},{"$f":"'ITCER GLOBAL'!E134","v":80.014640356599031},{"$f":"'ITCER GLOBAL'!F134","v":101.56789887314645},{"$f":"'ITCER GLOBAL'!G134","v":112.08574005711966},{"$f":"'ITCER GLOBAL'!H134","v":99.430249171987043},{"$f":"'ITCER GLOBAL'!I134","v":109.46319717444548},{"$f":"'ITCER GLOBAL'!S134","v":156.17691367837071},{"$f":"'ITCER GLOBAL'!T134","v":98.295691861766628},{"$f":"'ITCER GLOBAL'!U134","v":97.289348418049116},{"$f":"'ITCER GLOBAL'!V134","v":126.06300700429655},{"$f":"'ITCER GLOBAL'!W134","v":125.46405038981383},{"$f":"'ITCER GLOBAL'!X134","v":185.55827471352205},{"$f":"'ITCER GLOBAL'!Y134","v":98.806853569906139},{"$f":"'ITCER GLOBAL'!AA134","v":143.66480392481097},{"$f":"'ITCER GLOBAL'!AB134","v":97.080249703215401},{"$f":"'ITCER GLOBAL'!AC134","v":121.58943411413507},{"$f":"'ITCER GLOBAL'!AD134","v":124.11697830014515},{"$f":"'ITCER GLOBAL'!AE134","v":111.93578266590958},{"$f":"'ITCER GLOBAL'!AF134","v":186.62155255445168},{"$f":"'ITCER GLOBAL'!AG134","v":90.264907403027067},null,{"$f":"IF(EFECTOS!$N$9=\"COSTA RICA\",LOOKUP(1,GEfectos!$C$4:$I$4,GEfectos!C134:I134),IF(EFECTOS!$N$9=\"EL SALVADOR\",LOOKUP(2,GEfectos!$C$4:$I$4,GEfectos!C134:I134),IF(EFECTOS!$N$9=\"GUATEMALA\",LOOKUP(3,GEfectos!$C$4:$I$4,GEfectos!C134:I134),IF(EFECTOS!$N$9=\"HONDURAS\",LOOKUP(4,GEfectos!$C$4:$I$4,GEfectos!C134:I134),IF(EFECTOS!$N$9=\"NICARAGUA\",LOOKUP(5,GEfectos!$C$4:$I$4,GEfectos!C134:I134),IF(EFECTOS!$N$9=\"REPÚBLICA \nDOMINICANA\",LOOKUP(6,$C$4:$I$4,C134:I134),IF(EFECTOS!$N$9=\"PANAMÁ\",LOOKUP(7,GEfectos!$C$4:$I$4,GEfectos!C134:I134))))))))","v":99.430249171987043},{"$f":"IF(EFECTOS!$N$9=\"COSTA RICA\",LOOKUP(1,GEfectos!$J$4:$P$4,GEfectos!J134:P134),IF(EFECTOS!$N$9=\"EL SALVADOR\",LOOKUP(2,GEfectos!$J$4:$P$4,GEfectos!J134:P134),IF(EFECTOS!$N$9=\"GUATEMALA\",LOOKUP(3,GEfectos!$J$4:$P$4,GEfectos!J134:P134),IF(EFECTOS!$N$9=\"HONDURAS\",LOOKUP(4,GEfectos!$J$4:$P$4,GEfectos!J134:P134),IF(EFECTOS!$N$9=\"NICARAGUA\",LOOKUP(5,GEfectos!$J$4:$P$4,GEfectos!J134:P134),IF(EFECTOS!$N$9=\"REPÚBLICA \nDOMINICANA\",LOOKUP(6,$J$4:$P$4,J134:P134),IF(EFECTOS!$N$9=\"PANAMÁ\",LOOKUP(7,GEfectos!$J$4:$P$4,GEfectos!J134:P134))))))))","v":185.55827471352205},{"$f":"IF(EFECTOS!$N$9=\"COSTA RICA\",LOOKUP(1,GEfectos!$Q$4:$W$4,GEfectos!Q134:W134),IF(EFECTOS!$N$9=\"EL SALVADOR\",LOOKUP(2,GEfectos!$Q$4:$W$4,GEfectos!Q134:W134),IF(EFECTOS!$N$9=\"GUATEMALA\",LOOKUP(3,GEfectos!$Q$4:$W$4,GEfectos!Q134:W134),IF(EFECTOS!$N$9=\"HONDURAS\",LOOKUP(4,GEfectos!$Q$4:$W$4,GEfectos!Q134:W134),IF(EFECTOS!$N$9=\"NICARAGUA\",LOOKUP(5,GEfectos!$Q$4:$W$4,GEfectos!Q134:W134),IF(EFECTOS!$N$9=\"REPÚBLICA \nDOMINICANA\",LOOKUP(6,$Q$4:$W$4,Q134:W134),IF(EFECTOS!$N$9=\"PANAMÁ\",LOOKUP(7,GEfectos!$Q$4:$W$4,GEfectos!Q134:W134))))))))","v":186.62155255445168},100]
[null,{"$f":"'ITCER GLOBAL'!B135","v":"Octubre"},{"$f":"'ITCER GLOBAL'!C135","v":107.99426817833984},{"$f":"'ITCER GLOBAL'!D135","v":99.523652418895125},{"$f":"'ITCER GLOBAL'!E135","v":79.230269539560922},{"$f":"'ITCER GLOBAL'!F135","v":101.65438217062692},{"$f":"'ITCER GLOBAL'!G135","v":111.60176904086859},{"$f":"'ITCER GLOBAL'!H135","v":104.78293368831933},{"$f":"'ITCER GLOBAL'!I135","v":108.70624545302564},{"$f":"'ITCER GLOBAL'!S135","v":156.55196616378092},{"$f":"'ITCER GLOBAL'!T135","v":98.038064635736362},{"$f":"'ITCER GLOBAL'!U135","v":97.641775379822164},{"$f":"'ITCER GLOBAL'!V135","v":125.5984976978333},{"$f":"'ITCER GLOBAL'!W135","v":125.32916490135739},{"$f":"'ITCER GLOBAL'!X135","v":197.252121470639},{"$f":"'ITCER GLOBAL'!Y135","v":98.330444069977347},{"$f":"'ITCER GLOBAL'!AA135","v":144.96321777490425},{"$f":"'ITCER GLOBAL'!AB135","v":98.507301785000905},{"$f":"'ITCER GLOBAL'!AC135","v":123.23796946199721},{"$f":"'ITCER GLOBAL'!AD135","v":123.55443515166536},{"$f":"'ITCER GLOBAL'!AE135","v":112.30033894486191},{"$f":"'ITCER GLOBAL'!AF135","v":188.24832873774332},{"$f":"'ITCER GLOBAL'!AG135","v":90.455192947003297},null,{"$f":"IF(EFECTOS!$N$9=\"COSTA RICA\",LOOKUP(1,GEfectos!$C$4:$I$4,GEfectos!C135:I135),IF(EFECTOS!$N$9=\"EL SALVADOR\",LOOKUP(2,GEfectos!$C$4:$I$4,GEfectos!C135:I135),IF(EFECTOS!$N$9=\"GUATEMALA\",LOOKUP(3,GEfectos!$C$4:$I$4,GEfectos!C135:I135),IF(EFECTOS!$N$9=\"HONDURAS\",LOOKUP(4,GEfectos!$C$4:$I$4,GEfectos!C135:I135),IF(EFECTOS!$N$9=\"NICARAGUA\",LOOKUP(5,GEfectos!$C$4:$I$4,GEfectos!C135:I135),IF(EFECTOS!$N$9=\"REPÚBLICA \nDOMINICANA\",LOOKUP(6,$C$4:$I$4,C135:I135),IF(EFECTOS!$N$9=\"PANAMÁ\",LOOKUP(7,GEfectos!$C$4:$I$4,GEfectos!C135:I135))))))))","v":104.78293368831933},{"$f":"IF(EFECTOS!$N$9=\"COSTA RICA\",LOOKUP(1,GEfectos!$J$4:$P$4,GEfectos!J135:P135),IF(EFECTOS!$N$9=\"EL SALVADOR\",LOOKUP(2,GEfectos!$J$4:$P$4,GEfectos!J135:P135),IF(EFECTOS!$N$9=\"GUATEMALA\",LOOKUP(3,GEfectos!$J$4:$P$4,GEfectos!J135:P135),IF(EFECTOS!$N$9=\"HONDURAS\",LOOKUP(4,GEfectos!$J$4:$P$4,GEfectos!J135:P135),IF(EFECTOS!$N$9=\"NICARAGUA\",LOOKUP(5,GEfectos!$J$4:$P$4,GEfectos!J135:P135),IF(EFECTOS!$N$9=\"REPÚBLICA \nDOMINICANA\",LOOKUP(6,$J$4:$P$4,J135:P135),IF(EFECTOS!$N$9=\"PANAMÁ\",LOOKUP(7,GEfectos!$J$4:$P$4,GEfectos!J135:P135))))))))","v":197.252121470639},{"$f":"IF(EFECTOS!$N$9=\"COSTA RICA\",LOOKUP(1,GEfectos!$Q$4:$W$4,GEfectos!Q135:W135),IF(EFECTOS!$N$9=\"EL SALVADOR\",LOOKUP(2,GEfectos!$Q$4:$W$4,GEfectos!Q135:W135),IF(EFECTOS!$N$9=\"GUATEMALA\",LOOKUP(3,GEfectos!$Q$4:$W$4,GEfectos!Q135:W135),IF(EFECTOS!$N$9=\"HONDURAS\",LOOKUP(4,GEfectos!$Q$4:$W$4,GEfectos!Q135:W135),IF(EFECTOS!$N$9=\"NICARAGUA\",LOOKUP(5,GEfectos!$Q$4:$W$4,GEfectos!Q135:W135),IF(EFECTOS!$N$9=\"REPÚBLICA \nDOMINICANA\",LOOKUP(6,$Q$4:$W$4,Q135:W135),IF(EFECTOS!$N$9=\"PANAMÁ\",LOOKUP(7,GEfectos!$Q$4:$W$4,GEfectos!Q135:W135))))))))","v":188.24832873774332},100]
[null,{"$f":"'ITCER GLOBAL'!B136","v":"Noviembre"},{"$f":"'ITCER GLOBAL'!C136","v":106.17087213563278},{"$f":"'ITCER GLOBAL'!D136","v":100.3815476471058},{"$f":"'ITCER GLOBAL'!E136","v":78.085024642081862},{"$f":"'ITCER GLOBAL'!F136","v":100.88537982448601},{"$f":"'ITCER GLOBAL'!G136","v":112.03893160165222},{"$f":"'ITCER GLOBAL'!H136","v":107.70158249358657},{"$f":"'ITCER GLOBAL'!I136","v":108.68500881432168},{"$f":"'ITCER GLOBAL'!S136","v":157.20746581773432},{"$f":"'ITCER GLOBAL'!T136","v":98.048640875852158},{"$f":"'ITCER GLOBAL'!U136","v":96.725833722016745},{"$f":"'ITCER GLOBAL'!V136","v":125.4225583398914},{"$f":"'ITCER GLOBAL'!W136","v":125.70836451012846},{"$f":"'ITCER GLOBAL'!X136","v":202.21051011054976},{"$f":"'ITCER GLOBAL'!Y136","v":98.083071782969782},{"$f":"'ITCER GLOBAL'!AA136","v":148.07024059942029},{"$f":"'ITCER GLOBAL'!AB136","v":97.675960546598603},{"$f":"'ITCER GLOBAL'!AC136","v":123.87245078730361},{"$f":"'ITCER GLOBAL'!AD136","v":124.32183786996053},{"$f":"'ITCER GLOBAL'!AE136","v":112.20060983540712},{"$f":"'ITCER GLOBAL'!AF136","v":187.7507325601191},{"$f":"'ITCER GLOBAL'!AG136","v":90.245262757935336},null,{"$f":"IF(EFECTOS!$N$9=\"COSTA RICA\",LOOKUP(1,GEfectos!$C$4:$I$4,GEfectos!C136:I136),IF(EFECTOS!$N$9=\"EL SALVADOR\",LOOKUP(2,GEfectos!$C$4:$I$4,GEfectos!C136:I136),IF(EFECTOS!$N$9=\"GUATEMALA\",LOOKUP(3,GEfectos!$C$4:$I$4,GEfectos!C136:I136),IF(EFECTOS!$N$9=\"HONDURAS\",LOOKUP(4,GEfectos!$C$4:$I$4,GEfectos!C136:I136),IF(EFECTOS!$N$9=\"NICARAGUA\",LOOKUP(5,GEfectos!$C$4:$I$4,GEfectos!C136:I136),IF(EFECTOS!$N$9=\"REPÚBLICA \nDOMINICANA\",LOOKUP(6,$C$4:$I$4,C136:I136),IF(EFECTOS!$N$9=\"PANAMÁ\",LOOKUP(7,GEfectos!$C$4:$I$4,GEfectos!C136:I136))))))))","v":107.70158249358657},{"$f":"IF(EFECTOS!$N$9=\"COSTA RICA\",LOOKUP(1,GEfectos!$J$4:$P$4,GEfectos!J136:P136),IF(EFECTOS!$N$9=\"EL SALVADOR\",LOOKUP(2,GEfectos!$J$4:$P$4,GEfectos!J136:P136),IF(EFECTOS!$N$9=\"GUATEMALA\",LOOKUP(3,GEfectos!$J$4:$P$4,GEfectos!J136:P136),IF(EFECTOS!$N$9=\"HONDURAS\",LOOKUP(4,GEfectos!$J$4:$P$4,GEfectos!J136:P136),IF(EFECTOS!$N$9=\"NICARAGUA\",LOOKUP(5,GEfectos!$J$4:$P$4,GEfectos!J136:P136),IF(EFECTOS!$N$9=\"REPÚBLICA \nDOMINICANA\",LOOKUP(6,$J$4:$P$4,J136:P136),IF(EFECTOS!$N$9=\"PANAMÁ\",LOOKUP(7,GEfectos!$J$4:$P$4,GEfectos!J136:P136))))))))","v":202.21051011054976},{"$f":"IF(EFECTOS!$N$9=\"COSTA RICA\",LOOKUP(1,GEfectos!$Q$4:$W$4,GEfectos!Q136:W136),IF(EFECTOS!$N$9=\"EL SALVADOR\",LOOKUP(2,GEfectos!$Q$4:$W$4,GEfectos!Q136:W136),IF(EFECTOS!$N$9=\"GUATEMALA\",LOOKUP(3,GEfectos!$Q$4:$W$4,GEfectos!Q136:W136),IF(EFECTOS!$N$9=\"HONDURAS\",LOOKUP(4,GEfectos!$Q$4:$W$4,GEfectos!Q136:W136),IF(EFECTOS!$N$9=\"NICARAGUA\",LOOKUP(5,GEfectos!$Q$4:$W$4,GEfectos!Q136:W136),IF(EFECTOS!$N$9=\"REPÚBLICA \nDOMINICANA\",LOOKUP(6,$Q$4:$W$4,Q136:W136),IF(EFECTOS!$N$9=\"PANAMÁ\",LOOKUP(7,GEfectos!$Q$4:$W$4,GEfectos!Q136:W136))))))))","v":187.7507325601191},100]
[null,{"$f":"'ITCER GLOBAL'!B137","v":"Diciembre"},{"$f":"'ITCER GLOBAL'!C137","v":105.77323354067937},{"$f":"'ITCER GLOBAL'!D137","v":100.37503406278839},{"$f":"'ITCER GLOBAL'!E137","v":78.193940214322268},{"$f":"'ITCER GLOBAL'!F137","v":100.44919886737365},{"$f":"'ITCER GLOBAL'!G137","v":111.92176923631568},{"$f":"'ITCER GLOBAL'!H137","v":106.07373951445271},{"$f":"'ITCER GLOBAL'!I137","v":108.24352751284339},{"$f":"'ITCER GLOBAL'!S137","v":158.34183590635359},{"$f":"'ITCER GLOBAL'!T137","v":98.044500336962841},{"$f":"'ITCER GLOBAL'!U137","v":96.854778822892655},{"$f":"'ITCER GLOBAL'!V137","v":125.48286467468708},{"$f":"'ITCER GLOBAL'!W137","v":125.89445440256341},{"$f":"'ITCER GLOBAL'!X137","v":201.49473125898868},{"$f":"'ITCER GLOBAL'!Y137","v":98.078466323790408},{"$f":"'ITCER GLOBAL'!AA137","v":149.69934321376007},{"$f":"'ITCER GLOBAL'!AB137","v":97.67817391287987},{"$f":"'ITCER GLOBAL'!AC137","v":123.86481427770843},{"$f":"'ITCER GLOBAL'!AD137","v":124.92171773352439},{"$f":"'ITCER GLOBAL'!AE137","v":112.48433192361827},{"$f":"'ITCER GLOBAL'!AF137","v":189.95722426806185},{"$f":"'ITCER GLOBAL'!AG137","v":90.609081741310689},null,{"$f":"IF(EFECTOS!$N$9=\"COSTA RICA\",LOOKUP(1,GEfectos!$C$4:$I$4,GEfectos!C137:I137),IF(EFECTOS!$N$9=\"EL SALVADOR\",LOOKUP(2,GEfectos!$C$4:$I$4,GEfectos!C137:I137),IF(EFECTOS!$N$9=\"GUATEMALA\",LOOKUP(3,GEfectos!$C$4:$I$4,GEfectos!C137:I137),IF(EFECTOS!$N$9=\"HONDURAS\",LOOKUP(4,GEfectos!$C$4:$I$4,GEfectos!C137:I137),IF(EFECTOS!$N$9=\"NICARAGUA\",LOOKUP(5,GEfectos!$C$4:$I$4,GEfectos!C137:I137),IF(EFECTOS!$N$9=\"REPÚBLICA \nDOMINICANA\",LOOKUP(6,$C$4:$I$4,C137:I137),IF(EFECTOS!$N$9=\"PANAMÁ\",LOOKUP(7,GEfectos!$C$4:$I$4,GEfectos!C137:I137))))))))","v":106.07373951445271},{"$f":"IF(EFECTOS!$N$9=\"COSTA RICA\",LOOKUP(1,GEfectos!$J$4:$P$4,GEfectos!J137:P137),IF(EFECTOS!$N$9=\"EL SALVADOR\",LOOKUP(2,GEfectos!$J$4:$P$4,GEfectos!J137:P137),IF(EFECTOS!$N$9=\"GUATEMALA\",LOOKUP(3,GEfectos!$J$4:$P$4,GEfectos!J137:P137),IF(EFECTOS!$N$9=\"HONDURAS\",LOOKUP(4,GEfectos!$J$4:$P$4,GEfectos!J137:P137),IF(EFECTOS!$N$9=\"NICARAGUA\",LOOKUP(5,GEfectos!$J$4:$P$4,GEfectos!J137:P137),IF(EFECTOS!$N$9=\"REPÚBLICA \nDOMINICANA\",LOOKUP(6,$J$4:$P$4,J137:P137),IF(EFECTOS!$N$9=\"PANAMÁ\",LOOKUP(7,GEfectos!$J$4:$P$4,GEfectos!J137:P137))))))))","v":201.49473125898868},{"$f":"IF(EFECTOS!$N$9=\"COSTA RICA\",LOOKUP(1,GEfectos!$Q$4:$W$4,GEfectos!Q137:W137),IF(EFECTOS!$N$9=\"EL SALVADOR\",LOOKUP(2,GEfectos!$Q$4:$W$4,GEfectos!Q137:W137),IF(EFECTOS!$N$9=\"GUATEMALA\",LOOKUP(3,GEfectos!$Q$4:$W$4,GEfectos!Q137:W137),IF(EFECTOS!$N$9=\"HONDURAS\",LOOKUP(4,GEfectos!$Q$4:$W$4,GEfectos!Q137:W137),IF(EFECTOS!$N$9=\"NICARAGUA\",LOOKUP(5,GEfectos!$Q$4:$W$4,GEfectos!Q137:W137),IF(EFECTOS!$N$9=\"REPÚBLICA \nDOMINICANA\",LOOKUP(6,$Q$4:$W$4,Q137:W137),IF(EFECTOS!$N$9=\"PANAMÁ\",LOOKUP(7,GEfectos!$Q$4:$W$4,GEfectos!Q137:W137))))))))","v":189.95722426806185},100]
[2006,{"$f":"'ITCER GLOBAL'!B138","v":"Enero"},{"$f":"'ITCER GLOBAL'!C138","v":106.26843302471858},{"$f":"'ITCER GLOBAL'!D138","v":101.27237940019806},{"$f":"'ITCER GLOBAL'!E138","v":78.348175670858339},{"$f":"'ITCER GLOBAL'!F138","v":101.11509068402995},{"$f":"'ITCER GLOBAL'!G138","v":112.46936984955141},{"$f":"'ITCER GLOBAL'!H138","v":109.89551758750335},{"$f":"'ITCER GLOBAL'!I138","v":109.88284197803918},{"$f":"'ITCER GLOBAL'!S138","v":159.97778448285121},{"$f":"'ITCER GLOBAL'!T138","v":97.872156187598293},{"$f":"'ITCER GLOBAL'!U138","v":97.228191340835579},{"$f":"'ITCER GLOBAL'!V138","v":125.40964871915405},{"$f":"'ITCER GLOBAL'!W138","v":127.01449170834043},{"$f":"'ITCER GLOBAL'!X138","v":210.6309666747367},{"$f":"'ITCER GLOBAL'!Y138","v":98.686881423086973},{"$f":"'ITCER GLOBAL'!AA138","v":150.54120958538982},{"$f":"'ITCER GLOBAL'!AB138","v":96.642496964386396},{"$f":"'ITCER GLOBAL'!AC138","v":124.09758173475846},{"$f":"'ITCER GLOBAL'!AD138","v":124.02663921950194},{"$f":"'ITCER GLOBAL'!AE138","v":112.93251831876165},{"$f":"'ITCER GLOBAL'!AF138","v":191.66474784289872},{"$f":"'ITCER GLOBAL'!AG138","v":89.811002015046341},null,{"$f":"IF(EFECTOS!$N$9=\"COSTA RICA\",LOOKUP(1,GEfectos!$C$4:$I$4,GEfectos!C138:I138),IF(EFECTOS!$N$9=\"EL SALVADOR\",LOOKUP(2,GEfectos!$C$4:$I$4,GEfectos!C138:I138),IF(EFECTOS!$N$9=\"GUATEMALA\",LOOKUP(3,GEfectos!$C$4:$I$4,GEfectos!C138:I138),IF(EFECTOS!$N$9=\"HONDURAS\",LOOKUP(4,GEfectos!$C$4:$I$4,GEfectos!C138:I138),IF(EFECTOS!$N$9=\"NICARAGUA\",LOOKUP(5,GEfectos!$C$4:$I$4,GEfectos!C138:I138),IF(EFECTOS!$N$9=\"REPÚBLICA \nDOMINICANA\",LOOKUP(6,$C$4:$I$4,C138:I138),IF(EFECTOS!$N$9=\"PANAMÁ\",LOOKUP(7,GEfectos!$C$4:$I$4,GEfectos!C138:I138))))))))","v":109.89551758750335},{"$f":"IF(EFECTOS!$N$9=\"COSTA RICA\",LOOKUP(1,GEfectos!$J$4:$P$4,GEfectos!J138:P138),IF(EFECTOS!$N$9=\"EL SALVADOR\",LOOKUP(2,GEfectos!$J$4:$P$4,GEfectos!J138:P138),IF(EFECTOS!$N$9=\"GUATEMALA\",LOOKUP(3,GEfectos!$J$4:$P$4,GEfectos!J138:P138),IF(EFECTOS!$N$9=\"HONDURAS\",LOOKUP(4,GEfectos!$J$4:$P$4,GEfectos!J138:P138),IF(EFECTOS!$N$9=\"NICARAGUA\",LOOKUP(5,GEfectos!$J$4:$P$4,GEfectos!J138:P138),IF(EFECTOS!$N$9=\"REPÚBLICA \nDOMINICANA\",LOOKUP(6,$J$4:$P$4,J138:P138),IF(EFECTOS!$N$9=\"PANAMÁ\",LOOKUP(7,GEfectos!$J$4:$P$4,GEfectos!J138:P138))))))))","v":210.6309666747367},{"$f":"IF(EFECTOS!$N$9=\"COSTA RICA\",LOOKUP(1,GEfectos!$Q$4:$W$4,GEfectos!Q138:W138),IF(EFECTOS!$N$9=\"EL SALVADOR\",LOOKUP(2,GEfectos!$Q$4:$W$4,GEfectos!Q138:W138),IF(EFECTOS!$N$9=\"GUATEMALA\",LOOKUP(3,GEfectos!$Q$4:$W$4,GEfectos!Q138:W138),IF(EFECTOS!$N$9=\"HONDURAS\",LOOKUP(4,GEfectos!$Q$4:$W$4,GEfectos!Q138:W138),IF(EFECTOS!$N$9=\"NICARAGUA\",LOOKUP(5,GEfectos!$Q$4:$W$4,GEfectos!Q138:W138),IF(EFECTOS!$N$9=\"REPÚBLICA \nDOMINICANA\",LOOKUP(6,$Q$4:$W$4,Q138:W138),IF(EFECTOS!$N$9=\"PANAMÁ\",LOOKUP(7,GEfectos!$Q$4:$W$4,GEfectos!Q138:W138))))))))","v":191.66474784289872},100]
[null,{"$f":"'ITCER GLOBAL'!B139","v":"Febrero"},{"$f":"'ITCER GLOBAL'!C139","v":106.17787918622857},{"$f":"'ITCER GLOBAL'!D139","v":101.10013290679842},{"$f":"'ITCER GLOBAL'!E139","v":78.482971619217579},{"$f":"'ITCER GLOBAL'!F139","v":100.59070929014629},{"$f":"'ITCER GLOBAL'!G139","v":111.78967854818718},{"$f":"'ITCER GLOBAL'!H139","v":109.08565161602269},{"$f":"'ITCER GLOBAL'!I139","v":110.40170375535669},{"$f":"'ITCER GLOBAL'!S139","v":160.85708661288493},{"$f":"'ITCER GLOBAL'!T139","v":97.931949714495289},{"$f":"'ITCER GLOBAL'!U139","v":97.098678710942309},{"$f":"'ITCER GLOBAL'!V139","v":125.30440588606896},{"$f":"'ITCER GLOBAL'!W139","v":127.67650801030157},{"$f":"'ITCER GLOBAL'!X139","v":208.3265336002793},{"$f":"'ITCER GLOBAL'!Y139","v":98.692451544690044},{"$f":"'ITCER GLOBAL'!AA139","v":151.49773930853607},{"$f":"'ITCER GLOBAL'!AB139","v":96.8662917632128},{"$f":"'ITCER GLOBAL'!AC139","v":123.71942181552976},{"$f":"'ITCER GLOBAL'!AD139","v":124.56856778356924},{"$f":"'ITCER GLOBAL'!AE139","v":114.21135624365029},{"$f":"'ITCER GLOBAL'!AF139","v":190.97519290032818},{"$f":"'ITCER GLOBAL'!AG139","v":89.393956965905502},null,{"$f":"IF(EFECTOS!$N$9=\"COSTA RICA\",LOOKUP(1,GEfectos!$C$4:$I$4,GEfectos!C139:I139),IF(EFECTOS!$N$9=\"EL SALVADOR\",LOOKUP(2,GEfectos!$C$4:$I$4,GEfectos!C139:I139),IF(EFECTOS!$N$9=\"GUATEMALA\",LOOKUP(3,GEfectos!$C$4:$I$4,GEfectos!C139:I139),IF(EFECTOS!$N$9=\"HONDURAS\",LOOKUP(4,GEfectos!$C$4:$I$4,GEfectos!C139:I139),IF(EFECTOS!$N$9=\"NICARAGUA\",LOOKUP(5,GEfectos!$C$4:$I$4,GEfectos!C139:I139),IF(EFECTOS!$N$9=\"REPÚBLICA \nDOMINICANA\",LOOKUP(6,$C$4:$I$4,C139:I139),IF(EFECTOS!$N$9=\"PANAMÁ\",LOOKUP(7,GEfectos!$C$4:$I$4,GEfectos!C139:I139))))))))","v":109.08565161602269},{"$f":"IF(EFECTOS!$N$9=\"COSTA RICA\",LOOKUP(1,GEfectos!$J$4:$P$4,GEfectos!J139:P139),IF(EFECTOS!$N$9=\"EL SALVADOR\",LOOKUP(2,GEfectos!$J$4:$P$4,GEfectos!J139:P139),IF(EFECTOS!$N$9=\"GUATEMALA\",LOOKUP(3,GEfectos!$J$4:$P$4,GEfectos!J139:P139),IF(EFECTOS!$N$9=\"HONDURAS\",LOOKUP(4,GEfectos!$J$4:$P$4,GEfectos!J139:P139),IF(EFECTOS!$N$9=\"NICARAGUA\",LOOKUP(5,GEfectos!$J$4:$P$4,GEfectos!J139:P139),IF(EFECTOS!$N$9=\"REPÚBLICA \nDOMINICANA\",LOOKUP(6,$J$4:$P$4,J139:P139),IF(EFECTOS!$N$9=\"PANAMÁ\",LOOKUP(7,GEfectos!$J$4:$P$4,GEfectos!J139:P139))))))))","v":208.3265336002793},{"$f":"IF(EFECTOS!$N$9=\"COSTA RICA\",LOOKUP(1,GEfectos!$Q$4:$W$4,GEfectos!Q139:W139),IF(EFECTOS!$N$9=\"EL SALVADOR\",LOOKUP(2,GEfectos!$Q$4:$W$4,GEfectos!Q139:W139),IF(EFECTOS!$N$9=\"GUATEMALA\",LOOKUP(3,GEfectos!$Q$4:$W$4,GEfectos!Q139:W139),IF(EFECTOS!$N$9=\"HONDURAS\",LOOKUP(4,GEfectos!$Q$4:$W$4,GEfectos!Q139:W139),IF(EFECTOS!$N$9=\"NICARAGUA\",LOOKUP(5,GEfectos!$Q$4:$W$4,GEfectos!Q139:W139),IF(EFECTOS!$N$9=\"REPÚBLICA \nDOMINICANA\",LOOKUP(6,$Q$4:$W$4,Q139:W139),IF(EFECTOS!$N$9=\"PANAMÁ\",LOOKUP(7,GEfectos!$Q$4:$W$4,GEfectos!Q139:W139))))))))","v":190.97519290032818},100]
[null,{"$f":"'ITCER GLOBAL'!B140","v":"Marzo"},{"$f":"'ITCER GLOBAL'!C140","v":107.03585838337736},{"$f":"'ITCER GLOBAL'!D140","v":101.06308196344911},{"$f":"'ITCER GLOBAL'!E140","v":78.414339782525317},{"$f":"'ITCER GLOBAL'!F140","v":100.77026147138388},{"$f":"'ITCER GLOBAL'!G140","v":111.53837495441228},{"$f":"'ITCER GLOBAL'!H140","v":104.31718642203639},{"$f":"'ITCER GLOBAL'!I140","v":110.38709486371937},{"$f":"'ITCER GLOBAL'!S140","v":161.79222813693158},{"$f":"'ITCER GLOBAL'!T140","v":97.821712813631038},{"$f":"'ITCER GLOBAL'!U140","v":97.089222810598855},{"$f":"'ITCER GLOBAL'!V140","v":125.2412671155279},{"$f":"'ITCER GLOBAL'!W140","v":127.81307174386856},{"$f":"'ITCER GLOBAL'!X140","v":198.4360293295808},{"$f":"'ITCER GLOBAL'!Y140","v":98.655080957899997},{"$f":"'ITCER GLOBAL'!AA140","v":151.15703333496867},{"$f":"'ITCER GLOBAL'!AB140","v":96.792726793162359},{"$f":"'ITCER GLOBAL'!AC140","v":123.81564785199564},{"$f":"'ITCER GLOBAL'!AD140","v":124.28395568973805},{"$f":"'ITCER GLOBAL'!AE140","v":114.59111879306833},{"$f":"'ITCER GLOBAL'!AF140","v":190.22371685406421},{"$f":"'ITCER GLOBAL'!AG140","v":89.371933449011081},null,{"$f":"IF(EFECTOS!$N$9=\"COSTA RICA\",LOOKUP(1,GEfectos!$C$4:$I$4,GEfectos!C140:I140),IF(EFECTOS!$N$9=\"EL SALVADOR\",LOOKUP(2,GEfectos!$C$4:$I$4,GEfectos!C140:I140),IF(EFECTOS!$N$9=\"GUATEMALA\",LOOKUP(3,GEfectos!$C$4:$I$4,GEfectos!C140:I140),IF(EFECTOS!$N$9=\"HONDURAS\",LOOKUP(4,GEfectos!$C$4:$I$4,GEfectos!C140:I140),IF(EFECTOS!$N$9=\"NICARAGUA\",LOOKUP(5,GEfectos!$C$4:$I$4,GEfectos!C140:I140),IF(EFECTOS!$N$9=\"REPÚBLICA \nDOMINICANA\",LOOKUP(6,$C$4:$I$4,C140:I140),IF(EFECTOS!$N$9=\"PANAMÁ\",LOOKUP(7,GEfectos!$C$4:$I$4,GEfectos!C140:I140))))))))","v":104.31718642203639},{"$f":"IF(EFECTOS!$N$9=\"COSTA RICA\",LOOKUP(1,GEfectos!$J$4:$P$4,GEfectos!J140:P140),IF(EFECTOS!$N$9=\"EL SALVADOR\",LOOKUP(2,GEfectos!$J$4:$P$4,GEfectos!J140:P140),IF(EFECTOS!$N$9=\"GUATEMALA\",LOOKUP(3,GEfectos!$J$4:$P$4,GEfectos!J140:P140),IF(EFECTOS!$N$9=\"HONDURAS\",LOOKUP(4,GEfectos!$J$4:$P$4,GEfectos!J140:P140),IF(EFECTOS!$N$9=\"NICARAGUA\",LOOKUP(5,GEfectos!$J$4:$P$4,GEfectos!J140:P140),IF(EFECTOS!$N$9=\"REPÚBLICA \nDOMINICANA\",LOOKUP(6,$J$4:$P$4,J140:P140),IF(EFECTOS!$N$9=\"PANAMÁ\",LOOKUP(7,GEfectos!$J$4:$P$4,GEfectos!J140:P140))))))))","v":198.4360293295808},{"$f":"IF(EFECTOS!$N$9=\"COSTA RICA\",LOOKUP(1,GEfectos!$Q$4:$W$4,GEfectos!Q140:W140),IF(EFECTOS!$N$9=\"EL SALVADOR\",LOOKUP(2,GEfectos!$Q$4:$W$4,GEfectos!Q140:W140),IF(EFECTOS!$N$9=\"GUATEMALA\",LOOKUP(3,GEfectos!$Q$4:$W$4,GEfectos!Q140:W140),IF(EFECTOS!$N$9=\"HONDURAS\",LOOKUP(4,GEfectos!$Q$4:$W$4,GEfectos!Q140:W140),IF(EFECTOS!$N$9=\"NICARAGUA\",LOOKUP(5,GEfectos!$Q$4:$W$4,GEfectos!Q140:W140),IF(EFECTOS!$N$9=\"REPÚBLICA \nDOMINICANA\",LOOKUP(6,$Q$4:$W$4,Q140:W140),IF(EFECTOS!$N$9=\"PANAMÁ\",LOOKUP(7,GEfectos!$Q$4:$W$4,GEfectos!Q140:W140))))))))","v":190.22371685406421},100]
[null,{"$f":"'ITCER GLOBAL'!B141","v":"Abril"},{"$f":"'ITCER GLOBAL'!C141","v":108.05091227568492},{"$f":"'ITCER GLOBAL'!D141","v":101.13730006911197},{"$f":"'ITCER GLOBAL'!E141","v":78.04862789358765},{"$f":"'ITCER GLOBAL'!F141","v":101.09068765499012},{"$f":"'ITCER GLOBAL'!G141","v":110.98206950396983},{"$f":"'ITCER GLOBAL'!H141","v":103.02572160652871},{"$f":"'ITCER GLOBAL'!I141","v":109.88312618394107},{"$f":"'ITCER GLOBAL'!S141","v":162.91367668251655},{"$f":"'ITCER GLOBAL'!T141","v":97.840431085389795},{"$f":"'ITCER GLOBAL'!U141","v":96.789865979930312},{"$f":"'ITCER GLOBAL'!V141","v":125.41491509623681},{"$f":"'ITCER GLOBAL'!W141","v":128.2164624347491},{"$f":"'ITCER GLOBAL'!X141","v":195.70619021553958},{"$f":"'ITCER GLOBAL'!Y141","v":98.712736532394928},{"$f":"'ITCER GLOBAL'!AA141","v":150.77492012918208},{"$f":"'ITCER GLOBAL'!AB141","v":96.740204670809618},{"$f":"'ITCER GLOBAL'!AC141","v":124.01225824481459},{"$f":"'ITCER GLOBAL'!AD141","v":124.06178848467452},{"$f":"'ITCER GLOBAL'!AE141","v":115.52898860852724},{"$f":"'ITCER GLOBAL'!AF141","v":189.95857263972587},{"$f":"'ITCER GLOBAL'!AG141","v":89.834299369270539},null,{"$f":"IF(EFECTOS!$N$9=\"COSTA RICA\",LOOKUP(1,GEfectos!$C$4:$I$4,GEfectos!C141:I141),IF(EFECTOS!$N$9=\"EL SALVADOR\",LOOKUP(2,GEfectos!$C$4:$I$4,GEfectos!C141:I141),IF(EFECTOS!$N$9=\"GUATEMALA\",LOOKUP(3,GEfectos!$C$4:$I$4,GEfectos!C141:I141),IF(EFECTOS!$N$9=\"HONDURAS\",LOOKUP(4,GEfectos!$C$4:$I$4,GEfectos!C141:I141),IF(EFECTOS!$N$9=\"NICARAGUA\",LOOKUP(5,GEfectos!$C$4:$I$4,GEfectos!C141:I141),IF(EFECTOS!$N$9=\"REPÚBLICA \nDOMINICANA\",LOOKUP(6,$C$4:$I$4,C141:I141),IF(EFECTOS!$N$9=\"PANAMÁ\",LOOKUP(7,GEfectos!$C$4:$I$4,GEfectos!C141:I141))))))))","v":103.02572160652871},{"$f":"IF(EFECTOS!$N$9=\"COSTA RICA\",LOOKUP(1,GEfectos!$J$4:$P$4,GEfectos!J141:P141),IF(EFECTOS!$N$9=\"EL SALVADOR\",LOOKUP(2,GEfectos!$J$4:$P$4,GEfectos!J141:P141),IF(EFECTOS!$N$9=\"GUATEMALA\",LOOKUP(3,GEfectos!$J$4:$P$4,GEfectos!J141:P141),IF(EFECTOS!$N$9=\"HONDURAS\",LOOKUP(4,GEfectos!$J$4:$P$4,GEfectos!J141:P141),IF(EFECTOS!$N$9=\"NICARAGUA\",LOOKUP(5,GEfectos!$J$4:$P$4,GEfectos!J141:P141),IF(EFECTOS!$N$9=\"REPÚBLICA \nDOMINICANA\",LOOKUP(6,$J$4:$P$4,J141:P141),IF(EFECTOS!$N$9=\"PANAMÁ\",LOOKUP(7,GEfectos!$J$4:$P$4,GEfectos!J141:P141))))))))","v":195.70619021553958},{"$f":"IF(EFECTOS!$N$9=\"COSTA RICA\",LOOKUP(1,GEfectos!$Q$4:$W$4,GEfectos!Q141:W141),IF(EFECTOS!$N$9=\"EL SALVADOR\",LOOKUP(2,GEfectos!$Q$4:$W$4,GEfectos!Q141:W141),IF(EFECTOS!$N$9=\"GUATEMALA\",LOOKUP(3,GEfectos!$Q$4:$W$4,GEfectos!Q141:W141),IF(EFECTOS!$N$9=\"HONDURAS\",LOOKUP(4,GEfectos!$Q$4:$W$4,GEfectos!Q141:W141),IF(EFECTOS!$N$9=\"NICARAGUA\",LOOKUP(5,GEfectos!$Q$4:$W$4,GEfectos!Q141:W141),IF(EFECTOS!$N$9=\"REPÚBLICA \nDOMINICANA\",LOOKUP(6,$Q$4:$W$4,Q141:W141),IF(EFECTOS!$N$9=\"PANAMÁ\",LOOKUP(7,GEfectos!$Q$4:$W$4,GEfectos!Q141:W141))))))))","v":189.95857263972587},100]
[null,{"$f":"'ITCER GLOBAL'!B142","v":"Mayo"},{"$f":"'ITCER GLOBAL'!C142","v":107.80368276175292},{"$f":"'ITCER GLOBAL'!D142","v":101.68547566734722},{"$f":"'ITCER GLOBAL'!E142","v":78.002207189739423},{"$f":"'ITCER GLOBAL'!F142","v":101.35419508198746},{"$f":"'ITCER GLOBAL'!G142","v":111.4437564422672},{"$f":"'ITCER GLOBAL'!H142","v":104.45152353162223},{"$f":"'ITCER GLOBAL'!I142","v":110.96452348712286},{"$f":"'ITCER GLOBAL'!S142","v":164.54867014790466},{"$f":"'ITCER GLOBAL'!T142","v":98.052552323678228},{"$f":"'ITCER GLOBAL'!U142","v":96.984525774251424},{"$f":"'ITCER GLOBAL'!V142","v":126.05851974365692},{"$f":"'ITCER GLOBAL'!W142","v":129.36530137621273},{"$f":"'ITCER GLOBAL'!X142","v":198.7351012402313},{"$f":"'ITCER GLOBAL'!Y142","v":99.167491882813636},{"$f":"'ITCER GLOBAL'!AA142","v":152.63733662193957},{"$f":"'ITCER GLOBAL'!AB142","v":96.427293750826621},{"$f":"'ITCER GLOBAL'!AC142","v":124.33561724521172},{"$f":"'ITCER GLOBAL'!AD142","v":124.37424977001261},{"$f":"'ITCER GLOBAL'!AE142","v":116.08124627711169},{"$f":"'ITCER GLOBAL'!AF142","v":190.26539251968418},{"$f":"'ITCER GLOBAL'!AG142","v":89.368645731463687},null,{"$f":"IF(EFECTOS!$N$9=\"COSTA RICA\",LOOKUP(1,GEfectos!$C$4:$I$4,GEfectos!C142:I142),IF(EFECTOS!$N$9=\"EL SALVADOR\",LOOKUP(2,GEfectos!$C$4:$I$4,GEfectos!C142:I142),IF(EFECTOS!$N$9=\"GUATEMALA\",LOOKUP(3,GEfectos!$C$4:$I$4,GEfectos!C142:I142),IF(EFECTOS!$N$9=\"HONDURAS\",LOOKUP(4,GEfectos!$C$4:$I$4,GEfectos!C142:I142),IF(EFECTOS!$N$9=\"NICARAGUA\",LOOKUP(5,GEfectos!$C$4:$I$4,GEfectos!C142:I142),IF(EFECTOS!$N$9=\"REPÚBLICA \nDOMINICANA\",LOOKUP(6,$C$4:$I$4,C142:I142),IF(EFECTOS!$N$9=\"PANAMÁ\",LOOKUP(7,GEfectos!$C$4:$I$4,GEfectos!C142:I142))))))))","v":104.45152353162223},{"$f":"IF(EFECTOS!$N$9=\"COSTA RICA\",LOOKUP(1,GEfectos!$J$4:$P$4,GEfectos!J142:P142),IF(EFECTOS!$N$9=\"EL SALVADOR\",LOOKUP(2,GEfectos!$J$4:$P$4,GEfectos!J142:P142),IF(EFECTOS!$N$9=\"GUATEMALA\",LOOKUP(3,GEfectos!$J$4:$P$4,GEfectos!J142:P142),IF(EFECTOS!$N$9=\"HONDURAS\",LOOKUP(4,GEfectos!$J$4:$P$4,GEfectos!J142:P142),IF(EFECTOS!$N$9=\"NICARAGUA\",LOOKUP(5,GEfectos!$J$4:$P$4,GEfectos!J142:P142),IF(EFECTOS!$N$9=\"REPÚBLICA \nDOMINICANA\",LOOKUP(6,$J$4:$P$4,J142:P142),IF(EFECTOS!$N$9=\"PANAMÁ\",LOOKUP(7,GEfectos!$J$4:$P$4,GEfectos!J142:P142))))))))","v":198.7351012402313},{"$f":"IF(EFECTOS!$N$9=\"COSTA RICA\",LOOKUP(1,GEfectos!$Q$4:$W$4,GEfectos!Q142:W142),IF(EFECTOS!$N$9=\"EL SALVADOR\",LOOKUP(2,GEfectos!$Q$4:$W$4,GEfectos!Q142:W142),IF(EFECTOS!$N$9=\"GUATEMALA\",LOOKUP(3,GEfectos!$Q$4:$W$4,GEfectos!Q142:W142),IF(EFECTOS!$N$9=\"HONDURAS\",LOOKUP(4,GEfectos!$Q$4:$W$4,GEfectos!Q142:W142),IF(EFECTOS!$N$9=\"NICARAGUA\",LOOKUP(5,GEfectos!$Q$4:$W$4,GEfectos!Q142:W142),IF(EFECTOS!$N$9=\"REPÚBLICA \nDOMINICANA\",LOOKUP(6,$Q$4:$W$4,Q142:W142),IF(EFECTOS!$N$9=\"PANAMÁ\",LOOKUP(7,GEfectos!$Q$4:$W$4,GEfectos!Q142:W142))))))))","v":190.26539251968418},100]
[null,{"$f":"'ITCER GLOBAL'!B143","v":"Junio"},{"$f":"'ITCER GLOBAL'!C143","v":106.86730633775005},{"$f":"'ITCER GLOBAL'!D143","v":100.61762891975424},{"$f":"'ITCER GLOBAL'!E143","v":77.570939080106214},{"$f":"'ITCER GLOBAL'!F143","v":100.80831518448188},{"$f":"'ITCER GLOBAL'!G143","v":111.24961662294545},{"$f":"'ITCER GLOBAL'!H143","v":104.15816700157927},{"$f":"'ITCER GLOBAL'!I143","v":110.03141071256439},{"$f":"'ITCER GLOBAL'!S143","v":164.45828615926939},{"$f":"'ITCER GLOBAL'!T143","v":97.609029320141943},{"$f":"'ITCER GLOBAL'!U143","v":96.822283876640853},{"$f":"'ITCER GLOBAL'!V143","v":125.432994179838},{"$f":"'ITCER GLOBAL'!W143","v":129.23014641513706},{"$f":"'ITCER GLOBAL'!X143","v":199.37347504720404},{"$f":"'ITCER GLOBAL'!Y143","v":98.33283178331348},{"$f":"'ITCER GLOBAL'!AA143","v":153.89017632717835},{"$f":"'ITCER GLOBAL'!AB143","v":97.009868318392051},{"$f":"'ITCER GLOBAL'!AC143","v":124.81772816576849},{"$f":"'ITCER GLOBAL'!AD143","v":124.42722998622911},{"$f":"'ITCER GLOBAL'!AE143","v":116.16232966728542},{"$f":"'ITCER GLOBAL'!AF143","v":191.41415482492224},{"$f":"'ITCER GLOBAL'!AG143","v":89.367964244490906},null,{"$f":"IF(EFECTOS!$N$9=\"COSTA RICA\",LOOKUP(1,GEfectos!$C$4:$I$4,GEfectos!C143:I143),IF(EFECTOS!$N$9=\"EL SALVADOR\",LOOKUP(2,GEfectos!$C$4:$I$4,GEfectos!C143:I143),IF(EFECTOS!$N$9=\"GUATEMALA\",LOOKUP(3,GEfectos!$C$4:$I$4,GEfectos!C143:I143),IF(EFECTOS!$N$9=\"HONDURAS\",LOOKUP(4,GEfectos!$C$4:$I$4,GEfectos!C143:I143),IF(EFECTOS!$N$9=\"NICARAGUA\",LOOKUP(5,GEfectos!$C$4:$I$4,GEfectos!C143:I143),IF(EFECTOS!$N$9=\"REPÚBLICA \nDOMINICANA\",LOOKUP(6,$C$4:$I$4,C143:I143),IF(EFECTOS!$N$9=\"PANAMÁ\",LOOKUP(7,GEfectos!$C$4:$I$4,GEfectos!C143:I143))))))))","v":104.15816700157927},{"$f":"IF(EFECTOS!$N$9=\"COSTA RICA\",LOOKUP(1,GEfectos!$J$4:$P$4,GEfectos!J143:P143),IF(EFECTOS!$N$9=\"EL SALVADOR\",LOOKUP(2,GEfectos!$J$4:$P$4,GEfectos!J143:P143),IF(EFECTOS!$N$9=\"GUATEMALA\",LOOKUP(3,GEfectos!$J$4:$P$4,GEfectos!J143:P143),IF(EFECTOS!$N$9=\"HONDURAS\",LOOKUP(4,GEfectos!$J$4:$P$4,GEfectos!J143:P143),IF(EFECTOS!$N$9=\"NICARAGUA\",LOOKUP(5,GEfectos!$J$4:$P$4,GEfectos!J143:P143),IF(EFECTOS!$N$9=\"REPÚBLICA \nDOMINICANA\",LOOKUP(6,$J$4:$P$4,J143:P143),IF(EFECTOS!$N$9=\"PANAMÁ\",LOOKUP(7,GEfectos!$J$4:$P$4,GEfectos!J143:P143))))))))","v":199.37347504720404},{"$f":"IF(EFECTOS!$N$9=\"COSTA RICA\",LOOKUP(1,GEfectos!$Q$4:$W$4,GEfectos!Q143:W143),IF(EFECTOS!$N$9=\"EL SALVADOR\",LOOKUP(2,GEfectos!$Q$4:$W$4,GEfectos!Q143:W143),IF(EFECTOS!$N$9=\"GUATEMALA\",LOOKUP(3,GEfectos!$Q$4:$W$4,GEfectos!Q143:W143),IF(EFECTOS!$N$9=\"HONDURAS\",LOOKUP(4,GEfectos!$Q$4:$W$4,GEfectos!Q143:W143),IF(EFECTOS!$N$9=\"NICARAGUA\",LOOKUP(5,GEfectos!$Q$4:$W$4,GEfectos!Q143:W143),IF(EFECTOS!$N$9=\"REPÚBLICA \nDOMINICANA\",LOOKUP(6,$Q$4:$W$4,Q143:W143),IF(EFECTOS!$N$9=\"PANAMÁ\",LOOKUP(7,GEfectos!$Q$4:$W$4,GEfectos!Q143:W143))))))))","v":191.41415482492224},100]
[null,{"$f":"'ITCER GLOBAL'!B144","v":"Julio"},{"$f":"'ITCER GLOBAL'!C144","v":106.98289907878636},{"$f":"'ITCER GLOBAL'!D144","v":99.958879079907874},{"$f":"'ITCER GLOBAL'!E144","v":77.422544788159541},{"$f":"'ITCER GLOBAL'!F144","v":100.83480892210589},{"$f":"'ITCER GLOBAL'!G144","v":111.698614709279},{"$f":"'ITCER GLOBAL'!H144","v":103.66813026249136},{"$f":"'ITCER GLOBAL'!I144","v":110.63517976906212},{"$f":"'ITCER GLOBAL'!S144","v":165.82996231611583},{"$f":"'ITCER GLOBAL'!T144","v":97.893210950317638},{"$f":"'ITCER GLOBAL'!U144","v":96.749489260367056},{"$f":"'ITCER GLOBAL'!V144","v":125.74282174478451},{"$f":"'ITCER GLOBAL'!W144","v":129.96821965234565},{"$f":"'ITCER GLOBAL'!X144","v":199.73341213504216},{"$f":"'ITCER GLOBAL'!Y144","v":98.613811013323442},{"$f":"'ITCER GLOBAL'!AA144","v":155.00604652150264},{"$f":"'ITCER GLOBAL'!AB144","v":97.933482099235107},{"$f":"'ITCER GLOBAL'!AC144","v":124.96294138237015},{"$f":"'ITCER GLOBAL'!AD144","v":124.70179999242114},{"$f":"'ITCER GLOBAL'!AE144","v":116.35616071928683},{"$f":"'ITCER GLOBAL'!AF144","v":192.66616618753531},{"$f":"'ITCER GLOBAL'!AG144","v":89.134225857605259},null,{"$f":"IF(EFECTOS!$N$9=\"COSTA RICA\",LOOKUP(1,GEfectos!$C$4:$I$4,GEfectos!C144:I144),IF(EFECTOS!$N$9=\"EL SALVADOR\",LOOKUP(2,GEfectos!$C$4:$I$4,GEfectos!C144:I144),IF(EFECTOS!$N$9=\"GUATEMALA\",LOOKUP(3,GEfectos!$C$4:$I$4,GEfectos!C144:I144),IF(EFECTOS!$N$9=\"HONDURAS\",LOOKUP(4,GEfectos!$C$4:$I$4,GEfectos!C144:I144),IF(EFECTOS!$N$9=\"NICARAGUA\",LOOKUP(5,GEfectos!$C$4:$I$4,GEfectos!C144:I144),IF(EFECTOS!$N$9=\"REPÚBLICA \nDOMINICANA\",LOOKUP(6,$C$4:$I$4,C144:I144),IF(EFECTOS!$N$9=\"PANAMÁ\",LOOKUP(7,GEfectos!$C$4:$I$4,GEfectos!C144:I144))))))))","v":103.66813026249136},{"$f":"IF(EFECTOS!$N$9=\"COSTA RICA\",LOOKUP(1,GEfectos!$J$4:$P$4,GEfectos!J144:P144),IF(EFECTOS!$N$9=\"EL SALVADOR\",LOOKUP(2,GEfectos!$J$4:$P$4,GEfectos!J144:P144),IF(EFECTOS!$N$9=\"GUATEMALA\",LOOKUP(3,GEfectos!$J$4:$P$4,GEfectos!J144:P144),IF(EFECTOS!$N$9=\"HONDURAS\",LOOKUP(4,GEfectos!$J$4:$P$4,GEfectos!J144:P144),IF(EFECTOS!$N$9=\"NICARAGUA\",LOOKUP(5,GEfectos!$J$4:$P$4,GEfectos!J144:P144),IF(EFECTOS!$N$9=\"REPÚBLICA \nDOMINICANA\",LOOKUP(6,$J$4:$P$4,J144:P144),IF(EFECTOS!$N$9=\"PANAMÁ\",LOOKUP(7,GEfectos!$J$4:$P$4,GEfectos!J144:P144))))))))","v":199.73341213504216},{"$f":"IF(EFECTOS!$N$9=\"COSTA RICA\",LOOKUP(1,GEfectos!$Q$4:$W$4,GEfectos!Q144:W144),IF(EFECTOS!$N$9=\"EL SALVADOR\",LOOKUP(2,GEfectos!$Q$4:$W$4,GEfectos!Q144:W144),IF(EFECTOS!$N$9=\"GUATEMALA\",LOOKUP(3,GEfectos!$Q$4:$W$4,GEfectos!Q144:W144),IF(EFECTOS!$N$9=\"HONDURAS\",LOOKUP(4,GEfectos!$Q$4:$W$4,GEfectos!Q144:W144),IF(EFECTOS!$N$9=\"NICARAGUA\",LOOKUP(5,GEfectos!$Q$4:$W$4,GEfectos!Q144:W144),IF(EFECTOS!$N$9=\"REPÚBLICA \nDOMINICANA\",LOOKUP(6,$Q$4:$W$4,Q144:W144),IF(EFECTOS!$N$9=\"PANAMÁ\",LOOKUP(7,GEfectos!$Q$4:$W$4,GEfectos!Q144:W144))))))))","v":192.66616618753531},100]
[null,{"$f":"'ITCER GLOBAL'!B145","v":"Agosto"},{"$f":"'ITCER GLOBAL'!C145","v":107.18607741879929},{"$f":"'ITCER GLOBAL'!D145","v":100.92884910252043},{"$f":"'ITCER GLOBAL'!E145","v":77.457449713459638},{"$f":"'ITCER GLOBAL'!F145","v":100.90930791495775},{"$f":"'ITCER GLOBAL'!G145","v":112.60849501271134},{"$f":"'ITCER GLOBAL'!H145","v":103.69666719206657},{"$f":"'ITCER GLOBAL'!I145","v":111.28233450950316},{"$f":"'ITCER GLOBAL'!S145","v":167.23431375920518},{"$f":"'ITCER GLOBAL'!T145","v":98.049304825777725},{"$f":"'ITCER GLOBAL'!U145","v":96.907922194667634},{"$f":"'ITCER GLOBAL'!V145","v":126.03406447845438},{"$f":"'ITCER GLOBAL'!W145","v":130.90897746743261},{"$f":"'ITCER GLOBAL'!X145","v":199.7018286440979},{"$f":"'ITCER GLOBAL'!Y145","v":98.996267911378027},{"$f":"'ITCER GLOBAL'!AA145","v":156.02242174213018},{"$f":"'ITCER GLOBAL'!AB145","v":97.146956195034235},{"$f":"'ITCER GLOBAL'!AC145","v":125.11117078236072},{"$f":"'ITCER GLOBAL'!AD145","v":124.89835386114308},{"$f":"'ITCER GLOBAL'!AE145","v":116.2514226414761},{"$f":"'ITCER GLOBAL'!AF145","v":192.58268761348998},{"$f":"'ITCER GLOBAL'!AG145","v":88.95955350660266},null,{"$f":"IF(EFECTOS!$N$9=\"COSTA RICA\",LOOKUP(1,GEfectos!$C$4:$I$4,GEfectos!C145:I145),IF(EFECTOS!$N$9=\"EL SALVADOR\",LOOKUP(2,GEfectos!$C$4:$I$4,GEfectos!C145:I145),IF(EFECTOS!$N$9=\"GUATEMALA\",LOOKUP(3,GEfectos!$C$4:$I$4,GEfectos!C145:I145),IF(EFECTOS!$N$9=\"HONDURAS\",LOOKUP(4,GEfectos!$C$4:$I$4,GEfectos!C145:I145),IF(EFECTOS!$N$9=\"NICARAGUA\",LOOKUP(5,GEfectos!$C$4:$I$4,GEfectos!C145:I145),IF(EFECTOS!$N$9=\"REPÚBLICA \nDOMINICANA\",LOOKUP(6,$C$4:$I$4,C145:I145),IF(EFECTOS!$N$9=\"PANAMÁ\",LOOKUP(7,GEfectos!$C$4:$I$4,GEfectos!C145:I145))))))))","v":103.69666719206657},{"$f":"IF(EFECTOS!$N$9=\"COSTA RICA\",LOOKUP(1,GEfectos!$J$4:$P$4,GEfectos!J145:P145),IF(EFECTOS!$N$9=\"EL SALVADOR\",LOOKUP(2,GEfectos!$J$4:$P$4,GEfectos!J145:P145),IF(EFECTOS!$N$9=\"GUATEMALA\",LOOKUP(3,GEfectos!$J$4:$P$4,GEfectos!J145:P145),IF(EFECTOS!$N$9=\"HONDURAS\",LOOKUP(4,GEfectos!$J$4:$P$4,GEfectos!J145:P145),IF(EFECTOS!$N$9=\"NICARAGUA\",LOOKUP(5,GEfectos!$J$4:$P$4,GEfectos!J145:P145),IF(EFECTOS!$N$9=\"REPÚBLICA \nDOMINICANA\",LOOKUP(6,$J$4:$P$4,J145:P145),IF(EFECTOS!$N$9=\"PANAMÁ\",LOOKUP(7,GEfectos!$J$4:$P$4,GEfectos!J145:P145))))))))","v":199.7018286440979},{"$f":"IF(EFECTOS!$N$9=\"COSTA RICA\",LOOKUP(1,GEfectos!$Q$4:$W$4,GEfectos!Q145:W145),IF(EFECTOS!$N$9=\"EL SALVADOR\",LOOKUP(2,GEfectos!$Q$4:$W$4,GEfectos!Q145:W145),IF(EFECTOS!$N$9=\"GUATEMALA\",LOOKUP(3,GEfectos!$Q$4:$W$4,GEfectos!Q145:W145),IF(EFECTOS!$N$9=\"HONDURAS\",LOOKUP(4,GEfectos!$Q$4:$W$4,GEfectos!Q145:W145),IF(EFECTOS!$N$9=\"NICARAGUA\",LOOKUP(5,GEfectos!$Q$4:$W$4,GEfectos!Q145:W145),IF(EFECTOS!$N$9=\"REPÚBLICA \nDOMINICANA\",LOOKUP(6,$Q$4:$W$4,Q145:W145),IF(EFECTOS!$N$9=\"PANAMÁ\",LOOKUP(7,GEfectos!$Q$4:$W$4,GEfectos!Q145:W145))))))))","v":192.58268761348998},100]
[null,{"$f":"'ITCER GLOBAL'!B146","v":"Septiembre"},{"$f":"'ITCER GLOBAL'!C146","v":107.51013742348576},{"$f":"'ITCER GLOBAL'!D146","v":100.54116771796689},{"$f":"'ITCER GLOBAL'!E146","v":77.77139382591983},{"$f":"'ITCER GLOBAL'!F146","v":100.46517515814546},{"$f":"'ITCER GLOBAL'!G146","v":112.85803288123844},{"$f":"'ITCER GLOBAL'!H146","v":105.45025629856204},{"$f":"'ITCER GLOBAL'!I146","v":111.26789621692232},{"$f":"'ITCER GLOBAL'!S146","v":167.78636087971233},{"$f":"'ITCER GLOBAL'!T146","v":97.889586173724112},{"$f":"'ITCER GLOBAL'!U146","v":97.097436210465887},{"$f":"'ITCER GLOBAL'!V146","v":125.77012097053685},{"$f":"'ITCER GLOBAL'!W146","v":130.78724722807661},{"$f":"'ITCER GLOBAL'!X146","v":201.39294840151797},{"$f":"'ITCER GLOBAL'!Y146","v":98.773813164383881},{"$f":"'ITCER GLOBAL'!AA146","v":156.06561846237503},{"$f":"'ITCER GLOBAL'!AB146","v":97.362690722191658},{"$f":"'ITCER GLOBAL'!AC146","v":124.84980843702589},{"$f":"'ITCER GLOBAL'!AD146","v":125.18777852380994},{"$f":"'ITCER GLOBAL'!AE146","v":115.88652033808285},{"$f":"'ITCER GLOBAL'!AF146","v":190.98383965166735},{"$f":"'ITCER GLOBAL'!AG146","v":88.771169872592367},null,{"$f":"IF(EFECTOS!$N$9=\"COSTA RICA\",LOOKUP(1,GEfectos!$C$4:$I$4,GEfectos!C146:I146),IF(EFECTOS!$N$9=\"EL SALVADOR\",LOOKUP(2,GEfectos!$C$4:$I$4,GEfectos!C146:I146),IF(EFECTOS!$N$9=\"GUATEMALA\",LOOKUP(3,GEfectos!$C$4:$I$4,GEfectos!C146:I146),IF(EFECTOS!$N$9=\"HONDURAS\",LOOKUP(4,GEfectos!$C$4:$I$4,GEfectos!C146:I146),IF(EFECTOS!$N$9=\"NICARAGUA\",LOOKUP(5,GEfectos!$C$4:$I$4,GEfectos!C146:I146),IF(EFECTOS!$N$9=\"REPÚBLICA \nDOMINICANA\",LOOKUP(6,$C$4:$I$4,C146:I146),IF(EFECTOS!$N$9=\"PANAMÁ\",LOOKUP(7,GEfectos!$C$4:$I$4,GEfectos!C146:I146))))))))","v":105.45025629856204},{"$f":"IF(EFECTOS!$N$9=\"COSTA RICA\",LOOKUP(1,GEfectos!$J$4:$P$4,GEfectos!J146:P146),IF(EFECTOS!$N$9=\"EL SALVADOR\",LOOKUP(2,GEfectos!$J$4:$P$4,GEfectos!J146:P146),IF(EFECTOS!$N$9=\"GUATEMALA\",LOOKUP(3,GEfectos!$J$4:$P$4,GEfectos!J146:P146),IF(EFECTOS!$N$9=\"HONDURAS\",LOOKUP(4,GEfectos!$J$4:$P$4,GEfectos!J146:P146),IF(EFECTOS!$N$9=\"NICARAGUA\",LOOKUP(5,GEfectos!$J$4:$P$4,GEfectos!J146:P146),IF(EFECTOS!$N$9=\"REPÚBLICA \nDOMINICANA\",LOOKUP(6,$J$4:$P$4,J146:P146),IF(EFECTOS!$N$9=\"PANAMÁ\",LOOKUP(7,GEfectos!$J$4:$P$4,GEfectos!J146:P146))))))))","v":201.39294840151797},{"$f":"IF(EFECTOS!$N$9=\"COSTA RICA\",LOOKUP(1,GEfectos!$Q$4:$W$4,GEfectos!Q146:W146),IF(EFECTOS!$N$9=\"EL SALVADOR\",LOOKUP(2,GEfectos!$Q$4:$W$4,GEfectos!Q146:W146),IF(EFECTOS!$N$9=\"GUATEMALA\",LOOKUP(3,GEfectos!$Q$4:$W$4,GEfectos!Q146:W146),IF(EFECTOS!$N$9=\"HONDURAS\",LOOKUP(4,GEfectos!$Q$4:$W$4,GEfectos!Q146:W146),IF(EFECTOS!$N$9=\"NICARAGUA\",LOOKUP(5,GEfectos!$Q$4:$W$4,GEfectos!Q146:W146),IF(EFECTOS!$N$9=\"REPÚBLICA \nDOMINICANA\",LOOKUP(6,$Q$4:$W$4,Q146:W146),IF(EFECTOS!$N$9=\"PANAMÁ\",LOOKUP(7,GEfectos!$Q$4:$W$4,GEfectos!Q146:W146))))))))","v":190.98383965166735},100]
[null,{"$f":"'ITCER GLOBAL'!B147","v":"Octubre"},{"$f":"'ITCER GLOBAL'!C147","v":106.88448825879038},{"$f":"'ITCER GLOBAL'!D147","v":100.71007981508117},{"$f":"'ITCER GLOBAL'!E147","v":77.674354090176905},{"$f":"'ITCER GLOBAL'!F147","v":100.04616363162276},{"$f":"'ITCER GLOBAL'!G147","v":112.70390495488151},{"$f":"'ITCER GLOBAL'!H147","v":106.64754771333779},{"$f":"'ITCER GLOBAL'!I147","v":110.68329144841339},{"$f":"'ITCER GLOBAL'!S147","v":167.52478528601227},{"$f":"'ITCER GLOBAL'!T147","v":97.888839365454928},{"$f":"'ITCER GLOBAL'!U147","v":97.198459786397777},{"$f":"'ITCER GLOBAL'!V147","v":125.6793971926575},{"$f":"'ITCER GLOBAL'!W147","v":131.374034280876},{"$f":"'ITCER GLOBAL'!X147","v":204.63277946497379},{"$f":"'ITCER GLOBAL'!Y147","v":98.764156107151095},{"$f":"'ITCER GLOBAL'!AA147","v":156.73442237979251},{"$f":"'ITCER GLOBAL'!AB147","v":97.19865136160503},{"$f":"'ITCER GLOBAL'!AC147","v":125.13584557594666},{"$f":"'ITCER GLOBAL'!AD147","v":125.62140578964944},{"$f":"'ITCER GLOBAL'!AE147","v":116.56564547028665},{"$f":"'ITCER GLOBAL'!AF147","v":191.87762292951587},{"$f":"'ITCER GLOBAL'!AG147","v":89.231314695030107},null,{"$f":"IF(EFECTOS!$N$9=\"COSTA RICA\",LOOKUP(1,GEfectos!$C$4:$I$4,GEfectos!C147:I147),IF(EFECTOS!$N$9=\"EL SALVADOR\",LOOKUP(2,GEfectos!$C$4:$I$4,GEfectos!C147:I147),IF(EFECTOS!$N$9=\"GUATEMALA\",LOOKUP(3,GEfectos!$C$4:$I$4,GEfectos!C147:I147),IF(EFECTOS!$N$9=\"HONDURAS\",LOOKUP(4,GEfectos!$C$4:$I$4,GEfectos!C147:I147),IF(EFECTOS!$N$9=\"NICARAGUA\",LOOKUP(5,GEfectos!$C$4:$I$4,GEfectos!C147:I147),IF(EFECTOS!$N$9=\"REPÚBLICA \nDOMINICANA\",LOOKUP(6,$C$4:$I$4,C147:I147),IF(EFECTOS!$N$9=\"PANAMÁ\",LOOKUP(7,GEfectos!$C$4:$I$4,GEfectos!C147:I147))))))))","v":106.64754771333779},{"$f":"IF(EFECTOS!$N$9=\"COSTA RICA\",LOOKUP(1,GEfectos!$J$4:$P$4,GEfectos!J147:P147),IF(EFECTOS!$N$9=\"EL SALVADOR\",LOOKUP(2,GEfectos!$J$4:$P$4,GEfectos!J147:P147),IF(EFECTOS!$N$9=\"GUATEMALA\",LOOKUP(3,GEfectos!$J$4:$P$4,GEfectos!J147:P147),IF(EFECTOS!$N$9=\"HONDURAS\",LOOKUP(4,GEfectos!$J$4:$P$4,GEfectos!J147:P147),IF(EFECTOS!$N$9=\"NICARAGUA\",LOOKUP(5,GEfectos!$J$4:$P$4,GEfectos!J147:P147),IF(EFECTOS!$N$9=\"REPÚBLICA \nDOMINICANA\",LOOKUP(6,$J$4:$P$4,J147:P147),IF(EFECTOS!$N$9=\"PANAMÁ\",LOOKUP(7,GEfectos!$J$4:$P$4,GEfectos!J147:P147))))))))","v":204.63277946497379},{"$f":"IF(EFECTOS!$N$9=\"COSTA RICA\",LOOKUP(1,GEfectos!$Q$4:$W$4,GEfectos!Q147:W147),IF(EFECTOS!$N$9=\"EL SALVADOR\",LOOKUP(2,GEfectos!$Q$4:$W$4,GEfectos!Q147:W147),IF(EFECTOS!$N$9=\"GUATEMALA\",LOOKUP(3,GEfectos!$Q$4:$W$4,GEfectos!Q147:W147),IF(EFECTOS!$N$9=\"HONDURAS\",LOOKUP(4,GEfectos!$Q$4:$W$4,GEfectos!Q147:W147),IF(EFECTOS!$N$9=\"NICARAGUA\",LOOKUP(5,GEfectos!$Q$4:$W$4,GEfectos!Q147:W147),IF(EFECTOS!$N$9=\"REPÚBLICA \nDOMINICANA\",LOOKUP(6,$Q$4:$W$4,Q147:W147),IF(EFECTOS!$N$9=\"PANAMÁ\",LOOKUP(7,GEfectos!$Q$4:$W$4,GEfectos!Q147:W147))))))))","v":191.87762292951587},100]
[null,{"$f":"'ITCER GLOBAL'!B148","v":"Noviembre"},{"$f":"'ITCER GLOBAL'!C148","v":105.61791598566654},{"$f":"'ITCER GLOBAL'!D148","v":100.36383484584913},{"$f":"'ITCER GLOBAL'!E148","v":77.459385007260096},{"$f":"'ITCER GLOBAL'!F148","v":99.978639162994241},{"$f":"'ITCER GLOBAL'!G148","v":113.02284525062807},{"$f":"'ITCER GLOBAL'!H148","v":106.51417264715946},{"$f":"'ITCER GLOBAL'!I148","v":111.23393645247702},{"$f":"'ITCER GLOBAL'!S148","v":167.16565189843621},{"$f":"'ITCER GLOBAL'!T148","v":98.060367900401076},{"$f":"'ITCER GLOBAL'!U148","v":97.39550221326239},{"$f":"'ITCER GLOBAL'!V148","v":126.10561689048276},{"$f":"'ITCER GLOBAL'!W148","v":132.41653680587004},{"$f":"'ITCER GLOBAL'!X148","v":205.80861759747938},{"$f":"'ITCER GLOBAL'!Y148","v":99.283563812315805},{"$f":"'ITCER GLOBAL'!AA148","v":158.2739541283151},{"$f":"'ITCER GLOBAL'!AB148","v":97.704883488174787},{"$f":"'ITCER GLOBAL'!AC148","v":125.7375103147717},{"$f":"'ITCER GLOBAL'!AD148","v":126.13255986100584},{"$f":"'ITCER GLOBAL'!AE148","v":117.15908983908206},{"$f":"'ITCER GLOBAL'!AF148","v":193.2218149778474},{"$f":"'ITCER GLOBAL'!AG148","v":89.25654074530857},null,{"$f":"IF(EFECTOS!$N$9=\"COSTA RICA\",LOOKUP(1,GEfectos!$C$4:$I$4,GEfectos!C148:I148),IF(EFECTOS!$N$9=\"EL SALVADOR\",LOOKUP(2,GEfectos!$C$4:$I$4,GEfectos!C148:I148),IF(EFECTOS!$N$9=\"GUATEMALA\",LOOKUP(3,GEfectos!$C$4:$I$4,GEfectos!C148:I148),IF(EFECTOS!$N$9=\"HONDURAS\",LOOKUP(4,GEfectos!$C$4:$I$4,GEfectos!C148:I148),IF(EFECTOS!$N$9=\"NICARAGUA\",LOOKUP(5,GEfectos!$C$4:$I$4,GEfectos!C148:I148),IF(EFECTOS!$N$9=\"REPÚBLICA \nDOMINICANA\",LOOKUP(6,$C$4:$I$4,C148:I148),IF(EFECTOS!$N$9=\"PANAMÁ\",LOOKUP(7,GEfectos!$C$4:$I$4,GEfectos!C148:I148))))))))","v":106.51417264715946},{"$f":"IF(EFECTOS!$N$9=\"COSTA RICA\",LOOKUP(1,GEfectos!$J$4:$P$4,GEfectos!J148:P148),IF(EFECTOS!$N$9=\"EL SALVADOR\",LOOKUP(2,GEfectos!$J$4:$P$4,GEfectos!J148:P148),IF(EFECTOS!$N$9=\"GUATEMALA\",LOOKUP(3,GEfectos!$J$4:$P$4,GEfectos!J148:P148),IF(EFECTOS!$N$9=\"HONDURAS\",LOOKUP(4,GEfectos!$J$4:$P$4,GEfectos!J148:P148),IF(EFECTOS!$N$9=\"NICARAGUA\",LOOKUP(5,GEfectos!$J$4:$P$4,GEfectos!J148:P148),IF(EFECTOS!$N$9=\"REPÚBLICA \nDOMINICANA\",LOOKUP(6,$J$4:$P$4,J148:P148),IF(EFECTOS!$N$9=\"PANAMÁ\",LOOKUP(7,GEfectos!$J$4:$P$4,GEfectos!J148:P148))))))))","v":205.80861759747938},{"$f":"IF(EFECTOS!$N$9=\"COSTA RICA\",LOOKUP(1,GEfectos!$Q$4:$W$4,GEfectos!Q148:W148),IF(EFECTOS!$N$9=\"EL SALVADOR\",LOOKUP(2,GEfectos!$Q$4:$W$4,GEfectos!Q148:W148),IF(EFECTOS!$N$9=\"GUATEMALA\",LOOKUP(3,GEfectos!$Q$4:$W$4,GEfectos!Q148:W148),IF(EFECTOS!$N$9=\"HONDURAS\",LOOKUP(4,GEfectos!$Q$4:$W$4,GEfectos!Q148:W148),IF(EFECTOS!$N$9=\"NICARAGUA\",LOOKUP(5,GEfectos!$Q$4:$W$4,GEfectos!Q148:W148),IF(EFECTOS!$N$9=\"REPÚBLICA \nDOMINICANA\",LOOKUP(6,$Q$4:$W$4,Q148:W148),IF(EFECTOS!$N$9=\"PANAMÁ\",LOOKUP(7,GEfectos!$Q$4:$W$4,GEfectos!Q148:W148))))))))","v":193.2218149778474},100]
[null,{"$f":"'ITCER GLOBAL'!B149","v":"Diciembre"},{"$f":"'ITCER GLOBAL'!C149","v":105.52454904419379},{"$f":"'ITCER GLOBAL'!D149","v":100.16710902002549},{"$f":"'ITCER GLOBAL'!E149","v":76.953066201512598},{"$f":"'ITCER GLOBAL'!F149","v":99.98566916864705},{"$f":"'ITCER GLOBAL'!G149","v":112.61996277809418},{"$f":"'ITCER GLOBAL'!H149","v":104.81215040457343},{"$f":"'ITCER GLOBAL'!I149","v":111.51047572754635},{"$f":"'ITCER GLOBAL'!S149","v":168.01203907096223},{"$f":"'ITCER GLOBAL'!T149","v":98.252022070759907},{"$f":"'ITCER GLOBAL'!U149","v":97.593027268111612},{"$f":"'ITCER GLOBAL'!V149","v":126.54806730986445},{"$f":"'ITCER GLOBAL'!W149","v":133.29548782604735},{"$f":"'ITCER GLOBAL'!X149","v":203.49746638235149},{"$f":"'ITCER GLOBAL'!Y149","v":99.688967219653932},{"$f":"'ITCER GLOBAL'!AA149","v":159.21606923958387},{"$f":"'ITCER GLOBAL'!AB149","v":98.088107994728375},{"$f":"'ITCER GLOBAL'!AC149","v":126.82149274279773},{"$f":"'ITCER GLOBAL'!AD149","v":126.56620529929572},{"$f":"'ITCER GLOBAL'!AE149","v":118.35866798206294},{"$f":"'ITCER GLOBAL'!AF149","v":194.15446166961954},{"$f":"'ITCER GLOBAL'!AG149","v":89.398746233693856},null,{"$f":"IF(EFECTOS!$N$9=\"COSTA RICA\",LOOKUP(1,GEfectos!$C$4:$I$4,GEfectos!C149:I149),IF(EFECTOS!$N$9=\"EL SALVADOR\",LOOKUP(2,GEfectos!$C$4:$I$4,GEfectos!C149:I149),IF(EFECTOS!$N$9=\"GUATEMALA\",LOOKUP(3,GEfectos!$C$4:$I$4,GEfectos!C149:I149),IF(EFECTOS!$N$9=\"HONDURAS\",LOOKUP(4,GEfectos!$C$4:$I$4,GEfectos!C149:I149),IF(EFECTOS!$N$9=\"NICARAGUA\",LOOKUP(5,GEfectos!$C$4:$I$4,GEfectos!C149:I149),IF(EFECTOS!$N$9=\"REPÚBLICA \nDOMINICANA\",LOOKUP(6,$C$4:$I$4,C149:I149),IF(EFECTOS!$N$9=\"PANAMÁ\",LOOKUP(7,GEfectos!$C$4:$I$4,GEfectos!C149:I149))))))))","v":104.81215040457343},{"$f":"IF(EFECTOS!$N$9=\"COSTA RICA\",LOOKUP(1,GEfectos!$J$4:$P$4,GEfectos!J149:P149),IF(EFECTOS!$N$9=\"EL SALVADOR\",LOOKUP(2,GEfectos!$J$4:$P$4,GEfectos!J149:P149),IF(EFECTOS!$N$9=\"GUATEMALA\",LOOKUP(3,GEfectos!$J$4:$P$4,GEfectos!J149:P149),IF(EFECTOS!$N$9=\"HONDURAS\",LOOKUP(4,GEfectos!$J$4:$P$4,GEfectos!J149:P149),IF(EFECTOS!$N$9=\"NICARAGUA\",LOOKUP(5,GEfectos!$J$4:$P$4,GEfectos!J149:P149),IF(EFECTOS!$N$9=\"REPÚBLICA \nDOMINICANA\",LOOKUP(6,$J$4:$P$4,J149:P149),IF(EFECTOS!$N$9=\"PANAMÁ\",LOOKUP(7,GEfectos!$J$4:$P$4,GEfectos!J149:P149))))))))","v":203.49746638235149},{"$f":"IF(EFECTOS!$N$9=\"COSTA RICA\",LOOKUP(1,GEfectos!$Q$4:$W$4,GEfectos!Q149:W149),IF(EFECTOS!$N$9=\"EL SALVADOR\",LOOKUP(2,GEfectos!$Q$4:$W$4,GEfectos!Q149:W149),IF(EFECTOS!$N$9=\"GUATEMALA\",LOOKUP(3,GEfectos!$Q$4:$W$4,GEfectos!Q149:W149),IF(EFECTOS!$N$9=\"HONDURAS\",LOOKUP(4,GEfectos!$Q$4:$W$4,GEfectos!Q149:W149),IF(EFECTOS!$N$9=\"NICARAGUA\",LOOKUP(5,GEfectos!$Q$4:$W$4,GEfectos!Q149:W149),IF(EFECTOS!$N$9=\"REPÚBLICA \nDOMINICANA\",LOOKUP(6,$Q$4:$W$4,Q149:W149),IF(EFECTOS!$N$9=\"PANAMÁ\",LOOKUP(7,GEfectos!$Q$4:$W$4,GEfectos!Q149:W149))))))))","v":194.15446166961954},100]
[2007,{"$f":"'ITCER GLOBAL'!B150","v":"Enero"},{"$f":"'ITCER GLOBAL'!C150","v":105.18678645575156},{"$f":"'ITCER GLOBAL'!D150","v":99.726946142591288},{"$f":"'ITCER GLOBAL'!E150","v":76.951502339953976},{"$f":"'ITCER GLOBAL'!F150","v":98.861265822646516},{"$f":"'ITCER GLOBAL'!G150","v":112.09015609705216},{"$f":"'ITCER GLOBAL'!H150","v":109.29286454563982},{"$f":"'ITCER GLOBAL'!I150","v":111.8036177775422},{"$f":"'ITCER GLOBAL'!S150","v":168.80882107667861},{"$f":"'ITCER GLOBAL'!T150","v":97.790544040625548},{"$f":"'ITCER GLOBAL'!U150","v":98.184238308580802},{"$f":"'ITCER GLOBAL'!V150","v":124.58841283586824},{"$f":"'ITCER GLOBAL'!W150","v":133.13782004614151},{"$f":"'ITCER GLOBAL'!X150","v":206.40993118170584},{"$f":"'ITCER GLOBAL'!Y150","v":99.755170092841922},{"$f":"'ITCER GLOBAL'!AA150","v":160.48481635827011},{"$f":"'ITCER GLOBAL'!AB150","v":98.058296000363796},{"$f":"'ITCER GLOBAL'!AC150","v":127.59236054265128},{"$f":"'ITCER GLOBAL'!AD150","v":126.02348533486844},{"$f":"'ITCER GLOBAL'!AE150","v":118.77744191101442},{"$f":"'ITCER GLOBAL'!AF150","v":188.85947590431277},{"$f":"'ITCER GLOBAL'!AG150","v":89.223561880910424},null,{"$f":"IF(EFECTOS!$N$9=\"COSTA RICA\",LOOKUP(1,GEfectos!$C$4:$I$4,GEfectos!C150:I150),IF(EFECTOS!$N$9=\"EL SALVADOR\",LOOKUP(2,GEfectos!$C$4:$I$4,GEfectos!C150:I150),IF(EFECTOS!$N$9=\"GUATEMALA\",LOOKUP(3,GEfectos!$C$4:$I$4,GEfectos!C150:I150),IF(EFECTOS!$N$9=\"HONDURAS\",LOOKUP(4,GEfectos!$C$4:$I$4,GEfectos!C150:I150),IF(EFECTOS!$N$9=\"NICARAGUA\",LOOKUP(5,GEfectos!$C$4:$I$4,GEfectos!C150:I150),IF(EFECTOS!$N$9=\"REPÚBLICA \nDOMINICANA\",LOOKUP(6,$C$4:$I$4,C150:I150),IF(EFECTOS!$N$9=\"PANAMÁ\",LOOKUP(7,GEfectos!$C$4:$I$4,GEfectos!C150:I150))))))))","v":109.29286454563982},{"$f":"IF(EFECTOS!$N$9=\"COSTA RICA\",LOOKUP(1,GEfectos!$J$4:$P$4,GEfectos!J150:P150),IF(EFECTOS!$N$9=\"EL SALVADOR\",LOOKUP(2,GEfectos!$J$4:$P$4,GEfectos!J150:P150),IF(EFECTOS!$N$9=\"GUATEMALA\",LOOKUP(3,GEfectos!$J$4:$P$4,GEfectos!J150:P150),IF(EFECTOS!$N$9=\"HONDURAS\",LOOKUP(4,GEfectos!$J$4:$P$4,GEfectos!J150:P150),IF(EFECTOS!$N$9=\"NICARAGUA\",LOOKUP(5,GEfectos!$J$4:$P$4,GEfectos!J150:P150),IF(EFECTOS!$N$9=\"REPÚBLICA \nDOMINICANA\",LOOKUP(6,$J$4:$P$4,J150:P150),IF(EFECTOS!$N$9=\"PANAMÁ\",LOOKUP(7,GEfectos!$J$4:$P$4,GEfectos!J150:P150))))))))","v":206.40993118170584},{"$f":"IF(EFECTOS!$N$9=\"COSTA RICA\",LOOKUP(1,GEfectos!$Q$4:$W$4,GEfectos!Q150:W150),IF(EFECTOS!$N$9=\"EL SALVADOR\",LOOKUP(2,GEfectos!$Q$4:$W$4,GEfectos!Q150:W150),IF(EFECTOS!$N$9=\"GUATEMALA\",LOOKUP(3,GEfectos!$Q$4:$W$4,GEfectos!Q150:W150),IF(EFECTOS!$N$9=\"HONDURAS\",LOOKUP(4,GEfectos!$Q$4:$W$4,GEfectos!Q150:W150),IF(EFECTOS!$N$9=\"NICARAGUA\",LOOKUP(5,GEfectos!$Q$4:$W$4,GEfectos!Q150:W150),IF(EFECTOS!$N$9=\"REPÚBLICA \nDOMINICANA\",LOOKUP(6,$Q$4:$W$4,Q150:W150),IF(EFECTOS!$N$9=\"PANAMÁ\",LOOKUP(7,GEfectos!$Q$4:$W$4,GEfectos!Q150:W150))))))))","v":188.85947590431277},100]
[null,{"$f":"'ITCER GLOBAL'!B151","v":"Febrero"},{"$f":"'ITCER GLOBAL'!C151","v":105.74659624005483},{"$f":"'ITCER GLOBAL'!D151","v":100.54673953846321},{"$f":"'ITCER GLOBAL'!E151","v":77.277694631971173},{"$f":"'ITCER GLOBAL'!F151","v":98.443368321800477},{"$f":"'ITCER GLOBAL'!G151","v":111.84928692798812},{"$f":"'ITCER GLOBAL'!H151","v":108.5540638604654},{"$f":"'ITCER GLOBAL'!I151","v":112.20148567846937},{"$f":"'ITCER GLOBAL'!S151","v":169.45783673481259},{"$f":"'ITCER GLOBAL'!T151","v":97.859360859547266},{"$f":"'ITCER GLOBAL'!U151","v":98.488379523219422},{"$f":"'ITCER GLOBAL'!V151","v":124.67882449023607},{"$f":"'ITCER GLOBAL'!W151","v":133.89478045988929},{"$f":"'ITCER GLOBAL'!X151","v":204.57110796644224},{"$f":"'ITCER GLOBAL'!Y151","v":99.922265991405752},{"$f":"'ITCER GLOBAL'!AA151","v":160.24897515389259},{"$f":"'ITCER GLOBAL'!AB151","v":97.327234387458262},{"$f":"'ITCER GLOBAL'!AC151","v":127.44735721253386},{"$f":"'ITCER GLOBAL'!AD151","v":126.65030323086346},{"$f":"'ITCER GLOBAL'!AE151","v":119.70999917602936},{"$f":"'ITCER GLOBAL'!AF151","v":188.45089782119669},{"$f":"'ITCER GLOBAL'!AG151","v":89.056098845026341},null,{"$f":"IF(EFECTOS!$N$9=\"COSTA RICA\",LOOKUP(1,GEfectos!$C$4:$I$4,GEfectos!C151:I151),IF(EFECTOS!$N$9=\"EL SALVADOR\",LOOKUP(2,GEfectos!$C$4:$I$4,GEfectos!C151:I151),IF(EFECTOS!$N$9=\"GUATEMALA\",LOOKUP(3,GEfectos!$C$4:$I$4,GEfectos!C151:I151),IF(EFECTOS!$N$9=\"HONDURAS\",LOOKUP(4,GEfectos!$C$4:$I$4,GEfectos!C151:I151),IF(EFECTOS!$N$9=\"NICARAGUA\",LOOKUP(5,GEfectos!$C$4:$I$4,GEfectos!C151:I151),IF(EFECTOS!$N$9=\"REPÚBLICA \nDOMINICANA\",LOOKUP(6,$C$4:$I$4,C151:I151),IF(EFECTOS!$N$9=\"PANAMÁ\",LOOKUP(7,GEfectos!$C$4:$I$4,GEfectos!C151:I151))))))))","v":108.5540638604654},{"$f":"IF(EFECTOS!$N$9=\"COSTA RICA\",LOOKUP(1,GEfectos!$J$4:$P$4,GEfectos!J151:P151),IF(EFECTOS!$N$9=\"EL SALVADOR\",LOOKUP(2,GEfectos!$J$4:$P$4,GEfectos!J151:P151),IF(EFECTOS!$N$9=\"GUATEMALA\",LOOKUP(3,GEfectos!$J$4:$P$4,GEfectos!J151:P151),IF(EFECTOS!$N$9=\"HONDURAS\",LOOKUP(4,GEfectos!$J$4:$P$4,GEfectos!J151:P151),IF(EFECTOS!$N$9=\"NICARAGUA\",LOOKUP(5,GEfectos!$J$4:$P$4,GEfectos!J151:P151),IF(EFECTOS!$N$9=\"REPÚBLICA \nDOMINICANA\",LOOKUP(6,$J$4:$P$4,J151:P151),IF(EFECTOS!$N$9=\"PANAMÁ\",LOOKUP(7,GEfectos!$J$4:$P$4,GEfectos!J151:P151))))))))","v":204.57110796644224},{"$f":"IF(EFECTOS!$N$9=\"COSTA RICA\",LOOKUP(1,GEfectos!$Q$4:$W$4,GEfectos!Q151:W151),IF(EFECTOS!$N$9=\"EL SALVADOR\",LOOKUP(2,GEfectos!$Q$4:$W$4,GEfectos!Q151:W151),IF(EFECTOS!$N$9=\"GUATEMALA\",LOOKUP(3,GEfectos!$Q$4:$W$4,GEfectos!Q151:W151),IF(EFECTOS!$N$9=\"HONDURAS\",LOOKUP(4,GEfectos!$Q$4:$W$4,GEfectos!Q151:W151),IF(EFECTOS!$N$9=\"NICARAGUA\",LOOKUP(5,GEfectos!$Q$4:$W$4,GEfectos!Q151:W151),IF(EFECTOS!$N$9=\"REPÚBLICA \nDOMINICANA\",LOOKUP(6,$Q$4:$W$4,Q151:W151),IF(EFECTOS!$N$9=\"PANAMÁ\",LOOKUP(7,GEfectos!$Q$4:$W$4,GEfectos!Q151:W151))))))))","v":188.45089782119669},100]
[null,{"$f":"'ITCER GLOBAL'!B152","v":"Marzo"},{"$f":"'ITCER GLOBAL'!C152","v":105.93768253515798},{"$f":"'ITCER GLOBAL'!D152","v":100.75169559306984},{"$f":"'ITCER GLOBAL'!E152","v":77.184327162664943},{"$f":"'ITCER GLOBAL'!F152","v":98.65666053231115},{"$f":"'ITCER GLOBAL'!G152","v":111.72252178724484},{"$f":"'ITCER GLOBAL'!H152","v":106.89948466489896},{"$f":"'ITCER GLOBAL'!I152","v":112.40300431579409},{"$f":"'ITCER GLOBAL'!S152","v":169.85472171972177},{"$f":"'ITCER GLOBAL'!T152","v":97.940845921663097},{"$f":"'ITCER GLOBAL'!U152","v":98.524777869715265},{"$f":"'ITCER GLOBAL'!V152","v":124.882619239744},{"$f":"'ITCER GLOBAL'!W152","v":134.40604911428255},{"$f":"'ITCER GLOBAL'!X152","v":201.48121144619205},{"$f":"'ITCER GLOBAL'!Y152","v":100.23804952878221},{"$f":"'ITCER GLOBAL'!AA152","v":160.33456429760147},{"$f":"'ITCER GLOBAL'!AB152","v":97.210121720670983},{"$f":"'ITCER GLOBAL'!AC152","v":127.64868399004838},{"$f":"'ITCER GLOBAL'!AD152","v":126.5830594365634},{"$f":"'ITCER GLOBAL'!AE152","v":120.30345087468967},{"$f":"'ITCER GLOBAL'!AF152","v":188.47725232519247},{"$f":"'ITCER GLOBAL'!AG152","v":89.177375764054602},null,{"$f":"IF(EFECTOS!$N$9=\"COSTA RICA\",LOOKUP(1,GEfectos!$C$4:$I$4,GEfectos!C152:I152),IF(EFECTOS!$N$9=\"EL SALVADOR\",LOOKUP(2,GEfectos!$C$4:$I$4,GEfectos!C152:I152),IF(EFECTOS!$N$9=\"GUATEMALA\",LOOKUP(3,GEfectos!$C$4:$I$4,GEfectos!C152:I152),IF(EFECTOS!$N$9=\"HONDURAS\",LOOKUP(4,GEfectos!$C$4:$I$4,GEfectos!C152:I152),IF(EFECTOS!$N$9=\"NICARAGUA\",LOOKUP(5,GEfectos!$C$4:$I$4,GEfectos!C152:I152),IF(EFECTOS!$N$9=\"REPÚBLICA \nDOMINICANA\",LOOKUP(6,$C$4:$I$4,C152:I152),IF(EFECTOS!$N$9=\"PANAMÁ\",LOOKUP(7,GEfectos!$C$4:$I$4,GEfectos!C152:I152))))))))","v":106.89948466489896},{"$f":"IF(EFECTOS!$N$9=\"COSTA RICA\",LOOKUP(1,GEfectos!$J$4:$P$4,GEfectos!J152:P152),IF(EFECTOS!$N$9=\"EL SALVADOR\",LOOKUP(2,GEfectos!$J$4:$P$4,GEfectos!J152:P152),IF(EFECTOS!$N$9=\"GUATEMALA\",LOOKUP(3,GEfectos!$J$4:$P$4,GEfectos!J152:P152),IF(EFECTOS!$N$9=\"HONDURAS\",LOOKUP(4,GEfectos!$J$4:$P$4,GEfectos!J152:P152),IF(EFECTOS!$N$9=\"NICARAGUA\",LOOKUP(5,GEfectos!$J$4:$P$4,GEfectos!J152:P152),IF(EFECTOS!$N$9=\"REPÚBLICA \nDOMINICANA\",LOOKUP(6,$J$4:$P$4,J152:P152),IF(EFECTOS!$N$9=\"PANAMÁ\",LOOKUP(7,GEfectos!$J$4:$P$4,GEfectos!J152:P152))))))))","v":201.48121144619205},{"$f":"IF(EFECTOS!$N$9=\"COSTA RICA\",LOOKUP(1,GEfectos!$Q$4:$W$4,GEfectos!Q152:W152),IF(EFECTOS!$N$9=\"EL SALVADOR\",LOOKUP(2,GEfectos!$Q$4:$W$4,GEfectos!Q152:W152),IF(EFECTOS!$N$9=\"GUATEMALA\",LOOKUP(3,GEfectos!$Q$4:$W$4,GEfectos!Q152:W152),IF(EFECTOS!$N$9=\"HONDURAS\",LOOKUP(4,GEfectos!$Q$4:$W$4,GEfectos!Q152:W152),IF(EFECTOS!$N$9=\"NICARAGUA\",LOOKUP(5,GEfectos!$Q$4:$W$4,GEfectos!Q152:W152),IF(EFECTOS!$N$9=\"REPÚBLICA \nDOMINICANA\",LOOKUP(6,$Q$4:$W$4,Q152:W152),IF(EFECTOS!$N$9=\"PANAMÁ\",LOOKUP(7,GEfectos!$Q$4:$W$4,GEfectos!Q152:W152))))))))","v":188.47725232519247},100]
[null,{"$f":"'ITCER GLOBAL'!B153","v":"Abril"},{"$f":"'ITCER GLOBAL'!C153","v":105.9765293791332},{"$f":"'ITCER GLOBAL'!D153","v":101.58083127347858},{"$f":"'ITCER GLOBAL'!E153","v":77.378248405509026},{"$f":"'ITCER GLOBAL'!F153","v":98.992604537326585},{"$f":"'ITCER GLOBAL'!G153","v":111.74615767867338},{"$f":"'ITCER GLOBAL'!H153","v":105.29700412155809},{"$f":"'ITCER GLOBAL'!I153","v":112.88798914162828},{"$f":"'ITCER GLOBAL'!S153","v":170.64318888091316},{"$f":"'ITCER GLOBAL'!T153","v":98.316684322464027},{"$f":"'ITCER GLOBAL'!U153","v":98.527654219058689},{"$f":"'ITCER GLOBAL'!V153","v":125.37611681050112},{"$f":"'ITCER GLOBAL'!W153","v":135.21792312522936},{"$f":"'ITCER GLOBAL'!X153","v":198.92855176526356},{"$f":"'ITCER GLOBAL'!Y153","v":100.78286336363635},{"$f":"'ITCER GLOBAL'!AA153","v":161.01979360961491},{"$f":"'ITCER GLOBAL'!AB153","v":96.786650679962705},{"$f":"'ITCER GLOBAL'!AC153","v":127.33249491861581},{"$f":"'ITCER GLOBAL'!AD153","v":126.65200334558958},{"$f":"'ITCER GLOBAL'!AE153","v":121.00453915744392},{"$f":"'ITCER GLOBAL'!AF153","v":188.92137855661531},{"$f":"'ITCER GLOBAL'!AG153","v":89.276870046108328},null,{"$f":"IF(EFECTOS!$N$9=\"COSTA RICA\",LOOKUP(1,GEfectos!$C$4:$I$4,GEfectos!C153:I153),IF(EFECTOS!$N$9=\"EL SALVADOR\",LOOKUP(2,GEfectos!$C$4:$I$4,GEfectos!C153:I153),IF(EFECTOS!$N$9=\"GUATEMALA\",LOOKUP(3,GEfectos!$C$4:$I$4,GEfectos!C153:I153),IF(EFECTOS!$N$9=\"HONDURAS\",LOOKUP(4,GEfectos!$C$4:$I$4,GEfectos!C153:I153),IF(EFECTOS!$N$9=\"NICARAGUA\",LOOKUP(5,GEfectos!$C$4:$I$4,GEfectos!C153:I153),IF(EFECTOS!$N$9=\"REPÚBLICA \nDOMINICANA\",LOOKUP(6,$C$4:$I$4,C153:I153),IF(EFECTOS!$N$9=\"PANAMÁ\",LOOKUP(7,GEfectos!$C$4:$I$4,GEfectos!C153:I153))))))))","v":105.29700412155809},{"$f":"IF(EFECTOS!$N$9=\"COSTA RICA\",LOOKUP(1,GEfectos!$J$4:$P$4,GEfectos!J153:P153),IF(EFECTOS!$N$9=\"EL SALVADOR\",LOOKUP(2,GEfectos!$J$4:$P$4,GEfectos!J153:P153),IF(EFECTOS!$N$9=\"GUATEMALA\",LOOKUP(3,GEfectos!$J$4:$P$4,GEfectos!J153:P153),IF(EFECTOS!$N$9=\"HONDURAS\",LOOKUP(4,GEfectos!$J$4:$P$4,GEfectos!J153:P153),IF(EFECTOS!$N$9=\"NICARAGUA\",LOOKUP(5,GEfectos!$J$4:$P$4,GEfectos!J153:P153),IF(EFECTOS!$N$9=\"REPÚBLICA \nDOMINICANA\",LOOKUP(6,$J$4:$P$4,J153:P153),IF(EFECTOS!$N$9=\"PANAMÁ\",LOOKUP(7,GEfectos!$J$4:$P$4,GEfectos!J153:P153))))))))","v":198.92855176526356},{"$f":"IF(EFECTOS!$N$9=\"COSTA RICA\",LOOKUP(1,GEfectos!$Q$4:$W$4,GEfectos!Q153:W153),IF(EFECTOS!$N$9=\"EL SALVADOR\",LOOKUP(2,GEfectos!$Q$4:$W$4,GEfectos!Q153:W153),IF(EFECTOS!$N$9=\"GUATEMALA\",LOOKUP(3,GEfectos!$Q$4:$W$4,GEfectos!Q153:W153),IF(EFECTOS!$N$9=\"HONDURAS\",LOOKUP(4,GEfectos!$Q$4:$W$4,GEfectos!Q153:W153),IF(EFECTOS!$N$9=\"NICARAGUA\",LOOKUP(5,GEfectos!$Q$4:$W$4,GEfectos!Q153:W153),IF(EFECTOS!$N$9=\"REPÚBLICA \nDOMINICANA\",LOOKUP(6,$Q$4:$W$4,Q153:W153),IF(EFECTOS!$N$9=\"PANAMÁ\",LOOKUP(7,GEfectos!$Q$4:$W$4,GEfectos!Q153:W153))))))))","v":188.92137855661531},100]
[null,{"$f":"'ITCER GLOBAL'!B154","v":"Mayo"},{"$f":"'ITCER GLOBAL'!C154","v":105.62282479680339},{"$f":"'ITCER GLOBAL'!D154","v":102.6799756878397},{"$f":"'ITCER GLOBAL'!E154","v":77.929950960389107},{"$f":"'ITCER GLOBAL'!F154","v":99.158060839040715},{"$f":"'ITCER GLOBAL'!G154","v":111.81737882508763},{"$f":"'ITCER GLOBAL'!H154","v":104.85743476343767},{"$f":"'ITCER GLOBAL'!I154","v":113.27112071912195},{"$f":"'ITCER GLOBAL'!S154","v":171.17294006902355},{"$f":"'ITCER GLOBAL'!T154","v":98.591034427268553},{"$f":"'ITCER GLOBAL'!U154","v":98.607616434090701},{"$f":"'ITCER GLOBAL'!V154","v":125.64291449308465},{"$f":"'ITCER GLOBAL'!W154","v":135.97195610623737},{"$f":"'ITCER GLOBAL'!X154","v":199.22183489458104},{"$f":"'ITCER GLOBAL'!Y154","v":101.25669932567747},{"$f":"'ITCER GLOBAL'!AA154","v":162.06055878388514},{"$f":"'ITCER GLOBAL'!AB154","v":96.017781234189172},{"$f":"'ITCER GLOBAL'!AC154","v":126.53365646824521},{"$f":"'ITCER GLOBAL'!AD154","v":126.709733358981},{"$f":"'ITCER GLOBAL'!AE154","v":121.60180960683577},{"$f":"'ITCER GLOBAL'!AF154","v":189.99304660087577},{"$f":"'ITCER GLOBAL'!AG154","v":89.393217514606732},null,{"$f":"IF(EFECTOS!$N$9=\"COSTA RICA\",LOOKUP(1,GEfectos!$C$4:$I$4,GEfectos!C154:I154),IF(EFECTOS!$N$9=\"EL SALVADOR\",LOOKUP(2,GEfectos!$C$4:$I$4,GEfectos!C154:I154),IF(EFECTOS!$N$9=\"GUATEMALA\",LOOKUP(3,GEfectos!$C$4:$I$4,GEfectos!C154:I154),IF(EFECTOS!$N$9=\"HONDURAS\",LOOKUP(4,GEfectos!$C$4:$I$4,GEfectos!C154:I154),IF(EFECTOS!$N$9=\"NICARAGUA\",LOOKUP(5,GEfectos!$C$4:$I$4,GEfectos!C154:I154),IF(EFECTOS!$N$9=\"REPÚBLICA \nDOMINICANA\",LOOKUP(6,$C$4:$I$4,C154:I154),IF(EFECTOS!$N$9=\"PANAMÁ\",LOOKUP(7,GEfectos!$C$4:$I$4,GEfectos!C154:I154))))))))","v":104.85743476343767},{"$f":"IF(EFECTOS!$N$9=\"COSTA RICA\",LOOKUP(1,GEfectos!$J$4:$P$4,GEfectos!J154:P154),IF(EFECTOS!$N$9=\"EL SALVADOR\",LOOKUP(2,GEfectos!$J$4:$P$4,GEfectos!J154:P154),IF(EFECTOS!$N$9=\"GUATEMALA\",LOOKUP(3,GEfectos!$J$4:$P$4,GEfectos!J154:P154),IF(EFECTOS!$N$9=\"HONDURAS\",LOOKUP(4,GEfectos!$J$4:$P$4,GEfectos!J154:P154),IF(EFECTOS!$N$9=\"NICARAGUA\",LOOKUP(5,GEfectos!$J$4:$P$4,GEfectos!J154:P154),IF(EFECTOS!$N$9=\"REPÚBLICA \nDOMINICANA\",LOOKUP(6,$J$4:$P$4,J154:P154),IF(EFECTOS!$N$9=\"PANAMÁ\",LOOKUP(7,GEfectos!$J$4:$P$4,GEfectos!J154:P154))))))))","v":199.22183489458104},{"$f":"IF(EFECTOS!$N$9=\"COSTA RICA\",LOOKUP(1,GEfectos!$Q$4:$W$4,GEfectos!Q154:W154),IF(EFECTOS!$N$9=\"EL SALVADOR\",LOOKUP(2,GEfectos!$Q$4:$W$4,GEfectos!Q154:W154),IF(EFECTOS!$N$9=\"GUATEMALA\",LOOKUP(3,GEfectos!$Q$4:$W$4,GEfectos!Q154:W154),IF(EFECTOS!$N$9=\"HONDURAS\",LOOKUP(4,GEfectos!$Q$4:$W$4,GEfectos!Q154:W154),IF(EFECTOS!$N$9=\"NICARAGUA\",LOOKUP(5,GEfectos!$Q$4:$W$4,GEfectos!Q154:W154),IF(EFECTOS!$N$9=\"REPÚBLICA \nDOMINICANA\",LOOKUP(6,$Q$4:$W$4,Q154:W154),IF(EFECTOS!$N$9=\"PANAMÁ\",LOOKUP(7,GEfectos!$Q$4:$W$4,GEfectos!Q154:W154))))))))","v":189.99304660087577},100]
[null,{"$f":"'ITCER GLOBAL'!B155","v":"Junio"},{"$f":"'ITCER GLOBAL'!C155","v":105.29017445903794},{"$f":"'ITCER GLOBAL'!D155","v":102.31259212452817},{"$f":"'ITCER GLOBAL'!E155","v":78.20885627145762},{"$f":"'ITCER GLOBAL'!F155","v":99.018499343269085},{"$f":"'ITCER GLOBAL'!G155","v":111.23658691166197},{"$f":"'ITCER GLOBAL'!H155","v":105.77154543012655},{"$f":"'ITCER GLOBAL'!I155","v":113.17828036991868},{"$f":"'ITCER GLOBAL'!S155","v":171.21888391788212},{"$f":"'ITCER GLOBAL'!T155","v":98.620975683683668},{"$f":"'ITCER GLOBAL'!U155","v":99.151132533058743},{"$f":"'ITCER GLOBAL'!V155","v":125.60082004188855},{"$f":"'ITCER GLOBAL'!W155","v":136.2496698934028},{"$f":"'ITCER GLOBAL'!X155","v":201.36849830891555},{"$f":"'ITCER GLOBAL'!Y155","v":101.42023755262871},{"$f":"'ITCER GLOBAL'!AA155","v":162.61620307647325},{"$f":"'ITCER GLOBAL'!AB155","v":96.3918259090227},{"$f":"'ITCER GLOBAL'!AC155","v":126.77737184764844},{"$f":"'ITCER GLOBAL'!AD155","v":126.84581252485567},{"$f":"'ITCER GLOBAL'!AE155","v":122.48638121340854},{"$f":"'ITCER GLOBAL'!AF155","v":190.38059573587398},{"$f":"'ITCER GLOBAL'!AG155","v":89.611043056265487},null,{"$f":"IF(EFECTOS!$N$9=\"COSTA RICA\",LOOKUP(1,GEfectos!$C$4:$I$4,GEfectos!C155:I155),IF(EFECTOS!$N$9=\"EL SALVADOR\",LOOKUP(2,GEfectos!$C$4:$I$4,GEfectos!C155:I155),IF(EFECTOS!$N$9=\"GUATEMALA\",LOOKUP(3,GEfectos!$C$4:$I$4,GEfectos!C155:I155),IF(EFECTOS!$N$9=\"HONDURAS\",LOOKUP(4,GEfectos!$C$4:$I$4,GEfectos!C155:I155),IF(EFECTOS!$N$9=\"NICARAGUA\",LOOKUP(5,GEfectos!$C$4:$I$4,GEfectos!C155:I155),IF(EFECTOS!$N$9=\"REPÚBLICA \nDOMINICANA\",LOOKUP(6,$C$4:$I$4,C155:I155),IF(EFECTOS!$N$9=\"PANAMÁ\",LOOKUP(7,GEfectos!$C$4:$I$4,GEfectos!C155:I155))))))))","v":105.77154543012655},{"$f":"IF(EFECTOS!$N$9=\"COSTA RICA\",LOOKUP(1,GEfectos!$J$4:$P$4,GEfectos!J155:P155),IF(EFECTOS!$N$9=\"EL SALVADOR\",LOOKUP(2,GEfectos!$J$4:$P$4,GEfectos!J155:P155),IF(EFECTOS!$N$9=\"GUATEMALA\",LOOKUP(3,GEfectos!$J$4:$P$4,GEfectos!J155:P155),IF(EFECTOS!$N$9=\"HONDURAS\",LOOKUP(4,GEfectos!$J$4:$P$4,GEfectos!J155:P155),IF(EFECTOS!$N$9=\"NICARAGUA\",LOOKUP(5,GEfectos!$J$4:$P$4,GEfectos!J155:P155),IF(EFECTOS!$N$9=\"REPÚBLICA \nDOMINICANA\",LOOKUP(6,$J$4:$P$4,J155:P155),IF(EFECTOS!$N$9=\"PANAMÁ\",LOOKUP(7,GEfectos!$J$4:$P$4,GEfectos!J155:P155))))))))","v":201.36849830891555},{"$f":"IF(EFECTOS!$N$9=\"COSTA RICA\",LOOKUP(1,GEfectos!$Q$4:$W$4,GEfectos!Q155:W155),IF(EFECTOS!$N$9=\"EL SALVADOR\",LOOKUP(2,GEfectos!$Q$4:$W$4,GEfectos!Q155:W155),IF(EFECTOS!$N$9=\"GUATEMALA\",LOOKUP(3,GEfectos!$Q$4:$W$4,GEfectos!Q155:W155),IF(EFECTOS!$N$9=\"HONDURAS\",LOOKUP(4,GEfectos!$Q$4:$W$4,GEfectos!Q155:W155),IF(EFECTOS!$N$9=\"NICARAGUA\",LOOKUP(5,GEfectos!$Q$4:$W$4,GEfectos!Q155:W155),IF(EFECTOS!$N$9=\"REPÚBLICA \nDOMINICANA\",LOOKUP(6,$Q$4:$W$4,Q155:W155),IF(EFECTOS!$N$9=\"PANAMÁ\",LOOKUP(7,GEfectos!$Q$4:$W$4,GEfectos!Q155:W155))))))))","v":190.38059573587398},100]
[null,{"$f":"'ITCER GLOBAL'!B156","v":"Julio"},{"$f":"'ITCER GLOBAL'!C156","v":104.98379256710899},{"$f":"'ITCER GLOBAL'!D156","v":102.13033922152911},{"$f":"'ITCER GLOBAL'!E156","v":78.081835372043798},{"$f":"'ITCER GLOBAL'!F156","v":98.895454208730101},{"$f":"'ITCER GLOBAL'!G156","v":111.60799134410999},{"$f":"'ITCER GLOBAL'!H156","v":107.75961372842902},{"$f":"'ITCER GLOBAL'!I156","v":113.34521658032308},{"$f":"'ITCER GLOBAL'!S156","v":172.03417012097896},{"$f":"'ITCER GLOBAL'!T156","v":98.894962219437957},{"$f":"'ITCER GLOBAL'!U156","v":99.463796679828661},{"$f":"'ITCER GLOBAL'!V156","v":126.00836408163157},{"$f":"'ITCER GLOBAL'!W156","v":137.34126794548629},{"$f":"'ITCER GLOBAL'!X156","v":205.57629408376826},{"$f":"'ITCER GLOBAL'!Y156","v":101.85223178370518},{"$f":"'ITCER GLOBAL'!AA156","v":163.86736077476837},{"$f":"'ITCER GLOBAL'!AB156","v":96.832109805223155},{"$f":"'ITCER GLOBAL'!AC156","v":127.38404035446173},{"$f":"'ITCER GLOBAL'!AD156","v":127.41572915543379},{"$f":"'ITCER GLOBAL'!AE156","v":123.05684054651196},{"$f":"'ITCER GLOBAL'!AF156","v":190.77304285987188},{"$f":"'ITCER GLOBAL'!AG156","v":89.860194242539308},null,{"$f":"IF(EFECTOS!$N$9=\"COSTA RICA\",LOOKUP(1,GEfectos!$C$4:$I$4,GEfectos!C156:I156),IF(EFECTOS!$N$9=\"EL SALVADOR\",LOOKUP(2,GEfectos!$C$4:$I$4,GEfectos!C156:I156),IF(EFECTOS!$N$9=\"GUATEMALA\",LOOKUP(3,GEfectos!$C$4:$I$4,GEfectos!C156:I156),IF(EFECTOS!$N$9=\"HONDURAS\",LOOKUP(4,GEfectos!$C$4:$I$4,GEfectos!C156:I156),IF(EFECTOS!$N$9=\"NICARAGUA\",LOOKUP(5,GEfectos!$C$4:$I$4,GEfectos!C156:I156),IF(EFECTOS!$N$9=\"REPÚBLICA \nDOMINICANA\",LOOKUP(6,$C$4:$I$4,C156:I156),IF(EFECTOS!$N$9=\"PANAMÁ\",LOOKUP(7,GEfectos!$C$4:$I$4,GEfectos!C156:I156))))))))","v":107.75961372842902},{"$f":"IF(EFECTOS!$N$9=\"COSTA RICA\",LOOKUP(1,GEfectos!$J$4:$P$4,GEfectos!J156:P156),IF(EFECTOS!$N$9=\"EL SALVADOR\",LOOKUP(2,GEfectos!$J$4:$P$4,GEfectos!J156:P156),IF(EFECTOS!$N$9=\"GUATEMALA\",LOOKUP(3,GEfectos!$J$4:$P$4,GEfectos!J156:P156),IF(EFECTOS!$N$9=\"HONDURAS\",LOOKUP(4,GEfectos!$J$4:$P$4,GEfectos!J156:P156),IF(EFECTOS!$N$9=\"NICARAGUA\",LOOKUP(5,GEfectos!$J$4:$P$4,GEfectos!J156:P156),IF(EFECTOS!$N$9=\"REPÚBLICA \nDOMINICANA\",LOOKUP(6,$J$4:$P$4,J156:P156),IF(EFECTOS!$N$9=\"PANAMÁ\",LOOKUP(7,GEfectos!$J$4:$P$4,GEfectos!J156:P156))))))))","v":205.57629408376826},{"$f":"IF(EFECTOS!$N$9=\"COSTA RICA\",LOOKUP(1,GEfectos!$Q$4:$W$4,GEfectos!Q156:W156),IF(EFECTOS!$N$9=\"EL SALVADOR\",LOOKUP(2,GEfectos!$Q$4:$W$4,GEfectos!Q156:W156),IF(EFECTOS!$N$9=\"GUATEMALA\",LOOKUP(3,GEfectos!$Q$4:$W$4,GEfectos!Q156:W156),IF(EFECTOS!$N$9=\"HONDURAS\",LOOKUP(4,GEfectos!$Q$4:$W$4,GEfectos!Q156:W156),IF(EFECTOS!$N$9=\"NICARAGUA\",LOOKUP(5,GEfectos!$Q$4:$W$4,GEfectos!Q156:W156),IF(EFECTOS!$N$9=\"REPÚBLICA \nDOMINICANA\",LOOKUP(6,$Q$4:$W$4,Q156:W156),IF(EFECTOS!$N$9=\"PANAMÁ\",LOOKUP(7,GEfectos!$Q$4:$W$4,GEfectos!Q156:W156))))))))","v":190.77304285987188},100]
[null,{"$f":"'ITCER GLOBAL'!B157","v":"Agosto"},{"$f":"'ITCER GLOBAL'!C157","v":104.08979343487783},{"$f":"'ITCER GLOBAL'!D157","v":102.19911968834674},{"$f":"'ITCER GLOBAL'!E157","v":76.986516173787237},{"$f":"'ITCER GLOBAL'!F157","v":98.057030150113164},{"$f":"'ITCER GLOBAL'!G157","v":112.14790889917019},{"$f":"'ITCER GLOBAL'!H157","v":107.73916401753581},{"$f":"'ITCER GLOBAL'!I157","v":112.80299205960883},{"$f":"'ITCER GLOBAL'!S157","v":171.52456734877978},{"$f":"'ITCER GLOBAL'!T157","v":98.591014619543245},{"$f":"'ITCER GLOBAL'!U157","v":98.886017758634864},{"$f":"'ITCER GLOBAL'!V157","v":125.69974455399004},{"$f":"'ITCER GLOBAL'!W157","v":138.01137322293425},{"$f":"'ITCER GLOBAL'!X157","v":204.2314352980315},{"$f":"'ITCER GLOBAL'!Y157","v":101.40801061610777},{"$f":"'ITCER GLOBAL'!AA157","v":164.78519333030616},{"$f":"'ITCER GLOBAL'!AB157","v":96.469534101853014},{"$f":"'ITCER GLOBAL'!AC157","v":128.44589244097278},{"$f":"'ITCER GLOBAL'!AD157","v":128.19044627555957},{"$f":"'ITCER GLOBAL'!AE157","v":123.06192293519922},{"$f":"'ITCER GLOBAL'!AF157","v":189.56099869569292},{"$f":"'ITCER GLOBAL'!AG157","v":89.898334046423543},null,{"$f":"IF(EFECTOS!$N$9=\"COSTA RICA\",LOOKUP(1,GEfectos!$C$4:$I$4,GEfectos!C157:I157),IF(EFECTOS!$N$9=\"EL SALVADOR\",LOOKUP(2,GEfectos!$C$4:$I$4,GEfectos!C157:I157),IF(EFECTOS!$N$9=\"GUATEMALA\",LOOKUP(3,GEfectos!$C$4:$I$4,GEfectos!C157:I157),IF(EFECTOS!$N$9=\"HONDURAS\",LOOKUP(4,GEfectos!$C$4:$I$4,GEfectos!C157:I157),IF(EFECTOS!$N$9=\"NICARAGUA\",LOOKUP(5,GEfectos!$C$4:$I$4,GEfectos!C157:I157),IF(EFECTOS!$N$9=\"REPÚBLICA \nDOMINICANA\",LOOKUP(6,$C$4:$I$4,C157:I157),IF(EFECTOS!$N$9=\"PANAMÁ\",LOOKUP(7,GEfectos!$C$4:$I$4,GEfectos!C157:I157))))))))","v":107.73916401753581},{"$f":"IF(EFECTOS!$N$9=\"COSTA RICA\",LOOKUP(1,GEfectos!$J$4:$P$4,GEfectos!J157:P157),IF(EFECTOS!$N$9=\"EL SALVADOR\",LOOKUP(2,GEfectos!$J$4:$P$4,GEfectos!J157:P157),IF(EFECTOS!$N$9=\"GUATEMALA\",LOOKUP(3,GEfectos!$J$4:$P$4,GEfectos!J157:P157),IF(EFECTOS!$N$9=\"HONDURAS\",LOOKUP(4,GEfectos!$J$4:$P$4,GEfectos!J157:P157),IF(EFECTOS!$N$9=\"NICARAGUA\",LOOKUP(5,GEfectos!$J$4:$P$4,GEfectos!J157:P157),IF(EFECTOS!$N$9=\"REPÚBLICA \nDOMINICANA\",LOOKUP(6,$J$4:$P$4,J157:P157),IF(EFECTOS!$N$9=\"PANAMÁ\",LOOKUP(7,GEfectos!$J$4:$P$4,GEfectos!J157:P157))))))))","v":204.2314352980315},{"$f":"IF(EFECTOS!$N$9=\"COSTA RICA\",LOOKUP(1,GEfectos!$Q$4:$W$4,GEfectos!Q157:W157),IF(EFECTOS!$N$9=\"EL SALVADOR\",LOOKUP(2,GEfectos!$Q$4:$W$4,GEfectos!Q157:W157),IF(EFECTOS!$N$9=\"GUATEMALA\",LOOKUP(3,GEfectos!$Q$4:$W$4,GEfectos!Q157:W157),IF(EFECTOS!$N$9=\"HONDURAS\",LOOKUP(4,GEfectos!$Q$4:$W$4,GEfectos!Q157:W157),IF(EFECTOS!$N$9=\"NICARAGUA\",LOOKUP(5,GEfectos!$Q$4:$W$4,GEfectos!Q157:W157),IF(EFECTOS!$N$9=\"REPÚBLICA \nDOMINICANA\",LOOKUP(6,$Q$4:$W$4,Q157:W157),IF(EFECTOS!$N$9=\"PANAMÁ\",LOOKUP(7,GEfectos!$Q$4:$W$4,GEfectos!Q157:W157))))))))","v":189.56099869569292},100]
[null,{"$f":"'ITCER GLOBAL'!B158","v":"Septiembre"},{"$f":"'ITCER GLOBAL'!C158","v":104.25084602008931},{"$f":"'ITCER GLOBAL'!D158","v":102.15318853755721},{"$f":"'ITCER GLOBAL'!E158","v":77.380843216239995},{"$f":"'ITCER GLOBAL'!F158","v":98.369902821649248},{"$f":"'ITCER GLOBAL'!G158","v":112.34667962483881},{"$f":"'ITCER GLOBAL'!H158","v":108.35357690277877},{"$f":"'ITCER GLOBAL'!I158","v":113.03772754758273},{"$f":"'ITCER GLOBAL'!S158","v":172.26245895690306},{"$f":"'ITCER GLOBAL'!T158","v":98.820075046103},{"$f":"'ITCER GLOBAL'!U158","v":99.658556425182965},{"$f":"'ITCER GLOBAL'!V158","v":126.05210699256371},{"$f":"'ITCER GLOBAL'!W158","v":139.19980241754467},{"$f":"'ITCER GLOBAL'!X158","v":207.2131848483391},{"$f":"'ITCER GLOBAL'!Y158","v":101.80958909778148},{"$f":"'ITCER GLOBAL'!AA158","v":165.23842782408479},{"$f":"'ITCER GLOBAL'!AB158","v":96.737141993146139},{"$f":"'ITCER GLOBAL'!AC158","v":128.78970076183859},{"$f":"'ITCER GLOBAL'!AD158","v":128.14092865487933},{"$f":"'ITCER GLOBAL'!AE158","v":123.90201729359245},{"$f":"'ITCER GLOBAL'!AF158","v":191.23797365200321},{"$f":"'ITCER GLOBAL'!AG158","v":90.066910673629025},null,{"$f":"IF(EFECTOS!$N$9=\"COSTA RICA\",LOOKUP(1,GEfectos!$C$4:$I$4,GEfectos!C158:I158),IF(EFECTOS!$N$9=\"EL SALVADOR\",LOOKUP(2,GEfectos!$C$4:$I$4,GEfectos!C158:I158),IF(EFECTOS!$N$9=\"GUATEMALA\",LOOKUP(3,GEfectos!$C$4:$I$4,GEfectos!C158:I158),IF(EFECTOS!$N$9=\"HONDURAS\",LOOKUP(4,GEfectos!$C$4:$I$4,GEfectos!C158:I158),IF(EFECTOS!$N$9=\"NICARAGUA\",LOOKUP(5,GEfectos!$C$4:$I$4,GEfectos!C158:I158),IF(EFECTOS!$N$9=\"REPÚBLICA \nDOMINICANA\",LOOKUP(6,$C$4:$I$4,C158:I158),IF(EFECTOS!$N$9=\"PANAMÁ\",LOOKUP(7,GEfectos!$C$4:$I$4,GEfectos!C158:I158))))))))","v":108.35357690277877},{"$f":"IF(EFECTOS!$N$9=\"COSTA RICA\",LOOKUP(1,GEfectos!$J$4:$P$4,GEfectos!J158:P158),IF(EFECTOS!$N$9=\"EL SALVADOR\",LOOKUP(2,GEfectos!$J$4:$P$4,GEfectos!J158:P158),IF(EFECTOS!$N$9=\"GUATEMALA\",LOOKUP(3,GEfectos!$J$4:$P$4,GEfectos!J158:P158),IF(EFECTOS!$N$9=\"HONDURAS\",LOOKUP(4,GEfectos!$J$4:$P$4,GEfectos!J158:P158),IF(EFECTOS!$N$9=\"NICARAGUA\",LOOKUP(5,GEfectos!$J$4:$P$4,GEfectos!J158:P158),IF(EFECTOS!$N$9=\"REPÚBLICA \nDOMINICANA\",LOOKUP(6,$J$4:$P$4,J158:P158),IF(EFECTOS!$N$9=\"PANAMÁ\",LOOKUP(7,GEfectos!$J$4:$P$4,GEfectos!J158:P158))))))))","v":207.2131848483391},{"$f":"IF(EFECTOS!$N$9=\"COSTA RICA\",LOOKUP(1,GEfectos!$Q$4:$W$4,GEfectos!Q158:W158),IF(EFECTOS!$N$9=\"EL SALVADOR\",LOOKUP(2,GEfectos!$Q$4:$W$4,GEfectos!Q158:W158),IF(EFECTOS!$N$9=\"GUATEMALA\",LOOKUP(3,GEfectos!$Q$4:$W$4,GEfectos!Q158:W158),IF(EFECTOS!$N$9=\"HONDURAS\",LOOKUP(4,GEfectos!$Q$4:$W$4,GEfectos!Q158:W158),IF(EFECTOS!$N$9=\"NICARAGUA\",LOOKUP(5,GEfectos!$Q$4:$W$4,GEfectos!Q158:W158),IF(EFECTOS!$N$9=\"REPÚBLICA \nDOMINICANA\",LOOKUP(6,$Q$4:$W$4,Q158:W158),IF(EFECTOS!$N$9=\"PANAMÁ\",LOOKUP(7,GEfectos!$Q$4:$W$4,GEfectos!Q158:W158))))))))","v":191.23797365200321},100]
[null,{"$f":"'ITCER GLOBAL'!B159","v":"Octubre"},{"$f":"'ITCER GLOBAL'!C159","v":104.80771160203932},{"$f":"'ITCER GLOBAL'!D159","v":102.35662948161682},{"$f":"'ITCER GLOBAL'!E159","v":78.102287189920403},{"$f":"'ITCER GLOBAL'!F159","v":98.044007187934525},{"$f":"'ITCER GLOBAL'!G159","v":111.98974419541601},{"$f":"'ITCER GLOBAL'!H159","v":109.3323698562528},{"$f":"'ITCER GLOBAL'!I159","v":113.77194883118098},{"$f":"'ITCER GLOBAL'!S159","v":173.56350248918801},{"$f":"'ITCER GLOBAL'!T159","v":99.301252854770112},{"$f":"'ITCER GLOBAL'!U159","v":100.54120695691317},{"$f":"'ITCER GLOBAL'!V159","v":126.67456402448866},{"$f":"'ITCER GLOBAL'!W159","v":141.05120070161229},{"$f":"'ITCER GLOBAL'!X159","v":209.54046947417044},{"$f":"'ITCER GLOBAL'!Y159","v":102.7000426402869},{"$f":"'ITCER GLOBAL'!AA159","v":165.60184344852243},{"$f":"'ITCER GLOBAL'!AB159","v":97.014969482367093},{"$f":"'ITCER GLOBAL'!AC159","v":128.73016985076035},{"$f":"'ITCER GLOBAL'!AD159","v":129.20174078735275},{"$f":"'ITCER GLOBAL'!AE159","v":125.95010526632298},{"$f":"'ITCER GLOBAL'!AF159","v":191.65455733710746},{"$f":"'ITCER GLOBAL'!AG159","v":90.268333886656904},null,{"$f":"IF(EFECTOS!$N$9=\"COSTA RICA\",LOOKUP(1,GEfectos!$C$4:$I$4,GEfectos!C159:I159),IF(EFECTOS!$N$9=\"EL SALVADOR\",LOOKUP(2,GEfectos!$C$4:$I$4,GEfectos!C159:I159),IF(EFECTOS!$N$9=\"GUATEMALA\",LOOKUP(3,GEfectos!$C$4:$I$4,GEfectos!C159:I159),IF(EFECTOS!$N$9=\"HONDURAS\",LOOKUP(4,GEfectos!$C$4:$I$4,GEfectos!C159:I159),IF(EFECTOS!$N$9=\"NICARAGUA\",LOOKUP(5,GEfectos!$C$4:$I$4,GEfectos!C159:I159),IF(EFECTOS!$N$9=\"REPÚBLICA \nDOMINICANA\",LOOKUP(6,$C$4:$I$4,C159:I159),IF(EFECTOS!$N$9=\"PANAMÁ\",LOOKUP(7,GEfectos!$C$4:$I$4,GEfectos!C159:I159))))))))","v":109.3323698562528},{"$f":"IF(EFECTOS!$N$9=\"COSTA RICA\",LOOKUP(1,GEfectos!$J$4:$P$4,GEfectos!J159:P159),IF(EFECTOS!$N$9=\"EL SALVADOR\",LOOKUP(2,GEfectos!$J$4:$P$4,GEfectos!J159:P159),IF(EFECTOS!$N$9=\"GUATEMALA\",LOOKUP(3,GEfectos!$J$4:$P$4,GEfectos!J159:P159),IF(EFECTOS!$N$9=\"HONDURAS\",LOOKUP(4,GEfectos!$J$4:$P$4,GEfectos!J159:P159),IF(EFECTOS!$N$9=\"NICARAGUA\",LOOKUP(5,GEfectos!$J$4:$P$4,GEfectos!J159:P159),IF(EFECTOS!$N$9=\"REPÚBLICA \nDOMINICANA\",LOOKUP(6,$J$4:$P$4,J159:P159),IF(EFECTOS!$N$9=\"PANAMÁ\",LOOKUP(7,GEfectos!$J$4:$P$4,GEfectos!J159:P159))))))))","v":209.54046947417044},{"$f":"IF(EFECTOS!$N$9=\"COSTA RICA\",LOOKUP(1,GEfectos!$Q$4:$W$4,GEfectos!Q159:W159),IF(EFECTOS!$N$9=\"EL SALVADOR\",LOOKUP(2,GEfectos!$Q$4:$W$4,GEfectos!Q159:W159),IF(EFECTOS!$N$9=\"GUATEMALA\",LOOKUP(3,GEfectos!$Q$4:$W$4,GEfectos!Q159:W159),IF(EFECTOS!$N$9=\"HONDURAS\",LOOKUP(4,GEfectos!$Q$4:$W$4,GEfectos!Q159:W159),IF(EFECTOS!$N$9=\"NICARAGUA\",LOOKUP(5,GEfectos!$Q$4:$W$4,GEfectos!Q159:W159),IF(EFECTOS!$N$9=\"REPÚBLICA \nDOMINICANA\",LOOKUP(6,$Q$4:$W$4,Q159:W159),IF(EFECTOS!$N$9=\"PANAMÁ\",LOOKUP(7,GEfectos!$Q$4:$W$4,GEfectos!Q159:W159))))))))","v":191.65455733710746},100]
[null,{"$f":"'ITCER GLOBAL'!B160","v":"Noviembre"},{"$f":"'ITCER GLOBAL'!C160","v":103.9673506121508},{"$f":"'ITCER GLOBAL'!D160","v":102.41910898413749},{"$f":"'ITCER GLOBAL'!E160","v":76.710230368479458},{"$f":"'ITCER GLOBAL'!F160","v":97.799231441861565},{"$f":"'ITCER GLOBAL'!G160","v":109.48459428925899},{"$f":"'ITCER GLOBAL'!H160","v":108.22698584416872},{"$f":"'ITCER GLOBAL'!I160","v":114.0895334892638},{"$f":"'ITCER GLOBAL'!S160","v":173.0437127056662},{"$f":"'ITCER GLOBAL'!T160","v":99.76343465783502},{"$f":"'ITCER GLOBAL'!U160","v":99.838947028070407},{"$f":"'ITCER GLOBAL'!V160","v":127.41063321550476},{"$f":"'ITCER GLOBAL'!W160","v":142.60716547096138},{"$f":"'ITCER GLOBAL'!X160","v":209.90401070970114},{"$f":"'ITCER GLOBAL'!Y160","v":103.4075489091524},{"$f":"'ITCER GLOBAL'!AA160","v":166.44043700911848},{"$f":"'ITCER GLOBAL'!AB160","v":97.407051913804693},{"$f":"'ITCER GLOBAL'!AC160","v":130.15075896460172},{"$f":"'ITCER GLOBAL'!AD160","v":130.27774486269473},{"$f":"'ITCER GLOBAL'!AE160","v":130.25317981650673},{"$f":"'ITCER GLOBAL'!AF160","v":193.94794105412186},{"$f":"'ITCER GLOBAL'!AG160","v":90.637191464091131},null,{"$f":"IF(EFECTOS!$N$9=\"COSTA RICA\",LOOKUP(1,GEfectos!$C$4:$I$4,GEfectos!C160:I160),IF(EFECTOS!$N$9=\"EL SALVADOR\",LOOKUP(2,GEfectos!$C$4:$I$4,GEfectos!C160:I160),IF(EFECTOS!$N$9=\"GUATEMALA\",LOOKUP(3,GEfectos!$C$4:$I$4,GEfectos!C160:I160),IF(EFECTOS!$N$9=\"HONDURAS\",LOOKUP(4,GEfectos!$C$4:$I$4,GEfectos!C160:I160),IF(EFECTOS!$N$9=\"NICARAGUA\",LOOKUP(5,GEfectos!$C$4:$I$4,GEfectos!C160:I160),IF(EFECTOS!$N$9=\"REPÚBLICA \nDOMINICANA\",LOOKUP(6,$C$4:$I$4,C160:I160),IF(EFECTOS!$N$9=\"PANAMÁ\",LOOKUP(7,GEfectos!$C$4:$I$4,GEfectos!C160:I160))))))))","v":108.22698584416872},{"$f":"IF(EFECTOS!$N$9=\"COSTA RICA\",LOOKUP(1,GEfectos!$J$4:$P$4,GEfectos!J160:P160),IF(EFECTOS!$N$9=\"EL SALVADOR\",LOOKUP(2,GEfectos!$J$4:$P$4,GEfectos!J160:P160),IF(EFECTOS!$N$9=\"GUATEMALA\",LOOKUP(3,GEfectos!$J$4:$P$4,GEfectos!J160:P160),IF(EFECTOS!$N$9=\"HONDURAS\",LOOKUP(4,GEfectos!$J$4:$P$4,GEfectos!J160:P160),IF(EFECTOS!$N$9=\"NICARAGUA\",LOOKUP(5,GEfectos!$J$4:$P$4,GEfectos!J160:P160),IF(EFECTOS!$N$9=\"REPÚBLICA \nDOMINICANA\",LOOKUP(6,$J$4:$P$4,J160:P160),IF(EFECTOS!$N$9=\"PANAMÁ\",LOOKUP(7,GEfectos!$J$4:$P$4,GEfectos!J160:P160))))))))","v":209.90401070970114},{"$f":"IF(EFECTOS!$N$9=\"COSTA RICA\",LOOKUP(1,GEfectos!$Q$4:$W$4,GEfectos!Q160:W160),IF(EFECTOS!$N$9=\"EL SALVADOR\",LOOKUP(2,GEfectos!$Q$4:$W$4,GEfectos!Q160:W160),IF(EFECTOS!$N$9=\"GUATEMALA\",LOOKUP(3,GEfectos!$Q$4:$W$4,GEfectos!Q160:W160),IF(EFECTOS!$N$9=\"HONDURAS\",LOOKUP(4,GEfectos!$Q$4:$W$4,GEfectos!Q160:W160),IF(EFECTOS!$N$9=\"NICARAGUA\",LOOKUP(5,GEfectos!$Q$4:$W$4,GEfectos!Q160:W160),IF(EFECTOS!$N$9=\"REPÚBLICA \nDOMINICANA\",LOOKUP(6,$Q$4:$W$4,Q160:W160),IF(EFECTOS!$N$9=\"PANAMÁ\",LOOKUP(7,GEfectos!$Q$4:$W$4,GEfectos!Q160:W160))))))))","v":193.94794105412186},100]
[null,{"$f":"'ITCER GLOBAL'!B161","v":"Diciembre"},{"$f":"'ITCER GLOBAL'!C161","v":99.267647086347978},{"$f":"'ITCER GLOBAL'!D161","v":103.2348097048897},{"$f":"'ITCER GLOBAL'!E161","v":75.986859497875841},{"$f":"'ITCER GLOBAL'!F161","v":97.950747792435976},{"$f":"'ITCER GLOBAL'!G161","v":109.04947138983879},{"$f":"'ITCER GLOBAL'!H161","v":107.43501265268044},{"$f":"'ITCER GLOBAL'!I161","v":114.03644445197008},{"$f":"'ITCER GLOBAL'!S161","v":167.5465159622558},{"$f":"'ITCER GLOBAL'!T161","v":99.797740367327378},{"$f":"'ITCER GLOBAL'!U161","v":99.620159827877629},{"$f":"'ITCER GLOBAL'!V161","v":127.45440204824948},{"$f":"'ITCER GLOBAL'!W161","v":143.20936859446209},{"$f":"'ITCER GLOBAL'!X161","v":210.44411659715286},{"$f":"'ITCER GLOBAL'!Y161","v":103.47330752965047},{"$f":"'ITCER GLOBAL'!AA161","v":168.78260025294591},{"$f":"'ITCER GLOBAL'!AB161","v":96.670629463658983},{"$f":"'ITCER GLOBAL'!AC161","v":131.10182535002969},{"$f":"'ITCER GLOBAL'!AD161","v":130.12090762015791},{"$f":"'ITCER GLOBAL'!AE161","v":131.32513781979353},{"$f":"'ITCER GLOBAL'!AF161","v":195.88038517525359},{"$f":"'ITCER GLOBAL'!AG161","v":90.737051674064944},null,{"$f":"IF(EFECTOS!$N$9=\"COSTA RICA\",LOOKUP(1,GEfectos!$C$4:$I$4,GEfectos!C161:I161),IF(EFECTOS!$N$9=\"EL SALVADOR\",LOOKUP(2,GEfectos!$C$4:$I$4,GEfectos!C161:I161),IF(EFECTOS!$N$9=\"GUATEMALA\",LOOKUP(3,GEfectos!$C$4:$I$4,GEfectos!C161:I161),IF(EFECTOS!$N$9=\"HONDURAS\",LOOKUP(4,GEfectos!$C$4:$I$4,GEfectos!C161:I161),IF(EFECTOS!$N$9=\"NICARAGUA\",LOOKUP(5,GEfectos!$C$4:$I$4,GEfectos!C161:I161),IF(EFECTOS!$N$9=\"REPÚBLICA \nDOMINICANA\",LOOKUP(6,$C$4:$I$4,C161:I161),IF(EFECTOS!$N$9=\"PANAMÁ\",LOOKUP(7,GEfectos!$C$4:$I$4,GEfectos!C161:I161))))))))","v":107.43501265268044},{"$f":"IF(EFECTOS!$N$9=\"COSTA RICA\",LOOKUP(1,GEfectos!$J$4:$P$4,GEfectos!J161:P161),IF(EFECTOS!$N$9=\"EL SALVADOR\",LOOKUP(2,GEfectos!$J$4:$P$4,GEfectos!J161:P161),IF(EFECTOS!$N$9=\"GUATEMALA\",LOOKUP(3,GEfectos!$J$4:$P$4,GEfectos!J161:P161),IF(EFECTOS!$N$9=\"HONDURAS\",LOOKUP(4,GEfectos!$J$4:$P$4,GEfectos!J161:P161),IF(EFECTOS!$N$9=\"NICARAGUA\",LOOKUP(5,GEfectos!$J$4:$P$4,GEfectos!J161:P161),IF(EFECTOS!$N$9=\"REPÚBLICA \nDOMINICANA\",LOOKUP(6,$J$4:$P$4,J161:P161),IF(EFECTOS!$N$9=\"PANAMÁ\",LOOKUP(7,GEfectos!$J$4:$P$4,GEfectos!J161:P161))))))))","v":210.44411659715286},{"$f":"IF(EFECTOS!$N$9=\"COSTA RICA\",LOOKUP(1,GEfectos!$Q$4:$W$4,GEfectos!Q161:W161),IF(EFECTOS!$N$9=\"EL SALVADOR\",LOOKUP(2,GEfectos!$Q$4:$W$4,GEfectos!Q161:W161),IF(EFECTOS!$N$9=\"GUATEMALA\",LOOKUP(3,GEfectos!$Q$4:$W$4,GEfectos!Q161:W161),IF(EFECTOS!$N$9=\"HONDURAS\",LOOKUP(4,GEfectos!$Q$4:$W$4,GEfectos!Q161:W161),IF(EFECTOS!$N$9=\"NICARAGUA\",LOOKUP(5,GEfectos!$Q$4:$W$4,GEfectos!Q161:W161),IF(EFECTOS!$N$9=\"REPÚBLICA \nDOMINICANA\",LOOKUP(6,$Q$4:$W$4,Q161:W161),IF(EFECTOS!$N$9=\"PANAMÁ\",LOOKUP(7,GEfectos!$Q$4:$W$4,GEfectos!Q161:W161))))))))","v":195.88038517525359},100]
[2008,{"$f":"'ITCER GLOBAL'!B162","v":"Enero"},{"$f":"'ITCER GLOBAL'!C162","v":99.014128662187204},{"$f":"'ITCER GLOBAL'!D162","v":102.7152722722352},{"$f":"'ITCER GLOBAL'!E162","v":76.756823758218218},{"$f":"'ITCER GLOBAL'!F162","v":97.876334274100742},{"$f":"'ITCER GLOBAL'!G162","v":108.60004887599074},{"$f":"'ITCER GLOBAL'!H162","v":113.64219673052604},{"$f":"'ITCER GLOBAL'!I162","v":113.44072356486551},{"$f":"'ITCER GLOBAL'!S162","v":167.33172435948117},{"$f":"'ITCER GLOBAL'!T162","v":99.724431852022221},{"$f":"'ITCER GLOBAL'!U162","v":100.73790624624313},{"$f":"'ITCER GLOBAL'!V162","v":127.4347741923626},{"$f":"'ITCER GLOBAL'!W162","v":143.80392794091122},{"$f":"'ITCER GLOBAL'!X162","v":213.2984186123328},{"$f":"'ITCER GLOBAL'!Y162","v":104.46011806765992},{"$f":"'ITCER GLOBAL'!AA162","v":168.99782548243945},{"$f":"'ITCER GLOBAL'!AB162","v":97.088222273036394},{"$f":"'ITCER GLOBAL'!AC162","v":131.24293230731462},{"$f":"'ITCER GLOBAL'!AD162","v":130.19978234522355},{"$f":"'ITCER GLOBAL'!AE162","v":132.4160803142174},{"$f":"'ITCER GLOBAL'!AF162","v":187.69297386789918},{"$f":"'ITCER GLOBAL'!AG162","v":92.08343775057952},null,{"$f":"IF(EFECTOS!$N$9=\"COSTA RICA\",LOOKUP(1,GEfectos!$C$4:$I$4,GEfectos!C162:I162),IF(EFECTOS!$N$9=\"EL SALVADOR\",LOOKUP(2,GEfectos!$C$4:$I$4,GEfectos!C162:I162),IF(EFECTOS!$N$9=\"GUATEMALA\",LOOKUP(3,GEfectos!$C$4:$I$4,GEfectos!C162:I162),IF(EFECTOS!$N$9=\"HONDURAS\",LOOKUP(4,GEfectos!$C$4:$I$4,GEfectos!C162:I162),IF(EFECTOS!$N$9=\"NICARAGUA\",LOOKUP(5,GEfectos!$C$4:$I$4,GEfectos!C162:I162),IF(EFECTOS!$N$9=\"REPÚBLICA \nDOMINICANA\",LOOKUP(6,$C$4:$I$4,C162:I162),IF(EFECTOS!$N$9=\"PANAMÁ\",LOOKUP(7,GEfectos!$C$4:$I$4,GEfectos!C162:I162))))))))","v":113.64219673052604},{"$f":"IF(EFECTOS!$N$9=\"COSTA RICA\",LOOKUP(1,GEfectos!$J$4:$P$4,GEfectos!J162:P162),IF(EFECTOS!$N$9=\"EL SALVADOR\",LOOKUP(2,GEfectos!$J$4:$P$4,GEfectos!J162:P162),IF(EFECTOS!$N$9=\"GUATEMALA\",LOOKUP(3,GEfectos!$J$4:$P$4,GEfectos!J162:P162),IF(EFECTOS!$N$9=\"HONDURAS\",LOOKUP(4,GEfectos!$J$4:$P$4,GEfectos!J162:P162),IF(EFECTOS!$N$9=\"NICARAGUA\",LOOKUP(5,GEfectos!$J$4:$P$4,GEfectos!J162:P162),IF(EFECTOS!$N$9=\"REPÚBLICA \nDOMINICANA\",LOOKUP(6,$J$4:$P$4,J162:P162),IF(EFECTOS!$N$9=\"PANAMÁ\",LOOKUP(7,GEfectos!$J$4:$P$4,GEfectos!J162:P162))))))))","v":213.2984186123328},{"$f":"IF(EFECTOS!$N$9=\"COSTA RICA\",LOOKUP(1,GEfectos!$Q$4:$W$4,GEfectos!Q162:W162),IF(EFECTOS!$N$9=\"EL SALVADOR\",LOOKUP(2,GEfectos!$Q$4:$W$4,GEfectos!Q162:W162),IF(EFECTOS!$N$9=\"GUATEMALA\",LOOKUP(3,GEfectos!$Q$4:$W$4,GEfectos!Q162:W162),IF(EFECTOS!$N$9=\"HONDURAS\",LOOKUP(4,GEfectos!$Q$4:$W$4,GEfectos!Q162:W162),IF(EFECTOS!$N$9=\"NICARAGUA\",LOOKUP(5,GEfectos!$Q$4:$W$4,GEfectos!Q162:W162),IF(EFECTOS!$N$9=\"REPÚBLICA \nDOMINICANA\",LOOKUP(6,$Q$4:$W$4,Q162:W162),IF(EFECTOS!$N$9=\"PANAMÁ\",LOOKUP(7,GEfectos!$Q$4:$W$4,GEfectos!Q162:W162))))))))","v":187.69297386789918},100]
[null,{"$f":"'ITCER GLOBAL'!B163","v":"Febrero"},{"$f":"'ITCER GLOBAL'!C163","v":98.732989551318184},{"$f":"'ITCER GLOBAL'!D163","v":102.80032233492025},{"$f":"'ITCER GLOBAL'!E163","v":77.138723738985291},{"$f":"'ITCER GLOBAL'!F163","v":97.599645765552822},{"$f":"'ITCER GLOBAL'!G163","v":108.01743757818366},{"$f":"'ITCER GLOBAL'!H163","v":114.97191451623684},{"$f":"'ITCER GLOBAL'!I163","v":113.5768289320747},{"$f":"'ITCER GLOBAL'!S163","v":167.57157962624015},{"$f":"'ITCER GLOBAL'!T163","v":99.969505662414718},{"$f":"'ITCER GLOBAL'!U163","v":101.31920304072877},{"$f":"'ITCER GLOBAL'!V163","v":127.69579043538837},{"$f":"'ITCER GLOBAL'!W163","v":145.07932133953085},{"$f":"'ITCER GLOBAL'!X163","v":214.55623377221406},{"$f":"'ITCER GLOBAL'!Y163","v":104.94780852853627},{"$f":"'ITCER GLOBAL'!AA163","v":169.72197478041718},{"$f":"'ITCER GLOBAL'!AB163","v":97.246295917941936},{"$f":"'ITCER GLOBAL'!AC163","v":131.34674535653855},{"$f":"'ITCER GLOBAL'!AD163","v":130.8363257200036},{"$f":"'ITCER GLOBAL'!AE163","v":134.31101921346874},{"$f":"'ITCER GLOBAL'!AF163","v":186.61621377272402},{"$f":"'ITCER GLOBAL'!AG163","v":92.402481664020499},null,{"$f":"IF(EFECTOS!$N$9=\"COSTA RICA\",LOOKUP(1,GEfectos!$C$4:$I$4,GEfectos!C163:I163),IF(EFECTOS!$N$9=\"EL SALVADOR\",LOOKUP(2,GEfectos!$C$4:$I$4,GEfectos!C163:I163),IF(EFECTOS!$N$9=\"GUATEMALA\",LOOKUP(3,GEfectos!$C$4:$I$4,GEfectos!C163:I163),IF(EFECTOS!$N$9=\"HONDURAS\",LOOKUP(4,GEfectos!$C$4:$I$4,GEfectos!C163:I163),IF(EFECTOS!$N$9=\"NICARAGUA\",LOOKUP(5,GEfectos!$C$4:$I$4,GEfectos!C163:I163),IF(EFECTOS!$N$9=\"REPÚBLICA \nDOMINICANA\",LOOKUP(6,$C$4:$I$4,C163:I163),IF(EFECTOS!$N$9=\"PANAMÁ\",LOOKUP(7,GEfectos!$C$4:$I$4,GEfectos!C163:I163))))))))","v":114.97191451623684},{"$f":"IF(EFECTOS!$N$9=\"COSTA RICA\",LOOKUP(1,GEfectos!$J$4:$P$4,GEfectos!J163:P163),IF(EFECTOS!$N$9=\"EL SALVADOR\",LOOKUP(2,GEfectos!$J$4:$P$4,GEfectos!J163:P163),IF(EFECTOS!$N$9=\"GUATEMALA\",LOOKUP(3,GEfectos!$J$4:$P$4,GEfectos!J163:P163),IF(EFECTOS!$N$9=\"HONDURAS\",LOOKUP(4,GEfectos!$J$4:$P$4,GEfectos!J163:P163),IF(EFECTOS!$N$9=\"NICARAGUA\",LOOKUP(5,GEfectos!$J$4:$P$4,GEfectos!J163:P163),IF(EFECTOS!$N$9=\"REPÚBLICA \nDOMINICANA\",LOOKUP(6,$J$4:$P$4,J163:P163),IF(EFECTOS!$N$9=\"PANAMÁ\",LOOKUP(7,GEfectos!$J$4:$P$4,GEfectos!J163:P163))))))))","v":214.55623377221406},{"$f":"IF(EFECTOS!$N$9=\"COSTA RICA\",LOOKUP(1,GEfectos!$Q$4:$W$4,GEfectos!Q163:W163),IF(EFECTOS!$N$9=\"EL SALVADOR\",LOOKUP(2,GEfectos!$Q$4:$W$4,GEfectos!Q163:W163),IF(EFECTOS!$N$9=\"GUATEMALA\",LOOKUP(3,GEfectos!$Q$4:$W$4,GEfectos!Q163:W163),IF(EFECTOS!$N$9=\"HONDURAS\",LOOKUP(4,GEfectos!$Q$4:$W$4,GEfectos!Q163:W163),IF(EFECTOS!$N$9=\"NICARAGUA\",LOOKUP(5,GEfectos!$Q$4:$W$4,GEfectos!Q163:W163),IF(EFECTOS!$N$9=\"REPÚBLICA \nDOMINICANA\",LOOKUP(6,$Q$4:$W$4,Q163:W163),IF(EFECTOS!$N$9=\"PANAMÁ\",LOOKUP(7,GEfectos!$Q$4:$W$4,GEfectos!Q163:W163))))))))","v":186.61621377272402},100]
[null,{"$f":"'ITCER GLOBAL'!B164","v":"Marzo"},{"$f":"'ITCER GLOBAL'!C164","v":99.923196985597158},{"$f":"'ITCER GLOBAL'!D164","v":103.51639053161394},{"$f":"'ITCER GLOBAL'!E164","v":76.371254079030535},{"$f":"'ITCER GLOBAL'!F164","v":98.378358451178798},{"$f":"'ITCER GLOBAL'!G164","v":108.30058234517732},{"$f":"'ITCER GLOBAL'!H164","v":115.13801467035603},{"$f":"'ITCER GLOBAL'!I164","v":114.21683133268662},{"$f":"'ITCER GLOBAL'!S164","v":169.08172390727947},{"$f":"'ITCER GLOBAL'!T164","v":100.63022634855081},{"$f":"'ITCER GLOBAL'!U164","v":100.7345937887772},{"$f":"'ITCER GLOBAL'!V164","v":128.79265381353795},{"$f":"'ITCER GLOBAL'!W164","v":146.78459851622947},{"$f":"'ITCER GLOBAL'!X164","v":216.69071742451317},{"$f":"'ITCER GLOBAL'!Y164","v":106.07443433920865},{"$f":"'ITCER GLOBAL'!AA164","v":169.21168358099146},{"$f":"'ITCER GLOBAL'!AB164","v":97.211877106377969},{"$f":"'ITCER GLOBAL'!AC164","v":131.90119110069213},{"$f":"'ITCER GLOBAL'!AD164","v":130.91563616346835},{"$f":"'ITCER GLOBAL'!AE164","v":135.53444989648835},{"$f":"'ITCER GLOBAL'!AF164","v":188.20084578052339},{"$f":"'ITCER GLOBAL'!AG164","v":92.871105862006374},null,{"$f":"IF(EFECTOS!$N$9=\"COSTA RICA\",LOOKUP(1,GEfectos!$C$4:$I$4,GEfectos!C164:I164),IF(EFECTOS!$N$9=\"EL SALVADOR\",LOOKUP(2,GEfectos!$C$4:$I$4,GEfectos!C164:I164),IF(EFECTOS!$N$9=\"GUATEMALA\",LOOKUP(3,GEfectos!$C$4:$I$4,GEfectos!C164:I164),IF(EFECTOS!$N$9=\"HONDURAS\",LOOKUP(4,GEfectos!$C$4:$I$4,GEfectos!C164:I164),IF(EFECTOS!$N$9=\"NICARAGUA\",LOOKUP(5,GEfectos!$C$4:$I$4,GEfectos!C164:I164),IF(EFECTOS!$N$9=\"REPÚBLICA \nDOMINICANA\",LOOKUP(6,$C$4:$I$4,C164:I164),IF(EFECTOS!$N$9=\"PANAMÁ\",LOOKUP(7,GEfectos!$C$4:$I$4,GEfectos!C164:I164))))))))","v":115.13801467035603},{"$f":"IF(EFECTOS!$N$9=\"COSTA RICA\",LOOKUP(1,GEfectos!$J$4:$P$4,GEfectos!J164:P164),IF(EFECTOS!$N$9=\"EL SALVADOR\",LOOKUP(2,GEfectos!$J$4:$P$4,GEfectos!J164:P164),IF(EFECTOS!$N$9=\"GUATEMALA\",LOOKUP(3,GEfectos!$J$4:$P$4,GEfectos!J164:P164),IF(EFECTOS!$N$9=\"HONDURAS\",LOOKUP(4,GEfectos!$J$4:$P$4,GEfectos!J164:P164),IF(EFECTOS!$N$9=\"NICARAGUA\",LOOKUP(5,GEfectos!$J$4:$P$4,GEfectos!J164:P164),IF(EFECTOS!$N$9=\"REPÚBLICA \nDOMINICANA\",LOOKUP(6,$J$4:$P$4,J164:P164),IF(EFECTOS!$N$9=\"PANAMÁ\",LOOKUP(7,GEfectos!$J$4:$P$4,GEfectos!J164:P164))))))))","v":216.69071742451317},{"$f":"IF(EFECTOS!$N$9=\"COSTA RICA\",LOOKUP(1,GEfectos!$Q$4:$W$4,GEfectos!Q164:W164),IF(EFECTOS!$N$9=\"EL SALVADOR\",LOOKUP(2,GEfectos!$Q$4:$W$4,GEfectos!Q164:W164),IF(EFECTOS!$N$9=\"GUATEMALA\",LOOKUP(3,GEfectos!$Q$4:$W$4,GEfectos!Q164:W164),IF(EFECTOS!$N$9=\"HONDURAS\",LOOKUP(4,GEfectos!$Q$4:$W$4,GEfectos!Q164:W164),IF(EFECTOS!$N$9=\"NICARAGUA\",LOOKUP(5,GEfectos!$Q$4:$W$4,GEfectos!Q164:W164),IF(EFECTOS!$N$9=\"REPÚBLICA \nDOMINICANA\",LOOKUP(6,$Q$4:$W$4,Q164:W164),IF(EFECTOS!$N$9=\"PANAMÁ\",LOOKUP(7,GEfectos!$Q$4:$W$4,GEfectos!Q164:W164))))))))","v":188.20084578052339},100]
[null,{"$f":"'ITCER GLOBAL'!B165","v":"Abril"},{"$f":"'ITCER GLOBAL'!C165","v":99.827825729666998},{"$f":"'ITCER GLOBAL'!D165","v":103.81979061133273},{"$f":"'ITCER GLOBAL'!E165","v":75.015669487896631},{"$f":"'ITCER GLOBAL'!F165","v":98.483339477914853},{"$f":"'ITCER GLOBAL'!G165","v":108.37382960657914},{"$f":"'ITCER GLOBAL'!H165","v":114.37310929287288},{"$f":"'ITCER GLOBAL'!I165","v":114.79354302939109},{"$f":"'ITCER GLOBAL'!S165","v":169.45599786666537},{"$f":"'ITCER GLOBAL'!T165","v":101.08343796485843},{"$f":"'ITCER GLOBAL'!U165","v":99.776410206040168},{"$f":"'ITCER GLOBAL'!V165","v":129.37083914773865},{"$f":"'ITCER GLOBAL'!W165","v":148.03531147341934},{"$f":"'ITCER GLOBAL'!X165","v":218.11739226608634},{"$f":"'ITCER GLOBAL'!Y165","v":106.49303823329983},{"$f":"'ITCER GLOBAL'!AA165","v":169.74826069592154},{"$f":"'ITCER GLOBAL'!AB165","v":97.364324633712371},{"$f":"'ITCER GLOBAL'!AC165","v":133.00742483160607},{"$f":"'ITCER GLOBAL'!AD165","v":131.36317252599906},{"$f":"'ITCER GLOBAL'!AE165","v":136.59691828813294},{"$f":"'ITCER GLOBAL'!AF165","v":190.70688347516858},{"$f":"'ITCER GLOBAL'!AG165","v":92.769188425549302},null,{"$f":"IF(EFECTOS!$N$9=\"COSTA RICA\",LOOKUP(1,GEfectos!$C$4:$I$4,GEfectos!C165:I165),IF(EFECTOS!$N$9=\"EL SALVADOR\",LOOKUP(2,GEfectos!$C$4:$I$4,GEfectos!C165:I165),IF(EFECTOS!$N$9=\"GUATEMALA\",LOOKUP(3,GEfectos!$C$4:$I$4,GEfectos!C165:I165),IF(EFECTOS!$N$9=\"HONDURAS\",LOOKUP(4,GEfectos!$C$4:$I$4,GEfectos!C165:I165),IF(EFECTOS!$N$9=\"NICARAGUA\",LOOKUP(5,GEfectos!$C$4:$I$4,GEfectos!C165:I165),IF(EFECTOS!$N$9=\"REPÚBLICA \nDOMINICANA\",LOOKUP(6,$C$4:$I$4,C165:I165),IF(EFECTOS!$N$9=\"PANAMÁ\",LOOKUP(7,GEfectos!$C$4:$I$4,GEfectos!C165:I165))))))))","v":114.37310929287288},{"$f":"IF(EFECTOS!$N$9=\"COSTA RICA\",LOOKUP(1,GEfectos!$J$4:$P$4,GEfectos!J165:P165),IF(EFECTOS!$N$9=\"EL SALVADOR\",LOOKUP(2,GEfectos!$J$4:$P$4,GEfectos!J165:P165),IF(EFECTOS!$N$9=\"GUATEMALA\",LOOKUP(3,GEfectos!$J$4:$P$4,GEfectos!J165:P165),IF(EFECTOS!$N$9=\"HONDURAS\",LOOKUP(4,GEfectos!$J$4:$P$4,GEfectos!J165:P165),IF(EFECTOS!$N$9=\"NICARAGUA\",LOOKUP(5,GEfectos!$J$4:$P$4,GEfectos!J165:P165),IF(EFECTOS!$N$9=\"REPÚBLICA \nDOMINICANA\",LOOKUP(6,$J$4:$P$4,J165:P165),IF(EFECTOS!$N$9=\"PANAMÁ\",LOOKUP(7,GEfectos!$J$4:$P$4,GEfectos!J165:P165))))))))","v":218.11739226608634},{"$f":"IF(EFECTOS!$N$9=\"COSTA RICA\",LOOKUP(1,GEfectos!$Q$4:$W$4,GEfectos!Q165:W165),IF(EFECTOS!$N$9=\"EL SALVADOR\",LOOKUP(2,GEfectos!$Q$4:$W$4,GEfectos!Q165:W165),IF(EFECTOS!$N$9=\"GUATEMALA\",LOOKUP(3,GEfectos!$Q$4:$W$4,GEfectos!Q165:W165),IF(EFECTOS!$N$9=\"HONDURAS\",LOOKUP(4,GEfectos!$Q$4:$W$4,GEfectos!Q165:W165),IF(EFECTOS!$N$9=\"NICARAGUA\",LOOKUP(5,GEfectos!$Q$4:$W$4,GEfectos!Q165:W165),IF(EFECTOS!$N$9=\"REPÚBLICA \nDOMINICANA\",LOOKUP(6,$Q$4:$W$4,Q165:W165),IF(EFECTOS!$N$9=\"PANAMÁ\",LOOKUP(7,GEfectos!$Q$4:$W$4,GEfectos!Q165:W165))))))))","v":190.70688347516858},100]
[null,{"$f":"'ITCER GLOBAL'!B166","v":"Mayo"},{"$f":"'ITCER GLOBAL'!C166","v":101.78261380171065},{"$f":"'ITCER GLOBAL'!D166","v":103.65982618637697},{"$f":"'ITCER GLOBAL'!E166","v":73.301343840709961},{"$f":"'ITCER GLOBAL'!F166","v":97.529583262941657},{"$f":"'ITCER GLOBAL'!G166","v":106.54197732228997},{"$f":"'ITCER GLOBAL'!H166","v":114.65587797042406},{"$f":"'ITCER GLOBAL'!I166","v":114.19245882179449},{"$f":"'ITCER GLOBAL'!S166","v":174.85172271447885},{"$f":"'ITCER GLOBAL'!T166","v":101.09700260132139},{"$f":"'ITCER GLOBAL'!U166","v":98.10583186982025},{"$f":"'ITCER GLOBAL'!V166","v":129.26505820918467},{"$f":"'ITCER GLOBAL'!W166","v":148.37676694587475},{"$f":"'ITCER GLOBAL'!X166","v":217.82480460154318},{"$f":"'ITCER GLOBAL'!Y166","v":105.99376660443438},{"$f":"'ITCER GLOBAL'!AA166","v":171.78938149016184},{"$f":"'ITCER GLOBAL'!AB166","v":97.527659770094814},{"$f":"'ITCER GLOBAL'!AC166","v":133.8390631459807},{"$f":"'ITCER GLOBAL'!AD166","v":132.53933205136696},{"$f":"'ITCER GLOBAL'!AE166","v":139.26601577614272},{"$f":"'ITCER GLOBAL'!AF166","v":189.98136725073263},{"$f":"'ITCER GLOBAL'!AG166","v":92.820285768472019},null,{"$f":"IF(EFECTOS!$N$9=\"COSTA RICA\",LOOKUP(1,GEfectos!$C$4:$I$4,GEfectos!C166:I166),IF(EFECTOS!$N$9=\"EL SALVADOR\",LOOKUP(2,GEfectos!$C$4:$I$4,GEfectos!C166:I166),IF(EFECTOS!$N$9=\"GUATEMALA\",LOOKUP(3,GEfectos!$C$4:$I$4,GEfectos!C166:I166),IF(EFECTOS!$N$9=\"HONDURAS\",LOOKUP(4,GEfectos!$C$4:$I$4,GEfectos!C166:I166),IF(EFECTOS!$N$9=\"NICARAGUA\",LOOKUP(5,GEfectos!$C$4:$I$4,GEfectos!C166:I166),IF(EFECTOS!$N$9=\"REPÚBLICA \nDOMINICANA\",LOOKUP(6,$C$4:$I$4,C166:I166),IF(EFECTOS!$N$9=\"PANAMÁ\",LOOKUP(7,GEfectos!$C$4:$I$4,GEfectos!C166:I166))))))))","v":114.65587797042406},{"$f":"IF(EFECTOS!$N$9=\"COSTA RICA\",LOOKUP(1,GEfectos!$J$4:$P$4,GEfectos!J166:P166),IF(EFECTOS!$N$9=\"EL SALVADOR\",LOOKUP(2,GEfectos!$J$4:$P$4,GEfectos!J166:P166),IF(EFECTOS!$N$9=\"GUATEMALA\",LOOKUP(3,GEfectos!$J$4:$P$4,GEfectos!J166:P166),IF(EFECTOS!$N$9=\"HONDURAS\",LOOKUP(4,GEfectos!$J$4:$P$4,GEfectos!J166:P166),IF(EFECTOS!$N$9=\"NICARAGUA\",LOOKUP(5,GEfectos!$J$4:$P$4,GEfectos!J166:P166),IF(EFECTOS!$N$9=\"REPÚBLICA \nDOMINICANA\",LOOKUP(6,$J$4:$P$4,J166:P166),IF(EFECTOS!$N$9=\"PANAMÁ\",LOOKUP(7,GEfectos!$J$4:$P$4,GEfectos!J166:P166))))))))","v":217.82480460154318},{"$f":"IF(EFECTOS!$N$9=\"COSTA RICA\",LOOKUP(1,GEfectos!$Q$4:$W$4,GEfectos!Q166:W166),IF(EFECTOS!$N$9=\"EL SALVADOR\",LOOKUP(2,GEfectos!$Q$4:$W$4,GEfectos!Q166:W166),IF(EFECTOS!$N$9=\"GUATEMALA\",LOOKUP(3,GEfectos!$Q$4:$W$4,GEfectos!Q166:W166),IF(EFECTOS!$N$9=\"HONDURAS\",LOOKUP(4,GEfectos!$Q$4:$W$4,GEfectos!Q166:W166),IF(EFECTOS!$N$9=\"NICARAGUA\",LOOKUP(5,GEfectos!$Q$4:$W$4,GEfectos!Q166:W166),IF(EFECTOS!$N$9=\"REPÚBLICA \nDOMINICANA\",LOOKUP(6,$Q$4:$W$4,Q166:W166),IF(EFECTOS!$N$9=\"PANAMÁ\",LOOKUP(7,GEfectos!$Q$4:$W$4,GEfectos!Q166:W166))))))))","v":189.98136725073263},100]
[null,{"$f":"'ITCER GLOBAL'!B167","v":"Junio"},{"$f":"'ITCER GLOBAL'!C167","v":103.07330984298522},{"$f":"'ITCER GLOBAL'!D167","v":103.39576989829699},{"$f":"'ITCER GLOBAL'!E167","v":73.397282327333912},{"$f":"'ITCER GLOBAL'!F167","v":97.159980161790358},{"$f":"'ITCER GLOBAL'!G167","v":105.66288377283449},{"$f":"'ITCER GLOBAL'!H167","v":113.52593073006791},{"$f":"'ITCER GLOBAL'!I167","v":113.80331548470934},{"$f":"'ITCER GLOBAL'!S167","v":178.1601983152471},{"$f":"'ITCER GLOBAL'!T167","v":101.10867645630771},{"$f":"'ITCER GLOBAL'!U167","v":98.971337609729702},{"$f":"'ITCER GLOBAL'!V167","v":129.0736861998227},{"$f":"'ITCER GLOBAL'!W167","v":148.9917067301902},{"$f":"'ITCER GLOBAL'!X167","v":219.00487418174927},{"$f":"'ITCER GLOBAL'!Y167","v":106.0119859977593},{"$f":"'ITCER GLOBAL'!AA167","v":172.8480424143205},{"$f":"'ITCER GLOBAL'!AB167","v":97.788020298858527},{"$f":"'ITCER GLOBAL'!AC167","v":134.84332726154867},{"$f":"'ITCER GLOBAL'!AD167","v":132.84655470790523},{"$f":"'ITCER GLOBAL'!AE167","v":141.00666327686901},{"$f":"'ITCER GLOBAL'!AF167","v":192.91176277821498},{"$f":"'ITCER GLOBAL'!AG167","v":93.153688489860471},null,{"$f":"IF(EFECTOS!$N$9=\"COSTA RICA\",LOOKUP(1,GEfectos!$C$4:$I$4,GEfectos!C167:I167),IF(EFECTOS!$N$9=\"EL SALVADOR\",LOOKUP(2,GEfectos!$C$4:$I$4,GEfectos!C167:I167),IF(EFECTOS!$N$9=\"GUATEMALA\",LOOKUP(3,GEfectos!$C$4:$I$4,GEfectos!C167:I167),IF(EFECTOS!$N$9=\"HONDURAS\",LOOKUP(4,GEfectos!$C$4:$I$4,GEfectos!C167:I167),IF(EFECTOS!$N$9=\"NICARAGUA\",LOOKUP(5,GEfectos!$C$4:$I$4,GEfectos!C167:I167),IF(EFECTOS!$N$9=\"REPÚBLICA \nDOMINICANA\",LOOKUP(6,$C$4:$I$4,C167:I167),IF(EFECTOS!$N$9=\"PANAMÁ\",LOOKUP(7,GEfectos!$C$4:$I$4,GEfectos!C167:I167))))))))","v":113.52593073006791},{"$f":"IF(EFECTOS!$N$9=\"COSTA RICA\",LOOKUP(1,GEfectos!$J$4:$P$4,GEfectos!J167:P167),IF(EFECTOS!$N$9=\"EL SALVADOR\",LOOKUP(2,GEfectos!$J$4:$P$4,GEfectos!J167:P167),IF(EFECTOS!$N$9=\"GUATEMALA\",LOOKUP(3,GEfectos!$J$4:$P$4,GEfectos!J167:P167),IF(EFECTOS!$N$9=\"HONDURAS\",LOOKUP(4,GEfectos!$J$4:$P$4,GEfectos!J167:P167),IF(EFECTOS!$N$9=\"NICARAGUA\",LOOKUP(5,GEfectos!$J$4:$P$4,GEfectos!J167:P167),IF(EFECTOS!$N$9=\"REPÚBLICA \nDOMINICANA\",LOOKUP(6,$J$4:$P$4,J167:P167),IF(EFECTOS!$N$9=\"PANAMÁ\",LOOKUP(7,GEfectos!$J$4:$P$4,GEfectos!J167:P167))))))))","v":219.00487418174927},{"$f":"IF(EFECTOS!$N$9=\"COSTA RICA\",LOOKUP(1,GEfectos!$Q$4:$W$4,GEfectos!Q167:W167),IF(EFECTOS!$N$9=\"EL SALVADOR\",LOOKUP(2,GEfectos!$Q$4:$W$4,GEfectos!Q167:W167),IF(EFECTOS!$N$9=\"GUATEMALA\",LOOKUP(3,GEfectos!$Q$4:$W$4,GEfectos!Q167:W167),IF(EFECTOS!$N$9=\"HONDURAS\",LOOKUP(4,GEfectos!$Q$4:$W$4,GEfectos!Q167:W167),IF(EFECTOS!$N$9=\"NICARAGUA\",LOOKUP(5,GEfectos!$Q$4:$W$4,GEfectos!Q167:W167),IF(EFECTOS!$N$9=\"REPÚBLICA \nDOMINICANA\",LOOKUP(6,$Q$4:$W$4,Q167:W167),IF(EFECTOS!$N$9=\"PANAMÁ\",LOOKUP(7,GEfectos!$Q$4:$W$4,GEfectos!Q167:W167))))))))","v":192.91176277821498},100]
[null,{"$f":"'ITCER GLOBAL'!B168","v":"Julio"},{"$f":"'ITCER GLOBAL'!C168","v":104.88572506537865},{"$f":"'ITCER GLOBAL'!D168","v":103.05235523438307},{"$f":"'ITCER GLOBAL'!E168","v":72.628635702040924},{"$f":"'ITCER GLOBAL'!F168","v":95.914128569990538},{"$f":"'ITCER GLOBAL'!G168","v":105.73982667200536},{"$f":"'ITCER GLOBAL'!H168","v":112.80949714973958},{"$f":"'ITCER GLOBAL'!I168","v":114.09645707333848},{"$f":"'ITCER GLOBAL'!S168","v":184.31223931748423},{"$f":"'ITCER GLOBAL'!T168","v":101.33206441013259},{"$f":"'ITCER GLOBAL'!U168","v":98.499016415250992},{"$f":"'ITCER GLOBAL'!V168","v":129.25464285105303},{"$f":"'ITCER GLOBAL'!W168","v":149.79088760644819},{"$f":"'ITCER GLOBAL'!X168","v":220.06644759350672},{"$f":"'ITCER GLOBAL'!Y168","v":106.11576355044063},{"$f":"'ITCER GLOBAL'!AA168","v":175.72671514888845},{"$f":"'ITCER GLOBAL'!AB168","v":98.330663263020185},{"$f":"'ITCER GLOBAL'!AC168","v":135.62008354300272},{"$f":"'ITCER GLOBAL'!AD168","v":134.76079570147292},{"$f":"'ITCER GLOBAL'!AE168","v":141.65985733179318},{"$f":"'ITCER GLOBAL'!AF168","v":195.07794392647438},{"$f":"'ITCER GLOBAL'!AG168","v":93.005309956497555},null,{"$f":"IF(EFECTOS!$N$9=\"COSTA RICA\",LOOKUP(1,GEfectos!$C$4:$I$4,GEfectos!C168:I168),IF(EFECTOS!$N$9=\"EL SALVADOR\",LOOKUP(2,GEfectos!$C$4:$I$4,GEfectos!C168:I168),IF(EFECTOS!$N$9=\"GUATEMALA\",LOOKUP(3,GEfectos!$C$4:$I$4,GEfectos!C168:I168),IF(EFECTOS!$N$9=\"HONDURAS\",LOOKUP(4,GEfectos!$C$4:$I$4,GEfectos!C168:I168),IF(EFECTOS!$N$9=\"NICARAGUA\",LOOKUP(5,GEfectos!$C$4:$I$4,GEfectos!C168:I168),IF(EFECTOS!$N$9=\"REPÚBLICA \nDOMINICANA\",LOOKUP(6,$C$4:$I$4,C168:I168),IF(EFECTOS!$N$9=\"PANAMÁ\",LOOKUP(7,GEfectos!$C$4:$I$4,GEfectos!C168:I168))))))))","v":112.80949714973958},{"$f":"IF(EFECTOS!$N$9=\"COSTA RICA\",LOOKUP(1,GEfectos!$J$4:$P$4,GEfectos!J168:P168),IF(EFECTOS!$N$9=\"EL SALVADOR\",LOOKUP(2,GEfectos!$J$4:$P$4,GEfectos!J168:P168),IF(EFECTOS!$N$9=\"GUATEMALA\",LOOKUP(3,GEfectos!$J$4:$P$4,GEfectos!J168:P168),IF(EFECTOS!$N$9=\"HONDURAS\",LOOKUP(4,GEfectos!$J$4:$P$4,GEfectos!J168:P168),IF(EFECTOS!$N$9=\"NICARAGUA\",LOOKUP(5,GEfectos!$J$4:$P$4,GEfectos!J168:P168),IF(EFECTOS!$N$9=\"REPÚBLICA \nDOMINICANA\",LOOKUP(6,$J$4:$P$4,J168:P168),IF(EFECTOS!$N$9=\"PANAMÁ\",LOOKUP(7,GEfectos!$J$4:$P$4,GEfectos!J168:P168))))))))","v":220.06644759350672},{"$f":"IF(EFECTOS!$N$9=\"COSTA RICA\",LOOKUP(1,GEfectos!$Q$4:$W$4,GEfectos!Q168:W168),IF(EFECTOS!$N$9=\"EL SALVADOR\",LOOKUP(2,GEfectos!$Q$4:$W$4,GEfectos!Q168:W168),IF(EFECTOS!$N$9=\"GUATEMALA\",LOOKUP(3,GEfectos!$Q$4:$W$4,GEfectos!Q168:W168),IF(EFECTOS!$N$9=\"HONDURAS\",LOOKUP(4,GEfectos!$Q$4:$W$4,GEfectos!Q168:W168),IF(EFECTOS!$N$9=\"NICARAGUA\",LOOKUP(5,GEfectos!$Q$4:$W$4,GEfectos!Q168:W168),IF(EFECTOS!$N$9=\"REPÚBLICA \nDOMINICANA\",LOOKUP(6,$Q$4:$W$4,Q168:W168),IF(EFECTOS!$N$9=\"PANAMÁ\",LOOKUP(7,GEfectos!$Q$4:$W$4,GEfectos!Q168:W168))))))))","v":195.07794392647438},100]
[null,{"$f":"'ITCER GLOBAL'!B169","v":"Agosto"},{"$f":"'ITCER GLOBAL'!C169","v":104.76994308829262},{"$f":"'ITCER GLOBAL'!D169","v":102.50804042684031},{"$f":"'ITCER GLOBAL'!E169","v":71.40522108619443},{"$f":"'ITCER GLOBAL'!F169","v":94.319190257048675},{"$f":"'ITCER GLOBAL'!G169","v":105.13781949101812},{"$f":"'ITCER GLOBAL'!H169","v":112.88239340005802},{"$f":"'ITCER GLOBAL'!I169","v":112.18344085341603},{"$f":"'ITCER GLOBAL'!S169","v":187.6081577775781},{"$f":"'ITCER GLOBAL'!T169","v":100.80566011421193},{"$f":"'ITCER GLOBAL'!U169","v":97.328480895375264},{"$f":"'ITCER GLOBAL'!V169","v":128.27796634911891},{"$f":"'ITCER GLOBAL'!W169","v":149.36685121539603},{"$f":"'ITCER GLOBAL'!X169","v":220.77416758840758},{"$f":"'ITCER GLOBAL'!Y169","v":104.76566280828629},{"$f":"'ITCER GLOBAL'!AA169","v":179.06677454188872},{"$f":"'ITCER GLOBAL'!AB169","v":98.339271431255824},{"$f":"'ITCER GLOBAL'!AC169","v":136.3044318256342},{"$f":"'ITCER GLOBAL'!AD169","v":136.00410054361382},{"$f":"'ITCER GLOBAL'!AE169","v":142.06767073779417},{"$f":"'ITCER GLOBAL'!AF169","v":195.57892151168201},{"$f":"'ITCER GLOBAL'!AG169","v":93.387813755131532},null,{"$f":"IF(EFECTOS!$N$9=\"COSTA RICA\",LOOKUP(1,GEfectos!$C$4:$I$4,GEfectos!C169:I169),IF(EFECTOS!$N$9=\"EL SALVADOR\",LOOKUP(2,GEfectos!$C$4:$I$4,GEfectos!C169:I169),IF(EFECTOS!$N$9=\"GUATEMALA\",LOOKUP(3,GEfectos!$C$4:$I$4,GEfectos!C169:I169),IF(EFECTOS!$N$9=\"HONDURAS\",LOOKUP(4,GEfectos!$C$4:$I$4,GEfectos!C169:I169),IF(EFECTOS!$N$9=\"NICARAGUA\",LOOKUP(5,GEfectos!$C$4:$I$4,GEfectos!C169:I169),IF(EFECTOS!$N$9=\"REPÚBLICA \nDOMINICANA\",LOOKUP(6,$C$4:$I$4,C169:I169),IF(EFECTOS!$N$9=\"PANAMÁ\",LOOKUP(7,GEfectos!$C$4:$I$4,GEfectos!C169:I169))))))))","v":112.88239340005802},{"$f":"IF(EFECTOS!$N$9=\"COSTA RICA\",LOOKUP(1,GEfectos!$J$4:$P$4,GEfectos!J169:P169),IF(EFECTOS!$N$9=\"EL SALVADOR\",LOOKUP(2,GEfectos!$J$4:$P$4,GEfectos!J169:P169),IF(EFECTOS!$N$9=\"GUATEMALA\",LOOKUP(3,GEfectos!$J$4:$P$4,GEfectos!J169:P169),IF(EFECTOS!$N$9=\"HONDURAS\",LOOKUP(4,GEfectos!$J$4:$P$4,GEfectos!J169:P169),IF(EFECTOS!$N$9=\"NICARAGUA\",LOOKUP(5,GEfectos!$J$4:$P$4,GEfectos!J169:P169),IF(EFECTOS!$N$9=\"REPÚBLICA \nDOMINICANA\",LOOKUP(6,$J$4:$P$4,J169:P169),IF(EFECTOS!$N$9=\"PANAMÁ\",LOOKUP(7,GEfectos!$J$4:$P$4,GEfectos!J169:P169))))))))","v":220.77416758840758},{"$f":"IF(EFECTOS!$N$9=\"COSTA RICA\",LOOKUP(1,GEfectos!$Q$4:$W$4,GEfectos!Q169:W169),IF(EFECTOS!$N$9=\"EL SALVADOR\",LOOKUP(2,GEfectos!$Q$4:$W$4,GEfectos!Q169:W169),IF(EFECTOS!$N$9=\"GUATEMALA\",LOOKUP(3,GEfectos!$Q$4:$W$4,GEfectos!Q169:W169),IF(EFECTOS!$N$9=\"HONDURAS\",LOOKUP(4,GEfectos!$Q$4:$W$4,GEfectos!Q169:W169),IF(EFECTOS!$N$9=\"NICARAGUA\",LOOKUP(5,GEfectos!$Q$4:$W$4,GEfectos!Q169:W169),IF(EFECTOS!$N$9=\"REPÚBLICA \nDOMINICANA\",LOOKUP(6,$Q$4:$W$4,Q169:W169),IF(EFECTOS!$N$9=\"PANAMÁ\",LOOKUP(7,GEfectos!$Q$4:$W$4,GEfectos!Q169:W169))))))))","v":195.57892151168201},100]
[null,{"$f":"'ITCER GLOBAL'!B170","v":"Septiembre"},{"$f":"'ITCER GLOBAL'!C170","v":102.79821839967614},{"$f":"'ITCER GLOBAL'!D170","v":101.83096641246276},{"$f":"'ITCER GLOBAL'!E170","v":71.083862211962924},{"$f":"'ITCER GLOBAL'!F170","v":93.203042182446993},{"$f":"'ITCER GLOBAL'!G170","v":103.29354677280162},{"$f":"'ITCER GLOBAL'!H170","v":110.56088794500519},{"$f":"'ITCER GLOBAL'!I170","v":109.47466510204001},{"$f":"'ITCER GLOBAL'!S170","v":185.77892217612074},{"$f":"'ITCER GLOBAL'!T170","v":99.658315486512748},{"$f":"'ITCER GLOBAL'!U170","v":96.677953805498277},{"$f":"'ITCER GLOBAL'!V170","v":126.90360305346576},{"$f":"'ITCER GLOBAL'!W170","v":146.8632454646125},{"$f":"'ITCER GLOBAL'!X170","v":218.7616433428044},{"$f":"'ITCER GLOBAL'!Y170","v":102.93058316252551},{"$f":"'ITCER GLOBAL'!AA170","v":180.72192793635617},{"$f":"'ITCER GLOBAL'!AB170","v":97.866414311389562},{"$f":"'ITCER GLOBAL'!AC170","v":136.00548816159858},{"$f":"'ITCER GLOBAL'!AD170","v":136.15821981974489},{"$f":"'ITCER GLOBAL'!AE170","v":142.18046533695298},{"$f":"'ITCER GLOBAL'!AF170","v":197.86530970302991},{"$f":"'ITCER GLOBAL'!AG170","v":94.022286404425316},null,{"$f":"IF(EFECTOS!$N$9=\"COSTA RICA\",LOOKUP(1,GEfectos!$C$4:$I$4,GEfectos!C170:I170),IF(EFECTOS!$N$9=\"EL SALVADOR\",LOOKUP(2,GEfectos!$C$4:$I$4,GEfectos!C170:I170),IF(EFECTOS!$N$9=\"GUATEMALA\",LOOKUP(3,GEfectos!$C$4:$I$4,GEfectos!C170:I170),IF(EFECTOS!$N$9=\"HONDURAS\",LOOKUP(4,GEfectos!$C$4:$I$4,GEfectos!C170:I170),IF(EFECTOS!$N$9=\"NICARAGUA\",LOOKUP(5,GEfectos!$C$4:$I$4,GEfectos!C170:I170),IF(EFECTOS!$N$9=\"REPÚBLICA \nDOMINICANA\",LOOKUP(6,$C$4:$I$4,C170:I170),IF(EFECTOS!$N$9=\"PANAMÁ\",LOOKUP(7,GEfectos!$C$4:$I$4,GEfectos!C170:I170))))))))","v":110.56088794500519},{"$f":"IF(EFECTOS!$N$9=\"COSTA RICA\",LOOKUP(1,GEfectos!$J$4:$P$4,GEfectos!J170:P170),IF(EFECTOS!$N$9=\"EL SALVADOR\",LOOKUP(2,GEfectos!$J$4:$P$4,GEfectos!J170:P170),IF(EFECTOS!$N$9=\"GUATEMALA\",LOOKUP(3,GEfectos!$J$4:$P$4,GEfectos!J170:P170),IF(EFECTOS!$N$9=\"HONDURAS\",LOOKUP(4,GEfectos!$J$4:$P$4,GEfectos!J170:P170),IF(EFECTOS!$N$9=\"NICARAGUA\",LOOKUP(5,GEfectos!$J$4:$P$4,GEfectos!J170:P170),IF(EFECTOS!$N$9=\"REPÚBLICA \nDOMINICANA\",LOOKUP(6,$J$4:$P$4,J170:P170),IF(EFECTOS!$N$9=\"PANAMÁ\",LOOKUP(7,GEfectos!$J$4:$P$4,GEfectos!J170:P170))))))))","v":218.7616433428044},{"$f":"IF(EFECTOS!$N$9=\"COSTA RICA\",LOOKUP(1,GEfectos!$Q$4:$W$4,GEfectos!Q170:W170),IF(EFECTOS!$N$9=\"EL SALVADOR\",LOOKUP(2,GEfectos!$Q$4:$W$4,GEfectos!Q170:W170),IF(EFECTOS!$N$9=\"GUATEMALA\",LOOKUP(3,GEfectos!$Q$4:$W$4,GEfectos!Q170:W170),IF(EFECTOS!$N$9=\"HONDURAS\",LOOKUP(4,GEfectos!$Q$4:$W$4,GEfectos!Q170:W170),IF(EFECTOS!$N$9=\"NICARAGUA\",LOOKUP(5,GEfectos!$Q$4:$W$4,GEfectos!Q170:W170),IF(EFECTOS!$N$9=\"REPÚBLICA \nDOMINICANA\",LOOKUP(6,$Q$4:$W$4,Q170:W170),IF(EFECTOS!$N$9=\"PANAMÁ\",LOOKUP(7,GEfectos!$Q$4:$W$4,GEfectos!Q170:W170))))))))","v":197.86530970302991},100]
[null,{"$f":"'ITCER GLOBAL'!B171","v":"Octubre"},{"$f":"'ITCER GLOBAL'!C171","v":98.810889079176093},{"$f":"'ITCER GLOBAL'!D171","v":99.412464121261479},{"$f":"'ITCER GLOBAL'!E171","v":68.78380510884908},{"$f":"'ITCER GLOBAL'!F171","v":90.151655699109156},{"$f":"'ITCER GLOBAL'!G171","v":100.4300790136879},{"$f":"'ITCER GLOBAL'!H171","v":108.74678723661142},{"$f":"'ITCER GLOBAL'!I171","v":105.73530602149347},{"$f":"'ITCER GLOBAL'!S171","v":181.24682471356496},{"$f":"'ITCER GLOBAL'!T171","v":97.118248560957198},{"$f":"'ITCER GLOBAL'!U171","v":94.383472231857823},{"$f":"'ITCER GLOBAL'!V171","v":123.98966126724507},{"$f":"'ITCER GLOBAL'!W171","v":142.93224949850548},{"$f":"'ITCER GLOBAL'!X171","v":214.24738768315041},{"$f":"'ITCER GLOBAL'!Y171","v":99.769302161907603},{"$f":"'ITCER GLOBAL'!AA171","v":183.42798693809331},{"$f":"'ITCER GLOBAL'!AB171","v":97.692225436132603},{"$f":"'ITCER GLOBAL'!AC171","v":137.21757917070411},{"$f":"'ITCER GLOBAL'!AD171","v":137.53453589479696},{"$f":"'ITCER GLOBAL'!AE171","v":142.32016035656494},{"$f":"'ITCER GLOBAL'!AF171","v":197.01491246540519},{"$f":"'ITCER GLOBAL'!AG171","v":94.357604773590836},null,{"$f":"IF(EFECTOS!$N$9=\"COSTA RICA\",LOOKUP(1,GEfectos!$C$4:$I$4,GEfectos!C171:I171),IF(EFECTOS!$N$9=\"EL SALVADOR\",LOOKUP(2,GEfectos!$C$4:$I$4,GEfectos!C171:I171),IF(EFECTOS!$N$9=\"GUATEMALA\",LOOKUP(3,GEfectos!$C$4:$I$4,GEfectos!C171:I171),IF(EFECTOS!$N$9=\"HONDURAS\",LOOKUP(4,GEfectos!$C$4:$I$4,GEfectos!C171:I171),IF(EFECTOS!$N$9=\"NICARAGUA\",LOOKUP(5,GEfectos!$C$4:$I$4,GEfectos!C171:I171),IF(EFECTOS!$N$9=\"REPÚBLICA \nDOMINICANA\",LOOKUP(6,$C$4:$I$4,C171:I171),IF(EFECTOS!$N$9=\"PANAMÁ\",LOOKUP(7,GEfectos!$C$4:$I$4,GEfectos!C171:I171))))))))","v":108.74678723661142},{"$f":"IF(EFECTOS!$N$9=\"COSTA RICA\",LOOKUP(1,GEfectos!$J$4:$P$4,GEfectos!J171:P171),IF(EFECTOS!$N$9=\"EL SALVADOR\",LOOKUP(2,GEfectos!$J$4:$P$4,GEfectos!J171:P171),IF(EFECTOS!$N$9=\"GUATEMALA\",LOOKUP(3,GEfectos!$J$4:$P$4,GEfectos!J171:P171),IF(EFECTOS!$N$9=\"HONDURAS\",LOOKUP(4,GEfectos!$J$4:$P$4,GEfectos!J171:P171),IF(EFECTOS!$N$9=\"NICARAGUA\",LOOKUP(5,GEfectos!$J$4:$P$4,GEfectos!J171:P171),IF(EFECTOS!$N$9=\"REPÚBLICA \nDOMINICANA\",LOOKUP(6,$J$4:$P$4,J171:P171),IF(EFECTOS!$N$9=\"PANAMÁ\",LOOKUP(7,GEfectos!$J$4:$P$4,GEfectos!J171:P171))))))))","v":214.24738768315041},{"$f":"IF(EFECTOS!$N$9=\"COSTA RICA\",LOOKUP(1,GEfectos!$Q$4:$W$4,GEfectos!Q171:W171),IF(EFECTOS!$N$9=\"EL SALVADOR\",LOOKUP(2,GEfectos!$Q$4:$W$4,GEfectos!Q171:W171),IF(EFECTOS!$N$9=\"GUATEMALA\",LOOKUP(3,GEfectos!$Q$4:$W$4,GEfectos!Q171:W171),IF(EFECTOS!$N$9=\"HONDURAS\",LOOKUP(4,GEfectos!$Q$4:$W$4,GEfectos!Q171:W171),IF(EFECTOS!$N$9=\"NICARAGUA\",LOOKUP(5,GEfectos!$Q$4:$W$4,GEfectos!Q171:W171),IF(EFECTOS!$N$9=\"REPÚBLICA \nDOMINICANA\",LOOKUP(6,$Q$4:$W$4,Q171:W171),IF(EFECTOS!$N$9=\"PANAMÁ\",LOOKUP(7,GEfectos!$Q$4:$W$4,GEfectos!Q171:W171))))))))","v":197.01491246540519},100]
[null,{"$f":"'ITCER GLOBAL'!B172","v":"Noviembre"},{"$f":"'ITCER GLOBAL'!C172","v":95.427978732854285},{"$f":"'ITCER GLOBAL'!D172","v":98.350305437991253},{"$f":"'ITCER GLOBAL'!E172","v":68.540386353964607},{"$f":"'ITCER GLOBAL'!F172","v":88.775498028910732},{"$f":"'ITCER GLOBAL'!G172","v":99.26606979562608},{"$f":"'ITCER GLOBAL'!H172","v":110.78824665378716},{"$f":"'ITCER GLOBAL'!I172","v":104.44561246110126},{"$f":"'ITCER GLOBAL'!S172","v":179.13544684781539},{"$f":"'ITCER GLOBAL'!T172","v":96.334489719680448},{"$f":"'ITCER GLOBAL'!U172","v":94.92864834698652},{"$f":"'ITCER GLOBAL'!V172","v":122.99951603744542},{"$f":"'ITCER GLOBAL'!W172","v":142.11179911648344},{"$f":"'ITCER GLOBAL'!X172","v":213.90643360577664},{"$f":"'ITCER GLOBAL'!Y172","v":98.889303064654356},{"$f":"'ITCER GLOBAL'!AA172","v":187.71795151325153},{"$f":"'ITCER GLOBAL'!AB172","v":97.950371674664765},{"$f":"'ITCER GLOBAL'!AC172","v":138.50031112568354},{"$f":"'ITCER GLOBAL'!AD172","v":138.55119798639626},{"$f":"'ITCER GLOBAL'!AE172","v":143.16251203363879},{"$f":"'ITCER GLOBAL'!AF172","v":193.07682905591369},{"$f":"'ITCER GLOBAL'!AG172","v":94.680188793458171},null,{"$f":"IF(EFECTOS!$N$9=\"COSTA RICA\",LOOKUP(1,GEfectos!$C$4:$I$4,GEfectos!C172:I172),IF(EFECTOS!$N$9=\"EL SALVADOR\",LOOKUP(2,GEfectos!$C$4:$I$4,GEfectos!C172:I172),IF(EFECTOS!$N$9=\"GUATEMALA\",LOOKUP(3,GEfectos!$C$4:$I$4,GEfectos!C172:I172),IF(EFECTOS!$N$9=\"HONDURAS\",LOOKUP(4,GEfectos!$C$4:$I$4,GEfectos!C172:I172),IF(EFECTOS!$N$9=\"NICARAGUA\",LOOKUP(5,GEfectos!$C$4:$I$4,GEfectos!C172:I172),IF(EFECTOS!$N$9=\"REPÚBLICA \nDOMINICANA\",LOOKUP(6,$C$4:$I$4,C172:I172),IF(EFECTOS!$N$9=\"PANAMÁ\",LOOKUP(7,GEfectos!$C$4:$I$4,GEfectos!C172:I172))))))))","v":110.78824665378716},{"$f":"IF(EFECTOS!$N$9=\"COSTA RICA\",LOOKUP(1,GEfectos!$J$4:$P$4,GEfectos!J172:P172),IF(EFECTOS!$N$9=\"EL SALVADOR\",LOOKUP(2,GEfectos!$J$4:$P$4,GEfectos!J172:P172),IF(EFECTOS!$N$9=\"GUATEMALA\",LOOKUP(3,GEfectos!$J$4:$P$4,GEfectos!J172:P172),IF(EFECTOS!$N$9=\"HONDURAS\",LOOKUP(4,GEfectos!$J$4:$P$4,GEfectos!J172:P172),IF(EFECTOS!$N$9=\"NICARAGUA\",LOOKUP(5,GEfectos!$J$4:$P$4,GEfectos!J172:P172),IF(EFECTOS!$N$9=\"REPÚBLICA \nDOMINICANA\",LOOKUP(6,$J$4:$P$4,J172:P172),IF(EFECTOS!$N$9=\"PANAMÁ\",LOOKUP(7,GEfectos!$J$4:$P$4,GEfectos!J172:P172))))))))","v":213.90643360577664},{"$f":"IF(EFECTOS!$N$9=\"COSTA RICA\",LOOKUP(1,GEfectos!$Q$4:$W$4,GEfectos!Q172:W172),IF(EFECTOS!$N$9=\"EL SALVADOR\",LOOKUP(2,GEfectos!$Q$4:$W$4,GEfectos!Q172:W172),IF(EFECTOS!$N$9=\"GUATEMALA\",LOOKUP(3,GEfectos!$Q$4:$W$4,GEfectos!Q172:W172),IF(EFECTOS!$N$9=\"HONDURAS\",LOOKUP(4,GEfectos!$Q$4:$W$4,GEfectos!Q172:W172),IF(EFECTOS!$N$9=\"NICARAGUA\",LOOKUP(5,GEfectos!$Q$4:$W$4,GEfectos!Q172:W172),IF(EFECTOS!$N$9=\"REPÚBLICA \nDOMINICANA\",LOOKUP(6,$Q$4:$W$4,Q172:W172),IF(EFECTOS!$N$9=\"PANAMÁ\",LOOKUP(7,GEfectos!$Q$4:$W$4,GEfectos!Q172:W172))))))))","v":193.07682905591369},100]
[null,{"$f":"'ITCER GLOBAL'!B173","v":"Diciembre"},{"$f":"'ITCER GLOBAL'!C173","v":95.356919846526253},{"$f":"'ITCER GLOBAL'!D173","v":98.190728252258992},{"$f":"'ITCER GLOBAL'!E173","v":69.327421433211356},{"$f":"'ITCER GLOBAL'!F173","v":88.619175728497083},{"$f":"'ITCER GLOBAL'!G173","v":99.71119325237288},{"$f":"'ITCER GLOBAL'!H173","v":112.42472224454369},{"$f":"'ITCER GLOBAL'!I173","v":105.37223034547348},{"$f":"'ITCER GLOBAL'!S173","v":179.21058341237006},{"$f":"'ITCER GLOBAL'!T173","v":96.442677202771335},{"$f":"'ITCER GLOBAL'!U173","v":96.125584769809009},{"$f":"'ITCER GLOBAL'!V173","v":123.59599451706869},{"$f":"'ITCER GLOBAL'!W173","v":142.91248869060703},{"$f":"'ITCER GLOBAL'!X173","v":215.54920656184925},{"$f":"'ITCER GLOBAL'!Y173","v":99.875382779078578},{"$f":"'ITCER GLOBAL'!AA173","v":187.93663186772753},{"$f":"'ITCER GLOBAL'!AB173","v":98.219739194726415},{"$f":"'ITCER GLOBAL'!AC173","v":138.65449310330183},{"$f":"'ITCER GLOBAL'!AD173","v":139.46867988902335},{"$f":"'ITCER GLOBAL'!AE173","v":143.32642507736318},{"$f":"'ITCER GLOBAL'!AF173","v":191.72758647603465},{"$f":"'ITCER GLOBAL'!AG173","v":94.783400191518268},null,{"$f":"IF(EFECTOS!$N$9=\"COSTA RICA\",LOOKUP(1,GEfectos!$C$4:$I$4,GEfectos!C173:I173),IF(EFECTOS!$N$9=\"EL SALVADOR\",LOOKUP(2,GEfectos!$C$4:$I$4,GEfectos!C173:I173),IF(EFECTOS!$N$9=\"GUATEMALA\",LOOKUP(3,GEfectos!$C$4:$I$4,GEfectos!C173:I173),IF(EFECTOS!$N$9=\"HONDURAS\",LOOKUP(4,GEfectos!$C$4:$I$4,GEfectos!C173:I173),IF(EFECTOS!$N$9=\"NICARAGUA\",LOOKUP(5,GEfectos!$C$4:$I$4,GEfectos!C173:I173),IF(EFECTOS!$N$9=\"REPÚBLICA \nDOMINICANA\",LOOKUP(6,$C$4:$I$4,C173:I173),IF(EFECTOS!$N$9=\"PANAMÁ\",LOOKUP(7,GEfectos!$C$4:$I$4,GEfectos!C173:I173))))))))","v":112.42472224454369},{"$f":"IF(EFECTOS!$N$9=\"COSTA RICA\",LOOKUP(1,GEfectos!$J$4:$P$4,GEfectos!J173:P173),IF(EFECTOS!$N$9=\"EL SALVADOR\",LOOKUP(2,GEfectos!$J$4:$P$4,GEfectos!J173:P173),IF(EFECTOS!$N$9=\"GUATEMALA\",LOOKUP(3,GEfectos!$J$4:$P$4,GEfectos!J173:P173),IF(EFECTOS!$N$9=\"HONDURAS\",LOOKUP(4,GEfectos!$J$4:$P$4,GEfectos!J173:P173),IF(EFECTOS!$N$9=\"NICARAGUA\",LOOKUP(5,GEfectos!$J$4:$P$4,GEfectos!J173:P173),IF(EFECTOS!$N$9=\"REPÚBLICA \nDOMINICANA\",LOOKUP(6,$J$4:$P$4,J173:P173),IF(EFECTOS!$N$9=\"PANAMÁ\",LOOKUP(7,GEfectos!$J$4:$P$4,GEfectos!J173:P173))))))))","v":215.54920656184925},{"$f":"IF(EFECTOS!$N$9=\"COSTA RICA\",LOOKUP(1,GEfectos!$Q$4:$W$4,GEfectos!Q173:W173),IF(EFECTOS!$N$9=\"EL SALVADOR\",LOOKUP(2,GEfectos!$Q$4:$W$4,GEfectos!Q173:W173),IF(EFECTOS!$N$9=\"GUATEMALA\",LOOKUP(3,GEfectos!$Q$4:$W$4,GEfectos!Q173:W173),IF(EFECTOS!$N$9=\"HONDURAS\",LOOKUP(4,GEfectos!$Q$4:$W$4,GEfectos!Q173:W173),IF(EFECTOS!$N$9=\"NICARAGUA\",LOOKUP(5,GEfectos!$Q$4:$W$4,GEfectos!Q173:W173),IF(EFECTOS!$N$9=\"REPÚBLICA \nDOMINICANA\",LOOKUP(6,$Q$4:$W$4,Q173:W173),IF(EFECTOS!$N$9=\"PANAMÁ\",LOOKUP(7,GEfectos!$Q$4:$W$4,GEfectos!Q173:W173))))))))","v":191.72758647603465},100]
[2009,{"$f":"'ITCER GLOBAL'!B174","v":"Enero"},{"$f":"'ITCER GLOBAL'!C174","v":95.351587729902732},{"$f":"'ITCER GLOBAL'!D174","v":98.397764876385921},{"$f":"'ITCER GLOBAL'!E174","v":70.810196686436186},{"$f":"'ITCER GLOBAL'!F174","v":87.7668790355455},{"$f":"'ITCER GLOBAL'!G174","v":100.09882863175851},{"$f":"'ITCER GLOBAL'!H174","v":116.30618078301399},{"$f":"'ITCER GLOBAL'!I174","v":105.31833703314564},{"$f":"'ITCER GLOBAL'!S174","v":179.02478347482918},{"$f":"'ITCER GLOBAL'!T174","v":95.607397903383728},{"$f":"'ITCER GLOBAL'!U174","v":97.199935997822635},{"$f":"'ITCER GLOBAL'!V174","v":122.60972758830817},{"$f":"'ITCER GLOBAL'!W174","v":143.50654156793456},{"$f":"'ITCER GLOBAL'!X174","v":216.07453036181937},{"$f":"'ITCER GLOBAL'!Y174","v":99.627022258889383},{"$f":"'ITCER GLOBAL'!AA174","v":187.75228366615457},{"$f":"'ITCER GLOBAL'!AB174","v":97.164196791962041},{"$f":"'ITCER GLOBAL'!AC174","v":137.26827568103826},{"$f":"'ITCER GLOBAL'!AD174","v":139.6993136085554},{"$f":"'ITCER GLOBAL'!AE174","v":143.36485604228542},{"$f":"'ITCER GLOBAL'!AF174","v":185.78078044273303},{"$f":"'ITCER GLOBAL'!AG174","v":94.596083707184732},null,{"$f":"IF(EFECTOS!$N$9=\"COSTA RICA\",LOOKUP(1,GEfectos!$C$4:$I$4,GEfectos!C174:I174),IF(EFECTOS!$N$9=\"EL SALVADOR\",LOOKUP(2,GEfectos!$C$4:$I$4,GEfectos!C174:I174),IF(EFECTOS!$N$9=\"GUATEMALA\",LOOKUP(3,GEfectos!$C$4:$I$4,GEfectos!C174:I174),IF(EFECTOS!$N$9=\"HONDURAS\",LOOKUP(4,GEfectos!$C$4:$I$4,GEfectos!C174:I174),IF(EFECTOS!$N$9=\"NICARAGUA\",LOOKUP(5,GEfectos!$C$4:$I$4,GEfectos!C174:I174),IF(EFECTOS!$N$9=\"REPÚBLICA \nDOMINICANA\",LOOKUP(6,$C$4:$I$4,C174:I174),IF(EFECTOS!$N$9=\"PANAMÁ\",LOOKUP(7,GEfectos!$C$4:$I$4,GEfectos!C174:I174))))))))","v":116.30618078301399},{"$f":"IF(EFECTOS!$N$9=\"COSTA RICA\",LOOKUP(1,GEfectos!$J$4:$P$4,GEfectos!J174:P174),IF(EFECTOS!$N$9=\"EL SALVADOR\",LOOKUP(2,GEfectos!$J$4:$P$4,GEfectos!J174:P174),IF(EFECTOS!$N$9=\"GUATEMALA\",LOOKUP(3,GEfectos!$J$4:$P$4,GEfectos!J174:P174),IF(EFECTOS!$N$9=\"HONDURAS\",LOOKUP(4,GEfectos!$J$4:$P$4,GEfectos!J174:P174),IF(EFECTOS!$N$9=\"NICARAGUA\",LOOKUP(5,GEfectos!$J$4:$P$4,GEfectos!J174:P174),IF(EFECTOS!$N$9=\"REPÚBLICA \nDOMINICANA\",LOOKUP(6,$J$4:$P$4,J174:P174),IF(EFECTOS!$N$9=\"PANAMÁ\",LOOKUP(7,GEfectos!$J$4:$P$4,GEfectos!J174:P174))))))))","v":216.07453036181937},{"$f":"IF(EFECTOS!$N$9=\"COSTA RICA\",LOOKUP(1,GEfectos!$Q$4:$W$4,GEfectos!Q174:W174),IF(EFECTOS!$N$9=\"EL SALVADOR\",LOOKUP(2,GEfectos!$Q$4:$W$4,GEfectos!Q174:W174),IF(EFECTOS!$N$9=\"GUATEMALA\",LOOKUP(3,GEfectos!$Q$4:$W$4,GEfectos!Q174:W174),IF(EFECTOS!$N$9=\"HONDURAS\",LOOKUP(4,GEfectos!$Q$4:$W$4,GEfectos!Q174:W174),IF(EFECTOS!$N$9=\"NICARAGUA\",LOOKUP(5,GEfectos!$Q$4:$W$4,GEfectos!Q174:W174),IF(EFECTOS!$N$9=\"REPÚBLICA \nDOMINICANA\",LOOKUP(6,$Q$4:$W$4,Q174:W174),IF(EFECTOS!$N$9=\"PANAMÁ\",LOOKUP(7,GEfectos!$Q$4:$W$4,GEfectos!Q174:W174))))))))","v":185.78078044273303},100]
[null,{"$f":"'ITCER GLOBAL'!B175","v":"Febrero"},{"$f":"'ITCER GLOBAL'!C175","v":95.199975638937843},{"$f":"'ITCER GLOBAL'!D175","v":97.825103445823487},{"$f":"'ITCER GLOBAL'!E175","v":71.427575473002733},{"$f":"'ITCER GLOBAL'!F175","v":86.444382713898733},{"$f":"'ITCER GLOBAL'!G175","v":98.842659782061602},{"$f":"'ITCER GLOBAL'!H175","v":115.5720802370975},{"$f":"'ITCER GLOBAL'!I175","v":103.71247086765044},{"$f":"'ITCER GLOBAL'!S175","v":178.91406531048645},{"$f":"'ITCER GLOBAL'!T175","v":94.627021080243296},{"$f":"'ITCER GLOBAL'!U175","v":97.093778179920236},{"$f":"'ITCER GLOBAL'!V175","v":121.35109339584305},{"$f":"'ITCER GLOBAL'!W175","v":142.1333791467253},{"$f":"'ITCER GLOBAL'!X175","v":214.52729981492428},{"$f":"'ITCER GLOBAL'!Y175","v":98.067152882523473},{"$f":"'ITCER GLOBAL'!AA175","v":187.9349906443764},{"$f":"'ITCER GLOBAL'!AB175","v":96.730816270129154},{"$f":"'ITCER GLOBAL'!AC175","v":135.93318481966182},{"$f":"'ITCER GLOBAL'!AD175","v":140.38054247836271},{"$f":"'ITCER GLOBAL'!AE175","v":143.79760668128066},{"$f":"'ITCER GLOBAL'!AF175","v":185.62208050146626},{"$f":"'ITCER GLOBAL'!AG175","v":94.556760688566499},null,{"$f":"IF(EFECTOS!$N$9=\"COSTA RICA\",LOOKUP(1,GEfectos!$C$4:$I$4,GEfectos!C175:I175),IF(EFECTOS!$N$9=\"EL SALVADOR\",LOOKUP(2,GEfectos!$C$4:$I$4,GEfectos!C175:I175),IF(EFECTOS!$N$9=\"GUATEMALA\",LOOKUP(3,GEfectos!$C$4:$I$4,GEfectos!C175:I175),IF(EFECTOS!$N$9=\"HONDURAS\",LOOKUP(4,GEfectos!$C$4:$I$4,GEfectos!C175:I175),IF(EFECTOS!$N$9=\"NICARAGUA\",LOOKUP(5,GEfectos!$C$4:$I$4,GEfectos!C175:I175),IF(EFECTOS!$N$9=\"REPÚBLICA \nDOMINICANA\",LOOKUP(6,$C$4:$I$4,C175:I175),IF(EFECTOS!$N$9=\"PANAMÁ\",LOOKUP(7,GEfectos!$C$4:$I$4,GEfectos!C175:I175))))))))","v":115.5720802370975},{"$f":"IF(EFECTOS!$N$9=\"COSTA RICA\",LOOKUP(1,GEfectos!$J$4:$P$4,GEfectos!J175:P175),IF(EFECTOS!$N$9=\"EL SALVADOR\",LOOKUP(2,GEfectos!$J$4:$P$4,GEfectos!J175:P175),IF(EFECTOS!$N$9=\"GUATEMALA\",LOOKUP(3,GEfectos!$J$4:$P$4,GEfectos!J175:P175),IF(EFECTOS!$N$9=\"HONDURAS\",LOOKUP(4,GEfectos!$J$4:$P$4,GEfectos!J175:P175),IF(EFECTOS!$N$9=\"NICARAGUA\",LOOKUP(5,GEfectos!$J$4:$P$4,GEfectos!J175:P175),IF(EFECTOS!$N$9=\"REPÚBLICA \nDOMINICANA\",LOOKUP(6,$J$4:$P$4,J175:P175),IF(EFECTOS!$N$9=\"PANAMÁ\",LOOKUP(7,GEfectos!$J$4:$P$4,GEfectos!J175:P175))))))))","v":214.52729981492428},{"$f":"IF(EFECTOS!$N$9=\"COSTA RICA\",LOOKUP(1,GEfectos!$Q$4:$W$4,GEfectos!Q175:W175),IF(EFECTOS!$N$9=\"EL SALVADOR\",LOOKUP(2,GEfectos!$Q$4:$W$4,GEfectos!Q175:W175),IF(EFECTOS!$N$9=\"GUATEMALA\",LOOKUP(3,GEfectos!$Q$4:$W$4,GEfectos!Q175:W175),IF(EFECTOS!$N$9=\"HONDURAS\",LOOKUP(4,GEfectos!$Q$4:$W$4,GEfectos!Q175:W175),IF(EFECTOS!$N$9=\"NICARAGUA\",LOOKUP(5,GEfectos!$Q$4:$W$4,GEfectos!Q175:W175),IF(EFECTOS!$N$9=\"REPÚBLICA \nDOMINICANA\",LOOKUP(6,$Q$4:$W$4,Q175:W175),IF(EFECTOS!$N$9=\"PANAMÁ\",LOOKUP(7,GEfectos!$Q$4:$W$4,GEfectos!Q175:W175))))))))","v":185.62208050146626},100]
[null,{"$f":"'ITCER GLOBAL'!B176","v":"Marzo"},{"$f":"'ITCER GLOBAL'!C176","v":95.838577349110054},{"$f":"'ITCER GLOBAL'!D176","v":97.332187421343292},{"$f":"'ITCER GLOBAL'!E176","v":72.938858953919166},{"$f":"'ITCER GLOBAL'!F176","v":86.511565274049474},{"$f":"'ITCER GLOBAL'!G176","v":99.465134526229889},{"$f":"'ITCER GLOBAL'!H176","v":116.09958473223075},{"$f":"'ITCER GLOBAL'!I176","v":103.09324293799334},{"$f":"'ITCER GLOBAL'!S176","v":179.77198229765469},{"$f":"'ITCER GLOBAL'!T176","v":94.4498441238336},{"$f":"'ITCER GLOBAL'!U176","v":98.638287920203339},{"$f":"'ITCER GLOBAL'!V176","v":121.18744290970315},{"$f":"'ITCER GLOBAL'!W176","v":141.97704678964212},{"$f":"'ITCER GLOBAL'!X176","v":215.3566492431045},{"$f":"'ITCER GLOBAL'!Y176","v":97.904970044531666},{"$f":"'ITCER GLOBAL'!AA176","v":187.57789114794707},{"$f":"'ITCER GLOBAL'!AB176","v":97.038653528834956},{"$f":"'ITCER GLOBAL'!AC176","v":135.23420757448426},{"$f":"'ITCER GLOBAL'!AD176","v":140.08236069455936},{"$f":"'ITCER GLOBAL'!AE176","v":142.74051652964027},{"$f":"'ITCER GLOBAL'!AF176","v":185.49304008261339},{"$f":"'ITCER GLOBAL'!AG176","v":94.967397721126872},null,{"$f":"IF(EFECTOS!$N$9=\"COSTA RICA\",LOOKUP(1,GEfectos!$C$4:$I$4,GEfectos!C176:I176),IF(EFECTOS!$N$9=\"EL SALVADOR\",LOOKUP(2,GEfectos!$C$4:$I$4,GEfectos!C176:I176),IF(EFECTOS!$N$9=\"GUATEMALA\",LOOKUP(3,GEfectos!$C$4:$I$4,GEfectos!C176:I176),IF(EFECTOS!$N$9=\"HONDURAS\",LOOKUP(4,GEfectos!$C$4:$I$4,GEfectos!C176:I176),IF(EFECTOS!$N$9=\"NICARAGUA\",LOOKUP(5,GEfectos!$C$4:$I$4,GEfectos!C176:I176),IF(EFECTOS!$N$9=\"REPÚBLICA \nDOMINICANA\",LOOKUP(6,$C$4:$I$4,C176:I176),IF(EFECTOS!$N$9=\"PANAMÁ\",LOOKUP(7,GEfectos!$C$4:$I$4,GEfectos!C176:I176))))))))","v":116.09958473223075},{"$f":"IF(EFECTOS!$N$9=\"COSTA RICA\",LOOKUP(1,GEfectos!$J$4:$P$4,GEfectos!J176:P176),IF(EFECTOS!$N$9=\"EL SALVADOR\",LOOKUP(2,GEfectos!$J$4:$P$4,GEfectos!J176:P176),IF(EFECTOS!$N$9=\"GUATEMALA\",LOOKUP(3,GEfectos!$J$4:$P$4,GEfectos!J176:P176),IF(EFECTOS!$N$9=\"HONDURAS\",LOOKUP(4,GEfectos!$J$4:$P$4,GEfectos!J176:P176),IF(EFECTOS!$N$9=\"NICARAGUA\",LOOKUP(5,GEfectos!$J$4:$P$4,GEfectos!J176:P176),IF(EFECTOS!$N$9=\"REPÚBLICA \nDOMINICANA\",LOOKUP(6,$J$4:$P$4,J176:P176),IF(EFECTOS!$N$9=\"PANAMÁ\",LOOKUP(7,GEfectos!$J$4:$P$4,GEfectos!J176:P176))))))))","v":215.3566492431045},{"$f":"IF(EFECTOS!$N$9=\"COSTA RICA\",LOOKUP(1,GEfectos!$Q$4:$W$4,GEfectos!Q176:W176),IF(EFECTOS!$N$9=\"EL SALVADOR\",LOOKUP(2,GEfectos!$Q$4:$W$4,GEfectos!Q176:W176),IF(EFECTOS!$N$9=\"GUATEMALA\",LOOKUP(3,GEfectos!$Q$4:$W$4,GEfectos!Q176:W176),IF(EFECTOS!$N$9=\"HONDURAS\",LOOKUP(4,GEfectos!$Q$4:$W$4,GEfectos!Q176:W176),IF(EFECTOS!$N$9=\"NICARAGUA\",LOOKUP(5,GEfectos!$Q$4:$W$4,GEfectos!Q176:W176),IF(EFECTOS!$N$9=\"REPÚBLICA \nDOMINICANA\",LOOKUP(6,$Q$4:$W$4,Q176:W176),IF(EFECTOS!$N$9=\"PANAMÁ\",LOOKUP(7,GEfectos!$Q$4:$W$4,GEfectos!Q176:W176))))))))","v":185.49304008261339},100]
[null,{"$f":"'ITCER GLOBAL'!B177","v":"Abril"},{"$f":"'ITCER GLOBAL'!C177","v":97.395925120972947},{"$f":"'ITCER GLOBAL'!D177","v":98.419592354459269},{"$f":"'ITCER GLOBAL'!E177","v":74.145751833318002},{"$f":"'ITCER GLOBAL'!F177","v":87.106255304790892},{"$f":"'ITCER GLOBAL'!G177","v":101.04499464656966},{"$f":"'ITCER GLOBAL'!H177","v":117.79097391713424},{"$f":"'ITCER GLOBAL'!I177","v":104.0022208149433},{"$f":"'ITCER GLOBAL'!S177","v":182.93048196016946},{"$f":"'ITCER GLOBAL'!T177","v":95.369426663157896},{"$f":"'ITCER GLOBAL'!U177","v":100.12587651617868},{"$f":"'ITCER GLOBAL'!V177","v":122.16621155327189},{"$f":"'ITCER GLOBAL'!W177","v":143.79844790039593},{"$f":"'ITCER GLOBAL'!X177","v":218.3062961569743},{"$f":"'ITCER GLOBAL'!Y177","v":98.955959580570081},{"$f":"'ITCER GLOBAL'!AA177","v":187.8214943109337},{"$f":"'ITCER GLOBAL'!AB177","v":96.900855187129636},{"$f":"'ITCER GLOBAL'!AC177","v":135.03926258818552},{"$f":"'ITCER GLOBAL'!AD177","v":140.24964237735139},{"$f":"'ITCER GLOBAL'!AE177","v":142.31130240876081},{"$f":"'ITCER GLOBAL'!AF177","v":185.33363711768988},{"$f":"'ITCER GLOBAL'!AG177","v":95.147929347247029},null,{"$f":"IF(EFECTOS!$N$9=\"COSTA RICA\",LOOKUP(1,GEfectos!$C$4:$I$4,GEfectos!C177:I177),IF(EFECTOS!$N$9=\"EL SALVADOR\",LOOKUP(2,GEfectos!$C$4:$I$4,GEfectos!C177:I177),IF(EFECTOS!$N$9=\"GUATEMALA\",LOOKUP(3,GEfectos!$C$4:$I$4,GEfectos!C177:I177),IF(EFECTOS!$N$9=\"HONDURAS\",LOOKUP(4,GEfectos!$C$4:$I$4,GEfectos!C177:I177),IF(EFECTOS!$N$9=\"NICARAGUA\",LOOKUP(5,GEfectos!$C$4:$I$4,GEfectos!C177:I177),IF(EFECTOS!$N$9=\"REPÚBLICA \nDOMINICANA\",LOOKUP(6,$C$4:$I$4,C177:I177),IF(EFECTOS!$N$9=\"PANAMÁ\",LOOKUP(7,GEfectos!$C$4:$I$4,GEfectos!C177:I177))))))))","v":117.79097391713424},{"$f":"IF(EFECTOS!$N$9=\"COSTA RICA\",LOOKUP(1,GEfectos!$J$4:$P$4,GEfectos!J177:P177),IF(EFECTOS!$N$9=\"EL SALVADOR\",LOOKUP(2,GEfectos!$J$4:$P$4,GEfectos!J177:P177),IF(EFECTOS!$N$9=\"GUATEMALA\",LOOKUP(3,GEfectos!$J$4:$P$4,GEfectos!J177:P177),IF(EFECTOS!$N$9=\"HONDURAS\",LOOKUP(4,GEfectos!$J$4:$P$4,GEfectos!J177:P177),IF(EFECTOS!$N$9=\"NICARAGUA\",LOOKUP(5,GEfectos!$J$4:$P$4,GEfectos!J177:P177),IF(EFECTOS!$N$9=\"REPÚBLICA \nDOMINICANA\",LOOKUP(6,$J$4:$P$4,J177:P177),IF(EFECTOS!$N$9=\"PANAMÁ\",LOOKUP(7,GEfectos!$J$4:$P$4,GEfectos!J177:P177))))))))","v":218.3062961569743},{"$f":"IF(EFECTOS!$N$9=\"COSTA RICA\",LOOKUP(1,GEfectos!$Q$4:$W$4,GEfectos!Q177:W177),IF(EFECTOS!$N$9=\"EL SALVADOR\",LOOKUP(2,GEfectos!$Q$4:$W$4,GEfectos!Q177:W177),IF(EFECTOS!$N$9=\"GUATEMALA\",LOOKUP(3,GEfectos!$Q$4:$W$4,GEfectos!Q177:W177),IF(EFECTOS!$N$9=\"HONDURAS\",LOOKUP(4,GEfectos!$Q$4:$W$4,GEfectos!Q177:W177),IF(EFECTOS!$N$9=\"NICARAGUA\",LOOKUP(5,GEfectos!$Q$4:$W$4,GEfectos!Q177:W177),IF(EFECTOS!$N$9=\"REPÚBLICA \nDOMINICANA\",LOOKUP(6,$Q$4:$W$4,Q177:W177),IF(EFECTOS!$N$9=\"PANAMÁ\",LOOKUP(7,GEfectos!$Q$4:$W$4,GEfectos!Q177:W177))))))))","v":185.33363711768988},100]
[null,{"$f":"'ITCER GLOBAL'!B178","v":"Mayo"},{"$f":"'ITCER GLOBAL'!C178","v":99.411543054850455},{"$f":"'ITCER GLOBAL'!D178","v":98.880787863226004},{"$f":"'ITCER GLOBAL'!E178","v":74.832356175212112},{"$f":"'ITCER GLOBAL'!F178","v":87.784072229076727},{"$f":"'ITCER GLOBAL'!G178","v":102.68079568019294},{"$f":"'ITCER GLOBAL'!H178","v":119.43192210303339},{"$f":"'ITCER GLOBAL'!I178","v":105.71621904099587},{"$f":"'ITCER GLOBAL'!S178","v":186.29879767261787},{"$f":"'ITCER GLOBAL'!T178","v":95.974747025723175},{"$f":"'ITCER GLOBAL'!U178","v":101.07654731502156},{"$f":"'ITCER GLOBAL'!V178","v":122.94886766070287},{"$f":"'ITCER GLOBAL'!W178","v":146.17598983759373},{"$f":"'ITCER GLOBAL'!X178","v":221.26985976252308},{"$f":"'ITCER GLOBAL'!Y178","v":100.15603015469623},{"$f":"'ITCER GLOBAL'!AA178","v":187.40157525754051},{"$f":"'ITCER GLOBAL'!AB178","v":97.061066259380397},{"$f":"'ITCER GLOBAL'!AC178","v":135.07064655075328},{"$f":"'ITCER GLOBAL'!AD178","v":140.05828681524585},{"$f":"'ITCER GLOBAL'!AE178","v":142.35961931271925},{"$f":"'ITCER GLOBAL'!AF178","v":185.26860814618271},{"$f":"'ITCER GLOBAL'!AG178","v":94.740458052001046},null,{"$f":"IF(EFECTOS!$N$9=\"COSTA RICA\",LOOKUP(1,GEfectos!$C$4:$I$4,GEfectos!C178:I178),IF(EFECTOS!$N$9=\"EL SALVADOR\",LOOKUP(2,GEfectos!$C$4:$I$4,GEfectos!C178:I178),IF(EFECTOS!$N$9=\"GUATEMALA\",LOOKUP(3,GEfectos!$C$4:$I$4,GEfectos!C178:I178),IF(EFECTOS!$N$9=\"HONDURAS\",LOOKUP(4,GEfectos!$C$4:$I$4,GEfectos!C178:I178),IF(EFECTOS!$N$9=\"NICARAGUA\",LOOKUP(5,GEfectos!$C$4:$I$4,GEfectos!C178:I178),IF(EFECTOS!$N$9=\"REPÚBLICA \nDOMINICANA\",LOOKUP(6,$C$4:$I$4,C178:I178),IF(EFECTOS!$N$9=\"PANAMÁ\",LOOKUP(7,GEfectos!$C$4:$I$4,GEfectos!C178:I178))))))))","v":119.43192210303339},{"$f":"IF(EFECTOS!$N$9=\"COSTA RICA\",LOOKUP(1,GEfectos!$J$4:$P$4,GEfectos!J178:P178),IF(EFECTOS!$N$9=\"EL SALVADOR\",LOOKUP(2,GEfectos!$J$4:$P$4,GEfectos!J178:P178),IF(EFECTOS!$N$9=\"GUATEMALA\",LOOKUP(3,GEfectos!$J$4:$P$4,GEfectos!J178:P178),IF(EFECTOS!$N$9=\"HONDURAS\",LOOKUP(4,GEfectos!$J$4:$P$4,GEfectos!J178:P178),IF(EFECTOS!$N$9=\"NICARAGUA\",LOOKUP(5,GEfectos!$J$4:$P$4,GEfectos!J178:P178),IF(EFECTOS!$N$9=\"REPÚBLICA \nDOMINICANA\",LOOKUP(6,$J$4:$P$4,J178:P178),IF(EFECTOS!$N$9=\"PANAMÁ\",LOOKUP(7,GEfectos!$J$4:$P$4,GEfectos!J178:P178))))))))","v":221.26985976252308},{"$f":"IF(EFECTOS!$N$9=\"COSTA RICA\",LOOKUP(1,GEfectos!$Q$4:$W$4,GEfectos!Q178:W178),IF(EFECTOS!$N$9=\"EL SALVADOR\",LOOKUP(2,GEfectos!$Q$4:$W$4,GEfectos!Q178:W178),IF(EFECTOS!$N$9=\"GUATEMALA\",LOOKUP(3,GEfectos!$Q$4:$W$4,GEfectos!Q178:W178),IF(EFECTOS!$N$9=\"HONDURAS\",LOOKUP(4,GEfectos!$Q$4:$W$4,GEfectos!Q178:W178),IF(EFECTOS!$N$9=\"NICARAGUA\",LOOKUP(5,GEfectos!$Q$4:$W$4,GEfectos!Q178:W178),IF(EFECTOS!$N$9=\"REPÚBLICA \nDOMINICANA\",LOOKUP(6,$Q$4:$W$4,Q178:W178),IF(EFECTOS!$N$9=\"PANAMÁ\",LOOKUP(7,GEfectos!$Q$4:$W$4,GEfectos!Q178:W178))))))))","v":185.26860814618271},100]
[null,{"$f":"'ITCER GLOBAL'!B179","v":"Junio"},{"$f":"'ITCER GLOBAL'!C179","v":100.54190795019893},{"$f":"'ITCER GLOBAL'!D179","v":99.518981448468949},{"$f":"'ITCER GLOBAL'!E179","v":75.672830590497639},{"$f":"'ITCER GLOBAL'!F179","v":87.947854137505942},{"$f":"'ITCER GLOBAL'!G179","v":103.72112562693979},{"$f":"'ITCER GLOBAL'!H179","v":118.15791160081586},{"$f":"'ITCER GLOBAL'!I179","v":106.23181021281766},{"$f":"'ITCER GLOBAL'!S179","v":187.95270045187462},{"$f":"'ITCER GLOBAL'!T179","v":96.195490201038979},{"$f":"'ITCER GLOBAL'!U179","v":101.71892916829708},{"$f":"'ITCER GLOBAL'!V179","v":123.28198600408446},{"$f":"'ITCER GLOBAL'!W179","v":147.24291551512351},{"$f":"'ITCER GLOBAL'!X179","v":222.49444909375291},{"$f":"'ITCER GLOBAL'!Y179","v":100.73526323918249},{"$f":"'ITCER GLOBAL'!AA179","v":186.93965957456524},{"$f":"'ITCER GLOBAL'!AB179","v":96.660444872869931},{"$f":"'ITCER GLOBAL'!AC179","v":134.41935285696857},{"$f":"'ITCER GLOBAL'!AD179","v":140.17622966824615},{"$f":"'ITCER GLOBAL'!AE179","v":141.96039102460307},{"$f":"'ITCER GLOBAL'!AF179","v":188.30262491895348},{"$f":"'ITCER GLOBAL'!AG179","v":94.825893522266284},null,{"$f":"IF(EFECTOS!$N$9=\"COSTA RICA\",LOOKUP(1,GEfectos!$C$4:$I$4,GEfectos!C179:I179),IF(EFECTOS!$N$9=\"EL SALVADOR\",LOOKUP(2,GEfectos!$C$4:$I$4,GEfectos!C179:I179),IF(EFECTOS!$N$9=\"GUATEMALA\",LOOKUP(3,GEfectos!$C$4:$I$4,GEfectos!C179:I179),IF(EFECTOS!$N$9=\"HONDURAS\",LOOKUP(4,GEfectos!$C$4:$I$4,GEfectos!C179:I179),IF(EFECTOS!$N$9=\"NICARAGUA\",LOOKUP(5,GEfectos!$C$4:$I$4,GEfectos!C179:I179),IF(EFECTOS!$N$9=\"REPÚBLICA \nDOMINICANA\",LOOKUP(6,$C$4:$I$4,C179:I179),IF(EFECTOS!$N$9=\"PANAMÁ\",LOOKUP(7,GEfectos!$C$4:$I$4,GEfectos!C179:I179))))))))","v":118.15791160081586},{"$f":"IF(EFECTOS!$N$9=\"COSTA RICA\",LOOKUP(1,GEfectos!$J$4:$P$4,GEfectos!J179:P179),IF(EFECTOS!$N$9=\"EL SALVADOR\",LOOKUP(2,GEfectos!$J$4:$P$4,GEfectos!J179:P179),IF(EFECTOS!$N$9=\"GUATEMALA\",LOOKUP(3,GEfectos!$J$4:$P$4,GEfectos!J179:P179),IF(EFECTOS!$N$9=\"HONDURAS\",LOOKUP(4,GEfectos!$J$4:$P$4,GEfectos!J179:P179),IF(EFECTOS!$N$9=\"NICARAGUA\",LOOKUP(5,GEfectos!$J$4:$P$4,GEfectos!J179:P179),IF(EFECTOS!$N$9=\"REPÚBLICA \nDOMINICANA\",LOOKUP(6,$J$4:$P$4,J179:P179),IF(EFECTOS!$N$9=\"PANAMÁ\",LOOKUP(7,GEfectos!$J$4:$P$4,GEfectos!J179:P179))))))))","v":222.49444909375291},{"$f":"IF(EFECTOS!$N$9=\"COSTA RICA\",LOOKUP(1,GEfectos!$Q$4:$W$4,GEfectos!Q179:W179),IF(EFECTOS!$N$9=\"EL SALVADOR\",LOOKUP(2,GEfectos!$Q$4:$W$4,GEfectos!Q179:W179),IF(EFECTOS!$N$9=\"GUATEMALA\",LOOKUP(3,GEfectos!$Q$4:$W$4,GEfectos!Q179:W179),IF(EFECTOS!$N$9=\"HONDURAS\",LOOKUP(4,GEfectos!$Q$4:$W$4,GEfectos!Q179:W179),IF(EFECTOS!$N$9=\"NICARAGUA\",LOOKUP(5,GEfectos!$Q$4:$W$4,GEfectos!Q179:W179),IF(EFECTOS!$N$9=\"REPÚBLICA \nDOMINICANA\",LOOKUP(6,$Q$4:$W$4,Q179:W179),IF(EFECTOS!$N$9=\"PANAMÁ\",LOOKUP(7,GEfectos!$Q$4:$W$4,GEfectos!Q179:W179))))))))","v":188.30262491895348},100]
[null,{"$f":"'ITCER GLOBAL'!B180","v":"Julio"},{"$f":"'ITCER GLOBAL'!C180","v":100.62533833516211},{"$f":"'ITCER GLOBAL'!D180","v":99.949966001617909},{"$f":"'ITCER GLOBAL'!E180","v":75.894656626057326},{"$f":"'ITCER GLOBAL'!F180","v":87.273678672200546},{"$f":"'ITCER GLOBAL'!G180","v":104.92140375778601},{"$f":"'ITCER GLOBAL'!H180","v":118.26840565700142},{"$f":"'ITCER GLOBAL'!I180","v":105.87940418751678},{"$f":"'ITCER GLOBAL'!S180","v":190.0706826272592},{"$f":"'ITCER GLOBAL'!T180","v":96.199806542743502},{"$f":"'ITCER GLOBAL'!U180","v":102.38852496470128},{"$f":"'ITCER GLOBAL'!V180","v":123.30786706462094},{"$f":"'ITCER GLOBAL'!W180","v":147.96216989213116},{"$f":"'ITCER GLOBAL'!X180","v":223.24854617475651},{"$f":"'ITCER GLOBAL'!Y180","v":100.95001942065242},{"$f":"'ITCER GLOBAL'!AA180","v":188.88948427102247},{"$f":"'ITCER GLOBAL'!AB180","v":96.247963247117355},{"$f":"'ITCER GLOBAL'!AC180","v":134.90873997781244},{"$f":"'ITCER GLOBAL'!AD180","v":141.28872409259222},{"$f":"'ITCER GLOBAL'!AE180","v":141.02191220554573},{"$f":"'ITCER GLOBAL'!AF180","v":188.7643153169879},{"$f":"'ITCER GLOBAL'!AG180","v":95.344340285355017},null,{"$f":"IF(EFECTOS!$N$9=\"COSTA RICA\",LOOKUP(1,GEfectos!$C$4:$I$4,GEfectos!C180:I180),IF(EFECTOS!$N$9=\"EL SALVADOR\",LOOKUP(2,GEfectos!$C$4:$I$4,GEfectos!C180:I180),IF(EFECTOS!$N$9=\"GUATEMALA\",LOOKUP(3,GEfectos!$C$4:$I$4,GEfectos!C180:I180),IF(EFECTOS!$N$9=\"HONDURAS\",LOOKUP(4,GEfectos!$C$4:$I$4,GEfectos!C180:I180),IF(EFECTOS!$N$9=\"NICARAGUA\",LOOKUP(5,GEfectos!$C$4:$I$4,GEfectos!C180:I180),IF(EFECTOS!$N$9=\"REPÚBLICA \nDOMINICANA\",LOOKUP(6,$C$4:$I$4,C180:I180),IF(EFECTOS!$N$9=\"PANAMÁ\",LOOKUP(7,GEfectos!$C$4:$I$4,GEfectos!C180:I180))))))))","v":118.26840565700142},{"$f":"IF(EFECTOS!$N$9=\"COSTA RICA\",LOOKUP(1,GEfectos!$J$4:$P$4,GEfectos!J180:P180),IF(EFECTOS!$N$9=\"EL SALVADOR\",LOOKUP(2,GEfectos!$J$4:$P$4,GEfectos!J180:P180),IF(EFECTOS!$N$9=\"GUATEMALA\",LOOKUP(3,GEfectos!$J$4:$P$4,GEfectos!J180:P180),IF(EFECTOS!$N$9=\"HONDURAS\",LOOKUP(4,GEfectos!$J$4:$P$4,GEfectos!J180:P180),IF(EFECTOS!$N$9=\"NICARAGUA\",LOOKUP(5,GEfectos!$J$4:$P$4,GEfectos!J180:P180),IF(EFECTOS!$N$9=\"REPÚBLICA \nDOMINICANA\",LOOKUP(6,$J$4:$P$4,J180:P180),IF(EFECTOS!$N$9=\"PANAMÁ\",LOOKUP(7,GEfectos!$J$4:$P$4,GEfectos!J180:P180))))))))","v":223.24854617475651},{"$f":"IF(EFECTOS!$N$9=\"COSTA RICA\",LOOKUP(1,GEfectos!$Q$4:$W$4,GEfectos!Q180:W180),IF(EFECTOS!$N$9=\"EL SALVADOR\",LOOKUP(2,GEfectos!$Q$4:$W$4,GEfectos!Q180:W180),IF(EFECTOS!$N$9=\"GUATEMALA\",LOOKUP(3,GEfectos!$Q$4:$W$4,GEfectos!Q180:W180),IF(EFECTOS!$N$9=\"HONDURAS\",LOOKUP(4,GEfectos!$Q$4:$W$4,GEfectos!Q180:W180),IF(EFECTOS!$N$9=\"NICARAGUA\",LOOKUP(5,GEfectos!$Q$4:$W$4,GEfectos!Q180:W180),IF(EFECTOS!$N$9=\"REPÚBLICA \nDOMINICANA\",LOOKUP(6,$Q$4:$W$4,Q180:W180),IF(EFECTOS!$N$9=\"PANAMÁ\",LOOKUP(7,GEfectos!$Q$4:$W$4,GEfectos!Q180:W180))))))))","v":188.7643153169879},100]
[null,{"$f":"'ITCER GLOBAL'!B181","v":"Agosto"},{"$f":"'ITCER GLOBAL'!C181","v":101.53939647549375},{"$f":"'ITCER GLOBAL'!D181","v":100.68055938980974},{"$f":"'ITCER GLOBAL'!E181","v":77.166213642374345},{"$f":"'ITCER GLOBAL'!F181","v":87.605505203845539},{"$f":"'ITCER GLOBAL'!G181","v":105.97262753129311},{"$f":"'ITCER GLOBAL'!H181","v":118.26437048173923},{"$f":"'ITCER GLOBAL'!I181","v":106.2683401645134},{"$f":"'ITCER GLOBAL'!S181","v":192.53716048471338},{"$f":"'ITCER GLOBAL'!T181","v":96.476786123254826},{"$f":"'ITCER GLOBAL'!U181","v":103.94086468183181},{"$f":"'ITCER GLOBAL'!V181","v":123.61429062728024},{"$f":"'ITCER GLOBAL'!W181","v":149.53804043512642},{"$f":"'ITCER GLOBAL'!X181","v":224.54566578008809},{"$f":"'ITCER GLOBAL'!Y181","v":101.35721118421965},{"$f":"'ITCER GLOBAL'!AA181","v":189.61818483053688},{"$f":"'ITCER GLOBAL'!AB181","v":95.824642520827709},{"$f":"'ITCER GLOBAL'!AC181","v":134.69737567213571},{"$f":"'ITCER GLOBAL'!AD181","v":141.10333630249306},{"$f":"'ITCER GLOBAL'!AE181","v":141.11006202141084},{"$f":"'ITCER GLOBAL'!AF181","v":189.86755255654901},{"$f":"'ITCER GLOBAL'!AG181","v":95.378558682020582},null,{"$f":"IF(EFECTOS!$N$9=\"COSTA RICA\",LOOKUP(1,GEfectos!$C$4:$I$4,GEfectos!C181:I181),IF(EFECTOS!$N$9=\"EL SALVADOR\",LOOKUP(2,GEfectos!$C$4:$I$4,GEfectos!C181:I181),IF(EFECTOS!$N$9=\"GUATEMALA\",LOOKUP(3,GEfectos!$C$4:$I$4,GEfectos!C181:I181),IF(EFECTOS!$N$9=\"HONDURAS\",LOOKUP(4,GEfectos!$C$4:$I$4,GEfectos!C181:I181),IF(EFECTOS!$N$9=\"NICARAGUA\",LOOKUP(5,GEfectos!$C$4:$I$4,GEfectos!C181:I181),IF(EFECTOS!$N$9=\"REPÚBLICA \nDOMINICANA\",LOOKUP(6,$C$4:$I$4,C181:I181),IF(EFECTOS!$N$9=\"PANAMÁ\",LOOKUP(7,GEfectos!$C$4:$I$4,GEfectos!C181:I181))))))))","v":118.26437048173923},{"$f":"IF(EFECTOS!$N$9=\"COSTA RICA\",LOOKUP(1,GEfectos!$J$4:$P$4,GEfectos!J181:P181),IF(EFECTOS!$N$9=\"EL SALVADOR\",LOOKUP(2,GEfectos!$J$4:$P$4,GEfectos!J181:P181),IF(EFECTOS!$N$9=\"GUATEMALA\",LOOKUP(3,GEfectos!$J$4:$P$4,GEfectos!J181:P181),IF(EFECTOS!$N$9=\"HONDURAS\",LOOKUP(4,GEfectos!$J$4:$P$4,GEfectos!J181:P181),IF(EFECTOS!$N$9=\"NICARAGUA\",LOOKUP(5,GEfectos!$J$4:$P$4,GEfectos!J181:P181),IF(EFECTOS!$N$9=\"REPÚBLICA \nDOMINICANA\",LOOKUP(6,$J$4:$P$4,J181:P181),IF(EFECTOS!$N$9=\"PANAMÁ\",LOOKUP(7,GEfectos!$J$4:$P$4,GEfectos!J181:P181))))))))","v":224.54566578008809},{"$f":"IF(EFECTOS!$N$9=\"COSTA RICA\",LOOKUP(1,GEfectos!$Q$4:$W$4,GEfectos!Q181:W181),IF(EFECTOS!$N$9=\"EL SALVADOR\",LOOKUP(2,GEfectos!$Q$4:$W$4,GEfectos!Q181:W181),IF(EFECTOS!$N$9=\"GUATEMALA\",LOOKUP(3,GEfectos!$Q$4:$W$4,GEfectos!Q181:W181),IF(EFECTOS!$N$9=\"HONDURAS\",LOOKUP(4,GEfectos!$Q$4:$W$4,GEfectos!Q181:W181),IF(EFECTOS!$N$9=\"NICARAGUA\",LOOKUP(5,GEfectos!$Q$4:$W$4,GEfectos!Q181:W181),IF(EFECTOS!$N$9=\"REPÚBLICA \nDOMINICANA\",LOOKUP(6,$Q$4:$W$4,Q181:W181),IF(EFECTOS!$N$9=\"PANAMÁ\",LOOKUP(7,GEfectos!$Q$4:$W$4,GEfectos!Q181:W181))))))))","v":189.86755255654901},100]
[null,{"$f":"'ITCER GLOBAL'!B182","v":"Septiembre"},{"$f":"'ITCER GLOBAL'!C182","v":101.89688909079963},{"$f":"'ITCER GLOBAL'!D182","v":100.87930936838382},{"$f":"'ITCER GLOBAL'!E182","v":77.320295136959913},{"$f":"'ITCER GLOBAL'!F182","v":87.70155534612212},{"$f":"'ITCER GLOBAL'!G182","v":106.19403704305422},{"$f":"'ITCER GLOBAL'!H182","v":118.71790166741667},{"$f":"'ITCER GLOBAL'!I182","v":107.55154071253665},{"$f":"'ITCER GLOBAL'!S182","v":193.19550291745537},{"$f":"'ITCER GLOBAL'!T182","v":96.442025264133832},{"$f":"'ITCER GLOBAL'!U182","v":104.67835135598762},{"$f":"'ITCER GLOBAL'!V182","v":123.70734776512325},{"$f":"'ITCER GLOBAL'!W182","v":150.10752946997192},{"$f":"'ITCER GLOBAL'!X182","v":225.3962853695879},{"$f":"'ITCER GLOBAL'!Y182","v":101.88099053919937},{"$f":"'ITCER GLOBAL'!AA182","v":189.59901979470658},{"$f":"'ITCER GLOBAL'!AB182","v":95.601393256920275},{"$f":"'ITCER GLOBAL'!AC182","v":135.38276227550284},{"$f":"'ITCER GLOBAL'!AD182","v":141.05490749497088},{"$f":"'ITCER GLOBAL'!AE182","v":141.35212639963379},{"$f":"'ITCER GLOBAL'!AF182","v":189.85871734915457},{"$f":"'ITCER GLOBAL'!AG182","v":94.727597451631581},null,{"$f":"IF(EFECTOS!$N$9=\"COSTA RICA\",LOOKUP(1,GEfectos!$C$4:$I$4,GEfectos!C182:I182),IF(EFECTOS!$N$9=\"EL SALVADOR\",LOOKUP(2,GEfectos!$C$4:$I$4,GEfectos!C182:I182),IF(EFECTOS!$N$9=\"GUATEMALA\",LOOKUP(3,GEfectos!$C$4:$I$4,GEfectos!C182:I182),IF(EFECTOS!$N$9=\"HONDURAS\",LOOKUP(4,GEfectos!$C$4:$I$4,GEfectos!C182:I182),IF(EFECTOS!$N$9=\"NICARAGUA\",LOOKUP(5,GEfectos!$C$4:$I$4,GEfectos!C182:I182),IF(EFECTOS!$N$9=\"REPÚBLICA \nDOMINICANA\",LOOKUP(6,$C$4:$I$4,C182:I182),IF(EFECTOS!$N$9=\"PANAMÁ\",LOOKUP(7,GEfectos!$C$4:$I$4,GEfectos!C182:I182))))))))","v":118.71790166741667},{"$f":"IF(EFECTOS!$N$9=\"COSTA RICA\",LOOKUP(1,GEfectos!$J$4:$P$4,GEfectos!J182:P182),IF(EFECTOS!$N$9=\"EL SALVADOR\",LOOKUP(2,GEfectos!$J$4:$P$4,GEfectos!J182:P182),IF(EFECTOS!$N$9=\"GUATEMALA\",LOOKUP(3,GEfectos!$J$4:$P$4,GEfectos!J182:P182),IF(EFECTOS!$N$9=\"HONDURAS\",LOOKUP(4,GEfectos!$J$4:$P$4,GEfectos!J182:P182),IF(EFECTOS!$N$9=\"NICARAGUA\",LOOKUP(5,GEfectos!$J$4:$P$4,GEfectos!J182:P182),IF(EFECTOS!$N$9=\"REPÚBLICA \nDOMINICANA\",LOOKUP(6,$J$4:$P$4,J182:P182),IF(EFECTOS!$N$9=\"PANAMÁ\",LOOKUP(7,GEfectos!$J$4:$P$4,GEfectos!J182:P182))))))))","v":225.3962853695879},{"$f":"IF(EFECTOS!$N$9=\"COSTA RICA\",LOOKUP(1,GEfectos!$Q$4:$W$4,GEfectos!Q182:W182),IF(EFECTOS!$N$9=\"EL SALVADOR\",LOOKUP(2,GEfectos!$Q$4:$W$4,GEfectos!Q182:W182),IF(EFECTOS!$N$9=\"GUATEMALA\",LOOKUP(3,GEfectos!$Q$4:$W$4,GEfectos!Q182:W182),IF(EFECTOS!$N$9=\"HONDURAS\",LOOKUP(4,GEfectos!$Q$4:$W$4,GEfectos!Q182:W182),IF(EFECTOS!$N$9=\"NICARAGUA\",LOOKUP(5,GEfectos!$Q$4:$W$4,GEfectos!Q182:W182),IF(EFECTOS!$N$9=\"REPÚBLICA \nDOMINICANA\",LOOKUP(6,$Q$4:$W$4,Q182:W182),IF(EFECTOS!$N$9=\"PANAMÁ\",LOOKUP(7,GEfectos!$Q$4:$W$4,GEfectos!Q182:W182))))))))","v":189.85871734915457},100]
[null,{"$f":"'ITCER GLOBAL'!B183","v":"Octubre"},{"$f":"'ITCER GLOBAL'!C183","v":101.47929568700989},{"$f":"'ITCER GLOBAL'!D183","v":102.10876700343894},{"$f":"'ITCER GLOBAL'!E183","v":78.234027965512666},{"$f":"'ITCER GLOBAL'!F183","v":87.876100553115847},{"$f":"'ITCER GLOBAL'!G183","v":106.85233995944893},{"$f":"'ITCER GLOBAL'!H183","v":119.36381145574245},{"$f":"'ITCER GLOBAL'!I183","v":108.15886414233277},{"$f":"'ITCER GLOBAL'!S183","v":192.73780821088465},{"$f":"'ITCER GLOBAL'!T183","v":96.833203995831099},{"$f":"'ITCER GLOBAL'!U183","v":105.66509769313529},{"$f":"'ITCER GLOBAL'!V183","v":124.20728016348441},{"$f":"'ITCER GLOBAL'!W183","v":151.60943631636911},{"$f":"'ITCER GLOBAL'!X183","v":226.93611599348156},{"$f":"'ITCER GLOBAL'!Y183","v":102.66108589415286},{"$f":"'ITCER GLOBAL'!AA183","v":189.92820841538079},{"$f":"'ITCER GLOBAL'!AB183","v":94.833388784892321},{"$f":"'ITCER GLOBAL'!AC183","v":135.06283703008987},{"$f":"'ITCER GLOBAL'!AD183","v":141.34364108294557},{"$f":"'ITCER GLOBAL'!AE183","v":141.8868659066388},{"$f":"'ITCER GLOBAL'!AF183","v":190.12137198519724},{"$f":"'ITCER GLOBAL'!AG183","v":94.916941582388418},null,{"$f":"IF(EFECTOS!$N$9=\"COSTA RICA\",LOOKUP(1,GEfectos!$C$4:$I$4,GEfectos!C183:I183),IF(EFECTOS!$N$9=\"EL SALVADOR\",LOOKUP(2,GEfectos!$C$4:$I$4,GEfectos!C183:I183),IF(EFECTOS!$N$9=\"GUATEMALA\",LOOKUP(3,GEfectos!$C$4:$I$4,GEfectos!C183:I183),IF(EFECTOS!$N$9=\"HONDURAS\",LOOKUP(4,GEfectos!$C$4:$I$4,GEfectos!C183:I183),IF(EFECTOS!$N$9=\"NICARAGUA\",LOOKUP(5,GEfectos!$C$4:$I$4,GEfectos!C183:I183),IF(EFECTOS!$N$9=\"REPÚBLICA \nDOMINICANA\",LOOKUP(6,$C$4:$I$4,C183:I183),IF(EFECTOS!$N$9=\"PANAMÁ\",LOOKUP(7,GEfectos!$C$4:$I$4,GEfectos!C183:I183))))))))","v":119.36381145574245},{"$f":"IF(EFECTOS!$N$9=\"COSTA RICA\",LOOKUP(1,GEfectos!$J$4:$P$4,GEfectos!J183:P183),IF(EFECTOS!$N$9=\"EL SALVADOR\",LOOKUP(2,GEfectos!$J$4:$P$4,GEfectos!J183:P183),IF(EFECTOS!$N$9=\"GUATEMALA\",LOOKUP(3,GEfectos!$J$4:$P$4,GEfectos!J183:P183),IF(EFECTOS!$N$9=\"HONDURAS\",LOOKUP(4,GEfectos!$J$4:$P$4,GEfectos!J183:P183),IF(EFECTOS!$N$9=\"NICARAGUA\",LOOKUP(5,GEfectos!$J$4:$P$4,GEfectos!J183:P183),IF(EFECTOS!$N$9=\"REPÚBLICA \nDOMINICANA\",LOOKUP(6,$J$4:$P$4,J183:P183),IF(EFECTOS!$N$9=\"PANAMÁ\",LOOKUP(7,GEfectos!$J$4:$P$4,GEfectos!J183:P183))))))))","v":226.93611599348156},{"$f":"IF(EFECTOS!$N$9=\"COSTA RICA\",LOOKUP(1,GEfectos!$Q$4:$W$4,GEfectos!Q183:W183),IF(EFECTOS!$N$9=\"EL SALVADOR\",LOOKUP(2,GEfectos!$Q$4:$W$4,GEfectos!Q183:W183),IF(EFECTOS!$N$9=\"GUATEMALA\",LOOKUP(3,GEfectos!$Q$4:$W$4,GEfectos!Q183:W183),IF(EFECTOS!$N$9=\"HONDURAS\",LOOKUP(4,GEfectos!$Q$4:$W$4,GEfectos!Q183:W183),IF(EFECTOS!$N$9=\"NICARAGUA\",LOOKUP(5,GEfectos!$Q$4:$W$4,GEfectos!Q183:W183),IF(EFECTOS!$N$9=\"REPÚBLICA \nDOMINICANA\",LOOKUP(6,$Q$4:$W$4,Q183:W183),IF(EFECTOS!$N$9=\"PANAMÁ\",LOOKUP(7,GEfectos!$Q$4:$W$4,GEfectos!Q183:W183))))))))","v":190.12137198519724},100]
[null,{"$f":"'ITCER GLOBAL'!B184","v":"Noviembre"},{"$f":"'ITCER GLOBAL'!C184","v":99.29120806901588},{"$f":"'ITCER GLOBAL'!D184","v":101.09770778280786},{"$f":"'ITCER GLOBAL'!E184","v":78.164153698453106},{"$f":"'ITCER GLOBAL'!F184","v":88.093413539276384},{"$f":"'ITCER GLOBAL'!G184","v":107.88468564159422},{"$f":"'ITCER GLOBAL'!H184","v":118.26413212049441},{"$f":"'ITCER GLOBAL'!I184","v":108.51055192705891},{"$f":"'ITCER GLOBAL'!S184","v":187.95759162338004},{"$f":"'ITCER GLOBAL'!T184","v":97.08123012587275},{"$f":"'ITCER GLOBAL'!U184","v":105.35716295342171},{"$f":"'ITCER GLOBAL'!V184","v":124.54932891148844},{"$f":"'ITCER GLOBAL'!W184","v":152.85539737852446},{"$f":"'ITCER GLOBAL'!X184","v":226.95018942909337},{"$f":"'ITCER GLOBAL'!Y184","v":102.95072683721023},{"$f":"'ITCER GLOBAL'!AA184","v":189.2993299998258},{"$f":"'ITCER GLOBAL'!AB184","v":96.027132815351393},{"$f":"'ITCER GLOBAL'!AC184","v":134.78961642682859},{"$f":"'ITCER GLOBAL'!AD184","v":141.38324751822475},{"$f":"'ITCER GLOBAL'!AE184","v":141.68405503476956},{"$f":"'ITCER GLOBAL'!AF184","v":191.90111605255194},{"$f":"'ITCER GLOBAL'!AG184","v":94.876235544736687},null,{"$f":"IF(EFECTOS!$N$9=\"COSTA RICA\",LOOKUP(1,GEfectos!$C$4:$I$4,GEfectos!C184:I184),IF(EFECTOS!$N$9=\"EL SALVADOR\",LOOKUP(2,GEfectos!$C$4:$I$4,GEfectos!C184:I184),IF(EFECTOS!$N$9=\"GUATEMALA\",LOOKUP(3,GEfectos!$C$4:$I$4,GEfectos!C184:I184),IF(EFECTOS!$N$9=\"HONDURAS\",LOOKUP(4,GEfectos!$C$4:$I$4,GEfectos!C184:I184),IF(EFECTOS!$N$9=\"NICARAGUA\",LOOKUP(5,GEfectos!$C$4:$I$4,GEfectos!C184:I184),IF(EFECTOS!$N$9=\"REPÚBLICA \nDOMINICANA\",LOOKUP(6,$C$4:$I$4,C184:I184),IF(EFECTOS!$N$9=\"PANAMÁ\",LOOKUP(7,GEfectos!$C$4:$I$4,GEfectos!C184:I184))))))))","v":118.26413212049441},{"$f":"IF(EFECTOS!$N$9=\"COSTA RICA\",LOOKUP(1,GEfectos!$J$4:$P$4,GEfectos!J184:P184),IF(EFECTOS!$N$9=\"EL SALVADOR\",LOOKUP(2,GEfectos!$J$4:$P$4,GEfectos!J184:P184),IF(EFECTOS!$N$9=\"GUATEMALA\",LOOKUP(3,GEfectos!$J$4:$P$4,GEfectos!J184:P184),IF(EFECTOS!$N$9=\"HONDURAS\",LOOKUP(4,GEfectos!$J$4:$P$4,GEfectos!J184:P184),IF(EFECTOS!$N$9=\"NICARAGUA\",LOOKUP(5,GEfectos!$J$4:$P$4,GEfectos!J184:P184),IF(EFECTOS!$N$9=\"REPÚBLICA \nDOMINICANA\",LOOKUP(6,$J$4:$P$4,J184:P184),IF(EFECTOS!$N$9=\"PANAMÁ\",LOOKUP(7,GEfectos!$J$4:$P$4,GEfectos!J184:P184))))))))","v":226.95018942909337},{"$f":"IF(EFECTOS!$N$9=\"COSTA RICA\",LOOKUP(1,GEfectos!$Q$4:$W$4,GEfectos!Q184:W184),IF(EFECTOS!$N$9=\"EL SALVADOR\",LOOKUP(2,GEfectos!$Q$4:$W$4,GEfectos!Q184:W184),IF(EFECTOS!$N$9=\"GUATEMALA\",LOOKUP(3,GEfectos!$Q$4:$W$4,GEfectos!Q184:W184),IF(EFECTOS!$N$9=\"HONDURAS\",LOOKUP(4,GEfectos!$Q$4:$W$4,GEfectos!Q184:W184),IF(EFECTOS!$N$9=\"NICARAGUA\",LOOKUP(5,GEfectos!$Q$4:$W$4,GEfectos!Q184:W184),IF(EFECTOS!$N$9=\"REPÚBLICA \nDOMINICANA\",LOOKUP(6,$Q$4:$W$4,Q184:W184),IF(EFECTOS!$N$9=\"PANAMÁ\",LOOKUP(7,GEfectos!$Q$4:$W$4,GEfectos!Q184:W184))))))))","v":191.90111605255194},100]
[null,{"$f":"'ITCER GLOBAL'!B185","v":"Diciembre"},{"$f":"'ITCER GLOBAL'!C185","v":98.172745144245695},{"$f":"'ITCER GLOBAL'!D185","v":101.49330198108521},{"$f":"'ITCER GLOBAL'!E185","v":78.427092969817608},{"$f":"'ITCER GLOBAL'!F185","v":88.026764241081921},{"$f":"'ITCER GLOBAL'!G185","v":108.09496007167367},{"$f":"'ITCER GLOBAL'!H185","v":117.89820860757251},{"$f":"'ITCER GLOBAL'!I185","v":108.24890463680441},{"$f":"'ITCER GLOBAL'!S185","v":187.53922108719303},{"$f":"'ITCER GLOBAL'!T185","v":96.989391932361443},{"$f":"'ITCER GLOBAL'!U185","v":105.59820528192022},{"$f":"'ITCER GLOBAL'!V185","v":124.35534398883949},{"$f":"'ITCER GLOBAL'!W185","v":153.26679256558288},{"$f":"'ITCER GLOBAL'!X185","v":226.32303134589083},{"$f":"'ITCER GLOBAL'!Y185","v":102.64023618192468},{"$f":"'ITCER GLOBAL'!AA185","v":191.02982280024943},{"$f":"'ITCER GLOBAL'!AB185","v":95.562357356780907},{"$f":"'ITCER GLOBAL'!AC185","v":134.64505859290148},{"$f":"'ITCER GLOBAL'!AD185","v":141.26992518805218},{"$f":"'ITCER GLOBAL'!AE185","v":141.78902741067435},{"$f":"'ITCER GLOBAL'!AF185","v":191.96477539299462},{"$f":"'ITCER GLOBAL'!AG185","v":94.818729599437631},null,{"$f":"IF(EFECTOS!$N$9=\"COSTA RICA\",LOOKUP(1,GEfectos!$C$4:$I$4,GEfectos!C185:I185),IF(EFECTOS!$N$9=\"EL SALVADOR\",LOOKUP(2,GEfectos!$C$4:$I$4,GEfectos!C185:I185),IF(EFECTOS!$N$9=\"GUATEMALA\",LOOKUP(3,GEfectos!$C$4:$I$4,GEfectos!C185:I185),IF(EFECTOS!$N$9=\"HONDURAS\",LOOKUP(4,GEfectos!$C$4:$I$4,GEfectos!C185:I185),IF(EFECTOS!$N$9=\"NICARAGUA\",LOOKUP(5,GEfectos!$C$4:$I$4,GEfectos!C185:I185),IF(EFECTOS!$N$9=\"REPÚBLICA \nDOMINICANA\",LOOKUP(6,$C$4:$I$4,C185:I185),IF(EFECTOS!$N$9=\"PANAMÁ\",LOOKUP(7,GEfectos!$C$4:$I$4,GEfectos!C185:I185))))))))","v":117.89820860757251},{"$f":"IF(EFECTOS!$N$9=\"COSTA RICA\",LOOKUP(1,GEfectos!$J$4:$P$4,GEfectos!J185:P185),IF(EFECTOS!$N$9=\"EL SALVADOR\",LOOKUP(2,GEfectos!$J$4:$P$4,GEfectos!J185:P185),IF(EFECTOS!$N$9=\"GUATEMALA\",LOOKUP(3,GEfectos!$J$4:$P$4,GEfectos!J185:P185),IF(EFECTOS!$N$9=\"HONDURAS\",LOOKUP(4,GEfectos!$J$4:$P$4,GEfectos!J185:P185),IF(EFECTOS!$N$9=\"NICARAGUA\",LOOKUP(5,GEfectos!$J$4:$P$4,GEfectos!J185:P185),IF(EFECTOS!$N$9=\"REPÚBLICA \nDOMINICANA\",LOOKUP(6,$J$4:$P$4,J185:P185),IF(EFECTOS!$N$9=\"PANAMÁ\",LOOKUP(7,GEfectos!$J$4:$P$4,GEfectos!J185:P185))))))))","v":226.32303134589083},{"$f":"IF(EFECTOS!$N$9=\"COSTA RICA\",LOOKUP(1,GEfectos!$Q$4:$W$4,GEfectos!Q185:W185),IF(EFECTOS!$N$9=\"EL SALVADOR\",LOOKUP(2,GEfectos!$Q$4:$W$4,GEfectos!Q185:W185),IF(EFECTOS!$N$9=\"GUATEMALA\",LOOKUP(3,GEfectos!$Q$4:$W$4,GEfectos!Q185:W185),IF(EFECTOS!$N$9=\"HONDURAS\",LOOKUP(4,GEfectos!$Q$4:$W$4,GEfectos!Q185:W185),IF(EFECTOS!$N$9=\"NICARAGUA\",LOOKUP(5,GEfectos!$Q$4:$W$4,GEfectos!Q185:W185),IF(EFECTOS!$N$9=\"REPÚBLICA \nDOMINICANA\",LOOKUP(6,$Q$4:$W$4,Q185:W185),IF(EFECTOS!$N$9=\"PANAMÁ\",LOOKUP(7,GEfectos!$Q$4:$W$4,GEfectos!Q185:W185))))))))","v":191.96477539299462},100]
[2010,{"$f":"'ITCER GLOBAL'!B186","v":"Enero"},{"$f":"'ITCER GLOBAL'!C186","v":95.786622708501795},{"$f":"'ITCER GLOBAL'!D186","v":101.84576745184481},{"$f":"'ITCER GLOBAL'!E186","v":77.975460724787396},{"$f":"'ITCER GLOBAL'!F186","v":88.046115197904399},{"$f":"'ITCER GLOBAL'!G186","v":109.15841847365263},{"$f":"'ITCER GLOBAL'!H186","v":120.86208096714829},{"$f":"'ITCER GLOBAL'!I186","v":107.28190487890069},{"$f":"'ITCER GLOBAL'!S186","v":184.9396228359636},{"$f":"'ITCER GLOBAL'!T186","v":96.425822460821436},{"$f":"'ITCER GLOBAL'!U186","v":105.44797570516091},{"$f":"'ITCER GLOBAL'!V186","v":123.81846479505039},{"$f":"'ITCER GLOBAL'!W186","v":155.02510656071894},{"$f":"'ITCER GLOBAL'!X186","v":225.01671402790859},{"$f":"'ITCER GLOBAL'!Y186","v":101.10264049244506},{"$f":"'ITCER GLOBAL'!AA186","v":193.07458349249097},{"$f":"'ITCER GLOBAL'!AB186","v":94.678281555896717},{"$f":"'ITCER GLOBAL'!AC186","v":135.23225733456982},{"$f":"'ITCER GLOBAL'!AD186","v":140.62910614141146},{"$f":"'ITCER GLOBAL'!AE186","v":142.01846154278707},{"$f":"'ITCER GLOBAL'!AF186","v":186.17643534457324},{"$f":"'ITCER GLOBAL'!AG186","v":94.240161569249963},null,{"$f":"IF(EFECTOS!$N$9=\"COSTA RICA\",LOOKUP(1,GEfectos!$C$4:$I$4,GEfectos!C186:I186),IF(EFECTOS!$N$9=\"EL SALVADOR\",LOOKUP(2,GEfectos!$C$4:$I$4,GEfectos!C186:I186),IF(EFECTOS!$N$9=\"GUATEMALA\",LOOKUP(3,GEfectos!$C$4:$I$4,GEfectos!C186:I186),IF(EFECTOS!$N$9=\"HONDURAS\",LOOKUP(4,GEfectos!$C$4:$I$4,GEfectos!C186:I186),IF(EFECTOS!$N$9=\"NICARAGUA\",LOOKUP(5,GEfectos!$C$4:$I$4,GEfectos!C186:I186),IF(EFECTOS!$N$9=\"REPÚBLICA \nDOMINICANA\",LOOKUP(6,$C$4:$I$4,C186:I186),IF(EFECTOS!$N$9=\"PANAMÁ\",LOOKUP(7,GEfectos!$C$4:$I$4,GEfectos!C186:I186))))))))","v":120.86208096714829},{"$f":"IF(EFECTOS!$N$9=\"COSTA RICA\",LOOKUP(1,GEfectos!$J$4:$P$4,GEfectos!J186:P186),IF(EFECTOS!$N$9=\"EL SALVADOR\",LOOKUP(2,GEfectos!$J$4:$P$4,GEfectos!J186:P186),IF(EFECTOS!$N$9=\"GUATEMALA\",LOOKUP(3,GEfectos!$J$4:$P$4,GEfectos!J186:P186),IF(EFECTOS!$N$9=\"HONDURAS\",LOOKUP(4,GEfectos!$J$4:$P$4,GEfectos!J186:P186),IF(EFECTOS!$N$9=\"NICARAGUA\",LOOKUP(5,GEfectos!$J$4:$P$4,GEfectos!J186:P186),IF(EFECTOS!$N$9=\"REPÚBLICA \nDOMINICANA\",LOOKUP(6,$J$4:$P$4,J186:P186),IF(EFECTOS!$N$9=\"PANAMÁ\",LOOKUP(7,GEfectos!$J$4:$P$4,GEfectos!J186:P186))))))))","v":225.01671402790859},{"$f":"IF(EFECTOS!$N$9=\"COSTA RICA\",LOOKUP(1,GEfectos!$Q$4:$W$4,GEfectos!Q186:W186),IF(EFECTOS!$N$9=\"EL SALVADOR\",LOOKUP(2,GEfectos!$Q$4:$W$4,GEfectos!Q186:W186),IF(EFECTOS!$N$9=\"GUATEMALA\",LOOKUP(3,GEfectos!$Q$4:$W$4,GEfectos!Q186:W186),IF(EFECTOS!$N$9=\"HONDURAS\",LOOKUP(4,GEfectos!$Q$4:$W$4,GEfectos!Q186:W186),IF(EFECTOS!$N$9=\"NICARAGUA\",LOOKUP(5,GEfectos!$Q$4:$W$4,GEfectos!Q186:W186),IF(EFECTOS!$N$9=\"REPÚBLICA \nDOMINICANA\",LOOKUP(6,$Q$4:$W$4,Q186:W186),IF(EFECTOS!$N$9=\"PANAMÁ\",LOOKUP(7,GEfectos!$Q$4:$W$4,GEfectos!Q186:W186))))))))","v":186.17643534457324},100]
[null,{"$f":"'ITCER GLOBAL'!B187","v":"Febrero"},{"$f":"'ITCER GLOBAL'!C187","v":93.194163787677923},{"$f":"'ITCER GLOBAL'!D187","v":102.03541535525403},{"$f":"'ITCER GLOBAL'!E187","v":75.551975872749935},{"$f":"'ITCER GLOBAL'!F187","v":87.572673178520688},{"$f":"'ITCER GLOBAL'!G187","v":108.47373092734058},{"$f":"'ITCER GLOBAL'!H187","v":120.9522079015679},{"$f":"'ITCER GLOBAL'!I187","v":107.07912579717572},{"$f":"'ITCER GLOBAL'!S187","v":180.57142444263354},{"$f":"'ITCER GLOBAL'!T187","v":96.382914186979249},{"$f":"'ITCER GLOBAL'!U187","v":102.29484902562169},{"$f":"'ITCER GLOBAL'!V187","v":123.65900261400691},{"$f":"'ITCER GLOBAL'!W187","v":155.71493290532274},{"$f":"'ITCER GLOBAL'!X187","v":225.03189148804609},{"$f":"'ITCER GLOBAL'!Y187","v":100.83095506020099},{"$f":"'ITCER GLOBAL'!AA187","v":193.75829676848133},{"$f":"'ITCER GLOBAL'!AB187","v":94.460255639089013},{"$f":"'ITCER GLOBAL'!AC187","v":135.39665620117469},{"$f":"'ITCER GLOBAL'!AD187","v":141.2072946110971},{"$f":"'ITCER GLOBAL'!AE187","v":143.55082246560315},{"$f":"'ITCER GLOBAL'!AF187","v":186.05025521417454},{"$f":"'ITCER GLOBAL'!AG187","v":94.164903112106344},null,{"$f":"IF(EFECTOS!$N$9=\"COSTA RICA\",LOOKUP(1,GEfectos!$C$4:$I$4,GEfectos!C187:I187),IF(EFECTOS!$N$9=\"EL SALVADOR\",LOOKUP(2,GEfectos!$C$4:$I$4,GEfectos!C187:I187),IF(EFECTOS!$N$9=\"GUATEMALA\",LOOKUP(3,GEfectos!$C$4:$I$4,GEfectos!C187:I187),IF(EFECTOS!$N$9=\"HONDURAS\",LOOKUP(4,GEfectos!$C$4:$I$4,GEfectos!C187:I187),IF(EFECTOS!$N$9=\"NICARAGUA\",LOOKUP(5,GEfectos!$C$4:$I$4,GEfectos!C187:I187),IF(EFECTOS!$N$9=\"REPÚBLICA \nDOMINICANA\",LOOKUP(6,$C$4:$I$4,C187:I187),IF(EFECTOS!$N$9=\"PANAMÁ\",LOOKUP(7,GEfectos!$C$4:$I$4,GEfectos!C187:I187))))))))","v":120.9522079015679},{"$f":"IF(EFECTOS!$N$9=\"COSTA RICA\",LOOKUP(1,GEfectos!$J$4:$P$4,GEfectos!J187:P187),IF(EFECTOS!$N$9=\"EL SALVADOR\",LOOKUP(2,GEfectos!$J$4:$P$4,GEfectos!J187:P187),IF(EFECTOS!$N$9=\"GUATEMALA\",LOOKUP(3,GEfectos!$J$4:$P$4,GEfectos!J187:P187),IF(EFECTOS!$N$9=\"HONDURAS\",LOOKUP(4,GEfectos!$J$4:$P$4,GEfectos!J187:P187),IF(EFECTOS!$N$9=\"NICARAGUA\",LOOKUP(5,GEfectos!$J$4:$P$4,GEfectos!J187:P187),IF(EFECTOS!$N$9=\"REPÚBLICA \nDOMINICANA\",LOOKUP(6,$J$4:$P$4,J187:P187),IF(EFECTOS!$N$9=\"PANAMÁ\",LOOKUP(7,GEfectos!$J$4:$P$4,GEfectos!J187:P187))))))))","v":225.03189148804609},{"$f":"IF(EFECTOS!$N$9=\"COSTA RICA\",LOOKUP(1,GEfectos!$Q$4:$W$4,GEfectos!Q187:W187),IF(EFECTOS!$N$9=\"EL SALVADOR\",LOOKUP(2,GEfectos!$Q$4:$W$4,GEfectos!Q187:W187),IF(EFECTOS!$N$9=\"GUATEMALA\",LOOKUP(3,GEfectos!$Q$4:$W$4,GEfectos!Q187:W187),IF(EFECTOS!$N$9=\"HONDURAS\",LOOKUP(4,GEfectos!$Q$4:$W$4,GEfectos!Q187:W187),IF(EFECTOS!$N$9=\"NICARAGUA\",LOOKUP(5,GEfectos!$Q$4:$W$4,GEfectos!Q187:W187),IF(EFECTOS!$N$9=\"REPÚBLICA \nDOMINICANA\",LOOKUP(6,$Q$4:$W$4,Q187:W187),IF(EFECTOS!$N$9=\"PANAMÁ\",LOOKUP(7,GEfectos!$Q$4:$W$4,GEfectos!Q187:W187))))))))","v":186.05025521417454},100]
[null,{"$f":"'ITCER GLOBAL'!B188","v":"Marzo"},{"$f":"'ITCER GLOBAL'!C188","v":90.847609305512478},{"$f":"'ITCER GLOBAL'!D188","v":102.80368739510956},{"$f":"'ITCER GLOBAL'!E188","v":74.213768477920794},{"$f":"'ITCER GLOBAL'!F188","v":88.059042894766961},{"$f":"'ITCER GLOBAL'!G188","v":109.01188127686099},{"$f":"'ITCER GLOBAL'!H188","v":120.98661760787375},{"$f":"'ITCER GLOBAL'!I188","v":107.68437792729453},{"$f":"'ITCER GLOBAL'!S188","v":175.72355029811385},{"$f":"'ITCER GLOBAL'!T188","v":96.905850830086976},{"$f":"'ITCER GLOBAL'!U188","v":101.22225327722249},{"$f":"'ITCER GLOBAL'!V188","v":124.27999525328963},{"$f":"'ITCER GLOBAL'!W188","v":157.55589423588276},{"$f":"'ITCER GLOBAL'!X188","v":226.15177764145619},{"$f":"'ITCER GLOBAL'!Y188","v":101.41919429149122},{"$f":"'ITCER GLOBAL'!AA188","v":193.42671936161918},{"$f":"'ITCER GLOBAL'!AB188","v":94.263010681362829},{"$f":"'ITCER GLOBAL'!AC188","v":136.39282218546404},{"$f":"'ITCER GLOBAL'!AD188","v":141.13257556274797},{"$f":"'ITCER GLOBAL'!AE188","v":144.53093772020407},{"$f":"'ITCER GLOBAL'!AF188","v":186.92296893068803},{"$f":"'ITCER GLOBAL'!AG188","v":94.181901073864779},null,{"$f":"IF(EFECTOS!$N$9=\"COSTA RICA\",LOOKUP(1,GEfectos!$C$4:$I$4,GEfectos!C188:I188),IF(EFECTOS!$N$9=\"EL SALVADOR\",LOOKUP(2,GEfectos!$C$4:$I$4,GEfectos!C188:I188),IF(EFECTOS!$N$9=\"GUATEMALA\",LOOKUP(3,GEfectos!$C$4:$I$4,GEfectos!C188:I188),IF(EFECTOS!$N$9=\"HONDURAS\",LOOKUP(4,GEfectos!$C$4:$I$4,GEfectos!C188:I188),IF(EFECTOS!$N$9=\"NICARAGUA\",LOOKUP(5,GEfectos!$C$4:$I$4,GEfectos!C188:I188),IF(EFECTOS!$N$9=\"REPÚBLICA \nDOMINICANA\",LOOKUP(6,$C$4:$I$4,C188:I188),IF(EFECTOS!$N$9=\"PANAMÁ\",LOOKUP(7,GEfectos!$C$4:$I$4,GEfectos!C188:I188))))))))","v":120.98661760787375},{"$f":"IF(EFECTOS!$N$9=\"COSTA RICA\",LOOKUP(1,GEfectos!$J$4:$P$4,GEfectos!J188:P188),IF(EFECTOS!$N$9=\"EL SALVADOR\",LOOKUP(2,GEfectos!$J$4:$P$4,GEfectos!J188:P188),IF(EFECTOS!$N$9=\"GUATEMALA\",LOOKUP(3,GEfectos!$J$4:$P$4,GEfectos!J188:P188),IF(EFECTOS!$N$9=\"HONDURAS\",LOOKUP(4,GEfectos!$J$4:$P$4,GEfectos!J188:P188),IF(EFECTOS!$N$9=\"NICARAGUA\",LOOKUP(5,GEfectos!$J$4:$P$4,GEfectos!J188:P188),IF(EFECTOS!$N$9=\"REPÚBLICA \nDOMINICANA\",LOOKUP(6,$J$4:$P$4,J188:P188),IF(EFECTOS!$N$9=\"PANAMÁ\",LOOKUP(7,GEfectos!$J$4:$P$4,GEfectos!J188:P188))))))))","v":226.15177764145619},{"$f":"IF(EFECTOS!$N$9=\"COSTA RICA\",LOOKUP(1,GEfectos!$Q$4:$W$4,GEfectos!Q188:W188),IF(EFECTOS!$N$9=\"EL SALVADOR\",LOOKUP(2,GEfectos!$Q$4:$W$4,GEfectos!Q188:W188),IF(EFECTOS!$N$9=\"GUATEMALA\",LOOKUP(3,GEfectos!$Q$4:$W$4,GEfectos!Q188:W188),IF(EFECTOS!$N$9=\"HONDURAS\",LOOKUP(4,GEfectos!$Q$4:$W$4,GEfectos!Q188:W188),IF(EFECTOS!$N$9=\"NICARAGUA\",LOOKUP(5,GEfectos!$Q$4:$W$4,GEfectos!Q188:W188),IF(EFECTOS!$N$9=\"REPÚBLICA \nDOMINICANA\",LOOKUP(6,$Q$4:$W$4,Q188:W188),IF(EFECTOS!$N$9=\"PANAMÁ\",LOOKUP(7,GEfectos!$Q$4:$W$4,GEfectos!Q188:W188))))))))","v":186.92296893068803},100]
[null,{"$f":"'ITCER GLOBAL'!B189","v":"Abril"},{"$f":"'ITCER GLOBAL'!C189","v":87.257784371150251},{"$f":"'ITCER GLOBAL'!D189","v":103.43999775237691},{"$f":"'ITCER GLOBAL'!E189","v":74.486739203354006},{"$f":"'ITCER GLOBAL'!F189","v":87.940670368096505},{"$f":"'ITCER GLOBAL'!G189","v":109.78867677063951},{"$f":"'ITCER GLOBAL'!H189","v":121.22164046541289},{"$f":"'ITCER GLOBAL'!I189","v":107.82088153994668},{"$f":"'ITCER GLOBAL'!S189","v":168.55113898712381},{"$f":"'ITCER GLOBAL'!T189","v":97.163397120049154},{"$f":"'ITCER GLOBAL'!U189","v":101.34728434568925},{"$f":"'ITCER GLOBAL'!V189","v":124.58145763540487},{"$f":"'ITCER GLOBAL'!W189","v":158.98325134364731},{"$f":"'ITCER GLOBAL'!X189","v":226.9319732868147},{"$f":"'ITCER GLOBAL'!Y189","v":101.68444970441581},{"$f":"'ITCER GLOBAL'!AA189","v":193.16458720770743},{"$f":"'ITCER GLOBAL'!AB189","v":93.932133827619367},{"$f":"'ITCER GLOBAL'!AC189","v":136.06084174124481},{"$f":"'ITCER GLOBAL'!AD189","v":141.66534905174098},{"$f":"'ITCER GLOBAL'!AE189","v":144.8084228902591},{"$f":"'ITCER GLOBAL'!AF189","v":187.20417609887335},{"$f":"'ITCER GLOBAL'!AG189","v":94.308679591663903},null,{"$f":"IF(EFECTOS!$N$9=\"COSTA RICA\",LOOKUP(1,GEfectos!$C$4:$I$4,GEfectos!C189:I189),IF(EFECTOS!$N$9=\"EL SALVADOR\",LOOKUP(2,GEfectos!$C$4:$I$4,GEfectos!C189:I189),IF(EFECTOS!$N$9=\"GUATEMALA\",LOOKUP(3,GEfectos!$C$4:$I$4,GEfectos!C189:I189),IF(EFECTOS!$N$9=\"HONDURAS\",LOOKUP(4,GEfectos!$C$4:$I$4,GEfectos!C189:I189),IF(EFECTOS!$N$9=\"NICARAGUA\",LOOKUP(5,GEfectos!$C$4:$I$4,GEfectos!C189:I189),IF(EFECTOS!$N$9=\"REPÚBLICA \nDOMINICANA\",LOOKUP(6,$C$4:$I$4,C189:I189),IF(EFECTOS!$N$9=\"PANAMÁ\",LOOKUP(7,GEfectos!$C$4:$I$4,GEfectos!C189:I189))))))))","v":121.22164046541289},{"$f":"IF(EFECTOS!$N$9=\"COSTA RICA\",LOOKUP(1,GEfectos!$J$4:$P$4,GEfectos!J189:P189),IF(EFECTOS!$N$9=\"EL SALVADOR\",LOOKUP(2,GEfectos!$J$4:$P$4,GEfectos!J189:P189),IF(EFECTOS!$N$9=\"GUATEMALA\",LOOKUP(3,GEfectos!$J$4:$P$4,GEfectos!J189:P189),IF(EFECTOS!$N$9=\"HONDURAS\",LOOKUP(4,GEfectos!$J$4:$P$4,GEfectos!J189:P189),IF(EFECTOS!$N$9=\"NICARAGUA\",LOOKUP(5,GEfectos!$J$4:$P$4,GEfectos!J189:P189),IF(EFECTOS!$N$9=\"REPÚBLICA \nDOMINICANA\",LOOKUP(6,$J$4:$P$4,J189:P189),IF(EFECTOS!$N$9=\"PANAMÁ\",LOOKUP(7,GEfectos!$J$4:$P$4,GEfectos!J189:P189))))))))","v":226.9319732868147},{"$f":"IF(EFECTOS!$N$9=\"COSTA RICA\",LOOKUP(1,GEfectos!$Q$4:$W$4,GEfectos!Q189:W189),IF(EFECTOS!$N$9=\"EL SALVADOR\",LOOKUP(2,GEfectos!$Q$4:$W$4,GEfectos!Q189:W189),IF(EFECTOS!$N$9=\"GUATEMALA\",LOOKUP(3,GEfectos!$Q$4:$W$4,GEfectos!Q189:W189),IF(EFECTOS!$N$9=\"HONDURAS\",LOOKUP(4,GEfectos!$Q$4:$W$4,GEfectos!Q189:W189),IF(EFECTOS!$N$9=\"NICARAGUA\",LOOKUP(5,GEfectos!$Q$4:$W$4,GEfectos!Q189:W189),IF(EFECTOS!$N$9=\"REPÚBLICA \nDOMINICANA\",LOOKUP(6,$Q$4:$W$4,Q189:W189),IF(EFECTOS!$N$9=\"PANAMÁ\",LOOKUP(7,GEfectos!$Q$4:$W$4,GEfectos!Q189:W189))))))))","v":187.20417609887335},100]
[null,{"$f":"'ITCER GLOBAL'!B190","v":"Mayo"},{"$f":"'ITCER GLOBAL'!C190","v":87.682993886780466},{"$f":"'ITCER GLOBAL'!D190","v":102.7423085117244},{"$f":"'ITCER GLOBAL'!E190","v":73.684952071991489},{"$f":"'ITCER GLOBAL'!F190","v":86.86190140450131},{"$f":"'ITCER GLOBAL'!G190","v":108.83533874209792},{"$f":"'ITCER GLOBAL'!H190","v":120.45873835753612},{"$f":"'ITCER GLOBAL'!I190","v":106.21429574621297},{"$f":"'ITCER GLOBAL'!S190","v":170.21093434720979},{"$f":"'ITCER GLOBAL'!T190","v":96.275002248844061},{"$f":"'ITCER GLOBAL'!U190","v":100.14740535116498},{"$f":"'ITCER GLOBAL'!V190","v":123.25733858959443},{"$f":"'ITCER GLOBAL'!W190","v":157.47924907723117},{"$f":"'ITCER GLOBAL'!X190","v":226.16046028714177},{"$f":"'ITCER GLOBAL'!Y190","v":100.35058769903709},{"$f":"'ITCER GLOBAL'!AA190","v":194.12080587370505},{"$f":"'ITCER GLOBAL'!AB190","v":93.705313461841939},{"$f":"'ITCER GLOBAL'!AC190","v":135.91296802815208},{"$f":"'ITCER GLOBAL'!AD190","v":141.90034594753536},{"$f":"'ITCER GLOBAL'!AE190","v":144.69495928193183},{"$f":"'ITCER GLOBAL'!AF190","v":187.74931845614233},{"$f":"'ITCER GLOBAL'!AG190","v":94.479360799805576},null,{"$f":"IF(EFECTOS!$N$9=\"COSTA RICA\",LOOKUP(1,GEfectos!$C$4:$I$4,GEfectos!C190:I190),IF(EFECTOS!$N$9=\"EL SALVADOR\",LOOKUP(2,GEfectos!$C$4:$I$4,GEfectos!C190:I190),IF(EFECTOS!$N$9=\"GUATEMALA\",LOOKUP(3,GEfectos!$C$4:$I$4,GEfectos!C190:I190),IF(EFECTOS!$N$9=\"HONDURAS\",LOOKUP(4,GEfectos!$C$4:$I$4,GEfectos!C190:I190),IF(EFECTOS!$N$9=\"NICARAGUA\",LOOKUP(5,GEfectos!$C$4:$I$4,GEfectos!C190:I190),IF(EFECTOS!$N$9=\"REPÚBLICA \nDOMINICANA\",LOOKUP(6,$C$4:$I$4,C190:I190),IF(EFECTOS!$N$9=\"PANAMÁ\",LOOKUP(7,GEfectos!$C$4:$I$4,GEfectos!C190:I190))))))))","v":120.45873835753612},{"$f":"IF(EFECTOS!$N$9=\"COSTA RICA\",LOOKUP(1,GEfectos!$J$4:$P$4,GEfectos!J190:P190),IF(EFECTOS!$N$9=\"EL SALVADOR\",LOOKUP(2,GEfectos!$J$4:$P$4,GEfectos!J190:P190),IF(EFECTOS!$N$9=\"GUATEMALA\",LOOKUP(3,GEfectos!$J$4:$P$4,GEfectos!J190:P190),IF(EFECTOS!$N$9=\"HONDURAS\",LOOKUP(4,GEfectos!$J$4:$P$4,GEfectos!J190:P190),IF(EFECTOS!$N$9=\"NICARAGUA\",LOOKUP(5,GEfectos!$J$4:$P$4,GEfectos!J190:P190),IF(EFECTOS!$N$9=\"REPÚBLICA \nDOMINICANA\",LOOKUP(6,$J$4:$P$4,J190:P190),IF(EFECTOS!$N$9=\"PANAMÁ\",LOOKUP(7,GEfectos!$J$4:$P$4,GEfectos!J190:P190))))))))","v":226.16046028714177},{"$f":"IF(EFECTOS!$N$9=\"COSTA RICA\",LOOKUP(1,GEfectos!$Q$4:$W$4,GEfectos!Q190:W190),IF(EFECTOS!$N$9=\"EL SALVADOR\",LOOKUP(2,GEfectos!$Q$4:$W$4,GEfectos!Q190:W190),IF(EFECTOS!$N$9=\"GUATEMALA\",LOOKUP(3,GEfectos!$Q$4:$W$4,GEfectos!Q190:W190),IF(EFECTOS!$N$9=\"HONDURAS\",LOOKUP(4,GEfectos!$Q$4:$W$4,GEfectos!Q190:W190),IF(EFECTOS!$N$9=\"NICARAGUA\",LOOKUP(5,GEfectos!$Q$4:$W$4,GEfectos!Q190:W190),IF(EFECTOS!$N$9=\"REPÚBLICA \nDOMINICANA\",LOOKUP(6,$Q$4:$W$4,Q190:W190),IF(EFECTOS!$N$9=\"PANAMÁ\",LOOKUP(7,GEfectos!$Q$4:$W$4,GEfectos!Q190:W190))))))))","v":187.74931845614233},100]
[null,{"$f":"'ITCER GLOBAL'!B191","v":"Junio"},{"$f":"'ITCER GLOBAL'!C191","v":88.416338159505216},{"$f":"'ITCER GLOBAL'!D191","v":102.07326613593051},{"$f":"'ITCER GLOBAL'!E191","v":73.235311614815345},{"$f":"'ITCER GLOBAL'!F191","v":86.276830068274066},{"$f":"'ITCER GLOBAL'!G191","v":108.83503151763249},{"$f":"'ITCER GLOBAL'!H191","v":120.4801371535239},{"$f":"'ITCER GLOBAL'!I191","v":105.72974996855736},{"$f":"'ITCER GLOBAL'!S191","v":172.20361825867053},{"$f":"'ITCER GLOBAL'!T191","v":96.063136953805369},{"$f":"'ITCER GLOBAL'!U191","v":100.05057269157842},{"$f":"'ITCER GLOBAL'!V191","v":122.90081291689974},{"$f":"'ITCER GLOBAL'!W191","v":157.40252383227943},{"$f":"'ITCER GLOBAL'!X191","v":226.02084387389175},{"$f":"'ITCER GLOBAL'!Y191","v":100.04129098215306},{"$f":"'ITCER GLOBAL'!AA191","v":194.76447661518284},{"$f":"'ITCER GLOBAL'!AB191","v":94.111945850619222},{"$f":"'ITCER GLOBAL'!AC191","v":136.615207180109},{"$f":"'ITCER GLOBAL'!AD191","v":142.44938394195029},{"$f":"'ITCER GLOBAL'!AE191","v":144.62487090544781},{"$f":"'ITCER GLOBAL'!AF191","v":187.60008845763579},{"$f":"'ITCER GLOBAL'!AG191","v":94.619812315742763},null,{"$f":"IF(EFECTOS!$N$9=\"COSTA RICA\",LOOKUP(1,GEfectos!$C$4:$I$4,GEfectos!C191:I191),IF(EFECTOS!$N$9=\"EL SALVADOR\",LOOKUP(2,GEfectos!$C$4:$I$4,GEfectos!C191:I191),IF(EFECTOS!$N$9=\"GUATEMALA\",LOOKUP(3,GEfectos!$C$4:$I$4,GEfectos!C191:I191),IF(EFECTOS!$N$9=\"HONDURAS\",LOOKUP(4,GEfectos!$C$4:$I$4,GEfectos!C191:I191),IF(EFECTOS!$N$9=\"NICARAGUA\",LOOKUP(5,GEfectos!$C$4:$I$4,GEfectos!C191:I191),IF(EFECTOS!$N$9=\"REPÚBLICA \nDOMINICANA\",LOOKUP(6,$C$4:$I$4,C191:I191),IF(EFECTOS!$N$9=\"PANAMÁ\",LOOKUP(7,GEfectos!$C$4:$I$4,GEfectos!C191:I191))))))))","v":120.4801371535239},{"$f":"IF(EFECTOS!$N$9=\"COSTA RICA\",LOOKUP(1,GEfectos!$J$4:$P$4,GEfectos!J191:P191),IF(EFECTOS!$N$9=\"EL SALVADOR\",LOOKUP(2,GEfectos!$J$4:$P$4,GEfectos!J191:P191),IF(EFECTOS!$N$9=\"GUATEMALA\",LOOKUP(3,GEfectos!$J$4:$P$4,GEfectos!J191:P191),IF(EFECTOS!$N$9=\"HONDURAS\",LOOKUP(4,GEfectos!$J$4:$P$4,GEfectos!J191:P191),IF(EFECTOS!$N$9=\"NICARAGUA\",LOOKUP(5,GEfectos!$J$4:$P$4,GEfectos!J191:P191),IF(EFECTOS!$N$9=\"REPÚBLICA \nDOMINICANA\",LOOKUP(6,$J$4:$P$4,J191:P191),IF(EFECTOS!$N$9=\"PANAMÁ\",LOOKUP(7,GEfectos!$J$4:$P$4,GEfectos!J191:P191))))))))","v":226.02084387389175},{"$f":"IF(EFECTOS!$N$9=\"COSTA RICA\",LOOKUP(1,GEfectos!$Q$4:$W$4,GEfectos!Q191:W191),IF(EFECTOS!$N$9=\"EL SALVADOR\",LOOKUP(2,GEfectos!$Q$4:$W$4,GEfectos!Q191:W191),IF(EFECTOS!$N$9=\"GUATEMALA\",LOOKUP(3,GEfectos!$Q$4:$W$4,GEfectos!Q191:W191),IF(EFECTOS!$N$9=\"HONDURAS\",LOOKUP(4,GEfectos!$Q$4:$W$4,GEfectos!Q191:W191),IF(EFECTOS!$N$9=\"NICARAGUA\",LOOKUP(5,GEfectos!$Q$4:$W$4,GEfectos!Q191:W191),IF(EFECTOS!$N$9=\"REPÚBLICA \nDOMINICANA\",LOOKUP(6,$Q$4:$W$4,Q191:W191),IF(EFECTOS!$N$9=\"PANAMÁ\",LOOKUP(7,GEfectos!$Q$4:$W$4,GEfectos!Q191:W191))))))))","v":187.60008845763579},100]
[null,{"$f":"'ITCER GLOBAL'!B192","v":"Julio"},{"$f":"'ITCER GLOBAL'!C192","v":87.054367646680461},{"$f":"'ITCER GLOBAL'!D192","v":102.73050188283133},{"$f":"'ITCER GLOBAL'!E192","v":73.388134136838929},{"$f":"'ITCER GLOBAL'!F192","v":86.35560950854024},{"$f":"'ITCER GLOBAL'!G192","v":109.27349715782077},{"$f":"'ITCER GLOBAL'!H192","v":121.21596995241018},{"$f":"'ITCER GLOBAL'!I192","v":105.67261054720665},{"$f":"'ITCER GLOBAL'!S192","v":169.93974842096225},{"$f":"'ITCER GLOBAL'!T192","v":96.519211459106145},{"$f":"'ITCER GLOBAL'!U192","v":100.49461509938662},{"$f":"'ITCER GLOBAL'!V192","v":123.64624521202228},{"$f":"'ITCER GLOBAL'!W192","v":159.20383508159543},{"$f":"'ITCER GLOBAL'!X192","v":228.10844059531149},{"$f":"'ITCER GLOBAL'!Y192","v":101.05014615625517},{"$f":"'ITCER GLOBAL'!AA192","v":195.21105375284677},{"$f":"'ITCER GLOBAL'!AB192","v":93.9538011497214},{"$f":"'ITCER GLOBAL'!AC192","v":136.93578162377744},{"$f":"'ITCER GLOBAL'!AD192","v":143.18264431888949},{"$f":"'ITCER GLOBAL'!AE192","v":145.69299896356534},{"$f":"'ITCER GLOBAL'!AF192","v":188.18348826880458},{"$f":"'ITCER GLOBAL'!AG192","v":95.625674082418442},null,{"$f":"IF(EFECTOS!$N$9=\"COSTA RICA\",LOOKUP(1,GEfectos!$C$4:$I$4,GEfectos!C192:I192),IF(EFECTOS!$N$9=\"EL SALVADOR\",LOOKUP(2,GEfectos!$C$4:$I$4,GEfectos!C192:I192),IF(EFECTOS!$N$9=\"GUATEMALA\",LOOKUP(3,GEfectos!$C$4:$I$4,GEfectos!C192:I192),IF(EFECTOS!$N$9=\"HONDURAS\",LOOKUP(4,GEfectos!$C$4:$I$4,GEfectos!C192:I192),IF(EFECTOS!$N$9=\"NICARAGUA\",LOOKUP(5,GEfectos!$C$4:$I$4,GEfectos!C192:I192),IF(EFECTOS!$N$9=\"REPÚBLICA \nDOMINICANA\",LOOKUP(6,$C$4:$I$4,C192:I192),IF(EFECTOS!$N$9=\"PANAMÁ\",LOOKUP(7,GEfectos!$C$4:$I$4,GEfectos!C192:I192))))))))","v":121.21596995241018},{"$f":"IF(EFECTOS!$N$9=\"COSTA RICA\",LOOKUP(1,GEfectos!$J$4:$P$4,GEfectos!J192:P192),IF(EFECTOS!$N$9=\"EL SALVADOR\",LOOKUP(2,GEfectos!$J$4:$P$4,GEfectos!J192:P192),IF(EFECTOS!$N$9=\"GUATEMALA\",LOOKUP(3,GEfectos!$J$4:$P$4,GEfectos!J192:P192),IF(EFECTOS!$N$9=\"HONDURAS\",LOOKUP(4,GEfectos!$J$4:$P$4,GEfectos!J192:P192),IF(EFECTOS!$N$9=\"NICARAGUA\",LOOKUP(5,GEfectos!$J$4:$P$4,GEfectos!J192:P192),IF(EFECTOS!$N$9=\"REPÚBLICA \nDOMINICANA\",LOOKUP(6,$J$4:$P$4,J192:P192),IF(EFECTOS!$N$9=\"PANAMÁ\",LOOKUP(7,GEfectos!$J$4:$P$4,GEfectos!J192:P192))))))))","v":228.10844059531149},{"$f":"IF(EFECTOS!$N$9=\"COSTA RICA\",LOOKUP(1,GEfectos!$Q$4:$W$4,GEfectos!Q192:W192),IF(EFECTOS!$N$9=\"EL SALVADOR\",LOOKUP(2,GEfectos!$Q$4:$W$4,GEfectos!Q192:W192),IF(EFECTOS!$N$9=\"GUATEMALA\",LOOKUP(3,GEfectos!$Q$4:$W$4,GEfectos!Q192:W192),IF(EFECTOS!$N$9=\"HONDURAS\",LOOKUP(4,GEfectos!$Q$4:$W$4,GEfectos!Q192:W192),IF(EFECTOS!$N$9=\"NICARAGUA\",LOOKUP(5,GEfectos!$Q$4:$W$4,GEfectos!Q192:W192),IF(EFECTOS!$N$9=\"REPÚBLICA \nDOMINICANA\",LOOKUP(6,$Q$4:$W$4,Q192:W192),IF(EFECTOS!$N$9=\"PANAMÁ\",LOOKUP(7,GEfectos!$Q$4:$W$4,GEfectos!Q192:W192))))))))","v":188.18348826880458},100]
[null,{"$f":"'ITCER GLOBAL'!B193","v":"Agosto"},{"$f":"'ITCER GLOBAL'!C193","v":85.323891452194118},{"$f":"'ITCER GLOBAL'!D193","v":103.31680530999955},{"$f":"'ITCER GLOBAL'!E193","v":73.791054218790038},{"$f":"'ITCER GLOBAL'!F193","v":86.337696236686369},{"$f":"'ITCER GLOBAL'!G193","v":111.11490744664778},{"$f":"'ITCER GLOBAL'!H193","v":121.88287029885707},{"$f":"'ITCER GLOBAL'!I193","v":105.95998192786953},{"$f":"'ITCER GLOBAL'!S193","v":166.56180499912116},{"$f":"'ITCER GLOBAL'!T193","v":96.734264191847188},{"$f":"'ITCER GLOBAL'!U193","v":100.91796907514683},{"$f":"'ITCER GLOBAL'!V193","v":124.00822755091781},{"$f":"'ITCER GLOBAL'!W193","v":160.77059472976021},{"$f":"'ITCER GLOBAL'!X193","v":229.44124735528689},{"$f":"'ITCER GLOBAL'!Y193","v":101.68074887777374},{"$f":"'ITCER GLOBAL'!AA193","v":195.211214777333},{"$f":"'ITCER GLOBAL'!AB193","v":93.628779850091561},{"$f":"'ITCER GLOBAL'!AC193","v":136.76179334140647},{"$f":"'ITCER GLOBAL'!AD193","v":143.63161510698797},{"$f":"'ITCER GLOBAL'!AE193","v":144.68859167880314},{"$f":"'ITCER GLOBAL'!AF193","v":188.24732859728067},{"$f":"'ITCER GLOBAL'!AG193","v":95.961463023834014},null,{"$f":"IF(EFECTOS!$N$9=\"COSTA RICA\",LOOKUP(1,GEfectos!$C$4:$I$4,GEfectos!C193:I193),IF(EFECTOS!$N$9=\"EL SALVADOR\",LOOKUP(2,GEfectos!$C$4:$I$4,GEfectos!C193:I193),IF(EFECTOS!$N$9=\"GUATEMALA\",LOOKUP(3,GEfectos!$C$4:$I$4,GEfectos!C193:I193),IF(EFECTOS!$N$9=\"HONDURAS\",LOOKUP(4,GEfectos!$C$4:$I$4,GEfectos!C193:I193),IF(EFECTOS!$N$9=\"NICARAGUA\",LOOKUP(5,GEfectos!$C$4:$I$4,GEfectos!C193:I193),IF(EFECTOS!$N$9=\"REPÚBLICA \nDOMINICANA\",LOOKUP(6,$C$4:$I$4,C193:I193),IF(EFECTOS!$N$9=\"PANAMÁ\",LOOKUP(7,GEfectos!$C$4:$I$4,GEfectos!C193:I193))))))))","v":121.88287029885707},{"$f":"IF(EFECTOS!$N$9=\"COSTA RICA\",LOOKUP(1,GEfectos!$J$4:$P$4,GEfectos!J193:P193),IF(EFECTOS!$N$9=\"EL SALVADOR\",LOOKUP(2,GEfectos!$J$4:$P$4,GEfectos!J193:P193),IF(EFECTOS!$N$9=\"GUATEMALA\",LOOKUP(3,GEfectos!$J$4:$P$4,GEfectos!J193:P193),IF(EFECTOS!$N$9=\"HONDURAS\",LOOKUP(4,GEfectos!$J$4:$P$4,GEfectos!J193:P193),IF(EFECTOS!$N$9=\"NICARAGUA\",LOOKUP(5,GEfectos!$J$4:$P$4,GEfectos!J193:P193),IF(EFECTOS!$N$9=\"REPÚBLICA \nDOMINICANA\",LOOKUP(6,$J$4:$P$4,J193:P193),IF(EFECTOS!$N$9=\"PANAMÁ\",LOOKUP(7,GEfectos!$J$4:$P$4,GEfectos!J193:P193))))))))","v":229.44124735528689},{"$f":"IF(EFECTOS!$N$9=\"COSTA RICA\",LOOKUP(1,GEfectos!$Q$4:$W$4,GEfectos!Q193:W193),IF(EFECTOS!$N$9=\"EL SALVADOR\",LOOKUP(2,GEfectos!$Q$4:$W$4,GEfectos!Q193:W193),IF(EFECTOS!$N$9=\"GUATEMALA\",LOOKUP(3,GEfectos!$Q$4:$W$4,GEfectos!Q193:W193),IF(EFECTOS!$N$9=\"HONDURAS\",LOOKUP(4,GEfectos!$Q$4:$W$4,GEfectos!Q193:W193),IF(EFECTOS!$N$9=\"NICARAGUA\",LOOKUP(5,GEfectos!$Q$4:$W$4,GEfectos!Q193:W193),IF(EFECTOS!$N$9=\"REPÚBLICA \nDOMINICANA\",LOOKUP(6,$Q$4:$W$4,Q193:W193),IF(EFECTOS!$N$9=\"PANAMÁ\",LOOKUP(7,GEfectos!$Q$4:$W$4,GEfectos!Q193:W193))))))))","v":188.24732859728067},100]
[null,{"$f":"'ITCER GLOBAL'!B194","v":"Septiembre"},{"$f":"'ITCER GLOBAL'!C194","v":85.564155578522062},{"$f":"'ITCER GLOBAL'!D194","v":103.34731608528658},{"$f":"'ITCER GLOBAL'!E194","v":74.530614500585912},{"$f":"'ITCER GLOBAL'!F194","v":86.106618755586538},{"$f":"'ITCER GLOBAL'!G194","v":111.66773958524922},{"$f":"'ITCER GLOBAL'!H194","v":121.80168778455054},{"$f":"'ITCER GLOBAL'!I194","v":106.59170583131863},{"$f":"'ITCER GLOBAL'!S194","v":166.49803586600029},{"$f":"'ITCER GLOBAL'!T194","v":96.82518615500932},{"$f":"'ITCER GLOBAL'!U194","v":101.98321752046647},{"$f":"'ITCER GLOBAL'!V194","v":124.16707532910362},{"$f":"'ITCER GLOBAL'!W194","v":161.84290128193061},{"$f":"'ITCER GLOBAL'!X194","v":230.68541998632793},{"$f":"'ITCER GLOBAL'!Y194","v":102.08074213327549},{"$f":"'ITCER GLOBAL'!AA194","v":194.58853387877514},{"$f":"'ITCER GLOBAL'!AB194","v":93.68911532748956},{"$f":"'ITCER GLOBAL'!AC194","v":136.83399527004403},{"$f":"'ITCER GLOBAL'!AD194","v":144.20154585508882},{"$f":"'ITCER GLOBAL'!AE194","v":144.93254890180413},{"$f":"'ITCER GLOBAL'!AF194","v":189.39427210103761},{"$f":"'ITCER GLOBAL'!AG194","v":95.767997460157233},null,{"$f":"IF(EFECTOS!$N$9=\"COSTA RICA\",LOOKUP(1,GEfectos!$C$4:$I$4,GEfectos!C194:I194),IF(EFECTOS!$N$9=\"EL SALVADOR\",LOOKUP(2,GEfectos!$C$4:$I$4,GEfectos!C194:I194),IF(EFECTOS!$N$9=\"GUATEMALA\",LOOKUP(3,GEfectos!$C$4:$I$4,GEfectos!C194:I194),IF(EFECTOS!$N$9=\"HONDURAS\",LOOKUP(4,GEfectos!$C$4:$I$4,GEfectos!C194:I194),IF(EFECTOS!$N$9=\"NICARAGUA\",LOOKUP(5,GEfectos!$C$4:$I$4,GEfectos!C194:I194),IF(EFECTOS!$N$9=\"REPÚBLICA \nDOMINICANA\",LOOKUP(6,$C$4:$I$4,C194:I194),IF(EFECTOS!$N$9=\"PANAMÁ\",LOOKUP(7,GEfectos!$C$4:$I$4,GEfectos!C194:I194))))))))","v":121.80168778455054},{"$f":"IF(EFECTOS!$N$9=\"COSTA RICA\",LOOKUP(1,GEfectos!$J$4:$P$4,GEfectos!J194:P194),IF(EFECTOS!$N$9=\"EL SALVADOR\",LOOKUP(2,GEfectos!$J$4:$P$4,GEfectos!J194:P194),IF(EFECTOS!$N$9=\"GUATEMALA\",LOOKUP(3,GEfectos!$J$4:$P$4,GEfectos!J194:P194),IF(EFECTOS!$N$9=\"HONDURAS\",LOOKUP(4,GEfectos!$J$4:$P$4,GEfectos!J194:P194),IF(EFECTOS!$N$9=\"NICARAGUA\",LOOKUP(5,GEfectos!$J$4:$P$4,GEfectos!J194:P194),IF(EFECTOS!$N$9=\"REPÚBLICA \nDOMINICANA\",LOOKUP(6,$J$4:$P$4,J194:P194),IF(EFECTOS!$N$9=\"PANAMÁ\",LOOKUP(7,GEfectos!$J$4:$P$4,GEfectos!J194:P194))))))))","v":230.68541998632793},{"$f":"IF(EFECTOS!$N$9=\"COSTA RICA\",LOOKUP(1,GEfectos!$Q$4:$W$4,GEfectos!Q194:W194),IF(EFECTOS!$N$9=\"EL SALVADOR\",LOOKUP(2,GEfectos!$Q$4:$W$4,GEfectos!Q194:W194),IF(EFECTOS!$N$9=\"GUATEMALA\",LOOKUP(3,GEfectos!$Q$4:$W$4,GEfectos!Q194:W194),IF(EFECTOS!$N$9=\"HONDURAS\",LOOKUP(4,GEfectos!$Q$4:$W$4,GEfectos!Q194:W194),IF(EFECTOS!$N$9=\"NICARAGUA\",LOOKUP(5,GEfectos!$Q$4:$W$4,GEfectos!Q194:W194),IF(EFECTOS!$N$9=\"REPÚBLICA \nDOMINICANA\",LOOKUP(6,$Q$4:$W$4,Q194:W194),IF(EFECTOS!$N$9=\"PANAMÁ\",LOOKUP(7,GEfectos!$Q$4:$W$4,GEfectos!Q194:W194))))))))","v":189.39427210103761},100]
[null,{"$f":"'ITCER GLOBAL'!B195","v":"Octubre"},{"$f":"'ITCER GLOBAL'!C195","v":86.528230421048889},{"$f":"'ITCER GLOBAL'!D195","v":103.92491320355363},{"$f":"'ITCER GLOBAL'!E195","v":74.918287216044817},{"$f":"'ITCER GLOBAL'!F195","v":86.391726356846405},{"$f":"'ITCER GLOBAL'!G195","v":111.52373962975604},{"$f":"'ITCER GLOBAL'!H195","v":123.15836927073214},{"$f":"'ITCER GLOBAL'!I195","v":108.02439180569333},{"$f":"'ITCER GLOBAL'!S195","v":168.57923055624917},{"$f":"'ITCER GLOBAL'!T195","v":97.597908921666914},{"$f":"'ITCER GLOBAL'!U195","v":102.6598706071194},{"$f":"'ITCER GLOBAL'!V195","v":125.30187646026603},{"$f":"'ITCER GLOBAL'!W195","v":164.41060624755156},{"$f":"'ITCER GLOBAL'!X195","v":234.23138303510544},{"$f":"'ITCER GLOBAL'!Y195","v":103.30904608883993},{"$f":"'ITCER GLOBAL'!AA195","v":194.82569993161505},{"$f":"'ITCER GLOBAL'!AB195","v":93.911946532498646},{"$f":"'ITCER GLOBAL'!AC195","v":137.02912122253286},{"$f":"'ITCER GLOBAL'!AD195","v":145.03920889680896},{"$f":"'ITCER GLOBAL'!AE195","v":147.42207066708207},{"$f":"'ITCER GLOBAL'!AF195","v":190.18714231284417},{"$f":"'ITCER GLOBAL'!AG195","v":95.634925003479751},null,{"$f":"IF(EFECTOS!$N$9=\"COSTA RICA\",LOOKUP(1,GEfectos!$C$4:$I$4,GEfectos!C195:I195),IF(EFECTOS!$N$9=\"EL SALVADOR\",LOOKUP(2,GEfectos!$C$4:$I$4,GEfectos!C195:I195),IF(EFECTOS!$N$9=\"GUATEMALA\",LOOKUP(3,GEfectos!$C$4:$I$4,GEfectos!C195:I195),IF(EFECTOS!$N$9=\"HONDURAS\",LOOKUP(4,GEfectos!$C$4:$I$4,GEfectos!C195:I195),IF(EFECTOS!$N$9=\"NICARAGUA\",LOOKUP(5,GEfectos!$C$4:$I$4,GEfectos!C195:I195),IF(EFECTOS!$N$9=\"REPÚBLICA \nDOMINICANA\",LOOKUP(6,$C$4:$I$4,C195:I195),IF(EFECTOS!$N$9=\"PANAMÁ\",LOOKUP(7,GEfectos!$C$4:$I$4,GEfectos!C195:I195))))))))","v":123.15836927073214},{"$f":"IF(EFECTOS!$N$9=\"COSTA RICA\",LOOKUP(1,GEfectos!$J$4:$P$4,GEfectos!J195:P195),IF(EFECTOS!$N$9=\"EL SALVADOR\",LOOKUP(2,GEfectos!$J$4:$P$4,GEfectos!J195:P195),IF(EFECTOS!$N$9=\"GUATEMALA\",LOOKUP(3,GEfectos!$J$4:$P$4,GEfectos!J195:P195),IF(EFECTOS!$N$9=\"HONDURAS\",LOOKUP(4,GEfectos!$J$4:$P$4,GEfectos!J195:P195),IF(EFECTOS!$N$9=\"NICARAGUA\",LOOKUP(5,GEfectos!$J$4:$P$4,GEfectos!J195:P195),IF(EFECTOS!$N$9=\"REPÚBLICA \nDOMINICANA\",LOOKUP(6,$J$4:$P$4,J195:P195),IF(EFECTOS!$N$9=\"PANAMÁ\",LOOKUP(7,GEfectos!$J$4:$P$4,GEfectos!J195:P195))))))))","v":234.23138303510544},{"$f":"IF(EFECTOS!$N$9=\"COSTA RICA\",LOOKUP(1,GEfectos!$Q$4:$W$4,GEfectos!Q195:W195),IF(EFECTOS!$N$9=\"EL SALVADOR\",LOOKUP(2,GEfectos!$Q$4:$W$4,GEfectos!Q195:W195),IF(EFECTOS!$N$9=\"GUATEMALA\",LOOKUP(3,GEfectos!$Q$4:$W$4,GEfectos!Q195:W195),IF(EFECTOS!$N$9=\"HONDURAS\",LOOKUP(4,GEfectos!$Q$4:$W$4,GEfectos!Q195:W195),IF(EFECTOS!$N$9=\"NICARAGUA\",LOOKUP(5,GEfectos!$Q$4:$W$4,GEfectos!Q195:W195),IF(EFECTOS!$N$9=\"REPÚBLICA \nDOMINICANA\",LOOKUP(6,$Q$4:$W$4,Q195:W195),IF(EFECTOS!$N$9=\"PANAMÁ\",LOOKUP(7,GEfectos!$Q$4:$W$4,GEfectos!Q195:W195))))))))","v":190.18714231284417},100]
[null,{"$f":"'ITCER GLOBAL'!B196","v":"Noviembre"},{"$f":"'ITCER GLOBAL'!C196","v":86.387955739251623},{"$f":"'ITCER GLOBAL'!D196","v":103.79214628709056},{"$f":"'ITCER GLOBAL'!E196","v":73.972937705445432},{"$f":"'ITCER GLOBAL'!F196","v":85.82033765804303},{"$f":"'ITCER GLOBAL'!G196","v":110.21706858412585},{"$f":"'ITCER GLOBAL'!H196","v":122.77264113720668},{"$f":"'ITCER GLOBAL'!I196","v":107.63518229392794},{"$f":"'ITCER GLOBAL'!S196","v":168.90413452372474},{"$f":"'ITCER GLOBAL'!T196","v":97.522721790298135},{"$f":"'ITCER GLOBAL'!U196","v":101.82262808135746},{"$f":"'ITCER GLOBAL'!V196","v":125.122271068111},{"$f":"'ITCER GLOBAL'!W196","v":164.34602130338348},{"$f":"'ITCER GLOBAL'!X196","v":233.62709651293378},{"$f":"'ITCER GLOBAL'!Y196","v":102.91877084574359},{"$f":"'ITCER GLOBAL'!AA196","v":195.51815189785847},{"$f":"'ITCER GLOBAL'!AB196","v":93.95963498100221},{"$f":"'ITCER GLOBAL'!AC196","v":137.64848502679098},{"$f":"'ITCER GLOBAL'!AD196","v":145.79559400787863},{"$f":"'ITCER GLOBAL'!AE196","v":149.11122516195613},{"$f":"'ITCER GLOBAL'!AF196","v":190.29247424256337},{"$f":"'ITCER GLOBAL'!AG196","v":95.618150731324192},null,{"$f":"IF(EFECTOS!$N$9=\"COSTA RICA\",LOOKUP(1,GEfectos!$C$4:$I$4,GEfectos!C196:I196),IF(EFECTOS!$N$9=\"EL SALVADOR\",LOOKUP(2,GEfectos!$C$4:$I$4,GEfectos!C196:I196),IF(EFECTOS!$N$9=\"GUATEMALA\",LOOKUP(3,GEfectos!$C$4:$I$4,GEfectos!C196:I196),IF(EFECTOS!$N$9=\"HONDURAS\",LOOKUP(4,GEfectos!$C$4:$I$4,GEfectos!C196:I196),IF(EFECTOS!$N$9=\"NICARAGUA\",LOOKUP(5,GEfectos!$C$4:$I$4,GEfectos!C196:I196),IF(EFECTOS!$N$9=\"REPÚBLICA \nDOMINICANA\",LOOKUP(6,$C$4:$I$4,C196:I196),IF(EFECTOS!$N$9=\"PANAMÁ\",LOOKUP(7,GEfectos!$C$4:$I$4,GEfectos!C196:I196))))))))","v":122.77264113720668},{"$f":"IF(EFECTOS!$N$9=\"COSTA RICA\",LOOKUP(1,GEfectos!$J$4:$P$4,GEfectos!J196:P196),IF(EFECTOS!$N$9=\"EL SALVADOR\",LOOKUP(2,GEfectos!$J$4:$P$4,GEfectos!J196:P196),IF(EFECTOS!$N$9=\"GUATEMALA\",LOOKUP(3,GEfectos!$J$4:$P$4,GEfectos!J196:P196),IF(EFECTOS!$N$9=\"HONDURAS\",LOOKUP(4,GEfectos!$J$4:$P$4,GEfectos!J196:P196),IF(EFECTOS!$N$9=\"NICARAGUA\",LOOKUP(5,GEfectos!$J$4:$P$4,GEfectos!J196:P196),IF(EFECTOS!$N$9=\"REPÚBLICA \nDOMINICANA\",LOOKUP(6,$J$4:$P$4,J196:P196),IF(EFECTOS!$N$9=\"PANAMÁ\",LOOKUP(7,GEfectos!$J$4:$P$4,GEfectos!J196:P196))))))))","v":233.62709651293378},{"$f":"IF(EFECTOS!$N$9=\"COSTA RICA\",LOOKUP(1,GEfectos!$Q$4:$W$4,GEfectos!Q196:W196),IF(EFECTOS!$N$9=\"EL SALVADOR\",LOOKUP(2,GEfectos!$Q$4:$W$4,GEfectos!Q196:W196),IF(EFECTOS!$N$9=\"GUATEMALA\",LOOKUP(3,GEfectos!$Q$4:$W$4,GEfectos!Q196:W196),IF(EFECTOS!$N$9=\"HONDURAS\",LOOKUP(4,GEfectos!$Q$4:$W$4,GEfectos!Q196:W196),IF(EFECTOS!$N$9=\"NICARAGUA\",LOOKUP(5,GEfectos!$Q$4:$W$4,GEfectos!Q196:W196),IF(EFECTOS!$N$9=\"REPÚBLICA \nDOMINICANA\",LOOKUP(6,$Q$4:$W$4,Q196:W196),IF(EFECTOS!$N$9=\"PANAMÁ\",LOOKUP(7,GEfectos!$Q$4:$W$4,GEfectos!Q196:W196))))))))","v":190.29247424256337},100]
[null,{"$f":"'ITCER GLOBAL'!B197","v":"Diciembre"},{"$f":"'ITCER GLOBAL'!C197","v":84.532970517369236},{"$f":"'ITCER GLOBAL'!D197","v":104.00407965071774},{"$f":"'ITCER GLOBAL'!E197","v":73.612574675959351},{"$f":"'ITCER GLOBAL'!F197","v":85.825209490127591},{"$f":"'ITCER GLOBAL'!G197","v":109.92376221408016},{"$f":"'ITCER GLOBAL'!H197","v":121.87985127998293},{"$f":"'ITCER GLOBAL'!I197","v":106.7828699160487},{"$f":"'ITCER GLOBAL'!S197","v":165.98734667369294},{"$f":"'ITCER GLOBAL'!T197","v":97.343039949721572},{"$f":"'ITCER GLOBAL'!U197","v":101.12023063625601},{"$f":"'ITCER GLOBAL'!V197","v":124.77407084133635},{"$f":"'ITCER GLOBAL'!W197","v":164.48394061139317},{"$f":"'ITCER GLOBAL'!X197","v":233.22664483117541},{"$f":"'ITCER GLOBAL'!Y197","v":102.48412348693014},{"$f":"'ITCER GLOBAL'!AA197","v":196.35811406815168},{"$f":"'ITCER GLOBAL'!AB197","v":93.595405369321767},{"$f":"'ITCER GLOBAL'!AC197","v":137.36814814776503},{"$f":"'ITCER GLOBAL'!AD197","v":145.3816094159246},{"$f":"'ITCER GLOBAL'!AE197","v":149.6345624443378},{"$f":"'ITCER GLOBAL'!AF197","v":191.35783509893375},{"$f":"'ITCER GLOBAL'!AG197","v":95.974310830474806},null,{"$f":"IF(EFECTOS!$N$9=\"COSTA RICA\",LOOKUP(1,GEfectos!$C$4:$I$4,GEfectos!C197:I197),IF(EFECTOS!$N$9=\"EL SALVADOR\",LOOKUP(2,GEfectos!$C$4:$I$4,GEfectos!C197:I197),IF(EFECTOS!$N$9=\"GUATEMALA\",LOOKUP(3,GEfectos!$C$4:$I$4,GEfectos!C197:I197),IF(EFECTOS!$N$9=\"HONDURAS\",LOOKUP(4,GEfectos!$C$4:$I$4,GEfectos!C197:I197),IF(EFECTOS!$N$9=\"NICARAGUA\",LOOKUP(5,GEfectos!$C$4:$I$4,GEfectos!C197:I197),IF(EFECTOS!$N$9=\"REPÚBLICA \nDOMINICANA\",LOOKUP(6,$C$4:$I$4,C197:I197),IF(EFECTOS!$N$9=\"PANAMÁ\",LOOKUP(7,GEfectos!$C$4:$I$4,GEfectos!C197:I197))))))))","v":121.87985127998293},{"$f":"IF(EFECTOS!$N$9=\"COSTA RICA\",LOOKUP(1,GEfectos!$J$4:$P$4,GEfectos!J197:P197),IF(EFECTOS!$N$9=\"EL SALVADOR\",LOOKUP(2,GEfectos!$J$4:$P$4,GEfectos!J197:P197),IF(EFECTOS!$N$9=\"GUATEMALA\",LOOKUP(3,GEfectos!$J$4:$P$4,GEfectos!J197:P197),IF(EFECTOS!$N$9=\"HONDURAS\",LOOKUP(4,GEfectos!$J$4:$P$4,GEfectos!J197:P197),IF(EFECTOS!$N$9=\"NICARAGUA\",LOOKUP(5,GEfectos!$J$4:$P$4,GEfectos!J197:P197),IF(EFECTOS!$N$9=\"REPÚBLICA \nDOMINICANA\",LOOKUP(6,$J$4:$P$4,J197:P197),IF(EFECTOS!$N$9=\"PANAMÁ\",LOOKUP(7,GEfectos!$J$4:$P$4,GEfectos!J197:P197))))))))","v":233.22664483117541},{"$f":"IF(EFECTOS!$N$9=\"COSTA RICA\",LOOKUP(1,GEfectos!$Q$4:$W$4,GEfectos!Q197:W197),IF(EFECTOS!$N$9=\"EL SALVADOR\",LOOKUP(2,GEfectos!$Q$4:$W$4,GEfectos!Q197:W197),IF(EFECTOS!$N$9=\"GUATEMALA\",LOOKUP(3,GEfectos!$Q$4:$W$4,GEfectos!Q197:W197),IF(EFECTOS!$N$9=\"HONDURAS\",LOOKUP(4,GEfectos!$Q$4:$W$4,GEfectos!Q197:W197),IF(EFECTOS!$N$9=\"NICARAGUA\",LOOKUP(5,GEfectos!$Q$4:$W$4,GEfectos!Q197:W197),IF(EFECTOS!$N$9=\"REPÚBLICA \nDOMINICANA\",LOOKUP(6,$Q$4:$W$4,Q197:W197),IF(EFECTOS!$N$9=\"PANAMÁ\",LOOKUP(7,GEfectos!$Q$4:$W$4,GEfectos!Q197:W197))))))))","v":191.35783509893375},100]
[2011,{"$f":"'ITCER GLOBAL'!B198","v":"Enero"},{"$f":"'ITCER GLOBAL'!C198","v":83.377507018279587},{"$f":"'ITCER GLOBAL'!D198","v":103.01797615157999},{"$f":"'ITCER GLOBAL'!E198","v":72.860936917977753},{"$f":"'ITCER GLOBAL'!F198","v":85.789871845038064},{"$f":"'ITCER GLOBAL'!G198","v":110.68365844559622},{"$f":"'ITCER GLOBAL'!H198","v":127.57694981839036},{"$f":"'ITCER GLOBAL'!I198","v":106.60950981166394},{"$f":"'ITCER GLOBAL'!S198","v":166.46450338862786},{"$f":"'ITCER GLOBAL'!T198","v":97.011658894628113},{"$f":"'ITCER GLOBAL'!U198","v":101.30716173790029},{"$f":"'ITCER GLOBAL'!V198","v":126.29703994732731},{"$f":"'ITCER GLOBAL'!W198","v":167.70034765011007},{"$f":"'ITCER GLOBAL'!X198","v":232.66688190341935},{"$f":"'ITCER GLOBAL'!Y198","v":103.37199086733176},{"$f":"'ITCER GLOBAL'!AA198","v":199.65157191870989},{"$f":"'ITCER GLOBAL'!AB198","v":94.169641570016651},{"$f":"'ITCER GLOBAL'!AC198","v":139.04180487267891},{"$f":"'ITCER GLOBAL'!AD198","v":147.21672527435078},{"$f":"'ITCER GLOBAL'!AE198","v":151.51319535804737},{"$f":"'ITCER GLOBAL'!AF198","v":182.37376127476608},{"$f":"'ITCER GLOBAL'!AG198","v":96.963198733347937},null,{"$f":"IF(EFECTOS!$N$9=\"COSTA RICA\",LOOKUP(1,GEfectos!$C$4:$I$4,GEfectos!C198:I198),IF(EFECTOS!$N$9=\"EL SALVADOR\",LOOKUP(2,GEfectos!$C$4:$I$4,GEfectos!C198:I198),IF(EFECTOS!$N$9=\"GUATEMALA\",LOOKUP(3,GEfectos!$C$4:$I$4,GEfectos!C198:I198),IF(EFECTOS!$N$9=\"HONDURAS\",LOOKUP(4,GEfectos!$C$4:$I$4,GEfectos!C198:I198),IF(EFECTOS!$N$9=\"NICARAGUA\",LOOKUP(5,GEfectos!$C$4:$I$4,GEfectos!C198:I198),IF(EFECTOS!$N$9=\"REPÚBLICA \nDOMINICANA\",LOOKUP(6,$C$4:$I$4,C198:I198),IF(EFECTOS!$N$9=\"PANAMÁ\",LOOKUP(7,GEfectos!$C$4:$I$4,GEfectos!C198:I198))))))))","v":127.57694981839036},{"$f":"IF(EFECTOS!$N$9=\"COSTA RICA\",LOOKUP(1,GEfectos!$J$4:$P$4,GEfectos!J198:P198),IF(EFECTOS!$N$9=\"EL SALVADOR\",LOOKUP(2,GEfectos!$J$4:$P$4,GEfectos!J198:P198),IF(EFECTOS!$N$9=\"GUATEMALA\",LOOKUP(3,GEfectos!$J$4:$P$4,GEfectos!J198:P198),IF(EFECTOS!$N$9=\"HONDURAS\",LOOKUP(4,GEfectos!$J$4:$P$4,GEfectos!J198:P198),IF(EFECTOS!$N$9=\"NICARAGUA\",LOOKUP(5,GEfectos!$J$4:$P$4,GEfectos!J198:P198),IF(EFECTOS!$N$9=\"REPÚBLICA \nDOMINICANA\",LOOKUP(6,$J$4:$P$4,J198:P198),IF(EFECTOS!$N$9=\"PANAMÁ\",LOOKUP(7,GEfectos!$J$4:$P$4,GEfectos!J198:P198))))))))","v":232.66688190341935},{"$f":"IF(EFECTOS!$N$9=\"COSTA RICA\",LOOKUP(1,GEfectos!$Q$4:$W$4,GEfectos!Q198:W198),IF(EFECTOS!$N$9=\"EL SALVADOR\",LOOKUP(2,GEfectos!$Q$4:$W$4,GEfectos!Q198:W198),IF(EFECTOS!$N$9=\"GUATEMALA\",LOOKUP(3,GEfectos!$Q$4:$W$4,GEfectos!Q198:W198),IF(EFECTOS!$N$9=\"HONDURAS\",LOOKUP(4,GEfectos!$Q$4:$W$4,GEfectos!Q198:W198),IF(EFECTOS!$N$9=\"NICARAGUA\",LOOKUP(5,GEfectos!$Q$4:$W$4,GEfectos!Q198:W198),IF(EFECTOS!$N$9=\"REPÚBLICA \nDOMINICANA\",LOOKUP(6,$Q$4:$W$4,Q198:W198),IF(EFECTOS!$N$9=\"PANAMÁ\",LOOKUP(7,GEfectos!$Q$4:$W$4,GEfectos!Q198:W198))))))))","v":182.37376127476608},100]
[null,{"$f":"'ITCER GLOBAL'!B199","v":"Febrero"},{"$f":"'ITCER GLOBAL'!C199","v":83.014221493239447},{"$f":"'ITCER GLOBAL'!D199","v":103.86601930257642},{"$f":"'ITCER GLOBAL'!E199","v":71.515650258764509},{"$f":"'ITCER GLOBAL'!F199","v":86.043977349235092},{"$f":"'ITCER GLOBAL'!G199","v":111.573554188747},{"$f":"'ITCER GLOBAL'!H199","v":127.74776576788018},{"$f":"'ITCER GLOBAL'!I199","v":107.18924936602996},{"$f":"'ITCER GLOBAL'!S199","v":165.51788393199581},{"$f":"'ITCER GLOBAL'!T199","v":97.426038638257296},{"$f":"'ITCER GLOBAL'!U199","v":99.675555556409165},{"$f":"'ITCER GLOBAL'!V199","v":126.88635560868772},{"$f":"'ITCER GLOBAL'!W199","v":169.34269449893537},{"$f":"'ITCER GLOBAL'!X199","v":234.3687698701705},{"$f":"'ITCER GLOBAL'!Y199","v":103.76024064969123},{"$f":"'ITCER GLOBAL'!AA199","v":199.38497398963784},{"$f":"'ITCER GLOBAL'!AB199","v":93.79972323233207},{"$f":"'ITCER GLOBAL'!AC199","v":139.37586415806035},{"$f":"'ITCER GLOBAL'!AD199","v":147.46686464025447},{"$f":"'ITCER GLOBAL'!AE199","v":151.77673215685266},{"$f":"'ITCER GLOBAL'!AF199","v":183.46212825046388},{"$f":"'ITCER GLOBAL'!AG199","v":96.800977022770866},null,{"$f":"IF(EFECTOS!$N$9=\"COSTA RICA\",LOOKUP(1,GEfectos!$C$4:$I$4,GEfectos!C199:I199),IF(EFECTOS!$N$9=\"EL SALVADOR\",LOOKUP(2,GEfectos!$C$4:$I$4,GEfectos!C199:I199),IF(EFECTOS!$N$9=\"GUATEMALA\",LOOKUP(3,GEfectos!$C$4:$I$4,GEfectos!C199:I199),IF(EFECTOS!$N$9=\"HONDURAS\",LOOKUP(4,GEfectos!$C$4:$I$4,GEfectos!C199:I199),IF(EFECTOS!$N$9=\"NICARAGUA\",LOOKUP(5,GEfectos!$C$4:$I$4,GEfectos!C199:I199),IF(EFECTOS!$N$9=\"REPÚBLICA \nDOMINICANA\",LOOKUP(6,$C$4:$I$4,C199:I199),IF(EFECTOS!$N$9=\"PANAMÁ\",LOOKUP(7,GEfectos!$C$4:$I$4,GEfectos!C199:I199))))))))","v":127.74776576788018},{"$f":"IF(EFECTOS!$N$9=\"COSTA RICA\",LOOKUP(1,GEfectos!$J$4:$P$4,GEfectos!J199:P199),IF(EFECTOS!$N$9=\"EL SALVADOR\",LOOKUP(2,GEfectos!$J$4:$P$4,GEfectos!J199:P199),IF(EFECTOS!$N$9=\"GUATEMALA\",LOOKUP(3,GEfectos!$J$4:$P$4,GEfectos!J199:P199),IF(EFECTOS!$N$9=\"HONDURAS\",LOOKUP(4,GEfectos!$J$4:$P$4,GEfectos!J199:P199),IF(EFECTOS!$N$9=\"NICARAGUA\",LOOKUP(5,GEfectos!$J$4:$P$4,GEfectos!J199:P199),IF(EFECTOS!$N$9=\"REPÚBLICA \nDOMINICANA\",LOOKUP(6,$J$4:$P$4,J199:P199),IF(EFECTOS!$N$9=\"PANAMÁ\",LOOKUP(7,GEfectos!$J$4:$P$4,GEfectos!J199:P199))))))))","v":234.3687698701705},{"$f":"IF(EFECTOS!$N$9=\"COSTA RICA\",LOOKUP(1,GEfectos!$Q$4:$W$4,GEfectos!Q199:W199),IF(EFECTOS!$N$9=\"EL SALVADOR\",LOOKUP(2,GEfectos!$Q$4:$W$4,GEfectos!Q199:W199),IF(EFECTOS!$N$9=\"GUATEMALA\",LOOKUP(3,GEfectos!$Q$4:$W$4,GEfectos!Q199:W199),IF(EFECTOS!$N$9=\"HONDURAS\",LOOKUP(4,GEfectos!$Q$4:$W$4,GEfectos!Q199:W199),IF(EFECTOS!$N$9=\"NICARAGUA\",LOOKUP(5,GEfectos!$Q$4:$W$4,GEfectos!Q199:W199),IF(EFECTOS!$N$9=\"REPÚBLICA \nDOMINICANA\",LOOKUP(6,$Q$4:$W$4,Q199:W199),IF(EFECTOS!$N$9=\"PANAMÁ\",LOOKUP(7,GEfectos!$Q$4:$W$4,GEfectos!Q199:W199))))))))","v":183.46212825046388},100]
[null,{"$f":"'ITCER GLOBAL'!B200","v":"Marzo"},{"$f":"'ITCER GLOBAL'!C200","v":83.476770406766633},{"$f":"'ITCER GLOBAL'!D200","v":104.42262458881218},{"$f":"'ITCER GLOBAL'!E200","v":70.634921116152526},{"$f":"'ITCER GLOBAL'!F200","v":86.529269884099804},{"$f":"'ITCER GLOBAL'!G200","v":112.47232511217217},{"$f":"'ITCER GLOBAL'!H200","v":128.25034579526135},{"$f":"'ITCER GLOBAL'!I200","v":107.42587377631588},{"$f":"'ITCER GLOBAL'!S200","v":165.57043087119237},{"$f":"'ITCER GLOBAL'!T200","v":97.81030657856752},{"$f":"'ITCER GLOBAL'!U200","v":98.645452192024578},{"$f":"'ITCER GLOBAL'!V200","v":127.48711285074334},{"$f":"'ITCER GLOBAL'!W200","v":170.65226576572093},{"$f":"'ITCER GLOBAL'!X200","v":236.0904249760209},{"$f":"'ITCER GLOBAL'!Y200","v":104.21553397877797},{"$f":"'ITCER GLOBAL'!AA200","v":198.34311996546913},{"$f":"'ITCER GLOBAL'!AB200","v":93.667734328377421},{"$f":"'ITCER GLOBAL'!AC200","v":139.65535833162659},{"$f":"'ITCER GLOBAL'!AD200","v":147.33409055860963},{"$f":"'ITCER GLOBAL'!AE200","v":151.72822789563929},{"$f":"'ITCER GLOBAL'!AF200","v":184.08560500329196},{"$f":"'ITCER GLOBAL'!AG200","v":97.011576741537567},null,{"$f":"IF(EFECTOS!$N$9=\"COSTA RICA\",LOOKUP(1,GEfectos!$C$4:$I$4,GEfectos!C200:I200),IF(EFECTOS!$N$9=\"EL SALVADOR\",LOOKUP(2,GEfectos!$C$4:$I$4,GEfectos!C200:I200),IF(EFECTOS!$N$9=\"GUATEMALA\",LOOKUP(3,GEfectos!$C$4:$I$4,GEfectos!C200:I200),IF(EFECTOS!$N$9=\"HONDURAS\",LOOKUP(4,GEfectos!$C$4:$I$4,GEfectos!C200:I200),IF(EFECTOS!$N$9=\"NICARAGUA\",LOOKUP(5,GEfectos!$C$4:$I$4,GEfectos!C200:I200),IF(EFECTOS!$N$9=\"REPÚBLICA \nDOMINICANA\",LOOKUP(6,$C$4:$I$4,C200:I200),IF(EFECTOS!$N$9=\"PANAMÁ\",LOOKUP(7,GEfectos!$C$4:$I$4,GEfectos!C200:I200))))))))","v":128.25034579526135},{"$f":"IF(EFECTOS!$N$9=\"COSTA RICA\",LOOKUP(1,GEfectos!$J$4:$P$4,GEfectos!J200:P200),IF(EFECTOS!$N$9=\"EL SALVADOR\",LOOKUP(2,GEfectos!$J$4:$P$4,GEfectos!J200:P200),IF(EFECTOS!$N$9=\"GUATEMALA\",LOOKUP(3,GEfectos!$J$4:$P$4,GEfectos!J200:P200),IF(EFECTOS!$N$9=\"HONDURAS\",LOOKUP(4,GEfectos!$J$4:$P$4,GEfectos!J200:P200),IF(EFECTOS!$N$9=\"NICARAGUA\",LOOKUP(5,GEfectos!$J$4:$P$4,GEfectos!J200:P200),IF(EFECTOS!$N$9=\"REPÚBLICA \nDOMINICANA\",LOOKUP(6,$J$4:$P$4,J200:P200),IF(EFECTOS!$N$9=\"PANAMÁ\",LOOKUP(7,GEfectos!$J$4:$P$4,GEfectos!J200:P200))))))))","v":236.0904249760209},{"$f":"IF(EFECTOS!$N$9=\"COSTA RICA\",LOOKUP(1,GEfectos!$Q$4:$W$4,GEfectos!Q200:W200),IF(EFECTOS!$N$9=\"EL SALVADOR\",LOOKUP(2,GEfectos!$Q$4:$W$4,GEfectos!Q200:W200),IF(EFECTOS!$N$9=\"GUATEMALA\",LOOKUP(3,GEfectos!$Q$4:$W$4,GEfectos!Q200:W200),IF(EFECTOS!$N$9=\"HONDURAS\",LOOKUP(4,GEfectos!$Q$4:$W$4,GEfectos!Q200:W200),IF(EFECTOS!$N$9=\"NICARAGUA\",LOOKUP(5,GEfectos!$Q$4:$W$4,GEfectos!Q200:W200),IF(EFECTOS!$N$9=\"REPÚBLICA \nDOMINICANA\",LOOKUP(6,$Q$4:$W$4,Q200:W200),IF(EFECTOS!$N$9=\"PANAMÁ\",LOOKUP(7,GEfectos!$Q$4:$W$4,GEfectos!Q200:W200))))))))","v":184.08560500329196},100]
[null,{"$f":"'ITCER GLOBAL'!B201","v":"Abril"},{"$f":"'ITCER GLOBAL'!C201","v":84.377356874402906},{"$f":"'ITCER GLOBAL'!D201","v":102.65079642413966},{"$f":"'ITCER GLOBAL'!E201","v":70.387141035936622},{"$f":"'ITCER GLOBAL'!F201","v":86.831378714654633},{"$f":"'ITCER GLOBAL'!G201","v":113.57112798190923},{"$f":"'ITCER GLOBAL'!H201","v":129.02690199710977},{"$f":"'ITCER GLOBAL'!I201","v":107.82368491978481},{"$f":"'ITCER GLOBAL'!S201","v":166.64863425240713},{"$f":"'ITCER GLOBAL'!T201","v":98.429311173638069},{"$f":"'ITCER GLOBAL'!U201","v":98.212369957942698},{"$f":"'ITCER GLOBAL'!V201","v":128.49470710682579},{"$f":"'ITCER GLOBAL'!W201","v":172.27410818666158},{"$f":"'ITCER GLOBAL'!X201","v":238.28100475921374},{"$f":"'ITCER GLOBAL'!Y201","v":105.20433846750228},{"$f":"'ITCER GLOBAL'!AA201","v":197.50397550431256},{"$f":"'ITCER GLOBAL'!AB201","v":95.887528009954281},{"$f":"'ITCER GLOBAL'!AC201","v":139.53169359130487},{"$f":"'ITCER GLOBAL'!AD201","v":147.9818805239581},{"$f":"'ITCER GLOBAL'!AE201","v":151.68829547427157},{"$f":"'ITCER GLOBAL'!AF201","v":184.67544447788978},{"$f":"'ITCER GLOBAL'!AG201","v":97.57071328601765},null,{"$f":"IF(EFECTOS!$N$9=\"COSTA RICA\",LOOKUP(1,GEfectos!$C$4:$I$4,GEfectos!C201:I201),IF(EFECTOS!$N$9=\"EL SALVADOR\",LOOKUP(2,GEfectos!$C$4:$I$4,GEfectos!C201:I201),IF(EFECTOS!$N$9=\"GUATEMALA\",LOOKUP(3,GEfectos!$C$4:$I$4,GEfectos!C201:I201),IF(EFECTOS!$N$9=\"HONDURAS\",LOOKUP(4,GEfectos!$C$4:$I$4,GEfectos!C201:I201),IF(EFECTOS!$N$9=\"NICARAGUA\",LOOKUP(5,GEfectos!$C$4:$I$4,GEfectos!C201:I201),IF(EFECTOS!$N$9=\"REPÚBLICA \nDOMINICANA\",LOOKUP(6,$C$4:$I$4,C201:I201),IF(EFECTOS!$N$9=\"PANAMÁ\",LOOKUP(7,GEfectos!$C$4:$I$4,GEfectos!C201:I201))))))))","v":129.02690199710977},{"$f":"IF(EFECTOS!$N$9=\"COSTA RICA\",LOOKUP(1,GEfectos!$J$4:$P$4,GEfectos!J201:P201),IF(EFECTOS!$N$9=\"EL SALVADOR\",LOOKUP(2,GEfectos!$J$4:$P$4,GEfectos!J201:P201),IF(EFECTOS!$N$9=\"GUATEMALA\",LOOKUP(3,GEfectos!$J$4:$P$4,GEfectos!J201:P201),IF(EFECTOS!$N$9=\"HONDURAS\",LOOKUP(4,GEfectos!$J$4:$P$4,GEfectos!J201:P201),IF(EFECTOS!$N$9=\"NICARAGUA\",LOOKUP(5,GEfectos!$J$4:$P$4,GEfectos!J201:P201),IF(EFECTOS!$N$9=\"REPÚBLICA \nDOMINICANA\",LOOKUP(6,$J$4:$P$4,J201:P201),IF(EFECTOS!$N$9=\"PANAMÁ\",LOOKUP(7,GEfectos!$J$4:$P$4,GEfectos!J201:P201))))))))","v":238.28100475921374},{"$f":"IF(EFECTOS!$N$9=\"COSTA RICA\",LOOKUP(1,GEfectos!$Q$4:$W$4,GEfectos!Q201:W201),IF(EFECTOS!$N$9=\"EL SALVADOR\",LOOKUP(2,GEfectos!$Q$4:$W$4,GEfectos!Q201:W201),IF(EFECTOS!$N$9=\"GUATEMALA\",LOOKUP(3,GEfectos!$Q$4:$W$4,GEfectos!Q201:W201),IF(EFECTOS!$N$9=\"HONDURAS\",LOOKUP(4,GEfectos!$Q$4:$W$4,GEfectos!Q201:W201),IF(EFECTOS!$N$9=\"NICARAGUA\",LOOKUP(5,GEfectos!$Q$4:$W$4,GEfectos!Q201:W201),IF(EFECTOS!$N$9=\"REPÚBLICA \nDOMINICANA\",LOOKUP(6,$Q$4:$W$4,Q201:W201),IF(EFECTOS!$N$9=\"PANAMÁ\",LOOKUP(7,GEfectos!$Q$4:$W$4,GEfectos!Q201:W201))))))))","v":184.67544447788978},100]
[null,{"$f":"'ITCER GLOBAL'!B202","v":"Mayo"},{"$f":"'ITCER GLOBAL'!C202","v":84.622989767397911},{"$f":"'ITCER GLOBAL'!D202","v":102.42705718883884},{"$f":"'ITCER GLOBAL'!E202","v":70.68533915382703},{"$f":"'ITCER GLOBAL'!F202","v":86.513885660648},{"$f":"'ITCER GLOBAL'!G202","v":113.09974960430931},{"$f":"'ITCER GLOBAL'!H202","v":129.33947003536275},{"$f":"'ITCER GLOBAL'!I202","v":107.72396389527546},{"$f":"'ITCER GLOBAL'!S202","v":167.76578930786593},{"$f":"'ITCER GLOBAL'!T202","v":98.325512418741184},{"$f":"'ITCER GLOBAL'!U202","v":98.820293297437132},{"$f":"'ITCER GLOBAL'!V202","v":128.36452428742263},{"$f":"'ITCER GLOBAL'!W202","v":172.80121019564956},{"$f":"'ITCER GLOBAL'!X202","v":238.59473342911991},{"$f":"'ITCER GLOBAL'!Y202","v":105.19162731803004},{"$f":"'ITCER GLOBAL'!AA202","v":198.25084149000355},{"$f":"'ITCER GLOBAL'!AB202","v":95.995643258074011},{"$f":"'ITCER GLOBAL'!AC202","v":139.80309705012829},{"$f":"'ITCER GLOBAL'!AD202","v":148.37447573553035},{"$f":"'ITCER GLOBAL'!AE202","v":152.78655417028924},{"$f":"'ITCER GLOBAL'!AF202","v":184.47171104372521},{"$f":"'ITCER GLOBAL'!AG202","v":97.649235615106747},null,{"$f":"IF(EFECTOS!$N$9=\"COSTA RICA\",LOOKUP(1,GEfectos!$C$4:$I$4,GEfectos!C202:I202),IF(EFECTOS!$N$9=\"EL SALVADOR\",LOOKUP(2,GEfectos!$C$4:$I$4,GEfectos!C202:I202),IF(EFECTOS!$N$9=\"GUATEMALA\",LOOKUP(3,GEfectos!$C$4:$I$4,GEfectos!C202:I202),IF(EFECTOS!$N$9=\"HONDURAS\",LOOKUP(4,GEfectos!$C$4:$I$4,GEfectos!C202:I202),IF(EFECTOS!$N$9=\"NICARAGUA\",LOOKUP(5,GEfectos!$C$4:$I$4,GEfectos!C202:I202),IF(EFECTOS!$N$9=\"REPÚBLICA \nDOMINICANA\",LOOKUP(6,$C$4:$I$4,C202:I202),IF(EFECTOS!$N$9=\"PANAMÁ\",LOOKUP(7,GEfectos!$C$4:$I$4,GEfectos!C202:I202))))))))","v":129.33947003536275},{"$f":"IF(EFECTOS!$N$9=\"COSTA RICA\",LOOKUP(1,GEfectos!$J$4:$P$4,GEfectos!J202:P202),IF(EFECTOS!$N$9=\"EL SALVADOR\",LOOKUP(2,GEfectos!$J$4:$P$4,GEfectos!J202:P202),IF(EFECTOS!$N$9=\"GUATEMALA\",LOOKUP(3,GEfectos!$J$4:$P$4,GEfectos!J202:P202),IF(EFECTOS!$N$9=\"HONDURAS\",LOOKUP(4,GEfectos!$J$4:$P$4,GEfectos!J202:P202),IF(EFECTOS!$N$9=\"NICARAGUA\",LOOKUP(5,GEfectos!$J$4:$P$4,GEfectos!J202:P202),IF(EFECTOS!$N$9=\"REPÚBLICA \nDOMINICANA\",LOOKUP(6,$J$4:$P$4,J202:P202),IF(EFECTOS!$N$9=\"PANAMÁ\",LOOKUP(7,GEfectos!$J$4:$P$4,GEfectos!J202:P202))))))))","v":238.59473342911991},{"$f":"IF(EFECTOS!$N$9=\"COSTA RICA\",LOOKUP(1,GEfectos!$Q$4:$W$4,GEfectos!Q202:W202),IF(EFECTOS!$N$9=\"EL SALVADOR\",LOOKUP(2,GEfectos!$Q$4:$W$4,GEfectos!Q202:W202),IF(EFECTOS!$N$9=\"GUATEMALA\",LOOKUP(3,GEfectos!$Q$4:$W$4,GEfectos!Q202:W202),IF(EFECTOS!$N$9=\"HONDURAS\",LOOKUP(4,GEfectos!$Q$4:$W$4,GEfectos!Q202:W202),IF(EFECTOS!$N$9=\"NICARAGUA\",LOOKUP(5,GEfectos!$Q$4:$W$4,GEfectos!Q202:W202),IF(EFECTOS!$N$9=\"REPÚBLICA \nDOMINICANA\",LOOKUP(6,$Q$4:$W$4,Q202:W202),IF(EFECTOS!$N$9=\"PANAMÁ\",LOOKUP(7,GEfectos!$Q$4:$W$4,GEfectos!Q202:W202))))))))","v":184.47171104372521},100]
[null,{"$f":"'ITCER GLOBAL'!B203","v":"Junio"},{"$f":"'ITCER GLOBAL'!C203","v":84.605588214397258},{"$f":"'ITCER GLOBAL'!D203","v":102.2498007568216},{"$f":"'ITCER GLOBAL'!E203","v":71.360429590174476},{"$f":"'ITCER GLOBAL'!F203","v":86.074581256332579},{"$f":"'ITCER GLOBAL'!G203","v":113.04207492220789},{"$f":"'ITCER GLOBAL'!H203","v":128.643102118423},{"$f":"'ITCER GLOBAL'!I203","v":107.67763148576535},{"$f":"'ITCER GLOBAL'!S203","v":168.59355337908005},{"$f":"'ITCER GLOBAL'!T203","v":98.08621303220481},{"$f":"'ITCER GLOBAL'!U203","v":100.24150074749562},{"$f":"'ITCER GLOBAL'!V203","v":128.15546011519638},{"$f":"'ITCER GLOBAL'!W203","v":173.66815618442121},{"$f":"'ITCER GLOBAL'!X203","v":239.60639281416633},{"$f":"'ITCER GLOBAL'!Y203","v":105.2368377664812},{"$f":"'ITCER GLOBAL'!AA203","v":199.26999733380572},{"$f":"'ITCER GLOBAL'!AB203","v":95.92802363056046},{"$f":"'ITCER GLOBAL'!AC203","v":140.47210943541984},{"$f":"'ITCER GLOBAL'!AD203","v":148.88885690137224},{"$f":"'ITCER GLOBAL'!AE203","v":153.63142998209679},{"$f":"'ITCER GLOBAL'!AF203","v":186.25669691453456},{"$f":"'ITCER GLOBAL'!AG203","v":97.733239777282051},null,{"$f":"IF(EFECTOS!$N$9=\"COSTA RICA\",LOOKUP(1,GEfectos!$C$4:$I$4,GEfectos!C203:I203),IF(EFECTOS!$N$9=\"EL SALVADOR\",LOOKUP(2,GEfectos!$C$4:$I$4,GEfectos!C203:I203),IF(EFECTOS!$N$9=\"GUATEMALA\",LOOKUP(3,GEfectos!$C$4:$I$4,GEfectos!C203:I203),IF(EFECTOS!$N$9=\"HONDURAS\",LOOKUP(4,GEfectos!$C$4:$I$4,GEfectos!C203:I203),IF(EFECTOS!$N$9=\"NICARAGUA\",LOOKUP(5,GEfectos!$C$4:$I$4,GEfectos!C203:I203),IF(EFECTOS!$N$9=\"REPÚBLICA \nDOMINICANA\",LOOKUP(6,$C$4:$I$4,C203:I203),IF(EFECTOS!$N$9=\"PANAMÁ\",LOOKUP(7,GEfectos!$C$4:$I$4,GEfectos!C203:I203))))))))","v":128.643102118423},{"$f":"IF(EFECTOS!$N$9=\"COSTA RICA\",LOOKUP(1,GEfectos!$J$4:$P$4,GEfectos!J203:P203),IF(EFECTOS!$N$9=\"EL SALVADOR\",LOOKUP(2,GEfectos!$J$4:$P$4,GEfectos!J203:P203),IF(EFECTOS!$N$9=\"GUATEMALA\",LOOKUP(3,GEfectos!$J$4:$P$4,GEfectos!J203:P203),IF(EFECTOS!$N$9=\"HONDURAS\",LOOKUP(4,GEfectos!$J$4:$P$4,GEfectos!J203:P203),IF(EFECTOS!$N$9=\"NICARAGUA\",LOOKUP(5,GEfectos!$J$4:$P$4,GEfectos!J203:P203),IF(EFECTOS!$N$9=\"REPÚBLICA \nDOMINICANA\",LOOKUP(6,$J$4:$P$4,J203:P203),IF(EFECTOS!$N$9=\"PANAMÁ\",LOOKUP(7,GEfectos!$J$4:$P$4,GEfectos!J203:P203))))))))","v":239.60639281416633},{"$f":"IF(EFECTOS!$N$9=\"COSTA RICA\",LOOKUP(1,GEfectos!$Q$4:$W$4,GEfectos!Q203:W203),IF(EFECTOS!$N$9=\"EL SALVADOR\",LOOKUP(2,GEfectos!$Q$4:$W$4,GEfectos!Q203:W203),IF(EFECTOS!$N$9=\"GUATEMALA\",LOOKUP(3,GEfectos!$Q$4:$W$4,GEfectos!Q203:W203),IF(EFECTOS!$N$9=\"HONDURAS\",LOOKUP(4,GEfectos!$Q$4:$W$4,GEfectos!Q203:W203),IF(EFECTOS!$N$9=\"NICARAGUA\",LOOKUP(5,GEfectos!$Q$4:$W$4,GEfectos!Q203:W203),IF(EFECTOS!$N$9=\"REPÚBLICA \nDOMINICANA\",LOOKUP(6,$Q$4:$W$4,Q203:W203),IF(EFECTOS!$N$9=\"PANAMÁ\",LOOKUP(7,GEfectos!$Q$4:$W$4,GEfectos!Q203:W203))))))))","v":186.25669691453456},100]
[null,{"$f":"'ITCER GLOBAL'!B204","v":"Julio"},{"$f":"'ITCER GLOBAL'!C204","v":84.408861778354535},{"$f":"'ITCER GLOBAL'!D204","v":102.42786722239157},{"$f":"'ITCER GLOBAL'!E204","v":70.792556119540933},{"$f":"'ITCER GLOBAL'!F204","v":85.675261213140132},{"$f":"'ITCER GLOBAL'!G204","v":113.7958885324912},{"$f":"'ITCER GLOBAL'!H204","v":127.8942904867731},{"$f":"'ITCER GLOBAL'!I204","v":108.1147603724268},{"$f":"'ITCER GLOBAL'!S204","v":168.54250617857903},{"$f":"'ITCER GLOBAL'!T204","v":98.237316719815013},{"$f":"'ITCER GLOBAL'!U204","v":100.20471428962874},{"$f":"'ITCER GLOBAL'!V204","v":128.18028641133051},{"$f":"'ITCER GLOBAL'!W204","v":175.01395930368167},{"$f":"'ITCER GLOBAL'!X204","v":240.00336058223314},{"$f":"'ITCER GLOBAL'!Y204","v":105.57883067710617},{"$f":"'ITCER GLOBAL'!AA204","v":199.67394729376556},{"$f":"'ITCER GLOBAL'!AB204","v":95.90877891318577},{"$f":"'ITCER GLOBAL'!AC204","v":141.54696451477494},{"$f":"'ITCER GLOBAL'!AD204","v":149.61178360746138},{"$f":"'ITCER GLOBAL'!AE204","v":153.79638189099546},{"$f":"'ITCER GLOBAL'!AF204","v":187.65760353239099},{"$f":"'ITCER GLOBAL'!AG204","v":97.654409364100687},null,{"$f":"IF(EFECTOS!$N$9=\"COSTA RICA\",LOOKUP(1,GEfectos!$C$4:$I$4,GEfectos!C204:I204),IF(EFECTOS!$N$9=\"EL SALVADOR\",LOOKUP(2,GEfectos!$C$4:$I$4,GEfectos!C204:I204),IF(EFECTOS!$N$9=\"GUATEMALA\",LOOKUP(3,GEfectos!$C$4:$I$4,GEfectos!C204:I204),IF(EFECTOS!$N$9=\"HONDURAS\",LOOKUP(4,GEfectos!$C$4:$I$4,GEfectos!C204:I204),IF(EFECTOS!$N$9=\"NICARAGUA\",LOOKUP(5,GEfectos!$C$4:$I$4,GEfectos!C204:I204),IF(EFECTOS!$N$9=\"REPÚBLICA \nDOMINICANA\",LOOKUP(6,$C$4:$I$4,C204:I204),IF(EFECTOS!$N$9=\"PANAMÁ\",LOOKUP(7,GEfectos!$C$4:$I$4,GEfectos!C204:I204))))))))","v":127.8942904867731},{"$f":"IF(EFECTOS!$N$9=\"COSTA RICA\",LOOKUP(1,GEfectos!$J$4:$P$4,GEfectos!J204:P204),IF(EFECTOS!$N$9=\"EL SALVADOR\",LOOKUP(2,GEfectos!$J$4:$P$4,GEfectos!J204:P204),IF(EFECTOS!$N$9=\"GUATEMALA\",LOOKUP(3,GEfectos!$J$4:$P$4,GEfectos!J204:P204),IF(EFECTOS!$N$9=\"HONDURAS\",LOOKUP(4,GEfectos!$J$4:$P$4,GEfectos!J204:P204),IF(EFECTOS!$N$9=\"NICARAGUA\",LOOKUP(5,GEfectos!$J$4:$P$4,GEfectos!J204:P204),IF(EFECTOS!$N$9=\"REPÚBLICA \nDOMINICANA\",LOOKUP(6,$J$4:$P$4,J204:P204),IF(EFECTOS!$N$9=\"PANAMÁ\",LOOKUP(7,GEfectos!$J$4:$P$4,GEfectos!J204:P204))))))))","v":240.00336058223314},{"$f":"IF(EFECTOS!$N$9=\"COSTA RICA\",LOOKUP(1,GEfectos!$Q$4:$W$4,GEfectos!Q204:W204),IF(EFECTOS!$N$9=\"EL SALVADOR\",LOOKUP(2,GEfectos!$Q$4:$W$4,GEfectos!Q204:W204),IF(EFECTOS!$N$9=\"GUATEMALA\",LOOKUP(3,GEfectos!$Q$4:$W$4,GEfectos!Q204:W204),IF(EFECTOS!$N$9=\"HONDURAS\",LOOKUP(4,GEfectos!$Q$4:$W$4,GEfectos!Q204:W204),IF(EFECTOS!$N$9=\"NICARAGUA\",LOOKUP(5,GEfectos!$Q$4:$W$4,GEfectos!Q204:W204),IF(EFECTOS!$N$9=\"REPÚBLICA \nDOMINICANA\",LOOKUP(6,$Q$4:$W$4,Q204:W204),IF(EFECTOS!$N$9=\"PANAMÁ\",LOOKUP(7,GEfectos!$Q$4:$W$4,GEfectos!Q204:W204))))))))","v":187.65760353239099},100]
[null,{"$f":"'ITCER GLOBAL'!B205","v":"Agosto"},{"$f":"'ITCER GLOBAL'!C205","v":84.422120883430111},{"$f":"'ITCER GLOBAL'!D205","v":102.24710985623734},{"$f":"'ITCER GLOBAL'!E205","v":70.865632213764684},{"$f":"'ITCER GLOBAL'!F205","v":85.185932681905697},{"$f":"'ITCER GLOBAL'!G205","v":113.36643946883798},{"$f":"'ITCER GLOBAL'!H205","v":127.35860891171527},{"$f":"'ITCER GLOBAL'!I205","v":107.59299939814706},{"$f":"'ITCER GLOBAL'!S205","v":168.53083474737727},{"$f":"'ITCER GLOBAL'!T205","v":97.848614675547097},{"$f":"'ITCER GLOBAL'!U205","v":100.64231231879843},{"$f":"'ITCER GLOBAL'!V205","v":127.56117822730042},{"$f":"'ITCER GLOBAL'!W205","v":174.96915015232784},{"$f":"'ITCER GLOBAL'!X205","v":239.5940180803633},{"$f":"'ITCER GLOBAL'!Y205","v":105.25747160353107},{"$f":"'ITCER GLOBAL'!AA205","v":199.62876196877863},{"$f":"'ITCER GLOBAL'!AB205","v":95.698171628640978},{"$f":"'ITCER GLOBAL'!AC205","v":142.01850625591405},{"$f":"'ITCER GLOBAL'!AD205","v":149.74441696098916},{"$f":"'ITCER GLOBAL'!AE205","v":154.33945969558579},{"$f":"'ITCER GLOBAL'!AF205","v":188.12549864332249},{"$f":"'ITCER GLOBAL'!AG205","v":97.82929390603438},null,{"$f":"IF(EFECTOS!$N$9=\"COSTA RICA\",LOOKUP(1,GEfectos!$C$4:$I$4,GEfectos!C205:I205),IF(EFECTOS!$N$9=\"EL SALVADOR\",LOOKUP(2,GEfectos!$C$4:$I$4,GEfectos!C205:I205),IF(EFECTOS!$N$9=\"GUATEMALA\",LOOKUP(3,GEfectos!$C$4:$I$4,GEfectos!C205:I205),IF(EFECTOS!$N$9=\"HONDURAS\",LOOKUP(4,GEfectos!$C$4:$I$4,GEfectos!C205:I205),IF(EFECTOS!$N$9=\"NICARAGUA\",LOOKUP(5,GEfectos!$C$4:$I$4,GEfectos!C205:I205),IF(EFECTOS!$N$9=\"REPÚBLICA \nDOMINICANA\",LOOKUP(6,$C$4:$I$4,C205:I205),IF(EFECTOS!$N$9=\"PANAMÁ\",LOOKUP(7,GEfectos!$C$4:$I$4,GEfectos!C205:I205))))))))","v":127.35860891171527},{"$f":"IF(EFECTOS!$N$9=\"COSTA RICA\",LOOKUP(1,GEfectos!$J$4:$P$4,GEfectos!J205:P205),IF(EFECTOS!$N$9=\"EL SALVADOR\",LOOKUP(2,GEfectos!$J$4:$P$4,GEfectos!J205:P205),IF(EFECTOS!$N$9=\"GUATEMALA\",LOOKUP(3,GEfectos!$J$4:$P$4,GEfectos!J205:P205),IF(EFECTOS!$N$9=\"HONDURAS\",LOOKUP(4,GEfectos!$J$4:$P$4,GEfectos!J205:P205),IF(EFECTOS!$N$9=\"NICARAGUA\",LOOKUP(5,GEfectos!$J$4:$P$4,GEfectos!J205:P205),IF(EFECTOS!$N$9=\"REPÚBLICA \nDOMINICANA\",LOOKUP(6,$J$4:$P$4,J205:P205),IF(EFECTOS!$N$9=\"PANAMÁ\",LOOKUP(7,GEfectos!$J$4:$P$4,GEfectos!J205:P205))))))))","v":239.5940180803633},{"$f":"IF(EFECTOS!$N$9=\"COSTA RICA\",LOOKUP(1,GEfectos!$Q$4:$W$4,GEfectos!Q205:W205),IF(EFECTOS!$N$9=\"EL SALVADOR\",LOOKUP(2,GEfectos!$Q$4:$W$4,GEfectos!Q205:W205),IF(EFECTOS!$N$9=\"GUATEMALA\",LOOKUP(3,GEfectos!$Q$4:$W$4,GEfectos!Q205:W205),IF(EFECTOS!$N$9=\"HONDURAS\",LOOKUP(4,GEfectos!$Q$4:$W$4,GEfectos!Q205:W205),IF(EFECTOS!$N$9=\"NICARAGUA\",LOOKUP(5,GEfectos!$Q$4:$W$4,GEfectos!Q205:W205),IF(EFECTOS!$N$9=\"REPÚBLICA \nDOMINICANA\",LOOKUP(6,$Q$4:$W$4,Q205:W205),IF(EFECTOS!$N$9=\"PANAMÁ\",LOOKUP(7,GEfectos!$Q$4:$W$4,GEfectos!Q205:W205))))))))","v":188.12549864332249},100]
[null,{"$f":"'ITCER GLOBAL'!B206","v":"Septiembre"},{"$f":"'ITCER GLOBAL'!C206","v":84.70092299065108},{"$f":"'ITCER GLOBAL'!D206","v":101.68785728222849},{"$f":"'ITCER GLOBAL'!E206","v":70.341616067414691},{"$f":"'ITCER GLOBAL'!F206","v":84.898927544705245},{"$f":"'ITCER GLOBAL'!G206","v":112.10516607447401},{"$f":"'ITCER GLOBAL'!H206","v":126.36043521436908},{"$f":"'ITCER GLOBAL'!I206","v":105.44979128602857},{"$f":"'ITCER GLOBAL'!S206","v":168.37904836995989},{"$f":"'ITCER GLOBAL'!T206","v":96.893253860955625},{"$f":"'ITCER GLOBAL'!U206","v":99.657821907881356},{"$f":"'ITCER GLOBAL'!V206","v":126.62172283538828},{"$f":"'ITCER GLOBAL'!W206","v":173.21078919777918},{"$f":"'ITCER GLOBAL'!X206","v":237.56560030162842},{"$f":"'ITCER GLOBAL'!Y206","v":103.70910679298386},{"$f":"'ITCER GLOBAL'!AA206","v":198.79245989863043},{"$f":"'ITCER GLOBAL'!AB206","v":95.284979397327902},{"$f":"'ITCER GLOBAL'!AC206","v":141.67690121360067},{"$f":"'ITCER GLOBAL'!AD206","v":149.14407813775156},{"$f":"'ITCER GLOBAL'!AE206","v":154.50741055297246},{"$f":"'ITCER GLOBAL'!AF206","v":188.00631692871352},{"$f":"'ITCER GLOBAL'!AG206","v":98.349276492806737},null,{"$f":"IF(EFECTOS!$N$9=\"COSTA RICA\",LOOKUP(1,GEfectos!$C$4:$I$4,GEfectos!C206:I206),IF(EFECTOS!$N$9=\"EL SALVADOR\",LOOKUP(2,GEfectos!$C$4:$I$4,GEfectos!C206:I206),IF(EFECTOS!$N$9=\"GUATEMALA\",LOOKUP(3,GEfectos!$C$4:$I$4,GEfectos!C206:I206),IF(EFECTOS!$N$9=\"HONDURAS\",LOOKUP(4,GEfectos!$C$4:$I$4,GEfectos!C206:I206),IF(EFECTOS!$N$9=\"NICARAGUA\",LOOKUP(5,GEfectos!$C$4:$I$4,GEfectos!C206:I206),IF(EFECTOS!$N$9=\"REPÚBLICA \nDOMINICANA\",LOOKUP(6,$C$4:$I$4,C206:I206),IF(EFECTOS!$N$9=\"PANAMÁ\",LOOKUP(7,GEfectos!$C$4:$I$4,GEfectos!C206:I206))))))))","v":126.36043521436908},{"$f":"IF(EFECTOS!$N$9=\"COSTA RICA\",LOOKUP(1,GEfectos!$J$4:$P$4,GEfectos!J206:P206),IF(EFECTOS!$N$9=\"EL SALVADOR\",LOOKUP(2,GEfectos!$J$4:$P$4,GEfectos!J206:P206),IF(EFECTOS!$N$9=\"GUATEMALA\",LOOKUP(3,GEfectos!$J$4:$P$4,GEfectos!J206:P206),IF(EFECTOS!$N$9=\"HONDURAS\",LOOKUP(4,GEfectos!$J$4:$P$4,GEfectos!J206:P206),IF(EFECTOS!$N$9=\"NICARAGUA\",LOOKUP(5,GEfectos!$J$4:$P$4,GEfectos!J206:P206),IF(EFECTOS!$N$9=\"REPÚBLICA \nDOMINICANA\",LOOKUP(6,$J$4:$P$4,J206:P206),IF(EFECTOS!$N$9=\"PANAMÁ\",LOOKUP(7,GEfectos!$J$4:$P$4,GEfectos!J206:P206))))))))","v":237.56560030162842},{"$f":"IF(EFECTOS!$N$9=\"COSTA RICA\",LOOKUP(1,GEfectos!$Q$4:$W$4,GEfectos!Q206:W206),IF(EFECTOS!$N$9=\"EL SALVADOR\",LOOKUP(2,GEfectos!$Q$4:$W$4,GEfectos!Q206:W206),IF(EFECTOS!$N$9=\"GUATEMALA\",LOOKUP(3,GEfectos!$Q$4:$W$4,GEfectos!Q206:W206),IF(EFECTOS!$N$9=\"HONDURAS\",LOOKUP(4,GEfectos!$Q$4:$W$4,GEfectos!Q206:W206),IF(EFECTOS!$N$9=\"NICARAGUA\",LOOKUP(5,GEfectos!$Q$4:$W$4,GEfectos!Q206:W206),IF(EFECTOS!$N$9=\"REPÚBLICA \nDOMINICANA\",LOOKUP(6,$Q$4:$W$4,Q206:W206),IF(EFECTOS!$N$9=\"PANAMÁ\",LOOKUP(7,GEfectos!$Q$4:$W$4,GEfectos!Q206:W206))))))))","v":188.00631692871352},100]
[null,{"$f":"'ITCER GLOBAL'!B207","v":"Octubre"},{"$f":"'ITCER GLOBAL'!C207","v":84.901109214600282},{"$f":"'ITCER GLOBAL'!D207","v":101.44439413348404},{"$f":"'ITCER GLOBAL'!E207","v":69.931842047079229},{"$f":"'ITCER GLOBAL'!F207","v":84.836522939945439},{"$f":"'ITCER GLOBAL'!G207","v":111.38952850420036},{"$f":"'ITCER GLOBAL'!H207","v":126.36357447041377},{"$f":"'ITCER GLOBAL'!I207","v":104.63292959694252},{"$f":"'ITCER GLOBAL'!S207","v":169.13485112026183},{"$f":"'ITCER GLOBAL'!T207","v":96.570558771804201},{"$f":"'ITCER GLOBAL'!U207","v":98.999132973613101},{"$f":"'ITCER GLOBAL'!V207","v":126.6077587282382},{"$f":"'ITCER GLOBAL'!W207","v":172.74089929320476},{"$f":"'ITCER GLOBAL'!X207","v":237.63162680036248},{"$f":"'ITCER GLOBAL'!Y207","v":103.09738611069226},{"$f":"'ITCER GLOBAL'!AA207","v":199.21394747947065},{"$f":"'ITCER GLOBAL'!AB207","v":95.195559692271729},{"$f":"'ITCER GLOBAL'!AC207","v":141.5651727105448},{"$f":"'ITCER GLOBAL'!AD207","v":149.23732649658689},{"$f":"'ITCER GLOBAL'!AE207","v":155.07822109749833},{"$f":"'ITCER GLOBAL'!AF207","v":188.05389749084736},{"$f":"'ITCER GLOBAL'!AG207","v":98.532447201693259},null,{"$f":"IF(EFECTOS!$N$9=\"COSTA RICA\",LOOKUP(1,GEfectos!$C$4:$I$4,GEfectos!C207:I207),IF(EFECTOS!$N$9=\"EL SALVADOR\",LOOKUP(2,GEfectos!$C$4:$I$4,GEfectos!C207:I207),IF(EFECTOS!$N$9=\"GUATEMALA\",LOOKUP(3,GEfectos!$C$4:$I$4,GEfectos!C207:I207),IF(EFECTOS!$N$9=\"HONDURAS\",LOOKUP(4,GEfectos!$C$4:$I$4,GEfectos!C207:I207),IF(EFECTOS!$N$9=\"NICARAGUA\",LOOKUP(5,GEfectos!$C$4:$I$4,GEfectos!C207:I207),IF(EFECTOS!$N$9=\"REPÚBLICA \nDOMINICANA\",LOOKUP(6,$C$4:$I$4,C207:I207),IF(EFECTOS!$N$9=\"PANAMÁ\",LOOKUP(7,GEfectos!$C$4:$I$4,GEfectos!C207:I207))))))))","v":126.36357447041377},{"$f":"IF(EFECTOS!$N$9=\"COSTA RICA\",LOOKUP(1,GEfectos!$J$4:$P$4,GEfectos!J207:P207),IF(EFECTOS!$N$9=\"EL SALVADOR\",LOOKUP(2,GEfectos!$J$4:$P$4,GEfectos!J207:P207),IF(EFECTOS!$N$9=\"GUATEMALA\",LOOKUP(3,GEfectos!$J$4:$P$4,GEfectos!J207:P207),IF(EFECTOS!$N$9=\"HONDURAS\",LOOKUP(4,GEfectos!$J$4:$P$4,GEfectos!J207:P207),IF(EFECTOS!$N$9=\"NICARAGUA\",LOOKUP(5,GEfectos!$J$4:$P$4,GEfectos!J207:P207),IF(EFECTOS!$N$9=\"REPÚBLICA \nDOMINICANA\",LOOKUP(6,$J$4:$P$4,J207:P207),IF(EFECTOS!$N$9=\"PANAMÁ\",LOOKUP(7,GEfectos!$J$4:$P$4,GEfectos!J207:P207))))))))","v":237.63162680036248},{"$f":"IF(EFECTOS!$N$9=\"COSTA RICA\",LOOKUP(1,GEfectos!$Q$4:$W$4,GEfectos!Q207:W207),IF(EFECTOS!$N$9=\"EL SALVADOR\",LOOKUP(2,GEfectos!$Q$4:$W$4,GEfectos!Q207:W207),IF(EFECTOS!$N$9=\"GUATEMALA\",LOOKUP(3,GEfectos!$Q$4:$W$4,GEfectos!Q207:W207),IF(EFECTOS!$N$9=\"HONDURAS\",LOOKUP(4,GEfectos!$Q$4:$W$4,GEfectos!Q207:W207),IF(EFECTOS!$N$9=\"NICARAGUA\",LOOKUP(5,GEfectos!$Q$4:$W$4,GEfectos!Q207:W207),IF(EFECTOS!$N$9=\"REPÚBLICA \nDOMINICANA\",LOOKUP(6,$Q$4:$W$4,Q207:W207),IF(EFECTOS!$N$9=\"PANAMÁ\",LOOKUP(7,GEfectos!$Q$4:$W$4,GEfectos!Q207:W207))))))))","v":188.05389749084736},100]
[null,{"$f":"'ITCER GLOBAL'!B208","v":"Noviembre"},{"$f":"'ITCER GLOBAL'!C208","v":83.276525721249044},{"$f":"'ITCER GLOBAL'!D208","v":101.35897134437879},{"$f":"'ITCER GLOBAL'!E208","v":69.487643790691649},{"$f":"'ITCER GLOBAL'!F208","v":84.448309502015903},{"$f":"'ITCER GLOBAL'!G208","v":110.25070142151326},{"$f":"'ITCER GLOBAL'!H208","v":126.45275333926359},{"$f":"'ITCER GLOBAL'!I208","v":103.62999202948505},{"$f":"'ITCER GLOBAL'!S208","v":166.25717087019754},{"$f":"'ITCER GLOBAL'!T208","v":96.466167345118848},{"$f":"'ITCER GLOBAL'!U208","v":98.41747202397994},{"$f":"'ITCER GLOBAL'!V208","v":126.34250812410552},{"$f":"'ITCER GLOBAL'!W208","v":172.88115660098666},{"$f":"'ITCER GLOBAL'!X208","v":237.94031305193832},{"$f":"'ITCER GLOBAL'!Y208","v":102.94604202267273},{"$f":"'ITCER GLOBAL'!AA208","v":199.64470110906052},{"$f":"'ITCER GLOBAL'!AB208","v":95.172796315546577},{"$f":"'ITCER GLOBAL'!AC208","v":141.6330539576644},{"$f":"'ITCER GLOBAL'!AD208","v":149.60928036231388},{"$f":"'ITCER GLOBAL'!AE208","v":156.80730768326188},{"$f":"'ITCER GLOBAL'!AF208","v":188.16538728386692},{"$f":"'ITCER GLOBAL'!AG208","v":99.340007662436449},null,{"$f":"IF(EFECTOS!$N$9=\"COSTA RICA\",LOOKUP(1,GEfectos!$C$4:$I$4,GEfectos!C208:I208),IF(EFECTOS!$N$9=\"EL SALVADOR\",LOOKUP(2,GEfectos!$C$4:$I$4,GEfectos!C208:I208),IF(EFECTOS!$N$9=\"GUATEMALA\",LOOKUP(3,GEfectos!$C$4:$I$4,GEfectos!C208:I208),IF(EFECTOS!$N$9=\"HONDURAS\",LOOKUP(4,GEfectos!$C$4:$I$4,GEfectos!C208:I208),IF(EFECTOS!$N$9=\"NICARAGUA\",LOOKUP(5,GEfectos!$C$4:$I$4,GEfectos!C208:I208),IF(EFECTOS!$N$9=\"REPÚBLICA \nDOMINICANA\",LOOKUP(6,$C$4:$I$4,C208:I208),IF(EFECTOS!$N$9=\"PANAMÁ\",LOOKUP(7,GEfectos!$C$4:$I$4,GEfectos!C208:I208))))))))","v":126.45275333926359},{"$f":"IF(EFECTOS!$N$9=\"COSTA RICA\",LOOKUP(1,GEfectos!$J$4:$P$4,GEfectos!J208:P208),IF(EFECTOS!$N$9=\"EL SALVADOR\",LOOKUP(2,GEfectos!$J$4:$P$4,GEfectos!J208:P208),IF(EFECTOS!$N$9=\"GUATEMALA\",LOOKUP(3,GEfectos!$J$4:$P$4,GEfectos!J208:P208),IF(EFECTOS!$N$9=\"HONDURAS\",LOOKUP(4,GEfectos!$J$4:$P$4,GEfectos!J208:P208),IF(EFECTOS!$N$9=\"NICARAGUA\",LOOKUP(5,GEfectos!$J$4:$P$4,GEfectos!J208:P208),IF(EFECTOS!$N$9=\"REPÚBLICA \nDOMINICANA\",LOOKUP(6,$J$4:$P$4,J208:P208),IF(EFECTOS!$N$9=\"PANAMÁ\",LOOKUP(7,GEfectos!$J$4:$P$4,GEfectos!J208:P208))))))))","v":237.94031305193832},{"$f":"IF(EFECTOS!$N$9=\"COSTA RICA\",LOOKUP(1,GEfectos!$Q$4:$W$4,GEfectos!Q208:W208),IF(EFECTOS!$N$9=\"EL SALVADOR\",LOOKUP(2,GEfectos!$Q$4:$W$4,GEfectos!Q208:W208),IF(EFECTOS!$N$9=\"GUATEMALA\",LOOKUP(3,GEfectos!$Q$4:$W$4,GEfectos!Q208:W208),IF(EFECTOS!$N$9=\"HONDURAS\",LOOKUP(4,GEfectos!$Q$4:$W$4,GEfectos!Q208:W208),IF(EFECTOS!$N$9=\"NICARAGUA\",LOOKUP(5,GEfectos!$Q$4:$W$4,GEfectos!Q208:W208),IF(EFECTOS!$N$9=\"REPÚBLICA \nDOMINICANA\",LOOKUP(6,$Q$4:$W$4,Q208:W208),IF(EFECTOS!$N$9=\"PANAMÁ\",LOOKUP(7,GEfectos!$Q$4:$W$4,GEfectos!Q208:W208))))))))","v":188.16538728386692},100]
[null,{"$f":"'ITCER GLOBAL'!B209","v":"Diciembre"},{"$f":"'ITCER GLOBAL'!C209","v":81.80616818361986},{"$f":"'ITCER GLOBAL'!D209","v":101.41296203952861},{"$f":"'ITCER GLOBAL'!E209","v":69.045366477718275},{"$f":"'ITCER GLOBAL'!F209","v":84.209611136268151},{"$f":"'ITCER GLOBAL'!G209","v":109.1251158783696},{"$f":"'ITCER GLOBAL'!H209","v":126.21906755919416},{"$f":"'ITCER GLOBAL'!I209","v":103.08427915120338},{"$f":"'ITCER GLOBAL'!S209","v":164.70931733833515},{"$f":"'ITCER GLOBAL'!T209","v":96.236604135825658},{"$f":"'ITCER GLOBAL'!U209","v":97.905497222105296},{"$f":"'ITCER GLOBAL'!V209","v":126.07698066756757},{"$f":"'ITCER GLOBAL'!W209","v":172.92712612289148},{"$f":"'ITCER GLOBAL'!X209","v":237.72272225179574},{"$f":"'ITCER GLOBAL'!Y209","v":102.49582980220997},{"$f":"'ITCER GLOBAL'!AA209","v":201.34095141656454},{"$f":"'ITCER GLOBAL'!AB209","v":94.895763027131267},{"$f":"'ITCER GLOBAL'!AC209","v":141.79879435313089},{"$f":"'ITCER GLOBAL'!AD209","v":149.71804164200395},{"$f":"'ITCER GLOBAL'!AE209","v":158.46684306446494},{"$f":"'ITCER GLOBAL'!AF209","v":188.34137095832105},{"$f":"'ITCER GLOBAL'!AG209","v":99.429157041365855},null,{"$f":"IF(EFECTOS!$N$9=\"COSTA RICA\",LOOKUP(1,GEfectos!$C$4:$I$4,GEfectos!C209:I209),IF(EFECTOS!$N$9=\"EL SALVADOR\",LOOKUP(2,GEfectos!$C$4:$I$4,GEfectos!C209:I209),IF(EFECTOS!$N$9=\"GUATEMALA\",LOOKUP(3,GEfectos!$C$4:$I$4,GEfectos!C209:I209),IF(EFECTOS!$N$9=\"HONDURAS\",LOOKUP(4,GEfectos!$C$4:$I$4,GEfectos!C209:I209),IF(EFECTOS!$N$9=\"NICARAGUA\",LOOKUP(5,GEfectos!$C$4:$I$4,GEfectos!C209:I209),IF(EFECTOS!$N$9=\"REPÚBLICA \nDOMINICANA\",LOOKUP(6,$C$4:$I$4,C209:I209),IF(EFECTOS!$N$9=\"PANAMÁ\",LOOKUP(7,GEfectos!$C$4:$I$4,GEfectos!C209:I209))))))))","v":126.21906755919416},{"$f":"IF(EFECTOS!$N$9=\"COSTA RICA\",LOOKUP(1,GEfectos!$J$4:$P$4,GEfectos!J209:P209),IF(EFECTOS!$N$9=\"EL SALVADOR\",LOOKUP(2,GEfectos!$J$4:$P$4,GEfectos!J209:P209),IF(EFECTOS!$N$9=\"GUATEMALA\",LOOKUP(3,GEfectos!$J$4:$P$4,GEfectos!J209:P209),IF(EFECTOS!$N$9=\"HONDURAS\",LOOKUP(4,GEfectos!$J$4:$P$4,GEfectos!J209:P209),IF(EFECTOS!$N$9=\"NICARAGUA\",LOOKUP(5,GEfectos!$J$4:$P$4,GEfectos!J209:P209),IF(EFECTOS!$N$9=\"REPÚBLICA \nDOMINICANA\",LOOKUP(6,$J$4:$P$4,J209:P209),IF(EFECTOS!$N$9=\"PANAMÁ\",LOOKUP(7,GEfectos!$J$4:$P$4,GEfectos!J209:P209))))))))","v":237.72272225179574},{"$f":"IF(EFECTOS!$N$9=\"COSTA RICA\",LOOKUP(1,GEfectos!$Q$4:$W$4,GEfectos!Q209:W209),IF(EFECTOS!$N$9=\"EL SALVADOR\",LOOKUP(2,GEfectos!$Q$4:$W$4,GEfectos!Q209:W209),IF(EFECTOS!$N$9=\"GUATEMALA\",LOOKUP(3,GEfectos!$Q$4:$W$4,GEfectos!Q209:W209),IF(EFECTOS!$N$9=\"HONDURAS\",LOOKUP(4,GEfectos!$Q$4:$W$4,GEfectos!Q209:W209),IF(EFECTOS!$N$9=\"NICARAGUA\",LOOKUP(5,GEfectos!$Q$4:$W$4,GEfectos!Q209:W209),IF(EFECTOS!$N$9=\"REPÚBLICA \nDOMINICANA\",LOOKUP(6,$Q$4:$W$4,Q209:W209),IF(EFECTOS!$N$9=\"PANAMÁ\",LOOKUP(7,GEfectos!$Q$4:$W$4,GEfectos!Q209:W209))))))))","v":188.34137095832105},100]
[2012,{"$f":"'ITCER GLOBAL'!B210","v":"Enero"},{"$f":"'ITCER GLOBAL'!C210","v":82.392023816661307},{"$f":"'ITCER GLOBAL'!D210","v":101.23678579989426},{"$f":"'ITCER GLOBAL'!E210","v":69.397582853319349},{"$f":"'ITCER GLOBAL'!F210","v":84.44967413960147},{"$f":"'ITCER GLOBAL'!G210","v":110.5075649459129},{"$f":"'ITCER GLOBAL'!H210","v":134.40389069720106},{"$f":"'ITCER GLOBAL'!I210","v":104.17758727775612},{"$f":"'ITCER GLOBAL'!S210","v":165.20720671892408},{"$f":"'ITCER GLOBAL'!T210","v":96.71540859780761},{"$f":"'ITCER GLOBAL'!U210","v":98.620177067380411},{"$f":"'ITCER GLOBAL'!V210","v":128.12908699410619},{"$f":"'ITCER GLOBAL'!W210","v":176.31409324284212},{"$f":"'ITCER GLOBAL'!X210","v":238.05453541551077},{"$f":"'ITCER GLOBAL'!Y210","v":104.40200126554112},{"$f":"'ITCER GLOBAL'!AA210","v":200.51359229449574},{"$f":"'ITCER GLOBAL'!AB210","v":95.533859390771596},{"$f":"'ITCER GLOBAL'!AC210","v":142.10895107950194},{"$f":"'ITCER GLOBAL'!AD210","v":151.72241728523363},{"$f":"'ITCER GLOBAL'!AE210","v":159.54934246278771},{"$f":"'ITCER GLOBAL'!AF210","v":177.11878293153325},{"$f":"'ITCER GLOBAL'!AG210","v":100.21541484464088},null,{"$f":"IF(EFECTOS!$N$9=\"COSTA RICA\",LOOKUP(1,GEfectos!$C$4:$I$4,GEfectos!C210:I210),IF(EFECTOS!$N$9=\"EL SALVADOR\",LOOKUP(2,GEfectos!$C$4:$I$4,GEfectos!C210:I210),IF(EFECTOS!$N$9=\"GUATEMALA\",LOOKUP(3,GEfectos!$C$4:$I$4,GEfectos!C210:I210),IF(EFECTOS!$N$9=\"HONDURAS\",LOOKUP(4,GEfectos!$C$4:$I$4,GEfectos!C210:I210),IF(EFECTOS!$N$9=\"NICARAGUA\",LOOKUP(5,GEfectos!$C$4:$I$4,GEfectos!C210:I210),IF(EFECTOS!$N$9=\"REPÚBLICA \nDOMINICANA\",LOOKUP(6,$C$4:$I$4,C210:I210),IF(EFECTOS!$N$9=\"PANAMÁ\",LOOKUP(7,GEfectos!$C$4:$I$4,GEfectos!C210:I210))))))))","v":134.40389069720106},{"$f":"IF(EFECTOS!$N$9=\"COSTA RICA\",LOOKUP(1,GEfectos!$J$4:$P$4,GEfectos!J210:P210),IF(EFECTOS!$N$9=\"EL SALVADOR\",LOOKUP(2,GEfectos!$J$4:$P$4,GEfectos!J210:P210),IF(EFECTOS!$N$9=\"GUATEMALA\",LOOKUP(3,GEfectos!$J$4:$P$4,GEfectos!J210:P210),IF(EFECTOS!$N$9=\"HONDURAS\",LOOKUP(4,GEfectos!$J$4:$P$4,GEfectos!J210:P210),IF(EFECTOS!$N$9=\"NICARAGUA\",LOOKUP(5,GEfectos!$J$4:$P$4,GEfectos!J210:P210),IF(EFECTOS!$N$9=\"REPÚBLICA \nDOMINICANA\",LOOKUP(6,$J$4:$P$4,J210:P210),IF(EFECTOS!$N$9=\"PANAMÁ\",LOOKUP(7,GEfectos!$J$4:$P$4,GEfectos!J210:P210))))))))","v":238.05453541551077},{"$f":"IF(EFECTOS!$N$9=\"COSTA RICA\",LOOKUP(1,GEfectos!$Q$4:$W$4,GEfectos!Q210:W210),IF(EFECTOS!$N$9=\"EL SALVADOR\",LOOKUP(2,GEfectos!$Q$4:$W$4,GEfectos!Q210:W210),IF(EFECTOS!$N$9=\"GUATEMALA\",LOOKUP(3,GEfectos!$Q$4:$W$4,GEfectos!Q210:W210),IF(EFECTOS!$N$9=\"HONDURAS\",LOOKUP(4,GEfectos!$Q$4:$W$4,GEfectos!Q210:W210),IF(EFECTOS!$N$9=\"NICARAGUA\",LOOKUP(5,GEfectos!$Q$4:$W$4,GEfectos!Q210:W210),IF(EFECTOS!$N$9=\"REPÚBLICA \nDOMINICANA\",LOOKUP(6,$Q$4:$W$4,Q210:W210),IF(EFECTOS!$N$9=\"PANAMÁ\",LOOKUP(7,GEfectos!$Q$4:$W$4,GEfectos!Q210:W210))))))))","v":177.11878293153325},100]
[null,{"$f":"'ITCER GLOBAL'!B211","v":"Febrero"},{"$f":"'ITCER GLOBAL'!C211","v":83.23617081456706},{"$f":"'ITCER GLOBAL'!D211","v":101.89793006764208},{"$f":"'ITCER GLOBAL'!E211","v":69.646138030267181},{"$f":"'ITCER GLOBAL'!F211","v":84.92470237887855},{"$f":"'ITCER GLOBAL'!G211","v":110.91165188775825},{"$f":"'ITCER GLOBAL'!H211","v":135.62865678276458},{"$f":"'ITCER GLOBAL'!I211","v":104.81979993432037},{"$f":"'ITCER GLOBAL'!S211","v":166.67997617288114},{"$f":"'ITCER GLOBAL'!T211","v":97.204952698500733},{"$f":"'ITCER GLOBAL'!U211","v":99.053800786021398},{"$f":"'ITCER GLOBAL'!V211","v":129.5563402869922},{"$f":"'ITCER GLOBAL'!W211","v":178.47822925230901},{"$f":"'ITCER GLOBAL'!X211","v":240.17727499060294},{"$f":"'ITCER GLOBAL'!Y211","v":105.34148617196625},{"$f":"'ITCER GLOBAL'!AA211","v":200.24945230146352},{"$f":"'ITCER GLOBAL'!AB211","v":95.394433070400908},{"$f":"'ITCER GLOBAL'!AC211","v":142.22439834779365},{"$f":"'ITCER GLOBAL'!AD211","v":152.55436481719585},{"$f":"'ITCER GLOBAL'!AE211","v":160.91927783469279},{"$f":"'ITCER GLOBAL'!AF211","v":177.08446038457276},{"$f":"'ITCER GLOBAL'!AG211","v":100.49769818104286},null,{"$f":"IF(EFECTOS!$N$9=\"COSTA RICA\",LOOKUP(1,GEfectos!$C$4:$I$4,GEfectos!C211:I211),IF(EFECTOS!$N$9=\"EL SALVADOR\",LOOKUP(2,GEfectos!$C$4:$I$4,GEfectos!C211:I211),IF(EFECTOS!$N$9=\"GUATEMALA\",LOOKUP(3,GEfectos!$C$4:$I$4,GEfectos!C211:I211),IF(EFECTOS!$N$9=\"HONDURAS\",LOOKUP(4,GEfectos!$C$4:$I$4,GEfectos!C211:I211),IF(EFECTOS!$N$9=\"NICARAGUA\",LOOKUP(5,GEfectos!$C$4:$I$4,GEfectos!C211:I211),IF(EFECTOS!$N$9=\"REPÚBLICA \nDOMINICANA\",LOOKUP(6,$C$4:$I$4,C211:I211),IF(EFECTOS!$N$9=\"PANAMÁ\",LOOKUP(7,GEfectos!$C$4:$I$4,GEfectos!C211:I211))))))))","v":135.62865678276458},{"$f":"IF(EFECTOS!$N$9=\"COSTA RICA\",LOOKUP(1,GEfectos!$J$4:$P$4,GEfectos!J211:P211),IF(EFECTOS!$N$9=\"EL SALVADOR\",LOOKUP(2,GEfectos!$J$4:$P$4,GEfectos!J211:P211),IF(EFECTOS!$N$9=\"GUATEMALA\",LOOKUP(3,GEfectos!$J$4:$P$4,GEfectos!J211:P211),IF(EFECTOS!$N$9=\"HONDURAS\",LOOKUP(4,GEfectos!$J$4:$P$4,GEfectos!J211:P211),IF(EFECTOS!$N$9=\"NICARAGUA\",LOOKUP(5,GEfectos!$J$4:$P$4,GEfectos!J211:P211),IF(EFECTOS!$N$9=\"REPÚBLICA \nDOMINICANA\",LOOKUP(6,$J$4:$P$4,J211:P211),IF(EFECTOS!$N$9=\"PANAMÁ\",LOOKUP(7,GEfectos!$J$4:$P$4,GEfectos!J211:P211))))))))","v":240.17727499060294},{"$f":"IF(EFECTOS!$N$9=\"COSTA RICA\",LOOKUP(1,GEfectos!$Q$4:$W$4,GEfectos!Q211:W211),IF(EFECTOS!$N$9=\"EL SALVADOR\",LOOKUP(2,GEfectos!$Q$4:$W$4,GEfectos!Q211:W211),IF(EFECTOS!$N$9=\"GUATEMALA\",LOOKUP(3,GEfectos!$Q$4:$W$4,GEfectos!Q211:W211),IF(EFECTOS!$N$9=\"HONDURAS\",LOOKUP(4,GEfectos!$Q$4:$W$4,GEfectos!Q211:W211),IF(EFECTOS!$N$9=\"NICARAGUA\",LOOKUP(5,GEfectos!$Q$4:$W$4,GEfectos!Q211:W211),IF(EFECTOS!$N$9=\"REPÚBLICA \nDOMINICANA\",LOOKUP(6,$Q$4:$W$4,Q211:W211),IF(EFECTOS!$N$9=\"PANAMÁ\",LOOKUP(7,GEfectos!$Q$4:$W$4,GEfectos!Q211:W211))))))))","v":177.08446038457276},100]
[null,{"$f":"'ITCER GLOBAL'!B212","v":"Marzo"},{"$f":"'ITCER GLOBAL'!C212","v":82.968979067654715},{"$f":"'ITCER GLOBAL'!D212","v":102.2927749863436},{"$f":"'ITCER GLOBAL'!E212","v":69.158105266256484},{"$f":"'ITCER GLOBAL'!F212","v":85.10746817078325},{"$f":"'ITCER GLOBAL'!G212","v":111.01064769999572},{"$f":"'ITCER GLOBAL'!H212","v":136.21626927496814},{"$f":"'ITCER GLOBAL'!I212","v":104.19208958616356},{"$f":"'ITCER GLOBAL'!S212","v":165.7551825365889},{"$f":"'ITCER GLOBAL'!T212","v":97.146454605891734},{"$f":"'ITCER GLOBAL'!U212","v":98.132302990737344},{"$f":"'ITCER GLOBAL'!V212","v":130.02345306748191},{"$f":"'ITCER GLOBAL'!W212","v":178.46439862447531},{"$f":"'ITCER GLOBAL'!X212","v":240.07245658432956},{"$f":"'ITCER GLOBAL'!Y212","v":105.03235525643038},{"$f":"'ITCER GLOBAL'!AA212","v":199.77970610127497},{"$f":"'ITCER GLOBAL'!AB212","v":94.969028476215541},{"$f":"'ITCER GLOBAL'!AC212","v":141.89559215500645},{"$f":"'ITCER GLOBAL'!AD212","v":152.77560931147283},{"$f":"'ITCER GLOBAL'!AE212","v":160.76331624221501},{"$f":"'ITCER GLOBAL'!AF212","v":176.24359987404719},{"$f":"'ITCER GLOBAL'!AG212","v":100.80645821924125},null,{"$f":"IF(EFECTOS!$N$9=\"COSTA RICA\",LOOKUP(1,GEfectos!$C$4:$I$4,GEfectos!C212:I212),IF(EFECTOS!$N$9=\"EL SALVADOR\",LOOKUP(2,GEfectos!$C$4:$I$4,GEfectos!C212:I212),IF(EFECTOS!$N$9=\"GUATEMALA\",LOOKUP(3,GEfectos!$C$4:$I$4,GEfectos!C212:I212),IF(EFECTOS!$N$9=\"HONDURAS\",LOOKUP(4,GEfectos!$C$4:$I$4,GEfectos!C212:I212),IF(EFECTOS!$N$9=\"NICARAGUA\",LOOKUP(5,GEfectos!$C$4:$I$4,GEfectos!C212:I212),IF(EFECTOS!$N$9=\"REPÚBLICA \nDOMINICANA\",LOOKUP(6,$C$4:$I$4,C212:I212),IF(EFECTOS!$N$9=\"PANAMÁ\",LOOKUP(7,GEfectos!$C$4:$I$4,GEfectos!C212:I212))))))))","v":136.21626927496814},{"$f":"IF(EFECTOS!$N$9=\"COSTA RICA\",LOOKUP(1,GEfectos!$J$4:$P$4,GEfectos!J212:P212),IF(EFECTOS!$N$9=\"EL SALVADOR\",LOOKUP(2,GEfectos!$J$4:$P$4,GEfectos!J212:P212),IF(EFECTOS!$N$9=\"GUATEMALA\",LOOKUP(3,GEfectos!$J$4:$P$4,GEfectos!J212:P212),IF(EFECTOS!$N$9=\"HONDURAS\",LOOKUP(4,GEfectos!$J$4:$P$4,GEfectos!J212:P212),IF(EFECTOS!$N$9=\"NICARAGUA\",LOOKUP(5,GEfectos!$J$4:$P$4,GEfectos!J212:P212),IF(EFECTOS!$N$9=\"REPÚBLICA \nDOMINICANA\",LOOKUP(6,$J$4:$P$4,J212:P212),IF(EFECTOS!$N$9=\"PANAMÁ\",LOOKUP(7,GEfectos!$J$4:$P$4,GEfectos!J212:P212))))))))","v":240.07245658432956},{"$f":"IF(EFECTOS!$N$9=\"COSTA RICA\",LOOKUP(1,GEfectos!$Q$4:$W$4,GEfectos!Q212:W212),IF(EFECTOS!$N$9=\"EL SALVADOR\",LOOKUP(2,GEfectos!$Q$4:$W$4,GEfectos!Q212:W212),IF(EFECTOS!$N$9=\"GUATEMALA\",LOOKUP(3,GEfectos!$Q$4:$W$4,GEfectos!Q212:W212),IF(EFECTOS!$N$9=\"HONDURAS\",LOOKUP(4,GEfectos!$Q$4:$W$4,GEfectos!Q212:W212),IF(EFECTOS!$N$9=\"NICARAGUA\",LOOKUP(5,GEfectos!$Q$4:$W$4,GEfectos!Q212:W212),IF(EFECTOS!$N$9=\"REPÚBLICA \nDOMINICANA\",LOOKUP(6,$Q$4:$W$4,Q212:W212),IF(EFECTOS!$N$9=\"PANAMÁ\",LOOKUP(7,GEfectos!$Q$4:$W$4,GEfectos!Q212:W212))))))))","v":176.24359987404719},100]
[null,{"$f":"'ITCER GLOBAL'!B213","v":"Abril"},{"$f":"'ITCER GLOBAL'!C213","v":81.919430438949504},{"$f":"'ITCER GLOBAL'!D213","v":101.7991952302951},{"$f":"'ITCER GLOBAL'!E213","v":69.153727663889981},{"$f":"'ITCER GLOBAL'!F213","v":84.551438797119573},{"$f":"'ITCER GLOBAL'!G213","v":110.22344542482469},{"$f":"'ITCER GLOBAL'!H213","v":136.38689218002492},{"$f":"'ITCER GLOBAL'!I213","v":103.51044948741422},{"$f":"'ITCER GLOBAL'!S213","v":164.21249915594231},{"$f":"'ITCER GLOBAL'!T213","v":96.919752808980846},{"$f":"'ITCER GLOBAL'!U213","v":98.176164150942327},{"$f":"'ITCER GLOBAL'!V213","v":130.19789958867352},{"$f":"'ITCER GLOBAL'!W213","v":178.51013671889902},{"$f":"'ITCER GLOBAL'!X213","v":239.72119403934386},{"$f":"'ITCER GLOBAL'!Y213","v":104.81263700636853},{"$f":"'ITCER GLOBAL'!AA213","v":200.45610458476241},{"$f":"'ITCER GLOBAL'!AB213","v":95.20679666447684},{"$f":"'ITCER GLOBAL'!AC213","v":141.96800008831195},{"$f":"'ITCER GLOBAL'!AD213","v":153.98661624325783},{"$f":"'ITCER GLOBAL'!AE213","v":161.95296384619701},{"$f":"'ITCER GLOBAL'!AF213","v":175.76556676936522},{"$f":"'ITCER GLOBAL'!AG213","v":101.25802518045546},null,{"$f":"IF(EFECTOS!$N$9=\"COSTA RICA\",LOOKUP(1,GEfectos!$C$4:$I$4,GEfectos!C213:I213),IF(EFECTOS!$N$9=\"EL SALVADOR\",LOOKUP(2,GEfectos!$C$4:$I$4,GEfectos!C213:I213),IF(EFECTOS!$N$9=\"GUATEMALA\",LOOKUP(3,GEfectos!$C$4:$I$4,GEfectos!C213:I213),IF(EFECTOS!$N$9=\"HONDURAS\",LOOKUP(4,GEfectos!$C$4:$I$4,GEfectos!C213:I213),IF(EFECTOS!$N$9=\"NICARAGUA\",LOOKUP(5,GEfectos!$C$4:$I$4,GEfectos!C213:I213),IF(EFECTOS!$N$9=\"REPÚBLICA \nDOMINICANA\",LOOKUP(6,$C$4:$I$4,C213:I213),IF(EFECTOS!$N$9=\"PANAMÁ\",LOOKUP(7,GEfectos!$C$4:$I$4,GEfectos!C213:I213))))))))","v":136.38689218002492},{"$f":"IF(EFECTOS!$N$9=\"COSTA RICA\",LOOKUP(1,GEfectos!$J$4:$P$4,GEfectos!J213:P213),IF(EFECTOS!$N$9=\"EL SALVADOR\",LOOKUP(2,GEfectos!$J$4:$P$4,GEfectos!J213:P213),IF(EFECTOS!$N$9=\"GUATEMALA\",LOOKUP(3,GEfectos!$J$4:$P$4,GEfectos!J213:P213),IF(EFECTOS!$N$9=\"HONDURAS\",LOOKUP(4,GEfectos!$J$4:$P$4,GEfectos!J213:P213),IF(EFECTOS!$N$9=\"NICARAGUA\",LOOKUP(5,GEfectos!$J$4:$P$4,GEfectos!J213:P213),IF(EFECTOS!$N$9=\"REPÚBLICA \nDOMINICANA\",LOOKUP(6,$J$4:$P$4,J213:P213),IF(EFECTOS!$N$9=\"PANAMÁ\",LOOKUP(7,GEfectos!$J$4:$P$4,GEfectos!J213:P213))))))))","v":239.72119403934386},{"$f":"IF(EFECTOS!$N$9=\"COSTA RICA\",LOOKUP(1,GEfectos!$Q$4:$W$4,GEfectos!Q213:W213),IF(EFECTOS!$N$9=\"EL SALVADOR\",LOOKUP(2,GEfectos!$Q$4:$W$4,GEfectos!Q213:W213),IF(EFECTOS!$N$9=\"GUATEMALA\",LOOKUP(3,GEfectos!$Q$4:$W$4,GEfectos!Q213:W213),IF(EFECTOS!$N$9=\"HONDURAS\",LOOKUP(4,GEfectos!$Q$4:$W$4,GEfectos!Q213:W213),IF(EFECTOS!$N$9=\"NICARAGUA\",LOOKUP(5,GEfectos!$Q$4:$W$4,GEfectos!Q213:W213),IF(EFECTOS!$N$9=\"REPÚBLICA \nDOMINICANA\",LOOKUP(6,$Q$4:$W$4,Q213:W213),IF(EFECTOS!$N$9=\"PANAMÁ\",LOOKUP(7,GEfectos!$Q$4:$W$4,GEfectos!Q213:W213))))))))","v":175.76556676936522},100]
[null,{"$f":"'ITCER GLOBAL'!B214","v":"Mayo"},{"$f":"'ITCER GLOBAL'!C214","v":80.376820779946499},{"$f":"'ITCER GLOBAL'!D214","v":101.4077029447088},{"$f":"'ITCER GLOBAL'!E214","v":68.783085972803732},{"$f":"'ITCER GLOBAL'!F214","v":84.096216049333577},{"$f":"'ITCER GLOBAL'!G214","v":109.99862402154501},{"$f":"'ITCER GLOBAL'!H214","v":135.67684646661678},{"$f":"'ITCER GLOBAL'!I214","v":102.12673964155836},{"$f":"'ITCER GLOBAL'!S214","v":162.88939130415852},{"$f":"'ITCER GLOBAL'!T214","v":96.313988086977574},{"$f":"'ITCER GLOBAL'!U214","v":97.853527499801331},{"$f":"'ITCER GLOBAL'!V214","v":129.73562498882606},{"$f":"'ITCER GLOBAL'!W214","v":177.63082446946282},{"$f":"'ITCER GLOBAL'!X214","v":237.98967347508673},{"$f":"'ITCER GLOBAL'!Y214","v":103.86764800843611},{"$f":"'ITCER GLOBAL'!AA214","v":202.65717121371685},{"$f":"'ITCER GLOBAL'!AB214","v":94.976994143621894},{"$f":"'ITCER GLOBAL'!AC214","v":142.26393904235672},{"$f":"'ITCER GLOBAL'!AD214","v":154.27046671483876},{"$f":"'ITCER GLOBAL'!AE214","v":161.48458769327056},{"$f":"'ITCER GLOBAL'!AF214","v":175.40920184465222},{"$f":"'ITCER GLOBAL'!AG214","v":101.7046547975466},null,{"$f":"IF(EFECTOS!$N$9=\"COSTA RICA\",LOOKUP(1,GEfectos!$C$4:$I$4,GEfectos!C214:I214),IF(EFECTOS!$N$9=\"EL SALVADOR\",LOOKUP(2,GEfectos!$C$4:$I$4,GEfectos!C214:I214),IF(EFECTOS!$N$9=\"GUATEMALA\",LOOKUP(3,GEfectos!$C$4:$I$4,GEfectos!C214:I214),IF(EFECTOS!$N$9=\"HONDURAS\",LOOKUP(4,GEfectos!$C$4:$I$4,GEfectos!C214:I214),IF(EFECTOS!$N$9=\"NICARAGUA\",LOOKUP(5,GEfectos!$C$4:$I$4,GEfectos!C214:I214),IF(EFECTOS!$N$9=\"REPÚBLICA \nDOMINICANA\",LOOKUP(6,$C$4:$I$4,C214:I214),IF(EFECTOS!$N$9=\"PANAMÁ\",LOOKUP(7,GEfectos!$C$4:$I$4,GEfectos!C214:I214))))))))","v":135.67684646661678},{"$f":"IF(EFECTOS!$N$9=\"COSTA RICA\",LOOKUP(1,GEfectos!$J$4:$P$4,GEfectos!J214:P214),IF(EFECTOS!$N$9=\"EL SALVADOR\",LOOKUP(2,GEfectos!$J$4:$P$4,GEfectos!J214:P214),IF(EFECTOS!$N$9=\"GUATEMALA\",LOOKUP(3,GEfectos!$J$4:$P$4,GEfectos!J214:P214),IF(EFECTOS!$N$9=\"HONDURAS\",LOOKUP(4,GEfectos!$J$4:$P$4,GEfectos!J214:P214),IF(EFECTOS!$N$9=\"NICARAGUA\",LOOKUP(5,GEfectos!$J$4:$P$4,GEfectos!J214:P214),IF(EFECTOS!$N$9=\"REPÚBLICA \nDOMINICANA\",LOOKUP(6,$J$4:$P$4,J214:P214),IF(EFECTOS!$N$9=\"PANAMÁ\",LOOKUP(7,GEfectos!$J$4:$P$4,GEfectos!J214:P214))))))))","v":237.98967347508673},{"$f":"IF(EFECTOS!$N$9=\"COSTA RICA\",LOOKUP(1,GEfectos!$Q$4:$W$4,GEfectos!Q214:W214),IF(EFECTOS!$N$9=\"EL SALVADOR\",LOOKUP(2,GEfectos!$Q$4:$W$4,GEfectos!Q214:W214),IF(EFECTOS!$N$9=\"GUATEMALA\",LOOKUP(3,GEfectos!$Q$4:$W$4,GEfectos!Q214:W214),IF(EFECTOS!$N$9=\"HONDURAS\",LOOKUP(4,GEfectos!$Q$4:$W$4,GEfectos!Q214:W214),IF(EFECTOS!$N$9=\"NICARAGUA\",LOOKUP(5,GEfectos!$Q$4:$W$4,GEfectos!Q214:W214),IF(EFECTOS!$N$9=\"REPÚBLICA \nDOMINICANA\",LOOKUP(6,$Q$4:$W$4,Q214:W214),IF(EFECTOS!$N$9=\"PANAMÁ\",LOOKUP(7,GEfectos!$Q$4:$W$4,GEfectos!Q214:W214))))))))","v":175.40920184465222},100]
[null,{"$f":"'ITCER GLOBAL'!B215","v":"Junio"},{"$f":"'ITCER GLOBAL'!C215","v":78.97131329237267},{"$f":"'ITCER GLOBAL'!D215","v":101.40628701063035},{"$f":"'ITCER GLOBAL'!E215","v":68.873248635705977},{"$f":"'ITCER GLOBAL'!F215","v":83.909515253494277},{"$f":"'ITCER GLOBAL'!G215","v":110.2601329914545},{"$f":"'ITCER GLOBAL'!H215","v":134.77013280983411},{"$f":"'ITCER GLOBAL'!I215","v":101.53881384579502},{"$f":"'ITCER GLOBAL'!S215","v":160.51495627863318},{"$f":"'ITCER GLOBAL'!T215","v":95.862441727719073},{"$f":"'ITCER GLOBAL'!U215","v":98.220719859282184},{"$f":"'ITCER GLOBAL'!V215","v":129.59967754605086},{"$f":"'ITCER GLOBAL'!W215","v":177.67597389576537},{"$f":"'ITCER GLOBAL'!X215","v":237.07244661187238},{"$f":"'ITCER GLOBAL'!Y215","v":103.32357532673045},{"$f":"'ITCER GLOBAL'!AA215","v":203.25729633539765},{"$f":"'ITCER GLOBAL'!AB215","v":94.53303592278246},{"$f":"'ITCER GLOBAL'!AC215","v":142.61084209749558},{"$f":"'ITCER GLOBAL'!AD215","v":154.45170569097513},{"$f":"'ITCER GLOBAL'!AE215","v":161.14253545253368},{"$f":"'ITCER GLOBAL'!AF215","v":175.90874303462385},{"$f":"'ITCER GLOBAL'!AG215","v":101.75771354158805},null,{"$f":"IF(EFECTOS!$N$9=\"COSTA RICA\",LOOKUP(1,GEfectos!$C$4:$I$4,GEfectos!C215:I215),IF(EFECTOS!$N$9=\"EL SALVADOR\",LOOKUP(2,GEfectos!$C$4:$I$4,GEfectos!C215:I215),IF(EFECTOS!$N$9=\"GUATEMALA\",LOOKUP(3,GEfectos!$C$4:$I$4,GEfectos!C215:I215),IF(EFECTOS!$N$9=\"HONDURAS\",LOOKUP(4,GEfectos!$C$4:$I$4,GEfectos!C215:I215),IF(EFECTOS!$N$9=\"NICARAGUA\",LOOKUP(5,GEfectos!$C$4:$I$4,GEfectos!C215:I215),IF(EFECTOS!$N$9=\"REPÚBLICA \nDOMINICANA\",LOOKUP(6,$C$4:$I$4,C215:I215),IF(EFECTOS!$N$9=\"PANAMÁ\",LOOKUP(7,GEfectos!$C$4:$I$4,GEfectos!C215:I215))))))))","v":134.77013280983411},{"$f":"IF(EFECTOS!$N$9=\"COSTA RICA\",LOOKUP(1,GEfectos!$J$4:$P$4,GEfectos!J215:P215),IF(EFECTOS!$N$9=\"EL SALVADOR\",LOOKUP(2,GEfectos!$J$4:$P$4,GEfectos!J215:P215),IF(EFECTOS!$N$9=\"GUATEMALA\",LOOKUP(3,GEfectos!$J$4:$P$4,GEfectos!J215:P215),IF(EFECTOS!$N$9=\"HONDURAS\",LOOKUP(4,GEfectos!$J$4:$P$4,GEfectos!J215:P215),IF(EFECTOS!$N$9=\"NICARAGUA\",LOOKUP(5,GEfectos!$J$4:$P$4,GEfectos!J215:P215),IF(EFECTOS!$N$9=\"REPÚBLICA \nDOMINICANA\",LOOKUP(6,$J$4:$P$4,J215:P215),IF(EFECTOS!$N$9=\"PANAMÁ\",LOOKUP(7,GEfectos!$J$4:$P$4,GEfectos!J215:P215))))))))","v":237.07244661187238},{"$f":"IF(EFECTOS!$N$9=\"COSTA RICA\",LOOKUP(1,GEfectos!$Q$4:$W$4,GEfectos!Q215:W215),IF(EFECTOS!$N$9=\"EL SALVADOR\",LOOKUP(2,GEfectos!$Q$4:$W$4,GEfectos!Q215:W215),IF(EFECTOS!$N$9=\"GUATEMALA\",LOOKUP(3,GEfectos!$Q$4:$W$4,GEfectos!Q215:W215),IF(EFECTOS!$N$9=\"HONDURAS\",LOOKUP(4,GEfectos!$Q$4:$W$4,GEfectos!Q215:W215),IF(EFECTOS!$N$9=\"NICARAGUA\",LOOKUP(5,GEfectos!$Q$4:$W$4,GEfectos!Q215:W215),IF(EFECTOS!$N$9=\"REPÚBLICA \nDOMINICANA\",LOOKUP(6,$Q$4:$W$4,Q215:W215),IF(EFECTOS!$N$9=\"PANAMÁ\",LOOKUP(7,GEfectos!$Q$4:$W$4,GEfectos!Q215:W215))))))))","v":175.90874303462385},100]
[null,{"$f":"'ITCER GLOBAL'!B216","v":"Julio"},{"$f":"'ITCER GLOBAL'!C216","v":79.274331296038241},{"$f":"'ITCER GLOBAL'!D216","v":101.89509123105429},{"$f":"'ITCER GLOBAL'!E216","v":68.583531788562965},{"$f":"'ITCER GLOBAL'!F216","v":84.198595458580101},{"$f":"'ITCER GLOBAL'!G216","v":111.12323719936261},{"$f":"'ITCER GLOBAL'!H216","v":135.13663409000631},{"$f":"'ITCER GLOBAL'!I216","v":101.37314662846016},{"$f":"'ITCER GLOBAL'!S216","v":160.77841144638543},{"$f":"'ITCER GLOBAL'!T216","v":96.03920135698722},{"$f":"'ITCER GLOBAL'!U216","v":98.223370930881387},{"$f":"'ITCER GLOBAL'!V216","v":130.26769513374137},{"$f":"'ITCER GLOBAL'!W216","v":179.65760115770985},{"$f":"'ITCER GLOBAL'!X216","v":237.39959124544944},{"$f":"'ITCER GLOBAL'!Y216","v":103.55322386743362},{"$f":"'ITCER GLOBAL'!AA216","v":202.81269966943313},{"$f":"'ITCER GLOBAL'!AB216","v":94.253020628061051},{"$f":"'ITCER GLOBAL'!AC216","v":143.21713736425161},{"$f":"'ITCER GLOBAL'!AD216","v":154.71480779964327},{"$f":"'ITCER GLOBAL'!AE216","v":161.67419676173759},{"$f":"'ITCER GLOBAL'!AF216","v":175.67374890167233},{"$f":"'ITCER GLOBAL'!AG216","v":102.15054707432887},null,{"$f":"IF(EFECTOS!$N$9=\"COSTA RICA\",LOOKUP(1,GEfectos!$C$4:$I$4,GEfectos!C216:I216),IF(EFECTOS!$N$9=\"EL SALVADOR\",LOOKUP(2,GEfectos!$C$4:$I$4,GEfectos!C216:I216),IF(EFECTOS!$N$9=\"GUATEMALA\",LOOKUP(3,GEfectos!$C$4:$I$4,GEfectos!C216:I216),IF(EFECTOS!$N$9=\"HONDURAS\",LOOKUP(4,GEfectos!$C$4:$I$4,GEfectos!C216:I216),IF(EFECTOS!$N$9=\"NICARAGUA\",LOOKUP(5,GEfectos!$C$4:$I$4,GEfectos!C216:I216),IF(EFECTOS!$N$9=\"REPÚBLICA \nDOMINICANA\",LOOKUP(6,$C$4:$I$4,C216:I216),IF(EFECTOS!$N$9=\"PANAMÁ\",LOOKUP(7,GEfectos!$C$4:$I$4,GEfectos!C216:I216))))))))","v":135.13663409000631},{"$f":"IF(EFECTOS!$N$9=\"COSTA RICA\",LOOKUP(1,GEfectos!$J$4:$P$4,GEfectos!J216:P216),IF(EFECTOS!$N$9=\"EL SALVADOR\",LOOKUP(2,GEfectos!$J$4:$P$4,GEfectos!J216:P216),IF(EFECTOS!$N$9=\"GUATEMALA\",LOOKUP(3,GEfectos!$J$4:$P$4,GEfectos!J216:P216),IF(EFECTOS!$N$9=\"HONDURAS\",LOOKUP(4,GEfectos!$J$4:$P$4,GEfectos!J216:P216),IF(EFECTOS!$N$9=\"NICARAGUA\",LOOKUP(5,GEfectos!$J$4:$P$4,GEfectos!J216:P216),IF(EFECTOS!$N$9=\"REPÚBLICA \nDOMINICANA\",LOOKUP(6,$J$4:$P$4,J216:P216),IF(EFECTOS!$N$9=\"PANAMÁ\",LOOKUP(7,GEfectos!$J$4:$P$4,GEfectos!J216:P216))))))))","v":237.39959124544944},{"$f":"IF(EFECTOS!$N$9=\"COSTA RICA\",LOOKUP(1,GEfectos!$Q$4:$W$4,GEfectos!Q216:W216),IF(EFECTOS!$N$9=\"EL SALVADOR\",LOOKUP(2,GEfectos!$Q$4:$W$4,GEfectos!Q216:W216),IF(EFECTOS!$N$9=\"GUATEMALA\",LOOKUP(3,GEfectos!$Q$4:$W$4,GEfectos!Q216:W216),IF(EFECTOS!$N$9=\"HONDURAS\",LOOKUP(4,GEfectos!$Q$4:$W$4,GEfectos!Q216:W216),IF(EFECTOS!$N$9=\"NICARAGUA\",LOOKUP(5,GEfectos!$Q$4:$W$4,GEfectos!Q216:W216),IF(EFECTOS!$N$9=\"REPÚBLICA \nDOMINICANA\",LOOKUP(6,$Q$4:$W$4,Q216:W216),IF(EFECTOS!$N$9=\"PANAMÁ\",LOOKUP(7,GEfectos!$Q$4:$W$4,GEfectos!Q216:W216))))))))","v":175.67374890167233},100]
[null,{"$f":"'ITCER GLOBAL'!B217","v":"Agosto"},{"$f":"'ITCER GLOBAL'!C217","v":79.17498362204033},{"$f":"'ITCER GLOBAL'!D217","v":102.25312803626414},{"$f":"'ITCER GLOBAL'!E217","v":69.273821899370304},{"$f":"'ITCER GLOBAL'!F217","v":84.553596376264665},{"$f":"'ITCER GLOBAL'!G217","v":112.27589730632471},{"$f":"'ITCER GLOBAL'!H217","v":134.78292818604959},{"$f":"'ITCER GLOBAL'!I217","v":101.57985738023986},{"$f":"'ITCER GLOBAL'!S217","v":160.64225501323557},{"$f":"'ITCER GLOBAL'!T217","v":96.065992606324755},{"$f":"'ITCER GLOBAL'!U217","v":99.202188700287408},{"$f":"'ITCER GLOBAL'!V217","v":131.00167355863616},{"$f":"'ITCER GLOBAL'!W217","v":181.14260342742602},{"$f":"'ITCER GLOBAL'!X217","v":237.935542110695},{"$f":"'ITCER GLOBAL'!Y217","v":103.78960138319194},{"$f":"'ITCER GLOBAL'!AA217","v":202.8952172318692},{"$f":"'ITCER GLOBAL'!AB217","v":93.949196910880687},{"$f":"'ITCER GLOBAL'!AC217","v":143.20299642827871},{"$f":"'ITCER GLOBAL'!AD217","v":154.93329577097691},{"$f":"'ITCER GLOBAL'!AE217","v":161.33703472724056},{"$f":"'ITCER GLOBAL'!AF217","v":176.5324031113623},{"$f":"'ITCER GLOBAL'!AG217","v":102.17537616210706},null,{"$f":"IF(EFECTOS!$N$9=\"COSTA RICA\",LOOKUP(1,GEfectos!$C$4:$I$4,GEfectos!C217:I217),IF(EFECTOS!$N$9=\"EL SALVADOR\",LOOKUP(2,GEfectos!$C$4:$I$4,GEfectos!C217:I217),IF(EFECTOS!$N$9=\"GUATEMALA\",LOOKUP(3,GEfectos!$C$4:$I$4,GEfectos!C217:I217),IF(EFECTOS!$N$9=\"HONDURAS\",LOOKUP(4,GEfectos!$C$4:$I$4,GEfectos!C217:I217),IF(EFECTOS!$N$9=\"NICARAGUA\",LOOKUP(5,GEfectos!$C$4:$I$4,GEfectos!C217:I217),IF(EFECTOS!$N$9=\"REPÚBLICA \nDOMINICANA\",LOOKUP(6,$C$4:$I$4,C217:I217),IF(EFECTOS!$N$9=\"PANAMÁ\",LOOKUP(7,GEfectos!$C$4:$I$4,GEfectos!C217:I217))))))))","v":134.78292818604959},{"$f":"IF(EFECTOS!$N$9=\"COSTA RICA\",LOOKUP(1,GEfectos!$J$4:$P$4,GEfectos!J217:P217),IF(EFECTOS!$N$9=\"EL SALVADOR\",LOOKUP(2,GEfectos!$J$4:$P$4,GEfectos!J217:P217),IF(EFECTOS!$N$9=\"GUATEMALA\",LOOKUP(3,GEfectos!$J$4:$P$4,GEfectos!J217:P217),IF(EFECTOS!$N$9=\"HONDURAS\",LOOKUP(4,GEfectos!$J$4:$P$4,GEfectos!J217:P217),IF(EFECTOS!$N$9=\"NICARAGUA\",LOOKUP(5,GEfectos!$J$4:$P$4,GEfectos!J217:P217),IF(EFECTOS!$N$9=\"REPÚBLICA \nDOMINICANA\",LOOKUP(6,$J$4:$P$4,J217:P217),IF(EFECTOS!$N$9=\"PANAMÁ\",LOOKUP(7,GEfectos!$J$4:$P$4,GEfectos!J217:P217))))))))","v":237.935542110695},{"$f":"IF(EFECTOS!$N$9=\"COSTA RICA\",LOOKUP(1,GEfectos!$Q$4:$W$4,GEfectos!Q217:W217),IF(EFECTOS!$N$9=\"EL SALVADOR\",LOOKUP(2,GEfectos!$Q$4:$W$4,GEfectos!Q217:W217),IF(EFECTOS!$N$9=\"GUATEMALA\",LOOKUP(3,GEfectos!$Q$4:$W$4,GEfectos!Q217:W217),IF(EFECTOS!$N$9=\"HONDURAS\",LOOKUP(4,GEfectos!$Q$4:$W$4,GEfectos!Q217:W217),IF(EFECTOS!$N$9=\"NICARAGUA\",LOOKUP(5,GEfectos!$Q$4:$W$4,GEfectos!Q217:W217),IF(EFECTOS!$N$9=\"REPÚBLICA \nDOMINICANA\",LOOKUP(6,$Q$4:$W$4,Q217:W217),IF(EFECTOS!$N$9=\"PANAMÁ\",LOOKUP(7,GEfectos!$Q$4:$W$4,GEfectos!Q217:W217))))))))","v":176.5324031113623},100]
[null,{"$f":"'ITCER GLOBAL'!B218","v":"Septiembre"},{"$f":"'ITCER GLOBAL'!C218","v":79.727387583438059},{"$f":"'ITCER GLOBAL'!D218","v":102.53406178692042},{"$f":"'ITCER GLOBAL'!E218","v":70.368558075150275},{"$f":"'ITCER GLOBAL'!F218","v":85.09921900104338},{"$f":"'ITCER GLOBAL'!G218","v":112.96528638483188},{"$f":"'ITCER GLOBAL'!H218","v":135.59827178615794},{"$f":"'ITCER GLOBAL'!I218","v":102.60468594238526},{"$f":"'ITCER GLOBAL'!S218","v":161.14474443598223},{"$f":"'ITCER GLOBAL'!T218","v":96.279772777105364},{"$f":"'ITCER GLOBAL'!U218","v":100.8189554082997},{"$f":"'ITCER GLOBAL'!V218","v":132.21596280988211},{"$f":"'ITCER GLOBAL'!W218","v":182.70800302318392},{"$f":"'ITCER GLOBAL'!X218","v":239.76769798769823},{"$f":"'ITCER GLOBAL'!Y218","v":104.47030874641084},{"$f":"'ITCER GLOBAL'!AA218","v":202.119684741128},{"$f":"'ITCER GLOBAL'!AB218","v":93.90028162269401},{"$f":"'ITCER GLOBAL'!AC218","v":143.27273169450174},{"$f":"'ITCER GLOBAL'!AD218","v":155.366834574899},{"$f":"'ITCER GLOBAL'!AE218","v":161.73818424251485},{"$f":"'ITCER GLOBAL'!AF218","v":176.82208986101108},{"$f":"'ITCER GLOBAL'!AG218","v":101.81826276927855},null,{"$f":"IF(EFECTOS!$N$9=\"COSTA RICA\",LOOKUP(1,GEfectos!$C$4:$I$4,GEfectos!C218:I218),IF(EFECTOS!$N$9=\"EL SALVADOR\",LOOKUP(2,GEfectos!$C$4:$I$4,GEfectos!C218:I218),IF(EFECTOS!$N$9=\"GUATEMALA\",LOOKUP(3,GEfectos!$C$4:$I$4,GEfectos!C218:I218),IF(EFECTOS!$N$9=\"HONDURAS\",LOOKUP(4,GEfectos!$C$4:$I$4,GEfectos!C218:I218),IF(EFECTOS!$N$9=\"NICARAGUA\",LOOKUP(5,GEfectos!$C$4:$I$4,GEfectos!C218:I218),IF(EFECTOS!$N$9=\"REPÚBLICA \nDOMINICANA\",LOOKUP(6,$C$4:$I$4,C218:I218),IF(EFECTOS!$N$9=\"PANAMÁ\",LOOKUP(7,GEfectos!$C$4:$I$4,GEfectos!C218:I218))))))))","v":135.59827178615794},{"$f":"IF(EFECTOS!$N$9=\"COSTA RICA\",LOOKUP(1,GEfectos!$J$4:$P$4,GEfectos!J218:P218),IF(EFECTOS!$N$9=\"EL SALVADOR\",LOOKUP(2,GEfectos!$J$4:$P$4,GEfectos!J218:P218),IF(EFECTOS!$N$9=\"GUATEMALA\",LOOKUP(3,GEfectos!$J$4:$P$4,GEfectos!J218:P218),IF(EFECTOS!$N$9=\"HONDURAS\",LOOKUP(4,GEfectos!$J$4:$P$4,GEfectos!J218:P218),IF(EFECTOS!$N$9=\"NICARAGUA\",LOOKUP(5,GEfectos!$J$4:$P$4,GEfectos!J218:P218),IF(EFECTOS!$N$9=\"REPÚBLICA \nDOMINICANA\",LOOKUP(6,$J$4:$P$4,J218:P218),IF(EFECTOS!$N$9=\"PANAMÁ\",LOOKUP(7,GEfectos!$J$4:$P$4,GEfectos!J218:P218))))))))","v":239.76769798769823},{"$f":"IF(EFECTOS!$N$9=\"COSTA RICA\",LOOKUP(1,GEfectos!$Q$4:$W$4,GEfectos!Q218:W218),IF(EFECTOS!$N$9=\"EL SALVADOR\",LOOKUP(2,GEfectos!$Q$4:$W$4,GEfectos!Q218:W218),IF(EFECTOS!$N$9=\"GUATEMALA\",LOOKUP(3,GEfectos!$Q$4:$W$4,GEfectos!Q218:W218),IF(EFECTOS!$N$9=\"HONDURAS\",LOOKUP(4,GEfectos!$Q$4:$W$4,GEfectos!Q218:W218),IF(EFECTOS!$N$9=\"NICARAGUA\",LOOKUP(5,GEfectos!$Q$4:$W$4,GEfectos!Q218:W218),IF(EFECTOS!$N$9=\"REPÚBLICA \nDOMINICANA\",LOOKUP(6,$Q$4:$W$4,Q218:W218),IF(EFECTOS!$N$9=\"PANAMÁ\",LOOKUP(7,GEfectos!$Q$4:$W$4,GEfectos!Q218:W218))))))))","v":176.82208986101108},100]
[null,{"$f":"'ITCER GLOBAL'!B219","v":"Octubre"},{"$f":"'ITCER GLOBAL'!C219","v":79.545488884409068},{"$f":"'ITCER GLOBAL'!D219","v":102.77843569885857},{"$f":"'ITCER GLOBAL'!E219","v":69.607233705074464},{"$f":"'ITCER GLOBAL'!F219","v":85.328841998027741},{"$f":"'ITCER GLOBAL'!G219","v":113.00846489164864},{"$f":"'ITCER GLOBAL'!H219","v":136.36934031432605},{"$f":"'ITCER GLOBAL'!I219","v":102.77207523776607},{"$f":"'ITCER GLOBAL'!S219","v":161.37751473116418},{"$f":"'ITCER GLOBAL'!T219","v":96.484837518427838},{"$f":"'ITCER GLOBAL'!U219","v":99.641731986136904},{"$f":"'ITCER GLOBAL'!V219","v":133.04702818523879},{"$f":"'ITCER GLOBAL'!W219","v":183.43561271366579},{"$f":"'ITCER GLOBAL'!X219","v":241.48458418538183},{"$f":"'ITCER GLOBAL'!Y219","v":104.69069444832024},{"$f":"'ITCER GLOBAL'!AA219","v":202.8745023689134},{"$f":"'ITCER GLOBAL'!AB219","v":93.876538266382056},{"$f":"'ITCER GLOBAL'!AC219","v":143.14853023511677},{"$f":"'ITCER GLOBAL'!AD219","v":155.92269280803549},{"$f":"'ITCER GLOBAL'!AE219","v":162.32024113374334},{"$f":"'ITCER GLOBAL'!AF219","v":177.08128794109379},{"$f":"'ITCER GLOBAL'!AG219","v":101.86686821893534},null,{"$f":"IF(EFECTOS!$N$9=\"COSTA RICA\",LOOKUP(1,GEfectos!$C$4:$I$4,GEfectos!C219:I219),IF(EFECTOS!$N$9=\"EL SALVADOR\",LOOKUP(2,GEfectos!$C$4:$I$4,GEfectos!C219:I219),IF(EFECTOS!$N$9=\"GUATEMALA\",LOOKUP(3,GEfectos!$C$4:$I$4,GEfectos!C219:I219),IF(EFECTOS!$N$9=\"HONDURAS\",LOOKUP(4,GEfectos!$C$4:$I$4,GEfectos!C219:I219),IF(EFECTOS!$N$9=\"NICARAGUA\",LOOKUP(5,GEfectos!$C$4:$I$4,GEfectos!C219:I219),IF(EFECTOS!$N$9=\"REPÚBLICA \nDOMINICANA\",LOOKUP(6,$C$4:$I$4,C219:I219),IF(EFECTOS!$N$9=\"PANAMÁ\",LOOKUP(7,GEfectos!$C$4:$I$4,GEfectos!C219:I219))))))))","v":136.36934031432605},{"$f":"IF(EFECTOS!$N$9=\"COSTA RICA\",LOOKUP(1,GEfectos!$J$4:$P$4,GEfectos!J219:P219),IF(EFECTOS!$N$9=\"EL SALVADOR\",LOOKUP(2,GEfectos!$J$4:$P$4,GEfectos!J219:P219),IF(EFECTOS!$N$9=\"GUATEMALA\",LOOKUP(3,GEfectos!$J$4:$P$4,GEfectos!J219:P219),IF(EFECTOS!$N$9=\"HONDURAS\",LOOKUP(4,GEfectos!$J$4:$P$4,GEfectos!J219:P219),IF(EFECTOS!$N$9=\"NICARAGUA\",LOOKUP(5,GEfectos!$J$4:$P$4,GEfectos!J219:P219),IF(EFECTOS!$N$9=\"REPÚBLICA \nDOMINICANA\",LOOKUP(6,$J$4:$P$4,J219:P219),IF(EFECTOS!$N$9=\"PANAMÁ\",LOOKUP(7,GEfectos!$J$4:$P$4,GEfectos!J219:P219))))))))","v":241.48458418538183},{"$f":"IF(EFECTOS!$N$9=\"COSTA RICA\",LOOKUP(1,GEfectos!$Q$4:$W$4,GEfectos!Q219:W219),IF(EFECTOS!$N$9=\"EL SALVADOR\",LOOKUP(2,GEfectos!$Q$4:$W$4,GEfectos!Q219:W219),IF(EFECTOS!$N$9=\"GUATEMALA\",LOOKUP(3,GEfectos!$Q$4:$W$4,GEfectos!Q219:W219),IF(EFECTOS!$N$9=\"HONDURAS\",LOOKUP(4,GEfectos!$Q$4:$W$4,GEfectos!Q219:W219),IF(EFECTOS!$N$9=\"NICARAGUA\",LOOKUP(5,GEfectos!$Q$4:$W$4,GEfectos!Q219:W219),IF(EFECTOS!$N$9=\"REPÚBLICA \nDOMINICANA\",LOOKUP(6,$Q$4:$W$4,Q219:W219),IF(EFECTOS!$N$9=\"PANAMÁ\",LOOKUP(7,GEfectos!$Q$4:$W$4,GEfectos!Q219:W219))))))))","v":177.08128794109379},100]
[null,{"$f":"'ITCER GLOBAL'!B220","v":"Noviembre"},{"$f":"'ITCER GLOBAL'!C220","v":78.962330825876563},{"$f":"'ITCER GLOBAL'!D220","v":102.63310179706689},{"$f":"'ITCER GLOBAL'!E220","v":69.379732124073456},{"$f":"'ITCER GLOBAL'!F220","v":85.289002551605563},{"$f":"'ITCER GLOBAL'!G220","v":112.15115373666779},{"$f":"'ITCER GLOBAL'!H220","v":136.82168898764573},{"$f":"'ITCER GLOBAL'!I220","v":102.29413052533772},{"$f":"'ITCER GLOBAL'!S220","v":161.77188205821471},{"$f":"'ITCER GLOBAL'!T220","v":96.305292178348139},{"$f":"'ITCER GLOBAL'!U220","v":99.40526137698285},{"$f":"'ITCER GLOBAL'!V220","v":133.38987933565591},{"$f":"'ITCER GLOBAL'!W220","v":183.8459253988911},{"$f":"'ITCER GLOBAL'!X220","v":244.20362732782701},{"$f":"'ITCER GLOBAL'!Y220","v":104.4641954795475},{"$f":"'ITCER GLOBAL'!AA220","v":204.87222244609936},{"$f":"'ITCER GLOBAL'!AB220","v":93.834533393299836},{"$f":"'ITCER GLOBAL'!AC220","v":143.2770902015217},{"$f":"'ITCER GLOBAL'!AD220","v":156.3975135656512},{"$f":"'ITCER GLOBAL'!AE220","v":163.9269140561527},{"$f":"'ITCER GLOBAL'!AF220","v":178.48312583677966},{"$f":"'ITCER GLOBAL'!AG220","v":102.12139733048737},null,{"$f":"IF(EFECTOS!$N$9=\"COSTA RICA\",LOOKUP(1,GEfectos!$C$4:$I$4,GEfectos!C220:I220),IF(EFECTOS!$N$9=\"EL SALVADOR\",LOOKUP(2,GEfectos!$C$4:$I$4,GEfectos!C220:I220),IF(EFECTOS!$N$9=\"GUATEMALA\",LOOKUP(3,GEfectos!$C$4:$I$4,GEfectos!C220:I220),IF(EFECTOS!$N$9=\"HONDURAS\",LOOKUP(4,GEfectos!$C$4:$I$4,GEfectos!C220:I220),IF(EFECTOS!$N$9=\"NICARAGUA\",LOOKUP(5,GEfectos!$C$4:$I$4,GEfectos!C220:I220),IF(EFECTOS!$N$9=\"REPÚBLICA \nDOMINICANA\",LOOKUP(6,$C$4:$I$4,C220:I220),IF(EFECTOS!$N$9=\"PANAMÁ\",LOOKUP(7,GEfectos!$C$4:$I$4,GEfectos!C220:I220))))))))","v":136.82168898764573},{"$f":"IF(EFECTOS!$N$9=\"COSTA RICA\",LOOKUP(1,GEfectos!$J$4:$P$4,GEfectos!J220:P220),IF(EFECTOS!$N$9=\"EL SALVADOR\",LOOKUP(2,GEfectos!$J$4:$P$4,GEfectos!J220:P220),IF(EFECTOS!$N$9=\"GUATEMALA\",LOOKUP(3,GEfectos!$J$4:$P$4,GEfectos!J220:P220),IF(EFECTOS!$N$9=\"HONDURAS\",LOOKUP(4,GEfectos!$J$4:$P$4,GEfectos!J220:P220),IF(EFECTOS!$N$9=\"NICARAGUA\",LOOKUP(5,GEfectos!$J$4:$P$4,GEfectos!J220:P220),IF(EFECTOS!$N$9=\"REPÚBLICA \nDOMINICANA\",LOOKUP(6,$J$4:$P$4,J220:P220),IF(EFECTOS!$N$9=\"PANAMÁ\",LOOKUP(7,GEfectos!$J$4:$P$4,GEfectos!J220:P220))))))))","v":244.20362732782701},{"$f":"IF(EFECTOS!$N$9=\"COSTA RICA\",LOOKUP(1,GEfectos!$Q$4:$W$4,GEfectos!Q220:W220),IF(EFECTOS!$N$9=\"EL SALVADOR\",LOOKUP(2,GEfectos!$Q$4:$W$4,GEfectos!Q220:W220),IF(EFECTOS!$N$9=\"GUATEMALA\",LOOKUP(3,GEfectos!$Q$4:$W$4,GEfectos!Q220:W220),IF(EFECTOS!$N$9=\"HONDURAS\",LOOKUP(4,GEfectos!$Q$4:$W$4,GEfectos!Q220:W220),IF(EFECTOS!$N$9=\"NICARAGUA\",LOOKUP(5,GEfectos!$Q$4:$W$4,GEfectos!Q220:W220),IF(EFECTOS!$N$9=\"REPÚBLICA \nDOMINICANA\",LOOKUP(6,$Q$4:$W$4,Q220:W220),IF(EFECTOS!$N$9=\"PANAMÁ\",LOOKUP(7,GEfectos!$Q$4:$W$4,GEfectos!Q220:W220))))))))","v":178.48312583677966},100]
[null,{"$f":"'ITCER GLOBAL'!B221","v":"Diciembre"},{"$f":"'ITCER GLOBAL'!C221","v":78.886147876622118},{"$f":"'ITCER GLOBAL'!D221","v":102.84568579475801},{"$f":"'ITCER GLOBAL'!E221","v":69.324550362416602},{"$f":"'ITCER GLOBAL'!F221","v":85.736807337099791},{"$f":"'ITCER GLOBAL'!G221","v":111.01656852417054},{"$f":"'ITCER GLOBAL'!H221","v":137.0274259350968},{"$f":"'ITCER GLOBAL'!I221","v":102.20225581190677},{"$f":"'ITCER GLOBAL'!S221","v":161.93299077041075},{"$f":"'ITCER GLOBAL'!T221","v":96.345592908584024},{"$f":"'ITCER GLOBAL'!U221","v":99.812832246663305},{"$f":"'ITCER GLOBAL'!V221","v":134.14166383883003},{"$f":"'ITCER GLOBAL'!W221","v":184.79784924179495},{"$f":"'ITCER GLOBAL'!X221","v":246.03965995175386},{"$f":"'ITCER GLOBAL'!Y221","v":104.64129140204852},{"$f":"'ITCER GLOBAL'!AA221","v":205.27430370116923},{"$f":"'ITCER GLOBAL'!AB221","v":93.679761250125964},{"$f":"'ITCER GLOBAL'!AC221","v":143.97905464205581},{"$f":"'ITCER GLOBAL'!AD221","v":156.45749824974487},{"$f":"'ITCER GLOBAL'!AE221","v":166.45970209533252},{"$f":"'ITCER GLOBAL'!AF221","v":179.55504766490384},{"$f":"'ITCER GLOBAL'!AG221","v":102.38647921297408},null,{"$f":"IF(EFECTOS!$N$9=\"COSTA RICA\",LOOKUP(1,GEfectos!$C$4:$I$4,GEfectos!C221:I221),IF(EFECTOS!$N$9=\"EL SALVADOR\",LOOKUP(2,GEfectos!$C$4:$I$4,GEfectos!C221:I221),IF(EFECTOS!$N$9=\"GUATEMALA\",LOOKUP(3,GEfectos!$C$4:$I$4,GEfectos!C221:I221),IF(EFECTOS!$N$9=\"HONDURAS\",LOOKUP(4,GEfectos!$C$4:$I$4,GEfectos!C221:I221),IF(EFECTOS!$N$9=\"NICARAGUA\",LOOKUP(5,GEfectos!$C$4:$I$4,GEfectos!C221:I221),IF(EFECTOS!$N$9=\"REPÚBLICA \nDOMINICANA\",LOOKUP(6,$C$4:$I$4,C221:I221),IF(EFECTOS!$N$9=\"PANAMÁ\",LOOKUP(7,GEfectos!$C$4:$I$4,GEfectos!C221:I221))))))))","v":137.0274259350968},{"$f":"IF(EFECTOS!$N$9=\"COSTA RICA\",LOOKUP(1,GEfectos!$J$4:$P$4,GEfectos!J221:P221),IF(EFECTOS!$N$9=\"EL SALVADOR\",LOOKUP(2,GEfectos!$J$4:$P$4,GEfectos!J221:P221),IF(EFECTOS!$N$9=\"GUATEMALA\",LOOKUP(3,GEfectos!$J$4:$P$4,GEfectos!J221:P221),IF(EFECTOS!$N$9=\"HONDURAS\",LOOKUP(4,GEfectos!$J$4:$P$4,GEfectos!J221:P221),IF(EFECTOS!$N$9=\"NICARAGUA\",LOOKUP(5,GEfectos!$J$4:$P$4,GEfectos!J221:P221),IF(EFECTOS!$N$9=\"REPÚBLICA \nDOMINICANA\",LOOKUP(6,$J$4:$P$4,J221:P221),IF(EFECTOS!$N$9=\"PANAMÁ\",LOOKUP(7,GEfectos!$J$4:$P$4,GEfectos!J221:P221))))))))","v":246.03965995175386},{"$f":"IF(EFECTOS!$N$9=\"COSTA RICA\",LOOKUP(1,GEfectos!$Q$4:$W$4,GEfectos!Q221:W221),IF(EFECTOS!$N$9=\"EL SALVADOR\",LOOKUP(2,GEfectos!$Q$4:$W$4,GEfectos!Q221:W221),IF(EFECTOS!$N$9=\"GUATEMALA\",LOOKUP(3,GEfectos!$Q$4:$W$4,GEfectos!Q221:W221),IF(EFECTOS!$N$9=\"HONDURAS\",LOOKUP(4,GEfectos!$Q$4:$W$4,GEfectos!Q221:W221),IF(EFECTOS!$N$9=\"NICARAGUA\",LOOKUP(5,GEfectos!$Q$4:$W$4,GEfectos!Q221:W221),IF(EFECTOS!$N$9=\"REPÚBLICA \nDOMINICANA\",LOOKUP(6,$Q$4:$W$4,Q221:W221),IF(EFECTOS!$N$9=\"PANAMÁ\",LOOKUP(7,GEfectos!$Q$4:$W$4,GEfectos!Q221:W221))))))))","v":179.55504766490384},100]
[2013,{"$f":"'ITCER GLOBAL'!B222","v":"Enero"},{"$f":"'ITCER GLOBAL'!C222","v":78.17661366283059},{"$f":"'ITCER GLOBAL'!D222","v":103.11114901776523},{"$f":"'ITCER GLOBAL'!E222","v":69.159038797383815},{"$f":"'ITCER GLOBAL'!F222","v":86.168463325181079},{"$f":"'ITCER GLOBAL'!G222","v":111.32709272061156},{"$f":"'ITCER GLOBAL'!H222","v":139.97137156432871},{"$f":"'ITCER GLOBAL'!I222","v":102.55311791295763},{"$f":"'ITCER GLOBAL'!S222","v":162.11726911521666},{"$f":"'ITCER GLOBAL'!T222","v":96.536163691849112},{"$f":"'ITCER GLOBAL'!U222","v":99.783225614671039},{"$f":"'ITCER GLOBAL'!V222","v":134.84139133402516},{"$f":"'ITCER GLOBAL'!W222","v":187.67214564895824},{"$f":"'ITCER GLOBAL'!X222","v":248.4134887348398},{"$f":"'ITCER GLOBAL'!Y222","v":105.60431024017905},{"$f":"'ITCER GLOBAL'!AA222","v":207.37310241450893},{"$f":"'ITCER GLOBAL'!AB222","v":93.623400196245214},{"$f":"'ITCER GLOBAL'!AC222","v":144.28081614466521},{"$f":"'ITCER GLOBAL'!AD222","v":156.48577928698001},{"$f":"'ITCER GLOBAL'!AE222","v":168.57724482210594},{"$f":"'ITCER GLOBAL'!AF222","v":177.47449779090917},{"$f":"'ITCER GLOBAL'!AG222","v":102.97523116733626},null,{"$f":"IF(EFECTOS!$N$9=\"COSTA RICA\",LOOKUP(1,GEfectos!$C$4:$I$4,GEfectos!C222:I222),IF(EFECTOS!$N$9=\"EL SALVADOR\",LOOKUP(2,GEfectos!$C$4:$I$4,GEfectos!C222:I222),IF(EFECTOS!$N$9=\"GUATEMALA\",LOOKUP(3,GEfectos!$C$4:$I$4,GEfectos!C222:I222),IF(EFECTOS!$N$9=\"HONDURAS\",LOOKUP(4,GEfectos!$C$4:$I$4,GEfectos!C222:I222),IF(EFECTOS!$N$9=\"NICARAGUA\",LOOKUP(5,GEfectos!$C$4:$I$4,GEfectos!C222:I222),IF(EFECTOS!$N$9=\"REPÚBLICA \nDOMINICANA\",LOOKUP(6,$C$4:$I$4,C222:I222),IF(EFECTOS!$N$9=\"PANAMÁ\",LOOKUP(7,GEfectos!$C$4:$I$4,GEfectos!C222:I222))))))))","v":139.97137156432871},{"$f":"IF(EFECTOS!$N$9=\"COSTA RICA\",LOOKUP(1,GEfectos!$J$4:$P$4,GEfectos!J222:P222),IF(EFECTOS!$N$9=\"EL SALVADOR\",LOOKUP(2,GEfectos!$J$4:$P$4,GEfectos!J222:P222),IF(EFECTOS!$N$9=\"GUATEMALA\",LOOKUP(3,GEfectos!$J$4:$P$4,GEfectos!J222:P222),IF(EFECTOS!$N$9=\"HONDURAS\",LOOKUP(4,GEfectos!$J$4:$P$4,GEfectos!J222:P222),IF(EFECTOS!$N$9=\"NICARAGUA\",LOOKUP(5,GEfectos!$J$4:$P$4,GEfectos!J222:P222),IF(EFECTOS!$N$9=\"REPÚBLICA \nDOMINICANA\",LOOKUP(6,$J$4:$P$4,J222:P222),IF(EFECTOS!$N$9=\"PANAMÁ\",LOOKUP(7,GEfectos!$J$4:$P$4,GEfectos!J222:P222))))))))","v":248.4134887348398},{"$f":"IF(EFECTOS!$N$9=\"COSTA RICA\",LOOKUP(1,GEfectos!$Q$4:$W$4,GEfectos!Q222:W222),IF(EFECTOS!$N$9=\"EL SALVADOR\",LOOKUP(2,GEfectos!$Q$4:$W$4,GEfectos!Q222:W222),IF(EFECTOS!$N$9=\"GUATEMALA\",LOOKUP(3,GEfectos!$Q$4:$W$4,GEfectos!Q222:W222),IF(EFECTOS!$N$9=\"HONDURAS\",LOOKUP(4,GEfectos!$Q$4:$W$4,GEfectos!Q222:W222),IF(EFECTOS!$N$9=\"NICARAGUA\",LOOKUP(5,GEfectos!$Q$4:$W$4,GEfectos!Q222:W222),IF(EFECTOS!$N$9=\"REPÚBLICA \nDOMINICANA\",LOOKUP(6,$Q$4:$W$4,Q222:W222),IF(EFECTOS!$N$9=\"PANAMÁ\",LOOKUP(7,GEfectos!$Q$4:$W$4,GEfectos!Q222:W222))))))))","v":177.47449779090917},100]
[null,{"$f":"'ITCER GLOBAL'!B223","v":"Febrero"},{"$f":"'ITCER GLOBAL'!C223","v":77.981362333085514},{"$f":"'ITCER GLOBAL'!D223","v":103.39264519233156},{"$f":"'ITCER GLOBAL'!E223","v":68.480762911414359},{"$f":"'ITCER GLOBAL'!F223","v":86.154684640925552},{"$f":"'ITCER GLOBAL'!G223","v":111.83874565082445},{"$f":"'ITCER GLOBAL'!H223","v":141.02367197783605},{"$f":"'ITCER GLOBAL'!I223","v":102.42346925074612},{"$f":"'ITCER GLOBAL'!S223","v":162.20421273082272},{"$f":"'ITCER GLOBAL'!T223","v":96.463170152018066},{"$f":"'ITCER GLOBAL'!U223","v":98.913601643917545},{"$f":"'ITCER GLOBAL'!V223","v":135.31326917610832},{"$f":"'ITCER GLOBAL'!W223","v":188.26267236185683},{"$f":"'ITCER GLOBAL'!X223","v":249.2820638928554},{"$f":"'ITCER GLOBAL'!Y223","v":105.30680361076253},{"$f":"'ITCER GLOBAL'!AA223","v":208.00382024360147},{"$f":"'ITCER GLOBAL'!AB223","v":93.297903320469985},{"$f":"'ITCER GLOBAL'!AC223","v":144.43998203096925},{"$f":"'ITCER GLOBAL'!AD223","v":157.05851601693547},{"$f":"'ITCER GLOBAL'!AE223","v":168.33403420817874},{"$f":"'ITCER GLOBAL'!AF223","v":176.76611337423813},{"$f":"'ITCER GLOBAL'!AG223","v":102.81511101030725},null,{"$f":"IF(EFECTOS!$N$9=\"COSTA RICA\",LOOKUP(1,GEfectos!$C$4:$I$4,GEfectos!C223:I223),IF(EFECTOS!$N$9=\"EL SALVADOR\",LOOKUP(2,GEfectos!$C$4:$I$4,GEfectos!C223:I223),IF(EFECTOS!$N$9=\"GUATEMALA\",LOOKUP(3,GEfectos!$C$4:$I$4,GEfectos!C223:I223),IF(EFECTOS!$N$9=\"HONDURAS\",LOOKUP(4,GEfectos!$C$4:$I$4,GEfectos!C223:I223),IF(EFECTOS!$N$9=\"NICARAGUA\",LOOKUP(5,GEfectos!$C$4:$I$4,GEfectos!C223:I223),IF(EFECTOS!$N$9=\"REPÚBLICA \nDOMINICANA\",LOOKUP(6,$C$4:$I$4,C223:I223),IF(EFECTOS!$N$9=\"PANAMÁ\",LOOKUP(7,GEfectos!$C$4:$I$4,GEfectos!C223:I223))))))))","v":141.02367197783605},{"$f":"IF(EFECTOS!$N$9=\"COSTA RICA\",LOOKUP(1,GEfectos!$J$4:$P$4,GEfectos!J223:P223),IF(EFECTOS!$N$9=\"EL SALVADOR\",LOOKUP(2,GEfectos!$J$4:$P$4,GEfectos!J223:P223),IF(EFECTOS!$N$9=\"GUATEMALA\",LOOKUP(3,GEfectos!$J$4:$P$4,GEfectos!J223:P223),IF(EFECTOS!$N$9=\"HONDURAS\",LOOKUP(4,GEfectos!$J$4:$P$4,GEfectos!J223:P223),IF(EFECTOS!$N$9=\"NICARAGUA\",LOOKUP(5,GEfectos!$J$4:$P$4,GEfectos!J223:P223),IF(EFECTOS!$N$9=\"REPÚBLICA \nDOMINICANA\",LOOKUP(6,$J$4:$P$4,J223:P223),IF(EFECTOS!$N$9=\"PANAMÁ\",LOOKUP(7,GEfectos!$J$4:$P$4,GEfectos!J223:P223))))))))","v":249.2820638928554},{"$f":"IF(EFECTOS!$N$9=\"COSTA RICA\",LOOKUP(1,GEfectos!$Q$4:$W$4,GEfectos!Q223:W223),IF(EFECTOS!$N$9=\"EL SALVADOR\",LOOKUP(2,GEfectos!$Q$4:$W$4,GEfectos!Q223:W223),IF(EFECTOS!$N$9=\"GUATEMALA\",LOOKUP(3,GEfectos!$Q$4:$W$4,GEfectos!Q223:W223),IF(EFECTOS!$N$9=\"HONDURAS\",LOOKUP(4,GEfectos!$Q$4:$W$4,GEfectos!Q223:W223),IF(EFECTOS!$N$9=\"NICARAGUA\",LOOKUP(5,GEfectos!$Q$4:$W$4,GEfectos!Q223:W223),IF(EFECTOS!$N$9=\"REPÚBLICA \nDOMINICANA\",LOOKUP(6,$Q$4:$W$4,Q223:W223),IF(EFECTOS!$N$9=\"PANAMÁ\",LOOKUP(7,GEfectos!$Q$4:$W$4,GEfectos!Q223:W223))))))))","v":176.76611337423813},100]
[null,{"$f":"'ITCER GLOBAL'!B224","v":"Marzo"},{"$f":"'ITCER GLOBAL'!C224","v":77.447669120033964},{"$f":"'ITCER GLOBAL'!D224","v":103.1235714827437},{"$f":"'ITCER GLOBAL'!E224","v":68.124277743845013},{"$f":"'ITCER GLOBAL'!F224","v":86.03289589855747},{"$f":"'ITCER GLOBAL'!G224","v":112.03309572216354},{"$f":"'ITCER GLOBAL'!H224","v":141.30080042727459},{"$f":"'ITCER GLOBAL'!I224","v":101.83566150804975},{"$f":"'ITCER GLOBAL'!S224","v":160.800353402588},{"$f":"'ITCER GLOBAL'!T224","v":96.350556972138449},{"$f":"'ITCER GLOBAL'!U224","v":98.562257175435676},{"$f":"'ITCER GLOBAL'!V224","v":135.37024275412392},{"$f":"'ITCER GLOBAL'!W224","v":188.34387311584265},{"$f":"'ITCER GLOBAL'!X224","v":250.02122768894733},{"$f":"'ITCER GLOBAL'!Y224","v":104.87845697825016},{"$f":"'ITCER GLOBAL'!AA224","v":207.62452276435593},{"$f":"'ITCER GLOBAL'!AB224","v":93.432137373424268},{"$f":"'ITCER GLOBAL'!AC224","v":144.68007653019222},{"$f":"'ITCER GLOBAL'!AD224","v":157.34707211732214},{"$f":"'ITCER GLOBAL'!AE224","v":168.11449500862318},{"$f":"'ITCER GLOBAL'!AF224","v":176.94254167911069},{"$f":"'ITCER GLOBAL'!AG224","v":102.98794687945329},null,{"$f":"IF(EFECTOS!$N$9=\"COSTA RICA\",LOOKUP(1,GEfectos!$C$4:$I$4,GEfectos!C224:I224),IF(EFECTOS!$N$9=\"EL SALVADOR\",LOOKUP(2,GEfectos!$C$4:$I$4,GEfectos!C224:I224),IF(EFECTOS!$N$9=\"GUATEMALA\",LOOKUP(3,GEfectos!$C$4:$I$4,GEfectos!C224:I224),IF(EFECTOS!$N$9=\"HONDURAS\",LOOKUP(4,GEfectos!$C$4:$I$4,GEfectos!C224:I224),IF(EFECTOS!$N$9=\"NICARAGUA\",LOOKUP(5,GEfectos!$C$4:$I$4,GEfectos!C224:I224),IF(EFECTOS!$N$9=\"REPÚBLICA \nDOMINICANA\",LOOKUP(6,$C$4:$I$4,C224:I224),IF(EFECTOS!$N$9=\"PANAMÁ\",LOOKUP(7,GEfectos!$C$4:$I$4,GEfectos!C224:I224))))))))","v":141.30080042727459},{"$f":"IF(EFECTOS!$N$9=\"COSTA RICA\",LOOKUP(1,GEfectos!$J$4:$P$4,GEfectos!J224:P224),IF(EFECTOS!$N$9=\"EL SALVADOR\",LOOKUP(2,GEfectos!$J$4:$P$4,GEfectos!J224:P224),IF(EFECTOS!$N$9=\"GUATEMALA\",LOOKUP(3,GEfectos!$J$4:$P$4,GEfectos!J224:P224),IF(EFECTOS!$N$9=\"HONDURAS\",LOOKUP(4,GEfectos!$J$4:$P$4,GEfectos!J224:P224),IF(EFECTOS!$N$9=\"NICARAGUA\",LOOKUP(5,GEfectos!$J$4:$P$4,GEfectos!J224:P224),IF(EFECTOS!$N$9=\"REPÚBLICA \nDOMINICANA\",LOOKUP(6,$J$4:$P$4,J224:P224),IF(EFECTOS!$N$9=\"PANAMÁ\",LOOKUP(7,GEfectos!$J$4:$P$4,GEfectos!J224:P224))))))))","v":250.02122768894733},{"$f":"IF(EFECTOS!$N$9=\"COSTA RICA\",LOOKUP(1,GEfectos!$Q$4:$W$4,GEfectos!Q224:W224),IF(EFECTOS!$N$9=\"EL SALVADOR\",LOOKUP(2,GEfectos!$Q$4:$W$4,GEfectos!Q224:W224),IF(EFECTOS!$N$9=\"GUATEMALA\",LOOKUP(3,GEfectos!$Q$4:$W$4,GEfectos!Q224:W224),IF(EFECTOS!$N$9=\"HONDURAS\",LOOKUP(4,GEfectos!$Q$4:$W$4,GEfectos!Q224:W224),IF(EFECTOS!$N$9=\"NICARAGUA\",LOOKUP(5,GEfectos!$Q$4:$W$4,GEfectos!Q224:W224),IF(EFECTOS!$N$9=\"REPÚBLICA \nDOMINICANA\",LOOKUP(6,$Q$4:$W$4,Q224:W224),IF(EFECTOS!$N$9=\"PANAMÁ\",LOOKUP(7,GEfectos!$Q$4:$W$4,GEfectos!Q224:W224))))))))","v":176.94254167911069},100]
[null,{"$f":"'ITCER GLOBAL'!B225","v":"Abril"},{"$f":"'ITCER GLOBAL'!C225","v":76.971951639042686},{"$f":"'ITCER GLOBAL'!D225","v":103.94409762381822},{"$f":"'ITCER GLOBAL'!E225","v":67.99955217998199},{"$f":"'ITCER GLOBAL'!F225","v":86.22194633887834},{"$f":"'ITCER GLOBAL'!G225","v":111.56937786366437},{"$f":"'ITCER GLOBAL'!H225","v":141.74085122515476},{"$f":"'ITCER GLOBAL'!I225","v":101.55918127456567},{"$f":"'ITCER GLOBAL'!S225","v":160.97453204746631},{"$f":"'ITCER GLOBAL'!T225","v":96.431679114457992},{"$f":"'ITCER GLOBAL'!U225","v":98.554253677178011},{"$f":"'ITCER GLOBAL'!V225","v":135.99643350306712},{"$f":"'ITCER GLOBAL'!W225","v":188.68620036990876},{"$f":"'ITCER GLOBAL'!X225","v":250.6020179918219},{"$f":"'ITCER GLOBAL'!Y225","v":104.88738882713118},{"$f":"'ITCER GLOBAL'!AA225","v":209.13401390983407},{"$f":"'ITCER GLOBAL'!AB225","v":92.772635790684078},{"$f":"'ITCER GLOBAL'!AC225","v":144.93368046942942},{"$f":"'ITCER GLOBAL'!AD225","v":157.72832704165597},{"$f":"'ITCER GLOBAL'!AE225","v":169.12006142086733},{"$f":"'ITCER GLOBAL'!AF225","v":176.80295823378515},{"$f":"'ITCER GLOBAL'!AG225","v":103.27711144457503},null,{"$f":"IF(EFECTOS!$N$9=\"COSTA RICA\",LOOKUP(1,GEfectos!$C$4:$I$4,GEfectos!C225:I225),IF(EFECTOS!$N$9=\"EL SALVADOR\",LOOKUP(2,GEfectos!$C$4:$I$4,GEfectos!C225:I225),IF(EFECTOS!$N$9=\"GUATEMALA\",LOOKUP(3,GEfectos!$C$4:$I$4,GEfectos!C225:I225),IF(EFECTOS!$N$9=\"HONDURAS\",LOOKUP(4,GEfectos!$C$4:$I$4,GEfectos!C225:I225),IF(EFECTOS!$N$9=\"NICARAGUA\",LOOKUP(5,GEfectos!$C$4:$I$4,GEfectos!C225:I225),IF(EFECTOS!$N$9=\"REPÚBLICA \nDOMINICANA\",LOOKUP(6,$C$4:$I$4,C225:I225),IF(EFECTOS!$N$9=\"PANAMÁ\",LOOKUP(7,GEfectos!$C$4:$I$4,GEfectos!C225:I225))))))))","v":141.74085122515476},{"$f":"IF(EFECTOS!$N$9=\"COSTA RICA\",LOOKUP(1,GEfectos!$J$4:$P$4,GEfectos!J225:P225),IF(EFECTOS!$N$9=\"EL SALVADOR\",LOOKUP(2,GEfectos!$J$4:$P$4,GEfectos!J225:P225),IF(EFECTOS!$N$9=\"GUATEMALA\",LOOKUP(3,GEfectos!$J$4:$P$4,GEfectos!J225:P225),IF(EFECTOS!$N$9=\"HONDURAS\",LOOKUP(4,GEfectos!$J$4:$P$4,GEfectos!J225:P225),IF(EFECTOS!$N$9=\"NICARAGUA\",LOOKUP(5,GEfectos!$J$4:$P$4,GEfectos!J225:P225),IF(EFECTOS!$N$9=\"REPÚBLICA \nDOMINICANA\",LOOKUP(6,$J$4:$P$4,J225:P225),IF(EFECTOS!$N$9=\"PANAMÁ\",LOOKUP(7,GEfectos!$J$4:$P$4,GEfectos!J225:P225))))))))","v":250.6020179918219},{"$f":"IF(EFECTOS!$N$9=\"COSTA RICA\",LOOKUP(1,GEfectos!$Q$4:$W$4,GEfectos!Q225:W225),IF(EFECTOS!$N$9=\"EL SALVADOR\",LOOKUP(2,GEfectos!$Q$4:$W$4,GEfectos!Q225:W225),IF(EFECTOS!$N$9=\"GUATEMALA\",LOOKUP(3,GEfectos!$Q$4:$W$4,GEfectos!Q225:W225),IF(EFECTOS!$N$9=\"HONDURAS\",LOOKUP(4,GEfectos!$Q$4:$W$4,GEfectos!Q225:W225),IF(EFECTOS!$N$9=\"NICARAGUA\",LOOKUP(5,GEfectos!$Q$4:$W$4,GEfectos!Q225:W225),IF(EFECTOS!$N$9=\"REPÚBLICA \nDOMINICANA\",LOOKUP(6,$Q$4:$W$4,Q225:W225),IF(EFECTOS!$N$9=\"PANAMÁ\",LOOKUP(7,GEfectos!$Q$4:$W$4,GEfectos!Q225:W225))))))))","v":176.80295823378515},100]
[null,{"$f":"'ITCER GLOBAL'!B226","v":"Mayo"},{"$f":"'ITCER GLOBAL'!C226","v":76.92394785148548},{"$f":"'ITCER GLOBAL'!D226","v":104.09058122100082},{"$f":"'ITCER GLOBAL'!E226","v":67.672534390499081},{"$f":"'ITCER GLOBAL'!F226","v":86.320531784974619},{"$f":"'ITCER GLOBAL'!G226","v":110.88625046651593},{"$f":"'ITCER GLOBAL'!H226","v":142.01503372958109},{"$f":"'ITCER GLOBAL'!I226","v":100.97878938433018},{"$f":"'ITCER GLOBAL'!S226","v":160.75691128753124},{"$f":"'ITCER GLOBAL'!T226","v":96.286617337283573},{"$f":"'ITCER GLOBAL'!U226","v":98.278810143741651},{"$f":"'ITCER GLOBAL'!V226","v":136.37446253118225},{"$f":"'ITCER GLOBAL'!W226","v":189.36317512214958},{"$f":"'ITCER GLOBAL'!X226","v":250.39689463992931},{"$f":"'ITCER GLOBAL'!Y226","v":104.67275953662268},{"$f":"'ITCER GLOBAL'!AA226","v":208.98161856942039},{"$f":"'ITCER GLOBAL'!AB226","v":92.502718505194821},{"$f":"'ITCER GLOBAL'!AC226","v":145.22702752143351},{"$f":"'ITCER GLOBAL'!AD226","v":157.98612417135297},{"$f":"'ITCER GLOBAL'!AE226","v":170.77245765409947},{"$f":"'ITCER GLOBAL'!AF226","v":176.31717436107806},{"$f":"'ITCER GLOBAL'!AG226","v":103.65816442721754},null,{"$f":"IF(EFECTOS!$N$9=\"COSTA RICA\",LOOKUP(1,GEfectos!$C$4:$I$4,GEfectos!C226:I226),IF(EFECTOS!$N$9=\"EL SALVADOR\",LOOKUP(2,GEfectos!$C$4:$I$4,GEfectos!C226:I226),IF(EFECTOS!$N$9=\"GUATEMALA\",LOOKUP(3,GEfectos!$C$4:$I$4,GEfectos!C226:I226),IF(EFECTOS!$N$9=\"HONDURAS\",LOOKUP(4,GEfectos!$C$4:$I$4,GEfectos!C226:I226),IF(EFECTOS!$N$9=\"NICARAGUA\",LOOKUP(5,GEfectos!$C$4:$I$4,GEfectos!C226:I226),IF(EFECTOS!$N$9=\"REPÚBLICA \nDOMINICANA\",LOOKUP(6,$C$4:$I$4,C226:I226),IF(EFECTOS!$N$9=\"PANAMÁ\",LOOKUP(7,GEfectos!$C$4:$I$4,GEfectos!C226:I226))))))))","v":142.01503372958109},{"$f":"IF(EFECTOS!$N$9=\"COSTA RICA\",LOOKUP(1,GEfectos!$J$4:$P$4,GEfectos!J226:P226),IF(EFECTOS!$N$9=\"EL SALVADOR\",LOOKUP(2,GEfectos!$J$4:$P$4,GEfectos!J226:P226),IF(EFECTOS!$N$9=\"GUATEMALA\",LOOKUP(3,GEfectos!$J$4:$P$4,GEfectos!J226:P226),IF(EFECTOS!$N$9=\"HONDURAS\",LOOKUP(4,GEfectos!$J$4:$P$4,GEfectos!J226:P226),IF(EFECTOS!$N$9=\"NICARAGUA\",LOOKUP(5,GEfectos!$J$4:$P$4,GEfectos!J226:P226),IF(EFECTOS!$N$9=\"REPÚBLICA \nDOMINICANA\",LOOKUP(6,$J$4:$P$4,J226:P226),IF(EFECTOS!$N$9=\"PANAMÁ\",LOOKUP(7,GEfectos!$J$4:$P$4,GEfectos!J226:P226))))))))","v":250.39689463992931},{"$f":"IF(EFECTOS!$N$9=\"COSTA RICA\",LOOKUP(1,GEfectos!$Q$4:$W$4,GEfectos!Q226:W226),IF(EFECTOS!$N$9=\"EL SALVADOR\",LOOKUP(2,GEfectos!$Q$4:$W$4,GEfectos!Q226:W226),IF(EFECTOS!$N$9=\"GUATEMALA\",LOOKUP(3,GEfectos!$Q$4:$W$4,GEfectos!Q226:W226),IF(EFECTOS!$N$9=\"HONDURAS\",LOOKUP(4,GEfectos!$Q$4:$W$4,GEfectos!Q226:W226),IF(EFECTOS!$N$9=\"NICARAGUA\",LOOKUP(5,GEfectos!$Q$4:$W$4,GEfectos!Q226:W226),IF(EFECTOS!$N$9=\"REPÚBLICA \nDOMINICANA\",LOOKUP(6,$Q$4:$W$4,Q226:W226),IF(EFECTOS!$N$9=\"PANAMÁ\",LOOKUP(7,GEfectos!$Q$4:$W$4,GEfectos!Q226:W226))))))))","v":176.31717436107806},100]
[null,{"$f":"'ITCER GLOBAL'!B227","v":"Junio"},{"$f":"'ITCER GLOBAL'!C227","v":76.79455169571257},{"$f":"'ITCER GLOBAL'!D227","v":103.67261854969719},{"$f":"'ITCER GLOBAL'!E227","v":67.213942804422317},{"$f":"'ITCER GLOBAL'!F227","v":86.253197094343264},{"$f":"'ITCER GLOBAL'!G227","v":110.97328919894348},{"$f":"'ITCER GLOBAL'!H227","v":142.94413434147887},{"$f":"'ITCER GLOBAL'!I227","v":100.29518309462436},{"$f":"'ITCER GLOBAL'!S227","v":160.21566633200629},{"$f":"'ITCER GLOBAL'!T227","v":95.859875827961929},{"$f":"'ITCER GLOBAL'!U227","v":98.056639616261521},{"$f":"'ITCER GLOBAL'!V227","v":136.56332287424502},{"$f":"'ITCER GLOBAL'!W227","v":189.54557562732327},{"$f":"'ITCER GLOBAL'!X227","v":251.70604387732629},{"$f":"'ITCER GLOBAL'!Y227","v":104.16893804510248},{"$f":"'ITCER GLOBAL'!AA227","v":208.62894931249548},{"$f":"'ITCER GLOBAL'!AB227","v":92.464024897769818},{"$f":"'ITCER GLOBAL'!AC227","v":145.88734944710004},{"$f":"'ITCER GLOBAL'!AD227","v":158.32841851053107},{"$f":"'ITCER GLOBAL'!AE227","v":170.80288148215746},{"$f":"'ITCER GLOBAL'!AF227","v":176.08700422503969},{"$f":"'ITCER GLOBAL'!AG227","v":103.86235393460861},null,{"$f":"IF(EFECTOS!$N$9=\"COSTA RICA\",LOOKUP(1,GEfectos!$C$4:$I$4,GEfectos!C227:I227),IF(EFECTOS!$N$9=\"EL SALVADOR\",LOOKUP(2,GEfectos!$C$4:$I$4,GEfectos!C227:I227),IF(EFECTOS!$N$9=\"GUATEMALA\",LOOKUP(3,GEfectos!$C$4:$I$4,GEfectos!C227:I227),IF(EFECTOS!$N$9=\"HONDURAS\",LOOKUP(4,GEfectos!$C$4:$I$4,GEfectos!C227:I227),IF(EFECTOS!$N$9=\"NICARAGUA\",LOOKUP(5,GEfectos!$C$4:$I$4,GEfectos!C227:I227),IF(EFECTOS!$N$9=\"REPÚBLICA \nDOMINICANA\",LOOKUP(6,$C$4:$I$4,C227:I227),IF(EFECTOS!$N$9=\"PANAMÁ\",LOOKUP(7,GEfectos!$C$4:$I$4,GEfectos!C227:I227))))))))","v":142.94413434147887},{"$f":"IF(EFECTOS!$N$9=\"COSTA RICA\",LOOKUP(1,GEfectos!$J$4:$P$4,GEfectos!J227:P227),IF(EFECTOS!$N$9=\"EL SALVADOR\",LOOKUP(2,GEfectos!$J$4:$P$4,GEfectos!J227:P227),IF(EFECTOS!$N$9=\"GUATEMALA\",LOOKUP(3,GEfectos!$J$4:$P$4,GEfectos!J227:P227),IF(EFECTOS!$N$9=\"HONDURAS\",LOOKUP(4,GEfectos!$J$4:$P$4,GEfectos!J227:P227),IF(EFECTOS!$N$9=\"NICARAGUA\",LOOKUP(5,GEfectos!$J$4:$P$4,GEfectos!J227:P227),IF(EFECTOS!$N$9=\"REPÚBLICA \nDOMINICANA\",LOOKUP(6,$J$4:$P$4,J227:P227),IF(EFECTOS!$N$9=\"PANAMÁ\",LOOKUP(7,GEfectos!$J$4:$P$4,GEfectos!J227:P227))))))))","v":251.70604387732629},{"$f":"IF(EFECTOS!$N$9=\"COSTA RICA\",LOOKUP(1,GEfectos!$Q$4:$W$4,GEfectos!Q227:W227),IF(EFECTOS!$N$9=\"EL SALVADOR\",LOOKUP(2,GEfectos!$Q$4:$W$4,GEfectos!Q227:W227),IF(EFECTOS!$N$9=\"GUATEMALA\",LOOKUP(3,GEfectos!$Q$4:$W$4,GEfectos!Q227:W227),IF(EFECTOS!$N$9=\"HONDURAS\",LOOKUP(4,GEfectos!$Q$4:$W$4,GEfectos!Q227:W227),IF(EFECTOS!$N$9=\"NICARAGUA\",LOOKUP(5,GEfectos!$Q$4:$W$4,GEfectos!Q227:W227),IF(EFECTOS!$N$9=\"REPÚBLICA \nDOMINICANA\",LOOKUP(6,$Q$4:$W$4,Q227:W227),IF(EFECTOS!$N$9=\"PANAMÁ\",LOOKUP(7,GEfectos!$Q$4:$W$4,GEfectos!Q227:W227))))))))","v":176.08700422503969},100]
[null,{"$f":"'ITCER GLOBAL'!B228","v":"Julio"},{"$f":"'ITCER GLOBAL'!C228","v":76.390633831240422},{"$f":"'ITCER GLOBAL'!D228","v":103.78833717830592},{"$f":"'ITCER GLOBAL'!E228","v":67.073436688607529},{"$f":"'ITCER GLOBAL'!F228","v":86.145506365701195},{"$f":"'ITCER GLOBAL'!G228","v":111.91674470833625},{"$f":"'ITCER GLOBAL'!H228","v":143.44810248356163},{"$f":"'ITCER GLOBAL'!I228","v":99.912869943059988},{"$f":"'ITCER GLOBAL'!S228","v":159.90480310355412},{"$f":"'ITCER GLOBAL'!T228","v":95.768562628364378},{"$f":"'ITCER GLOBAL'!U228","v":98.119541717541608},{"$f":"'ITCER GLOBAL'!V228","v":136.9676503692622},{"$f":"'ITCER GLOBAL'!W228","v":190.43485112606555},{"$f":"'ITCER GLOBAL'!X228","v":254.1569983961958},{"$f":"'ITCER GLOBAL'!Y228","v":104.03015095667665},{"$f":"'ITCER GLOBAL'!AA228","v":209.32514247336965},{"$f":"'ITCER GLOBAL'!AB228","v":92.272952079226627},{"$f":"'ITCER GLOBAL'!AC228","v":146.28673668991718},{"$f":"'ITCER GLOBAL'!AD228","v":158.99569942489285},{"$f":"'ITCER GLOBAL'!AE228","v":170.15760387094318},{"$f":"'ITCER GLOBAL'!AF228","v":177.17696783428752},{"$f":"'ITCER GLOBAL'!AG228","v":104.12087153132833},null,{"$f":"IF(EFECTOS!$N$9=\"COSTA RICA\",LOOKUP(1,GEfectos!$C$4:$I$4,GEfectos!C228:I228),IF(EFECTOS!$N$9=\"EL SALVADOR\",LOOKUP(2,GEfectos!$C$4:$I$4,GEfectos!C228:I228),IF(EFECTOS!$N$9=\"GUATEMALA\",LOOKUP(3,GEfectos!$C$4:$I$4,GEfectos!C228:I228),IF(EFECTOS!$N$9=\"HONDURAS\",LOOKUP(4,GEfectos!$C$4:$I$4,GEfectos!C228:I228),IF(EFECTOS!$N$9=\"NICARAGUA\",LOOKUP(5,GEfectos!$C$4:$I$4,GEfectos!C228:I228),IF(EFECTOS!$N$9=\"REPÚBLICA \nDOMINICANA\",LOOKUP(6,$C$4:$I$4,C228:I228),IF(EFECTOS!$N$9=\"PANAMÁ\",LOOKUP(7,GEfectos!$C$4:$I$4,GEfectos!C228:I228))))))))","v":143.44810248356163},{"$f":"IF(EFECTOS!$N$9=\"COSTA RICA\",LOOKUP(1,GEfectos!$J$4:$P$4,GEfectos!J228:P228),IF(EFECTOS!$N$9=\"EL SALVADOR\",LOOKUP(2,GEfectos!$J$4:$P$4,GEfectos!J228:P228),IF(EFECTOS!$N$9=\"GUATEMALA\",LOOKUP(3,GEfectos!$J$4:$P$4,GEfectos!J228:P228),IF(EFECTOS!$N$9=\"HONDURAS\",LOOKUP(4,GEfectos!$J$4:$P$4,GEfectos!J228:P228),IF(EFECTOS!$N$9=\"NICARAGUA\",LOOKUP(5,GEfectos!$J$4:$P$4,GEfectos!J228:P228),IF(EFECTOS!$N$9=\"REPÚBLICA \nDOMINICANA\",LOOKUP(6,$J$4:$P$4,J228:P228),IF(EFECTOS!$N$9=\"PANAMÁ\",LOOKUP(7,GEfectos!$J$4:$P$4,GEfectos!J228:P228))))))))","v":254.1569983961958},{"$f":"IF(EFECTOS!$N$9=\"COSTA RICA\",LOOKUP(1,GEfectos!$Q$4:$W$4,GEfectos!Q228:W228),IF(EFECTOS!$N$9=\"EL SALVADOR\",LOOKUP(2,GEfectos!$Q$4:$W$4,GEfectos!Q228:W228),IF(EFECTOS!$N$9=\"GUATEMALA\",LOOKUP(3,GEfectos!$Q$4:$W$4,GEfectos!Q228:W228),IF(EFECTOS!$N$9=\"HONDURAS\",LOOKUP(4,GEfectos!$Q$4:$W$4,GEfectos!Q228:W228),IF(EFECTOS!$N$9=\"NICARAGUA\",LOOKUP(5,GEfectos!$Q$4:$W$4,GEfectos!Q228:W228),IF(EFECTOS!$N$9=\"REPÚBLICA \nDOMINICANA\",LOOKUP(6,$Q$4:$W$4,Q228:W228),IF(EFECTOS!$N$9=\"PANAMÁ\",LOOKUP(7,GEfectos!$Q$4:$W$4,GEfectos!Q228:W228))))))))","v":177.17696783428752},100]
[null,{"$f":"'ITCER GLOBAL'!B229","v":"Agosto"},{"$f":"'ITCER GLOBAL'!C229","v":76.582437085862921},{"$f":"'ITCER GLOBAL'!D229","v":103.78080378943086},{"$f":"'ITCER GLOBAL'!E229","v":67.770519131866394},{"$f":"'ITCER GLOBAL'!F229","v":86.025942351120193},{"$f":"'ITCER GLOBAL'!G229","v":111.98419069471234},{"$f":"'ITCER GLOBAL'!H229","v":144.43104075474284},{"$f":"'ITCER GLOBAL'!I229","v":99.951456578708417},{"$f":"'ITCER GLOBAL'!S229","v":160.05933358936682},{"$f":"'ITCER GLOBAL'!T229","v":95.646646997479394},{"$f":"'ITCER GLOBAL'!U229","v":99.084906917930411},{"$f":"'ITCER GLOBAL'!V229","v":137.07470022055924},{"$f":"'ITCER GLOBAL'!W229","v":191.1703441927101},{"$f":"'ITCER GLOBAL'!X229","v":257.11059630477115},{"$f":"'ITCER GLOBAL'!Y229","v":104.15266664119751},{"$f":"'ITCER GLOBAL'!AA229","v":209.00266390048549},{"$f":"'ITCER GLOBAL'!AB229","v":92.162175956494309},{"$f":"'ITCER GLOBAL'!AC229","v":146.20650422513833},{"$f":"'ITCER GLOBAL'!AD229","v":159.34112021822483},{"$f":"'ITCER GLOBAL'!AE229","v":170.7119040703455},{"$f":"'ITCER GLOBAL'!AF229","v":178.016162565337},{"$f":"'ITCER GLOBAL'!AG229","v":104.2032504640698},null,{"$f":"IF(EFECTOS!$N$9=\"COSTA RICA\",LOOKUP(1,GEfectos!$C$4:$I$4,GEfectos!C229:I229),IF(EFECTOS!$N$9=\"EL SALVADOR\",LOOKUP(2,GEfectos!$C$4:$I$4,GEfectos!C229:I229),IF(EFECTOS!$N$9=\"GUATEMALA\",LOOKUP(3,GEfectos!$C$4:$I$4,GEfectos!C229:I229),IF(EFECTOS!$N$9=\"HONDURAS\",LOOKUP(4,GEfectos!$C$4:$I$4,GEfectos!C229:I229),IF(EFECTOS!$N$9=\"NICARAGUA\",LOOKUP(5,GEfectos!$C$4:$I$4,GEfectos!C229:I229),IF(EFECTOS!$N$9=\"REPÚBLICA \nDOMINICANA\",LOOKUP(6,$C$4:$I$4,C229:I229),IF(EFECTOS!$N$9=\"PANAMÁ\",LOOKUP(7,GEfectos!$C$4:$I$4,GEfectos!C229:I229))))))))","v":144.43104075474284},{"$f":"IF(EFECTOS!$N$9=\"COSTA RICA\",LOOKUP(1,GEfectos!$J$4:$P$4,GEfectos!J229:P229),IF(EFECTOS!$N$9=\"EL SALVADOR\",LOOKUP(2,GEfectos!$J$4:$P$4,GEfectos!J229:P229),IF(EFECTOS!$N$9=\"GUATEMALA\",LOOKUP(3,GEfectos!$J$4:$P$4,GEfectos!J229:P229),IF(EFECTOS!$N$9=\"HONDURAS\",LOOKUP(4,GEfectos!$J$4:$P$4,GEfectos!J229:P229),IF(EFECTOS!$N$9=\"NICARAGUA\",LOOKUP(5,GEfectos!$J$4:$P$4,GEfectos!J229:P229),IF(EFECTOS!$N$9=\"REPÚBLICA \nDOMINICANA\",LOOKUP(6,$J$4:$P$4,J229:P229),IF(EFECTOS!$N$9=\"PANAMÁ\",LOOKUP(7,GEfectos!$J$4:$P$4,GEfectos!J229:P229))))))))","v":257.11059630477115},{"$f":"IF(EFECTOS!$N$9=\"COSTA RICA\",LOOKUP(1,GEfectos!$Q$4:$W$4,GEfectos!Q229:W229),IF(EFECTOS!$N$9=\"EL SALVADOR\",LOOKUP(2,GEfectos!$Q$4:$W$4,GEfectos!Q229:W229),IF(EFECTOS!$N$9=\"GUATEMALA\",LOOKUP(3,GEfectos!$Q$4:$W$4,GEfectos!Q229:W229),IF(EFECTOS!$N$9=\"HONDURAS\",LOOKUP(4,GEfectos!$Q$4:$W$4,GEfectos!Q229:W229),IF(EFECTOS!$N$9=\"NICARAGUA\",LOOKUP(5,GEfectos!$Q$4:$W$4,GEfectos!Q229:W229),IF(EFECTOS!$N$9=\"REPÚBLICA \nDOMINICANA\",LOOKUP(6,$Q$4:$W$4,Q229:W229),IF(EFECTOS!$N$9=\"PANAMÁ\",LOOKUP(7,GEfectos!$Q$4:$W$4,GEfectos!Q229:W229))))))))","v":178.016162565337},100]
[null,{"$f":"'ITCER GLOBAL'!B230","v":"Septiembre"},{"$f":"'ITCER GLOBAL'!C230","v":76.973903802610167},{"$f":"'ITCER GLOBAL'!D230","v":103.721163762245},{"$f":"'ITCER GLOBAL'!E230","v":68.039978544661366},{"$f":"'ITCER GLOBAL'!F230","v":86.192026285911155},{"$f":"'ITCER GLOBAL'!G230","v":112.61349432876071},{"$f":"'ITCER GLOBAL'!H230","v":144.94874128588859},{"$f":"'ITCER GLOBAL'!I230","v":100.22524240781058},{"$f":"'ITCER GLOBAL'!S230","v":160.66346976038062},{"$f":"'ITCER GLOBAL'!T230","v":95.527420886758108},{"$f":"'ITCER GLOBAL'!U230","v":99.527382148483213},{"$f":"'ITCER GLOBAL'!V230","v":137.43162200989832},{"$f":"'ITCER GLOBAL'!W230","v":191.92306071843683},{"$f":"'ITCER GLOBAL'!X230","v":258.63201790631842},{"$f":"'ITCER GLOBAL'!Y230","v":104.20574753961289},{"$f":"'ITCER GLOBAL'!AA230","v":208.72459602982033},{"$f":"'ITCER GLOBAL'!AB230","v":92.10022084377205},{"$f":"'ITCER GLOBAL'!AC230","v":146.2777976673722},{"$f":"'ITCER GLOBAL'!AD230","v":159.448185559553},{"$f":"'ITCER GLOBAL'!AE230","v":170.42634354115856},{"$f":"'ITCER GLOBAL'!AF230","v":178.42998539477307},{"$f":"'ITCER GLOBAL'!AG230","v":103.97155949556686},null,{"$f":"IF(EFECTOS!$N$9=\"COSTA RICA\",LOOKUP(1,GEfectos!$C$4:$I$4,GEfectos!C230:I230),IF(EFECTOS!$N$9=\"EL SALVADOR\",LOOKUP(2,GEfectos!$C$4:$I$4,GEfectos!C230:I230),IF(EFECTOS!$N$9=\"GUATEMALA\",LOOKUP(3,GEfectos!$C$4:$I$4,GEfectos!C230:I230),IF(EFECTOS!$N$9=\"HONDURAS\",LOOKUP(4,GEfectos!$C$4:$I$4,GEfectos!C230:I230),IF(EFECTOS!$N$9=\"NICARAGUA\",LOOKUP(5,GEfectos!$C$4:$I$4,GEfectos!C230:I230),IF(EFECTOS!$N$9=\"REPÚBLICA \nDOMINICANA\",LOOKUP(6,$C$4:$I$4,C230:I230),IF(EFECTOS!$N$9=\"PANAMÁ\",LOOKUP(7,GEfectos!$C$4:$I$4,GEfectos!C230:I230))))))))","v":144.94874128588859},{"$f":"IF(EFECTOS!$N$9=\"COSTA RICA\",LOOKUP(1,GEfectos!$J$4:$P$4,GEfectos!J230:P230),IF(EFECTOS!$N$9=\"EL SALVADOR\",LOOKUP(2,GEfectos!$J$4:$P$4,GEfectos!J230:P230),IF(EFECTOS!$N$9=\"GUATEMALA\",LOOKUP(3,GEfectos!$J$4:$P$4,GEfectos!J230:P230),IF(EFECTOS!$N$9=\"HONDURAS\",LOOKUP(4,GEfectos!$J$4:$P$4,GEfectos!J230:P230),IF(EFECTOS!$N$9=\"NICARAGUA\",LOOKUP(5,GEfectos!$J$4:$P$4,GEfectos!J230:P230),IF(EFECTOS!$N$9=\"REPÚBLICA \nDOMINICANA\",LOOKUP(6,$J$4:$P$4,J230:P230),IF(EFECTOS!$N$9=\"PANAMÁ\",LOOKUP(7,GEfectos!$J$4:$P$4,GEfectos!J230:P230))))))))","v":258.63201790631842},{"$f":"IF(EFECTOS!$N$9=\"COSTA RICA\",LOOKUP(1,GEfectos!$Q$4:$W$4,GEfectos!Q230:W230),IF(EFECTOS!$N$9=\"EL SALVADOR\",LOOKUP(2,GEfectos!$Q$4:$W$4,GEfectos!Q230:W230),IF(EFECTOS!$N$9=\"GUATEMALA\",LOOKUP(3,GEfectos!$Q$4:$W$4,GEfectos!Q230:W230),IF(EFECTOS!$N$9=\"HONDURAS\",LOOKUP(4,GEfectos!$Q$4:$W$4,GEfectos!Q230:W230),IF(EFECTOS!$N$9=\"NICARAGUA\",LOOKUP(5,GEfectos!$Q$4:$W$4,GEfectos!Q230:W230),IF(EFECTOS!$N$9=\"REPÚBLICA \nDOMINICANA\",LOOKUP(6,$Q$4:$W$4,Q230:W230),IF(EFECTOS!$N$9=\"PANAMÁ\",LOOKUP(7,GEfectos!$Q$4:$W$4,GEfectos!Q230:W230))))))))","v":178.42998539477307},100]
[null,{"$f":"'ITCER GLOBAL'!B231","v":"Octubre"},{"$f":"'ITCER GLOBAL'!C231","v":77.626422373122338},{"$f":"'ITCER GLOBAL'!D231","v":104.00162317795277},{"$f":"'ITCER GLOBAL'!E231","v":68.370450911651531},{"$f":"'ITCER GLOBAL'!F231","v":86.327071316224178},{"$f":"'ITCER GLOBAL'!G231","v":113.48874747437189},{"$f":"'ITCER GLOBAL'!H231","v":145.00564856379222},{"$f":"'ITCER GLOBAL'!I231","v":100.57596775264126},{"$f":"'ITCER GLOBAL'!S231","v":160.95825407701955},{"$f":"'ITCER GLOBAL'!T231","v":95.758889847947714},{"$f":"'ITCER GLOBAL'!U231","v":100.09054268674365},{"$f":"'ITCER GLOBAL'!V231","v":138.00851918051958},{"$f":"'ITCER GLOBAL'!W231","v":193.65273347602272},{"$f":"'ITCER GLOBAL'!X231","v":258.65285231544442},{"$f":"'ITCER GLOBAL'!Y231","v":104.86586239641682},{"$f":"'ITCER GLOBAL'!AA231","v":207.34982903546813},{"$f":"'ITCER GLOBAL'!AB231","v":92.074418573351238},{"$f":"'ITCER GLOBAL'!AC231","v":146.39444577611587},{"$f":"'ITCER GLOBAL'!AD231","v":159.86702325969267},{"$f":"'ITCER GLOBAL'!AE231","v":170.63606550046163},{"$f":"'ITCER GLOBAL'!AF231","v":178.37432877772034},{"$f":"'ITCER GLOBAL'!AG231","v":104.26532773149766},null,{"$f":"IF(EFECTOS!$N$9=\"COSTA RICA\",LOOKUP(1,GEfectos!$C$4:$I$4,GEfectos!C231:I231),IF(EFECTOS!$N$9=\"EL SALVADOR\",LOOKUP(2,GEfectos!$C$4:$I$4,GEfectos!C231:I231),IF(EFECTOS!$N$9=\"GUATEMALA\",LOOKUP(3,GEfectos!$C$4:$I$4,GEfectos!C231:I231),IF(EFECTOS!$N$9=\"HONDURAS\",LOOKUP(4,GEfectos!$C$4:$I$4,GEfectos!C231:I231),IF(EFECTOS!$N$9=\"NICARAGUA\",LOOKUP(5,GEfectos!$C$4:$I$4,GEfectos!C231:I231),IF(EFECTOS!$N$9=\"REPÚBLICA \nDOMINICANA\",LOOKUP(6,$C$4:$I$4,C231:I231),IF(EFECTOS!$N$9=\"PANAMÁ\",LOOKUP(7,GEfectos!$C$4:$I$4,GEfectos!C231:I231))))))))","v":145.00564856379222},{"$f":"IF(EFECTOS!$N$9=\"COSTA RICA\",LOOKUP(1,GEfectos!$J$4:$P$4,GEfectos!J231:P231),IF(EFECTOS!$N$9=\"EL SALVADOR\",LOOKUP(2,GEfectos!$J$4:$P$4,GEfectos!J231:P231),IF(EFECTOS!$N$9=\"GUATEMALA\",LOOKUP(3,GEfectos!$J$4:$P$4,GEfectos!J231:P231),IF(EFECTOS!$N$9=\"HONDURAS\",LOOKUP(4,GEfectos!$J$4:$P$4,GEfectos!J231:P231),IF(EFECTOS!$N$9=\"NICARAGUA\",LOOKUP(5,GEfectos!$J$4:$P$4,GEfectos!J231:P231),IF(EFECTOS!$N$9=\"REPÚBLICA \nDOMINICANA\",LOOKUP(6,$J$4:$P$4,J231:P231),IF(EFECTOS!$N$9=\"PANAMÁ\",LOOKUP(7,GEfectos!$J$4:$P$4,GEfectos!J231:P231))))))))","v":258.65285231544442},{"$f":"IF(EFECTOS!$N$9=\"COSTA RICA\",LOOKUP(1,GEfectos!$Q$4:$W$4,GEfectos!Q231:W231),IF(EFECTOS!$N$9=\"EL SALVADOR\",LOOKUP(2,GEfectos!$Q$4:$W$4,GEfectos!Q231:W231),IF(EFECTOS!$N$9=\"GUATEMALA\",LOOKUP(3,GEfectos!$Q$4:$W$4,GEfectos!Q231:W231),IF(EFECTOS!$N$9=\"HONDURAS\",LOOKUP(4,GEfectos!$Q$4:$W$4,GEfectos!Q231:W231),IF(EFECTOS!$N$9=\"NICARAGUA\",LOOKUP(5,GEfectos!$Q$4:$W$4,GEfectos!Q231:W231),IF(EFECTOS!$N$9=\"REPÚBLICA \nDOMINICANA\",LOOKUP(6,$Q$4:$W$4,Q231:W231),IF(EFECTOS!$N$9=\"PANAMÁ\",LOOKUP(7,GEfectos!$Q$4:$W$4,GEfectos!Q231:W231))))))))","v":178.37432877772034},100]
[null,{"$f":"'ITCER GLOBAL'!B232","v":"Noviembre"},{"$f":"'ITCER GLOBAL'!C232","v":77.183141947420751},{"$f":"'ITCER GLOBAL'!D232","v":103.83037509921637},{"$f":"'ITCER GLOBAL'!E232","v":67.342260073504249},{"$f":"'ITCER GLOBAL'!F232","v":85.996204350352443},{"$f":"'ITCER GLOBAL'!G232","v":113.04568307157783},{"$f":"'ITCER GLOBAL'!H232","v":144.4391057611017},{"$f":"'ITCER GLOBAL'!I232","v":100.04380312698132},{"$f":"'ITCER GLOBAL'!S232","v":160.34661003958402},{"$f":"'ITCER GLOBAL'!T232","v":95.624645129563206},{"$f":"'ITCER GLOBAL'!U232","v":98.995608162537195},{"$f":"'ITCER GLOBAL'!V232","v":137.84152105894023},{"$f":"'ITCER GLOBAL'!W232","v":193.61467416070261},{"$f":"'ITCER GLOBAL'!X232","v":257.94253085554993},{"$f":"'ITCER GLOBAL'!Y232","v":104.38951409265707},{"$f":"'ITCER GLOBAL'!AA232","v":207.748228426379},{"$f":"'ITCER GLOBAL'!AB232","v":92.096985143497662},{"$f":"'ITCER GLOBAL'!AC232","v":147.0036913737128},{"$f":"'ITCER GLOBAL'!AD232","v":160.2879128215562},{"$f":"'ITCER GLOBAL'!AE232","v":171.27117896055387},{"$f":"'ITCER GLOBAL'!AF232","v":178.58219870329285},{"$f":"'ITCER GLOBAL'!AG232","v":104.34380824183576},null,{"$f":"IF(EFECTOS!$N$9=\"COSTA RICA\",LOOKUP(1,GEfectos!$C$4:$I$4,GEfectos!C232:I232),IF(EFECTOS!$N$9=\"EL SALVADOR\",LOOKUP(2,GEfectos!$C$4:$I$4,GEfectos!C232:I232),IF(EFECTOS!$N$9=\"GUATEMALA\",LOOKUP(3,GEfectos!$C$4:$I$4,GEfectos!C232:I232),IF(EFECTOS!$N$9=\"HONDURAS\",LOOKUP(4,GEfectos!$C$4:$I$4,GEfectos!C232:I232),IF(EFECTOS!$N$9=\"NICARAGUA\",LOOKUP(5,GEfectos!$C$4:$I$4,GEfectos!C232:I232),IF(EFECTOS!$N$9=\"REPÚBLICA \nDOMINICANA\",LOOKUP(6,$C$4:$I$4,C232:I232),IF(EFECTOS!$N$9=\"PANAMÁ\",LOOKUP(7,GEfectos!$C$4:$I$4,GEfectos!C232:I232))))))))","v":144.4391057611017},{"$f":"IF(EFECTOS!$N$9=\"COSTA RICA\",LOOKUP(1,GEfectos!$J$4:$P$4,GEfectos!J232:P232),IF(EFECTOS!$N$9=\"EL SALVADOR\",LOOKUP(2,GEfectos!$J$4:$P$4,GEfectos!J232:P232),IF(EFECTOS!$N$9=\"GUATEMALA\",LOOKUP(3,GEfectos!$J$4:$P$4,GEfectos!J232:P232),IF(EFECTOS!$N$9=\"HONDURAS\",LOOKUP(4,GEfectos!$J$4:$P$4,GEfectos!J232:P232),IF(EFECTOS!$N$9=\"NICARAGUA\",LOOKUP(5,GEfectos!$J$4:$P$4,GEfectos!J232:P232),IF(EFECTOS!$N$9=\"REPÚBLICA \nDOMINICANA\",LOOKUP(6,$J$4:$P$4,J232:P232),IF(EFECTOS!$N$9=\"PANAMÁ\",LOOKUP(7,GEfectos!$J$4:$P$4,GEfectos!J232:P232))))))))","v":257.94253085554993},{"$f":"IF(EFECTOS!$N$9=\"COSTA RICA\",LOOKUP(1,GEfectos!$Q$4:$W$4,GEfectos!Q232:W232),IF(EFECTOS!$N$9=\"EL SALVADOR\",LOOKUP(2,GEfectos!$Q$4:$W$4,GEfectos!Q232:W232),IF(EFECTOS!$N$9=\"GUATEMALA\",LOOKUP(3,GEfectos!$Q$4:$W$4,GEfectos!Q232:W232),IF(EFECTOS!$N$9=\"HONDURAS\",LOOKUP(4,GEfectos!$Q$4:$W$4,GEfectos!Q232:W232),IF(EFECTOS!$N$9=\"NICARAGUA\",LOOKUP(5,GEfectos!$Q$4:$W$4,GEfectos!Q232:W232),IF(EFECTOS!$N$9=\"REPÚBLICA \nDOMINICANA\",LOOKUP(6,$Q$4:$W$4,Q232:W232),IF(EFECTOS!$N$9=\"PANAMÁ\",LOOKUP(7,GEfectos!$Q$4:$W$4,GEfectos!Q232:W232))))))))","v":178.58219870329285},100]
[null,{"$f":"'ITCER GLOBAL'!B233","v":"Diciembre"},{"$f":"'ITCER GLOBAL'!C233","v":76.981586112810817},{"$f":"'ITCER GLOBAL'!D233","v":104.12608965042628},{"$f":"'ITCER GLOBAL'!E233","v":66.982936858434826},{"$f":"'ITCER GLOBAL'!F233","v":86.224882991150423},{"$f":"'ITCER GLOBAL'!G233","v":112.15136000625357},{"$f":"'ITCER GLOBAL'!H233","v":144.72249953736531},{"$f":"'ITCER GLOBAL'!I233","v":100.00756712993872},{"$f":"'ITCER GLOBAL'!S233","v":160.45989591874655},{"$f":"'ITCER GLOBAL'!T233","v":95.675534601560415},{"$f":"'ITCER GLOBAL'!U233","v":98.586300663655962},{"$f":"'ITCER GLOBAL'!V233","v":138.38363973097557},{"$f":"'ITCER GLOBAL'!W233","v":193.71587895946749},{"$f":"'ITCER GLOBAL'!X233","v":258.98990252760143},{"$f":"'ITCER GLOBAL'!Y233","v":104.4193015699997},{"$f":"'ITCER GLOBAL'!AA233","v":208.4393216887016},{"$f":"'ITCER GLOBAL'!AB233","v":91.884305770785986},{"$f":"'ITCER GLOBAL'!AC233","v":147.18121552659494},{"$f":"'ITCER GLOBAL'!AD233","v":160.49153670081338},{"$f":"'ITCER GLOBAL'!AE233","v":172.72717776107743},{"$f":"'ITCER GLOBAL'!AF233","v":178.9562116156886},{"$f":"'ITCER GLOBAL'!AG233","v":104.41140062364367},null,{"$f":"IF(EFECTOS!$N$9=\"COSTA RICA\",LOOKUP(1,GEfectos!$C$4:$I$4,GEfectos!C233:I233),IF(EFECTOS!$N$9=\"EL SALVADOR\",LOOKUP(2,GEfectos!$C$4:$I$4,GEfectos!C233:I233),IF(EFECTOS!$N$9=\"GUATEMALA\",LOOKUP(3,GEfectos!$C$4:$I$4,GEfectos!C233:I233),IF(EFECTOS!$N$9=\"HONDURAS\",LOOKUP(4,GEfectos!$C$4:$I$4,GEfectos!C233:I233),IF(EFECTOS!$N$9=\"NICARAGUA\",LOOKUP(5,GEfectos!$C$4:$I$4,GEfectos!C233:I233),IF(EFECTOS!$N$9=\"REPÚBLICA \nDOMINICANA\",LOOKUP(6,$C$4:$I$4,C233:I233),IF(EFECTOS!$N$9=\"PANAMÁ\",LOOKUP(7,GEfectos!$C$4:$I$4,GEfectos!C233:I233))))))))","v":144.72249953736531},{"$f":"IF(EFECTOS!$N$9=\"COSTA RICA\",LOOKUP(1,GEfectos!$J$4:$P$4,GEfectos!J233:P233),IF(EFECTOS!$N$9=\"EL SALVADOR\",LOOKUP(2,GEfectos!$J$4:$P$4,GEfectos!J233:P233),IF(EFECTOS!$N$9=\"GUATEMALA\",LOOKUP(3,GEfectos!$J$4:$P$4,GEfectos!J233:P233),IF(EFECTOS!$N$9=\"HONDURAS\",LOOKUP(4,GEfectos!$J$4:$P$4,GEfectos!J233:P233),IF(EFECTOS!$N$9=\"NICARAGUA\",LOOKUP(5,GEfectos!$J$4:$P$4,GEfectos!J233:P233),IF(EFECTOS!$N$9=\"REPÚBLICA \nDOMINICANA\",LOOKUP(6,$J$4:$P$4,J233:P233),IF(EFECTOS!$N$9=\"PANAMÁ\",LOOKUP(7,GEfectos!$J$4:$P$4,GEfectos!J233:P233))))))))","v":258.98990252760143},{"$f":"IF(EFECTOS!$N$9=\"COSTA RICA\",LOOKUP(1,GEfectos!$Q$4:$W$4,GEfectos!Q233:W233),IF(EFECTOS!$N$9=\"EL SALVADOR\",LOOKUP(2,GEfectos!$Q$4:$W$4,GEfectos!Q233:W233),IF(EFECTOS!$N$9=\"GUATEMALA\",LOOKUP(3,GEfectos!$Q$4:$W$4,GEfectos!Q233:W233),IF(EFECTOS!$N$9=\"HONDURAS\",LOOKUP(4,GEfectos!$Q$4:$W$4,GEfectos!Q233:W233),IF(EFECTOS!$N$9=\"NICARAGUA\",LOOKUP(5,GEfectos!$Q$4:$W$4,GEfectos!Q233:W233),IF(EFECTOS!$N$9=\"REPÚBLICA \nDOMINICANA\",LOOKUP(6,$Q$4:$W$4,Q233:W233),IF(EFECTOS!$N$9=\"PANAMÁ\",LOOKUP(7,GEfectos!$Q$4:$W$4,GEfectos!Q233:W233))))))))","v":178.9562116156886},100]
[2014,{"$f":"'ITCER GLOBAL'!B234","v":"Enero"},{"$f":"'ITCER GLOBAL'!C234","v":76.976287303246352},{"$f":"'ITCER GLOBAL'!D234","v":103.74668191201732},{"$f":"'ITCER GLOBAL'!E234","v":66.999578929585667},{"$f":"'ITCER GLOBAL'!F234","v":84.957713962966665},{"$f":"'ITCER GLOBAL'!G234","v":112.88363226834291},{"$f":"'ITCER GLOBAL'!H234","v":144.88087030488069},{"$f":"'ITCER GLOBAL'!I234","v":100.45689991378458},{"$f":"'ITCER GLOBAL'!S234","v":161.76408409098423},{"$f":"'ITCER GLOBAL'!T234","v":95.398675273954652},{"$f":"'ITCER GLOBAL'!U234","v":98.306274219826889},{"$f":"'ITCER GLOBAL'!V234","v":137.34961737678429},{"$f":"'ITCER GLOBAL'!W234","v":195.12318582693382},{"$f":"'ITCER GLOBAL'!X234","v":262.00612504952301},{"$f":"'ITCER GLOBAL'!Y234","v":105.55507082625282},{"$f":"'ITCER GLOBAL'!AA234","v":210.14794264332113},{"$f":"'ITCER GLOBAL'!AB234","v":91.953471200994912},{"$f":"'ITCER GLOBAL'!AC234","v":146.72670454114871},{"$f":"'ITCER GLOBAL'!AD234","v":161.66821230224656},{"$f":"'ITCER GLOBAL'!AE234","v":172.85339061653687},{"$f":"'ITCER GLOBAL'!AF234","v":180.84245663224502},{"$f":"'ITCER GLOBAL'!AG234","v":105.07498331806342},null,{"$f":"IF(EFECTOS!$N$9=\"COSTA RICA\",LOOKUP(1,GEfectos!$C$4:$I$4,GEfectos!C234:I234),IF(EFECTOS!$N$9=\"EL SALVADOR\",LOOKUP(2,GEfectos!$C$4:$I$4,GEfectos!C234:I234),IF(EFECTOS!$N$9=\"GUATEMALA\",LOOKUP(3,GEfectos!$C$4:$I$4,GEfectos!C234:I234),IF(EFECTOS!$N$9=\"HONDURAS\",LOOKUP(4,GEfectos!$C$4:$I$4,GEfectos!C234:I234),IF(EFECTOS!$N$9=\"NICARAGUA\",LOOKUP(5,GEfectos!$C$4:$I$4,GEfectos!C234:I234),IF(EFECTOS!$N$9=\"REPÚBLICA \nDOMINICANA\",LOOKUP(6,$C$4:$I$4,C234:I234),IF(EFECTOS!$N$9=\"PANAMÁ\",LOOKUP(7,GEfectos!$C$4:$I$4,GEfectos!C234:I234))))))))","v":144.88087030488069},{"$f":"IF(EFECTOS!$N$9=\"COSTA RICA\",LOOKUP(1,GEfectos!$J$4:$P$4,GEfectos!J234:P234),IF(EFECTOS!$N$9=\"EL SALVADOR\",LOOKUP(2,GEfectos!$J$4:$P$4,GEfectos!J234:P234),IF(EFECTOS!$N$9=\"GUATEMALA\",LOOKUP(3,GEfectos!$J$4:$P$4,GEfectos!J234:P234),IF(EFECTOS!$N$9=\"HONDURAS\",LOOKUP(4,GEfectos!$J$4:$P$4,GEfectos!J234:P234),IF(EFECTOS!$N$9=\"NICARAGUA\",LOOKUP(5,GEfectos!$J$4:$P$4,GEfectos!J234:P234),IF(EFECTOS!$N$9=\"REPÚBLICA \nDOMINICANA\",LOOKUP(6,$J$4:$P$4,J234:P234),IF(EFECTOS!$N$9=\"PANAMÁ\",LOOKUP(7,GEfectos!$J$4:$P$4,GEfectos!J234:P234))))))))","v":262.00612504952301},{"$f":"IF(EFECTOS!$N$9=\"COSTA RICA\",LOOKUP(1,GEfectos!$Q$4:$W$4,GEfectos!Q234:W234),IF(EFECTOS!$N$9=\"EL SALVADOR\",LOOKUP(2,GEfectos!$Q$4:$W$4,GEfectos!Q234:W234),IF(EFECTOS!$N$9=\"GUATEMALA\",LOOKUP(3,GEfectos!$Q$4:$W$4,GEfectos!Q234:W234),IF(EFECTOS!$N$9=\"HONDURAS\",LOOKUP(4,GEfectos!$Q$4:$W$4,GEfectos!Q234:W234),IF(EFECTOS!$N$9=\"NICARAGUA\",LOOKUP(5,GEfectos!$Q$4:$W$4,GEfectos!Q234:W234),IF(EFECTOS!$N$9=\"REPÚBLICA \nDOMINICANA\",LOOKUP(6,$Q$4:$W$4,Q234:W234),IF(EFECTOS!$N$9=\"PANAMÁ\",LOOKUP(7,GEfectos!$Q$4:$W$4,GEfectos!Q234:W234))))))))","v":180.84245663224502},100]
[null,{"$f":"'ITCER GLOBAL'!B235","v":"Febrero"},{"$f":"'ITCER GLOBAL'!C235","v":80.160062010495977},{"$f":"'ITCER GLOBAL'!D235","v":103.79358591833781},{"$f":"'ITCER GLOBAL'!E235","v":66.145108911196189},{"$f":"'ITCER GLOBAL'!F235","v":84.59061077847484},{"$f":"'ITCER GLOBAL'!G235","v":112.7609269146478},{"$f":"'ITCER GLOBAL'!H235","v":145.3695153366786},{"$f":"'ITCER GLOBAL'!I235","v":99.812038680599457},{"$f":"'ITCER GLOBAL'!S235","v":168.91803848311085},{"$f":"'ITCER GLOBAL'!T235","v":95.225060839299076},{"$f":"'ITCER GLOBAL'!U235","v":96.856874224440617},{"$f":"'ITCER GLOBAL'!V235","v":137.36819703257004},{"$f":"'ITCER GLOBAL'!W235","v":195.39400165089242},{"$f":"'ITCER GLOBAL'!X235","v":262.76097331826713},{"$f":"'ITCER GLOBAL'!Y235","v":105.01579363860876},{"$f":"'ITCER GLOBAL'!AA235","v":210.72593289784766},{"$f":"'ITCER GLOBAL'!AB235","v":91.744648762997528},{"$f":"'ITCER GLOBAL'!AC235","v":146.43089386167136},{"$f":"'ITCER GLOBAL'!AD235","v":162.39177819901158},{"$f":"'ITCER GLOBAL'!AE235","v":173.28165615274884},{"$f":"'ITCER GLOBAL'!AF235","v":180.75383460535562},{"$f":"'ITCER GLOBAL'!AG235","v":105.21355442369173},null,{"$f":"IF(EFECTOS!$N$9=\"COSTA RICA\",LOOKUP(1,GEfectos!$C$4:$I$4,GEfectos!C235:I235),IF(EFECTOS!$N$9=\"EL SALVADOR\",LOOKUP(2,GEfectos!$C$4:$I$4,GEfectos!C235:I235),IF(EFECTOS!$N$9=\"GUATEMALA\",LOOKUP(3,GEfectos!$C$4:$I$4,GEfectos!C235:I235),IF(EFECTOS!$N$9=\"HONDURAS\",LOOKUP(4,GEfectos!$C$4:$I$4,GEfectos!C235:I235),IF(EFECTOS!$N$9=\"NICARAGUA\",LOOKUP(5,GEfectos!$C$4:$I$4,GEfectos!C235:I235),IF(EFECTOS!$N$9=\"REPÚBLICA \nDOMINICANA\",LOOKUP(6,$C$4:$I$4,C235:I235),IF(EFECTOS!$N$9=\"PANAMÁ\",LOOKUP(7,GEfectos!$C$4:$I$4,GEfectos!C235:I235))))))))","v":145.3695153366786},{"$f":"IF(EFECTOS!$N$9=\"COSTA RICA\",LOOKUP(1,GEfectos!$J$4:$P$4,GEfectos!J235:P235),IF(EFECTOS!$N$9=\"EL SALVADOR\",LOOKUP(2,GEfectos!$J$4:$P$4,GEfectos!J235:P235),IF(EFECTOS!$N$9=\"GUATEMALA\",LOOKUP(3,GEfectos!$J$4:$P$4,GEfectos!J235:P235),IF(EFECTOS!$N$9=\"HONDURAS\",LOOKUP(4,GEfectos!$J$4:$P$4,GEfectos!J235:P235),IF(EFECTOS!$N$9=\"NICARAGUA\",LOOKUP(5,GEfectos!$J$4:$P$4,GEfectos!J235:P235),IF(EFECTOS!$N$9=\"REPÚBLICA \nDOMINICANA\",LOOKUP(6,$J$4:$P$4,J235:P235),IF(EFECTOS!$N$9=\"PANAMÁ\",LOOKUP(7,GEfectos!$J$4:$P$4,GEfectos!J235:P235))))))))","v":262.76097331826713},{"$f":"IF(EFECTOS!$N$9=\"COSTA RICA\",LOOKUP(1,GEfectos!$Q$4:$W$4,GEfectos!Q235:W235),IF(EFECTOS!$N$9=\"EL SALVADOR\",LOOKUP(2,GEfectos!$Q$4:$W$4,GEfectos!Q235:W235),IF(EFECTOS!$N$9=\"GUATEMALA\",LOOKUP(3,GEfectos!$Q$4:$W$4,GEfectos!Q235:W235),IF(EFECTOS!$N$9=\"HONDURAS\",LOOKUP(4,GEfectos!$Q$4:$W$4,GEfectos!Q235:W235),IF(EFECTOS!$N$9=\"NICARAGUA\",LOOKUP(5,GEfectos!$Q$4:$W$4,GEfectos!Q235:W235),IF(EFECTOS!$N$9=\"REPÚBLICA \nDOMINICANA\",LOOKUP(6,$Q$4:$W$4,Q235:W235),IF(EFECTOS!$N$9=\"PANAMÁ\",LOOKUP(7,GEfectos!$Q$4:$W$4,GEfectos!Q235:W235))))))))","v":180.75383460535562},100]
[null,{"$f":"'ITCER GLOBAL'!B236","v":"Marzo"},{"$f":"'ITCER GLOBAL'!C236","v":83.682159687945742},{"$f":"'ITCER GLOBAL'!D236","v":103.91426087897057},{"$f":"'ITCER GLOBAL'!E236","v":65.987309259895255},{"$f":"'ITCER GLOBAL'!F236","v":84.723260891813368},{"$f":"'ITCER GLOBAL'!G236","v":113.13364592040281},{"$f":"'ITCER GLOBAL'!H236","v":145.35824571404257},{"$f":"'ITCER GLOBAL'!I236","v":99.651311679174484},{"$f":"'ITCER GLOBAL'!S236","v":176.59215738647021},{"$f":"'ITCER GLOBAL'!T236","v":95.12793107287591},{"$f":"'ITCER GLOBAL'!U236","v":96.402254059561159},{"$f":"'ITCER GLOBAL'!V236","v":137.72289656166549},{"$f":"'ITCER GLOBAL'!W236","v":195.22128880903492},{"$f":"'ITCER GLOBAL'!X236","v":262.7754767476805},{"$f":"'ITCER GLOBAL'!Y236","v":104.82597375160086},{"$f":"'ITCER GLOBAL'!AA236","v":211.02724648239209},{"$f":"'ITCER GLOBAL'!AB236","v":91.544635229299146},{"$f":"'ITCER GLOBAL'!AC236","v":146.09211246949727},{"$f":"'ITCER GLOBAL'!AD236","v":162.55618009973617},{"$f":"'ITCER GLOBAL'!AE236","v":172.55811674838654},{"$f":"'ITCER GLOBAL'!AF236","v":180.77782616104773},{"$f":"'ITCER GLOBAL'!AG236","v":105.19276865023724},null,{"$f":"IF(EFECTOS!$N$9=\"COSTA RICA\",LOOKUP(1,GEfectos!$C$4:$I$4,GEfectos!C236:I236),IF(EFECTOS!$N$9=\"EL SALVADOR\",LOOKUP(2,GEfectos!$C$4:$I$4,GEfectos!C236:I236),IF(EFECTOS!$N$9=\"GUATEMALA\",LOOKUP(3,GEfectos!$C$4:$I$4,GEfectos!C236:I236),IF(EFECTOS!$N$9=\"HONDURAS\",LOOKUP(4,GEfectos!$C$4:$I$4,GEfectos!C236:I236),IF(EFECTOS!$N$9=\"NICARAGUA\",LOOKUP(5,GEfectos!$C$4:$I$4,GEfectos!C236:I236),IF(EFECTOS!$N$9=\"REPÚBLICA \nDOMINICANA\",LOOKUP(6,$C$4:$I$4,C236:I236),IF(EFECTOS!$N$9=\"PANAMÁ\",LOOKUP(7,GEfectos!$C$4:$I$4,GEfectos!C236:I236))))))))","v":145.35824571404257},{"$f":"IF(EFECTOS!$N$9=\"COSTA RICA\",LOOKUP(1,GEfectos!$J$4:$P$4,GEfectos!J236:P236),IF(EFECTOS!$N$9=\"EL SALVADOR\",LOOKUP(2,GEfectos!$J$4:$P$4,GEfectos!J236:P236),IF(EFECTOS!$N$9=\"GUATEMALA\",LOOKUP(3,GEfectos!$J$4:$P$4,GEfectos!J236:P236),IF(EFECTOS!$N$9=\"HONDURAS\",LOOKUP(4,GEfectos!$J$4:$P$4,GEfectos!J236:P236),IF(EFECTOS!$N$9=\"NICARAGUA\",LOOKUP(5,GEfectos!$J$4:$P$4,GEfectos!J236:P236),IF(EFECTOS!$N$9=\"REPÚBLICA \nDOMINICANA\",LOOKUP(6,$J$4:$P$4,J236:P236),IF(EFECTOS!$N$9=\"PANAMÁ\",LOOKUP(7,GEfectos!$J$4:$P$4,GEfectos!J236:P236))))))))","v":262.7754767476805},{"$f":"IF(EFECTOS!$N$9=\"COSTA RICA\",LOOKUP(1,GEfectos!$Q$4:$W$4,GEfectos!Q236:W236),IF(EFECTOS!$N$9=\"EL SALVADOR\",LOOKUP(2,GEfectos!$Q$4:$W$4,GEfectos!Q236:W236),IF(EFECTOS!$N$9=\"GUATEMALA\",LOOKUP(3,GEfectos!$Q$4:$W$4,GEfectos!Q236:W236),IF(EFECTOS!$N$9=\"HONDURAS\",LOOKUP(4,GEfectos!$Q$4:$W$4,GEfectos!Q236:W236),IF(EFECTOS!$N$9=\"NICARAGUA\",LOOKUP(5,GEfectos!$Q$4:$W$4,GEfectos!Q236:W236),IF(EFECTOS!$N$9=\"REPÚBLICA \nDOMINICANA\",LOOKUP(6,$Q$4:$W$4,Q236:W236),IF(EFECTOS!$N$9=\"PANAMÁ\",LOOKUP(7,GEfectos!$Q$4:$W$4,GEfectos!Q236:W236))))))))","v":180.77782616104773},100]
[null,{"$f":"'ITCER GLOBAL'!B237","v":"Abril"},{"$f":"'ITCER GLOBAL'!C237","v":82.741436642981768},{"$f":"'ITCER GLOBAL'!D237","v":104.85414435617282},{"$f":"'ITCER GLOBAL'!E237","v":66.346466371504334},{"$f":"'ITCER GLOBAL'!F237","v":84.890588307981787},{"$f":"'ITCER GLOBAL'!G237","v":113.11256937017731},{"$f":"'ITCER GLOBAL'!H237","v":145.3181101968145},{"$f":"'ITCER GLOBAL'!I237","v":99.810772254092015},{"$f":"'ITCER GLOBAL'!S237","v":176.1784870134951},{"$f":"'ITCER GLOBAL'!T237","v":95.249469958036741},{"$f":"'ITCER GLOBAL'!U237","v":96.895952691785794},{"$f":"'ITCER GLOBAL'!V237","v":138.22750352657448},{"$f":"'ITCER GLOBAL'!W237","v":195.57740317833023},{"$f":"'ITCER GLOBAL'!X237","v":263.11419972910568},{"$f":"'ITCER GLOBAL'!Y237","v":105.21371160971782},{"$f":"'ITCER GLOBAL'!AA237","v":212.92655066370401},{"$f":"'ITCER GLOBAL'!AB237","v":90.839966834777144},{"$f":"'ITCER GLOBAL'!AC237","v":146.04538567166614},{"$f":"'ITCER GLOBAL'!AD237","v":162.83018681068287},{"$f":"'ITCER GLOBAL'!AE237","v":172.90510176483994},{"$f":"'ITCER GLOBAL'!AF237","v":181.06084601069455},{"$f":"'ITCER GLOBAL'!AG237","v":105.41318259903987},null,{"$f":"IF(EFECTOS!$N$9=\"COSTA RICA\",LOOKUP(1,GEfectos!$C$4:$I$4,GEfectos!C237:I237),IF(EFECTOS!$N$9=\"EL SALVADOR\",LOOKUP(2,GEfectos!$C$4:$I$4,GEfectos!C237:I237),IF(EFECTOS!$N$9=\"GUATEMALA\",LOOKUP(3,GEfectos!$C$4:$I$4,GEfectos!C237:I237),IF(EFECTOS!$N$9=\"HONDURAS\",LOOKUP(4,GEfectos!$C$4:$I$4,GEfectos!C237:I237),IF(EFECTOS!$N$9=\"NICARAGUA\",LOOKUP(5,GEfectos!$C$4:$I$4,GEfectos!C237:I237),IF(EFECTOS!$N$9=\"REPÚBLICA \nDOMINICANA\",LOOKUP(6,$C$4:$I$4,C237:I237),IF(EFECTOS!$N$9=\"PANAMÁ\",LOOKUP(7,GEfectos!$C$4:$I$4,GEfectos!C237:I237))))))))","v":145.3181101968145},{"$f":"IF(EFECTOS!$N$9=\"COSTA RICA\",LOOKUP(1,GEfectos!$J$4:$P$4,GEfectos!J237:P237),IF(EFECTOS!$N$9=\"EL SALVADOR\",LOOKUP(2,GEfectos!$J$4:$P$4,GEfectos!J237:P237),IF(EFECTOS!$N$9=\"GUATEMALA\",LOOKUP(3,GEfectos!$J$4:$P$4,GEfectos!J237:P237),IF(EFECTOS!$N$9=\"HONDURAS\",LOOKUP(4,GEfectos!$J$4:$P$4,GEfectos!J237:P237),IF(EFECTOS!$N$9=\"NICARAGUA\",LOOKUP(5,GEfectos!$J$4:$P$4,GEfectos!J237:P237),IF(EFECTOS!$N$9=\"REPÚBLICA \nDOMINICANA\",LOOKUP(6,$J$4:$P$4,J237:P237),IF(EFECTOS!$N$9=\"PANAMÁ\",LOOKUP(7,GEfectos!$J$4:$P$4,GEfectos!J237:P237))))))))","v":263.11419972910568},{"$f":"IF(EFECTOS!$N$9=\"COSTA RICA\",LOOKUP(1,GEfectos!$Q$4:$W$4,GEfectos!Q237:W237),IF(EFECTOS!$N$9=\"EL SALVADOR\",LOOKUP(2,GEfectos!$Q$4:$W$4,GEfectos!Q237:W237),IF(EFECTOS!$N$9=\"GUATEMALA\",LOOKUP(3,GEfectos!$Q$4:$W$4,GEfectos!Q237:W237),IF(EFECTOS!$N$9=\"HONDURAS\",LOOKUP(4,GEfectos!$Q$4:$W$4,GEfectos!Q237:W237),IF(EFECTOS!$N$9=\"NICARAGUA\",LOOKUP(5,GEfectos!$Q$4:$W$4,GEfectos!Q237:W237),IF(EFECTOS!$N$9=\"REPÚBLICA \nDOMINICANA\",LOOKUP(6,$Q$4:$W$4,Q237:W237),IF(EFECTOS!$N$9=\"PANAMÁ\",LOOKUP(7,GEfectos!$Q$4:$W$4,GEfectos!Q237:W237))))))))","v":181.06084601069455},100]
[null,{"$f":"'ITCER GLOBAL'!B238","v":"Mayo"},{"$f":"'ITCER GLOBAL'!C238","v":83.390160367215302},{"$f":"'ITCER GLOBAL'!D238","v":104.95150362205978},{"$f":"'ITCER GLOBAL'!E238","v":66.311192197450964},{"$f":"'ITCER GLOBAL'!F238","v":84.860566237128339},{"$f":"'ITCER GLOBAL'!G238","v":112.98029982633962},{"$f":"'ITCER GLOBAL'!H238","v":145.91363393262128},{"$f":"'ITCER GLOBAL'!I238","v":99.968293346749547},{"$f":"'ITCER GLOBAL'!S238","v":178.0709553425699},{"$f":"'ITCER GLOBAL'!T238","v":95.272815402492014},{"$f":"'ITCER GLOBAL'!U238","v":96.824942338560689},{"$f":"'ITCER GLOBAL'!V238","v":138.54603988172033},{"$f":"'ITCER GLOBAL'!W238","v":196.72014205751452},{"$f":"'ITCER GLOBAL'!X238","v":263.52093550441242},{"$f":"'ITCER GLOBAL'!Y238","v":105.28564500240098},{"$f":"'ITCER GLOBAL'!AA238","v":213.53952859476476},{"$f":"'ITCER GLOBAL'!AB238","v":90.77794230140654},{"$f":"'ITCER GLOBAL'!AC238","v":146.0159878444814},{"$f":"'ITCER GLOBAL'!AD238","v":163.26315746536164},{"$f":"'ITCER GLOBAL'!AE238","v":174.11897681267462},{"$f":"'ITCER GLOBAL'!AF238","v":180.60062545361512},{"$f":"'ITCER GLOBAL'!AG238","v":105.31903814463222},null,{"$f":"IF(EFECTOS!$N$9=\"COSTA RICA\",LOOKUP(1,GEfectos!$C$4:$I$4,GEfectos!C238:I238),IF(EFECTOS!$N$9=\"EL SALVADOR\",LOOKUP(2,GEfectos!$C$4:$I$4,GEfectos!C238:I238),IF(EFECTOS!$N$9=\"GUATEMALA\",LOOKUP(3,GEfectos!$C$4:$I$4,GEfectos!C238:I238),IF(EFECTOS!$N$9=\"HONDURAS\",LOOKUP(4,GEfectos!$C$4:$I$4,GEfectos!C238:I238),IF(EFECTOS!$N$9=\"NICARAGUA\",LOOKUP(5,GEfectos!$C$4:$I$4,GEfectos!C238:I238),IF(EFECTOS!$N$9=\"REPÚBLICA \nDOMINICANA\",LOOKUP(6,$C$4:$I$4,C238:I238),IF(EFECTOS!$N$9=\"PANAMÁ\",LOOKUP(7,GEfectos!$C$4:$I$4,GEfectos!C238:I238))))))))","v":145.91363393262128},{"$f":"IF(EFECTOS!$N$9=\"COSTA RICA\",LOOKUP(1,GEfectos!$J$4:$P$4,GEfectos!J238:P238),IF(EFECTOS!$N$9=\"EL SALVADOR\",LOOKUP(2,GEfectos!$J$4:$P$4,GEfectos!J238:P238),IF(EFECTOS!$N$9=\"GUATEMALA\",LOOKUP(3,GEfectos!$J$4:$P$4,GEfectos!J238:P238),IF(EFECTOS!$N$9=\"HONDURAS\",LOOKUP(4,GEfectos!$J$4:$P$4,GEfectos!J238:P238),IF(EFECTOS!$N$9=\"NICARAGUA\",LOOKUP(5,GEfectos!$J$4:$P$4,GEfectos!J238:P238),IF(EFECTOS!$N$9=\"REPÚBLICA \nDOMINICANA\",LOOKUP(6,$J$4:$P$4,J238:P238),IF(EFECTOS!$N$9=\"PANAMÁ\",LOOKUP(7,GEfectos!$J$4:$P$4,GEfectos!J238:P238))))))))","v":263.52093550441242},{"$f":"IF(EFECTOS!$N$9=\"COSTA RICA\",LOOKUP(1,GEfectos!$Q$4:$W$4,GEfectos!Q238:W238),IF(EFECTOS!$N$9=\"EL SALVADOR\",LOOKUP(2,GEfectos!$Q$4:$W$4,GEfectos!Q238:W238),IF(EFECTOS!$N$9=\"GUATEMALA\",LOOKUP(3,GEfectos!$Q$4:$W$4,GEfectos!Q238:W238),IF(EFECTOS!$N$9=\"HONDURAS\",LOOKUP(4,GEfectos!$Q$4:$W$4,GEfectos!Q238:W238),IF(EFECTOS!$N$9=\"NICARAGUA\",LOOKUP(5,GEfectos!$Q$4:$W$4,GEfectos!Q238:W238),IF(EFECTOS!$N$9=\"REPÚBLICA \nDOMINICANA\",LOOKUP(6,$Q$4:$W$4,Q238:W238),IF(EFECTOS!$N$9=\"PANAMÁ\",LOOKUP(7,GEfectos!$Q$4:$W$4,GEfectos!Q238:W238))))))))","v":180.60062545361512},100]
[null,{"$f":"'ITCER GLOBAL'!B239","v":"Junio"},{"$f":"'ITCER GLOBAL'!C239","v":82.953256168014875},{"$f":"'ITCER GLOBAL'!D239","v":104.60354403899252},{"$f":"'ITCER GLOBAL'!E239","v":66.640726466796636},{"$f":"'ITCER GLOBAL'!F239","v":84.946785580732566},{"$f":"'ITCER GLOBAL'!G239","v":112.33333490686431},{"$f":"'ITCER GLOBAL'!H239","v":146.6560459134962},{"$f":"'ITCER GLOBAL'!I239","v":99.58019716656861},{"$f":"'ITCER GLOBAL'!S239","v":177.47464419732529},{"$f":"'ITCER GLOBAL'!T239","v":95.072324010271842},{"$f":"'ITCER GLOBAL'!U239","v":97.616899913913258},{"$f":"'ITCER GLOBAL'!V239","v":138.95701767349945},{"$f":"'ITCER GLOBAL'!W239","v":197.79675770065001},{"$f":"'ITCER GLOBAL'!X239","v":264.41994280759894},{"$f":"'ITCER GLOBAL'!Y239","v":105.19592745767513},{"$f":"'ITCER GLOBAL'!AA239","v":213.9453619974426},{"$f":"'ITCER GLOBAL'!AB239","v":90.888243685923499},{"$f":"'ITCER GLOBAL'!AC239","v":146.48234659108996},{"$f":"'ITCER GLOBAL'!AD239","v":163.5812546920167},{"$f":"'ITCER GLOBAL'!AE239","v":176.08019726703878},{"$f":"'ITCER GLOBAL'!AF239","v":180.29938088168885},{"$f":"'ITCER GLOBAL'!AG239","v":105.63940467170698},null,{"$f":"IF(EFECTOS!$N$9=\"COSTA RICA\",LOOKUP(1,GEfectos!$C$4:$I$4,GEfectos!C239:I239),IF(EFECTOS!$N$9=\"EL SALVADOR\",LOOKUP(2,GEfectos!$C$4:$I$4,GEfectos!C239:I239),IF(EFECTOS!$N$9=\"GUATEMALA\",LOOKUP(3,GEfectos!$C$4:$I$4,GEfectos!C239:I239),IF(EFECTOS!$N$9=\"HONDURAS\",LOOKUP(4,GEfectos!$C$4:$I$4,GEfectos!C239:I239),IF(EFECTOS!$N$9=\"NICARAGUA\",LOOKUP(5,GEfectos!$C$4:$I$4,GEfectos!C239:I239),IF(EFECTOS!$N$9=\"REPÚBLICA \nDOMINICANA\",LOOKUP(6,$C$4:$I$4,C239:I239),IF(EFECTOS!$N$9=\"PANAMÁ\",LOOKUP(7,GEfectos!$C$4:$I$4,GEfectos!C239:I239))))))))","v":146.6560459134962},{"$f":"IF(EFECTOS!$N$9=\"COSTA RICA\",LOOKUP(1,GEfectos!$J$4:$P$4,GEfectos!J239:P239),IF(EFECTOS!$N$9=\"EL SALVADOR\",LOOKUP(2,GEfectos!$J$4:$P$4,GEfectos!J239:P239),IF(EFECTOS!$N$9=\"GUATEMALA\",LOOKUP(3,GEfectos!$J$4:$P$4,GEfectos!J239:P239),IF(EFECTOS!$N$9=\"HONDURAS\",LOOKUP(4,GEfectos!$J$4:$P$4,GEfectos!J239:P239),IF(EFECTOS!$N$9=\"NICARAGUA\",LOOKUP(5,GEfectos!$J$4:$P$4,GEfectos!J239:P239),IF(EFECTOS!$N$9=\"REPÚBLICA \nDOMINICANA\",LOOKUP(6,$J$4:$P$4,J239:P239),IF(EFECTOS!$N$9=\"PANAMÁ\",LOOKUP(7,GEfectos!$J$4:$P$4,GEfectos!J239:P239))))))))","v":264.41994280759894},{"$f":"IF(EFECTOS!$N$9=\"COSTA RICA\",LOOKUP(1,GEfectos!$Q$4:$W$4,GEfectos!Q239:W239),IF(EFECTOS!$N$9=\"EL SALVADOR\",LOOKUP(2,GEfectos!$Q$4:$W$4,GEfectos!Q239:W239),IF(EFECTOS!$N$9=\"GUATEMALA\",LOOKUP(3,GEfectos!$Q$4:$W$4,GEfectos!Q239:W239),IF(EFECTOS!$N$9=\"HONDURAS\",LOOKUP(4,GEfectos!$Q$4:$W$4,GEfectos!Q239:W239),IF(EFECTOS!$N$9=\"NICARAGUA\",LOOKUP(5,GEfectos!$Q$4:$W$4,GEfectos!Q239:W239),IF(EFECTOS!$N$9=\"REPÚBLICA \nDOMINICANA\",LOOKUP(6,$Q$4:$W$4,Q239:W239),IF(EFECTOS!$N$9=\"PANAMÁ\",LOOKUP(7,GEfectos!$Q$4:$W$4,GEfectos!Q239:W239))))))))","v":180.29938088168885},100]
[null,{"$f":"'ITCER GLOBAL'!B240","v":"Julio"},{"$f":"'ITCER GLOBAL'!C240","v":80.436383714664871},{"$f":"'ITCER GLOBAL'!D240","v":104.31586649008503},{"$f":"'ITCER GLOBAL'!E240","v":66.11259550674086},{"$f":"'ITCER GLOBAL'!F240","v":84.639238683191863},{"$f":"'ITCER GLOBAL'!G240","v":112.89400095523061},{"$f":"'ITCER GLOBAL'!H240","v":146.66857194306161},{"$f":"'ITCER GLOBAL'!I240","v":100.73559789195726},{"$f":"'ITCER GLOBAL'!S240","v":173.73102631819125},{"$f":"'ITCER GLOBAL'!T240","v":95.20861591793836},{"$f":"'ITCER GLOBAL'!U240","v":97.324623834330566},{"$f":"'ITCER GLOBAL'!V240","v":139.4483529454439},{"$f":"'ITCER GLOBAL'!W240","v":199.47545426407612},{"$f":"'ITCER GLOBAL'!X240","v":265.38481228232286},{"$f":"'ITCER GLOBAL'!Y240","v":105.47151056474068},{"$f":"'ITCER GLOBAL'!AA240","v":215.98562527931904},{"$f":"'ITCER GLOBAL'!AB240","v":91.269544242330298},{"$f":"'ITCER GLOBAL'!AC240","v":147.21041140247974},{"$f":"'ITCER GLOBAL'!AD240","v":164.75615224683767},{"$f":"'ITCER GLOBAL'!AE240","v":176.69269631358034},{"$f":"'ITCER GLOBAL'!AF240","v":180.94183966374763},{"$f":"'ITCER GLOBAL'!AG240","v":104.70132978995457},null,{"$f":"IF(EFECTOS!$N$9=\"COSTA RICA\",LOOKUP(1,GEfectos!$C$4:$I$4,GEfectos!C240:I240),IF(EFECTOS!$N$9=\"EL SALVADOR\",LOOKUP(2,GEfectos!$C$4:$I$4,GEfectos!C240:I240),IF(EFECTOS!$N$9=\"GUATEMALA\",LOOKUP(3,GEfectos!$C$4:$I$4,GEfectos!C240:I240),IF(EFECTOS!$N$9=\"HONDURAS\",LOOKUP(4,GEfectos!$C$4:$I$4,GEfectos!C240:I240),IF(EFECTOS!$N$9=\"NICARAGUA\",LOOKUP(5,GEfectos!$C$4:$I$4,GEfectos!C240:I240),IF(EFECTOS!$N$9=\"REPÚBLICA \nDOMINICANA\",LOOKUP(6,$C$4:$I$4,C240:I240),IF(EFECTOS!$N$9=\"PANAMÁ\",LOOKUP(7,GEfectos!$C$4:$I$4,GEfectos!C240:I240))))))))","v":146.66857194306161},{"$f":"IF(EFECTOS!$N$9=\"COSTA RICA\",LOOKUP(1,GEfectos!$J$4:$P$4,GEfectos!J240:P240),IF(EFECTOS!$N$9=\"EL SALVADOR\",LOOKUP(2,GEfectos!$J$4:$P$4,GEfectos!J240:P240),IF(EFECTOS!$N$9=\"GUATEMALA\",LOOKUP(3,GEfectos!$J$4:$P$4,GEfectos!J240:P240),IF(EFECTOS!$N$9=\"HONDURAS\",LOOKUP(4,GEfectos!$J$4:$P$4,GEfectos!J240:P240),IF(EFECTOS!$N$9=\"NICARAGUA\",LOOKUP(5,GEfectos!$J$4:$P$4,GEfectos!J240:P240),IF(EFECTOS!$N$9=\"REPÚBLICA \nDOMINICANA\",LOOKUP(6,$J$4:$P$4,J240:P240),IF(EFECTOS!$N$9=\"PANAMÁ\",LOOKUP(7,GEfectos!$J$4:$P$4,GEfectos!J240:P240))))))))","v":265.38481228232286},{"$f":"IF(EFECTOS!$N$9=\"COSTA RICA\",LOOKUP(1,GEfectos!$Q$4:$W$4,GEfectos!Q240:W240),IF(EFECTOS!$N$9=\"EL SALVADOR\",LOOKUP(2,GEfectos!$Q$4:$W$4,GEfectos!Q240:W240),IF(EFECTOS!$N$9=\"GUATEMALA\",LOOKUP(3,GEfectos!$Q$4:$W$4,GEfectos!Q240:W240),IF(EFECTOS!$N$9=\"HONDURAS\",LOOKUP(4,GEfectos!$Q$4:$W$4,GEfectos!Q240:W240),IF(EFECTOS!$N$9=\"NICARAGUA\",LOOKUP(5,GEfectos!$Q$4:$W$4,GEfectos!Q240:W240),IF(EFECTOS!$N$9=\"REPÚBLICA \nDOMINICANA\",LOOKUP(6,$Q$4:$W$4,Q240:W240),IF(EFECTOS!$N$9=\"PANAMÁ\",LOOKUP(7,GEfectos!$Q$4:$W$4,GEfectos!Q240:W240))))))))","v":180.94183966374763},100]
[null,{"$f":"'ITCER GLOBAL'!B241","v":"Agosto"},{"$f":"'ITCER GLOBAL'!C241","v":80.108863198749617},{"$f":"'ITCER GLOBAL'!D241","v":103.81801856136246},{"$f":"'ITCER GLOBAL'!E241","v":65.914318886577405},{"$f":"'ITCER GLOBAL'!F241","v":84.604236348785847},{"$f":"'ITCER GLOBAL'!G241","v":112.53592389670963},{"$f":"'ITCER GLOBAL'!H241","v":145.74003628611209},{"$f":"'ITCER GLOBAL'!I241","v":100.15674300962452},{"$f":"'ITCER GLOBAL'!S241","v":173.56489263180177},{"$f":"'ITCER GLOBAL'!T241","v":94.922640472856457},{"$f":"'ITCER GLOBAL'!U241","v":97.383178205119464},{"$f":"'ITCER GLOBAL'!V241","v":139.50745723770532},{"$f":"'ITCER GLOBAL'!W241","v":199.23005376104854},{"$f":"'ITCER GLOBAL'!X241","v":264.67292936577638},{"$f":"'ITCER GLOBAL'!Y241","v":104.96541890987467},{"$f":"'ITCER GLOBAL'!AA241","v":216.6612852827387},{"$f":"'ITCER GLOBAL'!AB241","v":91.431758945343063},{"$f":"'ITCER GLOBAL'!AC241","v":147.742068567366},{"$f":"'ITCER GLOBAL'!AD241","v":164.89417463988181},{"$f":"'ITCER GLOBAL'!AE241","v":177.03684908999418},{"$f":"'ITCER GLOBAL'!AF241","v":181.60619148342951},{"$f":"'ITCER GLOBAL'!AG241","v":104.80115043256555},null,{"$f":"IF(EFECTOS!$N$9=\"COSTA RICA\",LOOKUP(1,GEfectos!$C$4:$I$4,GEfectos!C241:I241),IF(EFECTOS!$N$9=\"EL SALVADOR\",LOOKUP(2,GEfectos!$C$4:$I$4,GEfectos!C241:I241),IF(EFECTOS!$N$9=\"GUATEMALA\",LOOKUP(3,GEfectos!$C$4:$I$4,GEfectos!C241:I241),IF(EFECTOS!$N$9=\"HONDURAS\",LOOKUP(4,GEfectos!$C$4:$I$4,GEfectos!C241:I241),IF(EFECTOS!$N$9=\"NICARAGUA\",LOOKUP(5,GEfectos!$C$4:$I$4,GEfectos!C241:I241),IF(EFECTOS!$N$9=\"REPÚBLICA \nDOMINICANA\",LOOKUP(6,$C$4:$I$4,C241:I241),IF(EFECTOS!$N$9=\"PANAMÁ\",LOOKUP(7,GEfectos!$C$4:$I$4,GEfectos!C241:I241))))))))","v":145.74003628611209},{"$f":"IF(EFECTOS!$N$9=\"COSTA RICA\",LOOKUP(1,GEfectos!$J$4:$P$4,GEfectos!J241:P241),IF(EFECTOS!$N$9=\"EL SALVADOR\",LOOKUP(2,GEfectos!$J$4:$P$4,GEfectos!J241:P241),IF(EFECTOS!$N$9=\"GUATEMALA\",LOOKUP(3,GEfectos!$J$4:$P$4,GEfectos!J241:P241),IF(EFECTOS!$N$9=\"HONDURAS\",LOOKUP(4,GEfectos!$J$4:$P$4,GEfectos!J241:P241),IF(EFECTOS!$N$9=\"NICARAGUA\",LOOKUP(5,GEfectos!$J$4:$P$4,GEfectos!J241:P241),IF(EFECTOS!$N$9=\"REPÚBLICA \nDOMINICANA\",LOOKUP(6,$J$4:$P$4,J241:P241),IF(EFECTOS!$N$9=\"PANAMÁ\",LOOKUP(7,GEfectos!$J$4:$P$4,GEfectos!J241:P241))))))))","v":264.67292936577638},{"$f":"IF(EFECTOS!$N$9=\"COSTA RICA\",LOOKUP(1,GEfectos!$Q$4:$W$4,GEfectos!Q241:W241),IF(EFECTOS!$N$9=\"EL SALVADOR\",LOOKUP(2,GEfectos!$Q$4:$W$4,GEfectos!Q241:W241),IF(EFECTOS!$N$9=\"GUATEMALA\",LOOKUP(3,GEfectos!$Q$4:$W$4,GEfectos!Q241:W241),IF(EFECTOS!$N$9=\"HONDURAS\",LOOKUP(4,GEfectos!$Q$4:$W$4,GEfectos!Q241:W241),IF(EFECTOS!$N$9=\"NICARAGUA\",LOOKUP(5,GEfectos!$Q$4:$W$4,GEfectos!Q241:W241),IF(EFECTOS!$N$9=\"REPÚBLICA \nDOMINICANA\",LOOKUP(6,$Q$4:$W$4,Q241:W241),IF(EFECTOS!$N$9=\"PANAMÁ\",LOOKUP(7,GEfectos!$Q$4:$W$4,GEfectos!Q241:W241))))))))","v":181.60619148342951},100]
[null,{"$f":"'ITCER GLOBAL'!B242","v":"Septiembre"},{"$f":"'ITCER GLOBAL'!C242","v":79.916454383855452},{"$f":"'ITCER GLOBAL'!D242","v":103.76222019227188},{"$f":"'ITCER GLOBAL'!E242","v":64.899213095540148},{"$f":"'ITCER GLOBAL'!F242","v":84.687029733276972},{"$f":"'ITCER GLOBAL'!G242","v":112.50387308537681},{"$f":"'ITCER GLOBAL'!H242","v":145.43181479001439},{"$f":"'ITCER GLOBAL'!I242","v":99.104637680077886},{"$f":"'ITCER GLOBAL'!S242","v":172.57235002918819},{"$f":"'ITCER GLOBAL'!T242","v":94.6252561835162},{"$f":"'ITCER GLOBAL'!U242","v":95.777990250000215},{"$f":"'ITCER GLOBAL'!V242","v":139.58945988471163},{"$f":"'ITCER GLOBAL'!W242","v":198.62934141803512},{"$f":"'ITCER GLOBAL'!X242","v":264.08340078058649},{"$f":"'ITCER GLOBAL'!Y242","v":103.99319822611896},{"$f":"'ITCER GLOBAL'!AA242","v":215.94094903195665},{"$f":"'ITCER GLOBAL'!AB242","v":91.194324878722867},{"$f":"'ITCER GLOBAL'!AC242","v":147.57958637957978},{"$f":"'ITCER GLOBAL'!AD242","v":164.82979781479011},{"$f":"'ITCER GLOBAL'!AE242","v":176.55333631696354},{"$f":"'ITCER GLOBAL'!AF242","v":181.58571503896195},{"$f":"'ITCER GLOBAL'!AG242","v":104.9327263188449},null,{"$f":"IF(EFECTOS!$N$9=\"COSTA RICA\",LOOKUP(1,GEfectos!$C$4:$I$4,GEfectos!C242:I242),IF(EFECTOS!$N$9=\"EL SALVADOR\",LOOKUP(2,GEfectos!$C$4:$I$4,GEfectos!C242:I242),IF(EFECTOS!$N$9=\"GUATEMALA\",LOOKUP(3,GEfectos!$C$4:$I$4,GEfectos!C242:I242),IF(EFECTOS!$N$9=\"HONDURAS\",LOOKUP(4,GEfectos!$C$4:$I$4,GEfectos!C242:I242),IF(EFECTOS!$N$9=\"NICARAGUA\",LOOKUP(5,GEfectos!$C$4:$I$4,GEfectos!C242:I242),IF(EFECTOS!$N$9=\"REPÚBLICA \nDOMINICANA\",LOOKUP(6,$C$4:$I$4,C242:I242),IF(EFECTOS!$N$9=\"PANAMÁ\",LOOKUP(7,GEfectos!$C$4:$I$4,GEfectos!C242:I242))))))))","v":145.43181479001439},{"$f":"IF(EFECTOS!$N$9=\"COSTA RICA\",LOOKUP(1,GEfectos!$J$4:$P$4,GEfectos!J242:P242),IF(EFECTOS!$N$9=\"EL SALVADOR\",LOOKUP(2,GEfectos!$J$4:$P$4,GEfectos!J242:P242),IF(EFECTOS!$N$9=\"GUATEMALA\",LOOKUP(3,GEfectos!$J$4:$P$4,GEfectos!J242:P242),IF(EFECTOS!$N$9=\"HONDURAS\",LOOKUP(4,GEfectos!$J$4:$P$4,GEfectos!J242:P242),IF(EFECTOS!$N$9=\"NICARAGUA\",LOOKUP(5,GEfectos!$J$4:$P$4,GEfectos!J242:P242),IF(EFECTOS!$N$9=\"REPÚBLICA \nDOMINICANA\",LOOKUP(6,$J$4:$P$4,J242:P242),IF(EFECTOS!$N$9=\"PANAMÁ\",LOOKUP(7,GEfectos!$J$4:$P$4,GEfectos!J242:P242))))))))","v":264.08340078058649},{"$f":"IF(EFECTOS!$N$9=\"COSTA RICA\",LOOKUP(1,GEfectos!$Q$4:$W$4,GEfectos!Q242:W242),IF(EFECTOS!$N$9=\"EL SALVADOR\",LOOKUP(2,GEfectos!$Q$4:$W$4,GEfectos!Q242:W242),IF(EFECTOS!$N$9=\"GUATEMALA\",LOOKUP(3,GEfectos!$Q$4:$W$4,GEfectos!Q242:W242),IF(EFECTOS!$N$9=\"HONDURAS\",LOOKUP(4,GEfectos!$Q$4:$W$4,GEfectos!Q242:W242),IF(EFECTOS!$N$9=\"NICARAGUA\",LOOKUP(5,GEfectos!$Q$4:$W$4,GEfectos!Q242:W242),IF(EFECTOS!$N$9=\"REPÚBLICA \nDOMINICANA\",LOOKUP(6,$Q$4:$W$4,Q242:W242),IF(EFECTOS!$N$9=\"PANAMÁ\",LOOKUP(7,GEfectos!$Q$4:$W$4,GEfectos!Q242:W242))))))))","v":181.58571503896195},100]
[null,{"$f":"'ITCER GLOBAL'!B243","v":"Octubre"},{"$f":"'ITCER GLOBAL'!C243","v":79.649606746749015},{"$f":"'ITCER GLOBAL'!D243","v":103.34608591171406},{"$f":"'ITCER GLOBAL'!E243","v":63.730563081400369},{"$f":"'ITCER GLOBAL'!F243","v":84.556646797433814},{"$f":"'ITCER GLOBAL'!G243","v":112.25442606512769},{"$f":"'ITCER GLOBAL'!H243","v":145.20476616894396},{"$f":"'ITCER GLOBAL'!I243","v":98.393586512951202},{"$f":"'ITCER GLOBAL'!S243","v":171.65941786844286},{"$f":"'ITCER GLOBAL'!T243","v":94.343009271608025},{"$f":"'ITCER GLOBAL'!U243","v":94.246469703213776},{"$f":"'ITCER GLOBAL'!V243","v":139.89054622102185},{"$f":"'ITCER GLOBAL'!W243","v":198.59137250430132},{"$f":"'ITCER GLOBAL'!X243","v":263.61264042465592},{"$f":"'ITCER GLOBAL'!Y243","v":103.22993273550014},{"$f":"'ITCER GLOBAL'!AA243","v":215.5182239809983},{"$f":"'ITCER GLOBAL'!AB243","v":91.28842030089352},{"$f":"'ITCER GLOBAL'!AC243","v":147.88268790727096},{"$f":"'ITCER GLOBAL'!AD243","v":165.44003519456896},{"$f":"'ITCER GLOBAL'!AE243","v":176.91184166678892},{"$f":"'ITCER GLOBAL'!AF243","v":181.54544604820052},{"$f":"'ITCER GLOBAL'!AG243","v":104.91530636695752},null,{"$f":"IF(EFECTOS!$N$9=\"COSTA RICA\",LOOKUP(1,GEfectos!$C$4:$I$4,GEfectos!C243:I243),IF(EFECTOS!$N$9=\"EL SALVADOR\",LOOKUP(2,GEfectos!$C$4:$I$4,GEfectos!C243:I243),IF(EFECTOS!$N$9=\"GUATEMALA\",LOOKUP(3,GEfectos!$C$4:$I$4,GEfectos!C243:I243),IF(EFECTOS!$N$9=\"HONDURAS\",LOOKUP(4,GEfectos!$C$4:$I$4,GEfectos!C243:I243),IF(EFECTOS!$N$9=\"NICARAGUA\",LOOKUP(5,GEfectos!$C$4:$I$4,GEfectos!C243:I243),IF(EFECTOS!$N$9=\"REPÚBLICA \nDOMINICANA\",LOOKUP(6,$C$4:$I$4,C243:I243),IF(EFECTOS!$N$9=\"PANAMÁ\",LOOKUP(7,GEfectos!$C$4:$I$4,GEfectos!C243:I243))))))))","v":145.20476616894396},{"$f":"IF(EFECTOS!$N$9=\"COSTA RICA\",LOOKUP(1,GEfectos!$J$4:$P$4,GEfectos!J243:P243),IF(EFECTOS!$N$9=\"EL SALVADOR\",LOOKUP(2,GEfectos!$J$4:$P$4,GEfectos!J243:P243),IF(EFECTOS!$N$9=\"GUATEMALA\",LOOKUP(3,GEfectos!$J$4:$P$4,GEfectos!J243:P243),IF(EFECTOS!$N$9=\"HONDURAS\",LOOKUP(4,GEfectos!$J$4:$P$4,GEfectos!J243:P243),IF(EFECTOS!$N$9=\"NICARAGUA\",LOOKUP(5,GEfectos!$J$4:$P$4,GEfectos!J243:P243),IF(EFECTOS!$N$9=\"REPÚBLICA \nDOMINICANA\",LOOKUP(6,$J$4:$P$4,J243:P243),IF(EFECTOS!$N$9=\"PANAMÁ\",LOOKUP(7,GEfectos!$J$4:$P$4,GEfectos!J243:P243))))))))","v":263.61264042465592},{"$f":"IF(EFECTOS!$N$9=\"COSTA RICA\",LOOKUP(1,GEfectos!$Q$4:$W$4,GEfectos!Q243:W243),IF(EFECTOS!$N$9=\"EL SALVADOR\",LOOKUP(2,GEfectos!$Q$4:$W$4,GEfectos!Q243:W243),IF(EFECTOS!$N$9=\"GUATEMALA\",LOOKUP(3,GEfectos!$Q$4:$W$4,GEfectos!Q243:W243),IF(EFECTOS!$N$9=\"HONDURAS\",LOOKUP(4,GEfectos!$Q$4:$W$4,GEfectos!Q243:W243),IF(EFECTOS!$N$9=\"NICARAGUA\",LOOKUP(5,GEfectos!$Q$4:$W$4,GEfectos!Q243:W243),IF(EFECTOS!$N$9=\"REPÚBLICA \nDOMINICANA\",LOOKUP(6,$Q$4:$W$4,Q243:W243),IF(EFECTOS!$N$9=\"PANAMÁ\",LOOKUP(7,GEfectos!$Q$4:$W$4,GEfectos!Q243:W243))))))))","v":181.54544604820052},100]
[null,{"$f":"'ITCER GLOBAL'!B244","v":"Noviembre"},{"$f":"'ITCER GLOBAL'!C244","v":78.332018697214679},{"$f":"'ITCER GLOBAL'!D244","v":103.32104222301486},{"$f":"'ITCER GLOBAL'!E244","v":62.911928144705257},{"$f":"'ITCER GLOBAL'!F244","v":83.942103425913658},{"$f":"'ITCER GLOBAL'!G244","v":110.2063540539956},{"$f":"'ITCER GLOBAL'!H244","v":144.83209228618688},{"$f":"'ITCER GLOBAL'!I244","v":97.636642866555292},{"$f":"'ITCER GLOBAL'!S244","v":169.85479146329098},{"$f":"'ITCER GLOBAL'!T244","v":93.952071173729166},{"$f":"'ITCER GLOBAL'!U244","v":93.39208421028539},{"$f":"'ITCER GLOBAL'!V244","v":139.68737160013055},{"$f":"'ITCER GLOBAL'!W244","v":197.95390164758177},{"$f":"'ITCER GLOBAL'!X244","v":263.24551747787967},{"$f":"'ITCER GLOBAL'!Y244","v":102.24210033169115},{"$f":"'ITCER GLOBAL'!AA244","v":216.83954312456737},{"$f":"'ITCER GLOBAL'!AB244","v":90.93217523971245},{"$f":"'ITCER GLOBAL'!AC244","v":148.44893005897384},{"$f":"'ITCER GLOBAL'!AD244","v":166.40918668831907},{"$f":"'ITCER GLOBAL'!AE244","v":179.62113287097245},{"$f":"'ITCER GLOBAL'!AF244","v":181.75910692342202},{"$f":"'ITCER GLOBAL'!AG244","v":104.71693549667656},null,{"$f":"IF(EFECTOS!$N$9=\"COSTA RICA\",LOOKUP(1,GEfectos!$C$4:$I$4,GEfectos!C244:I244),IF(EFECTOS!$N$9=\"EL SALVADOR\",LOOKUP(2,GEfectos!$C$4:$I$4,GEfectos!C244:I244),IF(EFECTOS!$N$9=\"GUATEMALA\",LOOKUP(3,GEfectos!$C$4:$I$4,GEfectos!C244:I244),IF(EFECTOS!$N$9=\"HONDURAS\",LOOKUP(4,GEfectos!$C$4:$I$4,GEfectos!C244:I244),IF(EFECTOS!$N$9=\"NICARAGUA\",LOOKUP(5,GEfectos!$C$4:$I$4,GEfectos!C244:I244),IF(EFECTOS!$N$9=\"REPÚBLICA \nDOMINICANA\",LOOKUP(6,$C$4:$I$4,C244:I244),IF(EFECTOS!$N$9=\"PANAMÁ\",LOOKUP(7,GEfectos!$C$4:$I$4,GEfectos!C244:I244))))))))","v":144.83209228618688},{"$f":"IF(EFECTOS!$N$9=\"COSTA RICA\",LOOKUP(1,GEfectos!$J$4:$P$4,GEfectos!J244:P244),IF(EFECTOS!$N$9=\"EL SALVADOR\",LOOKUP(2,GEfectos!$J$4:$P$4,GEfectos!J244:P244),IF(EFECTOS!$N$9=\"GUATEMALA\",LOOKUP(3,GEfectos!$J$4:$P$4,GEfectos!J244:P244),IF(EFECTOS!$N$9=\"HONDURAS\",LOOKUP(4,GEfectos!$J$4:$P$4,GEfectos!J244:P244),IF(EFECTOS!$N$9=\"NICARAGUA\",LOOKUP(5,GEfectos!$J$4:$P$4,GEfectos!J244:P244),IF(EFECTOS!$N$9=\"REPÚBLICA \nDOMINICANA\",LOOKUP(6,$J$4:$P$4,J244:P244),IF(EFECTOS!$N$9=\"PANAMÁ\",LOOKUP(7,GEfectos!$J$4:$P$4,GEfectos!J244:P244))))))))","v":263.24551747787967},{"$f":"IF(EFECTOS!$N$9=\"COSTA RICA\",LOOKUP(1,GEfectos!$Q$4:$W$4,GEfectos!Q244:W244),IF(EFECTOS!$N$9=\"EL SALVADOR\",LOOKUP(2,GEfectos!$Q$4:$W$4,GEfectos!Q244:W244),IF(EFECTOS!$N$9=\"GUATEMALA\",LOOKUP(3,GEfectos!$Q$4:$W$4,GEfectos!Q244:W244),IF(EFECTOS!$N$9=\"HONDURAS\",LOOKUP(4,GEfectos!$Q$4:$W$4,GEfectos!Q244:W244),IF(EFECTOS!$N$9=\"NICARAGUA\",LOOKUP(5,GEfectos!$Q$4:$W$4,GEfectos!Q244:W244),IF(EFECTOS!$N$9=\"REPÚBLICA \nDOMINICANA\",LOOKUP(6,$Q$4:$W$4,Q244:W244),IF(EFECTOS!$N$9=\"PANAMÁ\",LOOKUP(7,GEfectos!$Q$4:$W$4,GEfectos!Q244:W244))))))))","v":181.75910692342202},100]
[null,{"$f":"'ITCER GLOBAL'!B245","v":"Diciembre"},{"$f":"'ITCER GLOBAL'!C245","v":77.269631573998012},{"$f":"'ITCER GLOBAL'!D245","v":103.05129936523362},{"$f":"'ITCER GLOBAL'!E245","v":62.09056324904639},{"$f":"'ITCER GLOBAL'!F245","v":83.637776251350388},{"$f":"'ITCER GLOBAL'!G245","v":109.09017634645531},{"$f":"'ITCER GLOBAL'!H245","v":144.4513763274006},{"$f":"'ITCER GLOBAL'!I245","v":96.475779601438148},{"$f":"'ITCER GLOBAL'!S245","v":167.63728272757712},{"$f":"'ITCER GLOBAL'!T245","v":93.18210322074907},{"$f":"'ITCER GLOBAL'!U245","v":92.318739027226968},{"$f":"'ITCER GLOBAL'!V245","v":139.26191173272986},{"$f":"'ITCER GLOBAL'!W245","v":196.23484723032189},{"$f":"'ITCER GLOBAL'!X245","v":261.28602707644143},{"$f":"'ITCER GLOBAL'!Y245","v":100.82690806909551},{"$f":"'ITCER GLOBAL'!AA245","v":216.95105737243958},{"$f":"'ITCER GLOBAL'!AB245","v":90.423026002315396},{"$f":"'ITCER GLOBAL'!AC245","v":148.68400960856937},{"$f":"'ITCER GLOBAL'!AD245","v":166.50599522662631},{"$f":"'ITCER GLOBAL'!AE245","v":179.88315153795992},{"$f":"'ITCER GLOBAL'!AF245","v":180.88164593477728},{"$f":"'ITCER GLOBAL'!AG245","v":104.51007339420609},null,{"$f":"IF(EFECTOS!$N$9=\"COSTA RICA\",LOOKUP(1,GEfectos!$C$4:$I$4,GEfectos!C245:I245),IF(EFECTOS!$N$9=\"EL SALVADOR\",LOOKUP(2,GEfectos!$C$4:$I$4,GEfectos!C245:I245),IF(EFECTOS!$N$9=\"GUATEMALA\",LOOKUP(3,GEfectos!$C$4:$I$4,GEfectos!C245:I245),IF(EFECTOS!$N$9=\"HONDURAS\",LOOKUP(4,GEfectos!$C$4:$I$4,GEfectos!C245:I245),IF(EFECTOS!$N$9=\"NICARAGUA\",LOOKUP(5,GEfectos!$C$4:$I$4,GEfectos!C245:I245),IF(EFECTOS!$N$9=\"REPÚBLICA \nDOMINICANA\",LOOKUP(6,$C$4:$I$4,C245:I245),IF(EFECTOS!$N$9=\"PANAMÁ\",LOOKUP(7,GEfectos!$C$4:$I$4,GEfectos!C245:I245))))))))","v":144.4513763274006},{"$f":"IF(EFECTOS!$N$9=\"COSTA RICA\",LOOKUP(1,GEfectos!$J$4:$P$4,GEfectos!J245:P245),IF(EFECTOS!$N$9=\"EL SALVADOR\",LOOKUP(2,GEfectos!$J$4:$P$4,GEfectos!J245:P245),IF(EFECTOS!$N$9=\"GUATEMALA\",LOOKUP(3,GEfectos!$J$4:$P$4,GEfectos!J245:P245),IF(EFECTOS!$N$9=\"HONDURAS\",LOOKUP(4,GEfectos!$J$4:$P$4,GEfectos!J245:P245),IF(EFECTOS!$N$9=\"NICARAGUA\",LOOKUP(5,GEfectos!$J$4:$P$4,GEfectos!J245:P245),IF(EFECTOS!$N$9=\"REPÚBLICA \nDOMINICANA\",LOOKUP(6,$J$4:$P$4,J245:P245),IF(EFECTOS!$N$9=\"PANAMÁ\",LOOKUP(7,GEfectos!$J$4:$P$4,GEfectos!J245:P245))))))))","v":261.28602707644143},{"$f":"IF(EFECTOS!$N$9=\"COSTA RICA\",LOOKUP(1,GEfectos!$Q$4:$W$4,GEfectos!Q245:W245),IF(EFECTOS!$N$9=\"EL SALVADOR\",LOOKUP(2,GEfectos!$Q$4:$W$4,GEfectos!Q245:W245),IF(EFECTOS!$N$9=\"GUATEMALA\",LOOKUP(3,GEfectos!$Q$4:$W$4,GEfectos!Q245:W245),IF(EFECTOS!$N$9=\"HONDURAS\",LOOKUP(4,GEfectos!$Q$4:$W$4,GEfectos!Q245:W245),IF(EFECTOS!$N$9=\"NICARAGUA\",LOOKUP(5,GEfectos!$Q$4:$W$4,GEfectos!Q245:W245),IF(EFECTOS!$N$9=\"REPÚBLICA \nDOMINICANA\",LOOKUP(6,$Q$4:$W$4,Q245:W245),IF(EFECTOS!$N$9=\"PANAMÁ\",LOOKUP(7,GEfectos!$Q$4:$W$4,GEfectos!Q245:W245))))))))","v":180.88164593477728},100]
[2015,{"$f":"'ITCER GLOBAL'!B246","v":"Enero"},{"$f":"'ITCER GLOBAL'!C246","v":76.822332142742042},{"$f":"'ITCER GLOBAL'!D246","v":103.02463377296696},{"$f":"'ITCER GLOBAL'!E246","v":62.15039426573103},{"$f":"'ITCER GLOBAL'!F246","v":83.655865561235814},{"$f":"'ITCER GLOBAL'!G246","v":106.85095578228244},{"$f":"'ITCER GLOBAL'!H246","v":140.7915176532583},{"$f":"'ITCER GLOBAL'!I246","v":95.319416229816824},{"$f":"'ITCER GLOBAL'!S246","v":167.4034952124413},{"$f":"'ITCER GLOBAL'!T246","v":93.150789840040204},{"$f":"'ITCER GLOBAL'!U246","v":92.735510977029946},{"$f":"'ITCER GLOBAL'!V246","v":139.03251758002438},{"$f":"'ITCER GLOBAL'!W246","v":193.60178525225351},{"$f":"'ITCER GLOBAL'!X246","v":263.7723147181643},{"$f":"'ITCER GLOBAL'!Y246","v":101.55983635780204},{"$f":"'ITCER GLOBAL'!AA246","v":217.90993652912309},{"$f":"'ITCER GLOBAL'!AB246","v":90.416035882558404},{"$f":"'ITCER GLOBAL'!AC246","v":149.2114604784787},{"$f":"'ITCER GLOBAL'!AD246","v":166.19577915699531},{"$f":"'ITCER GLOBAL'!AE246","v":181.18863217913838},{"$f":"'ITCER GLOBAL'!AF246","v":187.34957837998692},{"$f":"'ITCER GLOBAL'!AG246","v":106.54685097204064},null,{"$f":"IF(EFECTOS!$N$9=\"COSTA RICA\",LOOKUP(1,GEfectos!$C$4:$I$4,GEfectos!C246:I246),IF(EFECTOS!$N$9=\"EL SALVADOR\",LOOKUP(2,GEfectos!$C$4:$I$4,GEfectos!C246:I246),IF(EFECTOS!$N$9=\"GUATEMALA\",LOOKUP(3,GEfectos!$C$4:$I$4,GEfectos!C246:I246),IF(EFECTOS!$N$9=\"HONDURAS\",LOOKUP(4,GEfectos!$C$4:$I$4,GEfectos!C246:I246),IF(EFECTOS!$N$9=\"NICARAGUA\",LOOKUP(5,GEfectos!$C$4:$I$4,GEfectos!C246:I246),IF(EFECTOS!$N$9=\"REPÚBLICA \nDOMINICANA\",LOOKUP(6,$C$4:$I$4,C246:I246),IF(EFECTOS!$N$9=\"PANAMÁ\",LOOKUP(7,GEfectos!$C$4:$I$4,GEfectos!C246:I246))))))))","v":140.7915176532583},{"$f":"IF(EFECTOS!$N$9=\"COSTA RICA\",LOOKUP(1,GEfectos!$J$4:$P$4,GEfectos!J246:P246),IF(EFECTOS!$N$9=\"EL SALVADOR\",LOOKUP(2,GEfectos!$J$4:$P$4,GEfectos!J246:P246),IF(EFECTOS!$N$9=\"GUATEMALA\",LOOKUP(3,GEfectos!$J$4:$P$4,GEfectos!J246:P246),IF(EFECTOS!$N$9=\"HONDURAS\",LOOKUP(4,GEfectos!$J$4:$P$4,GEfectos!J246:P246),IF(EFECTOS!$N$9=\"NICARAGUA\",LOOKUP(5,GEfectos!$J$4:$P$4,GEfectos!J246:P246),IF(EFECTOS!$N$9=\"REPÚBLICA \nDOMINICANA\",LOOKUP(6,$J$4:$P$4,J246:P246),IF(EFECTOS!$N$9=\"PANAMÁ\",LOOKUP(7,GEfectos!$J$4:$P$4,GEfectos!J246:P246))))))))","v":263.7723147181643},{"$f":"IF(EFECTOS!$N$9=\"COSTA RICA\",LOOKUP(1,GEfectos!$Q$4:$W$4,GEfectos!Q246:W246),IF(EFECTOS!$N$9=\"EL SALVADOR\",LOOKUP(2,GEfectos!$Q$4:$W$4,GEfectos!Q246:W246),IF(EFECTOS!$N$9=\"GUATEMALA\",LOOKUP(3,GEfectos!$Q$4:$W$4,GEfectos!Q246:W246),IF(EFECTOS!$N$9=\"HONDURAS\",LOOKUP(4,GEfectos!$Q$4:$W$4,GEfectos!Q246:W246),IF(EFECTOS!$N$9=\"NICARAGUA\",LOOKUP(5,GEfectos!$Q$4:$W$4,GEfectos!Q246:W246),IF(EFECTOS!$N$9=\"REPÚBLICA \nDOMINICANA\",LOOKUP(6,$Q$4:$W$4,Q246:W246),IF(EFECTOS!$N$9=\"PANAMÁ\",LOOKUP(7,GEfectos!$Q$4:$W$4,GEfectos!Q246:W246))))))))","v":187.34957837998692},100]
[null,{"$f":"'ITCER GLOBAL'!B247","v":"Febrero"},{"$f":"'ITCER GLOBAL'!C247","v":76.75711938716212},{"$f":"'ITCER GLOBAL'!D247","v":103.14789274039967},{"$f":"'ITCER GLOBAL'!E247","v":61.868494034820891},{"$f":"'ITCER GLOBAL'!F247","v":83.688746946467219},{"$f":"'ITCER GLOBAL'!G247","v":106.05648789276322},{"$f":"'ITCER GLOBAL'!H247","v":141.15625414887785},{"$f":"'ITCER GLOBAL'!I247","v":95.785367648673699},{"$f":"'ITCER GLOBAL'!S247","v":166.18624483328887},{"$f":"'ITCER GLOBAL'!T247","v":92.72580053235049},{"$f":"'ITCER GLOBAL'!U247","v":92.234409108098689},{"$f":"'ITCER GLOBAL'!V247","v":139.41703234619786},{"$f":"'ITCER GLOBAL'!W247","v":192.71049331012688},{"$f":"'ITCER GLOBAL'!X247","v":263.59980135572096},{"$f":"'ITCER GLOBAL'!Y247","v":100.72796085679241},{"$f":"'ITCER GLOBAL'!AA247","v":216.50922567201505},{"$f":"'ITCER GLOBAL'!AB247","v":89.895971763301787},{"$f":"'ITCER GLOBAL'!AC247","v":149.08138713734849},{"$f":"'ITCER GLOBAL'!AD247","v":166.58993883057909},{"$f":"'ITCER GLOBAL'!AE247","v":181.70552046281415},{"$f":"'ITCER GLOBAL'!AF247","v":186.74326755490523},{"$f":"'ITCER GLOBAL'!AG247","v":105.1600712399491},null,{"$f":"IF(EFECTOS!$N$9=\"COSTA RICA\",LOOKUP(1,GEfectos!$C$4:$I$4,GEfectos!C247:I247),IF(EFECTOS!$N$9=\"EL SALVADOR\",LOOKUP(2,GEfectos!$C$4:$I$4,GEfectos!C247:I247),IF(EFECTOS!$N$9=\"GUATEMALA\",LOOKUP(3,GEfectos!$C$4:$I$4,GEfectos!C247:I247),IF(EFECTOS!$N$9=\"HONDURAS\",LOOKUP(4,GEfectos!$C$4:$I$4,GEfectos!C247:I247),IF(EFECTOS!$N$9=\"NICARAGUA\",LOOKUP(5,GEfectos!$C$4:$I$4,GEfectos!C247:I247),IF(EFECTOS!$N$9=\"REPÚBLICA \nDOMINICANA\",LOOKUP(6,$C$4:$I$4,C247:I247),IF(EFECTOS!$N$9=\"PANAMÁ\",LOOKUP(7,GEfectos!$C$4:$I$4,GEfectos!C247:I247))))))))","v":141.15625414887785},{"$f":"IF(EFECTOS!$N$9=\"COSTA RICA\",LOOKUP(1,GEfectos!$J$4:$P$4,GEfectos!J247:P247),IF(EFECTOS!$N$9=\"EL SALVADOR\",LOOKUP(2,GEfectos!$J$4:$P$4,GEfectos!J247:P247),IF(EFECTOS!$N$9=\"GUATEMALA\",LOOKUP(3,GEfectos!$J$4:$P$4,GEfectos!J247:P247),IF(EFECTOS!$N$9=\"HONDURAS\",LOOKUP(4,GEfectos!$J$4:$P$4,GEfectos!J247:P247),IF(EFECTOS!$N$9=\"NICARAGUA\",LOOKUP(5,GEfectos!$J$4:$P$4,GEfectos!J247:P247),IF(EFECTOS!$N$9=\"REPÚBLICA \nDOMINICANA\",LOOKUP(6,$J$4:$P$4,J247:P247),IF(EFECTOS!$N$9=\"PANAMÁ\",LOOKUP(7,GEfectos!$J$4:$P$4,GEfectos!J247:P247))))))))","v":263.59980135572096},{"$f":"IF(EFECTOS!$N$9=\"COSTA RICA\",LOOKUP(1,GEfectos!$Q$4:$W$4,GEfectos!Q247:W247),IF(EFECTOS!$N$9=\"EL SALVADOR\",LOOKUP(2,GEfectos!$Q$4:$W$4,GEfectos!Q247:W247),IF(EFECTOS!$N$9=\"GUATEMALA\",LOOKUP(3,GEfectos!$Q$4:$W$4,GEfectos!Q247:W247),IF(EFECTOS!$N$9=\"HONDURAS\",LOOKUP(4,GEfectos!$Q$4:$W$4,GEfectos!Q247:W247),IF(EFECTOS!$N$9=\"NICARAGUA\",LOOKUP(5,GEfectos!$Q$4:$W$4,GEfectos!Q247:W247),IF(EFECTOS!$N$9=\"REPÚBLICA \nDOMINICANA\",LOOKUP(6,$Q$4:$W$4,Q247:W247),IF(EFECTOS!$N$9=\"PANAMÁ\",LOOKUP(7,GEfectos!$Q$4:$W$4,GEfectos!Q247:W247))))))))","v":186.74326755490523},100]
[null,{"$f":"'ITCER GLOBAL'!B248","v":"Marzo"},{"$f":"'ITCER GLOBAL'!C248","v":75.792208421784395},{"$f":"'ITCER GLOBAL'!D248","v":102.54404497605942},{"$f":"'ITCER GLOBAL'!E248","v":61.386362546019413},{"$f":"'ITCER GLOBAL'!F248","v":83.072790124513062},{"$f":"'ITCER GLOBAL'!G248","v":105.53812974094008},{"$f":"'ITCER GLOBAL'!H248","v":140.0606292575184},{"$f":"'ITCER GLOBAL'!I248","v":94.034977602889512},{"$f":"'ITCER GLOBAL'!S248","v":163.52824048066947},{"$f":"'ITCER GLOBAL'!T248","v":92.212527080655036},{"$f":"'ITCER GLOBAL'!U248","v":91.267351072639798},{"$f":"'ITCER GLOBAL'!V248","v":138.63279832681778},{"$f":"'ITCER GLOBAL'!W248","v":191.72606486641888},{"$f":"'ITCER GLOBAL'!X248","v":260.63689508662469},{"$f":"'ITCER GLOBAL'!Y248","v":99.332828308372598},{"$f":"'ITCER GLOBAL'!AA248","v":215.75864311887202},{"$f":"'ITCER GLOBAL'!AB248","v":89.924799730870319},{"$f":"'ITCER GLOBAL'!AC248","v":148.67691664287742},{"$f":"'ITCER GLOBAL'!AD248","v":166.88111488614865},{"$f":"'ITCER GLOBAL'!AE248","v":181.66520985073416},{"$f":"'ITCER GLOBAL'!AF248","v":186.08862209765761},{"$f":"'ITCER GLOBAL'!AG248","v":105.6339149968812},null,{"$f":"IF(EFECTOS!$N$9=\"COSTA RICA\",LOOKUP(1,GEfectos!$C$4:$I$4,GEfectos!C248:I248),IF(EFECTOS!$N$9=\"EL SALVADOR\",LOOKUP(2,GEfectos!$C$4:$I$4,GEfectos!C248:I248),IF(EFECTOS!$N$9=\"GUATEMALA\",LOOKUP(3,GEfectos!$C$4:$I$4,GEfectos!C248:I248),IF(EFECTOS!$N$9=\"HONDURAS\",LOOKUP(4,GEfectos!$C$4:$I$4,GEfectos!C248:I248),IF(EFECTOS!$N$9=\"NICARAGUA\",LOOKUP(5,GEfectos!$C$4:$I$4,GEfectos!C248:I248),IF(EFECTOS!$N$9=\"REPÚBLICA \nDOMINICANA\",LOOKUP(6,$C$4:$I$4,C248:I248),IF(EFECTOS!$N$9=\"PANAMÁ\",LOOKUP(7,GEfectos!$C$4:$I$4,GEfectos!C248:I248))))))))","v":140.0606292575184},{"$f":"IF(EFECTOS!$N$9=\"COSTA RICA\",LOOKUP(1,GEfectos!$J$4:$P$4,GEfectos!J248:P248),IF(EFECTOS!$N$9=\"EL SALVADOR\",LOOKUP(2,GEfectos!$J$4:$P$4,GEfectos!J248:P248),IF(EFECTOS!$N$9=\"GUATEMALA\",LOOKUP(3,GEfectos!$J$4:$P$4,GEfectos!J248:P248),IF(EFECTOS!$N$9=\"HONDURAS\",LOOKUP(4,GEfectos!$J$4:$P$4,GEfectos!J248:P248),IF(EFECTOS!$N$9=\"NICARAGUA\",LOOKUP(5,GEfectos!$J$4:$P$4,GEfectos!J248:P248),IF(EFECTOS!$N$9=\"REPÚBLICA \nDOMINICANA\",LOOKUP(6,$J$4:$P$4,J248:P248),IF(EFECTOS!$N$9=\"PANAMÁ\",LOOKUP(7,GEfectos!$J$4:$P$4,GEfectos!J248:P248))))))))","v":260.63689508662469},{"$f":"IF(EFECTOS!$N$9=\"COSTA RICA\",LOOKUP(1,GEfectos!$Q$4:$W$4,GEfectos!Q248:W248),IF(EFECTOS!$N$9=\"EL SALVADOR\",LOOKUP(2,GEfectos!$Q$4:$W$4,GEfectos!Q248:W248),IF(EFECTOS!$N$9=\"GUATEMALA\",LOOKUP(3,GEfectos!$Q$4:$W$4,GEfectos!Q248:W248),IF(EFECTOS!$N$9=\"HONDURAS\",LOOKUP(4,GEfectos!$Q$4:$W$4,GEfectos!Q248:W248),IF(EFECTOS!$N$9=\"NICARAGUA\",LOOKUP(5,GEfectos!$Q$4:$W$4,GEfectos!Q248:W248),IF(EFECTOS!$N$9=\"REPÚBLICA \nDOMINICANA\",LOOKUP(6,$Q$4:$W$4,Q248:W248),IF(EFECTOS!$N$9=\"PANAMÁ\",LOOKUP(7,GEfectos!$Q$4:$W$4,GEfectos!Q248:W248))))))))","v":186.08862209765761},100]
[null,{"$f":"'ITCER GLOBAL'!B249","v":"Abril"},{"$f":"'ITCER GLOBAL'!C249","v":75.97527805049603},{"$f":"'ITCER GLOBAL'!D249","v":102.7540691687248},{"$f":"'ITCER GLOBAL'!E249","v":62.074208071923245},{"$f":"'ITCER GLOBAL'!F249","v":83.518347363401773},{"$f":"'ITCER GLOBAL'!G249","v":106.05111911215816},{"$f":"'ITCER GLOBAL'!H249","v":141.28313418783571},{"$f":"'ITCER GLOBAL'!I249","v":94.176547534736841},{"$f":"'ITCER GLOBAL'!S249","v":163.50395705164993},{"$f":"'ITCER GLOBAL'!T249","v":92.244192090493556},{"$f":"'ITCER GLOBAL'!U249","v":92.477809122291816},{"$f":"'ITCER GLOBAL'!V249","v":139.47342629441442},{"$f":"'ITCER GLOBAL'!W249","v":192.86359534179837},{"$f":"'ITCER GLOBAL'!X249","v":261.78310691686193},{"$f":"'ITCER GLOBAL'!Y249","v":99.81406935518919},{"$f":"'ITCER GLOBAL'!AA249","v":215.20678995472588},{"$f":"'ITCER GLOBAL'!AB249","v":89.771814232511062},{"$f":"'ITCER GLOBAL'!AC249","v":148.97944250072587},{"$f":"'ITCER GLOBAL'!AD249","v":166.99734932199161},{"$f":"'ITCER GLOBAL'!AE249","v":181.85908546408507},{"$f":"'ITCER GLOBAL'!AF249","v":185.28970808987128},{"$f":"'ITCER GLOBAL'!AG249","v":105.9861207147915},null,{"$f":"IF(EFECTOS!$N$9=\"COSTA RICA\",LOOKUP(1,GEfectos!$C$4:$I$4,GEfectos!C249:I249),IF(EFECTOS!$N$9=\"EL SALVADOR\",LOOKUP(2,GEfectos!$C$4:$I$4,GEfectos!C249:I249),IF(EFECTOS!$N$9=\"GUATEMALA\",LOOKUP(3,GEfectos!$C$4:$I$4,GEfectos!C249:I249),IF(EFECTOS!$N$9=\"HONDURAS\",LOOKUP(4,GEfectos!$C$4:$I$4,GEfectos!C249:I249),IF(EFECTOS!$N$9=\"NICARAGUA\",LOOKUP(5,GEfectos!$C$4:$I$4,GEfectos!C249:I249),IF(EFECTOS!$N$9=\"REPÚBLICA \nDOMINICANA\",LOOKUP(6,$C$4:$I$4,C249:I249),IF(EFECTOS!$N$9=\"PANAMÁ\",LOOKUP(7,GEfectos!$C$4:$I$4,GEfectos!C249:I249))))))))","v":141.28313418783571},{"$f":"IF(EFECTOS!$N$9=\"COSTA RICA\",LOOKUP(1,GEfectos!$J$4:$P$4,GEfectos!J249:P249),IF(EFECTOS!$N$9=\"EL SALVADOR\",LOOKUP(2,GEfectos!$J$4:$P$4,GEfectos!J249:P249),IF(EFECTOS!$N$9=\"GUATEMALA\",LOOKUP(3,GEfectos!$J$4:$P$4,GEfectos!J249:P249),IF(EFECTOS!$N$9=\"HONDURAS\",LOOKUP(4,GEfectos!$J$4:$P$4,GEfectos!J249:P249),IF(EFECTOS!$N$9=\"NICARAGUA\",LOOKUP(5,GEfectos!$J$4:$P$4,GEfectos!J249:P249),IF(EFECTOS!$N$9=\"REPÚBLICA \nDOMINICANA\",LOOKUP(6,$J$4:$P$4,J249:P249),IF(EFECTOS!$N$9=\"PANAMÁ\",LOOKUP(7,GEfectos!$J$4:$P$4,GEfectos!J249:P249))))))))","v":261.78310691686193},{"$f":"IF(EFECTOS!$N$9=\"COSTA RICA\",LOOKUP(1,GEfectos!$Q$4:$W$4,GEfectos!Q249:W249),IF(EFECTOS!$N$9=\"EL SALVADOR\",LOOKUP(2,GEfectos!$Q$4:$W$4,GEfectos!Q249:W249),IF(EFECTOS!$N$9=\"GUATEMALA\",LOOKUP(3,GEfectos!$Q$4:$W$4,GEfectos!Q249:W249),IF(EFECTOS!$N$9=\"HONDURAS\",LOOKUP(4,GEfectos!$Q$4:$W$4,GEfectos!Q249:W249),IF(EFECTOS!$N$9=\"NICARAGUA\",LOOKUP(5,GEfectos!$Q$4:$W$4,GEfectos!Q249:W249),IF(EFECTOS!$N$9=\"REPÚBLICA \nDOMINICANA\",LOOKUP(6,$Q$4:$W$4,Q249:W249),IF(EFECTOS!$N$9=\"PANAMÁ\",LOOKUP(7,GEfectos!$Q$4:$W$4,GEfectos!Q249:W249))))))))","v":185.28970808987128},100]
[null,{"$f":"'ITCER GLOBAL'!B250","v":"Mayo"},{"$f":"'ITCER GLOBAL'!C250","v":76.793903950404783},{"$f":"'ITCER GLOBAL'!D250","v":103.00844477776677},{"$f":"'ITCER GLOBAL'!E250","v":61.999866059515902},{"$f":"'ITCER GLOBAL'!F250","v":83.676500676078703},{"$f":"'ITCER GLOBAL'!G250","v":106.3909432224726},{"$f":"'ITCER GLOBAL'!H250","v":141.94164154772452},{"$f":"'ITCER GLOBAL'!I250","v":94.382752454319601},{"$f":"'ITCER GLOBAL'!S250","v":164.26151820119966},{"$f":"'ITCER GLOBAL'!T250","v":92.371919635297843},{"$f":"'ITCER GLOBAL'!U250","v":92.311907597742419},{"$f":"'ITCER GLOBAL'!V250","v":139.9225220056702},{"$f":"'ITCER GLOBAL'!W250","v":194.13586407550358},{"$f":"'ITCER GLOBAL'!X250","v":262.80504390912756},{"$f":"'ITCER GLOBAL'!Y250","v":100.29948948730384},{"$f":"'ITCER GLOBAL'!AA250","v":213.89916354204809},{"$f":"'ITCER GLOBAL'!AB250","v":89.674123160080271},{"$f":"'ITCER GLOBAL'!AC250","v":148.89049519740718},{"$f":"'ITCER GLOBAL'!AD250","v":167.21841959826486},{"$f":"'ITCER GLOBAL'!AE250","v":182.47405107552134},{"$f":"'ITCER GLOBAL'!AF250","v":185.15006663549514},{"$f":"'ITCER GLOBAL'!AG250","v":106.26887527554135},null,{"$f":"IF(EFECTOS!$N$9=\"COSTA RICA\",LOOKUP(1,GEfectos!$C$4:$I$4,GEfectos!C250:I250),IF(EFECTOS!$N$9=\"EL SALVADOR\",LOOKUP(2,GEfectos!$C$4:$I$4,GEfectos!C250:I250),IF(EFECTOS!$N$9=\"GUATEMALA\",LOOKUP(3,GEfectos!$C$4:$I$4,GEfectos!C250:I250),IF(EFECTOS!$N$9=\"HONDURAS\",LOOKUP(4,GEfectos!$C$4:$I$4,GEfectos!C250:I250),IF(EFECTOS!$N$9=\"NICARAGUA\",LOOKUP(5,GEfectos!$C$4:$I$4,GEfectos!C250:I250),IF(EFECTOS!$N$9=\"REPÚBLICA \nDOMINICANA\",LOOKUP(6,$C$4:$I$4,C250:I250),IF(EFECTOS!$N$9=\"PANAMÁ\",LOOKUP(7,GEfectos!$C$4:$I$4,GEfectos!C250:I250))))))))","v":141.94164154772452},{"$f":"IF(EFECTOS!$N$9=\"COSTA RICA\",LOOKUP(1,GEfectos!$J$4:$P$4,GEfectos!J250:P250),IF(EFECTOS!$N$9=\"EL SALVADOR\",LOOKUP(2,GEfectos!$J$4:$P$4,GEfectos!J250:P250),IF(EFECTOS!$N$9=\"GUATEMALA\",LOOKUP(3,GEfectos!$J$4:$P$4,GEfectos!J250:P250),IF(EFECTOS!$N$9=\"HONDURAS\",LOOKUP(4,GEfectos!$J$4:$P$4,GEfectos!J250:P250),IF(EFECTOS!$N$9=\"NICARAGUA\",LOOKUP(5,GEfectos!$J$4:$P$4,GEfectos!J250:P250),IF(EFECTOS!$N$9=\"REPÚBLICA \nDOMINICANA\",LOOKUP(6,$J$4:$P$4,J250:P250),IF(EFECTOS!$N$9=\"PANAMÁ\",LOOKUP(7,GEfectos!$J$4:$P$4,GEfectos!J250:P250))))))))","v":262.80504390912756},{"$f":"IF(EFECTOS!$N$9=\"COSTA RICA\",LOOKUP(1,GEfectos!$Q$4:$W$4,GEfectos!Q250:W250),IF(EFECTOS!$N$9=\"EL SALVADOR\",LOOKUP(2,GEfectos!$Q$4:$W$4,GEfectos!Q250:W250),IF(EFECTOS!$N$9=\"GUATEMALA\",LOOKUP(3,GEfectos!$Q$4:$W$4,GEfectos!Q250:W250),IF(EFECTOS!$N$9=\"HONDURAS\",LOOKUP(4,GEfectos!$Q$4:$W$4,GEfectos!Q250:W250),IF(EFECTOS!$N$9=\"NICARAGUA\",LOOKUP(5,GEfectos!$Q$4:$W$4,GEfectos!Q250:W250),IF(EFECTOS!$N$9=\"REPÚBLICA \nDOMINICANA\",LOOKUP(6,$Q$4:$W$4,Q250:W250),IF(EFECTOS!$N$9=\"PANAMÁ\",LOOKUP(7,GEfectos!$Q$4:$W$4,GEfectos!Q250:W250))))))))","v":185.15006663549514},100]
[null,{"$f":"'ITCER GLOBAL'!B251","v":"Junio"},{"$f":"'ITCER GLOBAL'!C251","v":76.875131460350289},{"$f":"'ITCER GLOBAL'!D251","v":103.21857467806466},{"$f":"'ITCER GLOBAL'!E251","v":61.430227206667112},{"$f":"'ITCER GLOBAL'!F251","v":83.189681069873558},{"$f":"'ITCER GLOBAL'!G251","v":106.83730554473937},{"$f":"'ITCER GLOBAL'!H251","v":141.31091085127264},{"$f":"'ITCER GLOBAL'!I251","v":94.067083138659029},{"$f":"'ITCER GLOBAL'!S251","v":164.7734523687094},{"$f":"'ITCER GLOBAL'!T251","v":92.213015114320768},{"$f":"'ITCER GLOBAL'!U251","v":91.600914884579026},{"$f":"'ITCER GLOBAL'!V251","v":139.57130310119828},{"$f":"'ITCER GLOBAL'!W251","v":194.46287296551048},{"$f":"'ITCER GLOBAL'!X251","v":261.76280838078668},{"$f":"'ITCER GLOBAL'!Y251","v":99.866264885057888},{"$f":"'ITCER GLOBAL'!AA251","v":214.33908370445417},{"$f":"'ITCER GLOBAL'!AB251","v":89.337617189474031},{"$f":"'ITCER GLOBAL'!AC251","v":149.11374912615895},{"$f":"'ITCER GLOBAL'!AD251","v":167.77477844153299},{"$f":"'ITCER GLOBAL'!AE251","v":182.01776240423519},{"$f":"'ITCER GLOBAL'!AF251","v":185.23892231951407},{"$f":"'ITCER GLOBAL'!AG251","v":106.16494266953147},null,{"$f":"IF(EFECTOS!$N$9=\"COSTA RICA\",LOOKUP(1,GEfectos!$C$4:$I$4,GEfectos!C251:I251),IF(EFECTOS!$N$9=\"EL SALVADOR\",LOOKUP(2,GEfectos!$C$4:$I$4,GEfectos!C251:I251),IF(EFECTOS!$N$9=\"GUATEMALA\",LOOKUP(3,GEfectos!$C$4:$I$4,GEfectos!C251:I251),IF(EFECTOS!$N$9=\"HONDURAS\",LOOKUP(4,GEfectos!$C$4:$I$4,GEfectos!C251:I251),IF(EFECTOS!$N$9=\"NICARAGUA\",LOOKUP(5,GEfectos!$C$4:$I$4,GEfectos!C251:I251),IF(EFECTOS!$N$9=\"REPÚBLICA \nDOMINICANA\",LOOKUP(6,$C$4:$I$4,C251:I251),IF(EFECTOS!$N$9=\"PANAMÁ\",LOOKUP(7,GEfectos!$C$4:$I$4,GEfectos!C251:I251))))))))","v":141.31091085127264},{"$f":"IF(EFECTOS!$N$9=\"COSTA RICA\",LOOKUP(1,GEfectos!$J$4:$P$4,GEfectos!J251:P251),IF(EFECTOS!$N$9=\"EL SALVADOR\",LOOKUP(2,GEfectos!$J$4:$P$4,GEfectos!J251:P251),IF(EFECTOS!$N$9=\"GUATEMALA\",LOOKUP(3,GEfectos!$J$4:$P$4,GEfectos!J251:P251),IF(EFECTOS!$N$9=\"HONDURAS\",LOOKUP(4,GEfectos!$J$4:$P$4,GEfectos!J251:P251),IF(EFECTOS!$N$9=\"NICARAGUA\",LOOKUP(5,GEfectos!$J$4:$P$4,GEfectos!J251:P251),IF(EFECTOS!$N$9=\"REPÚBLICA \nDOMINICANA\",LOOKUP(6,$J$4:$P$4,J251:P251),IF(EFECTOS!$N$9=\"PANAMÁ\",LOOKUP(7,GEfectos!$J$4:$P$4,GEfectos!J251:P251))))))))","v":261.76280838078668},{"$f":"IF(EFECTOS!$N$9=\"COSTA RICA\",LOOKUP(1,GEfectos!$Q$4:$W$4,GEfectos!Q251:W251),IF(EFECTOS!$N$9=\"EL SALVADOR\",LOOKUP(2,GEfectos!$Q$4:$W$4,GEfectos!Q251:W251),IF(EFECTOS!$N$9=\"GUATEMALA\",LOOKUP(3,GEfectos!$Q$4:$W$4,GEfectos!Q251:W251),IF(EFECTOS!$N$9=\"HONDURAS\",LOOKUP(4,GEfectos!$Q$4:$W$4,GEfectos!Q251:W251),IF(EFECTOS!$N$9=\"NICARAGUA\",LOOKUP(5,GEfectos!$Q$4:$W$4,GEfectos!Q251:W251),IF(EFECTOS!$N$9=\"REPÚBLICA \nDOMINICANA\",LOOKUP(6,$Q$4:$W$4,Q251:W251),IF(EFECTOS!$N$9=\"PANAMÁ\",LOOKUP(7,GEfectos!$Q$4:$W$4,GEfectos!Q251:W251))))))))","v":185.23892231951407},100]
[null,{"$f":"'ITCER GLOBAL'!B252","v":"Julio"},{"$f":"'ITCER GLOBAL'!C252","v":76.531189215176184},{"$f":"'ITCER GLOBAL'!D252","v":102.90743792269457},{"$f":"'ITCER GLOBAL'!E252","v":60.670177317657355},{"$f":"'ITCER GLOBAL'!F252","v":82.371744622492443},{"$f":"'ITCER GLOBAL'!G252","v":107.09515389913075},{"$f":"'ITCER GLOBAL'!H252","v":139.53624307309744},{"$f":"'ITCER GLOBAL'!I252","v":93.012241152336316},{"$f":"'ITCER GLOBAL'!S252","v":163.29418709413363},{"$f":"'ITCER GLOBAL'!T252","v":91.782315228041014},{"$f":"'ITCER GLOBAL'!U252","v":90.913436099697606},{"$f":"'ITCER GLOBAL'!V252","v":138.66398395817586},{"$f":"'ITCER GLOBAL'!W252","v":194.43432995852825},{"$f":"'ITCER GLOBAL'!X252","v":258.71746886188492},{"$f":"'ITCER GLOBAL'!Y252","v":98.857258680553173},{"$f":"'ITCER GLOBAL'!AA252","v":213.36946252724931},{"$f":"'ITCER GLOBAL'!AB252","v":89.189194756737706},{"$f":"'ITCER GLOBAL'!AC252","v":149.84864083006116},{"$f":"'ITCER GLOBAL'!AD252","v":168.33925831444907},{"$f":"'ITCER GLOBAL'!AE252","v":181.55287413066262},{"$f":"'ITCER GLOBAL'!AF252","v":185.41237972585606},{"$f":"'ITCER GLOBAL'!AG252","v":106.28413793260161},null,{"$f":"IF(EFECTOS!$N$9=\"COSTA RICA\",LOOKUP(1,GEfectos!$C$4:$I$4,GEfectos!C252:I252),IF(EFECTOS!$N$9=\"EL SALVADOR\",LOOKUP(2,GEfectos!$C$4:$I$4,GEfectos!C252:I252),IF(EFECTOS!$N$9=\"GUATEMALA\",LOOKUP(3,GEfectos!$C$4:$I$4,GEfectos!C252:I252),IF(EFECTOS!$N$9=\"HONDURAS\",LOOKUP(4,GEfectos!$C$4:$I$4,GEfectos!C252:I252),IF(EFECTOS!$N$9=\"NICARAGUA\",LOOKUP(5,GEfectos!$C$4:$I$4,GEfectos!C252:I252),IF(EFECTOS!$N$9=\"REPÚBLICA \nDOMINICANA\",LOOKUP(6,$C$4:$I$4,C252:I252),IF(EFECTOS!$N$9=\"PANAMÁ\",LOOKUP(7,GEfectos!$C$4:$I$4,GEfectos!C252:I252))))))))","v":139.53624307309744},{"$f":"IF(EFECTOS!$N$9=\"COSTA RICA\",LOOKUP(1,GEfectos!$J$4:$P$4,GEfectos!J252:P252),IF(EFECTOS!$N$9=\"EL SALVADOR\",LOOKUP(2,GEfectos!$J$4:$P$4,GEfectos!J252:P252),IF(EFECTOS!$N$9=\"GUATEMALA\",LOOKUP(3,GEfectos!$J$4:$P$4,GEfectos!J252:P252),IF(EFECTOS!$N$9=\"HONDURAS\",LOOKUP(4,GEfectos!$J$4:$P$4,GEfectos!J252:P252),IF(EFECTOS!$N$9=\"NICARAGUA\",LOOKUP(5,GEfectos!$J$4:$P$4,GEfectos!J252:P252),IF(EFECTOS!$N$9=\"REPÚBLICA \nDOMINICANA\",LOOKUP(6,$J$4:$P$4,J252:P252),IF(EFECTOS!$N$9=\"PANAMÁ\",LOOKUP(7,GEfectos!$J$4:$P$4,GEfectos!J252:P252))))))))","v":258.71746886188492},{"$f":"IF(EFECTOS!$N$9=\"COSTA RICA\",LOOKUP(1,GEfectos!$Q$4:$W$4,GEfectos!Q252:W252),IF(EFECTOS!$N$9=\"EL SALVADOR\",LOOKUP(2,GEfectos!$Q$4:$W$4,GEfectos!Q252:W252),IF(EFECTOS!$N$9=\"GUATEMALA\",LOOKUP(3,GEfectos!$Q$4:$W$4,GEfectos!Q252:W252),IF(EFECTOS!$N$9=\"HONDURAS\",LOOKUP(4,GEfectos!$Q$4:$W$4,GEfectos!Q252:W252),IF(EFECTOS!$N$9=\"NICARAGUA\",LOOKUP(5,GEfectos!$Q$4:$W$4,GEfectos!Q252:W252),IF(EFECTOS!$N$9=\"REPÚBLICA \nDOMINICANA\",LOOKUP(6,$Q$4:$W$4,Q252:W252),IF(EFECTOS!$N$9=\"PANAMÁ\",LOOKUP(7,GEfectos!$Q$4:$W$4,GEfectos!Q252:W252))))))))","v":185.41237972585606},100]
[null,{"$f":"'ITCER GLOBAL'!B253","v":"Agosto"},{"$f":"'ITCER GLOBAL'!C253","v":76.053198124813747},{"$f":"'ITCER GLOBAL'!D253","v":102.62232400494327},{"$f":"'ITCER GLOBAL'!E253","v":60.099076832117071},{"$f":"'ITCER GLOBAL'!F253","v":82.071327189131935},{"$f":"'ITCER GLOBAL'!G253","v":106.58344097126911},{"$f":"'ITCER GLOBAL'!H253","v":138.86245527055621},{"$f":"'ITCER GLOBAL'!I253","v":92.450329881193312},{"$f":"'ITCER GLOBAL'!S253","v":162.13366490880654},{"$f":"'ITCER GLOBAL'!T253","v":91.246979243957753},{"$f":"'ITCER GLOBAL'!U253","v":90.132112907701654},{"$f":"'ITCER GLOBAL'!V253","v":138.24834637041593},{"$f":"'ITCER GLOBAL'!W253","v":193.44520936233212},{"$f":"'ITCER GLOBAL'!X253","v":258.04126271914578},{"$f":"'ITCER GLOBAL'!Y253","v":97.819445013557356},{"$f":"'ITCER GLOBAL'!AA253","v":213.18454569487392},{"$f":"'ITCER GLOBAL'!AB253","v":88.915331170596403},{"$f":"'ITCER GLOBAL'!AC253","v":149.97254144099409},{"$f":"'ITCER GLOBAL'!AD253","v":168.44902002355224},{"$f":"'ITCER GLOBAL'!AE253","v":181.49649476458325},{"$f":"'ITCER GLOBAL'!AF253","v":185.82507576751721},{"$f":"'ITCER GLOBAL'!AG253","v":105.80756730588612},null,{"$f":"IF(EFECTOS!$N$9=\"COSTA RICA\",LOOKUP(1,GEfectos!$C$4:$I$4,GEfectos!C253:I253),IF(EFECTOS!$N$9=\"EL SALVADOR\",LOOKUP(2,GEfectos!$C$4:$I$4,GEfectos!C253:I253),IF(EFECTOS!$N$9=\"GUATEMALA\",LOOKUP(3,GEfectos!$C$4:$I$4,GEfectos!C253:I253),IF(EFECTOS!$N$9=\"HONDURAS\",LOOKUP(4,GEfectos!$C$4:$I$4,GEfectos!C253:I253),IF(EFECTOS!$N$9=\"NICARAGUA\",LOOKUP(5,GEfectos!$C$4:$I$4,GEfectos!C253:I253),IF(EFECTOS!$N$9=\"REPÚBLICA \nDOMINICANA\",LOOKUP(6,$C$4:$I$4,C253:I253),IF(EFECTOS!$N$9=\"PANAMÁ\",LOOKUP(7,GEfectos!$C$4:$I$4,GEfectos!C253:I253))))))))","v":138.86245527055621},{"$f":"IF(EFECTOS!$N$9=\"COSTA RICA\",LOOKUP(1,GEfectos!$J$4:$P$4,GEfectos!J253:P253),IF(EFECTOS!$N$9=\"EL SALVADOR\",LOOKUP(2,GEfectos!$J$4:$P$4,GEfectos!J253:P253),IF(EFECTOS!$N$9=\"GUATEMALA\",LOOKUP(3,GEfectos!$J$4:$P$4,GEfectos!J253:P253),IF(EFECTOS!$N$9=\"HONDURAS\",LOOKUP(4,GEfectos!$J$4:$P$4,GEfectos!J253:P253),IF(EFECTOS!$N$9=\"NICARAGUA\",LOOKUP(5,GEfectos!$J$4:$P$4,GEfectos!J253:P253),IF(EFECTOS!$N$9=\"REPÚBLICA \nDOMINICANA\",LOOKUP(6,$J$4:$P$4,J253:P253),IF(EFECTOS!$N$9=\"PANAMÁ\",LOOKUP(7,GEfectos!$J$4:$P$4,GEfectos!J253:P253))))))))","v":258.04126271914578},{"$f":"IF(EFECTOS!$N$9=\"COSTA RICA\",LOOKUP(1,GEfectos!$Q$4:$W$4,GEfectos!Q253:W253),IF(EFECTOS!$N$9=\"EL SALVADOR\",LOOKUP(2,GEfectos!$Q$4:$W$4,GEfectos!Q253:W253),IF(EFECTOS!$N$9=\"GUATEMALA\",LOOKUP(3,GEfectos!$Q$4:$W$4,GEfectos!Q253:W253),IF(EFECTOS!$N$9=\"HONDURAS\",LOOKUP(4,GEfectos!$Q$4:$W$4,GEfectos!Q253:W253),IF(EFECTOS!$N$9=\"NICARAGUA\",LOOKUP(5,GEfectos!$Q$4:$W$4,GEfectos!Q253:W253),IF(EFECTOS!$N$9=\"REPÚBLICA \nDOMINICANA\",LOOKUP(6,$Q$4:$W$4,Q253:W253),IF(EFECTOS!$N$9=\"PANAMÁ\",LOOKUP(7,GEfectos!$Q$4:$W$4,GEfectos!Q253:W253))))))))","v":185.82507576751721},100]
[null,{"$f":"'ITCER GLOBAL'!B254","v":"Septiembre"},{"$f":"'ITCER GLOBAL'!C254","v":76.175304668935155},{"$f":"'ITCER GLOBAL'!D254","v":102.65809318704916},{"$f":"'ITCER GLOBAL'!E254","v":60.233366243128856},{"$f":"'ITCER GLOBAL'!F254","v":81.879485824294648},{"$f":"'ITCER GLOBAL'!G254","v":106.47508809180273},{"$f":"'ITCER GLOBAL'!H254","v":138.57986127643181},{"$f":"'ITCER GLOBAL'!I254","v":92.665760674090592},{"$f":"'ITCER GLOBAL'!S254","v":162.02612424699606},{"$f":"'ITCER GLOBAL'!T254","v":90.997061170503372},{"$f":"'ITCER GLOBAL'!U254","v":90.358564311332827},{"$f":"'ITCER GLOBAL'!V254","v":137.71737858271129},{"$f":"'ITCER GLOBAL'!W254","v":193.16101224678604},{"$f":"'ITCER GLOBAL'!X254","v":257.81050821900396},{"$f":"'ITCER GLOBAL'!Y254","v":97.555785639061725},{"$f":"'ITCER GLOBAL'!AA254","v":212.70164254829882},{"$f":"'ITCER GLOBAL'!AB254","v":88.640903357420925},{"$f":"'ITCER GLOBAL'!AC254","v":150.01413659433405},{"$f":"'ITCER GLOBAL'!AD254","v":168.19521666054339},{"$f":"'ITCER GLOBAL'!AE254","v":181.41427793912015},{"$f":"'ITCER GLOBAL'!AF254","v":186.037499131809},{"$f":"'ITCER GLOBAL'!AG254","v":105.27705695113166},null,{"$f":"IF(EFECTOS!$N$9=\"COSTA RICA\",LOOKUP(1,GEfectos!$C$4:$I$4,GEfectos!C254:I254),IF(EFECTOS!$N$9=\"EL SALVADOR\",LOOKUP(2,GEfectos!$C$4:$I$4,GEfectos!C254:I254),IF(EFECTOS!$N$9=\"GUATEMALA\",LOOKUP(3,GEfectos!$C$4:$I$4,GEfectos!C254:I254),IF(EFECTOS!$N$9=\"HONDURAS\",LOOKUP(4,GEfectos!$C$4:$I$4,GEfectos!C254:I254),IF(EFECTOS!$N$9=\"NICARAGUA\",LOOKUP(5,GEfectos!$C$4:$I$4,GEfectos!C254:I254),IF(EFECTOS!$N$9=\"REPÚBLICA \nDOMINICANA\",LOOKUP(6,$C$4:$I$4,C254:I254),IF(EFECTOS!$N$9=\"PANAMÁ\",LOOKUP(7,GEfectos!$C$4:$I$4,GEfectos!C254:I254))))))))","v":138.57986127643181},{"$f":"IF(EFECTOS!$N$9=\"COSTA RICA\",LOOKUP(1,GEfectos!$J$4:$P$4,GEfectos!J254:P254),IF(EFECTOS!$N$9=\"EL SALVADOR\",LOOKUP(2,GEfectos!$J$4:$P$4,GEfectos!J254:P254),IF(EFECTOS!$N$9=\"GUATEMALA\",LOOKUP(3,GEfectos!$J$4:$P$4,GEfectos!J254:P254),IF(EFECTOS!$N$9=\"HONDURAS\",LOOKUP(4,GEfectos!$J$4:$P$4,GEfectos!J254:P254),IF(EFECTOS!$N$9=\"NICARAGUA\",LOOKUP(5,GEfectos!$J$4:$P$4,GEfectos!J254:P254),IF(EFECTOS!$N$9=\"REPÚBLICA \nDOMINICANA\",LOOKUP(6,$J$4:$P$4,J254:P254),IF(EFECTOS!$N$9=\"PANAMÁ\",LOOKUP(7,GEfectos!$J$4:$P$4,GEfectos!J254:P254))))))))","v":257.81050821900396},{"$f":"IF(EFECTOS!$N$9=\"COSTA RICA\",LOOKUP(1,GEfectos!$Q$4:$W$4,GEfectos!Q254:W254),IF(EFECTOS!$N$9=\"EL SALVADOR\",LOOKUP(2,GEfectos!$Q$4:$W$4,GEfectos!Q254:W254),IF(EFECTOS!$N$9=\"GUATEMALA\",LOOKUP(3,GEfectos!$Q$4:$W$4,GEfectos!Q254:W254),IF(EFECTOS!$N$9=\"HONDURAS\",LOOKUP(4,GEfectos!$Q$4:$W$4,GEfectos!Q254:W254),IF(EFECTOS!$N$9=\"NICARAGUA\",LOOKUP(5,GEfectos!$Q$4:$W$4,GEfectos!Q254:W254),IF(EFECTOS!$N$9=\"REPÚBLICA \nDOMINICANA\",LOOKUP(6,$Q$4:$W$4,Q254:W254),IF(EFECTOS!$N$9=\"PANAMÁ\",LOOKUP(7,GEfectos!$Q$4:$W$4,GEfectos!Q254:W254))))))))","v":186.037499131809},100]
[null,{"$f":"'ITCER GLOBAL'!B255","v":"Octubre"},{"$f":"'ITCER GLOBAL'!C255","v":76.576292025511464},{"$f":"'ITCER GLOBAL'!D255","v":100.72617970110974},{"$f":"'ITCER GLOBAL'!E255","v":60.197584178713974},{"$f":"'ITCER GLOBAL'!F255","v":82.725643035637745},{"$f":"'ITCER GLOBAL'!G255","v":107.1958854672485},{"$f":"'ITCER GLOBAL'!H255","v":138.31642698185999},{"$f":"'ITCER GLOBAL'!I255","v":93.297368748961318},{"$f":"'ITCER GLOBAL'!S255","v":162.29809448636155},{"$f":"'ITCER GLOBAL'!T255","v":91.152136588875408},{"$f":"'ITCER GLOBAL'!U255","v":90.569989194832516},{"$f":"'ITCER GLOBAL'!V255","v":138.9387135526614},{"$f":"'ITCER GLOBAL'!W255","v":194.93441760159257},{"$f":"'ITCER GLOBAL'!X255","v":259.03559189257436},{"$f":"'ITCER GLOBAL'!Y255","v":98.082682187788933},{"$f":"'ITCER GLOBAL'!AA255","v":211.94300506518621},{"$f":"'ITCER GLOBAL'!AB255","v":90.49498041061031},{"$f":"'ITCER GLOBAL'!AC255","v":150.45452476290288},{"$f":"'ITCER GLOBAL'!AD255","v":167.95120406958623},{"$f":"'ITCER GLOBAL'!AE255","v":181.84878715438271},{"$f":"'ITCER GLOBAL'!AF255","v":187.27753278831193},{"$f":"'ITCER GLOBAL'!AG255","v":105.12909796170527},null,{"$f":"IF(EFECTOS!$N$9=\"COSTA RICA\",LOOKUP(1,GEfectos!$C$4:$I$4,GEfectos!C255:I255),IF(EFECTOS!$N$9=\"EL SALVADOR\",LOOKUP(2,GEfectos!$C$4:$I$4,GEfectos!C255:I255),IF(EFECTOS!$N$9=\"GUATEMALA\",LOOKUP(3,GEfectos!$C$4:$I$4,GEfectos!C255:I255),IF(EFECTOS!$N$9=\"HONDURAS\",LOOKUP(4,GEfectos!$C$4:$I$4,GEfectos!C255:I255),IF(EFECTOS!$N$9=\"NICARAGUA\",LOOKUP(5,GEfectos!$C$4:$I$4,GEfectos!C255:I255),IF(EFECTOS!$N$9=\"REPÚBLICA \nDOMINICANA\",LOOKUP(6,$C$4:$I$4,C255:I255),IF(EFECTOS!$N$9=\"PANAMÁ\",LOOKUP(7,GEfectos!$C$4:$I$4,GEfectos!C255:I255))))))))","v":138.31642698185999},{"$f":"IF(EFECTOS!$N$9=\"COSTA RICA\",LOOKUP(1,GEfectos!$J$4:$P$4,GEfectos!J255:P255),IF(EFECTOS!$N$9=\"EL SALVADOR\",LOOKUP(2,GEfectos!$J$4:$P$4,GEfectos!J255:P255),IF(EFECTOS!$N$9=\"GUATEMALA\",LOOKUP(3,GEfectos!$J$4:$P$4,GEfectos!J255:P255),IF(EFECTOS!$N$9=\"HONDURAS\",LOOKUP(4,GEfectos!$J$4:$P$4,GEfectos!J255:P255),IF(EFECTOS!$N$9=\"NICARAGUA\",LOOKUP(5,GEfectos!$J$4:$P$4,GEfectos!J255:P255),IF(EFECTOS!$N$9=\"REPÚBLICA \nDOMINICANA\",LOOKUP(6,$J$4:$P$4,J255:P255),IF(EFECTOS!$N$9=\"PANAMÁ\",LOOKUP(7,GEfectos!$J$4:$P$4,GEfectos!J255:P255))))))))","v":259.03559189257436},{"$f":"IF(EFECTOS!$N$9=\"COSTA RICA\",LOOKUP(1,GEfectos!$Q$4:$W$4,GEfectos!Q255:W255),IF(EFECTOS!$N$9=\"EL SALVADOR\",LOOKUP(2,GEfectos!$Q$4:$W$4,GEfectos!Q255:W255),IF(EFECTOS!$N$9=\"GUATEMALA\",LOOKUP(3,GEfectos!$Q$4:$W$4,GEfectos!Q255:W255),IF(EFECTOS!$N$9=\"HONDURAS\",LOOKUP(4,GEfectos!$Q$4:$W$4,GEfectos!Q255:W255),IF(EFECTOS!$N$9=\"NICARAGUA\",LOOKUP(5,GEfectos!$Q$4:$W$4,GEfectos!Q255:W255),IF(EFECTOS!$N$9=\"REPÚBLICA \nDOMINICANA\",LOOKUP(6,$Q$4:$W$4,Q255:W255),IF(EFECTOS!$N$9=\"PANAMÁ\",LOOKUP(7,GEfectos!$Q$4:$W$4,GEfectos!Q255:W255))))))))","v":187.27753278831193},100]
[null,{"$f":"'ITCER GLOBAL'!B256","v":"Noviembre"},{"$f":"'ITCER GLOBAL'!C256","v":75.856846767801883},{"$f":"'ITCER GLOBAL'!D256","v":100.47974881957555},{"$f":"'ITCER GLOBAL'!E256","v":59.277496024521824},{"$f":"'ITCER GLOBAL'!F256","v":82.525876015190192},{"$f":"'ITCER GLOBAL'!G256","v":106.67108267235501},{"$f":"'ITCER GLOBAL'!H256","v":137.18427744231667},{"$f":"'ITCER GLOBAL'!I256","v":92.3106222534811},{"$f":"'ITCER GLOBAL'!S256","v":160.89826228198331},{"$f":"'ITCER GLOBAL'!T256","v":90.88648495965343},{"$f":"'ITCER GLOBAL'!U256","v":89.656608109816773},{"$f":"'ITCER GLOBAL'!V256","v":138.56372893870869},{"$f":"'ITCER GLOBAL'!W256","v":194.68307031214653},{"$f":"'ITCER GLOBAL'!X256","v":257.47511041229967},{"$f":"'ITCER GLOBAL'!Y256","v":97.124515726486621},{"$f":"'ITCER GLOBAL'!AA256","v":212.10776500438192},{"$f":"'ITCER GLOBAL'!AB256","v":90.452539966886206},{"$f":"'ITCER GLOBAL'!AC256","v":151.24898000537635},{"$f":"'ITCER GLOBAL'!AD256","v":167.903372407951},{"$f":"'ITCER GLOBAL'!AE256","v":182.50782258404956},{"$f":"'ITCER GLOBAL'!AF256","v":187.68558264307146},{"$f":"'ITCER GLOBAL'!AG256","v":105.21488573632054},null,{"$f":"IF(EFECTOS!$N$9=\"COSTA RICA\",LOOKUP(1,GEfectos!$C$4:$I$4,GEfectos!C256:I256),IF(EFECTOS!$N$9=\"EL SALVADOR\",LOOKUP(2,GEfectos!$C$4:$I$4,GEfectos!C256:I256),IF(EFECTOS!$N$9=\"GUATEMALA\",LOOKUP(3,GEfectos!$C$4:$I$4,GEfectos!C256:I256),IF(EFECTOS!$N$9=\"HONDURAS\",LOOKUP(4,GEfectos!$C$4:$I$4,GEfectos!C256:I256),IF(EFECTOS!$N$9=\"NICARAGUA\",LOOKUP(5,GEfectos!$C$4:$I$4,GEfectos!C256:I256),IF(EFECTOS!$N$9=\"REPÚBLICA \nDOMINICANA\",LOOKUP(6,$C$4:$I$4,C256:I256),IF(EFECTOS!$N$9=\"PANAMÁ\",LOOKUP(7,GEfectos!$C$4:$I$4,GEfectos!C256:I256))))))))","v":137.18427744231667},{"$f":"IF(EFECTOS!$N$9=\"COSTA RICA\",LOOKUP(1,GEfectos!$J$4:$P$4,GEfectos!J256:P256),IF(EFECTOS!$N$9=\"EL SALVADOR\",LOOKUP(2,GEfectos!$J$4:$P$4,GEfectos!J256:P256),IF(EFECTOS!$N$9=\"GUATEMALA\",LOOKUP(3,GEfectos!$J$4:$P$4,GEfectos!J256:P256),IF(EFECTOS!$N$9=\"HONDURAS\",LOOKUP(4,GEfectos!$J$4:$P$4,GEfectos!J256:P256),IF(EFECTOS!$N$9=\"NICARAGUA\",LOOKUP(5,GEfectos!$J$4:$P$4,GEfectos!J256:P256),IF(EFECTOS!$N$9=\"REPÚBLICA \nDOMINICANA\",LOOKUP(6,$J$4:$P$4,J256:P256),IF(EFECTOS!$N$9=\"PANAMÁ\",LOOKUP(7,GEfectos!$J$4:$P$4,GEfectos!J256:P256))))))))","v":257.47511041229967},{"$f":"IF(EFECTOS!$N$9=\"COSTA RICA\",LOOKUP(1,GEfectos!$Q$4:$W$4,GEfectos!Q256:W256),IF(EFECTOS!$N$9=\"EL SALVADOR\",LOOKUP(2,GEfectos!$Q$4:$W$4,GEfectos!Q256:W256),IF(EFECTOS!$N$9=\"GUATEMALA\",LOOKUP(3,GEfectos!$Q$4:$W$4,GEfectos!Q256:W256),IF(EFECTOS!$N$9=\"HONDURAS\",LOOKUP(4,GEfectos!$Q$4:$W$4,GEfectos!Q256:W256),IF(EFECTOS!$N$9=\"NICARAGUA\",LOOKUP(5,GEfectos!$Q$4:$W$4,GEfectos!Q256:W256),IF(EFECTOS!$N$9=\"REPÚBLICA \nDOMINICANA\",LOOKUP(6,$Q$4:$W$4,Q256:W256),IF(EFECTOS!$N$9=\"PANAMÁ\",LOOKUP(7,GEfectos!$Q$4:$W$4,GEfectos!Q256:W256))))))))","v":187.68558264307146},100]
[null,{"$f":"'ITCER GLOBAL'!B257","v":"Diciembre"},{"$f":"'ITCER GLOBAL'!C257","v":75.577129373447548},{"$f":"'ITCER GLOBAL'!D257","v":100.21980523081611},{"$f":"'ITCER GLOBAL'!E257","v":58.482903401677561},{"$f":"'ITCER GLOBAL'!F257","v":82.830579297259817},{"$f":"'ITCER GLOBAL'!G257","v":105.33751327632278},{"$f":"'ITCER GLOBAL'!H257","v":136.43828145829519},{"$f":"'ITCER GLOBAL'!I257","v":91.943246276134929},{"$f":"'ITCER GLOBAL'!S257","v":160.65729731398505},{"$f":"'ITCER GLOBAL'!T257","v":90.578712416259933},{"$f":"'ITCER GLOBAL'!U257","v":88.849467130761667},{"$f":"'ITCER GLOBAL'!V257","v":139.08802053829359},{"$f":"'ITCER GLOBAL'!W257","v":194.05672783718137},{"$f":"'ITCER GLOBAL'!X257","v":256.36844357130298},{"$f":"'ITCER GLOBAL'!Y257","v":96.598353838256983},{"$f":"'ITCER GLOBAL'!AA257","v":212.57396072842724},{"$f":"'ITCER GLOBAL'!AB257","v":90.380052333616305},{"$f":"'ITCER GLOBAL'!AC257","v":151.92383066298493},{"$f":"'ITCER GLOBAL'!AD257","v":167.91868621265922},{"$f":"'ITCER GLOBAL'!AE257","v":184.22376017946158},{"$f":"'ITCER GLOBAL'!AF257","v":187.90066895533758},{"$f":"'ITCER GLOBAL'!AG257","v":105.06302284361517},null,{"$f":"IF(EFECTOS!$N$9=\"COSTA RICA\",LOOKUP(1,GEfectos!$C$4:$I$4,GEfectos!C257:I257),IF(EFECTOS!$N$9=\"EL SALVADOR\",LOOKUP(2,GEfectos!$C$4:$I$4,GEfectos!C257:I257),IF(EFECTOS!$N$9=\"GUATEMALA\",LOOKUP(3,GEfectos!$C$4:$I$4,GEfectos!C257:I257),IF(EFECTOS!$N$9=\"HONDURAS\",LOOKUP(4,GEfectos!$C$4:$I$4,GEfectos!C257:I257),IF(EFECTOS!$N$9=\"NICARAGUA\",LOOKUP(5,GEfectos!$C$4:$I$4,GEfectos!C257:I257),IF(EFECTOS!$N$9=\"REPÚBLICA \nDOMINICANA\",LOOKUP(6,$C$4:$I$4,C257:I257),IF(EFECTOS!$N$9=\"PANAMÁ\",LOOKUP(7,GEfectos!$C$4:$I$4,GEfectos!C257:I257))))))))","v":136.43828145829519},{"$f":"IF(EFECTOS!$N$9=\"COSTA RICA\",LOOKUP(1,GEfectos!$J$4:$P$4,GEfectos!J257:P257),IF(EFECTOS!$N$9=\"EL SALVADOR\",LOOKUP(2,GEfectos!$J$4:$P$4,GEfectos!J257:P257),IF(EFECTOS!$N$9=\"GUATEMALA\",LOOKUP(3,GEfectos!$J$4:$P$4,GEfectos!J257:P257),IF(EFECTOS!$N$9=\"HONDURAS\",LOOKUP(4,GEfectos!$J$4:$P$4,GEfectos!J257:P257),IF(EFECTOS!$N$9=\"NICARAGUA\",LOOKUP(5,GEfectos!$J$4:$P$4,GEfectos!J257:P257),IF(EFECTOS!$N$9=\"REPÚBLICA \nDOMINICANA\",LOOKUP(6,$J$4:$P$4,J257:P257),IF(EFECTOS!$N$9=\"PANAMÁ\",LOOKUP(7,GEfectos!$J$4:$P$4,GEfectos!J257:P257))))))))","v":256.36844357130298},{"$f":"IF(EFECTOS!$N$9=\"COSTA RICA\",LOOKUP(1,GEfectos!$Q$4:$W$4,GEfectos!Q257:W257),IF(EFECTOS!$N$9=\"EL SALVADOR\",LOOKUP(2,GEfectos!$Q$4:$W$4,GEfectos!Q257:W257),IF(EFECTOS!$N$9=\"GUATEMALA\",LOOKUP(3,GEfectos!$Q$4:$W$4,GEfectos!Q257:W257),IF(EFECTOS!$N$9=\"HONDURAS\",LOOKUP(4,GEfectos!$Q$4:$W$4,GEfectos!Q257:W257),IF(EFECTOS!$N$9=\"NICARAGUA\",LOOKUP(5,GEfectos!$Q$4:$W$4,GEfectos!Q257:W257),IF(EFECTOS!$N$9=\"REPÚBLICA \nDOMINICANA\",LOOKUP(6,$Q$4:$W$4,Q257:W257),IF(EFECTOS!$N$9=\"PANAMÁ\",LOOKUP(7,GEfectos!$Q$4:$W$4,GEfectos!Q257:W257))))))))","v":187.90066895533758},100]
[2016,{"$f":"'ITCER GLOBAL'!B258","v":"Enero"},{"$f":"'ITCER GLOBAL'!C258","v":75.062389681147053},{"$f":"'ITCER GLOBAL'!D258","v":99.953847169271313},{"$f":"'ITCER GLOBAL'!E258","v":58.052807813694848},{"$f":"'ITCER GLOBAL'!F258","v":83.245542017319721},{"$f":"'ITCER GLOBAL'!G258","v":103.26993368469704},{"$f":"'ITCER GLOBAL'!H258","v":129.84379075123312},{"$f":"'ITCER GLOBAL'!I258","v":90.93045909129053},{"$f":"'ITCER GLOBAL'!S258","v":159.10580794375008},{"$f":"'ITCER GLOBAL'!T258","v":89.958265449803349},{"$f":"'ITCER GLOBAL'!U258","v":88.924931509671566},{"$f":"'ITCER GLOBAL'!V258","v":140.57765738901264},{"$f":"'ITCER GLOBAL'!W258","v":192.76878051112794},{"$f":"'ITCER GLOBAL'!X258","v":257.97998636488296},{"$f":"'ITCER GLOBAL'!Y258","v":95.898079469547298},{"$f":"'ITCER GLOBAL'!AA258","v":211.96475174798715},{"$f":"'ITCER GLOBAL'!AB258","v":89.999802906494935},{"$f":"'ITCER GLOBAL'!AC258","v":153.17938073736698},{"$f":"'ITCER GLOBAL'!AD258","v":168.87109385360796},{"$f":"'ITCER GLOBAL'!AE258","v":186.66496010318752},{"$f":"'ITCER GLOBAL'!AF258","v":198.68488502399407},{"$f":"'ITCER GLOBAL'!AG258","v":105.46309831480065},null,{"$f":"IF(EFECTOS!$N$9=\"COSTA RICA\",LOOKUP(1,GEfectos!$C$4:$I$4,GEfectos!C258:I258),IF(EFECTOS!$N$9=\"EL SALVADOR\",LOOKUP(2,GEfectos!$C$4:$I$4,GEfectos!C258:I258),IF(EFECTOS!$N$9=\"GUATEMALA\",LOOKUP(3,GEfectos!$C$4:$I$4,GEfectos!C258:I258),IF(EFECTOS!$N$9=\"HONDURAS\",LOOKUP(4,GEfectos!$C$4:$I$4,GEfectos!C258:I258),IF(EFECTOS!$N$9=\"NICARAGUA\",LOOKUP(5,GEfectos!$C$4:$I$4,GEfectos!C258:I258),IF(EFECTOS!$N$9=\"REPÚBLICA \nDOMINICANA\",LOOKUP(6,$C$4:$I$4,C258:I258),IF(EFECTOS!$N$9=\"PANAMÁ\",LOOKUP(7,GEfectos!$C$4:$I$4,GEfectos!C258:I258))))))))","v":129.84379075123312},{"$f":"IF(EFECTOS!$N$9=\"COSTA RICA\",LOOKUP(1,GEfectos!$J$4:$P$4,GEfectos!J258:P258),IF(EFECTOS!$N$9=\"EL SALVADOR\",LOOKUP(2,GEfectos!$J$4:$P$4,GEfectos!J258:P258),IF(EFECTOS!$N$9=\"GUATEMALA\",LOOKUP(3,GEfectos!$J$4:$P$4,GEfectos!J258:P258),IF(EFECTOS!$N$9=\"HONDURAS\",LOOKUP(4,GEfectos!$J$4:$P$4,GEfectos!J258:P258),IF(EFECTOS!$N$9=\"NICARAGUA\",LOOKUP(5,GEfectos!$J$4:$P$4,GEfectos!J258:P258),IF(EFECTOS!$N$9=\"REPÚBLICA \nDOMINICANA\",LOOKUP(6,$J$4:$P$4,J258:P258),IF(EFECTOS!$N$9=\"PANAMÁ\",LOOKUP(7,GEfectos!$J$4:$P$4,GEfectos!J258:P258))))))))","v":257.97998636488296},{"$f":"IF(EFECTOS!$N$9=\"COSTA RICA\",LOOKUP(1,GEfectos!$Q$4:$W$4,GEfectos!Q258:W258),IF(EFECTOS!$N$9=\"EL SALVADOR\",LOOKUP(2,GEfectos!$Q$4:$W$4,GEfectos!Q258:W258),IF(EFECTOS!$N$9=\"GUATEMALA\",LOOKUP(3,GEfectos!$Q$4:$W$4,GEfectos!Q258:W258),IF(EFECTOS!$N$9=\"HONDURAS\",LOOKUP(4,GEfectos!$Q$4:$W$4,GEfectos!Q258:W258),IF(EFECTOS!$N$9=\"NICARAGUA\",LOOKUP(5,GEfectos!$Q$4:$W$4,GEfectos!Q258:W258),IF(EFECTOS!$N$9=\"REPÚBLICA \nDOMINICANA\",LOOKUP(6,$Q$4:$W$4,Q258:W258),IF(EFECTOS!$N$9=\"PANAMÁ\",LOOKUP(7,GEfectos!$Q$4:$W$4,GEfectos!Q258:W258))))))))","v":198.68488502399407},100]
[null,{"$f":"'ITCER GLOBAL'!B259","v":"Febrero"},{"$f":"'ITCER GLOBAL'!C259","v":75.546103242834121},{"$f":"'ITCER GLOBAL'!D259","v":100.51724631350118},{"$f":"'ITCER GLOBAL'!E259","v":58.221697896967967},{"$f":"'ITCER GLOBAL'!F259","v":83.724291447075956},{"$f":"'ITCER GLOBAL'!G259","v":103.1355693359635},{"$f":"'ITCER GLOBAL'!H259","v":131.64876580977028},{"$f":"'ITCER GLOBAL'!I259","v":91.481510517949857},{"$f":"'ITCER GLOBAL'!S259","v":159.5572543353189},{"$f":"'ITCER GLOBAL'!T259","v":89.928797813006753},{"$f":"'ITCER GLOBAL'!U259","v":89.100832687759791},{"$f":"'ITCER GLOBAL'!V259","v":141.6583139079259},{"$f":"'ITCER GLOBAL'!W259","v":193.68963636385118},{"$f":"'ITCER GLOBAL'!X259","v":259.06690054925423},{"$f":"'ITCER GLOBAL'!Y259","v":96.159876863536439},{"$f":"'ITCER GLOBAL'!AA259","v":211.20514161060137},{"$f":"'ITCER GLOBAL'!AB259","v":89.466038029463789},{"$f":"'ITCER GLOBAL'!AC259","v":153.03715952330538},{"$f":"'ITCER GLOBAL'!AD259","v":169.19619319498378},{"$f":"'ITCER GLOBAL'!AE259","v":187.80100561902981},{"$f":"'ITCER GLOBAL'!AF259","v":196.78642557394005},{"$f":"'ITCER GLOBAL'!AG259","v":105.11400207440676},null,{"$f":"IF(EFECTOS!$N$9=\"COSTA RICA\",LOOKUP(1,GEfectos!$C$4:$I$4,GEfectos!C259:I259),IF(EFECTOS!$N$9=\"EL SALVADOR\",LOOKUP(2,GEfectos!$C$4:$I$4,GEfectos!C259:I259),IF(EFECTOS!$N$9=\"GUATEMALA\",LOOKUP(3,GEfectos!$C$4:$I$4,GEfectos!C259:I259),IF(EFECTOS!$N$9=\"HONDURAS\",LOOKUP(4,GEfectos!$C$4:$I$4,GEfectos!C259:I259),IF(EFECTOS!$N$9=\"NICARAGUA\",LOOKUP(5,GEfectos!$C$4:$I$4,GEfectos!C259:I259),IF(EFECTOS!$N$9=\"REPÚBLICA \nDOMINICANA\",LOOKUP(6,$C$4:$I$4,C259:I259),IF(EFECTOS!$N$9=\"PANAMÁ\",LOOKUP(7,GEfectos!$C$4:$I$4,GEfectos!C259:I259))))))))","v":131.64876580977028},{"$f":"IF(EFECTOS!$N$9=\"COSTA RICA\",LOOKUP(1,GEfectos!$J$4:$P$4,GEfectos!J259:P259),IF(EFECTOS!$N$9=\"EL SALVADOR\",LOOKUP(2,GEfectos!$J$4:$P$4,GEfectos!J259:P259),IF(EFECTOS!$N$9=\"GUATEMALA\",LOOKUP(3,GEfectos!$J$4:$P$4,GEfectos!J259:P259),IF(EFECTOS!$N$9=\"HONDURAS\",LOOKUP(4,GEfectos!$J$4:$P$4,GEfectos!J259:P259),IF(EFECTOS!$N$9=\"NICARAGUA\",LOOKUP(5,GEfectos!$J$4:$P$4,GEfectos!J259:P259),IF(EFECTOS!$N$9=\"REPÚBLICA \nDOMINICANA\",LOOKUP(6,$J$4:$P$4,J259:P259),IF(EFECTOS!$N$9=\"PANAMÁ\",LOOKUP(7,GEfectos!$J$4:$P$4,GEfectos!J259:P259))))))))","v":259.06690054925423},{"$f":"IF(EFECTOS!$N$9=\"COSTA RICA\",LOOKUP(1,GEfectos!$Q$4:$W$4,GEfectos!Q259:W259),IF(EFECTOS!$N$9=\"EL SALVADOR\",LOOKUP(2,GEfectos!$Q$4:$W$4,GEfectos!Q259:W259),IF(EFECTOS!$N$9=\"GUATEMALA\",LOOKUP(3,GEfectos!$Q$4:$W$4,GEfectos!Q259:W259),IF(EFECTOS!$N$9=\"HONDURAS\",LOOKUP(4,GEfectos!$Q$4:$W$4,GEfectos!Q259:W259),IF(EFECTOS!$N$9=\"NICARAGUA\",LOOKUP(5,GEfectos!$Q$4:$W$4,GEfectos!Q259:W259),IF(EFECTOS!$N$9=\"REPÚBLICA \nDOMINICANA\",LOOKUP(6,$Q$4:$W$4,Q259:W259),IF(EFECTOS!$N$9=\"PANAMÁ\",LOOKUP(7,GEfectos!$Q$4:$W$4,GEfectos!Q259:W259))))))))","v":196.78642557394005},100]
[null,{"$f":"'ITCER GLOBAL'!B260","v":"Marzo"},{"$f":"'ITCER GLOBAL'!C260","v":76.869608857648998},{"$f":"'ITCER GLOBAL'!D260","v":101.3083115571591},{"$f":"'ITCER GLOBAL'!E260","v":59.152916967674621},{"$f":"'ITCER GLOBAL'!F260","v":84.399159439484052},{"$f":"'ITCER GLOBAL'!G260","v":103.79973113847221},{"$f":"'ITCER GLOBAL'!H260","v":133.3117456808645},{"$f":"'ITCER GLOBAL'!I260","v":92.476311631119827},{"$f":"'ITCER GLOBAL'!S260","v":160.27894502429007},{"$f":"'ITCER GLOBAL'!T260","v":90.336976784514476},{"$f":"'ITCER GLOBAL'!U260","v":90.47230677046457},{"$f":"'ITCER GLOBAL'!V260","v":142.70150712534735},{"$f":"'ITCER GLOBAL'!W260","v":195.79578474439327},{"$f":"'ITCER GLOBAL'!X260","v":261.29803829419137},{"$f":"'ITCER GLOBAL'!Y260","v":97.210888791747237},{"$f":"'ITCER GLOBAL'!AA260","v":208.50755897704988},{"$f":"'ITCER GLOBAL'!AB260","v":89.170350779704293},{"$f":"'ITCER GLOBAL'!AC260","v":152.94648414363928},{"$f":"'ITCER GLOBAL'!AD260","v":169.07929898006543},{"$f":"'ITCER GLOBAL'!AE260","v":188.62841222892507},{"$f":"'ITCER GLOBAL'!AF260","v":196.0052634219596},{"$f":"'ITCER GLOBAL'!AG260","v":105.11977292034875},null,{"$f":"IF(EFECTOS!$N$9=\"COSTA RICA\",LOOKUP(1,GEfectos!$C$4:$I$4,GEfectos!C260:I260),IF(EFECTOS!$N$9=\"EL SALVADOR\",LOOKUP(2,GEfectos!$C$4:$I$4,GEfectos!C260:I260),IF(EFECTOS!$N$9=\"GUATEMALA\",LOOKUP(3,GEfectos!$C$4:$I$4,GEfectos!C260:I260),IF(EFECTOS!$N$9=\"HONDURAS\",LOOKUP(4,GEfectos!$C$4:$I$4,GEfectos!C260:I260),IF(EFECTOS!$N$9=\"NICARAGUA\",LOOKUP(5,GEfectos!$C$4:$I$4,GEfectos!C260:I260),IF(EFECTOS!$N$9=\"REPÚBLICA \nDOMINICANA\",LOOKUP(6,$C$4:$I$4,C260:I260),IF(EFECTOS!$N$9=\"PANAMÁ\",LOOKUP(7,GEfectos!$C$4:$I$4,GEfectos!C260:I260))))))))","v":133.3117456808645},{"$f":"IF(EFECTOS!$N$9=\"COSTA RICA\",LOOKUP(1,GEfectos!$J$4:$P$4,GEfectos!J260:P260),IF(EFECTOS!$N$9=\"EL SALVADOR\",LOOKUP(2,GEfectos!$J$4:$P$4,GEfectos!J260:P260),IF(EFECTOS!$N$9=\"GUATEMALA\",LOOKUP(3,GEfectos!$J$4:$P$4,GEfectos!J260:P260),IF(EFECTOS!$N$9=\"HONDURAS\",LOOKUP(4,GEfectos!$J$4:$P$4,GEfectos!J260:P260),IF(EFECTOS!$N$9=\"NICARAGUA\",LOOKUP(5,GEfectos!$J$4:$P$4,GEfectos!J260:P260),IF(EFECTOS!$N$9=\"REPÚBLICA \nDOMINICANA\",LOOKUP(6,$J$4:$P$4,J260:P260),IF(EFECTOS!$N$9=\"PANAMÁ\",LOOKUP(7,GEfectos!$J$4:$P$4,GEfectos!J260:P260))))))))","v":261.29803829419137},{"$f":"IF(EFECTOS!$N$9=\"COSTA RICA\",LOOKUP(1,GEfectos!$Q$4:$W$4,GEfectos!Q260:W260),IF(EFECTOS!$N$9=\"EL SALVADOR\",LOOKUP(2,GEfectos!$Q$4:$W$4,GEfectos!Q260:W260),IF(EFECTOS!$N$9=\"GUATEMALA\",LOOKUP(3,GEfectos!$Q$4:$W$4,GEfectos!Q260:W260),IF(EFECTOS!$N$9=\"HONDURAS\",LOOKUP(4,GEfectos!$Q$4:$W$4,GEfectos!Q260:W260),IF(EFECTOS!$N$9=\"NICARAGUA\",LOOKUP(5,GEfectos!$Q$4:$W$4,GEfectos!Q260:W260),IF(EFECTOS!$N$9=\"REPÚBLICA \nDOMINICANA\",LOOKUP(6,$Q$4:$W$4,Q260:W260),IF(EFECTOS!$N$9=\"PANAMÁ\",LOOKUP(7,GEfectos!$Q$4:$W$4,GEfectos!Q260:W260))))))))","v":196.0052634219596},100]
[null,{"$f":"'ITCER GLOBAL'!B261","v":"Abril"},{"$f":"'ITCER GLOBAL'!C261","v":77.561319416368576},{"$f":"'ITCER GLOBAL'!D261","v":102.16422067354432},{"$f":"'ITCER GLOBAL'!E261","v":59.598104184820173},{"$f":"'ITCER GLOBAL'!F261","v":84.67183931502143},{"$f":"'ITCER GLOBAL'!G261","v":104.46233023792692},{"$f":"'ITCER GLOBAL'!H261","v":134.88909718691787},{"$f":"'ITCER GLOBAL'!I261","v":93.071924025791617},{"$f":"'ITCER GLOBAL'!S261","v":161.44656422024502},{"$f":"'ITCER GLOBAL'!T261","v":90.632904854088821},{"$f":"'ITCER GLOBAL'!U261","v":91.121706332037306},{"$f":"'ITCER GLOBAL'!V261","v":143.1391677393475},{"$f":"'ITCER GLOBAL'!W261","v":196.98884755664031},{"$f":"'ITCER GLOBAL'!X261","v":263.27743465067982},{"$f":"'ITCER GLOBAL'!Y261","v":98.104688636282148},{"$f":"'ITCER GLOBAL'!AA261","v":208.15345256513683},{"$f":"'ITCER GLOBAL'!AB261","v":88.712960620232522},{"$f":"'ITCER GLOBAL'!AC261","v":152.89363240390838},{"$f":"'ITCER GLOBAL'!AD261","v":169.05168105159319},{"$f":"'ITCER GLOBAL'!AE261","v":188.57405067259353},{"$f":"'ITCER GLOBAL'!AF261","v":195.1806633310417},{"$f":"'ITCER GLOBAL'!AG261","v":105.40739289873915},null,{"$f":"IF(EFECTOS!$N$9=\"COSTA RICA\",LOOKUP(1,GEfectos!$C$4:$I$4,GEfectos!C261:I261),IF(EFECTOS!$N$9=\"EL SALVADOR\",LOOKUP(2,GEfectos!$C$4:$I$4,GEfectos!C261:I261),IF(EFECTOS!$N$9=\"GUATEMALA\",LOOKUP(3,GEfectos!$C$4:$I$4,GEfectos!C261:I261),IF(EFECTOS!$N$9=\"HONDURAS\",LOOKUP(4,GEfectos!$C$4:$I$4,GEfectos!C261:I261),IF(EFECTOS!$N$9=\"NICARAGUA\",LOOKUP(5,GEfectos!$C$4:$I$4,GEfectos!C261:I261),IF(EFECTOS!$N$9=\"REPÚBLICA \nDOMINICANA\",LOOKUP(6,$C$4:$I$4,C261:I261),IF(EFECTOS!$N$9=\"PANAMÁ\",LOOKUP(7,GEfectos!$C$4:$I$4,GEfectos!C261:I261))))))))","v":134.88909718691787},{"$f":"IF(EFECTOS!$N$9=\"COSTA RICA\",LOOKUP(1,GEfectos!$J$4:$P$4,GEfectos!J261:P261),IF(EFECTOS!$N$9=\"EL SALVADOR\",LOOKUP(2,GEfectos!$J$4:$P$4,GEfectos!J261:P261),IF(EFECTOS!$N$9=\"GUATEMALA\",LOOKUP(3,GEfectos!$J$4:$P$4,GEfectos!J261:P261),IF(EFECTOS!$N$9=\"HONDURAS\",LOOKUP(4,GEfectos!$J$4:$P$4,GEfectos!J261:P261),IF(EFECTOS!$N$9=\"NICARAGUA\",LOOKUP(5,GEfectos!$J$4:$P$4,GEfectos!J261:P261),IF(EFECTOS!$N$9=\"REPÚBLICA \nDOMINICANA\",LOOKUP(6,$J$4:$P$4,J261:P261),IF(EFECTOS!$N$9=\"PANAMÁ\",LOOKUP(7,GEfectos!$J$4:$P$4,GEfectos!J261:P261))))))))","v":263.27743465067982},{"$f":"IF(EFECTOS!$N$9=\"COSTA RICA\",LOOKUP(1,GEfectos!$Q$4:$W$4,GEfectos!Q261:W261),IF(EFECTOS!$N$9=\"EL SALVADOR\",LOOKUP(2,GEfectos!$Q$4:$W$4,GEfectos!Q261:W261),IF(EFECTOS!$N$9=\"GUATEMALA\",LOOKUP(3,GEfectos!$Q$4:$W$4,GEfectos!Q261:W261),IF(EFECTOS!$N$9=\"HONDURAS\",LOOKUP(4,GEfectos!$Q$4:$W$4,GEfectos!Q261:W261),IF(EFECTOS!$N$9=\"NICARAGUA\",LOOKUP(5,GEfectos!$Q$4:$W$4,GEfectos!Q261:W261),IF(EFECTOS!$N$9=\"REPÚBLICA \nDOMINICANA\",LOOKUP(6,$Q$4:$W$4,Q261:W261),IF(EFECTOS!$N$9=\"PANAMÁ\",LOOKUP(7,GEfectos!$Q$4:$W$4,GEfectos!Q261:W261))))))))","v":195.1806633310417},100]
[null,{"$f":"'ITCER GLOBAL'!B262","v":"Mayo"},{"$f":"'ITCER GLOBAL'!C262","v":77.533575528706393},{"$f":"'ITCER GLOBAL'!D262","v":102.16123346954011},{"$f":"'ITCER GLOBAL'!E262","v":58.471684391590074},{"$f":"'ITCER GLOBAL'!F262","v":84.423300481153774},{"$f":"'ITCER GLOBAL'!G262","v":103.99699258702935},{"$f":"'ITCER GLOBAL'!H262","v":134.56735339360625},{"$f":"'ITCER GLOBAL'!I262","v":92.580060814175269},{"$f":"'ITCER GLOBAL'!S262","v":161.29874652977801},{"$f":"'ITCER GLOBAL'!T262","v":90.435187815226143},{"$f":"'ITCER GLOBAL'!U262","v":89.63406712721401},{"$f":"'ITCER GLOBAL'!V262","v":142.85303076697068},{"$f":"'ITCER GLOBAL'!W262","v":196.89786257895165},{"$f":"'ITCER GLOBAL'!X262","v":262.55828718243868},{"$f":"'ITCER GLOBAL'!Y262","v":97.585155480936123},{"$f":"'ITCER GLOBAL'!AA262","v":208.03728633675357},{"$f":"'ITCER GLOBAL'!AB262","v":88.52202028491547},{"$f":"'ITCER GLOBAL'!AC262","v":153.29482647861943},{"$f":"'ITCER GLOBAL'!AD262","v":169.21043118760852},{"$f":"'ITCER GLOBAL'!AE262","v":189.33034281176799},{"$f":"'ITCER GLOBAL'!AF262","v":195.11291599416541},{"$f":"'ITCER GLOBAL'!AG262","v":105.40623393714006},null,{"$f":"IF(EFECTOS!$N$9=\"COSTA RICA\",LOOKUP(1,GEfectos!$C$4:$I$4,GEfectos!C262:I262),IF(EFECTOS!$N$9=\"EL SALVADOR\",LOOKUP(2,GEfectos!$C$4:$I$4,GEfectos!C262:I262),IF(EFECTOS!$N$9=\"GUATEMALA\",LOOKUP(3,GEfectos!$C$4:$I$4,GEfectos!C262:I262),IF(EFECTOS!$N$9=\"HONDURAS\",LOOKUP(4,GEfectos!$C$4:$I$4,GEfectos!C262:I262),IF(EFECTOS!$N$9=\"NICARAGUA\",LOOKUP(5,GEfectos!$C$4:$I$4,GEfectos!C262:I262),IF(EFECTOS!$N$9=\"REPÚBLICA \nDOMINICANA\",LOOKUP(6,$C$4:$I$4,C262:I262),IF(EFECTOS!$N$9=\"PANAMÁ\",LOOKUP(7,GEfectos!$C$4:$I$4,GEfectos!C262:I262))))))))","v":134.56735339360625},{"$f":"IF(EFECTOS!$N$9=\"COSTA RICA\",LOOKUP(1,GEfectos!$J$4:$P$4,GEfectos!J262:P262),IF(EFECTOS!$N$9=\"EL SALVADOR\",LOOKUP(2,GEfectos!$J$4:$P$4,GEfectos!J262:P262),IF(EFECTOS!$N$9=\"GUATEMALA\",LOOKUP(3,GEfectos!$J$4:$P$4,GEfectos!J262:P262),IF(EFECTOS!$N$9=\"HONDURAS\",LOOKUP(4,GEfectos!$J$4:$P$4,GEfectos!J262:P262),IF(EFECTOS!$N$9=\"NICARAGUA\",LOOKUP(5,GEfectos!$J$4:$P$4,GEfectos!J262:P262),IF(EFECTOS!$N$9=\"REPÚBLICA \nDOMINICANA\",LOOKUP(6,$J$4:$P$4,J262:P262),IF(EFECTOS!$N$9=\"PANAMÁ\",LOOKUP(7,GEfectos!$J$4:$P$4,GEfectos!J262:P262))))))))","v":262.55828718243868},{"$f":"IF(EFECTOS!$N$9=\"COSTA RICA\",LOOKUP(1,GEfectos!$Q$4:$W$4,GEfectos!Q262:W262),IF(EFECTOS!$N$9=\"EL SALVADOR\",LOOKUP(2,GEfectos!$Q$4:$W$4,GEfectos!Q262:W262),IF(EFECTOS!$N$9=\"GUATEMALA\",LOOKUP(3,GEfectos!$Q$4:$W$4,GEfectos!Q262:W262),IF(EFECTOS!$N$9=\"HONDURAS\",LOOKUP(4,GEfectos!$Q$4:$W$4,GEfectos!Q262:W262),IF(EFECTOS!$N$9=\"NICARAGUA\",LOOKUP(5,GEfectos!$Q$4:$W$4,GEfectos!Q262:W262),IF(EFECTOS!$N$9=\"REPÚBLICA \nDOMINICANA\",LOOKUP(6,$Q$4:$W$4,Q262:W262),IF(EFECTOS!$N$9=\"PANAMÁ\",LOOKUP(7,GEfectos!$Q$4:$W$4,GEfectos!Q262:W262))))))))","v":195.11291599416541},100]
[null,{"$f":"'ITCER GLOBAL'!B263","v":"Junio"},{"$f":"'ITCER GLOBAL'!C263","v":78.403128758381698},{"$f":"'ITCER GLOBAL'!D263","v":102.06506186391169},{"$f":"'ITCER GLOBAL'!E263","v":58.074530946632677},{"$f":"'ITCER GLOBAL'!F263","v":84.31524276058137},{"$f":"'ITCER GLOBAL'!G263","v":104.23228702925896},{"$f":"'ITCER GLOBAL'!H263","v":134.01643442160079},{"$f":"'ITCER GLOBAL'!I263","v":92.570531928947261},{"$f":"'ITCER GLOBAL'!S263","v":162.73846526917592},{"$f":"'ITCER GLOBAL'!T263","v":90.198791354886012},{"$f":"'ITCER GLOBAL'!U263","v":89.247846028605309},{"$f":"'ITCER GLOBAL'!V263","v":143.31076330227592},{"$f":"'ITCER GLOBAL'!W263","v":196.75772197834621},{"$f":"'ITCER GLOBAL'!X263","v":262.38200253641463},{"$f":"'ITCER GLOBAL'!Y263","v":97.322744763375326},{"$f":"'ITCER GLOBAL'!AA263","v":207.5662895682315},{"$f":"'ITCER GLOBAL'!AB263","v":88.373817355004832},{"$f":"'ITCER GLOBAL'!AC263","v":153.67811771156485},{"$f":"'ITCER GLOBAL'!AD263","v":169.97017218964328},{"$f":"'ITCER GLOBAL'!AE263","v":188.76849734968829},{"$f":"'ITCER GLOBAL'!AF263","v":195.78345273012565},{"$f":"'ITCER GLOBAL'!AG263","v":105.13361297099995},null,{"$f":"IF(EFECTOS!$N$9=\"COSTA RICA\",LOOKUP(1,GEfectos!$C$4:$I$4,GEfectos!C263:I263),IF(EFECTOS!$N$9=\"EL SALVADOR\",LOOKUP(2,GEfectos!$C$4:$I$4,GEfectos!C263:I263),IF(EFECTOS!$N$9=\"GUATEMALA\",LOOKUP(3,GEfectos!$C$4:$I$4,GEfectos!C263:I263),IF(EFECTOS!$N$9=\"HONDURAS\",LOOKUP(4,GEfectos!$C$4:$I$4,GEfectos!C263:I263),IF(EFECTOS!$N$9=\"NICARAGUA\",LOOKUP(5,GEfectos!$C$4:$I$4,GEfectos!C263:I263),IF(EFECTOS!$N$9=\"REPÚBLICA \nDOMINICANA\",LOOKUP(6,$C$4:$I$4,C263:I263),IF(EFECTOS!$N$9=\"PANAMÁ\",LOOKUP(7,GEfectos!$C$4:$I$4,GEfectos!C263:I263))))))))","v":134.01643442160079},{"$f":"IF(EFECTOS!$N$9=\"COSTA RICA\",LOOKUP(1,GEfectos!$J$4:$P$4,GEfectos!J263:P263),IF(EFECTOS!$N$9=\"EL SALVADOR\",LOOKUP(2,GEfectos!$J$4:$P$4,GEfectos!J263:P263),IF(EFECTOS!$N$9=\"GUATEMALA\",LOOKUP(3,GEfectos!$J$4:$P$4,GEfectos!J263:P263),IF(EFECTOS!$N$9=\"HONDURAS\",LOOKUP(4,GEfectos!$J$4:$P$4,GEfectos!J263:P263),IF(EFECTOS!$N$9=\"NICARAGUA\",LOOKUP(5,GEfectos!$J$4:$P$4,GEfectos!J263:P263),IF(EFECTOS!$N$9=\"REPÚBLICA \nDOMINICANA\",LOOKUP(6,$J$4:$P$4,J263:P263),IF(EFECTOS!$N$9=\"PANAMÁ\",LOOKUP(7,GEfectos!$J$4:$P$4,GEfectos!J263:P263))))))))","v":262.38200253641463},{"$f":"IF(EFECTOS!$N$9=\"COSTA RICA\",LOOKUP(1,GEfectos!$Q$4:$W$4,GEfectos!Q263:W263),IF(EFECTOS!$N$9=\"EL SALVADOR\",LOOKUP(2,GEfectos!$Q$4:$W$4,GEfectos!Q263:W263),IF(EFECTOS!$N$9=\"GUATEMALA\",LOOKUP(3,GEfectos!$Q$4:$W$4,GEfectos!Q263:W263),IF(EFECTOS!$N$9=\"HONDURAS\",LOOKUP(4,GEfectos!$Q$4:$W$4,GEfectos!Q263:W263),IF(EFECTOS!$N$9=\"NICARAGUA\",LOOKUP(5,GEfectos!$Q$4:$W$4,GEfectos!Q263:W263),IF(EFECTOS!$N$9=\"REPÚBLICA \nDOMINICANA\",LOOKUP(6,$Q$4:$W$4,Q263:W263),IF(EFECTOS!$N$9=\"PANAMÁ\",LOOKUP(7,GEfectos!$Q$4:$W$4,GEfectos!Q263:W263))))))))","v":195.78345273012565},100]
[null,{"$f":"'ITCER GLOBAL'!B264","v":"Julio"},{"$f":"'ITCER GLOBAL'!C264","v":78.289749280087506},{"$f":"'ITCER GLOBAL'!D264","v":102.22493508129996},{"$f":"'ITCER GLOBAL'!E264","v":57.275885536736745},{"$f":"'ITCER GLOBAL'!F264","v":84.387100002415679},{"$f":"'ITCER GLOBAL'!G264","v":104.56414806667223},{"$f":"'ITCER GLOBAL'!H264","v":133.71414912859001},{"$f":"'ITCER GLOBAL'!I264","v":92.388071406006063},{"$f":"'ITCER GLOBAL'!S264","v":164.09706771112343},{"$f":"'ITCER GLOBAL'!T264","v":90.158060240425414},{"$f":"'ITCER GLOBAL'!U264","v":88.631301452641921},{"$f":"'ITCER GLOBAL'!V264","v":143.84432134539105},{"$f":"'ITCER GLOBAL'!W264","v":197.88902274458351},{"$f":"'ITCER GLOBAL'!X264","v":262.31841234313049},{"$f":"'ITCER GLOBAL'!Y264","v":97.235451538762362},{"$f":"'ITCER GLOBAL'!AA264","v":209.60223939925231},{"$f":"'ITCER GLOBAL'!AB264","v":88.195761796006323},{"$f":"'ITCER GLOBAL'!AC264","v":154.7445327506876},{"$f":"'ITCER GLOBAL'!AD264","v":170.45771372789602},{"$f":"'ITCER GLOBAL'!AE264","v":189.25131261855205},{"$f":"'ITCER GLOBAL'!AF264","v":196.17850022054478},{"$f":"'ITCER GLOBAL'!AG264","v":105.24675973747102},null,{"$f":"IF(EFECTOS!$N$9=\"COSTA RICA\",LOOKUP(1,GEfectos!$C$4:$I$4,GEfectos!C264:I264),IF(EFECTOS!$N$9=\"EL SALVADOR\",LOOKUP(2,GEfectos!$C$4:$I$4,GEfectos!C264:I264),IF(EFECTOS!$N$9=\"GUATEMALA\",LOOKUP(3,GEfectos!$C$4:$I$4,GEfectos!C264:I264),IF(EFECTOS!$N$9=\"HONDURAS\",LOOKUP(4,GEfectos!$C$4:$I$4,GEfectos!C264:I264),IF(EFECTOS!$N$9=\"NICARAGUA\",LOOKUP(5,GEfectos!$C$4:$I$4,GEfectos!C264:I264),IF(EFECTOS!$N$9=\"REPÚBLICA \nDOMINICANA\",LOOKUP(6,$C$4:$I$4,C264:I264),IF(EFECTOS!$N$9=\"PANAMÁ\",LOOKUP(7,GEfectos!$C$4:$I$4,GEfectos!C264:I264))))))))","v":133.71414912859001},{"$f":"IF(EFECTOS!$N$9=\"COSTA RICA\",LOOKUP(1,GEfectos!$J$4:$P$4,GEfectos!J264:P264),IF(EFECTOS!$N$9=\"EL SALVADOR\",LOOKUP(2,GEfectos!$J$4:$P$4,GEfectos!J264:P264),IF(EFECTOS!$N$9=\"GUATEMALA\",LOOKUP(3,GEfectos!$J$4:$P$4,GEfectos!J264:P264),IF(EFECTOS!$N$9=\"HONDURAS\",LOOKUP(4,GEfectos!$J$4:$P$4,GEfectos!J264:P264),IF(EFECTOS!$N$9=\"NICARAGUA\",LOOKUP(5,GEfectos!$J$4:$P$4,GEfectos!J264:P264),IF(EFECTOS!$N$9=\"REPÚBLICA \nDOMINICANA\",LOOKUP(6,$J$4:$P$4,J264:P264),IF(EFECTOS!$N$9=\"PANAMÁ\",LOOKUP(7,GEfectos!$J$4:$P$4,GEfectos!J264:P264))))))))","v":262.31841234313049},{"$f":"IF(EFECTOS!$N$9=\"COSTA RICA\",LOOKUP(1,GEfectos!$Q$4:$W$4,GEfectos!Q264:W264),IF(EFECTOS!$N$9=\"EL SALVADOR\",LOOKUP(2,GEfectos!$Q$4:$W$4,GEfectos!Q264:W264),IF(EFECTOS!$N$9=\"GUATEMALA\",LOOKUP(3,GEfectos!$Q$4:$W$4,GEfectos!Q264:W264),IF(EFECTOS!$N$9=\"HONDURAS\",LOOKUP(4,GEfectos!$Q$4:$W$4,GEfectos!Q264:W264),IF(EFECTOS!$N$9=\"NICARAGUA\",LOOKUP(5,GEfectos!$Q$4:$W$4,GEfectos!Q264:W264),IF(EFECTOS!$N$9=\"REPÚBLICA \nDOMINICANA\",LOOKUP(6,$Q$4:$W$4,Q264:W264),IF(EFECTOS!$N$9=\"PANAMÁ\",LOOKUP(7,GEfectos!$Q$4:$W$4,GEfectos!Q264:W264))))))))","v":196.17850022054478},100]
[null,{"$f":"'ITCER GLOBAL'!B265","v":"Agosto"},{"$f":"'ITCER GLOBAL'!C265","v":78.880096796865828},{"$f":"'ITCER GLOBAL'!D265","v":102.80252971494131},{"$f":"'ITCER GLOBAL'!E265","v":56.8714537087765},{"$f":"'ITCER GLOBAL'!F265","v":84.69502346697432},{"$f":"'ITCER GLOBAL'!G265","v":105.81309050664566},{"$f":"'ITCER GLOBAL'!H265","v":134.23519200257383},{"$f":"'ITCER GLOBAL'!I265","v":92.852614089054526},{"$f":"'ITCER GLOBAL'!S265","v":165.2606496936537},{"$f":"'ITCER GLOBAL'!T265","v":90.359646424137821},{"$f":"'ITCER GLOBAL'!U265","v":88.11249594150668},{"$f":"'ITCER GLOBAL'!V265","v":144.47048539481014},{"$f":"'ITCER GLOBAL'!W265","v":199.34777383525309},{"$f":"'ITCER GLOBAL'!X265","v":262.83858422045154},{"$f":"'ITCER GLOBAL'!Y265","v":97.64081760332941},{"$f":"'ITCER GLOBAL'!AA265","v":209.50868014175671},{"$f":"'ITCER GLOBAL'!AB265","v":87.89632577592586},{"$f":"'ITCER GLOBAL'!AC265","v":154.93273021067336},{"$f":"'ITCER GLOBAL'!AD265","v":170.57730133476434},{"$f":"'ITCER GLOBAL'!AE265","v":188.39613594192573},{"$f":"'ITCER GLOBAL'!AF265","v":195.80452808188471},{"$f":"'ITCER GLOBAL'!AG265","v":105.15677836456231},null,{"$f":"IF(EFECTOS!$N$9=\"COSTA RICA\",LOOKUP(1,GEfectos!$C$4:$I$4,GEfectos!C265:I265),IF(EFECTOS!$N$9=\"EL SALVADOR\",LOOKUP(2,GEfectos!$C$4:$I$4,GEfectos!C265:I265),IF(EFECTOS!$N$9=\"GUATEMALA\",LOOKUP(3,GEfectos!$C$4:$I$4,GEfectos!C265:I265),IF(EFECTOS!$N$9=\"HONDURAS\",LOOKUP(4,GEfectos!$C$4:$I$4,GEfectos!C265:I265),IF(EFECTOS!$N$9=\"NICARAGUA\",LOOKUP(5,GEfectos!$C$4:$I$4,GEfectos!C265:I265),IF(EFECTOS!$N$9=\"REPÚBLICA \nDOMINICANA\",LOOKUP(6,$C$4:$I$4,C265:I265),IF(EFECTOS!$N$9=\"PANAMÁ\",LOOKUP(7,GEfectos!$C$4:$I$4,GEfectos!C265:I265))))))))","v":134.23519200257383},{"$f":"IF(EFECTOS!$N$9=\"COSTA RICA\",LOOKUP(1,GEfectos!$J$4:$P$4,GEfectos!J265:P265),IF(EFECTOS!$N$9=\"EL SALVADOR\",LOOKUP(2,GEfectos!$J$4:$P$4,GEfectos!J265:P265),IF(EFECTOS!$N$9=\"GUATEMALA\",LOOKUP(3,GEfectos!$J$4:$P$4,GEfectos!J265:P265),IF(EFECTOS!$N$9=\"HONDURAS\",LOOKUP(4,GEfectos!$J$4:$P$4,GEfectos!J265:P265),IF(EFECTOS!$N$9=\"NICARAGUA\",LOOKUP(5,GEfectos!$J$4:$P$4,GEfectos!J265:P265),IF(EFECTOS!$N$9=\"REPÚBLICA \nDOMINICANA\",LOOKUP(6,$J$4:$P$4,J265:P265),IF(EFECTOS!$N$9=\"PANAMÁ\",LOOKUP(7,GEfectos!$J$4:$P$4,GEfectos!J265:P265))))))))","v":262.83858422045154},{"$f":"IF(EFECTOS!$N$9=\"COSTA RICA\",LOOKUP(1,GEfectos!$Q$4:$W$4,GEfectos!Q265:W265),IF(EFECTOS!$N$9=\"EL SALVADOR\",LOOKUP(2,GEfectos!$Q$4:$W$4,GEfectos!Q265:W265),IF(EFECTOS!$N$9=\"GUATEMALA\",LOOKUP(3,GEfectos!$Q$4:$W$4,GEfectos!Q265:W265),IF(EFECTOS!$N$9=\"HONDURAS\",LOOKUP(4,GEfectos!$Q$4:$W$4,GEfectos!Q265:W265),IF(EFECTOS!$N$9=\"NICARAGUA\",LOOKUP(5,GEfectos!$Q$4:$W$4,GEfectos!Q265:W265),IF(EFECTOS!$N$9=\"REPÚBLICA \nDOMINICANA\",LOOKUP(6,$Q$4:$W$4,Q265:W265),IF(EFECTOS!$N$9=\"PANAMÁ\",LOOKUP(7,GEfectos!$Q$4:$W$4,GEfectos!Q265:W265))))))))","v":195.80452808188471},100]
[null,{"$f":"'ITCER GLOBAL'!B266","v":"Septiembre"},{"$f":"'ITCER GLOBAL'!C266","v":79.448496837822304},{"$f":"'ITCER GLOBAL'!D266","v":102.99314404720826},{"$f":"'ITCER GLOBAL'!E266","v":56.772091004756199},{"$f":"'ITCER GLOBAL'!F266","v":84.749319394153261},{"$f":"'ITCER GLOBAL'!G266","v":106.22122910140881},{"$f":"'ITCER GLOBAL'!H266","v":134.57690571303439},{"$f":"'ITCER GLOBAL'!I266","v":92.635046494984636},{"$f":"'ITCER GLOBAL'!S266","v":165.21675659848404},{"$f":"'ITCER GLOBAL'!T266","v":90.074721739886186},{"$f":"'ITCER GLOBAL'!U266","v":87.573840069899774},{"$f":"'ITCER GLOBAL'!V266","v":144.52762049797144},{"$f":"'ITCER GLOBAL'!W266","v":199.05138988728086},{"$f":"'ITCER GLOBAL'!X266","v":262.69931541804584},{"$f":"'ITCER GLOBAL'!Y266","v":97.316271141566915},{"$f":"'ITCER GLOBAL'!AA266","v":207.95454058210808},{"$f":"'ITCER GLOBAL'!AB266","v":87.457007525276879},{"$f":"'ITCER GLOBAL'!AC266","v":154.25508999230465},{"$f":"'ITCER GLOBAL'!AD266","v":170.53543501134263},{"$f":"'ITCER GLOBAL'!AE266","v":187.39322786149239},{"$f":"'ITCER GLOBAL'!AF266","v":195.20386059270362},{"$f":"'ITCER GLOBAL'!AG266","v":105.05340562098786},null,{"$f":"IF(EFECTOS!$N$9=\"COSTA RICA\",LOOKUP(1,GEfectos!$C$4:$I$4,GEfectos!C266:I266),IF(EFECTOS!$N$9=\"EL SALVADOR\",LOOKUP(2,GEfectos!$C$4:$I$4,GEfectos!C266:I266),IF(EFECTOS!$N$9=\"GUATEMALA\",LOOKUP(3,GEfectos!$C$4:$I$4,GEfectos!C266:I266),IF(EFECTOS!$N$9=\"HONDURAS\",LOOKUP(4,GEfectos!$C$4:$I$4,GEfectos!C266:I266),IF(EFECTOS!$N$9=\"NICARAGUA\",LOOKUP(5,GEfectos!$C$4:$I$4,GEfectos!C266:I266),IF(EFECTOS!$N$9=\"REPÚBLICA \nDOMINICANA\",LOOKUP(6,$C$4:$I$4,C266:I266),IF(EFECTOS!$N$9=\"PANAMÁ\",LOOKUP(7,GEfectos!$C$4:$I$4,GEfectos!C266:I266))))))))","v":134.57690571303439},{"$f":"IF(EFECTOS!$N$9=\"COSTA RICA\",LOOKUP(1,GEfectos!$J$4:$P$4,GEfectos!J266:P266),IF(EFECTOS!$N$9=\"EL SALVADOR\",LOOKUP(2,GEfectos!$J$4:$P$4,GEfectos!J266:P266),IF(EFECTOS!$N$9=\"GUATEMALA\",LOOKUP(3,GEfectos!$J$4:$P$4,GEfectos!J266:P266),IF(EFECTOS!$N$9=\"HONDURAS\",LOOKUP(4,GEfectos!$J$4:$P$4,GEfectos!J266:P266),IF(EFECTOS!$N$9=\"NICARAGUA\",LOOKUP(5,GEfectos!$J$4:$P$4,GEfectos!J266:P266),IF(EFECTOS!$N$9=\"REPÚBLICA \nDOMINICANA\",LOOKUP(6,$J$4:$P$4,J266:P266),IF(EFECTOS!$N$9=\"PANAMÁ\",LOOKUP(7,GEfectos!$J$4:$P$4,GEfectos!J266:P266))))))))","v":262.69931541804584},{"$f":"IF(EFECTOS!$N$9=\"COSTA RICA\",LOOKUP(1,GEfectos!$Q$4:$W$4,GEfectos!Q266:W266),IF(EFECTOS!$N$9=\"EL SALVADOR\",LOOKUP(2,GEfectos!$Q$4:$W$4,GEfectos!Q266:W266),IF(EFECTOS!$N$9=\"GUATEMALA\",LOOKUP(3,GEfectos!$Q$4:$W$4,GEfectos!Q266:W266),IF(EFECTOS!$N$9=\"HONDURAS\",LOOKUP(4,GEfectos!$Q$4:$W$4,GEfectos!Q266:W266),IF(EFECTOS!$N$9=\"NICARAGUA\",LOOKUP(5,GEfectos!$Q$4:$W$4,GEfectos!Q266:W266),IF(EFECTOS!$N$9=\"REPÚBLICA \nDOMINICANA\",LOOKUP(6,$Q$4:$W$4,Q266:W266),IF(EFECTOS!$N$9=\"PANAMÁ\",LOOKUP(7,GEfectos!$Q$4:$W$4,GEfectos!Q266:W266))))))))","v":195.20386059270362},100]
[null,"Octubre",{"$f":"'ITCER GLOBAL'!C267","v":79.660759937186711},{"$f":"'ITCER GLOBAL'!D267","v":102.83031627107567},{"$f":"'ITCER GLOBAL'!E267","v":56.178845619053185},{"$f":"'ITCER GLOBAL'!F267","v":85.198898023916058},{"$f":"'ITCER GLOBAL'!G267","v":106.48735501840875},{"$f":"'ITCER GLOBAL'!H267","v":134.84504526670446},{"$f":"'ITCER GLOBAL'!I267","v":92.285843902874547},{"$f":"'ITCER GLOBAL'!S267","v":165.16187771984133},{"$f":"'ITCER GLOBAL'!T267","v":89.981066355092707},{"$f":"'ITCER GLOBAL'!U267","v":87.11517158877335},{"$f":"'ITCER GLOBAL'!V267","v":144.99361383344359},{"$f":"'ITCER GLOBAL'!W267","v":199.7586027682884},{"$f":"'ITCER GLOBAL'!X267","v":263.40831491265021},{"$f":"'ITCER GLOBAL'!Y267","v":96.895808902100271},{"$f":"'ITCER GLOBAL'!AA267","v":207.33153669394201},{"$f":"'ITCER GLOBAL'!AB267","v":87.504414668811791},{"$f":"'ITCER GLOBAL'!AC267","v":155.06757148322043},{"$f":"'ITCER GLOBAL'!AD267","v":170.18249906558961},{"$f":"'ITCER GLOBAL'!AE267","v":187.58903602569112},{"$f":"'ITCER GLOBAL'!AF267","v":195.34148577106839},{"$f":"'ITCER GLOBAL'!AG267","v":104.99531109460023},null,{"$f":"IF(EFECTOS!$N$9=\"COSTA RICA\",LOOKUP(1,GEfectos!$C$4:$I$4,GEfectos!C267:I267),IF(EFECTOS!$N$9=\"EL SALVADOR\",LOOKUP(2,GEfectos!$C$4:$I$4,GEfectos!C267:I267),IF(EFECTOS!$N$9=\"GUATEMALA\",LOOKUP(3,GEfectos!$C$4:$I$4,GEfectos!C267:I267),IF(EFECTOS!$N$9=\"HONDURAS\",LOOKUP(4,GEfectos!$C$4:$I$4,GEfectos!C267:I267),IF(EFECTOS!$N$9=\"NICARAGUA\",LOOKUP(5,GEfectos!$C$4:$I$4,GEfectos!C267:I267),IF(EFECTOS!$N$9=\"REPÚBLICA \nDOMINICANA\",LOOKUP(6,$C$4:$I$4,C267:I267),IF(EFECTOS!$N$9=\"PANAMÁ\",LOOKUP(7,GEfectos!$C$4:$I$4,GEfectos!C267:I267))))))))","v":134.84504526670446},{"$f":"IF(EFECTOS!$N$9=\"COSTA RICA\",LOOKUP(1,GEfectos!$J$4:$P$4,GEfectos!J267:P267),IF(EFECTOS!$N$9=\"EL SALVADOR\",LOOKUP(2,GEfectos!$J$4:$P$4,GEfectos!J267:P267),IF(EFECTOS!$N$9=\"GUATEMALA\",LOOKUP(3,GEfectos!$J$4:$P$4,GEfectos!J267:P267),IF(EFECTOS!$N$9=\"HONDURAS\",LOOKUP(4,GEfectos!$J$4:$P$4,GEfectos!J267:P267),IF(EFECTOS!$N$9=\"NICARAGUA\",LOOKUP(5,GEfectos!$J$4:$P$4,GEfectos!J267:P267),IF(EFECTOS!$N$9=\"REPÚBLICA \nDOMINICANA\",LOOKUP(6,$J$4:$P$4,J267:P267),IF(EFECTOS!$N$9=\"PANAMÁ\",LOOKUP(7,GEfectos!$J$4:$P$4,GEfectos!J267:P267))))))))","v":263.40831491265021},{"$f":"IF(EFECTOS!$N$9=\"COSTA RICA\",LOOKUP(1,GEfectos!$Q$4:$W$4,GEfectos!Q267:W267),IF(EFECTOS!$N$9=\"EL SALVADOR\",LOOKUP(2,GEfectos!$Q$4:$W$4,GEfectos!Q267:W267),IF(EFECTOS!$N$9=\"GUATEMALA\",LOOKUP(3,GEfectos!$Q$4:$W$4,GEfectos!Q267:W267),IF(EFECTOS!$N$9=\"HONDURAS\",LOOKUP(4,GEfectos!$Q$4:$W$4,GEfectos!Q267:W267),IF(EFECTOS!$N$9=\"NICARAGUA\",LOOKUP(5,GEfectos!$Q$4:$W$4,GEfectos!Q267:W267),IF(EFECTOS!$N$9=\"REPÚBLICA \nDOMINICANA\",LOOKUP(6,$Q$4:$W$4,Q267:W267),IF(EFECTOS!$N$9=\"PANAMÁ\",LOOKUP(7,GEfectos!$Q$4:$W$4,GEfectos!Q267:W267))))))))","v":195.34148577106839},100]
[null,{"$f":"'ITCER GLOBAL'!B268","v":"Noviembre"},{"$f":"'ITCER GLOBAL'!C268","v":78.848329930926838},{"$f":"'ITCER GLOBAL'!D268","v":102.02099225182464},{"$f":"'ITCER GLOBAL'!E268","v":55.345969059334926},{"$f":"'ITCER GLOBAL'!F268","v":84.584550997983854},{"$f":"'ITCER GLOBAL'!G268","v":105.1909400196689},{"$f":"'ITCER GLOBAL'!H268","v":133.58518233423129},{"$f":"'ITCER GLOBAL'!I268","v":90.851550189413672},{"$f":"'ITCER GLOBAL'!S268","v":163.53970776268389},{"$f":"'ITCER GLOBAL'!T268","v":89.239151255739415},{"$f":"'ITCER GLOBAL'!U268","v":86.159332469192705},{"$f":"'ITCER GLOBAL'!V268","v":144.15871228996707},{"$f":"'ITCER GLOBAL'!W268","v":197.76716465620325},{"$f":"'ITCER GLOBAL'!X268","v":261.29192247078936},{"$f":"'ITCER GLOBAL'!Y268","v":95.337529320611409},{"$f":"'ITCER GLOBAL'!AA268","v":207.4104903755715},{"$f":"'ITCER GLOBAL'!AB268","v":87.47136181097413},{"$f":"'ITCER GLOBAL'!AC268","v":155.67408780361873},{"$f":"'ITCER GLOBAL'!AD268","v":170.43149202672154},{"$f":"'ITCER GLOBAL'!AE268","v":188.00779289473428},{"$f":"'ITCER GLOBAL'!AF268","v":195.59948035032414},{"$f":"'ITCER GLOBAL'!AG268","v":104.93770235273372},null,{"$f":"IF(EFECTOS!$N$9=\"COSTA RICA\",LOOKUP(1,GEfectos!$C$4:$I$4,GEfectos!C268:I268),IF(EFECTOS!$N$9=\"EL SALVADOR\",LOOKUP(2,GEfectos!$C$4:$I$4,GEfectos!C268:I268),IF(EFECTOS!$N$9=\"GUATEMALA\",LOOKUP(3,GEfectos!$C$4:$I$4,GEfectos!C268:I268),IF(EFECTOS!$N$9=\"HONDURAS\",LOOKUP(4,GEfectos!$C$4:$I$4,GEfectos!C268:I268),IF(EFECTOS!$N$9=\"NICARAGUA\",LOOKUP(5,GEfectos!$C$4:$I$4,GEfectos!C268:I268),IF(EFECTOS!$N$9=\"REPÚBLICA \nDOMINICANA\",LOOKUP(6,$C$4:$I$4,C268:I268),IF(EFECTOS!$N$9=\"PANAMÁ\",LOOKUP(7,GEfectos!$C$4:$I$4,GEfectos!C268:I268))))))))","v":133.58518233423129},{"$f":"IF(EFECTOS!$N$9=\"COSTA RICA\",LOOKUP(1,GEfectos!$J$4:$P$4,GEfectos!J268:P268),IF(EFECTOS!$N$9=\"EL SALVADOR\",LOOKUP(2,GEfectos!$J$4:$P$4,GEfectos!J268:P268),IF(EFECTOS!$N$9=\"GUATEMALA\",LOOKUP(3,GEfectos!$J$4:$P$4,GEfectos!J268:P268),IF(EFECTOS!$N$9=\"HONDURAS\",LOOKUP(4,GEfectos!$J$4:$P$4,GEfectos!J268:P268),IF(EFECTOS!$N$9=\"NICARAGUA\",LOOKUP(5,GEfectos!$J$4:$P$4,GEfectos!J268:P268),IF(EFECTOS!$N$9=\"REPÚBLICA \nDOMINICANA\",LOOKUP(6,$J$4:$P$4,J268:P268),IF(EFECTOS!$N$9=\"PANAMÁ\",LOOKUP(7,GEfectos!$J$4:$P$4,GEfectos!J268:P268))))))))","v":261.29192247078936},{"$f":"IF(EFECTOS!$N$9=\"COSTA RICA\",LOOKUP(1,GEfectos!$Q$4:$W$4,GEfectos!Q268:W268),IF(EFECTOS!$N$9=\"EL SALVADOR\",LOOKUP(2,GEfectos!$Q$4:$W$4,GEfectos!Q268:W268),IF(EFECTOS!$N$9=\"GUATEMALA\",LOOKUP(3,GEfectos!$Q$4:$W$4,GEfectos!Q268:W268),IF(EFECTOS!$N$9=\"HONDURAS\",LOOKUP(4,GEfectos!$Q$4:$W$4,GEfectos!Q268:W268),IF(EFECTOS!$N$9=\"NICARAGUA\",LOOKUP(5,GEfectos!$Q$4:$W$4,GEfectos!Q268:W268),IF(EFECTOS!$N$9=\"REPÚBLICA \nDOMINICANA\",LOOKUP(6,$Q$4:$W$4,Q268:W268),IF(EFECTOS!$N$9=\"PANAMÁ\",LOOKUP(7,GEfectos!$Q$4:$W$4,GEfectos!Q268:W268))))))))","v":195.59948035032414},100]
[null,{"$f":"'ITCER GLOBAL'!B269","v":"Diciembre"},{"$f":"'ITCER GLOBAL'!C269","v":77.85454331069711},{"$f":"'ITCER GLOBAL'!D269","v":101.84906505498317},{"$f":"'ITCER GLOBAL'!E269","v":55.067200573326268},{"$f":"'ITCER GLOBAL'!F269","v":85.016754203932877},{"$f":"'ITCER GLOBAL'!G269","v":104.11026846248676},{"$f":"'ITCER GLOBAL'!H269","v":132.18080298273577},{"$f":"'ITCER GLOBAL'!I269","v":90.18002498353755},{"$f":"'ITCER GLOBAL'!S269","v":161.83182260709575},{"$f":"'ITCER GLOBAL'!T269","v":88.782809270920254},{"$f":"'ITCER GLOBAL'!U269","v":85.591907697618694},{"$f":"'ITCER GLOBAL'!V269","v":145.05687748786244},{"$f":"'ITCER GLOBAL'!W269","v":197.00006883284007},{"$f":"'ITCER GLOBAL'!X269","v":260.39759609429518},{"$f":"'ITCER GLOBAL'!Y269","v":94.535441853681405},{"$f":"'ITCER GLOBAL'!AA269","v":207.86432714821444},{"$f":"'ITCER GLOBAL'!AB269","v":87.170961484026279},{"$f":"'ITCER GLOBAL'!AC269","v":155.43173941382111},{"$f":"'ITCER GLOBAL'!AD269","v":170.62151907129862},{"$f":"'ITCER GLOBAL'!AE269","v":189.22251545612289},{"$f":"'ITCER GLOBAL'!AF269","v":197.00106991202486},{"$f":"'ITCER GLOBAL'!AG269","v":104.82969135453106},null,{"$f":"IF(EFECTOS!$N$9=\"COSTA RICA\",LOOKUP(1,GEfectos!$C$4:$I$4,GEfectos!C269:I269),IF(EFECTOS!$N$9=\"EL SALVADOR\",LOOKUP(2,GEfectos!$C$4:$I$4,GEfectos!C269:I269),IF(EFECTOS!$N$9=\"GUATEMALA\",LOOKUP(3,GEfectos!$C$4:$I$4,GEfectos!C269:I269),IF(EFECTOS!$N$9=\"HONDURAS\",LOOKUP(4,GEfectos!$C$4:$I$4,GEfectos!C269:I269),IF(EFECTOS!$N$9=\"NICARAGUA\",LOOKUP(5,GEfectos!$C$4:$I$4,GEfectos!C269:I269),IF(EFECTOS!$N$9=\"REPÚBLICA \nDOMINICANA\",LOOKUP(6,$C$4:$I$4,C269:I269),IF(EFECTOS!$N$9=\"PANAMÁ\",LOOKUP(7,GEfectos!$C$4:$I$4,GEfectos!C269:I269))))))))","v":132.18080298273577},{"$f":"IF(EFECTOS!$N$9=\"COSTA RICA\",LOOKUP(1,GEfectos!$J$4:$P$4,GEfectos!J269:P269),IF(EFECTOS!$N$9=\"EL SALVADOR\",LOOKUP(2,GEfectos!$J$4:$P$4,GEfectos!J269:P269),IF(EFECTOS!$N$9=\"GUATEMALA\",LOOKUP(3,GEfectos!$J$4:$P$4,GEfectos!J269:P269),IF(EFECTOS!$N$9=\"HONDURAS\",LOOKUP(4,GEfectos!$J$4:$P$4,GEfectos!J269:P269),IF(EFECTOS!$N$9=\"NICARAGUA\",LOOKUP(5,GEfectos!$J$4:$P$4,GEfectos!J269:P269),IF(EFECTOS!$N$9=\"REPÚBLICA \nDOMINICANA\",LOOKUP(6,$J$4:$P$4,J269:P269),IF(EFECTOS!$N$9=\"PANAMÁ\",LOOKUP(7,GEfectos!$J$4:$P$4,GEfectos!J269:P269))))))))","v":260.39759609429518},{"$f":"IF(EFECTOS!$N$9=\"COSTA RICA\",LOOKUP(1,GEfectos!$Q$4:$W$4,GEfectos!Q269:W269),IF(EFECTOS!$N$9=\"EL SALVADOR\",LOOKUP(2,GEfectos!$Q$4:$W$4,GEfectos!Q269:W269),IF(EFECTOS!$N$9=\"GUATEMALA\",LOOKUP(3,GEfectos!$Q$4:$W$4,GEfectos!Q269:W269),IF(EFECTOS!$N$9=\"HONDURAS\",LOOKUP(4,GEfectos!$Q$4:$W$4,GEfectos!Q269:W269),IF(EFECTOS!$N$9=\"NICARAGUA\",LOOKUP(5,GEfectos!$Q$4:$W$4,GEfectos!Q269:W269),IF(EFECTOS!$N$9=\"REPÚBLICA \nDOMINICANA\",LOOKUP(6,$Q$4:$W$4,Q269:W269),IF(EFECTOS!$N$9=\"PANAMÁ\",LOOKUP(7,GEfectos!$Q$4:$W$4,GEfectos!Q269:W269))))))))","v":197.00106991202486},100]
[2017,{"$f":"'ITCER GLOBAL'!B270","v":"Enero"},{"$f":"'ITCER GLOBAL'!C270","v":78.36885500386326},{"$f":"'ITCER GLOBAL'!D270","v":101.6179531355463},{"$f":"'ITCER GLOBAL'!E270","v":55.034206042252706},{"$f":"'ITCER GLOBAL'!F270","v":85.540375953363139},{"$f":"'ITCER GLOBAL'!G270","v":106.27298757488128},{"$f":"'ITCER GLOBAL'!H270","v":126.02332795849173},{"$f":"'ITCER GLOBAL'!I270","v":90.129648082481253},{"$f":"'ITCER GLOBAL'!S270","v":162.16844947264497},{"$f":"'ITCER GLOBAL'!T270","v":88.0863869899012},{"$f":"'ITCER GLOBAL'!U270","v":85.200726209399335},{"$f":"'ITCER GLOBAL'!V270","v":145.71232325025522},{"$f":"'ITCER GLOBAL'!W270","v":198.84159775626185},{"$f":"'ITCER GLOBAL'!X270","v":264.79127141444184},{"$f":"'ITCER GLOBAL'!Y270","v":93.617515152058303},{"$f":"'ITCER GLOBAL'!AA270","v":206.92971648577836},{"$f":"'ITCER GLOBAL'!AB270","v":86.683882396651313},{"$f":"'ITCER GLOBAL'!AC270","v":154.81412804245085},{"$f":"'ITCER GLOBAL'!AD270","v":170.34332807900915},{"$f":"'ITCER GLOBAL'!AE270","v":187.10455243027357},{"$f":"'ITCER GLOBAL'!AF270","v":210.11290187611618},{"$f":"'ITCER GLOBAL'!AG270","v":103.86983322778001},null,{"$f":"IF(EFECTOS!$N$9=\"COSTA RICA\",LOOKUP(1,GEfectos!$C$4:$I$4,GEfectos!C270:I270),IF(EFECTOS!$N$9=\"EL SALVADOR\",LOOKUP(2,GEfectos!$C$4:$I$4,GEfectos!C270:I270),IF(EFECTOS!$N$9=\"GUATEMALA\",LOOKUP(3,GEfectos!$C$4:$I$4,GEfectos!C270:I270),IF(EFECTOS!$N$9=\"HONDURAS\",LOOKUP(4,GEfectos!$C$4:$I$4,GEfectos!C270:I270),IF(EFECTOS!$N$9=\"NICARAGUA\",LOOKUP(5,GEfectos!$C$4:$I$4,GEfectos!C270:I270),IF(EFECTOS!$N$9=\"REPÚBLICA \nDOMINICANA\",LOOKUP(6,$C$4:$I$4,C270:I270),IF(EFECTOS!$N$9=\"PANAMÁ\",LOOKUP(7,GEfectos!$C$4:$I$4,GEfectos!C270:I270))))))))","v":126.02332795849173},{"$f":"IF(EFECTOS!$N$9=\"COSTA RICA\",LOOKUP(1,GEfectos!$J$4:$P$4,GEfectos!J270:P270),IF(EFECTOS!$N$9=\"EL SALVADOR\",LOOKUP(2,GEfectos!$J$4:$P$4,GEfectos!J270:P270),IF(EFECTOS!$N$9=\"GUATEMALA\",LOOKUP(3,GEfectos!$J$4:$P$4,GEfectos!J270:P270),IF(EFECTOS!$N$9=\"HONDURAS\",LOOKUP(4,GEfectos!$J$4:$P$4,GEfectos!J270:P270),IF(EFECTOS!$N$9=\"NICARAGUA\",LOOKUP(5,GEfectos!$J$4:$P$4,GEfectos!J270:P270),IF(EFECTOS!$N$9=\"REPÚBLICA \nDOMINICANA\",LOOKUP(6,$J$4:$P$4,J270:P270),IF(EFECTOS!$N$9=\"PANAMÁ\",LOOKUP(7,GEfectos!$J$4:$P$4,GEfectos!J270:P270))))))))","v":264.79127141444184},{"$f":"IF(EFECTOS!$N$9=\"COSTA RICA\",LOOKUP(1,GEfectos!$Q$4:$W$4,GEfectos!Q270:W270),IF(EFECTOS!$N$9=\"EL SALVADOR\",LOOKUP(2,GEfectos!$Q$4:$W$4,GEfectos!Q270:W270),IF(EFECTOS!$N$9=\"GUATEMALA\",LOOKUP(3,GEfectos!$Q$4:$W$4,GEfectos!Q270:W270),IF(EFECTOS!$N$9=\"HONDURAS\",LOOKUP(4,GEfectos!$Q$4:$W$4,GEfectos!Q270:W270),IF(EFECTOS!$N$9=\"NICARAGUA\",LOOKUP(5,GEfectos!$Q$4:$W$4,GEfectos!Q270:W270),IF(EFECTOS!$N$9=\"REPÚBLICA \nDOMINICANA\",LOOKUP(6,$Q$4:$W$4,Q270:W270),IF(EFECTOS!$N$9=\"PANAMÁ\",LOOKUP(7,GEfectos!$Q$4:$W$4,GEfectos!Q270:W270))))))))","v":210.11290187611618},100]
[null,{"$f":"'ITCER GLOBAL'!B271","v":"Febrero"},{"$f":"'ITCER GLOBAL'!C271","v":79.56426545849861},{"$f":"'ITCER GLOBAL'!D271","v":102.30382196277414},{"$f":"'ITCER GLOBAL'!E271","v":54.570217754726805},{"$f":"'ITCER GLOBAL'!F271","v":85.481069586343608},{"$f":"'ITCER GLOBAL'!G271","v":107.12031425031932},{"$f":"'ITCER GLOBAL'!H271","v":127.3826211981759},{"$f":"'ITCER GLOBAL'!I271","v":90.835721411804172},{"$f":"'ITCER GLOBAL'!S271","v":164.7976351623123},{"$f":"'ITCER GLOBAL'!T271","v":88.59648025115122},{"$f":"'ITCER GLOBAL'!U271","v":84.483466308620009},{"$f":"'ITCER GLOBAL'!V271","v":146.44971579714684},{"$f":"'ITCER GLOBAL'!W271","v":201.30643174914994},{"$f":"'ITCER GLOBAL'!X271","v":267.95358365649349},{"$f":"'ITCER GLOBAL'!Y271","v":94.350401222674606},{"$f":"'ITCER GLOBAL'!AA271","v":207.12518894336066},{"$f":"'ITCER GLOBAL'!AB271","v":86.601339570079134},{"$f":"'ITCER GLOBAL'!AC271","v":154.81606961574229},{"$f":"'ITCER GLOBAL'!AD271","v":171.32414990341152},{"$f":"'ITCER GLOBAL'!AE271","v":187.92554256211011},{"$f":"'ITCER GLOBAL'!AF271","v":210.35332852793465},{"$f":"'ITCER GLOBAL'!AG271","v":103.86927054273791},null,{"$f":"IF(EFECTOS!$N$9=\"COSTA RICA\",LOOKUP(1,GEfectos!$C$4:$I$4,GEfectos!C271:I271),IF(EFECTOS!$N$9=\"EL SALVADOR\",LOOKUP(2,GEfectos!$C$4:$I$4,GEfectos!C271:I271),IF(EFECTOS!$N$9=\"GUATEMALA\",LOOKUP(3,GEfectos!$C$4:$I$4,GEfectos!C271:I271),IF(EFECTOS!$N$9=\"HONDURAS\",LOOKUP(4,GEfectos!$C$4:$I$4,GEfectos!C271:I271),IF(EFECTOS!$N$9=\"NICARAGUA\",LOOKUP(5,GEfectos!$C$4:$I$4,GEfectos!C271:I271),IF(EFECTOS!$N$9=\"REPÚBLICA \nDOMINICANA\",LOOKUP(6,$C$4:$I$4,C271:I271),IF(EFECTOS!$N$9=\"PANAMÁ\",LOOKUP(7,GEfectos!$C$4:$I$4,GEfectos!C271:I271))))))))","v":127.3826211981759},{"$f":"IF(EFECTOS!$N$9=\"COSTA RICA\",LOOKUP(1,GEfectos!$J$4:$P$4,GEfectos!J271:P271),IF(EFECTOS!$N$9=\"EL SALVADOR\",LOOKUP(2,GEfectos!$J$4:$P$4,GEfectos!J271:P271),IF(EFECTOS!$N$9=\"GUATEMALA\",LOOKUP(3,GEfectos!$J$4:$P$4,GEfectos!J271:P271),IF(EFECTOS!$N$9=\"HONDURAS\",LOOKUP(4,GEfectos!$J$4:$P$4,GEfectos!J271:P271),IF(EFECTOS!$N$9=\"NICARAGUA\",LOOKUP(5,GEfectos!$J$4:$P$4,GEfectos!J271:P271),IF(EFECTOS!$N$9=\"REPÚBLICA \nDOMINICANA\",LOOKUP(6,$J$4:$P$4,J271:P271),IF(EFECTOS!$N$9=\"PANAMÁ\",LOOKUP(7,GEfectos!$J$4:$P$4,GEfectos!J271:P271))))))))","v":267.95358365649349},{"$f":"IF(EFECTOS!$N$9=\"COSTA RICA\",LOOKUP(1,GEfectos!$Q$4:$W$4,GEfectos!Q271:W271),IF(EFECTOS!$N$9=\"EL SALVADOR\",LOOKUP(2,GEfectos!$Q$4:$W$4,GEfectos!Q271:W271),IF(EFECTOS!$N$9=\"GUATEMALA\",LOOKUP(3,GEfectos!$Q$4:$W$4,GEfectos!Q271:W271),IF(EFECTOS!$N$9=\"HONDURAS\",LOOKUP(4,GEfectos!$Q$4:$W$4,GEfectos!Q271:W271),IF(EFECTOS!$N$9=\"NICARAGUA\",LOOKUP(5,GEfectos!$Q$4:$W$4,GEfectos!Q271:W271),IF(EFECTOS!$N$9=\"REPÚBLICA \nDOMINICANA\",LOOKUP(6,$Q$4:$W$4,Q271:W271),IF(EFECTOS!$N$9=\"PANAMÁ\",LOOKUP(7,GEfectos!$Q$4:$W$4,GEfectos!Q271:W271))))))))","v":210.35332852793465},100]
[null,{"$f":"'ITCER GLOBAL'!B272","v":"Marzo"},{"$f":"'ITCER GLOBAL'!C272","v":80.224012559304612},{"$f":"'ITCER GLOBAL'!D272","v":102.58263368208948},{"$f":"'ITCER GLOBAL'!E272","v":54.429274225758626},{"$f":"'ITCER GLOBAL'!F272","v":85.361227618464696},{"$f":"'ITCER GLOBAL'!G272","v":108.00403855553527},{"$f":"'ITCER GLOBAL'!H272","v":128.38796163933901},{"$f":"'ITCER GLOBAL'!I272","v":91.340691596296892},{"$f":"'ITCER GLOBAL'!S272","v":165.16008105362741},{"$f":"'ITCER GLOBAL'!T272","v":88.900118656046914},{"$f":"'ITCER GLOBAL'!U272","v":84.337041618067261},{"$f":"'ITCER GLOBAL'!V272","v":146.49050764963854},{"$f":"'ITCER GLOBAL'!W272","v":202.94510214036313},{"$f":"'ITCER GLOBAL'!X272","v":268.99978346784445},{"$f":"'ITCER GLOBAL'!Y272","v":94.623455262903377},{"$f":"'ITCER GLOBAL'!AA272","v":205.87362285267753},{"$f":"'ITCER GLOBAL'!AB272","v":86.661957745747102},{"$f":"'ITCER GLOBAL'!AC272","v":154.94794449813699},{"$f":"'ITCER GLOBAL'!AD272","v":171.61246591297947},{"$f":"'ITCER GLOBAL'!AE272","v":187.90510508179702},{"$f":"'ITCER GLOBAL'!AF272","v":209.5210329949042},{"$f":"'ITCER GLOBAL'!AG272","v":103.59397723975583},null,{"$f":"IF(EFECTOS!$N$9=\"COSTA RICA\",LOOKUP(1,GEfectos!$C$4:$I$4,GEfectos!C272:I272),IF(EFECTOS!$N$9=\"EL SALVADOR\",LOOKUP(2,GEfectos!$C$4:$I$4,GEfectos!C272:I272),IF(EFECTOS!$N$9=\"GUATEMALA\",LOOKUP(3,GEfectos!$C$4:$I$4,GEfectos!C272:I272),IF(EFECTOS!$N$9=\"HONDURAS\",LOOKUP(4,GEfectos!$C$4:$I$4,GEfectos!C272:I272),IF(EFECTOS!$N$9=\"NICARAGUA\",LOOKUP(5,GEfectos!$C$4:$I$4,GEfectos!C272:I272),IF(EFECTOS!$N$9=\"REPÚBLICA \nDOMINICANA\",LOOKUP(6,$C$4:$I$4,C272:I272),IF(EFECTOS!$N$9=\"PANAMÁ\",LOOKUP(7,GEfectos!$C$4:$I$4,GEfectos!C272:I272))))))))","v":128.38796163933901},{"$f":"IF(EFECTOS!$N$9=\"COSTA RICA\",LOOKUP(1,GEfectos!$J$4:$P$4,GEfectos!J272:P272),IF(EFECTOS!$N$9=\"EL SALVADOR\",LOOKUP(2,GEfectos!$J$4:$P$4,GEfectos!J272:P272),IF(EFECTOS!$N$9=\"GUATEMALA\",LOOKUP(3,GEfectos!$J$4:$P$4,GEfectos!J272:P272),IF(EFECTOS!$N$9=\"HONDURAS\",LOOKUP(4,GEfectos!$J$4:$P$4,GEfectos!J272:P272),IF(EFECTOS!$N$9=\"NICARAGUA\",LOOKUP(5,GEfectos!$J$4:$P$4,GEfectos!J272:P272),IF(EFECTOS!$N$9=\"REPÚBLICA \nDOMINICANA\",LOOKUP(6,$J$4:$P$4,J272:P272),IF(EFECTOS!$N$9=\"PANAMÁ\",LOOKUP(7,GEfectos!$J$4:$P$4,GEfectos!J272:P272))))))))","v":268.99978346784445},{"$f":"IF(EFECTOS!$N$9=\"COSTA RICA\",LOOKUP(1,GEfectos!$Q$4:$W$4,GEfectos!Q272:W272),IF(EFECTOS!$N$9=\"EL SALVADOR\",LOOKUP(2,GEfectos!$Q$4:$W$4,GEfectos!Q272:W272),IF(EFECTOS!$N$9=\"GUATEMALA\",LOOKUP(3,GEfectos!$Q$4:$W$4,GEfectos!Q272:W272),IF(EFECTOS!$N$9=\"HONDURAS\",LOOKUP(4,GEfectos!$Q$4:$W$4,GEfectos!Q272:W272),IF(EFECTOS!$N$9=\"NICARAGUA\",LOOKUP(5,GEfectos!$Q$4:$W$4,GEfectos!Q272:W272),IF(EFECTOS!$N$9=\"REPÚBLICA \nDOMINICANA\",LOOKUP(6,$Q$4:$W$4,Q272:W272),IF(EFECTOS!$N$9=\"PANAMÁ\",LOOKUP(7,GEfectos!$Q$4:$W$4,GEfectos!Q272:W272))))))))","v":209.5210329949042},100]
[null,{"$f":"'ITCER GLOBAL'!B273","v":"Abril"},{"$f":"'ITCER GLOBAL'!C273","v":80.854761407278858},{"$f":"'ITCER GLOBAL'!D273","v":103.0198400396638},{"$f":"'ITCER GLOBAL'!E273","v":54.457434073423684},{"$f":"'ITCER GLOBAL'!F273","v":85.360711743665448},{"$f":"'ITCER GLOBAL'!G273","v":108.41429833022548},{"$f":"'ITCER GLOBAL'!H273","v":128.97001143158337},{"$f":"'ITCER GLOBAL'!I273","v":91.917248707409158},{"$f":"'ITCER GLOBAL'!S273","v":166.26367838478814},{"$f":"'ITCER GLOBAL'!T273","v":89.109596609549982},{"$f":"'ITCER GLOBAL'!U273","v":84.39708925013079},{"$f":"'ITCER GLOBAL'!V273","v":146.65586569668164},{"$f":"'ITCER GLOBAL'!W273","v":203.92608485603111},{"$f":"'ITCER GLOBAL'!X273","v":270.1043479706114},{"$f":"'ITCER GLOBAL'!Y273","v":94.973149720865905},{"$f":"'ITCER GLOBAL'!AA273","v":205.63251377032748},{"$f":"'ITCER GLOBAL'!AB273","v":86.497510164296287},{"$f":"'ITCER GLOBAL'!AC273","v":154.97808643782255},{"$f":"'ITCER GLOBAL'!AD273","v":171.80721985669814},{"$f":"'ITCER GLOBAL'!AE273","v":188.09888363145669},{"$f":"'ITCER GLOBAL'!AF273","v":209.43190201537485},{"$f":"'ITCER GLOBAL'!AG273","v":103.32462193595926},null,{"$f":"IF(EFECTOS!$N$9=\"COSTA RICA\",LOOKUP(1,GEfectos!$C$4:$I$4,GEfectos!C273:I273),IF(EFECTOS!$N$9=\"EL SALVADOR\",LOOKUP(2,GEfectos!$C$4:$I$4,GEfectos!C273:I273),IF(EFECTOS!$N$9=\"GUATEMALA\",LOOKUP(3,GEfectos!$C$4:$I$4,GEfectos!C273:I273),IF(EFECTOS!$N$9=\"HONDURAS\",LOOKUP(4,GEfectos!$C$4:$I$4,GEfectos!C273:I273),IF(EFECTOS!$N$9=\"NICARAGUA\",LOOKUP(5,GEfectos!$C$4:$I$4,GEfectos!C273:I273),IF(EFECTOS!$N$9=\"REPÚBLICA \nDOMINICANA\",LOOKUP(6,$C$4:$I$4,C273:I273),IF(EFECTOS!$N$9=\"PANAMÁ\",LOOKUP(7,GEfectos!$C$4:$I$4,GEfectos!C273:I273))))))))","v":128.97001143158337},{"$f":"IF(EFECTOS!$N$9=\"COSTA RICA\",LOOKUP(1,GEfectos!$J$4:$P$4,GEfectos!J273:P273),IF(EFECTOS!$N$9=\"EL SALVADOR\",LOOKUP(2,GEfectos!$J$4:$P$4,GEfectos!J273:P273),IF(EFECTOS!$N$9=\"GUATEMALA\",LOOKUP(3,GEfectos!$J$4:$P$4,GEfectos!J273:P273),IF(EFECTOS!$N$9=\"HONDURAS\",LOOKUP(4,GEfectos!$J$4:$P$4,GEfectos!J273:P273),IF(EFECTOS!$N$9=\"NICARAGUA\",LOOKUP(5,GEfectos!$J$4:$P$4,GEfectos!J273:P273),IF(EFECTOS!$N$9=\"REPÚBLICA \nDOMINICANA\",LOOKUP(6,$J$4:$P$4,J273:P273),IF(EFECTOS!$N$9=\"PANAMÁ\",LOOKUP(7,GEfectos!$J$4:$P$4,GEfectos!J273:P273))))))))","v":270.1043479706114},{"$f":"IF(EFECTOS!$N$9=\"COSTA RICA\",LOOKUP(1,GEfectos!$Q$4:$W$4,GEfectos!Q273:W273),IF(EFECTOS!$N$9=\"EL SALVADOR\",LOOKUP(2,GEfectos!$Q$4:$W$4,GEfectos!Q273:W273),IF(EFECTOS!$N$9=\"GUATEMALA\",LOOKUP(3,GEfectos!$Q$4:$W$4,GEfectos!Q273:W273),IF(EFECTOS!$N$9=\"HONDURAS\",LOOKUP(4,GEfectos!$Q$4:$W$4,GEfectos!Q273:W273),IF(EFECTOS!$N$9=\"NICARAGUA\",LOOKUP(5,GEfectos!$Q$4:$W$4,GEfectos!Q273:W273),IF(EFECTOS!$N$9=\"REPÚBLICA \nDOMINICANA\",LOOKUP(6,$Q$4:$W$4,Q273:W273),IF(EFECTOS!$N$9=\"PANAMÁ\",LOOKUP(7,GEfectos!$Q$4:$W$4,GEfectos!Q273:W273))))))))","v":209.43190201537485},100]
[null,{"$f":"'ITCER GLOBAL'!B274","v":"Mayo"},{"$f":"'ITCER GLOBAL'!C274","v":82.732749068995844},{"$f":"'ITCER GLOBAL'!D274","v":102.9282963020826},{"$f":"'ITCER GLOBAL'!E274","v":54.374800366664026},{"$f":"'ITCER GLOBAL'!F274","v":85.38871868739426},{"$f":"'ITCER GLOBAL'!G274","v":109.02603723107995},{"$f":"'ITCER GLOBAL'!H274","v":130.05978183888823},{"$f":"'ITCER GLOBAL'!I274","v":92.177104818355019},{"$f":"'ITCER GLOBAL'!S274","v":170.38516296169104},{"$f":"'ITCER GLOBAL'!T274","v":89.073425653645117},{"$f":"'ITCER GLOBAL'!U274","v":84.464858768730338},{"$f":"'ITCER GLOBAL'!V274","v":147.01268764014921},{"$f":"'ITCER GLOBAL'!W274","v":205.15025116138443},{"$f":"'ITCER GLOBAL'!X274","v":271.61681995807953},{"$f":"'ITCER GLOBAL'!Y274","v":95.172926994155375},{"$f":"'ITCER GLOBAL'!AA274","v":205.94645394848001},{"$f":"'ITCER GLOBAL'!AB274","v":86.539298573664283},{"$f":"'ITCER GLOBAL'!AC274","v":155.33824161037998},{"$f":"'ITCER GLOBAL'!AD274","v":172.16874769881326},{"$f":"'ITCER GLOBAL'!AE274","v":188.16629162313754},{"$f":"'ITCER GLOBAL'!AF274","v":208.8399781375501},{"$f":"'ITCER GLOBAL'!AG274","v":103.25007189334481},null,{"$f":"IF(EFECTOS!$N$9=\"COSTA RICA\",LOOKUP(1,GEfectos!$C$4:$I$4,GEfectos!C274:I274),IF(EFECTOS!$N$9=\"EL SALVADOR\",LOOKUP(2,GEfectos!$C$4:$I$4,GEfectos!C274:I274),IF(EFECTOS!$N$9=\"GUATEMALA\",LOOKUP(3,GEfectos!$C$4:$I$4,GEfectos!C274:I274),IF(EFECTOS!$N$9=\"HONDURAS\",LOOKUP(4,GEfectos!$C$4:$I$4,GEfectos!C274:I274),IF(EFECTOS!$N$9=\"NICARAGUA\",LOOKUP(5,GEfectos!$C$4:$I$4,GEfectos!C274:I274),IF(EFECTOS!$N$9=\"REPÚBLICA \nDOMINICANA\",LOOKUP(6,$C$4:$I$4,C274:I274),IF(EFECTOS!$N$9=\"PANAMÁ\",LOOKUP(7,GEfectos!$C$4:$I$4,GEfectos!C274:I274))))))))","v":130.05978183888823},{"$f":"IF(EFECTOS!$N$9=\"COSTA RICA\",LOOKUP(1,GEfectos!$J$4:$P$4,GEfectos!J274:P274),IF(EFECTOS!$N$9=\"EL SALVADOR\",LOOKUP(2,GEfectos!$J$4:$P$4,GEfectos!J274:P274),IF(EFECTOS!$N$9=\"GUATEMALA\",LOOKUP(3,GEfectos!$J$4:$P$4,GEfectos!J274:P274),IF(EFECTOS!$N$9=\"HONDURAS\",LOOKUP(4,GEfectos!$J$4:$P$4,GEfectos!J274:P274),IF(EFECTOS!$N$9=\"NICARAGUA\",LOOKUP(5,GEfectos!$J$4:$P$4,GEfectos!J274:P274),IF(EFECTOS!$N$9=\"REPÚBLICA \nDOMINICANA\",LOOKUP(6,$J$4:$P$4,J274:P274),IF(EFECTOS!$N$9=\"PANAMÁ\",LOOKUP(7,GEfectos!$J$4:$P$4,GEfectos!J274:P274))))))))","v":271.61681995807953},{"$f":"IF(EFECTOS!$N$9=\"COSTA RICA\",LOOKUP(1,GEfectos!$Q$4:$W$4,GEfectos!Q274:W274),IF(EFECTOS!$N$9=\"EL SALVADOR\",LOOKUP(2,GEfectos!$Q$4:$W$4,GEfectos!Q274:W274),IF(EFECTOS!$N$9=\"GUATEMALA\",LOOKUP(3,GEfectos!$Q$4:$W$4,GEfectos!Q274:W274),IF(EFECTOS!$N$9=\"HONDURAS\",LOOKUP(4,GEfectos!$Q$4:$W$4,GEfectos!Q274:W274),IF(EFECTOS!$N$9=\"NICARAGUA\",LOOKUP(5,GEfectos!$Q$4:$W$4,GEfectos!Q274:W274),IF(EFECTOS!$N$9=\"REPÚBLICA \nDOMINICANA\",LOOKUP(6,$Q$4:$W$4,Q274:W274),IF(EFECTOS!$N$9=\"PANAMÁ\",LOOKUP(7,GEfectos!$Q$4:$W$4,GEfectos!Q274:W274))))))))","v":208.8399781375501},100]
[null,{"$f":"'ITCER GLOBAL'!B275","v":"Junio"},{"$f":"'ITCER GLOBAL'!C275","v":82.611144336317835},{"$f":"'ITCER GLOBAL'!D275","v":103.38192304744585},{"$f":"'ITCER GLOBAL'!E275","v":54.269892466569772},{"$f":"'ITCER GLOBAL'!F275","v":85.604159504841689},{"$f":"'ITCER GLOBAL'!G275","v":110.47636584209373},{"$f":"'ITCER GLOBAL'!H275","v":131.06130623297503},{"$f":"'ITCER GLOBAL'!I275","v":92.976690425871979},{"$f":"'ITCER GLOBAL'!S275","v":170.14578669737085},{"$f":"'ITCER GLOBAL'!T275","v":89.373590953538198},{"$f":"'ITCER GLOBAL'!U275","v":84.978565956062283},{"$f":"'ITCER GLOBAL'!V275","v":147.59813948971183},{"$f":"'ITCER GLOBAL'!W275","v":207.7581689029218},{"$f":"'ITCER GLOBAL'!X275","v":273.6488269592287},{"$f":"'ITCER GLOBAL'!Y275","v":95.771268106375672},{"$f":"'ITCER GLOBAL'!AA275","v":205.95984726308978},{"$f":"'ITCER GLOBAL'!AB275","v":86.449921145809299},{"$f":"'ITCER GLOBAL'!AC275","v":156.58510104549964},{"$f":"'ITCER GLOBAL'!AD275","v":172.4193547877353},{"$f":"'ITCER GLOBAL'!AE275","v":188.05666471675494},{"$f":"'ITCER GLOBAL'!AF275","v":208.79452130042839},{"$f":"'ITCER GLOBAL'!AG275","v":103.00567558137783},null,{"$f":"IF(EFECTOS!$N$9=\"COSTA RICA\",LOOKUP(1,GEfectos!$C$4:$I$4,GEfectos!C275:I275),IF(EFECTOS!$N$9=\"EL SALVADOR\",LOOKUP(2,GEfectos!$C$4:$I$4,GEfectos!C275:I275),IF(EFECTOS!$N$9=\"GUATEMALA\",LOOKUP(3,GEfectos!$C$4:$I$4,GEfectos!C275:I275),IF(EFECTOS!$N$9=\"HONDURAS\",LOOKUP(4,GEfectos!$C$4:$I$4,GEfectos!C275:I275),IF(EFECTOS!$N$9=\"NICARAGUA\",LOOKUP(5,GEfectos!$C$4:$I$4,GEfectos!C275:I275),IF(EFECTOS!$N$9=\"REPÚBLICA \nDOMINICANA\",LOOKUP(6,$C$4:$I$4,C275:I275),IF(EFECTOS!$N$9=\"PANAMÁ\",LOOKUP(7,GEfectos!$C$4:$I$4,GEfectos!C275:I275))))))))","v":131.06130623297503},{"$f":"IF(EFECTOS!$N$9=\"COSTA RICA\",LOOKUP(1,GEfectos!$J$4:$P$4,GEfectos!J275:P275),IF(EFECTOS!$N$9=\"EL SALVADOR\",LOOKUP(2,GEfectos!$J$4:$P$4,GEfectos!J275:P275),IF(EFECTOS!$N$9=\"GUATEMALA\",LOOKUP(3,GEfectos!$J$4:$P$4,GEfectos!J275:P275),IF(EFECTOS!$N$9=\"HONDURAS\",LOOKUP(4,GEfectos!$J$4:$P$4,GEfectos!J275:P275),IF(EFECTOS!$N$9=\"NICARAGUA\",LOOKUP(5,GEfectos!$J$4:$P$4,GEfectos!J275:P275),IF(EFECTOS!$N$9=\"REPÚBLICA \nDOMINICANA\",LOOKUP(6,$J$4:$P$4,J275:P275),IF(EFECTOS!$N$9=\"PANAMÁ\",LOOKUP(7,GEfectos!$J$4:$P$4,GEfectos!J275:P275))))))))","v":273.6488269592287},{"$f":"IF(EFECTOS!$N$9=\"COSTA RICA\",LOOKUP(1,GEfectos!$Q$4:$W$4,GEfectos!Q275:W275),IF(EFECTOS!$N$9=\"EL SALVADOR\",LOOKUP(2,GEfectos!$Q$4:$W$4,GEfectos!Q275:W275),IF(EFECTOS!$N$9=\"GUATEMALA\",LOOKUP(3,GEfectos!$Q$4:$W$4,GEfectos!Q275:W275),IF(EFECTOS!$N$9=\"HONDURAS\",LOOKUP(4,GEfectos!$Q$4:$W$4,GEfectos!Q275:W275),IF(EFECTOS!$N$9=\"NICARAGUA\",LOOKUP(5,GEfectos!$Q$4:$W$4,GEfectos!Q275:W275),IF(EFECTOS!$N$9=\"REPÚBLICA \nDOMINICANA\",LOOKUP(6,$Q$4:$W$4,Q275:W275),IF(EFECTOS!$N$9=\"PANAMÁ\",LOOKUP(7,GEfectos!$Q$4:$W$4,GEfectos!Q275:W275))))))))","v":208.79452130042839},100]
[null,{"$f":"'ITCER GLOBAL'!B276","v":"Julio"},{"$f":"'ITCER GLOBAL'!C276","v":83.462877076284741},{"$f":"'ITCER GLOBAL'!D276","v":103.92657467364231},{"$f":"'ITCER GLOBAL'!E276","v":53.371756576673448},{"$f":"'ITCER GLOBAL'!F276","v":85.843061407216041},{"$f":"'ITCER GLOBAL'!G276","v":111.10275321573161},{"$f":"'ITCER GLOBAL'!H276","v":131.69224479388023},{"$f":"'ITCER GLOBAL'!I276","v":93.644306897470315},{"$f":"'ITCER GLOBAL'!S276","v":172.45765016739679},{"$f":"'ITCER GLOBAL'!T276","v":89.647390144945021},{"$f":"'ITCER GLOBAL'!U276","v":84.838493239879668},{"$f":"'ITCER GLOBAL'!V276","v":148.31119582205488},{"$f":"'ITCER GLOBAL'!W276","v":209.51200077954124},{"$f":"'ITCER GLOBAL'!X276","v":275.49207328694433},{"$f":"'ITCER GLOBAL'!Y276","v":96.293798496441411},{"$f":"'ITCER GLOBAL'!AA276","v":206.62797187038154},{"$f":"'ITCER GLOBAL'!AB276","v":86.260314483049413},{"$f":"'ITCER GLOBAL'!AC276","v":158.95765603667428},{"$f":"'ITCER GLOBAL'!AD276","v":172.77016149098768},{"$f":"'ITCER GLOBAL'!AE276","v":188.57498551158798},{"$f":"'ITCER GLOBAL'!AF276","v":209.1938471533644},{"$f":"'ITCER GLOBAL'!AG276","v":102.82931412143608},null,{"$f":"IF(EFECTOS!$N$9=\"COSTA RICA\",LOOKUP(1,GEfectos!$C$4:$I$4,GEfectos!C276:I276),IF(EFECTOS!$N$9=\"EL SALVADOR\",LOOKUP(2,GEfectos!$C$4:$I$4,GEfectos!C276:I276),IF(EFECTOS!$N$9=\"GUATEMALA\",LOOKUP(3,GEfectos!$C$4:$I$4,GEfectos!C276:I276),IF(EFECTOS!$N$9=\"HONDURAS\",LOOKUP(4,GEfectos!$C$4:$I$4,GEfectos!C276:I276),IF(EFECTOS!$N$9=\"NICARAGUA\",LOOKUP(5,GEfectos!$C$4:$I$4,GEfectos!C276:I276),IF(EFECTOS!$N$9=\"REPÚBLICA \nDOMINICANA\",LOOKUP(6,$C$4:$I$4,C276:I276),IF(EFECTOS!$N$9=\"PANAMÁ\",LOOKUP(7,GEfectos!$C$4:$I$4,GEfectos!C276:I276))))))))","v":131.69224479388023},{"$f":"IF(EFECTOS!$N$9=\"COSTA RICA\",LOOKUP(1,GEfectos!$J$4:$P$4,GEfectos!J276:P276),IF(EFECTOS!$N$9=\"EL SALVADOR\",LOOKUP(2,GEfectos!$J$4:$P$4,GEfectos!J276:P276),IF(EFECTOS!$N$9=\"GUATEMALA\",LOOKUP(3,GEfectos!$J$4:$P$4,GEfectos!J276:P276),IF(EFECTOS!$N$9=\"HONDURAS\",LOOKUP(4,GEfectos!$J$4:$P$4,GEfectos!J276:P276),IF(EFECTOS!$N$9=\"NICARAGUA\",LOOKUP(5,GEfectos!$J$4:$P$4,GEfectos!J276:P276),IF(EFECTOS!$N$9=\"REPÚBLICA \nDOMINICANA\",LOOKUP(6,$J$4:$P$4,J276:P276),IF(EFECTOS!$N$9=\"PANAMÁ\",LOOKUP(7,GEfectos!$J$4:$P$4,GEfectos!J276:P276))))))))","v":275.49207328694433},{"$f":"IF(EFECTOS!$N$9=\"COSTA RICA\",LOOKUP(1,GEfectos!$Q$4:$W$4,GEfectos!Q276:W276),IF(EFECTOS!$N$9=\"EL SALVADOR\",LOOKUP(2,GEfectos!$Q$4:$W$4,GEfectos!Q276:W276),IF(EFECTOS!$N$9=\"GUATEMALA\",LOOKUP(3,GEfectos!$Q$4:$W$4,GEfectos!Q276:W276),IF(EFECTOS!$N$9=\"HONDURAS\",LOOKUP(4,GEfectos!$Q$4:$W$4,GEfectos!Q276:W276),IF(EFECTOS!$N$9=\"NICARAGUA\",LOOKUP(5,GEfectos!$Q$4:$W$4,GEfectos!Q276:W276),IF(EFECTOS!$N$9=\"REPÚBLICA \nDOMINICANA\",LOOKUP(6,$Q$4:$W$4,Q276:W276),IF(EFECTOS!$N$9=\"PANAMÁ\",LOOKUP(7,GEfectos!$Q$4:$W$4,GEfectos!Q276:W276))))))))","v":209.1938471533644},100]
[null,{"$f":"'ITCER GLOBAL'!B277","v":"Agosto"},{"$f":"'ITCER GLOBAL'!C277","v":84.875107121492249},{"$f":"'ITCER GLOBAL'!D277","v":104.6383036134055},{"$f":"'ITCER GLOBAL'!E277","v":53.721643183168752},{"$f":"'ITCER GLOBAL'!F277","v":85.998583783395333},{"$f":"'ITCER GLOBAL'!G277","v":112.32456509888719},{"$f":"'ITCER GLOBAL'!H277","v":132.31937370035698},{"$f":"'ITCER GLOBAL'!I277","v":94.410253175085614},{"$f":"'ITCER GLOBAL'!S277","v":174.50114674094189},{"$f":"'ITCER GLOBAL'!T277","v":89.947664482468085},{"$f":"'ITCER GLOBAL'!U277","v":84.915932604398549},{"$f":"'ITCER GLOBAL'!V277","v":148.74694141486384},{"$f":"'ITCER GLOBAL'!W277","v":211.27700005519915},{"$f":"'ITCER GLOBAL'!X277","v":277.48094222369713},{"$f":"'ITCER GLOBAL'!Y277","v":97.086838943038259},{"$f":"'ITCER GLOBAL'!AA277","v":205.59755699766811},{"$f":"'ITCER GLOBAL'!AB277","v":85.960553044501623},{"$f":"'ITCER GLOBAL'!AC277","v":158.06652137364838},{"$f":"'ITCER GLOBAL'!AD277","v":172.96440809945523},{"$f":"'ITCER GLOBAL'!AE277","v":188.09509733618569},{"$f":"'ITCER GLOBAL'!AF277","v":209.70545315009193},{"$f":"'ITCER GLOBAL'!AG277","v":102.83505835217798},null,{"$f":"IF(EFECTOS!$N$9=\"COSTA RICA\",LOOKUP(1,GEfectos!$C$4:$I$4,GEfectos!C277:I277),IF(EFECTOS!$N$9=\"EL SALVADOR\",LOOKUP(2,GEfectos!$C$4:$I$4,GEfectos!C277:I277),IF(EFECTOS!$N$9=\"GUATEMALA\",LOOKUP(3,GEfectos!$C$4:$I$4,GEfectos!C277:I277),IF(EFECTOS!$N$9=\"HONDURAS\",LOOKUP(4,GEfectos!$C$4:$I$4,GEfectos!C277:I277),IF(EFECTOS!$N$9=\"NICARAGUA\",LOOKUP(5,GEfectos!$C$4:$I$4,GEfectos!C277:I277),IF(EFECTOS!$N$9=\"REPÚBLICA \nDOMINICANA\",LOOKUP(6,$C$4:$I$4,C277:I277),IF(EFECTOS!$N$9=\"PANAMÁ\",LOOKUP(7,GEfectos!$C$4:$I$4,GEfectos!C277:I277))))))))","v":132.31937370035698},{"$f":"IF(EFECTOS!$N$9=\"COSTA RICA\",LOOKUP(1,GEfectos!$J$4:$P$4,GEfectos!J277:P277),IF(EFECTOS!$N$9=\"EL SALVADOR\",LOOKUP(2,GEfectos!$J$4:$P$4,GEfectos!J277:P277),IF(EFECTOS!$N$9=\"GUATEMALA\",LOOKUP(3,GEfectos!$J$4:$P$4,GEfectos!J277:P277),IF(EFECTOS!$N$9=\"HONDURAS\",LOOKUP(4,GEfectos!$J$4:$P$4,GEfectos!J277:P277),IF(EFECTOS!$N$9=\"NICARAGUA\",LOOKUP(5,GEfectos!$J$4:$P$4,GEfectos!J277:P277),IF(EFECTOS!$N$9=\"REPÚBLICA \nDOMINICANA\",LOOKUP(6,$J$4:$P$4,J277:P277),IF(EFECTOS!$N$9=\"PANAMÁ\",LOOKUP(7,GEfectos!$J$4:$P$4,GEfectos!J277:P277))))))))","v":277.48094222369713},{"$f":"IF(EFECTOS!$N$9=\"COSTA RICA\",LOOKUP(1,GEfectos!$Q$4:$W$4,GEfectos!Q277:W277),IF(EFECTOS!$N$9=\"EL SALVADOR\",LOOKUP(2,GEfectos!$Q$4:$W$4,GEfectos!Q277:W277),IF(EFECTOS!$N$9=\"GUATEMALA\",LOOKUP(3,GEfectos!$Q$4:$W$4,GEfectos!Q277:W277),IF(EFECTOS!$N$9=\"HONDURAS\",LOOKUP(4,GEfectos!$Q$4:$W$4,GEfectos!Q277:W277),IF(EFECTOS!$N$9=\"NICARAGUA\",LOOKUP(5,GEfectos!$Q$4:$W$4,GEfectos!Q277:W277),IF(EFECTOS!$N$9=\"REPÚBLICA \nDOMINICANA\",LOOKUP(6,$Q$4:$W$4,Q277:W277),IF(EFECTOS!$N$9=\"PANAMÁ\",LOOKUP(7,GEfectos!$Q$4:$W$4,GEfectos!Q277:W277))))))))","v":209.70545315009193},100]
[null,{"$f":"'ITCER GLOBAL'!B278","v":"Septiembre"},{"$f":"'ITCER GLOBAL'!C278","v":85.405923084392768},{"$f":"'ITCER GLOBAL'!D278","v":104.92477752175098},{"$f":"'ITCER GLOBAL'!E278","v":54.569682125746404},{"$f":"'ITCER GLOBAL'!F278","v":86.52447761684374},{"$f":"'ITCER GLOBAL'!G278","v":113.11185127742995},{"$f":"'ITCER GLOBAL'!H278","v":132.97644791803077},{"$f":"'ITCER GLOBAL'!I278","v":94.887454671936652},{"$f":"'ITCER GLOBAL'!S278","v":175.34243681898417},{"$f":"'ITCER GLOBAL'!T278","v":90.027330472738782},{"$f":"'ITCER GLOBAL'!U278","v":85.455836480561402},{"$f":"'ITCER GLOBAL'!V278","v":149.15609680476319},{"$f":"'ITCER GLOBAL'!W278","v":212.74179783620644},{"$f":"'ITCER GLOBAL'!X278","v":279.31752090696943},{"$f":"'ITCER GLOBAL'!Y278","v":97.478474269441733},{"$f":"'ITCER GLOBAL'!AA278","v":205.30477335362534},{"$f":"'ITCER GLOBAL'!AB278","v":85.801783524464511},{"$f":"'ITCER GLOBAL'!AC278","v":156.59947639724783},{"$f":"'ITCER GLOBAL'!AD278","v":172.38601250535251},{"$f":"'ITCER GLOBAL'!AE278","v":188.08090879391025},{"$f":"'ITCER GLOBAL'!AF278","v":210.05037003180149},{"$f":"'ITCER GLOBAL'!AG278","v":102.73062398655675},null,{"$f":"IF(EFECTOS!$N$9=\"COSTA RICA\",LOOKUP(1,GEfectos!$C$4:$I$4,GEfectos!C278:I278),IF(EFECTOS!$N$9=\"EL SALVADOR\",LOOKUP(2,GEfectos!$C$4:$I$4,GEfectos!C278:I278),IF(EFECTOS!$N$9=\"GUATEMALA\",LOOKUP(3,GEfectos!$C$4:$I$4,GEfectos!C278:I278),IF(EFECTOS!$N$9=\"HONDURAS\",LOOKUP(4,GEfectos!$C$4:$I$4,GEfectos!C278:I278),IF(EFECTOS!$N$9=\"NICARAGUA\",LOOKUP(5,GEfectos!$C$4:$I$4,GEfectos!C278:I278),IF(EFECTOS!$N$9=\"REPÚBLICA \nDOMINICANA\",LOOKUP(6,$C$4:$I$4,C278:I278),IF(EFECTOS!$N$9=\"PANAMÁ\",LOOKUP(7,GEfectos!$C$4:$I$4,GEfectos!C278:I278))))))))","v":132.97644791803077},{"$f":"IF(EFECTOS!$N$9=\"COSTA RICA\",LOOKUP(1,GEfectos!$J$4:$P$4,GEfectos!J278:P278),IF(EFECTOS!$N$9=\"EL SALVADOR\",LOOKUP(2,GEfectos!$J$4:$P$4,GEfectos!J278:P278),IF(EFECTOS!$N$9=\"GUATEMALA\",LOOKUP(3,GEfectos!$J$4:$P$4,GEfectos!J278:P278),IF(EFECTOS!$N$9=\"HONDURAS\",LOOKUP(4,GEfectos!$J$4:$P$4,GEfectos!J278:P278),IF(EFECTOS!$N$9=\"NICARAGUA\",LOOKUP(5,GEfectos!$J$4:$P$4,GEfectos!J278:P278),IF(EFECTOS!$N$9=\"REPÚBLICA \nDOMINICANA\",LOOKUP(6,$J$4:$P$4,J278:P278),IF(EFECTOS!$N$9=\"PANAMÁ\",LOOKUP(7,GEfectos!$J$4:$P$4,GEfectos!J278:P278))))))))","v":279.31752090696943},{"$f":"IF(EFECTOS!$N$9=\"COSTA RICA\",LOOKUP(1,GEfectos!$Q$4:$W$4,GEfectos!Q278:W278),IF(EFECTOS!$N$9=\"EL SALVADOR\",LOOKUP(2,GEfectos!$Q$4:$W$4,GEfectos!Q278:W278),IF(EFECTOS!$N$9=\"GUATEMALA\",LOOKUP(3,GEfectos!$Q$4:$W$4,GEfectos!Q278:W278),IF(EFECTOS!$N$9=\"HONDURAS\",LOOKUP(4,GEfectos!$Q$4:$W$4,GEfectos!Q278:W278),IF(EFECTOS!$N$9=\"NICARAGUA\",LOOKUP(5,GEfectos!$Q$4:$W$4,GEfectos!Q278:W278),IF(EFECTOS!$N$9=\"REPÚBLICA \nDOMINICANA\",LOOKUP(6,$Q$4:$W$4,Q278:W278),IF(EFECTOS!$N$9=\"PANAMÁ\",LOOKUP(7,GEfectos!$Q$4:$W$4,GEfectos!Q278:W278))))))))","v":210.05037003180149},100]
[null,{"$f":"'ITCER GLOBAL'!B279","v":"Octubre"},{"$f":"'ITCER GLOBAL'!C279","v":83.676850757579913},{"$f":"'ITCER GLOBAL'!D279","v":104.34007856125159},{"$f":"'ITCER GLOBAL'!E279","v":54.166610916089382},{"$f":"'ITCER GLOBAL'!F279","v":86.079183798038812},{"$f":"'ITCER GLOBAL'!G279","v":111.96369186654331},{"$f":"'ITCER GLOBAL'!H279","v":132.44435534967579},{"$f":"'ITCER GLOBAL'!I279","v":94.327029282522872},{"$f":"'ITCER GLOBAL'!S279","v":172.61653874379067},{"$f":"'ITCER GLOBAL'!T279","v":89.499962553193967},{"$f":"'ITCER GLOBAL'!U279","v":85.190393189405228},{"$f":"'ITCER GLOBAL'!V279","v":148.63658597298604},{"$f":"'ITCER GLOBAL'!W279","v":211.37087464663503},{"$f":"'ITCER GLOBAL'!X279","v":277.98215706107999},{"$f":"'ITCER GLOBAL'!Y279","v":96.61787463530537},{"$f":"'ITCER GLOBAL'!AA279","v":206.28947813043038},{"$f":"'ITCER GLOBAL'!AB279","v":85.777166154474457},{"$f":"'ITCER GLOBAL'!AC279","v":157.27473391565042},{"$f":"'ITCER GLOBAL'!AD279","v":172.67425109620115},{"$f":"'ITCER GLOBAL'!AE279","v":188.78519556016559},{"$f":"'ITCER GLOBAL'!AF279","v":209.88599803076502},{"$f":"'ITCER GLOBAL'!AG279","v":102.42862026951056},null,{"$f":"IF(EFECTOS!$N$9=\"COSTA RICA\",LOOKUP(1,GEfectos!$C$4:$I$4,GEfectos!C279:I279),IF(EFECTOS!$N$9=\"EL SALVADOR\",LOOKUP(2,GEfectos!$C$4:$I$4,GEfectos!C279:I279),IF(EFECTOS!$N$9=\"GUATEMALA\",LOOKUP(3,GEfectos!$C$4:$I$4,GEfectos!C279:I279),IF(EFECTOS!$N$9=\"HONDURAS\",LOOKUP(4,GEfectos!$C$4:$I$4,GEfectos!C279:I279),IF(EFECTOS!$N$9=\"NICARAGUA\",LOOKUP(5,GEfectos!$C$4:$I$4,GEfectos!C279:I279),IF(EFECTOS!$N$9=\"REPÚBLICA \nDOMINICANA\",LOOKUP(6,$C$4:$I$4,C279:I279),IF(EFECTOS!$N$9=\"PANAMÁ\",LOOKUP(7,GEfectos!$C$4:$I$4,GEfectos!C279:I279))))))))","v":132.44435534967579},{"$f":"IF(EFECTOS!$N$9=\"COSTA RICA\",LOOKUP(1,GEfectos!$J$4:$P$4,GEfectos!J279:P279),IF(EFECTOS!$N$9=\"EL SALVADOR\",LOOKUP(2,GEfectos!$J$4:$P$4,GEfectos!J279:P279),IF(EFECTOS!$N$9=\"GUATEMALA\",LOOKUP(3,GEfectos!$J$4:$P$4,GEfectos!J279:P279),IF(EFECTOS!$N$9=\"HONDURAS\",LOOKUP(4,GEfectos!$J$4:$P$4,GEfectos!J279:P279),IF(EFECTOS!$N$9=\"NICARAGUA\",LOOKUP(5,GEfectos!$J$4:$P$4,GEfectos!J279:P279),IF(EFECTOS!$N$9=\"REPÚBLICA \nDOMINICANA\",LOOKUP(6,$J$4:$P$4,J279:P279),IF(EFECTOS!$N$9=\"PANAMÁ\",LOOKUP(7,GEfectos!$J$4:$P$4,GEfectos!J279:P279))))))))","v":277.98215706107999},{"$f":"IF(EFECTOS!$N$9=\"COSTA RICA\",LOOKUP(1,GEfectos!$Q$4:$W$4,GEfectos!Q279:W279),IF(EFECTOS!$N$9=\"EL SALVADOR\",LOOKUP(2,GEfectos!$Q$4:$W$4,GEfectos!Q279:W279),IF(EFECTOS!$N$9=\"GUATEMALA\",LOOKUP(3,GEfectos!$Q$4:$W$4,GEfectos!Q279:W279),IF(EFECTOS!$N$9=\"HONDURAS\",LOOKUP(4,GEfectos!$Q$4:$W$4,GEfectos!Q279:W279),IF(EFECTOS!$N$9=\"NICARAGUA\",LOOKUP(5,GEfectos!$Q$4:$W$4,GEfectos!Q279:W279),IF(EFECTOS!$N$9=\"REPÚBLICA \nDOMINICANA\",LOOKUP(6,$Q$4:$W$4,Q279:W279),IF(EFECTOS!$N$9=\"PANAMÁ\",LOOKUP(7,GEfectos!$Q$4:$W$4,GEfectos!Q279:W279))))))))","v":209.88599803076502},100]
[null,{"$f":"'ITCER GLOBAL'!B280","v":"Noviembre"},{"$f":"'ITCER GLOBAL'!C280","v":83.064556618722179},{"$f":"'ITCER GLOBAL'!D280","v":104.30070569181353},{"$f":"'ITCER GLOBAL'!E280","v":53.660948683431954},{"$f":"'ITCER GLOBAL'!F280","v":86.148724868303077},{"$f":"'ITCER GLOBAL'!G280","v":111.06285946350523},{"$f":"'ITCER GLOBAL'!H280","v":131.74302375031633},{"$f":"'ITCER GLOBAL'!I280","v":94.544626690542287},{"$f":"'ITCER GLOBAL'!S280","v":171.40174595855444},{"$f":"'ITCER GLOBAL'!T280","v":89.441192817661488},{"$f":"'ITCER GLOBAL'!U280","v":84.975241772343082},{"$f":"'ITCER GLOBAL'!V280","v":149.21240006048646},{"$f":"'ITCER GLOBAL'!W280","v":211.73975005103668},{"$f":"'ITCER GLOBAL'!X280","v":278.35387365488384},{"$f":"'ITCER GLOBAL'!Y280","v":96.575456706929145},{"$f":"'ITCER GLOBAL'!AA280","v":206.34763241476409},{"$f":"'ITCER GLOBAL'!AB280","v":85.753200061695892},{"$f":"'ITCER GLOBAL'!AC280","v":158.3558320477095},{"$f":"'ITCER GLOBAL'!AD280","v":173.20326016268936},{"$f":"'ITCER GLOBAL'!AE280","v":190.64856701318178},{"$f":"'ITCER GLOBAL'!AF280","v":211.2854751098086},{"$f":"'ITCER GLOBAL'!AG280","v":102.14801209489571},null,{"$f":"IF(EFECTOS!$N$9=\"COSTA RICA\",LOOKUP(1,GEfectos!$C$4:$I$4,GEfectos!C280:I280),IF(EFECTOS!$N$9=\"EL SALVADOR\",LOOKUP(2,GEfectos!$C$4:$I$4,GEfectos!C280:I280),IF(EFECTOS!$N$9=\"GUATEMALA\",LOOKUP(3,GEfectos!$C$4:$I$4,GEfectos!C280:I280),IF(EFECTOS!$N$9=\"HONDURAS\",LOOKUP(4,GEfectos!$C$4:$I$4,GEfectos!C280:I280),IF(EFECTOS!$N$9=\"NICARAGUA\",LOOKUP(5,GEfectos!$C$4:$I$4,GEfectos!C280:I280),IF(EFECTOS!$N$9=\"REPÚBLICA \nDOMINICANA\",LOOKUP(6,$C$4:$I$4,C280:I280),IF(EFECTOS!$N$9=\"PANAMÁ\",LOOKUP(7,GEfectos!$C$4:$I$4,GEfectos!C280:I280))))))))","v":131.74302375031633},{"$f":"IF(EFECTOS!$N$9=\"COSTA RICA\",LOOKUP(1,GEfectos!$J$4:$P$4,GEfectos!J280:P280),IF(EFECTOS!$N$9=\"EL SALVADOR\",LOOKUP(2,GEfectos!$J$4:$P$4,GEfectos!J280:P280),IF(EFECTOS!$N$9=\"GUATEMALA\",LOOKUP(3,GEfectos!$J$4:$P$4,GEfectos!J280:P280),IF(EFECTOS!$N$9=\"HONDURAS\",LOOKUP(4,GEfectos!$J$4:$P$4,GEfectos!J280:P280),IF(EFECTOS!$N$9=\"NICARAGUA\",LOOKUP(5,GEfectos!$J$4:$P$4,GEfectos!J280:P280),IF(EFECTOS!$N$9=\"REPÚBLICA \nDOMINICANA\",LOOKUP(6,$J$4:$P$4,J280:P280),IF(EFECTOS!$N$9=\"PANAMÁ\",LOOKUP(7,GEfectos!$J$4:$P$4,GEfectos!J280:P280))))))))","v":278.35387365488384},{"$f":"IF(EFECTOS!$N$9=\"COSTA RICA\",LOOKUP(1,GEfectos!$Q$4:$W$4,GEfectos!Q280:W280),IF(EFECTOS!$N$9=\"EL SALVADOR\",LOOKUP(2,GEfectos!$Q$4:$W$4,GEfectos!Q280:W280),IF(EFECTOS!$N$9=\"GUATEMALA\",LOOKUP(3,GEfectos!$Q$4:$W$4,GEfectos!Q280:W280),IF(EFECTOS!$N$9=\"HONDURAS\",LOOKUP(4,GEfectos!$Q$4:$W$4,GEfectos!Q280:W280),IF(EFECTOS!$N$9=\"NICARAGUA\",LOOKUP(5,GEfectos!$Q$4:$W$4,GEfectos!Q280:W280),IF(EFECTOS!$N$9=\"REPÚBLICA \nDOMINICANA\",LOOKUP(6,$Q$4:$W$4,Q280:W280),IF(EFECTOS!$N$9=\"PANAMÁ\",LOOKUP(7,GEfectos!$Q$4:$W$4,GEfectos!Q280:W280))))))))","v":211.2854751098086},100]
[null,{"$f":"'ITCER GLOBAL'!B281","v":"Diciembre"},{"$f":"'ITCER GLOBAL'!C281","v":82.723653258592947},{"$f":"'ITCER GLOBAL'!D281","v":104.42341375684673},{"$f":"'ITCER GLOBAL'!E281","v":53.357404583293459},{"$f":"'ITCER GLOBAL'!F281","v":85.831738798159719},{"$f":"'ITCER GLOBAL'!G281","v":110.49724708124222},{"$f":"'ITCER GLOBAL'!H281","v":131.38926675580245},{"$f":"'ITCER GLOBAL'!I281","v":94.750331134051606},{"$f":"'ITCER GLOBAL'!S281","v":171.13041233724255},{"$f":"'ITCER GLOBAL'!T281","v":89.424035620588811},{"$f":"'ITCER GLOBAL'!U281","v":85.112839236299521},{"$f":"'ITCER GLOBAL'!V281","v":149.238315285308},{"$f":"'ITCER GLOBAL'!W281","v":212.46549029808256},{"$f":"'ITCER GLOBAL'!X281","v":279.92023142473153},{"$f":"'ITCER GLOBAL'!Y281","v":96.75312612640549},{"$f":"'ITCER GLOBAL'!AA281","v":206.86998892842817},{"$f":"'ITCER GLOBAL'!AB281","v":85.636000972746928},{"$f":"'ITCER GLOBAL'!AC281","v":159.51457890616533},{"$f":"'ITCER GLOBAL'!AD281","v":173.87311194551702},{"$f":"'ITCER GLOBAL'!AE281","v":192.28125216718658},{"$f":"'ITCER GLOBAL'!AF281","v":213.04649788858768},{"$f":"'ITCER GLOBAL'!AG281","v":102.11376041474762},null,{"$f":"IF(EFECTOS!$N$9=\"COSTA RICA\",LOOKUP(1,GEfectos!$C$4:$I$4,GEfectos!C281:I281),IF(EFECTOS!$N$9=\"EL SALVADOR\",LOOKUP(2,GEfectos!$C$4:$I$4,GEfectos!C281:I281),IF(EFECTOS!$N$9=\"GUATEMALA\",LOOKUP(3,GEfectos!$C$4:$I$4,GEfectos!C281:I281),IF(EFECTOS!$N$9=\"HONDURAS\",LOOKUP(4,GEfectos!$C$4:$I$4,GEfectos!C281:I281),IF(EFECTOS!$N$9=\"NICARAGUA\",LOOKUP(5,GEfectos!$C$4:$I$4,GEfectos!C281:I281),IF(EFECTOS!$N$9=\"REPÚBLICA \nDOMINICANA\",LOOKUP(6,$C$4:$I$4,C281:I281),IF(EFECTOS!$N$9=\"PANAMÁ\",LOOKUP(7,GEfectos!$C$4:$I$4,GEfectos!C281:I281))))))))","v":131.38926675580245},{"$f":"IF(EFECTOS!$N$9=\"COSTA RICA\",LOOKUP(1,GEfectos!$J$4:$P$4,GEfectos!J281:P281),IF(EFECTOS!$N$9=\"EL SALVADOR\",LOOKUP(2,GEfectos!$J$4:$P$4,GEfectos!J281:P281),IF(EFECTOS!$N$9=\"GUATEMALA\",LOOKUP(3,GEfectos!$J$4:$P$4,GEfectos!J281:P281),IF(EFECTOS!$N$9=\"HONDURAS\",LOOKUP(4,GEfectos!$J$4:$P$4,GEfectos!J281:P281),IF(EFECTOS!$N$9=\"NICARAGUA\",LOOKUP(5,GEfectos!$J$4:$P$4,GEfectos!J281:P281),IF(EFECTOS!$N$9=\"REPÚBLICA \nDOMINICANA\",LOOKUP(6,$J$4:$P$4,J281:P281),IF(EFECTOS!$N$9=\"PANAMÁ\",LOOKUP(7,GEfectos!$J$4:$P$4,GEfectos!J281:P281))))))))","v":279.92023142473153},{"$f":"IF(EFECTOS!$N$9=\"COSTA RICA\",LOOKUP(1,GEfectos!$Q$4:$W$4,GEfectos!Q281:W281),IF(EFECTOS!$N$9=\"EL SALVADOR\",LOOKUP(2,GEfectos!$Q$4:$W$4,GEfectos!Q281:W281),IF(EFECTOS!$N$9=\"GUATEMALA\",LOOKUP(3,GEfectos!$Q$4:$W$4,GEfectos!Q281:W281),IF(EFECTOS!$N$9=\"HONDURAS\",LOOKUP(4,GEfectos!$Q$4:$W$4,GEfectos!Q281:W281),IF(EFECTOS!$N$9=\"NICARAGUA\",LOOKUP(5,GEfectos!$Q$4:$W$4,GEfectos!Q281:W281),IF(EFECTOS!$N$9=\"REPÚBLICA \nDOMINICANA\",LOOKUP(6,$Q$4:$W$4,Q281:W281),IF(EFECTOS!$N$9=\"PANAMÁ\",LOOKUP(7,GEfectos!$Q$4:$W$4,GEfectos!Q281:W281))))))))","v":213.04649788858768},100]
[2018,{"$f":"'ITCER GLOBAL'!B282","v":"Enero"},{"$f":"'ITCER GLOBAL'!C282","v":83.884155412019368},{"$f":"'ITCER GLOBAL'!D282","v":105.34612049780768},{"$f":"'ITCER GLOBAL'!E282","v":54.223679857096776},{"$f":"'ITCER GLOBAL'!F282","v":86.904121575299442},{"$f":"'ITCER GLOBAL'!G282","v":113.48245083645037},{"$f":"'ITCER GLOBAL'!H282","v":130.08432474913326},{"$f":"'ITCER GLOBAL'!I282","v":96.209340340612826},{"$f":"'ITCER GLOBAL'!S282","v":174.1320179824254},{"$f":"'ITCER GLOBAL'!T282","v":89.602336287595946},{"$f":"'ITCER GLOBAL'!U282","v":85.862887853191253},{"$f":"'ITCER GLOBAL'!V282","v":150.96579951442658},{"$f":"'ITCER GLOBAL'!W282","v":217.06949000810849},{"$f":"'ITCER GLOBAL'!X282","v":285.90086695337254},{"$f":"'ITCER GLOBAL'!Y282","v":97.693945212797317},{"$f":"'ITCER GLOBAL'!AA282","v":207.58630414424465},{"$f":"'ITCER GLOBAL'!AB282","v":85.055183678511099},{"$f":"'ITCER GLOBAL'!AC282","v":158.34942976846591},{"$f":"'ITCER GLOBAL'!AD282","v":173.71535063917526},{"$f":"'ITCER GLOBAL'!AE282","v":191.28022739035359},{"$f":"'ITCER GLOBAL'!AF282","v":219.78118232518057},{"$f":"'ITCER GLOBAL'!AG282","v":101.54309848391902},null,{"$f":"IF(EFECTOS!$N$9=\"COSTA RICA\",LOOKUP(1,GEfectos!$C$4:$I$4,GEfectos!C282:I282),IF(EFECTOS!$N$9=\"EL SALVADOR\",LOOKUP(2,GEfectos!$C$4:$I$4,GEfectos!C282:I282),IF(EFECTOS!$N$9=\"GUATEMALA\",LOOKUP(3,GEfectos!$C$4:$I$4,GEfectos!C282:I282),IF(EFECTOS!$N$9=\"HONDURAS\",LOOKUP(4,GEfectos!$C$4:$I$4,GEfectos!C282:I282),IF(EFECTOS!$N$9=\"NICARAGUA\",LOOKUP(5,GEfectos!$C$4:$I$4,GEfectos!C282:I282),IF(EFECTOS!$N$9=\"REPÚBLICA \nDOMINICANA\",LOOKUP(6,$C$4:$I$4,C282:I282),IF(EFECTOS!$N$9=\"PANAMÁ\",LOOKUP(7,GEfectos!$C$4:$I$4,GEfectos!C282:I282))))))))","v":130.08432474913326},{"$f":"IF(EFECTOS!$N$9=\"COSTA RICA\",LOOKUP(1,GEfectos!$J$4:$P$4,GEfectos!J282:P282),IF(EFECTOS!$N$9=\"EL SALVADOR\",LOOKUP(2,GEfectos!$J$4:$P$4,GEfectos!J282:P282),IF(EFECTOS!$N$9=\"GUATEMALA\",LOOKUP(3,GEfectos!$J$4:$P$4,GEfectos!J282:P282),IF(EFECTOS!$N$9=\"HONDURAS\",LOOKUP(4,GEfectos!$J$4:$P$4,GEfectos!J282:P282),IF(EFECTOS!$N$9=\"NICARAGUA\",LOOKUP(5,GEfectos!$J$4:$P$4,GEfectos!J282:P282),IF(EFECTOS!$N$9=\"REPÚBLICA \nDOMINICANA\",LOOKUP(6,$J$4:$P$4,J282:P282),IF(EFECTOS!$N$9=\"PANAMÁ\",LOOKUP(7,GEfectos!$J$4:$P$4,GEfectos!J282:P282))))))))","v":285.90086695337254},{"$f":"IF(EFECTOS!$N$9=\"COSTA RICA\",LOOKUP(1,GEfectos!$Q$4:$W$4,GEfectos!Q282:W282),IF(EFECTOS!$N$9=\"EL SALVADOR\",LOOKUP(2,GEfectos!$Q$4:$W$4,GEfectos!Q282:W282),IF(EFECTOS!$N$9=\"GUATEMALA\",LOOKUP(3,GEfectos!$Q$4:$W$4,GEfectos!Q282:W282),IF(EFECTOS!$N$9=\"HONDURAS\",LOOKUP(4,GEfectos!$Q$4:$W$4,GEfectos!Q282:W282),IF(EFECTOS!$N$9=\"NICARAGUA\",LOOKUP(5,GEfectos!$Q$4:$W$4,GEfectos!Q282:W282),IF(EFECTOS!$N$9=\"REPÚBLICA \nDOMINICANA\",LOOKUP(6,$Q$4:$W$4,Q282:W282),IF(EFECTOS!$N$9=\"PANAMÁ\",LOOKUP(7,GEfectos!$Q$4:$W$4,GEfectos!Q282:W282))))))))","v":219.78118232518057},100]
[null,{"$f":"'ITCER GLOBAL'!B283","v":"Febrero"},{"$f":"'ITCER GLOBAL'!C283","v":84.676176019052392},{"$f":"'ITCER GLOBAL'!D283","v":105.94033534572939},{"$f":"'ITCER GLOBAL'!E283","v":54.928997413804701},{"$f":"'ITCER GLOBAL'!F283","v":86.895755666720092},{"$f":"'ITCER GLOBAL'!G283","v":114.5594654758534},{"$f":"'ITCER GLOBAL'!H283","v":132.46648343255612},{"$f":"'ITCER GLOBAL'!I283","v":96.937524945917914},{"$f":"'ITCER GLOBAL'!S283","v":175.36517329154074},{"$f":"'ITCER GLOBAL'!T283","v":89.806408061116642},{"$f":"'ITCER GLOBAL'!U283","v":86.409916210431476},{"$f":"'ITCER GLOBAL'!V283","v":151.34905917209579},{"$f":"'ITCER GLOBAL'!W283","v":218.65751226019395},{"$f":"'ITCER GLOBAL'!X283","v":289.28290647545037},{"$f":"'ITCER GLOBAL'!Y283","v":98.220015111028729},{"$f":"'ITCER GLOBAL'!AA283","v":207.1009598403252},{"$f":"'ITCER GLOBAL'!AB283","v":84.770741727444303},{"$f":"'ITCER GLOBAL'!AC283","v":157.3120214801427},{"$f":"'ITCER GLOBAL'!AD283","v":174.17313194510885},{"$f":"'ITCER GLOBAL'!AE283","v":190.86813241659385},{"$f":"'ITCER GLOBAL'!AF283","v":218.38196272699849},{"$f":"'ITCER GLOBAL'!AG283","v":101.32300692206277},null,{"$f":"IF(EFECTOS!$N$9=\"COSTA RICA\",LOOKUP(1,GEfectos!$C$4:$I$4,GEfectos!C283:I283),IF(EFECTOS!$N$9=\"EL SALVADOR\",LOOKUP(2,GEfectos!$C$4:$I$4,GEfectos!C283:I283),IF(EFECTOS!$N$9=\"GUATEMALA\",LOOKUP(3,GEfectos!$C$4:$I$4,GEfectos!C283:I283),IF(EFECTOS!$N$9=\"HONDURAS\",LOOKUP(4,GEfectos!$C$4:$I$4,GEfectos!C283:I283),IF(EFECTOS!$N$9=\"NICARAGUA\",LOOKUP(5,GEfectos!$C$4:$I$4,GEfectos!C283:I283),IF(EFECTOS!$N$9=\"REPÚBLICA \nDOMINICANA\",LOOKUP(6,$C$4:$I$4,C283:I283),IF(EFECTOS!$N$9=\"PANAMÁ\",LOOKUP(7,GEfectos!$C$4:$I$4,GEfectos!C283:I283))))))))","v":132.46648343255612},{"$f":"IF(EFECTOS!$N$9=\"COSTA RICA\",LOOKUP(1,GEfectos!$J$4:$P$4,GEfectos!J283:P283),IF(EFECTOS!$N$9=\"EL SALVADOR\",LOOKUP(2,GEfectos!$J$4:$P$4,GEfectos!J283:P283),IF(EFECTOS!$N$9=\"GUATEMALA\",LOOKUP(3,GEfectos!$J$4:$P$4,GEfectos!J283:P283),IF(EFECTOS!$N$9=\"HONDURAS\",LOOKUP(4,GEfectos!$J$4:$P$4,GEfectos!J283:P283),IF(EFECTOS!$N$9=\"NICARAGUA\",LOOKUP(5,GEfectos!$J$4:$P$4,GEfectos!J283:P283),IF(EFECTOS!$N$9=\"REPÚBLICA \nDOMINICANA\",LOOKUP(6,$J$4:$P$4,J283:P283),IF(EFECTOS!$N$9=\"PANAMÁ\",LOOKUP(7,GEfectos!$J$4:$P$4,GEfectos!J283:P283))))))))","v":289.28290647545037},{"$f":"IF(EFECTOS!$N$9=\"COSTA RICA\",LOOKUP(1,GEfectos!$Q$4:$W$4,GEfectos!Q283:W283),IF(EFECTOS!$N$9=\"EL SALVADOR\",LOOKUP(2,GEfectos!$Q$4:$W$4,GEfectos!Q283:W283),IF(EFECTOS!$N$9=\"GUATEMALA\",LOOKUP(3,GEfectos!$Q$4:$W$4,GEfectos!Q283:W283),IF(EFECTOS!$N$9=\"HONDURAS\",LOOKUP(4,GEfectos!$Q$4:$W$4,GEfectos!Q283:W283),IF(EFECTOS!$N$9=\"NICARAGUA\",LOOKUP(5,GEfectos!$Q$4:$W$4,GEfectos!Q283:W283),IF(EFECTOS!$N$9=\"REPÚBLICA \nDOMINICANA\",LOOKUP(6,$Q$4:$W$4,Q283:W283),IF(EFECTOS!$N$9=\"PANAMÁ\",LOOKUP(7,GEfectos!$Q$4:$W$4,GEfectos!Q283:W283))))))))","v":218.38196272699849},100]
[null,{"$f":"'ITCER GLOBAL'!B284","v":"Marzo"},{"$f":"'ITCER GLOBAL'!C284","v":84.32981891649483},{"$f":"'ITCER GLOBAL'!D284","v":106.14910758853037},{"$f":"'ITCER GLOBAL'!E284","v":55.120264602577627},{"$f":"'ITCER GLOBAL'!F284","v":86.908779209023294},{"$f":"'ITCER GLOBAL'!G284","v":114.78112684703879},{"$f":"'ITCER GLOBAL'!H284","v":133.00199601114286},{"$f":"'ITCER GLOBAL'!I284","v":97.007518089727654},{"$f":"'ITCER GLOBAL'!S284","v":174.28458860517765},{"$f":"'ITCER GLOBAL'!T284","v":89.761375929588354},{"$f":"'ITCER GLOBAL'!U284","v":86.80348270308852},{"$f":"'ITCER GLOBAL'!V284","v":151.6380413897943},{"$f":"'ITCER GLOBAL'!W284","v":219.31019471072503},{"$f":"'ITCER GLOBAL'!X284","v":291.0441318357573},{"$f":"'ITCER GLOBAL'!Y284","v":98.285673569284299},{"$f":"'ITCER GLOBAL'!AA284","v":206.67018006733531},{"$f":"'ITCER GLOBAL'!AB284","v":84.56159262076288},{"$f":"'ITCER GLOBAL'!AC284","v":157.48016329193976},{"$f":"'ITCER GLOBAL'!AD284","v":174.47954368924155},{"$f":"'ITCER GLOBAL'!AE284","v":191.06816663595333},{"$f":"'ITCER GLOBAL'!AF284","v":218.82689024559733},{"$f":"'ITCER GLOBAL'!AG284","v":101.31758394063273},null,{"$f":"IF(EFECTOS!$N$9=\"COSTA RICA\",LOOKUP(1,GEfectos!$C$4:$I$4,GEfectos!C284:I284),IF(EFECTOS!$N$9=\"EL SALVADOR\",LOOKUP(2,GEfectos!$C$4:$I$4,GEfectos!C284:I284),IF(EFECTOS!$N$9=\"GUATEMALA\",LOOKUP(3,GEfectos!$C$4:$I$4,GEfectos!C284:I284),IF(EFECTOS!$N$9=\"HONDURAS\",LOOKUP(4,GEfectos!$C$4:$I$4,GEfectos!C284:I284),IF(EFECTOS!$N$9=\"NICARAGUA\",LOOKUP(5,GEfectos!$C$4:$I$4,GEfectos!C284:I284),IF(EFECTOS!$N$9=\"REPÚBLICA \nDOMINICANA\",LOOKUP(6,$C$4:$I$4,C284:I284),IF(EFECTOS!$N$9=\"PANAMÁ\",LOOKUP(7,GEfectos!$C$4:$I$4,GEfectos!C284:I284))))))))","v":133.00199601114286},{"$f":"IF(EFECTOS!$N$9=\"COSTA RICA\",LOOKUP(1,GEfectos!$J$4:$P$4,GEfectos!J284:P284),IF(EFECTOS!$N$9=\"EL SALVADOR\",LOOKUP(2,GEfectos!$J$4:$P$4,GEfectos!J284:P284),IF(EFECTOS!$N$9=\"GUATEMALA\",LOOKUP(3,GEfectos!$J$4:$P$4,GEfectos!J284:P284),IF(EFECTOS!$N$9=\"HONDURAS\",LOOKUP(4,GEfectos!$J$4:$P$4,GEfectos!J284:P284),IF(EFECTOS!$N$9=\"NICARAGUA\",LOOKUP(5,GEfectos!$J$4:$P$4,GEfectos!J284:P284),IF(EFECTOS!$N$9=\"REPÚBLICA \nDOMINICANA\",LOOKUP(6,$J$4:$P$4,J284:P284),IF(EFECTOS!$N$9=\"PANAMÁ\",LOOKUP(7,GEfectos!$J$4:$P$4,GEfectos!J284:P284))))))))","v":291.0441318357573},{"$f":"IF(EFECTOS!$N$9=\"COSTA RICA\",LOOKUP(1,GEfectos!$Q$4:$W$4,GEfectos!Q284:W284),IF(EFECTOS!$N$9=\"EL SALVADOR\",LOOKUP(2,GEfectos!$Q$4:$W$4,GEfectos!Q284:W284),IF(EFECTOS!$N$9=\"GUATEMALA\",LOOKUP(3,GEfectos!$Q$4:$W$4,GEfectos!Q284:W284),IF(EFECTOS!$N$9=\"HONDURAS\",LOOKUP(4,GEfectos!$Q$4:$W$4,GEfectos!Q284:W284),IF(EFECTOS!$N$9=\"NICARAGUA\",LOOKUP(5,GEfectos!$Q$4:$W$4,GEfectos!Q284:W284),IF(EFECTOS!$N$9=\"REPÚBLICA \nDOMINICANA\",LOOKUP(6,$Q$4:$W$4,Q284:W284),IF(EFECTOS!$N$9=\"PANAMÁ\",LOOKUP(7,GEfectos!$Q$4:$W$4,GEfectos!Q284:W284))))))))","v":218.82689024559733},100]
[null,{"$f":"'ITCER GLOBAL'!B285","v":"Abril"},{"$f":"'ITCER GLOBAL'!C285","v":84.268340580417515},{"$f":"'ITCER GLOBAL'!D285","v":106.34267611071185},{"$f":"'ITCER GLOBAL'!E285","v":55.391306429580219},{"$f":"'ITCER GLOBAL'!F285","v":87.030643042903833},{"$f":"'ITCER GLOBAL'!G285","v":114.99613251872691},{"$f":"'ITCER GLOBAL'!H285","v":133.30515724795623},{"$f":"'ITCER GLOBAL'!I285","v":97.058472259500832},{"$f":"'ITCER GLOBAL'!S285","v":173.61359499463717},{"$f":"'ITCER GLOBAL'!T285","v":89.769797560554835},{"$f":"'ITCER GLOBAL'!U285","v":87.104463632443384},{"$f":"'ITCER GLOBAL'!V285","v":151.87474393041254},{"$f":"'ITCER GLOBAL'!W285","v":220.14731651726191},{"$f":"'ITCER GLOBAL'!X285","v":292.01395351808446},{"$f":"'ITCER GLOBAL'!Y285","v":98.344358292470616},{"$f":"'ITCER GLOBAL'!AA285","v":206.02469895435669},{"$f":"'ITCER GLOBAL'!AB285","v":84.415590093949461},{"$f":"'ITCER GLOBAL'!AC285","v":157.25295041231888},{"$f":"'ITCER GLOBAL'!AD285","v":174.5072064508845},{"$f":"'ITCER GLOBAL'!AE285","v":191.43888728728444},{"$f":"'ITCER GLOBAL'!AF285","v":219.05675635258399},{"$f":"'ITCER GLOBAL'!AG285","v":101.32485707124235},null,{"$f":"IF(EFECTOS!$N$9=\"COSTA RICA\",LOOKUP(1,GEfectos!$C$4:$I$4,GEfectos!C285:I285),IF(EFECTOS!$N$9=\"EL SALVADOR\",LOOKUP(2,GEfectos!$C$4:$I$4,GEfectos!C285:I285),IF(EFECTOS!$N$9=\"GUATEMALA\",LOOKUP(3,GEfectos!$C$4:$I$4,GEfectos!C285:I285),IF(EFECTOS!$N$9=\"HONDURAS\",LOOKUP(4,GEfectos!$C$4:$I$4,GEfectos!C285:I285),IF(EFECTOS!$N$9=\"NICARAGUA\",LOOKUP(5,GEfectos!$C$4:$I$4,GEfectos!C285:I285),IF(EFECTOS!$N$9=\"REPÚBLICA \nDOMINICANA\",LOOKUP(6,$C$4:$I$4,C285:I285),IF(EFECTOS!$N$9=\"PANAMÁ\",LOOKUP(7,GEfectos!$C$4:$I$4,GEfectos!C285:I285))))))))","v":133.30515724795623},{"$f":"IF(EFECTOS!$N$9=\"COSTA RICA\",LOOKUP(1,GEfectos!$J$4:$P$4,GEfectos!J285:P285),IF(EFECTOS!$N$9=\"EL SALVADOR\",LOOKUP(2,GEfectos!$J$4:$P$4,GEfectos!J285:P285),IF(EFECTOS!$N$9=\"GUATEMALA\",LOOKUP(3,GEfectos!$J$4:$P$4,GEfectos!J285:P285),IF(EFECTOS!$N$9=\"HONDURAS\",LOOKUP(4,GEfectos!$J$4:$P$4,GEfectos!J285:P285),IF(EFECTOS!$N$9=\"NICARAGUA\",LOOKUP(5,GEfectos!$J$4:$P$4,GEfectos!J285:P285),IF(EFECTOS!$N$9=\"REPÚBLICA \nDOMINICANA\",LOOKUP(6,$J$4:$P$4,J285:P285),IF(EFECTOS!$N$9=\"PANAMÁ\",LOOKUP(7,GEfectos!$J$4:$P$4,GEfectos!J285:P285))))))))","v":292.01395351808446},{"$f":"IF(EFECTOS!$N$9=\"COSTA RICA\",LOOKUP(1,GEfectos!$Q$4:$W$4,GEfectos!Q285:W285),IF(EFECTOS!$N$9=\"EL SALVADOR\",LOOKUP(2,GEfectos!$Q$4:$W$4,GEfectos!Q285:W285),IF(EFECTOS!$N$9=\"GUATEMALA\",LOOKUP(3,GEfectos!$Q$4:$W$4,GEfectos!Q285:W285),IF(EFECTOS!$N$9=\"HONDURAS\",LOOKUP(4,GEfectos!$Q$4:$W$4,GEfectos!Q285:W285),IF(EFECTOS!$N$9=\"NICARAGUA\",LOOKUP(5,GEfectos!$Q$4:$W$4,GEfectos!Q285:W285),IF(EFECTOS!$N$9=\"REPÚBLICA \nDOMINICANA\",LOOKUP(6,$Q$4:$W$4,Q285:W285),IF(EFECTOS!$N$9=\"PANAMÁ\",LOOKUP(7,GEfectos!$Q$4:$W$4,GEfectos!Q285:W285))))))))","v":219.05675635258399},100]
[null,{"$f":"'ITCER GLOBAL'!B286","v":"Mayo"},{"$f":"'ITCER GLOBAL'!C286","v":83.518141800363779},{"$f":"'ITCER GLOBAL'!D286","v":105.556534346131},{"$f":"'ITCER GLOBAL'!E286","v":54.83127841965922},{"$f":"'ITCER GLOBAL'!F286","v":86.74339004347992},{"$f":"'ITCER GLOBAL'!G286","v":114.02815200038404},{"$f":"'ITCER GLOBAL'!H286","v":131.91977799313216},{"$f":"'ITCER GLOBAL'!I286","v":95.736303756129729},{"$f":"'ITCER GLOBAL'!S286","v":171.36053692087313},{"$f":"'ITCER GLOBAL'!T286","v":88.969213814136623},{"$f":"'ITCER GLOBAL'!U286","v":86.433475840969038},{"$f":"'ITCER GLOBAL'!V286","v":151.06551108673702},{"$f":"'ITCER GLOBAL'!W286","v":219.09189576683838},{"$f":"'ITCER GLOBAL'!X286","v":288.77864394963376},{"$f":"'ITCER GLOBAL'!Y286","v":96.772190830725563},{"$f":"'ITCER GLOBAL'!AA286","v":205.17762156452429},{"$f":"'ITCER GLOBAL'!AB286","v":84.285842051613017},{"$f":"'ITCER GLOBAL'!AC286","v":157.63534670747191},{"$f":"'ITCER GLOBAL'!AD286","v":174.1521872859889},{"$f":"'ITCER GLOBAL'!AE286","v":192.1384254005103},{"$f":"'ITCER GLOBAL'!AF286","v":218.9047376691824},{"$f":"'ITCER GLOBAL'!AG286","v":101.0820211706048},null,{"$f":"IF(EFECTOS!$N$9=\"COSTA RICA\",LOOKUP(1,GEfectos!$C$4:$I$4,GEfectos!C286:I286),IF(EFECTOS!$N$9=\"EL SALVADOR\",LOOKUP(2,GEfectos!$C$4:$I$4,GEfectos!C286:I286),IF(EFECTOS!$N$9=\"GUATEMALA\",LOOKUP(3,GEfectos!$C$4:$I$4,GEfectos!C286:I286),IF(EFECTOS!$N$9=\"HONDURAS\",LOOKUP(4,GEfectos!$C$4:$I$4,GEfectos!C286:I286),IF(EFECTOS!$N$9=\"NICARAGUA\",LOOKUP(5,GEfectos!$C$4:$I$4,GEfectos!C286:I286),IF(EFECTOS!$N$9=\"REPÚBLICA \nDOMINICANA\",LOOKUP(6,$C$4:$I$4,C286:I286),IF(EFECTOS!$N$9=\"PANAMÁ\",LOOKUP(7,GEfectos!$C$4:$I$4,GEfectos!C286:I286))))))))","v":131.91977799313216},{"$f":"IF(EFECTOS!$N$9=\"COSTA RICA\",LOOKUP(1,GEfectos!$J$4:$P$4,GEfectos!J286:P286),IF(EFECTOS!$N$9=\"EL SALVADOR\",LOOKUP(2,GEfectos!$J$4:$P$4,GEfectos!J286:P286),IF(EFECTOS!$N$9=\"GUATEMALA\",LOOKUP(3,GEfectos!$J$4:$P$4,GEfectos!J286:P286),IF(EFECTOS!$N$9=\"HONDURAS\",LOOKUP(4,GEfectos!$J$4:$P$4,GEfectos!J286:P286),IF(EFECTOS!$N$9=\"NICARAGUA\",LOOKUP(5,GEfectos!$J$4:$P$4,GEfectos!J286:P286),IF(EFECTOS!$N$9=\"REPÚBLICA \nDOMINICANA\",LOOKUP(6,$J$4:$P$4,J286:P286),IF(EFECTOS!$N$9=\"PANAMÁ\",LOOKUP(7,GEfectos!$J$4:$P$4,GEfectos!J286:P286))))))))","v":288.77864394963376},{"$f":"IF(EFECTOS!$N$9=\"COSTA RICA\",LOOKUP(1,GEfectos!$Q$4:$W$4,GEfectos!Q286:W286),IF(EFECTOS!$N$9=\"EL SALVADOR\",LOOKUP(2,GEfectos!$Q$4:$W$4,GEfectos!Q286:W286),IF(EFECTOS!$N$9=\"GUATEMALA\",LOOKUP(3,GEfectos!$Q$4:$W$4,GEfectos!Q286:W286),IF(EFECTOS!$N$9=\"HONDURAS\",LOOKUP(4,GEfectos!$Q$4:$W$4,GEfectos!Q286:W286),IF(EFECTOS!$N$9=\"NICARAGUA\",LOOKUP(5,GEfectos!$Q$4:$W$4,GEfectos!Q286:W286),IF(EFECTOS!$N$9=\"REPÚBLICA \nDOMINICANA\",LOOKUP(6,$Q$4:$W$4,Q286:W286),IF(EFECTOS!$N$9=\"PANAMÁ\",LOOKUP(7,GEfectos!$Q$4:$W$4,GEfectos!Q286:W286))))))))","v":218.9047376691824},100]
[null,{"$f":"'ITCER GLOBAL'!B287","v":"Junio"},{"$f":"'ITCER GLOBAL'!C287","v":83.207544155645678},{"$f":"'ITCER GLOBAL'!D287","v":104.99226756116073},{"$f":"'ITCER GLOBAL'!E287","v":54.494394002818446},{"$f":"'ITCER GLOBAL'!F287","v":86.504388556556279},{"$f":"'ITCER GLOBAL'!G287","v":113.55873918959196},{"$f":"'ITCER GLOBAL'!H287","v":130.94346901303874},{"$f":"'ITCER GLOBAL'!I287","v":94.75153386920914},{"$f":"'ITCER GLOBAL'!S287","v":170.70561716615217},{"$f":"'ITCER GLOBAL'!T287","v":88.389632089539944},{"$f":"'ITCER GLOBAL'!U287","v":86.235757354722224},{"$f":"'ITCER GLOBAL'!V287","v":150.96085458463912},{"$f":"'ITCER GLOBAL'!W287","v":218.68591170584401},{"$f":"'ITCER GLOBAL'!X287","v":286.61832461138084},{"$f":"'ITCER GLOBAL'!Y287","v":95.817463410430292},{"$f":"'ITCER GLOBAL'!AA287","v":205.15641808492151},{"$f":"'ITCER GLOBAL'!AB287","v":84.186801697611386},{"$f":"'ITCER GLOBAL'!AC287","v":158.24702509814517},{"$f":"'ITCER GLOBAL'!AD287","v":174.51236533039182},{"$f":"'ITCER GLOBAL'!AE287","v":192.57514944819619},{"$f":"'ITCER GLOBAL'!AF287","v":218.88707147573788},{"$f":"'ITCER GLOBAL'!AG287","v":101.12497338849681},null,{"$f":"IF(EFECTOS!$N$9=\"COSTA RICA\",LOOKUP(1,GEfectos!$C$4:$I$4,GEfectos!C287:I287),IF(EFECTOS!$N$9=\"EL SALVADOR\",LOOKUP(2,GEfectos!$C$4:$I$4,GEfectos!C287:I287),IF(EFECTOS!$N$9=\"GUATEMALA\",LOOKUP(3,GEfectos!$C$4:$I$4,GEfectos!C287:I287),IF(EFECTOS!$N$9=\"HONDURAS\",LOOKUP(4,GEfectos!$C$4:$I$4,GEfectos!C287:I287),IF(EFECTOS!$N$9=\"NICARAGUA\",LOOKUP(5,GEfectos!$C$4:$I$4,GEfectos!C287:I287),IF(EFECTOS!$N$9=\"REPÚBLICA \nDOMINICANA\",LOOKUP(6,$C$4:$I$4,C287:I287),IF(EFECTOS!$N$9=\"PANAMÁ\",LOOKUP(7,GEfectos!$C$4:$I$4,GEfectos!C287:I287))))))))","v":130.94346901303874},{"$f":"IF(EFECTOS!$N$9=\"COSTA RICA\",LOOKUP(1,GEfectos!$J$4:$P$4,GEfectos!J287:P287),IF(EFECTOS!$N$9=\"EL SALVADOR\",LOOKUP(2,GEfectos!$J$4:$P$4,GEfectos!J287:P287),IF(EFECTOS!$N$9=\"GUATEMALA\",LOOKUP(3,GEfectos!$J$4:$P$4,GEfectos!J287:P287),IF(EFECTOS!$N$9=\"HONDURAS\",LOOKUP(4,GEfectos!$J$4:$P$4,GEfectos!J287:P287),IF(EFECTOS!$N$9=\"NICARAGUA\",LOOKUP(5,GEfectos!$J$4:$P$4,GEfectos!J287:P287),IF(EFECTOS!$N$9=\"REPÚBLICA \nDOMINICANA\",LOOKUP(6,$J$4:$P$4,J287:P287),IF(EFECTOS!$N$9=\"PANAMÁ\",LOOKUP(7,GEfectos!$J$4:$P$4,GEfectos!J287:P287))))))))","v":286.61832461138084},{"$f":"IF(EFECTOS!$N$9=\"COSTA RICA\",LOOKUP(1,GEfectos!$Q$4:$W$4,GEfectos!Q287:W287),IF(EFECTOS!$N$9=\"EL SALVADOR\",LOOKUP(2,GEfectos!$Q$4:$W$4,GEfectos!Q287:W287),IF(EFECTOS!$N$9=\"GUATEMALA\",LOOKUP(3,GEfectos!$Q$4:$W$4,GEfectos!Q287:W287),IF(EFECTOS!$N$9=\"HONDURAS\",LOOKUP(4,GEfectos!$Q$4:$W$4,GEfectos!Q287:W287),IF(EFECTOS!$N$9=\"NICARAGUA\",LOOKUP(5,GEfectos!$Q$4:$W$4,GEfectos!Q287:W287),IF(EFECTOS!$N$9=\"REPÚBLICA \nDOMINICANA\",LOOKUP(6,$Q$4:$W$4,Q287:W287),IF(EFECTOS!$N$9=\"PANAMÁ\",LOOKUP(7,GEfectos!$Q$4:$W$4,GEfectos!Q287:W287))))))))","v":218.88707147573788},100]
[null,{"$f":"'ITCER GLOBAL'!B288","v":"Julio"},{"$f":"'ITCER GLOBAL'!C288","v":82.90107942470334},{"$f":"'ITCER GLOBAL'!D288","v":104.97955698788587},{"$f":"'ITCER GLOBAL'!E288","v":54.433713583171986},{"$f":"'ITCER GLOBAL'!F288","v":86.366682804269601},{"$f":"'ITCER GLOBAL'!G288","v":114.44740947202703},{"$f":"'ITCER GLOBAL'!H288","v":131.18669967108335},{"$f":"'ITCER GLOBAL'!I288","v":94.618236827236316},{"$f":"'ITCER GLOBAL'!S288","v":170.43738655980988},{"$f":"'ITCER GLOBAL'!T288","v":88.381989634242487},{"$f":"'ITCER GLOBAL'!U288","v":86.352272491576358},{"$f":"'ITCER GLOBAL'!V288","v":151.16490977274643},{"$f":"'ITCER GLOBAL'!W288","v":219.84923496273203},{"$f":"'ITCER GLOBAL'!X288","v":286.74241536634844},{"$f":"'ITCER GLOBAL'!Y288","v":95.550609484968106},{"$f":"'ITCER GLOBAL'!AA288","v":205.59127546054842},{"$f":"'ITCER GLOBAL'!AB288","v":84.189714807466117},{"$f":"'ITCER GLOBAL'!AC288","v":158.63748182389651},{"$f":"'ITCER GLOBAL'!AD288","v":175.0268794221578},{"$f":"'ITCER GLOBAL'!AE288","v":192.09629643602116},{"$f":"'ITCER GLOBAL'!AF288","v":218.57582825490746},{"$f":"'ITCER GLOBAL'!AG288","v":100.98540481095013},null,{"$f":"IF(EFECTOS!$N$9=\"COSTA RICA\",LOOKUP(1,GEfectos!$C$4:$I$4,GEfectos!C288:I288),IF(EFECTOS!$N$9=\"EL SALVADOR\",LOOKUP(2,GEfectos!$C$4:$I$4,GEfectos!C288:I288),IF(EFECTOS!$N$9=\"GUATEMALA\",LOOKUP(3,GEfectos!$C$4:$I$4,GEfectos!C288:I288),IF(EFECTOS!$N$9=\"HONDURAS\",LOOKUP(4,GEfectos!$C$4:$I$4,GEfectos!C288:I288),IF(EFECTOS!$N$9=\"NICARAGUA\",LOOKUP(5,GEfectos!$C$4:$I$4,GEfectos!C288:I288),IF(EFECTOS!$N$9=\"REPÚBLICA \nDOMINICANA\",LOOKUP(6,$C$4:$I$4,C288:I288),IF(EFECTOS!$N$9=\"PANAMÁ\",LOOKUP(7,GEfectos!$C$4:$I$4,GEfectos!C288:I288))))))))","v":131.18669967108335},{"$f":"IF(EFECTOS!$N$9=\"COSTA RICA\",LOOKUP(1,GEfectos!$J$4:$P$4,GEfectos!J288:P288),IF(EFECTOS!$N$9=\"EL SALVADOR\",LOOKUP(2,GEfectos!$J$4:$P$4,GEfectos!J288:P288),IF(EFECTOS!$N$9=\"GUATEMALA\",LOOKUP(3,GEfectos!$J$4:$P$4,GEfectos!J288:P288),IF(EFECTOS!$N$9=\"HONDURAS\",LOOKUP(4,GEfectos!$J$4:$P$4,GEfectos!J288:P288),IF(EFECTOS!$N$9=\"NICARAGUA\",LOOKUP(5,GEfectos!$J$4:$P$4,GEfectos!J288:P288),IF(EFECTOS!$N$9=\"REPÚBLICA \nDOMINICANA\",LOOKUP(6,$J$4:$P$4,J288:P288),IF(EFECTOS!$N$9=\"PANAMÁ\",LOOKUP(7,GEfectos!$J$4:$P$4,GEfectos!J288:P288))))))))","v":286.74241536634844},{"$f":"IF(EFECTOS!$N$9=\"COSTA RICA\",LOOKUP(1,GEfectos!$Q$4:$W$4,GEfectos!Q288:W288),IF(EFECTOS!$N$9=\"EL SALVADOR\",LOOKUP(2,GEfectos!$Q$4:$W$4,GEfectos!Q288:W288),IF(EFECTOS!$N$9=\"GUATEMALA\",LOOKUP(3,GEfectos!$Q$4:$W$4,GEfectos!Q288:W288),IF(EFECTOS!$N$9=\"HONDURAS\",LOOKUP(4,GEfectos!$Q$4:$W$4,GEfectos!Q288:W288),IF(EFECTOS!$N$9=\"NICARAGUA\",LOOKUP(5,GEfectos!$Q$4:$W$4,GEfectos!Q288:W288),IF(EFECTOS!$N$9=\"REPÚBLICA \nDOMINICANA\",LOOKUP(6,$Q$4:$W$4,Q288:W288),IF(EFECTOS!$N$9=\"PANAMÁ\",LOOKUP(7,GEfectos!$Q$4:$W$4,GEfectos!Q288:W288))))))))","v":218.57582825490746},100]
[null,{"$f":"'ITCER GLOBAL'!B289","v":"Agosto"},{"$f":"'ITCER GLOBAL'!C289","v":82.873850955235767},{"$f":"'ITCER GLOBAL'!D289","v":104.64646553741308},{"$f":"'ITCER GLOBAL'!E289","v":54.334346198918901},{"$f":"'ITCER GLOBAL'!F289","v":85.855742758356897},{"$f":"'ITCER GLOBAL'!G289","v":115.00197560821459},{"$f":"'ITCER GLOBAL'!H289","v":131.13502529385738},{"$f":"'ITCER GLOBAL'!I289","v":94.225356234683801},{"$f":"'ITCER GLOBAL'!S289","v":169.91501690104286},{"$f":"'ITCER GLOBAL'!T289","v":88.131530265239704},{"$f":"'ITCER GLOBAL'!U289","v":86.390433261117266},{"$f":"'ITCER GLOBAL'!V289","v":150.62320135119984},{"$f":"'ITCER GLOBAL'!W289","v":219.80498444295839},{"$f":"'ITCER GLOBAL'!X289","v":286.20052294953251},{"$f":"'ITCER GLOBAL'!Y289","v":94.971514990143419},{"$f":"'ITCER GLOBAL'!AA289","v":205.02850409693437},{"$f":"'ITCER GLOBAL'!AB289","v":84.218353493965864},{"$f":"'ITCER GLOBAL'!AC289","v":158.99783342352279},{"$f":"'ITCER GLOBAL'!AD289","v":175.43753802833265},{"$f":"'ITCER GLOBAL'!AE289","v":191.13148559445943},{"$f":"'ITCER GLOBAL'!AF289","v":218.24872669082308},{"$f":"'ITCER GLOBAL'!AG289","v":100.79188743378289},null,{"$f":"IF(EFECTOS!$N$9=\"COSTA RICA\",LOOKUP(1,GEfectos!$C$4:$I$4,GEfectos!C289:I289),IF(EFECTOS!$N$9=\"EL SALVADOR\",LOOKUP(2,GEfectos!$C$4:$I$4,GEfectos!C289:I289),IF(EFECTOS!$N$9=\"GUATEMALA\",LOOKUP(3,GEfectos!$C$4:$I$4,GEfectos!C289:I289),IF(EFECTOS!$N$9=\"HONDURAS\",LOOKUP(4,GEfectos!$C$4:$I$4,GEfectos!C289:I289),IF(EFECTOS!$N$9=\"NICARAGUA\",LOOKUP(5,GEfectos!$C$4:$I$4,GEfectos!C289:I289),IF(EFECTOS!$N$9=\"REPÚBLICA \nDOMINICANA\",LOOKUP(6,$C$4:$I$4,C289:I289),IF(EFECTOS!$N$9=\"PANAMÁ\",LOOKUP(7,GEfectos!$C$4:$I$4,GEfectos!C289:I289))))))))","v":131.13502529385738},{"$f":"IF(EFECTOS!$N$9=\"COSTA RICA\",LOOKUP(1,GEfectos!$J$4:$P$4,GEfectos!J289:P289),IF(EFECTOS!$N$9=\"EL SALVADOR\",LOOKUP(2,GEfectos!$J$4:$P$4,GEfectos!J289:P289),IF(EFECTOS!$N$9=\"GUATEMALA\",LOOKUP(3,GEfectos!$J$4:$P$4,GEfectos!J289:P289),IF(EFECTOS!$N$9=\"HONDURAS\",LOOKUP(4,GEfectos!$J$4:$P$4,GEfectos!J289:P289),IF(EFECTOS!$N$9=\"NICARAGUA\",LOOKUP(5,GEfectos!$J$4:$P$4,GEfectos!J289:P289),IF(EFECTOS!$N$9=\"REPÚBLICA \nDOMINICANA\",LOOKUP(6,$J$4:$P$4,J289:P289),IF(EFECTOS!$N$9=\"PANAMÁ\",LOOKUP(7,GEfectos!$J$4:$P$4,GEfectos!J289:P289))))))))","v":286.20052294953251},{"$f":"IF(EFECTOS!$N$9=\"COSTA RICA\",LOOKUP(1,GEfectos!$Q$4:$W$4,GEfectos!Q289:W289),IF(EFECTOS!$N$9=\"EL SALVADOR\",LOOKUP(2,GEfectos!$Q$4:$W$4,GEfectos!Q289:W289),IF(EFECTOS!$N$9=\"GUATEMALA\",LOOKUP(3,GEfectos!$Q$4:$W$4,GEfectos!Q289:W289),IF(EFECTOS!$N$9=\"HONDURAS\",LOOKUP(4,GEfectos!$Q$4:$W$4,GEfectos!Q289:W289),IF(EFECTOS!$N$9=\"NICARAGUA\",LOOKUP(5,GEfectos!$Q$4:$W$4,GEfectos!Q289:W289),IF(EFECTOS!$N$9=\"REPÚBLICA \nDOMINICANA\",LOOKUP(6,$Q$4:$W$4,Q289:W289),IF(EFECTOS!$N$9=\"PANAMÁ\",LOOKUP(7,GEfectos!$Q$4:$W$4,GEfectos!Q289:W289))))))))","v":218.24872669082308},100]
[null,{"$f":"'ITCER GLOBAL'!B290","v":"Septiembre"},{"$f":"'ITCER GLOBAL'!C290","v":84.431525810905271},{"$f":"'ITCER GLOBAL'!D290","v":104.39973643489232},{"$f":"'ITCER GLOBAL'!E290","v":55.154798647225299},{"$f":"'ITCER GLOBAL'!F290","v":85.964878337249459},{"$f":"'ITCER GLOBAL'!G290","v":114.70610473818211},{"$f":"'ITCER GLOBAL'!H290","v":131.44937751653435},{"$f":"'ITCER GLOBAL'!I290","v":94.246963868285917},{"$f":"'ITCER GLOBAL'!S290","v":173.03437113517069},{"$f":"'ITCER GLOBAL'!T290","v":87.729678573581822},{"$f":"'ITCER GLOBAL'!U290","v":88.018370566859787},{"$f":"'ITCER GLOBAL'!V290","v":150.44187996238355},{"$f":"'ITCER GLOBAL'!W290","v":219.71053547825255},{"$f":"'ITCER GLOBAL'!X290","v":286.17379817077875},{"$f":"'ITCER GLOBAL'!Y290","v":94.661965963978517},{"$f":"'ITCER GLOBAL'!AA290","v":204.94047628927413},{"$f":"'ITCER GLOBAL'!AB290","v":84.032471315953387},{"$f":"'ITCER GLOBAL'!AC290","v":159.58424783640791},{"$f":"'ITCER GLOBAL'!AD290","v":175.00388864878497},{"$f":"'ITCER GLOBAL'!AE290","v":191.54214675822544},{"$f":"'ITCER GLOBAL'!AF290","v":217.7064688912524},{"$f":"'ITCER GLOBAL'!AG290","v":100.44033471069962},null,{"$f":"IF(EFECTOS!$N$9=\"COSTA RICA\",LOOKUP(1,GEfectos!$C$4:$I$4,GEfectos!C290:I290),IF(EFECTOS!$N$9=\"EL SALVADOR\",LOOKUP(2,GEfectos!$C$4:$I$4,GEfectos!C290:I290),IF(EFECTOS!$N$9=\"GUATEMALA\",LOOKUP(3,GEfectos!$C$4:$I$4,GEfectos!C290:I290),IF(EFECTOS!$N$9=\"HONDURAS\",LOOKUP(4,GEfectos!$C$4:$I$4,GEfectos!C290:I290),IF(EFECTOS!$N$9=\"NICARAGUA\",LOOKUP(5,GEfectos!$C$4:$I$4,GEfectos!C290:I290),IF(EFECTOS!$N$9=\"REPÚBLICA \nDOMINICANA\",LOOKUP(6,$C$4:$I$4,C290:I290),IF(EFECTOS!$N$9=\"PANAMÁ\",LOOKUP(7,GEfectos!$C$4:$I$4,GEfectos!C290:I290))))))))","v":131.44937751653435},{"$f":"IF(EFECTOS!$N$9=\"COSTA RICA\",LOOKUP(1,GEfectos!$J$4:$P$4,GEfectos!J290:P290),IF(EFECTOS!$N$9=\"EL SALVADOR\",LOOKUP(2,GEfectos!$J$4:$P$4,GEfectos!J290:P290),IF(EFECTOS!$N$9=\"GUATEMALA\",LOOKUP(3,GEfectos!$J$4:$P$4,GEfectos!J290:P290),IF(EFECTOS!$N$9=\"HONDURAS\",LOOKUP(4,GEfectos!$J$4:$P$4,GEfectos!J290:P290),IF(EFECTOS!$N$9=\"NICARAGUA\",LOOKUP(5,GEfectos!$J$4:$P$4,GEfectos!J290:P290),IF(EFECTOS!$N$9=\"REPÚBLICA \nDOMINICANA\",LOOKUP(6,$J$4:$P$4,J290:P290),IF(EFECTOS!$N$9=\"PANAMÁ\",LOOKUP(7,GEfectos!$J$4:$P$4,GEfectos!J290:P290))))))))","v":286.17379817077875},{"$f":"IF(EFECTOS!$N$9=\"COSTA RICA\",LOOKUP(1,GEfectos!$Q$4:$W$4,GEfectos!Q290:W290),IF(EFECTOS!$N$9=\"EL SALVADOR\",LOOKUP(2,GEfectos!$Q$4:$W$4,GEfectos!Q290:W290),IF(EFECTOS!$N$9=\"GUATEMALA\",LOOKUP(3,GEfectos!$Q$4:$W$4,GEfectos!Q290:W290),IF(EFECTOS!$N$9=\"HONDURAS\",LOOKUP(4,GEfectos!$Q$4:$W$4,GEfectos!Q290:W290),IF(EFECTOS!$N$9=\"NICARAGUA\",LOOKUP(5,GEfectos!$Q$4:$W$4,GEfectos!Q290:W290),IF(EFECTOS!$N$9=\"REPÚBLICA \nDOMINICANA\",LOOKUP(6,$Q$4:$W$4,Q290:W290),IF(EFECTOS!$N$9=\"PANAMÁ\",LOOKUP(7,GEfectos!$Q$4:$W$4,GEfectos!Q290:W290))))))))","v":217.7064688912524},100]
[null,{"$f":"'ITCER GLOBAL'!B291","v":"Octubre"},{"$f":"'ITCER GLOBAL'!C291","v":85.933081389335129},{"$f":"'ITCER GLOBAL'!D291","v":104.08238368033012},{"$f":"'ITCER GLOBAL'!E291","v":55.338744437859759},{"$f":"'ITCER GLOBAL'!F291","v":85.420759202892583},{"$f":"'ITCER GLOBAL'!G291","v":114.41191600176617},{"$f":"'ITCER GLOBAL'!H291","v":131.62221177224194},{"$f":"'ITCER GLOBAL'!I291","v":93.935709821511125},{"$f":"'ITCER GLOBAL'!S291","v":176.35662075219088},{"$f":"'ITCER GLOBAL'!T291","v":87.421698489715624},{"$f":"'ITCER GLOBAL'!U291","v":88.383539103567614},{"$f":"'ITCER GLOBAL'!V291","v":149.97183245608511},{"$f":"'ITCER GLOBAL'!W291","v":219.68828509144504},{"$f":"'ITCER GLOBAL'!X291","v":286.43642547938668},{"$f":"'ITCER GLOBAL'!Y291","v":94.210393440688151},{"$f":"'ITCER GLOBAL'!AA291","v":205.22552886609034},{"$f":"'ITCER GLOBAL'!AB291","v":83.99279051699591},{"$f":"'ITCER GLOBAL'!AC291","v":159.71366896987348},{"$f":"'ITCER GLOBAL'!AD291","v":175.56836752044069},{"$f":"'ITCER GLOBAL'!AE291","v":192.01521377201104},{"$f":"'ITCER GLOBAL'!AF291","v":217.62012780565794},{"$f":"'ITCER GLOBAL'!AG291","v":100.29241661099803},null,{"$f":"IF(EFECTOS!$N$9=\"COSTA RICA\",LOOKUP(1,GEfectos!$C$4:$I$4,GEfectos!C291:I291),IF(EFECTOS!$N$9=\"EL SALVADOR\",LOOKUP(2,GEfectos!$C$4:$I$4,GEfectos!C291:I291),IF(EFECTOS!$N$9=\"GUATEMALA\",LOOKUP(3,GEfectos!$C$4:$I$4,GEfectos!C291:I291),IF(EFECTOS!$N$9=\"HONDURAS\",LOOKUP(4,GEfectos!$C$4:$I$4,GEfectos!C291:I291),IF(EFECTOS!$N$9=\"NICARAGUA\",LOOKUP(5,GEfectos!$C$4:$I$4,GEfectos!C291:I291),IF(EFECTOS!$N$9=\"REPÚBLICA \nDOMINICANA\",LOOKUP(6,$C$4:$I$4,C291:I291),IF(EFECTOS!$N$9=\"PANAMÁ\",LOOKUP(7,GEfectos!$C$4:$I$4,GEfectos!C291:I291))))))))","v":131.62221177224194},{"$f":"IF(EFECTOS!$N$9=\"COSTA RICA\",LOOKUP(1,GEfectos!$J$4:$P$4,GEfectos!J291:P291),IF(EFECTOS!$N$9=\"EL SALVADOR\",LOOKUP(2,GEfectos!$J$4:$P$4,GEfectos!J291:P291),IF(EFECTOS!$N$9=\"GUATEMALA\",LOOKUP(3,GEfectos!$J$4:$P$4,GEfectos!J291:P291),IF(EFECTOS!$N$9=\"HONDURAS\",LOOKUP(4,GEfectos!$J$4:$P$4,GEfectos!J291:P291),IF(EFECTOS!$N$9=\"NICARAGUA\",LOOKUP(5,GEfectos!$J$4:$P$4,GEfectos!J291:P291),IF(EFECTOS!$N$9=\"REPÚBLICA \nDOMINICANA\",LOOKUP(6,$J$4:$P$4,J291:P291),IF(EFECTOS!$N$9=\"PANAMÁ\",LOOKUP(7,GEfectos!$J$4:$P$4,GEfectos!J291:P291))))))))","v":286.43642547938668},{"$f":"IF(EFECTOS!$N$9=\"COSTA RICA\",LOOKUP(1,GEfectos!$Q$4:$W$4,GEfectos!Q291:W291),IF(EFECTOS!$N$9=\"EL SALVADOR\",LOOKUP(2,GEfectos!$Q$4:$W$4,GEfectos!Q291:W291),IF(EFECTOS!$N$9=\"GUATEMALA\",LOOKUP(3,GEfectos!$Q$4:$W$4,GEfectos!Q291:W291),IF(EFECTOS!$N$9=\"HONDURAS\",LOOKUP(4,GEfectos!$Q$4:$W$4,GEfectos!Q291:W291),IF(EFECTOS!$N$9=\"NICARAGUA\",LOOKUP(5,GEfectos!$Q$4:$W$4,GEfectos!Q291:W291),IF(EFECTOS!$N$9=\"REPÚBLICA \nDOMINICANA\",LOOKUP(6,$Q$4:$W$4,Q291:W291),IF(EFECTOS!$N$9=\"PANAMÁ\",LOOKUP(7,GEfectos!$Q$4:$W$4,GEfectos!Q291:W291))))))))","v":217.62012780565794},100]
[null,{"$f":"'ITCER GLOBAL'!B292","v":"Noviembre"},{"$f":"'ITCER GLOBAL'!C292","v":87.555037464683451},{"$f":"'ITCER GLOBAL'!D292","v":103.54388779445124},{"$f":"'ITCER GLOBAL'!E292","v":54.735792342124917},{"$f":"'ITCER GLOBAL'!F292","v":84.762970427425344},{"$f":"'ITCER GLOBAL'!G292","v":113.31967199650491},{"$f":"'ITCER GLOBAL'!H292","v":131.35220509439205},{"$f":"'ITCER GLOBAL'!I292","v":93.284630695255061},{"$f":"'ITCER GLOBAL'!S292","v":180.89324870053866},{"$f":"'ITCER GLOBAL'!T292","v":86.923307763479485},{"$f":"'ITCER GLOBAL'!U292","v":87.281410375014687},{"$f":"'ITCER GLOBAL'!V292","v":149.95160468177681},{"$f":"'ITCER GLOBAL'!W292","v":218.9962488770972},{"$f":"'ITCER GLOBAL'!X292","v":285.50340781857648},{"$f":"'ITCER GLOBAL'!Y292","v":93.35987959763375},{"$f":"'ITCER GLOBAL'!AA292","v":206.60518679294094},{"$f":"'ITCER GLOBAL'!AB292","v":83.948275088949842},{"$f":"'ITCER GLOBAL'!AC292","v":159.45948097264048},{"$f":"'ITCER GLOBAL'!AD292","v":176.90697237913159},{"$f":"'ITCER GLOBAL'!AE292","v":193.25527952803435},{"$f":"'ITCER GLOBAL'!AF292","v":217.35714875392352},{"$f":"'ITCER GLOBAL'!AG292","v":100.08066591658012},null,{"$f":"IF(EFECTOS!$N$9=\"COSTA RICA\",LOOKUP(1,GEfectos!$C$4:$I$4,GEfectos!C292:I292),IF(EFECTOS!$N$9=\"EL SALVADOR\",LOOKUP(2,GEfectos!$C$4:$I$4,GEfectos!C292:I292),IF(EFECTOS!$N$9=\"GUATEMALA\",LOOKUP(3,GEfectos!$C$4:$I$4,GEfectos!C292:I292),IF(EFECTOS!$N$9=\"HONDURAS\",LOOKUP(4,GEfectos!$C$4:$I$4,GEfectos!C292:I292),IF(EFECTOS!$N$9=\"NICARAGUA\",LOOKUP(5,GEfectos!$C$4:$I$4,GEfectos!C292:I292),IF(EFECTOS!$N$9=\"REPÚBLICA \nDOMINICANA\",LOOKUP(6,$C$4:$I$4,C292:I292),IF(EFECTOS!$N$9=\"PANAMÁ\",LOOKUP(7,GEfectos!$C$4:$I$4,GEfectos!C292:I292))))))))","v":131.35220509439205},{"$f":"IF(EFECTOS!$N$9=\"COSTA RICA\",LOOKUP(1,GEfectos!$J$4:$P$4,GEfectos!J292:P292),IF(EFECTOS!$N$9=\"EL SALVADOR\",LOOKUP(2,GEfectos!$J$4:$P$4,GEfectos!J292:P292),IF(EFECTOS!$N$9=\"GUATEMALA\",LOOKUP(3,GEfectos!$J$4:$P$4,GEfectos!J292:P292),IF(EFECTOS!$N$9=\"HONDURAS\",LOOKUP(4,GEfectos!$J$4:$P$4,GEfectos!J292:P292),IF(EFECTOS!$N$9=\"NICARAGUA\",LOOKUP(5,GEfectos!$J$4:$P$4,GEfectos!J292:P292),IF(EFECTOS!$N$9=\"REPÚBLICA \nDOMINICANA\",LOOKUP(6,$J$4:$P$4,J292:P292),IF(EFECTOS!$N$9=\"PANAMÁ\",LOOKUP(7,GEfectos!$J$4:$P$4,GEfectos!J292:P292))))))))","v":285.50340781857648},{"$f":"IF(EFECTOS!$N$9=\"COSTA RICA\",LOOKUP(1,GEfectos!$Q$4:$W$4,GEfectos!Q292:W292),IF(EFECTOS!$N$9=\"EL SALVADOR\",LOOKUP(2,GEfectos!$Q$4:$W$4,GEfectos!Q292:W292),IF(EFECTOS!$N$9=\"GUATEMALA\",LOOKUP(3,GEfectos!$Q$4:$W$4,GEfectos!Q292:W292),IF(EFECTOS!$N$9=\"HONDURAS\",LOOKUP(4,GEfectos!$Q$4:$W$4,GEfectos!Q292:W292),IF(EFECTOS!$N$9=\"NICARAGUA\",LOOKUP(5,GEfectos!$Q$4:$W$4,GEfectos!Q292:W292),IF(EFECTOS!$N$9=\"REPÚBLICA \nDOMINICANA\",LOOKUP(6,$Q$4:$W$4,Q292:W292),IF(EFECTOS!$N$9=\"PANAMÁ\",LOOKUP(7,GEfectos!$Q$4:$W$4,GEfectos!Q292:W292))))))))","v":217.35714875392352},100]
[null,{"$f":"'ITCER GLOBAL'!B293","v":"Diciembre"},{"$f":"'ITCER GLOBAL'!C293","v":85.889700006440421},{"$f":"'ITCER GLOBAL'!D293","v":103.983341151546},{"$f":"'ITCER GLOBAL'!E293","v":54.912507532594056},{"$f":"'ITCER GLOBAL'!F293","v":84.953422233129942},{"$f":"'ITCER GLOBAL'!G293","v":112.94603470192104},{"$f":"'ITCER GLOBAL'!H293","v":131.5007339386905},{"$f":"'ITCER GLOBAL'!I293","v":93.74683454358572},{"$f":"'ITCER GLOBAL'!S293","v":178.01175140122621},{"$f":"'ITCER GLOBAL'!T293","v":86.924409007926357},{"$f":"'ITCER GLOBAL'!U293","v":87.752203339342671},{"$f":"'ITCER GLOBAL'!V293","v":150.71309412805385},{"$f":"'ITCER GLOBAL'!W293","v":219.72500344567064},{"$f":"'ITCER GLOBAL'!X293","v":285.45176854620473},{"$f":"'ITCER GLOBAL'!Y293","v":93.475042880052754},{"$f":"'ITCER GLOBAL'!AA293","v":207.25622675114482},{"$f":"'ITCER GLOBAL'!AB293","v":83.594552786337331},{"$f":"'ITCER GLOBAL'!AC293","v":159.80367184517328},{"$f":"'ITCER GLOBAL'!AD293","v":177.4067367344727},{"$f":"'ITCER GLOBAL'!AE293","v":194.53981188941503},{"$f":"'ITCER GLOBAL'!AF293","v":217.07237670573818},{"$f":"'ITCER GLOBAL'!AG293","v":99.710079103090564},null,{"$f":"IF(EFECTOS!$N$9=\"COSTA RICA\",LOOKUP(1,GEfectos!$C$4:$I$4,GEfectos!C293:I293),IF(EFECTOS!$N$9=\"EL SALVADOR\",LOOKUP(2,GEfectos!$C$4:$I$4,GEfectos!C293:I293),IF(EFECTOS!$N$9=\"GUATEMALA\",LOOKUP(3,GEfectos!$C$4:$I$4,GEfectos!C293:I293),IF(EFECTOS!$N$9=\"HONDURAS\",LOOKUP(4,GEfectos!$C$4:$I$4,GEfectos!C293:I293),IF(EFECTOS!$N$9=\"NICARAGUA\",LOOKUP(5,GEfectos!$C$4:$I$4,GEfectos!C293:I293),IF(EFECTOS!$N$9=\"REPÚBLICA \nDOMINICANA\",LOOKUP(6,$C$4:$I$4,C293:I293),IF(EFECTOS!$N$9=\"PANAMÁ\",LOOKUP(7,GEfectos!$C$4:$I$4,GEfectos!C293:I293))))))))","v":131.5007339386905},{"$f":"IF(EFECTOS!$N$9=\"COSTA RICA\",LOOKUP(1,GEfectos!$J$4:$P$4,GEfectos!J293:P293),IF(EFECTOS!$N$9=\"EL SALVADOR\",LOOKUP(2,GEfectos!$J$4:$P$4,GEfectos!J293:P293),IF(EFECTOS!$N$9=\"GUATEMALA\",LOOKUP(3,GEfectos!$J$4:$P$4,GEfectos!J293:P293),IF(EFECTOS!$N$9=\"HONDURAS\",LOOKUP(4,GEfectos!$J$4:$P$4,GEfectos!J293:P293),IF(EFECTOS!$N$9=\"NICARAGUA\",LOOKUP(5,GEfectos!$J$4:$P$4,GEfectos!J293:P293),IF(EFECTOS!$N$9=\"REPÚBLICA \nDOMINICANA\",LOOKUP(6,$J$4:$P$4,J293:P293),IF(EFECTOS!$N$9=\"PANAMÁ\",LOOKUP(7,GEfectos!$J$4:$P$4,GEfectos!J293:P293))))))))","v":285.45176854620473},{"$f":"IF(EFECTOS!$N$9=\"COSTA RICA\",LOOKUP(1,GEfectos!$Q$4:$W$4,GEfectos!Q293:W293),IF(EFECTOS!$N$9=\"EL SALVADOR\",LOOKUP(2,GEfectos!$Q$4:$W$4,GEfectos!Q293:W293),IF(EFECTOS!$N$9=\"GUATEMALA\",LOOKUP(3,GEfectos!$Q$4:$W$4,GEfectos!Q293:W293),IF(EFECTOS!$N$9=\"HONDURAS\",LOOKUP(4,GEfectos!$Q$4:$W$4,GEfectos!Q293:W293),IF(EFECTOS!$N$9=\"NICARAGUA\",LOOKUP(5,GEfectos!$Q$4:$W$4,GEfectos!Q293:W293),IF(EFECTOS!$N$9=\"REPÚBLICA \nDOMINICANA\",LOOKUP(6,$Q$4:$W$4,Q293:W293),IF(EFECTOS!$N$9=\"PANAMÁ\",LOOKUP(7,GEfectos!$Q$4:$W$4,GEfectos!Q293:W293))))))))","v":217.07237670573818},100]
[2019,{"$f":"'ITCER GLOBAL'!B294","v":"Enero"},{"$f":"'ITCER GLOBAL'!C294","v":87.095389244916248},{"$f":"'ITCER GLOBAL'!D294","v":104.99194030083963},{"$f":"'ITCER GLOBAL'!E294","v":54.550832435936115},{"$f":"'ITCER GLOBAL'!F294","v":85.043767034293055},{"$f":"'ITCER GLOBAL'!G294","v":114.09196106478146},{"$f":"'ITCER GLOBAL'!H294","v":132.13740216115289},{"$f":"'ITCER GLOBAL'!I294","v":95.078395981686626},{"$f":"'ITCER GLOBAL'!S294","v":181.41175100161786},{"$f":"'ITCER GLOBAL'!T294","v":87.800311664281224},{"$f":"'ITCER GLOBAL'!U294","v":88.506967855453922},{"$f":"'ITCER GLOBAL'!V294","v":151.94158212563335},{"$f":"'ITCER GLOBAL'!W294","v":223.68598112221883},{"$f":"'ITCER GLOBAL'!X294","v":290.74253447184049},{"$f":"'ITCER GLOBAL'!Y294","v":94.570940665220348},{"$f":"'ITCER GLOBAL'!AA294","v":208.29087805265976},{"$f":"'ITCER GLOBAL'!AB294","v":83.62576347546468},{"$f":"'ITCER GLOBAL'!AC294","v":162.24677773596858},{"$f":"'ITCER GLOBAL'!AD294","v":178.66280789791966},{"$f":"'ITCER GLOBAL'!AE294","v":196.05761793787545},{"$f":"'ITCER GLOBAL'!AF294","v":220.03046050296575},{"$f":"'ITCER GLOBAL'!AG294","v":99.46627694837845},null,{"$f":"IF(EFECTOS!$N$9=\"COSTA RICA\",LOOKUP(1,GEfectos!$C$4:$I$4,GEfectos!C294:I294),IF(EFECTOS!$N$9=\"EL SALVADOR\",LOOKUP(2,GEfectos!$C$4:$I$4,GEfectos!C294:I294),IF(EFECTOS!$N$9=\"GUATEMALA\",LOOKUP(3,GEfectos!$C$4:$I$4,GEfectos!C294:I294),IF(EFECTOS!$N$9=\"HONDURAS\",LOOKUP(4,GEfectos!$C$4:$I$4,GEfectos!C294:I294),IF(EFECTOS!$N$9=\"NICARAGUA\",LOOKUP(5,GEfectos!$C$4:$I$4,GEfectos!C294:I294),IF(EFECTOS!$N$9=\"REPÚBLICA \nDOMINICANA\",LOOKUP(6,$C$4:$I$4,C294:I294),IF(EFECTOS!$N$9=\"PANAMÁ\",LOOKUP(7,GEfectos!$C$4:$I$4,GEfectos!C294:I294))))))))","v":132.13740216115289},{"$f":"IF(EFECTOS!$N$9=\"COSTA RICA\",LOOKUP(1,GEfectos!$J$4:$P$4,GEfectos!J294:P294),IF(EFECTOS!$N$9=\"EL SALVADOR\",LOOKUP(2,GEfectos!$J$4:$P$4,GEfectos!J294:P294),IF(EFECTOS!$N$9=\"GUATEMALA\",LOOKUP(3,GEfectos!$J$4:$P$4,GEfectos!J294:P294),IF(EFECTOS!$N$9=\"HONDURAS\",LOOKUP(4,GEfectos!$J$4:$P$4,GEfectos!J294:P294),IF(EFECTOS!$N$9=\"NICARAGUA\",LOOKUP(5,GEfectos!$J$4:$P$4,GEfectos!J294:P294),IF(EFECTOS!$N$9=\"REPÚBLICA \nDOMINICANA\",LOOKUP(6,$J$4:$P$4,J294:P294),IF(EFECTOS!$N$9=\"PANAMÁ\",LOOKUP(7,GEfectos!$J$4:$P$4,GEfectos!J294:P294))))))))","v":290.74253447184049},{"$f":"IF(EFECTOS!$N$9=\"COSTA RICA\",LOOKUP(1,GEfectos!$Q$4:$W$4,GEfectos!Q294:W294),IF(EFECTOS!$N$9=\"EL SALVADOR\",LOOKUP(2,GEfectos!$Q$4:$W$4,GEfectos!Q294:W294),IF(EFECTOS!$N$9=\"GUATEMALA\",LOOKUP(3,GEfectos!$Q$4:$W$4,GEfectos!Q294:W294),IF(EFECTOS!$N$9=\"HONDURAS\",LOOKUP(4,GEfectos!$Q$4:$W$4,GEfectos!Q294:W294),IF(EFECTOS!$N$9=\"NICARAGUA\",LOOKUP(5,GEfectos!$Q$4:$W$4,GEfectos!Q294:W294),IF(EFECTOS!$N$9=\"REPÚBLICA \nDOMINICANA\",LOOKUP(6,$Q$4:$W$4,Q294:W294),IF(EFECTOS!$N$9=\"PANAMÁ\",LOOKUP(7,GEfectos!$Q$4:$W$4,GEfectos!Q294:W294))))))))","v":220.03046050296575},100]
[null,{"$f":"'ITCER GLOBAL'!B295","v":"Febrero"},{"$f":"'ITCER GLOBAL'!C295","v":88.0044883207363},{"$f":"'ITCER GLOBAL'!D295","v":105.25283351225127},{"$f":"'ITCER GLOBAL'!E295","v":54.708806232552831},{"$f":"'ITCER GLOBAL'!F295","v":84.838668951025554},{"$f":"'ITCER GLOBAL'!G295","v":114.66993012299929},{"$f":"'ITCER GLOBAL'!H295","v":132.50409585502646},{"$f":"'ITCER GLOBAL'!I295","v":95.471313510079227},{"$f":"'ITCER GLOBAL'!S295","v":182.69873103605715},{"$f":"'ITCER GLOBAL'!T295","v":87.808540373678952},{"$f":"'ITCER GLOBAL'!U295","v":88.537863211079838},{"$f":"'ITCER GLOBAL'!V295","v":152.19692525709036},{"$f":"'ITCER GLOBAL'!W295","v":224.54540873255161},{"$f":"'ITCER GLOBAL'!X295","v":291.15322560989608},{"$f":"'ITCER GLOBAL'!Y295","v":94.633690738450184},{"$f":"'ITCER GLOBAL'!AA295","v":207.60160592060197},{"$f":"'ITCER GLOBAL'!AB295","v":83.426295942387313},{"$f":"'ITCER GLOBAL'!AC295","v":161.83475624514364},{"$f":"'ITCER GLOBAL'!AD295","v":179.39570144004549},{"$f":"'ITCER GLOBAL'!AE295","v":195.81891128013746},{"$f":"'ITCER GLOBAL'!AF295","v":219.73149111439434},{"$f":"'ITCER GLOBAL'!AG295","v":99.122644550668511},null,{"$f":"IF(EFECTOS!$N$9=\"COSTA RICA\",LOOKUP(1,GEfectos!$C$4:$I$4,GEfectos!C295:I295),IF(EFECTOS!$N$9=\"EL SALVADOR\",LOOKUP(2,GEfectos!$C$4:$I$4,GEfectos!C295:I295),IF(EFECTOS!$N$9=\"GUATEMALA\",LOOKUP(3,GEfectos!$C$4:$I$4,GEfectos!C295:I295),IF(EFECTOS!$N$9=\"HONDURAS\",LOOKUP(4,GEfectos!$C$4:$I$4,GEfectos!C295:I295),IF(EFECTOS!$N$9=\"NICARAGUA\",LOOKUP(5,GEfectos!$C$4:$I$4,GEfectos!C295:I295),IF(EFECTOS!$N$9=\"REPÚBLICA \nDOMINICANA\",LOOKUP(6,$C$4:$I$4,C295:I295),IF(EFECTOS!$N$9=\"PANAMÁ\",LOOKUP(7,GEfectos!$C$4:$I$4,GEfectos!C295:I295))))))))","v":132.50409585502646},{"$f":"IF(EFECTOS!$N$9=\"COSTA RICA\",LOOKUP(1,GEfectos!$J$4:$P$4,GEfectos!J295:P295),IF(EFECTOS!$N$9=\"EL SALVADOR\",LOOKUP(2,GEfectos!$J$4:$P$4,GEfectos!J295:P295),IF(EFECTOS!$N$9=\"GUATEMALA\",LOOKUP(3,GEfectos!$J$4:$P$4,GEfectos!J295:P295),IF(EFECTOS!$N$9=\"HONDURAS\",LOOKUP(4,GEfectos!$J$4:$P$4,GEfectos!J295:P295),IF(EFECTOS!$N$9=\"NICARAGUA\",LOOKUP(5,GEfectos!$J$4:$P$4,GEfectos!J295:P295),IF(EFECTOS!$N$9=\"REPÚBLICA \nDOMINICANA\",LOOKUP(6,$J$4:$P$4,J295:P295),IF(EFECTOS!$N$9=\"PANAMÁ\",LOOKUP(7,GEfectos!$J$4:$P$4,GEfectos!J295:P295))))))))","v":291.15322560989608},{"$f":"IF(EFECTOS!$N$9=\"COSTA RICA\",LOOKUP(1,GEfectos!$Q$4:$W$4,GEfectos!Q295:W295),IF(EFECTOS!$N$9=\"EL SALVADOR\",LOOKUP(2,GEfectos!$Q$4:$W$4,GEfectos!Q295:W295),IF(EFECTOS!$N$9=\"GUATEMALA\",LOOKUP(3,GEfectos!$Q$4:$W$4,GEfectos!Q295:W295),IF(EFECTOS!$N$9=\"HONDURAS\",LOOKUP(4,GEfectos!$Q$4:$W$4,GEfectos!Q295:W295),IF(EFECTOS!$N$9=\"NICARAGUA\",LOOKUP(5,GEfectos!$Q$4:$W$4,GEfectos!Q295:W295),IF(EFECTOS!$N$9=\"REPÚBLICA \nDOMINICANA\",LOOKUP(6,$Q$4:$W$4,Q295:W295),IF(EFECTOS!$N$9=\"PANAMÁ\",LOOKUP(7,GEfectos!$Q$4:$W$4,GEfectos!Q295:W295))))))))","v":219.73149111439434},100]
[null,{"$f":"'ITCER GLOBAL'!B296","v":"Marzo"},{"$f":"'ITCER GLOBAL'!C296","v":87.567319214372475},{"$f":"'ITCER GLOBAL'!D296","v":105.47077247773893},{"$f":"'ITCER GLOBAL'!E296","v":54.619133371811593},{"$f":"'ITCER GLOBAL'!F296","v":85.020425685717882},{"$f":"'ITCER GLOBAL'!G296","v":113.06490075574234},{"$f":"'ITCER GLOBAL'!H296","v":132.17491280366175},{"$f":"'ITCER GLOBAL'!I296","v":95.323005259453623},{"$f":"'ITCER GLOBAL'!S296","v":180.63398396917674},{"$f":"'ITCER GLOBAL'!T296","v":87.829375517024417},{"$f":"'ITCER GLOBAL'!U296","v":87.959235125638358},{"$f":"'ITCER GLOBAL'!V296","v":152.42745535529062},{"$f":"'ITCER GLOBAL'!W296","v":224.66443198998175},{"$f":"'ITCER GLOBAL'!X296","v":290.94300852137553},{"$f":"'ITCER GLOBAL'!Y296","v":94.515546163202714},{"$f":"'ITCER GLOBAL'!AA296","v":206.28013463215527},{"$f":"'ITCER GLOBAL'!AB296","v":83.273662886618212},{"$f":"'ITCER GLOBAL'!AC296","v":161.04106692222487},{"$f":"'ITCER GLOBAL'!AD296","v":179.28333588771488},{"$f":"'ITCER GLOBAL'!AE296","v":198.70395718590987},{"$f":"'ITCER GLOBAL'!AF296","v":220.11969015145462},{"$f":"'ITCER GLOBAL'!AG296","v":99.152923164714394},null,{"$f":"IF(EFECTOS!$N$9=\"COSTA RICA\",LOOKUP(1,GEfectos!$C$4:$I$4,GEfectos!C296:I296),IF(EFECTOS!$N$9=\"EL SALVADOR\",LOOKUP(2,GEfectos!$C$4:$I$4,GEfectos!C296:I296),IF(EFECTOS!$N$9=\"GUATEMALA\",LOOKUP(3,GEfectos!$C$4:$I$4,GEfectos!C296:I296),IF(EFECTOS!$N$9=\"HONDURAS\",LOOKUP(4,GEfectos!$C$4:$I$4,GEfectos!C296:I296),IF(EFECTOS!$N$9=\"NICARAGUA\",LOOKUP(5,GEfectos!$C$4:$I$4,GEfectos!C296:I296),IF(EFECTOS!$N$9=\"REPÚBLICA \nDOMINICANA\",LOOKUP(6,$C$4:$I$4,C296:I296),IF(EFECTOS!$N$9=\"PANAMÁ\",LOOKUP(7,GEfectos!$C$4:$I$4,GEfectos!C296:I296))))))))","v":132.17491280366175},{"$f":"IF(EFECTOS!$N$9=\"COSTA RICA\",LOOKUP(1,GEfectos!$J$4:$P$4,GEfectos!J296:P296),IF(EFECTOS!$N$9=\"EL SALVADOR\",LOOKUP(2,GEfectos!$J$4:$P$4,GEfectos!J296:P296),IF(EFECTOS!$N$9=\"GUATEMALA\",LOOKUP(3,GEfectos!$J$4:$P$4,GEfectos!J296:P296),IF(EFECTOS!$N$9=\"HONDURAS\",LOOKUP(4,GEfectos!$J$4:$P$4,GEfectos!J296:P296),IF(EFECTOS!$N$9=\"NICARAGUA\",LOOKUP(5,GEfectos!$J$4:$P$4,GEfectos!J296:P296),IF(EFECTOS!$N$9=\"REPÚBLICA \nDOMINICANA\",LOOKUP(6,$J$4:$P$4,J296:P296),IF(EFECTOS!$N$9=\"PANAMÁ\",LOOKUP(7,GEfectos!$J$4:$P$4,GEfectos!J296:P296))))))))","v":290.94300852137553},{"$f":"IF(EFECTOS!$N$9=\"COSTA RICA\",LOOKUP(1,GEfectos!$Q$4:$W$4,GEfectos!Q296:W296),IF(EFECTOS!$N$9=\"EL SALVADOR\",LOOKUP(2,GEfectos!$Q$4:$W$4,GEfectos!Q296:W296),IF(EFECTOS!$N$9=\"GUATEMALA\",LOOKUP(3,GEfectos!$Q$4:$W$4,GEfectos!Q296:W296),IF(EFECTOS!$N$9=\"HONDURAS\",LOOKUP(4,GEfectos!$Q$4:$W$4,GEfectos!Q296:W296),IF(EFECTOS!$N$9=\"NICARAGUA\",LOOKUP(5,GEfectos!$Q$4:$W$4,GEfectos!Q296:W296),IF(EFECTOS!$N$9=\"REPÚBLICA \nDOMINICANA\",LOOKUP(6,$Q$4:$W$4,Q296:W296),IF(EFECTOS!$N$9=\"PANAMÁ\",LOOKUP(7,GEfectos!$Q$4:$W$4,GEfectos!Q296:W296))))))))","v":220.11969015145462},100]
[null,{"$f":"'ITCER GLOBAL'!B297","v":"Abril"},{"$f":"'ITCER GLOBAL'!C297","v":86.876968247939402},{"$f":"'ITCER GLOBAL'!D297","v":105.95840483546444},{"$f":"'ITCER GLOBAL'!E297","v":54.23816710341503},{"$f":"'ITCER GLOBAL'!F297","v":84.697852612639835},{"$f":"'ITCER GLOBAL'!G297","v":112.35635766928591},{"$f":"'ITCER GLOBAL'!H297","v":131.9422705095119},{"$f":"'ITCER GLOBAL'!I297","v":95.379797259569699},{"$f":"'ITCER GLOBAL'!S297","v":179.4058866029813},{"$f":"'ITCER GLOBAL'!T297","v":87.933988105241895},{"$f":"'ITCER GLOBAL'!U297","v":87.504528120112056},{"$f":"'ITCER GLOBAL'!V297","v":152.54516167675996},{"$f":"'ITCER GLOBAL'!W297","v":224.47940451391068},{"$f":"'ITCER GLOBAL'!X297","v":290.56010691618764},{"$f":"'ITCER GLOBAL'!Y297","v":94.45431064712929},{"$f":"'ITCER GLOBAL'!AA297","v":206.50569445629401},{"$f":"'ITCER GLOBAL'!AB297","v":82.989158096319571},{"$f":"'ITCER GLOBAL'!AC297","v":161.33385914990191},{"$f":"'ITCER GLOBAL'!AD297","v":180.10511125283827},{"$f":"'ITCER GLOBAL'!AE297","v":199.79234746524278},{"$f":"'ITCER GLOBAL'!AF297","v":220.21760410378931},{"$f":"'ITCER GLOBAL'!AG297","v":99.029682764032543},null,{"$f":"IF(EFECTOS!$N$9=\"COSTA RICA\",LOOKUP(1,GEfectos!$C$4:$I$4,GEfectos!C297:I297),IF(EFECTOS!$N$9=\"EL SALVADOR\",LOOKUP(2,GEfectos!$C$4:$I$4,GEfectos!C297:I297),IF(EFECTOS!$N$9=\"GUATEMALA\",LOOKUP(3,GEfectos!$C$4:$I$4,GEfectos!C297:I297),IF(EFECTOS!$N$9=\"HONDURAS\",LOOKUP(4,GEfectos!$C$4:$I$4,GEfectos!C297:I297),IF(EFECTOS!$N$9=\"NICARAGUA\",LOOKUP(5,GEfectos!$C$4:$I$4,GEfectos!C297:I297),IF(EFECTOS!$N$9=\"REPÚBLICA \nDOMINICANA\",LOOKUP(6,$C$4:$I$4,C297:I297),IF(EFECTOS!$N$9=\"PANAMÁ\",LOOKUP(7,GEfectos!$C$4:$I$4,GEfectos!C297:I297))))))))","v":131.9422705095119},{"$f":"IF(EFECTOS!$N$9=\"COSTA RICA\",LOOKUP(1,GEfectos!$J$4:$P$4,GEfectos!J297:P297),IF(EFECTOS!$N$9=\"EL SALVADOR\",LOOKUP(2,GEfectos!$J$4:$P$4,GEfectos!J297:P297),IF(EFECTOS!$N$9=\"GUATEMALA\",LOOKUP(3,GEfectos!$J$4:$P$4,GEfectos!J297:P297),IF(EFECTOS!$N$9=\"HONDURAS\",LOOKUP(4,GEfectos!$J$4:$P$4,GEfectos!J297:P297),IF(EFECTOS!$N$9=\"NICARAGUA\",LOOKUP(5,GEfectos!$J$4:$P$4,GEfectos!J297:P297),IF(EFECTOS!$N$9=\"REPÚBLICA \nDOMINICANA\",LOOKUP(6,$J$4:$P$4,J297:P297),IF(EFECTOS!$N$9=\"PANAMÁ\",LOOKUP(7,GEfectos!$J$4:$P$4,GEfectos!J297:P297))))))))","v":290.56010691618764},{"$f":"IF(EFECTOS!$N$9=\"COSTA RICA\",LOOKUP(1,GEfectos!$Q$4:$W$4,GEfectos!Q297:W297),IF(EFECTOS!$N$9=\"EL SALVADOR\",LOOKUP(2,GEfectos!$Q$4:$W$4,GEfectos!Q297:W297),IF(EFECTOS!$N$9=\"GUATEMALA\",LOOKUP(3,GEfectos!$Q$4:$W$4,GEfectos!Q297:W297),IF(EFECTOS!$N$9=\"HONDURAS\",LOOKUP(4,GEfectos!$Q$4:$W$4,GEfectos!Q297:W297),IF(EFECTOS!$N$9=\"NICARAGUA\",LOOKUP(5,GEfectos!$Q$4:$W$4,GEfectos!Q297:W297),IF(EFECTOS!$N$9=\"REPÚBLICA \nDOMINICANA\",LOOKUP(6,$Q$4:$W$4,Q297:W297),IF(EFECTOS!$N$9=\"PANAMÁ\",LOOKUP(7,GEfectos!$Q$4:$W$4,GEfectos!Q297:W297))))))))","v":220.21760410378931},100]
[null,{"$f":"'ITCER GLOBAL'!B298","v":"Mayo"},{"$f":"'ITCER GLOBAL'!C298","v":85.347792765726055},{"$f":"'ITCER GLOBAL'!D298","v":105.62363224185346},{"$f":"'ITCER GLOBAL'!E298","v":54.149800787610495},{"$f":"'ITCER GLOBAL'!F298","v":84.31605145595006},{"$f":"'ITCER GLOBAL'!G298","v":111.67590575436657},{"$f":"'ITCER GLOBAL'!H298","v":131.38391179306251},{"$f":"'ITCER GLOBAL'!I298","v":94.748855886096976},{"$f":"'ITCER GLOBAL'!S298","v":176.15295085327054},{"$f":"'ITCER GLOBAL'!T298","v":87.571277537432962},{"$f":"'ITCER GLOBAL'!U298","v":87.443054274323586},{"$f":"'ITCER GLOBAL'!V298","v":152.12788736276121},{"$f":"'ITCER GLOBAL'!W298","v":224.45647681064736},{"$f":"'ITCER GLOBAL'!X298","v":288.54911923425834},{"$f":"'ITCER GLOBAL'!Y298","v":93.750720509293856},{"$f":"'ITCER GLOBAL'!AA298","v":206.39426650059778},{"$f":"'ITCER GLOBAL'!AB298","v":82.908791980297721},{"$f":"'ITCER GLOBAL'!AC298","v":161.48361213238408},{"$f":"'ITCER GLOBAL'!AD298","v":180.42577271569536},{"$f":"'ITCER GLOBAL'!AE298","v":200.98917066707656},{"$f":"'ITCER GLOBAL'!AF298","v":219.62287109303031},{"$f":"'ITCER GLOBAL'!AG298","v":98.946546248534077},null,{"$f":"IF(EFECTOS!$N$9=\"COSTA RICA\",LOOKUP(1,GEfectos!$C$4:$I$4,GEfectos!C298:I298),IF(EFECTOS!$N$9=\"EL SALVADOR\",LOOKUP(2,GEfectos!$C$4:$I$4,GEfectos!C298:I298),IF(EFECTOS!$N$9=\"GUATEMALA\",LOOKUP(3,GEfectos!$C$4:$I$4,GEfectos!C298:I298),IF(EFECTOS!$N$9=\"HONDURAS\",LOOKUP(4,GEfectos!$C$4:$I$4,GEfectos!C298:I298),IF(EFECTOS!$N$9=\"NICARAGUA\",LOOKUP(5,GEfectos!$C$4:$I$4,GEfectos!C298:I298),IF(EFECTOS!$N$9=\"REPÚBLICA \nDOMINICANA\",LOOKUP(6,$C$4:$I$4,C298:I298),IF(EFECTOS!$N$9=\"PANAMÁ\",LOOKUP(7,GEfectos!$C$4:$I$4,GEfectos!C298:I298))))))))","v":131.38391179306251},{"$f":"IF(EFECTOS!$N$9=\"COSTA RICA\",LOOKUP(1,GEfectos!$J$4:$P$4,GEfectos!J298:P298),IF(EFECTOS!$N$9=\"EL SALVADOR\",LOOKUP(2,GEfectos!$J$4:$P$4,GEfectos!J298:P298),IF(EFECTOS!$N$9=\"GUATEMALA\",LOOKUP(3,GEfectos!$J$4:$P$4,GEfectos!J298:P298),IF(EFECTOS!$N$9=\"HONDURAS\",LOOKUP(4,GEfectos!$J$4:$P$4,GEfectos!J298:P298),IF(EFECTOS!$N$9=\"NICARAGUA\",LOOKUP(5,GEfectos!$J$4:$P$4,GEfectos!J298:P298),IF(EFECTOS!$N$9=\"REPÚBLICA \nDOMINICANA\",LOOKUP(6,$J$4:$P$4,J298:P298),IF(EFECTOS!$N$9=\"PANAMÁ\",LOOKUP(7,GEfectos!$J$4:$P$4,GEfectos!J298:P298))))))))","v":288.54911923425834},{"$f":"IF(EFECTOS!$N$9=\"COSTA RICA\",LOOKUP(1,GEfectos!$Q$4:$W$4,GEfectos!Q298:W298),IF(EFECTOS!$N$9=\"EL SALVADOR\",LOOKUP(2,GEfectos!$Q$4:$W$4,GEfectos!Q298:W298),IF(EFECTOS!$N$9=\"GUATEMALA\",LOOKUP(3,GEfectos!$Q$4:$W$4,GEfectos!Q298:W298),IF(EFECTOS!$N$9=\"HONDURAS\",LOOKUP(4,GEfectos!$Q$4:$W$4,GEfectos!Q298:W298),IF(EFECTOS!$N$9=\"NICARAGUA\",LOOKUP(5,GEfectos!$Q$4:$W$4,GEfectos!Q298:W298),IF(EFECTOS!$N$9=\"REPÚBLICA \nDOMINICANA\",LOOKUP(6,$Q$4:$W$4,Q298:W298),IF(EFECTOS!$N$9=\"PANAMÁ\",LOOKUP(7,GEfectos!$Q$4:$W$4,GEfectos!Q298:W298))))))))","v":219.62287109303031},100]
[null,{"$f":"'ITCER GLOBAL'!B299","v":"Junio"},{"$f":"'ITCER GLOBAL'!C299","v":84.3026100434287},{"$f":"'ITCER GLOBAL'!D299","v":105.81227200394675},{"$f":"'ITCER GLOBAL'!E299","v":53.931274685953312},{"$f":"'ITCER GLOBAL'!F299","v":84.456394629052113},{"$f":"'ITCER GLOBAL'!G299","v":112.24450422599577},{"$f":"'ITCER GLOBAL'!H299","v":132.07399762389807},{"$f":"'ITCER GLOBAL'!I299","v":95.243653267954116},{"$f":"'ITCER GLOBAL'!S299","v":174.4029568748139},{"$f":"'ITCER GLOBAL'!T299","v":87.497297665410045},{"$f":"'ITCER GLOBAL'!U299","v":87.801314487498487},{"$f":"'ITCER GLOBAL'!V299","v":152.39185474511407},{"$f":"'ITCER GLOBAL'!W299","v":225.62896864278977},{"$f":"'ITCER GLOBAL'!X299","v":289.30871993183825},{"$f":"'ITCER GLOBAL'!Y299","v":93.88419441643498},{"$f":"'ITCER GLOBAL'!AA299","v":206.87729215616196},{"$f":"'ITCER GLOBAL'!AB299","v":82.691067877406923},{"$f":"'ITCER GLOBAL'!AC299","v":162.8022237537931},{"$f":"'ITCER GLOBAL'!AD299","v":180.43850369702244},{"$f":"'ITCER GLOBAL'!AE299","v":201.01560445979879},{"$f":"'ITCER GLOBAL'!AF299","v":219.05047559451586},{"$f":"'ITCER GLOBAL'!AG299","v":98.572651504983213},null,{"$f":"IF(EFECTOS!$N$9=\"COSTA RICA\",LOOKUP(1,GEfectos!$C$4:$I$4,GEfectos!C299:I299),IF(EFECTOS!$N$9=\"EL SALVADOR\",LOOKUP(2,GEfectos!$C$4:$I$4,GEfectos!C299:I299),IF(EFECTOS!$N$9=\"GUATEMALA\",LOOKUP(3,GEfectos!$C$4:$I$4,GEfectos!C299:I299),IF(EFECTOS!$N$9=\"HONDURAS\",LOOKUP(4,GEfectos!$C$4:$I$4,GEfectos!C299:I299),IF(EFECTOS!$N$9=\"NICARAGUA\",LOOKUP(5,GEfectos!$C$4:$I$4,GEfectos!C299:I299),IF(EFECTOS!$N$9=\"REPÚBLICA \nDOMINICANA\",LOOKUP(6,$C$4:$I$4,C299:I299),IF(EFECTOS!$N$9=\"PANAMÁ\",LOOKUP(7,GEfectos!$C$4:$I$4,GEfectos!C299:I299))))))))","v":132.07399762389807},{"$f":"IF(EFECTOS!$N$9=\"COSTA RICA\",LOOKUP(1,GEfectos!$J$4:$P$4,GEfectos!J299:P299),IF(EFECTOS!$N$9=\"EL SALVADOR\",LOOKUP(2,GEfectos!$J$4:$P$4,GEfectos!J299:P299),IF(EFECTOS!$N$9=\"GUATEMALA\",LOOKUP(3,GEfectos!$J$4:$P$4,GEfectos!J299:P299),IF(EFECTOS!$N$9=\"HONDURAS\",LOOKUP(4,GEfectos!$J$4:$P$4,GEfectos!J299:P299),IF(EFECTOS!$N$9=\"NICARAGUA\",LOOKUP(5,GEfectos!$J$4:$P$4,GEfectos!J299:P299),IF(EFECTOS!$N$9=\"REPÚBLICA \nDOMINICANA\",LOOKUP(6,$J$4:$P$4,J299:P299),IF(EFECTOS!$N$9=\"PANAMÁ\",LOOKUP(7,GEfectos!$J$4:$P$4,GEfectos!J299:P299))))))))","v":289.30871993183825},{"$f":"IF(EFECTOS!$N$9=\"COSTA RICA\",LOOKUP(1,GEfectos!$Q$4:$W$4,GEfectos!Q299:W299),IF(EFECTOS!$N$9=\"EL SALVADOR\",LOOKUP(2,GEfectos!$Q$4:$W$4,GEfectos!Q299:W299),IF(EFECTOS!$N$9=\"GUATEMALA\",LOOKUP(3,GEfectos!$Q$4:$W$4,GEfectos!Q299:W299),IF(EFECTOS!$N$9=\"HONDURAS\",LOOKUP(4,GEfectos!$Q$4:$W$4,GEfectos!Q299:W299),IF(EFECTOS!$N$9=\"NICARAGUA\",LOOKUP(5,GEfectos!$Q$4:$W$4,GEfectos!Q299:W299),IF(EFECTOS!$N$9=\"REPÚBLICA \nDOMINICANA\",LOOKUP(6,$Q$4:$W$4,Q299:W299),IF(EFECTOS!$N$9=\"PANAMÁ\",LOOKUP(7,GEfectos!$Q$4:$W$4,GEfectos!Q299:W299))))))))","v":219.05047559451586},100]
[null,{"$f":"'ITCER GLOBAL'!B300","v":"Julio"},{"$f":"'ITCER GLOBAL'!C300","v":82.573112706934623},{"$f":"'ITCER GLOBAL'!D300","v":106.50559830550797},{"$f":"'ITCER GLOBAL'!E300","v":53.978799933838381},{"$f":"'ITCER GLOBAL'!F300","v":84.477562139808299},{"$f":"'ITCER GLOBAL'!G300","v":112.67978112965177},{"$f":"'ITCER GLOBAL'!H300","v":132.5197396976198},{"$f":"'ITCER GLOBAL'!I300","v":95.480030136532676},{"$f":"'ITCER GLOBAL'!S300","v":171.94206997587312},{"$f":"'ITCER GLOBAL'!T300","v":87.707031661264111},{"$f":"'ITCER GLOBAL'!U300","v":87.713718047844907},{"$f":"'ITCER GLOBAL'!V300","v":152.72954923124078},{"$f":"'ITCER GLOBAL'!W300","v":226.96476931993394},{"$f":"'ITCER GLOBAL'!X300","v":291.15827426804486},{"$f":"'ITCER GLOBAL'!Y300","v":94.234327028885161},{"$f":"'ITCER GLOBAL'!AA300","v":208.23009371842795},{"$f":"'ITCER GLOBAL'!AB300","v":82.349691524833503},{"$f":"'ITCER GLOBAL'!AC300","v":162.49660636278554},{"$f":"'ITCER GLOBAL'!AD300","v":180.79303588150083},{"$f":"'ITCER GLOBAL'!AE300","v":201.4245741734122},{"$f":"'ITCER GLOBAL'!AF300","v":219.70936173916616},{"$f":"'ITCER GLOBAL'!AG300","v":98.695326021717619},null,{"$f":"IF(EFECTOS!$N$9=\"COSTA RICA\",LOOKUP(1,GEfectos!$C$4:$I$4,GEfectos!C300:I300),IF(EFECTOS!$N$9=\"EL SALVADOR\",LOOKUP(2,GEfectos!$C$4:$I$4,GEfectos!C300:I300),IF(EFECTOS!$N$9=\"GUATEMALA\",LOOKUP(3,GEfectos!$C$4:$I$4,GEfectos!C300:I300),IF(EFECTOS!$N$9=\"HONDURAS\",LOOKUP(4,GEfectos!$C$4:$I$4,GEfectos!C300:I300),IF(EFECTOS!$N$9=\"NICARAGUA\",LOOKUP(5,GEfectos!$C$4:$I$4,GEfectos!C300:I300),IF(EFECTOS!$N$9=\"REPÚBLICA \nDOMINICANA\",LOOKUP(6,$C$4:$I$4,C300:I300),IF(EFECTOS!$N$9=\"PANAMÁ\",LOOKUP(7,GEfectos!$C$4:$I$4,GEfectos!C300:I300))))))))","v":132.5197396976198},{"$f":"IF(EFECTOS!$N$9=\"COSTA RICA\",LOOKUP(1,GEfectos!$J$4:$P$4,GEfectos!J300:P300),IF(EFECTOS!$N$9=\"EL SALVADOR\",LOOKUP(2,GEfectos!$J$4:$P$4,GEfectos!J300:P300),IF(EFECTOS!$N$9=\"GUATEMALA\",LOOKUP(3,GEfectos!$J$4:$P$4,GEfectos!J300:P300),IF(EFECTOS!$N$9=\"HONDURAS\",LOOKUP(4,GEfectos!$J$4:$P$4,GEfectos!J300:P300),IF(EFECTOS!$N$9=\"NICARAGUA\",LOOKUP(5,GEfectos!$J$4:$P$4,GEfectos!J300:P300),IF(EFECTOS!$N$9=\"REPÚBLICA \nDOMINICANA\",LOOKUP(6,$J$4:$P$4,J300:P300),IF(EFECTOS!$N$9=\"PANAMÁ\",LOOKUP(7,GEfectos!$J$4:$P$4,GEfectos!J300:P300))))))))","v":291.15827426804486},{"$f":"IF(EFECTOS!$N$9=\"COSTA RICA\",LOOKUP(1,GEfectos!$Q$4:$W$4,GEfectos!Q300:W300),IF(EFECTOS!$N$9=\"EL SALVADOR\",LOOKUP(2,GEfectos!$Q$4:$W$4,GEfectos!Q300:W300),IF(EFECTOS!$N$9=\"GUATEMALA\",LOOKUP(3,GEfectos!$Q$4:$W$4,GEfectos!Q300:W300),IF(EFECTOS!$N$9=\"HONDURAS\",LOOKUP(4,GEfectos!$Q$4:$W$4,GEfectos!Q300:W300),IF(EFECTOS!$N$9=\"NICARAGUA\",LOOKUP(5,GEfectos!$Q$4:$W$4,GEfectos!Q300:W300),IF(EFECTOS!$N$9=\"REPÚBLICA \nDOMINICANA\",LOOKUP(6,$Q$4:$W$4,Q300:W300),IF(EFECTOS!$N$9=\"PANAMÁ\",LOOKUP(7,GEfectos!$Q$4:$W$4,GEfectos!Q300:W300))))))))","v":219.70936173916616},100]
[null,{"$f":"'ITCER GLOBAL'!B301","v":"Agosto"},{"$f":"'ITCER GLOBAL'!C301","v":80.845185118058467},{"$f":"'ITCER GLOBAL'!D301","v":106.21773073766973},{"$f":"'ITCER GLOBAL'!E301","v":54.034995910766227},{"$f":"'ITCER GLOBAL'!F301","v":84.051015952167589},{"$f":"'ITCER GLOBAL'!G301","v":112.13798652187249},{"$f":"'ITCER GLOBAL'!H301","v":131.77866787868334},{"$f":"'ITCER GLOBAL'!I301","v":94.777498761971174},{"$f":"'ITCER GLOBAL'!S301","v":168.07645143107496},{"$f":"'ITCER GLOBAL'!T301","v":87.178961715212978},{"$f":"'ITCER GLOBAL'!U301","v":87.008466177235917},{"$f":"'ITCER GLOBAL'!V301","v":152.09228103715054},{"$f":"'ITCER GLOBAL'!W301","v":225.76358268452501},{"$f":"'ITCER GLOBAL'!X301","v":290.08316964970248},{"$f":"'ITCER GLOBAL'!Y301","v":93.164120608840577},{"$f":"'ITCER GLOBAL'!AA301","v":207.89914845965461},{"$f":"'ITCER GLOBAL'!AB301","v":82.075714769808457},{"$f":"'ITCER GLOBAL'!AC301","v":161.02243501771022},{"$f":"'ITCER GLOBAL'!AD301","v":180.95234104452038},{"$f":"'ITCER GLOBAL'!AE301","v":201.32658850664299},{"$f":"'ITCER GLOBAL'!AF301","v":220.12908031272232},{"$f":"'ITCER GLOBAL'!AG301","v":98.297720266724369},null,{"$f":"IF(EFECTOS!$N$9=\"COSTA RICA\",LOOKUP(1,GEfectos!$C$4:$I$4,GEfectos!C301:I301),IF(EFECTOS!$N$9=\"EL SALVADOR\",LOOKUP(2,GEfectos!$C$4:$I$4,GEfectos!C301:I301),IF(EFECTOS!$N$9=\"GUATEMALA\",LOOKUP(3,GEfectos!$C$4:$I$4,GEfectos!C301:I301),IF(EFECTOS!$N$9=\"HONDURAS\",LOOKUP(4,GEfectos!$C$4:$I$4,GEfectos!C301:I301),IF(EFECTOS!$N$9=\"NICARAGUA\",LOOKUP(5,GEfectos!$C$4:$I$4,GEfectos!C301:I301),IF(EFECTOS!$N$9=\"REPÚBLICA \nDOMINICANA\",LOOKUP(6,$C$4:$I$4,C301:I301),IF(EFECTOS!$N$9=\"PANAMÁ\",LOOKUP(7,GEfectos!$C$4:$I$4,GEfectos!C301:I301))))))))","v":131.77866787868334},{"$f":"IF(EFECTOS!$N$9=\"COSTA RICA\",LOOKUP(1,GEfectos!$J$4:$P$4,GEfectos!J301:P301),IF(EFECTOS!$N$9=\"EL SALVADOR\",LOOKUP(2,GEfectos!$J$4:$P$4,GEfectos!J301:P301),IF(EFECTOS!$N$9=\"GUATEMALA\",LOOKUP(3,GEfectos!$J$4:$P$4,GEfectos!J301:P301),IF(EFECTOS!$N$9=\"HONDURAS\",LOOKUP(4,GEfectos!$J$4:$P$4,GEfectos!J301:P301),IF(EFECTOS!$N$9=\"NICARAGUA\",LOOKUP(5,GEfectos!$J$4:$P$4,GEfectos!J301:P301),IF(EFECTOS!$N$9=\"REPÚBLICA \nDOMINICANA\",LOOKUP(6,$J$4:$P$4,J301:P301),IF(EFECTOS!$N$9=\"PANAMÁ\",LOOKUP(7,GEfectos!$J$4:$P$4,GEfectos!J301:P301))))))))","v":290.08316964970248},{"$f":"IF(EFECTOS!$N$9=\"COSTA RICA\",LOOKUP(1,GEfectos!$Q$4:$W$4,GEfectos!Q301:W301),IF(EFECTOS!$N$9=\"EL SALVADOR\",LOOKUP(2,GEfectos!$Q$4:$W$4,GEfectos!Q301:W301),IF(EFECTOS!$N$9=\"GUATEMALA\",LOOKUP(3,GEfectos!$Q$4:$W$4,GEfectos!Q301:W301),IF(EFECTOS!$N$9=\"HONDURAS\",LOOKUP(4,GEfectos!$Q$4:$W$4,GEfectos!Q301:W301),IF(EFECTOS!$N$9=\"NICARAGUA\",LOOKUP(5,GEfectos!$Q$4:$W$4,GEfectos!Q301:W301),IF(EFECTOS!$N$9=\"REPÚBLICA \nDOMINICANA\",LOOKUP(6,$Q$4:$W$4,Q301:W301),IF(EFECTOS!$N$9=\"PANAMÁ\",LOOKUP(7,GEfectos!$Q$4:$W$4,GEfectos!Q301:W301))))))))","v":220.12908031272232},100]
[null,{"$f":"'ITCER GLOBAL'!B302","v":"Septiembre"},{"$f":"'ITCER GLOBAL'!C302","v":82.152445292879065},{"$f":"'ITCER GLOBAL'!D302","v":106.1636477615323},{"$f":"'ITCER GLOBAL'!E302","v":54.583721395375186},{"$f":"'ITCER GLOBAL'!F302","v":83.949692388921505},{"$f":"'ITCER GLOBAL'!G302","v":112.40000831945656},{"$f":"'ITCER GLOBAL'!H302","v":132.42452160477438},{"$f":"'ITCER GLOBAL'!I302","v":94.644491026140088},{"$f":"'ITCER GLOBAL'!S302","v":170.34171832543873},{"$f":"'ITCER GLOBAL'!T302","v":86.923747498711293},{"$f":"'ITCER GLOBAL'!U302","v":87.238862157803851},{"$f":"'ITCER GLOBAL'!V302","v":151.99257654992644},{"$f":"'ITCER GLOBAL'!W302","v":225.6568136927435},{"$f":"'ITCER GLOBAL'!X302","v":291.91643994122973},{"$f":"'ITCER GLOBAL'!Y302","v":92.772929843412527},{"$f":"'ITCER GLOBAL'!AA302","v":207.34832386079179},{"$f":"'ITCER GLOBAL'!AB302","v":81.877129631003072},{"$f":"'ITCER GLOBAL'!AC302","v":159.82578675039827},{"$f":"'ITCER GLOBAL'!AD302","v":181.05197556386074},{"$f":"'ITCER GLOBAL'!AE302","v":200.76227490250287},{"$f":"'ITCER GLOBAL'!AF302","v":220.43986748350471},{"$f":"'ITCER GLOBAL'!AG302","v":98.022535530133865},null,{"$f":"IF(EFECTOS!$N$9=\"COSTA RICA\",LOOKUP(1,GEfectos!$C$4:$I$4,GEfectos!C302:I302),IF(EFECTOS!$N$9=\"EL SALVADOR\",LOOKUP(2,GEfectos!$C$4:$I$4,GEfectos!C302:I302),IF(EFECTOS!$N$9=\"GUATEMALA\",LOOKUP(3,GEfectos!$C$4:$I$4,GEfectos!C302:I302),IF(EFECTOS!$N$9=\"HONDURAS\",LOOKUP(4,GEfectos!$C$4:$I$4,GEfectos!C302:I302),IF(EFECTOS!$N$9=\"NICARAGUA\",LOOKUP(5,GEfectos!$C$4:$I$4,GEfectos!C302:I302),IF(EFECTOS!$N$9=\"REPÚBLICA \nDOMINICANA\",LOOKUP(6,$C$4:$I$4,C302:I302),IF(EFECTOS!$N$9=\"PANAMÁ\",LOOKUP(7,GEfectos!$C$4:$I$4,GEfectos!C302:I302))))))))","v":132.42452160477438},{"$f":"IF(EFECTOS!$N$9=\"COSTA RICA\",LOOKUP(1,GEfectos!$J$4:$P$4,GEfectos!J302:P302),IF(EFECTOS!$N$9=\"EL SALVADOR\",LOOKUP(2,GEfectos!$J$4:$P$4,GEfectos!J302:P302),IF(EFECTOS!$N$9=\"GUATEMALA\",LOOKUP(3,GEfectos!$J$4:$P$4,GEfectos!J302:P302),IF(EFECTOS!$N$9=\"HONDURAS\",LOOKUP(4,GEfectos!$J$4:$P$4,GEfectos!J302:P302),IF(EFECTOS!$N$9=\"NICARAGUA\",LOOKUP(5,GEfectos!$J$4:$P$4,GEfectos!J302:P302),IF(EFECTOS!$N$9=\"REPÚBLICA \nDOMINICANA\",LOOKUP(6,$J$4:$P$4,J302:P302),IF(EFECTOS!$N$9=\"PANAMÁ\",LOOKUP(7,GEfectos!$J$4:$P$4,GEfectos!J302:P302))))))))","v":291.91643994122973},{"$f":"IF(EFECTOS!$N$9=\"COSTA RICA\",LOOKUP(1,GEfectos!$Q$4:$W$4,GEfectos!Q302:W302),IF(EFECTOS!$N$9=\"EL SALVADOR\",LOOKUP(2,GEfectos!$Q$4:$W$4,GEfectos!Q302:W302),IF(EFECTOS!$N$9=\"GUATEMALA\",LOOKUP(3,GEfectos!$Q$4:$W$4,GEfectos!Q302:W302),IF(EFECTOS!$N$9=\"HONDURAS\",LOOKUP(4,GEfectos!$Q$4:$W$4,GEfectos!Q302:W302),IF(EFECTOS!$N$9=\"NICARAGUA\",LOOKUP(5,GEfectos!$Q$4:$W$4,GEfectos!Q302:W302),IF(EFECTOS!$N$9=\"REPÚBLICA \nDOMINICANA\",LOOKUP(6,$Q$4:$W$4,Q302:W302),IF(EFECTOS!$N$9=\"PANAMÁ\",LOOKUP(7,GEfectos!$Q$4:$W$4,GEfectos!Q302:W302))))))))","v":220.43986748350471},100]
[null,{"$f":"'ITCER GLOBAL'!B303","v":"Octubre"},{"$f":"'ITCER GLOBAL'!C303","v":83.009958829425955},{"$f":"'ITCER GLOBAL'!D303","v":106.49071299384939},{"$f":"'ITCER GLOBAL'!E303","v":54.760942069430193},{"$f":"'ITCER GLOBAL'!F303","v":84.125694207326418},{"$f":"'ITCER GLOBAL'!G303","v":112.92654426667566},{"$f":"'ITCER GLOBAL'!H303","v":135.01300903760679},{"$f":"'ITCER GLOBAL'!I303","v":95.135732848357392},{"$f":"'ITCER GLOBAL'!S303","v":171.44180960718495},{"$f":"'ITCER GLOBAL'!T303","v":86.91414851394147},{"$f":"'ITCER GLOBAL'!U303","v":87.883894235870656},{"$f":"'ITCER GLOBAL'!V303","v":152.22552231054641},{"$f":"'ITCER GLOBAL'!W303","v":226.75047057766463},{"$f":"'ITCER GLOBAL'!X303","v":298.5466831559163},{"$f":"'ITCER GLOBAL'!Y303","v":92.894618509667964},{"$f":"'ITCER GLOBAL'!AA303","v":206.5316162359197},{"$f":"'ITCER GLOBAL'!AB303","v":81.616646250609108},{"$f":"'ITCER GLOBAL'!AC303","v":160.48645424040478},{"$f":"'ITCER GLOBAL'!AD303","v":180.95009348200927},{"$f":"'ITCER GLOBAL'!AE303","v":200.7946599713475},{"$f":"'ITCER GLOBAL'!AF303","v":221.12438296428056},{"$f":"'ITCER GLOBAL'!AG303","v":97.644298023896368},null,{"$f":"IF(EFECTOS!$N$9=\"COSTA RICA\",LOOKUP(1,GEfectos!$C$4:$I$4,GEfectos!C303:I303),IF(EFECTOS!$N$9=\"EL SALVADOR\",LOOKUP(2,GEfectos!$C$4:$I$4,GEfectos!C303:I303),IF(EFECTOS!$N$9=\"GUATEMALA\",LOOKUP(3,GEfectos!$C$4:$I$4,GEfectos!C303:I303),IF(EFECTOS!$N$9=\"HONDURAS\",LOOKUP(4,GEfectos!$C$4:$I$4,GEfectos!C303:I303),IF(EFECTOS!$N$9=\"NICARAGUA\",LOOKUP(5,GEfectos!$C$4:$I$4,GEfectos!C303:I303),IF(EFECTOS!$N$9=\"REPÚBLICA \nDOMINICANA\",LOOKUP(6,$C$4:$I$4,C303:I303),IF(EFECTOS!$N$9=\"PANAMÁ\",LOOKUP(7,GEfectos!$C$4:$I$4,GEfectos!C303:I303))))))))","v":135.01300903760679},{"$f":"IF(EFECTOS!$N$9=\"COSTA RICA\",LOOKUP(1,GEfectos!$J$4:$P$4,GEfectos!J303:P303),IF(EFECTOS!$N$9=\"EL SALVADOR\",LOOKUP(2,GEfectos!$J$4:$P$4,GEfectos!J303:P303),IF(EFECTOS!$N$9=\"GUATEMALA\",LOOKUP(3,GEfectos!$J$4:$P$4,GEfectos!J303:P303),IF(EFECTOS!$N$9=\"HONDURAS\",LOOKUP(4,GEfectos!$J$4:$P$4,GEfectos!J303:P303),IF(EFECTOS!$N$9=\"NICARAGUA\",LOOKUP(5,GEfectos!$J$4:$P$4,GEfectos!J303:P303),IF(EFECTOS!$N$9=\"REPÚBLICA \nDOMINICANA\",LOOKUP(6,$J$4:$P$4,J303:P303),IF(EFECTOS!$N$9=\"PANAMÁ\",LOOKUP(7,GEfectos!$J$4:$P$4,GEfectos!J303:P303))))))))","v":298.5466831559163},{"$f":"IF(EFECTOS!$N$9=\"COSTA RICA\",LOOKUP(1,GEfectos!$Q$4:$W$4,GEfectos!Q303:W303),IF(EFECTOS!$N$9=\"EL SALVADOR\",LOOKUP(2,GEfectos!$Q$4:$W$4,GEfectos!Q303:W303),IF(EFECTOS!$N$9=\"GUATEMALA\",LOOKUP(3,GEfectos!$Q$4:$W$4,GEfectos!Q303:W303),IF(EFECTOS!$N$9=\"HONDURAS\",LOOKUP(4,GEfectos!$Q$4:$W$4,GEfectos!Q303:W303),IF(EFECTOS!$N$9=\"NICARAGUA\",LOOKUP(5,GEfectos!$Q$4:$W$4,GEfectos!Q303:W303),IF(EFECTOS!$N$9=\"REPÚBLICA \nDOMINICANA\",LOOKUP(6,$Q$4:$W$4,Q303:W303),IF(EFECTOS!$N$9=\"PANAMÁ\",LOOKUP(7,GEfectos!$Q$4:$W$4,GEfectos!Q303:W303))))))))","v":221.12438296428056},100]
[null,{"$f":"'ITCER GLOBAL'!B304","v":"Noviembre"},{"$f":"'ITCER GLOBAL'!C304","v":82.358498172626668},{"$f":"'ITCER GLOBAL'!D304","v":106.79162340140486},{"$f":"'ITCER GLOBAL'!E304","v":54.287407761382944},{"$f":"'ITCER GLOBAL'!F304","v":84.112912523003388},{"$f":"'ITCER GLOBAL'!G304","v":112.88186729886664},{"$f":"'ITCER GLOBAL'!H304","v":135.20638670301329},{"$f":"'ITCER GLOBAL'!I304","v":95.492688688486339},{"$f":"'ITCER GLOBAL'!S304","v":170.31826247427696},{"$f":"'ITCER GLOBAL'!T304","v":87.110745725644705},{"$f":"'ITCER GLOBAL'!U304","v":87.404250164134766},{"$f":"'ITCER GLOBAL'!V304","v":152.52673853601704},{"$f":"'ITCER GLOBAL'!W304","v":228.11004146266916},{"$f":"'ITCER GLOBAL'!X304","v":299.83012072030982},{"$f":"'ITCER GLOBAL'!Y304","v":93.152221795845207},{"$f":"'ITCER GLOBAL'!AA304","v":206.80107852049844},{"$f":"'ITCER GLOBAL'!AB304","v":81.570766461912172},{"$f":"'ITCER GLOBAL'!AC304","v":161.0028066698541},{"$f":"'ITCER GLOBAL'!AD304","v":181.33569978842866},{"$f":"'ITCER GLOBAL'!AE304","v":202.07855071950908},{"$f":"'ITCER GLOBAL'!AF304","v":221.75736518933812},{"$f":"'ITCER GLOBAL'!AG304","v":97.549061687564247},null,{"$f":"IF(EFECTOS!$N$9=\"COSTA RICA\",LOOKUP(1,GEfectos!$C$4:$I$4,GEfectos!C304:I304),IF(EFECTOS!$N$9=\"EL SALVADOR\",LOOKUP(2,GEfectos!$C$4:$I$4,GEfectos!C304:I304),IF(EFECTOS!$N$9=\"GUATEMALA\",LOOKUP(3,GEfectos!$C$4:$I$4,GEfectos!C304:I304),IF(EFECTOS!$N$9=\"HONDURAS\",LOOKUP(4,GEfectos!$C$4:$I$4,GEfectos!C304:I304),IF(EFECTOS!$N$9=\"NICARAGUA\",LOOKUP(5,GEfectos!$C$4:$I$4,GEfectos!C304:I304),IF(EFECTOS!$N$9=\"REPÚBLICA \nDOMINICANA\",LOOKUP(6,$C$4:$I$4,C304:I304),IF(EFECTOS!$N$9=\"PANAMÁ\",LOOKUP(7,GEfectos!$C$4:$I$4,GEfectos!C304:I304))))))))","v":135.20638670301329},{"$f":"IF(EFECTOS!$N$9=\"COSTA RICA\",LOOKUP(1,GEfectos!$J$4:$P$4,GEfectos!J304:P304),IF(EFECTOS!$N$9=\"EL SALVADOR\",LOOKUP(2,GEfectos!$J$4:$P$4,GEfectos!J304:P304),IF(EFECTOS!$N$9=\"GUATEMALA\",LOOKUP(3,GEfectos!$J$4:$P$4,GEfectos!J304:P304),IF(EFECTOS!$N$9=\"HONDURAS\",LOOKUP(4,GEfectos!$J$4:$P$4,GEfectos!J304:P304),IF(EFECTOS!$N$9=\"NICARAGUA\",LOOKUP(5,GEfectos!$J$4:$P$4,GEfectos!J304:P304),IF(EFECTOS!$N$9=\"REPÚBLICA \nDOMINICANA\",LOOKUP(6,$J$4:$P$4,J304:P304),IF(EFECTOS!$N$9=\"PANAMÁ\",LOOKUP(7,GEfectos!$J$4:$P$4,GEfectos!J304:P304))))))))","v":299.83012072030982},{"$f":"IF(EFECTOS!$N$9=\"COSTA RICA\",LOOKUP(1,GEfectos!$Q$4:$W$4,GEfectos!Q304:W304),IF(EFECTOS!$N$9=\"EL SALVADOR\",LOOKUP(2,GEfectos!$Q$4:$W$4,GEfectos!Q304:W304),IF(EFECTOS!$N$9=\"GUATEMALA\",LOOKUP(3,GEfectos!$Q$4:$W$4,GEfectos!Q304:W304),IF(EFECTOS!$N$9=\"HONDURAS\",LOOKUP(4,GEfectos!$Q$4:$W$4,GEfectos!Q304:W304),IF(EFECTOS!$N$9=\"NICARAGUA\",LOOKUP(5,GEfectos!$Q$4:$W$4,GEfectos!Q304:W304),IF(EFECTOS!$N$9=\"REPÚBLICA \nDOMINICANA\",LOOKUP(6,$Q$4:$W$4,Q304:W304),IF(EFECTOS!$N$9=\"PANAMÁ\",LOOKUP(7,GEfectos!$Q$4:$W$4,GEfectos!Q304:W304))))))))","v":221.75736518933812},100]
[null,{"$f":"'ITCER GLOBAL'!B305","v":"Diciembre"},{"$f":"'ITCER GLOBAL'!C305","v":81.508636185809962},{"$f":"'ITCER GLOBAL'!D305","v":107.04137931704501},{"$f":"'ITCER GLOBAL'!E305","v":54.021453651642616},{"$f":"'ITCER GLOBAL'!F305","v":84.060161157413319},{"$f":"'ITCER GLOBAL'!G305","v":112.28832720774869},{"$f":"'ITCER GLOBAL'!H305","v":135.46876326805005},{"$f":"'ITCER GLOBAL'!I305","v":96.003710628797705},{"$f":"'ITCER GLOBAL'!S305","v":168.1631689995987},{"$f":"'ITCER GLOBAL'!T305","v":87.246541714765826},{"$f":"'ITCER GLOBAL'!U305","v":87.405607837737051},{"$f":"'ITCER GLOBAL'!V305","v":152.87732442525652},{"$f":"'ITCER GLOBAL'!W305","v":228.94824031199857},{"$f":"'ITCER GLOBAL'!X305","v":300.69335938769581},{"$f":"'ITCER GLOBAL'!Y305","v":93.388405315334992},{"$f":"'ITCER GLOBAL'!AA305","v":206.31331459926287},{"$f":"'ITCER GLOBAL'!AB305","v":81.507303317113454},{"$f":"'ITCER GLOBAL'!AC305","v":161.79795605163125},{"$f":"'ITCER GLOBAL'!AD305","v":181.86656118702214},{"$f":"'ITCER GLOBAL'!AE305","v":203.89317928693794},{"$f":"'ITCER GLOBAL'!AF305","v":221.96508784295781},{"$f":"'ITCER GLOBAL'!AG305","v":97.275828927514169},null,{"$f":"IF(EFECTOS!$N$9=\"COSTA RICA\",LOOKUP(1,GEfectos!$C$4:$I$4,GEfectos!C305:I305),IF(EFECTOS!$N$9=\"EL SALVADOR\",LOOKUP(2,GEfectos!$C$4:$I$4,GEfectos!C305:I305),IF(EFECTOS!$N$9=\"GUATEMALA\",LOOKUP(3,GEfectos!$C$4:$I$4,GEfectos!C305:I305),IF(EFECTOS!$N$9=\"HONDURAS\",LOOKUP(4,GEfectos!$C$4:$I$4,GEfectos!C305:I305),IF(EFECTOS!$N$9=\"NICARAGUA\",LOOKUP(5,GEfectos!$C$4:$I$4,GEfectos!C305:I305),IF(EFECTOS!$N$9=\"REPÚBLICA \nDOMINICANA\",LOOKUP(6,$C$4:$I$4,C305:I305),IF(EFECTOS!$N$9=\"PANAMÁ\",LOOKUP(7,GEfectos!$C$4:$I$4,GEfectos!C305:I305))))))))","v":135.46876326805005},{"$f":"IF(EFECTOS!$N$9=\"COSTA RICA\",LOOKUP(1,GEfectos!$J$4:$P$4,GEfectos!J305:P305),IF(EFECTOS!$N$9=\"EL SALVADOR\",LOOKUP(2,GEfectos!$J$4:$P$4,GEfectos!J305:P305),IF(EFECTOS!$N$9=\"GUATEMALA\",LOOKUP(3,GEfectos!$J$4:$P$4,GEfectos!J305:P305),IF(EFECTOS!$N$9=\"HONDURAS\",LOOKUP(4,GEfectos!$J$4:$P$4,GEfectos!J305:P305),IF(EFECTOS!$N$9=\"NICARAGUA\",LOOKUP(5,GEfectos!$J$4:$P$4,GEfectos!J305:P305),IF(EFECTOS!$N$9=\"REPÚBLICA \nDOMINICANA\",LOOKUP(6,$J$4:$P$4,J305:P305),IF(EFECTOS!$N$9=\"PANAMÁ\",LOOKUP(7,GEfectos!$J$4:$P$4,GEfectos!J305:P305))))))))","v":300.69335938769581},{"$f":"IF(EFECTOS!$N$9=\"COSTA RICA\",LOOKUP(1,GEfectos!$Q$4:$W$4,GEfectos!Q305:W305),IF(EFECTOS!$N$9=\"EL SALVADOR\",LOOKUP(2,GEfectos!$Q$4:$W$4,GEfectos!Q305:W305),IF(EFECTOS!$N$9=\"GUATEMALA\",LOOKUP(3,GEfectos!$Q$4:$W$4,GEfectos!Q305:W305),IF(EFECTOS!$N$9=\"HONDURAS\",LOOKUP(4,GEfectos!$Q$4:$W$4,GEfectos!Q305:W305),IF(EFECTOS!$N$9=\"NICARAGUA\",LOOKUP(5,GEfectos!$Q$4:$W$4,GEfectos!Q305:W305),IF(EFECTOS!$N$9=\"REPÚBLICA \nDOMINICANA\",LOOKUP(6,$Q$4:$W$4,Q305:W305),IF(EFECTOS!$N$9=\"PANAMÁ\",LOOKUP(7,GEfectos!$Q$4:$W$4,GEfectos!Q305:W305))))))))","v":221.96508784295781},100]
[2020,{"$f":"'ITCER GLOBAL'!B306","v":"Enero"},{"$f":"'ITCER GLOBAL'!C306","v":82.185379088738486},{"$f":"'ITCER GLOBAL'!D306","v":110.99984365381486},{"$f":"'ITCER GLOBAL'!E306","v":54.724570517405617},{"$f":"'ITCER GLOBAL'!F306","v":83.777751263728973},{"$f":"'ITCER GLOBAL'!G306","v":114.35736775553688},{"$f":"'ITCER GLOBAL'!H306","v":131.50000891411585},{"$f":"'ITCER GLOBAL'!I306","v":87.149509240021246},{"$f":"'ITCER GLOBAL'!S306","v":170.04843011260405},{"$f":"'ITCER GLOBAL'!T306","v":86.625134942643697},{"$f":"'ITCER GLOBAL'!U306","v":87.295577573104779},{"$f":"'ITCER GLOBAL'!V306","v":152.4709253609474},{"$f":"'ITCER GLOBAL'!W306","v":230.27505883346549},{"$f":"'ITCER GLOBAL'!X306","v":306.29310022698115},{"$f":"'ITCER GLOBAL'!Y306","v":95.343559167624036},{"$f":"'ITCER GLOBAL'!AA306","v":206.90837226533526},{"$f":"'ITCER GLOBAL'!AB306","v":78.040772032805066},{"$f":"'ITCER GLOBAL'!AC306","v":159.51806793136853},{"$f":"'ITCER GLOBAL'!AD306","v":181.99453084026459},{"$f":"'ITCER GLOBAL'!AE306","v":201.36442745492991},{"$f":"'ITCER GLOBAL'!AF306","v":232.92249388897349},{"$f":"'ITCER GLOBAL'!AG306","v":109.40229038471725},null,{"$f":"IF(EFECTOS!$N$9=\"COSTA RICA\",LOOKUP(1,GEfectos!$C$4:$I$4,GEfectos!C306:I306),IF(EFECTOS!$N$9=\"EL SALVADOR\",LOOKUP(2,GEfectos!$C$4:$I$4,GEfectos!C306:I306),IF(EFECTOS!$N$9=\"GUATEMALA\",LOOKUP(3,GEfectos!$C$4:$I$4,GEfectos!C306:I306),IF(EFECTOS!$N$9=\"HONDURAS\",LOOKUP(4,GEfectos!$C$4:$I$4,GEfectos!C306:I306),IF(EFECTOS!$N$9=\"NICARAGUA\",LOOKUP(5,GEfectos!$C$4:$I$4,GEfectos!C306:I306),IF(EFECTOS!$N$9=\"REPÚBLICA \nDOMINICANA\",LOOKUP(6,$C$4:$I$4,C306:I306),IF(EFECTOS!$N$9=\"PANAMÁ\",LOOKUP(7,GEfectos!$C$4:$I$4,GEfectos!C306:I306))))))))","v":131.50000891411585},{"$f":"IF(EFECTOS!$N$9=\"COSTA RICA\",LOOKUP(1,GEfectos!$J$4:$P$4,GEfectos!J306:P306),IF(EFECTOS!$N$9=\"EL SALVADOR\",LOOKUP(2,GEfectos!$J$4:$P$4,GEfectos!J306:P306),IF(EFECTOS!$N$9=\"GUATEMALA\",LOOKUP(3,GEfectos!$J$4:$P$4,GEfectos!J306:P306),IF(EFECTOS!$N$9=\"HONDURAS\",LOOKUP(4,GEfectos!$J$4:$P$4,GEfectos!J306:P306),IF(EFECTOS!$N$9=\"NICARAGUA\",LOOKUP(5,GEfectos!$J$4:$P$4,GEfectos!J306:P306),IF(EFECTOS!$N$9=\"REPÚBLICA \nDOMINICANA\",LOOKUP(6,$J$4:$P$4,J306:P306),IF(EFECTOS!$N$9=\"PANAMÁ\",LOOKUP(7,GEfectos!$J$4:$P$4,GEfectos!J306:P306))))))))","v":306.29310022698115},{"$f":"IF(EFECTOS!$N$9=\"COSTA RICA\",LOOKUP(1,GEfectos!$Q$4:$W$4,GEfectos!Q306:W306),IF(EFECTOS!$N$9=\"EL SALVADOR\",LOOKUP(2,GEfectos!$Q$4:$W$4,GEfectos!Q306:W306),IF(EFECTOS!$N$9=\"GUATEMALA\",LOOKUP(3,GEfectos!$Q$4:$W$4,GEfectos!Q306:W306),IF(EFECTOS!$N$9=\"HONDURAS\",LOOKUP(4,GEfectos!$Q$4:$W$4,GEfectos!Q306:W306),IF(EFECTOS!$N$9=\"NICARAGUA\",LOOKUP(5,GEfectos!$Q$4:$W$4,GEfectos!Q306:W306),IF(EFECTOS!$N$9=\"REPÚBLICA \nDOMINICANA\",LOOKUP(6,$Q$4:$W$4,Q306:W306),IF(EFECTOS!$N$9=\"PANAMÁ\",LOOKUP(7,GEfectos!$Q$4:$W$4,GEfectos!Q306:W306))))))))","v":232.92249388897349},100]
[null,{"$f":"'ITCER GLOBAL'!B307","v":"Febrero"},{"$f":"'ITCER GLOBAL'!C307","v":81.89442919794331},{"$f":"'ITCER GLOBAL'!D307","v":111.09400836346168},{"$f":"'ITCER GLOBAL'!E307","v":54.540739487065096},{"$f":"'ITCER GLOBAL'!F307","v":83.293410104980254},{"$f":"'ITCER GLOBAL'!G307","v":114.36710086594996},{"$f":"'ITCER GLOBAL'!H307","v":131.92969710456393},{"$f":"'ITCER GLOBAL'!I307","v":87.068143751462529},{"$f":"'ITCER GLOBAL'!S307","v":169.47185797020865},{"$f":"'ITCER GLOBAL'!T307","v":86.34799186239664},{"$f":"'ITCER GLOBAL'!U307","v":86.398719841743983},{"$f":"'ITCER GLOBAL'!V307","v":151.91788378603522},{"$f":"'ITCER GLOBAL'!W307","v":230.25223786190278},{"$f":"'ITCER GLOBAL'!X307","v":305.79851001899686},{"$f":"'ITCER GLOBAL'!Y307","v":94.784807464765436},{"$f":"'ITCER GLOBAL'!AA307","v":206.93942143559721},{"$f":"'ITCER GLOBAL'!AB307","v":77.725156499795631},{"$f":"'ITCER GLOBAL'!AC307","v":158.41134655358741},{"$f":"'ITCER GLOBAL'!AD307","v":182.38883915853961},{"$f":"'ITCER GLOBAL'!AE307","v":201.32733637427967},{"$f":"'ITCER GLOBAL'!AF307","v":231.78898817347329},{"$f":"'ITCER GLOBAL'!AG307","v":108.8627865265283},null,{"$f":"IF(EFECTOS!$N$9=\"COSTA RICA\",LOOKUP(1,GEfectos!$C$4:$I$4,GEfectos!C307:I307),IF(EFECTOS!$N$9=\"EL SALVADOR\",LOOKUP(2,GEfectos!$C$4:$I$4,GEfectos!C307:I307),IF(EFECTOS!$N$9=\"GUATEMALA\",LOOKUP(3,GEfectos!$C$4:$I$4,GEfectos!C307:I307),IF(EFECTOS!$N$9=\"HONDURAS\",LOOKUP(4,GEfectos!$C$4:$I$4,GEfectos!C307:I307),IF(EFECTOS!$N$9=\"NICARAGUA\",LOOKUP(5,GEfectos!$C$4:$I$4,GEfectos!C307:I307),IF(EFECTOS!$N$9=\"REPÚBLICA \nDOMINICANA\",LOOKUP(6,$C$4:$I$4,C307:I307),IF(EFECTOS!$N$9=\"PANAMÁ\",LOOKUP(7,GEfectos!$C$4:$I$4,GEfectos!C307:I307))))))))","v":131.92969710456393},{"$f":"IF(EFECTOS!$N$9=\"COSTA RICA\",LOOKUP(1,GEfectos!$J$4:$P$4,GEfectos!J307:P307),IF(EFECTOS!$N$9=\"EL SALVADOR\",LOOKUP(2,GEfectos!$J$4:$P$4,GEfectos!J307:P307),IF(EFECTOS!$N$9=\"GUATEMALA\",LOOKUP(3,GEfectos!$J$4:$P$4,GEfectos!J307:P307),IF(EFECTOS!$N$9=\"HONDURAS\",LOOKUP(4,GEfectos!$J$4:$P$4,GEfectos!J307:P307),IF(EFECTOS!$N$9=\"NICARAGUA\",LOOKUP(5,GEfectos!$J$4:$P$4,GEfectos!J307:P307),IF(EFECTOS!$N$9=\"REPÚBLICA \nDOMINICANA\",LOOKUP(6,$J$4:$P$4,J307:P307),IF(EFECTOS!$N$9=\"PANAMÁ\",LOOKUP(7,GEfectos!$J$4:$P$4,GEfectos!J307:P307))))))))","v":305.79851001899686},{"$f":"IF(EFECTOS!$N$9=\"COSTA RICA\",LOOKUP(1,GEfectos!$Q$4:$W$4,GEfectos!Q307:W307),IF(EFECTOS!$N$9=\"EL SALVADOR\",LOOKUP(2,GEfectos!$Q$4:$W$4,GEfectos!Q307:W307),IF(EFECTOS!$N$9=\"GUATEMALA\",LOOKUP(3,GEfectos!$Q$4:$W$4,GEfectos!Q307:W307),IF(EFECTOS!$N$9=\"HONDURAS\",LOOKUP(4,GEfectos!$Q$4:$W$4,GEfectos!Q307:W307),IF(EFECTOS!$N$9=\"NICARAGUA\",LOOKUP(5,GEfectos!$Q$4:$W$4,GEfectos!Q307:W307),IF(EFECTOS!$N$9=\"REPÚBLICA \nDOMINICANA\",LOOKUP(6,$Q$4:$W$4,Q307:W307),IF(EFECTOS!$N$9=\"PANAMÁ\",LOOKUP(7,GEfectos!$Q$4:$W$4,GEfectos!Q307:W307))))))))","v":231.78898817347329},100]
[null,{"$f":"'ITCER GLOBAL'!B308","v":"Marzo"},{"$f":"'ITCER GLOBAL'!C308","v":80.793692384624009},{"$f":"'ITCER GLOBAL'!D308","v":109.23229188803721},{"$f":"'ITCER GLOBAL'!E308","v":53.391282274939911},{"$f":"'ITCER GLOBAL'!F308","v":81.924705715502867},{"$f":"'ITCER GLOBAL'!G308","v":112.45673428908657},{"$f":"'ITCER GLOBAL'!H308","v":131.81700458364193},{"$f":"'ITCER GLOBAL'!I308","v":86.155824719833333},{"$f":"'ITCER GLOBAL'!S308","v":167.39560315596668},{"$f":"'ITCER GLOBAL'!T308","v":85.072091452584786},{"$f":"'ITCER GLOBAL'!U308","v":85.12547273960476},{"$f":"'ITCER GLOBAL'!V308","v":150.09202121096814},{"$f":"'ITCER GLOBAL'!W308","v":226.52991630256284},{"$f":"'ITCER GLOBAL'!X308","v":304.45667384504401},{"$f":"'ITCER GLOBAL'!Y308","v":93.468571110014466},{"$f":"'ITCER GLOBAL'!AA308","v":207.18895029461984},{"$f":"'ITCER GLOBAL'!AB308","v":77.881814967119283},{"$f":"'ITCER GLOBAL'!AC308","v":159.43702625692475},{"$f":"'ITCER GLOBAL'!AD308","v":183.20727538794904},{"$f":"'ITCER GLOBAL'!AE308","v":201.43739522102285},{"$f":"'ITCER GLOBAL'!AF308","v":230.9691946093775},{"$f":"'ITCER GLOBAL'!AG308","v":108.48781427600649},null,{"$f":"IF(EFECTOS!$N$9=\"COSTA RICA\",LOOKUP(1,GEfectos!$C$4:$I$4,GEfectos!C308:I308),IF(EFECTOS!$N$9=\"EL SALVADOR\",LOOKUP(2,GEfectos!$C$4:$I$4,GEfectos!C308:I308),IF(EFECTOS!$N$9=\"GUATEMALA\",LOOKUP(3,GEfectos!$C$4:$I$4,GEfectos!C308:I308),IF(EFECTOS!$N$9=\"HONDURAS\",LOOKUP(4,GEfectos!$C$4:$I$4,GEfectos!C308:I308),IF(EFECTOS!$N$9=\"NICARAGUA\",LOOKUP(5,GEfectos!$C$4:$I$4,GEfectos!C308:I308),IF(EFECTOS!$N$9=\"REPÚBLICA \nDOMINICANA\",LOOKUP(6,$C$4:$I$4,C308:I308),IF(EFECTOS!$N$9=\"PANAMÁ\",LOOKUP(7,GEfectos!$C$4:$I$4,GEfectos!C308:I308))))))))","v":131.81700458364193},{"$f":"IF(EFECTOS!$N$9=\"COSTA RICA\",LOOKUP(1,GEfectos!$J$4:$P$4,GEfectos!J308:P308),IF(EFECTOS!$N$9=\"EL SALVADOR\",LOOKUP(2,GEfectos!$J$4:$P$4,GEfectos!J308:P308),IF(EFECTOS!$N$9=\"GUATEMALA\",LOOKUP(3,GEfectos!$J$4:$P$4,GEfectos!J308:P308),IF(EFECTOS!$N$9=\"HONDURAS\",LOOKUP(4,GEfectos!$J$4:$P$4,GEfectos!J308:P308),IF(EFECTOS!$N$9=\"NICARAGUA\",LOOKUP(5,GEfectos!$J$4:$P$4,GEfectos!J308:P308),IF(EFECTOS!$N$9=\"REPÚBLICA \nDOMINICANA\",LOOKUP(6,$J$4:$P$4,J308:P308),IF(EFECTOS!$N$9=\"PANAMÁ\",LOOKUP(7,GEfectos!$J$4:$P$4,GEfectos!J308:P308))))))))","v":304.45667384504401},{"$f":"IF(EFECTOS!$N$9=\"COSTA RICA\",LOOKUP(1,GEfectos!$Q$4:$W$4,GEfectos!Q308:W308),IF(EFECTOS!$N$9=\"EL SALVADOR\",LOOKUP(2,GEfectos!$Q$4:$W$4,GEfectos!Q308:W308),IF(EFECTOS!$N$9=\"GUATEMALA\",LOOKUP(3,GEfectos!$Q$4:$W$4,GEfectos!Q308:W308),IF(EFECTOS!$N$9=\"HONDURAS\",LOOKUP(4,GEfectos!$Q$4:$W$4,GEfectos!Q308:W308),IF(EFECTOS!$N$9=\"NICARAGUA\",LOOKUP(5,GEfectos!$Q$4:$W$4,GEfectos!Q308:W308),IF(EFECTOS!$N$9=\"REPÚBLICA \nDOMINICANA\",LOOKUP(6,$Q$4:$W$4,Q308:W308),IF(EFECTOS!$N$9=\"PANAMÁ\",LOOKUP(7,GEfectos!$Q$4:$W$4,GEfectos!Q308:W308))))))))","v":230.9691946093775},100]
[null,{"$f":"'ITCER GLOBAL'!B309","v":"Abril"},{"$f":"'ITCER GLOBAL'!C309","v":79.618258541271274},{"$f":"'ITCER GLOBAL'!D309","v":108.13410954665592},{"$f":"'ITCER GLOBAL'!E309","v":52.180486649593448},{"$f":"'ITCER GLOBAL'!F309","v":80.64464446321584},{"$f":"'ITCER GLOBAL'!G309","v":111.03468786834571},{"$f":"'ITCER GLOBAL'!H309","v":132.14274697210433},{"$f":"'ITCER GLOBAL'!I309","v":86.050989486231799},{"$f":"'ITCER GLOBAL'!S309","v":165.02652520413639},{"$f":"'ITCER GLOBAL'!T309","v":84.2254916111836},{"$f":"'ITCER GLOBAL'!U309","v":84.257701804757886},{"$f":"'ITCER GLOBAL'!V309","v":149.05497656871466},{"$f":"'ITCER GLOBAL'!W309","v":224.40586469649003},{"$f":"'ITCER GLOBAL'!X309","v":304.11719076635563},{"$f":"'ITCER GLOBAL'!Y309","v":92.488965688835549},{"$f":"'ITCER GLOBAL'!AA309","v":207.2722114596271},{"$f":"'ITCER GLOBAL'!AB309","v":77.889846195888239},{"$f":"'ITCER GLOBAL'!AC309","v":161.47358373748392},{"$f":"'ITCER GLOBAL'!AD309","v":184.82935545298682},{"$f":"'ITCER GLOBAL'!AE309","v":202.10428741202838},{"$f":"'ITCER GLOBAL'!AF309","v":230.14293083414978},{"$f":"'ITCER GLOBAL'!AG309","v":107.48158300217318},null,{"$f":"IF(EFECTOS!$N$9=\"COSTA RICA\",LOOKUP(1,GEfectos!$C$4:$I$4,GEfectos!C309:I309),IF(EFECTOS!$N$9=\"EL SALVADOR\",LOOKUP(2,GEfectos!$C$4:$I$4,GEfectos!C309:I309),IF(EFECTOS!$N$9=\"GUATEMALA\",LOOKUP(3,GEfectos!$C$4:$I$4,GEfectos!C309:I309),IF(EFECTOS!$N$9=\"HONDURAS\",LOOKUP(4,GEfectos!$C$4:$I$4,GEfectos!C309:I309),IF(EFECTOS!$N$9=\"NICARAGUA\",LOOKUP(5,GEfectos!$C$4:$I$4,GEfectos!C309:I309),IF(EFECTOS!$N$9=\"REPÚBLICA \nDOMINICANA\",LOOKUP(6,$C$4:$I$4,C309:I309),IF(EFECTOS!$N$9=\"PANAMÁ\",LOOKUP(7,GEfectos!$C$4:$I$4,GEfectos!C309:I309))))))))","v":132.14274697210433},{"$f":"IF(EFECTOS!$N$9=\"COSTA RICA\",LOOKUP(1,GEfectos!$J$4:$P$4,GEfectos!J309:P309),IF(EFECTOS!$N$9=\"EL SALVADOR\",LOOKUP(2,GEfectos!$J$4:$P$4,GEfectos!J309:P309),IF(EFECTOS!$N$9=\"GUATEMALA\",LOOKUP(3,GEfectos!$J$4:$P$4,GEfectos!J309:P309),IF(EFECTOS!$N$9=\"HONDURAS\",LOOKUP(4,GEfectos!$J$4:$P$4,GEfectos!J309:P309),IF(EFECTOS!$N$9=\"NICARAGUA\",LOOKUP(5,GEfectos!$J$4:$P$4,GEfectos!J309:P309),IF(EFECTOS!$N$9=\"REPÚBLICA \nDOMINICANA\",LOOKUP(6,$J$4:$P$4,J309:P309),IF(EFECTOS!$N$9=\"PANAMÁ\",LOOKUP(7,GEfectos!$J$4:$P$4,GEfectos!J309:P309))))))))","v":304.11719076635563},{"$f":"IF(EFECTOS!$N$9=\"COSTA RICA\",LOOKUP(1,GEfectos!$Q$4:$W$4,GEfectos!Q309:W309),IF(EFECTOS!$N$9=\"EL SALVADOR\",LOOKUP(2,GEfectos!$Q$4:$W$4,GEfectos!Q309:W309),IF(EFECTOS!$N$9=\"GUATEMALA\",LOOKUP(3,GEfectos!$Q$4:$W$4,GEfectos!Q309:W309),IF(EFECTOS!$N$9=\"HONDURAS\",LOOKUP(4,GEfectos!$Q$4:$W$4,GEfectos!Q309:W309),IF(EFECTOS!$N$9=\"NICARAGUA\",LOOKUP(5,GEfectos!$Q$4:$W$4,GEfectos!Q309:W309),IF(EFECTOS!$N$9=\"REPÚBLICA \nDOMINICANA\",LOOKUP(6,$Q$4:$W$4,Q309:W309),IF(EFECTOS!$N$9=\"PANAMÁ\",LOOKUP(7,GEfectos!$Q$4:$W$4,GEfectos!Q309:W309))))))))","v":230.14293083414978},100]
[null,{"$f":"'ITCER GLOBAL'!B310","v":"Mayo"},{"$f":"'ITCER GLOBAL'!C310","v":79.89952799259072},{"$f":"'ITCER GLOBAL'!D310","v":107.89652176298542},{"$f":"'ITCER GLOBAL'!E310","v":52.100241186871507},{"$f":"'ITCER GLOBAL'!F310","v":81.327398238479844},{"$f":"'ITCER GLOBAL'!G310","v":111.15324769076577},{"$f":"'ITCER GLOBAL'!H310","v":134.86517967150374},{"$f":"'ITCER GLOBAL'!I310","v":86.102933410367129},{"$f":"'ITCER GLOBAL'!S310","v":165.50036932500066},{"$f":"'ITCER GLOBAL'!T310","v":84.324886240195141},{"$f":"'ITCER GLOBAL'!U310","v":84.341803801644758},{"$f":"'ITCER GLOBAL'!V310","v":149.42952117973687},{"$f":"'ITCER GLOBAL'!W310","v":225.87923899728014},{"$f":"'ITCER GLOBAL'!X310","v":310.17186923979983},{"$f":"'ITCER GLOBAL'!Y310","v":92.623124909066036},{"$f":"'ITCER GLOBAL'!AA310","v":207.13560327959377},{"$f":"'ITCER GLOBAL'!AB310","v":78.153479706630662},{"$f":"'ITCER GLOBAL'!AC310","v":161.8837108625471},{"$f":"'ITCER GLOBAL'!AD310","v":183.73822895644372},{"$f":"'ITCER GLOBAL'!AE310","v":203.21425031654331},{"$f":"'ITCER GLOBAL'!AF310","v":229.98662070913878},{"$f":"'ITCER GLOBAL'!AG310","v":107.57255443043228},null,{"$f":"IF(EFECTOS!$N$9=\"COSTA RICA\",LOOKUP(1,GEfectos!$C$4:$I$4,GEfectos!C310:I310),IF(EFECTOS!$N$9=\"EL SALVADOR\",LOOKUP(2,GEfectos!$C$4:$I$4,GEfectos!C310:I310),IF(EFECTOS!$N$9=\"GUATEMALA\",LOOKUP(3,GEfectos!$C$4:$I$4,GEfectos!C310:I310),IF(EFECTOS!$N$9=\"HONDURAS\",LOOKUP(4,GEfectos!$C$4:$I$4,GEfectos!C310:I310),IF(EFECTOS!$N$9=\"NICARAGUA\",LOOKUP(5,GEfectos!$C$4:$I$4,GEfectos!C310:I310),IF(EFECTOS!$N$9=\"REPÚBLICA \nDOMINICANA\",LOOKUP(6,$C$4:$I$4,C310:I310),IF(EFECTOS!$N$9=\"PANAMÁ\",LOOKUP(7,GEfectos!$C$4:$I$4,GEfectos!C310:I310))))))))","v":134.86517967150374},{"$f":"IF(EFECTOS!$N$9=\"COSTA RICA\",LOOKUP(1,GEfectos!$J$4:$P$4,GEfectos!J310:P310),IF(EFECTOS!$N$9=\"EL SALVADOR\",LOOKUP(2,GEfectos!$J$4:$P$4,GEfectos!J310:P310),IF(EFECTOS!$N$9=\"GUATEMALA\",LOOKUP(3,GEfectos!$J$4:$P$4,GEfectos!J310:P310),IF(EFECTOS!$N$9=\"HONDURAS\",LOOKUP(4,GEfectos!$J$4:$P$4,GEfectos!J310:P310),IF(EFECTOS!$N$9=\"NICARAGUA\",LOOKUP(5,GEfectos!$J$4:$P$4,GEfectos!J310:P310),IF(EFECTOS!$N$9=\"REPÚBLICA \nDOMINICANA\",LOOKUP(6,$J$4:$P$4,J310:P310),IF(EFECTOS!$N$9=\"PANAMÁ\",LOOKUP(7,GEfectos!$J$4:$P$4,GEfectos!J310:P310))))))))","v":310.17186923979983},{"$f":"IF(EFECTOS!$N$9=\"COSTA RICA\",LOOKUP(1,GEfectos!$Q$4:$W$4,GEfectos!Q310:W310),IF(EFECTOS!$N$9=\"EL SALVADOR\",LOOKUP(2,GEfectos!$Q$4:$W$4,GEfectos!Q310:W310),IF(EFECTOS!$N$9=\"GUATEMALA\",LOOKUP(3,GEfectos!$Q$4:$W$4,GEfectos!Q310:W310),IF(EFECTOS!$N$9=\"HONDURAS\",LOOKUP(4,GEfectos!$Q$4:$W$4,GEfectos!Q310:W310),IF(EFECTOS!$N$9=\"NICARAGUA\",LOOKUP(5,GEfectos!$Q$4:$W$4,GEfectos!Q310:W310),IF(EFECTOS!$N$9=\"REPÚBLICA \nDOMINICANA\",LOOKUP(6,$Q$4:$W$4,Q310:W310),IF(EFECTOS!$N$9=\"PANAMÁ\",LOOKUP(7,GEfectos!$Q$4:$W$4,GEfectos!Q310:W310))))))))","v":229.98662070913878},100]
[null,{"$f":"'ITCER GLOBAL'!B311","v":"Junio"},{"$f":"'ITCER GLOBAL'!C311","v":82.084782791579187},{"$f":"'ITCER GLOBAL'!D311","v":108.57708128271544},{"$f":"'ITCER GLOBAL'!E311","v":52.097701980364008},{"$f":"'ITCER GLOBAL'!F311","v":81.855566552726643},{"$f":"'ITCER GLOBAL'!G311","v":112.26182596280914},{"$f":"'ITCER GLOBAL'!H311","v":140.37251623846208},{"$f":"'ITCER GLOBAL'!I311","v":86.716266274037764},{"$f":"'ITCER GLOBAL'!S311","v":169.19760022377207},{"$f":"'ITCER GLOBAL'!T311","v":84.865535688702479},{"$f":"'ITCER GLOBAL'!U311","v":85.155777016745134},{"$f":"'ITCER GLOBAL'!V311","v":150.3307116112972},{"$f":"'ITCER GLOBAL'!W311","v":228.74630782832827},{"$f":"'ITCER GLOBAL'!X311","v":326.81772843068597},{"$f":"'ITCER GLOBAL'!Y311","v":93.513165732496546},{"$f":"'ITCER GLOBAL'!AA311","v":206.12541627037055},{"$f":"'ITCER GLOBAL'!AB311","v":78.161555538343947},{"$f":"'ITCER GLOBAL'!AC311","v":163.45399850619313},{"$f":"'ITCER GLOBAL'!AD311","v":183.65362056893565},{"$f":"'ITCER GLOBAL'!AE311","v":203.76143525770627},{"$f":"'ITCER GLOBAL'!AF311","v":232.82173547099089},{"$f":"'ITCER GLOBAL'!AG311","v":107.83809053422509},null,{"$f":"IF(EFECTOS!$N$9=\"COSTA RICA\",LOOKUP(1,GEfectos!$C$4:$I$4,GEfectos!C311:I311),IF(EFECTOS!$N$9=\"EL SALVADOR\",LOOKUP(2,GEfectos!$C$4:$I$4,GEfectos!C311:I311),IF(EFECTOS!$N$9=\"GUATEMALA\",LOOKUP(3,GEfectos!$C$4:$I$4,GEfectos!C311:I311),IF(EFECTOS!$N$9=\"HONDURAS\",LOOKUP(4,GEfectos!$C$4:$I$4,GEfectos!C311:I311),IF(EFECTOS!$N$9=\"NICARAGUA\",LOOKUP(5,GEfectos!$C$4:$I$4,GEfectos!C311:I311),IF(EFECTOS!$N$9=\"REPÚBLICA \nDOMINICANA\",LOOKUP(6,$C$4:$I$4,C311:I311),IF(EFECTOS!$N$9=\"PANAMÁ\",LOOKUP(7,GEfectos!$C$4:$I$4,GEfectos!C311:I311))))))))","v":140.37251623846208},{"$f":"IF(EFECTOS!$N$9=\"COSTA RICA\",LOOKUP(1,GEfectos!$J$4:$P$4,GEfectos!J311:P311),IF(EFECTOS!$N$9=\"EL SALVADOR\",LOOKUP(2,GEfectos!$J$4:$P$4,GEfectos!J311:P311),IF(EFECTOS!$N$9=\"GUATEMALA\",LOOKUP(3,GEfectos!$J$4:$P$4,GEfectos!J311:P311),IF(EFECTOS!$N$9=\"HONDURAS\",LOOKUP(4,GEfectos!$J$4:$P$4,GEfectos!J311:P311),IF(EFECTOS!$N$9=\"NICARAGUA\",LOOKUP(5,GEfectos!$J$4:$P$4,GEfectos!J311:P311),IF(EFECTOS!$N$9=\"REPÚBLICA \nDOMINICANA\",LOOKUP(6,$J$4:$P$4,J311:P311),IF(EFECTOS!$N$9=\"PANAMÁ\",LOOKUP(7,GEfectos!$J$4:$P$4,GEfectos!J311:P311))))))))","v":326.81772843068597},{"$f":"IF(EFECTOS!$N$9=\"COSTA RICA\",LOOKUP(1,GEfectos!$Q$4:$W$4,GEfectos!Q311:W311),IF(EFECTOS!$N$9=\"EL SALVADOR\",LOOKUP(2,GEfectos!$Q$4:$W$4,GEfectos!Q311:W311),IF(EFECTOS!$N$9=\"GUATEMALA\",LOOKUP(3,GEfectos!$Q$4:$W$4,GEfectos!Q311:W311),IF(EFECTOS!$N$9=\"HONDURAS\",LOOKUP(4,GEfectos!$Q$4:$W$4,GEfectos!Q311:W311),IF(EFECTOS!$N$9=\"NICARAGUA\",LOOKUP(5,GEfectos!$Q$4:$W$4,GEfectos!Q311:W311),IF(EFECTOS!$N$9=\"REPÚBLICA \nDOMINICANA\",LOOKUP(6,$Q$4:$W$4,Q311:W311),IF(EFECTOS!$N$9=\"PANAMÁ\",LOOKUP(7,GEfectos!$Q$4:$W$4,GEfectos!Q311:W311))))))))","v":232.82173547099089},100]
[null,{"$f":"'ITCER GLOBAL'!B312","v":"Julio"},{"$f":"'ITCER GLOBAL'!C312","v":83.118736072599447},{"$f":"'ITCER GLOBAL'!D312","v":109.38149370128268},{"$f":"'ITCER GLOBAL'!E312","v":52.144051955569473},{"$f":"'ITCER GLOBAL'!F312","v":81.440537279081013},{"$f":"'ITCER GLOBAL'!G312","v":113.26114873937104},{"$f":"'ITCER GLOBAL'!H312","v":139.52929227742948},{"$f":"'ITCER GLOBAL'!I312","v":87.526703147093585},{"$f":"'ITCER GLOBAL'!S312","v":171.19733046926387},{"$f":"'ITCER GLOBAL'!T312","v":85.025605736915438},{"$f":"'ITCER GLOBAL'!U312","v":85.291548412383349},{"$f":"'ITCER GLOBAL'!V312","v":150.11495056199786},{"$f":"'ITCER GLOBAL'!W312","v":230.20837117436352},{"$f":"'ITCER GLOBAL'!X312","v":329.62059354942454},{"$f":"'ITCER GLOBAL'!Y312","v":93.789074629527192},{"$f":"'ITCER GLOBAL'!AA312","v":205.96719651720022},{"$f":"'ITCER GLOBAL'!AB312","v":77.733081584273862},{"$f":"'ITCER GLOBAL'!AC312","v":163.56908451429504},{"$f":"'ITCER GLOBAL'!AD312","v":184.32460734828268},{"$f":"'ITCER GLOBAL'!AE312","v":203.25449082642061},{"$f":"'ITCER GLOBAL'!AF312","v":236.23755855797782},{"$f":"'ITCER GLOBAL'!AG312","v":107.15481248266524},null,{"$f":"IF(EFECTOS!$N$9=\"COSTA RICA\",LOOKUP(1,GEfectos!$C$4:$I$4,GEfectos!C312:I312),IF(EFECTOS!$N$9=\"EL SALVADOR\",LOOKUP(2,GEfectos!$C$4:$I$4,GEfectos!C312:I312),IF(EFECTOS!$N$9=\"GUATEMALA\",LOOKUP(3,GEfectos!$C$4:$I$4,GEfectos!C312:I312),IF(EFECTOS!$N$9=\"HONDURAS\",LOOKUP(4,GEfectos!$C$4:$I$4,GEfectos!C312:I312),IF(EFECTOS!$N$9=\"NICARAGUA\",LOOKUP(5,GEfectos!$C$4:$I$4,GEfectos!C312:I312),IF(EFECTOS!$N$9=\"REPÚBLICA \nDOMINICANA\",LOOKUP(6,$C$4:$I$4,C312:I312),IF(EFECTOS!$N$9=\"PANAMÁ\",LOOKUP(7,GEfectos!$C$4:$I$4,GEfectos!C312:I312))))))))","v":139.52929227742948},{"$f":"IF(EFECTOS!$N$9=\"COSTA RICA\",LOOKUP(1,GEfectos!$J$4:$P$4,GEfectos!J312:P312),IF(EFECTOS!$N$9=\"EL SALVADOR\",LOOKUP(2,GEfectos!$J$4:$P$4,GEfectos!J312:P312),IF(EFECTOS!$N$9=\"GUATEMALA\",LOOKUP(3,GEfectos!$J$4:$P$4,GEfectos!J312:P312),IF(EFECTOS!$N$9=\"HONDURAS\",LOOKUP(4,GEfectos!$J$4:$P$4,GEfectos!J312:P312),IF(EFECTOS!$N$9=\"NICARAGUA\",LOOKUP(5,GEfectos!$J$4:$P$4,GEfectos!J312:P312),IF(EFECTOS!$N$9=\"REPÚBLICA \nDOMINICANA\",LOOKUP(6,$J$4:$P$4,J312:P312),IF(EFECTOS!$N$9=\"PANAMÁ\",LOOKUP(7,GEfectos!$J$4:$P$4,GEfectos!J312:P312))))))))","v":329.62059354942454},{"$f":"IF(EFECTOS!$N$9=\"COSTA RICA\",LOOKUP(1,GEfectos!$Q$4:$W$4,GEfectos!Q312:W312),IF(EFECTOS!$N$9=\"EL SALVADOR\",LOOKUP(2,GEfectos!$Q$4:$W$4,GEfectos!Q312:W312),IF(EFECTOS!$N$9=\"GUATEMALA\",LOOKUP(3,GEfectos!$Q$4:$W$4,GEfectos!Q312:W312),IF(EFECTOS!$N$9=\"HONDURAS\",LOOKUP(4,GEfectos!$Q$4:$W$4,GEfectos!Q312:W312),IF(EFECTOS!$N$9=\"NICARAGUA\",LOOKUP(5,GEfectos!$Q$4:$W$4,GEfectos!Q312:W312),IF(EFECTOS!$N$9=\"REPÚBLICA \nDOMINICANA\",LOOKUP(6,$Q$4:$W$4,Q312:W312),IF(EFECTOS!$N$9=\"PANAMÁ\",LOOKUP(7,GEfectos!$Q$4:$W$4,GEfectos!Q312:W312))))))))","v":236.23755855797782},100]
[null,{"$f":"'ITCER GLOBAL'!B313","v":"Agosto"},{"$f":"'ITCER GLOBAL'!C313","v":85.29056195218439},{"$f":"'ITCER GLOBAL'!D313","v":110.69319118879685},{"$f":"'ITCER GLOBAL'!E313","v":52.269249959434923},{"$f":"'ITCER GLOBAL'!F313","v":81.340145249651925},{"$f":"'ITCER GLOBAL'!G313","v":114.89354808427427},{"$f":"'ITCER GLOBAL'!H313","v":139.61038958629334},{"$f":"'ITCER GLOBAL'!I313","v":88.000246268183929},{"$f":"'ITCER GLOBAL'!S313","v":175.39041550833718},{"$f":"'ITCER GLOBAL'!T313","v":85.328225286191241},{"$f":"'ITCER GLOBAL'!U313","v":85.728171428544087},{"$f":"'ITCER GLOBAL'!V313","v":149.97329019214703},{"$f":"'ITCER GLOBAL'!W313","v":231.66606600530127},{"$f":"'ITCER GLOBAL'!X313","v":331.42841256369184},{"$f":"'ITCER GLOBAL'!Y313","v":94.208612672189389},{"$f":"'ITCER GLOBAL'!AA313","v":205.63871487523392},{"$f":"'ITCER GLOBAL'!AB313","v":77.085342259811213},{"$f":"'ITCER GLOBAL'!AC313","v":164.0126297872572},{"$f":"'ITCER GLOBAL'!AD313","v":184.37794736147069},{"$f":"'ITCER GLOBAL'!AE313","v":201.63540065398146},{"$f":"'ITCER GLOBAL'!AF313","v":237.39523508659471},{"$f":"'ITCER GLOBAL'!AG313","v":107.05494207946332},null,{"$f":"IF(EFECTOS!$N$9=\"COSTA RICA\",LOOKUP(1,GEfectos!$C$4:$I$4,GEfectos!C313:I313),IF(EFECTOS!$N$9=\"EL SALVADOR\",LOOKUP(2,GEfectos!$C$4:$I$4,GEfectos!C313:I313),IF(EFECTOS!$N$9=\"GUATEMALA\",LOOKUP(3,GEfectos!$C$4:$I$4,GEfectos!C313:I313),IF(EFECTOS!$N$9=\"HONDURAS\",LOOKUP(4,GEfectos!$C$4:$I$4,GEfectos!C313:I313),IF(EFECTOS!$N$9=\"NICARAGUA\",LOOKUP(5,GEfectos!$C$4:$I$4,GEfectos!C313:I313),IF(EFECTOS!$N$9=\"REPÚBLICA \nDOMINICANA\",LOOKUP(6,$C$4:$I$4,C313:I313),IF(EFECTOS!$N$9=\"PANAMÁ\",LOOKUP(7,GEfectos!$C$4:$I$4,GEfectos!C313:I313))))))))","v":139.61038958629334},{"$f":"IF(EFECTOS!$N$9=\"COSTA RICA\",LOOKUP(1,GEfectos!$J$4:$P$4,GEfectos!J313:P313),IF(EFECTOS!$N$9=\"EL SALVADOR\",LOOKUP(2,GEfectos!$J$4:$P$4,GEfectos!J313:P313),IF(EFECTOS!$N$9=\"GUATEMALA\",LOOKUP(3,GEfectos!$J$4:$P$4,GEfectos!J313:P313),IF(EFECTOS!$N$9=\"HONDURAS\",LOOKUP(4,GEfectos!$J$4:$P$4,GEfectos!J313:P313),IF(EFECTOS!$N$9=\"NICARAGUA\",LOOKUP(5,GEfectos!$J$4:$P$4,GEfectos!J313:P313),IF(EFECTOS!$N$9=\"REPÚBLICA \nDOMINICANA\",LOOKUP(6,$J$4:$P$4,J313:P313),IF(EFECTOS!$N$9=\"PANAMÁ\",LOOKUP(7,GEfectos!$J$4:$P$4,GEfectos!J313:P313))))))))","v":331.42841256369184},{"$f":"IF(EFECTOS!$N$9=\"COSTA RICA\",LOOKUP(1,GEfectos!$Q$4:$W$4,GEfectos!Q313:W313),IF(EFECTOS!$N$9=\"EL SALVADOR\",LOOKUP(2,GEfectos!$Q$4:$W$4,GEfectos!Q313:W313),IF(EFECTOS!$N$9=\"GUATEMALA\",LOOKUP(3,GEfectos!$Q$4:$W$4,GEfectos!Q313:W313),IF(EFECTOS!$N$9=\"HONDURAS\",LOOKUP(4,GEfectos!$Q$4:$W$4,GEfectos!Q313:W313),IF(EFECTOS!$N$9=\"NICARAGUA\",LOOKUP(5,GEfectos!$Q$4:$W$4,GEfectos!Q313:W313),IF(EFECTOS!$N$9=\"REPÚBLICA \nDOMINICANA\",LOOKUP(6,$Q$4:$W$4,Q313:W313),IF(EFECTOS!$N$9=\"PANAMÁ\",LOOKUP(7,GEfectos!$Q$4:$W$4,GEfectos!Q313:W313))))))))","v":237.39523508659471},100]
[null,{"$f":"'ITCER GLOBAL'!B314","v":"Septiembre"},{"$f":"'ITCER GLOBAL'!C314","v":86.273351268405847},{"$f":"'ITCER GLOBAL'!D314","v":111.49313678524116},{"$f":"'ITCER GLOBAL'!E314","v":52.845489779757507},{"$f":"'ITCER GLOBAL'!F314","v":81.245296507805392},{"$f":"'ITCER GLOBAL'!G314","v":115.80508191987127},{"$f":"'ITCER GLOBAL'!H314","v":140.72426737377319},{"$f":"'ITCER GLOBAL'!I314","v":88.324451336055063},{"$f":"'ITCER GLOBAL'!S314","v":177.6370374357694},{"$f":"'ITCER GLOBAL'!T314","v":85.582913643011779},{"$f":"'ITCER GLOBAL'!U314","v":86.687943223827375},{"$f":"'ITCER GLOBAL'!V314","v":150.06778512486846},{"$f":"'ITCER GLOBAL'!W314","v":232.63716852739026},{"$f":"'ITCER GLOBAL'!X314","v":335.61009028472404},{"$f":"'ITCER GLOBAL'!Y314","v":94.486321215573071},{"$f":"'ITCER GLOBAL'!AA314","v":205.90024013686579},{"$f":"'ITCER GLOBAL'!AB314","v":76.760701250931859},{"$f":"'ITCER GLOBAL'!AC314","v":164.04038184737053},{"$f":"'ITCER GLOBAL'!AD314","v":184.70950513480022},{"$f":"'ITCER GLOBAL'!AE314","v":200.88683904939364},{"$f":"'ITCER GLOBAL'!AF314","v":238.4877154082607},{"$f":"'ITCER GLOBAL'!AG314","v":106.97640323410948},null,{"$f":"IF(EFECTOS!$N$9=\"COSTA RICA\",LOOKUP(1,GEfectos!$C$4:$I$4,GEfectos!C314:I314),IF(EFECTOS!$N$9=\"EL SALVADOR\",LOOKUP(2,GEfectos!$C$4:$I$4,GEfectos!C314:I314),IF(EFECTOS!$N$9=\"GUATEMALA\",LOOKUP(3,GEfectos!$C$4:$I$4,GEfectos!C314:I314),IF(EFECTOS!$N$9=\"HONDURAS\",LOOKUP(4,GEfectos!$C$4:$I$4,GEfectos!C314:I314),IF(EFECTOS!$N$9=\"NICARAGUA\",LOOKUP(5,GEfectos!$C$4:$I$4,GEfectos!C314:I314),IF(EFECTOS!$N$9=\"REPÚBLICA \nDOMINICANA\",LOOKUP(6,$C$4:$I$4,C314:I314),IF(EFECTOS!$N$9=\"PANAMÁ\",LOOKUP(7,GEfectos!$C$4:$I$4,GEfectos!C314:I314))))))))","v":140.72426737377319},{"$f":"IF(EFECTOS!$N$9=\"COSTA RICA\",LOOKUP(1,GEfectos!$J$4:$P$4,GEfectos!J314:P314),IF(EFECTOS!$N$9=\"EL SALVADOR\",LOOKUP(2,GEfectos!$J$4:$P$4,GEfectos!J314:P314),IF(EFECTOS!$N$9=\"GUATEMALA\",LOOKUP(3,GEfectos!$J$4:$P$4,GEfectos!J314:P314),IF(EFECTOS!$N$9=\"HONDURAS\",LOOKUP(4,GEfectos!$J$4:$P$4,GEfectos!J314:P314),IF(EFECTOS!$N$9=\"NICARAGUA\",LOOKUP(5,GEfectos!$J$4:$P$4,GEfectos!J314:P314),IF(EFECTOS!$N$9=\"REPÚBLICA \nDOMINICANA\",LOOKUP(6,$J$4:$P$4,J314:P314),IF(EFECTOS!$N$9=\"PANAMÁ\",LOOKUP(7,GEfectos!$J$4:$P$4,GEfectos!J314:P314))))))))","v":335.61009028472404},{"$f":"IF(EFECTOS!$N$9=\"COSTA RICA\",LOOKUP(1,GEfectos!$Q$4:$W$4,GEfectos!Q314:W314),IF(EFECTOS!$N$9=\"EL SALVADOR\",LOOKUP(2,GEfectos!$Q$4:$W$4,GEfectos!Q314:W314),IF(EFECTOS!$N$9=\"GUATEMALA\",LOOKUP(3,GEfectos!$Q$4:$W$4,GEfectos!Q314:W314),IF(EFECTOS!$N$9=\"HONDURAS\",LOOKUP(4,GEfectos!$Q$4:$W$4,GEfectos!Q314:W314),IF(EFECTOS!$N$9=\"NICARAGUA\",LOOKUP(5,GEfectos!$Q$4:$W$4,GEfectos!Q314:W314),IF(EFECTOS!$N$9=\"REPÚBLICA \nDOMINICANA\",LOOKUP(6,$Q$4:$W$4,Q314:W314),IF(EFECTOS!$N$9=\"PANAMÁ\",LOOKUP(7,GEfectos!$Q$4:$W$4,GEfectos!Q314:W314))))))))","v":238.4877154082607},100]
[null,{"$f":"'ITCER GLOBAL'!B315","v":"Octubre"},{"$f":"'ITCER GLOBAL'!C315","v":87.200506733977463},{"$f":"'ITCER GLOBAL'!D315","v":111.76523110592278},{"$f":"'ITCER GLOBAL'!E315","v":52.608039032348948},{"$f":"'ITCER GLOBAL'!F315","v":80.801586254231196},{"$f":"'ITCER GLOBAL'!G315","v":116.0623676669658},{"$f":"'ITCER GLOBAL'!H315","v":141.19731243460362},{"$f":"'ITCER GLOBAL'!I315","v":88.584524055031949},{"$f":"'ITCER GLOBAL'!S315","v":179.46423817516077},{"$f":"'ITCER GLOBAL'!T315","v":85.76836780685511},{"$f":"'ITCER GLOBAL'!U315","v":87.104728766251},{"$f":"'ITCER GLOBAL'!V315","v":149.76246785108373},{"$f":"'ITCER GLOBAL'!W315","v":233.27159566206274},{"$f":"'ITCER GLOBAL'!X315","v":338.8844978946895},{"$f":"'ITCER GLOBAL'!Y315","v":94.553720199822905},{"$f":"'ITCER GLOBAL'!AA315","v":205.80641661022941},{"$f":"'ITCER GLOBAL'!AB315","v":76.739757935605411},{"$f":"'ITCER GLOBAL'!AC315","v":165.57303858577558},{"$f":"'ITCER GLOBAL'!AD315","v":185.3459502389922},{"$f":"'ITCER GLOBAL'!AE315","v":200.9881414201561},{"$f":"'ITCER GLOBAL'!AF315","v":240.00775372523177},{"$f":"'ITCER GLOBAL'!AG315","v":106.7384187119216},null,{"$f":"IF(EFECTOS!$N$9=\"COSTA RICA\",LOOKUP(1,GEfectos!$C$4:$I$4,GEfectos!C315:I315),IF(EFECTOS!$N$9=\"EL SALVADOR\",LOOKUP(2,GEfectos!$C$4:$I$4,GEfectos!C315:I315),IF(EFECTOS!$N$9=\"GUATEMALA\",LOOKUP(3,GEfectos!$C$4:$I$4,GEfectos!C315:I315),IF(EFECTOS!$N$9=\"HONDURAS\",LOOKUP(4,GEfectos!$C$4:$I$4,GEfectos!C315:I315),IF(EFECTOS!$N$9=\"NICARAGUA\",LOOKUP(5,GEfectos!$C$4:$I$4,GEfectos!C315:I315),IF(EFECTOS!$N$9=\"REPÚBLICA \nDOMINICANA\",LOOKUP(6,$C$4:$I$4,C315:I315),IF(EFECTOS!$N$9=\"PANAMÁ\",LOOKUP(7,GEfectos!$C$4:$I$4,GEfectos!C315:I315))))))))","v":141.19731243460362},{"$f":"IF(EFECTOS!$N$9=\"COSTA RICA\",LOOKUP(1,GEfectos!$J$4:$P$4,GEfectos!J315:P315),IF(EFECTOS!$N$9=\"EL SALVADOR\",LOOKUP(2,GEfectos!$J$4:$P$4,GEfectos!J315:P315),IF(EFECTOS!$N$9=\"GUATEMALA\",LOOKUP(3,GEfectos!$J$4:$P$4,GEfectos!J315:P315),IF(EFECTOS!$N$9=\"HONDURAS\",LOOKUP(4,GEfectos!$J$4:$P$4,GEfectos!J315:P315),IF(EFECTOS!$N$9=\"NICARAGUA\",LOOKUP(5,GEfectos!$J$4:$P$4,GEfectos!J315:P315),IF(EFECTOS!$N$9=\"REPÚBLICA \nDOMINICANA\",LOOKUP(6,$J$4:$P$4,J315:P315),IF(EFECTOS!$N$9=\"PANAMÁ\",LOOKUP(7,GEfectos!$J$4:$P$4,GEfectos!J315:P315))))))))","v":338.8844978946895},{"$f":"IF(EFECTOS!$N$9=\"COSTA RICA\",LOOKUP(1,GEfectos!$Q$4:$W$4,GEfectos!Q315:W315),IF(EFECTOS!$N$9=\"EL SALVADOR\",LOOKUP(2,GEfectos!$Q$4:$W$4,GEfectos!Q315:W315),IF(EFECTOS!$N$9=\"GUATEMALA\",LOOKUP(3,GEfectos!$Q$4:$W$4,GEfectos!Q315:W315),IF(EFECTOS!$N$9=\"HONDURAS\",LOOKUP(4,GEfectos!$Q$4:$W$4,GEfectos!Q315:W315),IF(EFECTOS!$N$9=\"NICARAGUA\",LOOKUP(5,GEfectos!$Q$4:$W$4,GEfectos!Q315:W315),IF(EFECTOS!$N$9=\"REPÚBLICA \nDOMINICANA\",LOOKUP(6,$Q$4:$W$4,Q315:W315),IF(EFECTOS!$N$9=\"PANAMÁ\",LOOKUP(7,GEfectos!$Q$4:$W$4,GEfectos!Q315:W315))))))))","v":240.00775372523177},100]
[null,{"$f":"'ITCER GLOBAL'!B316","v":"Noviembre"},{"$f":"'ITCER GLOBAL'!C316","v":88.294004454642703},{"$f":"'ITCER GLOBAL'!D316","v":112.41958676180131},{"$f":"'ITCER GLOBAL'!E316","v":52.747478561717905},{"$f":"'ITCER GLOBAL'!F316","v":80.542725600897398},{"$f":"'ITCER GLOBAL'!G316","v":116.09977591376263},{"$f":"'ITCER GLOBAL'!H316","v":140.97802408880156},{"$f":"'ITCER GLOBAL'!I316","v":89.224011371711271},{"$f":"'ITCER GLOBAL'!S316","v":181.87509933547926},{"$f":"'ITCER GLOBAL'!T316","v":86.360766681166069},{"$f":"'ITCER GLOBAL'!U316","v":87.865688453756491},{"$f":"'ITCER GLOBAL'!V316","v":150.07662570308224},{"$f":"'ITCER GLOBAL'!W316","v":235.1460198586127},{"$f":"'ITCER GLOBAL'!X316","v":340.75397981108551},{"$f":"'ITCER GLOBAL'!Y316","v":95.23623535286066},{"$f":"'ITCER GLOBAL'!AA316","v":205.98805146379999},{"$f":"'ITCER GLOBAL'!AB316","v":76.820035697293918},{"$f":"'ITCER GLOBAL'!AC316","v":166.57798789556938},{"$f":"'ITCER GLOBAL'!AD316","v":186.33169486557591},{"$f":"'ITCER GLOBAL'!AE316","v":202.53787572619956},{"$f":"'ITCER GLOBAL'!AF316","v":241.70716110792259},{"$f":"'ITCER GLOBAL'!AG316","v":106.73834754649418},null,{"$f":"IF(EFECTOS!$N$9=\"COSTA RICA\",LOOKUP(1,GEfectos!$C$4:$I$4,GEfectos!C316:I316),IF(EFECTOS!$N$9=\"EL SALVADOR\",LOOKUP(2,GEfectos!$C$4:$I$4,GEfectos!C316:I316),IF(EFECTOS!$N$9=\"GUATEMALA\",LOOKUP(3,GEfectos!$C$4:$I$4,GEfectos!C316:I316),IF(EFECTOS!$N$9=\"HONDURAS\",LOOKUP(4,GEfectos!$C$4:$I$4,GEfectos!C316:I316),IF(EFECTOS!$N$9=\"NICARAGUA\",LOOKUP(5,GEfectos!$C$4:$I$4,GEfectos!C316:I316),IF(EFECTOS!$N$9=\"REPÚBLICA \nDOMINICANA\",LOOKUP(6,$C$4:$I$4,C316:I316),IF(EFECTOS!$N$9=\"PANAMÁ\",LOOKUP(7,GEfectos!$C$4:$I$4,GEfectos!C316:I316))))))))","v":140.97802408880156},{"$f":"IF(EFECTOS!$N$9=\"COSTA RICA\",LOOKUP(1,GEfectos!$J$4:$P$4,GEfectos!J316:P316),IF(EFECTOS!$N$9=\"EL SALVADOR\",LOOKUP(2,GEfectos!$J$4:$P$4,GEfectos!J316:P316),IF(EFECTOS!$N$9=\"GUATEMALA\",LOOKUP(3,GEfectos!$J$4:$P$4,GEfectos!J316:P316),IF(EFECTOS!$N$9=\"HONDURAS\",LOOKUP(4,GEfectos!$J$4:$P$4,GEfectos!J316:P316),IF(EFECTOS!$N$9=\"NICARAGUA\",LOOKUP(5,GEfectos!$J$4:$P$4,GEfectos!J316:P316),IF(EFECTOS!$N$9=\"REPÚBLICA \nDOMINICANA\",LOOKUP(6,$J$4:$P$4,J316:P316),IF(EFECTOS!$N$9=\"PANAMÁ\",LOOKUP(7,GEfectos!$J$4:$P$4,GEfectos!J316:P316))))))))","v":340.75397981108551},{"$f":"IF(EFECTOS!$N$9=\"COSTA RICA\",LOOKUP(1,GEfectos!$Q$4:$W$4,GEfectos!Q316:W316),IF(EFECTOS!$N$9=\"EL SALVADOR\",LOOKUP(2,GEfectos!$Q$4:$W$4,GEfectos!Q316:W316),IF(EFECTOS!$N$9=\"GUATEMALA\",LOOKUP(3,GEfectos!$Q$4:$W$4,GEfectos!Q316:W316),IF(EFECTOS!$N$9=\"HONDURAS\",LOOKUP(4,GEfectos!$Q$4:$W$4,GEfectos!Q316:W316),IF(EFECTOS!$N$9=\"NICARAGUA\",LOOKUP(5,GEfectos!$Q$4:$W$4,GEfectos!Q316:W316),IF(EFECTOS!$N$9=\"REPÚBLICA \nDOMINICANA\",LOOKUP(6,$Q$4:$W$4,Q316:W316),IF(EFECTOS!$N$9=\"PANAMÁ\",LOOKUP(7,GEfectos!$Q$4:$W$4,GEfectos!Q316:W316))))))))","v":241.70716110792259},100]
[null,{"$f":"'ITCER GLOBAL'!B317","v":"Diciembre"},{"$f":"'ITCER GLOBAL'!C317","v":88.693112883749663},{"$f":"'ITCER GLOBAL'!D317","v":113.29711955230387},{"$f":"'ITCER GLOBAL'!E317","v":53.454094127131647},{"$f":"'ITCER GLOBAL'!F317","v":80.460010301644118},{"$f":"'ITCER GLOBAL'!G317","v":115.89842503344309},{"$f":"'ITCER GLOBAL'!H317","v":140.89757359394},{"$f":"'ITCER GLOBAL'!I317","v":90.002117794813586},{"$f":"'ITCER GLOBAL'!S317","v":183.15917989577522},{"$f":"'ITCER GLOBAL'!T317","v":86.916753181535682},{"$f":"'ITCER GLOBAL'!U317","v":88.76125593834189},{"$f":"'ITCER GLOBAL'!V317","v":150.39996373444765},{"$f":"'ITCER GLOBAL'!W317","v":237.14415128799007},{"$f":"'ITCER GLOBAL'!X317","v":341.29059282125496},{"$f":"'ITCER GLOBAL'!Y317","v":96.141334886095763},{"$f":"'ITCER GLOBAL'!AA317","v":206.50890913688252},{"$f":"'ITCER GLOBAL'!AB317","v":76.715766053884863},{"$f":"'ITCER GLOBAL'!AC317","v":166.05137059705484},{"$f":"'ITCER GLOBAL'!AD317","v":186.92511120816297},{"$f":"'ITCER GLOBAL'!AE317","v":204.61378247336918},{"$f":"'ITCER GLOBAL'!AF317","v":242.22602569781503},{"$f":"'ITCER GLOBAL'!AG317","v":106.82119181381748},null,{"$f":"IF(EFECTOS!$N$9=\"COSTA RICA\",LOOKUP(1,GEfectos!$C$4:$I$4,GEfectos!C317:I317),IF(EFECTOS!$N$9=\"EL SALVADOR\",LOOKUP(2,GEfectos!$C$4:$I$4,GEfectos!C317:I317),IF(EFECTOS!$N$9=\"GUATEMALA\",LOOKUP(3,GEfectos!$C$4:$I$4,GEfectos!C317:I317),IF(EFECTOS!$N$9=\"HONDURAS\",LOOKUP(4,GEfectos!$C$4:$I$4,GEfectos!C317:I317),IF(EFECTOS!$N$9=\"NICARAGUA\",LOOKUP(5,GEfectos!$C$4:$I$4,GEfectos!C317:I317),IF(EFECTOS!$N$9=\"REPÚBLICA \nDOMINICANA\",LOOKUP(6,$C$4:$I$4,C317:I317),IF(EFECTOS!$N$9=\"PANAMÁ\",LOOKUP(7,GEfectos!$C$4:$I$4,GEfectos!C317:I317))))))))","v":140.89757359394},{"$f":"IF(EFECTOS!$N$9=\"COSTA RICA\",LOOKUP(1,GEfectos!$J$4:$P$4,GEfectos!J317:P317),IF(EFECTOS!$N$9=\"EL SALVADOR\",LOOKUP(2,GEfectos!$J$4:$P$4,GEfectos!J317:P317),IF(EFECTOS!$N$9=\"GUATEMALA\",LOOKUP(3,GEfectos!$J$4:$P$4,GEfectos!J317:P317),IF(EFECTOS!$N$9=\"HONDURAS\",LOOKUP(4,GEfectos!$J$4:$P$4,GEfectos!J317:P317),IF(EFECTOS!$N$9=\"NICARAGUA\",LOOKUP(5,GEfectos!$J$4:$P$4,GEfectos!J317:P317),IF(EFECTOS!$N$9=\"REPÚBLICA \nDOMINICANA\",LOOKUP(6,$J$4:$P$4,J317:P317),IF(EFECTOS!$N$9=\"PANAMÁ\",LOOKUP(7,GEfectos!$J$4:$P$4,GEfectos!J317:P317))))))))","v":341.29059282125496},{"$f":"IF(EFECTOS!$N$9=\"COSTA RICA\",LOOKUP(1,GEfectos!$Q$4:$W$4,GEfectos!Q317:W317),IF(EFECTOS!$N$9=\"EL SALVADOR\",LOOKUP(2,GEfectos!$Q$4:$W$4,GEfectos!Q317:W317),IF(EFECTOS!$N$9=\"GUATEMALA\",LOOKUP(3,GEfectos!$Q$4:$W$4,GEfectos!Q317:W317),IF(EFECTOS!$N$9=\"HONDURAS\",LOOKUP(4,GEfectos!$Q$4:$W$4,GEfectos!Q317:W317),IF(EFECTOS!$N$9=\"NICARAGUA\",LOOKUP(5,GEfectos!$Q$4:$W$4,GEfectos!Q317:W317),IF(EFECTOS!$N$9=\"REPÚBLICA \nDOMINICANA\",LOOKUP(6,$Q$4:$W$4,Q317:W317),IF(EFECTOS!$N$9=\"PANAMÁ\",LOOKUP(7,GEfectos!$Q$4:$W$4,GEfectos!Q317:W317))))))))","v":242.22602569781503},100]
[2021,{"$f":"'ITCER GLOBAL'!B318","v":"Enero"},{"$f":"'ITCER GLOBAL'!C318","v":88.672644735741244},{"$f":"'ITCER GLOBAL'!D318","v":112.11204099021639},{"$f":"'ITCER GLOBAL'!E318","v":52.959142220979956},{"$f":"'ITCER GLOBAL'!F318","v":79.293748398920883},{"$f":"'ITCER GLOBAL'!G318","v":115.22122212609446},{"$f":"'ITCER GLOBAL'!H318","v":138.10169122673463},{"$f":"'ITCER GLOBAL'!I318","v":88.969670412078045},{"$f":"'ITCER GLOBAL'!S318","v":184.95469787113942},{"$f":"'ITCER GLOBAL'!T318","v":86.99000120382297},{"$f":"'ITCER GLOBAL'!U318","v":88.64131505693274},{"$f":"'ITCER GLOBAL'!V318","v":150.14003462396479},{"$f":"'ITCER GLOBAL'!W318","v":237.84138632640602},{"$f":"'ITCER GLOBAL'!X318","v":341.18079679615454},{"$f":"'ITCER GLOBAL'!Y318","v":96.131918852460231},{"$f":"'ITCER GLOBAL'!AA318","v":208.58146097066825},{"$f":"'ITCER GLOBAL'!AB318","v":77.592023511028827},{"$f":"'ITCER GLOBAL'!AC318","v":167.376795279394},{"$f":"'ITCER GLOBAL'!AD318","v":189.34662272317055},{"$f":"'ITCER GLOBAL'!AE318","v":206.42150980322006},{"$f":"'ITCER GLOBAL'!AF318","v":247.05041174043677},{"$f":"'ITCER GLOBAL'!AG318","v":108.0502135246866},null,{"$f":"IF(EFECTOS!$N$9=\"COSTA RICA\",LOOKUP(1,GEfectos!$C$4:$I$4,GEfectos!C318:I318),IF(EFECTOS!$N$9=\"EL SALVADOR\",LOOKUP(2,GEfectos!$C$4:$I$4,GEfectos!C318:I318),IF(EFECTOS!$N$9=\"GUATEMALA\",LOOKUP(3,GEfectos!$C$4:$I$4,GEfectos!C318:I318),IF(EFECTOS!$N$9=\"HONDURAS\",LOOKUP(4,GEfectos!$C$4:$I$4,GEfectos!C318:I318),IF(EFECTOS!$N$9=\"NICARAGUA\",LOOKUP(5,GEfectos!$C$4:$I$4,GEfectos!C318:I318),IF(EFECTOS!$N$9=\"REPÚBLICA \nDOMINICANA\",LOOKUP(6,$C$4:$I$4,C318:I318),IF(EFECTOS!$N$9=\"PANAMÁ\",LOOKUP(7,GEfectos!$C$4:$I$4,GEfectos!C318:I318))))))))","v":138.10169122673463},{"$f":"IF(EFECTOS!$N$9=\"COSTA RICA\",LOOKUP(1,GEfectos!$C$4:$I$4,GEfectos!D318:J318),IF(EFECTOS!$N$9=\"EL SALVADOR\",LOOKUP(2,GEfectos!$C$4:$I$4,GEfectos!D318:J318),IF(EFECTOS!$N$9=\"GUATEMALA\",LOOKUP(3,GEfectos!$C$4:$I$4,GEfectos!D318:J318),IF(EFECTOS!$N$9=\"HONDURAS\",LOOKUP(4,GEfectos!$C$4:$I$4,GEfectos!D318:J318),IF(EFECTOS!$N$9=\"NICARAGUA\",LOOKUP(5,GEfectos!$C$4:$I$4,GEfectos!D318:J318),IF(EFECTOS!$N$9=\"REPÚBLICA \nDOMINICANA\",LOOKUP(6,$C$4:$I$4,D318:J318),IF(EFECTOS!$N$9=\"PANAMÁ\",LOOKUP(7,GEfectos!$C$4:$I$4,GEfectos!D318:J318))))))))","v":88.969670412078045},{"$f":"IF(EFECTOS!$N$9=\"COSTA RICA\",LOOKUP(1,GEfectos!$Q$4:$W$4,GEfectos!Q318:W318),IF(EFECTOS!$N$9=\"EL SALVADOR\",LOOKUP(2,GEfectos!$Q$4:$W$4,GEfectos!Q318:W318),IF(EFECTOS!$N$9=\"GUATEMALA\",LOOKUP(3,GEfectos!$Q$4:$W$4,GEfectos!Q318:W318),IF(EFECTOS!$N$9=\"HONDURAS\",LOOKUP(4,GEfectos!$Q$4:$W$4,GEfectos!Q318:W318),IF(EFECTOS!$N$9=\"NICARAGUA\",LOOKUP(5,GEfectos!$Q$4:$W$4,GEfectos!Q318:W318),IF(EFECTOS!$N$9=\"REPÚBLICA \nDOMINICANA\",LOOKUP(6,$Q$4:$W$4,Q318:W318),IF(EFECTOS!$N$9=\"PANAMÁ\",LOOKUP(7,GEfectos!$Q$4:$W$4,GEfectos!Q318:W318))))))))","v":247.05041174043677},100]
[null,{"$f":"'ITCER GLOBAL'!B319","v":"Febrero"},{"$f":"'ITCER GLOBAL'!C319","v":89.540123188931403},{"$f":"'ITCER GLOBAL'!D319","v":112.52220007189095},{"$f":"'ITCER GLOBAL'!E319","v":52.843558092939055},{"$f":"'ITCER GLOBAL'!F319","v":79.816842549171625},{"$f":"'ITCER GLOBAL'!G319","v":115.23007893820599},{"$f":"'ITCER GLOBAL'!H319","v":137.90010221678332},{"$f":"'ITCER GLOBAL'!I319","v":88.990459773178387},{"$f":"'ITCER GLOBAL'!S319","v":184.31482103932339},{"$f":"'ITCER GLOBAL'!T319","v":86.902276263201202},{"$f":"'ITCER GLOBAL'!U319","v":87.843115986573892},{"$f":"'ITCER GLOBAL'!V319","v":149.73804369057868},{"$f":"'ITCER GLOBAL'!W319","v":237.57701660993234},{"$f":"'ITCER GLOBAL'!X319","v":339.04567538058041},{"$f":"'ITCER GLOBAL'!Y319","v":95.879120046228522},{"$f":"'ITCER GLOBAL'!AA319","v":205.84606595907351},{"$f":"'ITCER GLOBAL'!AB319","v":77.231227444609985},{"$f":"'ITCER GLOBAL'!AC319","v":166.23240212568402},{"$f":"'ITCER GLOBAL'!AD319","v":187.60206355987046},{"$f":"'ITCER GLOBAL'!AE319","v":206.17621614000359},{"$f":"'ITCER GLOBAL'!AF319","v":245.8632516802561},{"$f":"'ITCER GLOBAL'!AG319","v":107.74089749688693},null,{"$f":"IF(EFECTOS!$N$9=\"COSTA RICA\",LOOKUP(1,GEfectos!$C$4:$I$4,GEfectos!C319:I319),IF(EFECTOS!$N$9=\"EL SALVADOR\",LOOKUP(2,GEfectos!$C$4:$I$4,GEfectos!C319:I319),IF(EFECTOS!$N$9=\"GUATEMALA\",LOOKUP(3,GEfectos!$C$4:$I$4,GEfectos!C319:I319),IF(EFECTOS!$N$9=\"HONDURAS\",LOOKUP(4,GEfectos!$C$4:$I$4,GEfectos!C319:I319),IF(EFECTOS!$N$9=\"NICARAGUA\",LOOKUP(5,GEfectos!$C$4:$I$4,GEfectos!C319:I319),IF(EFECTOS!$N$9=\"REPÚBLICA \nDOMINICANA\",LOOKUP(6,$C$4:$I$4,C319:I319),IF(EFECTOS!$N$9=\"PANAMÁ\",LOOKUP(7,GEfectos!$C$4:$I$4,GEfectos!C319:I319))))))))","v":137.90010221678332},{"$f":"IF(EFECTOS!$N$9=\"COSTA RICA\",LOOKUP(1,GEfectos!$C$4:$I$4,GEfectos!D319:J319),IF(EFECTOS!$N$9=\"EL SALVADOR\",LOOKUP(2,GEfectos!$C$4:$I$4,GEfectos!D319:J319),IF(EFECTOS!$N$9=\"GUATEMALA\",LOOKUP(3,GEfectos!$C$4:$I$4,GEfectos!D319:J319),IF(EFECTOS!$N$9=\"HONDURAS\",LOOKUP(4,GEfectos!$C$4:$I$4,GEfectos!D319:J319),IF(EFECTOS!$N$9=\"NICARAGUA\",LOOKUP(5,GEfectos!$C$4:$I$4,GEfectos!D319:J319),IF(EFECTOS!$N$9=\"REPÚBLICA \nDOMINICANA\",LOOKUP(6,$C$4:$I$4,D319:J319),IF(EFECTOS!$N$9=\"PANAMÁ\",LOOKUP(7,GEfectos!$C$4:$I$4,GEfectos!D319:J319))))))))","v":88.990459773178387},{"$f":"IF(EFECTOS!$N$9=\"COSTA RICA\",LOOKUP(1,GEfectos!$Q$4:$W$4,GEfectos!Q319:W319),IF(EFECTOS!$N$9=\"EL SALVADOR\",LOOKUP(2,GEfectos!$Q$4:$W$4,GEfectos!Q319:W319),IF(EFECTOS!$N$9=\"GUATEMALA\",LOOKUP(3,GEfectos!$Q$4:$W$4,GEfectos!Q319:W319),IF(EFECTOS!$N$9=\"HONDURAS\",LOOKUP(4,GEfectos!$Q$4:$W$4,GEfectos!Q319:W319),IF(EFECTOS!$N$9=\"NICARAGUA\",LOOKUP(5,GEfectos!$Q$4:$W$4,GEfectos!Q319:W319),IF(EFECTOS!$N$9=\"REPÚBLICA \nDOMINICANA\",LOOKUP(6,$Q$4:$W$4,Q319:W319),IF(EFECTOS!$N$9=\"PANAMÁ\",LOOKUP(7,GEfectos!$Q$4:$W$4,GEfectos!Q319:W319))))))))","v":245.8632516802561},100]
[null,{"$f":"'ITCER GLOBAL'!B320","v":"Marzo"},{"$f":"'ITCER GLOBAL'!C320","v":89.582569820495053},{"$f":"'ITCER GLOBAL'!D320","v":111.85194767151928},{"$f":"'ITCER GLOBAL'!E320","v":52.575745944476431},{"$f":"'ITCER GLOBAL'!F320","v":79.467804687216102},{"$f":"'ITCER GLOBAL'!G320","v":115.22151746292532},{"$f":"'ITCER GLOBAL'!H320","v":135.47139106237913},{"$f":"'ITCER GLOBAL'!I320","v":88.496607488204518},{"$f":"'ITCER GLOBAL'!S320","v":183.24439664865602},{"$f":"'ITCER GLOBAL'!T320","v":86.55663474129949},{"$f":"'ITCER GLOBAL'!U320","v":87.12672336764274},{"$f":"'ITCER GLOBAL'!V320","v":148.66087067174055},{"$f":"'ITCER GLOBAL'!W320","v":236.61612632720897},{"$f":"'ITCER GLOBAL'!X320","v":332.90692000455795},{"$f":"'ITCER GLOBAL'!Y320","v":95.293586188653052},{"$f":"'ITCER GLOBAL'!AA320","v":204.55362802813082},{"$f":"'ITCER GLOBAL'!AB320","v":77.385004502106938},{"$f":"'ITCER GLOBAL'!AC320","v":165.71657102051293},{"$f":"'ITCER GLOBAL'!AD320","v":187.0705643082342},{"$f":"'ITCER GLOBAL'!AE320","v":205.35758557714243},{"$f":"'ITCER GLOBAL'!AF320","v":245.73964834484329},{"$f":"'ITCER GLOBAL'!AG320","v":107.68049634146088},null,{"$f":"IF(EFECTOS!$N$9=\"COSTA RICA\",LOOKUP(1,GEfectos!$C$4:$I$4,GEfectos!C320:I320),IF(EFECTOS!$N$9=\"EL SALVADOR\",LOOKUP(2,GEfectos!$C$4:$I$4,GEfectos!C320:I320),IF(EFECTOS!$N$9=\"GUATEMALA\",LOOKUP(3,GEfectos!$C$4:$I$4,GEfectos!C320:I320),IF(EFECTOS!$N$9=\"HONDURAS\",LOOKUP(4,GEfectos!$C$4:$I$4,GEfectos!C320:I320),IF(EFECTOS!$N$9=\"NICARAGUA\",LOOKUP(5,GEfectos!$C$4:$I$4,GEfectos!C320:I320),IF(EFECTOS!$N$9=\"REPÚBLICA \nDOMINICANA\",LOOKUP(6,$C$4:$I$4,C320:I320),IF(EFECTOS!$N$9=\"PANAMÁ\",LOOKUP(7,GEfectos!$C$4:$I$4,GEfectos!C320:I320))))))))","v":135.47139106237913},{"$f":"IF(EFECTOS!$N$9=\"COSTA RICA\",LOOKUP(1,GEfectos!$C$4:$I$4,GEfectos!D320:J320),IF(EFECTOS!$N$9=\"EL SALVADOR\",LOOKUP(2,GEfectos!$C$4:$I$4,GEfectos!D320:J320),IF(EFECTOS!$N$9=\"GUATEMALA\",LOOKUP(3,GEfectos!$C$4:$I$4,GEfectos!D320:J320),IF(EFECTOS!$N$9=\"HONDURAS\",LOOKUP(4,GEfectos!$C$4:$I$4,GEfectos!D320:J320),IF(EFECTOS!$N$9=\"NICARAGUA\",LOOKUP(5,GEfectos!$C$4:$I$4,GEfectos!D320:J320),IF(EFECTOS!$N$9=\"REPÚBLICA \nDOMINICANA\",LOOKUP(6,$C$4:$I$4,D320:J320),IF(EFECTOS!$N$9=\"PANAMÁ\",LOOKUP(7,GEfectos!$C$4:$I$4,GEfectos!D320:J320))))))))","v":88.496607488204518},{"$f":"IF(EFECTOS!$N$9=\"COSTA RICA\",LOOKUP(1,GEfectos!$Q$4:$W$4,GEfectos!Q320:W320),IF(EFECTOS!$N$9=\"EL SALVADOR\",LOOKUP(2,GEfectos!$Q$4:$W$4,GEfectos!Q320:W320),IF(EFECTOS!$N$9=\"GUATEMALA\",LOOKUP(3,GEfectos!$Q$4:$W$4,GEfectos!Q320:W320),IF(EFECTOS!$N$9=\"HONDURAS\",LOOKUP(4,GEfectos!$Q$4:$W$4,GEfectos!Q320:W320),IF(EFECTOS!$N$9=\"NICARAGUA\",LOOKUP(5,GEfectos!$Q$4:$W$4,GEfectos!Q320:W320),IF(EFECTOS!$N$9=\"REPÚBLICA \nDOMINICANA\",LOOKUP(6,$Q$4:$W$4,Q320:W320),IF(EFECTOS!$N$9=\"PANAMÁ\",LOOKUP(7,GEfectos!$Q$4:$W$4,GEfectos!Q320:W320))))))))","v":245.73964834484329},100]
[null,{"$f":"'ITCER GLOBAL'!B321","v":"Abril"},{"$f":"'ITCER GLOBAL'!C321","v":90.398109180403253},{"$f":"'ITCER GLOBAL'!D321","v":112.01367632483549},{"$f":"'ITCER GLOBAL'!E321","v":52.988535510807559},{"$f":"'ITCER GLOBAL'!F321","v":79.771560488759945},{"$f":"'ITCER GLOBAL'!G321","v":116.3842618465023},{"$f":"'ITCER GLOBAL'!H321","v":134.82532494323723},{"$f":"'ITCER GLOBAL'!I321","v":88.952857902277685},{"$f":"'ITCER GLOBAL'!S321","v":184.34342189619849},{"$f":"'ITCER GLOBAL'!T321","v":86.762242227078218},{"$f":"'ITCER GLOBAL'!U321","v":87.3806909790611},{"$f":"'ITCER GLOBAL'!V321","v":148.91990740472539},{"$f":"'ITCER GLOBAL'!W321","v":237.80215827637358},{"$f":"'ITCER GLOBAL'!X321","v":330.56182987802123},{"$f":"'ITCER GLOBAL'!Y321","v":95.479791613243563},{"$f":"'ITCER GLOBAL'!AA321","v":203.92397979067573},{"$f":"'ITCER GLOBAL'!AB321","v":77.456829445960636},{"$f":"'ITCER GLOBAL'!AC321","v":164.90489902525974},{"$f":"'ITCER GLOBAL'!AD321","v":186.68295629707364},{"$f":"'ITCER GLOBAL'!AE321","v":204.32501311045627},{"$f":"'ITCER GLOBAL'!AF321","v":245.17784772051616},{"$f":"'ITCER GLOBAL'!AG321","v":107.33751996831433},null,{"$f":"IF(EFECTOS!$N$9=\"COSTA RICA\",LOOKUP(1,GEfectos!$C$4:$I$4,GEfectos!C321:I321),IF(EFECTOS!$N$9=\"EL SALVADOR\",LOOKUP(2,GEfectos!$C$4:$I$4,GEfectos!C321:I321),IF(EFECTOS!$N$9=\"GUATEMALA\",LOOKUP(3,GEfectos!$C$4:$I$4,GEfectos!C321:I321),IF(EFECTOS!$N$9=\"HONDURAS\",LOOKUP(4,GEfectos!$C$4:$I$4,GEfectos!C321:I321),IF(EFECTOS!$N$9=\"NICARAGUA\",LOOKUP(5,GEfectos!$C$4:$I$4,GEfectos!C321:I321),IF(EFECTOS!$N$9=\"REPÚBLICA \nDOMINICANA\",LOOKUP(6,$C$4:$I$4,C321:I321),IF(EFECTOS!$N$9=\"PANAMÁ\",LOOKUP(7,GEfectos!$C$4:$I$4,GEfectos!C321:I321))))))))","v":134.82532494323723},{"$f":"IF(EFECTOS!$N$9=\"COSTA RICA\",LOOKUP(1,GEfectos!$C$4:$I$4,GEfectos!D321:J321),IF(EFECTOS!$N$9=\"EL SALVADOR\",LOOKUP(2,GEfectos!$C$4:$I$4,GEfectos!D321:J321),IF(EFECTOS!$N$9=\"GUATEMALA\",LOOKUP(3,GEfectos!$C$4:$I$4,GEfectos!D321:J321),IF(EFECTOS!$N$9=\"HONDURAS\",LOOKUP(4,GEfectos!$C$4:$I$4,GEfectos!D321:J321),IF(EFECTOS!$N$9=\"NICARAGUA\",LOOKUP(5,GEfectos!$C$4:$I$4,GEfectos!D321:J321),IF(EFECTOS!$N$9=\"REPÚBLICA \nDOMINICANA\",LOOKUP(6,$C$4:$I$4,D321:J321),IF(EFECTOS!$N$9=\"PANAMÁ\",LOOKUP(7,GEfectos!$C$4:$I$4,GEfectos!D321:J321))))))))","v":88.952857902277685},{"$f":"IF(EFECTOS!$N$9=\"COSTA RICA\",LOOKUP(1,GEfectos!$Q$4:$W$4,GEfectos!Q321:W321),IF(EFECTOS!$N$9=\"EL SALVADOR\",LOOKUP(2,GEfectos!$Q$4:$W$4,GEfectos!Q321:W321),IF(EFECTOS!$N$9=\"GUATEMALA\",LOOKUP(3,GEfectos!$Q$4:$W$4,GEfectos!Q321:W321),IF(EFECTOS!$N$9=\"HONDURAS\",LOOKUP(4,GEfectos!$Q$4:$W$4,GEfectos!Q321:W321),IF(EFECTOS!$N$9=\"NICARAGUA\",LOOKUP(5,GEfectos!$Q$4:$W$4,GEfectos!Q321:W321),IF(EFECTOS!$N$9=\"REPÚBLICA \nDOMINICANA\",LOOKUP(6,$Q$4:$W$4,Q321:W321),IF(EFECTOS!$N$9=\"PANAMÁ\",LOOKUP(7,GEfectos!$Q$4:$W$4,GEfectos!Q321:W321))))))))","v":245.17784772051616},100]
[null,{"$f":"'ITCER GLOBAL'!B322","v":"Mayo"},{"$f":"'ITCER GLOBAL'!C322","v":91.734643607759949},{"$f":"'ITCER GLOBAL'!D322","v":112.97092383037666},{"$f":"'ITCER GLOBAL'!E322","v":53.359842154258125},{"$f":"'ITCER GLOBAL'!F322","v":80.354621599305275},{"$f":"'ITCER GLOBAL'!G322","v":117.49300592615768},{"$f":"'ITCER GLOBAL'!H322","v":135.34421281102283},{"$f":"'ITCER GLOBAL'!I322","v":89.53940397068385},{"$f":"'ITCER GLOBAL'!S322","v":185.92851894403657},{"$f":"'ITCER GLOBAL'!T322","v":87.0496194855466},{"$f":"'ITCER GLOBAL'!U322","v":87.658555497777385},{"$f":"'ITCER GLOBAL'!V322","v":149.45064014608025},{"$f":"'ITCER GLOBAL'!W322","v":238.82002016268714},{"$f":"'ITCER GLOBAL'!X322","v":331.74033066146029},{"$f":"'ITCER GLOBAL'!Y322","v":95.879816026426624},{"$f":"'ITCER GLOBAL'!AA322","v":202.68081024986796},{"$f":"'ITCER GLOBAL'!AB322","v":77.05488858022413},{"$f":"'ITCER GLOBAL'!AC322","v":164.27813868782633},{"$f":"'ITCER GLOBAL'!AD322","v":185.98885437022875},{"$f":"'ITCER GLOBAL'!AE322","v":203.2631800336961},{"$f":"'ITCER GLOBAL'!AF322","v":245.10861881080919},{"$f":"'ITCER GLOBAL'!AG322","v":107.08114168128557},null,{"$f":"IF(EFECTOS!$N$9=\"COSTA RICA\",LOOKUP(1,GEfectos!$C$4:$I$4,GEfectos!C322:I322),IF(EFECTOS!$N$9=\"EL SALVADOR\",LOOKUP(2,GEfectos!$C$4:$I$4,GEfectos!C322:I322),IF(EFECTOS!$N$9=\"GUATEMALA\",LOOKUP(3,GEfectos!$C$4:$I$4,GEfectos!C322:I322),IF(EFECTOS!$N$9=\"HONDURAS\",LOOKUP(4,GEfectos!$C$4:$I$4,GEfectos!C322:I322),IF(EFECTOS!$N$9=\"NICARAGUA\",LOOKUP(5,GEfectos!$C$4:$I$4,GEfectos!C322:I322),IF(EFECTOS!$N$9=\"REPÚBLICA \nDOMINICANA\",LOOKUP(6,$C$4:$I$4,C322:I322),IF(EFECTOS!$N$9=\"PANAMÁ\",LOOKUP(7,GEfectos!$C$4:$I$4,GEfectos!C322:I322))))))))","v":135.34421281102283},{"$f":"IF(EFECTOS!$N$9=\"COSTA RICA\",LOOKUP(1,GEfectos!$C$4:$I$4,GEfectos!D322:J322),IF(EFECTOS!$N$9=\"EL SALVADOR\",LOOKUP(2,GEfectos!$C$4:$I$4,GEfectos!D322:J322),IF(EFECTOS!$N$9=\"GUATEMALA\",LOOKUP(3,GEfectos!$C$4:$I$4,GEfectos!D322:J322),IF(EFECTOS!$N$9=\"HONDURAS\",LOOKUP(4,GEfectos!$C$4:$I$4,GEfectos!D322:J322),IF(EFECTOS!$N$9=\"NICARAGUA\",LOOKUP(5,GEfectos!$C$4:$I$4,GEfectos!D322:J322),IF(EFECTOS!$N$9=\"REPÚBLICA \nDOMINICANA\",LOOKUP(6,$C$4:$I$4,D322:J322),IF(EFECTOS!$N$9=\"PANAMÁ\",LOOKUP(7,GEfectos!$C$4:$I$4,GEfectos!D322:J322))))))))","v":89.53940397068385},{"$f":"IF(EFECTOS!$N$9=\"COSTA RICA\",LOOKUP(1,GEfectos!$Q$4:$W$4,GEfectos!Q322:W322),IF(EFECTOS!$N$9=\"EL SALVADOR\",LOOKUP(2,GEfectos!$Q$4:$W$4,GEfectos!Q322:W322),IF(EFECTOS!$N$9=\"GUATEMALA\",LOOKUP(3,GEfectos!$Q$4:$W$4,GEfectos!Q322:W322),IF(EFECTOS!$N$9=\"HONDURAS\",LOOKUP(4,GEfectos!$Q$4:$W$4,GEfectos!Q322:W322),IF(EFECTOS!$N$9=\"NICARAGUA\",LOOKUP(5,GEfectos!$Q$4:$W$4,GEfectos!Q322:W322),IF(EFECTOS!$N$9=\"REPÚBLICA \nDOMINICANA\",LOOKUP(6,$Q$4:$W$4,Q322:W322),IF(EFECTOS!$N$9=\"PANAMÁ\",LOOKUP(7,GEfectos!$Q$4:$W$4,GEfectos!Q322:W322))))))))","v":245.10861881080919},100]
[null,{"$f":"'ITCER GLOBAL'!B323","v":"Junio"},{"$f":"'ITCER GLOBAL'!C323","v":92.008107849567494},{"$f":"'ITCER GLOBAL'!D323","v":112.87368161371418},{"$f":"'ITCER GLOBAL'!E323","v":53.720777163902007},{"$f":"'ITCER GLOBAL'!F323","v":80.42494722659147},{"$f":"'ITCER GLOBAL'!G323","v":117.50251071825345},{"$f":"'ITCER GLOBAL'!H323","v":135.35277199547232},{"$f":"'ITCER GLOBAL'!I323","v":89.708730174793118},{"$f":"'ITCER GLOBAL'!S323","v":186.44755078931112},{"$f":"'ITCER GLOBAL'!T323","v":87.012629642288289},{"$f":"'ITCER GLOBAL'!U323","v":87.907224206959427},{"$f":"'ITCER GLOBAL'!V323","v":149.14846880392253},{"$f":"'ITCER GLOBAL'!W323","v":239.12930034283525},{"$f":"'ITCER GLOBAL'!X323","v":331.90941428025718},{"$f":"'ITCER GLOBAL'!Y323","v":95.875335130722277},{"$f":"'ITCER GLOBAL'!AA323","v":202.64252265045096},{"$f":"'ITCER GLOBAL'!AB323","v":77.088501409983451},{"$f":"'ITCER GLOBAL'!AC323","v":163.63729053798798},{"$f":"'ITCER GLOBAL'!AD323","v":185.4505025458177},{"$f":"'ITCER GLOBAL'!AE323","v":203.50994960117706},{"$f":"'ITCER GLOBAL'!AF323","v":245.21803978374371},{"$f":"'ITCER GLOBAL'!AG323","v":106.87402992319012},null,{"$f":"IF(EFECTOS!$N$9=\"COSTA RICA\",LOOKUP(1,GEfectos!$C$4:$I$4,GEfectos!C323:I323),IF(EFECTOS!$N$9=\"EL SALVADOR\",LOOKUP(2,GEfectos!$C$4:$I$4,GEfectos!C323:I323),IF(EFECTOS!$N$9=\"GUATEMALA\",LOOKUP(3,GEfectos!$C$4:$I$4,GEfectos!C323:I323),IF(EFECTOS!$N$9=\"HONDURAS\",LOOKUP(4,GEfectos!$C$4:$I$4,GEfectos!C323:I323),IF(EFECTOS!$N$9=\"NICARAGUA\",LOOKUP(5,GEfectos!$C$4:$I$4,GEfectos!C323:I323),IF(EFECTOS!$N$9=\"REPÚBLICA \nDOMINICANA\",LOOKUP(6,$C$4:$I$4,C323:I323),IF(EFECTOS!$N$9=\"PANAMÁ\",LOOKUP(7,GEfectos!$C$4:$I$4,GEfectos!C323:I323))))))))","v":135.35277199547232},{"$f":"IF(EFECTOS!$N$9=\"COSTA RICA\",LOOKUP(1,GEfectos!$C$4:$I$4,GEfectos!D323:J323),IF(EFECTOS!$N$9=\"EL SALVADOR\",LOOKUP(2,GEfectos!$C$4:$I$4,GEfectos!D323:J323),IF(EFECTOS!$N$9=\"GUATEMALA\",LOOKUP(3,GEfectos!$C$4:$I$4,GEfectos!D323:J323),IF(EFECTOS!$N$9=\"HONDURAS\",LOOKUP(4,GEfectos!$C$4:$I$4,GEfectos!D323:J323),IF(EFECTOS!$N$9=\"NICARAGUA\",LOOKUP(5,GEfectos!$C$4:$I$4,GEfectos!D323:J323),IF(EFECTOS!$N$9=\"REPÚBLICA \nDOMINICANA\",LOOKUP(6,$C$4:$I$4,D323:J323),IF(EFECTOS!$N$9=\"PANAMÁ\",LOOKUP(7,GEfectos!$C$4:$I$4,GEfectos!D323:J323))))))))","v":89.708730174793118},{"$f":"IF(EFECTOS!$N$9=\"COSTA RICA\",LOOKUP(1,GEfectos!$Q$4:$W$4,GEfectos!Q323:W323),IF(EFECTOS!$N$9=\"EL SALVADOR\",LOOKUP(2,GEfectos!$Q$4:$W$4,GEfectos!Q323:W323),IF(EFECTOS!$N$9=\"GUATEMALA\",LOOKUP(3,GEfectos!$Q$4:$W$4,GEfectos!Q323:W323),IF(EFECTOS!$N$9=\"HONDURAS\",LOOKUP(4,GEfectos!$Q$4:$W$4,GEfectos!Q323:W323),IF(EFECTOS!$N$9=\"NICARAGUA\",LOOKUP(5,GEfectos!$Q$4:$W$4,GEfectos!Q323:W323),IF(EFECTOS!$N$9=\"REPÚBLICA \nDOMINICANA\",LOOKUP(6,$Q$4:$W$4,Q323:W323),IF(EFECTOS!$N$9=\"PANAMÁ\",LOOKUP(7,GEfectos!$Q$4:$W$4,GEfectos!Q323:W323))))))))","v":245.21803978374371},100]
[null,{"$f":"'ITCER GLOBAL'!B324","v":"Julio"},{"$f":"'ITCER GLOBAL'!C324","v":92.341489262807769},{"$f":"'ITCER GLOBAL'!D324","v":112.24089414948662},{"$f":"'ITCER GLOBAL'!E324","v":53.641578231557418},{"$f":"'ITCER GLOBAL'!F324","v":79.480359782278526},{"$f":"'ITCER GLOBAL'!G324","v":117.49414549565401},{"$f":"'ITCER GLOBAL'!H324","v":134.66524389567101},{"$f":"'ITCER GLOBAL'!I324","v":89.124515651950986},{"$f":"'ITCER GLOBAL'!S324","v":186.04833817337885},{"$f":"'ITCER GLOBAL'!T324","v":86.821705956642674},{"$f":"'ITCER GLOBAL'!U324","v":87.710142441582434},{"$f":"'ITCER GLOBAL'!V324","v":147.28488446685682},{"$f":"'ITCER GLOBAL'!W324","v":238.97277960823317},{"$f":"'ITCER GLOBAL'!X324","v":330.69233794170469},{"$f":"'ITCER GLOBAL'!Y324","v":95.375088189265369},{"$f":"'ITCER GLOBAL'!AA324","v":201.47859825378976},{"$f":"'ITCER GLOBAL'!AB324","v":77.353006330304424},{"$f":"'ITCER GLOBAL'!AC324","v":163.51148741925422},{"$f":"'ITCER GLOBAL'!AD324","v":185.30978580156912},{"$f":"'ITCER GLOBAL'!AE324","v":203.39122311168472},{"$f":"'ITCER GLOBAL'!AF324","v":245.56621172267836},{"$f":"'ITCER GLOBAL'!AG324","v":107.01330323266396},null,{"$f":"IF(EFECTOS!$N$9=\"COSTA RICA\",LOOKUP(1,GEfectos!$C$4:$I$4,GEfectos!C324:I324),IF(EFECTOS!$N$9=\"EL SALVADOR\",LOOKUP(2,GEfectos!$C$4:$I$4,GEfectos!C324:I324),IF(EFECTOS!$N$9=\"GUATEMALA\",LOOKUP(3,GEfectos!$C$4:$I$4,GEfectos!C324:I324),IF(EFECTOS!$N$9=\"HONDURAS\",LOOKUP(4,GEfectos!$C$4:$I$4,GEfectos!C324:I324),IF(EFECTOS!$N$9=\"NICARAGUA\",LOOKUP(5,GEfectos!$C$4:$I$4,GEfectos!C324:I324),IF(EFECTOS!$N$9=\"REPÚBLICA \nDOMINICANA\",LOOKUP(6,$C$4:$I$4,C324:I324),IF(EFECTOS!$N$9=\"PANAMÁ\",LOOKUP(7,GEfectos!$C$4:$I$4,GEfectos!C324:I324))))))))","v":134.66524389567101},{"$f":"IF(EFECTOS!$N$9=\"COSTA RICA\",LOOKUP(1,GEfectos!$C$4:$I$4,GEfectos!D324:J324),IF(EFECTOS!$N$9=\"EL SALVADOR\",LOOKUP(2,GEfectos!$C$4:$I$4,GEfectos!D324:J324),IF(EFECTOS!$N$9=\"GUATEMALA\",LOOKUP(3,GEfectos!$C$4:$I$4,GEfectos!D324:J324),IF(EFECTOS!$N$9=\"HONDURAS\",LOOKUP(4,GEfectos!$C$4:$I$4,GEfectos!D324:J324),IF(EFECTOS!$N$9=\"NICARAGUA\",LOOKUP(5,GEfectos!$C$4:$I$4,GEfectos!D324:J324),IF(EFECTOS!$N$9=\"REPÚBLICA \nDOMINICANA\",LOOKUP(6,$C$4:$I$4,D324:J324),IF(EFECTOS!$N$9=\"PANAMÁ\",LOOKUP(7,GEfectos!$C$4:$I$4,GEfectos!D324:J324))))))))","v":89.124515651950986},{"$f":"IF(EFECTOS!$N$9=\"COSTA RICA\",LOOKUP(1,GEfectos!$Q$4:$W$4,GEfectos!Q324:W324),IF(EFECTOS!$N$9=\"EL SALVADOR\",LOOKUP(2,GEfectos!$Q$4:$W$4,GEfectos!Q324:W324),IF(EFECTOS!$N$9=\"GUATEMALA\",LOOKUP(3,GEfectos!$Q$4:$W$4,GEfectos!Q324:W324),IF(EFECTOS!$N$9=\"HONDURAS\",LOOKUP(4,GEfectos!$Q$4:$W$4,GEfectos!Q324:W324),IF(EFECTOS!$N$9=\"NICARAGUA\",LOOKUP(5,GEfectos!$Q$4:$W$4,GEfectos!Q324:W324),IF(EFECTOS!$N$9=\"REPÚBLICA \nDOMINICANA\",LOOKUP(6,$Q$4:$W$4,Q324:W324),IF(EFECTOS!$N$9=\"PANAMÁ\",LOOKUP(7,GEfectos!$Q$4:$W$4,GEfectos!Q324:W324))))))))","v":245.56621172267836},100]
[null,{"$f":"'ITCER GLOBAL'!B325","v":"Agosto"}]
[null,{"$f":"'ITCER GLOBAL'!B326","v":"Septiembre"}]
[null,{"$f":"'ITCER GLOBAL'!B327","v":"Octubre"}]
[null,{"$f":"'ITCER GLOBAL'!B328","v":"Noviembre"}]
[null,{"$f":"'ITCER GLOBAL'!B329","v":"Diciembre"}]

{"sheet":"METODOLOGIA","index":11,"n_rows":95,"n_cols":2,"rows_kept":95,"cut":false,"hidden":false,"merged":[[2,0,2,10]]}
["SECRETARÍA EJECUTIVA"]
["CONSEJO MONETARIO CENTROAMERICANO"]
["SECRETARÍA EJECUTIVA"]
[]
[]
[]
[]
[]
[]
[]
[]
[]
[]
[]
[]
[]
[]
[]
[]
[]
[]
[]
[]
[]
[]
[]
[]
[]
[]
[]
[]
[]
[]
[]
[]
[]
[]
[]
[]
[]
[]
[]
[]
[]
[]
[]
[]
[]
[]
[]
[]
[]
[]
[]
[]
[]
[]
[]
[]
[]
[]
[]
[]
[]
[]
[]
[]
[]
[]
[]
[]
[]
[]
[]
[]
[]
[]
[]
[]
[]
[]
[]
[]
[]
[]
[]
[]
[]
[]
[]
[]
[]
[null,"El documento metodológico se puede consultar en el siguiente enlace:"]
[]
[null,"http://www.secmca.org/nota/propuesta-de-actualizacion-del-indice-de-tipo-de-cambio-efectivo-real-itcer/"]